BOTTLE,20090115PRINUNIVRMK
EXPOCODE,STNNBR,CASTNO,BTLNBR,BTLNBR_FLAG_W,DATE,LATITUDE,LONGITUDE,DEPTH,CTDPRS,CTDTMP,CTDSAL,CTDSAL_FLAG_W,SALNTY,SALNTY_FLAG_W,SOMSAL,CTDOXY,CTDOXY_FLAG_W,OXYGEN,OXYGEN_FLAG_W,SILCAT,SILCAT_FLAG_W,NITRAT,NITRAT_FLAG_W,NITRIT,NITRIT_FLAG_W,PHSPHT,PHSPHT_FLAG_W,AMMONI,AMMONI_FLAG_W,TCARBN,TCARBN_FLAG_W,FCO2,FCO2_TMP,FCO2_FLAG_W,TRITUM,TRITER,TRITUM_FLAG_W,HELIUM,HELIUM_FLAG_W,DELHE3,DELHER,DELHE3_FLAG_W,DELC14,DELC14_FLAG_W,POC,POC_FLAG_W,PON,PON_FLAG_W,CHLORA,CHLORA_FLAG_W,PHAEO,PHAEO_FLAG_W,BACT,BACT_FLAG_W,CTDNO,BNLID,THETA
,,,,,,,,METERS,DBARS,ITS-90,PSS-78,,PSS-78,,PSS-78,UMOL/KG,,UMOL/KG,,UMOL/KG,,UMOL/KG,,UMOL/KG,,UMOL/KG,,UMOL/KG,,UMOL/KG,,UATM,DEGC,,TU,TU,,NMOL/KG,,PERCNT,PERCNT,,O/OO,,ug/kg,,ug/kg,,UG/L,,UG/L,,CELLS/ML,,,,DEGC
  32L919930718,    27,  1,     12,2,19930726, 80.8640, -11.1860,  275,      2.0,   2.1130,  28.4290,2,  28.7940,2,-999.0000,    385.3,2,    393.8,2,     1.38,2,     0.05,2,    -0.01,2,     0.56,2,0.030000001,2,   -999.0,9,   -999.0,      -999,9, -999.000, -999.000,9,-999.0000,9,  -999.00,  -999.00,9,   -999.0,9, 9.17800045,2, 1.18099999,2,     0.11,2,     0.01,2,     -999,9, 34,   3336,   2.1129
  32L919930718,    27,  1,     11,2,19930726, 80.8640, -11.1860,  275,     10.0,   0.5760,  30.3570,2,-999.0000,9,-999.0000,    434.7,2,    441.9,2,     1.92,2,     0.06,2,     0.01,2,     0.67,2,     -0.018,2,   -999.0,9,   -999.0,      -999,9, -999.000, -999.000,9,-999.0000,9,  -999.00,  -999.00,9,   -999.0,9, 22.8150005,2, 2.16000009,2,     0.58,2,     0.00,2,     -999,9, 34,   3335,   0.5757
  32L919930718,    27,  1,     10,2,19930726, 80.8640, -11.1860,  275,     20.0,  -0.6220,  31.6280,2,-999.0000,9,-999.0000,    418.5,2,    405.9,2,     3.84,2,     0.55,2,     0.02,2,     0.84,2,      0.011,2,   -999.0,9,   -999.0,      -999,9, -999.000, -999.000,9,-999.0000,9,  -999.00,  -999.00,9,   -999.0,9, 19.8099995,2, 2.27099991,2,     1.82,2,     0.23,2,     -999,9, 34,   3334,  -0.6225
  32L919930718,    27,  1,      9,2,19930726, 80.8640, -11.1860,  275,     35.0,  -1.3810,  32.2750,2,-999.0000,9,-999.0000,    368.6,2,    362.6,2,    10.31,2,     4.42,2,     0.06,2,     1.00,2,0.109000005,2,   -999.0,9,   -999.0,      -999,9, -999.000, -999.000,9,-999.0000,9,  -999.00,  -999.00,9,   -999.0,9, 3.41199994,2,0.577000022,2,     0.32,2,     0.13,2,     -999,9, 34,   3333,  -1.3817
  32L919930718,    27,  1,      8,2,19930726, 80.8640, -11.1860,  275,     50.0,  -1.4470,  32.6360,2,-999.0000,9,-999.0000,    352.9,2,    343.2,2,    11.87,2,     6.61,2,     0.04,2,     1.01,2,0.050000001,2,   -999.0,9,   -999.0,      -999,9, -999.000, -999.000,9,-999.0000,9,  -999.00,  -999.00,9,   -999.0,9, 1.12000001,2,0.532000005,2,     0.12,2,     0.11,2,     -999,9, 34,   3332,  -1.4480
  32L919930718,    27,  1,      7,2,19930726, 80.8640, -11.1860,  275,     60.0,  -1.2970,  32.9660,2,-999.0000,9,-999.0000,    337.6,2,    331.4,2,    12.67,2,     8.01,2,     0.03,2,     1.02,2,0.030000001,2,   -999.0,9,   -999.0,      -999,9, -999.000, -999.000,9,-999.0000,9,  -999.00,  -999.00,9,   -999.0,9, 0.32100001,2,0.256000012,2,     0.08,2,     0.09,2,     -999,9, 34,   3331,  -1.2983
  32L919930718,    27,  1,      6,2,19930726, 80.8640, -11.1860,  275,     79.0,  -0.9380,  33.4360,2,-999.0000,9,-999.0000,    318.5,2,    316.1,2,    13.17,2,     9.59,2,     0.02,2,     1.01,2,0.040000003,2,   -999.0,9,   -999.0,      -999,9, -999.000, -999.000,9,-999.0000,9,  -999.00,  -999.00,9,   -999.0,9, 2.68000007,2,0.416999996,2,     0.05,2,     0.06,2,     -999,9, 34,   3330,  -0.9400
  32L919930718,    27,  1,      5,2,19930726, 80.8640, -11.1860,  275,     99.0,  -0.6760,  33.7250,2,-999.0000,9,-999.0000,    310.6,2,    310.5,2,    13.12,2,    10.30,2,     0.02,2,     1.00,2,0.030000001,2,   -999.0,9,   -999.0,      -999,9, -999.000, -999.000,9,-999.0000,9,  -999.00,  -999.00,9,   -999.0,9,      1.824,2, 0.31400001,2,     0.03,2,     0.06,2,     -999,9, 34,   3329,  -0.6788
  32L919930718,    27,  1,      4,2,19930726, 80.8640, -11.1860,  275,    150.0,  -0.3550,  34.0680,2,-999.0000,9,-999.0000,    299.5,2,    299.0,2,    12.71,2,    11.34,2,     0.02,2,     0.99,2,0.040000003,2,   -999.0,9,   -999.0,      -999,9, -999.000, -999.000,9,-999.0000,9,  -999.00,  -999.00,9,   -999.0,9, 1.07299995,2,0.352999985,2,     0.03,2,     0.05,2,     -999,9, 34,   3328,  -0.3599
  32L919930718,    27,  1,      3,2,19930726, 80.8640, -11.1860,  275,    200.0,  -0.3000,  34.1190,2,-999.0000,9,-999.0000,    298.0,2,    297.3,2,    12.81,2,    11.42,2,     0.02,2,     0.99,2,0.001000002,2,   -999.0,9,   -999.0,      -999,9, -999.000, -999.000,9,-999.0000,9,  -999.00,  -999.00,9,   -999.0,9, 1.71099997,2,0.282999992,2,     0.06,2,    -0.04,2,     -999,9, 34,   3327,  -0.3067
  32L919930718,    27,  1,      2,2,19930726, 80.8640, -11.1860,  275,    249.0,  -0.2730,  34.1460,2,  34.1490,2,-999.0000,    298.1,2,    296.3,2,    12.76,2,    11.53,2,     0.02,2,     0.99,2,      0.011,2,   -999.0,9,   -999.0,      -999,9, -999.000, -999.000,9,-999.0000,9,  -999.00,  -999.00,9,   -999.0,9, 2.30599999,2,0.256000012,2,  -999.00,9,  -999.00,9,     -999,9, 34,   3326,  -0.2815
  32L919930718,    27,  1,      1,2,19930726, 80.8640, -11.1860,  275,    265.0,  -0.2650,  34.1590,2,-999.0000,9,-999.0000,    298.5,2,    295.9,2,    12.80,2,    11.45,2,     0.03,2,     1.00,2,     -0.009,2,   -999.0,9,   -999.0,      -999,9, -999.000, -999.000,9,-999.0000,9,  -999.00,  -999.00,9,   -999.0,9, 1.59599996,2,0.238000005,2,  -999.00,9,  -999.00,9,     -999,9, 34,   3325,  -0.2741
  32L919930718,    28,  1,     12,2,19930726, 80.9250, -11.1850,  128,      2.0,   1.2380,  29.7340,2,  29.8310,2,-999.0000,    409.8,2,   -999.0,9,     2.12,2,     0.08,2,     0.01,2,  -999.00,9,     -0.067,2,   -999.0,9,   -999.0,      -999,9,    7.320,    0.110,2,   1.8110,2,    -2.00,     0.20,2,   -999.0,9,       -999,9,       -999,9,  -999.00,9,  -999.00,9,     -999,9, 35,   3348,   1.2379
  32L919930718,    28,  1,     11,2,19930726, 80.9250, -11.1850,  128,      5.0,   1.2000,  29.9170,2,-999.0000,9,-999.0000,    414.9,2,   -999.0,9,     2.28,2,     0.01,2,     0.02,2,  -999.00,9,     -0.028,2,   -999.0,9,   -999.0,      -999,9, -999.000, -999.000,9,-999.0000,9,  -999.00,  -999.00,9,   -999.0,9,       -999,9,       -999,9,  -999.00,9,  -999.00,9,     -999,9, 35,   3347,   1.1998
  32L919930718,    28,  1,     10,2,19930726, 80.9250, -11.1850,  128,     10.0,   0.6620,  30.7610,2,-999.0000,9,-999.0000,    435.3,2,   -999.0,9,     2.57,2,     0.02,2,     0.02,2,  -999.00,9,0.148000002,2,   -999.0,9,   -999.0,      -999,9, -999.000, -999.000,9,-999.0000,9,  -999.00,  -999.00,9,   -999.0,9,       -999,9,       -999,9,  -999.00,9,  -999.00,9,     -999,9, 35,   3346,   0.6617
  32L919930718,    28,  1,      9,2,19930726, 80.9250, -11.1850,  128,     15.0,  -0.3390,  31.4900,2,-999.0000,9,-999.0000,    428.9,2,   -999.0,9,     2.75,2,     0.11,2,     0.01,2,  -999.00,9,     -0.009,2,   -999.0,9,   -999.0,      -999,9, -999.000, -999.000,9,-999.0000,9,  -999.00,  -999.00,9,   -999.0,9,       -999,9,       -999,9,  -999.00,9,  -999.00,9,     -999,9, 35,   3345,  -0.3394
  32L919930718,    28,  1,      8,2,19930726, 80.9250, -11.1850,  128,     20.0,  -0.7050,  31.7500,2,-999.0000,9,-999.0000,    411.9,2,   -999.0,9,     5.02,2,     0.98,2,     0.04,2,  -999.00,9,0.021000002,2,   -999.0,9,   -999.0,      -999,9, -999.000, -999.000,9,-999.0000,9,  -999.00,  -999.00,9,   -999.0,9,       -999,9,       -999,9,  -999.00,9,  -999.00,9,     -999,9, 35,   3344,  -0.7055
  32L919930718,    28,  1,      7,2,19930726, 80.9250, -11.1850,  128,     35.0,  -1.5500,  32.3440,2,-999.0000,9,-999.0000,    360.0,2,   -999.0,9,    11.61,2,     5.12,2,     0.05,2,  -999.00,9,0.089000002,2,   -999.0,9,   -999.0,      -999,9, -999.000, -999.000,9,-999.0000,9,  -999.00,  -999.00,9,   -999.0,9,       -999,9,       -999,9,  -999.00,9,  -999.00,9,     -999,9, 35,   3343,  -1.5506
  32L919930718,    28,  1,      6,2,19930726, 80.9250, -11.1850,  128,     50.0,  -1.5400,  32.6920,2,-999.0000,9,-999.0000,    348.2,2,   -999.0,9,    12.39,2,     6.40,2,     0.04,2,  -999.00,9,0.137999997,2,   -999.0,9,   -999.0,      -999,9, -999.000, -999.000,9,-999.0000,9,  -999.00,  -999.00,9,   -999.0,9,       -999,9,       -999,9,  -999.00,9,  -999.00,9,     -999,9, 35,   3342,  -1.5409
  32L919930718,    28,  1,      5,2,19930726, 80.9250, -11.1850,  128,     60.0,  -1.3450,  32.9800,2,-999.0000,9,-999.0000,    339.2,2,   -999.0,9,    12.49,2,     6.88,2,     0.02,2,  -999.00,9,0.050000001,2,   -999.0,9,   -999.0,      -999,9, -999.000, -999.000,9,-999.0000,9,  -999.00,  -999.00,9,   -999.0,9,       -999,9,       -999,9,  -999.00,9,  -999.00,9,     -999,9, 35,   3341,  -1.3463
  32L919930718,    28,  1,      4,2,19930726, 80.9250, -11.1850,  128,     75.0,  -1.1750,  33.1760,2,-999.0000,9,-999.0000,    331.5,2,   -999.0,9,    12.74,2,     8.07,2,     0.04,2,  -999.00,9,0.186999992,2,   -999.0,9,   -999.0,      -999,9, -999.000, -999.000,9,-999.0000,9,  -999.00,  -999.00,9,   -999.0,9,       -999,9,       -999,9,  -999.00,9,  -999.00,9,     -999,9, 35,   3340,  -1.1767
  32L919930718,    28,  1,      3,2,19930726, 80.9250, -11.1850,  128,     79.0,  -0.8960,  33.4930,2,-999.0000,9,-999.0000,    322.4,2,   -999.0,9,    12.86,2,     8.63,2,     0.03,2,  -999.00,9,0.109000005,2,   -999.0,9,   -999.0,      -999,9, -999.000, -999.000,9,-999.0000,9,  -999.00,  -999.00,9,   -999.0,9,       -999,9,       -999,9,  -999.00,9,  -999.00,9,     -999,9, 35,   3339,  -0.8981
  32L919930718,    28,  1,      2,2,19930726, 80.9250, -11.1850,  128,    100.0,  -0.6940,  33.7290,2,  33.7600,2,-999.0000,    313.8,2,   -999.0,9,    12.96,2,     9.53,2,     0.02,2,  -999.00,9,0.313000023,2,   -999.0,9,   -999.0,      -999,9, -999.000, -999.000,9,-999.0000,9,  -999.00,  -999.00,9,   -999.0,9,       -999,9,       -999,9,  -999.00,9,  -999.00,9,     -999,9, 35,   3338,  -0.6968
  32L919930718,    28,  1,      1,2,19930726, 80.9250, -11.1850,  128,    118.0,  -0.5230,  33.9260,2,-999.0000,9,-999.0000,    308.8,2,   -999.0,9,    12.93,2,     9.78,2,     0.04,2,  -999.00,9,0.030000001,2,   -999.0,9,   -999.0,      -999,9,    3.290,    0.049,2,-999.0000,9,  -999.00,  -999.00,9,   -999.0,9,       -999,9,       -999,9,  -999.00,9,  -999.00,9,     -999,9, 35,   3337,  -0.5266
  32L919930718,    29,  1,     12,2,19930726, 80.9730, -11.1430,   75,      2.0,   1.3060,  28.7290,2,  28.7140,2,  28.6580,    391.0,2,    397.9,2,     2.20,2,     0.09,2,     0.00,2,     0.53,2,0.089000002,2,   1838.7,2,    408.3,14.1999998,2, -999.000, -999.000,9,-999.0000,9,  -999.00,  -999.00,9,      0.1,2, 9.30900002,2,      1.079,2,     0.06,2,     0.01,2,     -999,9, 36,   3360,   1.3059
  32L919930718,    29,  1,     11,2,19930726, 80.9730, -11.1430,   75,      4.0,   0.9400,  29.5450,2,-999.0000,9,  29.5580,    414.4,2,    419.1,2,     2.03,2,     0.07,2,    -0.01,2,     0.56,2,0.421000004,2,   1886.1,2,    404.2,14.1999998,2, -999.000, -999.000,9,-999.0000,9,  -999.00,  -999.00,9,      0.1,2, 12.3050003,2, 1.25600004,2,     0.05,2,     0.02,2,     -999,9, 36,   3359,   0.9399
  32L919930718,    29,  1,     10,2,19930726, 80.9730, -11.1430,   75,      7.0,   0.8450,  30.2720,2,-999.0000,9,  30.4060,    434.6,2,    441.4,2,     1.94,2,     0.05,2,     0.01,2,     0.58,2,0.060000002,2,   1934.4,2,    414.1,14.1999998,2, -999.000, -999.000,9,-999.0000,9,  -999.00,  -999.00,9,      0.3,2, 19.7049999,2, 1.74600005,2,     0.22,2,     0.00,2,     -999,9, 36,   3358,   0.8448
  32L919930718,    29,  1,      9,2,19930726, 80.9730, -11.1430,   75,     12.0,   0.0990,  30.9020,2,-999.0000,9,  31.3460,    443.8,2,    421.7,2,     2.36,2,     0.13,2,     0.02,2,     0.68,2,0.098999999,2,   2025.1,2,    537.3,14.1999998,2, -999.000, -999.000,9,-999.0000,9,  -999.00,  -999.00,9,      4.3,2, 22.8409996,2, 1.93299997,2,     1.23,2,     0.18,2,     -999,9, 36,   3357,   0.0987
  32L919930718,    29,  1,      7,2,19930726, 80.9730, -11.1430,   75,     19.0,  -0.7880,  31.8780,2,-999.0000,9,  31.5490,    412.2,2,    416.6,2,     3.06,2,     0.19,2,     0.03,2,     0.73,2,     -0.048,2,   2034.6,2,    551.0,14.1999998,2, -999.000, -999.000,9,-999.0000,9,  -999.00,  -999.00,9,   -999.0,9,       -999,9,       -999,9,  -999.00,9,  -999.00,9,     -999,9, 36,   3355,  -0.7884
  32L919930718,    29,  1,      8,2,19930726, 80.9730, -11.1430,   75,     19.0,  -0.6530,  31.7540,2,-999.0000,9,  31.6180,    417.2,2,   -999.0,9,     2.85,2,     0.17,2,     0.03,2,     0.71,2,0.148000002,2,   2034.9,2,    556.6,14.1999998,2, -999.000, -999.000,9,-999.0000,9,  -999.00,  -999.00,9,      2.5,2, 37.9679985,2, 2.73200011,2,     1.53,2,     0.16,2,     -999,9, 36,   3356,  -0.6535
  32L919930718,    29,  1,      6,2,19930726, 80.9730, -11.1430,   75,     29.0,  -1.3760,  32.2280,2,-999.0000,9,  32.0590,    378.0,2,    367.1,2,     9.85,2,     3.53,2,     0.06,2,     0.95,2,0.060000002,2,   2109.8,2,    757.1,14.1999998,2, -999.000, -999.000,9,-999.0000,9,  -999.00,  -999.00,9,      0.1,2, 21.3980007,2, 2.24099994,2,     0.49,2,     0.11,2,     -999,9, 36,   3354,  -1.3765
  32L919930718,    29,  1,      5,2,19930726, 80.9730, -11.1430,   75,     44.0,  -1.5230,  32.5190,2,-999.0000,9,  32.3380,    356.7,2,    352.3,2,    11.34,2,     5.16,2,     0.04,2,     0.97,2,     -0.048,2,   2120.7,2,    785.7,14.1999998,2, -999.000, -999.000,9,-999.0000,9,  -999.00,  -999.00,9,      0.0,2,  5.0079999,2,0.414999992,2,     0.19,2,     0.07,2,     -999,9, 36,   3353,  -1.5238
  32L919930718,    29,  1,      4,2,19930726, 80.9730, -11.1430,   75,     50.0,  -1.2110,  32.9290,2,-999.0000,9,  32.7170,    343.9,2,    340.1,2,    11.64,2,     6.45,2,     0.04,2,     0.97,2,0.050000001,2,   2124.4,2,    777.1,14.1999998,2, -999.000, -999.000,9,-999.0000,9,  -999.00,  -999.00,9,   -999.0,9, 3.12100005,2,0.233999997,2,     0.23,2,     0.13,2,   131000,2, 36,   3352,  -1.2121
  32L919930718,    29,  1,      3,2,19930726, 80.9730, -11.1430,   75,     55.0,  -1.1660,  32.9990,2,-999.0000,9,  32.7440,    340.8,2,    338.0,2,    11.78,2,     6.67,2,     0.04,2,     0.97,2,0.040000003,2,   2125.8,2,    787.4,14.1999998,2, -999.000, -999.000,9,-999.0000,9,  -999.00,  -999.00,9,   -999.0,9, 4.19899988,2,0.231000006,2,     0.22,2,     0.15,2,   142000,2, 36,   3351,  -1.1672
  32L919930718,    29,  1,      2,2,19930726, 80.9730, -11.1430,   75,     60.0,  -1.1770,  33.0210,2,  33.1220,2,  32.7010,    341.3,2,    336.7,2,    11.94,2,     6.78,2,     0.04,2,     0.98,2,0.030000001,2,   2128.6,2,    782.8,14.1999998,2, -999.000, -999.000,9,-999.0000,9,  -999.00,  -999.00,9,   -999.0,9, 1.77699995,2,0.291999996,2,     0.16,2,     0.07,2,   112000,2, 36,   3350,  -1.1784
  32L919930718,    29,  1,      1,2,19930726, 80.9730, -11.1430,   75,     65.0,  -1.1820,  33.0660,2,-999.0000,9,-999.0000,    342.8,2,    337.4,2,    11.85,2,     6.81,2,     0.02,2,     0.97,2,0.079000004,2,   -999.0,9,   -999.0,      -999,9, -999.000, -999.000,9,-999.0000,9,  -999.00,  -999.00,9,   -999.0,9,      1.676,2,0.324000001,2,     0.19,2,     0.08,2,   145000,2, 36,   3349,  -1.1835
  32L919930718,    30,  1,      1,2,19930727, 80.5730, -11.1550,  254,    244.0,   0.3810,  34.7620,2,-999.0000,9,-999.0000,    281.7,2,   -999.0,9,  -999.00,9,  -999.00,9,  -999.00,9,  -999.00,9,       -999,9,   -999.0,9,   -999.0,      -999,9, -999.000, -999.000,9,-999.0000,9,  -999.00,  -999.00,9,   -999.0,9,       -999,9,       -999,9,  -999.00,9,  -999.00,9,     -999,9, 37,   3361,   0.3710
  32L919930718,    30,  1,      2,2,19930727, 80.5730, -11.1550,  254,    244.0,   0.3820,  34.7610,2,  34.7640,2,-999.0000,    281.9,2,   -999.0,9,  -999.00,9,  -999.00,9,  -999.00,9,  -999.00,9,       -999,9,   -999.0,9,   -999.0,      -999,9, -999.000, -999.000,9,-999.0000,9,  -999.00,  -999.00,9,   -999.0,9,       -999,9,       -999,9,  -999.00,9,  -999.00,9,     -999,9, 37,   3362,   0.3720