BOTTLE,20090115PRINUNIVRMK
EXPOCODE,STNNBR,CASTNO,BTLNBR,BTLNBR_FLAG_W,DATE,LATITUDE,LONGITUDE,DEPTH,CTDPRS,CTDTMP,CTDSAL,CTDSAL_FLAG_W,SALNTY,SALNTY_FLAG_W,SOMSAL,CTDOXY,CTDOXY_FLAG_W,OXYGEN,OXYGEN_FLAG_W,SILCAT,SILCAT_FLAG_W,NITRAT,NITRAT_FLAG_W,NITRIT,NITRIT_FLAG_W,PHSPHT,PHSPHT_FLAG_W,AMMONI,AMMONI_FLAG_W,TCARBN,TCARBN_FLAG_W,FCO2,FCO2_TMP,FCO2_FLAG_W,TRITUM,TRITER,TRITUM_FLAG_W,HELIUM,HELIUM_FLAG_W,DELHE3,DELHER,DELHE3_FLAG_W,DELC14,DELC14_FLAG_W,POC,POC_FLAG_W,PON,PON_FLAG_W,CHLORA,CHLORA_FLAG_W,PHAEO,PHAEO_FLAG_W,BACT,BACT_FLAG_W,CTDNO,BNLID,THETA
,,,,,,,,METERS,DBARS,ITS-90,PSS-78,,PSS-78,,PSS-78,UMOL/KG,,UMOL/KG,,UMOL/KG,,UMOL/KG,,UMOL/KG,,UMOL/KG,,UMOL/KG,,UMOL/KG,,UATM,DEGC,,TU,TU,,NMOL/KG,,PERCNT,PERCNT,,O/OO,,ug/kg,,ug/kg,,UG/L,,UG/L,,CELLS/ML,,,,DEGC
  32L919930718,    37, 28,      8,2,19930728, 80.4470, -13.3130,  308,      3.0,   1.0090,  31.9300,2,  31.9460,2,-999.0000,    412.7,2,    406.7,2,     9.12,2,     0.19,2,  -999.00,9,     0.69,2,0.024000004,2,   -999.0,9,   -999.0,      -999,9, -999.000, -999.000,9,-999.0000,9,  -999.00,  -999.00,9,   -999.0,9, 20.9939995,2, 2.93899989,2,     0.58,2,     0.48,2,     -999,9, 72,   3716,   1.0089
  32L919930718,    37, 28,      7,2,19930728, 80.4470, -13.3130,  308,      5.0,   0.8610,  31.9860,2,-999.0000,9,-999.0000,    411.4,2,    410.0,2,     9.22,2,    -0.10,2,  -999.00,9,     0.70,2, 0.00500001,2,   -999.0,9,   -999.0,      -999,9, -999.000, -999.000,9,-999.0000,9,  -999.00,  -999.00,9,   -999.0,9, 26.3020001,2, 3.44000006,2,     1.30,2,     0.30,2,     -999,9, 72,   3715,   0.8608
  32L919930718,    37, 28,      6,2,19930728, 80.4470, -13.3130,  308,     10.0,   0.4850,  32.1520,2,-999.0000,9,-999.0000,    405.6,2,    411.9,2,     9.01,2,     0.16,2,    -0.06,2,     0.72,2,0.015000001,2,   -999.0,9,   -999.0,      -999,9, -999.000, -999.000,9,-999.0000,9,  -999.00,  -999.00,9,   -999.0,9, 25.9230003,2,  3.5480001,2,     1.40,2,     0.51,2,     -999,9, 72,   3714,   0.4847
  32L919930718,    37, 28,      5,2,19930728, 80.4470, -13.3130,  308,     20.0,  -1.4380,  32.2190,2,-999.0000,9,-999.0000,    392.6,2,    386.7,2,     8.98,2,     1.69,2,    -0.06,2,     0.85,2,0.024000004,2,   -999.0,9,   -999.0,      -999,9, -999.000, -999.000,9,-999.0000,9,  -999.00,  -999.00,9,   -999.0,9, 20.2059994,2, 3.45300007,2,     3.17,2,     0.43,2,     -999,9, 72,   3713,  -1.4384
  32L919930718,    37, 28,      4,2,19930728, 80.4470, -13.3130,  308,     30.0,  -1.5660,  32.2850,2,-999.0000,9,-999.0000,    376.7,2,    370.1,2,    10.87,2,     4.27,2,  -999.00,9,     0.99,2,     -0.024,2,   -999.0,9,   -999.0,      -999,9, -999.000, -999.000,9,-999.0000,9,  -999.00,  -999.00,9,   -999.0,9, 2.18899989,2,0.405000001,2,     0.10,2,     0.03,2,     -999,9, 72,   3712,  -1.5665
  32L919930718,    37, 28,      3,2,19930728, 80.4470, -13.3130,  308,     40.0,  -1.7260,  32.3360,2,-999.0000,9,-999.0000,    369.7,2,    367.5,2,    11.09,2,     4.52,2,     0.05,2,     1.01,2,-0.08299999,2,   -999.0,9,   -999.0,      -999,9, -999.000, -999.000,9,-999.0000,9,  -999.00,  -999.00,9,   -999.0,9, 3.67000008,2,0.243000001,2,     0.11,2,     0.03,2,     -999,9, 72,   3711,  -1.7266
  32L919930718,    37, 28,      2,2,19930728, 80.4470, -13.3130,  308,     50.0,  -1.7340,  32.3860,2,-999.0000,9,-999.0000,    372.8,2,    367.9,2,    11.01,2,     4.42,2,  -999.00,9,     1.50,3,-0.06300001,2,   -999.0,9,   -999.0,      -999,9, -999.000, -999.000,9,-999.0000,9,  -999.00,  -999.00,9,   -999.0,9, 2.80900002,2,0.317999989,2,     0.07,2,     0.02,2,     -999,9, 72,   3710,  -1.7348
  32L919930718,    37, 28,      1,2,19930728, 80.4470, -13.3130,  308,     61.0,  -1.7450,  32.4200,2,-999.0000,9,-999.0000,    371.9,2,    366.9,2,    11.07,2,     4.20,2,     0.01,2,     1.00,2,0.015000001,2,   -999.0,9,   -999.0,      -999,9, -999.000, -999.000,9,-999.0000,9,  -999.00,  -999.00,9,   -999.0,9, 1.18299997,2,0.167999998,2,     0.03,2,     0.01,2,     -999,9, 72,   3709,  -1.7460
  32L919930718,    37, 28,     12,2,19930728, 80.4470, -13.3130,  308,     70.0,  -1.7400,  32.4520,2,-999.0000,9,-999.0000,    368.4,2,    363.9,2,    11.27,2,     4.56,2,     0.01,2,     1.01,2,0.093000002,2,   -999.0,9,   -999.0,      -999,9, -999.000, -999.000,9,-999.0000,9,  -999.00,  -999.00,9,   -999.0,9, 0.69599998,2,0.187000006,2,     0.02,2,     0.01,2,     -999,9, 72,   3708,  -1.7412
  32L919930718,    37, 28,     11,2,19930728, 80.4470, -13.3130,  308,     80.0,  -1.6950,  32.5400,2,-999.0000,9,-999.0000,    361.6,2,    345.0,2,    11.80,2,     5.42,2,     0.01,2,     1.00,2,0.083000004,2,   -999.0,9,   -999.0,      -999,9, -999.000, -999.000,9,-999.0000,9,  -999.00,  -999.00,9,   -999.0,9,0.609000027,2,0.130999997,2,     0.08,2,     0.02,2,     -999,9, 72,   3707,  -1.6964
  32L919930718,    37, 28,     10,2,19930728, 80.4470, -13.3130,  308,    100.0,  -1.5510,  32.9350,2,  32.9850,2,-999.0000,    343.3,2,    339.0,2,    12.52,2,     7.42,2,     0.05,2,     0.97,2,0.072999999,2,   -999.0,9,   -999.0,      -999,9, -999.000, -999.000,9,-999.0000,9,  -999.00,  -999.00,9,   -999.0,9, 1.90699995,2,0.173999995,2,     0.06,2,     0.01,2,     -999,9, 72,   3706,  -1.5529
  32L919930718,    37, 28,      9,2,19930728, 80.4470, -13.3130,  308,    298.0,   0.4440,  34.7700,2,-999.0000,9,-999.0000,    288.6,2,    282.4,2,    12.12,2,    13.45,2,     0.22,2,     0.96,2,0.151000008,2,   -999.0,9,   -999.0,      -999,9, -999.000, -999.000,9,-999.0000,9,  -999.00,  -999.00,9,   -999.0,9,0.931999981,2,0.093000002,2,  -999.00,9,  -999.00,9,     -999,9, 72,   3705,   0.4315
  32L919930718,    37, 29,      8,2,19930728, 80.4470, -13.3130,  308,      5.0,   1.1180,  31.8800,2,-999.0000,9,-999.0000,    415.1,2,   -999.0,9,  -999.00,9,  -999.00,9,  -999.00,9,  -999.00,9,       -999,9,   -999.0,9,   -999.0,      -999,9, -999.000, -999.000,9,-999.0000,9,  -999.00,  -999.00,9,   -999.0,9,       -999,9,       -999,9,  -999.00,9,  -999.00,9,     -999,9, 73,   3728,   1.1178
  32L919930718,    37, 29,      7,2,19930728, 80.4470, -13.3130,  308,     10.0,   0.1090,  32.1000,2,-999.0000,9,-999.0000,    398.1,2,   -999.0,9,  -999.00,9,  -999.00,9,  -999.00,9,  -999.00,9,       -999,9,   -999.0,9,   -999.0,      -999,9, -999.000, -999.000,9,-999.0000,9,  -999.00,  -999.00,9,   -999.0,9,       -999,9,       -999,9,  -999.00,9,  -999.00,9,     -999,9, 73,   3727,   0.1087
  32L919930718,    37, 29,      6,2,19930728, 80.4470, -13.3130,  308,     20.0,  -1.3880,  32.2210,2,-999.0000,9,-999.0000,    381.5,2,   -999.0,9,  -999.00,9,  -999.00,9,  -999.00,9,  -999.00,9,       -999,9,   -999.0,9,   -999.0,      -999,9, -999.000, -999.000,9,-999.0000,9,  -999.00,  -999.00,9,   -999.0,9,       -999,9,       -999,9,  -999.00,9,  -999.00,9,     -999,9, 73,   3726,  -1.3884
  32L919930718,    37, 29,      5,2,19930728, 80.4470, -13.3130,  308,     30.0,  -1.6930,  32.2820,2,-999.0000,9,-999.0000,    373.9,2,   -999.0,9,  -999.00,9,  -999.00,9,  -999.00,9,  -999.00,9,       -999,9,   -999.0,9,   -999.0,      -999,9, -999.000, -999.000,9,-999.0000,9,  -999.00,  -999.00,9,   -999.0,9,       -999,9,       -999,9,  -999.00,9,  -999.00,9,     -999,9, 73,   3725,  -1.6935
  32L919930718,    37, 29,      4,2,19930728, 80.4470, -13.3130,  308,     40.0,  -1.7270,  32.3380,2,-999.0000,9,-999.0000,    370.1,2,   -999.0,9,  -999.00,9,  -999.00,9,  -999.00,9,  -999.00,9,       -999,9,   -999.0,9,   -999.0,      -999,9, -999.000, -999.000,9,-999.0000,9,  -999.00,  -999.00,9,   -999.0,9,       -999,9,       -999,9,  -999.00,9,  -999.00,9,     -999,9, 73,   3724,  -1.7276
  32L919930718,    37, 29,      3,2,19930728, 80.4470, -13.3130,  308,     50.0,  -1.7310,  32.4010,2,-999.0000,9,-999.0000,    371.2,2,   -999.0,9,  -999.00,9,  -999.00,9,  -999.00,9,  -999.00,9,       -999,9,   -999.0,9,   -999.0,      -999,9, -999.000, -999.000,9,-999.0000,9,  -999.00,  -999.00,9,   -999.0,9,       -999,9,       -999,9,  -999.00,9,  -999.00,9,     -999,9, 73,   3723,  -1.7318
  32L919930718,    37, 29,      2,2,19930728, 80.4470, -13.3130,  308,     60.0,  -1.7450,  32.4300,2,-999.0000,9,-999.0000,    369.6,2,   -999.0,9,  -999.00,9,  -999.00,9,  -999.00,9,  -999.00,9,       -999,9,   -999.0,9,   -999.0,      -999,9, -999.000, -999.000,9,-999.0000,9,  -999.00,  -999.00,9,   -999.0,9,       -999,9,       -999,9,  -999.00,9,  -999.00,9,     -999,9, 73,   3722,  -1.7460
  32L919930718,    37, 29,      1,2,19930728, 80.4470, -13.3130,  308,     70.0,  -1.7180,  32.4880,2,-999.0000,9,-999.0000,    365.5,2,   -999.0,9,  -999.00,9,  -999.00,9,  -999.00,9,  -999.00,9,       -999,9,   -999.0,9,   -999.0,      -999,9, -999.000, -999.000,9,-999.0000,9,  -999.00,  -999.00,9,   -999.0,9,       -999,9,       -999,9,  -999.00,9,  -999.00,9,     -999,9, 73,   3721,  -1.7192
  32L919930718,    37, 29,     12,2,19930728, 80.4470, -13.3130,  308,     80.0,  -1.6610,  32.6270,2,-999.0000,9,-999.0000,    356.2,2,   -999.0,9,  -999.00,9,  -999.00,9,  -999.00,9,  -999.00,9,       -999,9,   -999.0,9,   -999.0,      -999,9, -999.000, -999.000,9,-999.0000,9,  -999.00,  -999.00,9,   -999.0,9,       -999,9,       -999,9,  -999.00,9,  -999.00,9,     -999,9, 73,   3720,  -1.6624
  32L919930718,    37, 29,     11,2,19930728, 80.4470, -13.3130,  308,    100.0,  -1.5570,  32.9930,2,-999.0000,9,-999.0000,    340.5,2,   -999.0,9,  -999.00,9,  -999.00,9,  -999.00,9,  -999.00,9,       -999,9,   -999.0,9,   -999.0,      -999,9, -999.000, -999.000,9,-999.0000,9,  -999.00,  -999.00,9,   -999.0,9,       -999,9,       -999,9,  -999.00,9,  -999.00,9,     -999,9, 73,   3719,  -1.5589
  32L919930718,    37, 29,     10,2,19930728, 80.4470, -13.3130,  308,    150.0,  -0.5120,  34.2660,2,-999.0000,9,-999.0000,    303.0,2,   -999.0,9,  -999.00,9,  -999.00,9,  -999.00,9,  -999.00,9,       -999,9,   -999.0,9,   -999.0,      -999,9, -999.000, -999.000,9,-999.0000,9,  -999.00,  -999.00,9,   -999.0,9,       -999,9,       -999,9,  -999.00,9,  -999.00,9,     -999,9, 73,   3718,  -0.5167
  32L919930718,    37, 29,      9,2,19930728, 80.4470, -13.3130,  308,    296.0,   0.4770,  34.7660,2,-999.0000,9,-999.0000,    292.1,2,   -999.0,9,  -999.00,9,  -999.00,9,  -999.00,9,  -999.00,9,       -999,9,   -999.0,9,   -999.0,      -999,9, -999.000, -999.000,9,-999.0000,9,  -999.00,  -999.00,9,   -999.0,9,       -999,9,       -999,9,  -999.00,9,  -999.00,9,     -999,9, 73,   3717,   0.4645
  32L919930718,    38,  1,      9,2,19930731, 80.1640,  -7.9780,  311,     22.0,  -0.6760,  31.7600,2,-999.0000,9,-999.0000,    395.1,2,   -999.0,9,  -999.00,9,  -999.00,9,  -999.00,9,  -999.00,9,       -999,9,   -999.0,9,   -999.0,      -999,9, -999.000, -999.000,9,-999.0000,9,  -999.00,  -999.00,9,   -999.0,9,       -999,9,       -999,9,  -999.00,9,  -999.00,9,     -999,9, 75,   3729,  -0.6765
  32L919930718,    38,  1,     10,2,19930731, 80.1640,  -7.9780,  311,     22.0,  -0.6690,  31.7560,2,-999.0000,9,-999.0000,    393.4,2,   -999.0,9,  -999.00,9,  -999.00,9,  -999.00,9,  -999.00,9,       -999,9,   -999.0,9,   -999.0,      -999,9, -999.000, -999.000,9,-999.0000,9,  -999.00,  -999.00,9,   -999.0,9,       -999,9,       -999,9,  -999.00,9,  -999.00,9,     -999,9, 75,   3730,  -0.6695
  32L919930718,    38,  2,     10,2,19930731, 80.1640,  -7.9780,  311,      2.0,   1.1610,  30.8400,2,  31.0190,2,-999.0000,    412.0,2,    419.1,2,     1.86,2,  -999.00,9,  -999.00,9,     0.69,2,0.120000005,2,   -999.0,9,   -999.0,      -999,9, -999.000, -999.000,9,-999.0000,9,  -999.00,  -999.00,9,      2.5,2, 13.0019999,2, 1.42900002,2,     1.15,2,     0.15,2,    91200,2, 76,   3742,   1.1609
  32L919930718,    38,  2,      9,2,19930731, 80.1640,  -7.9780,  311,      3.0,   0.2130,  31.2880,2,-999.0000,9,-999.0000,    429.2,2,    428.2,2,     1.50,2,  -999.00,9,  -999.00,9,     0.70,2,0.197999999,2,   -999.0,9,   -999.0,      -999,9, -999.000, -999.000,9,-999.0000,9,  -999.00,  -999.00,9,      3.2,2, 21.1509991,2, 2.67199993,2,     1.58,2,     0.02,2,   105000,2, 76,   3741,   0.2129
  32L919930718,    38,  2,      8,2,19930731, 80.1640,  -7.9780,  311,      5.0,   0.3900,  31.1650,2,-999.0000,9,-999.0000,    422.7,2,    428.2,2,     1.36,2,  -999.00,9,  -999.00,9,     0.70,2,0.002000004,2,   -999.0,9,   -999.0,      -999,9, -999.000, -999.000,9,-999.0000,9,  -999.00,  -999.00,9,      3.0,2, 22.8360004,2, 3.02099991,2,     1.50,2,     0.10,2,   152000,2, 76,   3740,   0.3898
  32L919930718,    38,  2,      7,2,19930731, 80.1640,  -7.9780,  311,      8.0,  -0.3410,  31.5490,2,-999.0000,9,-999.0000,    416.1,2,    416.5,2,     1.73,2,  -999.00,9,  -999.00,9,     0.71,2,0.002000004,2,   -999.0,9,   -999.0,      -999,9, -999.000, -999.000,9,-999.0000,9,  -999.00,  -999.00,9,      3.5,2,       -999,9,       -999,9,     2.32,2,     0.46,2,   168000,2, 76,   3739,  -0.3412
  32L919930718,    38,  2,      6,2,19930731, 80.1640,  -7.9780,  311,     13.0,  -0.4910,  31.6070,2,-999.0000,9,-999.0000,    398.9,2,    397.3,2,     3.68,2,  -999.00,9,  -999.00,9,     0.76,2,0.061000001,2,   -999.0,9,   -999.0,      -999,9, -999.000, -999.000,9,-999.0000,9,  -999.00,  -999.00,9,      4.1,2,     20.427,2, 3.19799995,2,     3.03,2,     0.39,2,   249000,2, 76,   3738,  -0.4913
  32L919930718,    38,  2,      5,2,19930731, 80.1640,  -7.9780,  311,     20.0,  -0.7900,  31.7920,2,-999.0000,9,-999.0000,    407.1,2,    402.0,2,     4.69,2,  -999.00,9,  -999.00,9,     0.79,2,0.071000002,2,   -999.0,9,   -999.0,      -999,9, -999.000, -999.000,9,-999.0000,9,  -999.00,  -999.00,9,      0.9,2, 15.2370005,2, 2.76399994,2,     2.84,2,     0.37,2,   179000,2, 76,   3737,  -0.7905
  32L919930718,    38,  2,      4,2,19930731, 80.1640,  -7.9780,  311,     30.0,  -0.4470,  32.1870,2,-999.0000,9,-999.0000,    426.0,2,    415.3,2,     6.02,2,  -999.00,9,  -999.00,9,     0.85,2,     -0.017,2,   -999.0,9,   -999.0,      -999,9, -999.000, -999.000,9,-999.0000,9,  -999.00,  -999.00,9,      0.0,2,     16.941,2, 2.13199997,2,     1.38,2,     0.17,2,   126000,2, 76,   3736,  -0.4478
  32L919930718,    38,  2,      3,2,19930731, 80.1640,  -7.9780,  311,     60.0,  -1.6550,  32.3960,2,-999.0000,9,-999.0000,    372.4,2,    366.6,2,    11.10,2,     3.53,2,  -999.00,9,     1.06,2,     -0.017,2,   -999.0,9,   -999.0,      -999,9, -999.000, -999.000,9,-999.0000,9,  -999.00,  -999.00,9,   -999.0,9, 8.85999966,2,       0.75,2,     0.68,2,     0.14,2,    95500,2, 76,   3735,  -1.6560
  32L919930718,    38,  2,      2,2,19930731, 80.1640,  -7.9780,  311,    100.0,  -1.4330,  32.9380,2,-999.0000,9,-999.0000,    341.9,2,    337.1,2,    11.14,2,     5.51,2,  -999.00,9,     1.00,2,0.080000006,2,   -999.0,9,   -999.0,      -999,9, -999.000, -999.000,9,-999.0000,9,  -999.00,  -999.00,9,   -999.0,9, 2.89100003,2,0.307000011,2,     0.69,2,     0.07,2,   132000,2, 76,   3734,  -1.4350
  32L919930718,    38,  2,      1,2,19930731, 80.1640,  -7.9780,  311,    149.0,  -0.2990,  34.3170,2,-999.0000,9,-999.0000,    299.5,2,    293.1,2,    11.40,2,    10.69,2,  -999.00,9,     0.99,2,0.002000004,2,   -999.0,9,   -999.0,      -999,9, -999.000, -999.000,9,-999.0000,9,  -999.00,  -999.00,9,   -999.0,9, 2.17400002,2,0.209000006,2,     0.11,2,     0.06,2,    93000,2, 76,   3733,  -0.3040
  32L919930718,    38,  2,     12,2,19930731, 80.1640,  -7.9780,  311,    201.0,   0.3290,  34.7020,2,  34.7070,2,-999.0000,    290.2,2,    282.4,2,    11.84,2,    12.39,2,  -999.00,9,     1.00,2,0.031999998,2,   -999.0,9,   -999.0,      -999,9, -999.000, -999.000,9,-999.0000,9,  -999.00,  -999.00,9,   -999.0,9, 2.74300003,2,0.201000005,2,     0.04,2,     0.05,2,    98900,2, 76,   3732,   0.3210
  32L919930718,    38,  2,     11,2,19930731, 80.1640,  -7.9780,  311,    300.0,   0.3840,  34.8500,2,-999.0000,9,-999.0000,    295.7,2,    284.8,2,    10.38,2,    13.10,2,  -999.00,9,     0.99,2,0.080000006,2,   -999.0,9,   -999.0,      -999,9, -999.000, -999.000,9,-999.0000,9,  -999.00,  -999.00,9,   -999.0,9, 1.44200003,2,      0.147,2,     0.09,2,     0.08,2,    78800,2, 76,   3731,   0.3716