BOTTLE,20090115PRINUNIVRMK
EXPOCODE,STNNBR,CASTNO,BTLNBR,BTLNBR_FLAG_W,DATE,LATITUDE,LONGITUDE,DEPTH,CTDPRS,CTDTMP,CTDSAL,CTDSAL_FLAG_W,SALNTY,SALNTY_FLAG_W,SOMSAL,CTDOXY,CTDOXY_FLAG_W,OXYGEN,OXYGEN_FLAG_W,SILCAT,SILCAT_FLAG_W,NITRAT,NITRAT_FLAG_W,NITRIT,NITRIT_FLAG_W,PHSPHT,PHSPHT_FLAG_W,AMMONI,AMMONI_FLAG_W,TCARBN,TCARBN_FLAG_W,FCO2,FCO2_TMP,FCO2_FLAG_W,TRITUM,TRITER,TRITUM_FLAG_W,HELIUM,HELIUM_FLAG_W,DELHE3,DELHER,DELHE3_FLAG_W,DELC14,DELC14_FLAG_W,POC,POC_FLAG_W,PON,PON_FLAG_W,CHLORA,CHLORA_FLAG_W,PHAEO,PHAEO_FLAG_W,BACT,BACT_FLAG_W,CTDNO,BNLID,THETA
,,,,,,,,METERS,DBARS,ITS-90,PSS-78,,PSS-78,,PSS-78,UMOL/KG,,UMOL/KG,,UMOL/KG,,UMOL/KG,,UMOL/KG,,UMOL/KG,,UMOL/KG,,UMOL/KG,,UATM,DEGC,,TU,TU,,NMOL/KG,,PERCNT,PERCNT,,O/OO,,ug/kg,,ug/kg,,UG/L,,UG/L,,CELLS/ML,,,,DEGC
  32L919930718,    37, 20,      8,2,19930728, 80.4470, -13.3130,  308,      2.0,   4.4400,  29.5480,2,  30.1510,2,  30.6900,    381.6,2,    402.6,2,     4.30,2,     0.06,2,     0.01,2,     0.62,2,0.071000002,2,   1959.7,2,    464.6,17.3999996,2, -999.000, -999.000,9,-999.0000,9,  -999.00,  -999.00,9,   -999.0,9, 29.7310009,2,0.209000006,2,     0.31,2,     0.14,2,     -999,9, 64,   3620,   4.4399
  32L919930718,    37, 20,      7,2,19930728, 80.4470, -13.3130,  308,      5.0,   1.3820,  32.0470,2,-999.0000,9,  32.1360,    418.8,2,    410.3,2,     7.11,2,    -0.08,2,     0.03,2,     0.76,2,0.041000001,2,   2065.7,2,    567.8,17.3999996,2, -999.000, -999.000,9,-999.0000,9,  -999.00,  -999.00,9,   -999.0,9,  36.591999,2, 4.32299995,2,     2.30,2,     0.54,2,     -999,9, 64,   3619,   1.3818
  32L919930718,    37, 20,      6,2,19930728, 80.4470, -13.3130,  308,     10.0,  -1.0640,  32.3230,2,-999.0000,9,  32.2270,    386.9,2,    380.7,2,    10.60,2,     1.72,2,     0.02,2,     0.92,2,0.071000002,2,   2099.8,2,    702.7,17.3999996,2, -999.000, -999.000,9,-999.0000,9,  -999.00,  -999.00,9,   -999.0,9, 3.80699992,2,0.204999998,2,     1.40,2,     0.22,2,     -999,9, 64,   3618,  -1.0642
  32L919930718,    37, 20,      5,2,19930728, 80.4470, -13.3130,  308,     20.0,  -1.5630,  32.3600,2,-999.0000,9,  32.2690,    371.7,2,    370.4,2,    11.73,2,     3.56,2,     0.02,2,     1.00,2,     -0.007,2,   2109.0,2,    748.4,17.3999996,2, -999.000, -999.000,9,-999.0000,9,  -999.00,  -999.00,9,   -999.0,9, 4.54799986,2,      0.456,2,     0.40,2,     0.11,2,     -999,9, 64,   3617,  -1.5633
  32L919930718,    37, 20,      4,2,19930728, 80.4470, -13.3130,  308,     30.0,  -1.7260,  32.3850,2,-999.0000,9,-999.0000,    365.3,2,    367.1,2,    11.88,2,     4.02,2,     0.01,2,     1.03,2,0.090000004,2,   -999.0,9,   -999.0,      -999,9, -999.000, -999.000,9,-999.0000,9,  -999.00,  -999.00,9,   -999.0,9,  4.3670001,2,0.273000002,2,     0.06,2,     0.02,2,     -999,9, 64,   3616,  -1.7265
  32L919930718,    37, 20,      3,2,19930728, 80.4470, -13.3130,  308,     40.0,  -1.6340,  32.4170,2,-999.0000,9,  32.3710,    369.6,2,    367.3,2,    12.00,2,     4.04,2,     0.02,2,     1.04,2,0.061000001,2,   2114.9,2,    755.8,17.3999996,2, -999.000, -999.000,9,-999.0000,9,  -999.00,  -999.00,9,   -999.0,9, 3.06399989,2,0.248999998,2,     0.28,2,     0.08,2,     -999,9, 64,   3615,  -1.6347
  32L919930718,    37, 20,      2,2,19930728, 80.4470, -13.3130,  308,     50.0,  -1.7440,  32.4400,2,-999.0000,9,-999.0000,    367.5,2,    365.7,2,    12.29,2,     4.29,2,     0.02,2,     1.05,2,0.031999998,2,   -999.0,9,   -999.0,      -999,9, -999.000, -999.000,9,-999.0000,9,  -999.00,  -999.00,9,   -999.0,9, 1.76400006,2,0.118000001,2,     0.05,2,     0.01,2,     -999,9, 64,   3614,  -1.7448
  32L919930718,    37, 20,      1,2,19930728, 80.4470, -13.3130,  308,     60.0,  -1.7130,  32.4970,2,-999.0000,9,  32.4450,    363.0,2,    361.0,2,    12.59,2,     4.66,2,     0.02,2,     1.05,2,0.071000002,2,   2119.0,2,    770.4,17.3999996,2, -999.000, -999.000,9,-999.0000,9,  -999.00,  -999.00,9,   -999.0,9, 14.6120005,2, 2.10899997,2,     0.05,2,     0.03,2,     -999,9, 64,   3613,  -1.7140
  32L919930718,    37, 20,     12,2,19930728, 80.4470, -13.3130,  308,     70.0,  -1.6690,  32.5910,2,-999.0000,9,-999.0000,    357.1,2,    353.7,2,    13.11,2,     5.44,2,     0.01,2,     1.04,2,0.031999998,2,   -999.0,9,   -999.0,      -999,9, -999.000, -999.000,9,-999.0000,9,  -999.00,  -999.00,9,   -999.0,9, 3.19099998,2,0.112000003,2,     0.02,2,     0.01,2,     -999,9, 64,   3612,  -1.6702
  32L919930718,    37, 20,     11,2,19930728, 80.4470, -13.3130,  308,     80.0,  -1.6220,  32.7150,2,-999.0000,9,  32.6750,    349.7,2,    346.7,2,    13.51,2,     6.13,2,     0.00,2,     1.03,2,0.002000004,2,   2127.7,2,    789.4,17.3999996,2, -999.000, -999.000,9,-999.0000,9,  -999.00,  -999.00,9,   -999.0,9, 3.07999992,2,0.232999995,2,     0.01,2,     0.01,2,     -999,9, 64,   3611,  -1.6234
  32L919930718,    37, 20,     10,2,19930728, 80.4470, -13.3130,  308,    100.0,  -1.5780,  33.0200,2,  33.0240,2,  32.9670,    340.0,2,    336.1,2,    14.15,2,     7.14,2,     0.01,2,     1.00,2,0.012000002,2,   2139.7,2,    838.3,17.3999996,2, -999.000, -999.000,9,-999.0000,9,  -999.00,  -999.00,9,   -999.0,9, 3.76300001,2,0.101999998,2,     0.01,2,     0.02,2,     -999,9, 64,   3610,  -1.5799
  32L919930718,    37, 20,      9,2,19930728, 80.4470, -13.3130,  308,    298.0,   0.5010,  34.7600,2,-999.0000,9,-999.0000,    287.0,2,    282.1,2,    13.26,2,    13.33,2,     0.03,2,     0.96,2,0.031999998,2,   -999.0,9,   -999.0,      -999,9, -999.000, -999.000,9,-999.0000,9,  -999.00,  -999.00,9,   -999.0,9,  6.6880002,2,0.128999993,2,  -999.00,9,  -999.00,9,     -999,9, 64,   3609,   0.4884
  32L919930718,    37, 21,      8,2,19930728, 80.4470, -13.3130,  308,      2.0,   2.1530,  31.9920,2,  32.1000,2,  32.0090,    435.3,2,   -999.0,9,     4.31,2,    -0.10,2,     0.03,2,     0.93,2,0.033000007,2,   2026.2,2,    487.5,18.2000008,2, -999.000, -999.000,9,-999.0000,9,  -999.00,  -999.00,9,   -999.0,9, 49.2029991,2,  3.4519999,2,     1.20,2,     0.40,2,     -999,9, 65,   3632,   2.1529
  32L919930718,    37, 21,      7,2,19930728, 80.4470, -13.3130,  308,      5.0,   1.3740,  32.2080,2,-999.0000,9,  32.1780,    434.8,2,    426.2,2,     5.64,2,     0.10,2,     0.02,2,     0.88,2,0.052000009,2,   2053.9,2,    540.3,18.2000008,2, -999.000, -999.000,9,-999.0000,9,  -999.00,  -999.00,9,   -999.0,9, 25.6350002,2, 3.02200007,2,     2.04,2,     0.29,2,     -999,9, 65,   3631,   1.3738
  32L919930718,    37, 21,      6,2,19930728, 80.4470, -13.3130,  308,     10.0,   0.0550,  32.2680,2,-999.0000,9,  32.2350,    404.7,2,    388.8,2,     9.50,2,     1.82,2,     0.03,2,     0.99,2,0.033000007,2,   2093.4,2,    691.3,18.2000008,2, -999.000, -999.000,9,-999.0000,9,  -999.00,  -999.00,9,   -999.0,9,      12.96,2, 1.88900006,2,     1.86,2,     0.35,2,     -999,9, 65,   3630,   0.0547
  32L919930718,    37, 21,      5,2,19930728, 80.4470, -13.3130,  308,     20.0,  -1.6670,  32.2950,2,-999.0000,9,  32.2470,    372.0,2,    368.4,2,    11.76,2,     4.24,2,     0.03,2,     1.11,2,0.052000009,2,   2107.9,2,    769.7,18.2000008,2, -999.000, -999.000,9,-999.0000,9,  -999.00,  -999.00,9,   -999.0,9, 3.90700006,2,0.296999991,2,     0.26,2,     0.08,2,     -999,9, 65,   3629,  -1.6673
  32L919930718,    37, 21,      4,2,19930728, 80.4470, -13.3130,  308,     30.0,  -1.7200,  32.3340,2,-999.0000,9,-999.0000,    368.9,2,    366.3,2,    11.77,2,     4.36,2,     0.00,2,     1.11,2,0.033000007,2,   -999.0,9,   -999.0,      -999,9, -999.000, -999.000,9,-999.0000,9,  -999.00,  -999.00,9,   -999.0,9, 4.56899977,2,0.197999999,2,     0.18,2,     0.00,2,     -999,9, 65,   3628,  -1.7205
  32L919930718,    37, 21,      3,2,19930728, 80.4470, -13.3130,  308,     40.0,  -1.7270,  32.3790,2,-999.0000,9,  32.3200,    368.8,2,    366.9,2,    11.78,2,     4.20,2,     0.01,2,     1.12,2,-0.02599999,2,   2113.7,2,    776.5,18.2000008,2, -999.000, -999.000,9,-999.0000,9,  -999.00,  -999.00,9,   -999.0,9, 4.08900023,2,0.145999998,2,     0.17,2,     0.02,2,     -999,9, 65,   3627,  -1.7276
  32L919930718,    37, 21,      2,2,19930728, 80.4470, -13.3130,  308,     50.0,  -1.7310,  32.4120,2,-999.0000,9,-999.0000,    367.2,2,    365.5,2,    11.85,2,     4.66,2,     0.01,2,     1.13,2,0.013000011,2,   -999.0,9,   -999.0,      -999,9, -999.000, -999.000,9,-999.0000,9,  -999.00,  -999.00,9,   -999.0,9, 3.93700004,2,0.115999997,2,     0.14,2,     0.03,2,     -999,9, 65,   3626,  -1.7318
  32L919930718,    37, 21,      1,2,19930728, 80.4470, -13.3130,  308,     60.0,  -1.7380,  32.4520,2,-999.0000,9,  32.3880,    366.4,2,    363.8,2,    11.97,2,     4.81,2,     0.01,2,     1.13,2,0.023000002,2,   2117.7,2,    772.4,18.2000008,2, -999.000, -999.000,9,-999.0000,9,  -999.00,  -999.00,9,   -999.0,9, 3.26699996,2,0.075000003,2,     0.03,2,     0.01,2,     -999,9, 65,   3625,  -1.7390
  32L919930718,    37, 21,     12,2,19930728, 80.4470, -13.3130,  308,     70.0,  -1.6830,  32.5560,2,-999.0000,9,-999.0000,    360.1,2,    355.2,2,    12.55,2,     5.75,2,     0.01,2,     1.12,2,0.062000006,2,   -999.0,9,   -999.0,      -999,9, -999.000, -999.000,9,-999.0000,9,  -999.00,  -999.00,9,   -999.0,9, 2.55100012,2,      0.088,2,     0.01,2,     0.01,2,     -999,9, 65,   3624,  -1.6842
  32L919930718,    37, 21,     11,2,19930728, 80.4470, -13.3130,  308,     80.0,  -1.6390,  32.6810,2,-999.0000,9,  32.5980,    351.5,2,    349.2,2,    12.98,2,     6.20,2,     0.01,2,     1.12,2,0.013000011,2,   2124.8,2,    814.3,18.2000008,2, -999.000, -999.000,9,-999.0000,9,  -999.00,  -999.00,9,   -999.0,9, 3.55999994,2,      0.092,2,     0.01,2,     0.01,2,     -999,9, 65,   3623,  -1.6404
  32L919930718,    37, 21,     10,2,19930728, 80.4470, -13.3130,  308,    101.0,  -1.5840,  33.0020,2,  33.0180,2,  32.9130,    342.9,3,    337.0,2,    13.60,2,     7.61,2,     0.00,2,     1.08,2,0.033000007,2,   2135.6,2,    843.9,18.2000008,2, -999.000, -999.000,9,-999.0000,9,  -999.00,  -999.00,9,   -999.0,9, 2.92400002,2,0.143000007,2,     0.02,2,     0.01,2,     -999,9, 65,   3622,  -1.5859
  32L919930718,    37, 21,      9,2,19930728, 80.4470, -13.3130,  308,    288.0,   0.5840,  34.7460,2,-999.0000,9,-999.0000,    289.6,2,    282.9,2,    12.51,2,    13.80,2,     0.65,2,     1.05,2,0.082000002,2,   -999.0,9,   -999.0,      -999,9, -999.000, -999.000,9,-999.0000,9,  -999.00,  -999.00,9,   -999.0,9, 3.84599996,2,0.079000004,2,     0.01,2,     0.01,2,     -999,9, 65,   3621,   0.5717
  32L919930718,    37, 22,      8,2,19930728, 80.4470, -13.3130,  308,      2.0,  -1.2200,  32.1840,2,  30.1110,2,  31.9820,    391.5,2,    393.6,2,     9.58,2,     1.16,2,     0.06,2,     0.90,2,     -0.117,2,   2073.0,2,    630.7,17.3999996,2, -999.000, -999.000,9,-999.0000,9,  -999.00,  -999.00,9,      2.0,2, 13.8170004,2, 1.95099998,2,     0.75,2,     0.28,2,   114000,2, 66,   3644,  -1.2200
  32L919930718,    37, 22,      7,2,19930728, 80.4470, -13.3130,  308,      3.0,  -1.3980,  32.2080,2,-999.0000,9,-999.0000,    386.4,2,    383.4,2,    10.53,2,     1.86,2,     0.09,2,     0.98,2,      0.059,2,   -999.0,9,   -999.0,      -999,9, -999.000, -999.000,9,-999.0000,9,  -999.00,  -999.00,9,      3.5,2, 11.4239998,2, 2.06100011,2,     1.00,2,     0.29,2,   102000,2, 66,   3643,  -1.3981
  32L919930718,    37, 22,      6,2,19930728, 80.4470, -13.3130,  308,      5.0,  -1.5420,  32.2310,2,-999.0000,9,-999.0000,    384.0,2,    380.4,2,    10.70,2,     2.34,2,     0.07,2,     1.00,2,0.039000001,2,   -999.0,9,   -999.0,      -999,9, -999.000, -999.000,9,-999.0000,9,  -999.00,  -999.00,9,      2.8,2, 7.50600004,2, 1.62600005,2,     1.04,2,     0.30,2,   132000,2, 66,   3642,  -1.5421
  32L919930718,    37, 22,      5,2,19930728, 80.4470, -13.3130,  308,      8.0,  -1.5640,  32.2360,2,-999.0000,9,-999.0000,    382.7,2,    378.1,2,    11.02,2,     2.88,2,     0.08,2,     1.00,2,       0.01,2,   -999.0,9,   -999.0,      -999,9, -999.000, -999.000,9,-999.0000,9,  -999.00,  -999.00,9,      3.0,2, 7.67199993,2, 1.15999997,2,     0.82,2,     0.28,2,    64700,2, 66,   3641,  -1.5641
  32L919930718,    37, 22,      4,2,19930728, 80.4470, -13.3130,  308,     12.0,  -1.6160,  32.2520,2,-999.0000,9,-999.0000,    378.3,2,    375.0,2,    11.16,2,     3.19,2,     0.07,2,     1.01,2,       0.01,2,   -999.0,9,   -999.0,      -999,9, -999.000, -999.000,9,-999.0000,9,  -999.00,  -999.00,9,      1.1,2, 6.98000002,2,0.875999987,2,     0.55,2,     0.23,2,    23100,2, 66,   3640,  -1.6162
  32L919930718,    37, 22,      2,2,19930728, 80.4470, -13.3130,  308,     14.0,  -1.6210,  32.2530,2,-999.0000,9,  32.1920,    378.7,2,   -999.0,9,    11.14,2,     3.38,2,     0.06,2,     1.01,2,     -0.029,2,   2101.8,2,    715.2,17.3999996,2, -999.000, -999.000,9,-999.0000,9,  -999.00,  -999.00,9,      0.1,2, 6.06500006,2,0.748000026,2,     0.28,2,     0.13,2,    55000,2, 66,   3638,  -1.6212
  32L919930718,    37, 22,      3,2,19930728, 80.4470, -13.3130,  308,     14.0,  -1.6200,  32.2520,2,-999.0000,9,-999.0000,    379.0,2,   -999.0,9,  -999.00,9,  -999.00,9,  -999.00,9,  -999.00,9,       -999,9,   -999.0,9,   -999.0,      -999,9, -999.000, -999.000,9,-999.0000,9,  -999.00,  -999.00,9,   -999.0,9,       -999,9,       -999,9,  -999.00,9,  -999.00,9,     -999,9, 66,   3639,  -1.6202
  32L919930718,    37, 22,      1,2,19930728, 80.4470, -13.3130,  308,     19.0,  -1.6870,  32.2890,2,-999.0000,9,-999.0000,    374.6,2,    370.7,2,    11.31,2,     3.93,2,     0.03,2,     1.03,2,0.039000001,2,   -999.0,9,   -999.0,      -999,9, -999.000, -999.000,9,-999.0000,9,  -999.00,  -999.00,9,      0.1,2, 4.38100004,2,0.694999993,2,     0.29,2,     0.14,2,    89000,2, 66,   3637,  -1.6873
  32L919930718,    37, 22,     12,2,19930728, 80.4470, -13.3130,  308,     28.0,  -1.7170,  32.3400,2,-999.0000,9,-999.0000,    371.2,2,    367.6,2,    11.47,2,     3.84,2,     0.02,2,     1.04,2,          0,2,   -999.0,9,   -999.0,      -999,9, -999.000, -999.000,9,-999.0000,9,  -999.00,  -999.00,9,   -999.0,9, 5.20699978,2,0.284000009,2,     0.26,2,     0.04,2,    19600,2, 66,   3636,  -1.7174
  32L919930718,    37, 22,     11,2,19930728, 80.4470, -13.3130,  308,     65.0,  -1.7330,  32.4570,2,-999.0000,9,-999.0000,    368.5,2,    362.2,2,    11.78,2,     4.16,2,     0.01,2,     1.07,2,       0.02,2,   -999.0,9,   -999.0,      -999,9, -999.000, -999.000,9,-999.0000,9,  -999.00,  -999.00,9,   -999.0,9, 2.78500009,2,0.157000005,2,     0.02,2,     0.01,2,    42700,2, 66,   3635,  -1.7341
  32L919930718,    37, 22,     10,2,19930728, 80.4470, -13.3130,  308,     85.0,  -1.6330,  32.6980,2,  32.7660,2,-999.0000,    354.0,2,    345.2,2,    12.80,2,     5.82,2,     0.00,2,     1.04,2,0.078000002,2,   -999.0,9,   -999.0,      -999,9, -999.000, -999.000,9,-999.0000,9,  -999.00,  -999.00,9,   -999.0,9,       -999,9,       -999,9,     0.01,2,     0.01,2,     8110,2, 66,   3634,  -1.6345
  32L919930718,    37, 22,      9,2,19930728, 80.4470, -13.3130,  308,    285.0,   0.6110,  34.7410,2,-999.0000,9,-999.0000,    288.1,2,    282.9,2,    12.15,2,    13.02,2,     0.03,2,     0.99,2,          0,2,   -999.0,9,   -999.0,      -999,9, -999.000, -999.000,9,-999.0000,9,  -999.00,  -999.00,9,   -999.0,9,  2.0079999,2,0.045000002,2,     0.04,2,     0.03,2,     6670,2, 66,   3633,   0.5987
  32L919930718,    37, 23,      8,2,19930728, 80.4470, -13.3130,  308,      2.0,   0.2530,  31.7940,2,  32.0110,2,  31.9420,    400.0,2,    395.8,2,     9.45,2,     1.03,2,     0.06,2,     0.39,3,0.109999999,2,   2068.8,2,    651.0,      18.5,2, -999.000, -999.000,9,-999.0000,9,  -999.00,  -999.00,9,   -999.0,9, 14.2639999,2, 2.05699992,2,     0.97,2,     0.29,2,     -999,9, 67,   3656,   0.2529
  32L919930718,    37, 23,      7,2,19930728, 80.4470, -13.3130,  308,      5.0,  -1.1380,  32.1630,2,-999.0000,9,  32.1010,    394.8,2,    387.4,2,    10.10,2,     1.64,2,     0.06,2,     0.46,3,0.090000004,2,   2088.1,2,    691.5,      18.5,2, -999.000, -999.000,9,-999.0000,9,  -999.00,  -999.00,9,   -999.0,9, 15.5150003,2, 2.39899993,2,     0.83,2,     0.22,2,     -999,9, 67,   3655,  -1.1381
  32L919930718,    37, 23,      6,2,19930728, 80.4470, -13.3130,  308,     10.0,  -1.2870,  32.1770,2,-999.0000,9,  32.1630,    377.0,2,    374.6,2,    10.92,2,     3.14,2,     0.11,2,     0.55,3,0.031999998,2,   2100.2,2,    747.2,      18.5,2, -999.000, -999.000,9,-999.0000,9,  -999.00,  -999.00,9,   -999.0,9, 7.28599978,2,0.927999973,2,     0.69,2,     0.20,2,     -999,9, 67,   3654,  -1.2872
  32L919930718,    37, 23,      5,2,19930728, 80.4470, -13.3130,  308,     20.0,  -1.6740,  32.2620,2,-999.0000,9,  32.2340,    374.1,2,    370.1,2,    11.10,2,     4.04,2,     0.06,2,     0.63,3,0.012000002,2,   2107.8,2,    777.3,      18.5,2, -999.000, -999.000,9,-999.0000,9,  -999.00,  -999.00,9,   -999.0,9, 4.24700022,2,0.419999987,2,     0.14,2,     0.04,2,     -999,9, 67,   3653,  -1.6743
  32L919930718,    37, 23,      4,2,19930728, 80.4470, -13.3130,  308,     30.0,  -1.7090,  32.3060,2,-999.0000,9,-999.0000,    373.0,2,    368.7,2,    11.14,2,     4.25,2,     0.04,2,     0.67,3,0.159000009,2,   -999.0,9,   -999.0,      -999,9, -999.000, -999.000,9,-999.0000,9,  -999.00,  -999.00,9,   -999.0,9, 2.09800005,2,0.284999996,2,     0.19,2,     0.05,2,     -999,9, 67,   3652,  -1.7095
  32L919930718,    37, 23,      3,2,19930728, 80.4470, -13.3130,  308,     40.0,  -1.7220,  32.3480,2,-999.0000,9,  32.2940,    372.5,2,    365.3,2,    11.14,2,     4.18,2,     0.04,2,     0.70,3,0.051000003,2,   2111.7,2,    784.7,      18.5,2, -999.000, -999.000,9,-999.0000,9,  -999.00,  -999.00,9,   -999.0,9, 4.12400007,2,0.275000006,2,     0.16,2,     0.04,2,     -999,9, 67,   3651,  -1.7226
  32L919930718,    37, 23,      2,2,19930728, 80.4470, -13.3130,  308,     50.0,  -1.7370,  32.3750,2,-999.0000,9,-999.0000,    373.1,2,    367.2,2,    11.14,2,     4.39,2,     0.02,2,     0.77,2,0.109999999,2,   -999.0,9,   -999.0,      -999,9, -999.000, -999.000,9,-999.0000,9,  -999.00,  -999.00,9,   -999.0,9, 1.23699999,2,0.134000003,2,     0.07,2,     0.02,2,     -999,9, 67,   3650,  -1.7378
  32L919930718,    37, 23,      1,2,19930728, 80.4470, -13.3130,  308,     60.0,  -1.7380,  32.4160,2,-999.0000,9,  32.3820,    371.2,2,    362.2,2,    11.40,2,     4.79,2,     0.12,2,     0.80,2,0.031999998,2,   2117.2,2,    809.5,      18.5,2, -999.000, -999.000,9,-999.0000,9,  -999.00,  -999.00,9,   -999.0,9,0.272000015,2,0.112999998,2,     0.03,2,     0.01,2,     -999,9, 67,   3649,  -1.7390
  32L919930718,    37, 23,     12,2,19930728, 80.4470, -13.3130,  308,     70.0,  -1.6740,  32.5840,2,-999.0000,9,-999.0000,    362.3,2,    354.2,2,    11.82,2,     5.69,2,     0.02,2,     0.85,2,0.041000001,2,   -999.0,9,   -999.0,      -999,9, -999.000, -999.000,9,-999.0000,9,  -999.00,  -999.00,9,   -999.0,9, 1.81400001,2,0.134000003,2,     0.01,2,     0.01,2,     -999,9, 67,   3648,  -1.6752
  32L919930718,    37, 23,     11,2,19930728, 80.4470, -13.3130,  308,     80.0,  -1.6400,  32.6920,2,-999.0000,9,  32.6430,    356.9,2,    349.7,2,    12.10,2,     5.76,2,     0.02,2,     0.89,2,0.002000004,2,   2126.0,2,    845.6,      18.5,2, -999.000, -999.000,9,-999.0000,9,  -999.00,  -999.00,9,   -999.0,9, 2.15199995,2,0.100000001,2,     0.05,2,     0.01,2,     -999,9, 67,   3647,  -1.6414
  32L919930718,    37, 23,     10,2,19930728, 80.4470, -13.3130,  308,    100.0,  -1.5550,  33.0330,2,  33.0450,2,  33.0150,    342.8,2,    334.1,2,    12.86,2,     7.18,2,     0.02,2,     0.92,2,     -0.017,2,   2138.7,2,    874.8,      18.5,2, -999.000, -999.000,9,-999.0000,9,  -999.00,  -999.00,9,   -999.0,9,0.819999993,2,0.064999998,2,     0.01,2,     0.01,2,     -999,9, 67,   3646,  -1.5570
  32L919930718,    37, 23,      9,2,19930728, 80.4470, -13.3130,  308,    277.0,   0.5760,  34.7290,2,-999.0000,9,-999.0000,    295.0,2,    282.1,2,    11.89,2,    13.32,2,     0.03,2,     0.94,2,     -0.007,2,   -999.0,9,   -999.0,      -999,9, -999.000, -999.000,9,-999.0000,9,  -999.00,  -999.00,9,   -999.0,9, 1.64699996,2,0.052999999,2,     0.10,2,     0.01,2,     -999,9, 67,   3645,   0.5642