BOTTLE,20090115PRINUNIVRMK
EXPOCODE,STNNBR,CASTNO,BTLNBR,BTLNBR_FLAG_W,DATE,LATITUDE,LONGITUDE,DEPTH,CTDPRS,CTDTMP,CTDSAL,CTDSAL_FLAG_W,SALNTY,SALNTY_FLAG_W,SOMSAL,CTDOXY,CTDOXY_FLAG_W,OXYGEN,OXYGEN_FLAG_W,SILCAT,SILCAT_FLAG_W,NITRAT,NITRAT_FLAG_W,NITRIT,NITRIT_FLAG_W,PHSPHT,PHSPHT_FLAG_W,AMMONI,AMMONI_FLAG_W,TCARBN,TCARBN_FLAG_W,FCO2,FCO2_TMP,FCO2_FLAG_W,TRITUM,TRITER,TRITUM_FLAG_W,HELIUM,HELIUM_FLAG_W,DELHE3,DELHER,DELHE3_FLAG_W,DELC14,DELC14_FLAG_W,POC,POC_FLAG_W,PON,PON_FLAG_W,CHLORA,CHLORA_FLAG_W,PHAEO,PHAEO_FLAG_W,BACT,BACT_FLAG_W,CTDNO,BNLID,THETA
,,,,,,,,METERS,DBARS,ITS-90,PSS-78,,PSS-78,,PSS-78,UMOL/KG,,UMOL/KG,,UMOL/KG,,UMOL/KG,,UMOL/KG,,UMOL/KG,,UMOL/KG,,UMOL/KG,,UATM,DEGC,,TU,TU,,NMOL/KG,,PERCNT,PERCNT,,O/OO,,ug/kg,,ug/kg,,UG/L,,UG/L,,CELLS/ML,,,,DEGC
  32L919930718,    38,  3,     10,2,19930731, 80.1640,  -7.9780,  311,      5.0,  -0.5320,  31.6300,2,-999.0000,9,-999.0000,    396.1,2,   -999.0,9,  -999.00,9,  -999.00,9,  -999.00,9,  -999.00,9,       -999,9,   -999.0,9,   -999.0,      -999,9, -999.000, -999.000,9,-999.0000,9,  -999.00,  -999.00,9,   -999.0,9,       -999,9,       -999,9,  -999.00,9,  -999.00,9,     -999,9, 77,   3754,  -0.5321
  32L919930718,    38,  3,      9,2,19930731, 80.1640,  -7.9780,  311,     10.0,  -0.7800,  31.7240,2,-999.0000,9,-999.0000,    387.2,2,   -999.0,9,  -999.00,9,  -999.00,9,  -999.00,9,  -999.00,9,       -999,9,   -999.0,9,   -999.0,      -999,9, -999.000, -999.000,9,-999.0000,9,  -999.00,  -999.00,9,   -999.0,9,       -999,9,       -999,9,  -999.00,9,  -999.00,9,     -999,9, 77,   3753,  -0.7802
  32L919930718,    38,  3,      7,2,19930731, 80.1640,  -7.9780,  311,     21.0,  -0.6930,  32.1410,2,-999.0000,9,-999.0000,    411.2,2,   -999.0,9,  -999.00,9,  -999.00,9,  -999.00,9,  -999.00,9,       -999,9,   -999.0,9,   -999.0,      -999,9, -999.000, -999.000,9,-999.0000,9,  -999.00,  -999.00,9,   -999.0,9,       -999,9,       -999,9,  -999.00,9,  -999.00,9,     -999,9, 77,   3751,  -0.6935
  32L919930718,    38,  3,      8,2,19930731, 80.1640,  -7.9780,  311,     21.0,  -0.6900,  32.1430,2,-999.0000,9,-999.0000,    414.4,2,   -999.0,9,  -999.00,9,  -999.00,9,  -999.00,9,  -999.00,9,       -999,9,   -999.0,9,   -999.0,      -999,9, -999.000, -999.000,9,-999.0000,9,  -999.00,  -999.00,9,   -999.0,9,       -999,9,       -999,9,  -999.00,9,  -999.00,9,     -999,9, 77,   3752,  -0.6905
  32L919930718,    38,  3,      6,2,19930731, 80.1640,  -7.9780,  311,     30.0,  -1.5160,  32.2940,2,-999.0000,9,-999.0000,    377.4,2,   -999.0,9,  -999.00,9,  -999.00,9,  -999.00,9,  -999.00,9,       -999,9,   -999.0,9,   -999.0,      -999,9, -999.000, -999.000,9,-999.0000,9,  -999.00,  -999.00,9,   -999.0,9,       -999,9,       -999,9,  -999.00,9,  -999.00,9,     -999,9, 77,   3750,  -1.5165
  32L919930718,    38,  3,      5,2,19930731, 80.1640,  -7.9780,  311,     51.0,  -1.5950,  32.3700,2,-999.0000,9,-999.0000,    372.8,2,   -999.0,9,  -999.00,9,  -999.00,9,  -999.00,9,  -999.00,9,       -999,9,   -999.0,9,   -999.0,      -999,9, -999.000, -999.000,9,-999.0000,9,  -999.00,  -999.00,9,   -999.0,9,       -999,9,       -999,9,  -999.00,9,  -999.00,9,     -999,9, 77,   3749,  -1.5959
  32L919930718,    38,  3,      4,2,19930731, 80.1640,  -7.9780,  311,     76.0,  -1.7480,  32.4370,2,-999.0000,9,-999.0000,    369.6,2,   -999.0,9,  -999.00,9,  -999.00,9,  -999.00,9,  -999.00,9,       -999,9,   -999.0,9,   -999.0,      -999,9, -999.000, -999.000,9,-999.0000,9,  -999.00,  -999.00,9,   -999.0,9,       -999,9,       -999,9,  -999.00,9,  -999.00,9,     -999,9, 77,   3748,  -1.7492
  32L919930718,    38,  3,      3,2,19930731, 80.1640,  -7.9780,  311,    111.0,  -1.2540,  33.0840,2,-999.0000,9,-999.0000,    333.0,2,   -999.0,9,  -999.00,9,  -999.00,9,  -999.00,9,  -999.00,9,       -999,9,   -999.0,9,   -999.0,      -999,9, -999.000, -999.000,9,-999.0000,9,  -999.00,  -999.00,9,   -999.0,9,       -999,9,       -999,9,  -999.00,9,  -999.00,9,     -999,9, 77,   3747,  -1.2565
  32L919930718,    38,  3,      2,2,19930731, 80.1640,  -7.9780,  311,    150.0,  -0.2440,  34.3460,2,-999.0000,9,-999.0000,    295.0,2,   -999.0,9,  -999.00,9,  -999.00,9,  -999.00,9,  -999.00,9,       -999,9,   -999.0,9,   -999.0,      -999,9, -999.000, -999.000,9,-999.0000,9,  -999.00,  -999.00,9,   -999.0,9,       -999,9,       -999,9,  -999.00,9,  -999.00,9,     -999,9, 77,   3746,  -0.2491
  32L919930718,    38,  3,      1,2,19930731, 80.1640,  -7.9780,  311,    200.0,   0.3240,  34.6940,2,-999.0000,9,-999.0000,    285.6,2,   -999.0,9,  -999.00,9,  -999.00,9,  -999.00,9,  -999.00,9,       -999,9,   -999.0,9,   -999.0,      -999,9, -999.000, -999.000,9,-999.0000,9,  -999.00,  -999.00,9,   -999.0,9,       -999,9,       -999,9,  -999.00,9,  -999.00,9,     -999,9, 77,   3745,   0.3160
  32L919930718,    38,  3,     12,2,19930731, 80.1640,  -7.9780,  311,    250.0,   0.3800,  34.8120,2,-999.0000,9,-999.0000,    287.9,2,   -999.0,9,  -999.00,9,  -999.00,9,  -999.00,9,  -999.00,9,       -999,9,   -999.0,9,   -999.0,      -999,9, -999.000, -999.000,9,-999.0000,9,  -999.00,  -999.00,9,   -999.0,9,       -999,9,       -999,9,  -999.00,9,  -999.00,9,     -999,9, 77,   3744,   0.3698
  32L919930718,    38,  3,     11,2,19930731, 80.1640,  -7.9780,  311,    301.0,   0.3700,  34.8560,2,-999.0000,9,-999.0000,    293.6,2,   -999.0,9,  -999.00,9,  -999.00,9,  -999.00,9,  -999.00,9,       -999,9,   -999.0,9,   -999.0,      -999,9, -999.000, -999.000,9,-999.0000,9,  -999.00,  -999.00,9,   -999.0,9,       -999,9,       -999,9,  -999.00,9,  -999.00,9,     -999,9, 77,   3743,   0.3575
  32L919930718,    38,  4,      9,2,19930731, 80.1640,  -7.9780,  311,      2.0,   2.2130,  31.8350,2,-999.0000,9,  31.8080,    416.8,2,   -999.0,9,  -999.00,9,  -999.00,9,  -999.00,9,  -999.00,9,       -999,9,   2018.6,2,    472.4,        17,2, -999.000, -999.000,9,-999.0000,9,  -999.00,  -999.00,9,   -999.0,9,       -999,9,       -999,9,  -999.00,9,  -999.00,9,     -999,9, 78,   3765,   2.2129
  32L919930718,    38,  4,     10,2,19930731, 80.1640,  -7.9780,  311,      2.0,   2.4990,  31.7550,2,-999.0000,9,-999.0000,    413.9,2,   -999.0,9,     3.83,2,     0.09,2,     0.01,2,     0.65,2,     -0.044,2,   -999.0,9,   -999.0,      -999,9, -999.000, -999.000,9,-999.0000,9,  -999.00,  -999.00,9,   -999.0,9,       -999,9,       -999,9,  -999.00,9,  -999.00,9,     -999,9, 78,   3766,   2.4989
  32L919930718,    38,  4,      7,2,19930731, 80.1640,  -7.9780,  311,     25.0,  -1.4390,  32.3390,2,-999.0000,9,  32.2230,    402.0,2,   -999.0,9,  -999.00,9,  -999.00,9,  -999.00,9,  -999.00,9,       -999,9,   2095.9,2,    668.5,        17,2, -999.000, -999.000,9,-999.0000,9,  -999.00,  -999.00,9,   -999.0,9,       -999,9,       -999,9,  -999.00,9,  -999.00,9,     -999,9, 78,   3763,  -1.4395
  32L919930718,    38,  4,      8,2,19930731, 80.1640,  -7.9780,  311,     25.0,  -1.4350,  32.3380,2,-999.0000,9,-999.0000,    407.3,2,   -999.0,9,     6.07,2,     0.43,2,    -0.02,2,     0.85,2,0.034000009,2,   -999.0,9,   -999.0,      -999,9, -999.000, -999.000,9,-999.0000,9,  -999.00,  -999.00,9,   -999.0,9,       -999,9,       -999,9,  -999.00,9,  -999.00,9,     -999,9, 78,   3764,  -1.4355
  32L919930718,    38,  4,      5,2,19930731, 80.1640,  -7.9780,  311,     50.0,  -1.7130,  32.4190,2,-999.0000,9,  32.3560,    374.6,2,   -999.0,9,  -999.00,9,  -999.00,9,  -999.00,9,  -999.00,9,       -999,9,   2115.8,2,   -999.0,      -999,9, -999.000, -999.000,9,-999.0000,9,  -999.00,  -999.00,9,   -999.0,9,       -999,9,       -999,9,  -999.00,9,  -999.00,9,     -999,9, 78,   3761,  -1.7138
  32L919930718,    38,  4,      6,2,19930731, 80.1640,  -7.9780,  311,     50.0,  -1.7080,  32.4180,2,-999.0000,9,-999.0000,    375.1,2,   -999.0,9,    11.25,2,     4.29,2,     0.03,2,     1.02,2,0.034000009,2,   -999.0,9,   -999.0,      -999,9, -999.000, -999.000,9,-999.0000,9,  -999.00,  -999.00,9,   -999.0,9,       -999,9,       -999,9,  -999.00,9,  -999.00,9,     -999,9, 78,   3762,  -1.7088
  32L919930718,    38,  4,      3,2,19930731, 80.1640,  -7.9780,  311,     75.0,  -1.7010,  32.5210,2,-999.0000,9,  32.4760,    366.8,2,   -999.0,9,  -999.00,9,  -999.00,9,  -999.00,9,  -999.00,9,       -999,9,   2121.0,2,   -999.0,      -999,9, -999.000, -999.000,9,-999.0000,9,  -999.00,  -999.00,9,   -999.0,9,       -999,9,       -999,9,  -999.00,9,  -999.00,9,     -999,9, 78,   3759,  -1.7023
  32L919930718,    38,  4,      4,2,19930731, 80.1640,  -7.9780,  311,     75.0,  -1.7010,  32.5230,2,-999.0000,9,-999.0000,    367.1,2,   -999.0,9,    12.14,2,     5.43,2,     0.04,2,     1.01,2,0.034000009,2,   -999.0,9,   -999.0,      -999,9, -999.000, -999.000,9,-999.0000,9,  -999.00,  -999.00,9,   -999.0,9,       -999,9,       -999,9,  -999.00,9,  -999.00,9,     -999,9, 78,   3760,  -1.7023
  32L919930718,    38,  4,      1,2,19930731, 80.1640,  -7.9780,  311,    100.0,  -1.1840,  33.2650,2,-999.0000,9,  33.1210,    338.3,2,   -999.0,9,  -999.00,9,  -999.00,9,  -999.00,9,  -999.00,9,       -999,9,   2133.7,2,    763.2,        17,2, -999.000, -999.000,9,-999.0000,9,  -999.00,  -999.00,9,   -999.0,9,       -999,9,       -999,9,  -999.00,9,  -999.00,9,     -999,9, 78,   3757,  -1.1863
  32L919930718,    38,  4,      2,2,19930731, 80.1640,  -7.9780,  311,    100.0,  -1.1790,  33.2890,2,-999.0000,9,-999.0000,    339.1,2,   -999.0,9,    12.12,2,     7.92,2,     0.03,2,     0.96,2,0.024000004,2,   -999.0,9,   -999.0,      -999,9, -999.000, -999.000,9,-999.0000,9,  -999.00,  -999.00,9,   -999.0,9,       -999,9,       -999,9,  -999.00,9,  -999.00,9,     -999,9, 78,   3758,  -1.1813
  32L919930718,    38,  4,     11,2,19930731, 80.1640,  -7.9780,  311,    175.0,   0.2710,  34.6290,2,-999.0000,9,  34.6040,    292.8,2,   -999.0,9,  -999.00,9,  -999.00,9,  -999.00,9,  -999.00,9,       -999,9,   2147.2,2,    721.1,        17,2, -999.000, -999.000,9,-999.0000,9,  -999.00,  -999.00,9,   -999.0,9,       -999,9,       -999,9,  -999.00,9,  -999.00,9,     -999,9, 78,   3755,   0.2642
  32L919930718,    38,  4,     12,2,19930731, 80.1640,  -7.9780,  311,    176.0,   0.2710,  34.6290,2,-999.0000,9,-999.0000,    293.0,2,   -999.0,9,    11.81,2,    13.09,2,     0.04,2,     0.95,2,0.063000008,2,   -999.0,9,   -999.0,      -999,9, -999.000, -999.000,9,-999.0000,9,  -999.00,  -999.00,9,   -999.0,9,       -999,9,       -999,9,  -999.00,9,  -999.00,9,     -999,9, 78,   3756,   0.2641
  32L919930718,    39,  1,     10,2,19930801, 79.9720,  -9.6140,  203,      2.0,  -1.0240,  29.2020,2,  22.1460,2,  29.2010,    296.9,2,    394.0,2,     5.90,2,     0.08,2,    -0.02,2,     0.45,2,0.141000003,2,   1431.8,2,    382.3,        17,2, -999.000, -999.000,9,-999.0000,9,  -999.00,  -999.00,9,      0.4,2, 15.5690002,2, 1.78699994,2,     0.15,2,     0.03,2,   145000,2, 79,   3778,  -1.0240
  32L919930718,    39,  1,      9,2,19930801, 79.9720,  -9.6140,  203,      5.0,  -1.2710,  31.2710,2,-999.0000,9,-999.0000,    397.0,2,    398.3,2,     8.97,2,     0.70,2,     0.06,2,     0.74,2,0.189999998,2,   -999.0,9,   -999.0,      -999,9, -999.000, -999.000,9,-999.0000,9,  -999.00,  -999.00,9,      0.6,2,  8.5550003,2, 1.12899995,2,     0.26,2,     0.23,2,   199000,2, 79,   3777,  -1.2711
  32L919930718,    39,  1,      8,2,19930801, 79.9720,  -9.6140,  203,      9.0,  -1.2980,  31.3930,2,-999.0000,9,  31.4680,    395.6,2,    396.0,2,     9.15,2,     0.84,2,     0.07,2,     0.77,2,0.259000003,2,   2035.5,2,    586.4,        17,2, -999.000, -999.000,9,-999.0000,9,  -999.00,  -999.00,9,      0.5,2, 6.97800016,2,0.990999997,2,     0.26,2,     0.25,2,   229000,2, 79,   3776,  -1.2982
  32L919930718,    39,  1,      7,2,19930801, 79.9720,  -9.6140,  203,     14.0,  -1.4610,  31.8460,2,-999.0000,9,-999.0000,    390.4,2,    383.6,2,    10.24,2,     2.19,2,     0.11,2,     0.90,2,0.112000003,2,   -999.0,9,   -999.0,      -999,9, -999.000, -999.000,9,-999.0000,9,  -999.00,  -999.00,9,      0.4,2, 7.34100008,2,0.587000012,2,     0.26,2,     0.24,2,   149000,2, 79,   3775,  -1.4612
  32L919930718,    39,  1,      6,2,19930801, 79.9720,  -9.6140,  203,     22.0,  -1.6160,  32.2000,2,-999.0000,9,  32.1920,    380.1,2,    378.1,2,    10.49,2,     2.67,2,     0.09,2,     0.93,2,0.102000006,2,   2095.9,2,    683.8,        17,2, -999.000, -999.000,9,-999.0000,9,  -999.00,  -999.00,9,      0.3,2, 3.78500009,2,0.340000004,2,     0.23,2,     0.22,2,   104000,2, 79,   3774,  -1.6164
  32L919930718,    39,  1,      5,2,19930801, 79.9720,  -9.6140,  203,     35.0,  -1.6730,  32.3160,2,-999.0000,9,  32.3050,    375.7,2,    371.0,2,    10.77,2,     3.21,2,     0.11,2,     0.97,2,0.131999999,2,   2108.0,2,    719.6,        17,2, -999.000, -999.000,9,-999.0000,9,  -999.00,  -999.00,9,      0.1,2, 3.49300003,2,0.451999992,2,     0.23,2,     0.11,2,    76900,2, 79,   3773,  -1.6736
  32L919930718,    39,  1,      4,2,19930801, 79.9720,  -9.6140,  203,     53.0,  -1.7240,  32.4060,2,-999.0000,9,-999.0000,    372.0,2,    368.2,2,    11.02,2,     3.73,2,     0.07,2,     0.99,2, 0.00500001,2,   -999.0,9,   -999.0,      -999,9, -999.000, -999.000,9,-999.0000,9,  -999.00,  -999.00,9,      0.0,2, 4.23699999,2,0.333999991,2,     0.13,2,     0.04,2,    44900,2, 79,   3772,  -1.7249
  32L919930718,    39,  1,      3,2,19930801, 79.9720,  -9.6140,  203,     60.0,  -1.7410,  32.4400,2,-999.0000,9,  32.4050,    371.4,2,    367.5,2,    11.02,2,     3.78,2,     0.06,2,     0.99,2,0.024000004,2,   2116.3,2,    740.8,        17,2, -999.000, -999.000,9,-999.0000,9,  -999.00,  -999.00,9,   -999.0,9, 1.53499997,2,      0.003,2,     0.05,2,     0.02,2,    40000,2, 79,   3771,  -1.7420
  32L919930718,    39,  1,      2,2,19930801, 79.9720,  -9.6140,  203,     80.0,  -1.7380,  32.4420,2,-999.0000,9,-999.0000,    371.8,2,    367.4,2,    11.10,2,     3.80,2,     0.07,2,     0.99,2,0.112000003,2,   -999.0,9,   -999.0,      -999,9, -999.000, -999.000,9,-999.0000,9,  -999.00,  -999.00,9,   -999.0,9,      1.472,2,      0.092,2,     0.04,2,     0.02,2,    40500,2, 79,   3770,  -1.7393
  32L919930718,    39,  1,      1,2,19930801, 79.9720,  -9.6140,  203,    100.0,  -1.7260,  32.4870,2,-999.0000,9,  32.4580,    369.8,2,    366.2,2,    11.23,2,     3.91,2,     0.06,2,     0.99,2,0.024000004,2,   2117.6,2,    721.2,        17,2, -999.000, -999.000,9,-999.0000,9,  -999.00,  -999.00,9,   -999.0,9,0.953999996,2,0.045000002,2,     0.04,2,     0.02,2,    40500,2, 79,   3769,  -1.7277
  32L919930718,    39,  1,     12,2,19930801, 79.9720,  -9.6140,  203,    125.0,  -1.1620,  33.2770,2,  33.3210,2,-999.0000,    336.2,2,    327.6,2,    12.38,2,     7.78,2,     0.05,2,     0.94,2,0.141000003,2,   -999.0,9,   -999.0,      -999,9, -999.000, -999.000,9,-999.0000,9,  -999.00,  -999.00,9,   -999.0,9, 1.60599995,2,       0.07,2,     0.03,2,     0.03,2,    37800,2, 79,   3768,  -1.1650
  32L919930718,    39,  1,     11,2,19930801, 79.9720,  -9.6140,  203,    149.0,  -0.4400,  34.1390,2,-999.0000,9,  33.9960,    307.5,2,    301.4,2,    12.28,2,    10.49,2,     0.05,2,     0.89,2,      0.044,2,   2140.1,2,    714.0,        17,2, -999.000, -999.000,9,-999.0000,9,  -999.00,  -999.00,9,   -999.0,9, 3.72099996,2,       -999,9,     0.03,2,     0.03,2,    42700,2, 79,   3767,  -0.4447
  32L919930718,    40,  1,     10,2,19930801, 80.0360,  -9.5080,  162,      2.0,   2.2410,  29.6480,2,  29.3520,2,  29.5600,    373.4,2,    375.3,2,     3.53,2,    -0.08,2,    -0.01,2,     0.63,2,     -0.021,2,   1886.4,2,    456.7,18.2000008,2,    6.730,    0.101,2,   1.8740,2,    -4.80,     0.20,2,   -999.0,9, 6.45200014,2,0.800999999,2,     0.06,2,     0.01,2,     -999,9, 80,   3790,   2.2409
  32L919930718,    40,  1,      9,2,19930801, 80.0360,  -9.5080,  162,     10.0,   0.9670,  32.0180,2,-999.0000,9,  32.2640,    432.3,2,    446.9,2,     3.15,2,     0.02,2,     0.01,2,     0.75,2,-0.12900001,2,   2043.3,2,    480.4,18.2000008,2, -999.000, -999.000,9,-999.0000,9,  -999.00,  -999.00,9,   -999.0,9, 6.19799995,2,0.823000014,2,     0.08,2,     0.03,2,     -999,9, 80,   3789,   0.9666
  32L919930718,    40,  1,      8,2,19930801, 80.0360,  -9.5080,  162,     20.0,  -0.4330,  32.3650,2,-999.0000,9,  32.3460,    427.6,2,   -999.0,9,     4.99,2,     0.74,2,     0.04,2,     0.84,2,     -0.051,2,   2083.9,2,    630.7,18.2000008,2, -999.000, -999.000,9,-999.0000,9,  -999.00,  -999.00,9,   -999.0,9, 5.64599991,2,0.781000018,2,     0.34,2,     0.08,2,     -999,9, 80,   3788,  -0.4335
  32L919930718,    40,  1,      7,2,19930801, 80.0360,  -9.5080,  162,     30.0,  -1.6390,  32.3930,2,-999.0000,9,-999.0000,    380.1,2,    372.2,2,     7.21,2,     2.90,2,     0.06,2,     1.00,2,0.085999995,2,   -999.0,9,   -999.0,      -999,9, -999.000, -999.000,9,-999.0000,9,  -999.00,  -999.00,9,   -999.0,9, 10.5860004,2,      1.597,2,     0.66,2,     0.10,2,     -999,9, 80,   3787,  -1.6395
  32L919930718,    40,  1,      6,2,19930801, 80.0360,  -9.5080,  162,     35.0,  -1.6160,  32.4060,2,-999.0000,9,  32.3950,    374.0,2,    368.1,2,     7.71,2,     3.37,2,     0.05,2,     1.01,2,0.349000007,2,   2118.9,2,    753.7,18.2000008,2, -999.000, -999.000,9,-999.0000,9,  -999.00,  -999.00,9,   -999.0,9, 7.31899977,2, 1.10899997,2,     0.69,2,     0.13,2,     -999,9, 80,   3786,  -1.6166
  32L919930718,    40,  1,      5,2,19930801, 80.0360,  -9.5080,  162,     50.0,  -1.6890,  32.4280,2,-999.0000,9,-999.0000,    368.6,2,    364.6,2,     9.58,2,     3.76,2,     0.05,2,     1.04,2,-0.03100002,2,   -999.0,9,   -999.0,      -999,9, -999.000, -999.000,9,-999.0000,9,  -999.00,  -999.00,9,   -999.0,9, 6.27299976,2,0.828000009,2,     0.36,2,     0.19,2,     -999,9, 80,   3785,  -1.6898
  32L919930718,    40,  1,      4,2,19930801, 80.0360,  -9.5080,  162,     60.0,  -1.7340,  32.4430,2,-999.0000,9,  32.4190,    369.0,2,    363.2,2,    10.55,2,     3.95,2,     0.03,2,     1.05,2,     -0.002,2,   2120.8,2,    767.2,18.2000008,2, -999.000, -999.000,9,-999.0000,9,  -999.00,  -999.00,9,   -999.0,9, 4.64599991,2,0.563000023,2,     0.22,2,     0.12,2,     -999,9, 80,   3784,  -1.7350
  32L919930718,    40,  1,      3,2,19930801, 80.0360,  -9.5080,  162,     70.0,  -1.7300,  32.4730,2,-999.0000,9,-999.0000,    366.7,2,    357.8,2,    11.85,2,     4.15,2,     0.02,2,     0.98,2,     -0.021,2,   -999.0,9,   -999.0,      -999,9, -999.000, -999.000,9,-999.0000,9,  -999.00,  -999.00,9,   -999.0,9,  4.4460001,2,0.492000014,2,     0.14,2,     0.06,2,     -999,9, 80,   3783,  -1.7312
  32L919930718,    40,  1,      2,2,19930801, 80.0360,  -9.5080,  162,     80.0,  -1.6430,  32.6260,2,-999.0000,9,-999.0000,    363.4,2,    355.8,2,    11.73,2,     4.85,2,     0.01,2,     1.05,2,     -0.021,2,   -999.0,9,   -999.0,      -999,9, -999.000, -999.000,9,-999.0000,9,  -999.00,  -999.00,9,   -999.0,9, 2.07200003,2,0.294999987,2,     0.06,2,     0.04,2,     -999,9, 80,   3782,  -1.6444
  32L919930718,    40,  1,      1,2,19930801, 80.0360,  -9.5080,  162,    100.0,  -1.6110,  32.6670,2,-999.0000,9,  32.6440,    362.0,2,    355.3,2,    11.72,2,     5.12,2,     0.02,2,     1.05,2,     -0.002,2,   2123.0,2,    801.9,18.2000008,2, -999.000, -999.000,9,-999.0000,9,  -999.00,  -999.00,9,   -999.0,9, 1.00100005,2,0.177000001,2,     0.04,2,     0.04,2,     -999,9, 80,   3781,  -1.6128
  32L919930718,    40,  1,     12,2,19930801, 80.0360,  -9.5080,  162,    125.0,  -1.2300,  33.2250,2,  33.2260,2,-999.0000,    341.4,2,    331.0,2,    12.62,2,     7.57,2,     0.02,2,     1.01,2, 0.07599999,2,   -999.0,9,   -999.0,      -999,9,    3.000,    0.045,2,   1.8110,2,     1.30,     0.20,2,   -999.0,9, 1.88600004,2,0.201000005,2,     0.07,2,     0.04,2,     -999,9, 80,   3780,  -1.2329
  32L919930718,    40,  1,     11,2,19930801, 80.0360,  -9.5080,  162,    140.0,  -0.8020,  33.7310,2,-999.0000,9,  33.5610,    322.7,2,    316.1,2,    12.62,2,     9.08,2,     0.03,2,     1.00,2,0.104999989,2,   2136.2,2,    797.3,18.2000008,2, -999.000, -999.000,9,-999.0000,9,  -999.00,  -999.00,9,   -999.0,9, 3.38899994,2,0.239999995,2,     0.06,2,     0.04,2,     -999,9, 80,   3779,  -0.8059