BOTTLE,20090115PRINUNIVRMK
EXPOCODE,STNNBR,CASTNO,BTLNBR,BTLNBR_FLAG_W,DATE,LATITUDE,LONGITUDE,DEPTH,CTDPRS,CTDTMP,CTDSAL,CTDSAL_FLAG_W,SALNTY,SALNTY_FLAG_W,SOMSAL,CTDOXY,CTDOXY_FLAG_W,OXYGEN,OXYGEN_FLAG_W,SILCAT,SILCAT_FLAG_W,NITRAT,NITRAT_FLAG_W,NITRIT,NITRIT_FLAG_W,PHSPHT,PHSPHT_FLAG_W,AMMONI,AMMONI_FLAG_W,TCARBN,TCARBN_FLAG_W,FCO2,FCO2_TMP,FCO2_FLAG_W,TRITUM,TRITER,TRITUM_FLAG_W,HELIUM,HELIUM_FLAG_W,DELHE3,DELHER,DELHE3_FLAG_W,DELC14,DELC14_FLAG_W,POC,POC_FLAG_W,PON,PON_FLAG_W,CHLORA,CHLORA_FLAG_W,PHAEO,PHAEO_FLAG_W,BACT,BACT_FLAG_W,CTDNO,BNLID,THETA
,,,,,,,,METERS,DBARS,ITS-90,PSS-78,,PSS-78,,PSS-78,UMOL/KG,,UMOL/KG,,UMOL/KG,,UMOL/KG,,UMOL/KG,,UMOL/KG,,UMOL/KG,,UMOL/KG,,UATM,DEGC,,TU,TU,,NMOL/KG,,PERCNT,PERCNT,,O/OO,,ug/kg,,ug/kg,,UG/L,,UG/L,,CELLS/ML,,,,DEGC
  32L919930718,    71,  4,      5,2,19930807, 79.7000, -16.3440,  329,      2.0,  -0.9930,  31.8840,2,-999.0000,9,  31.8790,    382.7,2,   -999.0,9,  -999.00,9,  -999.00,9,  -999.00,9,  -999.00,9,       -999,9,   2070.9,2,    647.2,17.2000008,2, -999.000, -999.000,9,-999.0000,9,  -999.00,  -999.00,9,   -999.0,9,       -999,9,       -999,9,  -999.00,9,  -999.00,9,     -999,9,135,   4361,  -0.9930
  32L919930718,    71,  4,      6,2,19930807, 79.7000, -16.3440,  329,      2.0,  -1.0160,  31.8840,2,-999.0000,9,-999.0000,    382.4,2,   -999.0,9,     9.72,2,     1.39,2,     0.06,2,     0.90,2,0.024000004,2,   -999.0,9,   -999.0,      -999,9, -999.000, -999.000,9,-999.0000,9,  -999.00,  -999.00,9,   -999.0,9,       -999,9,       -999,9,  -999.00,9,  -999.00,9,     -999,9,135,   4362,  -1.0160
  32L919930718,    71,  4,      3,2,19930807, 79.7000, -16.3440,  329,     20.0,  -1.3700,  32.0400,2,-999.0000,9,  32.1710,    378.3,2,   -999.0,9,    11.46,2,     3.53,2,     0.05,2,     1.00,2, 0.00500001,2,   2102.9,2,    728.0,17.2000008,2, -999.000, -999.000,9,-999.0000,9,  -999.00,  -999.00,9,   -999.0,9,       -999,9,       -999,9,  -999.00,9,  -999.00,9,     -999,9,135,   4359,  -1.3704
  32L919930718,    71,  4,      4,2,19930807, 79.7000, -16.3440,  329,     20.0,  -1.3300,  32.0380,2,-999.0000,9,-999.0000,    384.6,2,   -999.0,9,  -999.00,9,  -999.00,9,  -999.00,9,  -999.00,9,       -999,9,   -999.0,9,   -999.0,      -999,9, -999.000, -999.000,9,-999.0000,9,  -999.00,  -999.00,9,   -999.0,9,       -999,9,       -999,9,  -999.00,9,  -999.00,9,     -999,9,135,   4360,  -1.3304
  32L919930718,    71,  4,      1,2,19930807, 79.7000, -16.3440,  329,     40.0,  -1.7190,  32.2820,2,-999.0000,9,  32.2670,    370.9,2,   -999.0,9,    11.62,2,     3.96,2,    -0.01,2,     1.01,2, 0.00500001,2,   2128.9,2,    741.6,17.2000008,2, -999.000, -999.000,9,-999.0000,9,  -999.00,  -999.00,9,   -999.0,9,       -999,9,       -999,9,  -999.00,9,  -999.00,9,     -999,9,135,   4357,  -1.7196
  32L919930718,    71,  4,      2,2,19930807, 79.7000, -16.3440,  329,     41.0,  -1.7190,  32.2810,2,-999.0000,9,-999.0000,    370.3,2,   -999.0,9,  -999.00,9,  -999.00,9,  -999.00,9,  -999.00,9,       -999,9,   -999.0,9,   -999.0,      -999,9, -999.000, -999.000,9,-999.0000,9,  -999.00,  -999.00,9,   -999.0,9,       -999,9,       -999,9,  -999.00,9,  -999.00,9,     -999,9,135,   4358,  -1.7197
  32L919930718,    71,  4,     11,2,19930807, 79.7000, -16.3440,  329,     60.0,  -1.7400,  32.3740,2,-999.0000,9,  32.3850,    372.0,2,   -999.0,9,    11.77,2,     4.13,2,     0.01,2,     1.03,2,0.015000001,2,   2115.3,2,    751.8,17.2000008,2, -999.000, -999.000,9,-999.0000,9,  -999.00,  -999.00,9,   -999.0,9,       -999,9,       -999,9,  -999.00,9,  -999.00,9,     -999,9,135,   4355,  -1.7410
  32L919930718,    71,  4,     12,2,19930807, 79.7000, -16.3440,  329,     60.0,  -1.7410,  32.3760,2,-999.0000,9,-999.0000,    371.8,2,   -999.0,9,  -999.00,9,  -999.00,9,  -999.00,9,  -999.00,9,       -999,9,   -999.0,9,   -999.0,      -999,9, -999.000, -999.000,9,-999.0000,9,  -999.00,  -999.00,9,   -999.0,9,       -999,9,       -999,9,  -999.00,9,  -999.00,9,     -999,9,135,   4356,  -1.7420
  32L919930718,    71,  4,      9,2,19930807, 79.7000, -16.3440,  329,     80.0,  -1.6550,  32.6090,2,-999.0000,9,  32.6330,    359.7,2,   -999.0,9,    12.74,2,     5.74,2,     0.02,2,     1.00,2, 0.00500001,2,   2124.6,2,    780.3,17.2000008,2, -999.000, -999.000,9,-999.0000,9,  -999.00,  -999.00,9,   -999.0,9,       -999,9,       -999,9,  -999.00,9,  -999.00,9,     -999,9,135,   4353,  -1.6564
  32L919930718,    71,  4,     10,2,19930807, 79.7000, -16.3440,  329,     81.0,  -1.6550,  32.6090,2,-999.0000,9,-999.0000,    360.5,2,   -999.0,9,  -999.00,9,  -999.00,9,  -999.00,9,  -999.00,9,       -999,9,   -999.0,9,   -999.0,      -999,9, -999.000, -999.000,9,-999.0000,9,  -999.00,  -999.00,9,   -999.0,9,       -999,9,       -999,9,  -999.00,9,  -999.00,9,     -999,9,135,   4354,  -1.6564
  32L919930718,    71,  4,      7,2,19930807, 79.7000, -16.3440,  329,    126.0,  -0.9560,  33.9490,2,-999.0000,9,-999.0000,    313.1,2,   -999.0,9,    12.76,2,    10.33,2,     0.02,2,     0.94,2, 0.00500001,2,   -999.0,9,   -999.0,      -999,9, -999.000, -999.000,9,-999.0000,9,  -999.00,  -999.00,9,   -999.0,9,       -999,9,       -999,9,  -999.00,9,  -999.00,9,     -999,9,135,   4351,  -0.9594
  32L919930718,    71,  4,      8,2,19930807, 79.7000, -16.3440,  329,    126.0,  -0.9500,  33.9670,2,-999.0000,9,  33.9190,    313.2,2,   -999.0,9,  -999.00,9,  -999.00,9,  -999.00,9,  -999.00,9,       -999,9,   2139.7,2,   -999.0,      -999,9, -999.000, -999.000,9,-999.0000,9,  -999.00,  -999.00,9,   -999.0,9,       -999,9,       -999,9,  -999.00,9,  -999.00,9,     -999,9,135,   4352,  -0.9534
  32L919930718,    72,  1,      6,2,19930809, 80.1060, -17.3350,  125,      2.0,   1.4150,  27.8990,2,  28.0140,2,  28.0860,    420.2,2,    430.0,2,     2.39,2,     0.20,2,    -0.01,2,     0.31,2,0.033000007,2,   1785.8,2,    343.1,18.1000004,2, -999.000, -999.000,9,-999.0000,9,  -999.00,  -999.00,9,      0.7,2, 17.3139992,2, 2.17700005,2,     0.47,2,     0.08,2,    64000,2,137,   4374,   1.4149
  32L919930718,    72,  1,      5,2,19930809, 80.1060, -17.3350,  125,      3.0,   1.3270,  28.1410,2,  28.9640,2,-999.0000,    428.4,2,    435.5,2,     2.94,2,     0.31,2,  -999.00,9,     0.40,2,0.043000005,2,   -999.0,9,   -999.0,      -999,9, -999.000, -999.000,9,-999.0000,9,  -999.00,  -999.00,9,      1.0,2, 18.3549995,2, 2.32800007,2,     0.46,2,     0.06,2,    83100,2,137,   4373,   1.3269
  32L919930718,    72,  1,      4,2,19930809, 80.1060, -17.3350,  125,      6.0,   0.6810,  29.8690,2,-999.0000,9,  30.5790,    422.5,2,    416.5,2,     6.05,2,     0.80,2,     0.00,2,     0.60,2,0.111000009,2,   1961.2,2,    505.0,18.1000004,2, -999.000, -999.000,9,-999.0000,9,  -999.00,  -999.00,9,      1.3,2, 19.4069996,2, 2.34599996,2,     0.80,2,     0.20,2,   135000,2,137,   4372,   0.6808
  32L919930718,    72,  1,      3,2,19930809, 80.1060, -17.3350,  125,      9.0,  -0.6340,  30.6500,2,-999.0000,9,  30.9650,    405.9,2,    405.0,2,     7.09,2,     0.63,2,     0.00,2,     0.69,2,0.033000007,2,   1999.8,2,    579.3,18.1000004,2, -999.000, -999.000,9,-999.0000,9,  -999.00,  -999.00,9,      1.6,2, 15.6630001,2, 2.34100008,2,     0.97,2,     0.24,2,   106000,2,137,   4371,  -0.6342
  32L919930718,    72,  1,      1,2,19930809, 80.1060, -17.3350,  125,     13.0,  -1.1250,  31.2340,2,-999.0000,9,-999.0000,    393.8,2,   -999.0,9,  -999.00,9,  -999.00,9,  -999.00,9,  -999.00,9,       -999,9,   -999.0,9,   -999.0,      -999,9, -999.000, -999.000,9,-999.0000,9,  -999.00,  -999.00,9,   -999.0,9,       -999,9,       -999,9,  -999.00,9,  -999.00,9,     -999,9,137,   4369,  -1.1252
  32L919930718,    72,  1,      2,2,19930809, 80.1060, -17.3350,  125,     13.0,  -1.0050,  31.2860,2,-999.0000,9,-999.0000,    392.9,2,    396.5,2,     9.12,2,     1.44,2,     0.05,2,     0.81,2,0.170000002,2,   -999.0,9,   -999.0,      -999,9, -999.000, -999.000,9,-999.0000,9,  -999.00,  -999.00,9,      1.0,2, 14.4540005,2, 2.27699995,2,     0.84,2,     0.25,2,   144000,2,137,   4370,  -1.0053
  32L919930718,    72,  1,     12,2,19930809, 80.1060, -17.3350,  125,     22.0,  -1.4730,  32.0300,2,-999.0000,9,-999.0000,    379.6,2,    377.0,2,    10.13,2,     3.63,2,     0.06,2,     0.97,2,0.062000006,2,   -999.0,9,   -999.0,      -999,9, -999.000, -999.000,9,-999.0000,9,  -999.00,  -999.00,9,      0.2,2, 4.65600014,2,0.741999984,2,     0.58,2,     0.10,2,    77100,2,137,   4368,  -1.4734
  32L919930718,    72,  1,     11,2,19930809, 80.1060, -17.3350,  125,     33.0,  -1.6870,  32.2220,2,-999.0000,9,  32.2250,    369.9,2,    368.6,2,    11.06,2,     4.69,2,     0.04,2,     1.00,2,0.023000002,2,   2114.1,2,    768.1,18.1000004,2, -999.000, -999.000,9,-999.0000,9,  -999.00,  -999.00,9,      0.0,2, 1.57799995,2,0.282000005,2,     0.07,2,     0.02,2,    68500,2,137,   4367,  -1.6875
  32L919930718,    72,  1,     10,2,19930809, 80.1060, -17.3350,  125,     45.0,  -1.6980,  32.2700,2,-999.0000,9,-999.0000,    369.4,2,    363.4,2,    11.47,2,     4.30,2,     0.02,2,     1.01,2,0.033000007,2,   -999.0,9,   -999.0,      -999,9, -999.000, -999.000,9,-999.0000,9,  -999.00,  -999.00,9,   -999.0,9, 1.93299997,2,0.166999996,2,     0.08,2,     0.02,2,    60400,2,137,   4366,  -1.6987
  32L919930718,    72,  1,      9,2,19930809, 80.1060, -17.3350,  125,     60.0,  -1.6940,  32.4170,2,-999.0000,9,  32.5820,    363.4,2,    354.4,2,    11.81,2,     4.73,2,     0.02,2,     1.01,2,0.052000009,2,   2117.9,2,    799.0,18.1000004,2, -999.000, -999.000,9,-999.0000,9,  -999.00,  -999.00,9,   -999.0,9, 2.27999997,2,0.193000004,2,     0.08,2,     0.02,2,    58200,2,137,   4365,  -1.6950
  32L919930718,    72,  1,      8,2,19930809, 80.1060, -17.3350,  125,     81.0,  -1.4790,  32.9140,2,  33.1780,2,  33.1380,    343.7,2,    368.4,2,    11.99,2,     7.11,2,     0.03,2,     0.99,2,0.023000002,2,   2124.7,2,    796.2,18.1000004,2, -999.000, -999.000,9,-999.0000,9,  -999.00,  -999.00,9,   -999.0,9, 2.25900006,2,0.159999996,2,     0.16,2,     0.02,2,    60200,2,137,   4364,  -1.4806
  32L919930718,    72,  1,      7,2,19930809, 80.1060, -17.3350,  125,    115.0,  -0.2940,  34.2550,2,-999.0000,9,  34.1180,    303.4,2,    298.5,2,    11.12,2,    11.56,2,     0.01,2,     0.95,2,0.013000011,2,   2126.4,2,    758.8,18.1000004,2, -999.000, -999.000,9,-999.0000,9,  -999.00,  -999.00,9,   -999.0,9, 1.57000005,2,0.131999999,2,     0.16,2,     0.05,2,    71700,2,137,   4363,  -0.2978
  32L919930718,    73,  1,      5,2,19930809, 80.0530, -17.0600,  116,      3.0,   1.5500,  25.2440,2,  29.1410,2,  25.5520,    392.6,2,    396.3,2,     2.87,2,     0.25,2,    -0.01,2,     0.43,2,0.015000001,2,   1678.2,2,    364.9,18.1000004,2, -999.000, -999.000,9,   1.8020,2,    -1.90,     0.20,2,   -999.0,9, 15.1759996,2, 1.74899995,2,     0.36,2,     0.04,2,     -999,9,138,   4385,   1.5499
  32L919930718,    73,  1,      4,2,19930809, 80.0530, -17.0600,  116,      5.0,   1.0030,  28.3100,2,-999.0000,9,  29.2600,    420.9,2,   -999.0,9,     3.09,2,     0.37,2,    -0.18,2,     0.54,2, 1.95600009,2,   1864.3,2,    412.4,18.1000004,2, -999.000, -999.000,9,-999.0000,9,  -999.00,  -999.00,9,   -999.0,9, 19.2759991,2,      2.079,2,     0.55,2,     0.04,2,     -999,9,138,   4384,   1.0028
  32L919930718,    73,  1,      3,2,19930809, 80.0530, -17.0600,  116,     10.0,  -0.7770,  31.0530,2,-999.0000,9,  31.7130,    411.0,2,    392.1,2,     8.28,2,     3.20,2,     0.03,2,     0.90,2,0.122000001,2,   2054.8,2,    654.7,18.1000004,2, -999.000, -999.000,9,-999.0000,9,  -999.00,  -999.00,9,   -999.0,9, 9.68099976,2, 1.30900002,2,     0.83,2,     0.07,2,     -999,9,138,   4383,  -0.7772
  32L919930718,    73,  1,      2,2,19930809, 80.0530, -17.0600,  116,     20.0,  -1.4590,  31.9130,2,-999.0000,9,-999.0000,    378.6,2,    376.1,2,    10.14,2,     5.09,2,     0.06,2,     1.00,2,0.083000004,2,   -999.0,9,   -999.0,      -999,9, -999.000, -999.000,9,-999.0000,9,  -999.00,  -999.00,9,   -999.0,9, 4.15899992,2,0.601000011,2,     0.32,2,     0.06,2,     -999,9,138,   4382,  -1.4593
  32L919930718,    73,  1,      1,2,19930809, 80.0530, -17.0600,  116,     34.0,  -1.6810,  32.1980,2,-999.0000,9,  32.2610,    364.9,2,    365.0,2,    11.29,2,     6.50,2,     0.05,2,     1.05,2,0.131999999,2,   2107.1,2,    792.8,18.1000004,2, -999.000, -999.000,9,-999.0000,9,  -999.00,  -999.00,9,   -999.0,9, 1.34899998,2,0.282999992,2,     0.14,2,     0.03,2,     -999,9,138,   4381,  -1.6815
  32L919930718,    73,  1,     12,2,19930809, 80.0530, -17.0600,  116,     50.0,  -1.7070,  32.4120,2,-999.0000,9,-999.0000,    359.5,2,    359.2,2,    11.70,2,     7.51,2,     0.01,2,     1.05,2, 0.00500001,2,   -999.0,9,   -999.0,      -999,9, -999.000, -999.000,9,-999.0000,9,  -999.00,  -999.00,9,   -999.0,9, 1.00100005,2,0.158000007,2,     0.09,2,     0.01,2,     -999,9,138,   4380,  -1.7078
  32L919930718,    73,  1,     11,2,19930809, 80.0530, -17.0600,  116,     59.0,  -1.6510,  32.5640,2,-999.0000,9,  32.5970,    354.1,2,    352.2,2,    12.00,2,     8.45,2,     0.02,2,     1.05,2,0.015000001,2,   2119.2,2,    812.9,18.1000004,2, -999.000, -999.000,9,-999.0000,9,  -999.00,  -999.00,9,   -999.0,9,0.661000013,2,0.185000002,2,     0.07,2,     0.00,2,     -999,9,138,   4379,  -1.6520
  32L919930718,    73,  1,     10,2,19930809, 80.0530, -17.0600,  116,     69.0,  -1.5860,  32.7310,2,-999.0000,9,-999.0000,    349.0,2,    342.6,2,    12.06,2,     9.78,2,     0.00,2,     1.04,2,0.093000002,2,   -999.0,9,   -999.0,      -999,9, -999.000, -999.000,9,-999.0000,9,  -999.00,  -999.00,9,   -999.0,9, 0.81400001,2,0.203999996,2,     0.03,2,     0.01,2,     -999,9,138,   4378,  -1.5873
  32L919930718,    73,  1,      9,2,19930809, 80.0530, -17.0600,  116,     80.0,  -1.2810,  33.2910,2,-999.0000,9,  33.2880,    331.0,2,    327.2,2,    11.99,2,    12.41,2,     0.03,2,     1.01,2,0.024000004,2,   2127.2,2,    806.1,18.1000004,2, -999.000, -999.000,9,-999.0000,9,  -999.00,  -999.00,9,   -999.0,9, 1.36500001,2,0.180999994,2,     0.02,2,     0.01,2,     -999,9,138,   4377,  -1.2828
  32L919930718,    73,  1,      8,2,19930809, 80.0530, -17.0600,  116,     90.0,  -0.9570,  33.6500,2,  33.7360,2,-999.0000,    318.3,2,    312.8,2,    11.55,2,    14.96,3,    -0.02,2,     1.00,2,0.054000005,2,   -999.0,9,   -999.0,      -999,9, -999.000, -999.000,9,-999.0000,9,  -999.00,  -999.00,9,   -999.0,9, 2.81599998,2,0.523000002,2,     0.05,2,     0.02,2,     -999,9,138,   4376,  -0.9593
  32L919930718,    73,  1,      7,2,19930809, 80.0530, -17.0600,  116,    106.0,  -0.5160,  34.0730,2,-999.0000,9,  33.9230,    306.8,2,    303.0,2,    11.07,2,  -999.00,9,     0.03,2,     0.99,2,0.015000001,2,   2121.7,2,    768.4,18.1000004,2,    3.650,    0.055,2,   1.8250,2,     5.40,     0.20,2,   -999.0,9, 2.40799999,2,0.368999988,2,     0.08,2,     0.03,2,     -999,9,138,   4375,  -0.5192
  32L919930718,    74,  1,      6,2,19930809, 79.9470, -16.6460,  135,      3.0,   0.7650,  27.4380,2,-999.0000,9,  28.1560,    397.5,2,    412.9,2,     4.61,2,     1.11,2,     0.01,2,     0.47,2,0.112000003,2,   1815.5,2,    393.3,17.2000008,2, -999.000, -999.000,9,-999.0000,9,  -999.00,  -999.00,9,   -999.0,9, 22.8360004,2, 2.69899988,2,     0.86,2,     0.08,2,     -999,9,139,   4398,   0.7649
  32L919930718,    74,  1,      5,2,19930809, 79.9470, -16.6460,  135,     10.0,  -0.1120,  31.4290,2,  31.7970,2,  31.7810,    365.4,2,    381.1,2,    10.60,2,     2.77,2,     0.10,2,     1.37,3,0.063000008,2,   2071.1,2,    672.4,17.2000008,2, -999.000, -999.000,9,-999.0000,9,  -999.00,  -999.00,9,   -999.0,9, 11.9259996,2, 1.98000002,2,     0.51,2,     0.05,2,     -999,9,139,   4397,  -0.1123
  32L919930718,    74,  1,      4,2,19930809, 79.9470, -16.6460,  135,     20.0,  -1.6110,  32.0500,2,-999.0000,9,-999.0000,    369.2,2,    375.2,2,    11.48,2,     3.80,2,     0.10,2,     1.45,3,0.034000009,2,   -999.0,9,   -999.0,      -999,9, -999.000, -999.000,9,-999.0000,9,  -999.00,  -999.00,9,   -999.0,9, 3.57599998,2,0.338999987,2,     0.22,2,     0.05,2,     -999,9,139,   4396,  -1.6113
  32L919930718,    74,  1,      3,2,19930809, 79.9470, -16.6460,  135,     35.0,  -1.7220,  32.2870,2,-999.0000,9,  32.3140,    363.8,2,    370.5,2,    11.78,2,     4.62,2,     0.01,2,     1.47,3,     -0.024,2,   2111.3,2,    748.0,17.2000008,2, -999.000, -999.000,9,-999.0000,9,  -999.00,  -999.00,9,   -999.0,9, 2.48099995,2,0.122000001,2,     0.05,2,     0.03,2,     -999,9,139,   4395,  -1.7226
  32L919930718,    74,  1,      2,2,19930809, 79.9470, -16.6460,  135,     51.0,  -1.7290,  32.4140,2,-999.0000,9,-999.0000,    358.1,2,    365.9,2,    12.10,2,     4.76,2,    -0.01,2,     1.49,3,     -0.044,2,   -999.0,9,   -999.0,      -999,9, -999.000, -999.000,9,-999.0000,9,  -999.00,  -999.00,9,   -999.0,9, 4.59800005,2,0.391000003,2,     0.07,2,     0.01,2,     -999,9,139,   4394,  -1.7298
  32L919930718,    74,  1,      1,2,19930809, 79.9470, -16.6460,  135,     60.0,  -1.7230,  32.4540,2,-999.0000,9,  32.4910,    355.9,2,    361.0,2,    12.34,2,     5.12,2,    -0.03,2,     1.48,3,     -0.005,2,   2119.3,2,    761.9,17.2000008,2, -999.000, -999.000,9,-999.0000,9,  -999.00,  -999.00,9,   -999.0,9, 2.27800012,2,0.134000003,2,     0.04,2,     0.04,2,     -999,9,139,   4393,  -1.7240
  32L919930718,    74,  1,     12,2,19930809, 79.9470, -16.6460,  135,     70.0,  -1.6790,  32.5720,2,-999.0000,9,-999.0000,    351.1,2,    348.1,2,    12.82,2,     6.18,2,     0.00,2,     1.46,3,     -0.044,2,   -999.0,9,   -999.0,      -999,9, -999.000, -999.000,9,-999.0000,9,  -999.00,  -999.00,9,   -999.0,9,  2.6329999,2,0.201000005,2,     0.02,2,     0.01,2,     -999,9,139,   4392,  -1.6802
  32L919930718,    74,  1,     11,2,19930809, 79.9470, -16.6460,  135,     80.0,  -1.6340,  32.7210,2,-999.0000,9,  32.7560,    343.8,2,    347.2,2,    13.02,2,     6.24,2,    -0.01,2,  -999.00,9,      0.044,2,   2127.3,2,    783.6,17.2000008,2, -999.000, -999.000,9,-999.0000,9,  -999.00,  -999.00,9,   -999.0,9, 2.80500007,2,0.156000003,2,     0.02,2,     0.01,2,     -999,9,139,   4391,  -1.6354
  32L919930718,    74,  1,     10,2,19930809, 79.9470, -16.6460,  135,     90.0,  -1.4230,  33.0990,2,-999.0000,9,-999.0000,    327.3,2,    331.8,2,    13.21,2,     8.25,2,     0.01,2,     0.92,2,0.024000004,2,   -999.0,9,   -999.0,      -999,9, -999.000, -999.000,9,-999.0000,9,  -999.00,  -999.00,9,   -999.0,9, 2.59899998,2,      0.191,2,     0.01,2,     0.01,2,     -999,9,139,   4390,  -1.4249
  32L919930718,    74,  1,      9,2,19930809, 79.9470, -16.6460,  135,    100.0,  -1.2600,  33.4550,2,-999.0000,9,  33.4450,    316.3,2,    322.8,2,    13.11,2,     9.07,2,     0.01,2,     0.92,2,0.024000004,2,   2132.0,2,    779.3,17.2000008,2, -999.000, -999.000,9,-999.0000,9,  -999.00,  -999.00,9,   -999.0,9, 1.75600004,2,      0.057,2,     0.01,2,     0.01,2,     -999,9,139,   4389,  -1.2623
  32L919930718,    74,  1,      8,2,19930809, 79.9470, -16.6460,  135,    110.0,  -0.8860,  33.7720,2,  33.8240,2,-999.0000,    306.2,2,    311.0,2,    12.49,2,    10.55,2,     0.02,2,     0.92,2,0.024000004,2,   -999.0,9,   -999.0,      -999,9, -999.000, -999.000,9,-999.0000,9,  -999.00,  -999.00,9,   -999.0,9, 2.55500007,2,0.164000005,2,     0.01,2,     0.01,2,     -999,9,139,   4388,  -0.8890
  32L919930718,    74,  1,      7,2,19930809, 79.9470, -16.6460,  135,    125.0,  -0.5750,  34.0990,2,-999.0000,9,  33.9760,    298.6,2,    303.2,2,    12.37,2,    11.09,2,     0.01,2,     0.92,2,0.024000004,2,   2132.7,2,    747.2,17.2000008,2, -999.000, -999.000,9,-999.0000,9,  -999.00,  -999.00,9,   -999.0,9, 2.27099991,2,0.034000002,2,     0.01,2,     0.01,2,     -999,9,139,   4387,  -0.5788