BOTTLE,20090115PRINUNIVRMK
EXPOCODE,STNNBR,CASTNO,BTLNBR,BTLNBR_FLAG_W,DATE,LATITUDE,LONGITUDE,DEPTH,CTDPRS,CTDTMP,CTDSAL,CTDSAL_FLAG_W,SALNTY,SALNTY_FLAG_W,SOMSAL,CTDOXY,CTDOXY_FLAG_W,OXYGEN,OXYGEN_FLAG_W,SILCAT,SILCAT_FLAG_W,NITRAT,NITRAT_FLAG_W,NITRIT,NITRIT_FLAG_W,PHSPHT,PHSPHT_FLAG_W,AMMONI,AMMONI_FLAG_W,TCARBN,TCARBN_FLAG_W,FCO2,FCO2_TMP,FCO2_FLAG_W,TRITUM,TRITER,TRITUM_FLAG_W,HELIUM,HELIUM_FLAG_W,DELHE3,DELHER,DELHE3_FLAG_W,DELC14,DELC14_FLAG_W,POC,POC_FLAG_W,PON,PON_FLAG_W,CHLORA,CHLORA_FLAG_W,PHAEO,PHAEO_FLAG_W,BACT,BACT_FLAG_W,CTDNO,BNLID,THETA
,,,,,,,,METERS,DBARS,ITS-90,PSS-78,,PSS-78,,PSS-78,UMOL/KG,,UMOL/KG,,UMOL/KG,,UMOL/KG,,UMOL/KG,,UMOL/KG,,UMOL/KG,,UMOL/KG,,UATM,DEGC,,TU,TU,,NMOL/KG,,PERCNT,PERCNT,,O/OO,,ug/kg,,ug/kg,,UG/L,,UG/L,,CELLS/ML,,,,DEGC
  32L919930718,    48,  2,     10,2,19930802, 80.7000,  -7.8640,  322,      2.0,  -1.0980,  30.2640,2,-999.0000,9,  30.3770,    400.4,2,    405.7,2,     7.97,2,  -999.00,9,  -999.00,9,     0.75,2,-0.03699999,2,   1979.6,2,    540.7,        17,2, -999.000, -999.000,9,-999.0000,9,  -999.00,  -999.00,9,   -999.0,9,       -999,9,       -999,9,  -999.00,9,  -999.00,9,     -999,9, 89,   3898,  -1.0980
  32L919930718,    48,  2,      9,2,19930802, 80.7000,  -7.8640,  322,      5.0,  -0.9720,  30.2610,2,-999.0000,9,-999.0000,    399.7,2,    403.1,2,     8.12,2,  -999.00,9,  -999.00,9,     0.78,2,     -0.007,2,   -999.0,9,   -999.0,      -999,9, -999.000, -999.000,9,-999.0000,9,  -999.00,  -999.00,9,   -999.0,9,       -999,9,       -999,9,  -999.00,9,  -999.00,9,     -999,9, 89,   3897,  -0.9721
  32L919930718,    48,  2,      8,2,19930802, 80.7000,  -7.8640,  322,     10.0,  -1.2240,  30.7400,2,-999.0000,9,  31.8720,    397.8,2,    375.3,2,     8.70,2,  -999.00,9,  -999.00,9,     0.94,2,0.178000003,2,   2076.3,2,    676.3,        17,2, -999.000, -999.000,9,-999.0000,9,  -999.00,  -999.00,9,   -999.0,9,       -999,9,       -999,9,  -999.00,9,  -999.00,9,     -999,9, 89,   3896,  -1.2242
  32L919930718,    48,  2,      7,2,19930802, 80.7000,  -7.8640,  322,     20.0,  -1.3410,  31.8530,2,-999.0000,9,  32.1640,    373.7,2,    362.1,2,    11.02,2,  -999.00,9,  -999.00,9,     0.99,2,0.393000007,2,   2101.2,2,    731.2,        17,2, -999.000, -999.000,9,-999.0000,9,  -999.00,  -999.00,9,   -999.0,9,       -999,9,       -999,9,  -999.00,9,  -999.00,9,     -999,9, 89,   3895,  -1.3414
  32L919930718,    48,  2,      6,2,19930802, 80.7000,  -7.8640,  322,     30.0,  -1.4420,  32.3960,2,-999.0000,9,-999.0000,    352.5,2,    350.3,2,    12.56,2,  -999.00,9,  -999.00,9,     0.97,2,0.246000007,2,   -999.0,9,   -999.0,      -999,9, -999.000, -999.000,9,-999.0000,9,  -999.00,  -999.00,9,   -999.0,9,       -999,9,       -999,9,  -999.00,9,  -999.00,9,     -999,9, 89,   3894,  -1.4426
  32L919930718,    48,  2,      5,2,19930802, 80.7000,  -7.8640,  322,     35.0,  -1.4320,  32.6400,2,-999.0000,9,  32.8940,    345.7,2,    344.1,2,    12.99,2,  -999.00,9,  -999.00,9,     0.97,2,0.138999999,2,   2142.7,2,    812.1,        17,2, -999.000, -999.000,9,-999.0000,9,  -999.00,  -999.00,9,   -999.0,9,       -999,9,       -999,9,  -999.00,9,  -999.00,9,     -999,9, 89,   3893,  -1.4327
  32L919930718,    48,  2,      4,2,19930802, 80.7000,  -7.8640,  322,     40.0,  -1.6040,  33.0400,2,-999.0000,9,-999.0000,    341.3,2,    330.9,2,    12.65,2,  -999.00,9,  -999.00,9,     0.93,2,     -0.056,2,   -999.0,9,   -999.0,      -999,9, -999.000, -999.000,9,-999.0000,9,  -999.00,  -999.00,9,   -999.0,9,       -999,9,       -999,9,  -999.00,9,  -999.00,9,     -999,9, 89,   3892,  -1.6047
  32L919930718,    48,  2,      3,2,19930802, 80.7000,  -7.8640,  322,     50.0,  -1.0890,  33.4840,2,-999.0000,9,-999.0000,    323.5,2,    324.1,2,    12.60,2,     8.60,2,     0.04,2,     0.98,2,0.149000004,2,   -999.0,9,   -999.0,      -999,9, -999.000, -999.000,9,-999.0000,9,  -999.00,  -999.00,9,   -999.0,9,       -999,9,       -999,9,  -999.00,9,  -999.00,9,     -999,9, 89,   3891,  -1.0902
  32L919930718,    48,  2,      2,2,19930802, 80.7000,  -7.8640,  322,     60.0,  -0.8720,  33.8200,2,-999.0000,9,  33.7970,    313.9,2,    313.6,2,    12.19,2,     9.68,2,     0.03,2,     0.95,2,0.031999998,2,   2141.7,2,    751.8,        17,2, -999.000, -999.000,9,-999.0000,9,  -999.00,  -999.00,9,   -999.0,9,       -999,9,       -999,9,  -999.00,9,  -999.00,9,     -999,9, 89,   3890,  -0.8736
  32L919930718,    48,  2,      1,2,19930802, 80.7000,  -7.8640,  322,     70.0,  -1.0060,  34.0640,2,-999.0000,9,-999.0000,    311.8,2,    311.3,2,    10.64,2,     9.65,2,     0.02,2,     0.89,2,0.080000006,2,   -999.0,9,   -999.0,      -999,9, -999.000, -999.000,9,-999.0000,9,  -999.00,  -999.00,9,   -999.0,9,       -999,9,       -999,9,  -999.00,9,  -999.00,9,     -999,9, 89,   3889,  -1.0078
  32L919930718,    48,  2,     12,2,19930802, 80.7000,  -7.8640,  322,     80.0,  -0.6370,  34.3010,2,-999.0000,9,-999.0000,    304.8,2,   -999.0,9,     9.78,2,    10.49,2,     0.01,2,     0.89,2,0.051000003,2,   -999.0,9,   -999.0,      -999,9, -999.000, -999.000,9,-999.0000,9,  -999.00,  -999.00,9,   -999.0,9,       -999,9,       -999,9,  -999.00,9,  -999.00,9,     -999,9, 89,   3888,  -0.6394
  32L919930718,    48,  2,     11,2,19930802, 80.7000,  -7.8640,  322,     87.0,  -0.6340,  34.3080,2,-999.0000,9,  34.2650,    306.5,2,    303.0,2,     9.69,2,    10.49,2,     0.04,2,     0.89,2,0.090000004,2,   2143.6,2,    720.2,        17,2, -999.000, -999.000,9,-999.0000,9,  -999.00,  -999.00,9,   -999.0,9,       -999,9,       -999,9,  -999.00,9,  -999.00,9,     -999,9, 89,   3887,  -0.6366
  32L919930718,    49,  1,     10,2,19930802, 80.7280,  -7.4790,  569,      2.0,  -0.5810,  30.1870,2,  30.3100,2,  30.3030,    391.2,2,    395.6,2,     9.75,2,     0.13,2,     0.04,2,     0.73,2,0.022000015,2,   1979.8,2,    592.1,18.2000008,2, -999.000, -999.000,9,-999.0000,9,  -999.00,  -999.00,9,   -999.0,9, 13.2740002,2, 1.70700002,2,     0.88,2,     0.13,2,     -999,9, 90,   3910,  -0.5810
  32L919930718,    49,  1,      9,2,19930802, 80.7280,  -7.4790,  569,     10.0,  -1.2960,  30.6500,2,-999.0000,9,  30.7600,    389.4,2,    391.4,2,    11.40,2,     0.80,2,     0.05,2,     0.80,2,     -0.046,2,   2017.5,2,    655.3,18.2000008,2, -999.000, -999.000,9,-999.0000,9,  -999.00,  -999.00,9,   -999.0,9, 10.5950003,2, 1.85800004,2,     0.58,2,     0.10,2,     -999,9, 90,   3909,  -1.2962
  32L919930718,    49,  1,      8,2,19930802, 80.7280,  -7.4790,  569,     20.0,  -1.3910,  31.4410,2,-999.0000,9,-999.0000,    383.2,2,    385.2,2,    11.02,2,     1.82,2,     0.06,2,     0.88,2,-0.00700003,2,   -999.0,9,   -999.0,      -999,9, -999.000, -999.000,9,-999.0000,9,  -999.00,  -999.00,9,   -999.0,9,     10.085,2, 1.52999997,2,     1.53,2,     0.23,2,     -999,9, 90,   3908,  -1.3913
  32L919930718,    49,  1,      7,2,19930802, 80.7280,  -7.4790,  569,     35.0,  -1.3440,  32.1250,2,-999.0000,9,  32.3280,    368.2,2,    359.5,2,    11.81,2,     4.91,2,     0.09,2,     0.99,2,0.138999999,2,   2108.6,2,   -999.0,      -999,9, -999.000, -999.000,9,-999.0000,9,  -999.00,  -999.00,9,   -999.0,9, 3.92799997,2,0.416999996,2,     0.68,2,     0.39,2,     -999,9, 90,   3907,  -1.3447
  32L919930718,    49,  1,      6,2,19930802, 80.7280,  -7.4790,  569,     50.0,  -1.6560,  33.0660,2,-999.0000,9,-999.0000,    345.5,2,    343.6,2,    10.38,2,     6.64,2,  -999.00,9,     0.80,2,0.002000004,2,   -999.0,9,   -999.0,      -999,9, -999.000, -999.000,9,-999.0000,9,  -999.00,  -999.00,9,   -999.0,9,       -999,9,0.090000004,2,     0.04,2,     0.07,2,     -999,9, 90,   3906,  -1.6569
  32L919930718,    49,  1,      5,2,19930802, 80.7280,  -7.4790,  569,     60.0,  -1.5690,  33.5270,2,-999.0000,9,  33.5960,    342.5,2,    336.8,2,     9.19,2,     7.22,2,     0.05,2,     0.77,2,0.050999999,2,   2153.2,2,   -999.0,      -999,9, -999.000, -999.000,9,-999.0000,9,  -999.00,  -999.00,9,   -999.0,9, 3.15700006,2,0.108999997,2,     0.03,2,     0.04,2,     -999,9, 90,   3905,  -1.5702
  32L919930718,    49,  1,      4,2,19930802, 80.7280,  -7.4790,  569,     80.0,  -0.8630,  33.9720,2,-999.0000,9,-999.0000,    311.2,2,    303.1,2,    10.49,2,    10.58,2,     0.04,2,     0.90,2,     -0.037,2,   -999.0,9,   -999.0,      -999,9, -999.000, -999.000,9,-999.0000,9,  -999.00,  -999.00,9,   -999.0,9, 2.63700008,2,0.104999997,2,     0.02,2,     0.03,2,     -999,9, 90,   3904,  -0.8652
  32L919930718,    49,  1,      3,2,19930802, 80.7280,  -7.4790,  569,    100.0,  -0.7380,  34.3020,2,-999.0000,9,  34.2480,    306.2,2,    300.4,2,     9.81,2,    10.58,2,     0.05,2,     0.88,2,-0.02700001,2,   2143.8,2,   -999.0,      -999,9, -999.000, -999.000,9,-999.0000,9,  -999.00,  -999.00,9,   -999.0,9,0.980000019,2,0.048999999,2,     0.01,2,     0.02,2,     -999,9, 90,   3903,  -0.7409
  32L919930718,    49,  1,      2,2,19930802, 80.7280,  -7.4790,  569,    125.0,  -0.2260,  34.5460,2,-999.0000,9,-999.0000,    300.6,2,    295.8,2,  -999.00,9,    11.80,2,     0.01,2,     0.89,2,0.099999994,2,   -999.0,9,   -999.0,      -999,9, -999.000, -999.000,9,-999.0000,9,  -999.00,  -999.00,9,   -999.0,9, 7.00899982,2,0.178000003,2,     0.01,2,     0.02,2,     -999,9, 90,   3902,  -0.2303
  32L919930718,    49,  1,      1,2,19930802, 80.7280,  -7.4790,  569,    150.0,   0.2090,  34.6800,2,-999.0000,9,  34.6590,    296.9,2,    290.5,2,  -999.00,9,    12.60,2,     0.02,2,     0.94,2,0.099999994,2,   2145.7,2,   -999.0,      -999,9, -999.000, -999.000,9,-999.0000,9,  -999.00,  -999.00,9,   -999.0,9, 2.68899989,2,0.043000001,2,     0.01,2,     0.02,2,     -999,9, 90,   3901,   0.2032
  32L919930718,    49,  1,     12,2,19930802, 80.7280,  -7.4790,  569,    175.0,   1.1070,  34.8440,2,  34.9770,2,  34.8040,    301.7,2,    298.9,2,  -999.00,9,    12.40,2,     0.00,2,     0.91,2,0.138999999,2,   2141.0,2,    692.9,18.2000008,2, -999.000, -999.000,9,-999.0000,9,  -999.00,  -999.00,9,   -999.0,9, 0.93900001,2,0.035999998,2,     0.00,2,     0.02,2,     -999,9, 90,   3900,   1.0988
  32L919930718,    49,  1,     11,2,19930802, 80.7280,  -7.4790,  569,    212.0,   1.1280,  34.8560,2,-999.0000,9,  34.8260,    302.8,2,    298.6,2,  -999.00,9,    12.45,2,     0.03,2,     0.92,2,0.120000005,2,   2141.1,2,    697.4,18.2000008,2, -999.000, -999.000,9,-999.0000,9,  -999.00,  -999.00,9,   -999.0,9, 2.39199996,2,0.052000001,2,     0.01,2,     0.02,2,     -999,9, 90,   3899,   1.1181
  32L919930718,    50,  1,     10,2,19930802, 80.7540,  -7.1040,  569,      2.0,  -0.8590,  30.0120,2,  30.2410,2,  30.2130,    384.3,2,    389.1,2,    10.47,2,     0.68,2,     0.01,2,     0.83,2,-0.04399997,2,   1979.6,2,    607.3,18.2000008,2,    6.600,    0.099,2,   1.8250,2,    -0.80,     0.20,2,   -999.0,9,       -999,9,       -999,9,  -999.00,9,  -999.00,9,     -999,9, 91,   3922,  -0.8590
  32L919930718,    50,  1,      9,2,19930802, 80.7540,  -7.1040,  569,     10.0,  -1.3570,  30.6840,2,-999.0000,9,-999.0000,    380.1,2,    384.8,2,    12.26,2,     1.82,2,     0.05,2,     0.91,2,0.063000023,2,   -999.0,9,   -999.0,      -999,9,    6.650,    0.100,2,   1.8520,2,     1.70,     0.20,2,   -999.0,9,       -999,9,       -999,9,  -999.00,9,  -999.00,9,     -999,9, 91,   3921,  -1.3572
  32L919930718,    50,  1,      8,2,19930802, 80.7540,  -7.1040,  569,    100.0,  -1.6700,  33.9220,2,-999.0000,9,  33.9320,    327.4,2,    324.1,2,     8.97,2,     8.67,2,     0.01,2,     0.80,2,-0.04399997,2,   2154.1,2,    815.3,18.2000008,2, -999.000, -999.000,9,-999.0000,9,  -999.00,  -999.00,9,   -999.0,9,       -999,9,       -999,9,  -999.00,9,  -999.00,9,     -999,9, 91,   3920,  -1.6720
  32L919930718,    50,  1,      7,2,19930802, 80.7540,  -7.1040,  569,    124.0,  -1.3240,  34.1670,2,-999.0000,9,-999.0000,    315.8,2,    307.1,2,     8.14,2,    10.27,2,     0.03,2,     0.83,2,     -0.005,2,   -999.0,9,   -999.0,      -999,9, -999.000, -999.000,9,-999.0000,9,  -999.00,  -999.00,9,   -999.0,9,       -999,9,       -999,9,  -999.00,9,  -999.00,9,     -999,9, 91,   3919,  -1.3270
  32L919930718,    50,  1,      6,2,19930802, 80.7540,  -7.1040,  569,    149.0,  -0.7110,  34.3950,2,-999.0000,9,  34.4170,    306.1,2,    304.5,2,     8.11,2,    11.02,2,     0.03,2,     0.86,2, 0.05400002,2,   2143.5,2,    638.6,18.2000008,2, -999.000, -999.000,9,-999.0000,9,  -999.00,  -999.00,9,   -999.0,9,       -999,9,       -999,9,  -999.00,9,  -999.00,9,     -999,9, 91,   3918,  -0.7155
  32L919930718,    50,  1,      5,2,19930802, 80.7540,  -7.1040,  569,    200.0,   1.3580,  34.8080,2,-999.0000,9,  34.7710,    296.5,2,    295.7,2,     8.56,2,    12.70,2,     0.02,2,     0.95,2,0.015000045,2,   2142.2,2,    693.7,18.2000008,2, -999.000, -999.000,9,-999.0000,9,  -999.00,  -999.00,9,   -999.0,9,       -999,9,       -999,9,  -999.00,9,  -999.00,9,     -999,9, 91,   3917,   1.3483
  32L919930718,    50,  1,      4,2,19930802, 80.7540,  -7.1040,  569,    250.0,   1.2870,  34.8790,2,-999.0000,9,-999.0000,    300.6,2,   -999.0,9,  -999.00,9,  -999.00,9,  -999.00,9,  -999.00,9,       -999,9,   -999.0,9,   -999.0,      -999,9, -999.000, -999.000,9,-999.0000,9,  -999.00,  -999.00,9,   -999.0,9,       -999,9,       -999,9,  -999.00,9,  -999.00,9,     -999,9, 91,   3916,   1.2748
  32L919930718,    50,  1,      3,2,19930802, 80.7540,  -7.1040,  569,    300.0,   1.2300,  34.9010,2,-999.0000,9,  34.8610,    301.4,2,    306.1,2,     7.15,2,    13.09,2,     0.02,2,     0.94,2,0.024000049,2,   2140.8,2,    675.6,18.2000008,2, -999.000, -999.000,9,-999.0000,9,  -999.00,  -999.00,9,   -999.0,9,       -999,9,       -999,9,  -999.00,9,  -999.00,9,     -999,9, 91,   3915,   1.2154
  32L919930718,    50,  1,      2,2,19930802, 80.7540,  -7.1040,  569,    350.0,   1.0590,  34.8950,2,-999.0000,9,-999.0000,    301.7,2,    303.1,2,     7.38,2,    12.86,2,     0.02,2,     0.94,2,-0.01499999,2,   -999.0,9,   -999.0,      -999,9, -999.000, -999.000,9,-999.0000,9,  -999.00,  -999.00,9,   -999.0,9,       -999,9,       -999,9,  -999.00,9,  -999.00,9,     -999,9, 91,   3914,   1.0423
  32L919930718,    50,  1,      1,2,19930802, 80.7540,  -7.1040,  569,    401.0,   0.6410,  34.8780,2,-999.0000,9,  34.8400,    296.4,2,    295.6,2,     8.41,2,    13.39,2,     0.00,2,     0.97,2,     -0.005,2,   2142.6,2,    694.1,18.2000008,2, -999.000, -999.000,9,-999.0000,9,  -999.00,  -999.00,9,   -999.0,9,       -999,9,       -999,9,  -999.00,9,  -999.00,9,     -999,9, 91,   3913,   0.6231
  32L919930718,    50,  1,     12,2,19930802, 80.7540,  -7.1040,  569,    450.0,   0.5120,  34.8750,2,  34.8850,2,-999.0000,    296.7,2,    298.8,2,     8.74,2,    13.04,2,     0.00,2,     0.96,2,0.034000039,2,   -999.0,9,   -999.0,      -999,9,    2.250,    0.034,2,   1.8160,2,     3.70,     0.20,2,   -999.0,9,       -999,9,       -999,9,  -999.00,9,  -999.00,9,     -999,9, 91,   3912,   0.4922
  32L919930718,    50,  1,     11,2,19930802, 80.7540,  -7.1040,  569,    496.0,   0.4290,  34.8770,2,-999.0000,9,  34.8420,    299.8,2,    296.5,2,     8.68,2,    11.75,2,  -999.00,9,     0.97,2,0.083000004,2,   2142.8,2,    700.1,18.2000008,2, -999.000, -999.000,9,-999.0000,9,  -999.00,  -999.00,9,   -999.0,9,       -999,9,       -999,9,  -999.00,9,  -999.00,9,     -999,9, 91,   3911,   0.4073
  32L919930718,    50,  2,      9,2,19930802, 80.7540,  -7.1040,  569,      2.0,  -0.8030,  30.2510,2,  30.2910,2,-999.0000,    391.4,2,    408.1,2,     9.22,2,     0.08,2,     0.00,2,     0.78,2,0.092999995,2,   -999.0,9,   -999.0,      -999,9, -999.000, -999.000,9,-999.0000,9,  -999.00,  -999.00,9,      2.0,2,     10.493,2, 1.37600005,2,     0.90,2,     0.25,2,   225000,2, 92,   3933,  -0.8030
  32L919930718,    50,  2,      8,2,19930802, 80.7540,  -7.1040,  569,      5.0,  -1.1010,  30.5870,2,-999.0000,9,-999.0000,    395.1,2,    404.3,2,     9.26,2,     0.08,2,     0.00,2,     0.78,2,0.102000028,2,   -999.0,9,   -999.0,      -999,9, -999.000, -999.000,9,-999.0000,9,  -999.00,  -999.00,9,      2.9,2, 15.2869997,2, 1.77199996,2,     0.91,2,     0.24,2,   173000,2, 92,   3932,  -1.1011
  32L919930718,    50,  2,      7,2,19930802, 80.7540,  -7.1040,  569,      9.0,  -1.2260,  30.7250,2,-999.0000,9,-999.0000,    396.0,2,    408.4,2,     9.36,2,     0.06,2,     0.02,2,     0.79,2,0.083000004,2,   -999.0,9,   -999.0,      -999,9, -999.000, -999.000,9,-999.0000,9,  -999.00,  -999.00,9,      1.7,2, 13.7790003,2, 1.87199998,2,     0.97,2,     0.23,2,   208000,2, 92,   3931,  -1.2262
  32L919930718,    50,  2,      6,2,19930802, 80.7540,  -7.1040,  569,     13.0,  -1.2170,  30.7230,2,-999.0000,9,-999.0000,    395.0,2,    403.6,2,     9.72,2,     0.57,2,     0.03,2,     0.82,2,0.180000037,2,   -999.0,9,   -999.0,      -999,9, -999.000, -999.000,9,-999.0000,9,  -999.00,  -999.00,9,      2.7,2, 10.4729996,2, 1.58299994,2,     0.62,2,    -0.05,2,   142000,2, 92,   3930,  -1.2172
  32L919930718,    50,  2,      5,2,19930802, 80.7540,  -7.1040,  569,     21.0,  -1.3830,  31.4730,2,-999.0000,9,  31.6910,    384.3,2,    389.1,2,    10.26,2,     2.17,2,     0.03,2,     1.09,2, 14.5120001,2,   2068.5,2,    715.2,18.2000008,2, -999.000, -999.000,9,-999.0000,9,  -999.00,  -999.00,9,      1.6,2,     11.967,2, 1.68900001,2,     1.25,2,     0.19,2,   172000,2, 92,   3929,  -1.3834
  32L919930718,    50,  2,      4,2,19930802, 80.7540,  -7.1040,  569,     22.0,  -1.3310,  31.4960,2,-999.0000,9,-999.0000,    391.1,2,    359.8,2,    13.05,2,     5.39,2,     0.06,2,     1.02,2,0.112000018,2,   -999.0,9,   -999.0,      -999,9, -999.000, -999.000,9,-999.0000,9,  -999.00,  -999.00,9,   -999.0,9,       -999,9,       -999,9,     0.51,2,     0.12,2,     -999,9, 92,   3928,  -1.3314
  32L919930718,    50,  2,      3,2,19930802, 80.7540,  -7.1040,  569,     33.0,  -1.5720,  32.2280,2,-999.0000,9,  32.4150,    353.7,2,    352.8,2,    15.62,2,     6.37,2,     0.06,2,     1.09,2,0.034000039,2,   2130.7,2,    904.7,18.2000008,2, -999.000, -999.000,9,-999.0000,9,  -999.00,  -999.00,9,      0.0,2,       -999,9,0.067000002,2,     0.23,2,     0.07,2,    20900,2, 92,   3927,  -1.5726
  32L919930718,    50,  2,      2,2,19930802, 80.7540,  -7.1040,  569,     49.0,  -1.7150,  33.1190,2,-999.0000,9,  33.0840,    344.5,2,    360.0,2,    13.01,2,     7.09,2,     0.03,2,     0.96,2,-0.04399997,2,   2156.3,2,    901.9,18.2000008,2, -999.000, -999.000,9,-999.0000,9,  -999.00,  -999.00,9,      0.0,2,0.721000016,2,0.104999997,2,  -999.00,9,     0.14,2,    32100,2, 92,   3926,  -1.7159
  32L919930718,    50,  2,      1,2,19930802, 80.7540,  -7.1040,  569,    250.0,   1.4460,  34.8860,2,-999.0000,9,  34.8620,    297.3,2,    302.6,2,     7.24,2,    12.96,2,     0.04,2,     0.95,2,-0.06299996,2,   2139.3,2,    688.0,18.2000008,2, -999.000, -999.000,9,-999.0000,9,  -999.00,  -999.00,9,   -999.0,9, 3.30699992,2,      0.213,2,     0.01,2,     0.02,2,    12300,2, 92,   3925,   1.4335
  32L919930718,    50,  2,     12,2,19930802, 80.7540,  -7.1040,  569,    451.0,   0.5750,  34.8750,2,  34.8860,2,-999.0000,    294.1,2,    296.1,2,     8.60,2,    13.58,2,     0.01,2,     1.00,2,-0.03399998,2,   -999.0,9,   -999.0,      -999,9, -999.000, -999.000,9,-999.0000,9,  -999.00,  -999.00,9,   -999.0,9,       -999,9,       -999,9,     0.00,2,     0.01,2,    11700,2, 92,   3924,   0.5549
  32L919930718,    50,  2,     11,2,19930802, 80.7540,  -7.1040,  569,    483.0,   0.4810,  34.8760,2,-999.0000,9,-999.0000,    296.5,2,    296.8,2,     8.57,2,    13.90,2,     0.01,2,     1.00,2,0.004999995,2,   -999.0,9,   -999.0,      -999,9, -999.000, -999.000,9,-999.0000,9,  -999.00,  -999.00,9,   -999.0,9, 1.18400002,2,0.067000002,2,     0.01,2,     0.01,2,     5810,2, 92,   3923,   0.4598