BOTTLE,20090115PRINUNIVRMK
EXPOCODE,STNNBR,CASTNO,BTLNBR,BTLNBR_FLAG_W,DATE,LATITUDE,LONGITUDE,DEPTH,CTDPRS,CTDTMP,CTDSAL,CTDSAL_FLAG_W,SALNTY,SALNTY_FLAG_W,SOMSAL,CTDOXY,CTDOXY_FLAG_W,OXYGEN,OXYGEN_FLAG_W,SILCAT,SILCAT_FLAG_W,NITRAT,NITRAT_FLAG_W,NITRIT,NITRIT_FLAG_W,PHSPHT,PHSPHT_FLAG_W,AMMONI,AMMONI_FLAG_W,TCARBN,TCARBN_FLAG_W,FCO2,FCO2_TMP,FCO2_FLAG_W,TRITUM,TRITER,TRITUM_FLAG_W,HELIUM,HELIUM_FLAG_W,DELHE3,DELHER,DELHE3_FLAG_W,DELC14,DELC14_FLAG_W,POC,POC_FLAG_W,PON,PON_FLAG_W,CHLORA,CHLORA_FLAG_W,PHAEO,PHAEO_FLAG_W,BACT,BACT_FLAG_W,CTDNO,BNLID,THETA
,,,,,,,,METERS,DBARS,ITS-90,PSS-78,,PSS-78,,PSS-78,UMOL/KG,,UMOL/KG,,UMOL/KG,,UMOL/KG,,UMOL/KG,,UMOL/KG,,UMOL/KG,,UMOL/KG,,UATM,DEGC,,TU,TU,,NMOL/KG,,PERCNT,PERCNT,,O/OO,,ug/kg,,ug/kg,,UG/L,,UG/L,,CELLS/ML,,,,DEGC
  32L919930718,    37, 11,      8,2,19930728, 80.4470, -13.3130,  308,      2.0,   0.1370,  31.7860,2,  31.7880,2,  31.7560,    377.0,2,    385.6,2,     9.76,2,     1.64,2,     0.08,2,     0.84,2,0.045000002,2,   2067.0,2,    669.5,18.1000004,2, -999.000, -999.000,9,-999.0000,9,  -999.00,  -999.00,9,      4.2,2, 12.3020001,2, 1.69400001,2,     0.63,2,     0.20,2,   145000,2, 55,   3524,   0.1369
  32L919930718,    37, 11,      7,2,19930728, 80.4470, -13.3130,  308,      3.0,   0.1420,  31.8200,2,-999.0000,9,-999.0000,    377.0,2,    385.4,2,     9.90,2,     1.39,2,     0.03,2,     0.86,2,0.064999998,2,   -999.0,9,   -999.0,      -999,9, -999.000, -999.000,9,-999.0000,9,  -999.00,  -999.00,9,      4.6,2, 10.7670002,2, 1.90499997,2,     0.63,2,     0.20,2,   156000,2, 55,   3523,   0.1419
  32L919930718,    37, 11,      6,2,19930728, 80.4470, -13.3130,  308,      5.0,  -0.4010,  32.1040,2,-999.0000,9,  32.0260,    374.6,2,    383.7,2,    10.60,2,     2.50,2,     0.09,2,     0.88,2,0.113000005,2,   2086.7,2,    701.1,18.1000004,2, -999.000, -999.000,9,-999.0000,9,  -999.00,  -999.00,9,      3.0,2, 9.04800034,2, 1.66999996,2,     0.57,2,     0.06,2,   145000,2, 55,   3522,  -0.4011
  32L919930718,    37, 11,      5,2,19930728, 80.4470, -13.3130,  308,      8.0,  -0.7770,  32.1190,2,-999.0000,9,  32.0900,    372.0,2,    378.5,2,    10.84,2,     2.90,2,     0.09,2,     0.92,2,0.055000007,2,   2093.5,2,    717.5,18.1000004,2, -999.000, -999.000,9,-999.0000,9,  -999.00,  -999.00,9,      2.3,2, 6.13600016,2, 1.06700003,2,  -999.00,9,  -999.00,9,   135000,2, 55,   3521,  -0.7772
  32L919930718,    37, 11,      4,2,19930728, 80.4470, -13.3130,  308,     13.0,  -1.2780,  32.1570,2,-999.0000,9,  32.1780,    370.0,2,    374.8,2,    10.87,2,     3.46,2,     0.10,2,     0.95,2,0.016000003,2,   2102.1,2,    728.2,18.1000004,2, -999.000, -999.000,9,-999.0000,9,  -999.00,  -999.00,9,      1.0,2, 4.79099989,2,0.657999992,2,     0.32,2,     0.19,2,   112000,2, 55,   3520,  -1.2783
  32L919930718,    37, 11,      3,2,19930728, 80.4470, -13.3130,  308,     20.0,  -1.5720,  32.2430,2,-999.0000,9,  32.2420,    370.0,2,    376.5,2,    10.65,2,     3.37,2,     0.08,2,     0.95,2,0.016000003,2,   2105.8,2,    726.8,18.1000004,2, -999.000, -999.000,9,-999.0000,9,  -999.00,  -999.00,9,      0.4,2, 4.99700022,2,0.656000018,2,     0.74,2,     0.10,2,   114000,2, 55,   3519,  -1.5723
  32L919930718,    37, 11,      2,2,19930728, 80.4470, -13.3130,  308,     30.0,  -1.4540,  32.3440,2,-999.0000,9,-999.0000,    366.5,2,    369.6,2,    11.02,2,     3.44,2,     0.02,2,     1.00,2,-0.00400001,2,   -999.0,9,   -999.0,      -999,9, -999.000, -999.000,9,-999.0000,9,  -999.00,  -999.00,9,      0.0,2, 1.92799997,2,0.250999987,2,     0.27,2,     0.07,2,   102000,2, 55,   3518,  -1.4546
  32L919930718,    37, 11,      1,2,19930728, 80.4470, -13.3130,  308,     60.0,  -1.6860,  32.4260,2,-999.0000,9,  32.3550,    364.5,2,    368.6,2,    10.83,2,     3.98,2,     0.03,2,     1.02,2,-0.01300001,2,   2116.6,2,    761.8,18.1000004,2, -999.000, -999.000,9,-999.0000,9,  -999.00,  -999.00,9,   -999.0,9, 2.42400002,2,0.286000013,2,     0.27,2,     0.08,2,   102000,2, 55,   3517,  -1.6870
  32L919930718,    37, 11,     12,2,19930728, 80.4470, -13.3130,  308,     70.0,  -1.7400,  32.4360,2,-999.0000,9,-999.0000,    363.3,2,    366.4,2,    11.09,2,     3.63,2,     0.01,2,     1.02,2,-0.01300001,2,   -999.0,9,   -999.0,      -999,9, -999.000, -999.000,9,-999.0000,9,  -999.00,  -999.00,9,   -999.0,9,0.866999984,2,      0.114,2,     0.15,2,     0.03,2,    69000,2, 55,   3516,  -1.7411
  32L919930718,    37, 11,     11,2,19930728, 80.4470, -13.3130,  308,     80.0,  -1.7180,  32.4920,2,-999.0000,9,  32.4230,    359.2,2,    362.3,2,    11.43,2,     4.37,2,     0.01,2,     1.03,2,     -0.023,2,   2120.8,2,    778.5,18.1000004,2, -999.000, -999.000,9,-999.0000,9,  -999.00,  -999.00,9,   -999.0,9,      1.704,2,0.101000004,2,     0.07,2,     0.02,2,    70100,2, 55,   3515,  -1.7193
  32L919930718,    37, 11,     10,2,19930728, 80.4470, -13.3130,  308,    100.0,  -1.6200,  32.7380,2,  32.7630,2,  32.6880,    342.4,2,    346.1,2,    12.50,2,     5.76,2,    -0.01,2,     1.02,2,0.113000005,2,   2130.5,2,    815.0,18.1000004,2, -999.000, -999.000,9,-999.0000,9,  -999.00,  -999.00,9,   -999.0,9,  2.5079999,2,0.138999999,2,     0.05,2,     0.02,2,    71700,2, 55,   3514,  -1.6218
  32L919930718,    37, 11,      9,2,19930728, 80.4470, -13.3130,  308,    287.0,   0.5990,  34.7220,2,-999.0000,9,-999.0000,    277.8,2,    284.6,2,    11.61,2,    12.62,2,     0.00,2,     0.95,2,-0.00400001,2,   -999.0,9,   -999.0,      -999,9, -999.000, -999.000,9,-999.0000,9,  -999.00,  -999.00,9,   -999.0,9, 1.16299999,2,      0.077,2,  -999.00,9,  -999.00,9,    69600,2, 55,   3513,   0.5867
  32L919930718,    37, 12,      8,2,19930728, 80.4470, -13.3130,  308,      2.0,   0.2080,  31.7630,2,  31.7430,2,  31.7790,    384.7,2,    386.9,2,     9.66,2,     1.03,2,     0.09,2,     0.83,2,0.024000004,2,   2066.8,2,    647.8,17.2999992,2, -999.000, -999.000,9,-999.0000,9,  -999.00,  -999.00,9,   -999.0,9, 12.0550003,2, 2.22799993,2,     0.66,2,     0.18,2,     -999,9, 56,   3536,   0.2079
  32L919930718,    37, 12,      7,2,19930728, 80.4470, -13.3130,  308,      5.0,   0.1390,  31.9060,2,-999.0000,9,-999.0000,    379.6,2,    388.2,2,     9.87,2,     1.43,2,     0.08,2,     0.85,2,0.015000001,2,   -999.0,9,   -999.0,      -999,9, -999.000, -999.000,9,-999.0000,9,  -999.00,  -999.00,9,   -999.0,9, 13.4359999,2, 2.47399998,2,     0.73,2,     0.22,2,     -999,9, 56,   3535,   0.1388
  32L919930718,    37, 12,      6,2,19930728, 80.4470, -13.3130,  308,     10.0,  -1.2890,  32.1950,2,-999.0000,9,  32.1560,    374.2,2,    380.2,2,    10.53,2,     2.29,2,     0.08,2,     0.92,2,0.034000009,2,   2097.3,2,    700.6,17.2999992,2, -999.000, -999.000,9,-999.0000,9,  -999.00,  -999.00,9,   -999.0,9, 10.4130001,2, 1.74000001,2,     0.57,2,     0.26,2,     -999,9, 56,   3534,  -1.2892
  32L919930718,    37, 12,      5,2,19930728, 80.4470, -13.3130,  308,     20.0,  -1.6950,  32.3290,2,-999.0000,9,  32.2510,    365.8,2,    373.0,2,    10.86,2,     3.40,2,     0.07,2,     1.00,2,     -0.015,2,   2113.6,2,    732.8,17.2999992,2, -999.000, -999.000,9,-999.0000,9,  -999.00,  -999.00,9,   -999.0,9, 2.46199989,2,0.426999986,2,     0.27,2,     0.09,2,     -999,9, 56,   3533,  -1.6953
  32L919930718,    37, 12,      4,2,19930728, 80.4470, -13.3130,  308,     30.0,  -1.6880,  32.4030,2,-999.0000,9,-999.0000,    365.4,2,    371.2,2,    10.82,2,     3.74,2,     0.05,2,     1.03,2,0.034000009,2,   -999.0,9,   -999.0,      -999,9, -999.000, -999.000,9,-999.0000,9,  -999.00,  -999.00,9,   -999.0,9, 1.97399998,2,0.349999994,2,     0.19,2,     0.02,2,     -999,9, 56,   3532,  -1.6885
  32L919930718,    37, 12,      3,2,19930728, 80.4470, -13.3130,  308,     40.0,  -1.7290,  32.4150,2,-999.0000,9,  32.3530,    365.5,2,    370.6,2,    10.82,2,     3.81,2,     0.04,2,     1.03,2,     -0.005,2,   2116.1,2,    739.6,17.2999992,2, -999.000, -999.000,9,-999.0000,9,  -999.00,  -999.00,9,   -999.0,9,  2.7019999,2,0.310000002,2,     0.19,2,     0.05,2,     -999,9, 56,   3531,  -1.7296
  32L919930718,    37, 12,      2,2,19930728, 80.4470, -13.3130,  308,     50.0,  -1.7440,  32.4200,2,-999.0000,9,-999.0000,    364.7,2,    368.8,2,    10.75,2,     3.91,2,     0.05,2,     1.04,2,0.054000005,2,   -999.0,9,   -999.0,      -999,9, -999.000, -999.000,9,-999.0000,9,  -999.00,  -999.00,9,   -999.0,9, 2.88000011,2,0.280999988,2,     0.18,2,     0.03,2,     -999,9, 56,   3530,  -1.7448
  32L919930718,    37, 12,      1,2,19930728, 80.4470, -13.3130,  308,     60.0,  -1.7390,  32.4410,2,-999.0000,9,  32.3890,    362.4,2,    364.8,2,    11.08,2,     4.22,2,     0.03,2,     1.04,2,0.054000005,2,   2118.7,2,    758.7,17.2999992,2, -999.000, -999.000,9,-999.0000,9,  -999.00,  -999.00,9,   -999.0,9, 1.68499994,2,0.239999995,2,     0.15,2,     0.04,2,     -999,9, 56,   3529,  -1.7400
  32L919930718,    37, 12,     12,2,19930728, 80.4470, -13.3130,  308,     70.0,  -1.6970,  32.4830,2,-999.0000,9,-999.0000,    356.7,2,    361.2,2,    11.32,2,     4.57,2,     0.02,2,     1.04,2, 0.00500001,2,   -999.0,9,   -999.0,      -999,9, -999.000, -999.000,9,-999.0000,9,  -999.00,  -999.00,9,   -999.0,9, 2.53699994,2,0.291000009,2,     0.15,2,     0.04,2,     -999,9, 56,   3528,  -1.6982
  32L919930718,    37, 12,     11,2,19930728, 80.4470, -13.3130,  308,     81.0,  -1.6840,  32.5760,2,-999.0000,9,  32.5510,    350.3,2,    353.5,2,    11.74,2,     5.12,2,     0.03,2,     1.03,2, 0.00500001,2,   2126.4,2,    782.5,17.2999992,2, -999.000, -999.000,9,-999.0000,9,  -999.00,  -999.00,9,   -999.0,9,  2.2980001,2,0.152999997,2,     0.04,2,     0.01,2,     -999,9, 56,   3527,  -1.6854
  32L919930718,    37, 12,     10,2,19930728, 80.4470, -13.3130,  308,    100.0,  -1.5750,  32.9260,2,  33.0220,2,  32.9110,    331.6,2,    337.4,2,    12.49,2,     6.95,2,     0.02,2,     1.00,2,     -0.005,2,   2135.4,2,    808.3,17.2999992,2, -999.000, -999.000,9,-999.0000,9,  -999.00,  -999.00,9,   -999.0,9, 2.61100006,2,0.159999996,2,     0.02,2,     0.01,2,     -999,9, 56,   3526,  -1.5769
  32L919930718,    37, 12,      9,2,19930728, 80.4470, -13.3130,  308,    286.0,   0.5880,  34.7220,2,-999.0000,9,-999.0000,    280.8,2,    283.6,2,    11.57,2,    12.98,2,     0.02,2,     0.97,2,0.034000009,2,   -999.0,9,   -999.0,      -999,9, -999.000, -999.000,9,-999.0000,9,  -999.00,  -999.00,9,   -999.0,9, 3.06299996,2,      0.213,2,  -999.00,9,  -999.00,9,     -999,9, 56,   3525,   0.5757
  32L919930718,    37, 13,      8,2,19930728, 80.4470, -13.3130,  308,      2.0,   3.2540,  28.2680,2,  28.4590,2,  28.7850,    377.7,2,    388.8,2,     4.48,2,     0.06,2,     0.00,2,     0.58,2,0.016000003,2,   1872.6,2,    511.1,18.1000004,2, -999.000, -999.000,9,-999.0000,9,  -999.00,  -999.00,9,   -999.0,9,     14.698,2,      1.778,2,     0.61,2,     0.13,2,     -999,9, 57,   3548,   3.2539
  32L919930718,    37, 13,      7,2,19930728, 80.4470, -13.3130,  308,      5.0,   1.6700,  32.2420,2,-999.0000,9,  32.2300,    424.1,2,    425.8,2,     4.82,2,     0.06,2,     0.03,2,     0.72,2,-0.04300001,2,   2053.0,2,    535.0,18.1000004,2, -999.000, -999.000,9,-999.0000,9,  -999.00,  -999.00,9,   -999.0,9, 43.2859993,2, 3.67199993,2,     1.28,2,     0.52,2,     -999,9, 57,   3547,   1.6698
  32L919930718,    37, 13,      6,2,19930728, 80.4470, -13.3130,  308,     11.0,  -0.0150,  32.2490,2,-999.0000,9,  32.2310,    387.1,2,    393.7,2,     8.25,2,     0.57,2,     0.01,2,     0.85,2,0.074000001,2,   2088.8,2,    676.1,18.1000004,2, -999.000, -999.000,9,-999.0000,9,  -999.00,  -999.00,9,   -999.0,9, 21.9120007,2, 3.53399992,2,     2.17,2,     0.44,2,     -999,9, 57,   3546,  -0.0153
  32L919930718,    37, 13,      5,2,19930728, 80.4470, -13.3130,  308,     21.0,  -1.3320,  32.3300,2,-999.0000,9,  32.2880,    366.8,2,    374.2,2,    10.51,2,     3.23,2,     0.05,2,     1.00,2,0.093999997,2,   2110.9,2,    753.4,18.1000004,2, -999.000, -999.000,9,-999.0000,9,  -999.00,  -999.00,9,   -999.0,9, 4.72399998,2,0.888000011,2,     0.54,2,     0.10,2,     -999,9, 57,   3545,  -1.3324
  32L919930718,    37, 13,      4,2,19930728, 80.4470, -13.3130,  308,     30.0,  -1.7240,  32.3620,2,-999.0000,9,-999.0000,    366.2,2,    372.8,2,    10.43,2,     3.54,2,     0.03,2,     1.01,2,-0.00400001,2,   -999.0,9,   -999.0,      -999,9, -999.000, -999.000,9,-999.0000,9,  -999.00,  -999.00,9,   -999.0,9,  3.7249999,2, 0.56400001,2,     0.36,2,     0.05,2,     -999,9, 57,   3544,  -1.7245
  32L919930718,    37, 13,      3,2,19930728, 80.4470, -13.3130,  308,     41.0,  -1.6910,  32.4080,2,-999.0000,9,  32.3680,    365.2,2,    368.9,2,    10.71,2,     3.88,2,     0.02,2,     1.03,2,0.045000002,2,   2117.1,2,    772.5,18.1000004,2, -999.000, -999.000,9,-999.0000,9,  -999.00,  -999.00,9,   -999.0,9,      3.898,2,0.393000007,2,     0.22,2,     0.04,2,     -999,9, 57,   3543,  -1.6917
  32L919930718,    37, 13,      2,2,19930728, 80.4470, -13.3130,  308,     51.0,  -1.7190,  32.4240,2,-999.0000,9,-999.0000,    365.0,2,    367.6,2,    10.91,2,     4.00,2,     0.02,2,     1.04,2,0.025999993,2,   -999.0,9,   -999.0,      -999,9, -999.000, -999.000,9,-999.0000,9,  -999.00,  -999.00,9,   -999.0,9,      2.227,2,0.280000001,2,     0.15,2,     0.02,2,     -999,9, 57,   3542,  -1.7198
  32L919930718,    37, 13,      1,2,19930728, 80.4470, -13.3130,  308,     60.0,  -1.7320,  32.4390,2,-999.0000,9,  32.4020,    362.2,2,    365.2,2,    11.02,2,     4.18,2,     0.01,2,     1.04,2,0.016000003,2,   2121.5,2,    786.1,18.1000004,2, -999.000, -999.000,9,-999.0000,9,  -999.00,  -999.00,9,   -999.0,9, 2.04999995,2,      0.213,2,     0.15,2,     0.03,2,     -999,9, 57,   3541,  -1.7330
  32L919930718,    37, 13,     12,2,19930728, 80.4470, -13.3130,  308,     70.0,  -1.7200,  32.4820,2,-999.0000,9,-999.0000,    358.0,2,    363.5,2,    11.31,2,     4.35,2,     0.01,2,     1.03,2,0.084000006,2,   -999.0,9,   -999.0,      -999,9, -999.000, -999.000,9,-999.0000,9,  -999.00,  -999.00,9,   -999.0,9, 2.19300008,2,0.261000007,2,     0.10,2,     0.03,2,     -999,9, 57,   3540,  -1.7212
  32L919930718,    37, 13,     11,2,19930728, 80.4470, -13.3130,  308,     80.0,  -1.6860,  32.5660,2,-999.0000,9,  32.5690,    352.2,2,    354.8,2,    11.81,2,     4.75,2,    -0.03,2,     1.02,2,0.045000002,2,   2125.6,2,    800.0,18.1000004,2, -999.000, -999.000,9,-999.0000,9,  -999.00,  -999.00,9,   -999.0,9, 1.80200005,2,0.248999998,2,     0.01,2,     0.01,2,     -999,9, 57,   3539,  -1.6874
  32L919930718,    37, 13,     10,2,19930728, 80.4470, -13.3130,  308,    101.0,  -1.5830,  32.9540,2,  32.9570,2,  32.9030,    334.5,2,    338.6,2,    12.52,2,     6.61,2,    -0.05,2,     0.99,2,0.025999993,2,   2137.3,2,    833.7,18.1000004,2, -999.000, -999.000,9,-999.0000,9,  -999.00,  -999.00,9,   -999.0,9,  2.4519999,2,0.217999995,2,     0.01,2,     0.01,2,     -999,9, 57,   3538,  -1.5849
  32L919930718,    37, 13,      9,2,19930728, 80.4470, -13.3130,  308,    289.0,   0.6010,  34.7260,2,-999.0000,9,-999.0000,    281.2,2,    283.6,2,    11.53,2,    12.96,2,     0.01,2,     0.96,2,0.093999997,2,   -999.0,9,   -999.0,      -999,9, -999.000, -999.000,9,-999.0000,9,  -999.00,  -999.00,9,   -999.0,9,       0.25,2,0.122000001,2,     0.01,2,     0.01,2,     -999,9, 57,   3537,   0.5886
  32L919930718,    37, 14,      8,2,19930728, 80.4470, -13.3130,  308,      2.0,   3.7240,  29.8960,2,  29.6840,2,  29.9110,    379.7,2,    380.0,2,     2.34,2,     0.00,2,     0.00,2,     0.57,2,     -0.017,2,   1935.3,2,    507.5,17.2999992,2, -999.000, -999.000,9,-999.0000,9,  -999.00,  -999.00,9,      2.1,2, 15.1859999,2, 1.66199994,2,     0.47,2,     0.05,2,   128000,2, 58,   3560,   3.7239
  32L919930718,    37, 14,      7,2,19930728, 80.4470, -13.3130,  308,      4.0,   2.6090,  30.7200,2,-999.0000,9,-999.0000,    400.1,2,    394.1,2,     2.52,2,     3.14,2,     0.00,2,     0.69,2,0.002000004,2,   -999.0,9,   -999.0,      -999,9, -999.000, -999.000,9,-999.0000,9,  -999.00,  -999.00,9,      4.6,2, 27.4850006,2, 2.68499994,2,     0.83,2,     0.12,2,   125000,2, 58,   3559,   2.6088
  32L919930718,    37, 14,      6,2,19930728, 80.4470, -13.3130,  308,      6.0,   1.6750,  31.8670,2,-999.0000,9,  31.8180,    422.2,2,    422.6,2,     5.27,2,    -0.02,2,     0.01,2,     0.69,2,0.041000001,2,   2029.4,2,    499.0,17.2999992,2, -999.000, -999.000,9,-999.0000,9,  -999.00,  -999.00,9,      6.0,2, 40.6230011,2, 3.33500004,2,     1.15,2,     0.28,2,   209000,2, 58,   3558,   1.6747
  32L919930718,    37, 14,      5,2,19930728, 80.4470, -13.3130,  308,     10.0,   0.1970,  32.2390,2,-999.0000,9,-999.0000,    419.5,2,    420.9,2,     6.89,2,     0.00,2,     0.01,2,     0.70,2,     -0.007,2,   -999.0,9,   -999.0,      -999,9, -999.000, -999.000,9,-999.0000,9,  -999.00,  -999.00,9,      8.4,2, 40.9129982,2, 3.91300011,2,     1.83,2,     0.41,2,   227000,2, 58,   3557,   0.1967
  32L919930718,    37, 14,      3,2,19930728, 80.4470, -13.3130,  308,     11.0,   0.1650,  32.2260,2,-999.0000,9,  32.2130,    418.5,2,    419.6,2,     5.26,2,  -999.00,9,    -0.05,2,     0.76,2,0.002000004,2,   2064.8,2,    562.5,17.2999992,2, -999.000, -999.000,9,-999.0000,9,  -999.00,  -999.00,9,   -999.0,9, 29.4580002,2, 3.75699997,2,     2.22,2,     0.42,2,   248000,2, 58,   3555,   0.1646
  32L919930718,    37, 14,      4,2,19930728, 80.4470, -13.3130,  308,     11.0,   0.1970,  32.2330,2,-999.0000,9,-999.0000,    417.3,2,   -999.0,9,  -999.00,9,  -999.00,9,  -999.00,9,  -999.00,9,       -999,9,   -999.0,9,   -999.0,      -999,9, -999.000, -999.000,9,-999.0000,9,  -999.00,  -999.00,9,   -999.0,9,       -999,9,       -999,9,  -999.00,9,  -999.00,9,     -999,9, 58,   3556,   0.1966
  32L919930718,    37, 14,      2,2,19930728, 80.4470, -13.3130,  308,     16.0,  -0.8270,  32.3060,2,-999.0000,9,-999.0000,    402.0,2,    400.2,2,     5.56,2,     0.79,2,    -0.03,2,     0.83,2,     -0.007,2,   -999.0,9,   -999.0,      -999,9, -999.000, -999.000,9,-999.0000,9,  -999.00,  -999.00,9,      4.4,2, 21.2840004,2,  2.5940001,2,     1.69,2,     0.22,2,   172000,2, 58,   3554,  -0.8274
  32L919930718,    37, 14,      1,2,19930728, 80.4470, -13.3130,  308,     24.0,  -1.2060,  32.3660,2,-999.0000,9,  32.3310,    388.7,2,    387.1,2,     5.56,2,     2.08,2,     0.00,2,     0.90,2,0.031999998,2,   2099.1,2,    668.0,17.2999992,2, -999.000, -999.000,9,-999.0000,9,  -999.00,  -999.00,9,      0.3,2,     10.059,2, 1.52499998,2,     1.10,2,     0.19,2,   155000,2, 58,   3553,  -1.2065
  32L919930718,    37, 14,     12,2,19930728, 80.4470, -13.3130,  308,     37.0,  -1.6310,  32.3960,2,-999.0000,9,  32.3390,    379.1,2,   -999.0,9,     6.99,2,     2.65,2,     0.03,2,     0.90,2,0.002000004,2,   2104.3,2,    683.0,17.2999992,2, -999.000, -999.000,9,-999.0000,9,  -999.00,  -999.00,9,      0.1,2, 8.86699963,2, 1.03699994,2,     0.63,2,     0.09,2,   174000,2, 58,   3552,  -1.6316
  32L919930718,    37, 14,     11,2,19930728, 80.4470, -13.3130,  308,     65.0,  -1.7080,  32.4790,2,-999.0000,9,  32.4340,    360.8,2,    360.8,2,     8.36,2,     4.81,2,     0.00,2,     0.98,2,0.051000003,2,   2120.0,2,    763.8,17.2999992,2, -999.000, -999.000,9,-999.0000,9,  -999.00,  -999.00,9,   -999.0,9, 1.65400004,2,0.259000003,2,     0.02,2,     0.00,2,    73300,2, 58,   3551,  -1.7091
  32L919930718,    37, 14,     10,2,19930728, 80.4470, -13.3130,  308,     84.0,  -1.6660,  32.6130,2,-999.0000,9,  32.5610,    353.9,2,    353.2,2,     7.83,2,     5.45,2,    -0.02,2,     1.00,2,0.041000001,2,   2125.0,2,    778.9,17.2999992,2, -999.000, -999.000,9,-999.0000,9,  -999.00,  -999.00,9,   -999.0,9, 1.99300003,2,0.089000002,2,     0.20,2,     0.04,2,    69200,2, 58,   3550,  -1.6675
  32L919930718,    37, 14,      9,2,19930728, 80.4470, -13.3130,  308,    288.0,   0.5990,  34.7260,2,  34.9090,2,-999.0000,    287.0,2,    283.7,2,    11.19,2,    13.45,2,     0.02,2,     0.93,2,0.041000001,2,   -999.0,9,   -999.0,      -999,9, -999.000, -999.000,9,-999.0000,9,  -999.00,  -999.00,9,   -999.0,9, 1.63800001,2,0.165999994,2,     0.01,2,     0.01,2,    82700,2, 58,   3549,   0.5865