BOTTLE,20090115PRINUNIVRMK
EXPOCODE,STNNBR,CASTNO,BTLNBR,BTLNBR_FLAG_W,DATE,LATITUDE,LONGITUDE,DEPTH,CTDPRS,CTDTMP,CTDSAL,CTDSAL_FLAG_W,SALNTY,SALNTY_FLAG_W,SOMSAL,CTDOXY,CTDOXY_FLAG_W,OXYGEN,OXYGEN_FLAG_W,SILCAT,SILCAT_FLAG_W,NITRAT,NITRAT_FLAG_W,NITRIT,NITRIT_FLAG_W,PHSPHT,PHSPHT_FLAG_W,AMMONI,AMMONI_FLAG_W,TCARBN,TCARBN_FLAG_W,FCO2,FCO2_TMP,FCO2_FLAG_W,TRITUM,TRITER,TRITUM_FLAG_W,HELIUM,HELIUM_FLAG_W,DELHE3,DELHER,DELHE3_FLAG_W,DELC14,DELC14_FLAG_W,POC,POC_FLAG_W,PON,PON_FLAG_W,CHLORA,CHLORA_FLAG_W,PHAEO,PHAEO_FLAG_W,BACT,BACT_FLAG_W,CTDNO,BNLID,THETA
,,,,,,,,METERS,DBARS,ITS-90,PSS-78,,PSS-78,,PSS-78,UMOL/KG,,UMOL/KG,,UMOL/KG,,UMOL/KG,,UMOL/KG,,UMOL/KG,,UMOL/KG,,UMOL/KG,,UATM,DEGC,,TU,TU,,NMOL/KG,,PERCNT,PERCNT,,O/OO,,ug/kg,,ug/kg,,UG/L,,UG/L,,CELLS/ML,,,,DEGC
  32L919930718,    86,  3,      9,2,19930811, 80.4230, -13.3300,  289,      2.0,   1.6090,  28.6360,2,-999.0000,9,-999.0000,    371.1,2,   -999.0,9,     2.62,2,     0.08,2,    -0.02,2,     0.56,2,-0.01100001,2,   -999.0,9,   -999.0,      -999,9, -999.000, -999.000,9,-999.0000,9,  -999.00,  -999.00,9,   -999.0,9,       -999,9,       -999,9,  -999.00,9,  -999.00,9,     -999,9,157,   4581,   1.6089
  32L919930718,    86,  3,      4,2,19930811, 80.4230, -13.3300,  289,     26.0,  -1.5160,  32.3540,2,-999.0000,9,-999.0000,    402.6,2,   -999.0,9,  -999.00,9,  -999.00,9,  -999.00,9,  -999.00,9,       -999,9,   -999.0,9,   -999.0,      -999,9, -999.000, -999.000,9,-999.0000,9,  -999.00,  -999.00,9,   -999.0,9,       -999,9,       -999,9,  -999.00,9,  -999.00,9,     -999,9,157,   4576,  -1.5165
  32L919930718,    86,  3,      5,2,19930811, 80.4230, -13.3300,  289,     26.0,  -1.5480,  32.3520,2,-999.0000,9,-999.0000,    394.4,2,   -999.0,9,     7.01,2,     2.02,2,     0.05,2,     0.91,2,-0.00100002,2,   -999.0,9,   -999.0,      -999,9, -999.000, -999.000,9,-999.0000,9,  -999.00,  -999.00,9,   -999.0,9, 4.78299999,2,0.579999983,2,     0.46,2,     0.15,2,     -999,9,157,   4577,  -1.5485
  32L919930718,    86,  3,      6,2,19930811, 80.4230, -13.3300,  289,     26.0,  -1.5280,  32.3550,2,-999.0000,9,-999.0000,    395.1,2,   -999.0,9,     6.74,2,     1.76,2,     0.04,2,     0.91,2,-0.01100001,2,   -999.0,9,   -999.0,      -999,9, -999.000, -999.000,9,-999.0000,9,  -999.00,  -999.00,9,   -999.0,9,       -999,9,       -999,9,  -999.00,9,  -999.00,9,     -999,9,157,   4578,  -1.5285
  32L919930718,    86,  3,      7,2,19930811, 80.4230, -13.3300,  289,     26.0,  -1.4900,  32.3570,2,-999.0000,9,-999.0000,    399.4,2,   -999.0,9,     7.54,2,     1.97,2,     0.00,2,     0.92,2,0.086999983,2,   -999.0,9,   -999.0,      -999,9, -999.000, -999.000,9,-999.0000,9,  -999.00,  -999.00,9,   -999.0,9,       -999,9,       -999,9,  -999.00,9,  -999.00,9,     -999,9,157,   4579,  -1.4905
  32L919930718,    86,  3,      8,2,19930811, 80.4230, -13.3300,  289,     26.0,  -1.4690,  32.3600,2,-999.0000,9,-999.0000,    403.8,2,   -999.0,9,     8.16,2,     1.90,2,     0.06,2,     0.93,2,-0.00100002,2,   -999.0,9,   -999.0,      -999,9, -999.000, -999.000,9,-999.0000,9,  -999.00,  -999.00,9,   -999.0,9,       -999,9,       -999,9,  -999.00,9,  -999.00,9,     -999,9,157,   4580,  -1.4695
  32L919930718,    86,  3,      3,2,19930811, 80.4230, -13.3300,  289,     50.0,  -1.7320,  32.4360,2,-999.0000,9,-999.0000,    371.8,2,   -999.0,9,    11.96,2,     5.04,2,     0.02,2,     1.02,2,0.018000007,2,   -999.0,9,   -999.0,      -999,9, -999.000, -999.000,9,-999.0000,9,  -999.00,  -999.00,9,   -999.0,9,       -999,9,       -999,9,  -999.00,9,  -999.00,9,     -999,9,157,   4575,  -1.7328
  32L919930718,    86,  3,      2,2,19930811, 80.4230, -13.3300,  289,    100.0,  -1.7680,  32.9310,2,-999.0000,9,-999.0000,    347.8,2,   -999.0,9,    13.74,2,     6.94,2,     0.02,2,     0.98,2,0.027999997,2,   -999.0,9,   -999.0,      -999,9, -999.000, -999.000,9,-999.0000,9,  -999.00,  -999.00,9,   -999.0,9,       -999,9,       -999,9,  -999.00,9,  -999.00,9,     -999,9,157,   4574,  -1.7697
  32L919930718,    86,  3,      1,2,19930811, 80.4230, -13.3300,  289,    150.0,  -0.6130,  34.1420,2,-999.0000,9,-999.0000,    306.5,2,   -999.0,9,    12.05,2,    11.97,2,     0.01,2,     0.93,2,0.027999997,2,   -999.0,9,   -999.0,      -999,9, -999.000, -999.000,9,-999.0000,9,  -999.00,  -999.00,9,   -999.0,9,       -999,9,       -999,9,  -999.00,9,  -999.00,9,     -999,9,157,   4573,  -0.6175
  32L919930718,    86,  3,     12,2,19930811, 80.4230, -13.3300,  289,    200.0,   0.1530,  34.5690,2,-999.0000,9,-999.0000,    297.1,2,   -999.0,9,    11.63,2,    12.93,2,     0.01,2,     0.93,2,-0.00100002,2,   -999.0,9,   -999.0,      -999,9, -999.000, -999.000,9,-999.0000,9,  -999.00,  -999.00,9,   -999.0,9,       -999,9,       -999,9,  -999.00,9,  -999.00,9,     -999,9,157,   4572,   0.1454
  32L919930718,    86,  3,     11,2,19930811, 80.4230, -13.3300,  289,    250.0,   0.6230,  34.7190,2,  34.7600,2,-999.0000,    294.5,2,   -999.0,9,    11.89,2,    13.24,2,     0.00,2,     0.95,2,-0.00100002,2,   -999.0,9,   -999.0,      -999,9, -999.000, -999.000,9,-999.0000,9,  -999.00,  -999.00,9,   -999.0,9,       -999,9,       -999,9,  -999.00,9,  -999.00,9,     -999,9,157,   4571,   0.6123
  32L919930718,    86,  3,     10,2,19930811, 80.4230, -13.3300,  289,    275.0,   0.6520,  34.7360,2,-999.0000,9,-999.0000,    292.4,2,   -999.0,9,    12.43,2,    13.40,2,     0.03,2,     0.97,2,0.067000002,2,   -999.0,9,   -999.0,      -999,9, -999.000, -999.000,9,-999.0000,9,  -999.00,  -999.00,9,   -999.0,9,       -999,9,       -999,9,  -999.00,9,  -999.00,9,     -999,9,157,   4570,   0.6401
  32L919930718,    86,  4,      9,2,19930811, 80.4230, -13.3300,  289,     10.0,   0.4220,  31.5890,2,-999.0000,9,-999.0000,    433.0,2,   -999.0,9,  -999.00,9,  -999.00,9,  -999.00,9,  -999.00,9,       -999,9,   -999.0,9,   -999.0,      -999,9, -999.000, -999.000,9,-999.0000,9,  -999.00,  -999.00,9,   -999.0,9,       -999,9,       -999,9,  -999.00,9,  -999.00,9,     -999,9,158,   4593,   0.4217
  32L919930718,    86,  4,      3,2,19930811, 80.4230, -13.3300,  289,     26.0,  -1.5140,  32.3500,2,-999.0000,9,  32.3580,    412.2,2,   -999.0,9,     5.21,2,     0.05,2,    -0.02,2,     0.85,2,-0.01100001,2,   2111.2,2,   -999.0,      -999,9, -999.000, -999.000,9,-999.0000,9,  -999.00,  -999.00,9,   -999.0,9,       -999,9,       -999,9,     1.77,2,    -0.05,2,     -999,9,158,   4587,  -1.5145
  32L919930718,    86,  4,      4,2,19930811, 80.4230, -13.3300,  289,     26.0,  -1.5100,  32.3480,2,-999.0000,9,-999.0000,    412.7,2,   -999.0,9,  -999.00,9,  -999.00,9,  -999.00,9,  -999.00,9,       -999,9,   -999.0,9,   -999.0,      -999,9, -999.000, -999.000,9,-999.0000,9,  -999.00,  -999.00,9,   -999.0,9,       -999,9,       -999,9,  -999.00,9,  -999.00,9,     -999,9,158,   4588,  -1.5105
  32L919930718,    86,  4,      5,2,19930811, 80.4230, -13.3300,  289,     26.0,  -1.5080,  32.3490,2,-999.0000,9,-999.0000,    412.0,2,   -999.0,9,  -999.00,9,  -999.00,9,  -999.00,9,  -999.00,9,       -999,9,   -999.0,9,   -999.0,      -999,9, -999.000, -999.000,9,-999.0000,9,  -999.00,  -999.00,9,   -999.0,9,       -999,9,       -999,9,  -999.00,9,  -999.00,9,     -999,9,158,   4589,  -1.5085
  32L919930718,    86,  4,      6,2,19930811, 80.4230, -13.3300,  289,     26.0,  -1.5030,  32.3490,2,-999.0000,9,-999.0000,    410.5,2,   -999.0,9,  -999.00,9,  -999.00,9,  -999.00,9,  -999.00,9,       -999,9,   -999.0,9,   -999.0,      -999,9, -999.000, -999.000,9,-999.0000,9,  -999.00,  -999.00,9,   -999.0,9,       -999,9,       -999,9,  -999.00,9,  -999.00,9,     -999,9,158,   4590,  -1.5035
  32L919930718,    86,  4,      7,2,19930811, 80.4230, -13.3300,  289,     26.0,  -1.5020,  32.3490,2,-999.0000,9,-999.0000,    410.7,2,   -999.0,9,     4.88,2,     0.38,2,    -0.02,2,     0.91,2,-0.01100001,2,   -999.0,9,   -999.0,      -999,9, -999.000, -999.000,9,-999.0000,9,  -999.00,  -999.00,9,   -999.0,9,       -999,9,       -999,9,  -999.00,9,  -999.00,9,     -999,9,158,   4591,  -1.5025
  32L919930718,    86,  4,      8,2,19930811, 80.4230, -13.3300,  289,     26.0,  -1.5050,  32.3500,2,-999.0000,9,-999.0000,    410.0,2,   -999.0,9,  -999.00,9,  -999.00,9,  -999.00,9,  -999.00,9,       -999,9,   -999.0,9,   -999.0,      -999,9, -999.000, -999.000,9,-999.0000,9,  -999.00,  -999.00,9,   -999.0,9, 21.7670002,2, 1.58000004,2,     1.82,2,    -0.13,2,     -999,9,158,   4592,  -1.5055
  32L919930718,    86,  4,      2,2,19930811, 80.4230, -13.3300,  289,     34.0,  -1.3470,  32.3920,2,-999.0000,9,-999.0000,    420.9,2,   -999.0,9,  -999.00,9,  -999.00,9,  -999.00,9,  -999.00,9,       -999,9,   -999.0,9,   -999.0,      -999,9, -999.000, -999.000,9,-999.0000,9,  -999.00,  -999.00,9,   -999.0,9,       -999,9,       -999,9,  -999.00,9,  -999.00,9,     -999,9,158,   4586,  -1.3477
  32L919930718,    86,  4,      1,2,19930811, 80.4230, -13.3300,  289,     45.0,  -1.4600,  32.4240,2,-999.0000,9,-999.0000,    393.8,2,   -999.0,9,  -999.00,9,  -999.00,9,  -999.00,9,  -999.00,9,       -999,9,   -999.0,9,   -999.0,      -999,9, -999.000, -999.000,9,-999.0000,9,  -999.00,  -999.00,9,   -999.0,9,       -999,9,       -999,9,  -999.00,9,  -999.00,9,     -999,9,158,   4585,  -1.4608
  32L919930718,    86,  4,     12,2,19930811, 80.4230, -13.3300,  289,     75.0,  -1.6690,  32.5900,2,-999.0000,9,-999.0000,    360.6,2,   -999.0,9,  -999.00,9,  -999.00,9,  -999.00,9,  -999.00,9,       -999,9,   -999.0,9,   -999.0,      -999,9, -999.000, -999.000,9,-999.0000,9,  -999.00,  -999.00,9,   -999.0,9,       -999,9,       -999,9,  -999.00,9,  -999.00,9,     -999,9,158,   4584,  -1.6703
  32L919930718,    86,  4,     11,2,19930811, 80.4230, -13.3300,  289,    200.0,   0.3860,  34.6300,2,-999.0000,9,-999.0000,    293.3,2,   -999.0,9,  -999.00,9,  -999.00,9,  -999.00,9,  -999.00,9,       -999,9,   -999.0,9,   -999.0,      -999,9, -999.000, -999.000,9,-999.0000,9,  -999.00,  -999.00,9,   -999.0,9,       -999,9,       -999,9,  -999.00,9,  -999.00,9,     -999,9,158,   4583,   0.3780
  32L919930718,    86,  4,     10,2,19930811, 80.4230, -13.3300,  289,    271.0,   0.5710,  34.7360,2,-999.0000,9,-999.0000,    291.4,2,   -999.0,9,  -999.00,9,  -999.00,9,  -999.00,9,  -999.00,9,       -999,9,   -999.0,9,   -999.0,      -999,9, -999.000, -999.000,9,-999.0000,9,  -999.00,  -999.00,9,   -999.0,9,       -999,9,       -999,9,  -999.00,9,  -999.00,9,     -999,9,158,   4582,   0.5595
  32L919930718,    87,  1,      9,2,19930812, 79.6370, -14.6840,  390,      3.0,  -1.1290,  29.8180,2,-999.0000,9,  29.8740,    398.0,2,    404.1,2,     8.13,2,     1.37,2,     0.02,2,     0.68,2,0.197999999,2,   1923.5,2,    562.0,        18,2, -999.000, -999.000,9,-999.0000,9,  -999.00,  -999.00,9,      1.2,2, 11.0109997,2, 1.24000001,2,     0.67,2,     0.28,2,   188000,2,159,   4605,  -1.1290
  32L919930718,    87,  1,      8,2,19930812, 79.6370, -14.6840,  390,      6.0,  -1.1760,  30.1000,2,  30.9080,2,  30.8760,    394.0,2,    398.2,2,     9.71,2,     1.37,2,     0.04,2,     0.79,2,0.071000002,2,   2014.2,2,    618.2,        18,2, -999.000, -999.000,9,-999.0000,9,  -999.00,  -999.00,9,      0.5,2,  4.4380002,2,0.663999975,2,     0.45,2,     0.24,2,   224000,2,159,   4604,  -1.1761
  32L919930718,    87,  1,      6,2,19930812, 79.6370, -14.6840,  390,     10.0,  -1.3150,  31.0020,2,-999.0000,9,-999.0000,    393.1,2,    395.4,2,    10.15,2,     1.66,2,     0.08,2,     0.87,2,0.041000001,2,   -999.0,9,   -999.0,      -999,9, -999.000, -999.000,9,-999.0000,9,  -999.00,  -999.00,9,      0.3,2, 11.2539997,2,0.893000007,2,     0.30,2,     0.22,2,   203000,2,159,   4602,  -1.3152
  32L919930718,    87,  1,      7,2,19930812, 79.6370, -14.6840,  390,     10.0,  -1.3090,  31.0310,2,-999.0000,9,-999.0000,    395.6,2,   -999.0,9,     9.81,2,     1.47,2,     0.05,2,     0.84,2,0.080000006,2,   -999.0,9,   -999.0,      -999,9, -999.000, -999.000,9,-999.0000,9,  -999.00,  -999.00,9,   -999.0,9,       -999,9,       -999,9,  -999.00,9,  -999.00,9,     -999,9,159,   4603,  -1.3092
  32L919930718,    87,  1,      5,2,19930812, 79.6370, -14.6840,  390,     16.0,  -1.5650,  31.7460,2,-999.0000,9,  31.7170,    379.4,2,    399.3,2,    10.54,2,     2.65,2,     0.09,2,     0.98,2,0.168000013,2,   2073.3,2,    721.6,        18,2, -999.000, -999.000,9,-999.0000,9,  -999.00,  -999.00,9,      0.2,2, 6.18400002,2,      0.456,2,     0.12,2,     0.11,2,   150000,2,159,   4601,  -1.5653
  32L919930718,    87,  1,      4,2,19930812, 79.6370, -14.6840,  390,     25.0,  -1.6100,  31.8590,2,-999.0000,9,  31.8690,    378.3,2,    377.5,2,    10.71,2,     2.65,2,     0.11,2,     0.99,2,0.080000006,2,   2086.9,2,    727.0,        18,2, -999.000, -999.000,9,-999.0000,9,  -999.00,  -999.00,9,      0.2,2,  3.4749999,2,0.272000015,2,     0.09,2,     0.06,2,   115000,2,159,   4600,  -1.6104
  32L919930718,    87,  1,      3,2,19930812, 79.6370, -14.6840,  390,     37.0,  -1.6530,  32.0260,2,-999.0000,9,  32.1010,    374.0,2,    371.3,2,    10.85,2,     3.62,2,     0.05,2,     0.99,2,0.041000001,2,   2097.9,2,    750.0,        18,2, -999.000, -999.000,9,-999.0000,9,  -999.00,  -999.00,9,      0.2,2, 6.90299988,2, 0.39199999,2,     0.06,2,     0.04,2,   117000,2,159,   4599,  -1.6536
  32L919930718,    87,  1,      2,2,19930812, 79.6370, -14.6840,  390,     57.0,  -1.7010,  32.3190,2,-999.0000,9,  32.4100,    363.4,2,    361.5,2,    11.52,2,     4.72,2,    -0.01,2,     1.02,2,0.012000002,2,   2116.2,2,    797.5,        18,2, -999.000, -999.000,9,-999.0000,9,  -999.00,  -999.00,9,      0.0,2, 4.32000017,2,0.225999996,2,     0.01,2,     0.01,2,    69400,2,159,   4598,  -1.7019
  32L919930718,    87,  1,      1,2,19930812, 79.6370, -14.6840,  390,    100.0,  -0.8140,  33.5850,2,-999.0000,9,  33.6580,    314.8,2,    312.4,2,    11.35,2,    11.84,2,    -0.01,2,     0.96,2,0.041000001,2,   2115.5,2,    755.1,        18,2, -999.000, -999.000,9,-999.0000,9,  -999.00,  -999.00,9,   -999.0,9, 2.18300009,2,0.202000007,2,     0.01,2,     0.00,2,    22900,2,159,   4597,  -0.8167
  32L919930718,    87,  1,     12,2,19930812, 79.6370, -14.6840,  390,    200.0,   0.3010,  34.6090,2,-999.0000,9,  34.5850,    293.9,2,    292.0,2,    10.98,2,    13.70,2,    -0.01,2,     0.93,2,0.012000002,2,   2139.5,2,    748.5,        18,2, -999.000, -999.000,9,-999.0000,9,  -999.00,  -999.00,9,   -999.0,9, 0.90200001,2,0.027000001,2,     0.01,2,     0.01,2,    45800,2,159,   4596,   0.2931
  32L919930718,    87,  1,     11,2,19930812, 79.6370, -14.6840,  390,    300.0,   1.1150,  34.8620,2,  34.8860,2,  34.8510,    297.1,2,    296.4,2,     9.41,2,    13.60,2,    -0.01,2,     0.94,2,0.031999998,2,   2145.9,2,    720.4,        18,2, -999.000, -999.000,9,-999.0000,9,  -999.00,  -999.00,9,   -999.0,9, 1.83899999,2,0.082000002,2,  -999.00,9,  -999.00,9,    37700,2,159,   4595,   1.1007
  32L919930718,    87,  1,     10,2,19930812, 79.6370, -14.6840,  390,    380.0,   1.0640,  34.8880,2,-999.0000,9,  34.8630,    297.3,2,    296.2,2,     9.49,2,    13.76,2,     0.03,2,     0.96,2,     -0.017,2,   2146.7,2,    725.0,        18,2,    1.830,    0.027,2,   1.8430,2,     3.40,     0.20,2,   -999.0,9,       -999,9,0.035999998,2,  -999.00,9,  -999.00,9,    40200,2,159,   4594,   1.0458
  32L919930718,    88,  1,      9,2,19930812, 79.4780, -17.0380,  379,      2.0,  -1.4870,  31.7520,2,-999.0000,9,  31.7170,    379.9,2,    395.0,2,    10.30,2,     2.07,2,     0.09,2,     0.91,2,-0.05199999,2,   2068.4,2,    664.0,        17,2, -999.000, -999.000,9,-999.0000,9,  -999.00,  -999.00,9,      1.9,2, 7.93300009,2, 1.13100004,2,     0.75,2,     0.18,2,    31500,2,160,   4617,  -1.4870
  32L919930718,    88,  1,      8,2,19930812, 79.4780, -17.0380,  379,      6.0,  -1.4980,  31.7560,2,-999.0000,9,  31.7290,    380.3,2,    384.8,2,    10.44,2,     2.14,2,     0.09,2,     0.94,2,-0.00400001,2,   2068.9,2,    667.3,        17,2, -999.000, -999.000,9,-999.0000,9,  -999.00,  -999.00,9,      1.1,2, 7.52799988,2, 0.95599997,2,     0.70,2,     0.14,2,    36600,2,160,   4616,  -1.4981
  32L919930718,    88,  1,      7,2,19930812, 79.4780, -17.0380,  379,     12.0,  -1.4940,  31.7580,2,-999.0000,9,-999.0000,    380.5,2,    384.3,2,    10.52,2,     2.03,2,     0.09,2,     0.93,2,0.133000001,2,   -999.0,9,   -999.0,      -999,9, -999.000, -999.000,9,-999.0000,9,  -999.00,  -999.00,9,      0.6,2, 9.52200031,2, 1.14100003,2,     0.65,2,     0.14,2,    29600,2,160,   4615,  -1.4942
  32L919930718,    88,  1,      5,2,19930812, 79.4780, -17.0380,  379,     17.0,  -1.5340,  31.7780,2,  31.8610,2,  31.8190,    381.8,2,    380.7,2,    11.03,2,     2.42,2,     0.10,2,     0.98,2,0.084000006,2,   2082.4,2,    686.3,        17,2, -999.000, -999.000,9,-999.0000,9,  -999.00,  -999.00,9,      0.4,2, 10.3780003,2,0.552999973,2,     0.22,2,     0.08,2,    31900,2,160,   4613,  -1.5343
  32L919930718,    88,  1,      6,2,19930812, 79.4780, -17.0380,  379,     17.0,  -1.5200,  31.7680,2,-999.0000,9,-999.0000,    380.0,2,   -999.0,9,    10.83,2,     2.89,2,     0.10,2,     0.93,2,0.055000007,2,   -999.0,9,   -999.0,      -999,9, -999.000, -999.000,9,-999.0000,9,  -999.00,  -999.00,9,   -999.0,9,       -999,9,       -999,9,  -999.00,9,  -999.00,9,     -999,9,160,   4614,  -1.5203
  32L919930718,    88,  1,      4,2,19930812, 79.4780, -17.0380,  379,     27.0,  -1.6680,  32.0480,2,-999.0000,9,-999.0000,    376.8,2,    376.0,2,    11.50,2,     3.16,2,     0.09,2,     1.01,2,0.074000001,2,   -999.0,9,   -999.0,      -999,9, -999.000, -999.000,9,-999.0000,9,  -999.00,  -999.00,9,      0.1,2, 6.05700016,2,0.367000014,2,     0.11,2,     0.08,2,    37100,2,160,   4612,  -1.6684
  32L919930718,    88,  1,      3,2,19930812, 79.4780, -17.0380,  379,     41.0,  -1.7240,  32.2760,2,-999.0000,9,  32.2790,    371.7,2,    371.0,2,    11.61,2,     3.37,2,     0.01,2,     1.05,2,0.122999996,2,   2111.4,2,    746.6,        17,2, -999.000, -999.000,9,-999.0000,9,  -999.00,  -999.00,9,      0.1,2, 3.31100011,2,0.270999998,2,     0.04,2,     0.03,2,    29000,2,160,   4611,  -1.7247
  32L919930718,    88,  1,      2,2,19930812, 79.4780, -17.0380,  379,     61.0,  -1.7380,  32.4340,2,-999.0000,9,  32.3740,    372.1,2,    369.5,2,    11.53,2,     3.50,2,     0.00,2,     1.04,2,0.034999996,2,   2113.7,2,    738.0,        17,2, -999.000, -999.000,9,-999.0000,9,  -999.00,  -999.00,9,      0.0,2, 4.71999979,2,0.180999994,2,     0.02,2,     0.02,2,    10500,2,160,   4610,  -1.7390
  32L919930718,    88,  1,      1,2,19930812, 79.4780, -17.0380,  379,    100.0,  -1.5690,  32.8970,2,-999.0000,9,  32.8900,    350.8,2,    344.4,2,    12.91,2,     6.37,2,     0.00,2,     0.99,2,0.055000007,2,   2131.1,2,    791.8,        17,2, -999.000, -999.000,9,-999.0000,9,  -999.00,  -999.00,9,   -999.0,9, 4.16699982,2,0.152999997,2,     0.01,2,     0.01,2,    20200,2,160,   4609,  -1.5709
  32L919930718,    88,  1,     12,2,19930812, 79.4780, -17.0380,  379,    201.0,  -0.0570,  34.5360,2,-999.0000,9,  34.4850,    299.7,2,    296.3,2,    11.43,2,    11.76,2,     0.00,2,     0.94,2,0.074000001,2,   2141.7,2,    729.3,        17,2, -999.000, -999.000,9,-999.0000,9,  -999.00,  -999.00,9,   -999.0,9, 4.39099979,2,0.116999999,2,     0.00,2,     0.01,2,    25600,2,160,   4608,  -0.0643
  32L919930718,    88,  1,     11,2,19930812, 79.4780, -17.0380,  379,    300.0,   1.1460,  34.8670,2,  34.8680,2,  34.8150,    299.9,2,    297.3,2,     9.63,2,    13.13,2,     0.00,2,     0.94,2,0.064999998,2,   2145.2,2,    672.6,        17,2, -999.000, -999.000,9,-999.0000,9,  -999.00,  -999.00,9,   -999.0,9, 4.00899982,2,0.067000002,2,  -999.00,9,  -999.00,9,    25200,2,160,   4607,   1.1316
  32L919930718,    88,  1,     10,2,19930812, 79.4780, -17.0380,  379,    355.0,   1.1520,  34.8680,2,-999.0000,9,  34.8340,    300.4,2,    306.1,2,     9.61,2,    13.49,2,     0.01,2,     0.92,2,0.093999997,2,   2144.9,2,    686.2,        17,2, -999.000, -999.000,9,-999.0000,9,  -999.00,  -999.00,9,   -999.0,9,0.609000027,2,0.064000003,2,  -999.00,9,  -999.00,9,    21300,2,160,   4606,   1.1348