BOTTLE,20090115PRINUNIVRMK
EXPOCODE,STNNBR,CASTNO,BTLNBR,BTLNBR_FLAG_W,DATE,LATITUDE,LONGITUDE,DEPTH,CTDPRS,CTDTMP,CTDSAL,CTDSAL_FLAG_W,SALNTY,SALNTY_FLAG_W,SOMSAL,CTDOXY,CTDOXY_FLAG_W,OXYGEN,OXYGEN_FLAG_W,SILCAT,SILCAT_FLAG_W,NITRAT,NITRAT_FLAG_W,NITRIT,NITRIT_FLAG_W,PHSPHT,PHSPHT_FLAG_W,AMMONI,AMMONI_FLAG_W,TCARBN,TCARBN_FLAG_W,FCO2,FCO2_TMP,FCO2_FLAG_W,TRITUM,TRITER,TRITUM_FLAG_W,HELIUM,HELIUM_FLAG_W,DELHE3,DELHER,DELHE3_FLAG_W,DELC14,DELC14_FLAG_W,POC,POC_FLAG_W,PON,PON_FLAG_W,CHLORA,CHLORA_FLAG_W,PHAEO,PHAEO_FLAG_W,BACT,BACT_FLAG_W,CTDNO,BNLID,THETA
,,,,,,,,METERS,DBARS,ITS-90,PSS-78,,PSS-78,,PSS-78,UMOL/KG,,UMOL/KG,,UMOL/KG,,UMOL/KG,,UMOL/KG,,UMOL/KG,,UMOL/KG,,UMOL/KG,,UATM,DEGC,,TU,TU,,NMOL/KG,,PERCNT,PERCNT,,O/OO,,ug/kg,,ug/kg,,UG/L,,UG/L,,CELLS/ML,,,,DEGC
  32L919930718,    75,  1,      6,2,19930809, 79.8510, -16.1980,  218,      2.0,  -1.3260,  31.8050,2,-999.0000,9,  31.7740,    374.8,2,    381.4,2,    10.87,2,     2.27,2,     0.13,2,     0.48,3,0.104000002,2,   2073.0,2,    681.9,17.2000008,2, -999.000, -999.000,9,-999.0000,9,  -999.00,  -999.00,9,      0.8,2, 1.11600006,2,0.141000003,2,     0.31,2,     0.07,2,    73700,2,140,   4410,  -1.3260
  32L919930718,    75,  1,      5,2,19930809, 79.8510, -16.1980,  218,      8.0,  -1.4880,  31.8630,2,  31.8730,2,  31.8130,    374.1,2,    381.0,2,    10.97,2,     2.27,2,     0.13,2,     0.49,3,0.045000002,2,   2077.3,2,    690.7,17.2000008,2, -999.000, -999.000,9,-999.0000,9,  -999.00,  -999.00,9,      0.8,2,  4.9710002,2,0.878000021,2,     0.30,2,     0.06,2,   108000,2,140,   4409,  -1.4881
  32L919930718,    75,  1,      4,2,19930809, 79.8510, -16.1980,  218,     14.0,  -1.5600,  31.9360,2,-999.0000,9,  32.0290,    372.6,2,    375.1,2,    11.23,2,     3.44,2,     0.09,2,     1.02,2,     -0.023,2,   2094.1,2,    726.0,17.2000008,2, -999.000, -999.000,9,-999.0000,9,  -999.00,  -999.00,9,      0.2,2, 3.47600007,2,0.414999992,2,     0.09,2,     0.05,2,   105000,2,140,   4408,  -1.5602
  32L919930718,    75,  1,      3,2,19930809, 79.8510, -16.1980,  218,     20.0,  -1.6800,  32.0890,2,-999.0000,9,-999.0000,    371.9,2,   -999.0,9,    11.31,2,     3.68,2,     0.08,2,     1.03,2,0.016000003,2,   -999.0,9,   -999.0,      -999,9, -999.000, -999.000,9,-999.0000,9,  -999.00,  -999.00,9,   -999.0,9,       -999,9,       -999,9,  -999.00,9,  -999.00,9,     -999,9,140,   4407,  -1.6803
  32L919930718,    75,  1,      2,2,19930809, 79.8510, -16.1980,  218,     22.0,  -1.6860,  32.1240,2,-999.0000,9,-999.0000,    372.2,2,    373.1,2,    11.32,2,     3.82,2,     0.05,2,     1.04,2,0.005999997,2,   -999.0,9,   -999.0,      -999,9, -999.000, -999.000,9,-999.0000,9,  -999.00,  -999.00,9,      0.1,2, 2.43300009,2, 0.38499999,2,     0.08,2,     0.03,2,    85400,2,140,   4406,  -1.6863
  32L919930718,    75,  1,      1,2,19930809, 79.8510, -16.1980,  218,     35.0,  -1.7160,  32.2770,2,-999.0000,9,  32.2650,    369.6,2,    369.6,2,    11.48,2,     4.08,2,    -0.02,2,     1.07,2,0.064999998,2,   2111.0,2,    761.2,17.2000008,2, -999.000, -999.000,9,-999.0000,9,  -999.00,  -999.00,9,      0.1,2, 1.55700004,2,0.148000002,2,     0.05,2,     0.01,2,    74200,2,140,   4405,  -1.7166
  32L919930718,    75,  1,     12,2,19930809, 79.8510, -16.1980,  218,     54.0,  -1.7440,  32.4090,2,-999.0000,9,  32.4000,    369.4,2,    367.7,2,    11.55,2,     4.14,2,    -0.02,2,     1.07,2,0.025999993,2,   2117.1,2,    762.1,17.2000008,2, -999.000, -999.000,9,-999.0000,9,  -999.00,  -999.00,9,      0.0,2, 1.09099996,2,0.202000007,2,     0.06,2,     0.03,2,    47200,2,140,   4404,  -1.7449
  32L919930718,    75,  1,     11,2,19930809, 79.8510, -16.1980,  218,     81.0,  -1.6810,  32.5560,2,-999.0000,9,-999.0000,    359.6,2,    350.0,2,    12.56,2,     5.86,2,    -0.02,2,     1.06,2,0.084000006,2,   -999.0,9,   -999.0,      -999,9, -999.000, -999.000,9,-999.0000,9,  -999.00,  -999.00,9,      0.0,2,0.967999995,2,0.150000006,2,     0.01,2,     0.01,2,    38400,2,140,   4403,  -1.6824
  32L919930718,    75,  1,     10,2,19930809, 79.8510, -16.1980,  218,    100.0,  -1.5820,  32.9400,2,-999.0000,9,  33.1550,    343.5,2,    333.0,2,    13.02,2,     7.34,2,    -0.02,2,     1.01,2,0.084000006,2,   2135.6,2,    814.2,17.2000008,2, -999.000, -999.000,9,-999.0000,9,  -999.00,  -999.00,9,   -999.0,9, 1.11500001,2,0.104999997,2,     0.01,2,     0.00,2,    20000,2,140,   4402,  -1.5839
  32L919930718,    75,  1,      9,2,19930809, 79.8510, -16.1980,  218,    125.0,  -1.0880,  33.8070,2,-999.0000,9,  33.8720,    315.1,2,    324.5,2,    12.38,2,    10.04,2,    -0.02,2,     1.00,2,0.093999997,2,   2137.8,2,    779.3,17.2000008,2, -999.000, -999.000,9,-999.0000,9,  -999.00,  -999.00,9,   -999.0,9,       -999,9,      0.092,2,     0.01,2,     0.00,2,    49000,2,140,   4401,  -1.0912
  32L919930718,    75,  1,      8,2,19930809, 79.8510, -16.1980,  218,    175.0,   0.1990,  34.5810,2,  34.6330,2,  34.5470,    294.8,2,    290.6,2,    11.52,2,    12.19,2,    -0.01,2,     1.00,2,0.093999997,2,   2144.1,2,    743.4,17.2000008,2, -999.000, -999.000,9,-999.0000,9,  -999.00,  -999.00,9,   -999.0,9, 1.94599998,2,0.219999999,2,     0.00,2,     0.00,2,    40400,2,140,   4400,   0.1923
  32L919930718,    75,  1,      7,2,19930809, 79.8510, -16.1980,  218,    208.0,   0.4760,  34.6750,2,-999.0000,9,  34.6170,    295.1,2,    284.4,2,    11.52,2,    11.95,2,    -0.01,2,     1.01,2,0.093999997,2,   2146.2,2,    738.7,17.2000008,2, -999.000, -999.000,9,-999.0000,9,  -999.00,  -999.00,9,   -999.0,9, 5.37699986,2, 1.05599999,2,     0.01,2,     0.00,2,    63400,2,140,   4399,   0.4674
  32L919930718,    76,  1,      6,2,19930809, 79.7880, -15.9570,  352,      2.0,  -0.6610,  32.0840,2,-999.0000,9,  32.0680,    397.5,2,    427.5,2,     6.56,2,     0.14,2,     0.00,2,     0.79,2,-0.12099999,2,   2058.2,2,    585.2,18.2999992,2, -999.000, -999.000,9,-999.0000,9,  -999.00,  -999.00,9,   -999.0,9,  22.783001,2, 2.87199998,2,     2.27,2,     0.28,2,     -999,9,141,   4422,  -0.6610
  32L919930718,    76,  1,      5,2,19930809, 79.7880, -15.9570,  352,      5.0,  -0.6580,  32.0840,2,  32.1470,2,  32.0980,    393.5,2,    401.3,2,     7.41,2,     0.73,2,     0.03,2,     0.81,2,-0.06200001,2,   2068.6,2,    615.4,18.2999992,2, -999.000, -999.000,9,-999.0000,9,  -999.00,  -999.00,9,   -999.0,9, 23.0160008,2, 2.93899989,2,     1.91,2,     0.42,2,     -999,9,141,   4421,  -0.6581
  32L919930718,    76,  1,      4,2,19930809, 79.7880, -15.9570,  352,     15.0,  -1.6640,  32.2190,2,-999.0000,9,  32.2410,    367.4,2,    374.5,2,    10.94,2,     3.53,2,     0.06,2,     1.04,2,-0.03299999,2,   2104.4,2,    752.6,18.2999992,2, -999.000, -999.000,9,-999.0000,9,  -999.00,  -999.00,9,   -999.0,9, 4.33900023,2,0.518000007,2,     0.40,2,     0.06,2,     -999,9,141,   4420,  -1.6642
  32L919930718,    76,  1,      3,2,19930809, 79.7880, -15.9570,  352,     25.0,  -1.7260,  32.3510,2,-999.0000,9,-999.0000,    363.3,2,    371.0,2,    11.13,2,     4.03,2,     0.02,2,     1.08,2,-0.01300001,2,   -999.0,9,   -999.0,      -999,9, -999.000, -999.000,9,-999.0000,9,  -999.00,  -999.00,9,   -999.0,9, 2.93899989,2,0.224000007,2,     0.08,2,     0.03,2,     -999,9,141,   4419,  -1.7264
  32L919930718,    76,  1,      2,2,19930809, 79.7880, -15.9570,  352,     35.0,  -1.7390,  32.4100,2,-999.0000,9,  32.3990,    361.3,2,    369.6,2,    11.22,2,     4.04,2,     0.03,2,     1.09,2,-0.01300001,2,   2112.9,2,    769.5,18.2999992,2, -999.000, -999.000,9,-999.0000,9,  -999.00,  -999.00,9,   -999.0,9, 1.06799996,2,0.107000001,2,     0.06,2,     0.01,2,     -999,9,141,   4418,  -1.7396
  32L919930718,    76,  1,      1,2,19930809, 79.7880, -15.9570,  352,     60.0,  -1.7270,  32.4830,2,-999.0000,9,  32.5010,    357.3,2,    362.3,2,    11.70,2,     4.82,2,     0.02,2,     1.08,2,0.005999997,2,   2118.8,2,    791.1,18.2999992,2, -999.000, -999.000,9,-999.0000,9,  -999.00,  -999.00,9,   -999.0,9,0.755999982,2,0.093000002,2,     0.01,2,     0.00,2,     -999,9,141,   4417,  -1.7280
  32L919930718,    76,  1,     12,2,19930809, 79.7880, -15.9570,  352,    100.0,  -1.5620,  33.0090,2,  34.8620,0,  33.0870,    333.3,2,    336.5,2,    12.90,2,     7.42,2,     0.02,2,     1.01,2,0.005999997,2,   2138.0,2,    830.6,18.2999992,2, -999.000, -999.000,9,-999.0000,9,  -999.00,  -999.00,9,   -999.0,9,0.377999991,2,0.085000001,2,     0.00,2,     0.00,2,     -999,9,141,   4416,  -1.5639
  32L919930718,    76,  1,     11,2,19930809, 79.7880, -15.9570,  352,    150.0,  -0.6090,  34.1310,2,-999.0000,9,  34.2310,    296.0,2,    298.1,2,    11.19,2,    12.41,2,     0.03,2,     0.98,2,0.005999997,2,   2131.9,2,    750.8,18.2999992,2, -999.000, -999.000,9,-999.0000,9,  -999.00,  -999.00,9,   -999.0,9, 1.01100004,2,0.056000002,2,     0.01,2,     0.00,2,     -999,9,141,   4415,  -0.6136
  32L919930718,    76,  1,     10,2,19930809, 79.7880, -15.9570,  352,    200.0,   0.2130,  34.5980,2,-999.0000,9,  34.5980,    286.8,2,    291.0,2,    11.29,2,    12.75,2,     0.01,2,     0.98,2,0.016000003,2,   2144.9,2,    752.3,18.2999992,2, -999.000, -999.000,9,-999.0000,9,  -999.00,  -999.00,9,   -999.0,9, 1.66499996,2,0.128000006,2,     0.01,2,     0.00,2,     -999,9,141,   4414,   0.2053
  32L919930718,    76,  1,      9,2,19930809, 79.7880, -15.9570,  352,    250.0,   0.6150,  34.7230,2,-999.0000,9,-999.0000,    287.1,2,    291.6,2,    10.84,2,    13.03,2,     0.02,2,     0.98,2,-0.00400001,2,   -999.0,9,   -999.0,      -999,9, -999.000, -999.000,9,-999.0000,9,  -999.00,  -999.00,9,   -999.0,9, 1.16100001,2,0.155000001,2,  -999.00,9,  -999.00,9,     -999,9,141,   4413,   0.6043
  32L919930718,    76,  1,      8,2,19930809, 79.7880, -15.9570,  352,    300.0,   0.8320,  34.7820,2,  34.7930,2,  34.7290,    289.0,2,    291.2,2,    10.65,2,    13.12,2,     0.03,2,     0.99,2,0.045000002,2,   2147.0,2,    731.4,18.2999992,2, -999.000, -999.000,9,-999.0000,9,  -999.00,  -999.00,9,   -999.0,9,0.586000025,2,0.046999998,2,  -999.00,9,  -999.00,9,     -999,9,141,   4412,   0.8185
  32L919930718,    76,  1,      7,2,19930809, 79.7880, -15.9570,  352,    342.0,   0.8520,  34.7860,2,-999.0000,9,-999.0000,    292.8,2,    290.9,2,    10.65,2,    12.83,2,     0.04,2,     0.99,2,0.122999996,2,   -999.0,9,   -999.0,      -999,9,    3.090,    0.046,2,   1.8290,2,     4.70,     0.20,2,   -999.0,9,       -999,9,0.052000001,2,  -999.00,9,  -999.00,9,     -999,9,141,   4411,   0.8364
  32L919930718,    77,  1,      4,2,19930809, 79.7020, -15.5360,  136,      2.0,   0.4890,  31.7520,2,-999.0000,9,  31.8310,    407.1,2,    418.5,2,     3.12,2,     0.19,2,     0.02,2,     0.80,2,-0.02199998,2,   2003.5,2,    463.8,18.2999992,2, -999.000, -999.000,9,-999.0000,9,  -999.00,  -999.00,9,   -999.0,9, 44.0670013,2, 2.25699997,2,     1.77,2,    -0.05,2,     -999,9,142,   4432,   0.4889
  32L919930718,    77,  1,      3,2,19930809, 79.7020, -15.5360,  136,      5.0,   0.4230,  31.8450,2,  31.9950,2,  32.0000,    411.9,2,    414.5,2,     4.36,2,     0.43,2,     0.01,2,     0.82,2,-0.02199998,2,   2034.0,2,    529.0,18.2999992,2, -999.000, -999.000,9,-999.0000,9,  -999.00,  -999.00,9,   -999.0,9, 27.1399994,2, 2.58800006,2,     2.45,2,    -0.09,2,     -999,9,142,   4431,   0.4228
  32L919930718,    77,  1,      2,2,19930809, 79.7020, -15.5360,  136,     10.0,   0.2010,  32.0420,2,-999.0000,9,  32.1400,    415.1,2,    407.3,2,     6.14,2,     0.53,2,     0.04,2,     0.86,2,-0.01199999,2,   2063.0,2,    599.2,18.2999992,2, -999.000, -999.000,9,-999.0000,9,  -999.00,  -999.00,9,   -999.0,9, 27.1100006,2, 3.00600004,2,     2.94,2,    -0.13,2,     -999,9,142,   4430,   0.2007
  32L919930718,    77,  1,      1,2,19930809, 79.7020, -15.5360,  136,     20.0,  -1.6300,  32.2300,2,-999.0000,9,-999.0000,    378.9,2,    380.7,2,     9.91,2,     2.61,2,     0.07,2,     1.00,2,0.066000015,2,   -999.0,9,   -999.0,      -999,9, -999.000, -999.000,9,-999.0000,9,  -999.00,  -999.00,9,   -999.0,9, 8.05200005,2, 1.36000001,2,     1.43,2,     0.03,2,     -999,9,142,   4429,  -1.6303
  32L919930718,    77,  1,     12,2,19930809, 79.7020, -15.5360,  136,     35.0,  -1.7060,  32.3720,2,-999.0000,9,  32.3520,    369.0,2,    373.1,2,    10.64,2,     3.50,2,     0.05,2,     1.05,2, 0.02700001,2,   2107.8,2,    777.8,18.2999992,2, -999.000, -999.000,9,-999.0000,9,  -999.00,  -999.00,9,   -999.0,9, 3.51600003,2,0.529999971,2,     0.60,2,     0.08,2,     -999,9,142,   4428,  -1.7066
  32L919930718,    77,  1,     11,2,19930809, 79.7020, -15.5360,  136,     50.0,  -1.7480,  32.4330,2,-999.0000,9,-999.0000,    365.8,2,    368.9,2,    11.29,2,     3.98,2,     0.02,2,     1.07,2,0.076000005,2,   -999.0,9,   -999.0,      -999,9, -999.000, -999.000,9,-999.0000,9,  -999.00,  -999.00,9,   -999.0,9,0.938000023,2,0.123000003,2,     0.04,2,     0.02,2,     -999,9,142,   4427,  -1.7488
  32L919930718,    77,  1,     10,2,19930809, 79.7020, -15.5360,  136,     60.0,  -1.7400,  32.4600,2,-999.0000,9,  32.3350,    364.4,2,    367.2,2,    11.44,2,     4.32,2,     0.01,2,     1.08,2, 0.02700001,2,   2116.2,2,    797.7,18.2999992,2, -999.000, -999.000,9,-999.0000,9,  -999.00,  -999.00,9,   -999.0,9, 1.81400001,2,0.293000013,2,     0.03,2,     0.01,2,     -999,9,142,   4426,  -1.7410
  32L919930718,    77,  1,      9,2,19930809, 79.7020, -15.5360,  136,     80.0,  -1.6580,  32.6110,2,-999.0000,9,-999.0000,    355.1,2,    356.8,2,    12.06,2,     5.27,2,     0.00,2,     1.08,2,0.046000004,2,   -999.0,9,   -999.0,      -999,9, -999.000, -999.000,9,-999.0000,9,  -999.00,  -999.00,9,   -999.0,9, 2.11800003,2,0.136000007,2,     0.02,2,     0.01,2,     -999,9,142,   4425,  -1.6594
  32L919930718,    77,  1,      8,2,19930809, 79.7020, -15.5360,  136,    101.0,  -1.5670,  32.9340,2,  32.9540,2,  32.9050,    344.5,2,    342.5,2,    12.87,2,     6.63,2,     0.02,2,     1.06,2,0.124000013,2,   2133.4,2,    861.8,18.2999992,2, -999.000, -999.000,9,-999.0000,9,  -999.00,  -999.00,9,   -999.0,9, 1.65400004,2,0.245000005,2,     0.03,2,     0.01,2,     -999,9,142,   4424,  -1.5689
  32L919930718,    77,  1,      7,2,19930809, 79.7020, -15.5360,  136,    126.0,  -1.1040,  33.6320,2,-999.0000,9,  33.5310,    331.1,2,    320.2,2,    12.61,2,     9.06,2,     0.01,2,     1.02,2,0.066000015,2,   2138.9,2,    851.9,18.2999992,2, -999.000, -999.000,9,-999.0000,9,  -999.00,  -999.00,9,   -999.0,9, 2.09299994,2,0.122000001,2,     0.03,2,     0.00,2,     -999,9,142,   4423,  -1.1071
  32L919930718,    78,  1,      6,2,19930809, 79.6350, -15.2760,  105,      2.0,   0.0970,  31.3960,2,-999.0000,9,  31.4730,    404.7,2,    420.7,2,     2.94,2,     0.10,2,     0.00,2,     0.66,2,-0.01999998,2,   1988.2,2,    443.5,17.3999996,2, -999.000, -999.000,9,-999.0000,9,  -999.00,  -999.00,9,      3.7,2, 27.0230007,2, 2.03999996,2,     1.17,2,     0.20,2,    75100,2,143,   4446,   0.0969
  32L919930718,    78,  1,      5,2,19930809, 79.6350, -15.2760,  105,      3.0,   0.0700,  31.4080,2,  31.6120,2,-999.0000,    407.5,2,    425.1,2,  -999.00,9,  -999.00,9,  -999.00,9,  -999.00,9,       -999,9,   -999.0,9,   -999.0,      -999,9, -999.000, -999.000,9,-999.0000,9,  -999.00,  -999.00,9,      4.1,2, 31.1240006,2, 2.51699996,2,     1.30,2,     0.27,2,   102000,2,143,   4445,   0.0699
  32L919930718,    78,  1,      4,2,19930809, 79.6350, -15.2760,  105,      5.0,  -0.2240,  31.6770,2,-999.0000,9,  31.8320,    423.5,2,    431.8,2,     3.46,2,     0.29,2,     0.00,2,     0.77,2,-0.01999998,2,   2014.7,2,    466.5,17.3999996,2, -999.000, -999.000,9,-999.0000,9,  -999.00,  -999.00,9,      5.0,2, 35.6829987,2, 2.59699988,2,     1.45,2,     0.37,2,   107000,2,143,   4444,  -0.2241
  32L919930718,    78,  1,      3,2,19930809, 79.6350, -15.2760,  105,      8.0,  -0.6480,  31.9460,2,-999.0000,9,  32.2110,    416.4,2,    398.8,2,     7.66,2,     2.04,2,     0.04,2,     0.91,2,-0.01999998,2,   2077.9,2,    614.0,17.3999996,2, -999.000, -999.000,9,-999.0000,9,  -999.00,  -999.00,9,      4.3,2, 17.9109993,2, 2.30500007,2,     1.45,2,     0.43,2,   106000,2,143,   4443,  -0.6482
  32L919930718,    78,  1,      2,2,19930809, 79.6350, -15.2760,  105,     14.0,  -1.2130,  32.1760,2,-999.0000,9,-999.0000,    398.2,2,    381.1,2,     9.73,2,     2.91,2,     0.04,2,     0.97,2,0.048999995,2,   -999.0,9,   -999.0,      -999,9, -999.000, -999.000,9,-999.0000,9,  -999.00,  -999.00,9,      1.5,2, 7.68200016,2, 1.18299997,2,     1.04,2,     0.30,2,   105000,2,143,   4442,  -1.2133
  32L919930718,    78,  1,      1,2,19930809, 79.6350, -15.2760,  105,     21.0,  -1.6890,  32.3230,2,-999.0000,9,-999.0000,    368.2,2,    371.5,2,    11.03,2,     3.75,2,     0.04,2,     1.03,2,0.039000005,2,   -999.0,9,   -999.0,      -999,9, -999.000, -999.000,9,-999.0000,9,  -999.00,  -999.00,9,      0.1,2,  2.8499999,2,0.444999993,2,     0.43,2,     0.08,2,    91400,2,143,   4441,  -1.6893
  32L919930718,    78,  1,     12,2,19930809, 79.6350, -15.2760,  105,     33.0,  -1.7320,  32.4090,2,-999.0000,9,  32.4040,    365.6,2,    368.9,2,    11.35,2,     4.20,2,     0.00,2,     1.06,2,0.117000014,2,   2116.1,2,    750.0,17.3999996,2, -999.000, -999.000,9,-999.0000,9,  -999.00,  -999.00,9,      0.0,2, 1.65400004,2,0.236000001,2,     0.12,2,     0.04,2,    56200,2,143,   4440,  -1.7325
  32L919930718,    78,  1,     11,2,19930809, 79.6350, -15.2760,  105,     40.0,  -1.7350,  32.4550,2,-999.0000,9,-999.0000,    364.9,2,    368.1,2,    11.50,2,     4.32,2,     0.01,2,     1.06,2,0.145999998,2,   -999.0,9,   -999.0,      -999,9, -999.000, -999.000,9,-999.0000,9,  -999.00,  -999.00,9,   -999.0,9, 1.36800003,2,0.148000002,2,     0.07,2,     0.03,2,    54600,2,143,   4439,  -1.7356
  32L919930718,    78,  1,     10,2,19930809, 79.6350, -15.2760,  105,     50.0,  -1.7240,  32.4830,2,-999.0000,9,-999.0000,    364.2,2,    365.9,2,    11.62,2,     4.47,2,     0.02,2,     1.06,2, 0.09800002,2,   -999.0,9,   -999.0,      -999,9, -999.000, -999.000,9,-999.0000,9,  -999.00,  -999.00,9,   -999.0,9, 1.23899996,2,0.142000005,2,     0.06,2,     0.03,2,    58900,2,143,   4438,  -1.7248
  32L919930718,    78,  1,      9,2,19930809, 79.6350, -15.2760,  105,     60.0,  -1.6960,  32.5540,2,-999.0000,9,  32.5100,    360.2,2,    361.5,2,    11.87,2,     4.83,2,     0.01,2,     1.06,2,      0.088,2,   2119.4,2,    770.2,17.3999996,2, -999.000, -999.000,9,-999.0000,9,  -999.00,  -999.00,9,   -999.0,9, 1.50999999,2,0.209999993,2,     0.10,2,     0.04,2,    51000,2,143,   4437,  -1.6970
  32L919930718,    78,  1,      8,2,19930809, 79.6350, -15.2760,  105,     81.0,  -1.6160,  32.7460,2,  32.7570,2,-999.0000,    353.9,2,   -999.0,9,    12.48,2,     5.86,2,     0.04,2,     1.04,2,0.145999998,2,   -999.0,9,   -999.0,      -999,9, -999.000, -999.000,9,-999.0000,9,  -999.00,  -999.00,9,   -999.0,9,0.513000011,2,      0.066,2,     0.02,2,     0.02,2,    33900,2,143,   4436,  -1.6175
  32L919930718,    78,  1,      7,2,19930809, 79.6350, -15.2760,  105,     95.0,  -1.5690,  32.8650,2,-999.0000,9,  32.7830,    353.6,2,    362.9,2,    12.57,2,     6.29,2,     0.03,2,     1.04,2, 0.09800002,2,   2128.3,2,    802.8,17.3999996,2, -999.000, -999.000,9,-999.0000,9,  -999.00,  -999.00,9,   -999.0,9, 1.52900004,2,       0.07,2,     0.06,2,     0.04,2,    48700,2,143,   4435,  -1.5708