BOTTLE,20090115PRINUNIVRMK
EXPOCODE,STNNBR,CASTNO,BTLNBR,BTLNBR_FLAG_W,DATE,LATITUDE,LONGITUDE,DEPTH,CTDPRS,CTDTMP,CTDSAL,CTDSAL_FLAG_W,SALNTY,SALNTY_FLAG_W,SOMSAL,CTDOXY,CTDOXY_FLAG_W,OXYGEN,OXYGEN_FLAG_W,SILCAT,SILCAT_FLAG_W,NITRAT,NITRAT_FLAG_W,NITRIT,NITRIT_FLAG_W,PHSPHT,PHSPHT_FLAG_W,AMMONI,AMMONI_FLAG_W,TCARBN,TCARBN_FLAG_W,FCO2,FCO2_TMP,FCO2_FLAG_W,TRITUM,TRITER,TRITUM_FLAG_W,HELIUM,HELIUM_FLAG_W,DELHE3,DELHER,DELHE3_FLAG_W,DELC14,DELC14_FLAG_W,POC,POC_FLAG_W,PON,PON_FLAG_W,CHLORA,CHLORA_FLAG_W,PHAEO,PHAEO_FLAG_W,BACT,BACT_FLAG_W,CTDNO,BNLID,THETA
,,,,,,,,METERS,DBARS,ITS-90,PSS-78,,PSS-78,,PSS-78,UMOL/KG,,UMOL/KG,,UMOL/KG,,UMOL/KG,,UMOL/KG,,UMOL/KG,,UMOL/KG,,UMOL/KG,,UATM,DEGC,,TU,TU,,NMOL/KG,,PERCNT,PERCNT,,O/OO,,ug/kg,,ug/kg,,UG/L,,UG/L,,CELLS/ML,,,,DEGC
  32L919930718,     9,  1,     12,2,19930725, 80.3870, -14.1150,  347,      3.0,   0.9320,  32.0730,2,  32.0680,2,  32.0700,    375.6,2,    376.8,2,    10.12,2,     2.61,2,     0.07,2,     0.93,2,0.001999997,2,   2091.2,2,    733.6,        18,2, -999.000, -999.000,9,-999.0000,9,  -999.00,  -999.00,9,   -999.0,9,      5.454,2,0.879000008,2,     0.27,2,     0.04,2,     -999,9, 15,   3144,   0.9319
  32L919930718,     9,  1,     11,2,19930725, 80.3870, -14.1150,  347,     15.0,  -1.4980,  32.2220,2,-999.0000,9,  32.0570,    375.4,2,    374.3,2,    10.77,2,     3.43,2,     0.07,2,     1.00,2,0.021000002,2,   2106.7,2,    765.4,        18,2, -999.000, -999.000,9,-999.0000,9,  -999.00,  -999.00,9,   -999.0,9,  2.5769999,2,0.504999995,2,     0.17,2,     0.08,2,     -999,9, 15,   3143,  -1.4983
  32L919930718,     9,  1,     10,2,19930725, 80.3870, -14.1150,  347,     35.0,  -1.7100,  32.3440,2,-999.0000,9,  32.0950,    374.2,2,    370.9,2,    10.88,2,     3.88,2,     0.05,2,     1.02,2,0.021000002,2,   2113.9,2,    780.5,        18,2, -999.000, -999.000,9,-999.0000,9,  -999.00,  -999.00,9,   -999.0,9, 1.39499998,2,0.197999999,2,     0.10,2,     0.05,2,     -999,9, 15,   3142,  -1.7106
  32L919930718,     9,  1,      9,2,19930725, 80.3870, -14.1150,  347,     59.0,  -1.7400,  32.4220,2,-999.0000,9,  32.1700,    368.1,2,    365.9,2,    11.27,2,     4.46,2,     0.00,2,     1.04,2,0.021000002,2,   2121.8,2,    789.9,        18,2, -999.000, -999.000,9,-999.0000,9,  -999.00,  -999.00,9,   -999.0,9, 1.57099998,2,0.143000007,2,     0.02,2,     0.02,2,     -999,9, 15,   3141,  -1.7410
  32L919930718,     9,  1,      8,2,19930725, 80.3870, -14.1150,  347,    100.0,  -1.5520,  33.0700,2,-999.0000,9,  33.1350,    333.5,2,    329.3,2,    12.69,2,     8.19,2,     0.01,2,     1.00,2,     -0.008,2,   2143.1,2,    828.7,        18,2, -999.000, -999.000,9,-999.0000,9,  -999.00,  -999.00,9,   -999.0,9,0.606000006,2,0.172000006,2,     0.01,2,     0.01,2,     -999,9, 15,   3140,  -1.5540
  32L919930718,     9,  1,      7,2,19930725, 80.3870, -14.1150,  347,    151.0,  -0.4360,  34.2800,2,-999.0000,9,  34.1030,    295.5,2,    294.0,2,    11.18,2,    12.63,2,     0.00,2,     0.95,2,     -0.037,2,   2140.7,2,    750.8,        18,2, -999.000, -999.000,9,-999.0000,9,  -999.00,  -999.00,9,   -999.0,9, 3.44099998,2,0.164000005,2,     0.01,2,     0.01,2,     -999,9, 15,   3139,  -0.4408
  32L919930718,     9,  1,      6,2,19930725, 80.3870, -14.1150,  347,    176.0,  -0.0290,  34.4840,2,-999.0000,9,  34.3130,    290.5,2,    289.3,2,    11.17,2,    12.96,2,     0.02,2,     0.96,2,     -0.018,2,   2145.9,2,    754.8,        18,2, -999.000, -999.000,9,-999.0000,9,  -999.00,  -999.00,9,   -999.0,9,0.259000003,2,0.071000002,2,     0.08,2,     0.03,2,     -999,9, 15,   3138,  -0.0354
  32L919930718,     9,  1,      5,2,19930725, 80.3870, -14.1150,  347,    199.0,   0.3620,  34.6210,2,-999.0000,9,  34.4060,    286.0,2,    291.0,2,    11.16,2,    13.23,2,     0.01,2,     0.96,2,     -0.008,2,   2148.1,2,    750.9,        18,2, -999.000, -999.000,9,-999.0000,9,  -999.00,  -999.00,9,   -999.0,9, 1.02400005,2,0.075000003,2,     0.00,2,     0.01,2,     -999,9, 15,   3137,   0.3540
  32L919930718,     9,  1,      4,2,19930725, 80.3870, -14.1150,  347,    251.0,   0.5650,  34.7100,2,-999.0000,9,  34.7100,    282.8,2,    284.0,2,    11.89,2,    13.26,2,     0.01,2,     0.98,2,0.001999997,2,   2153.8,2,    740.5,        18,2, -999.000, -999.000,9,-999.0000,9,  -999.00,  -999.00,9,   -999.0,9,0.609000027,2,0.082000002,2,  -999.00,9,  -999.00,9,     -999,9, 15,   3136,   0.5544
  32L919930718,     9,  1,      3,2,19930725, 80.3870, -14.1150,  347,    271.0,   0.6790,  34.7380,2,-999.0000,9,  34.6210,    283.9,2,    285.5,2,    11.41,2,    13.46,2,     0.02,2,     0.97,2,0.001999997,2,   2150.8,2,    739.8,        18,2, -999.000, -999.000,9,-999.0000,9,  -999.00,  -999.00,9,   -999.0,9,0.818000019,2,0.027000001,2,  -999.00,9,  -999.00,9,     -999,9, 15,   3135,   0.6672
  32L919930718,     9,  1,      2,2,19930725, 80.3870, -14.1150,  347,    299.0,   0.4360,  34.7570,2,  34.7610,2,  34.4390,    279.8,2,    285.6,2,    12.18,2,    13.51,2,     0.01,2,     0.99,2,0.041000001,2,   2155.4,2,    743.0,        18,2, -999.000, -999.000,9,-999.0000,9,  -999.00,  -999.00,9,   -999.0,9, 2.89299989,2,0.097000003,2,  -999.00,9,  -999.00,9,     -999,9, 15,   3134,   0.4235
  32L919930718,     9,  1,      1,2,19930725, 80.3870, -14.1150,  347,    337.0,   0.4020,  34.7930,2,-999.0000,9,  34.4510,    279.8,2,    283.7,2,    12.08,2,    13.50,2,     0.05,2,     1.00,2,      0.011,2,   2158.0,2,    729.7,        18,2,    1.730,    0.026,2,   1.7360,2,     7.90,     0.20,2,   -999.0,9, 2.83899999,2,      0.169,2,  -999.00,9,  -999.00,9,     -999,9, 15,   3133,   0.3879
  32L919930718,    10,  1,      1,2,19930725, 80.4680, -14.5100,  329,      2.0,  -0.9830,  32.0400,2,-999.0000,9,-999.0000,    283.4,3,    383.8,2,    10.14,2,     2.96,2,     0.07,2,     0.97,2,0.061000004,2,   -999.0,9,   -999.0,      -999,9, -999.000, -999.000,9,-999.0000,9,  -999.00,  -999.00,9,   -999.0,9, 5.51100016,2,0.777999997,2,  -999.00,9,  -999.00,9,     -999,9, 16,   3145,  -0.9830
  32L919930718,    10,  1,     12,2,19930725, 80.4680, -14.5100,  329,     16.0,  -1.5870,  32.1700,2,  32.1860,2,-999.0000,    393.9,2,    372.2,2,    10.65,2,     3.56,2,     0.08,2,     1.00,2,0.080000006,2,   -999.0,9,   -999.0,      -999,9, -999.000, -999.000,9,-999.0000,9,  -999.00,  -999.00,9,   -999.0,9, 4.64099979,2,0.446999997,2,     0.13,2,     0.05,2,     -999,9, 16,   3156,  -1.5873
  32L919930718,    10,  1,     11,2,19930725, 80.4680, -14.5100,  329,     35.0,  -1.6500,  32.2540,2,-999.0000,9,-999.0000,    376.7,2,    369.1,2,    10.89,2,     3.90,2,     0.05,2,     1.00,2,0.041000005,2,   -999.0,9,   -999.0,      -999,9, -999.000, -999.000,9,-999.0000,9,  -999.00,  -999.00,9,   -999.0,9, 3.50200009,2,0.187999994,2,     0.13,2,     0.02,2,     -999,9, 16,   3155,  -1.6506
  32L919930718,    10,  1,     10,2,19930725, 80.4680, -14.5100,  329,     60.0,  -1.7210,  32.3790,2,-999.0000,9,-999.0000,    374.6,2,    362.0,2,    11.29,2,     4.62,2,     0.01,2,     1.01,2,0.002000004,2,   -999.0,9,   -999.0,      -999,9, -999.000, -999.000,9,-999.0000,9,  -999.00,  -999.00,9,   -999.0,9,  3.5150001,2,0.381000012,2,     0.02,2,     0.01,2,     -999,9, 16,   3154,  -1.7220
  32L919930718,    10,  1,      9,2,19930725, 80.4680, -14.5100,  329,    101.0,  -0.9020,  33.6210,2,-999.0000,9,-999.0000,    366.9,3,    309.8,2,    11.46,2,    10.43,2,     0.01,2,     0.95,2,0.002000004,2,   -999.0,9,   -999.0,      -999,9, -999.000, -999.000,9,-999.0000,9,  -999.00,  -999.00,9,   -999.0,9, 2.18499994,2,0.148000002,2,     0.03,2,     0.02,2,     -999,9, 16,   3153,  -0.9047
  32L919930718,    10,  1,      8,2,19930725, 80.4680, -14.5100,  329,    150.0,   0.0850,  34.4660,2,-999.0000,9,-999.0000,    314.3,3,    287.2,2,    11.48,2,    12.84,2,     0.01,2,     0.95,2,0.002000004,2,   -999.0,9,   -999.0,      -999,9, -999.000, -999.000,9,-999.0000,9,  -999.00,  -999.00,9,   -999.0,9,       3.75,2,0.232999995,2,     0.01,2,     0.01,2,     -999,9, 16,   3152,   0.0795
  32L919930718,    10,  1,      7,2,19930725, 80.4680, -14.5100,  329,    175.0,   0.3190,  34.6030,2,-999.0000,9,-999.0000,    287.9,2,    285.8,2,    11.23,2,    12.95,2,     0.01,2,     0.94,2,0.002000004,2,   -999.0,9,   -999.0,      -999,9, -999.000, -999.000,9,-999.0000,9,  -999.00,  -999.00,9,   -999.0,9, 1.22399998,2,0.048999999,2,     0.01,2,     0.02,2,     -999,9, 16,   3151,   0.3121
  32L919930718,    10,  1,      6,2,19930725, 80.4680, -14.5100,  329,    200.0,   0.4660,  34.6690,2,-999.0000,9,-999.0000,    287.7,2,    285.3,2,    11.28,2,    13.10,2,     0.00,2,     0.95,2,     -0.027,2,   -999.0,9,   -999.0,      -999,9, -999.000, -999.000,9,-999.0000,9,  -999.00,  -999.00,9,   -999.0,9, 1.08299995,2,0.100000001,2,     0.09,2,     0.01,2,     -999,9, 16,   3150,   0.4578
  32L919930718,    10,  1,      5,2,19930725, 80.4680, -14.5100,  329,    249.0,   0.6150,  34.7330,2,-999.0000,9,-999.0000,    286.1,2,    283.3,2,    11.66,2,    13.13,2,     0.00,2,     0.96,2,0.012000002,2,   -999.0,9,   -999.0,      -999,9, -999.000, -999.000,9,-999.0000,9,  -999.00,  -999.00,9,   -999.0,9, 1.75899994,2,       -999,9,     0.13,2,     0.01,2,     -999,9, 16,   3149,   0.6044
  32L919930718,    10,  1,      4,2,19930725, 80.4680, -14.5100,  329,    275.0,   0.4210,  34.7600,2,-999.0000,9,-999.0000,    283.2,2,    281.6,2,    11.81,2,    13.19,2,     0.02,2,     0.98,2,0.002000004,2,   -999.0,9,   -999.0,      -999,9, -999.000, -999.000,9,-999.0000,9,  -999.00,  -999.00,9,   -999.0,9, 1.39600003,2,0.136999995,2,  -999.00,9,  -999.00,9,     -999,9, 16,   3148,   0.4096
  32L919930718,    10,  1,      3,2,19930725, 80.4680, -14.5100,  329,    301.0,   0.3940,  34.7840,2,-999.0000,9,-999.0000,    281.7,2,    281.6,2,    11.64,2,    13.17,2,     0.02,2,     0.98,2,0.061000004,2,   -999.0,9,   -999.0,      -999,9, -999.000, -999.000,9,-999.0000,9,  -999.00,  -999.00,9,   -999.0,9, 1.20599997,2,0.063000001,2,  -999.00,9,  -999.00,9,     -999,9, 16,   3147,   0.3815
  32L919930718,    10,  1,      2,2,19930725, 80.4680, -14.5100,  329,    319.0,   0.3970,  34.8010,2,  34.8040,2,-999.0000,    282.9,2,    283.4,2,    11.66,2,    13.18,2,     0.04,2,     0.99,2,      0.022,2,   -999.0,9,   -999.0,      -999,9, -999.000, -999.000,9,-999.0000,9,  -999.00,  -999.00,9,   -999.0,9, 1.13800001,2,0.097999997,2,  -999.00,9,  -999.00,9,     -999,9, 16,   3146,   0.3837
  32L919930718,    11,  1,      2,2,19930725, 80.5600, -14.7590,  166,      2.0,  -0.2310,  31.8920,2,  31.8200,2,  31.7260,    447.1,2,    416.2,2,     5.16,2,     0.86,2,     0.02,2,     0.76,2,0.061000001,2,   2046.4,2,    545.4,17.2999992,2, -999.000, -999.000,9,-999.0000,9,  -999.00,  -999.00,9,   -999.0,9, 9.52000046,2, 1.06299996,2,     0.10,2,     0.02,2,     -999,9, 17,   3158,  -0.2311
  32L919930718,    11,  1,      1,2,19930725, 80.5600, -14.7590,  166,      5.0,  -0.5320,  32.0570,2,-999.0000,9,  31.9320,    441.5,2,    431.6,2,     4.05,2,     0.30,2,     0.02,2,     0.75,2,-0.03699999,2,   2058.7,2,    522.0,17.2999992,2, -999.000, -999.000,9,-999.0000,9,  -999.00,  -999.00,9,   -999.0,9, 7.17000008,2,0.740999997,2,     0.16,2,     0.04,2,     -999,9, 17,   3157,  -0.5321
  32L919930718,    11,  1,     12,2,19930725, 80.5600, -14.7590,  166,     10.0,  -1.2100,  32.1360,2,  32.1680,2,  31.9740,    411.5,2,    408.9,2,     6.11,2,     1.27,2,    -0.03,2,     0.85,2,0.012000002,2,   2069.4,2,    580.5,17.2999992,2, -999.000, -999.000,9,-999.0000,9,  -999.00,  -999.00,9,   -999.0,9, 19.6459999,2, 1.43700004,2,     0.05,2,     0.01,2,     -999,9, 17,   3168,  -1.2102
  32L919930718,    11,  1,     11,2,19930725, 80.5600, -14.7590,  166,     20.0,  -1.3160,  32.1980,2,-999.0000,9,  32.0700,    377.8,2,    374.2,2,    10.72,2,     3.37,2,    -0.03,2,     0.99,2,      0.022,2,   2104.8,2,    729.0,17.2999992,2, -999.000, -999.000,9,-999.0000,9,  -999.00,  -999.00,9,   -999.0,9, 4.28200006,2,0.777999997,2,     0.32,2,     0.08,2,     -999,9, 17,   3167,  -1.3164
  32L919930718,    11,  1,     10,2,19930725, 80.5600, -14.7590,  166,     35.0,  -1.5330,  32.2650,2,-999.0000,9,  32.1430,    372.4,2,    358.7,2,    11.01,2,     3.71,2,     0.06,2,     1.02,2,     -0.017,2,   2111.5,2,    746.9,17.2999992,2, -999.000, -999.000,9,-999.0000,9,  -999.00,  -999.00,9,   -999.0,9, 1.51100004,2,0.379000008,2,     0.27,2,     0.06,2,     -999,9, 17,   3166,  -1.5336
  32L919930718,    11,  1,      9,2,19930725, 80.5600, -14.7590,  166,     50.0,  -1.7440,  32.3360,2,-999.0000,9,  32.2210,    371.6,2,    364.6,2,    11.14,2,     4.24,2,     0.05,2,     1.03,2,     -0.007,2,   2115.7,2,    757.8,17.2999992,2, -999.000, -999.000,9,-999.0000,9,  -999.00,  -999.00,9,   -999.0,9, 1.91199994,2,0.236000001,2,     0.12,2,     0.04,2,     -999,9, 17,   3165,  -1.7448
  32L919930718,    11,  1,      8,2,19930725, 80.5600, -14.7590,  166,     60.0,  -1.7170,  32.3840,2,-999.0000,9,  32.2760,    362.7,2,    354.5,2,    11.62,2,     5.26,2,     0.06,2,     1.04,2,-0.03699999,2,   2123.8,2,    768.0,17.2999992,2, -999.000, -999.000,9,-999.0000,9,  -999.00,  -999.00,9,   -999.0,9, 1.62899995,2,0.216000006,2,     0.08,2,     0.06,2,     -999,9, 17,   3164,  -1.7180
  32L919930718,    11,  1,      7,2,19930725, 80.5600, -14.7590,  166,     80.0,  -1.5430,  32.8140,2,-999.0000,9,  32.8450,    338.2,2,    335.8,2,    11.93,2,     7.26,2,     0.10,2,     1.01,2,-0.03699999,2,   2131.1,2,    780.9,17.2999992,2, -999.000, -999.000,9,-999.0000,9,  -999.00,  -999.00,9,   -999.0,9,0.606999993,2,0.166999996,2,     0.08,2,     0.02,2,     -999,9, 17,   3163,  -1.5445
  32L919930718,    11,  1,      6,2,19930725, 80.5600, -14.7590,  166,    100.0,  -1.0560,  33.6020,2,-999.0000,9,  33.6000,    313.4,2,    309.8,2,    11.63,2,    10.27,2,     0.05,2,     0.98,2,     -0.056,2,   2136.2,2,    754.8,17.2999992,2, -999.000, -999.000,9,-999.0000,9,  -999.00,  -999.00,9,   -999.0,9,0.875999987,2,0.107000001,2,     0.03,2,     0.01,2,     -999,9, 17,   3162,  -1.0585
  32L919930718,    11,  1,      5,2,19930725, 80.5600, -14.7590,  166,    125.0,  -0.2750,  34.2960,2,-999.0000,9,  34.1380,    294.4,2,    291.8,2,    11.40,2,    12.20,2,     0.04,2,     0.97,2,-0.03699999,2,   2142.3,2,    734.0,17.2999992,2, -999.000, -999.000,9,-999.0000,9,  -999.00,  -999.00,9,   -999.0,9,0.646000028,2,0.052999999,2,     0.13,2,     0.02,2,     -999,9, 17,   3161,  -0.2792
  32L919930718,    11,  1,      4,2,19930725, 80.5600, -14.7590,  166,    149.0,   0.2230,  34.5600,2,-999.0000,9,  34.3770,    286.7,2,    283.1,2,    11.87,2,    12.68,2,     0.03,2,     0.97,2,0.061000001,2,   2156.9,2,    729.0,17.2999992,2, -999.000, -999.000,9,-999.0000,9,  -999.00,  -999.00,9,   -999.0,9, 2.02999997,2,0.118000001,2,     0.03,2,     0.02,2,     -999,9, 17,   3160,   0.2173
  32L919930718,    11,  1,      3,2,19930725, 80.5600, -14.7590,  166,    156.0,   0.2380,  34.5650,2,-999.0000,9,  34.2300,    286.2,2,    284.4,2,    11.76,2,    12.66,2,     0.03,2,     0.92,2,0.041000001,2,   2152.4,2,    725.4,17.2999992,2, -999.000, -999.000,9,-999.0000,9,  -999.00,  -999.00,9,   -999.0,9,0.437000006,2,      0.077,2,     0.03,2,     0.02,2,     -999,9, 17,   3159,   0.2320
  32L919930718,    12,  1,      7,2,19930725, 80.6420, -15.0910,   82,      2.0,   0.4040,  27.2890,2,  28.9090,2,-999.0000,    437.2,2,    435.6,2,     1.56,2,     0.02,2,    -0.02,2,     0.63,2,0.002000004,2,   -999.0,9,   -999.0,      -999,9, -999.000, -999.000,9,-999.0000,9,  -999.00,  -999.00,9,   -999.0,9, 18.9260006,2, 2.21199989,2,     1.12,2,     0.09,2,     -999,9, 18,   3175,   0.4039
  32L919930718,    12,  1,      6,2,19930725, 80.6420, -15.0910,   82,      7.0,  -0.0930,  30.7460,2,-999.0000,9,-999.0000,    443.4,2,    427.5,2,     3.25,2,     0.12,2,     0.03,2,     0.76,2,0.031999998,2,   -999.0,9,   -999.0,      -999,9, -999.000, -999.000,9,-999.0000,9,  -999.00,  -999.00,9,   -999.0,9, 15.6120005,2, 1.69599998,2,     0.56,2,     0.07,2,     -999,9, 18,   3174,  -0.0932
  32L919930718,    12,  1,      5,2,19930725, 80.6420, -15.0910,   82,     12.0,   0.0810,  31.3620,2,-999.0000,9,-999.0000,    432.3,2,    429.6,2,     2.91,2,     0.05,2,     0.01,2,     0.73,2,0.002000004,2,   -999.0,9,   -999.0,      -999,9, -999.000, -999.000,9,-999.0000,9,  -999.00,  -999.00,9,   -999.0,9, 15.2069998,2, 1.54200006,2,     0.32,2,     0.04,2,     -999,9, 18,   3173,   0.0806
  32L919930718,    12,  1,      4,2,19930725, 80.6420, -15.0910,   82,     36.0,  -1.5450,  32.2540,2,-999.0000,9,-999.0000,    369.0,2,    368.6,2,    12.23,2,     3.67,2,     0.06,2,     1.02,2,0.051000003,2,   -999.0,9,   -999.0,      -999,9, -999.000, -999.000,9,-999.0000,9,  -999.00,  -999.00,9,   -999.0,9, 5.42399979,2,0.614000022,2,     0.41,2,     0.11,2,     -999,9, 18,   3172,  -1.5456
  32L919930718,    12,  1,      3,2,19930725, 80.6420, -15.0910,   82,     53.0,  -1.5810,  32.6630,2,-999.0000,9,-999.0000,    352.0,2,    341.6,2,    14.60,2,     5.92,2,     0.03,2,     1.05,2,      0.022,2,   -999.0,9,   -999.0,      -999,9, -999.000, -999.000,9,-999.0000,9,  -999.00,  -999.00,9,   -999.0,9, 3.07999992,2,0.123000003,2,     0.10,2,     0.06,2,     -999,9, 18,   3171,  -1.5820
  32L919930718,    12,  1,      2,2,19930725, 80.6420, -15.0910,   82,     64.0,  -1.5380,  32.7500,2,  32.8580,2,-999.0000,    350.3,2,    332.8,2,    14.80,2,     6.25,2,     0.03,2,     1.04,2,0.071000002,2,   -999.0,9,   -999.0,      -999,9, -999.000, -999.000,9,-999.0000,9,  -999.00,  -999.00,9,   -999.0,9, 2.31900001,2,0.182999998,2,     0.07,2,     0.04,2,     -999,9, 18,   3170,  -1.5392
  32L919930718,    12,  1,      1,2,19930725, 80.6420, -15.0910,   82,     72.0,  -1.4060,  32.9870,2,-999.0000,9,-999.0000,    342.5,2,    341.0,2,    14.89,2,     6.43,2,     0.03,2,     1.04,2,0.041000001,2,   -999.0,9,   -999.0,      -999,9, -999.000, -999.000,9,-999.0000,9,  -999.00,  -999.00,9,   -999.0,9, 3.24900007,2,0.294999987,2,     0.06,2,     0.04,2,     -999,9, 18,   3169,  -1.4075