BOTTLE,20090115PRINUNIVRMK
EXPOCODE,STNNBR,CASTNO,BTLNBR,BTLNBR_FLAG_W,DATE,LATITUDE,LONGITUDE,DEPTH,CTDPRS,CTDTMP,CTDSAL,CTDSAL_FLAG_W,SALNTY,SALNTY_FLAG_W,SOMSAL,CTDOXY,CTDOXY_FLAG_W,OXYGEN,OXYGEN_FLAG_W,SILCAT,SILCAT_FLAG_W,NITRAT,NITRAT_FLAG_W,NITRIT,NITRIT_FLAG_W,PHSPHT,PHSPHT_FLAG_W,AMMONI,AMMONI_FLAG_W,TCARBN,TCARBN_FLAG_W,FCO2,FCO2_TMP,FCO2_FLAG_W,TRITUM,TRITER,TRITUM_FLAG_W,HELIUM,HELIUM_FLAG_W,DELHE3,DELHER,DELHE3_FLAG_W,DELC14,DELC14_FLAG_W,POC,POC_FLAG_W,PON,PON_FLAG_W,CHLORA,CHLORA_FLAG_W,PHAEO,PHAEO_FLAG_W,BACT,BACT_FLAG_W,CTDNO,BNLID,THETA
,,,,,,,,METERS,DBARS,ITS-90,PSS-78,,PSS-78,,PSS-78,UMOL/KG,,UMOL/KG,,UMOL/KG,,UMOL/KG,,UMOL/KG,,UMOL/KG,,UMOL/KG,,UMOL/KG,,UATM,DEGC,,TU,TU,,NMOL/KG,,PERCNT,PERCNT,,O/OO,,ug/kg,,ug/kg,,UG/L,,UG/L,,CELLS/ML,,,,DEGC
  32L919930718,    65,  1,     12,2,19930806, 79.5900, -10.3080,  257,      2.0,  -1.5800,  31.7370,2,-999.0000,9,-999.0000,    385.5,2,    392.5,2,     9.74,2,     1.45,2,     0.09,2,     0.86,2,0.072999999,2,   -999.0,9,   -999.0,      -999,9, -999.000, -999.000,9,-999.0000,9,  -999.00,  -999.00,9,      0.2,2, 9.22500038,2, 1.48399997,2,     0.19,2,     0.12,2,   241000,2,120,   4224,  -1.5800
  32L919930718,    65,  1,     11,2,19930806, 79.5900, -10.3080,  257,      8.0,  -1.5880,  31.7550,2,-999.0000,9,-999.0000,    384.9,2,    391.1,2,    10.03,2,     1.60,2,     0.07,2,     0.91,2,0.053000003,2,   -999.0,9,   -999.0,      -999,9, -999.000, -999.000,9,-999.0000,9,  -999.00,  -999.00,9,      0.3,2,       5.25,2,0.717999995,2,     0.18,2,     0.16,2,   337000,2,120,   4223,  -1.5881
  32L919930718,    65,  1,     10,2,19930806, 79.5900, -10.3080,  257,     14.0,  -1.6010,  31.7840,2,-999.0000,9,-999.0000,    385.2,2,    385.8,2,    10.38,2,     2.08,2,     0.08,2,     0.95,2,0.033999994,2,   -999.0,9,   -999.0,      -999,9, -999.000, -999.000,9,-999.0000,9,  -999.00,  -999.00,9,      0.2,2, 4.54099989,2,0.546999991,2,     0.14,2,     0.10,2,   227000,2,120,   4222,  -1.6012
  32L919930718,    65,  1,      8,2,19930806, 79.5900, -10.3080,  257,     15.0,  -1.6040,  31.8040,2,-999.0000,9,-999.0000,    382.7,2,   -999.0,9,  -999.00,9,  -999.00,9,  -999.00,9,  -999.00,9,       -999,9,   -999.0,9,   -999.0,      -999,9, -999.000, -999.000,9,-999.0000,9,  -999.00,  -999.00,9,   -999.0,9,       -999,9,       -999,9,  -999.00,9,  -999.00,9,     -999,9,120,   4220,  -1.6042
  32L919930718,    65,  1,      9,2,19930806, 79.5900, -10.3080,  257,     15.0,  -1.6040,  31.8070,2,-999.0000,9,-999.0000,    384.0,2,   -999.0,9,  -999.00,9,  -999.00,9,  -999.00,9,  -999.00,9,       -999,9,   -999.0,9,   -999.0,      -999,9, -999.000, -999.000,9,-999.0000,9,  -999.00,  -999.00,9,   -999.0,9,       -999,9,       -999,9,  -999.00,9,  -999.00,9,     -999,9,120,   4221,  -1.6042
  32L919930718,    65,  1,      7,2,19930806, 79.5900, -10.3080,  257,     22.0,  -1.7040,  32.2380,2,-999.0000,9,-999.0000,    371.3,2,    375.9,2,    10.74,2,     2.42,2,     0.13,2,     0.99,2,      0.044,2,   -999.0,9,   -999.0,      -999,9, -999.000, -999.000,9,-999.0000,9,  -999.00,  -999.00,9,      0.1,2, 2.54500008,2,0.308999985,2,     0.11,2,     0.05,2,   146000,2,120,   4219,  -1.7043
  32L919930718,    65,  1,      6,2,19930806, 79.5900, -10.3080,  257,     35.0,  -1.7140,  32.3350,2,-999.0000,9,-999.0000,    367.3,2,    370.9,2,    10.97,2,     3.56,2,     0.05,2,     1.03,2,0.053000003,2,   -999.0,9,   -999.0,      -999,9, -999.000, -999.000,9,-999.0000,9,  -999.00,  -999.00,9,      0.0,2, 1.45200002,2,0.175999999,2,     0.08,2,     0.03,2,    93300,2,120,   4218,  -1.7146
  32L919930718,    65,  1,      5,2,19930806, 79.5900, -10.3080,  257,     54.0,  -1.7430,  32.4160,2,-999.0000,9,-999.0000,    366.7,2,    370.1,2,    10.85,2,     3.55,2,     0.05,2,     1.00,2,0.024000004,2,   -999.0,9,   -999.0,      -999,9, -999.000, -999.000,9,-999.0000,9,  -999.00,  -999.00,9,      0.0,2,0.238999993,2,0.107000001,2,     0.04,2,     0.01,2,    88100,2,120,   4217,  -1.7439
  32L919930718,    65,  1,      4,2,19930806, 79.5900, -10.3080,  257,     81.0,  -1.7550,  32.4470,2,-999.0000,9,-999.0000,    367.8,2,    371.0,2,    11.10,2,     3.46,2,     0.10,2,     1.01,2,0.024000004,2,   -999.0,9,   -999.0,      -999,9, -999.000, -999.000,9,-999.0000,9,  -999.00,  -999.00,9,      0.0,2,0.451999992,2,       0.07,2,     0.03,2,     0.02,2,    59600,2,120,   4216,  -1.7563
  32L919930718,    65,  1,      3,2,19930806, 79.5900, -10.3080,  257,     90.0,  -1.7560,  32.4550,2,-999.0000,9,-999.0000,    367.2,2,    371.2,2,    11.05,2,     3.52,2,     0.03,2,     1.03,2,0.004999995,2,   -999.0,9,   -999.0,      -999,9, -999.000, -999.000,9,-999.0000,9,  -999.00,  -999.00,9,   -999.0,9, 2.08599997,2,0.116999999,2,     0.03,2,     0.01,2,    74100,2,120,   4215,  -1.7575
  32L919930718,    65,  1,      2,2,19930806, 79.5900, -10.3080,  257,    100.0,  -1.7550,  32.4600,2,-999.0000,9,-999.0000,    367.0,2,    369.4,2,    11.12,2,     3.61,2,     0.03,2,     1.03,2,0.013999999,2,   -999.0,9,   -999.0,      -999,9, -999.000, -999.000,9,-999.0000,9,  -999.00,  -999.00,9,   -999.0,9,0.652999997,2,0.173999995,2,     0.02,2,     0.01,2,    52100,2,120,   4214,  -1.7567
  32L919930718,    65,  1,      1,2,19930806, 79.5900, -10.3080,  257,    226.0,  -0.1850,  34.4080,2,-999.0000,9,-999.0000,    285.1,2,    284.4,2,    15.25,2,    12.41,2,     0.03,2,     0.97,2,0.024000004,2,   -999.0,9,   -999.0,      -999,9, -999.000, -999.000,9,-999.0000,9,  -999.00,  -999.00,9,   -999.0,9,0.437000006,2,0.116999999,2,     0.01,2,     0.01,2,    47600,2,120,   4213,  -0.1930
  32L919930718,    65,  2,     12,2,19930806, 79.5900, -10.3080,  257,      2.0,  -1.5670,  31.7430,2,  28.4980,2,  30.3090,    386.8,2,    391.6,2,     9.39,2,     1.24,2,     0.07,2,     0.82,2,0.179000005,2,   1970.0,2,    626.2,17.2000008,2, -999.000, -999.000,9,-999.0000,9,  -999.00,  -999.00,9,   -999.0,9,       -999,9,       -999,9,     0.15,2,     0.09,2,     -999,9,121,   4236,  -1.5670
  32L919930718,    65,  2,     11,2,19930806, 79.5900, -10.3080,  257,     10.0,  -1.5880,  31.7710,2,-999.0000,9,  31.7470,    387.6,2,    390.4,2,    10.18,2,     1.65,2,     0.08,2,     0.90,2,0.199000001,2,   2063.1,2,    637.7,17.2000008,2, -999.000, -999.000,9,-999.0000,9,  -999.00,  -999.00,9,   -999.0,9,       -999,9,       -999,9,     0.19,2,     0.10,2,     -999,9,121,   4235,  -1.5882
  32L919930718,    65,  2,     10,2,19930806, 79.5900, -10.3080,  257,     20.0,  -1.6630,  32.0260,2,-999.0000,9,  32.1180,    379.1,2,    377.2,2,    10.61,2,     2.82,2,     0.13,2,     0.99,2,0.101000011,2,   2097.5,2,    704.9,17.2000008,2, -999.000, -999.000,9,-999.0000,9,  -999.00,  -999.00,9,   -999.0,9,       -999,9,       -999,9,     0.08,2,     0.06,2,     -999,9,121,   4234,  -1.6633
  32L919930718,    65,  2,      9,2,19930806, 79.5900, -10.3080,  257,     40.0,  -1.7260,  32.3710,2,-999.0000,9,  32.3630,    368.7,2,    370.3,2,    10.86,2,     3.72,2,     0.03,2,     1.03,2,     -0.035,2,   2115.9,2,    736.3,17.2000008,2, -999.000, -999.000,9,-999.0000,9,  -999.00,  -999.00,9,   -999.0,9,       -999,9,       -999,9,     0.04,2,     0.02,2,     -999,9,121,   4233,  -1.7266
  32L919930718,    65,  2,      8,2,19930806, 79.5900, -10.3080,  257,     60.0,  -1.7450,  32.4310,2,-999.0000,9,  32.3850,    366.9,2,    366.9,2,    10.95,2,     3.88,2,     0.01,2,     1.03,2,0.004000008,2,   2114.5,2,    730.9,17.2000008,2, -999.000, -999.000,9,-999.0000,9,  -999.00,  -999.00,9,   -999.0,9,       -999,9,       -999,9,     0.02,2,     0.03,2,     -999,9,121,   4232,  -1.7460
  32L919930718,    65,  2,      7,2,19930806, 79.5900, -10.3080,  257,     80.0,  -1.7540,  32.4460,2,-999.0000,9,-999.0000,    369.7,2,    370.8,2,    10.84,2,     3.79,2,    -0.01,2,     1.01,2,     -0.006,2,   -999.0,9,   -999.0,      -999,9, -999.000, -999.000,9,-999.0000,9,  -999.00,  -999.00,9,   -999.0,9,       -999,9,       -999,9,     0.02,2,     0.01,2,     -999,9,121,   4231,  -1.7553
  32L919930718,    65,  2,      6,2,19930806, 79.5900, -10.3080,  257,    100.0,  -1.7490,  32.4660,2,-999.0000,9,  32.4380,    367.7,2,    369.3,2,    11.05,2,     3.95,2,     0.03,2,     1.01,2,0.013000011,2,   2116.2,2,    748.5,17.2000008,2, -999.000, -999.000,9,-999.0000,9,  -999.00,  -999.00,9,   -999.0,9,       -999,9,       -999,9,     0.01,2,     0.01,2,     -999,9,121,   4230,  -1.7507
  32L919930718,    65,  2,      5,2,19930806, 79.5900, -10.3080,  257,    120.0,  -1.6790,  32.5600,2,-999.0000,9,-999.0000,    355.3,2,    352.7,2,    11.96,2,     5.28,2,     0.00,2,     1.00,2,-0.01599999,2,   -999.0,9,   -999.0,      -999,9, -999.000, -999.000,9,-999.0000,9,  -999.00,  -999.00,9,   -999.0,9,       -999,9,       -999,9,     0.01,2,     0.01,2,     -999,9,121,   4229,  -1.6811
  32L919930718,    65,  2,      4,2,19930806, 79.5900, -10.3080,  257,    150.0,  -0.9120,  33.7210,2,-999.0000,9,  33.8790,    309.9,2,    303.2,2,    13.83,2,    10.61,2,     0.01,2,     0.96,2,-0.01599999,2,   2142.2,2,    798.3,17.2000008,2, -999.000, -999.000,9,-999.0000,9,  -999.00,  -999.00,9,   -999.0,9,       -999,9,       -999,9,     0.01,2,     0.01,2,     -999,9,121,   4228,  -0.9160
  32L919930718,    65,  2,      3,2,19930806, 79.5900, -10.3080,  257,    180.0,  -0.4800,  34.2570,2,-999.0000,9,-999.0000,    293.5,2,    292.1,2,    13.39,2,    11.45,2,     0.00,2,     0.93,2,-0.01599999,2,   -999.0,9,   -999.0,      -999,9, -999.000, -999.000,9,-999.0000,9,  -999.00,  -999.00,9,   -999.0,9,       -999,9,       -999,9,     0.01,2,     0.01,2,     -999,9,121,   4227,  -0.4858
  32L919930718,    65,  2,      2,2,19930806, 79.5900, -10.3080,  257,    210.0,  -0.2070,  34.3980,2,  34.4000,2,  34.3710,    286.0,2,    284.1,2,    14.88,2,    12.22,2,     0.00,2,     0.97,2,-0.01599999,2,   2149.1,2,    794.6,17.2000008,2, -999.000, -999.000,9,-999.0000,9,  -999.00,  -999.00,9,   -999.0,9,       -999,9,       -999,9,  -999.00,9,  -999.00,9,     -999,9,121,   4226,  -0.2143
  32L919930718,    65,  2,      1,2,19930806, 79.5900, -10.3080,  257,    243.0,  -0.1110,  34.4460,2,-999.0000,9,  34.4150,    283.6,2,    280.5,2,    15.68,2,    12.06,2,     0.00,2,     1.00,2,0.004000008,2,   2151.9,2,    807.8,17.2000008,2, -999.000, -999.000,9,-999.0000,9,  -999.00,  -999.00,9,   -999.0,9,       -999,9,       -999,9,  -999.00,9,  -999.00,9,     -999,9,121,   4225,  -0.1198
  32L919930718,    65,  3,      9,2,19930806, 79.5900, -10.3080,  257,     99.0,  -1.7550,  32.4610,2,-999.0000,9,-999.0000,    364.5,2,   -999.0,9,  -999.00,9,  -999.00,9,  -999.00,9,  -999.00,9,       -999,9,   -999.0,9,   -999.0,      -999,9, -999.000, -999.000,9,-999.0000,9,  -999.00,  -999.00,9,   -999.0,9,       -999,9,       -999,9,  -999.00,9,  -999.00,9,     -999,9,122,   4245,  -1.7566
  32L919930718,    65,  3,      8,2,19930806, 79.5900, -10.3080,  257,    150.0,  -0.9210,  33.6690,2,-999.0000,9,-999.0000,    309.9,2,   -999.0,9,  -999.00,9,  -999.00,9,  -999.00,9,  -999.00,9,       -999,9,   -999.0,9,   -999.0,      -999,9, -999.000, -999.000,9,-999.0000,9,  -999.00,  -999.00,9,   -999.0,9,       -999,9,       -999,9,  -999.00,9,  -999.00,9,     -999,9,122,   4244,  -0.9250
  32L919930718,    65,  3,      7,2,19930806, 79.5900, -10.3080,  257,    174.0,  -0.5810,  34.1860,2,-999.0000,9,-999.0000,    292.6,2,   -999.0,9,  -999.00,9,  -999.00,9,  -999.00,9,  -999.00,9,       -999,9,   -999.0,9,   -999.0,      -999,9, -999.000, -999.000,9,-999.0000,9,  -999.00,  -999.00,9,   -999.0,9,       -999,9,       -999,9,  -999.00,9,  -999.00,9,     -999,9,122,   4243,  -0.5864
  32L919930718,    65,  3,      6,2,19930806, 79.5900, -10.3080,  257,    199.0,  -0.3110,  34.3440,2,-999.0000,9,-999.0000,    286.1,2,   -999.0,9,  -999.00,9,  -999.00,9,  -999.00,9,  -999.00,9,       -999,9,   -999.0,9,   -999.0,      -999,9, -999.000, -999.000,9,-999.0000,9,  -999.00,  -999.00,9,   -999.0,9,       -999,9,       -999,9,  -999.00,9,  -999.00,9,     -999,9,122,   4242,  -0.3177
  32L919930718,    65,  3,      5,2,19930806, 79.5900, -10.3080,  257,    220.0,  -0.1720,  34.4140,2,-999.0000,9,-999.0000,    281.9,2,   -999.0,9,  -999.00,9,  -999.00,9,  -999.00,9,  -999.00,9,       -999,9,   -999.0,9,   -999.0,      -999,9, -999.000, -999.000,9,-999.0000,9,  -999.00,  -999.00,9,   -999.0,9,       -999,9,       -999,9,  -999.00,9,  -999.00,9,     -999,9,122,   4241,  -0.1798
  32L919930718,    65,  3,      4,2,19930806, 79.5900, -10.3080,  257,    230.0,  -0.1370,  34.4300,2,-999.0000,9,-999.0000,    281.1,2,   -999.0,9,  -999.00,9,  -999.00,9,  -999.00,9,  -999.00,9,       -999,9,   -999.0,9,   -999.0,      -999,9, -999.000, -999.000,9,-999.0000,9,  -999.00,  -999.00,9,   -999.0,9,       -999,9,       -999,9,  -999.00,9,  -999.00,9,     -999,9,122,   4240,  -0.1452
  32L919930718,    65,  3,      3,2,19930806, 79.5900, -10.3080,  257,    240.0,  -0.1170,  34.4400,2,-999.0000,9,-999.0000,    281.3,2,   -999.0,9,  -999.00,9,  -999.00,9,  -999.00,9,  -999.00,9,       -999,9,   -999.0,9,   -999.0,      -999,9, -999.000, -999.000,9,-999.0000,9,  -999.00,  -999.00,9,   -999.0,9,       -999,9,       -999,9,  -999.00,9,  -999.00,9,     -999,9,122,   4239,  -0.1256
  32L919930718,    65,  3,      1,2,19930806, 79.5900, -10.3080,  257,    247.0,  -0.1080,  34.4460,2,-999.0000,9,-999.0000,    281.9,2,   -999.0,9,  -999.00,9,  -999.00,9,  -999.00,9,  -999.00,9,       -999,9,   -999.0,9,   -999.0,      -999,9, -999.000, -999.000,9,-999.0000,9,  -999.00,  -999.00,9,   -999.0,9,       -999,9,       -999,9,  -999.00,9,  -999.00,9,     -999,9,122,   4237,  -0.1169
  32L919930718,    65,  3,      2,2,19930806, 79.5900, -10.3080,  257,    247.0,  -0.1080,  34.4470,2,-999.0000,9,-999.0000,    282.0,2,   -999.0,9,  -999.00,9,  -999.00,9,  -999.00,9,  -999.00,9,       -999,9,   -999.0,9,   -999.0,      -999,9, -999.000, -999.000,9,-999.0000,9,  -999.00,  -999.00,9,   -999.0,9,       -999,9,       -999,9,  -999.00,9,  -999.00,9,     -999,9,122,   4238,  -0.1169
  32L919930718,    66,  1,     10,2,19930806, 79.4630, -11.1590,  291,      2.0,  -1.5620,  30.9950,2,-999.0000,9,  27.3520,    390.3,2,    397.7,2,     8.29,2,     0.74,2,     0.09,2,     0.73,2,0.229000002,2,   1780.3,2,    535.9,        17,2, -999.000, -999.000,9,-999.0000,9,  -999.00,  -999.00,9,   -999.0,9, 9.74699974,2, 1.53100002,2,     0.38,2,     0.07,2,     -999,9,124,   4246,  -1.5620
  32L919930718,    66,  1,      9,2,19930806, 79.4630, -11.1590,  291,     10.0,  -1.5920,  32.0840,2,  32.1490,2,  32.0920,    384.6,2,    389.8,2,    10.12,2,     1.52,2,     0.10,2,     0.94,2,0.239000008,2,   2082.9,2,    641.3,        17,2, -999.000, -999.000,9,-999.0000,9,  -999.00,  -999.00,9,   -999.0,9, 6.21999979,2,0.907000005,2,     0.19,2,     0.07,2,     -999,9,124,   4257,  -1.5922
  32L919930718,    66,  1,      8,2,19930806, 79.4630, -11.1590,  291,     20.0,  -1.6860,  32.2160,2,-999.0000,9,-999.0000,    375.5,2,    381.6,2,    10.31,2,     2.37,2,     0.13,2,     0.98,2,0.160999998,2,   -999.0,9,   -999.0,      -999,9, -999.000, -999.000,9,-999.0000,9,  -999.00,  -999.00,9,   -999.0,9, 3.96300006,2,0.597000003,2,     0.09,2,     0.02,2,     -999,9,124,   4256,  -1.6863
  32L919930718,    66,  1,      7,2,19930806, 79.4630, -11.1590,  291,     36.0,  -1.7130,  32.3540,2,-999.0000,9,  32.3280,    366.4,2,    370.3,2,    10.66,2,     3.74,2,     0.08,2,     1.05,2,0.034000009,2,   2110.2,2,    726.7,        17,2, -999.000, -999.000,9,-999.0000,9,  -999.00,  -999.00,9,   -999.0,9, 2.17600012,2,0.134000003,2,     0.04,2,     0.01,2,     -999,9,124,   4255,  -1.7136
  32L919930718,    66,  1,      6,2,19930806, 79.4630, -11.1590,  291,     49.0,  -1.7320,  32.3980,2,-999.0000,9,  32.3480,    367.1,2,    371.1,2,    10.93,2,     3.69,2,     0.03,2,     1.05,2,     -0.005,2,   2113.6,2,    723.2,        17,2, -999.000, -999.000,9,-999.0000,9,  -999.00,  -999.00,9,   -999.0,9, 2.21700001,2,0.211999997,2,     0.03,2,     0.01,2,     -999,9,124,   4254,  -1.7328
  32L919930718,    66,  1,      5,2,19930806, 79.4630, -11.1590,  291,     60.0,  -1.7370,  32.4200,2,-999.0000,9,  32.3790,    365.0,2,    369.7,2,    10.91,2,     3.99,2,     0.03,2,     1.06,2,0.024000004,2,   2115.0,2,    725.7,        17,2, -999.000, -999.000,9,-999.0000,9,  -999.00,  -999.00,9,   -999.0,9, 2.00300002,2,0.188999996,2,     0.02,2,     0.02,2,     -999,9,124,   4253,  -1.7380
  32L919930718,    66,  1,      4,2,19930806, 79.4630, -11.1590,  291,     80.0,  -1.7370,  32.4500,2,-999.0000,9,-999.0000,    363.7,2,    369.2,2,    10.98,2,     3.98,2,     0.04,2,     1.06,2,0.072999999,2,   -999.0,9,   -999.0,      -999,9, -999.000, -999.000,9,-999.0000,9,  -999.00,  -999.00,9,   -999.0,9,     14.231,2,0.745000005,2,     0.01,2,     0.02,2,     -999,9,124,   4252,  -1.7383
  32L919930718,    66,  1,      3,2,19930806, 79.4630, -11.1590,  291,    102.0,  -1.7100,  32.4990,2,-999.0000,9,  32.7170,    358.9,2,    352.9,2,    11.78,2,     5.49,2,     0.02,2,     1.03,2,0.034000009,2,   2123.8,2,    755.0,        17,2, -999.000, -999.000,9,-999.0000,9,  -999.00,  -999.00,9,   -999.0,9, 1.60800004,2,0.075000003,2,     0.01,2,     0.01,2,     -999,9,124,   4251,  -1.7117
  32L919930718,    66,  1,      2,2,19930806, 79.4630, -11.1590,  291,    151.0,  -1.5560,  33.6250,2,-999.0000,9,  33.6960,    325.3,2,    325.5,2,    10.47,2,     8.45,2,     0.02,2,     0.85,2,0.083000004,2,   2145.1,2,    757.5,        17,2, -999.000, -999.000,9,-999.0000,9,  -999.00,  -999.00,9,   -999.0,9,0.690999985,2,      0.059,2,     0.02,2,     0.01,2,     -999,9,124,   4250,  -1.5592
  32L919930718,    66,  1,      1,2,19930806, 79.4630, -11.1590,  291,    200.0,  -0.3470,  34.3430,2,-999.0000,9,  34.3270,    285.4,2,    287.1,2,    13.92,2,    12.23,2,     0.02,2,     0.99,2,0.102000006,2,   2146.5,2,    757.2,        17,2, -999.000, -999.000,9,-999.0000,9,  -999.00,  -999.00,9,   -999.0,9,      1.602,2,0.128000006,2,     0.03,2,     0.02,2,     -999,9,124,   4249,  -0.3537
  32L919930718,    66,  1,     12,2,19930806, 79.4630, -11.1590,  291,    249.0,  -0.0050,  34.5080,2,-999.0000,9,  34.4660,    278.1,2,    278.6,2,    15.65,2,    12.93,2,     0.02,2,     1.01,2,0.112000003,2,   2154.7,2,    764.6,        17,2, -999.000, -999.000,9,-999.0000,9,  -999.00,  -999.00,9,   -999.0,9, 1.26999998,2,      0.092,2,  -999.00,9,  -999.00,9,     -999,9,124,   4248,  -0.0142
  32L919930718,    66,  1,     11,2,19930806, 79.4630, -11.1590,  291,    281.0,   0.0160,  34.5190,2,  34.5240,2,  34.4580,    277.2,2,    278.7,2,    15.67,2,    12.63,2,     0.02,2,     1.01,2,0.112000003,2,   2154.7,2,    771.7,        17,2, -999.000, -999.000,9,-999.0000,9,  -999.00,  -999.00,9,   -999.0,9, 2.41100001,2,0.123000003,2,  -999.00,9,  -999.00,9,     -999,9,124,   4247,   0.0054