BOTTLE,20090115PRINUNIVRMK
EXPOCODE,STNNBR,CASTNO,BTLNBR,BTLNBR_FLAG_W,DATE,LATITUDE,LONGITUDE,DEPTH,CTDPRS,CTDTMP,CTDSAL,CTDSAL_FLAG_W,SALNTY,SALNTY_FLAG_W,SOMSAL,CTDOXY,CTDOXY_FLAG_W,OXYGEN,OXYGEN_FLAG_W,SILCAT,SILCAT_FLAG_W,NITRAT,NITRAT_FLAG_W,NITRIT,NITRIT_FLAG_W,PHSPHT,PHSPHT_FLAG_W,AMMONI,AMMONI_FLAG_W,TCARBN,TCARBN_FLAG_W,FCO2,FCO2_TMP,FCO2_FLAG_W,TRITUM,TRITER,TRITUM_FLAG_W,HELIUM,HELIUM_FLAG_W,DELHE3,DELHER,DELHE3_FLAG_W,DELC14,DELC14_FLAG_W,POC,POC_FLAG_W,PON,PON_FLAG_W,CHLORA,CHLORA_FLAG_W,PHAEO,PHAEO_FLAG_W,BACT,BACT_FLAG_W,CTDNO,BNLID,THETA
,,,,,,,,METERS,DBARS,ITS-90,PSS-78,,PSS-78,,PSS-78,UMOL/KG,,UMOL/KG,,UMOL/KG,,UMOL/KG,,UMOL/KG,,UMOL/KG,,UMOL/KG,,UMOL/KG,,UATM,DEGC,,TU,TU,,NMOL/KG,,PERCNT,PERCNT,,O/OO,,ug/kg,,ug/kg,,UG/L,,UG/L,,CELLS/ML,,,,DEGC
  32L919930718,    67,  1,      1,2,19930807, 79.3630, -11.9160,  252,    120.0,  -1.4660,  33.1790,2,-999.0000,9,  33.2420,    336.0,2,    335.3,2,    11.41,2,     7.34,2,    -0.01,2,     0.92,2,0.052000009,2,   2141.8,2,    829.2,18.1000004,2, -999.000, -999.000,9,-999.0000,9,  -999.00,  -999.00,9,   -999.0,9, 4.34899998,2,       -999,9,     0.01,2,     0.01,2,   124000,2,125,   4261,  -1.4685
  32L919930718,    67,  1,     12,2,19930807, 79.3630, -11.9160,  252,    160.0,  -1.2430,  33.8880,2,-999.0000,9,  33.9340,    315.3,2,    308.5,2,    11.26,2,    10.16,2,     0.00,2,     0.91,2,0.043000005,2,   2135.5,2,    776.8,18.1000004,2, -999.000, -999.000,9,-999.0000,9,  -999.00,  -999.00,9,   -999.0,9, 6.98099995,2,0.158999994,2,     0.01,2,     0.01,2,    41600,2,125,   4260,  -1.2469
  32L919930718,    67,  1,     11,2,19930807, 79.3630, -11.9160,  252,    200.0,  -0.3600,  34.3140,2,  34.3750,2,  34.3050,    291.4,2,    288.5,2,    13.72,2,    12.02,2,    -0.03,2,     0.98,2,0.062000006,2,   2146.1,2,    803.5,18.1000004,2, -999.000, -999.000,9,-999.0000,9,  -999.00,  -999.00,9,   -999.0,9, 5.86600018,2,       -999,9,     0.02,2,     0.02,2,    42400,2,125,   4259,  -0.3667
  32L919930718,    67,  1,     10,2,19930807, 79.3630, -11.9160,  252,    239.0,  -0.0630,  34.4710,2,-999.0000,9,  34.3960,    285.0,2,    280.5,2,    15.12,2,    12.77,2,     0.02,2,     1.00,2,0.082000002,2,   2150.6,2,    825.5,18.1000004,2, -999.000, -999.000,9,-999.0000,9,  -999.00,  -999.00,9,   -999.0,9, 7.10099983,2,0.876999974,2,     0.01,2,     0.01,2,    68800,2,125,   4258,  -0.0717
  32L919930718,    67,  2,      9,2,19930807, 79.3630, -11.9160,  252,      2.0,  -1.4620,  30.6280,2,  17.4620,2,  25.8870,    399.8,2,    410.9,2,     6.64,2,     0.22,2,    -0.01,2,     0.58,2,0.101000011,2,   1676.9,2,    522.2,18.1000004,2, -999.000, -999.000,9,-999.0000,9,  -999.00,  -999.00,9,      0.8,2, 11.2150002,2, 1.78900003,2,     0.58,2,     0.06,2,   238000,2,126,   4269,  -1.4620
  32L919930718,    67,  2,      8,2,19930807, 79.3630, -11.9160,  252,      5.0,  -1.5970,  31.7190,2,-999.0000,9,-999.0000,    398.7,2,    408.5,2,     8.63,2,     0.26,2,     0.04,2,     0.80,2,0.052000009,2,   -999.0,9,   -999.0,      -999,9, -999.000, -999.000,9,-999.0000,9,  -999.00,  -999.00,9,      1.8,2, 17.1310005,2, 2.67499995,2,     0.87,2,     0.19,2,   136000,2,126,   4268,  -1.5971
  32L919930718,    67,  2,      7,2,19930807, 79.3630, -11.9160,  252,      8.0,  -1.5990,  31.7310,2,-999.0000,9,-999.0000,    399.7,2,    407.5,2,     7.80,2,     0.26,2,     0.03,2,     0.81,2,0.072000004,2,   -999.0,9,   -999.0,      -999,9, -999.000, -999.000,9,-999.0000,9,  -999.00,  -999.00,9,      1.8,2, 14.8570004,2, 2.64899993,2,     0.95,2,     0.25,2,   312000,2,126,   4267,  -1.5991
  32L919930718,    67,  2,      6,2,19930807, 79.3630, -11.9160,  252,     12.0,  -1.6070,  31.7650,2,-999.0000,9,  31.8480,    401.3,2,    405.1,2,     7.80,2,     0.45,2,     0.03,2,     0.85,2,0.121000007,2,   2058.4,2,    625.3,18.1000004,2, -999.000, -999.000,9,-999.0000,9,  -999.00,  -999.00,9,      1.8,2, 20.2630005,2, 3.55699992,2,     0.65,2,     0.07,2,   263000,2,126,   4266,  -1.6072
  32L919930718,    67,  2,      5,2,19930807, 79.3630, -11.9160,  252,     19.0,  -1.6070,  31.8340,2,-999.0000,9,-999.0000,    401.1,2,    401.5,2,     7.13,2,     0.82,2,     0.04,2,     0.85,2,0.150000006,2,   -999.0,9,   -999.0,      -999,9, -999.000, -999.000,9,-999.0000,9,  -999.00,  -999.00,9,      1.9,2, 13.8260002,2,  2.2809999,2,     1.04,2,     0.14,2,   429000,2,126,   4265,  -1.6073
  32L919930718,    67,  2,      4,2,19930807, 79.3630, -11.9160,  252,     26.0,  -1.5720,  32.0460,2,-999.0000,9,-999.0000,    399.9,2,   -999.0,9,     1.07,2,     0.11,2,     0.00,2,     0.04,2,0.004000008,2,   -999.0,9,   -999.0,      -999,9, -999.000, -999.000,9,-999.0000,9,  -999.00,  -999.00,9,   -999.0,9,       -999,9,       -999,9,  -999.00,9,  -999.00,9,     -999,9,126,   4264,  -1.5724
  32L919930718,    67,  2,      3,2,19930807, 79.3630, -11.9160,  252,     31.0,  -1.5590,  32.1860,2,-999.0000,9,  32.1800,    387.8,2,    389.0,2,     6.61,2,     1.42,2,     0.09,2,     0.91,2,0.238000005,2,   2089.5,2,    683.3,18.1000004,2, -999.000, -999.000,9,-999.0000,9,  -999.00,  -999.00,9,      0.6,2, 12.7889996,2,      1.375,2,     0.84,2,     0.19,2,   296000,2,126,   4263,  -1.5595
  32L919930718,    67,  2,      2,2,19930807, 79.3630, -11.9160,  252,     44.0,  -1.6510,  32.3170,2,-999.0000,9,  32.2810,    365.8,2,    370.4,2,     9.85,2,     3.38,2,     0.15,2,     1.02,2,0.209000006,2,   2109.7,2,    772.8,18.1000004,2, -999.000, -999.000,9,-999.0000,9,  -999.00,  -999.00,9,      0.0,2, 6.75299978,2,0.374000013,2,     0.34,2,     0.12,2,   185000,2,126,   4262,  -1.6517
  32L919930718,    67,  3,      9,2,19930807, 79.3630, -11.9160,  252,      2.0,  -1.5760,  31.6480,2,  13.0690,2,-999.0000,    396.8,2,   -999.0,9,  -999.00,9,  -999.00,9,  -999.00,9,  -999.00,9,       -999,9,   -999.0,9,   -999.0,      -999,9,    7.740,    0.116,2,   1.8110,2,    -1.90,     0.20,2,   -999.0,9,       -999,9,       -999,9,  -999.00,9,  -999.00,9,     -999,9,127,   4281,  -1.5760
  32L919930718,    67,  3,      8,2,19930807, 79.3630, -11.9160,  252,     10.0,  -1.5830,  31.7120,2,-999.0000,9,-999.0000,    400.0,2,   -999.0,9,  -999.00,9,  -999.00,9,  -999.00,9,  -999.00,9,       -999,9,   -999.0,9,   -999.0,      -999,9, -999.000, -999.000,9,-999.0000,9,  -999.00,  -999.00,9,   -999.0,9,       -999,9,       -999,9,  -999.00,9,  -999.00,9,     -999,9,127,   4280,  -1.5832
  32L919930718,    67,  3,      7,2,19930807, 79.3630, -11.9160,  252,     20.0,  -1.6040,  31.7970,2,-999.0000,9,-999.0000,    400.9,2,   -999.0,9,  -999.00,9,  -999.00,9,  -999.00,9,  -999.00,9,       -999,9,   -999.0,9,   -999.0,      -999,9, -999.000, -999.000,9,-999.0000,9,  -999.00,  -999.00,9,   -999.0,9,       -999,9,       -999,9,  -999.00,9,  -999.00,9,     -999,9,127,   4279,  -1.6043
  32L919930718,    67,  3,      6,2,19930807, 79.3630, -11.9160,  252,     40.0,  -1.6140,  32.2890,2,-999.0000,9,-999.0000,    369.7,2,   -999.0,9,  -999.00,9,  -999.00,9,  -999.00,9,  -999.00,9,       -999,9,   -999.0,9,   -999.0,      -999,9, -999.000, -999.000,9,-999.0000,9,  -999.00,  -999.00,9,   -999.0,9, 6.07200003,2, 1.03999996,2,     0.78,2,     0.29,2,     -999,9,127,   4278,  -1.6147
  32L919930718,    67,  3,      4,2,19930807, 79.3630, -11.9160,  252,     80.0,  -1.6920,  32.4540,2,  32.4660,2,  32.4500,    356.1,2,    358.5,2,    11.49,2,     4.95,2,  -999.00,9,     1.07,2,0.004000008,2,   2117.6,2,    814.0,18.1000004,2, -999.000, -999.000,9,-999.0000,9,  -999.00,  -999.00,9,   -999.0,9,       -999,9,       -999,9,  -999.00,9,  -999.00,9,     -999,9,127,   4276,  -1.6934
  32L919930718,    67,  3,      5,2,19930807, 79.3630, -11.9160,  252,     81.0,  -1.6930,  32.4530,2,-999.0000,9,-999.0000,    356.8,2,   -999.0,9,  -999.00,9,  -999.00,9,  -999.00,9,  -999.00,9,       -999,9,   -999.0,9,   -999.0,      -999,9, -999.000, -999.000,9,-999.0000,9,  -999.00,  -999.00,9,   -999.0,9,       -999,9,       -999,9,  -999.00,9,  -999.00,9,     -999,9,127,   4277,  -1.6944
  32L919930718,    67,  3,      3,2,19930807, 79.3630, -11.9160,  252,    100.0,  -1.5590,  32.7600,2,-999.0000,9,-999.0000,    344.0,2,   -999.0,9,  -999.00,9,  -999.00,9,  -999.00,9,  -999.00,9,       -999,9,   -999.0,9,   -999.0,      -999,9, -999.000, -999.000,9,-999.0000,9,  -999.00,  -999.00,9,   -999.0,9,       -999,9,       -999,9,  -999.00,9,  -999.00,9,     -999,9,127,   4275,  -1.5609
  32L919930718,    67,  3,      2,2,19930807, 79.3630, -11.9160,  252,    180.0,  -0.6500,  34.1800,2,-999.0000,9,-999.0000,    294.9,2,   -999.0,9,  -999.00,9,  -999.00,9,  -999.00,9,  -999.00,9,       -999,9,   -999.0,9,   -999.0,      -999,9, -999.000, -999.000,9,-999.0000,9,  -999.00,  -999.00,9,   -999.0,9,       -999,9,       -999,9,  -999.00,9,  -999.00,9,     -999,9,127,   4274,  -0.6555
  32L919930718,    67,  3,      1,2,19930807, 79.3630, -11.9160,  252,    200.0,  -0.2960,  34.3190,2,-999.0000,9,-999.0000,    286.2,2,   -999.0,9,  -999.00,9,  -999.00,9,  -999.00,9,  -999.00,9,       -999,9,   -999.0,9,   -999.0,      -999,9, -999.000, -999.000,9,-999.0000,9,  -999.00,  -999.00,9,   -999.0,9,       -999,9,       -999,9,  -999.00,9,  -999.00,9,     -999,9,127,   4273,  -0.3028
  32L919930718,    67,  3,     12,2,19930807, 79.3630, -11.9160,  252,    221.0,  -0.1610,  34.4110,2,-999.0000,9,-999.0000,    283.8,2,   -999.0,9,  -999.00,9,  -999.00,9,  -999.00,9,  -999.00,9,       -999,9,   -999.0,9,   -999.0,      -999,9, -999.000, -999.000,9,-999.0000,9,  -999.00,  -999.00,9,   -999.0,9,       -999,9,       -999,9,  -999.00,9,  -999.00,9,     -999,9,127,   4272,  -0.1688
  32L919930718,    67,  3,     10,2,19930807, 79.3630, -11.9160,  252,    242.0,  -0.1110,  34.4400,2,  34.4390,2,  34.3870,    283.7,2,    281.2,2,    14.85,2,    12.75,2,  -999.00,9,     1.02,2,0.033000007,2,   2152.1,2,    815.0,18.1000004,2,    3.040,    0.046,2,   1.8250,2,     9.40,     0.20,2,   -999.0,9,       -999,9,       -999,9,  -999.00,9,  -999.00,9,     -999,9,127,   4270,  -0.1197
  32L919930718,    67,  3,     11,2,19930807, 79.3630, -11.9160,  252,    242.0,  -0.1110,  34.4400,2,-999.0000,9,-999.0000,    283.6,2,   -999.0,9,  -999.00,9,  -999.00,9,  -999.00,9,  -999.00,9,       -999,9,   -999.0,9,   -999.0,      -999,9, -999.000, -999.000,9,-999.0000,9,  -999.00,  -999.00,9,   -999.0,9,       -999,9,       -999,9,  -999.00,9,  -999.00,9,     -999,9,127,   4271,  -0.1197
  32L919930718,    68,  1,      9,2,19930807, 79.2610, -12.6800,  196,      2.0,  -1.4870,  31.2790,2,  22.4070,2,  29.1810,    387.2,2,    391.6,2,    11.68,2,     1.48,2,     0.09,2,     0.88,2,0.111000009,2,   1904.7,2,    622.5,        17,2, -999.000, -999.000,9,-999.0000,9,  -999.00,  -999.00,9,   -999.0,9, 9.57800007,2, 1.53699994,2,     0.29,2,     0.14,2,     -999,9,128,   4293,  -1.4870
  32L919930718,    68,  1,      8,2,19930807, 79.2610, -12.6800,  196,     10.0,  -1.5770,  31.5500,2,-999.0000,9,-999.0000,    381.6,2,    386.1,2,    11.80,2,     2.26,2,     0.16,2,     0.93,2,0.111000009,2,   -999.0,9,   -999.0,      -999,9, -999.000, -999.000,9,-999.0000,9,  -999.00,  -999.00,9,   -999.0,9, 4.66300011,2, 10.8540001,2,     0.22,2,     0.11,2,     -999,9,128,   4292,  -1.5772
  32L919930718,    68,  1,      7,2,19930807, 79.2610, -12.6800,  196,     20.0,  -1.6260,  31.9200,2,-999.0000,9,  31.9780,    373.2,2,    377.1,2,    11.84,2,     3.18,2,     0.16,2,     1.00,2,0.228000015,2,   2091.6,2,    701.0,        17,2, -999.000, -999.000,9,-999.0000,9,  -999.00,  -999.00,9,   -999.0,9, 2.72399998,2,0.463999987,2,     0.14,2,     0.07,2,     -999,9,128,   4291,  -1.6263
  32L919930718,    68,  1,      6,2,19930807, 79.2610, -12.6800,  196,     35.0,  -1.6950,  32.1790,2,-999.0000,9,  32.1960,    367.2,2,    370.2,2,    11.89,2,     4.14,2,     0.12,2,     1.03,2,0.033000007,2,   2106.8,2,    736.0,        17,2, -999.000, -999.000,9,-999.0000,9,  -999.00,  -999.00,9,   -999.0,9, 29.6019993,2, 4.31699991,3,     0.07,2,     0.03,2,     -999,9,128,   4290,  -1.6956
  32L919930718,    68,  1,      5,2,19930807, 79.2610, -12.6800,  196,     50.0,  -1.7280,  32.3020,2,-999.0000,9,-999.0000,    365.4,2,    367.6,2,    12.00,2,     4.43,2,     0.04,2,     1.04,2,0.004000008,2,   -999.0,9,   -999.0,      -999,9, -999.000, -999.000,9,-999.0000,9,  -999.00,  -999.00,9,   -999.0,9,      1.421,2,0.214000002,2,     0.03,2,     0.01,2,     -999,9,128,   4289,  -1.7288
  32L919930718,    68,  1,      4,2,19930807, 79.2610, -12.6800,  196,     60.0,  -1.7300,  32.3300,2,-999.0000,9,  32.3860,    364.2,2,    366.7,2,    11.92,2,     4.41,2,     0.03,2,     1.04,2,-0.01599999,2,   2113.2,2,    751.3,        17,2, -999.000, -999.000,9,-999.0000,9,  -999.00,  -999.00,9,   -999.0,9, 1.33000004,2,0.173999995,2,     0.03,2,     0.02,2,     -999,9,128,   4288,  -1.7310
  32L919930718,    68,  1,      3,2,19930807, 79.2610, -12.6800,  196,     80.0,  -1.7370,  32.4030,2,-999.0000,9,-999.0000,    364.6,2,    364.6,2,    12.19,2,     4.62,2,     0.03,2,     1.07,2,0.062000006,2,   -999.0,9,   -999.0,      -999,9, -999.000, -999.000,9,-999.0000,9,  -999.00,  -999.00,9,   -999.0,9,0.352999985,2,0.068999998,2,     0.02,2,     0.02,2,     -999,9,128,   4287,  -1.7383
  32L919930718,    68,  1,      2,2,19930807, 79.2610, -12.6800,  196,    100.0,  -1.6520,  32.5620,2,-999.0000,9,  32.7300,    354.4,2,    348.4,2,    12.86,2,     6.18,2,     0.02,2,     1.04,2,0.004000008,2,   2122.7,2,    775.5,        17,2, -999.000, -999.000,9,-999.0000,9,  -999.00,  -999.00,9,   -999.0,9,0.172000006,2,0.041999999,2,     0.01,2,     0.01,2,     -999,9,128,   4286,  -1.6538
  32L919930718,    68,  1,      1,2,19930807, 79.2610, -12.6800,  196,    125.0,  -1.3220,  33.3760,2,-999.0000,9,-999.0000,    327.7,2,    327.7,2,    12.52,2,     8.45,2,     0.02,2,     0.87,2,0.004000008,2,   -999.0,9,   -999.0,      -999,9, -999.000, -999.000,9,-999.0000,9,  -999.00,  -999.00,9,   -999.0,9, 1.01100004,2,0.127000004,2,     0.11,2,     0.02,2,     -999,9,128,   4285,  -1.3248
  32L919930718,    68,  1,     12,2,19930807, 79.2610, -12.6800,  196,    150.0,  -0.8090,  33.9390,2,-999.0000,9,  33.9100,    301.9,2,    300.5,2,    14.97,2,    10.87,2,     0.02,2,     0.94,2,0.023000002,2,   2143.7,2,    797.2,        17,2, -999.000, -999.000,9,-999.0000,9,  -999.00,  -999.00,9,   -999.0,9, 1.15499997,2,0.050999999,2,     0.04,2,     0.01,2,     -999,9,128,   4284,  -0.8132
  32L919930718,    68,  1,     11,2,19930807, 79.2610, -12.6800,  196,    170.0,  -0.5580,  34.1350,2,  34.1360,2,-999.0000,    293.7,2,    291.9,2,    15.73,2,    12.15,2,     0.03,2,     1.01,2,0.023000002,2,   -999.0,9,   -999.0,      -999,9, -999.000, -999.000,9,-999.0000,9,  -999.00,  -999.00,9,   -999.0,9, 1.96000004,2,      0.191,2,     0.06,2,     0.02,2,     -999,9,128,   4283,  -0.5633
  32L919930718,    68,  1,     10,2,19930807, 79.2610, -12.6800,  196,    186.0,  -0.4760,  34.1920,2,-999.0000,9,  34.1250,    291.4,2,    289.5,2,    16.32,2,    12.18,2,     0.06,2,     0.97,2,0.013000011,2,   2147.7,2,    812.2,        17,2, -999.000, -999.000,9,-999.0000,9,  -999.00,  -999.00,9,   -999.0,9, 1.25399995,2,0.133000001,2,     0.10,2,     0.02,2,     -999,9,128,   4282,  -0.4819
  32L919930718,    69,  1,      9,2,19930807, 79.1810, -13.4420,  170,      2.0,  -1.4270,  30.8140,2,  31.1980,2,  31.1440,    392.1,2,    395.0,2,    10.08,2,     1.35,2,     0.05,2,     0.86,2,0.051000003,2,   2023.5,2,    644.0,18.1000004,2, -999.000, -999.000,9,-999.0000,9,  -999.00,  -999.00,9,   -999.0,9, 7.97599983,2, 1.41299999,2,     1.00,2,     0.35,2,     -999,9,129,   4305,  -1.4270
  32L919930718,    69,  1,      8,2,19930807, 79.1810, -13.4420,  170,      5.0,  -1.3800,  30.9610,2,-999.0000,9,-999.0000,    392.0,2,    394.8,2,    10.01,2,     1.33,2,     0.07,2,     0.88,2,0.041000001,2,   -999.0,9,   -999.0,      -999,9, -999.000, -999.000,9,-999.0000,9,  -999.00,  -999.00,9,   -999.0,9, 7.23000002,2, 1.36000001,2,     0.68,2,     0.22,2,     -999,9,129,   4304,  -1.3801
  32L919930718,    69,  1,      7,2,19930807, 79.1810, -13.4420,  170,     10.0,  -1.5670,  31.4490,2,-999.0000,9,  31.6140,    395.4,2,    393.8,2,     9.94,2,     1.43,2,     0.06,2,     0.89,2,0.100000001,2,   2052.2,2,    649.5,18.1000004,2, -999.000, -999.000,9,-999.0000,9,  -999.00,  -999.00,9,   -999.0,9, 5.61999989,2, 1.07000005,2,     0.54,2,     0.22,2,     -999,9,129,   4303,  -1.5672
  32L919930718,    69,  1,      6,2,19930807, 79.1810, -13.4420,  170,     15.0,  -1.5380,  31.6160,2,-999.0000,9,-999.0000,    394.6,2,    387.4,2,    10.42,2,     2.27,2,     0.07,2,     0.95,2,0.120000005,2,   -999.0,9,   -999.0,      -999,9, -999.000, -999.000,9,-999.0000,9,  -999.00,  -999.00,9,   -999.0,9, 8.28199959,2,0.874000013,2,     0.38,2,     0.10,2,     -999,9,129,   4302,  -1.5382
  32L919930718,    69,  1,      5,2,19930807, 79.1810, -13.4420,  170,     20.0,  -1.5530,  31.8040,2,-999.0000,9,  32.0300,    389.7,2,    382.5,2,    10.59,2,     2.49,2,     0.10,2,     0.98,2,0.090000004,2,   2087.3,2,    710.6,18.1000004,2, -999.000, -999.000,9,-999.0000,9,  -999.00,  -999.00,9,   -999.0,9, 3.53299999,2,0.589999974,2,     0.19,2,     0.12,2,     -999,9,129,   4301,  -1.5533
  32L919930718,    69,  1,      4,2,19930807, 79.1810, -13.4420,  170,     35.0,  -1.6120,  32.2690,2,-999.0000,9,-999.0000,    381.4,2,    373.2,2,    10.87,2,     3.62,2,     0.07,2,     1.04,2,0.090000004,2,   -999.0,9,   -999.0,      -999,9, -999.000, -999.000,9,-999.0000,9,  -999.00,  -999.00,9,   -999.0,9, 1.88300002,2,0.360000014,2,     0.16,2,     0.04,2,     -999,9,129,   4300,  -1.6126
  32L919930718,    69,  1,      3,2,19930807, 79.1810, -13.4420,  170,     50.0,  -1.5570,  32.3440,2,-999.0000,9,  32.3190,    378.7,2,    372.9,2,    10.67,2,     3.55,2,     0.10,2,     1.03,2,0.100000001,2,   2111.6,2,    766.5,18.1000004,2, -999.000, -999.000,9,-999.0000,9,  -999.00,  -999.00,9,   -999.0,9, 2.06200004,2,0.419999987,2,     0.39,2,     0.11,2,     -999,9,129,   4299,  -1.5579
  32L919930718,    69,  1,      2,2,19930807, 79.1810, -13.4420,  170,     60.0,  -1.6700,  32.3990,2,-999.0000,9,-999.0000,    373.5,2,    368.0,2,    11.15,2,     3.69,2,     0.10,2,     1.05,2,0.080000006,2,   -999.0,9,   -999.0,      -999,9, -999.000, -999.000,9,-999.0000,9,  -999.00,  -999.00,9,   -999.0,9, 2.35599995,2,0.451999992,2,     0.36,2,     0.08,2,     -999,9,129,   4298,  -1.6710
  32L919930718,    69,  1,      1,2,19930807, 79.1810, -13.4420,  170,     80.0,  -1.6240,  32.6320,2,-999.0000,9,  32.6010,    360.4,2,    353.0,2,    12.33,2,     5.13,2,     0.03,2,     1.07,2,     -0.007,2,   2121.4,2,    813.5,18.1000004,2, -999.000, -999.000,9,-999.0000,9,  -999.00,  -999.00,9,   -999.0,9, 1.31400001,2,0.248999998,2,     0.07,2,     0.03,2,     -999,9,129,   4297,  -1.6254
  32L919930718,    69,  1,     12,2,19930807, 79.1810, -13.4420,  170,    100.0,  -1.4990,  32.8680,2,-999.0000,9,-999.0000,    348.3,2,    342.8,2,    12.81,2,     6.38,2,     0.02,2,     1.05,2,0.031999998,2,   -999.0,9,   -999.0,      -999,9, -999.000, -999.000,9,-999.0000,9,  -999.00,  -999.00,9,   -999.0,9,0.898000002,2,      0.162,2,     0.06,2,     0.04,2,     -999,9,129,   4296,  -1.5010
  32L919930718,    69,  1,     11,2,19930807, 79.1810, -13.4420,  170,    125.0,  -1.2640,  33.3260,2,  33.3270,2,-999.0000,    334.4,2,    326.7,2,    13.53,2,     8.03,2,     0.02,2,     1.02,2,     -0.017,2,   -999.0,9,   -999.0,      -999,9, -999.000, -999.000,9,-999.0000,9,  -999.00,  -999.00,9,   -999.0,9,  2.7019999,2,0.279000014,2,     0.03,2,     0.02,2,     -999,9,129,   4295,  -1.2669
  32L919930718,    69,  1,     10,2,19930807, 79.1810, -13.4420,  170,    151.0,  -0.7950,  33.8740,2,-999.0000,9,  33.7440,    312.9,2,    303.4,2,    15.06,2,    10.18,2,     0.03,2,     1.04,2,0.002000004,2,   2144.2,2,    855.0,18.1000004,2, -999.000, -999.000,9,-999.0000,9,  -999.00,  -999.00,9,   -999.0,9, 1.14100003,2,0.203999996,2,     0.04,2,     0.02,2,     -999,9,129,   4294,  -0.7993