BOTTLE,20090115PRINUNIVRMK
EXPOCODE,STNNBR,CASTNO,BTLNBR,BTLNBR_FLAG_W,DATE,LATITUDE,LONGITUDE,DEPTH,CTDPRS,CTDTMP,CTDSAL,CTDSAL_FLAG_W,SALNTY,SALNTY_FLAG_W,SOMSAL,CTDOXY,CTDOXY_FLAG_W,OXYGEN,OXYGEN_FLAG_W,SILCAT,SILCAT_FLAG_W,NITRAT,NITRAT_FLAG_W,NITRIT,NITRIT_FLAG_W,PHSPHT,PHSPHT_FLAG_W,AMMONI,AMMONI_FLAG_W,TCARBN,TCARBN_FLAG_W,FCO2,FCO2_TMP,FCO2_FLAG_W,TRITUM,TRITER,TRITUM_FLAG_W,HELIUM,HELIUM_FLAG_W,DELHE3,DELHER,DELHE3_FLAG_W,DELC14,DELC14_FLAG_W,POC,POC_FLAG_W,PON,PON_FLAG_W,CHLORA,CHLORA_FLAG_W,PHAEO,PHAEO_FLAG_W,BACT,BACT_FLAG_W,CTDNO,BNLID,THETA
,,,,,,,,METERS,DBARS,ITS-90,PSS-78,,PSS-78,,PSS-78,UMOL/KG,,UMOL/KG,,UMOL/KG,,UMOL/KG,,UMOL/KG,,UMOL/KG,,UMOL/KG,,UMOL/KG,,UATM,DEGC,,TU,TU,,NMOL/KG,,PERCNT,PERCNT,,O/OO,,ug/kg,,ug/kg,,UG/L,,UG/L,,CELLS/ML,,,,DEGC
  32L919930718,    70,  1,      6,2,19930807, 78.9830, -14.5910,  158,      2.0,  -1.3900,  31.5340,2,  21.7690,2,  31.5740,    424.8,2,    422.7,2,     5.09,2,    -0.02,2,     0.06,2,     0.74,2,0.013000011,2,   2020.1,2,    526.8,17.1000004,2, -999.000, -999.000,9,-999.0000,9,  -999.00,  -999.00,9,      6.9,2, 10.6599999,2, 1.30499995,2,     2.37,2,     0.04,2,   195000,2,130,   4314,  -1.3900
  32L919930718,    70,  1,      5,2,19930807, 78.9830, -14.5910,  158,      3.0,  -1.3970,  31.4860,2,-999.0000,9,-999.0000,    424.4,2,    423.7,2,     5.16,2,     0.12,2,     0.00,2,     0.77,2,0.004000008,2,   -999.0,9,   -999.0,      -999,9, -999.000, -999.000,9,-999.0000,9,  -999.00,  -999.00,9,      8.1,2, 26.8579998,2, 2.69300008,2,     2.40,2,     0.19,2,   250000,2,130,   4313,  -1.3971
  32L919930718,    70,  1,      4,2,19930807, 78.9830, -14.5910,  158,      5.0,  -1.4150,  31.5440,2,-999.0000,9,  31.6400,    422.5,2,    421.1,2,     5.39,2,     0.13,2,    -0.02,2,     0.77,2,-0.01599999,2,   2028.2,2,    527.1,17.1000004,2, -999.000, -999.000,9,-999.0000,9,  -999.00,  -999.00,9,      6.2,2,     27.934,2, 2.69099998,2,     2.10,2,     0.29,2,   314000,2,130,   4312,  -1.4151
  32L919930718,    70,  1,      3,2,19930807, 78.9830, -14.5910,  158,      9.0,  -1.4950,  31.7990,2,-999.0000,9,  31.8370,    409.4,2,    408.9,2,     6.48,2,     0.33,2,     0.03,2,     0.81,2,0.082000002,2,   2052.4,2,    573.6,17.1000004,2, -999.000, -999.000,9,-999.0000,9,  -999.00,  -999.00,9,      6.4,2, 19.4220009,2, 2.40300012,2,     0.92,2,     0.09,2,   398000,2,130,   4311,  -1.4952
  32L919930718,    70,  1,      2,2,19930807, 78.9830, -14.5910,  158,     14.0,  -1.5390,  32.0780,2,-999.0000,9,-999.0000,    391.1,2,    390.0,2,     8.34,2,     1.43,2,     0.06,2,     0.93,2,0.111000009,2,   -999.0,9,   -999.0,      -999,9, -999.000, -999.000,9,-999.0000,9,  -999.00,  -999.00,9,      2.8,2, 12.8430004,2, 1.98300004,2,     1.91,2,     0.08,2,   140000,2,130,   4310,  -1.5392
  32L919930718,    70,  1,      1,2,19930807, 78.9830, -14.5910,  158,     21.0,  -1.5740,  32.2450,2,-999.0000,9,  32.2230,    383.0,2,    382.3,2,     9.43,2,     2.23,2,     0.09,2,     0.98,2,0.170000002,2,   2095.9,2,    675.9,17.1000004,2, -999.000, -999.000,9,-999.0000,9,  -999.00,  -999.00,9,      0.6,2, 6.88399982,2, 1.13499999,2,     0.14,2,     0.01,2,   179000,2,130,   4309,  -1.5744
  32L919930718,    70,  1,     12,2,19930807, 78.9830, -14.5910,  158,     33.0,  -1.5940,  32.3300,2,-999.0000,9,  32.3070,    380.6,2,    377.8,2,    10.08,2,     2.67,2,     0.10,2,     0.98,2,0.170000002,2,   2104.1,2,    704.7,17.1000004,2, -999.000, -999.000,9,-999.0000,9,  -999.00,  -999.00,9,      0.1,2, 5.40600014,2,0.748000026,2,     1.00,2,     0.04,2,   206000,2,130,   4308,  -1.5946
  32L919930718,    70,  1,     11,2,19930807, 78.9830, -14.5910,  158,     40.0,  -1.6030,  32.3490,2,  32.3940,2,-999.0000,    382.3,2,    376.5,2,    10.26,2,     2.91,2,     0.11,2,     1.00,2,0.199000001,2,   -999.0,9,   -999.0,      -999,9, -999.000, -999.000,9,-999.0000,9,  -999.00,  -999.00,9,   -999.0,9, 4.48099995,2,0.819999993,2,     0.88,2,     0.12,2,   209000,2,130,   4307,  -1.6037
  32L919930718,    70,  1,     10,2,19930807, 78.9830, -14.5910,  158,     47.0,  -1.6040,  32.3490,2,-999.0000,9,  32.2980,    385.4,2,    376.4,2,    10.23,2,     2.82,2,     0.09,2,     0.99,2,0.170000002,2,   2106.0,2,    715.6,17.1000004,2, -999.000, -999.000,9,-999.0000,9,  -999.00,  -999.00,9,   -999.0,9, 3.86299992,2,0.526000023,2,     0.94,2,     0.10,2,   195000,2,130,   4306,  -1.6048
  32L919930718,    70,  2,      5,2,19930807, 78.9830, -14.5910,  158,      2.0,  -1.4560,  31.6370,2,-999.0000,9,-999.0000,    417.0,2,   -999.0,9,  -999.00,9,  -999.00,9,  -999.00,9,  -999.00,9,       -999,9,   -999.0,9,   -999.0,      -999,9,    6.180,    0.093,2,   1.8200,2,     1.70,     0.20,2,   -999.0,9,       -999,9,       -999,9,  -999.00,9,  -999.00,9,     -999,9,131,   4325,  -1.4560
  32L919930718,    70,  2,      6,2,19930807, 78.9830, -14.5910,  158,      2.0,  -1.4300,  31.5850,2,-999.0000,9,-999.0000,    419.6,2,   -999.0,9,  -999.00,9,  -999.00,9,  -999.00,9,  -999.00,9,       -999,9,   -999.0,9,   -999.0,      -999,9, -999.000, -999.000,9,-999.0000,9,  -999.00,  -999.00,9,   -999.0,9,       -999,9,       -999,9,  -999.00,9,  -999.00,9,     -999,9,131,   4326,  -1.4300
  32L919930718,    70,  2,      4,2,19930807, 78.9830, -14.5910,  158,      5.0,  -1.4850,  31.7340,2,-999.0000,9,-999.0000,    413.4,2,   -999.0,9,  -999.00,9,  -999.00,9,  -999.00,9,  -999.00,9,       -999,9,   -999.0,9,   -999.0,      -999,9, -999.000, -999.000,9,-999.0000,9,  -999.00,  -999.00,9,   -999.0,9,       -999,9,       -999,9,  -999.00,9,  -999.00,9,     -999,9,131,   4324,  -1.4851
  32L919930718,    70,  2,      3,2,19930807, 78.9830, -14.5910,  158,     10.0,  -1.5000,  31.8070,2,-999.0000,9,-999.0000,    410.4,2,   -999.0,9,  -999.00,9,  -999.00,9,  -999.00,9,  -999.00,9,       -999,9,   -999.0,9,   -999.0,      -999,9, -999.000, -999.000,9,-999.0000,9,  -999.00,  -999.00,9,   -999.0,9,       -999,9,       -999,9,  -999.00,9,  -999.00,9,     -999,9,131,   4323,  -1.5002
  32L919930718,    70,  2,      2,2,19930807, 78.9830, -14.5910,  158,     15.0,  -1.5190,  31.9470,2,-999.0000,9,-999.0000,    397.4,2,   -999.0,9,  -999.00,9,  -999.00,9,  -999.00,9,  -999.00,9,       -999,9,   -999.0,9,   -999.0,      -999,9, -999.000, -999.000,9,-999.0000,9,  -999.00,  -999.00,9,   -999.0,9,       -999,9,       -999,9,  -999.00,9,  -999.00,9,     -999,9,131,   4322,  -1.5193
  32L919930718,    70,  2,      1,2,19930807, 78.9830, -14.5910,  158,     20.0,  -1.5550,  32.1630,2,-999.0000,9,-999.0000,    387.1,2,   -999.0,9,  -999.00,9,  -999.00,9,  -999.00,9,  -999.00,9,       -999,9,   -999.0,9,   -999.0,      -999,9, -999.000, -999.000,9,-999.0000,9,  -999.00,  -999.00,9,   -999.0,9,       -999,9,       -999,9,  -999.00,9,  -999.00,9,     -999,9,131,   4321,  -1.5553
  32L919930718,    70,  2,     12,2,19930807, 78.9830, -14.5910,  158,     25.0,  -1.5620,  32.2060,2,-999.0000,9,-999.0000,    386.0,2,   -999.0,9,  -999.00,9,  -999.00,9,  -999.00,9,  -999.00,9,       -999,9,   -999.0,9,   -999.0,      -999,9, -999.000, -999.000,9,-999.0000,9,  -999.00,  -999.00,9,   -999.0,9,       -999,9,       -999,9,  -999.00,9,  -999.00,9,     -999,9,131,   4320,  -1.5624
  32L919930718,    70,  2,     11,2,19930807, 78.9830, -14.5910,  158,     30.0,  -1.5870,  32.2710,2,-999.0000,9,-999.0000,    381.7,2,   -999.0,9,  -999.00,9,  -999.00,9,  -999.00,9,  -999.00,9,       -999,9,   -999.0,9,   -999.0,      -999,9, -999.000, -999.000,9,-999.0000,9,  -999.00,  -999.00,9,   -999.0,9,       -999,9,       -999,9,  -999.00,9,  -999.00,9,     -999,9,131,   4319,  -1.5875
  32L919930718,    70,  2,     10,2,19930807, 78.9830, -14.5910,  158,     35.0,  -1.5980,  32.3130,2,-999.0000,9,-999.0000,    380.4,2,   -999.0,9,  -999.00,9,  -999.00,9,  -999.00,9,  -999.00,9,       -999,9,   -999.0,9,   -999.0,      -999,9, -999.000, -999.000,9,-999.0000,9,  -999.00,  -999.00,9,   -999.0,9,       -999,9,       -999,9,  -999.00,9,  -999.00,9,     -999,9,131,   4318,  -1.5986
  32L919930718,    70,  2,      9,2,19930807, 78.9830, -14.5910,  158,     40.0,  -1.5970,  32.3260,2,-999.0000,9,-999.0000,    380.5,2,   -999.0,9,  -999.00,9,  -999.00,9,  -999.00,9,  -999.00,9,       -999,9,   -999.0,9,   -999.0,      -999,9, -999.000, -999.000,9,-999.0000,9,  -999.00,  -999.00,9,   -999.0,9,       -999,9,       -999,9,  -999.00,9,  -999.00,9,     -999,9,131,   4317,  -1.5977
  32L919930718,    70,  2,      7,2,19930807, 78.9830, -14.5910,  158,     48.0,  -1.6080,  32.3540,2,-999.0000,9,-999.0000,    379.3,2,   -999.0,9,  -999.00,9,  -999.00,9,  -999.00,9,  -999.00,9,       -999,9,   -999.0,9,   -999.0,      -999,9,    6.230,    0.093,2,   1.7890,2,     0.80,     0.20,2,   -999.0,9,       -999,9,       -999,9,  -999.00,9,  -999.00,9,     -999,9,131,   4315,  -1.6088
  32L919930718,    70,  2,      8,2,19930807, 78.9830, -14.5910,  158,     48.0,  -1.6080,  32.3550,2,-999.0000,9,-999.0000,    381.0,2,   -999.0,9,  -999.00,9,  -999.00,9,  -999.00,9,  -999.00,9,       -999,9,   -999.0,9,   -999.0,      -999,9, -999.000, -999.000,9,-999.0000,9,  -999.00,  -999.00,9,   -999.0,9,       -999,9,       -999,9,  -999.00,9,  -999.00,9,     -999,9,131,   4316,  -1.6088
  32L919930718,    71,  1,      6,2,19930807, 79.7000, -16.3440,  329,      2.0,  -1.6210,  32.1010,2,-999.0000,9,-999.0000,    377.9,2,   -999.0,9,  -999.00,9,  -999.00,9,  -999.00,9,  -999.00,9,       -999,9,   -999.0,9,   -999.0,      -999,9,    7.650,    0.115,2,   1.8430,2,    -1.80,     0.20,2,   -999.0,9,       -999,9,       -999,9,  -999.00,9,  -999.00,9,     -999,9,132,   4338,  -1.6210
  32L919930718,    71,  1,      5,2,19930807, 79.7000, -16.3440,  329,     10.0,  -1.4930,  32.1240,2,-999.0000,9,-999.0000,    379.0,2,   -999.0,9,  -999.00,9,  -999.00,9,  -999.00,9,  -999.00,9,       -999,9,   -999.0,9,   -999.0,      -999,9, -999.000, -999.000,9,-999.0000,9,  -999.00,  -999.00,9,   -999.0,9,       -999,9,       -999,9,  -999.00,9,  -999.00,9,     -999,9,132,   4337,  -1.4932
  32L919930718,    71,  1,      4,2,19930807, 79.7000, -16.3440,  329,     20.0,  -1.5430,  32.1620,2,-999.0000,9,-999.0000,    375.8,2,   -999.0,9,  -999.00,9,  -999.00,9,  -999.00,9,  -999.00,9,       -999,9,   -999.0,9,   -999.0,      -999,9, -999.000, -999.000,9,-999.0000,9,  -999.00,  -999.00,9,   -999.0,9,       -999,9,       -999,9,  -999.00,9,  -999.00,9,     -999,9,132,   4336,  -1.5433
  32L919930718,    71,  1,      3,2,19930807, 79.7000, -16.3440,  329,     30.0,  -1.7320,  32.3370,2,-999.0000,9,-999.0000,    369.8,2,   -999.0,9,  -999.00,9,  -999.00,9,  -999.00,9,  -999.00,9,       -999,9,   -999.0,9,   -999.0,      -999,9, -999.000, -999.000,9,-999.0000,9,  -999.00,  -999.00,9,   -999.0,9,       -999,9,       -999,9,  -999.00,9,  -999.00,9,     -999,9,132,   4335,  -1.7325
  32L919930718,    71,  1,      2,2,19930807, 79.7000, -16.3440,  329,     50.0,  -1.7480,  32.4330,2,-999.0000,9,-999.0000,    368.6,2,   -999.0,9,  -999.00,9,  -999.00,9,  -999.00,9,  -999.00,9,       -999,9,   -999.0,9,   -999.0,      -999,9, -999.000, -999.000,9,-999.0000,9,  -999.00,  -999.00,9,   -999.0,9,       -999,9,       -999,9,  -999.00,9,  -999.00,9,     -999,9,132,   4334,  -1.7488
  32L919930718,    71,  1,      1,2,19930807, 79.7000, -16.3440,  329,     75.0,  -1.6800,  32.5670,2,-999.0000,9,-999.0000,    357.6,2,   -999.0,9,  -999.00,9,  -999.00,9,  -999.00,9,  -999.00,9,       -999,9,   -999.0,9,   -999.0,      -999,9, -999.000, -999.000,9,-999.0000,9,  -999.00,  -999.00,9,   -999.0,9,       -999,9,       -999,9,  -999.00,9,  -999.00,9,     -999,9,132,   4333,  -1.6813
  32L919930718,    71,  1,     12,2,19930807, 79.7000, -16.3440,  329,    100.0,  -1.5730,  32.9120,2,-999.0000,9,-999.0000,    343.9,2,   -999.0,9,  -999.00,9,  -999.00,9,  -999.00,9,  -999.00,9,       -999,9,   -999.0,9,   -999.0,      -999,9, -999.000, -999.000,9,-999.0000,9,  -999.00,  -999.00,9,   -999.0,9,       -999,9,       -999,9,  -999.00,9,  -999.00,9,     -999,9,132,   4332,  -1.5749
  32L919930718,    71,  1,     11,2,19930807, 79.7000, -16.3440,  329,    120.0,  -1.5320,  33.2550,2,-999.0000,9,-999.0000,    335.8,2,   -999.0,9,  -999.00,9,  -999.00,9,  -999.00,9,  -999.00,9,       -999,9,   -999.0,9,   -999.0,      -999,9, -999.000, -999.000,9,-999.0000,9,  -999.00,  -999.00,9,   -999.0,9,       -999,9,       -999,9,  -999.00,9,  -999.00,9,     -999,9,132,   4331,  -1.5344
  32L919930718,    71,  1,     10,2,19930807, 79.7000, -16.3440,  329,    150.0,  -0.7770,  34.1330,2,-999.0000,9,-999.0000,    305.4,2,   -999.0,9,  -999.00,9,  -999.00,9,  -999.00,9,  -999.00,9,       -999,9,   -999.0,9,   -999.0,      -999,9, -999.000, -999.000,9,-999.0000,9,  -999.00,  -999.00,9,   -999.0,9,       -999,9,       -999,9,  -999.00,9,  -999.00,9,     -999,9,132,   4330,  -0.7813
  32L919930718,    71,  1,      9,2,19930807, 79.7000, -16.3440,  329,    170.0,  -0.2540,  34.4320,2,-999.0000,9,-999.0000,    299.1,2,   -999.0,9,  -999.00,9,  -999.00,9,  -999.00,9,  -999.00,9,       -999,9,   -999.0,9,   -999.0,      -999,9, -999.000, -999.000,9,-999.0000,9,  -999.00,  -999.00,9,   -999.0,9,       -999,9,       -999,9,  -999.00,9,  -999.00,9,     -999,9,132,   4329,  -0.2598
  32L919930718,    71,  1,      7,2,19930807, 79.7000, -16.3440,  329,    182.0,  -0.0900,  34.5010,2,-999.0000,9,-999.0000,    299.5,2,   -999.0,9,  -999.00,9,  -999.00,9,  -999.00,9,  -999.00,9,       -999,9,   -999.0,9,   -999.0,      -999,9,    3.360,    0.050,2,   1.7710,2,    10.90,     0.20,2,   -999.0,9,       -999,9,       -999,9,  -999.00,9,  -999.00,9,     -999,9,132,   4327,  -0.0965
  32L919930718,    71,  1,      8,2,19930807, 79.7000, -16.3440,  329,    182.0,  -0.0870,  34.5000,2,-999.0000,9,-999.0000,    298.4,2,   -999.0,9,  -999.00,9,  -999.00,9,  -999.00,9,  -999.00,9,       -999,9,   -999.0,9,   -999.0,      -999,9, -999.000, -999.000,9,-999.0000,9,  -999.00,  -999.00,9,   -999.0,9,       -999,9,       -999,9,  -999.00,9,  -999.00,9,     -999,9,132,   4328,  -0.0935
  32L919930718,    71,  2,      6,2,19930807, 79.7000, -16.3440,  329,      2.0,  -1.4980,  32.0610,2,  32.1570,2,-999.0000,    381.0,2,    385.5,2,     9.66,2,     1.88,2,     0.08,2,     0.93,2,0.082000002,2,   -999.0,9,   -999.0,      -999,9, -999.000, -999.000,9,-999.0000,9,  -999.00,  -999.00,9,      0.9,2,  7.7670002,2, 1.24800003,2,     0.95,2,     0.14,2,   103000,2,133,   4350,  -1.4980
  32L919930718,    71,  2,      5,2,19930807, 79.7000, -16.3440,  329,      6.0,  -1.6270,  32.1720,2,-999.0000,9,-999.0000,    382.4,2,    382.2,2,     9.95,2,     2.37,2,     0.10,2,     0.93,2,0.072000004,2,   -999.0,9,   -999.0,      -999,9, -999.000, -999.000,9,-999.0000,9,  -999.00,  -999.00,9,      1.4,2,  6.8670001,2, 1.11099994,2,     0.48,2,     0.06,2,   124000,2,133,   4349,  -1.6271
  32L919930718,    71,  2,      3,2,19930807, 79.7000, -16.3440,  329,     11.0,  -1.6630,  32.1910,2,-999.0000,9,-999.0000,    376.6,2,    372.9,2,    10.73,2,     3.54,2,    -0.07,2,     0.97,2,0.004000008,2,   -999.0,9,   -999.0,      -999,9, -999.000, -999.000,9,-999.0000,9,  -999.00,  -999.00,9,      0.4,2, 2.21399999,2,0.250999987,2,     0.19,2,     0.05,2,    69000,2,133,   4347,  -1.6632
  32L919930718,    71,  2,      4,2,19930807, 79.7000, -16.3440,  329,     11.0,  -1.6620,  32.1900,2,-999.0000,9,-999.0000,    377.8,2,   -999.0,9,  -999.00,9,  -999.00,9,  -999.00,9,  -999.00,9,       -999,9,   -999.0,9,   -999.0,      -999,9, -999.000, -999.000,9,-999.0000,9,  -999.00,  -999.00,9,   -999.0,9,       -999,9,       -999,9,  -999.00,9,  -999.00,9,     -999,9,133,   4348,  -1.6622
  32L919930718,    71,  2,      2,2,19930807, 79.7000, -16.3440,  329,     17.0,  -1.7040,  32.2630,2,-999.0000,9,-999.0000,    369.4,2,    375.0,2,    10.89,2,     3.66,2,    -0.09,2,     0.99,2,0.238000005,2,   -999.0,9,   -999.0,      -999,9, -999.000, -999.000,9,-999.0000,9,  -999.00,  -999.00,9,      0.2,2,      1.199,2,0.199000001,2,     0.10,2,     0.05,2,    80300,2,133,   4346,  -1.7043
  32L919930718,    71,  2,      1,2,19930807, 79.7000, -16.3440,  329,     27.0,  -1.7300,  32.3700,2,-999.0000,9,-999.0000,    369.1,2,    370.4,2,    10.90,2,     3.88,2,    -0.10,2,     0.99,2,0.043000005,2,   -999.0,9,   -999.0,      -999,9, -999.000, -999.000,9,-999.0000,9,  -999.00,  -999.00,9,      0.0,2, 1.12300003,2,0.185000002,2,     0.08,2,     0.03,2,    58400,2,133,   4345,  -1.7304
  32L919930718,    71,  2,     12,2,19930807, 79.7000, -16.3440,  329,     41.0,  -1.7430,  32.4160,2,-999.0000,9,-999.0000,    369.5,2,    369.3,2,    10.97,2,     3.93,2,    -0.09,2,     1.00,2,0.023000002,2,   -999.0,9,   -999.0,      -999,9, -999.000, -999.000,9,-999.0000,9,  -999.00,  -999.00,9,      0.1,2, 1.54100001,2,0.193000004,2,     0.10,2,     0.06,2,    62700,2,133,   4344,  -1.7437
  32L919930718,    71,  2,     11,2,19930807, 79.7000, -16.3440,  329,     62.0,  -1.7330,  32.4740,2,-999.0000,9,-999.0000,    364.2,2,    361.6,2,    11.59,2,     4.69,2,    -0.09,2,     1.00,2,0.033000007,2,   -999.0,9,   -999.0,      -999,9, -999.000, -999.000,9,-999.0000,9,  -999.00,  -999.00,9,      0.0,2,0.437000006,2,0.129999995,2,     0.05,2,     0.02,2,    70600,2,133,   4343,  -1.7340
  32L919930718,    71,  2,     10,2,19930807, 79.7000, -16.3440,  329,    101.0,  -1.5560,  33.0170,2,-999.0000,9,-999.0000,    339.4,2,    337.7,2,    12.61,2,     6.85,2,    -0.09,2,     0.95,2,0.043000005,2,   -999.0,9,   -999.0,      -999,9, -999.000, -999.000,9,-999.0000,9,  -999.00,  -999.00,9,   -999.0,9,0.883000016,2,0.078000002,2,     0.03,2,     0.02,2,    35300,2,133,   4342,  -1.5580
  32L919930718,    71,  2,      9,2,19930807, 79.7000, -16.3440,  329,    176.0,  -0.2550,  34.4330,2,-999.0000,9,-999.0000,    295.8,2,    292.9,2,    11.17,2,    11.95,2,    -0.05,2,     0.89,2,0.043000005,2,   -999.0,9,   -999.0,      -999,9, -999.000, -999.000,9,-999.0000,9,  -999.00,  -999.00,9,   -999.0,9, 1.58099997,2,       0.07,2,     0.02,2,     0.02,2,    62000,2,133,   4341,  -0.2610
  32L919930718,    71,  2,      8,2,19930807, 79.7000, -16.3440,  329,    251.0,   0.6320,  34.7220,2,  34.7350,2,-999.0000,    289.8,2,    288.5,2,    11.05,2,    12.80,2,    -0.06,2,     0.91,2,0.043000005,2,   -999.0,9,   -999.0,      -999,9, -999.000, -999.000,9,-999.0000,9,  -999.00,  -999.00,9,   -999.0,9, 1.36699998,2,0.144999996,2,  -999.00,9,  -999.00,9,    61500,2,133,   4340,   0.6212
  32L919930718,    71,  2,      7,2,19930807, 79.7000, -16.3440,  329,    319.0,   0.8220,  34.7790,2,-999.0000,9,-999.0000,    292.3,2,    291.1,2,    10.62,2,    12.69,2,    -0.03,2,     0.91,2,0.043000005,2,   -999.0,9,   -999.0,      -999,9, -999.000, -999.000,9,-999.0000,9,  -999.00,  -999.00,9,   -999.0,9, 1.48199999,2,0.064999998,2,  -999.00,9,  -999.00,9,    77900,2,133,   4339,   0.8076