BOTTLE,20090115PRINUNIVRMK
EXPOCODE,STNNBR,CASTNO,BTLNBR,BTLNBR_FLAG_W,DATE,LATITUDE,LONGITUDE,DEPTH,CTDPRS,CTDTMP,CTDSAL,CTDSAL_FLAG_W,SALNTY,SALNTY_FLAG_W,SOMSAL,CTDOXY,CTDOXY_FLAG_W,OXYGEN,OXYGEN_FLAG_W,SILCAT,SILCAT_FLAG_W,NITRAT,NITRAT_FLAG_W,NITRIT,NITRIT_FLAG_W,PHSPHT,PHSPHT_FLAG_W,AMMONI,AMMONI_FLAG_W,TCARBN,TCARBN_FLAG_W,FCO2,FCO2_TMP,FCO2_FLAG_W,TRITUM,TRITER,TRITUM_FLAG_W,HELIUM,HELIUM_FLAG_W,DELHE3,DELHER,DELHE3_FLAG_W,DELC14,DELC14_FLAG_W,POC,POC_FLAG_W,PON,PON_FLAG_W,CHLORA,CHLORA_FLAG_W,PHAEO,PHAEO_FLAG_W,BACT,BACT_FLAG_W,CTDNO,BNLID,THETA
,,,,,,,,METERS,DBARS,ITS-90,PSS-78,,PSS-78,,PSS-78,UMOL/KG,,UMOL/KG,,UMOL/KG,,UMOL/KG,,UMOL/KG,,UMOL/KG,,UMOL/KG,,UMOL/KG,,UATM,DEGC,,TU,TU,,NMOL/KG,,PERCNT,PERCNT,,O/OO,,ug/kg,,ug/kg,,UG/L,,UG/L,,CELLS/ML,,,,DEGC
  32L919930718,    62,  5,     12,2,19930805, 79.8850,  -7.9730,  205,      2.0,  -0.6380,  30.0960,2,  30.3350,2,-999.0000,    404.6,2,   -999.0,9,  -999.00,9,  -999.00,9,  -999.00,9,  -999.00,9,       -999,9,   -999.0,9,   -999.0,      -999,9,    6.320,    0.095,2,   1.8290,2,     1.20,     0.20,2,   -999.0,9,       -999,9,       -999,9,  -999.00,9,  -999.00,9,     -999,9,116,   4188,  -0.6380
  32L919930718,    62,  5,     11,2,19930805, 79.8850,  -7.9730,  205,    159.0,  -0.4040,  34.1840,2,  34.1580,2,-999.0000,    301.9,2,   -999.0,9,  -999.00,9,  -999.00,9,  -999.00,9,  -999.00,9,       -999,9,   -999.0,9,   -999.0,      -999,9,    3.520,    0.053,2,   1.8430,2,     8.00,     0.20,2,   -999.0,9,       -999,9,       -999,9,  -999.00,9,  -999.00,9,     -999,9,116,   4187,  -0.4091
  32L919930718,    63,  1,      6,2,19930805, 79.7680,  -8.8240,  210,      2.0,   0.5130,  28.6910,2,-999.0000,9,-999.0000,    265.7,3,    371.7,2,     2.80,2,     0.23,2,     0.00,2,     0.54,2,0.054000005,2,   -999.0,9,   -999.0,      -999,9, -999.000, -999.000,9,-999.0000,9,  -999.00,  -999.00,9,      0.1,2, 6.71600008,2,0.949999988,2,     0.05,2,     0.01,2,    96800,2,115,   4182,   0.5129
  32L919930718,    63,  1,     10,2,19930805, 79.7680,  -8.8240,  210,      5.0,   0.0830,  29.1930,2,  30.8580,2,-999.0000,    391.3,2,    417.4,2,     3.21,2,     0.24,2,     0.02,2,     0.68,2,     -0.015,2,   -999.0,9,   -999.0,      -999,9, -999.000, -999.000,9,-999.0000,9,  -999.00,  -999.00,9,      0.5,2, 8.23200035,2, 1.05700004,2,     0.19,2,     0.04,2,   105000,2,115,   4186,   0.0829
  32L919930718,    63,  1,      9,2,19930805, 79.7680,  -8.8240,  210,      9.0,  -1.1320,  31.5780,2,-999.0000,9,-999.0000,    418.2,2,    422.0,2,     3.89,2,     0.10,2,     0.00,2,     0.73,2,     -0.024,2,   -999.0,9,   -999.0,      -999,9, -999.000, -999.000,9,-999.0000,9,  -999.00,  -999.00,9,      1.0,2, 8.69999981,2, 1.38399994,2,     0.44,2,     0.07,2,   106000,2,115,   4185,  -1.1322
  32L919930718,    63,  1,      8,2,19930805, 79.7680,  -8.8240,  210,     14.0,  -1.4780,  31.8950,2,-999.0000,9,-999.0000,    409.1,2,    409.4,2,     5.42,2,     0.60,2,     0.03,2,     0.81,2,0.093000002,2,   -999.0,9,   -999.0,      -999,9, -999.000, -999.000,9,-999.0000,9,  -999.00,  -999.00,9,      1.5,2, 7.74499989,2, 1.30999994,2,     0.38,2,     0.11,2,   183000,2,115,   4184,  -1.4782
  32L919930718,    63,  1,      7,2,19930805, 79.7680,  -8.8240,  210,     21.0,  -1.5600,  32.1050,2,-999.0000,9,-999.0000,    398.5,2,    400.8,2,     6.41,2,     0.68,2,     0.07,2,     0.85,2,0.141000003,2,   -999.0,9,   -999.0,      -999,9, -999.000, -999.000,9,-999.0000,9,  -999.00,  -999.00,9,      0.6,2,  5.9710002,2, 1.24000001,2,     0.68,2,     0.20,2,   328000,2,115,   4183,  -1.5604
  32L919930718,    63,  1,      5,2,19930805, 79.7680,  -8.8240,  210,     29.0,  -1.6500,  32.2200,2,-999.0000,9,-999.0000,    383.5,2,    380.1,2,  -999.00,9,  -999.00,9,  -999.00,9,  -999.00,9,       -999,9,   -999.0,9,   -999.0,      -999,9, -999.000, -999.000,9,-999.0000,9,  -999.00,  -999.00,9,   -999.0,9,       -999,9,       -999,9,  -999.00,9,  -999.00,9,     -999,9,115,   4181,  -1.6505
  32L919930718,    63,  1,      4,2,19930805, 79.7680,  -8.8240,  210,     33.0,  -1.6460,  32.2940,2,-999.0000,9,-999.0000,    375.8,2,    376.1,2,     9.95,2,     3.08,2,     0.13,2,     0.98,2,0.102000006,2,   -999.0,9,   -999.0,      -999,9, -999.000, -999.000,9,-999.0000,9,  -999.00,  -999.00,9,      0.0,2, 4.91800022,2,0.717000008,2,     0.39,2,     0.20,2,   185000,2,115,   4180,  -1.6465
  32L919930718,    63,  1,      3,2,19930805, 79.7680,  -8.8240,  210,     49.0,  -1.7050,  32.3950,2,-999.0000,9,-999.0000,    368.5,2,    369.1,2,    11.70,2,     4.11,2,     0.08,2,     1.02,2, 0.00500001,2,   -999.0,9,   -999.0,      -999,9, -999.000, -999.000,9,-999.0000,9,  -999.00,  -999.00,9,      0.0,2, 1.66499996,2,0.305000007,2,     0.13,2,     0.13,2,   173000,2,115,   4179,  -1.7058
  32L919930718,    63,  1,      2,2,19930805, 79.7680,  -8.8240,  210,     61.0,  -1.7260,  32.4270,2,-999.0000,9,-999.0000,    368.6,2,    368.6,2,    11.95,2,     3.93,2,     0.03,2,     1.03,2,     -0.005,2,   -999.0,9,   -999.0,      -999,9, -999.000, -999.000,9,-999.0000,9,  -999.00,  -999.00,9,   -999.0,9, 1.85399997,2,0.219999999,2,     0.07,2,     0.07,2,    84700,2,115,   4178,  -1.7270
  32L919930718,    63,  1,      1,2,19930805, 79.7680,  -8.8240,  210,    100.0,  -1.7060,  32.5250,2,-999.0000,9,-999.0000,    363.8,2,    360.6,2,    12.60,2,     4.85,2,     0.05,2,     1.02,2,     -0.005,2,   -999.0,9,   -999.0,      -999,9, -999.000, -999.000,9,-999.0000,9,  -999.00,  -999.00,9,   -999.0,9, 1.80299997,2,0.277999997,2,     0.05,2,     0.05,2,    70100,2,115,   4177,  -1.7077
  32L919930718,    63,  1,     12,2,19930805, 79.7680,  -8.8240,  210,    159.0,  -1.1680,  34.1070,2,  34.1330,2,-999.0000,    318.4,2,    311.1,2,    10.04,2,    10.02,2,     0.03,2,     0.81,2,     -0.005,2,   -999.0,9,   -999.0,      -999,9, -999.000, -999.000,9,-999.0000,9,  -999.00,  -999.00,9,   -999.0,9,0.326000005,2,0.141000003,2,     0.06,2,     0.06,2,    51900,2,115,   4176,  -1.1721
  32L919930718,    63,  1,     11,2,19930805, 79.7680,  -8.8240,  210,    200.0,  -0.1780,  34.4180,2,-999.0000,9,-999.0000,    298.6,2,    288.4,2,    14.67,2,    12.25,2,     0.03,2,     0.97,2,0.015000001,2,   -999.0,9,   -999.0,      -999,9, -999.000, -999.000,9,-999.0000,9,  -999.00,  -999.00,9,   -999.0,9,0.658999979,2,0.182999998,2,     0.03,2,     0.06,2,    80600,2,115,   4175,  -0.1850
  32L919930718,    64,  1,     12,2,19930806, 79.6720,  -9.5920,  203,      2.0,  -1.4380,  30.8190,2,  19.7540,2,  30.8190,    401.5,2,    400.3,2,     4.27,2,     0.11,2,    -0.01,2,     0.43,2,0.111000009,2,   1385.0,2,    472.6,17.7999992,2, -999.000, -999.000,9,-999.0000,9,  -999.00,  -999.00,9,   -999.0,9, 9.13300037,2, 1.31599998,2,     0.12,2,     0.03,2,     -999,9,118,   4200,  -1.4380
  32L919930718,    64,  1,     11,2,19930806, 79.6720,  -9.5920,  203,     10.0,  -1.5330,  31.4320,2,-999.0000,9,  31.5390,    394.6,2,    399.4,2,     8.18,2,     1.08,2,     0.05,2,     0.84,2,0.140000001,2,   2037.0,2,    603.2,17.7999992,2, -999.000, -999.000,9,-999.0000,9,  -999.00,  -999.00,9,   -999.0,9, 8.69799995,2, 1.53199995,2,     0.32,2,     0.12,2,     -999,9,118,   4199,  -1.5332
  32L919930718,    64,  1,     10,2,19930806, 79.6720,  -9.5920,  203,     20.0,  -1.6190,  32.0650,2,-999.0000,9,  32.1080,    385.7,2,    388.5,2,     8.17,2,     1.94,2,     0.10,2,     0.93,2,0.170000002,2,   2083.3,2,    661.6,17.7999992,2, -999.000, -999.000,9,-999.0000,9,  -999.00,  -999.00,9,   -999.0,9, 5.90500021,2, 1.11300004,2,     0.55,2,     0.19,2,     -999,9,118,   4198,  -1.6193
  32L919930718,    64,  1,      9,2,19930806, 79.6720,  -9.5920,  203,     35.0,  -1.7090,  32.3640,2,-999.0000,9,  32.3010,    370.2,2,    372.2,2,    10.97,2,     3.83,2,     0.10,2,     1.03,2,0.023000002,2,   2107.8,2,    741.9,17.7999992,2, -999.000, -999.000,9,-999.0000,9,  -999.00,  -999.00,9,   -999.0,9,0.921999991,2,0.171000004,2,     0.07,2,     0.07,2,     -999,9,118,   4197,  -1.7096
  32L919930718,    64,  1,      8,2,19930806, 79.6720,  -9.5920,  203,     50.0,  -1.7240,  32.4260,2,-999.0000,9,  32.3760,    368.3,2,    369.3,2,    11.08,2,     4.26,2,     0.06,2,     1.05,2,0.033000007,2,   2114.6,2,    759.9,17.7999992,2, -999.000, -999.000,9,-999.0000,9,  -999.00,  -999.00,9,   -999.0,9,  2.2249999,2,0.261000007,2,     0.05,2,     0.05,2,     -999,9,118,   4196,  -1.7248
  32L919930718,    64,  1,      7,2,19930806, 79.6720,  -9.5920,  203,     60.0,  -1.7350,  32.4390,2,-999.0000,9,  32.3800,    367.2,2,    368.2,2,    11.26,2,     4.31,2,     0.05,2,     1.05,2,-0.01599999,2,   2115.7,2,    764.9,17.7999992,2, -999.000, -999.000,9,-999.0000,9,  -999.00,  -999.00,9,   -999.0,9, 1.89499998,2,0.367000014,2,     0.09,2,     0.08,2,     -999,9,118,   4195,  -1.7360
  32L919930718,    64,  1,      6,2,19930806, 79.6720,  -9.5920,  203,     70.0,  -1.7460,  32.4560,2,-999.0000,9,  32.4130,    368.0,2,    367.9,2,    11.50,2,     4.42,2,     0.02,2,     1.05,2,-0.01599999,2,   2118.1,2,    770.1,17.7999992,2, -999.000, -999.000,9,-999.0000,9,  -999.00,  -999.00,9,   -999.0,9, 1.63699996,2,0.307000011,2,     0.04,2,     0.07,2,     -999,9,118,   4194,  -1.7471
  32L919930718,    64,  1,      5,2,19930806, 79.6720,  -9.5920,  203,     81.0,  -1.7420,  32.4820,2,-999.0000,9,  32.3860,    367.4,2,   -999.0,9,    11.55,2,     4.35,2,     0.02,2,     1.06,2,     -0.006,2,   2115.1,2,    772.8,17.7999992,2, -999.000, -999.000,9,-999.0000,9,  -999.00,  -999.00,9,   -999.0,9, 1.84300005,2,0.192000002,2,     0.04,2,     0.05,2,     -999,9,118,   4193,  -1.7433
  32L919930718,    64,  1,      4,2,19930806, 79.6720,  -9.5920,  203,    100.0,  -1.6950,  32.5560,2,-999.0000,9,  32.5320,    361.8,2,    361.6,2,    11.82,2,     4.99,2,     0.01,2,     1.06,2,0.004000008,2,   2120.8,2,    775.6,17.7999992,2, -999.000, -999.000,9,-999.0000,9,  -999.00,  -999.00,9,   -999.0,9,      2.329,2,0.185000002,2,     0.03,2,     0.05,2,     -999,9,118,   4192,  -1.6967
  32L919930718,    64,  1,      3,2,19930806, 79.6720,  -9.5920,  203,    124.0,  -1.3980,  33.0030,2,-999.0000,9,  33.0160,    339.3,2,    337.5,2,    12.89,2,     7.65,2,     0.05,2,     1.02,2,     -0.006,2,   2131.5,2,    805.1,17.7999992,2, -999.000, -999.000,9,-999.0000,9,  -999.00,  -999.00,9,   -999.0,9, 2.37199998,2,0.303000003,2,     0.04,2,     0.07,2,     -999,9,118,   4191,  -1.4006
  32L919930718,    64,  1,      2,2,19930806, 79.6720,  -9.5920,  203,    150.0,  -0.7040,  33.8990,2,  33.9560,2,  33.9170,    308.0,2,    304.1,2,    13.40,2,    11.20,2,     0.04,2,     0.99,2,0.013000011,2,   2141.4,2,    795.8,17.7999992,2, -999.000, -999.000,9,-999.0000,9,  -999.00,  -999.00,9,   -999.0,9,0.720000029,2,0.187000006,2,     0.02,2,     0.04,2,     -999,9,118,   4190,  -0.7084
  32L919930718,    64,  1,      1,2,19930806, 79.6720,  -9.5920,  203,    186.0,  -0.2030,  34.3950,2,-999.0000,9,  34.3200,    296.0,2,    288.5,2,    14.19,2,    12.91,2,     0.03,2,     1.00,2,     -0.006,2,   2147.9,2,    790.9,17.7999992,2, -999.000, -999.000,9,-999.0000,9,  -999.00,  -999.00,9,   -999.0,9, 1.89699996,2,0.173999995,2,     0.02,2,     0.03,2,     -999,9,118,   4189,  -0.2094
  32L919930718,    64,  2,     11,2,19930806, 79.6720,  -9.5920,  203,      3.0,  -1.4670,  31.2010,2,-999.0000,9,  31.0200,    402.9,2,   -999.0,9,  -999.00,9,  -999.00,9,  -999.00,9,  -999.00,9,       -999,9,   2007.9,2,    534.6,16.7000008,2, -999.000, -999.000,9,-999.0000,9,  -999.00,  -999.00,9,   -999.0,9,       -999,9,       -999,9,  -999.00,9,  -999.00,9,     -999,9,119,   4211,  -1.4670
  32L919930718,    64,  2,     12,2,19930806, 79.6720,  -9.5920,  203,      3.0,  -0.9490,  28.4780,2,-999.0000,9,-999.0000,    403.1,2,   -999.0,9,     3.82,2,    -0.02,2,     0.01,2,     0.39,2,0.150000006,2,   -999.0,9,   -999.0,      -999,9, -999.000, -999.000,9,-999.0000,9,  -999.00,  -999.00,9,   -999.0,9,       -999,9,       -999,9,  -999.00,9,  -999.00,9,     -999,9,119,   4212,  -0.9490
  32L919930718,    64,  2,      9,2,19930806, 79.6720,  -9.5920,  203,     20.0,  -1.6080,  32.0110,2,-999.0000,9,  32.1330,    393.9,2,   -999.0,9,  -999.00,9,  -999.00,9,  -999.00,9,  -999.00,9,       -999,9,   2081.8,2,    627.0,16.7000008,2, -999.000, -999.000,9,-999.0000,9,  -999.00,  -999.00,9,   -999.0,9,       -999,9,       -999,9,  -999.00,9,  -999.00,9,     -999,9,119,   4209,  -1.6083
  32L919930718,    64,  2,     10,2,19930806, 79.6720,  -9.5920,  203,     20.0,  -1.6070,  32.0080,2,-999.0000,9,-999.0000,    392.7,2,   -999.0,9,     7.27,2,     1.05,2,     0.09,2,     0.85,2,0.023000002,2,   -999.0,9,   -999.0,      -999,9, -999.000, -999.000,9,-999.0000,9,  -999.00,  -999.00,9,   -999.0,9,       -999,9,       -999,9,  -999.00,9,  -999.00,9,     -999,9,119,   4210,  -1.6073
  32L919930718,    64,  2,      7,2,19930806, 79.6720,  -9.5920,  203,     39.0,  -1.6820,  32.3230,2,-999.0000,9,  32.3530,    374.8,2,   -999.0,9,    10.38,2,     3.08,2,     0.12,2,     1.01,2,0.023000002,2,   2108.9,2,    711.3,16.7000008,2, -999.000, -999.000,9,-999.0000,9,  -999.00,  -999.00,9,   -999.0,9,       -999,9,       -999,9,  -999.00,9,  -999.00,9,     -999,9,119,   4207,  -1.6826
  32L919930718,    64,  2,      8,2,19930806, 79.6720,  -9.5920,  203,     39.0,  -1.6820,  32.3230,2,-999.0000,9,-999.0000,    376.4,2,   -999.0,9,  -999.00,9,  -999.00,9,  -999.00,9,  -999.00,9,       -999,9,   -999.0,9,   -999.0,      -999,9, -999.000, -999.000,9,-999.0000,9,  -999.00,  -999.00,9,   -999.0,9,       -999,9,       -999,9,  -999.00,9,  -999.00,9,     -999,9,119,   4208,  -1.6826
  32L919930718,    64,  2,      5,2,19930806, 79.6720,  -9.5920,  203,     60.0,  -1.7260,  32.4320,2,-999.0000,9,  32.4200,    370.4,2,   -999.0,9,  -999.00,9,  -999.00,9,  -999.00,9,  -999.00,9,       -999,9,   2117.0,2,    736.6,16.7000008,2, -999.000, -999.000,9,-999.0000,9,  -999.00,  -999.00,9,   -999.0,9,       -999,9,       -999,9,  -999.00,9,  -999.00,9,     -999,9,119,   4205,  -1.7270
  32L919930718,    64,  2,      6,2,19930806, 79.6720,  -9.5920,  203,     61.0,  -1.7250,  32.4310,2,-999.0000,9,-999.0000,    369.9,2,   -999.0,9,    11.35,2,     3.84,2,     0.06,2,     1.04,2,0.013000011,2,   -999.0,9,   -999.0,      -999,9, -999.000, -999.000,9,-999.0000,9,  -999.00,  -999.00,9,   -999.0,9,       -999,9,       -999,9,  -999.00,9,  -999.00,9,     -999,9,119,   4206,  -1.7260
  32L919930718,    64,  2,      3,2,19930806, 79.6720,  -9.5920,  203,     80.0,  -1.7480,  32.4600,2,-999.0000,9,  32.4710,    371.2,2,   -999.0,9,  -999.00,9,  -999.00,9,  -999.00,9,  -999.00,9,       -999,9,   2118.0,2,    725.0,16.7000008,2, -999.000, -999.000,9,-999.0000,9,  -999.00,  -999.00,9,   -999.0,9,       -999,9,       -999,9,  -999.00,9,  -999.00,9,     -999,9,119,   4203,  -1.7493
  32L919930718,    64,  2,      4,2,19930806, 79.6720,  -9.5920,  203,     80.0,  -1.7430,  32.4590,2,-999.0000,9,-999.0000,    370.8,2,   -999.0,9,    12.68,2,     4.14,2,  -999.00,9,     1.05,2,-0.01599999,2,   -999.0,9,   -999.0,      -999,9, -999.000, -999.000,9,-999.0000,9,  -999.00,  -999.00,9,   -999.0,9,       -999,9,       -999,9,  -999.00,9,  -999.00,9,     -999,9,119,   4204,  -1.7443
  32L919930718,    64,  2,      1,2,19930806, 79.6720,  -9.5920,  203,    126.0,  -1.4080,  33.0070,2,-999.0000,9,  32.9850,    343.9,2,   -999.0,9,  -999.00,9,  -999.00,9,  -999.00,9,  -999.00,9,       -999,9,   2131.4,2,    768.8,16.7000008,2, -999.000, -999.000,9,-999.0000,9,  -999.00,  -999.00,9,   -999.0,9,       -999,9,       -999,9,  -999.00,9,  -999.00,9,     -999,9,119,   4201,  -1.4106
  32L919930718,    64,  2,      2,2,19930806, 79.6720,  -9.5920,  203,    126.0,  -1.4090,  33.0060,2,-999.0000,9,-999.0000,    344.7,2,   -999.0,9,  -999.00,9,  -999.00,9,  -999.00,9,  -999.00,9,       -999,9,   -999.0,9,   -999.0,      -999,9, -999.000, -999.000,9,-999.0000,9,  -999.00,  -999.00,9,   -999.0,9,       -999,9,       -999,9,  -999.00,9,  -999.00,9,     -999,9,119,   4202,  -1.4116