BOTTLE,20090115PRINUNIVRMK
EXPOCODE,STNNBR,CASTNO,BTLNBR,BTLNBR_FLAG_W,DATE,LATITUDE,LONGITUDE,DEPTH,CTDPRS,CTDTMP,CTDSAL,CTDSAL_FLAG_W,SALNTY,SALNTY_FLAG_W,SOMSAL,CTDOXY,CTDOXY_FLAG_W,OXYGEN,OXYGEN_FLAG_W,SILCAT,SILCAT_FLAG_W,NITRAT,NITRAT_FLAG_W,NITRIT,NITRIT_FLAG_W,PHSPHT,PHSPHT_FLAG_W,AMMONI,AMMONI_FLAG_W,TCARBN,TCARBN_FLAG_W,FCO2,FCO2_TMP,FCO2_FLAG_W,TRITUM,TRITER,TRITUM_FLAG_W,HELIUM,HELIUM_FLAG_W,DELHE3,DELHER,DELHE3_FLAG_W,DELC14,DELC14_FLAG_W,POC,POC_FLAG_W,PON,PON_FLAG_W,CHLORA,CHLORA_FLAG_W,PHAEO,PHAEO_FLAG_W,BACT,BACT_FLAG_W,CTDNO,BNLID,THETA
,,,,,,,,METERS,DBARS,ITS-90,PSS-78,,PSS-78,,PSS-78,UMOL/KG,,UMOL/KG,,UMOL/KG,,UMOL/KG,,UMOL/KG,,UMOL/KG,,UMOL/KG,,UMOL/KG,,UATM,DEGC,,TU,TU,,NMOL/KG,,PERCNT,PERCNT,,O/OO,,ug/kg,,ug/kg,,UG/L,,UG/L,,CELLS/ML,,,,DEGC
  32L919930718,    84,  1,      7,2,19930810, 80.3780, -14.3530,  347,    337.0,   0.3960,  34.7990,2,  34.8490,2,-999.0000,    289.0,2,   -999.0,9,  -999.00,9,  -999.00,9,  -999.00,9,  -999.00,9,       -999,9,   -999.0,9,   -999.0,      -999,9, -999.000, -999.000,9,-999.0000,9,  -999.00,  -999.00,9,   -999.0,9,       -999,9,       -999,9,  -999.00,9,  -999.00,9,     -999,9,152,   4531,   0.3819
  32L919930718,    84,  2,      7,2,19930810, 80.3780, -14.3530,  347,      2.0,   1.1090,  30.1450,2,-999.0000,9,  30.2620,    387.8,2,    396.2,2,     2.64,2,     0.18,2,    -0.04,2,     0.66,2,0.043000005,2,   1948.9,2,    474.9,17.1000004,2, -999.000, -999.000,9,-999.0000,9,  -999.00,  -999.00,9,   -999.0,9, 8.85599995,2, 1.10000002,2,     0.15,2,     0.02,2,    46900,2,153,   4543,   1.1089
  32L919930718,    84,  2,      6,2,19930810, 80.3780, -14.3530,  347,     10.0,   0.0390,  31.4030,2,  31.1200,2,  31.5810,    413.2,2,    417.4,2,     3.08,2,     0.11,2,    -0.01,2,     0.77,2,0.052000009,2,   2029.9,2,    529.3,17.1000004,2, -999.000, -999.000,9,-999.0000,9,  -999.00,  -999.00,9,   -999.0,9, 8.95899963,2, 1.17200005,2,     0.16,2,     0.04,2,    23800,2,153,   4542,   0.0387
  32L919930718,    84,  2,      5,2,19930810, 80.3780, -14.3530,  347,     25.0,  -1.3390,  32.0170,2,-999.0000,9,-999.0000,    403.2,2,    388.4,2,     8.22,2,     2.31,2,     0.05,2,     0.95,2,0.052000009,2,   -999.0,9,   -999.0,      -999,9, -999.000, -999.000,9,-999.0000,9,  -999.00,  -999.00,9,   -999.0,9, 8.69200039,2, 1.29799998,2,     1.00,2,     0.18,2,    42900,2,153,   4541,  -1.3395
  32L919930718,    84,  2,      4,2,19930810, 80.3780, -14.3530,  347,     35.0,  -1.6600,  32.1620,2,-999.0000,9,  32.1770,    371.3,2,    369.3,2,    10.99,2,     3.84,2,     0.06,2,     1.03,2,0.072000004,2,   2101.7,2,    719.6,17.1000004,2, -999.000, -999.000,9,-999.0000,9,  -999.00,  -999.00,9,   -999.0,9, 3.13199997,2,0.407000005,2,     0.19,2,     0.07,2,    24000,2,153,   4540,  -1.6606
  32L919930718,    84,  2,      3,2,19930810, 80.3780, -14.3530,  347,     60.0,  -1.7090,  32.3290,2,-999.0000,9,  32.4320,    368.2,2,    361.4,2,    11.49,2,     4.96,2,     0.02,2,     1.05,2,0.023000002,2,   2114.8,2,    737.5,17.1000004,2, -999.000, -999.000,9,-999.0000,9,  -999.00,  -999.00,9,   -999.0,9,0.823000014,2,      0.184,2,     0.03,2,     0.01,2,    18400,2,153,   4539,  -1.7100
  32L919930718,    84,  2,      2,2,19930810, 80.3780, -14.3530,  347,     80.0,  -1.6610,  32.5610,2,-999.0000,9,-999.0000,    358.6,2,    344.1,2,    12.00,2,     6.67,2,     0.01,2,     1.02,2,0.043000005,2,   -999.0,9,   -999.0,      -999,9, -999.000, -999.000,9,-999.0000,9,  -999.00,  -999.00,9,   -999.0,9,0.819000006,2,0.141000003,2,     0.03,2,     0.01,2,    16000,2,153,   4538,  -1.6624
  32L919930718,    84,  2,      1,2,19930810, 80.3780, -14.3530,  347,    100.0,  -1.4870,  33.0450,2,-999.0000,9,  33.4500,    338.8,2,    322.4,2,    12.13,2,     9.13,2,     0.01,2,     1.00,2,0.033000007,2,   2131.4,2,    763.1,17.1000004,2, -999.000, -999.000,9,-999.0000,9,  -999.00,  -999.00,9,   -999.0,9,0.990999997,2,0.160999998,2,     0.02,2,     0.01,2,    25200,2,153,   4537,  -1.4890
  32L919930718,    84,  2,     12,2,19930810, 80.3780, -14.3530,  347,    150.0,  -0.2590,  34.3080,2,-999.0000,9,  34.3660,    298.1,2,    297.2,2,    11.58,2,    12.74,2,     0.00,2,     0.97,2,0.043000005,2,   2139.0,2,    721.7,17.1000004,2, -999.000, -999.000,9,-999.0000,9,  -999.00,  -999.00,9,   -999.0,9,0.822000027,2,0.105999999,2,     0.02,2,     0.01,2,    18000,2,153,   4536,  -0.2641
  32L919930718,    84,  2,     11,2,19930810, 80.3780, -14.3530,  347,    200.0,   0.3670,  34.6230,2,-999.0000,9,  34.6250,    291.6,2,    287.3,2,    11.42,2,    13.11,2,     0.00,2,     0.97,2,-0.01599999,2,   2145.7,2,    718.2,17.1000004,2, -999.000, -999.000,9,-999.0000,9,  -999.00,  -999.00,9,   -999.0,9, 1.38399994,2,0.170000002,2,     0.02,2,     0.02,2,    18200,2,153,   4535,   0.3590
  32L919930718,    84,  2,     10,2,19930810, 80.3780, -14.3530,  347,    249.0,   0.5800,  34.7140,2,-999.0000,9,  34.6840,    290.8,2,    285.8,2,    11.46,2,    13.29,2,    -0.01,2,     0.97,2,-0.02599999,2,   2148.6,2,   -999.0,      -999,9, -999.000, -999.000,9,-999.0000,9,  -999.00,  -999.00,9,   -999.0,9, 2.28800011,2,0.167999998,2,  -999.00,9,  -999.00,9,    17100,2,153,   4534,   0.5694
  32L919930718,    84,  2,      9,2,19930810, 80.3780, -14.3530,  347,    300.0,   0.4130,  34.7560,2,  34.7650,2,  34.7530,    287.3,2,    281.8,2,    12.07,2,    13.33,2,     0.01,2,     1.00,2,     -0.035,2,   2151.2,2,    720.2,17.1000004,2, -999.000, -999.000,9,-999.0000,9,  -999.00,  -999.00,9,   -999.0,9, 2.62800002,2,0.134000003,2,  -999.00,9,  -999.00,9,    63600,2,153,   4533,   0.4005
  32L919930718,    84,  2,      8,2,19930810, 80.3780, -14.3530,  347,    324.0,   0.4070,  34.7920,2,-999.0000,9,  34.7620,    287.7,2,    280.3,2,    12.14,2,    13.41,2,     0.03,2,     1.00,2,0.004000008,2,   2152.7,2,    735.2,17.1000004,2, -999.000, -999.000,9,-999.0000,9,  -999.00,  -999.00,9,   -999.0,9, 1.85399997,2,0.172999993,2,  -999.00,9,  -999.00,9,    34800,2,153,   4532,   0.3935
  32L919930718,    85,  1,      8,2,19930811, 80.2990, -14.3540,  321,    311.0,   0.6980,  34.7490,2,  34.7620,2,-999.0000,    291.2,2,   -999.0,9,  -999.00,9,  -999.00,9,  -999.00,9,  -999.00,9,       -999,9,   -999.0,9,   -999.0,      -999,9, -999.000, -999.000,9,-999.0000,9,  -999.00,  -999.00,9,   -999.0,9,       -999,9,       -999,9,  -999.00,9,  -999.00,9,     -999,9,154,   4544,   0.6843
  32L919930718,    85,  1,      9,2,19930811, 80.2990, -14.3540,  321,    311.0,   0.6980,  34.7490,2,  34.7970,2,-999.0000,    290.9,2,    286.9,2,  -999.00,9,  -999.00,9,  -999.00,9,  -999.00,9,       -999,9,   -999.0,9,   -999.0,      -999,9, -999.000, -999.000,9,-999.0000,9,  -999.00,  -999.00,9,   -999.0,9,       -999,9,       -999,9,  -999.00,9,  -999.00,9,     -999,9,154,   4545,   0.6843
  32L919930718,    86,  1,      9,2,19930811, 80.4230, -13.3300,  289,      2.0,   1.5490,  28.8290,2,-999.0000,9,-999.0000,    371.7,2,    379.0,2,     2.26,2,    -0.07,2,     0.00,2,     0.56,2,-0.01300001,2,   -999.0,9,   -999.0,      -999,9, -999.000, -999.000,9,-999.0000,9,  -999.00,  -999.00,9,      0.3,2, 8.97299957,2,0.967999995,2,     0.10,2,     0.01,2,   140000,2,155,   4557,   1.5489
  32L919930718,    86,  1,      8,2,19930811, 80.4230, -13.3300,  289,      4.0,   1.5690,  28.9170,2,  29.1100,2,-999.0000,    372.8,2,    381.1,2,     2.39,2,     0.18,2,     0.00,2,     0.56,2,-0.03299999,2,   -999.0,9,   -999.0,      -999,9, -999.000, -999.000,9,-999.0000,9,  -999.00,  -999.00,9,      0.1,2, 10.2139998,2, 1.06599998,2,     0.11,2,     0.02,2,   135000,2,155,   4556,   1.5688
  32L919930718,    86,  1,      7,2,19930811, 80.4230, -13.3300,  289,      7.0,   1.3900,  30.3260,2,-999.0000,9,-999.0000,    390.6,2,    400.4,2,     2.46,2,     0.31,2,     0.00,2,     0.60,2,-0.00400001,2,   -999.0,9,   -999.0,      -999,9, -999.000, -999.000,9,-999.0000,9,  -999.00,  -999.00,9,      0.2,2, 13.4619999,2, 1.13499999,2,     0.13,2,     0.01,2,   147000,2,155,   4555,   1.3897
  32L919930718,    86,  1,      6,2,19930811, 80.4230, -13.3300,  289,     11.0,   0.4550,  31.3210,2,-999.0000,9,-999.0000,    410.9,2,    414.6,2,     5.78,2,     0.45,2,     0.01,2,     0.75,2,0.084000006,2,   -999.0,9,   -999.0,      -999,9, -999.000, -999.000,9,-999.0000,9,  -999.00,  -999.00,9,      1.7,2, 17.4850006,2, 1.64900005,2,     1.33,2,     0.11,2,   178000,2,155,   4554,   0.4546
  32L919930718,    86,  1,      5,2,19930811, 80.4230, -13.3300,  289,     17.0,  -1.5970,  32.2670,2,-999.0000,9,-999.0000,    382.3,2,    396.4,2,     8.08,2,     2.24,2,     0.04,2,     0.89,2,0.005999997,2,   -999.0,9,   -999.0,      -999,9, -999.000, -999.000,9,-999.0000,9,  -999.00,  -999.00,9,      0.9,2, 13.4720001,2, 1.86099994,2,     1.50,2,     0.18,2,   177000,2,155,   4553,  -1.5973
  32L919930718,    86,  1,      2,2,19930811, 80.4230, -13.3300,  289,     27.0,  -1.5300,  32.3460,2,-999.0000,9,-999.0000,    395.7,2,    386.6,2,  -999.00,9,  -999.00,9,  -999.00,9,  -999.00,9,       -999,9,   -999.0,9,   -999.0,      -999,9, -999.000, -999.000,9,-999.0000,9,  -999.00,  -999.00,9,   -999.0,9,       -999,9,       -999,9,  -999.00,9,  -999.00,9,     -999,9,155,   4550,  -1.5305
  32L919930718,    86,  1,      3,2,19930811, 80.4230, -13.3300,  289,     27.0,  -1.5300,  32.3450,2,-999.0000,9,-999.0000,    400.2,2,    371.0,2,     8.22,2,     2.69,2,     0.04,2,     0.93,2,0.074000001,2,   -999.0,9,   -999.0,      -999,9, -999.000, -999.000,9,-999.0000,9,  -999.00,  -999.00,9,   -999.0,9,       -999,9,       -999,9,  -999.00,9,  -999.00,9,     -999,9,155,   4551,  -1.5305
  32L919930718,    86,  1,      4,2,19930811, 80.4230, -13.3300,  289,     27.0,  -1.5360,  32.3460,2,-999.0000,9,-999.0000,    397.8,2,    385.6,2,     7.61,2,     2.48,2,     0.04,2,     0.91,2,0.034999996,2,   -999.0,9,   -999.0,      -999,9, -999.000, -999.000,9,-999.0000,9,  -999.00,  -999.00,9,      0.1,2, 13.2069998,2, 1.59300005,2,     1.48,2,     0.18,2,   286000,2,155,   4552,  -1.5365
  32L919930718,    86,  1,      1,2,19930811, 80.4230, -13.3300,  289,     40.0,  -1.6830,  32.4080,2,-999.0000,9,-999.0000,    369.1,2,    371.7,2,     9.82,2,     3.85,2,     0.04,2,     1.00,2,0.074000001,2,   -999.0,9,   -999.0,      -999,9, -999.000, -999.000,9,-999.0000,9,  -999.00,  -999.00,9,      0.0,2,  5.6500001,2, 0.56099999,2,     0.67,2,     0.07,2,   173000,2,155,   4549,  -1.6837
  32L919930718,    86,  1,     12,2,19930811, 80.4230, -13.3300,  289,     76.0,  -1.6460,  32.6730,2,-999.0000,9,-999.0000,    349.5,2,    349.2,2,    12.28,2,     5.94,2,     0.01,2,     1.00,2,0.055000007,2,   -999.0,9,   -999.0,      -999,9, -999.000, -999.000,9,-999.0000,9,  -999.00,  -999.00,9,   -999.0,9, 2.98200011,2,0.268999994,2,     0.09,2,     0.02,2,    76200,2,155,   4548,  -1.6474
  32L919930718,    86,  1,     11,2,19930811, 80.4230, -13.3300,  289,    125.0,  -1.2550,  33.5530,2,  33.7630,2,-999.0000,    319.0,2,    313.6,2,    12.22,2,    10.20,2,     0.01,2,     0.95,2,0.064999998,2,   -999.0,9,   -999.0,      -999,9, -999.000, -999.000,9,-999.0000,9,  -999.00,  -999.00,9,   -999.0,9,0.714999974,2,      0.033,2,     0.03,2,     0.01,2,    54100,2,155,   4547,  -1.2580
  32L919930718,    86,  1,     10,2,19930811, 80.4230, -13.3300,  289,    201.0,   0.2850,  34.5850,2,-999.0000,9,-999.0000,    288.2,2,    289.1,2,    11.44,2,    13.34,2,     0.01,2,     0.94,2,0.045000002,2,   -999.0,9,   -999.0,      -999,9, -999.000, -999.000,9,-999.0000,9,  -999.00,  -999.00,9,   -999.0,9,       -999,9,      0.024,2,     0.01,2,     0.01,2,    51400,2,155,   4546,   0.2771
  32L919930718,    86,  2,      9,2,19930811, 80.4230, -13.3300,  289,      2.0,   1.4680,  28.5820,2,-999.0000,9,  29.2470,    369.9,2,    384.9,2,     2.63,2,     0.01,2,    -0.02,2,     0.60,2,          0,2,   1881.8,2,    445.5,        18,2, -999.000, -999.000,9,-999.0000,9,  -999.00,  -999.00,9,   -999.0,9,       -999,9,       -999,9,  -999.00,9,  -999.00,9,     -999,9,156,   4569,   1.4679
  32L919930718,    86,  2,      8,2,19930811, 80.4230, -13.3300,  289,     15.0,  -1.1560,  32.0970,2,  32.2390,2,  32.2350,    385.3,2,    387.1,2,     9.24,2,     2.10,2,     0.05,2,     0.93,2,0.020000011,2,   2092.1,2,    686.4,        18,2, -999.000, -999.000,9,-999.0000,9,  -999.00,  -999.00,9,   -999.0,9,       -999,9,       -999,9,  -999.00,9,  -999.00,9,     -999,9,156,   4568,  -1.1563
  32L919930718,    86,  2,      7,2,19930811, 80.4230, -13.3300,  289,     35.0,  -1.6550,  32.3800,2,-999.0000,9,-999.0000,    371.9,2,    373.1,2,     9.65,2,     3.45,2,     0.04,2,     1.02,2, 0.01000002,2,   -999.0,9,   -999.0,      -999,9, -999.000, -999.000,9,-999.0000,9,  -999.00,  -999.00,9,   -999.0,9,       -999,9,       -999,9,  -999.00,9,  -999.00,9,     -999,9,156,   4567,  -1.6556
  32L919930718,    86,  2,      6,2,19930811, 80.4230, -13.3300,  289,     50.0,  -1.7410,  32.4350,2,-999.0000,9,  32.4540,    367.2,2,    365.4,2,    11.18,2,     4.63,2,     0.00,2,     1.06,2, 0.01000002,2,   2117.0,2,    774.7,        18,2,    5.500,    0.082,2,   1.7890,2,     1.60,     0.20,2,   -999.0,9,       -999,9,       -999,9,  -999.00,9,  -999.00,9,     -999,9,156,   4566,  -1.7418
  32L919930718,    86,  2,      5,2,19930811, 80.4230, -13.3300,  289,     60.0,  -1.7170,  32.4910,2,-999.0000,9,  32.5530,    363.7,2,    358.4,2,    11.66,2,     4.89,2,    -0.03,2,     1.05,2,0.068000019,2,   2121.5,2,    796.5,        18,2, -999.000, -999.000,9,-999.0000,9,  -999.00,  -999.00,9,   -999.0,9,       -999,9,       -999,9,  -999.00,9,  -999.00,9,     -999,9,156,   4565,  -1.7180
  32L919930718,    86,  2,      4,2,19930811, 80.4230, -13.3300,  289,     81.0,  -1.6210,  32.7470,2,-999.0000,9,  32.8060,    349.8,2,    345.0,2,    12.57,2,     6.38,2,     0.00,2,     1.03,2, 0.09800002,2,   2130.8,2,    823.2,        18,2, -999.000, -999.000,9,-999.0000,9,  -999.00,  -999.00,9,   -999.0,9,       -999,9,       -999,9,  -999.00,9,  -999.00,9,     -999,9,156,   4564,  -1.6225
  32L919930718,    86,  2,      3,2,19930811, 80.4230, -13.3300,  289,    100.0,  -1.6900,  32.9790,2,-999.0000,9,  33.0930,    339.9,2,    335.6,2,    12.92,2,     7.29,2,    -0.01,2,     1.00,2,0.078000009,2,   2139.7,2,    847.6,        18,2, -999.000, -999.000,9,-999.0000,9,  -999.00,  -999.00,9,   -999.0,9,       -999,9,       -999,9,  -999.00,9,  -999.00,9,     -999,9,156,   4563,  -1.6918
  32L919930718,    86,  2,      2,2,19930811, 80.4230, -13.3300,  289,    151.0,  -0.5650,  34.1670,2,-999.0000,9,  34.2480,    299.3,2,    296.7,2,    11.07,2,    12.01,2,     0.00,2,     0.96,2,0.127000004,2,   2132.9,2,    756.1,        18,2, -999.000, -999.000,9,-999.0000,9,  -999.00,  -999.00,9,   -999.0,9,       -999,9,       -999,9,  -999.00,9,  -999.00,9,     -999,9,156,   4562,  -0.5696
  32L919930718,    86,  2,      1,2,19930811, 80.4230, -13.3300,  289,    174.0,  -0.0100,  34.4630,2,-999.0000,9,  34.4520,    293.4,2,    290.6,2,    11.10,2,    12.79,2,     0.00,2,     0.96,2,0.136999995,2,   2137.4,2,    749.6,        18,2, -999.000, -999.000,9,-999.0000,9,  -999.00,  -999.00,9,   -999.0,9,       -999,9,       -999,9,  -999.00,9,  -999.00,9,     -999,9,156,   4561,  -0.0163
  32L919930718,    86,  2,     12,2,19930811, 80.4230, -13.3300,  289,    201.0,   0.2950,  34.5980,2,-999.0000,9,  34.5590,    290.3,2,    290.2,2,    11.36,2,    12.75,2,     0.00,2,     0.96,2, 0.09800002,2,   2143.1,2,    757.7,        18,2, -999.000, -999.000,9,-999.0000,9,  -999.00,  -999.00,9,   -999.0,9,       -999,9,       -999,9,  -999.00,9,  -999.00,9,     -999,9,156,   4560,   0.2871
  32L919930718,    86,  2,     11,2,19930811, 80.4230, -13.3300,  289,    250.0,   0.5710,  34.7030,2,  34.7590,2,  34.6740,    289.9,2,    287.1,2,    11.36,2,    13.12,2,     0.01,2,     0.97,2,0.136999995,2,   2147.5,2,    752.1,        18,2, -999.000, -999.000,9,-999.0000,9,  -999.00,  -999.00,9,   -999.0,9,       -999,9,       -999,9,  -999.00,9,  -999.00,9,     -999,9,156,   4559,   0.5604
  32L919930718,    86,  2,     10,2,19930811, 80.4230, -13.3300,  289,    279.0,   0.5610,  34.7330,2,-999.0000,9,  34.6880,    286.6,2,    283.9,2,    11.96,2,    13.27,2,     0.00,2,     0.99,2,0.145999998,2,   2149.5,2,    760.9,        18,2, -999.000, -999.000,9,-999.0000,9,  -999.00,  -999.00,9,   -999.0,9,       -999,9,       -999,9,  -999.00,9,  -999.00,9,     -999,9,156,   4558,   0.5491