BOTTLE,20090115PRINUNIVRMK
EXPOCODE,STNNBR,CASTNO,BTLNBR,BTLNBR_FLAG_W,DATE,LATITUDE,LONGITUDE,DEPTH,CTDPRS,CTDTMP,CTDSAL,CTDSAL_FLAG_W,SALNTY,SALNTY_FLAG_W,SOMSAL,CTDOXY,CTDOXY_FLAG_W,OXYGEN,OXYGEN_FLAG_W,SILCAT,SILCAT_FLAG_W,NITRAT,NITRAT_FLAG_W,NITRIT,NITRIT_FLAG_W,PHSPHT,PHSPHT_FLAG_W,AMMONI,AMMONI_FLAG_W,TCARBN,TCARBN_FLAG_W,FCO2,FCO2_TMP,FCO2_FLAG_W,TRITUM,TRITER,TRITUM_FLAG_W,HELIUM,HELIUM_FLAG_W,DELHE3,DELHER,DELHE3_FLAG_W,DELC14,DELC14_FLAG_W,POC,POC_FLAG_W,PON,PON_FLAG_W,CHLORA,CHLORA_FLAG_W,PHAEO,PHAEO_FLAG_W,BACT,BACT_FLAG_W,CTDNO,BNLID,THETA
,,,,,,,,METERS,DBARS,ITS-90,PSS-78,,PSS-78,,PSS-78,UMOL/KG,,UMOL/KG,,UMOL/KG,,UMOL/KG,,UMOL/KG,,UMOL/KG,,UMOL/KG,,UMOL/KG,,UATM,DEGC,,TU,TU,,NMOL/KG,,PERCNT,PERCNT,,O/OO,,ug/kg,,ug/kg,,UG/L,,UG/L,,CELLS/ML,,,,DEGC
  32L919930718,     5,  1,     12,2,19930724, 80.3010, -13.7610,  285,      2.0,   1.0070,  32.1380,2,  32.1660,2,  31.9240,    367.1,2,    372.5,2,    11.09,2,     2.90,2,     0.07,2,     0.93,2,0.111000009,2,   2099.8,2,    760.9,18.1000004,2,    7.350,    0.110,2,   1.7800,2,     0.40,     0.20,2,   -999.0,9,       -999,9,       -999,9,  -999.00,9,  -999.00,9,     -999,9, 11,   3096,   1.0069
  32L919930718,     5,  1,     11,2,19930724, 80.3010, -13.7610,  285,     10.0,  -0.1760,  32.2570,2,-999.0000,9,  32.0750,    366.9,2,    374.3,2,    11.38,2,     3.15,2,     0.05,2,     0.97,2,0.072000004,2,   2106.6,2,    758.0,18.1000004,2, -999.000, -999.000,9,-999.0000,9,  -999.00,  -999.00,9,   -999.0,9,       -999,9,       -999,9,  -999.00,9,  -999.00,9,     -999,9, 11,   3095,  -0.1763
  32L919930718,     5,  1,     10,2,19930724, 80.3010, -13.7610,  285,     15.0,  -1.6180,  32.3070,2,-999.0000,9,  32.1080,    371.9,2,    373.6,2,    11.43,2,  -999.00,9,     0.06,2,     0.98,2,0.023000002,2,   2108.7,2,    772.8,18.1000004,2, -999.000, -999.000,9,-999.0000,9,  -999.00,  -999.00,9,   -999.0,9,       -999,9,       -999,9,  -999.00,9,  -999.00,9,     -999,9, 11,   3094,  -1.6183
  32L919930718,     5,  1,      9,2,19930724, 80.3010, -13.7610,  285,     20.0,  -1.6870,  32.3450,2,-999.0000,9,  32.2240,    370.3,2,    370.5,2,    11.56,2,     3.33,2,     0.03,2,     1.00,2,-0.02599999,2,   2112.8,2,    787.0,18.1000004,2, -999.000, -999.000,9,-999.0000,9,  -999.00,  -999.00,9,   -999.0,9,       -999,9,       -999,9,  -999.00,9,  -999.00,9,     -999,9, 11,   3093,  -1.6873
  32L919930718,     5,  1,      8,2,19930724, 80.3010, -13.7610,  285,     35.0,  -1.5450,  32.4090,2,-999.0000,9,  32.1480,    370.0,2,    369.9,2,    11.59,2,     4.17,2,     0.03,2,     1.00,2,-0.02599999,2,   2116.7,2,    784.2,18.1000004,2, -999.000, -999.000,9,-999.0000,9,  -999.00,  -999.00,9,   -999.0,9,       -999,9,       -999,9,  -999.00,9,  -999.00,9,     -999,9, 11,   3092,  -1.5456
  32L919930718,     5,  1,      7,2,19930724, 80.3010, -13.7610,  285,     50.0,  -1.6930,  32.4240,2,-999.0000,9,-999.0000,    369.6,2,    366.4,2,    11.72,2,     4.27,2,     0.00,2,     1.01,2,0.004000008,2,   -999.0,9,   -999.0,      -999,9, -999.000, -999.000,9,-999.0000,9,  -999.00,  -999.00,9,   -999.0,9,       -999,9,       -999,9,  -999.00,9,  -999.00,9,     -999,9, 11,   3091,  -1.6938
  32L919930718,     5,  1,      6,2,19930724, 80.3010, -13.7610,  285,     59.0,  -1.7420,  32.4340,2,-999.0000,9,  32.3290,    364.9,2,    370.8,2,    11.93,2,     4.72,2,    -0.01,2,     1.02,2,     -0.006,2,   2120.5,2,    795.9,18.1000004,2, -999.000, -999.000,9,-999.0000,9,  -999.00,  -999.00,9,   -999.0,9,       -999,9,       -999,9,  -999.00,9,  -999.00,9,     -999,9, 11,   3090,  -1.7430
  32L919930718,     5,  1,      5,2,19930724, 80.3010, -13.7610,  285,     76.0,  -1.7120,  32.5090,2,-999.0000,9,  32.4070,    357.8,2,    353.7,2,    12.42,2,     4.61,2,     0.01,2,     1.10,2,     -0.006,2,   2125.8,2,    824.1,18.1000004,2, -999.000, -999.000,9,-999.0000,9,  -999.00,  -999.00,9,   -999.0,9,       -999,9,       -999,9,  -999.00,9,  -999.00,9,     -999,9, 11,   3089,  -1.7133
  32L919930718,     5,  1,      4,2,19930724, 80.3010, -13.7610,  285,     98.0,  -1.5890,  32.9120,2,-999.0000,9,  32.7810,    339.4,2,    339.6,2,  -999.00,9,  -999.00,9,  -999.00,9,  -999.00,9,       -999,9,   2138.2,2,    850.2,18.1000004,2, -999.000, -999.000,9,-999.0000,9,  -999.00,  -999.00,9,   -999.0,9,       -999,9,       -999,9,  -999.00,9,  -999.00,9,     -999,9, 11,   3088,  -1.5909
  32L919930718,     5,  1,      3,2,19930724, 80.3010, -13.7610,  285,    150.0,  -0.7390,  34.0780,2,-999.0000,9,  33.8210,    300.4,2,    300.2,2,    12.31,2,    11.53,2,    -0.02,2,     0.93,2,0.745000064,2,   2139.9,2,    785.9,18.1000004,2, -999.000, -999.000,9,-999.0000,9,  -999.00,  -999.00,9,   -999.0,9,       -999,9,       -999,9,  -999.00,9,  -999.00,9,     -999,9, 11,   3087,  -0.7434
  32L919930718,     5,  1,      2,2,19930724, 80.3010, -13.7610,  285,    199.0,  -0.0030,  34.5290,2,  34.5490,2,  34.3530,    289.5,2,    289.6,2,    12.08,2,    12.47,2,     0.01,2,     0.93,2,0.072000004,2,   2146.6,2,    763.8,18.1000004,2,    3.290,    0.049,2,   1.7760,2,     5.60,     0.20,2,   -999.0,9,       -999,9,       -999,9,  -999.00,9,  -999.00,9,     -999,9, 11,   3086,  -0.0103
  32L919930718,     5,  1,      1,2,19930724, 80.3010, -13.7610,  285,    275.0,   0.6400,  34.7240,2,-999.0000,9,  34.5230,    286.2,2,    285.6,2,    12.33,2,    13.01,2,     0.01,2,     0.96,2,0.043000005,2,   2151.3,2,    753.0,18.1000004,2, -999.000, -999.000,9,-999.0000,9,  -999.00,  -999.00,9,   -999.0,9,       -999,9,       -999,9,  -999.00,9,  -999.00,9,     -999,9, 11,   3085,   0.6281
  32L919930718,     6,  1,     12,2,19930724, 80.1400, -13.2550,  113,      2.0,   3.0950,  31.5760,2,  30.4990,2,-999.0000,    417.8,2,    396.4,2,     2.47,2,     2.55,2,     0.01,2,     0.63,2,0.051000003,2,   -999.0,9,   -999.0,      -999,9, -999.000, -999.000,9,-999.0000,9,  -999.00,  -999.00,9,      1.5,2, 16.9120007,2, 1.58200002,2,     0.19,2,     0.08,2,   205000,2, 12,   3108,   3.0949
  32L919930718,     6,  1,     11,2,19930724, 80.1400, -13.2550,  113,      4.0,   3.1410,  32.2810,2,-999.0000,9,-999.0000,    439.8,2,    448.3,2,     1.52,2,    -0.03,2,     0.03,2,     0.68,2,0.120000005,2,   -999.0,9,   -999.0,      -999,9, -999.000, -999.000,9,-999.0000,9,  -999.00,  -999.00,9,      1.0,2, 22.0149994,2, 1.64699996,2,     0.41,2,     0.10,2,   181000,2, 12,   3107,   3.1408
  32L919930718,     6,  1,     10,2,19930724, 80.1400, -13.2550,  113,      7.0,   2.8850,  32.3110,2,-999.0000,9,-999.0000,    448.4,2,    455.6,2,     1.53,2,     0.01,2,     0.02,2,     0.70,2,0.188000008,2,   -999.0,9,   -999.0,      -999,9, -999.000, -999.000,9,-999.0000,9,  -999.00,  -999.00,9,      1.4,2, 27.6690006,2, 2.02200007,2,     0.36,2,     0.12,2,   236000,2, 12,   3106,   2.8846
  32L919930718,     6,  1,      9,2,19930724, 80.1400, -13.2550,  113,     11.0,   1.4280,  32.2830,2,-999.0000,9,-999.0000,    461.0,2,    469.8,2,     1.40,2,     0.00,2,     0.03,2,     0.70,2,0.129000008,2,   -999.0,9,   -999.0,      -999,9, -999.000, -999.000,9,-999.0000,9,  -999.00,  -999.00,9,      1.6,2, 25.4139996,2, 1.76199996,2,     0.51,2,     0.12,2,   402000,2, 12,   3105,   1.4275
  32L919930718,     6,  1,      8,2,19930724, 80.1400, -13.2550,  113,     17.0,   0.2430,  32.3420,2,-999.0000,9,-999.0000,    478.6,2,    445.5,2,     2.59,2,    -0.02,2,     0.02,2,     0.76,2,0.041000001,2,   -999.0,9,   -999.0,      -999,9, -999.000, -999.000,9,-999.0000,9,  -999.00,  -999.00,9,      1.1,2, 17.0769997,2, 1.62399995,2,     0.84,2,     0.07,2,   436000,2, 12,   3104,   0.2424
  32L919930718,     6,  1,      7,2,19930724, 80.1400, -13.2550,  113,     24.0,  -1.1020,  32.3970,2,-999.0000,9,-999.0000,    408.8,2,    389.7,2,     4.66,2,     0.08,2,     0.02,2,     0.89,2,0.041000001,2,   -999.0,9,   -999.0,      -999,9, -999.000, -999.000,9,-999.0000,9,  -999.00,  -999.00,9,      0.4,2, 21.3490009,2,  2.5710001,2,     1.48,2,     0.43,2,   638000,2, 12,   3103,  -1.1025
  32L919930718,     6,  1,      6,2,19930724, 80.1400, -13.2550,  113,     37.0,  -1.6170,  32.4300,2,-999.0000,9,-999.0000,    370.7,2,    368.0,2,     8.16,2,     0.99,2,     0.04,2,     1.00,2,0.012000002,2,   -999.0,9,   -999.0,      -999,9, -999.000, -999.000,9,-999.0000,9,  -999.00,  -999.00,9,      0.0,2, 17.5970001,2, 2.10500002,2,     1.23,2,     0.23,2,   523000,2, 12,   3102,  -1.6176
  32L919930718,     6,  1,      5,2,19930724, 80.1400, -13.2550,  113,     50.0,  -1.7050,  32.4430,2,-999.0000,9,-999.0000,    369.2,2,    366.3,2,    10.39,2,     2.93,2,     0.06,2,     1.03,2,0.012000002,2,   -999.0,9,   -999.0,      -999,9, -999.000, -999.000,9,-999.0000,9,  -999.00,  -999.00,9,   -999.0,9, 8.90100002,2,      1.028,2,     0.37,2,     0.14,2,   287000,2, 12,   3101,  -1.7058
  32L919930718,     6,  1,      4,2,19930724, 80.1400, -13.2550,  113,     60.0,  -1.7120,  32.4500,2,-999.0000,9,-999.0000,    369.3,2,    366.0,2,    10.95,2,     3.62,2,     0.05,2,     1.04,2,0.012000002,2,   -999.0,9,   -999.0,      -999,9, -999.000, -999.000,9,-999.0000,9,  -999.00,  -999.00,9,   -999.0,9, 5.72200012,2,0.644999981,2,     0.36,2,     0.16,2,   258000,2, 12,   3100,  -1.7130
  32L919930718,     6,  1,      3,2,19930724, 80.1400, -13.2550,  113,     70.0,  -1.7010,  32.4610,2,-999.0000,9,-999.0000,    370.2,2,    365.3,2,    11.58,2,     3.79,2,     0.03,2,     1.05,2,0.002000004,2,   -999.0,9,   -999.0,      -999,9, -999.000, -999.000,9,-999.0000,9,  -999.00,  -999.00,9,   -999.0,9, 3.53399992,2,0.486000001,2,     0.23,2,     0.09,2,   260000,2, 12,   3099,  -1.7022
  32L919930718,     6,  1,      2,2,19930724, 80.1400, -13.2550,  113,     79.0,  -1.7120,  32.5070,2,  32.5230,2,-999.0000,    367.3,2,    359.9,2,    12.23,2,     4.41,2,     0.04,2,     1.06,2,0.120000005,2,   -999.0,9,   -999.0,      -999,9, -999.000, -999.000,9,-999.0000,9,  -999.00,  -999.00,9,   -999.0,9, 4.58199978,2,0.583000004,2,     0.15,2,     0.09,2,   200000,2, 12,   3098,  -1.7133
  32L919930718,     6,  1,      1,2,19930724, 80.1400, -13.2550,  113,    103.0,  -1.6170,  32.7240,2,-999.0000,9,-999.0000,    356.5,2,    357.7,2,    13.01,2,     5.26,2,     0.02,2,     1.05,2,     -0.007,2,   -999.0,9,   -999.0,      -999,9, -999.000, -999.000,9,-999.0000,9,  -999.00,  -999.00,9,   -999.0,9, 4.07999992,2,0.535000026,2,     0.19,2,     0.14,2,   172000,2, 12,   3097,  -1.6189
  32L919930718,     7,  1,     12,2,19930724, 80.2220, -13.5710,  148,      2.0,   3.9790,  28.1310,2,  28.5680,2,  28.3450,    362.2,2,    360.6,2,     6.94,2,     0.30,2,     0.03,2,     0.62,2,0.061000001,2,   1877.4,2,    553.0,18.2000008,2, -999.000, -999.000,9,-999.0000,9,  -999.00,  -999.00,9,   -999.0,9, 10.9540005,2, 1.77400005,2,     0.78,2,     0.07,2,     -999,9, 13,   3120,   3.9789
  32L919930718,     7,  1,     11,2,19930724, 80.2220, -13.5710,  148,      5.0,   1.4780,  32.2610,2,-999.0000,9,  32.0550,    370.5,2,    372.3,2,    11.20,2,     2.77,2,     0.06,2,     0.98,2,0.129000008,2,   2105.0,2,    724.4,18.2000008,2, -999.000, -999.000,9,-999.0000,9,  -999.00,  -999.00,9,   -999.0,9, 6.10500002,2, 1.14400005,2,     0.34,2,     0.11,2,     -999,9, 13,   3119,   1.4778
  32L919930718,     7,  1,     10,2,19930724, 80.2220, -13.5710,  148,     10.0,  -0.7860,  32.3790,2,-999.0000,9,  32.1290,    377.5,2,    376.3,2,    11.21,2,     3.22,2,     0.04,2,     1.00,2,0.100000001,2,   2111.0,2,    744.0,18.2000008,2, -999.000, -999.000,9,-999.0000,9,  -999.00,  -999.00,9,   -999.0,9, 4.30299997,2,0.647000015,2,     0.45,2,     0.13,2,     -999,9, 13,   3118,  -0.7862
  32L919930718,     7,  1,      9,2,19930724, 80.2220, -13.5710,  148,     14.0,  -1.4240,  32.3970,2,-999.0000,9,  32.1410,    371.3,2,    372.0,2,    11.47,2,     3.73,2,     0.03,2,     1.02,2,0.061000001,2,   2116.1,2,   -999.0,      -999,9, -999.000, -999.000,9,-999.0000,9,  -999.00,  -999.00,9,   -999.0,9, 3.83699989,2,0.615999997,2,     0.27,2,     0.03,2,     -999,9, 13,   3117,  -1.4243
  32L919930718,     7,  1,      8,2,19930724, 80.2220, -13.5710,  148,     20.0,  -1.6570,  32.4140,2,-999.0000,9,  32.0500,    368.5,2,    368.6,2,    11.58,2,     4.11,2,     0.03,2,     1.04,2,0.041000001,2,   2118.1,2,    754.2,18.2000008,2, -999.000, -999.000,9,-999.0000,9,  -999.00,  -999.00,9,   -999.0,9, 1.78799999,2,0.199000001,2,     0.10,2,     0.04,2,     -999,9, 13,   3116,  -1.6573
  32L919930718,     7,  1,      7,2,19930724, 80.2220, -13.5710,  148,     34.0,  -1.7210,  32.4320,2,-999.0000,9,  32.1190,    368.3,2,    368.6,2,    11.65,2,     4.22,2,     0.02,2,     1.05,2,      0.022,2,   2119.4,2,    759.1,18.2000008,2, -999.000, -999.000,9,-999.0000,9,  -999.00,  -999.00,9,   -999.0,9, 2.11899996,2,0.128000006,2,     0.06,2,     0.02,2,     -999,9, 13,   3115,  -1.7216
  32L919930718,     7,  1,      6,2,19930724, 80.2220, -13.5710,  148,     50.0,  -1.7290,  32.4570,2,-999.0000,9,  32.0640,    365.7,2,    364.0,2,    11.85,2,     4.44,2,     0.02,2,     1.05,2,      0.022,2,   2123.0,2,    777.5,18.2000008,2, -999.000, -999.000,9,-999.0000,9,  -999.00,  -999.00,9,   -999.0,9, 1.38699996,2,0.167999998,2,     0.05,2,     0.02,2,     -999,9, 13,   3114,  -1.7298
  32L919930718,     7,  1,      5,2,19930724, 80.2220, -13.5710,  148,     60.0,  -1.7100,  32.5030,2,-999.0000,9,  32.1930,    360.9,2,    359.6,2,    12.19,2,     4.88,2,     0.00,2,     1.05,2,0.061000001,2,   2125.4,2,    788.8,18.2000008,2, -999.000, -999.000,9,-999.0000,9,  -999.00,  -999.00,9,   -999.0,9, 4.04899979,2,0.143000007,2,     0.04,2,     0.05,2,     -999,9, 13,   3113,  -1.7110
  32L919930718,     7,  1,      4,2,19930724, 80.2220, -13.5710,  148,     79.0,  -1.6810,  32.5930,2,-999.0000,9,  32.3390,    355.2,2,    353.3,2,    12.36,2,     5.29,2,     0.01,2,     1.05,2,     -0.007,2,   2129.7,2,    790.6,18.2000008,2, -999.000, -999.000,9,-999.0000,9,  -999.00,  -999.00,9,   -999.0,9, 3.86599994,2,0.333000004,2,     0.06,2,     0.05,2,     -999,9, 13,   3112,  -1.6824
  32L919930718,     7,  1,      3,2,19930724, 80.2220, -13.5710,  148,    100.0,  -1.6070,  32.8020,2,-999.0000,9,  32.4660,    346.2,2,    346.7,2,    12.88,2,     5.96,2,     0.01,2,     1.04,2,0.031999998,2,   2131.7,2,    811.3,18.2000008,2, -999.000, -999.000,9,-999.0000,9,  -999.00,  -999.00,9,   -999.0,9, 2.53900003,2, 0.34799999,2,     0.04,2,     0.02,2,     -999,9, 13,   3111,  -1.6089
  32L919930718,     7,  1,      2,2,19930724, 80.2220, -13.5710,  148,    125.0,  -1.3960,  33.3990,2,  33.4390,2,  33.2620,    326.0,2,    322.6,2,    13.25,2,     8.41,2,    -0.01,2,     1.00,2,0.012000002,2,   2144.6,2,    816.6,18.2000008,2, -999.000, -999.000,9,-999.0000,9,  -999.00,  -999.00,9,   -999.0,9, 2.42600012,2,0.164000005,2,     0.06,2,     0.03,2,     -999,9, 13,   3110,  -1.3987
  32L919930718,     7,  1,      1,2,19930724, 80.2220, -13.5710,  148,    138.0,  -1.1860,  33.6190,2,-999.0000,9,  33.2330,    320.0,2,    318.2,2,    13.16,2,     9.09,2,     0.02,2,     1.00,2,      0.022,2,   2144.7,2,    811.1,18.2000008,2, -999.000, -999.000,9,-999.0000,9,  -999.00,  -999.00,9,   -999.0,9, 1.40199995,2,0.135000005,2,     0.04,2,     0.02,2,     -999,9, 13,   3109,  -1.1893
  32L919930718,     8,  1,     12,2,19930725, 80.3060, -13.9630,  295,      2.0,   0.8760,  32.0130,2,  32.0580,2,-999.0000,    375.9,2,    376.3,2,    10.19,2,     2.68,2,     0.08,2,     0.96,2,0.040000003,2,   -999.0,9,   -999.0,      -999,9,    7.080,    0.106,2,   1.7890,2,     0.90,     0.20,2,   -999.0,9, 6.48400021,2, 1.05900002,2,     0.26,2,     0.06,2,     -999,9, 14,   3132,   0.8759
  32L919930718,     8,  1,     11,2,19930725, 80.3060, -13.9630,  295,     11.0,  -0.2980,  32.1770,2,-999.0000,9,-999.0000,    372.3,2,    375.5,2,    10.62,2,     3.12,2,     0.06,2,     1.00,2,0.060000002,2,   -999.0,9,   -999.0,      -999,9, -999.000, -999.000,9,-999.0000,9,  -999.00,  -999.00,9,   -999.0,9,  4.9460001,2,0.950999975,2,     0.19,2,     0.04,2,     -999,9, 14,   3131,  -0.2983
  32L919930718,     8,  1,     10,2,19930725, 80.3060, -13.9630,  295,     19.0,  -1.4650,  32.2400,2,-999.0000,9,-999.0000,    377.6,2,    375.9,2,    10.74,2,     3.24,2,     0.07,2,     1.01,2,0.001000002,2,   -999.0,9,   -999.0,      -999,9, -999.000, -999.000,9,-999.0000,9,  -999.00,  -999.00,9,   -999.0,9, 3.78500009,2,0.805999994,2,     0.25,2,     0.13,2,     -999,9, 14,   3130,  -1.4653
  32L919930718,     8,  1,      9,2,19930725, 80.3060, -13.9630,  295,     35.0,  -1.6670,  32.2900,2,-999.0000,9,-999.0000,    373.2,2,    367.4,2,    11.17,2,     4.22,2,     0.04,2,     1.05,2,     -0.009,2,   -999.0,9,   -999.0,      -999,9, -999.000, -999.000,9,-999.0000,9,  -999.00,  -999.00,9,   -999.0,9, 3.41199994,2,      0.294,2,     0.09,2,     0.05,2,     -999,9, 14,   3129,  -1.6676
  32L919930718,     8,  1,      8,2,19930725, 80.3060, -13.9630,  295,     60.0,  -1.7160,  32.4170,2,-999.0000,9,-999.0000,    366.8,2,    362.9,2,    11.47,2,     4.72,2,     0.02,2,     1.06,2,0.001000002,2,   -999.0,9,   -999.0,      -999,9, -999.000, -999.000,9,-999.0000,9,  -999.00,  -999.00,9,   -999.0,9,  2.7249999,2,0.160999998,2,     0.15,2,     0.03,2,     -999,9, 14,   3128,  -1.7170
  32L919930718,     8,  1,      7,2,19930725, 80.3060, -13.9630,  295,    100.0,  -1.5500,  33.0770,2,-999.0000,9,-999.0000,    336.0,2,    330.5,2,    12.82,2,     7.95,2,     0.01,2,     1.01,2,     -0.018,2,   -999.0,9,   -999.0,      -999,9, -999.000, -999.000,9,-999.0000,9,  -999.00,  -999.00,9,   -999.0,9, 1.50699997,2,0.202999994,2,     0.05,2,     0.02,2,     -999,9, 14,   3127,  -1.5520
  32L919930718,     8,  1,      6,2,19930725, 80.3060, -13.9630,  295,    150.0,  -0.8160,  34.0360,2,-999.0000,9,-999.0000,    302.4,2,    299.6,2,    11.68,2,    11.69,2,     0.03,2,     0.98,2,     -0.009,2,   -999.0,9,   -999.0,      -999,9, -999.000, -999.000,9,-999.0000,9,  -999.00,  -999.00,9,   -999.0,9, 3.63599992,2,0.238999993,2,     0.03,2,     0.01,2,     -999,9, 14,   3126,  -0.8203
  32L919930718,     8,  1,      5,2,19930725, 80.3060, -13.9630,  295,    175.0,  -0.2810,  34.3740,2,  34.3960,2,-999.0000,    293.4,2,   -999.0,9,    11.25,2,    12.59,2,     0.01,2,     0.97,2,0.021000002,2,   -999.0,9,   -999.0,      -999,9, -999.000, -999.000,9,   1.8070,2,  -999.00,  -999.00,9,   -999.0,9, 1.03400004,2,0.115000002,2,     0.05,2,     0.00,2,     -999,9, 14,   3125,  -0.2869
  32L919930718,     8,  1,      4,2,19930725, 80.3060, -13.9630,  295,    200.0,   0.0800,  34.5530,2,-999.0000,9,-999.0000,    290.1,2,   -999.0,9,  -999.00,9,  -999.00,9,  -999.00,9,  -999.00,9,       -999,9,   -999.0,9,   -999.0,      -999,9, -999.000, -999.000,9,-999.0000,9,  -999.00,  -999.00,9,   -999.0,9,       -999,9,       -999,9,  -999.00,9,  -999.00,9,     -999,9, 14,   3124,   0.0725
  32L919930718,     8,  1,      3,2,19930725, 80.3060, -13.9630,  295,    250.0,   0.5990,  34.7100,2,-999.0000,9,-999.0000,    286.2,2,    286.1,2,    11.34,2,    13.25,2,     0.03,2,     0.99,2,0.030000001,2,   -999.0,9,   -999.0,      -999,9, -999.000, -999.000,9,-999.0000,9,  -999.00,  -999.00,9,   -999.0,9,0.219999999,2,0.056000002,2,  -999.00,9,  -999.00,9,     -999,9, 14,   3123,   0.5884
  32L919930718,     8,  1,      2,2,19930725, 80.3060, -13.9630,  295,    276.0,   0.6550,  34.7280,2,  34.7320,2,-999.0000,    285.0,2,    285.3,2,    11.52,2,    13.44,2,     0.02,2,     1.00,2,     -0.009,2,   -999.0,9,   -999.0,      -999,9, -999.000, -999.000,9,-999.0000,9,  -999.00,  -999.00,9,   -999.0,9, 1.92700005,2,       0.07,2,  -999.00,9,  -999.00,9,     -999,9, 14,   3122,   0.6430
  32L919930718,     8,  1,      1,2,19930725, 80.3060, -13.9630,  295,    285.0,   0.6680,  34.7340,2,-999.0000,9,-999.0000,    283.8,2,    285.3,2,    11.68,2,    13.36,2,     0.02,2,     1.00,2,0.001000002,2,   -999.0,9,   -999.0,      -999,9,    2.250,    0.034,2,-999.0000,9,  -999.00,  -999.00,9,   -999.0,9, 1.66999996,2,0.104000002,2,  -999.00,9,  -999.00,9,     -999,9, 14,   3121,   0.6556