BOTTLE,20090115PRINUNIVRMK
EXPOCODE,STNNBR,CASTNO,BTLNBR,BTLNBR_FLAG_W,DATE,LATITUDE,LONGITUDE,DEPTH,CTDPRS,CTDTMP,CTDSAL,CTDSAL_FLAG_W,SALNTY,SALNTY_FLAG_W,SOMSAL,CTDOXY,CTDOXY_FLAG_W,OXYGEN,OXYGEN_FLAG_W,SILCAT,SILCAT_FLAG_W,NITRAT,NITRAT_FLAG_W,NITRIT,NITRIT_FLAG_W,PHSPHT,PHSPHT_FLAG_W,AMMONI,AMMONI_FLAG_W,TCARBN,TCARBN_FLAG_W,FCO2,FCO2_TMP,FCO2_FLAG_W,TRITUM,TRITER,TRITUM_FLAG_W,HELIUM,HELIUM_FLAG_W,DELHE3,DELHER,DELHE3_FLAG_W,DELC14,DELC14_FLAG_W,POC,POC_FLAG_W,PON,PON_FLAG_W,CHLORA,CHLORA_FLAG_W,PHAEO,PHAEO_FLAG_W,BACT,BACT_FLAG_W,CTDNO,BNLID,THETA
,,,,,,,,METERS,DBARS,ITS-90,PSS-78,,PSS-78,,PSS-78,UMOL/KG,,UMOL/KG,,UMOL/KG,,UMOL/KG,,UMOL/KG,,UMOL/KG,,UMOL/KG,,UMOL/KG,,UATM,DEGC,,TU,TU,,NMOL/KG,,PERCNT,PERCNT,,O/OO,,ug/kg,,ug/kg,,UG/L,,UG/L,,CELLS/ML,,,,DEGC
  32L919930718,    37, 16,      8,2,19930728, 80.4470, -13.3130,  308,      2.0,   4.5570,  29.1790,2,  29.2460,2,  29.2810,    391.9,2,    375.5,2,     5.46,2,     0.04,2,     0.05,2,     0.58,2,-0.13699999,2,   1899.2,2,    490.3,18.2999992,2,    7.090,    0.106,2,   1.7620,2,    -3.60,     0.20,2,   -999.0,9,      19.75,2, 2.44000006,2,     0.98,2,     0.15,2,     -999,9, 60,   3572,   4.5569
  32L919930718,    37, 16,      7,2,19930728, 80.4470, -13.3130,  308,      5.0,   0.5960,  32.1980,2,-999.0000,9,  32.1760,    423.8,2,    430.2,2,     5.22,2,     0.16,2,    -0.08,2,     0.75,2,-0.22400001,2,   2054.8,2,    529.5,18.2999992,2, -999.000, -999.000,9,-999.0000,9,  -999.00,  -999.00,9,   -999.0,9, 41.9720001,2, 3.76799989,2,     2.10,2,     0.77,2,     -999,9, 60,   3571,   0.5958
  32L919930718,    37, 16,      6,2,19930728, 80.4470, -13.3130,  308,     10.0,  -1.2340,  32.2640,2,-999.0000,9,  32.2120,    395.8,2,    390.8,2,     8.70,2,     0.71,2,    -0.02,2,     0.88,2,-0.19499999,2,   2088.8,2,    662.7,18.2999992,2, -999.000, -999.000,9,-999.0000,9,  -999.00,  -999.00,9,   -999.0,9, 18.2980003,2, 3.25500011,2,     3.19,2,     0.26,2,     -999,9, 60,   3570,  -1.2342
  32L919930718,    37, 16,      5,2,19930728, 80.4470, -13.3130,  308,     20.0,  -1.6790,  32.3350,2,-999.0000,9,  32.3010,    366.9,2,    370.3,2,    11.36,2,     3.78,2,    -0.02,2,     1.03,2,-0.22400001,2,   2111.4,2,    753.7,18.2999992,2, -999.000, -999.000,9,-999.0000,9,  -999.00,  -999.00,9,   -999.0,9,  2.3499999,2, 0.40200001,2,     0.57,2,     0.09,2,     -999,9, 60,   3569,  -1.6793
  32L919930718,    37, 16,      4,2,19930728, 80.4470, -13.3130,  308,     31.0,  -1.7020,  32.4010,2,-999.0000,9,-999.0000,    365.9,2,    369.7,2,    10.66,2,     3.80,2,    -0.01,2,     1.04,2,-0.16599999,2,   -999.0,9,   -999.0,      -999,9, -999.000, -999.000,9,-999.0000,9,  -999.00,  -999.00,9,   -999.0,9, 3.37800002,2,0.575999975,2,     0.50,2,     0.06,2,     -999,9, 60,   3568,  -1.7025
  32L919930718,    37, 16,      3,2,19930728, 80.4470, -13.3130,  308,     40.0,  -1.6760,  32.4310,2,-999.0000,9,  32.3930,    363.8,2,    368.0,2,    10.25,2,     3.53,2,     0.02,2,     1.04,2,     -0.205,2,   2117.4,2,    763.4,18.2999992,2, -999.000, -999.000,9,-999.0000,9,  -999.00,  -999.00,9,   -999.0,9, 5.16499996,2,0.899999976,2,     0.65,2,     0.17,2,     -999,9, 60,   3567,  -1.6767
  32L919930718,    37, 16,      2,2,19930728, 80.4470, -13.3130,  308,     50.0,  -1.6460,  32.4470,2,-999.0000,9,-999.0000,    362.7,2,    364.3,2,    11.56,2,     4.15,2,     0.01,2,     1.06,2,-0.13699999,2,   -999.0,9,   -999.0,      -999,9, -999.000, -999.000,9,-999.0000,9,  -999.00,  -999.00,9,   -999.0,9, 3.77600002,2,0.347000003,2,     0.19,2,     0.08,2,     -999,9, 60,   3566,  -1.6469
  32L919930718,    37, 16,      1,2,19930728, 80.4470, -13.3130,  308,     60.0,  -1.6910,  32.4930,2,-999.0000,9,  32.4590,    359.3,2,    360.1,2,    11.96,2,     4.62,2,     0.00,2,     1.07,2,     -0.127,2,   2123.1,2,    801.5,18.2999992,2, -999.000, -999.000,9,-999.0000,9,  -999.00,  -999.00,9,   -999.0,9,  3.5150001,2,0.284999996,2,     0.13,2,     0.06,2,     -999,9, 60,   3565,  -1.6920
  32L919930718,    37, 16,     12,2,19930728, 80.4470, -13.3130,  308,     70.0,  -1.6820,  32.5690,2,-999.0000,9,-999.0000,    351.8,2,    355.4,2,    12.26,2,     5.16,2,    -0.01,2,     1.05,2,     -0.185,2,   -999.0,9,   -999.0,      -999,9, -999.000, -999.000,9,-999.0000,9,  -999.00,  -999.00,9,   -999.0,9, 1.91700006,2,0.217999995,2,     0.12,2,     0.05,2,     -999,9, 60,   3564,  -1.6832
  32L919930718,    37, 16,     11,2,19930728, 80.4470, -13.3130,  308,     80.0,  -1.6550,  32.6600,2,-999.0000,9,  32.6070,    347.1,2,    350.7,2,    12.73,2,     5.63,2,    -0.02,2,     1.04,2,-0.16599999,2,   2128.8,2,    809.9,18.2999992,2, -999.000, -999.000,9,-999.0000,9,  -999.00,  -999.00,9,   -999.0,9, 1.99699998,2,0.232999995,2,     0.08,2,     0.05,2,     -999,9, 60,   3563,  -1.6564
  32L919930718,    37, 16,     10,2,19930728, 80.4470, -13.3130,  308,    100.0,  -1.5890,  32.9540,2,  32.9530,2,  32.8850,    334.1,2,    338.7,2,    13.49,2,     6.88,2,     0.01,2,     1.01,2,-0.13699999,2,   2138.8,2,    843.0,18.2999992,2, -999.000, -999.000,9,-999.0000,9,  -999.00,  -999.00,9,   -999.0,9,0.796000004,2,0.079999998,2,     0.03,2,     0.02,2,     -999,9, 60,   3562,  -1.5909
  32L919930718,    37, 16,      9,2,19930728, 80.4470, -13.3130,  308,    286.0,   0.5960,  34.7270,2,  34.7490,2,-999.0000,    283.8,2,    282.8,2,    12.57,2,    12.70,2,     0.00,2,     0.99,2,     -0.039,2,   -999.0,9,   -999.0,      -999,9,    2.510,    0.038,2,   1.8740,2,     5.80,     0.20,2,   -999.0,9, 1.17200005,2,0.079000004,2,  -999.00,9,  -999.00,9,     -999,9, 60,   3561,   0.5837
  32L919930718,    37, 17,      8,2,19930728, 80.4470, -13.3130,  308,      5.0,   1.0810,  32.2110,2,-999.0000,9,-999.0000,    429.4,2,   -999.0,9,  -999.00,9,  -999.00,9,  -999.00,9,  -999.00,9,       -999,9,   -999.0,9,   -999.0,      -999,9, -999.000, -999.000,9,-999.0000,9,  -999.00,  -999.00,9,   -999.0,9,       -999,9,       -999,9,  -999.00,9,  -999.00,9,     -999,9, 61,   3584,   1.0808
  32L919930718,    37, 17,      7,2,19930728, 80.4470, -13.3130,  308,     10.0,  -0.7890,  32.2630,2,-999.0000,9,-999.0000,    388.0,2,   -999.0,9,  -999.00,9,  -999.00,9,  -999.00,9,  -999.00,9,       -999,9,   -999.0,9,   -999.0,      -999,9, -999.000, -999.000,9,-999.0000,9,  -999.00,  -999.00,9,   -999.0,9,       -999,9,       -999,9,  -999.00,9,  -999.00,9,     -999,9, 61,   3583,  -0.7892
  32L919930718,    37, 17,      6,2,19930728, 80.4470, -13.3130,  308,     20.0,  -1.5800,  32.3530,2,-999.0000,9,-999.0000,    378.0,2,   -999.0,9,  -999.00,9,  -999.00,9,  -999.00,9,  -999.00,9,       -999,9,   -999.0,9,   -999.0,      -999,9, -999.000, -999.000,9,-999.0000,9,  -999.00,  -999.00,9,   -999.0,9,       -999,9,       -999,9,  -999.00,9,  -999.00,9,     -999,9, 61,   3582,  -1.5803
  32L919930718,    37, 17,      5,2,19930728, 80.4470, -13.3130,  308,     30.0,  -1.5070,  32.4170,2,-999.0000,9,-999.0000,    392.9,2,   -999.0,9,  -999.00,9,  -999.00,9,  -999.00,9,  -999.00,9,       -999,9,   -999.0,9,   -999.0,      -999,9, -999.000, -999.000,9,-999.0000,9,  -999.00,  -999.00,9,   -999.0,9,       -999,9,       -999,9,  -999.00,9,  -999.00,9,     -999,9, 61,   3581,  -1.5075
  32L919930718,    37, 17,      4,2,19930728, 80.4470, -13.3130,  308,     41.0,  -1.6690,  32.4380,2,-999.0000,9,-999.0000,    368.9,2,   -999.0,9,  -999.00,9,  -999.00,9,  -999.00,9,  -999.00,9,       -999,9,   -999.0,9,   -999.0,      -999,9, -999.000, -999.000,9,-999.0000,9,  -999.00,  -999.00,9,   -999.0,9,       -999,9,       -999,9,  -999.00,9,  -999.00,9,     -999,9, 61,   3580,  -1.6697
  32L919930718,    37, 17,      3,2,19930728, 80.4470, -13.3130,  308,     50.0,  -1.7220,  32.4500,2,-999.0000,9,-999.0000,    364.4,2,   -999.0,9,  -999.00,9,  -999.00,9,  -999.00,9,  -999.00,9,       -999,9,   -999.0,9,   -999.0,      -999,9, -999.000, -999.000,9,-999.0000,9,  -999.00,  -999.00,9,   -999.0,9,       -999,9,       -999,9,  -999.00,9,  -999.00,9,     -999,9, 61,   3579,  -1.7228
  32L919930718,    37, 17,      2,2,19930728, 80.4470, -13.3130,  308,     59.0,  -1.6910,  32.4990,2,-999.0000,9,-999.0000,    362.5,2,   -999.0,9,  -999.00,9,  -999.00,9,  -999.00,9,  -999.00,9,       -999,9,   -999.0,9,   -999.0,      -999,9, -999.000, -999.000,9,-999.0000,9,  -999.00,  -999.00,9,   -999.0,9,       -999,9,       -999,9,  -999.00,9,  -999.00,9,     -999,9, 61,   3578,  -1.6920
  32L919930718,    37, 17,      1,2,19930728, 80.4470, -13.3130,  308,     70.0,  -1.6810,  32.5720,2,-999.0000,9,-999.0000,    358.9,2,   -999.0,9,  -999.00,9,  -999.00,9,  -999.00,9,  -999.00,9,       -999,9,   -999.0,9,   -999.0,      -999,9, -999.000, -999.000,9,-999.0000,9,  -999.00,  -999.00,9,   -999.0,9,       -999,9,       -999,9,  -999.00,9,  -999.00,9,     -999,9, 61,   3577,  -1.6822
  32L919930718,    37, 17,     12,2,19930728, 80.4470, -13.3130,  308,     80.0,  -1.6510,  32.6680,2,-999.0000,9,-999.0000,    353.2,2,   -999.0,9,  -999.00,9,  -999.00,9,  -999.00,9,  -999.00,9,       -999,9,   -999.0,9,   -999.0,      -999,9, -999.000, -999.000,9,-999.0000,9,  -999.00,  -999.00,9,   -999.0,9,       -999,9,       -999,9,  -999.00,9,  -999.00,9,     -999,9, 61,   3576,  -1.6524
  32L919930718,    37, 17,     11,2,19930728, 80.4470, -13.3130,  308,    100.0,  -1.5890,  32.9950,2,-999.0000,9,-999.0000,    337.7,2,   -999.0,9,  -999.00,9,  -999.00,9,  -999.00,9,  -999.00,9,       -999,9,   -999.0,9,   -999.0,      -999,9, -999.000, -999.000,9,-999.0000,9,  -999.00,  -999.00,9,   -999.0,9,       -999,9,       -999,9,  -999.00,9,  -999.00,9,     -999,9, 61,   3575,  -1.5909
  32L919930718,    37, 17,     10,2,19930728, 80.4470, -13.3130,  308,    149.0,  -0.5360,  34.1960,2,-999.0000,9,-999.0000,    301.1,2,   -999.0,9,  -999.00,9,  -999.00,9,  -999.00,9,  -999.00,9,       -999,9,   -999.0,9,   -999.0,      -999,9, -999.000, -999.000,9,-999.0000,9,  -999.00,  -999.00,9,   -999.0,9,       -999,9,       -999,9,  -999.00,9,  -999.00,9,     -999,9, 61,   3574,  -0.5406
  32L919930718,    37, 17,      9,2,19930728, 80.4470, -13.3130,  308,    291.0,   0.5790,  34.7450,2,-999.0000,9,-999.0000,    296.2,2,   -999.0,9,  -999.00,9,  -999.00,9,  -999.00,9,  -999.00,9,       -999,9,   -999.0,9,   -999.0,      -999,9, -999.000, -999.000,9,-999.0000,9,  -999.00,  -999.00,9,   -999.0,9,       -999,9,       -999,9,  -999.00,9,  -999.00,9,     -999,9, 61,   3573,   0.5665
  32L919930718,    37, 18,      8,2,19930728, 80.4470, -13.3130,  308,      2.0,   1.8500,  31.8910,2,  32.0870,2,  32.0270,    435.1,2,    435.1,2,     4.99,2,     0.09,2,     0.06,2,     0.77,2,0.158999994,2,   2037.4,2,    488.8,      17.5,2, -999.000, -999.000,9,-999.0000,9,  -999.00,  -999.00,9,   -999.0,9, 16.2530003,2, 1.94299996,2,  -999.00,9,  -999.00,9,     -999,9, 62,   3596,   1.8499
  32L919930718,    37, 18,      7,2,19930728, 80.4470, -13.3130,  308,      5.0,   1.4970,  32.2030,2,-999.0000,9,  32.2020,    438.0,2,    418.3,2,     6.66,2,     0.58,2,     0.02,2,     0.80,2, 0.17899999,2,   2067.7,2,    558.0,      17.5,2, -999.000, -999.000,9,-999.0000,9,  -999.00,  -999.00,9,   -999.0,9, 35.6010017,2, 3.58699989,2,     5.51,2,    -0.62,3,     -999,9, 62,   3595,   1.4968
  32L919930718,    37, 18,      6,2,19930728, 80.4470, -13.3130,  308,     10.0,  -1.5000,  32.3080,2,-999.0000,9,  32.2840,    379.3,2,    392.3,2,     9.13,2,     2.17,2,     0.05,2,     0.93,2,0.012999997,2,   2095.4,2,    664.2,      17.5,2, -999.000, -999.000,9,-999.0000,9,  -999.00,  -999.00,9,   -999.0,9, 7.98999977,2, 1.51100004,2,     1.00,2,     0.31,2,     -999,9, 62,   3594,  -1.5002
  32L919930718,    37, 18,      5,2,19930728, 80.4470, -13.3130,  308,     20.0,  -1.5830,  32.3600,2,-999.0000,9,  32.3150,    375.9,2,    376.2,2,    10.09,2,     3.08,2,     0.03,2,     0.97,2,0.002999991,2,   2105.9,2,    702.9,      17.5,2, -999.000, -999.000,9,-999.0000,9,  -999.00,  -999.00,9,   -999.0,9, 6.86499977,2,0.944000006,2,     0.58,2,     0.22,2,     -999,9, 62,   3593,  -1.5833
  32L919930718,    37, 18,      4,2,19930728, 80.4470, -13.3130,  308,     30.0,  -1.6450,  32.4020,2,-999.0000,9,-999.0000,    374.8,2,    373.5,2,     9.86,2,     3.38,2,     0.03,2,     0.99,2,0.002999991,2,   -999.0,9,   -999.0,      -999,9, -999.000, -999.000,9,-999.0000,9,  -999.00,  -999.00,9,   -999.0,9,  4.1960001,2,0.661000013,2,     0.58,2,     0.16,2,     -999,9, 62,   3592,  -1.6455
  32L919930718,    37, 18,      3,2,19930728, 80.4470, -13.3130,  308,     40.0,  -1.6600,  32.4280,2,-999.0000,9,  32.3700,    371.7,2,    368.0,2,    10.40,2,     3.89,2,     0.04,2,     1.02,2,0.031999998,2,   2119.9,2,    759.3,      17.5,2, -999.000, -999.000,9,-999.0000,9,  -999.00,  -999.00,9,   -999.0,9, 2.05299997,2,0.521000028,2,     0.43,2,     0.16,2,     -999,9, 62,   3591,  -1.6607
  32L919930718,    37, 18,      2,2,19930728, 80.4470, -13.3130,  308,     50.0,  -1.6120,  32.4440,2,-999.0000,9,-999.0000,    369.8,2,    366.0,2,    10.94,2,     4.04,2,     0.04,2,     1.03,2,0.061999992,2,   -999.0,9,   -999.0,      -999,9, -999.000, -999.000,9,-999.0000,9,  -999.00,  -999.00,9,   -999.0,9, 1.92499995,2,0.345999986,2,     0.72,2,     0.10,2,     -999,9, 62,   3590,  -1.6129
  32L919930718,    37, 18,      1,2,19930728, 80.4470, -13.3130,  308,     60.0,  -1.6970,  32.4660,2,-999.0000,9,  32.4370,    367.2,2,    361.7,2,    11.61,2,     4.59,2,     0.01,2,     1.03,2,0.109999999,2,   2122.8,2,    778.8,      17.5,2, -999.000, -999.000,9,-999.0000,9,  -999.00,  -999.00,9,   -999.0,9, 2.53299999,2,0.321999997,2,     0.26,2,    -0.05,2,     -999,9, 62,   3589,  -1.6980
  32L919930718,    37, 18,     12,2,19930728, 80.4470, -13.3130,  308,     70.0,  -1.6880,  32.5370,2,-999.0000,9,-999.0000,    360.6,2,   -999.0,9,  -999.00,9,  -999.00,9,  -999.00,9,  -999.00,9,       -999,9,   -999.0,9,   -999.0,      -999,9, -999.000, -999.000,9,-999.0000,9,  -999.00,  -999.00,9,   -999.0,9,       -999,9,       -999,9,  -999.00,9,  -999.00,9,     -999,9, 62,   3588,  -1.6892
  32L919930718,    37, 18,     11,2,19930728, 80.4470, -13.3130,  308,     80.0,  -1.6620,  32.6400,2,-999.0000,9,  32.5800,    355.4,2,    351.0,2,    12.37,2,     5.57,2,     0.00,2,     1.02,2,0.012999997,2,   2129.6,2,    793.1,      17.5,2, -999.000, -999.000,9,-999.0000,9,  -999.00,  -999.00,9,   -999.0,9, 2.17799997,2,0.222000003,2,     0.09,2,     0.09,2,     -999,9, 62,   3587,  -1.6634
  32L919930718,    37, 18,     10,2,19930728, 80.4470, -13.3130,  308,    100.0,  -1.5930,  32.9110,2,  32.9140,2,  32.8360,    341.9,2,    339.7,2,    13.16,2,     6.89,2,     0.01,2,     1.00,2,0.031999998,2,   2139.6,2,    829.9,      17.5,2, -999.000, -999.000,9,-999.0000,9,  -999.00,  -999.00,9,   -999.0,9, 1.28900003,2,0.134000003,2,     0.03,2,     0.02,2,     -999,9, 62,   3586,  -1.5949
  32L919930718,    37, 18,      9,2,19930728, 80.4470, -13.3130,  308,    285.0,   0.6100,  34.7330,2,-999.0000,9,-999.0000,    284.6,2,    283.0,2,    12.31,2,    13.46,2,     0.01,2,     0.96,2,0.041999996,2,   -999.0,9,   -999.0,      -999,9, -999.000, -999.000,9,-999.0000,9,  -999.00,  -999.00,9,   -999.0,9,0.398000002,2,0.030999999,2,  -999.00,9,  -999.00,9,     -999,9, 62,   3585,   0.5977
  32L919930718,    37, 19,      7,2,19930728, 80.4470, -13.3130,  308,      2.0,   4.4830,  29.2990,2,-999.0000,9,-999.0000,    373.5,2,    371.0,2,     5.24,2,     0.11,2,     0.00,2,     0.57,2,0.063000008,2,   -999.0,9,   -999.0,      -999,9, -999.000, -999.000,9,-999.0000,9,  -999.00,  -999.00,9,      1.3,2, 14.3830004,2, 1.72599995,2,     0.39,2,     0.08,2,    65200,2, 63,   3607,   4.4829
  32L919930718,    37, 19,      8,2,19930728, 80.4470, -13.3130,  308,      2.0,   4.4770,  29.2620,2,-999.0000,9,  29.3440,    372.4,2,    370.4,2,     5.25,2,     0.08,2,     0.00,2,     0.56,2,0.072999999,2,   1904.9,2,    524.2,18.2000008,2, -999.000, -999.000,9,-999.0000,9,  -999.00,  -999.00,9,      1.4,2, 31.5750008,2, 2.81599998,2,     0.37,2,     0.05,2,    86500,2, 63,   3608,   4.4769
  32L919930718,    37, 19,      6,2,19930728, 80.4470, -13.3130,  308,      4.0,   3.6380,  30.5430,2,-999.0000,9,  31.9630,    435.8,2,    454.2,2,     2.13,2,    -0.04,2,     0.00,2,     0.62,2,0.122000001,2,   2004.4,2,    424.4,18.2000008,2, -999.000, -999.000,9,-999.0000,9,  -999.00,  -999.00,9,      3.6,2, 22.4769993,2, 2.10700011,2,     1.07,2,     0.17,2,   131000,2, 63,   3606,   3.6378
  32L919930718,    37, 19,      5,2,19930728, 80.4470, -13.3130,  308,      7.0,   1.6230,  32.2700,2,-999.0000,9,-999.0000,    461.1,2,    460.5,2,     1.74,2,    -0.01,2,    -0.03,2,     0.72,2,0.015000001,2,   -999.0,9,   -999.0,      -999,9, -999.000, -999.000,9,-999.0000,9,  -999.00,  -999.00,9,      5.3,2, 35.2560005,2, 2.76200008,2,     4.09,2,     0.97,2,   205000,2, 63,   3605,   1.6227
  32L919930718,    37, 19,      4,2,19930728, 80.4470, -13.3130,  308,     11.0,   0.9080,  32.2960,2,-999.0000,9,  32.2540,    463.0,2,    461.0,2,     1.76,2,     0.11,2,     0.00,2,     0.74,2,0.054000005,2,   2021.5,2,    435.6,18.2000008,2, -999.000, -999.000,9,-999.0000,9,  -999.00,  -999.00,9,      3.0,2, 32.0309982,2, 2.33599997,2,     0.86,2,     0.25,2,   199000,2, 63,   3604,   0.9076
  32L919930718,    37, 19,      3,2,19930728, 80.4470, -13.3130,  308,     18.0,  -1.1400,  32.3780,2,-999.0000,9,  32.3180,    431.9,2,    400.2,2,     4.62,2,     0.79,2,     0.03,2,     0.85,2,0.054000005,2,   2092.9,2,    645.6,18.2000008,2, -999.000, -999.000,9,-999.0000,9,  -999.00,  -999.00,9,      0.2,2, 20.5300007,2, 2.06999993,2,     1.91,2,     0.17,2,   373000,2, 63,   3603,  -1.1404
  32L919930718,    37, 19,      2,2,19930728, 80.4470, -13.3130,  308,     26.0,  -1.4620,  32.4030,2,-999.0000,9,  32.3580,    400.7,2,    380.9,2,     7.12,2,     1.88,2,     0.06,2,     0.94,2,      0.044,2,   2113.4,2,    720.0,18.2000008,2, -999.000, -999.000,9,-999.0000,9,  -999.00,  -999.00,9,      0.1,2, 14.0459995,2, 1.71099997,2,     1.43,2,     0.06,2,   321000,2, 63,   3602,  -1.4625
  32L919930718,    37, 19,      1,2,19930728, 80.4470, -13.3130,  308,     60.0,  -1.7150,  32.4800,2,-999.0000,9,  32.4440,    365.1,2,    360.4,2,    12.50,2,     4.43,2,     0.01,2,     1.02,2, 0.00500001,2,   2125.0,2,    783.2,18.2000008,2, -999.000, -999.000,9,-999.0000,9,  -999.00,  -999.00,9,   -999.0,9, 1.37600005,2,0.202000007,2,     0.11,2,     0.09,2,    73500,2, 63,   3601,  -1.7160
  32L919930718,    37, 19,     12,2,19930728, 80.4470, -13.3130,  308,     70.0,  -1.6790,  32.5810,2,-999.0000,9,-999.0000,    358.3,2,    354.7,2,    12.83,2,     4.90,2,     0.00,2,     1.00,2, 0.00500001,2,   -999.0,9,   -999.0,      -999,9, -999.000, -999.000,9,-999.0000,9,  -999.00,  -999.00,9,   -999.0,9, 1.42200005,2,0.083999999,2,     0.06,2,     0.04,2,    79700,2, 63,   3600,  -1.6802
  32L919930718,    37, 19,     11,2,19930728, 80.4470, -13.3130,  308,     80.0,  -1.6450,  32.6840,2,-999.0000,9,  32.5940,    353.0,2,    349.2,2,    13.22,2,     4.77,2,    -0.05,2,     1.00,2,0.024000004,2,   2129.9,2,    813.8,18.2000008,2, -999.000, -999.000,9,-999.0000,9,  -999.00,  -999.00,9,   -999.0,9, 1.09800005,2,0.150999993,2,     0.04,2,     0.02,2,    79800,2, 63,   3599,  -1.6464
  32L919930718,    37, 19,     10,2,19930728, 80.4470, -13.3130,  308,    100.0,  -1.5800,  32.9580,2,-999.0000,9,  32.8830,    341.0,2,    337.9,2,    13.85,2,     6.18,2,    -0.04,2,     0.97,2,0.015000001,2,   2140.2,2,    837.1,18.2000008,2, -999.000, -999.000,9,-999.0000,9,  -999.00,  -999.00,9,   -999.0,9, 2.88400006,2,       -999,9,     0.03,2,     0.01,2,    51900,2, 63,   3598,  -1.5819
  32L919930718,    37, 19,      9,2,19930728, 80.4470, -13.3130,  308,    286.0,   0.5840,  34.7460,2,-999.0000,9,-999.0000,    283.9,2,    282.8,2,    12.88,2,    12.24,2,    -0.03,2,     0.93,2,0.015000001,2,   -999.0,9,   -999.0,      -999,9, -999.000, -999.000,9,-999.0000,9,  -999.00,  -999.00,9,   -999.0,9, 1.83800006,2,0.123999998,2,     0.02,2,     0.01,2,    64900,2, 63,   3597,   0.5717