BOTTLE,20090115PRINUNIVRMK
EXPOCODE,STNNBR,CASTNO,BTLNBR,BTLNBR_FLAG_W,DATE,LATITUDE,LONGITUDE,DEPTH,CTDPRS,CTDTMP,CTDSAL,CTDSAL_FLAG_W,SALNTY,SALNTY_FLAG_W,SOMSAL,CTDOXY,CTDOXY_FLAG_W,OXYGEN,OXYGEN_FLAG_W,SILCAT,SILCAT_FLAG_W,NITRAT,NITRAT_FLAG_W,NITRIT,NITRIT_FLAG_W,PHSPHT,PHSPHT_FLAG_W,AMMONI,AMMONI_FLAG_W,TCARBN,TCARBN_FLAG_W,FCO2,FCO2_TMP,FCO2_FLAG_W,TRITUM,TRITER,TRITUM_FLAG_W,HELIUM,HELIUM_FLAG_W,DELHE3,DELHER,DELHE3_FLAG_W,DELC14,DELC14_FLAG_W,POC,POC_FLAG_W,PON,PON_FLAG_W,CHLORA,CHLORA_FLAG_W,PHAEO,PHAEO_FLAG_W,BACT,BACT_FLAG_W,CTDNO,BNLID,THETA
,,,,,,,,METERS,DBARS,ITS-90,PSS-78,,PSS-78,,PSS-78,UMOL/KG,,UMOL/KG,,UMOL/KG,,UMOL/KG,,UMOL/KG,,UMOL/KG,,UMOL/KG,,UMOL/KG,,UATM,DEGC,,TU,TU,,NMOL/KG,,PERCNT,PERCNT,,O/OO,,ug/kg,,ug/kg,,UG/L,,UG/L,,CELLS/ML,,,,DEGC
  32L919930718,    37,  1,      6,2,19930728, 80.4470, -13.3130,  308,      2.0,   2.0380,  31.9330,2,  31.9420,2,-999.0000,    401.5,2,    409.8,2,     6.17,2,     0.12,2,     0.03,2,     0.81,2,     -0.007,2,   -999.0,9,   -999.0,      -999,9, -999.000, -999.000,9,-999.0000,9,  -999.00,  -999.00,9,   -999.0,9,       -999,9,       -999,9,  -999.00,9,  -999.00,9,     -999,9, 45,   3438,   2.0379
  32L919930718,    37,  1,      5,2,19930728, 80.4470, -13.3130,  308,     10.0,   0.0640,  32.1960,2,-999.0000,9,-999.0000,    383.4,2,    392.8,2,     9.47,2,     0.90,2,     0.09,2,     0.87,2,0.031999998,2,   -999.0,9,   -999.0,      -999,9, -999.000, -999.000,9,-999.0000,9,  -999.00,  -999.00,9,   -999.0,9,       -999,9,       -999,9,  -999.00,9,  -999.00,9,     -999,9, 45,   3437,   0.0637
  32L919930718,    37,  1,      4,2,19930728, 80.4470, -13.3130,  308,     20.0,  -1.3360,  32.2910,2,-999.0000,9,-999.0000,    371.8,2,    372.9,2,    11.62,2,     3.50,2,     0.05,2,     0.71,3,0.002000004,2,   -999.0,9,   -999.0,      -999,9, -999.000, -999.000,9,-999.0000,9,  -999.00,  -999.00,9,   -999.0,9,       -999,9,       -999,9,  -999.00,9,  -999.00,9,     -999,9, 45,   3436,  -1.3364
  32L919930718,    37,  1,      3,2,19930728, 80.4470, -13.3130,  308,     30.0,  -1.6650,  32.3320,2,-999.0000,9,-999.0000,    371.0,2,    370.9,2,    11.49,2,     3.68,2,     0.06,2,     0.99,2,0.012000002,2,   -999.0,9,   -999.0,      -999,9, -999.000, -999.000,9,-999.0000,9,  -999.00,  -999.00,9,   -999.0,9,       -999,9,       -999,9,  -999.00,9,  -999.00,9,     -999,9, 45,   3435,  -1.6655
  32L919930718,    37,  1,      2,2,19930728, 80.4470, -13.3130,  308,     50.0,  -1.6130,  32.4140,2,-999.0000,9,-999.0000,    370.0,2,    370.0,2,    10.90,2,     3.96,2,     0.02,2,     1.00,2,     -0.007,2,   -999.0,9,   -999.0,      -999,9, -999.000, -999.000,9,-999.0000,9,  -999.00,  -999.00,9,   -999.0,9,       -999,9,       -999,9,  -999.00,9,  -999.00,9,     -999,9, 45,   3434,  -1.6139
  32L919930718,    37,  1,      1,2,19930728, 80.4470, -13.3130,  308,     75.0,  -1.7080,  32.5140,2,-999.0000,9,-999.0000,    358.8,2,    350.3,2,    12.99,2,     5.74,2,     0.01,2,     1.00,2,0.031999998,2,   -999.0,9,   -999.0,      -999,9, -999.000, -999.000,9,-999.0000,9,  -999.00,  -999.00,9,   -999.0,9,       -999,9,       -999,9,  -999.00,9,  -999.00,9,     -999,9, 45,   3433,  -1.7093
  32L919930718,    37,  1,     12,2,19930728, 80.4470, -13.3130,  308,    101.0,  -1.5640,  33.0210,2,-999.0000,9,-999.0000,    335.0,2,    329.3,2,    13.86,2,     7.89,2,     0.02,2,     0.97,2,0.031999998,2,   -999.0,9,   -999.0,      -999,9, -999.000, -999.000,9,-999.0000,9,  -999.00,  -999.00,9,   -999.0,9,       -999,9,       -999,9,  -999.00,9,  -999.00,9,     -999,9, 45,   3432,  -1.5660
  32L919930718,    37,  1,     11,2,19930728, 80.4470, -13.3130,  308,    126.0,  -1.1660,  33.6240,2,-999.0000,9,-999.0000,    316.1,2,    316.1,2,    13.31,2,     9.58,2,     0.01,2,     0.95,2,0.051000003,2,   -999.0,9,   -999.0,      -999,9, -999.000, -999.000,9,-999.0000,9,  -999.00,  -999.00,9,   -999.0,9,       -999,9,       -999,9,  -999.00,9,  -999.00,9,     -999,9, 45,   3431,  -1.1691
  32L919930718,    37,  1,     10,2,19930728, 80.4470, -13.3130,  308,    151.0,  -0.7550,  34.0470,2,-999.0000,9,-999.0000,    303.3,2,    300.2,2,    12.67,2,    11.65,2,     0.01,2,     0.95,2,0.061000001,2,   -999.0,9,   -999.0,      -999,9, -999.000, -999.000,9,-999.0000,9,  -999.00,  -999.00,9,   -999.0,9,       -999,9,       -999,9,  -999.00,9,  -999.00,9,     -999,9, 45,   3430,  -0.7594
  32L919930718,    37,  1,      9,2,19930728, 80.4470, -13.3130,  308,    201.0,   0.2770,  34.6050,2,-999.0000,9,-999.0000,    288.4,2,    287.8,2,    12.19,2,    13.04,2,     0.01,2,     0.94,2,0.061000001,2,   -999.0,9,   -999.0,      -999,9, -999.000, -999.000,9,-999.0000,9,  -999.00,  -999.00,9,   -999.0,9,       -999,9,       -999,9,  -999.00,9,  -999.00,9,     -999,9, 45,   3429,   0.2691
  32L919930718,    37,  1,      8,2,19930728, 80.4470, -13.3130,  308,    251.0,   0.6360,  34.7230,2,  34.7760,2,-999.0000,    284.6,2,    284.2,2,    12.47,2,    12.91,2,     0.02,2,     0.96,2,0.120000005,2,   -999.0,9,   -999.0,      -999,9, -999.000, -999.000,9,-999.0000,9,  -999.00,  -999.00,9,   -999.0,9,       -999,9,       -999,9,  -999.00,9,  -999.00,9,     -999,9, 45,   3428,   0.6252
  32L919930718,    37,  1,      7,2,19930728, 80.4470, -13.3130,  308,    283.0,   0.6560,  34.7350,2,-999.0000,9,-999.0000,    284.6,2,    284.2,2,    13.09,2,    12.99,2,     0.03,2,     0.97,2,0.100000001,2,   -999.0,9,   -999.0,      -999,9, -999.000, -999.000,9,-999.0000,9,  -999.00,  -999.00,9,   -999.0,9,       -999,9,       -999,9,  -999.00,9,  -999.00,9,     -999,9, 45,   3427,   0.6437
  32L919930718,    37,  2,      5,2,19930728, 80.4470, -13.3130,  308,      2.0,   2.3390,  30.0780,2,-999.0000,9,  30.4190,    366.8,2,   -999.0,9,  -999.00,9,  -999.00,9,  -999.00,9,  -999.00,9,       -999,9,   1971.2,2,    537.3,17.7999992,2, -999.000, -999.000,9,-999.0000,9,  -999.00,  -999.00,9,   -999.0,9,       -999,9,       -999,9,  -999.00,9,  -999.00,9,     -999,9, 46,   3449,   2.3389
  32L919930718,    37,  2,      6,2,19930728, 80.4470, -13.3130,  308,      2.0,   2.5600,  29.9500,2,-999.0000,9,-999.0000,    369.6,2,   -999.0,9,     4.24,2,     0.41,2,     0.01,2,     0.66,2,0.002000004,2,   -999.0,9,   -999.0,      -999,9, -999.000, -999.000,9,-999.0000,9,  -999.00,  -999.00,9,   -999.0,9,       -999,9,       -999,9,  -999.00,9,  -999.00,9,     -999,9, 46,   3450,   2.5599
  32L919930718,    37,  2,      3,2,19930728, 80.4470, -13.3130,  308,     25.0,  -1.7030,  32.3010,2,-999.0000,9,  32.2690,    368.3,2,   -999.0,9,  -999.00,9,  -999.00,9,  -999.00,9,  -999.00,9,       -999,9,   2111.0,2,    746.7,17.7999992,2, -999.000, -999.000,9,-999.0000,9,  -999.00,  -999.00,9,   -999.0,9,       -999,9,       -999,9,  -999.00,9,  -999.00,9,     -999,9, 46,   3447,  -1.7034
  32L919930718,    37,  2,      4,2,19930728, 80.4470, -13.3130,  308,     25.0,  -1.6970,  32.3000,2,-999.0000,9,-999.0000,    367.4,2,   -999.0,9,    11.37,2,     3.90,2,     0.04,2,     1.00,2,0.041000001,2,   -999.0,9,   -999.0,      -999,9, -999.000, -999.000,9,-999.0000,9,  -999.00,  -999.00,9,   -999.0,9,       -999,9,       -999,9,  -999.00,9,  -999.00,9,     -999,9, 46,   3448,  -1.6974
  32L919930718,    37,  2,      1,2,19930728, 80.4470, -13.3130,  308,     50.0,  -1.5910,  32.4150,2,-999.0000,9,  32.3740,    372.3,2,   -999.0,9,  -999.00,9,  -999.00,9,  -999.00,9,  -999.00,9,       -999,9,   2115.7,2,    751.0,17.7999992,2, -999.000, -999.000,9,-999.0000,9,  -999.00,  -999.00,9,   -999.0,9,       -999,9,       -999,9,  -999.00,9,  -999.00,9,     -999,9, 46,   3445,  -1.5919
  32L919930718,    37,  2,      2,2,19930728, 80.4470, -13.3130,  308,     50.0,  -1.5910,  32.4160,2,-999.0000,9,-999.0000,    375.8,2,   -999.0,9,    10.14,2,     3.34,2,     0.03,2,     0.93,2,0.041000001,2,   -999.0,9,   -999.0,      -999,9, -999.000, -999.000,9,-999.0000,9,  -999.00,  -999.00,9,   -999.0,9,       -999,9,       -999,9,  -999.00,9,  -999.00,9,     -999,9, 46,   3446,  -1.5919
  32L919930718,    37,  2,     11,2,19930728, 80.4470, -13.3130,  308,     76.0,  -1.6770,  32.5770,2,-999.0000,9,  32.6420,    355.0,2,   -999.0,9,    12.56,2,     5.75,2,     0.01,2,     1.01,2,0.012000002,2,   2128.0,2,    801.4,17.7999992,2, -999.000, -999.000,9,-999.0000,9,  -999.00,  -999.00,9,   -999.0,9,       -999,9,       -999,9,  -999.00,9,  -999.00,9,     -999,9, 46,   3443,  -1.6783
  32L919930718,    37,  2,     12,2,19930728, 80.4470, -13.3130,  308,     76.0,  -1.6790,  32.5730,2,-999.0000,9,-999.0000,    357.4,2,   -999.0,9,  -999.00,9,  -999.00,9,  -999.00,9,  -999.00,9,       -999,9,   -999.0,9,   -999.0,      -999,9, -999.000, -999.000,9,-999.0000,9,  -999.00,  -999.00,9,   -999.0,9,       -999,9,       -999,9,  -999.00,9,  -999.00,9,     -999,9, 46,   3444,  -1.6803
  32L919930718,    37,  2,      9,2,19930728, 80.4470, -13.3130,  308,    100.0,  -1.5630,  33.0250,2,-999.0000,9,  32.9870,    337.3,2,   -999.0,9,  -999.00,9,  -999.00,9,  -999.00,9,  -999.00,9,       -999,9,   2138.5,2,    829.8,17.7999992,2, -999.000, -999.000,9,-999.0000,9,  -999.00,  -999.00,9,   -999.0,9,       -999,9,       -999,9,  -999.00,9,  -999.00,9,     -999,9, 46,   3441,  -1.5649
  32L919930718,    37,  2,     10,2,19930728, 80.4470, -13.3130,  308,    100.0,  -1.5630,  33.0240,2,-999.0000,9,-999.0000,    337.2,2,   -999.0,9,    13.22,2,     7.12,2,     0.01,2,     0.98,2,0.012000002,2,   -999.0,9,   -999.0,      -999,9, -999.000, -999.000,9,-999.0000,9,  -999.00,  -999.00,9,   -999.0,9,       -999,9,       -999,9,  -999.00,9,  -999.00,9,     -999,9, 46,   3442,  -1.5649
  32L919930718,    37,  2,      7,2,19930728, 80.4470, -13.3130,  308,    174.0,  -0.1610,  34.4480,2,-999.0000,9,  34.3950,    291.8,2,   -999.0,9,  -999.00,9,  -999.00,9,  -999.00,9,  -999.00,9,       -999,9,   2141.8,2,    741.5,17.7999992,2, -999.000, -999.000,9,-999.0000,9,  -999.00,  -999.00,9,   -999.0,9,       -999,9,       -999,9,  -999.00,9,  -999.00,9,     -999,9, 46,   3439,  -0.1671
  32L919930718,    37,  2,      8,2,19930728, 80.4470, -13.3130,  308,    175.0,  -0.1540,  34.4490,2,-999.0000,9,-999.0000,    292.0,2,   -999.0,9,    11.54,2,    12.64,2,     0.01,2,     0.83,3,0.012000002,2,   -999.0,9,   -999.0,      -999,9, -999.000, -999.000,9,-999.0000,9,  -999.00,  -999.00,9,   -999.0,9,       -999,9,       -999,9,  -999.00,9,  -999.00,9,     -999,9, 46,   3440,  -0.1601
  32L919930718,    37,  3,      6,2,19930728, 80.4470, -13.3130,  308,      2.0,   3.0100,  29.7780,2,-999.0000,9,  30.0640,    366.1,2,    380.6,2,  -999.00,9,  -999.00,9,  -999.00,9,  -999.00,9,       -999,9,   1943.8,2,    487.0,17.1000004,2, -999.000, -999.000,9,-999.0000,9,  -999.00,  -999.00,9,   -999.0,9, 5.30700016,2,0.779999971,2,     0.20,2,     0.13,2,     -999,9, 47,   3462,   3.0099
  32L919930718,    37,  3,      5,2,19930728, 80.4470, -13.3130,  308,      6.0,  -0.9010,  32.1670,2,-999.0000,9,  32.1000,    378.2,2,    384.2,2,    10.26,2,     2.17,2,     0.07,2,     0.90,2,0.012999997,2,   2091.6,2,    680.4,17.1000004,2, -999.000, -999.000,9,-999.0000,9,  -999.00,  -999.00,9,   -999.0,9, 11.1899996,2, 1.91199994,2,     0.88,2,     0.22,2,     -999,9, 47,   3461,  -0.9011
  32L919930718,    37,  3,      4,2,19930728, 80.4470, -13.3130,  308,     10.0,  -1.0780,  32.1760,2,-999.0000,9,  32.1640,    377.7,2,    380.6,2,    10.22,2,     2.52,2,     0.06,2,     0.93,2,-0.00700001,2,   2096.7,2,    696.9,17.1000004,2, -999.000, -999.000,9,-999.0000,9,  -999.00,  -999.00,9,   -999.0,9, 9.68500042,2, 1.44799995,2,     0.78,2,     0.22,2,     -999,9, 47,   3460,  -1.0782
  32L919930718,    37,  3,      3,2,19930728, 80.4470, -13.3130,  308,     20.0,  -1.6300,  32.2890,2,-999.0000,9,  32.2350,    366.7,2,    372.0,2,    10.52,2,     3.32,2,     0.06,2,     0.98,2,-0.03600001,2,   2106.8,2,    728.2,17.1000004,2, -999.000, -999.000,9,-999.0000,9,  -999.00,  -999.00,9,   -999.0,9, 4.83900023,2,0.711000025,2,     0.82,2,     0.17,2,     -999,9, 47,   3459,  -1.6303
  32L919930718,    37,  3,      2,2,19930728, 80.4470, -13.3130,  308,     30.0,  -1.6970,  32.3300,2,-999.0000,9,-999.0000,    367.9,2,    370.7,2,    10.86,2,     3.88,2,     0.04,2,     1.00,2,0.002999999,2,   -999.0,9,   -999.0,      -999,9, -999.000, -999.000,9,-999.0000,9,  -999.00,  -999.00,9,   -999.0,9, 4.80999994,2,0.493000001,2,     0.33,2,     0.07,2,     -999,9, 47,   3458,  -1.6975
  32L919930718,    37,  3,      1,2,19930728, 80.4470, -13.3130,  308,     40.0,  -1.7050,  32.3790,2,-999.0000,9,  32.2900,    366.2,2,    368.5,2,    10.93,2,     4.16,2,     0.02,2,     1.03,2,0.012999997,2,   2112.2,2,    742.8,17.1000004,2, -999.000, -999.000,9,-999.0000,9,  -999.00,  -999.00,9,   -999.0,9, 4.46899986,2,0.282999992,2,     0.11,2,     0.02,2,     -999,9, 47,   3457,  -1.7057
  32L919930718,    37,  3,     12,2,19930728, 80.4470, -13.3130,  308,     50.0,  -1.7190,  32.4050,2,-999.0000,9,-999.0000,    362.1,2,    364.4,2,    11.37,2,     4.57,2,     0.01,2,     1.03,2,      0.022,2,   -999.0,9,   -999.0,      -999,9, -999.000, -999.000,9,-999.0000,9,  -999.00,  -999.00,9,   -999.0,9,  3.0769999,2,0.187999994,2,     0.07,2,     0.02,2,     -999,9, 47,   3456,  -1.7198
  32L919930718,    37,  3,     11,2,19930728, 80.4470, -13.3130,  308,     60.0,  -1.7310,  32.4310,2,-999.0000,9,  32.3930,    363.7,2,    364.0,2,    11.37,2,     4.61,2,     0.02,2,     1.03,2,-0.00700001,2,   2118.0,2,    761.3,17.1000004,2, -999.000, -999.000,9,-999.0000,9,  -999.00,  -999.00,9,   -999.0,9, 1.74000001,2,0.128000006,2,     0.05,2,     0.02,2,     -999,9, 47,   3455,  -1.7320
  32L919930718,    37,  3,     10,2,19930728, 80.4470, -13.3130,  308,     70.0,  -1.6920,  32.5230,2,-999.0000,9,-999.0000,    356.7,2,    357.5,2,    11.97,2,     5.37,2,     0.01,2,     1.01,2,0.012999997,2,   -999.0,9,   -999.0,      -999,9, -999.000, -999.000,9,-999.0000,9,  -999.00,  -999.00,9,   -999.0,9, 1.79900002,2,0.166999996,2,     0.07,2,     0.04,2,     -999,9, 47,   3454,  -1.6932
  32L919930718,    37,  3,      9,2,19930728, 80.4470, -13.3130,  308,     80.0,  -1.6560,  32.6380,2,-999.0000,9,  32.6150,    352.1,2,    350.6,2,    12.29,2,     5.80,2,    -0.03,2,     1.03,2,-0.00700001,2,   2126.9,2,    787.1,17.1000004,2, -999.000, -999.000,9,-999.0000,9,  -999.00,  -999.00,9,   -999.0,9, 3.03500009,2,0.244000003,2,     0.03,2,     0.01,2,     -999,9, 47,   3453,  -1.6574
  32L919930718,    37,  3,      8,2,19930728, 80.4470, -13.3130,  308,    100.0,  -1.5790,  32.9850,2,  32.9720,2,  32.8840,    336.0,2,    338.3,2,    12.83,2,     6.53,2,     0.00,2,     1.03,2,0.051999994,2,   2136.6,2,    812.8,17.1000004,2, -999.000, -999.000,9,-999.0000,9,  -999.00,  -999.00,9,   -999.0,9, 1.85300004,2,      0.114,2,     0.01,2,     0.01,2,     -999,9, 47,   3452,  -1.5809
  32L919930718,    37,  3,      7,2,19930728, 80.4470, -13.3130,  308,    287.0,   0.5810,  34.7430,2,-999.0000,9,-999.0000,    282.1,2,    293.7,2,    11.97,2,    13.04,2,     0.02,2,     0.97,2,0.012999997,2,   -999.0,9,   -999.0,      -999,9, -999.000, -999.000,9,-999.0000,9,  -999.00,  -999.00,9,   -999.0,9, 1.72399998,2,      0.103,2,     0.00,2,     0.01,2,     -999,9, 47,   3451,   0.5687
  32L919930718,    37,  5,      6,2,19930728, 80.4470, -13.3130,  308,      2.0,   1.6910,  30.3560,2,  29.6920,2,  30.2080,    393.2,2,    396.2,2,     4.68,2,     0.38,2,     0.02,2,     0.73,2,     -0.007,2,   1945.9,2,    511.2,17.8999996,2, -999.000, -999.000,9,-999.0000,9,  -999.00,  -999.00,9,      1.9,2, 7.92399979,2, 1.20200002,2,     0.27,2,     0.01,2,   116000,2, 49,   3474,   1.6909
  32L919930718,    37,  5,      5,2,19930728, 80.4470, -13.3130,  308,      4.0,   0.7350,  31.6380,2,-999.0000,9,  31.7290,    380.4,2,    385.4,2,     9.83,2,     1.66,2,     0.07,2,     0.92,2,0.090000004,2,   2063.3,2,    662.7,17.8999996,2, -999.000, -999.000,9,-999.0000,9,  -999.00,  -999.00,9,      4.5,2, 13.9720001,2,      1.227,2,     0.40,2,     0.14,2,   155000,2, 49,   3473,   0.7349
  32L919930718,    37,  5,      4,2,19930728, 80.4470, -13.3130,  308,      7.0,  -0.4100,  32.0970,2,-999.0000,9,-999.0000,    376.7,2,    379.1,2,    11.07,2,     2.83,2,     0.06,2,     1.00,2,0.100000001,2,   -999.0,9,   -999.0,      -999,9, -999.000, -999.000,9,-999.0000,9,  -999.00,  -999.00,9,      2.6,2, 12.1569996,2, 2.21199989,2,     0.41,2,     0.19,2,   145000,2, 49,   3472,  -0.4102
  32L919930718,    37,  5,      3,2,19930728, 80.4470, -13.3130,  308,     11.0,  -1.3420,  32.1820,2,-999.0000,9,  32.1240,    376.5,2,    376.5,2,    11.23,2,     3.24,2,     0.07,2,     1.01,2,0.071000002,2,   2098.3,2,    731.8,17.8999996,2, -999.000, -999.000,9,-999.0000,9,  -999.00,  -999.00,9,      1.8,2, 6.76300001,2, 1.16400003,2,     0.30,2,     0.18,2,   217000,2, 49,   3471,  -1.3422
  32L919930718,    37,  5,      2,2,19930728, 80.4470, -13.3130,  308,     18.0,  -1.6530,  32.2560,2,-999.0000,9,  32.2020,    374.9,2,    372.3,2,    11.26,2,     3.69,2,     0.07,2,     1.05,2,     -0.017,2,   2105.8,2,    748.0,17.8999996,2, -999.000, -999.000,9,-999.0000,9,  -999.00,  -999.00,9,      0.7,2, 7.42399979,2,      0.463,2,     0.25,2,     0.09,2,   112000,2, 49,   3470,  -1.6533
  32L919930718,    37,  5,      1,2,19930728, 80.4470, -13.3130,  308,     27.0,  -1.6930,  32.3280,2,-999.0000,9,-999.0000,    376.0,2,    373.5,2,    10.81,2,     3.63,2,     0.06,2,     1.04,2,     -0.007,2,   -999.0,9,   -999.0,      -999,9, -999.000, -999.000,9,-999.0000,9,  -999.00,  -999.00,9,      0.2,2, 6.92799997,2,0.765999973,2,     0.46,2,     0.10,2,   108000,2, 49,   3469,  -1.6934
  32L919930718,    37,  5,     12,2,19930728, 80.4470, -13.3130,  308,     41.0,  -1.4430,  32.4050,2,-999.0000,9,  32.3430,    409.5,2,    388.3,2,     8.28,2,     2.26,2,     0.02,2,     0.99,2,     -0.017,2,   2099.8,2,    681.4,17.8999996,2, -999.000, -999.000,9,-999.0000,9,  -999.00,  -999.00,9,      0.0,2, 12.6140003,2, 1.17999995,2,     0.90,2,     0.13,2,   183000,2, 49,   3468,  -1.4438
  32L919930718,    37,  5,     11,2,19930728, 80.4470, -13.3130,  308,     43.0,  -1.3780,  32.4270,2,-999.0000,9,-999.0000,    396.2,2,    377.5,2,     9.64,2,     3.06,2,     0.03,2,     1.03,2,0.012000002,2,   -999.0,9,   -999.0,      -999,9, -999.000, -999.000,9,-999.0000,9,  -999.00,  -999.00,9,   -999.0,9, 9.97599983,2,      0.963,2,     0.58,2,     0.15,2,   119000,2, 49,   3467,  -1.3788
  32L919930718,    37,  5,     10,2,19930728, 80.4470, -13.3130,  308,     65.0,  -1.7300,  32.4630,2,-999.0000,9,  32.4410,    366.7,2,    360.5,2,    12.01,2,     4.90,2,     0.00,2,     1.07,2,0.002000004,2,   2120.6,2,    794.7,17.8999996,2, -999.000, -999.000,9,-999.0000,9,  -999.00,  -999.00,9,   -999.0,9, 8.00599956,2,0.238999993,2,     0.01,2,     0.00,2,    77500,2, 49,   3466,  -1.7311
  32L919930718,    37,  5,      9,2,19930728, 80.4470, -13.3130,  308,     85.0,  -1.6010,  32.8100,2,-999.0000,9,  32.8440,    347.3,2,    340.6,2,    12.89,2,     6.90,2,     0.01,2,     1.03,2,0.002000004,2,   2133.3,2,    821.8,17.8999996,2, -999.000, -999.000,9,-999.0000,9,  -999.00,  -999.00,9,   -999.0,9, 2.00600004,2,0.052000001,2,     0.03,2,     0.01,2,    68700,2, 49,   3465,  -1.6026
  32L919930718,    37,  5,      8,2,19930728, 80.4470, -13.3130,  308,    100.0,  -1.5050,  33.1770,2,  33.1740,2,  33.1070,    335.5,2,    330.4,2,    13.33,2,     7.91,2,     0.00,2,     1.00,2,-0.03699999,2,   2140.6,2,    832.6,17.8999996,2, -999.000, -999.000,9,-999.0000,9,  -999.00,  -999.00,9,   -999.0,9, 3.31500006,2,0.178000003,2,     0.02,2,     0.01,2,    58400,2, 49,   3464,  -1.5070
  32L919930718,    37,  5,      7,2,19930728, 80.4470, -13.3130,  308,    285.0,   0.6460,  34.7330,2,-999.0000,9,-999.0000,    286.4,2,    282.1,2,    12.13,2,    13.48,2,     0.01,2,     0.98,2,     -0.007,2,   -999.0,9,   -999.0,      -999,9, -999.000, -999.000,9,-999.0000,9,  -999.00,  -999.00,9,   -999.0,9,  2.3599999,2,0.061000001,2,  -999.00,9,  -999.00,9,    62700,2, 49,   3463,   0.6337