BOTTLE,20090115PRINUNIVRMK
EXPOCODE,STNNBR,CASTNO,BTLNBR,BTLNBR_FLAG_W,DATE,LATITUDE,LONGITUDE,DEPTH,CTDPRS,CTDTMP,CTDSAL,CTDSAL_FLAG_W,SALNTY,SALNTY_FLAG_W,SOMSAL,CTDOXY,CTDOXY_FLAG_W,OXYGEN,OXYGEN_FLAG_W,SILCAT,SILCAT_FLAG_W,NITRAT,NITRAT_FLAG_W,NITRIT,NITRIT_FLAG_W,PHSPHT,PHSPHT_FLAG_W,AMMONI,AMMONI_FLAG_W,TCARBN,TCARBN_FLAG_W,FCO2,FCO2_TMP,FCO2_FLAG_W,TRITUM,TRITER,TRITUM_FLAG_W,HELIUM,HELIUM_FLAG_W,DELHE3,DELHER,DELHE3_FLAG_W,DELC14,DELC14_FLAG_W,POC,POC_FLAG_W,PON,PON_FLAG_W,CHLORA,CHLORA_FLAG_W,PHAEO,PHAEO_FLAG_W,BACT,BACT_FLAG_W,CTDNO,BNLID,THETA
,,,,,,,,METERS,DBARS,ITS-90,PSS-78,,PSS-78,,PSS-78,UMOL/KG,,UMOL/KG,,UMOL/KG,,UMOL/KG,,UMOL/KG,,UMOL/KG,,UMOL/KG,,UMOL/KG,,UATM,DEGC,,TU,TU,,NMOL/KG,,PERCNT,PERCNT,,O/OO,,ug/kg,,ug/kg,,UG/L,,UG/L,,CELLS/ML,,,,DEGC
  32L919930718,    44,  1,     10,2,19930801, 80.4950,  -8.3790,  260,      2.0,   1.7520,  30.3760,2,  30.5380,2,  30.3220,    372.2,2,    377.5,2,     3.13,2,     0.03,2,     0.00,2,     0.65,2,     -0.007,2,   1950.1,2,    496.9,18.2000008,2, -999.000, -999.000,9,-999.0000,9,  -999.00,  -999.00,9,   -999.0,9, 8.70699978,2, 1.24199998,2,     1.27,2,  -999.00,9,     -999,9, 85,   3850,   1.7519
  32L919930718,    44,  1,      9,2,19930801, 80.4950,  -8.3790,  260,     10.0,   1.2140,  30.4690,2,-999.0000,9,-999.0000,    381.3,2,    397.1,2,     4.64,2,    -0.05,2,     0.01,2,     0.71,2,     -0.027,2,   -999.0,9,   -999.0,      -999,9, -999.000, -999.000,9,-999.0000,9,  -999.00,  -999.00,9,   -999.0,9, 21.4160004,2, 2.66100001,2,     0.99,2,     0.10,2,     -999,9, 85,   3849,   1.2136
  32L919930718,    44,  1,      8,2,19930801, 80.4950,  -8.3790,  260,     15.0,  -0.0300,  30.9530,2,-999.0000,9,  31.1210,    396.1,2,    399.3,2,     6.07,2,     0.13,2,     0.02,2,     0.75,2,0.100000001,2,   2015.3,2,    584.3,18.2000008,2, -999.000, -999.000,9,-999.0000,9,  -999.00,  -999.00,9,   -999.0,9, 19.5499992,2, 2.95900011,2,     1.40,2,     0.00,2,     -999,9, 85,   3848,  -0.0304
  32L919930718,    44,  1,      7,2,19930801, 80.4950,  -8.3790,  260,     20.0,  -0.6580,  31.2290,2,-999.0000,9,-999.0000,    395.0,2,    395.9,2,     6.67,2,     0.28,2,     0.01,2,     0.77,2,0.041000001,2,   -999.0,9,   -999.0,      -999,9, -999.000, -999.000,9,-999.0000,9,  -999.00,  -999.00,9,   -999.0,9, 18.6630001,2, 3.23600006,2,     1.99,2,     0.03,2,     -999,9, 85,   3847,  -0.6585
  32L919930718,    44,  1,      6,2,19930801, 80.4950,  -8.3790,  260,     35.0,  -0.8720,  31.4890,2,-999.0000,9,  31.6000,    385.3,2,    383.7,2,     7.85,2,     1.67,2,     0.04,2,     0.84,2,0.061000001,2,   2054.7,2,    665.6,18.2000008,2, -999.000, -999.000,9,-999.0000,9,  -999.00,  -999.00,9,   -999.0,9, 9.50699997,2, 1.86399996,2,     1.99,2,    -0.25,3,     -999,9, 85,   3846,  -0.8728
  32L919930718,    44,  1,      5,2,19930801, 80.4950,  -8.3790,  260,     50.0,  -1.1830,  32.0670,2,-999.0000,9,-999.0000,    367.2,2,    362.4,2,     9.91,2,     4.44,2,     0.07,2,     0.95,2,0.149000004,2,   -999.0,9,   -999.0,      -999,9, -999.000, -999.000,9,-999.0000,9,  -999.00,  -999.00,9,   -999.0,9,      4.421,2,0.829999983,2,     0.65,2,     0.20,2,     -999,9, 85,   3845,  -1.1840
  32L919930718,    44,  1,      4,2,19930801, 80.4950,  -8.3790,  260,     60.0,  -1.2350,  32.4820,2,-999.0000,9,  32.6620,    354.4,2,    348.6,2,    11.16,2,     6.08,2,     0.07,2,     0.96,2,0.109999999,2,   2118.4,2,    796.2,18.2000008,2, -999.000, -999.000,9,-999.0000,9,  -999.00,  -999.00,9,   -999.0,9, 3.38400006,2,0.462000012,2,     0.28,2,     0.14,2,     -999,9, 85,   3844,  -1.2363
  32L919930718,    44,  1,      3,2,19930801, 80.4950,  -8.3790,  260,     80.0,  -1.2880,  33.1590,2,-999.0000,9,-999.0000,    333.0,2,    323.8,2,    11.35,2,     9.04,2,     0.04,2,     0.93,2,0.061000001,2,   -999.0,9,   -999.0,      -999,9, -999.000, -999.000,9,-999.0000,9,  -999.00,  -999.00,9,   -999.0,9, 16.6229992,2,0.500999987,2,     0.06,2,     0.05,2,     -999,9, 85,   3843,  -1.2898
  32L919930718,    44,  1,      2,2,19930801, 80.4950,  -8.3790,  260,    100.0,  -0.6040,  34.0470,2,-999.0000,9,  34.0370,    306.2,2,    305.3,2,    10.96,2,    10.81,2,     0.02,2,     0.92,2,0.100000001,2,   2144.3,2,    794.5,18.2000008,2, -999.000, -999.000,9,-999.0000,9,  -999.00,  -999.00,9,   -999.0,9, 25.1110001,4,  2.5480001,3,     0.03,2,     0.04,2,     -999,9, 85,   3842,  -0.6070
  32L919930718,    44,  1,      1,2,19930801, 80.4950,  -8.3790,  260,    150.0,   0.2010,  34.6170,2,-999.0000,9,  34.5760,    287.5,2,    286.5,2,    11.17,2,    13.06,2,     0.01,2,     0.91,2,0.071000002,2,   2149.8,2,    762.8,18.2000008,2, -999.000, -999.000,9,-999.0000,9,  -999.00,  -999.00,9,   -999.0,9, 1.05900002,2,0.068999998,2,     0.03,2,     0.03,2,     -999,9, 85,   3841,   0.1953
  32L919930718,    44,  1,     12,2,19930801, 80.4950,  -8.3790,  260,    200.0,   0.3740,  34.7800,2,  34.7840,2,  34.7430,    288.2,2,    286.1,2,    10.09,2,    13.02,2,     0.02,2,     0.92,2,0.041000001,2,   2149.9,2,    747.5,18.2000008,2, -999.000, -999.000,9,-999.0000,9,  -999.00,  -999.00,9,   -999.0,9, 1.48000002,2,0.034000002,2,     0.02,2,     0.02,2,     -999,9, 85,   3840,   0.3659
  32L919930718,    44,  1,     11,2,19930801, 80.4950,  -8.3790,  260,    250.0,   0.4110,  34.8250,2,-999.0000,9,  34.7670,    289.2,2,    286.4,2,     9.94,2,    13.38,2,     0.03,2,     0.94,2,0.071000002,2,   2149.4,2,    746.0,18.2000008,2, -999.000, -999.000,9,-999.0000,9,  -999.00,  -999.00,9,   -999.0,9, 1.66600001,2,0.063000001,2,  -999.00,9,  -999.00,9,     -999,9, 85,   3839,   0.4007
  32L919930718,    45,  1,     10,2,19930801, 80.5950,  -8.1990,  199,      2.0,  -0.3990,  30.0740,2,  30.1440,2,-999.0000,    399.5,2,    403.2,2,     7.14,2,     0.05,2,    -0.01,2,     0.70,2,0.051000003,2,   -999.0,9,   -999.0,      -999,9, -999.000, -999.000,9,-999.0000,9,  -999.00,  -999.00,9,   -999.0,9, 12.2889996,2, 1.66199994,2,     0.83,2,     0.06,2,     -999,9, 86,   3862,  -0.3990
  32L919930718,    45,  1,      9,2,19930801, 80.5950,  -8.1990,  199,     10.0,  -0.6000,  30.3730,2,-999.0000,9,-999.0000,    404.5,2,    406.9,2,     6.85,2,     0.00,2,     0.01,2,     0.71,2,0.071000002,2,   -999.0,9,   -999.0,      -999,9, -999.000, -999.000,9,-999.0000,9,  -999.00,  -999.00,9,   -999.0,9, 15.3050003,2, 2.37599993,2,     1.00,2,     0.16,2,     -999,9, 86,   3861,  -0.6002
  32L919930718,    45,  1,      8,2,19930801, 80.5950,  -8.1990,  199,     20.0,  -0.8070,  30.7480,2,-999.0000,9,-999.0000,    400.4,2,    400.8,2,     7.73,2,     0.36,2,     0.01,2,     0.78,2,0.080000006,2,   -999.0,9,   -999.0,      -999,9, -999.000, -999.000,9,-999.0000,9,  -999.00,  -999.00,9,   -999.0,9,     15.618,2, 2.49699998,2,     1.43,2,     0.12,2,     -999,9, 86,   3860,  -0.8074
  32L919930718,    45,  1,      7,2,19930801, 80.5950,  -8.1990,  199,     35.0,  -1.2040,  31.7520,2,-999.0000,9,-999.0000,    367.7,2,    359.0,2,    11.11,2,     4.92,2,     0.08,2,     0.93,2,0.138999999,2,   -999.0,9,   -999.0,      -999,9, -999.000, -999.000,9,-999.0000,9,  -999.00,  -999.00,9,   -999.0,9, 5.62599993,2,0.898999989,2,     0.49,2,     0.01,2,     -999,9, 86,   3859,  -1.2047
  32L919930718,    45,  1,      6,2,19930801, 80.5950,  -8.1990,  199,     50.0,  -1.2920,  33.0120,2,-999.0000,9,-999.0000,    341.6,2,    338.1,2,    11.47,2,     7.35,2,     0.06,2,     0.95,2,0.129000008,2,   -999.0,9,   -999.0,      -999,9, -999.000, -999.000,9,-999.0000,9,  -999.00,  -999.00,9,   -999.0,9, 4.06099987,2,0.284000009,2,     0.13,2,     0.10,2,     -999,9, 86,   3858,  -1.2931
  32L919930718,    45,  1,      5,2,19930801, 80.5950,  -8.1990,  199,     60.0,  -1.2600,  33.0690,2,-999.0000,9,-999.0000,    340.7,2,    333.8,2,    10.99,2,     7.55,2,     0.07,2,     0.95,2,0.159000009,2,   -999.0,9,   -999.0,      -999,9, -999.000, -999.000,9,-999.0000,9,  -999.00,  -999.00,9,   -999.0,9, 2.76300001,2,0.349999994,2,     0.17,2,     0.08,2,     -999,9, 86,   3857,  -1.2613
  32L919930718,    45,  1,      4,2,19930801, 80.5950,  -8.1990,  199,     81.0,  -0.9970,  33.2730,2,-999.0000,9,-999.0000,    335.3,2,    328.9,2,    10.70,2,     8.41,2,     0.05,2,     0.93,2,0.138999999,2,   -999.0,9,   -999.0,      -999,9, -999.000, -999.000,9,-999.0000,9,  -999.00,  -999.00,9,   -999.0,9, 2.91100001,2,0.338999987,2,     0.17,2,     0.06,2,     -999,9, 86,   3856,  -0.9990
  32L919930718,    45,  1,      3,2,19930801, 80.5950,  -8.1990,  199,    100.0,  -0.7110,  34.0190,2,-999.0000,9,-999.0000,    315.4,2,    309.0,2,    10.19,2,    10.10,2,     0.04,2,     0.91,2,0.080000006,2,   -999.0,9,   -999.0,      -999,9, -999.000, -999.000,9,-999.0000,9,  -999.00,  -999.00,9,   -999.0,9,       -999,9,0.111000001,2,     0.03,2,     0.05,2,     -999,9, 86,   3855,  -0.7139
  32L919930718,    45,  1,      2,2,19930801, 80.5950,  -8.1990,  199,    125.0,  -0.2020,  34.4060,2,-999.0000,9,-999.0000,    304.1,2,    298.3,2,     9.81,2,    11.45,2,     0.02,2,     0.92,2,     -0.007,2,   -999.0,9,   -999.0,      -999,9, -999.000, -999.000,9,-999.0000,9,  -999.00,  -999.00,9,   -999.0,9,      1.597,2,0.150999993,2,     0.02,2,     0.04,2,     -999,9, 86,   3854,  -0.2063
  32L919930718,    45,  1,      1,2,19930801, 80.5950,  -8.1990,  199,    150.0,   0.1630,  34.6230,2,-999.0000,9,-999.0000,    300.8,2,    294.9,2,     8.88,2,    11.89,2,     0.02,2,     0.91,2,0.002000004,2,   -999.0,9,   -999.0,      -999,9, -999.000, -999.000,9,-999.0000,9,  -999.00,  -999.00,9,   -999.0,9, 1.08299995,2,0.097999997,2,     0.02,2,     0.04,2,     -999,9, 86,   3853,   0.1573
  32L919930718,    45,  1,     12,2,19930801, 80.5950,  -8.1990,  199,    174.0,   0.3760,  34.7240,2,  34.7260,2,-999.0000,    298.9,2,    292.7,2,     8.98,2,    12.52,2,     0.02,2,     0.93,2,     -0.017,2,   -999.0,9,   -999.0,      -999,9, -999.000, -999.000,9,-999.0000,9,  -999.00,  -999.00,9,   -999.0,9,0.601999998,2,0.063000001,2,     0.02,2,     0.05,2,     -999,9, 86,   3852,   0.3690
  32L919930718,    45,  1,     11,2,19930801, 80.5950,  -8.1990,  199,    189.0,   0.3870,  34.7410,2,-999.0000,9,-999.0000,    297.9,2,    291.5,2,     9.13,2,    12.37,2,     0.02,2,     0.93,2,0.002000004,2,   -999.0,9,   -999.0,      -999,9, -999.000, -999.000,9,-999.0000,9,  -999.00,  -999.00,9,   -999.0,9,0.726999998,2,0.052999999,2,     0.02,2,     0.04,2,     -999,9, 86,   3851,   0.3794
  32L919930718,    46,  1,     10,2,19930801, 80.6920,  -7.8760,  322,      2.0,   0.1670,  30.0350,2,  30.2420,2,  30.1640,    389.0,2,    396.7,2,     7.32,2,     0.05,2,     0.01,2,     0.74,2,0.129999995,2,   1964.2,2,   -999.0,      -999,9,    7.070,    0.106,2,   1.8340,2,     0.10,     0.20,2,   -999.0,9, 10.9300003,2, 1.61500001,2,     0.66,2,     0.12,2,     -999,9, 87,   3874,   0.1669
  32L919930718,    46,  1,      9,2,19930801, 80.6920,  -7.8760,  322,      5.0,  -0.1910,  30.0550,2,-999.0000,9,-999.0000,    389.8,2,    395.0,2,     8.56,2,     0.62,2,     0.01,2,     0.81,2,0.071000002,2,   -999.0,9,   -999.0,      -999,9, -999.000, -999.000,9,-999.0000,9,  -999.00,  -999.00,9,   -999.0,9, 12.7779999,2, 2.01900005,2,     1.50,2,    -0.08,2,     -999,9, 87,   3873,  -0.1911
  32L919930718,    46,  1,      8,2,19930801, 80.6920,  -7.8760,  322,     10.0,  -0.8770,  30.5180,2,-999.0000,9,  31.3440,    395.9,2,    385.8,2,    10.35,2,     1.92,2,     0.02,2,     0.89,2,      0.081,2,   2055.0,2,   -999.0,      -999,9, -999.000, -999.000,9,-999.0000,9,  -999.00,  -999.00,9,   -999.0,9,       12.5,2, 1.93499994,2,     1.40,2,     0.39,2,     -999,9, 87,   3872,  -0.8772
  32L919930718,    46,  1,      7,2,19930801, 80.6920,  -7.8760,  322,     15.0,  -1.2080,  31.1720,2,-999.0000,9,-999.0000,    390.5,2,    377.6,2,    11.56,2,     2.81,2,     0.07,2,     0.95,2,0.140000001,2,   -999.0,9,   -999.0,      -999,9, -999.000, -999.000,9,-999.0000,9,  -999.00,  -999.00,9,   -999.0,9, 9.45300007,2, 1.57599998,2,     1.30,2,     0.33,2,     -999,9, 87,   3871,  -1.2083
  32L919930718,    46,  1,      6,2,19930801, 80.6920,  -7.8760,  322,     20.0,  -1.3520,  31.4600,2,-999.0000,9,  31.7410,    379.3,2,    370.8,2,    12.31,2,     3.63,2,     0.04,2,     0.98,2,0.071000002,2,   2085.4,2,   -999.0,      -999,9, -999.000, -999.000,9,-999.0000,9,  -999.00,  -999.00,9,   -999.0,9, 8.07600021,2,0.996999979,2,     1.00,2,     0.27,2,     -999,9, 87,   3870,  -1.3523
  32L919930718,    46,  1,      5,2,19930801, 80.6920,  -7.8760,  322,     25.0,  -1.4890,  31.8530,2,-999.0000,9,-999.0000,    358.6,2,    353.8,2,    13.18,2,     4.91,2,     0.05,2,     1.02,2,0.100000001,2,   -999.0,9,   -999.0,      -999,9, -999.000, -999.000,9,-999.0000,9,  -999.00,  -999.00,9,   -999.0,9, 5.85400009,2,0.709999979,2,     0.25,2,     0.17,2,     -999,9, 87,   3869,  -1.4894
  32L919930718,    46,  1,      4,2,19930801, 80.6920,  -7.8760,  322,     30.0,  -1.5270,  32.2100,2,-999.0000,9,-999.0000,    353.0,2,    351.7,2,    12.67,2,     5.41,2,     0.09,2,     1.01,2,0.060999997,2,   -999.0,9,   -999.0,      -999,9, -999.000, -999.000,9,-999.0000,9,  -999.00,  -999.00,9,   -999.0,9, 4.23699999,2,0.425999999,2,     0.09,2,     0.22,2,     -999,9, 87,   3868,  -1.5275
  32L919930718,    46,  1,      3,2,19930801, 80.6920,  -7.8760,  322,     40.0,  -1.4540,  32.5380,2,-999.0000,9,  32.5990,    350.8,2,    349.4,2,    11.98,2,     5.93,2,     0.09,2,     1.00,2,0.100000001,2,   2123.0,2,   -999.0,      -999,9, -999.000, -999.000,9,-999.0000,9,  -999.00,  -999.00,9,   -999.0,9, 3.19300008,2,0.314999998,2,     0.12,2,     0.09,2,     -999,9, 87,   3867,  -1.4548
  32L919930718,    46,  1,      2,2,19930801, 80.6920,  -7.8760,  322,     50.0,  -1.2890,  33.1330,2,-999.0000,9,-999.0000,    334.6,2,    332.2,2,    11.94,2,     7.64,2,     0.05,2,     0.97,2,0.031999998,2,   -999.0,9,   -999.0,      -999,9, -999.000, -999.000,9,-999.0000,9,  -999.00,  -999.00,9,   -999.0,9, 3.26699996,2,0.192000002,2,     0.06,2,     0.07,2,     -999,9, 87,   3866,  -1.2901
  32L919930718,    46,  1,      1,2,19930801, 80.6920,  -7.8760,  322,     60.0,  -0.8790,  33.7530,2,-999.0000,9,  33.6770,    316.5,2,    316.4,2,    11.42,2,     9.58,2,     0.02,2,     0.91,2,0.002999999,2,   2142.6,2,   -999.0,      -999,9, -999.000, -999.000,9,-999.0000,9,  -999.00,  -999.00,9,   -999.0,9, 2.85400009,2,0.093000002,2,     0.04,2,     0.04,2,     -999,9, 87,   3865,  -0.8806
  32L919930718,    46,  1,     12,2,19930801, 80.6920,  -7.8760,  322,     70.0,  -0.9200,  34.2180,2,  34.3250,2,-999.0000,    308.8,2,    307.0,2,     9.13,2,    10.14,2,     0.02,2,     0.82,2,-0.00700001,2,   -999.0,9,   -999.0,      -999,9, -999.000, -999.000,9,-999.0000,9,  -999.00,  -999.00,9,   -999.0,9,          3,2,0.273000002,2,     0.01,2,     0.04,2,     -999,9, 87,   3864,  -0.9219
  32L919930718,    46,  1,     11,2,19930801, 80.6920,  -7.8760,  322,     86.0,  -0.5380,  34.3940,2,-999.0000,9,  34.3260,    303.4,2,    300.0,2,     8.93,2,    10.73,2,     0.01,2,     0.84,2,     -0.046,2,   2145.6,2,   -999.0,      -999,9, -999.000, -999.000,9,-999.0000,9,  -999.00,  -999.00,9,   -999.0,9, 2.02399993,2,0.423999995,2,     0.02,2,     0.04,2,     -999,9, 87,   3863,  -0.5407
  32L919930718,    48,  1,     10,2,19930802, 80.7000,  -7.8640,  322,      2.0,  -0.4300,  30.2420,2,  30.2680,2,-999.0000,    395.2,2,    399.8,2,     8.29,2,     0.00,2,     0.02,2,     0.77,2,0.090000004,2,   -999.0,9,   -999.0,      -999,9, -999.000, -999.000,9,-999.0000,9,  -999.00,  -999.00,9,      2.1,2, 16.4200001,2, 2.70600009,2,     0.75,2,     0.03,2,     -999,9, 88,   3886,  -0.4300
  32L919930718,    48,  1,      9,2,19930802, 80.7000,  -7.8640,  322,      3.0,  -0.4580,  30.2210,2,-999.0000,9,-999.0000,    395.3,2,    400.5,2,     8.27,2,     0.07,2,     0.02,2,     0.78,2,0.051000003,2,   -999.0,9,   -999.0,      -999,9, -999.000, -999.000,9,-999.0000,9,  -999.00,  -999.00,9,      2.3,2, 25.8670006,2, 3.35700011,2,     0.78,2,     0.09,2,   180000,2, 88,   3885,  -0.4581
  32L919930718,    48,  1,      8,2,19930802, 80.7000,  -7.8640,  322,      6.0,  -0.4660,  30.2540,2,-999.0000,9,-999.0000,    396.4,2,    405.6,2,     8.16,2,     0.01,2,     0.04,2,     0.80,2,0.012000002,2,   -999.0,9,   -999.0,      -999,9, -999.000, -999.000,9,-999.0000,9,  -999.00,  -999.00,9,      2.2,2, 19.9069996,2,  2.1500001,2,     0.96,2,     0.08,2,   200000,2, 88,   3884,  -0.4661
  32L919930718,    48,  1,      7,2,19930802, 80.7000,  -7.8640,  322,      9.0,  -0.3720,  30.2620,2,-999.0000,9,-999.0000,    397.7,2,    408.4,2,     8.00,2,     0.06,2,     0.03,2,     0.80,2,0.002000004,2,   -999.0,9,   -999.0,      -999,9, -999.000, -999.000,9,-999.0000,9,  -999.00,  -999.00,9,      2.5,2, 30.1240006,2, 2.38499999,2,     1.12,2,     0.17,2,   102000,2, 88,   3883,  -0.3722
  32L919930718,    48,  1,      6,2,19930802, 80.7000,  -7.8640,  322,     15.0,  -1.2610,  30.8070,2,-999.0000,9,-999.0000,    396.6,2,    408.6,2,     7.29,2,     0.32,2,     0.02,2,     0.85,2,      0.022,2,   -999.0,9,   -999.0,      -999,9, -999.000, -999.000,9,-999.0000,9,  -999.00,  -999.00,9,      2.3,2, 39.6870003,2, 4.45599985,2,     1.82,2,     0.10,2,     -999,9, 88,   3882,  -1.2613
  32L919930718,    48,  1,      5,2,19930802, 80.7000,  -7.8640,  322,     23.0,  -1.3180,  31.4400,2,-999.0000,9,-999.0000,    387.4,2,    373.3,2,    11.41,2,     3.16,2,     0.08,2,     0.98,2,0.109999999,2,   -999.0,9,   -999.0,      -999,9, -999.000, -999.000,9,-999.0000,9,  -999.00,  -999.00,9,      1.2,2, 20.3040008,2, 1.68499994,2,     1.66,2,     0.08,2,    81100,2, 88,   3881,  -1.3184
  32L919930718,    48,  1,      4,2,19930802, 80.7000,  -7.8640,  322,     34.0,  -1.4470,  32.1600,2,-999.0000,9,-999.0000,    361.6,2,    350.9,2,    13.04,2,     5.71,2,     0.09,2,     1.00,2,0.080000006,2,   -999.0,9,   -999.0,      -999,9, -999.000, -999.000,9,-999.0000,9,  -999.00,  -999.00,9,      0.1,2, 8.63899994,2,0.246999994,2,     0.19,2,     0.09,2,    58700,2, 88,   3880,  -1.4476
  32L919930718,    48,  1,      3,2,19930802, 80.7000,  -7.8640,  322,     50.0,  -1.4520,  32.7500,2,-999.0000,9,-999.0000,    347.8,2,    345.4,2,    13.26,2,     6.34,2,     0.10,2,     1.00,2,0.041000001,2,   -999.0,9,   -999.0,      -999,9, -999.000, -999.000,9,-999.0000,9,  -999.00,  -999.00,9,   -999.0,9, 6.24700022,2,0.064999998,2,     0.12,2,     0.10,2,    55300,2, 88,   3879,  -1.4530
  32L919930718,    48,  1,      2,2,19930802, 80.7000,  -7.8640,  322,     61.0,  -1.1070,  33.5170,2,-999.0000,9,-999.0000,    329.2,2,    328.5,2,    12.78,2,     8.08,2,     0.05,2,     0.99,2,0.012000002,2,   -999.0,9,   -999.0,      -999,9, -999.000, -999.000,9,-999.0000,9,  -999.00,  -999.00,9,   -999.0,9, 5.38000011,2,0.052999999,2,     0.07,2,     0.02,2,    67000,2, 88,   3878,  -1.1085
  32L919930718,    48,  1,      1,2,19930802, 80.7000,  -7.8640,  322,     70.0,  -1.0740,  33.5550,2,-999.0000,9,-999.0000,    327.7,2,    323.0,2,    12.13,2,     8.58,2,     0.05,2,     0.96,2,      0.022,2,   -999.0,9,   -999.0,      -999,9, -999.000, -999.000,9,-999.0000,9,  -999.00,  -999.00,9,   -999.0,9, 4.80200005,2,0.150999993,2,     0.06,2,     0.05,2,    55900,2, 88,   3877,  -1.0757
  32L919930718,    48,  1,     12,2,19930802, 80.7000,  -7.8640,  322,     80.0,  -1.0620,  33.5750,2,  33.6860,2,-999.0000,    328.9,2,    322.2,2,  -999.00,9,  -999.00,9,  -999.00,9,  -999.00,9,       -999,9,   -999.0,9,   -999.0,      -999,9, -999.000, -999.000,9,-999.0000,9,  -999.00,  -999.00,9,   -999.0,9,  5.1329999,2,       -999,9,     0.02,2,     0.03,2,    55500,2, 88,   3876,  -1.0640
  32L919930718,    48,  1,     11,2,19930802, 80.7000,  -7.8640,  322,     85.0,  -1.0560,  33.5890,2,-999.0000,9,-999.0000,    331.3,2,    322.5,2,    12.24,2,     8.59,2,     0.04,2,     0.97,2,0.012000002,2,   -999.0,9,   -999.0,      -999,9, -999.000, -999.000,9,-999.0000,9,  -999.00,  -999.00,9,   -999.0,9,       -999,9,       -999,9,     0.05,2,     0.05,2,    60900,2, 88,   3875,  -1.0581