BOTTLE,20090115PRINUNIVRMK
EXPOCODE,STNNBR,CASTNO,BTLNBR,BTLNBR_FLAG_W,DATE,LATITUDE,LONGITUDE,DEPTH,CTDPRS,CTDTMP,CTDSAL,CTDSAL_FLAG_W,SALNTY,SALNTY_FLAG_W,SOMSAL,CTDOXY,CTDOXY_FLAG_W,OXYGEN,OXYGEN_FLAG_W,SILCAT,SILCAT_FLAG_W,NITRAT,NITRAT_FLAG_W,NITRIT,NITRIT_FLAG_W,PHSPHT,PHSPHT_FLAG_W,AMMONI,AMMONI_FLAG_W,TCARBN,TCARBN_FLAG_W,FCO2,FCO2_TMP,FCO2_FLAG_W,TRITUM,TRITER,TRITUM_FLAG_W,HELIUM,HELIUM_FLAG_W,DELHE3,DELHER,DELHE3_FLAG_W,DELC14,DELC14_FLAG_W,POC,POC_FLAG_W,PON,PON_FLAG_W,CHLORA,CHLORA_FLAG_W,PHAEO,PHAEO_FLAG_W,BACT,BACT_FLAG_W,CTDNO,BNLID,THETA
,,,,,,,,METERS,DBARS,ITS-90,PSS-78,,PSS-78,,PSS-78,UMOL/KG,,UMOL/KG,,UMOL/KG,,UMOL/KG,,UMOL/KG,,UMOL/KG,,UMOL/KG,,UMOL/KG,,UATM,DEGC,,TU,TU,,NMOL/KG,,PERCNT,PERCNT,,O/OO,,ug/kg,,ug/kg,,UG/L,,UG/L,,CELLS/ML,,,,DEGC
  32L919930718,    51,  1,     10,2,19930802, 80.7620,  -6.6850,  964,      2.0,  -0.7360,  29.5280,2,-999.0000,9,  29.9980,    378.5,2,    384.5,2,    10.66,2,     0.97,2,     0.03,2,     0.77,2,     -0.028,2,   1967.0,2,    585.2,17.1000004,2,    8.840,    0.133,2,-999.0000,9,  -999.00,  -999.00,9,   -999.0,9, 10.6459999,2, 1.56099999,2,     0.49,2,     0.11,2,     -999,9, 93,   3946,  -0.7360
  32L919930718,    51,  1,      9,2,19930802, 80.7620,  -6.6850,  964,     15.0,  -1.5830,  31.0810,2,-999.0000,9,  31.3680,    372.1,2,    372.8,2,    13.59,2,     3.33,2,     0.07,2,     0.94,2,0.060000002,2,   2067.8,2,    730.5,17.1000004,2, -999.000, -999.000,9,-999.0000,9,  -999.00,  -999.00,9,   -999.0,9, 5.80800009,2,0.630999982,2,     0.23,2,     0.19,2,     -999,9, 93,   3945,  -1.5832
  32L919930718,    51,  1,      8,2,19930802, 80.7620,  -6.6850,  964,     35.0,  -1.6160,  32.4700,2,-999.0000,9,  32.4680,    346.4,2,    344.9,2,    16.12,2,     6.39,2,     0.07,2,     1.01,2,0.049999982,2,   2132.5,2,    855.1,17.1000004,2, -999.000, -999.000,9,-999.0000,9,  -999.00,  -999.00,9,   -999.0,9, 6.64699984,2,0.513000011,2,     0.11,2,     0.05,2,     -999,9, 93,   3944,  -1.6166
  32L919930718,    51,  1,      7,2,19930802, 80.7620,  -6.6850,  964,     60.0,  -1.7320,  33.2170,2,-999.0000,9,  33.3990,    345.3,2,    346.9,2,    10.01,2,     6.30,2,     0.03,2,     0.75,2,0.010999978,2,   2158.4,2,    815.0,17.1000004,2,    7.700,    0.115,2,-999.0000,9,  -999.00,  -999.00,9,   -999.0,9,  7.2670002,2,0.061000001,2,     0.04,2,     0.03,2,     -999,9, 93,   3943,  -1.7331
  32L919930718,    51,  1,      6,2,19930802, 80.7620,  -6.6850,  964,    100.0,  -1.7770,  33.9260,2,-999.0000,9,  33.9120,    342.5,2,    342.0,2,     6.50,2,     6.92,2,     0.02,2,     0.63,2,0.010999978,2,   2153.9,2,    749.6,17.1000004,2, -999.000, -999.000,9,-999.0000,9,  -999.00,  -999.00,9,   -999.0,9, 8.52700043,2,0.061999999,2,     0.02,2,     0.02,2,     -999,9, 93,   3942,  -1.7789
  32L919930718,    51,  1,      5,2,19930802, 80.7620,  -6.6850,  964,    150.0,  -1.1440,  34.2480,2,-999.0000,9,  34.2300,    307.2,2,    303.6,2,     8.51,2,    10.11,2,     0.00,2,     0.81,2,0.060000002,2,   2145.3,2,    766.8,17.1000004,2, -999.000, -999.000,9,-999.0000,9,  -999.00,  -999.00,9,   -999.0,9, 3.63599992,2,0.101999998,2,     0.01,2,     0.02,2,     -999,9, 93,   3941,  -1.1479
  32L919930718,    51,  1,      4,2,19930802, 80.7620,  -6.6850,  964,    200.0,  -0.2410,  34.5490,2,-999.0000,9,  34.5510,    299.1,2,    296.0,2,     8.66,2,    11.35,2,     0.03,2,     0.86,2,0.030000001,2,   2146.0,2,    721.4,17.1000004,2, -999.000, -999.000,9,-999.0000,9,  -999.00,  -999.00,9,   -999.0,9, 4.93200016,2,       0.07,2,     0.01,2,     0.01,2,     -999,9, 93,   3940,  -0.2479
  32L919930718,    51,  1,      3,2,19930802, 80.7620,  -6.6850,  964,    300.0,   0.9060,  34.8450,2,-999.0000,9,  34.8170,    295.9,2,    296.4,2,     8.18,2,    12.61,2,     0.02,2,     0.91,2,0.039999992,2,   2142.7,2,    677.0,17.1000004,2, -999.000, -999.000,9,-999.0000,9,  -999.00,  -999.00,9,   -999.0,9,      1.704,2,0.118000001,2,  -999.00,9,  -999.00,9,     -999,9, 93,   3939,   0.8922
  32L919930718,    51,  1,      2,2,19930802, 80.7620,  -6.6850,  964,    400.0,   0.9700,  34.8880,2,-999.0000,9,  34.8350,    299.3,2,    300.4,2,     7.46,2,    12.62,2,     0.04,2,     0.91,2,0.030000001,2,   2142.6,2,    670.6,17.1000004,2,    2.900,    0.044,2,-999.0000,9,  -999.00,  -999.00,9,   -999.0,9,       -999,9,0.075999998,2,  -999.00,9,  -999.00,9,     -999,9, 93,   3938,   0.9511
  32L919930718,    51,  1,      1,2,19930802, 80.7620,  -6.6850,  964,    500.0,   0.6660,  34.8870,2,-999.0000,9,  34.8520,    298.8,2,    298.9,2,     7.78,2,    12.89,2,     0.03,2,     0.92,2,0.049999982,2,   2142.7,2,    672.5,17.1000004,2, -999.000, -999.000,9,-999.0000,9,  -999.00,  -999.00,9,   -999.0,9, 1.31599998,2,      0.044,2,  -999.00,9,  -999.00,9,     -999,9, 93,   3937,   0.6432
  32L919930718,    51,  1,     12,2,19930802, 80.7620,  -6.6850,  964,    650.0,   0.3040,  34.8840,2,  34.8940,2,  34.8520,    300.0,2,    298.5,2,     8.30,2,    12.93,2,     0.01,2,     0.94,2,0.078999996,2,   2144.1,2,    687.8,17.1000004,2,    1.250,    0.019,2,   1.8200,2,     5.50,     0.20,2,   -999.0,9, 2.18899989,2,      0.044,2,  -999.00,9,  -999.00,9,     -999,9, 93,   3936,   0.2754
  32L919930718,    51,  1,     11,2,19930802, 80.7620,  -6.6850,  964,    796.0,   0.1150,  34.8890,2,-999.0000,9,  34.8580,    303.1,2,    298.0,2,     8.68,2,    13.32,2,     0.03,2,     0.95,2,0.078999996,2,   2144.7,2,    700.9,17.1000004,2, -999.000, -999.000,9,-999.0000,9,  -999.00,  -999.00,9,   -999.0,9,0.903999984,2,0.028000001,2,  -999.00,9,  -999.00,9,     -999,9, 93,   3935,   0.0802
  32L919930718,    52,  1,     10,2,19930802, 80.8090,  -6.3770, 1529,    175.0,   1.9690,  34.8110,2,  34.8120,2,  34.7310,    306.1,2,    304.4,2,     6.36,2,    11.27,2,     0.04,2,     0.82,2,0.018000007,2,   2131.6,2,    648.8,14.3000002,2, -999.000, -999.000,9,-999.0000,9,  -999.00,  -999.00,9,   -999.0,9,       -999,9,       -999,9,  -999.00,9,  -999.00,9,     -999,9, 94,   3958,   1.9596
  32L919930718,    52,  1,      9,2,19930802, 80.8090,  -6.3770, 1529,    200.0,   2.7000,  34.9270,2,  34.9810,2,  34.8840,    305.3,2,    305.5,2,     5.87,2,    11.34,2,     0.01,2,     0.83,2,0.009000003,2,   2129.3,2,    622.6,14.3000002,2,    2.580,    0.039,2,-999.0000,9,  -999.00,  -999.00,9,   -999.0,9,       -999,9,       -999,9,  -999.00,9,  -999.00,9,     -999,9, 94,   3957,   2.6880
  32L919930718,    52,  1,      8,2,19930802, 80.8090,  -6.3770, 1529,    225.0,   2.8370,  34.9600,2,  34.9700,2,  34.9240,    305.0,2,    306.6,2,     5.87,2,    11.65,2,     0.00,2,     0.83,2,0.009000003,2,   2130.4,2,    623.4,14.3000002,2, -999.000, -999.000,9,-999.0000,9,  -999.00,  -999.00,9,   -999.0,9,       -999,9,       -999,9,  -999.00,9,  -999.00,9,     -999,9, 94,   3956,   2.8232
  32L919930718,    52,  1,      7,2,19930802, 80.8090,  -6.3770, 1529,    292.0,   2.5430,  34.9600,2,  34.9800,2,  34.9150,    303.6,2,    307.2,2,     6.15,2,    11.93,2,     0.02,2,     0.84,2,0.018000007,2,   2133.3,2,    634.9,14.3000002,2,    2.080,    0.031,2,-999.0000,9,  -999.00,  -999.00,9,   -999.0,9,       -999,9,       -999,9,  -999.00,9,  -999.00,9,     -999,9, 94,   3955,   2.5256
  32L919930718,    52,  1,      6,2,19930802, 80.8090,  -6.3770, 1529,    318.0,   1.8780,  34.9070,2,-999.0000,9,-999.0000,    299.5,2,   -999.0,9,  -999.00,9,  -999.00,9,  -999.00,9,  -999.00,9,       -999,9,   -999.0,9,   -999.0,      -999,9, -999.000, -999.000,9,-999.0000,9,  -999.00,  -999.00,9,   -999.0,9,       -999,9,       -999,9,  -999.00,9,  -999.00,9,     -999,9, 94,   3954,   1.8608
  32L919930718,    52,  1,      5,2,19930802, 80.8090,  -6.3770, 1529,    351.0,   1.7980,  34.9150,2,  34.9230,2,  34.8710,    298.2,2,    302.8,2,     6.92,2,    12.22,2,     0.02,2,     0.86,2,-0.00100002,2,   2138.4,2,    664.4,14.3000002,2, -999.000, -999.000,9,-999.0000,9,  -999.00,  -999.00,9,   -999.0,9,       -999,9,       -999,9,  -999.00,9,  -999.00,9,     -999,9, 94,   3953,   1.7791
  32L919930718,    52,  1,      4,2,19930802, 80.8090,  -6.3770, 1529,    406.0,   1.0540,  34.8730,2,  34.8910,2,  34.8310,    295.0,2,    298.6,2,     7.41,2,    12.42,2,     0.01,2,     0.88,2,0.056999981,2,   2141.6,2,    683.5,14.3000002,2,    1.460,    0.022,2,   1.8340,2,     3.10,     0.20,2,   -999.0,9,       -999,9,       -999,9,  -999.00,9,  -999.00,9,     -999,9, 94,   3952,   1.0345
  32L919930718,    52,  1,      3,2,19930802, 80.8090,  -6.3770, 1529,    500.0,   0.5980,  34.8610,2,  34.8820,2,  34.7940,    289.9,2,    292.7,2,     8.35,2,    12.64,2,     0.01,2,     0.91,2,-0.00100002,2,   2142.3,2,    700.7,14.3000002,2, -999.000, -999.000,9,-999.0000,9,  -999.00,  -999.00,9,   -999.0,9,       -999,9,       -999,9,  -999.00,9,  -999.00,9,     -999,9, 94,   3951,   0.5754
  32L919930718,    52,  1,      2,2,19930802, 80.8090,  -6.3770, 1529,    600.0,   0.5490,  34.8840,2,  34.9080,2,  34.8310,    294.3,2,    298.4,2,     7.68,2,    12.44,2,     0.01,2,     0.90,2,     -0.021,2,   2142.9,2,    698.3,14.3000002,2,    1.520,    0.023,2,   1.7760,2,     1.00,     0.20,2,   -999.0,9,       -999,9,       -999,9,  -999.00,9,  -999.00,9,     -999,9, 94,   3950,   0.5216
  32L919930718,    52,  1,      1,2,19930802, 80.8090,  -6.3770, 1529,    800.0,   0.1390,  34.8890,2,  34.9530,2,  34.8390,    297.8,2,    300.5,2,     7.92,2,    12.51,2,     0.01,2,     0.92,2,0.018000007,2,   2144.8,2,    701.0,14.3000002,2,    0.950,    0.014,2,   1.7620,2,     5.90,     0.20,2,   -999.0,9,       -999,9,       -999,9,  -999.00,9,  -999.00,9,     -999,9, 94,   3949,   0.1037
  32L919930718,    52,  1,     12,2,19930802, 80.8090,  -6.3770, 1529,   1000.0,  -0.1420,  34.8990,2,  34.9680,2,  34.8440,    299.2,2,    300.8,2,     8.42,2,    12.48,2,     0.00,2,     0.94,2,     -0.021,2,   2147.7,2,    709.5,14.3000002,2,    1.200,    0.018,2,-999.0000,9,  -999.00,  -999.00,9,   -999.0,9,       -999,9,       -999,9,  -999.00,9,  -999.00,9,     -999,9, 94,   3948,  -0.1856
  32L919930718,    52,  1,     11,2,19930802, 80.8090,  -6.3770, 1529,   1202.0,  -0.3060,  34.9090,2,  34.9090,2,  34.8550,    301.7,2,    301.7,2,     9.06,2,    13.41,2,     0.01,2,     0.95,2,0.018000007,2,   2148.8,2,    849.4,14.3000002,2,    0.980,    0.015,2,   1.7800,2,     5.50,     0.20,2,   -999.0,9,       -999,9,       -999,9,  -999.00,9,  -999.00,9,     -999,9, 94,   3947,  -0.3588
  32L919930718,    52,  2,     11,2,19930802, 80.8090,  -6.3770, 1529,      2.0,   0.2920,  29.8770,2,-999.0000,9,  29.9150,    305.8,3,    394.7,2,     7.74,2,    -0.05,2,     0.03,2,     0.70,2,0.027999997,2,   1940.6,2,    527.4,17.8999996,2, -999.000, -999.000,9,-999.0000,9,  -999.00,  -999.00,9,   -999.0,9,       -999,9,       -999,9,  -999.00,9,  -999.00,9,     -999,9, 95,   3959,   0.2919
  32L919930718,    52,  2,     10,2,19930802, 80.8090,  -6.3770, 1529,     10.0,  -0.6900,  30.6730,2,  30.9320,2,  31.0100,    389.6,3,    402.3,2,     9.71,2,    -0.04,2,     0.03,2,     0.75,2,0.067000002,2,   2018.7,2,    599.0,17.8999996,2,    7.720,    0.116,2,   1.8020,2,     2.30,     0.20,2,   -999.0,9,     15.099,2, 2.36400008,2,     2.12,2,     0.19,2,     -999,9, 95,   3970,  -0.6902
  32L919930718,    52,  2,      9,2,19930802, 80.8090,  -6.3770, 1529,     20.0,  -1.3600,  31.5020,2,-999.0000,9,  31.9530,    398.6,3,    364.9,2,    14.31,2,     3.93,2,     0.06,2,     0.96,2,0.067000002,2,   2097.4,2,    786.0,17.8999996,2, -999.000, -999.000,9,-999.0000,9,  -999.00,  -999.00,9,   -999.0,9, 8.27099991,2, 15.8760004,2,     1.43,2,     0.18,2,     -999,9, 95,   3969,  -1.3603
  32L919930718,    52,  2,      8,2,19930802, 80.8090,  -6.3770, 1529,     35.0,  -1.5690,  32.6770,2,-999.0000,9,  32.9060,    382.2,3,    338.1,2,    14.89,2,     7.22,2,     0.06,2,     0.99,2,0.067000002,2,   2151.4,2,    905.3,17.8999996,3, -999.000, -999.000,9,-999.0000,9,  -999.00,  -999.00,9,   -999.0,9,  2.1400001,2,0.231000006,2,     0.57,2,     0.19,2,     -999,9, 95,   3968,  -1.5696
  32L919930718,    52,  2,      7,2,19930802, 80.8090,  -6.3770, 1529,     46.0,  -1.6670,  33.0730,2,  33.2450,2,  33.1690,    340.5,3,    342.6,2,    11.85,2,     6.65,2,     0.05,2,     0.85,2,0.056999981,2,   2155.8,2,    873.1,17.8999996,2,    6.080,    0.091,2,   1.7980,2,    -0.80,     0.20,2,   -999.0,9, 3.24300003,2,0.082000002,2,     0.04,2,     0.02,2,     -999,9, 95,   3967,  -1.6678
  32L919930718,    52,  2,      6,2,19930802, 80.8090,  -6.3770, 1529,     61.0,  -1.7290,  33.5380,2,-999.0000,9,  33.5790,    343.5,3,    297.5,3,     9.64,2,     6.99,2,     0.02,2,     0.75,2,0.076999992,2,   2159.2,2,    837.6,17.8999996,2, -999.000, -999.000,9,-999.0000,9,  -999.00,  -999.00,9,   -999.0,9, 2.73300004,2,0.115999997,2,     0.10,2,     0.04,2,     -999,9, 95,   3966,  -1.7301
  32L919930718,    52,  2,      5,2,19930802, 80.8090,  -6.3770, 1529,     76.0,  -1.6910,  33.7290,2,-999.0000,9,  33.8610,    346.2,3,    328.9,2,     8.48,2,     7.51,2,     0.00,2,     0.72,2,0.027999997,2,   2155.0,2,    815.7,17.8999996,2, -999.000, -999.000,9,-999.0000,9,  -999.00,  -999.00,9,   -999.0,9, 1.44099998,2,0.107000001,2,     0.01,2,     0.02,2,     -999,9, 95,   3965,  -1.6925
  32L919930718,    52,  2,      4,2,19930802, 80.8090,  -6.3770, 1529,    100.0,  -1.6440,  33.9890,2,-999.0000,9,  34.0280,    340.2,3,    306.1,2,     7.68,2,     8.29,2,     0.01,2,     0.72,2,0.048000008,2,   2148.4,2,    786.7,17.8999996,2,   11.880,    0.178,2,-999.0000,9,  -999.00,  -999.00,9,   -999.0,9,0.735000014,2,0.123999998,2,     0.02,2,     0.01,2,     -999,9, 95,   3964,  -1.6461
  32L919930718,    52,  2,      3,2,19930802, 80.8090,  -6.3770, 1529,    151.0,  -0.4690,  34.4570,2,-999.0000,9,  34.3930,    336.7,3,    337.2,2,     8.54,2,    11.01,2,     0.01,2,     0.83,2,0.037999988,2,   2143.5,2,    760.9,17.8999996,2, -999.000, -999.000,9,-999.0000,9,  -999.00,  -999.00,9,   -999.0,9,0.432999998,2,0.098999999,2,     0.02,2,     0.02,2,     -999,9, 95,   3963,  -0.4739
  32L919930718,    52,  2,      2,2,19930802, 80.8090,  -6.3770, 1529,    201.0,   2.6330,  34.9150,2,  34.9220,2,  34.8620,    305.2,3,    302.4,2,     5.87,2,    11.63,2,     0.04,2,     0.83,2,0.105999991,2,   2129.6,2,    623.7,17.8999996,2,    2.140,    0.032,2,   1.7980,2,     0.00,     0.20,2,   -999.0,9,0.934000015,2,      0.162,2,     0.02,2,     0.01,2,     -999,9, 95,   3962,   2.6211
  32L919930718,    52,  2,      1,2,19930802, 80.8090,  -6.3770, 1529,    220.0,   2.8040,  34.9440,2,-999.0000,9,  34.8830,    306.0,3,    306.6,2,     5.87,2,    11.52,2,     0.03,2,     0.83,2,0.018000007,2,   2129.5,2,    626.0,17.8999996,2, -999.000, -999.000,9,-999.0000,9,  -999.00,  -999.00,9,   -999.0,9,0.783999979,2,0.173999995,2,     0.01,2,     0.01,2,     -999,9, 95,   3961,   2.7906
  32L919930718,    52,  2,     12,2,19930802, 80.8090,  -6.3770, 1529,    251.0,   2.7520,  34.9690,2,-999.0000,9,  34.9030,    304.7,2,    307.7,2,     5.93,2,    11.75,2,     0.02,2,     0.84,2,0.009000003,2,   2131.7,2,    626.8,17.8999996,2, -999.000, -999.000,9,-999.0000,9,  -999.00,  -999.00,9,   -999.0,9,0.933000028,2,0.148000002,2,  -999.00,9,  -999.00,9,     -999,9, 95,   3960,   2.7367
  32L919930718,    53,  1,     10,2,19930803, 80.8330,  -6.0170, 1812,      3.0,   0.1130,  30.2020,2,  30.4820,2,  30.4820,    390.6,2,    404.7,2,     7.73,2,     0.00,2,     0.02,2,     0.64,2,-0.00100002,2,   1973.0,2,    548.4,18.2000008,2,    7.540,    0.113,2,   1.8070,2,    -1.80,     0.20,2,   -999.0,9,       -999,9,       -999,9,  -999.00,9,  -999.00,9,     -999,9, 96,   3982,   0.1129
  32L919930718,    53,  1,      9,2,19930803, 80.8330,  -6.0170, 1812,    499.0,   0.5380,  34.8550,2,  34.8580,2,  34.8150,    283.1,2,    292.1,2,     8.43,2,    12.78,2,     0.02,2,     0.86,2,     -0.021,2,   2136.5,2,    668.3,        17,2, -999.000, -999.000,9,-999.0000,9,  -999.00,  -999.00,9,   -999.0,9,       -999,9,       -999,9,  -999.00,9,  -999.00,9,     -999,9, 96,   3981,   0.5158
  32L919930718,    53,  1,      8,2,19930803, 80.8330,  -6.0170, 1812,    626.0,   0.4890,  34.8770,2,  34.8790,2,  34.8040,    285.5,2,    294.7,2,     8.09,2,    12.69,2,     0.01,2,     0.87,2,-0.01100001,2,   2142.4,2,    662.0,        17,2,    2.510,    0.038,2,   1.7490,2,     5.40,     0.20,2,   -999.0,9,       -999,9,       -999,9,  -999.00,9,  -999.00,9,     -999,9, 96,   3980,   0.4606
  32L919930718,    53,  1,      7,2,19930803, 80.8330,  -6.0170, 1812,    801.0,   0.1920,  34.8890,2,  34.8910,2,  34.8300,    291.6,2,    301.3,2,     7.61,2,    12.45,2,     0.03,2,     0.86,2,0.009000003,2,   2145.9,2,    670.1,        17,2, -999.000, -999.000,9,-999.0000,9,  -999.00,  -999.00,9,   -999.0,9, 20.8799992,4, 3.08200002,4,     1.40,4,     0.36,3,     -999,9, 96,   3979,   0.1564
  32L919930718,    53,  1,      6,2,19930803, 80.8330,  -6.0170, 1812,   1001.0,  -0.1140,  34.8980,2,  34.9380,2,  34.8510,    292.3,2,    305.6,2,     8.07,2,    12.77,2,     0.03,2,     0.89,2,0.027999997,2,   2146.6,2,    730.5,18.2000008,2,    1.190,    0.018,2,   1.7620,2,     7.90,     0.20,2,   -999.0,9,       -999,9,       -999,9,  -999.00,9,  -999.00,9,     -999,9, 96,   3978,  -0.1578
  32L919930718,    53,  1,      5,2,19930803, 80.8330,  -6.0170, 1812,   1151.0,  -0.2290,  34.9040,2,  34.9050,2,  34.8370,    291.7,2,    301.4,2,     8.61,2,    12.87,2,     0.02,2,     0.91,2,0.018000007,2,   2148.2,2,    689.7,        17,2,    2.710,    0.041,2,-999.0000,9,  -999.00,  -999.00,9,   -999.0,9,       -999,9,       -999,9,  -999.00,9,  -999.00,9,     -999,9, 96,   3977,  -0.2798
  32L919930718,    53,  1,      4,2,19930803, 80.8330,  -6.0170, 1812,   1301.0,  -0.3190,  34.9070,2,  34.9150,2,  34.8620,    293.5,2,    302.6,2,     8.70,2,    12.82,2,     0.01,2,     0.91,2,0.009000003,2,   2150.5,2,    690.3,        17,2,    1.520,    0.023,2,   1.8160,2,     5.90,     0.20,2,   -999.0,9,       -999,9,       -999,9,  -999.00,9,  -999.00,9,     -999,9, 96,   3976,  -0.3772
  32L919930718,    53,  1,      3,2,19930803, 80.8330,  -6.0170, 1812,   1401.0,  -0.3720,  34.9110,2,  34.9400,2,  34.8480,    293.4,2,    303.6,2,     8.89,2,    13.10,2,     0.02,2,     0.92,2,0.037999988,2,   2151.7,2,    691.8,        17,2,    1.780,    0.027,2,   1.8070,2,     1.90,     0.20,2,   -999.0,9,       -999,9,       -999,9,  -999.00,9,  -999.00,9,     -999,9, 96,   3975,  -0.4354
  32L919930718,    53,  1,      2,2,19930803, 80.8330,  -6.0170, 1812,   1500.0,  -0.3860,  34.9120,2,  34.9510,2,  34.8580,    293.8,2,    302.9,2,     9.02,2,    13.15,2,     0.02,2,     0.93,2,0.067000002,2,   2152.2,2,    741.0,18.2000008,2,    1.710,    0.026,2,   1.8070,2,    -1.90,     0.20,2,   -999.0,9,       -999,9,       -999,9,  -999.00,9,  -999.00,9,     -999,9, 96,   3974,  -0.4550
  32L919930718,    53,  1,      1,2,19930803, 80.8330,  -6.0170, 1812,   1600.0,  -0.4240,  34.9150,2,  34.9250,2,  34.8790,    293.3,2,    301.8,2,     9.38,2,    13.44,2,     0.02,2,     0.94,2,0.067000002,2,   2152.2,2,    693.0,        17,2,    1.510,    0.023,2,   1.8380,2,     5.20,     0.20,2,   -999.0,9,       -999,9,       -999,9,  -999.00,9,  -999.00,9,     -999,9, 96,   3973,  -0.4984
  32L919930718,    53,  1,     12,2,19930803, 80.8330,  -6.0170, 1812,   1700.0,  -0.4350,  34.9170,2,  34.9140,2,  34.8830,    294.5,2,    302.6,2,     9.47,2,    13.40,2,     0.00,2,     0.95,2,0.105999991,2,   2152.1,2,    691.9,        17,2,    1.300,    0.019,2,   1.7980,2,     2.10,     0.20,2,   -999.0,9,       -999,9,       -999,9,  -999.00,9,  -999.00,9,     -999,9, 96,   3972,  -0.5154
  32L919930718,    53,  1,     11,2,19930803, 80.8330,  -6.0170, 1812,   1802.0,  -0.5500,  34.9240,2,  34.9540,2,  34.7190,    293.1,2,    299.2,2,    10.74,2,    13.94,2,     0.02,2,     0.99,2, 0.13499999,2,   2143.0,2,    740.4,18.2000008,2,    0.450,    0.010,2,   1.7980,2,     5.10,     0.20,2,   -999.0,9,       -999,9,       -999,9,  -999.00,9,  -999.00,9,     -999,9, 96,   3971,  -0.6353