BOTTLE,20090115PRINUNIVRMK
EXPOCODE,STNNBR,CASTNO,BTLNBR,BTLNBR_FLAG_W,DATE,LATITUDE,LONGITUDE,DEPTH,CTDPRS,CTDTMP,CTDSAL,CTDSAL_FLAG_W,SALNTY,SALNTY_FLAG_W,SOMSAL,CTDOXY,CTDOXY_FLAG_W,OXYGEN,OXYGEN_FLAG_W,SILCAT,SILCAT_FLAG_W,NITRAT,NITRAT_FLAG_W,NITRIT,NITRIT_FLAG_W,PHSPHT,PHSPHT_FLAG_W,AMMONI,AMMONI_FLAG_W,TCARBN,TCARBN_FLAG_W,FCO2,FCO2_TMP,FCO2_FLAG_W,TRITUM,TRITER,TRITUM_FLAG_W,HELIUM,HELIUM_FLAG_W,DELHE3,DELHER,DELHE3_FLAG_W,DELC14,DELC14_FLAG_W,POC,POC_FLAG_W,PON,PON_FLAG_W,CHLORA,CHLORA_FLAG_W,PHAEO,PHAEO_FLAG_W,BACT,BACT_FLAG_W,CTDNO,BNLID,THETA
,,,,,,,,METERS,DBARS,ITS-90,PSS-78,,PSS-78,,PSS-78,UMOL/KG,,UMOL/KG,,UMOL/KG,,UMOL/KG,,UMOL/KG,,UMOL/KG,,UMOL/KG,,UMOL/KG,,UATM,DEGC,,TU,TU,,NMOL/KG,,PERCNT,PERCNT,,O/OO,,ug/kg,,ug/kg,,UG/L,,UG/L,,CELLS/ML,,,,DEGC
  32L919930718,    57,  2,     10,2,19930804, 79.9830,  -4.7340, 1506,      1.0,  -0.5590,  27.9620,2,-999.0000,9,  26.1330,    401.1,2,    377.9,2,  -999.00,9,  -999.00,9,  -999.00,9,  -999.00,9,       -999,9,   1692.2,2,    434.4,17.2999992,2, -999.000, -999.000,9,-999.0000,9,  -999.00,  -999.00,9,      0.4,2, 12.2749996,2, 1.70899999,2,     0.14,2,     0.06,2,   143000,2,107,   4090,  -0.5590
  32L919930718,    57,  2,      9,2,19930804, 79.9830,  -4.7340, 1506,      3.0,  -1.1260,  29.6290,2,-999.0000,9,-999.0000,    406.7,2,    411.3,2,  -999.00,9,  -999.00,9,  -999.00,9,  -999.00,9,       -999,9,   -999.0,9,   -999.0,      -999,9, -999.000, -999.000,9,-999.0000,9,  -999.00,  -999.00,9,      2.3,2, 20.8400002,2, 2.50200009,2,     7.20,2,     0.41,2,   119000,2,107,   4089,  -1.1260
  32L919930718,    57,  2,      8,2,19930804, 79.9830,  -4.7340, 1506,      5.0,  -1.1580,  30.1000,2,-999.0000,9,-999.0000,    405.1,2,    409.1,2,  -999.00,9,  -999.00,9,  -999.00,9,  -999.00,9,       -999,9,   -999.0,9,   -999.0,      -999,9, -999.000, -999.000,9,-999.0000,9,  -999.00,  -999.00,9,      2.2,2, 20.1480007,2, 2.69000006,2,     0.69,2,     0.08,2,   143000,2,107,   4088,  -1.1581
  32L919930718,    57,  2,      7,2,19930804, 79.9830,  -4.7340, 1506,      8.0,  -0.9860,  30.5300,2,-999.0000,9,-999.0000,    401.1,2,    405.3,2,  -999.00,9,  -999.00,9,  -999.00,9,  -999.00,9,       -999,9,   -999.0,9,   -999.0,      -999,9, -999.000, -999.000,9,-999.0000,9,  -999.00,  -999.00,9,      2.8,2, 15.3269997,2, 2.39599991,2,     1.04,2,     0.24,2,   167000,2,107,   4087,  -0.9862
  32L919930718,    57,  2,      4,2,19930804, 79.9830,  -4.7340, 1506,     13.0,  -1.3300,  31.0320,2,-999.0000,9,  31.3740,    397.1,2,    399.2,2,  -999.00,9,  -999.00,9,  -999.00,9,  -999.00,9,       -999,9,   2042.6,2,   -999.0,      -999,9, -999.000, -999.000,9,-999.0000,9,  -999.00,  -999.00,9,      1.5,2, 11.8850002,2, 1.91900003,2,     1.07,2,     0.22,2,   173000,2,107,   4084,  -1.3302
  32L919930718,    57,  2,      5,2,19930804, 79.9830,  -4.7340, 1506,     13.0,  -1.3370,  31.0310,2,-999.0000,9,-999.0000,    395.4,2,   -999.0,9,  -999.00,9,  -999.00,9,  -999.00,9,  -999.00,9,       -999,9,   -999.0,9,   -999.0,      -999,9, -999.000, -999.000,9,-999.0000,9,  -999.00,  -999.00,9,   -999.0,9,       -999,9,       -999,9,  -999.00,9,  -999.00,9,     -999,9,107,   4085,  -1.3372
  32L919930718,    57,  2,      6,2,19930804, 79.9830,  -4.7340, 1506,     13.0,  -1.3460,  31.0390,2,-999.0000,9,-999.0000,    393.7,2,   -999.0,9,  -999.00,9,  -999.00,9,  -999.00,9,  -999.00,9,       -999,9,   -999.0,9,   -999.0,      -999,9, -999.000, -999.000,9,-999.0000,9,  -999.00,  -999.00,9,   -999.0,9,       -999,9,       -999,9,  -999.00,9,  -999.00,9,     -999,9,107,   4086,  -1.3462
  32L919930718,    57,  2,      3,2,19930804, 79.9830,  -4.7340, 1506,     20.0,  -1.4500,  31.6960,2,-999.0000,9,  31.9090,    376.2,2,    373.4,2,  -999.00,9,  -999.00,9,  -999.00,9,  -999.00,9,       -999,9,   2090.8,2,    743.4,17.2999992,2, -999.000, -999.000,9,-999.0000,9,  -999.00,  -999.00,9,      0.2,2, 6.51800013,2, 1.04200005,2,     0.62,2,     0.22,2,   370000,2,107,   4083,  -1.4503
  32L919930718,    57,  2,      2,2,19930804, 79.9830,  -4.7340, 1506,     30.0,  -1.6510,  32.4260,2,-999.0000,9,-999.0000,    363.3,2,    359.4,2,  -999.00,9,  -999.00,9,  -999.00,9,  -999.00,9,       -999,9,   -999.0,9,   -999.0,      -999,9, -999.000, -999.000,9,-999.0000,9,  -999.00,  -999.00,9,      0.0,2, 3.72399998,2,0.388000011,2,     0.19,2,     0.10,2,    52600,2,107,   4082,  -1.6515
  32L919930718,    57,  2,      1,2,19930804, 79.9830,  -4.7340, 1506,     80.0,  -1.4480,  33.9380,2,-999.0000,9,  33.8960,    323.7,2,    320.8,2,  -999.00,9,  -999.00,9,  -999.00,9,  -999.00,9,       -999,9,   2149.7,2,    798.4,17.2999992,2,    4.830,    0.072,2,   1.7760,2,     7.20,     0.20,2,   -999.0,9, 2.43499994,2,0.173999995,2,     0.02,2,     0.03,2,    18400,2,107,   4081,  -1.4498
  32L919930718,    57,  2,     12,2,19930804, 79.9830,  -4.7340, 1506,    125.0,  -0.5780,  34.3640,2,  34.3630,2,  34.3220,    304.6,2,    299.1,2,  -999.00,9,  -999.00,9,  -999.00,9,  -999.00,9,       -999,9,   2143.6,2,    760.2,17.2999992,2, -999.000, -999.000,9,-999.0000,9,  -999.00,  -999.00,9,   -999.0,9, 1.55400002,2,0.150999993,2,     0.01,2,     0.03,2,    19300,2,107,   4080,  -0.5819
  32L919930718,    57,  2,     11,2,19930804, 79.9830,  -4.7340, 1506,    200.0,   0.3350,  34.7180,2,-999.0000,9,  34.6600,    296.3,2,    289.5,2,  -999.00,9,  -999.00,9,  -999.00,9,  -999.00,9,       -999,9,   2148.1,2,    689.5,17.2999992,2,    3.830,    0.057,2,-999.0000,9,  -999.00,  -999.00,9,   -999.0,9,       -999,9,0.071999997,2,     0.01,2,     0.03,2,    15900,2,107,   4079,   0.3270
  32L919930718,    58,  1,     10,2,19930804, 79.9460,  -5.5150,  712,      2.0,   0.5940,  29.0870,2,  29.1470,2,  29.4200,    383.0,2,    390.9,2,     4.73,2,     0.18,2,     0.00,2,     0.63,2,     -0.007,2,   1901.1,2,    489.5,18.1000004,2, -999.000, -999.000,9,-999.0000,9,  -999.00,  -999.00,9,   -999.0,9,  9.1619997,2, 1.21300006,2,     0.13,2,     0.02,2,     -999,9,108,   4102,   0.5939
  32L919930718,    58,  1,      9,2,19930804, 79.9460,  -5.5150,  712,      5.0,   0.5070,  30.1280,2,-999.0000,9,  30.3620,    393.7,2,    417.4,2,     3.54,2,     0.28,2,     0.00,2,     0.67,2,0.031999998,2,   1949.2,2,    489.9,18.1000004,2, -999.000, -999.000,9,-999.0000,9,  -999.00,  -999.00,9,   -999.0,9, 21.9179993,2, 1.79200006,2,     0.40,2,     0.04,2,     -999,9,108,   4101,   0.5068
  32L919930718,    58,  1,      8,2,19930804, 79.9460,  -5.5150,  712,     35.0,  -1.4750,  32.4190,2,-999.0000,9,  32.4440,    351.8,2,    353.2,2,    12.71,2,     5.43,2,     0.06,2,     0.98,2,0.090000004,2,   2119.0,2,    817.9,18.1000004,2, -999.000, -999.000,9,-999.0000,9,  -999.00,  -999.00,9,   -999.0,9, 5.46299982,2,0.421999991,2,     0.19,2,     0.07,2,     -999,9,108,   4100,  -1.4756
  32L919930718,    58,  1,      7,2,19930804, 79.9460,  -5.5150,  712,     60.0,  -1.7180,  33.3490,2,-999.0000,9,  33.4750,    340.8,2,    340.4,2,    10.74,2,     7.19,2,     0.03,2,     0.77,2,      0.022,2,   2161.9,2,    859.7,18.1000004,2, -999.000, -999.000,9,-999.0000,9,  -999.00,  -999.00,9,   -999.0,9, 2.26699996,2,0.261999995,2,     0.04,2,     0.03,2,     -999,9,108,   4099,  -1.7191
  32L919930718,    58,  1,      6,2,19930804, 79.9460,  -5.5150,  712,    100.0,  -1.8000,  33.9290,2,-999.0000,9,  33.9210,    344.5,2,    341.8,2,     6.38,2,     6.89,2,    -0.01,2,     0.62,2,0.051000003,2,   2157.2,2,    781.0,18.1000004,2, -999.000, -999.000,9,-999.0000,9,  -999.00,  -999.00,9,   -999.0,9, 2.92400002,2,0.119999997,2,     0.02,2,     0.01,2,     -999,9,108,   4098,  -1.8019
  32L919930718,    58,  1,      5,2,19930804, 79.9460,  -5.5150,  712,    150.0,  -1.2070,  34.2340,2,-999.0000,9,  34.2090,    312.3,2,    311.3,2,     7.14,2,     9.14,2,    -0.01,2,     0.74,2,0.051000003,2,   2142.0,2,    773.2,18.1000004,2, -999.000, -999.000,9,-999.0000,9,  -999.00,  -999.00,9,   -999.0,9, 2.95499992,2,0.083999999,2,     0.01,2,     0.02,2,     -999,9,108,   4097,  -1.2108
  32L919930718,    58,  1,      4,2,19930804, 79.9460,  -5.5150,  712,    200.0,   1.0640,  34.7290,2,-999.0000,9,  34.7700,    298.5,2,    303.0,2,     6.86,2,    11.13,2,     0.00,2,     0.83,2,0.061000001,2,   2135.4,2,    685.1,18.1000004,2, -999.000, -999.000,9,-999.0000,9,  -999.00,  -999.00,9,   -999.0,9,       1.75,2,0.050000001,2,     0.01,2,     0.02,2,     -999,9,108,   4096,   1.0548
  32L919930718,    58,  1,      3,2,19930804, 79.9460,  -5.5150,  712,    300.0,   1.3240,  34.8730,2,-999.0000,9,  34.8250,    296.8,2,    302.1,2,     6.96,2,    12.12,2,     0.00,2,     0.86,2,0.041000001,2,   2140.4,2,    691.3,18.1000004,2, -999.000, -999.000,9,-999.0000,9,  -999.00,  -999.00,9,   -999.0,9,      2.898,2,0.119000003,2,  -999.00,9,  -999.00,9,     -999,9,108,   4095,   1.3092
  32L919930718,    58,  1,      2,2,19930804, 79.9460,  -5.5150,  712,    400.0,   0.6340,  34.8560,2,-999.0000,9,-999.0000,    290.3,2,    294.0,2,     8.58,2,    12.78,2,     0.02,2,     0.92,2,0.012000002,2,   -999.0,9,   -999.0,      -999,9, -999.000, -999.000,9,-999.0000,9,  -999.00,  -999.00,9,   -999.0,9,  2.6500001,2,0.105999999,2,  -999.00,9,  -999.00,9,     -999,9,108,   4094,   0.6162
  32L919930718,    58,  1,      1,2,19930804, 79.9460,  -5.5150,  712,    500.0,   0.5210,  34.8760,2,-999.0000,9,  34.8380,    291.2,2,    295.1,2,     8.52,2,    12.71,2,     0.01,2,     0.93,2,      0.022,2,   2147.1,2,    714.4,18.1000004,2, -999.000, -999.000,9,-999.0000,9,  -999.00,  -999.00,9,   -999.0,9, 1.53600001,2,0.046999998,2,  -999.00,9,  -999.00,9,     -999,9,108,   4093,   0.4988
  32L919930718,    58,  1,     12,2,19930804, 79.9460,  -5.5150,  712,    600.0,   0.3460,  34.8790,2,  34.9130,2,-999.0000,    293.8,2,    295.8,2,     8.71,2,    12.42,2,     0.01,2,     0.94,2,      0.022,2,   -999.0,9,   -999.0,      -999,9, -999.000, -999.000,9,-999.0000,9,  -999.00,  -999.00,9,   -999.0,9, 1.85000002,2,0.028000001,2,  -999.00,9,  -999.00,9,     -999,9,108,   4092,   0.3196
  32L919930718,    58,  1,     11,2,19930804, 79.9460,  -5.5150,  712,    702.0,   0.2060,  34.8850,2,-999.0000,9,  34.8440,    296.9,2,    297.6,2,     8.60,2,    12.37,2,     0.02,2,     0.94,2,0.031999998,2,   2145.7,2,    719.0,18.1000004,2, -999.000, -999.000,9,-999.0000,9,  -999.00,  -999.00,9,   -999.0,9,      2.671,2,0.039999999,2,  -999.00,9,  -999.00,9,     -999,9,108,   4091,   0.1753
  32L919930718,    59,  1,     10,2,19930804, 79.9320,  -6.1610,  319,      2.0,   1.9480,  29.8430,2,  29.8020,2,  29.7850,    364.0,2,    367.7,2,     1.42,2,     0.27,2,     0.01,2,     0.62,2,     -0.007,2,   1913.2,2,    463.7,17.3999996,2, -999.000, -999.000,9,-999.0000,9,  -999.00,  -999.00,9,      0.1,2,       -999,9,0.067000002,2,     0.08,2,     0.02,2,   157000,2,109,   4114,   1.9479
  32L919930718,    59,  1,      9,2,19930804, 79.9320,  -6.1610,  319,      5.0,   1.6930,  30.2790,2,-999.0000,9,-999.0000,    389.0,2,    425.3,2,     2.05,2,     0.27,2,     0.03,2,     0.66,2,     -0.007,2,   -999.0,9,   -999.0,      -999,9, -999.000, -999.000,9,-999.0000,9,  -999.00,  -999.00,9,      0.4,2, 8.14900017,2, 1.21800005,2,     0.19,2,     0.05,2,    69600,2,109,   4113,   1.6928
  32L919930718,    59,  1,      8,2,19930804, 79.9320,  -6.1610,  319,      9.0,   0.3370,  31.5770,2,-999.0000,9,-999.0000,    427.9,2,    438.3,2,     3.64,2,     0.19,2,     0.03,2,     0.68,2,-0.03699999,2,   -999.0,9,   -999.0,      -999,9, -999.000, -999.000,9,-999.0000,9,  -999.00,  -999.00,9,      1.9,2, 23.2000008,2, 2.69000006,2,     1.07,2,     0.30,2,    49900,2,109,   4112,   0.3367
  32L919930718,    59,  1,      7,2,19930804, 79.9320,  -6.1610,  319,     15.0,  -0.1010,  31.8550,2,-999.0000,9,  31.8430,    427.4,2,    430.9,2,     5.54,2,     0.17,2,     0.03,2,     0.68,2,0.031999998,2,   2024.1,2,    490.1,17.3999996,2, -999.000, -999.000,9,-999.0000,9,  -999.00,  -999.00,9,      4.2,2, 33.3330002,2, 4.67500019,2,     1.78,2,     0.20,2,   125000,2,109,   4111,  -0.1014
  32L919930718,    59,  1,      6,2,19930804, 79.9320,  -6.1610,  319,     22.0,   0.2900,  32.1430,2,-999.0000,9,-999.0000,    438.2,2,    450.8,2,     7.15,2,     0.15,2,     0.03,2,     0.72,2,0.002000004,2,   -999.0,9,   -999.0,      -999,9, -999.000, -999.000,9,-999.0000,9,  -999.00,  -999.00,9,      0.5,2, 16.0750008,2,      1.352,2,     0.93,2,     0.14,2,   237000,2,109,   4110,   0.2893
  32L919930718,    59,  1,      5,2,19930804, 79.9320,  -6.1610,  319,     35.0,  -0.8250,  32.3560,2,-999.0000,9,  32.3060,    422.7,3,    405.4,2,    12.08,2,     0.98,2,     0.04,2,     0.85,2,0.031999998,2,   2075.9,2,    605.5,17.3999996,2, -999.000, -999.000,9,-999.0000,9,  -999.00,  -999.00,9,      0.2,2, 15.8520002,2,      1.824,2,     0.77,2,     0.24,2,   156000,2,109,   4109,  -0.8258
  32L919930718,    59,  1,      4,2,19930804, 79.9320,  -6.1610,  319,     53.0,  -1.5670,  32.4120,2,-999.0000,9,  32.3890,    368.6,2,    371.2,2,    12.88,2,     3.06,2,     0.10,2,     0.99,2,0.012000002,2,   2116.8,2,    763.2,17.3999996,2, -999.000, -999.000,9,-999.0000,9,  -999.00,  -999.00,9,      0.1,2, 11.0860004,2, 1.36000001,2,     0.89,2,     0.22,2,   234000,2,109,   4108,  -1.5679
  32L919930718,    59,  1,      3,2,19930804, 79.9320,  -6.1610,  319,    100.0,  -1.2400,  33.0110,2,-999.0000,9,  33.2630,    334.1,2,    328.8,2,    11.78,2,     8.15,2,     0.04,2,     0.97,2,0.041000001,2,   2130.8,2,    769.7,17.3999996,2, -999.000, -999.000,9,-999.0000,9,  -999.00,  -999.00,9,   -999.0,9, 4.14900017,2, 0.42899999,2,     0.24,2,     0.12,2,    91700,2,109,   4107,  -1.2422
  32L919930718,    59,  1,      2,2,19930804, 79.9320,  -6.1610,  319,    150.0,  -0.2430,  34.3790,2,-999.0000,9,  34.3250,    289.9,2,    294.4,2,     9.40,2,    12.34,2,     0.03,2,     0.96,2,      0.022,2,   2145.0,2,    755.8,17.3999996,2, -999.000, -999.000,9,-999.0000,9,  -999.00,  -999.00,9,   -999.0,9, 5.40799999,2,0.282000005,2,     0.04,2,     0.05,2,   115000,2,109,   4106,  -0.2481
  32L919930718,    59,  1,      1,2,19930804, 79.9320,  -6.1610,  319,    200.0,   0.1120,  34.5940,2,-999.0000,9,  34.5570,    288.3,2,    288.9,2,     9.40,2,    12.59,2,     0.02,2,     0.96,2,0.012000002,2,   2145.8,2,    729.5,17.3999996,2, -999.000, -999.000,9,-999.0000,9,  -999.00,  -999.00,9,   -999.0,9, 2.71000004,2,0.123999998,2,     0.02,2,     0.05,2,    47400,2,109,   4105,   0.1044
  32L919930718,    59,  1,     12,2,19930804, 79.9320,  -6.1610,  319,    250.0,   0.4370,  34.8550,2,  34.8620,2,  34.7830,    291.0,2,    291.5,2,     4.34,2,    13.03,2,     0.03,2,     0.95,2,0.041000001,2,   2143.0,2,    688.9,17.3999996,2, -999.000, -999.000,9,-999.0000,9,  -999.00,  -999.00,9,   -999.0,9, 1.77199996,2,0.071000002,2,  -999.00,9,  -999.00,9,    34100,2,109,   4104,   0.4266
  32L919930718,    59,  1,     11,2,19930804, 79.9320,  -6.1610,  319,    297.0,   0.4350,  34.8590,2,-999.0000,9,  34.7610,    290.9,2,    291.4,2,     4.36,2,    13.17,2,     0.03,2,     0.96,2,0.041000001,2,   2141.4,2,    692.7,17.3999996,2, -999.000, -999.000,9,-999.0000,9,  -999.00,  -999.00,9,   -999.0,9, 1.63800001,2,0.108999997,2,  -999.00,9,  -999.00,9,    33900,2,109,   4103,   0.4226
  32L919930718,    60,  1,     10,2,19930805, 79.9180,  -6.7910,  318,      2.0,   1.0330,  28.5960,2,  29.1930,2,-999.0000,    388.8,2,    390.1,2,     3.91,2,     0.11,2,    -0.01,2,     0.62,2,          0,2,   -999.0,9,   -999.0,      -999,9,    6.640,    0.100,2,   1.8250,2,     0.40,     0.20,2,   -999.0,9, 6.12799978,2,0.978999972,2,     0.53,2,     0.19,2,     -999,9,110,   4126,   1.0329
  32L919930718,    60,  1,      9,2,19930805, 79.9180,  -6.7910,  318,     10.0,  -0.6540,  32.1580,2,-999.0000,9,-999.0000,    407.3,2,    414.2,2,     5.27,2,     0.81,2,     0.03,2,     0.80,2,0.068000004,2,   -999.0,9,   -999.0,      -999,9, -999.000, -999.000,9,-999.0000,9,  -999.00,  -999.00,9,   -999.0,9, 10.2720003,2, 1.47800004,2,     0.87,2,     0.19,2,     -999,9,110,   4125,  -0.6542
  32L919930718,    60,  1,      8,2,19930805, 79.9180,  -6.7910,  318,     19.0,  -1.3970,  32.3680,2,-999.0000,9,-999.0000,    397.2,2,    408.0,2,     4.59,2,     0.70,2,     0.01,2,     0.83,2,0.068000004,2,   -999.0,9,   -999.0,      -999,9, -999.000, -999.000,9,-999.0000,9,  -999.00,  -999.00,9,   -999.0,9, 12.2060003,2, 1.63199997,2,     0.81,2,     0.19,2,     -999,9,110,   4124,  -1.3974
  32L919930718,    60,  1,      7,2,19930805, 79.9180,  -6.7910,  318,     34.0,  -1.5950,  32.3960,2,-999.0000,9,-999.0000,    371.9,2,    376.6,2,     5.88,2,     2.52,2,     0.06,2,     0.94,2,0.078000002,2,   -999.0,9,   -999.0,      -999,9, -999.000, -999.000,9,-999.0000,9,  -999.00,  -999.00,9,   -999.0,9, 8.29399967,2, 1.28600001,2,     0.73,2,     0.22,2,     -999,9,110,   4123,  -1.5956
  32L919930718,    60,  1,      6,2,19930805, 79.9180,  -6.7910,  318,     50.0,  -1.6570,  32.4190,2,-999.0000,9,-999.0000,    364.3,2,    369.0,2,     7.91,2,     3.65,2,     0.05,2,     0.99,2,0.078000002,2,   -999.0,9,   -999.0,      -999,9, -999.000, -999.000,9,-999.0000,9,  -999.00,  -999.00,9,   -999.0,9, 6.39300013,2, 1.04499996,2,     0.51,2,     0.20,2,     -999,9,110,   4122,  -1.6578
  32L919930718,    60,  1,      5,2,19930805, 79.9180,  -6.7910,  318,     60.0,  -1.7180,  32.4330,2,-999.0000,9,-999.0000,    363.5,2,    366.6,2,    10.26,2,     4.08,2,     0.04,2,     1.02,2,      0.059,2,   -999.0,9,   -999.0,      -999,9,    7.290,    0.109,2,   1.8070,2,     2.60,     0.20,2,   -999.0,9, 6.79899979,2,0.779999971,2,     0.33,2,     0.16,2,     -999,9,110,   4121,  -1.7190
  32L919930718,    60,  1,      4,2,19930805, 79.9180,  -6.7910,  318,     80.0,  -1.7100,  32.5170,2,-999.0000,9,-999.0000,    358.5,2,    357.7,2,    11.58,2,     4.98,2,     0.00,2,     1.01,2,0.028999999,2,   -999.0,9,   -999.0,      -999,9, -999.000, -999.000,9,-999.0000,9,  -999.00,  -999.00,9,   -999.0,9, 7.78700018,2,0.532999992,2,     0.41,2,     0.16,2,     -999,9,110,   4120,  -1.7114
  32L919930718,    60,  1,      3,2,19930805, 79.9180,  -6.7910,  318,    100.0,  -1.6300,  32.7570,2,-999.0000,9,-999.0000,    344.0,2,    346.1,2,    12.29,2,     6.18,2,     0.01,2,     1.00,2,       0.02,2,   -999.0,9,   -999.0,      -999,9, -999.000, -999.000,9,-999.0000,9,  -999.00,  -999.00,9,   -999.0,9, 3.32299995,2, 0.44600001,2,     0.12,2,     0.12,2,     -999,9,110,   4119,  -1.6318
  32L919930718,    60,  1,      2,2,19930805, 79.9180,  -6.7910,  318,    150.0,  -0.5420,  34.1570,2,-999.0000,9,-999.0000,    299.4,2,    297.9,2,    11.44,2,    11.30,2,    -0.01,2,     0.93,2,0.028999999,2,   -999.0,9,   -999.0,      -999,9, -999.000, -999.000,9,-999.0000,9,  -999.00,  -999.00,9,   -999.0,9,      2.648,2,0.323000014,2,     0.71,2,     0.16,2,     -999,9,110,   4118,  -0.5466
  32L919930718,    60,  1,      1,2,19930805, 79.9180,  -6.7910,  318,    200.0,   0.2090,  34.6110,2,-999.0000,9,-999.0000,    286.8,2,    287.1,2,    11.30,2,    12.63,2,    -0.01,2,     0.94,2,0.039000001,2,   -999.0,9,   -999.0,      -999,9, -999.000, -999.000,9,-999.0000,9,  -999.00,  -999.00,9,   -999.0,9,  3.5150001,2,0.200000003,2,     0.06,2,     0.04,2,     -999,9,110,   4117,   0.2013
  32L919930718,    60,  1,     12,2,19930805, 79.9180,  -6.7910,  318,    250.0,   0.4200,  34.8580,2,-999.0000,9,-999.0000,    291.9,2,    291.3,2,     8.77,2,    13.03,2,     0.00,2,     0.93,2,       0.02,2,   -999.0,9,   -999.0,      -999,9, -999.000, -999.000,9,-999.0000,9,  -999.00,  -999.00,9,   -999.0,9,0.989000022,2,0.043000001,2,  -999.00,9,  -999.00,9,     -999,9,110,   4116,   0.4097
  32L919930718,    60,  1,     11,2,19930805, 79.9180,  -6.7910,  318,    281.0,   0.4050,  34.8630,2,-999.0000,9,-999.0000,    293.4,2,    290.9,2,     8.75,2,    12.88,2,    -0.01,2,     0.93,2,      0.059,2,   -999.0,9,   -999.0,      -999,9,    1.800,    0.027,2,-999.0000,9,  -999.00,  -999.00,9,   -999.0,9, 1.77100003,2,      0.003,2,  -999.00,9,  -999.00,9,     -999,9,110,   4115,   0.3933