BOTTLE,20090115PRINUNIVRMK
EXPOCODE,STNNBR,CASTNO,BTLNBR,BTLNBR_FLAG_W,DATE,LATITUDE,LONGITUDE,DEPTH,CTDPRS,CTDTMP,CTDSAL,CTDSAL_FLAG_W,SALNTY,SALNTY_FLAG_W,SOMSAL,CTDOXY,CTDOXY_FLAG_W,OXYGEN,OXYGEN_FLAG_W,SILCAT,SILCAT_FLAG_W,NITRAT,NITRAT_FLAG_W,NITRIT,NITRIT_FLAG_W,PHSPHT,PHSPHT_FLAG_W,AMMONI,AMMONI_FLAG_W,TCARBN,TCARBN_FLAG_W,FCO2,FCO2_TMP,FCO2_FLAG_W,TRITUM,TRITER,TRITUM_FLAG_W,HELIUM,HELIUM_FLAG_W,DELHE3,DELHER,DELHE3_FLAG_W,DELC14,DELC14_FLAG_W,POC,POC_FLAG_W,PON,PON_FLAG_W,CHLORA,CHLORA_FLAG_W,PHAEO,PHAEO_FLAG_W,BACT,BACT_FLAG_W,CTDNO,BNLID,THETA
,,,,,,,,METERS,DBARS,ITS-90,PSS-78,,PSS-78,,PSS-78,UMOL/KG,,UMOL/KG,,UMOL/KG,,UMOL/KG,,UMOL/KG,,UMOL/KG,,UMOL/KG,,UMOL/KG,,UATM,DEGC,,TU,TU,,NMOL/KG,,PERCNT,PERCNT,,O/OO,,ug/kg,,ug/kg,,UG/L,,UG/L,,CELLS/ML,,,,DEGC
  32L919930718,    53,  2,     10,2,19930803, 80.8330,  -6.0170, 1812,      2.0,   0.3530,  30.3170,2,-999.0000,9,  30.5430,    389.4,2,    405.9,2,     7.89,2,     0.05,2,     0.01,2,     0.66,2,-0.05899999,2,   1979.2,2,    541.7,18.2000008,2, -999.000, -999.000,9,-999.0000,9,  -999.00,  -999.00,9,      4.0,2, 19.6520004,2, 11.6160002,2,     1.21,2,     0.08,2,   184000,2, 97,   3994,   0.3529
  32L919930718,    53,  2,      9,2,19930803, 80.8330,  -6.0170, 1812,      3.0,   0.1010,  30.2920,2,-999.0000,9,-999.0000,    391.8,2,    407.6,2,     7.92,2,     0.03,2,     0.03,2,     0.66,2,-0.02899998,2,   -999.0,9,   -999.0,      -999,9, -999.000, -999.000,9,-999.0000,9,  -999.00,  -999.00,9,      2.2,2, 21.4249992,2, 2.22000003,2,     1.48,2,    -0.05,2,   135000,2, 97,   3993,   0.1009
  32L919930718,    53,  2,      8,2,19930803, 80.8330,  -6.0170, 1812,      5.0,  -0.0510,  30.3150,2,-999.0000,9,-999.0000,    391.5,2,    408.8,2,     8.02,2,     0.08,2,    -0.02,2,     0.66,2,          0,2,   -999.0,9,   -999.0,      -999,9, -999.000, -999.000,9,-999.0000,9,  -999.00,  -999.00,9,      1.6,2, 23.2310009,2, 2.34500003,2,     1.56,2,    -0.04,2,   128000,2, 97,   3992,  -0.0511
  32L919930718,    53,  2,      7,2,19930803, 80.8330,  -6.0170, 1812,      8.0,  -0.1280,  30.3960,2,-999.0000,9,  30.9930,    392.3,2,    408.3,2,     8.69,2,     0.08,2,     0.02,2,     0.69,2,-0.00999999,2,   2010.9,2,    580.1,18.2000008,2, -999.000, -999.000,9,-999.0000,9,  -999.00,  -999.00,9,      4.8,2, 35.3880005,2, 3.17700005,2,     2.07,2,    -0.10,2,   156000,2, 97,   3991,  -0.1282
  32L919930718,    53,  2,      4,2,19930803, 80.8330,  -6.0170, 1812,     14.0,  -1.1480,  31.2080,2,-999.0000,9,  31.0390,    397.4,2,    409.1,2,     8.63,2,    -0.02,2,     0.04,2,     0.70,2, 0.01000002,2,   2013.9,2,    582.8,18.2000008,2, -999.000, -999.000,9,-999.0000,9,  -999.00,  -999.00,9,   -999.0,9,       -999,9,       -999,9,  -999.00,9,  -999.00,9,     -999,9, 97,   3988,  -1.1483
  32L919930718,    53,  2,      5,2,19930803, 80.8330,  -6.0170, 1812,     14.0,  -1.1810,  31.2370,2,-999.0000,9,-999.0000,    396.9,2,    388.3,2,    11.42,2,     1.36,2,     0.02,2,     0.80,2,0.020000011,2,   -999.0,9,   -999.0,      -999,9, -999.000, -999.000,9,-999.0000,9,  -999.00,  -999.00,9,   -999.0,9,       -999,9,       -999,9,  -999.00,9,  -999.00,9,     -999,9, 97,   3989,  -1.1813
  32L919930718,    53,  2,      6,2,19930803, 80.8330,  -6.0170, 1812,     14.0,  -1.1780,  31.2370,2,-999.0000,9,-999.0000,    395.9,2,    386.4,2,    11.74,2,     1.88,2,     0.04,2,     0.78,2,0.117000014,2,   -999.0,9,   -999.0,      -999,9, -999.000, -999.000,9,-999.0000,9,  -999.00,  -999.00,9,      1.0,2, 24.3810005,2, 2.75999999,2,     1.97,2,     0.17,2,   113000,2, 97,   3990,  -1.1783
  32L919930718,    53,  2,      3,2,19930803, 80.8330,  -6.0170, 1812,     19.0,  -1.3710,  31.5830,2,-999.0000,9,  31.7850,    367.2,2,    374.6,2,    12.98,2,     2.77,2,     0.08,2,     0.86,2,-0.00999999,2,   2081.5,2,    751.0,18.2000008,2, -999.000, -999.000,9,-999.0000,9,  -999.00,  -999.00,9,      0.0,2,      15.96,2, 2.22799993,2,     0.36,2,     0.09,2,   114000,2, 97,   3987,  -1.3713
  32L919930718,    53,  2,      2,2,19930803, 80.8330,  -6.0170, 1812,     30.0,  -1.5720,  32.4420,2,-999.0000,9,  32.4300,    339.6,2,    347.6,2,    15.38,2,     6.12,2,     0.07,2,     0.97,2,0.020000011,2,   2128.0,2,    890.9,18.2000008,2, -999.000, -999.000,9,-999.0000,9,  -999.00,  -999.00,9,      0.0,2, 11.1590004,2,0.758000016,2,     2.12,2,     0.10,2,     -999,9, 97,   3986,  -1.5725
  32L919930718,    53,  2,      1,2,19930803, 80.8330,  -6.0170, 1812,     60.0,  -1.7240,  33.4030,2,  33.4110,2,  33.3290,    333.0,2,    339.2,2,    11.33,2,     6.85,2,     0.04,2,     0.78,2,0.020000011,2,   2158.4,2,    885.1,18.2000008,2,    5.840,    0.088,2,-999.0000,9,  -999.00,  -999.00,9,   -999.0,9, 2.50500011,2,0.444999993,2,  -999.00,9,  -999.00,9,     -999,9, 97,   3985,  -1.7251
  32L919930718,    53,  2,     12,2,19930803, 80.8330,  -6.0170, 1812,    100.0,  -1.7010,  33.9360,2,  33.9460,2,  33.8740,    326.8,2,    332.3,2,     7.54,2,     7.39,2,     0.05,2,     0.66,2,0.048999995,2,   2152.9,2,    811.0,18.2000008,2, -999.000, -999.000,9,-999.0000,9,  -999.00,  -999.00,9,   -999.0,9, 4.15100002,2,0.204999998,2,  -999.00,9,  -999.00,9,     -999,9, 97,   3984,  -1.7030
  32L919930718,    53,  2,     11,2,19930803, 80.8330,  -6.0170, 1812,    220.0,   2.4590,  34.9060,2,  34.9580,2,  34.8560,    297.9,2,    304.7,2,     6.14,2,    11.58,2,     0.03,2,     0.82,2,0.029000014,2,   2128.3,2,    649.9,18.2000008,2,    2.520,    0.038,2,   1.8430,2,     1.40,     0.20,2,   -999.0,9, 3.89499998,2,0.093000002,2,  -999.00,9,  -999.00,9,    38900,2, 97,   3983,   2.4462
  32L919930718,    53,  3,      9,2,19930803, 80.8330,  -6.0170, 1812,    300.0,   1.6740,  34.8910,2,-999.0000,9,-999.0000,    291.8,2,   -999.0,9,  -999.00,9,  -999.00,9,  -999.00,9,  -999.00,9,       -999,9,   -999.0,9,   -999.0,      -999,9, -999.000, -999.000,9,-999.0000,9,  -999.00,  -999.00,9,   -999.0,9,       -999,9,       -999,9,  -999.00,9,  -999.00,9,     -999,9, 98,   4005,   1.6583
  32L919930718,    53,  3,     10,2,19930803, 80.8330,  -6.0170, 1812,    301.0,   1.6840,  34.8920,2,  34.9010,2,  34.8610,    290.9,2,    301.0,2,  -999.00,9,  -999.00,9,  -999.00,9,  -999.00,9,       -999,9,   2137.9,2,    697.5,18.2000008,2, -999.000, -999.000,9,-999.0000,9,  -999.00,  -999.00,9,   -999.0,9,       -999,9,       -999,9,  -999.00,9,  -999.00,9,     -999,9, 98,   4006,   1.6682
  32L919930718,    53,  3,      7,2,19930803, 80.8330,  -6.0170, 1812,    400.0,   1.0330,  34.8870,2,-999.0000,9,-999.0000,    288.1,2,   -999.0,9,  -999.00,9,  -999.00,9,  -999.00,9,  -999.00,9,       -999,9,   -999.0,9,   -999.0,      -999,9, -999.000, -999.000,9,-999.0000,9,  -999.00,  -999.00,9,   -999.0,9,       -999,9,       -999,9,  -999.00,9,  -999.00,9,     -999,9, 98,   4003,   1.0139
  32L919930718,    53,  3,      8,2,19930803, 80.8330,  -6.0170, 1812,    401.0,   1.0330,  34.8870,2,  34.8920,2,  34.8340,    287.8,2,    297.2,2,  -999.00,9,  -999.00,9,  -999.00,9,  -999.00,9,       -999,9,   2141.1,2,    718.8,18.2000008,2, -999.000, -999.000,9,-999.0000,9,  -999.00,  -999.00,9,   -999.0,9,       -999,9,       -999,9,  -999.00,9,  -999.00,9,     -999,9, 98,   4004,   1.0138
  32L919930718,    53,  3,      5,2,19930803, 80.8330,  -6.0170, 1812,    500.0,   0.5210,  34.8700,2,-999.0000,9,-999.0000,    284.2,2,   -999.0,9,  -999.00,9,  -999.00,9,  -999.00,9,  -999.00,9,       -999,9,   -999.0,9,   -999.0,      -999,9, -999.000, -999.000,9,-999.0000,9,  -999.00,  -999.00,9,   -999.0,9,       -999,9,       -999,9,  -999.00,9,  -999.00,9,     -999,9, 98,   4001,   0.4988
  32L919930718,    53,  3,      6,2,19930803, 80.8330,  -6.0170, 1812,    501.0,   0.5220,  34.8700,2,  34.8670,2,  34.8390,    284.1,2,    293.9,2,  -999.00,9,  -999.00,9,  -999.00,9,  -999.00,9,       -999,9,   2141.8,2,    734.8,18.2000008,2, -999.000, -999.000,9,-999.0000,9,  -999.00,  -999.00,9,   -999.0,9,       -999,9,       -999,9,  -999.00,9,  -999.00,9,     -999,9, 98,   4002,   0.4997
  32L919930718,    53,  3,      4,2,19930803, 80.8330,  -6.0170, 1812,    601.0,   0.4180,  34.8770,2,-999.0000,9,-999.0000,    285.1,2,   -999.0,9,  -999.00,9,  -999.00,9,  -999.00,9,  -999.00,9,       -999,9,   -999.0,9,   -999.0,      -999,9, -999.000, -999.000,9,-999.0000,9,  -999.00,  -999.00,9,   -999.0,9,       -999,9,       -999,9,  -999.00,9,  -999.00,9,     -999,9, 98,   4000,   0.3913
  32L919930718,    53,  3,      3,2,19930803, 80.8330,  -6.0170, 1812,    701.0,   0.3520,  34.8870,2,-999.0000,9,-999.0000,    288.5,2,   -999.0,9,  -999.00,9,  -999.00,9,  -999.00,9,  -999.00,9,       -999,9,   -999.0,9,   -999.0,      -999,9, -999.000, -999.000,9,-999.0000,9,  -999.00,  -999.00,9,   -999.0,9,       -999,9,       -999,9,  -999.00,9,  -999.00,9,     -999,9, 98,   3999,   0.3206
  32L919930718,    53,  3,      2,2,19930803, 80.8330,  -6.0170, 1812,   1001.0,  -0.1270,  34.8990,2,-999.0000,9,-999.0000,    290.9,2,   -999.0,9,  -999.00,9,  -999.00,9,  -999.00,9,  -999.00,9,       -999,9,   -999.0,9,   -999.0,      -999,9, -999.000, -999.000,9,-999.0000,9,  -999.00,  -999.00,9,   -999.0,9,       -999,9,       -999,9,  -999.00,9,  -999.00,9,     -999,9, 98,   3998,  -0.1707
  32L919930718,    53,  3,      1,2,19930803, 80.8330,  -6.0170, 1812,   1200.0,  -0.2820,  34.9070,2,-999.0000,9,-999.0000,    291.2,2,   -999.0,9,     7.30,2,    11.89,2,     0.01,2,     0.83,2,0.011999995,2,   -999.0,9,   -999.0,      -999,9, -999.000, -999.000,9,-999.0000,9,  -999.00,  -999.00,9,   -999.0,9,       -999,9,       -999,9,  -999.00,9,  -999.00,9,     -999,9, 98,   3997,  -0.3349
  32L919930718,    53,  3,     12,2,19930803, 80.8330,  -6.0170, 1812,   1400.0,  -0.4860,  34.9180,2,-999.0000,9,-999.0000,    292.0,2,   -999.0,9,     7.82,2,    12.50,2,    -0.02,2,     0.86,2,0.002000004,2,   -999.0,9,   -999.0,      -999,9, -999.000, -999.000,9,-999.0000,9,  -999.00,  -999.00,9,   -999.0,9,       -999,9,       -999,9,  -999.00,9,  -999.00,9,     -999,9, 98,   3996,  -0.5480
  32L919930718,    53,  3,     11,2,19930803, 80.8330,  -6.0170, 1812,   1573.0,  -0.5070,  34.9200,2,  34.9520,2,-999.0000,    293.9,2,   -999.0,9,     8.32,2,    12.51,2,     0.03,2,     0.87,2,0.011999995,2,   -999.0,9,   -999.0,      -999,9, -999.000, -999.000,9,-999.0000,9,  -999.00,  -999.00,9,   -999.0,9,       -999,9,       -999,9,  -999.00,9,  -999.00,9,     -999,9, 98,   3995,  -0.5788
  32L919930718,    54,  1,     10,2,19930803, 80.4250,  -7.3290,  277,      2.0,   0.3970,  30.2420,2,  30.0660,2,  30.2080,    400.6,2,    401.1,2,     4.84,2,    -0.01,2,     0.00,2,     0.66,2,0.025999993,2,   1944.6,2,    482.9,17.2000008,2, -999.000, -999.000,9,-999.0000,9,  -999.00,  -999.00,9,      0.6,2, 8.61699963,2, 1.19700003,2,     0.24,2,     0.04,2,   174000,2,100,   4018,   0.3969
  32L919930718,    54,  1,      9,2,19930803, 80.4250,  -7.3290,  277,      5.0,  -0.0340,  30.3580,2,-999.0000,9,  30.4870,    409.3,2,    423.8,2,     4.22,2,     0.02,2,     0.00,2,     0.68,2,-0.00400001,2,   1956.9,2,    465.5,17.2000008,2, -999.000, -999.000,9,-999.0000,9,  -999.00,  -999.00,9,      0.8,2, 14.7889996,2,      1.495,2,     0.36,2,     0.01,2,     -999,9,100,   4017,  -0.0341
  32L919930718,    54,  1,      8,2,19930803, 80.4250,  -7.3290,  277,      9.0,  -0.1580,  30.4680,2,-999.0000,9,  30.5890,    418.9,2,    431.4,2,     3.38,2,     0.02,2,     0.00,2,     0.69,2,0.005999997,2,   1957.4,2,    451.1,17.2000008,2, -999.000, -999.000,9,-999.0000,9,  -999.00,  -999.00,9,      0.6,2, 21.3799992,2, 1.84500003,2,     0.43,2,     0.05,2,   211000,2,100,   4016,  -0.1582
  32L919930718,    54,  1,      7,2,19930803, 80.4250,  -7.3290,  277,     14.0,  -0.3520,  30.7020,2,-999.0000,9,  30.7130,    434.8,2,    441.3,2,     2.50,2,     0.07,2,     0.03,2,     0.67,2,0.055000007,2,   1960.1,2,    438.1,17.2000008,2, -999.000, -999.000,9,-999.0000,9,  -999.00,  -999.00,9,      0.5,2, 21.1709995,2, 1.50100005,2,     0.47,2,     0.05,2,   189000,2,100,   4015,  -0.3523
  32L919930718,    54,  1,      6,2,19930803, 80.4250,  -7.3290,  277,     22.0,  -0.9050,  31.4070,2,-999.0000,9,  31.4070,    424.3,2,    420.9,2,     2.81,2,    -0.01,2,     0.01,2,     0.74,2,-0.00400001,2,   2020.9,2,    538.3,17.2000008,2, -999.000, -999.000,9,-999.0000,9,  -999.00,  -999.00,9,      1.1,2, 22.2070007,2, 2.48099995,2,     0.16,2,     0.01,2,   196000,2,100,   4014,  -0.9055
  32L919930718,    54,  1,      5,2,19930803, 80.4250,  -7.3290,  277,     35.0,  -1.2010,  31.9320,2,-999.0000,9,  32.1910,    377.6,2,    363.1,2,    10.65,2,     4.37,2,     0.07,2,     0.96,2,0.064999998,2,   2099.4,2,    749.1,17.2000008,2, -999.000, -999.000,9,-999.0000,9,  -999.00,  -999.00,9,      0.2,2,      1.903,2,0.291000009,2,     0.68,2,     0.17,2,   109000,2,100,   4013,  -1.2017
  32L919930718,    54,  1,      4,2,19930803, 80.4250,  -7.3290,  277,     52.0,  -1.2800,  32.9700,2,-999.0000,9,  32.9380,    340.7,2,    338.5,2,    12.05,2,     7.02,2,     0.06,2,     0.98,2,0.045000002,2,   2127.3,2,    798.0,17.2000008,2, -999.000, -999.000,9,-999.0000,9,  -999.00,  -999.00,9,      0.1,2, 0.93599999,2,0.189999998,2,     0.12,2,     0.10,2,    61800,2,100,   4012,  -1.2811
  32L919930718,    54,  1,      3,2,19930803, 80.4250,  -7.3290,  277,     75.0,  -0.9320,  33.6920,2,-999.0000,9,  33.7230,    320.7,2,    314.4,2,    11.66,2,     9.65,2,     0.04,2,     0.95,2,-0.01300001,2,   2137.8,2,    772.9,17.2000008,2, -999.000, -999.000,9,-999.0000,9,  -999.00,  -999.00,9,   -999.0,9, 4.29799986,2,      0.077,2,     0.04,2,     0.07,2,    75900,2,100,   4011,  -0.9339
  32L919930718,    54,  1,      2,2,19930803, 80.4250,  -7.3290,  277,    100.0,  -0.1560,  34.3850,2,-999.0000,9,  34.3530,    296.5,2,    293.4,2,    11.39,2,    12.22,2,     0.04,2,     0.95,2,-0.03299999,2,   2139.9,2,    744.5,17.2000008,2, -999.000, -999.000,9,-999.0000,9,  -999.00,  -999.00,9,   -999.0,9, 4.05200005,2,0.104999997,2,     0.02,2,     0.04,2,    81800,2,100,   4010,  -0.1594
  32L919930718,    54,  1,      1,2,19930803, 80.4250,  -7.3290,  277,    125.0,   0.2360,  34.6090,2,-999.0000,9,  34.6410,    291.0,2,    287.8,2,    11.30,2,    12.87,2,     0.01,2,     0.96,2,     -0.023,2,   2144.6,2,    738.6,17.2000008,2, -999.000, -999.000,9,-999.0000,9,  -999.00,  -999.00,9,   -999.0,9,      2.671,2,0.201000005,2,     0.02,2,     0.03,2,    52800,2,100,   4009,   0.2312
  32L919930718,    54,  1,     12,2,19930803, 80.4250,  -7.3290,  277,    174.0,   0.3960,  34.7700,2,  34.7720,2,  34.7380,    291.9,2,    286.1,2,    10.20,2,    13.13,2,     0.02,2,     0.96,2,-0.00400001,2,   2145.6,2,    717.9,17.2000008,2, -999.000, -999.000,9,-999.0000,9,  -999.00,  -999.00,9,   -999.0,9, 3.09100008,2,0.037999999,2,     0.01,2,     0.03,2,    58600,2,100,   4008,   0.3890
  32L919930718,    54,  1,     11,2,19930803, 80.4250,  -7.3290,  277,    235.0,   0.4410,  34.8240,2,-999.0000,9,  34.7830,    295.0,2,    288.5,2,  -999.00,9,  -999.00,9,  -999.00,9,  -999.00,9,       -999,9,   2145.0,2,    708.4,17.2000008,2, -999.000, -999.000,9,-999.0000,9,  -999.00,  -999.00,9,   -999.0,9,       -999,9,       -999,9,     0.01,2,     0.03,2,    47400,2,100,   4007,   0.4313
  32L919930718,    54,  2,     10,2,19930803, 80.4250,  -7.3290,  277,     10.0,  -0.4530,  30.9120,2,-999.0000,9,-999.0000,    435.7,2,   -999.0,9,  -999.00,9,  -999.00,9,  -999.00,9,  -999.00,9,       -999,9,   -999.0,9,   -999.0,      -999,9, -999.000, -999.000,9,-999.0000,9,  -999.00,  -999.00,9,   -999.0,9,       -999,9,       -999,9,  -999.00,9,  -999.00,9,     -999,9,101,   4030,  -0.4532
  32L919930718,    54,  2,      9,2,19930803, 80.4250,  -7.3290,  277,     20.0,  -1.1140,  31.6310,2,-999.0000,9,-999.0000,    386.3,2,   -999.0,9,  -999.00,9,  -999.00,9,  -999.00,9,  -999.00,9,       -999,9,   -999.0,9,   -999.0,      -999,9, -999.000, -999.000,9,-999.0000,9,  -999.00,  -999.00,9,   -999.0,9,       -999,9,       -999,9,  -999.00,9,  -999.00,9,     -999,9,101,   4029,  -1.1144
  32L919930718,    54,  2,      8,2,19930803, 80.4250,  -7.3290,  277,     30.0,  -1.2810,  31.9350,2,-999.0000,9,-999.0000,    370.8,2,   -999.0,9,  -999.00,9,  -999.00,9,  -999.00,9,  -999.00,9,       -999,9,   -999.0,9,   -999.0,      -999,9, -999.000, -999.000,9,-999.0000,9,  -999.00,  -999.00,9,   -999.0,9,       -999,9,       -999,9,  -999.00,9,  -999.00,9,     -999,9,101,   4028,  -1.2816
  32L919930718,    54,  2,      7,2,19930803, 80.4250,  -7.3290,  277,     40.0,  -1.4400,  32.2900,2,-999.0000,9,-999.0000,    353.8,2,   -999.0,9,  -999.00,9,  -999.00,9,  -999.00,9,  -999.00,9,       -999,9,   -999.0,9,   -999.0,      -999,9, -999.000, -999.000,9,-999.0000,9,  -999.00,  -999.00,9,   -999.0,9,       -999,9,       -999,9,  -999.00,9,  -999.00,9,     -999,9,101,   4027,  -1.4407
  32L919930718,    54,  2,      6,2,19930803, 80.4250,  -7.3290,  277,     50.0,  -1.2900,  32.8400,2,-999.0000,9,-999.0000,    340.9,2,   -999.0,9,  -999.00,9,  -999.00,9,  -999.00,9,  -999.00,9,       -999,9,   -999.0,9,   -999.0,      -999,9, -999.000, -999.000,9,-999.0000,9,  -999.00,  -999.00,9,   -999.0,9,       -999,9,       -999,9,  -999.00,9,  -999.00,9,     -999,9,101,   4026,  -1.2910
  32L919930718,    54,  2,      5,2,19930803, 80.4250,  -7.3290,  277,     60.0,  -1.2080,  33.2160,2,-999.0000,9,-999.0000,    332.0,2,   -999.0,9,  -999.00,9,  -999.00,9,  -999.00,9,  -999.00,9,       -999,9,   -999.0,9,   -999.0,      -999,9, -999.000, -999.000,9,-999.0000,9,  -999.00,  -999.00,9,   -999.0,9,       -999,9,       -999,9,  -999.00,9,  -999.00,9,     -999,9,101,   4025,  -1.2094
  32L919930718,    54,  2,      4,2,19930803, 80.4250,  -7.3290,  277,     70.0,  -0.9760,  33.6300,2,-999.0000,9,-999.0000,    318.6,2,   -999.0,9,  -999.00,9,  -999.00,9,  -999.00,9,  -999.00,9,       -999,9,   -999.0,9,   -999.0,      -999,9, -999.000, -999.000,9,-999.0000,9,  -999.00,  -999.00,9,   -999.0,9,       -999,9,       -999,9,  -999.00,9,  -999.00,9,     -999,9,101,   4024,  -0.9778
  32L919930718,    54,  2,      3,2,19930803, 80.4250,  -7.3290,  277,     80.0,  -0.7620,  33.8830,2,-999.0000,9,-999.0000,    312.1,2,   -999.0,9,  -999.00,9,  -999.00,9,  -999.00,9,  -999.00,9,       -999,9,   -999.0,9,   -999.0,      -999,9, -999.000, -999.000,9,-999.0000,9,  -999.00,  -999.00,9,   -999.0,9,       -999,9,       -999,9,  -999.00,9,  -999.00,9,     -999,9,101,   4023,  -0.7642
  32L919930718,    54,  2,      2,2,19930803, 80.4250,  -7.3290,  277,    100.0,  -0.1840,  34.3670,2,-999.0000,9,-999.0000,    295.4,2,   -999.0,9,  -999.00,9,  -999.00,9,  -999.00,9,  -999.00,9,       -999,9,   -999.0,9,   -999.0,      -999,9, -999.000, -999.000,9,-999.0000,9,  -999.00,  -999.00,9,   -999.0,9,       -999,9,       -999,9,  -999.00,9,  -999.00,9,     -999,9,101,   4022,  -0.1874
  32L919930718,    54,  2,      1,2,19930803, 80.4250,  -7.3290,  277,    150.0,   0.3340,  34.6970,2,-999.0000,9,-999.0000,    286.6,2,   -999.0,9,  -999.00,9,  -999.00,9,  -999.00,9,  -999.00,9,       -999,9,   -999.0,9,   -999.0,      -999,9, -999.000, -999.000,9,-999.0000,9,  -999.00,  -999.00,9,   -999.0,9,       -999,9,       -999,9,  -999.00,9,  -999.00,9,     -999,9,101,   4021,   0.3281
  32L919930718,    54,  2,     12,2,19930803, 80.4250,  -7.3290,  277,    200.0,   0.4360,  34.8180,2,-999.0000,9,-999.0000,    290.1,2,   -999.0,9,  -999.00,9,  -999.00,9,  -999.00,9,  -999.00,9,       -999,9,   -999.0,9,   -999.0,      -999,9, -999.000, -999.000,9,-999.0000,9,  -999.00,  -999.00,9,   -999.0,9,       -999,9,       -999,9,  -999.00,9,  -999.00,9,     -999,9,101,   4020,   0.4278
  32L919930718,    54,  2,     11,2,19930803, 80.4250,  -7.3290,  277,    245.0,   0.4390,  34.8200,2,-999.0000,9,-999.0000,    291.8,2,   -999.0,9,  -999.00,9,  -999.00,9,  -999.00,9,  -999.00,9,       -999,9,   -999.0,9,   -999.0,      -999,9,    1.690,    0.025,2,   1.7490,2,     7.90,     0.20,2,   -999.0,9,       -999,9,       -999,9,  -999.00,9,  -999.00,9,     -999,9,101,   4019,   0.4289