BOTTLE,20090115PRINUNIVRMK
# 9/30/05 Initialized README file  
# Data from Wallace via Kozyr on 9/8/05; Original QC by Key with confirmation/corrections from A. Schneider 
# Ship: Polar Sea  
# Cruise: NEWP93   
# Dates 7/18/1993 - 8/20/1993 
# EXPOCODE 32L919930718 
# Region: polynia near northeastern Greenland 
# Chief Scientist - J. Deming(U.W.) 
# 102 stations with 12 place Rosette 
# Hydro: Who - J.Kinder(NCSU), T.S.Hopkins(NCSU); Status - final 
# 	Notes: 	High gradients near surface cause frequent disagreement between CTD and bottle salinity values 
# 	Bottom depth approximated from global topography 
# 	"bnlid" is the original BNL sample ID number 
# 	"ctdno" is the original sequential cast number 
# 	"somasal" is salinity measured by SOMMA system 
# Nuts/O2: Who - R.Wilke(BNL),C.Neill(BNL); Status - final 
# 	Notes: High gradients near surface cause frequent disagreement between CTD and bottle oxygen values 
# 	See Falck, 2001. 
# TCO2: Who - K.Johnson(BNL); Status - final 
# 	Notes: CRM batch and precision:Corrected by Johnson, but original info lost (accuracy <1.5umol/kg) 
# fCO2: Who - C. Neill(BNL),K.Johnson(BNL); Status - final  
# 	Notes: methods from Neill et al., 1997;  
# 		precision ~1.8 uatm; accuracy ~ 0.1% 
# C-14: Who - ???; Status - final 
# 	Notes: method???; accuracy ???; errors??? 
# H-3/He-3: Who -  Z. Top(U.Miami); Status -  final 
# 	Notes:  
# 	See Top et al., 1997 
# Other: POC, PON, ChlorA, Phaeopigments, Bacterial Abundance(in cells per ml) 
# References: 
# Top, Z., F. Bignami and T. Hopkins, Tritium-3He ages of deep waters in the NEW Polynya, J. Mar. Sys., 10, 175-184, 1997. 
EXPOCODE,STNNBR,CASTNO,BTLNBR,BTLNBR_FLAG_W,DATE,LATITUDE,LONGITUDE,DEPTH,CTDPRS,CTDTMP,CTDSAL,CTDSAL_FLAG_W,SALNTY,SALNTY_FLAG_W,SOMSAL,CTDOXY,CTDOXY_FLAG_W,OXYGEN,OXYGEN_FLAG_W,SILCAT,SILCAT_FLAG_W,NITRAT,NITRAT_FLAG_W,NITRIT,NITRIT_FLAG_W,PHSPHT,PHSPHT_FLAG_W,AMMONI,AMMONI_FLAG_W,TCARBN,TCARBN_FLAG_W,FCO2,FCO2_TMP,FCO2_FLAG_W,TRITUM,TRITER,TRITUM_FLAG_W,HELIUM,HELIUM_FLAG_W,DELHE3,DELHER,DELHE3_FLAG_W,DELC14,DELC14_FLAG_W,POC,POC_FLAG_W,PON,PON_FLAG_W,CHLORA,CHLORA_FLAG_W,PHAEO,PHAEO_FLAG_W,BACT,BACT_FLAG_W,CTDNO,BNLID,THETA
,,,,,,,,METERS,DBARS,ITS-90,PSS-78,,PSS-78,,PSS-78,UMOL/KG,,UMOL/KG,,UMOL/KG,,UMOL/KG,,UMOL/KG,,UMOL/KG,,UMOL/KG,,UMOL/KG,,UATM,DEGC,,TU,TU,,NMOL/KG,,PERCNT,PERCNT,,O/OO,,ug/kg,,ug/kg,,UG/L,,UG/L,,CELLS/ML,,,,DEGC
  32L919930718,     1,  1,     12,2,19930722, 80.3100,  -9.6440,  317,      2.0,   3.9860,  30.4790,2,-999.0000,9,  31.0850,    378.1,2,    425.9,2,     2.67,2,    -0.01,2,  -999.00,9,     0.65,2,0.121000007,2,   1975.7,2,    419.2,      17.5,2,    5.910,    0.089,2,   1.8160,2,     0.00,     0.20,2,      0.8,2, 9.84500027,2,0.773999989,2,     0.15,2,     0.03,2,    24100,2,  3,   3012,   3.9859
  32L919930718,     1,  1,     11,2,19930722, 80.3100,  -9.6440,  317,      5.0,   1.8940,  31.8110,2,-999.0000,9,  31.5270,    434.5,2,    436.0,2,     2.78,2,     0.00,2,  -999.00,9,     0.67,2, 0.18900001,2,   1995.6,2,    417.3,      17.5,2, -999.000, -999.000,9,-999.0000,9,  -999.00,  -999.00,9,      1.2,2, 16.3470001,2, 1.05400002,2,     0.17,2,     0.01,2,   235000,2,  3,   3011,   1.8938
  32L919930718,     1,  1,     10,2,19930722, 80.3100,  -9.6440,  317,      9.0,   0.6460,  32.1830,2,  32.1890,2,  31.9860,    442.6,2,    435.9,2,     5.78,2,     0.93,2,  -999.00,9,     0.81,2,0.481999993,2,   2055.6,2,    507.6,      17.5,2, -999.000, -999.000,9,-999.0000,9,  -999.00,  -999.00,9,      1.4,2, 23.7980003,2, 1.23300004,2,     0.54,2,     0.05,2,    90800,2,  3,   3010,   0.6457
  32L919930718,     1,  1,      9,2,19930722, 80.3100,  -9.6440,  317,     15.0,  -0.9240,  32.3040,2,-999.0000,9,  32.0550,    422.0,2,    425.9,2,     6.16,2,     0.46,2,  -999.00,9,     0.84,2,0.490999997,2,   2069.2,2,    541.8,      17.5,2, -999.000, -999.000,9,-999.0000,9,  -999.00,  -999.00,9,      1.8,2, 26.9069996,2, 1.52400005,2,     0.50,2,     0.08,2,    75500,2,  3,   3009,  -0.9243
  32L919930718,     1,  1,      8,2,19930722, 80.3100,  -9.6440,  317,     21.0,  -1.5490,  32.3250,2,-999.0000,9,  32.1320,    381.7,2,    382.0,2,     9.92,2,     2.26,2,  -999.00,9,     0.96,2,0.413000017,2,   2099.3,2,    672.7,      17.5,2, -999.000, -999.000,9,-999.0000,9,  -999.00,  -999.00,9,      2.5,2, 22.2280006,2, 1.47899997,2,     1.64,2,     0.02,2,    67200,2,  3,   3008,  -1.5494
  32L919930718,     1,  1,      7,2,19930722, 80.3100,  -9.6440,  317,     33.0,  -1.5650,  32.3660,2,-999.0000,9,  32.2140,    351.5,2,    369.5,2,    11.75,2,     3.94,2,  -999.00,9,     1.03,2,0.326000005,2,   2115.5,2,    730.3,      17.5,2, -999.000, -999.000,9,-999.0000,9,  -999.00,  -999.00,9,      0.1,2, 9.72000027,2,0.612999976,2,     0.71,2,     0.10,2,    57500,2,  3,   3007,  -1.5656
  32L919930718,     1,  1,      6,2,19930722, 80.3100,  -9.6440,  317,     49.0,  -1.6980,  32.3980,2,-999.0000,9,  32.1520,    347.5,2,    368.5,2,    11.91,2,     4.07,2,  -999.00,9,     1.03,2,0.101000011,2,   2120.2,2,    745.2,      17.5,2, -999.000, -999.000,9,-999.0000,9,  -999.00,  -999.00,9,      0.0,2, 8.60700035,2,0.481999993,2,     0.31,2,     0.00,2,    75300,2,  3,   3006,  -1.6988
  32L919930718,     1,  1,      5,2,19930722, 80.3100,  -9.6440,  317,    100.0,  -1.5640,  33.0620,2,-999.0000,9,  32.8700,    318.1,2,    336.2,2,    13.90,2,     7.17,2,  -999.00,9,     0.99,2,0.072000004,2,   2142.3,2,    807.2,      17.5,2, -999.000, -999.000,9,-999.0000,9,  -999.00,  -999.00,9,   -999.0,9, 7.46099997,2,0.397000015,2,     0.08,2,     0.03,2,    31700,2,  3,   3005,  -1.5659
  32L919930718,     1,  1,      4,2,19930722, 80.3100,  -9.6440,  317,    151.0,  -0.4000,  34.2360,2,-999.0000,9,  33.9340,    280.8,2,    296.7,2,    12.28,2,    11.87,2,  -999.00,9,     0.94,2,0.072000004,2,   2141.6,2,    740.2,      17.5,2, -999.000, -999.000,9,-999.0000,9,  -999.00,  -999.00,9,   -999.0,9, 4.36800003,2,0.365999997,2,     0.04,2,     0.02,2,    62400,2,  3,   3004,  -0.4049
  32L919930718,     1,  1,      3,2,19930722, 80.3100,  -9.6440,  317,    201.0,   0.3140,  34.6560,2,-999.0000,9,  34.4270,    270.7,2,    284.8,2,    12.56,2,    12.84,2,  -999.00,9,     0.95,2,0.072000004,2,   2151.5,2,    734.2,      17.5,2, -999.000, -999.000,9,-999.0000,9,  -999.00,  -999.00,9,   -999.0,9, 3.13100004,2,0.261000007,2,     0.04,2,     0.02,2,    33000,2,  3,   3003,   0.3060
  32L919930718,     1,  1,      2,2,19930722, 80.3100,  -9.6440,  317,    250.0,   0.3750,  34.7800,2,  34.8340,2,  34.5480,    267.7,2,    282.5,2,    12.26,2,    12.95,2,  -999.00,9,     0.96,2,0.052000009,2,   2154.3,2,    723.0,      17.5,2,    1.960,    0.029,2,   1.8340,2,     9.40,     0.20,2,   -999.0,9, 7.09800005,2,0.389999986,2,     0.02,2,     0.02,2,    40700,2,  3,   3002,   0.3648
  32L919930718,     1,  1,      1,2,19930722, 80.3100,  -9.6440,  317,    301.0,   0.3880,  34.8170,2,-999.0000,9,  34.6040,    267.7,2,    282.9,2,    11.90,2,    12.83,2,  -999.00,9,     0.97,2,0.013000011,2,   2153.6,2,    712.8,      17.5,2, -999.000, -999.000,9,-999.0000,9,  -999.00,  -999.00,9,   -999.0,9, 5.61600018,2,0.275000006,2,     0.01,2,     0.02,2,    45600,2,  3,   3001,   0.3755
  32L919930718,     1,  2,     11,2,19930722, 80.3100,  -9.6440,  317,     20.0,  -1.4490,  32.3170,2,-999.0000,9,-999.0000,    387.6,2,   -999.0,9,  -999.00,9,  -999.00,9,  -999.00,9,  -999.00,9,       -999,9,   -999.0,9,   -999.0,      -999,9, -999.000, -999.000,9,-999.0000,9,  -999.00,  -999.00,9,   -999.0,9,       -999,9,       -999,9,  -999.00,9,  -999.00,9,     -999,9,  4,   3023,  -1.4494
  32L919930718,     1,  2,     12,2,19930722, 80.3100,  -9.6440,  317,     20.0,  -1.4040,  32.3130,2,-999.0000,9,  32.1460,    387.0,2,    409.3,2,     5.90,2,     0.03,2,  -999.00,9,     0.85,2,     -0.059,2,   2083.1,2,    539.0,14.6000004,2, -999.000, -999.000,9,-999.0000,9,  -999.00,  -999.00,9,   -999.0,9, 23.4109993,2, 2.30800009,2,     0.26,2,     0.02,2,     -999,9,  4,   3024,  -1.4044
  32L919930718,     1,  2,      9,2,19930722, 80.3100,  -9.6440,  317,     27.0,  -1.4070,  32.3370,2,-999.0000,9,-999.0000,    367.9,2,   -999.0,9,  -999.00,9,  -999.00,9,  -999.00,9,  -999.00,9,       -999,9,   -999.0,9,   -999.0,      -999,9, -999.000, -999.000,9,-999.0000,9,  -999.00,  -999.00,9,   -999.0,9,       -999,9,       -999,9,  -999.00,9,  -999.00,9,     -999,9,  4,   3021,  -1.4075
  32L919930718,     1,  2,     10,2,19930722, 80.3100,  -9.6440,  317,     27.0,  -1.4010,  32.3370,2,-999.0000,9,-999.0000,    368.8,2,   -999.0,9,  -999.00,9,  -999.00,9,  -999.00,9,  -999.00,9,       -999,9,   -999.0,9,   -999.0,      -999,9, -999.000, -999.000,9,-999.0000,9,  -999.00,  -999.00,9,   -999.0,9,       -999,9,       -999,9,  -999.00,9,  -999.00,9,     -999,9,  4,   3022,  -1.4015
  32L919930718,     1,  2,      8,2,19930722, 80.3100,  -9.6440,  317,     35.0,  -1.5510,  32.3530,2,-999.0000,9,-999.0000,    358.8,2,   -999.0,9,  -999.00,9,  -999.00,9,  -999.00,9,  -999.00,9,       -999,9,   -999.0,9,   -999.0,      -999,9, -999.000, -999.000,9,-999.0000,9,  -999.00,  -999.00,9,   -999.0,9,       -999,9,       -999,9,  -999.00,9,  -999.00,9,     -999,9,  4,   3020,  -1.5516
  32L919930718,     1,  2,      7,2,19930722, 80.3100,  -9.6440,  317,     61.0,  -1.7370,  32.4130,2,-999.0000,9,-999.0000,    350.0,2,   -999.0,9,  -999.00,9,  -999.00,9,  -999.00,9,  -999.00,9,       -999,9,   -999.0,9,   -999.0,      -999,9, -999.000, -999.000,9,-999.0000,9,  -999.00,  -999.00,9,   -999.0,9,       -999,9,       -999,9,  -999.00,9,  -999.00,9,     -999,9,  4,   3019,  -1.7380
  32L919930718,     1,  2,      6,2,19930722, 80.3100,  -9.6440,  317,    101.0,  -1.5440,  32.9810,2,-999.0000,9,-999.0000,    323.0,2,   -999.0,9,  -999.00,9,  -999.00,9,  -999.00,9,  -999.00,9,       -999,9,   -999.0,9,   -999.0,      -999,9, -999.000, -999.000,9,-999.0000,9,  -999.00,  -999.00,9,   -999.0,9,       -999,9,       -999,9,  -999.00,9,  -999.00,9,     -999,9,  4,   3018,  -1.5460
  32L919930718,     1,  2,      5,2,19930722, 80.3100,  -9.6440,  317,    151.0,  -0.2960,  34.3020,2,-999.0000,9,-999.0000,    281.5,2,   -999.0,9,  -999.00,9,  -999.00,9,  -999.00,9,  -999.00,9,       -999,9,   -999.0,9,   -999.0,      -999,9, -999.000, -999.000,9,-999.0000,9,  -999.00,  -999.00,9,   -999.0,9,       -999,9,       -999,9,  -999.00,9,  -999.00,9,     -999,9,  4,   3017,  -0.3010
  32L919930718,     1,  2,      4,2,19930722, 80.3100,  -9.6440,  317,    201.0,   0.3430,  34.6800,2,-999.0000,9,-999.0000,    271.8,2,   -999.0,9,  -999.00,9,  -999.00,9,  -999.00,9,  -999.00,9,       -999,9,   -999.0,9,   -999.0,      -999,9, -999.000, -999.000,9,-999.0000,9,  -999.00,  -999.00,9,   -999.0,9,       -999,9,       -999,9,  -999.00,9,  -999.00,9,     -999,9,  4,   3016,   0.3350
  32L919930718,     1,  2,      3,2,19930722, 80.3100,  -9.6440,  317,    250.0,   0.3770,  34.7800,2,-999.0000,9,-999.0000,    270.5,2,   -999.0,9,  -999.00,9,  -999.00,9,  -999.00,9,  -999.00,9,       -999,9,   -999.0,9,   -999.0,      -999,9, -999.000, -999.000,9,-999.0000,9,  -999.00,  -999.00,9,   -999.0,9,       -999,9,       -999,9,  -999.00,9,  -999.00,9,     -999,9,  4,   3015,   0.3668
  32L919930718,     1,  2,      2,2,19930722, 80.3100,  -9.6440,  317,    274.0,   0.3790,  34.7890,2,-999.0000,9,-999.0000,    271.5,2,   -999.0,9,  -999.00,9,  -999.00,9,  -999.00,9,  -999.00,9,       -999,9,   -999.0,9,   -999.0,      -999,9, -999.000, -999.000,9,-999.0000,9,  -999.00,  -999.00,9,   -999.0,9,       -999,9,       -999,9,  -999.00,9,  -999.00,9,     -999,9,  4,   3014,   0.3677
  32L919930718,     1,  2,      1,2,19930722, 80.3100,  -9.6440,  317,    307.0,   0.3930,  34.8320,2,-999.0000,9,-999.0000,    273.8,2,   -999.0,9,  -999.00,9,  -999.00,9,  -999.00,9,  -999.00,9,       -999,9,   -999.0,9,   -999.0,      -999,9, -999.000, -999.000,9,-999.0000,9,  -999.00,  -999.00,9,   -999.0,9,       -999,9,       -999,9,  -999.00,9,  -999.00,9,     -999,9,  4,   3013,   0.3802
  32L919930718,     2,  1,     12,2,19930723, 80.4520, -13.2220,  294,      2.0,   3.8280,  29.1930,2,-999.0000,9,  29.2450,    358.7,2,    361.8,2,     2.61,2,     0.35,2,  -999.00,9,     0.58,2,0.100000001,2,   1894.3,2,    435.0,      15.5,2, -999.000, -999.000,9,-999.0000,9,  -999.00,  -999.00,9,      0.5,2, 6.45200014,2,0.606000006,2,     0.17,2,     0.04,2,    94800,2,  6,   3036,   3.8279
  32L919930718,     2,  1,     11,2,19930723, 80.4520, -13.2220,  294,      4.0,   3.4880,  30.0150,2,-999.0000,9,  30.7650,    357.6,2,    394.2,2,     3.94,2,     0.37,2,  -999.00,9,     0.61,2,0.012000002,2,   1987.9,2,    479.1,      15.5,2, -999.000, -999.000,9,-999.0000,9,  -999.00,  -999.00,9,      1.3,2, 7.68200016,2, 1.04100001,2,     0.19,2,     0.06,2,    65600,2,  6,   3035,   3.4878
  32L919930718,     2,  1,     10,2,19930723, 80.4520, -13.2220,  294,      6.0,   0.4420,  32.1860,2,-999.0000,9,  32.1160,    382.0,2,    383.8,2,    11.65,2,     1.93,2,  -999.00,9,     0.86,2,0.100000001,2,   2092.7,2,    644.7,      15.5,2, -999.000, -999.000,9,-999.0000,9,  -999.00,  -999.00,9,      5.2,2, 12.4490004,2, 2.41599989,2,     1.03,2,     0.02,2,    55900,2,  6,   3034,   0.4418
  32L919930718,     2,  1,      9,2,19930723, 80.4520, -13.2220,  294,     10.0,  -0.8440,  32.2260,2,-999.0000,9,  32.0660,    366.7,2,    380.0,2,    12.62,2,     3.07,2,  -999.00,9,     0.94,2,0.061000001,2,   2101.9,2,    674.4,      15.5,2, -999.000, -999.000,9,-999.0000,9,  -999.00,  -999.00,9,      1.8,2, 6.02099991,2,0.853999972,2,     0.46,2,     0.05,2,    63600,2,  6,   3033,  -0.8442
  32L919930718,     2,  1,      8,2,19930723, 80.4520, -13.2220,  294,     16.0,  -1.4680,  32.2580,2,-999.0000,9,  32.0900,    366.2,2,    375.4,2,    12.77,2,     3.36,2,  -999.00,9,     0.98,2,0.002000004,2,   2107.4,2,    689.7,      15.5,2, -999.000, -999.000,9,-999.0000,9,  -999.00,  -999.00,9,      0.1,2, 5.64699984,2,0.985000014,2,     0.40,2,     0.23,2,    71700,2,  6,   3032,  -1.4683
  32L919930718,     2,  1,      7,2,19930723, 80.4520, -13.2220,  294,     24.0,  -1.5810,  32.2960,2,-999.0000,9,  32.1470,    364.3,2,    372.9,2,    12.80,2,     3.96,2,  -999.00,9,     1.00,2,      0.022,2,   2108.7,2,    694.6,      15.5,2, -999.000, -999.000,9,-999.0000,9,  -999.00,  -999.00,9,      0.1,2,      4.704,2,0.360000014,2,     0.28,2,     0.07,2,    79800,2,  6,   3031,  -1.5814
  32L919930718,     2,  1,      6,2,19930723, 80.4520, -13.2220,  294,     37.0,  -1.6900,  32.3430,2,-999.0000,9,  32.2740,    362.0,2,    370.3,2,    12.76,2,     4.05,2,  -999.00,9,     1.01,2,      0.022,2,   2111.8,2,    700.3,      15.5,2, -999.000, -999.000,9,-999.0000,9,  -999.00,  -999.00,9,      0.0,2, 2.77699995,2,0.119999997,2,     0.13,2,     0.04,2,    66100,2,  6,   3030,  -1.6906
  32L919930718,     2,  1,      5,2,19930723, 80.4520, -13.2220,  294,     50.0,  -1.7390,  32.3770,2,-999.0000,9,  32.2760,    360.4,2,    365.7,2,    12.90,2,     4.56,2,  -999.00,9,     1.01,2,0.012000002,2,   2117.7,2,    707.6,      15.5,2, -999.000, -999.000,9,-999.0000,9,  -999.00,  -999.00,9,   -999.0,9,  2.2579999,2,0.086000003,2,     0.01,2,     0.01,2,    33300,2,  6,   3029,  -1.7398
  32L919930718,     2,  1,      4,2,19930723, 80.4520, -13.2220,  294,    100.0,  -1.5700,  32.9440,2,  33.0410,2,  32.9850,    330.3,2,    336.3,2,    14.17,2,     7.41,2,  -999.00,9,     0.99,2,0.031999998,2,   2135.4,2,    755.8,      15.5,2, -999.000, -999.000,9,-999.0000,9,  -999.00,  -999.00,9,   -999.0,9, 3.20700002,2,0.071999997,2,     0.01,2,     0.01,2,    35300,2,  6,   3028,  -1.5719
  32L919930718,     2,  1,      3,2,19930723, 80.4520, -13.2220,  294,    151.0,  -0.4480,  34.2960,2,-999.0000,9,  34.2170,    288.7,2,    295.7,2,    12.92,2,    12.32,2,  -999.00,9,     0.93,2,0.051000003,2,   2137.9,2,    689.8,      15.5,2, -999.000, -999.000,9,-999.0000,9,  -999.00,  -999.00,9,   -999.0,9, 2.05999994,2,0.141000003,2,     0.01,2,     0.01,2,    47900,2,  6,   3027,  -0.4528
  32L919930718,     2,  1,      2,2,19930723, 80.4520, -13.2220,  294,    200.0,   0.3580,  34.6330,2,  34.6420,2,  34.4420,    281.7,2,    288.5,2,    12.38,2,    12.90,2,  -999.00,9,     0.94,2,      0.022,2,   2147.7,2,    677.2,      15.5,2, -999.000, -999.000,9,-999.0000,9,  -999.00,  -999.00,9,   -999.0,9, 4.74100018,2,0.270999998,2,     0.01,2,     0.01,2,    43400,2,  6,   3026,   0.3500
  32L919930718,     2,  1,      1,2,19930723, 80.4520, -13.2220,  294,    277.0,   0.5980,  34.7320,2,-999.0000,9,  34.5080,    278.6,2,    282.9,2,    12.99,2,    13.12,2,  -999.00,9,     0.96,2,     -0.007,2,   2153.1,2,    684.5,      15.5,2, -999.000, -999.000,9,-999.0000,9,  -999.00,  -999.00,9,   -999.0,9, 2.39700007,2,      0.012,2,  -999.00,9,  -999.00,9,    60000,2,  6,   3025,   0.5861