BOTTLE,20090115PRINUNIVRMK
EXPOCODE,STNNBR,CASTNO,BTLNBR,BTLNBR_FLAG_W,DATE,LATITUDE,LONGITUDE,DEPTH,CTDPRS,CTDTMP,CTDSAL,CTDSAL_FLAG_W,SALNTY,SALNTY_FLAG_W,SOMSAL,CTDOXY,CTDOXY_FLAG_W,OXYGEN,OXYGEN_FLAG_W,SILCAT,SILCAT_FLAG_W,NITRAT,NITRAT_FLAG_W,NITRIT,NITRIT_FLAG_W,PHSPHT,PHSPHT_FLAG_W,AMMONI,AMMONI_FLAG_W,TCARBN,TCARBN_FLAG_W,FCO2,FCO2_TMP,FCO2_FLAG_W,TRITUM,TRITER,TRITUM_FLAG_W,HELIUM,HELIUM_FLAG_W,DELHE3,DELHER,DELHE3_FLAG_W,DELC14,DELC14_FLAG_W,POC,POC_FLAG_W,PON,PON_FLAG_W,CHLORA,CHLORA_FLAG_W,PHAEO,PHAEO_FLAG_W,BACT,BACT_FLAG_W,CTDNO,BNLID,THETA
,,,,,,,,METERS,DBARS,ITS-90,PSS-78,,PSS-78,,PSS-78,UMOL/KG,,UMOL/KG,,UMOL/KG,,UMOL/KG,,UMOL/KG,,UMOL/KG,,UMOL/KG,,UMOL/KG,,UATM,DEGC,,TU,TU,,NMOL/KG,,PERCNT,PERCNT,,O/OO,,ug/kg,,ug/kg,,UG/L,,UG/L,,CELLS/ML,,,,DEGC
  32L919930718,    96,  1,      7,2,19930816, 77.3130, -10.0420,  333,      1.0,  -1.4500,  29.9130,2,-999.0000,9,-999.0000,    403.6,2,    402.6,2,     1.35,2,     0.19,2,     0.01,2,     0.67,2,0.523000002,2,   -999.0,9,   -999.0,      -999,9, -999.000, -999.000,9,-999.0000,9,  -999.00,  -999.00,9,   -999.0,9,  42.980999,2, 4.00099993,2,     0.34,2,     0.01,2,     -999,9,173,   4771,  -1.4500
  32L919930718,    96,  1,      6,2,19930816, 77.3130, -10.0420,  333,     10.0,  -1.4380,  30.2050,2,-999.0000,9,  30.4940,    400.9,2,    408.5,2,     1.97,2,     0.32,2,     0.00,2,     0.64,2,0.045000002,2,   1951.8,2,    507.5,18.2999992,2, -999.000, -999.000,9,-999.0000,9,  -999.00,  -999.00,9,   -999.0,9, 11.6730003,2, 2.08400011,2,     0.62,2,     0.05,2,     -999,9,173,   4770,  -1.4381
  32L919930718,    96,  1,      5,2,19930816, 77.3130, -10.0420,  333,     20.0,  -1.1240,  32.1580,2,-999.0000,9,-999.0000,    371.9,2,    380.9,2,     9.14,2,     2.78,2,     0.11,2,     0.80,2,0.289000005,2,   -999.0,9,   -999.0,      -999,9, -999.000, -999.000,9,-999.0000,9,  -999.00,  -999.00,9,   -999.0,9, 8.30599976,2, 1.28600001,2,     0.78,2,     0.24,2,     -999,9,173,   4769,  -1.1244
  32L919930718,    96,  1,      4,2,19930816, 77.3130, -10.0420,  333,     35.0,  -1.5610,  32.7500,2,-999.0000,9,-999.0000,    347.4,2,    346.5,2,    11.22,2,     6.37,2,     0.22,2,     0.85,2,0.143000007,2,   -999.0,9,   -999.0,      -999,9, -999.000, -999.000,9,-999.0000,9,  -999.00,  -999.00,9,   -999.0,9, 4.87200022,2,0.405999988,2,     0.09,2,     0.10,2,     -999,9,173,   4768,  -1.5616
  32L919930718,    96,  1,      3,2,19930816, 77.3130, -10.0420,  333,     60.0,  -1.6250,  33.6300,2,-999.0000,9,  33.7090,    341.0,2,    336.4,2,     8.15,2,     7.44,2,     0.18,2,     0.75,2,0.395999998,2,   2119.7,2,   -999.0,      -999,9, -999.000, -999.000,9,-999.0000,9,  -999.00,  -999.00,9,   -999.0,9, 3.73699999,2,0.164000005,2,     0.04,2,     0.06,2,     -999,9,173,   4767,  -1.6262
  32L919930718,    96,  1,      2,2,19930816, 77.3130, -10.0420,  333,     90.0,  -1.6660,  33.8960,2,-999.0000,9,-999.0000,    331.2,2,    325.1,2,     7.28,2,     8.92,2,     0.17,2,     0.77,2,       0.25,2,   -999.0,9,   -999.0,      -999,9, -999.000, -999.000,9,-999.0000,9,  -999.00,  -999.00,9,   -999.0,9, 1.62600005,2,0.111000001,2,     0.02,2,     0.03,2,     -999,9,173,   4766,  -1.6678
  32L919930718,    96,  1,      1,2,19930816, 77.3130, -10.0420,  333,    120.0,  -1.5370,  34.0540,2,-999.0000,9,  34.0670,    324.8,2,    319.0,2,     7.73,2,     9.90,2,     0.17,2,     0.87,2,0.143000007,2,   2109.2,2,    693.9,18.2999992,2, -999.000, -999.000,9,-999.0000,9,  -999.00,  -999.00,9,   -999.0,9, 6.49700022,2,0.079000004,2,     0.01,2,     0.03,2,     -999,9,173,   4765,  -1.5396
  32L919930718,    96,  1,     12,2,19930816, 77.3130, -10.0420,  333,    160.0,  -0.8170,  34.3160,2,-999.0000,9,-999.0000,    312.7,2,    304.4,2,     9.50,2,    10.48,2,     0.10,2,     0.88,2,0.055000007,2,   -999.0,9,   -999.0,      -999,9, -999.000, -999.000,9,-999.0000,9,  -999.00,  -999.00,9,   -999.0,9, 2.50200009,2,0.130999997,2,     0.01,2,     0.02,2,     -999,9,173,   4764,  -0.8216
  32L919930718,    96,  1,     11,2,19930816, 77.3130, -10.0420,  333,    200.0,   0.1240,  34.5850,2,-999.0000,9,-999.0000,    300.2,2,    300.0,2,     9.78,2,    11.37,2,    -0.02,2,     0.86,2,0.016000003,2,   -999.0,9,   -999.0,      -999,9, -999.000, -999.000,9,-999.0000,9,  -999.00,  -999.00,9,   -999.0,9, 3.85400009,2,0.101999998,2,     0.01,2,     0.01,2,     -999,9,173,   4763,   0.1164
  32L919930718,    96,  1,     10,2,19930816, 77.3130, -10.0420,  333,    250.0,   1.3720,  34.8610,2,-999.0000,9,  34.8380,    302.6,2,    301.9,2,     8.60,2,    12.03,2,    -0.01,2,     0.88,2,-0.01300001,2,   2140.4,2,    691.6,18.2999992,2, -999.000, -999.000,9,-999.0000,9,  -999.00,  -999.00,9,   -999.0,9, 1.76999998,2,0.108000003,2,  -999.00,9,  -999.00,9,     -999,9,173,   4762,   1.3597
  32L919930718,    96,  1,      9,2,19930816, 77.3130, -10.0420,  333,    299.0,   1.3460,  34.9150,2,  34.9220,2,-999.0000,    302.0,2,    301.7,2,     8.31,2,    12.50,2,     0.03,2,     0.92,2,0.016000003,2,   -999.0,9,   -999.0,      -999,9, -999.000, -999.000,9,-999.0000,9,  -999.00,  -999.00,9,   -999.0,9, 1.00899994,2,0.115999997,2,  -999.00,9,  -999.00,9,     -999,9,173,   4761,   1.3312
  32L919930718,    96,  1,      8,2,19930816, 77.3130, -10.0420,  333,    323.0,   1.1350,  34.9170,2,-999.0000,9,  34.8780,    303.0,2,    300.6,2,     8.87,2,    12.71,2,     0.05,2,     0.90,2,0.016000003,2,   2143.1,2,    706.2,18.2999992,2, -999.000, -999.000,9,-999.0000,9,  -999.00,  -999.00,9,   -999.0,9, 2.10800004,2,0.061000001,2,  -999.00,9,  -999.00,9,     -999,9,173,   4760,   1.1195
  32L919930718,    97,  1,      7,2,19930817, 76.9780,  -9.4030,  396,      4.0,  -1.3440,  30.4030,2,-999.0000,9,  30.4680,    399.9,2,    408.2,2,     3.06,2,     0.33,2,     0.00,2,     0.60,2,0.074000001,2,   1950.0,2,    502.9,17.3999996,2, -999.000, -999.000,9,-999.0000,9,  -999.00,  -999.00,9,   -999.0,9, 13.6560001,2, 1.86800003,2,     0.88,2,     0.06,2,     -999,9,174,   4783,  -1.3441
  32L919930718,    97,  1,      6,2,19930817, 76.9780,  -9.4030,  396,     14.0,  -1.2890,  31.4700,2,  31.8930,2,  31.8690,    372.9,2,    376.7,2,    10.86,2,     3.23,2,     0.07,2,     0.80,2,0.221000001,2,   2064.2,2,    681.8,17.3999996,2, -999.000, -999.000,9,-999.0000,9,  -999.00,  -999.00,9,   -999.0,9,  6.8039999,2, 1.37600005,2,     0.83,2,     0.22,2,     -999,9,174,   4782,  -1.2893
  32L919930718,    97,  1,      5,2,19930817, 76.9780,  -9.4030,  396,     36.0,  -1.4790,  32.9480,2,-999.0000,9,  33.0110,    344.6,2,    348.7,2,    11.40,2,     6.15,2,     0.16,2,     0.83,2,0.221000001,2,   2125.6,2,    772.6,17.3999996,2, -999.000, -999.000,9,-999.0000,9,  -999.00,  -999.00,9,   -999.0,9, 3.41599989,2,0.474999994,2,     0.13,2,     0.12,2,     -999,9,174,   4781,  -1.4797
  32L919930718,    97,  1,      4,2,19930817, 76.9780,  -9.4030,  396,     60.0,  -1.6940,  33.6360,2,-999.0000,9,  33.6520,    331.5,2,    333.7,2,     9.62,2,     7.95,2,     0.11,2,     0.78,2,0.074000001,2,   2137.2,2,    758.3,17.3999996,2, -999.000, -999.000,9,-999.0000,9,  -999.00,  -999.00,9,   -999.0,9,      1.824,2,0.180999994,2,     0.04,2,     0.04,2,     -999,9,174,   4780,  -1.6951
  32L919930718,    97,  1,      3,2,19930817, 76.9780,  -9.4030,  396,    101.0,  -1.6850,  33.9850,2,-999.0000,9,  33.9390,    322.8,2,    322.7,2,     7.65,2,     9.46,2,     0.14,2,     0.78,2,0.104000002,2,   2111.5,2,    671.3,17.3999996,2, -999.000, -999.000,9,-999.0000,9,  -999.00,  -999.00,9,   -999.0,9, 1.60800004,2,0.200000003,2,     0.02,2,     0.04,2,     -999,9,174,   4779,  -1.6870
  32L919930718,    97,  1,      2,2,19930817, 76.9780,  -9.4030,  396,    150.0,  -1.3410,  34.2100,2,-999.0000,9,-999.0000,    317.9,2,    315.7,2,     8.83,2,    11.12,2,     0.01,2,     0.84,2,-0.00400001,2,   -999.0,9,   -999.0,      -999,9, -999.000, -999.000,9,-999.0000,9,  -999.00,  -999.00,9,   -999.0,9,0.615999997,2,0.131999999,2,     0.01,2,     0.02,2,     -999,9,174,   4778,  -1.3446
  32L919930718,    97,  1,      1,2,19930817, 76.9780,  -9.4030,  396,    190.0,  -0.3410,  34.4630,2,-999.0000,9,  34.4390,    308.5,2,    306.9,2,     8.73,2,    11.07,2,     0.16,2,     0.83,2,0.122999996,2,   2129.5,2,    683.7,17.3999996,2, -999.000, -999.000,9,-999.0000,9,  -999.00,  -999.00,9,   -999.0,9, 2.40700006,2,0.173999995,2,     0.01,2,     0.03,2,     -999,9,174,   4777,  -0.3474
  32L919930718,    97,  1,     12,2,19930817, 76.9780,  -9.4030,  396,    225.0,   1.0120,  34.7450,2,-999.0000,9,-999.0000,    300.8,2,    302.0,2,     8.30,2,    12.06,2,     0.04,2,     0.87,2,0.025999993,2,   -999.0,9,   -999.0,      -999,9, -999.000, -999.000,9,-999.0000,9,  -999.00,  -999.00,9,   -999.0,9, 3.07500005,2,0.156000003,2,  -999.00,9,  -999.00,9,     -999,9,174,   4776,   1.0017
  32L919930718,    97,  1,     11,2,19930817, 76.9780,  -9.4030,  396,    274.0,   1.4920,  34.8830,2,-999.0000,9,-999.0000,    301.2,2,    303.4,2,     7.77,2,    12.50,2,     0.01,2,     0.88,2,0.034999996,2,   -999.0,9,   -999.0,      -999,9, -999.000, -999.000,9,-999.0000,9,  -999.00,  -999.00,9,   -999.0,9,0.827000022,2,0.082999997,2,  -999.00,9,  -999.00,9,     -999,9,174,   4775,   1.4782
  32L919930718,    97,  1,     10,2,19930817, 76.9780,  -9.4030,  396,    325.0,   1.1780,  34.9160,2,-999.0000,9,  34.8840,    301.4,2,    301.6,2,     8.07,2,    12.83,2,     0.01,2,     0.93,2,0.034999996,2,   2143.1,2,    673.0,17.3999996,2, -999.000, -999.000,9,-999.0000,9,  -999.00,  -999.00,9,   -999.0,9, 1.96599996,2,0.071999997,2,  -999.00,9,  -999.00,9,     -999,9,174,   4774,   1.1623
  32L919930718,    97,  1,      9,2,19930817, 76.9780,  -9.4030,  396,    350.0,   1.1660,  34.9220,2,  34.9380,2,-999.0000,    302.3,2,    302.2,2,     7.98,2,    12.97,2,     0.02,2,     0.95,2,0.045000002,2,   -999.0,9,   -999.0,      -999,9, -999.000, -999.000,9,-999.0000,9,  -999.00,  -999.00,9,   -999.0,9, 2.75999999,2,0.054000001,2,  -999.00,9,  -999.00,9,     -999,9,174,   4773,   1.1490
  32L919930718,    97,  1,      8,2,19930817, 76.9780,  -9.4030,  396,    386.0,   1.0200,  34.9170,2,-999.0000,9,  34.8830,    302.4,2,    302.0,2,     8.31,2,    12.74,2,     0.03,2,     0.95,2,0.045000002,2,   2143.9,2,    686.2,17.3999996,2, -999.000, -999.000,9,-999.0000,9,  -999.00,  -999.00,9,   -999.0,9,0.282999992,2,0.048999999,2,  -999.00,9,  -999.00,9,     -999,9,174,   4772,   1.0016
  32L919930718,    98,  1,      7,2,19930817, 76.7840,  -8.3310,  359,      3.0,  -0.5030,  30.1110,2,-999.0000,9,  30.0830,    383.1,2,    392.5,2,     0.72,2,     0.24,2,    -0.01,2,     0.53,2,0.004000008,2,   1923.5,2,    474.1,17.2999992,2, -999.000, -999.000,9,-999.0000,9,  -999.00,  -999.00,9,   -999.0,9, 11.8529997,2, 1.47300005,2,     0.38,2,    -0.05,2,    83100,2,175,   4795,  -0.5031
  32L919930718,    98,  1,      6,2,19930817, 76.7840,  -8.3310,  359,     16.0,  -0.4220,  30.5010,2,  30.5980,2,  30.5230,    385.8,2,    396.5,2,     0.91,2,     0.26,2,     0.02,2,     0.50,2,0.004000008,2,   1948.2,2,    483.3,17.2999992,2, -999.000, -999.000,9,-999.0000,9,  -999.00,  -999.00,9,   -999.0,9, 27.1469994,2, 2.97600007,2,     0.82,2,     0.02,2,   123000,2,175,   4794,  -0.4224
  32L919930718,    98,  1,      5,2,19930817, 76.7840,  -8.3310,  359,     35.0,  -1.5520,  33.2310,2,-999.0000,9,  33.2480,    340.9,2,    344.6,2,    10.37,2,     6.31,2,     0.14,2,     0.75,2,0.238000005,2,   2130.1,2,    749.3,17.2999992,2, -999.000, -999.000,9,-999.0000,9,  -999.00,  -999.00,9,   -999.0,9, 4.13399982,2,0.307000011,2,     0.06,2,     0.12,2,   108000,2,175,   4793,  -1.5527
  32L919930718,    98,  1,      4,2,19930817, 76.7840,  -8.3310,  359,     61.0,  -1.6480,  33.7210,2,-999.0000,9,  33.6970,    332.5,2,    333.9,2,     9.21,2,     7.72,2,     0.19,2,     0.75,2,0.256999999,2,   2125.7,2,    707.1,17.2999992,2, -999.000, -999.000,9,-999.0000,9,  -999.00,  -999.00,9,   -999.0,9, 2.14400005,2,0.209999993,2,     0.04,2,     0.06,2,   959000,2,175,   4792,  -1.6492
  32L919930718,    98,  1,      3,2,19930817, 76.7840,  -8.3310,  359,    100.0,  -1.6730,  34.0190,2,-999.0000,9,  33.9960,    322.2,2,    321.5,2,     7.92,2,    10.05,2,     0.18,2,     0.72,2,0.013000011,2,   2111.5,2,    668.9,17.2999992,2, -999.000, -999.000,9,-999.0000,9,  -999.00,  -999.00,9,   -999.0,9, 2.36999989,2,0.196999997,2,     0.02,2,     0.04,2,    70300,2,175,   4791,  -1.6750
  32L919930718,    98,  1,      2,2,19930817, 76.7840,  -8.3310,  359,    125.0,  -1.5490,  34.1040,2,-999.0000,9,-999.0000,    320.2,2,    318.7,2,     8.36,2,    10.54,2,     0.07,2,     0.74,2,0.004000008,2,   -999.0,9,   -999.0,      -999,9, -999.000, -999.000,9,-999.0000,9,  -999.00,  -999.00,9,   -999.0,9, 6.02400017,2,0.180000007,2,     0.02,2,     0.04,2,    42300,2,175,   4790,  -1.5517
  32L919930718,    98,  1,      1,2,19930817, 76.7840,  -8.3310,  359,    175.0,  -0.5420,  34.3990,2,-999.0000,9,-999.0000,    309.0,2,    308.3,2,     9.20,2,    11.03,2,     0.13,2,     0.76,2,0.062000006,2,   -999.0,9,   -999.0,      -999,9, -999.000, -999.000,9,-999.0000,9,  -999.00,  -999.00,9,   -999.0,9, 5.08500004,2,0.270000011,2,     0.01,2,     0.03,2,    68500,2,175,   4789,  -0.5475
  32L919930718,    98,  1,     12,2,19930817, 76.7840,  -8.3310,  359,    210.0,   0.4520,  34.6470,2,-999.0000,9,  34.5910,    302.3,2,    300.4,2,     9.13,2,    11.82,2,     0.03,2,     0.78,2,     -0.006,2,   2136.1,2,    685.4,17.2999992,2, -999.000, -999.000,9,-999.0000,9,  -999.00,  -999.00,9,   -999.0,9, 1.48899996,2,0.151999995,2,  -999.00,9,  -999.00,9,    58600,2,175,   4788,   0.4434
  32L919930718,    98,  1,     11,2,19930817, 76.7840,  -8.3310,  359,    255.0,   1.8990,  34.9050,2,-999.0000,9,-999.0000,    302.6,2,    304.2,2,     7.31,2,    11.82,2,    -0.01,2,     0.77,2,0.013000011,2,   -999.0,9,   -999.0,      -999,9, -999.000, -999.000,9,-999.0000,9,  -999.00,  -999.00,9,   -999.0,9, 2.68000007,2,0.248999998,2,  -999.00,9,  -999.00,9,   115000,2,175,   4787,   1.8853
  32L919930718,    98,  1,     10,2,19930817, 76.7840,  -8.3310,  359,    301.0,   1.5650,  34.9220,2,-999.0000,9,  34.8890,    301.9,2,    303.4,2,     7.68,2,    12.12,2,     0.03,2,     0.74,2,-0.01599999,2,   2140.6,2,    657.3,17.2999992,2, -999.000, -999.000,9,-999.0000,9,  -999.00,  -999.00,9,   -999.0,9, 4.16400003,2,0.273000002,2,  -999.00,9,  -999.00,9,    72900,2,175,   4786,   1.5495
  32L919930718,    98,  1,      9,2,19930817, 76.7840,  -8.3310,  359,    326.0,   1.4700,  34.9350,2,  34.9390,2,-999.0000,    303.2,2,    303.4,2,     7.65,2,    12.22,2,     0.03,2,     0.79,2,0.023000002,2,   -999.0,9,   -999.0,      -999,9, -999.000, -999.000,9,-999.0000,9,  -999.00,  -999.00,9,   -999.0,9, 2.35500002,2,0.165999994,2,  -999.00,9,  -999.00,9,    47900,2,175,   4785,   1.4534
  32L919930718,    98,  1,      8,2,19930817, 76.7840,  -8.3310,  359,    349.0,   1.1650,  34.9280,2,-999.0000,9,  34.8370,    302.5,2,    302.7,2,     8.08,2,    12.37,2,     0.03,2,     0.77,2,0.033000007,2,   2140.2,2,    669.5,17.2999992,2, -999.000, -999.000,9,-999.0000,9,  -999.00,  -999.00,9,   -999.0,9, 2.67199993,2,0.182999998,2,  -999.00,9,  -999.00,9,     -999,9,175,   4784,   1.1481
  32L919930718,    99,  1,      7,2,19930817, 76.6820,  -7.7330,  328,      3.0,   0.5250,  31.0500,2,-999.0000,9,  31.0210,    373.6,2,    381.9,2,     1.00,2,    -0.04,2,     0.01,2,     0.33,2,-0.02599999,2,   1933.8,2,    436.3,17.2999992,2, -999.000, -999.000,9,-999.0000,9,  -999.00,  -999.00,9,   -999.0,9,       -999,9,       -999,9,     0.45,2,    -0.01,2,    95900,2,176,   4807,   0.5249
  32L919930718,    99,  1,      6,2,19930817, 76.6820,  -7.7330,  328,     10.0,   0.3610,  31.9680,2,-999.0000,9,  31.9430,    363.2,2,    368.7,2,     0.71,2,     0.03,2,     0.00,2,     0.25,2,     -0.006,2,   1955.0,2,    421.0,17.2999992,2, -999.000, -999.000,9,-999.0000,9,  -999.00,  -999.00,9,   -999.0,9,       -999,9,       -999,9,     1.09,2,    -0.11,2,   192000,2,176,   4806,   0.3607
  32L919930718,    99,  1,      5,2,19930817, 76.6820,  -7.7330,  328,     20.0,  -1.5070,  32.4620,2,-999.0000,9,-999.0000,    362.5,2,    349.7,2,    11.52,2,     4.91,2,     0.13,2,     0.85,2,0.062000006,2,   -999.0,9,   -999.0,      -999,9, -999.000, -999.000,9,-999.0000,9,  -999.00,  -999.00,9,   -999.0,9,       -999,9,       -999,9,     0.32,2,     0.12,2,   118000,2,176,   4805,  -1.5074
  32L919930718,    99,  1,      4,2,19930817, 76.6820,  -7.7330,  328,     36.0,  -1.5280,  33.1320,2,-999.0000,9,-999.0000,    347.7,2,    345.6,2,    11.46,2,     7.07,2,     0.18,2,     0.82,2,0.248000011,2,   -999.0,9,    784.6,17.2999992,2, -999.000, -999.000,9,-999.0000,9,  -999.00,  -999.00,9,   -999.0,9,       -999,9,       -999,9,     0.08,2,     0.08,2,   113000,2,176,   4804,  -1.5287
  32L919930718,    99,  1,      3,2,19930817, 76.6820,  -7.7330,  328,     61.0,  -1.6750,  33.7790,2,-999.0000,9,  33.7470,    339.1,2,    333.0,2,     8.39,2,     8.42,2,     0.10,2,     0.69,2,0.101000011,2,   2133.9,2,    740.8,17.2999992,2, -999.000, -999.000,9,-999.0000,9,  -999.00,  -999.00,9,   -999.0,9,       -999,9,       -999,9,     0.04,2,     0.06,2,    72300,2,176,   4803,  -1.6762
  32L919930718,    99,  1,      2,2,19930817, 76.6820,  -7.7330,  328,     80.0,  -1.6610,  33.9640,2,-999.0000,9,-999.0000,    329.0,2,    324.1,2,     7.47,2,     9.51,2,     0.08,2,     0.75,2,0.013000011,2,   -999.0,9,   -999.0,      -999,9, -999.000, -999.000,9,-999.0000,9,  -999.00,  -999.00,9,   -999.0,9,       -999,9,       -999,9,     0.05,2,     0.06,2,    84200,2,176,   4802,  -1.6626
  32L919930718,    99,  1,      1,2,19930817, 76.6820,  -7.7330,  328,     98.0,  -1.4030,  34.0730,2,-999.0000,9,  34.0500,    320.9,2,    315.4,2,     8.42,2,     9.80,2,     0.03,2,     0.75,2,0.023000002,2,   2119.4,2,    701.8,17.2999992,2, -999.000, -999.000,9,-999.0000,9,  -999.00,  -999.00,9,   -999.0,9,       -999,9,       -999,9,     0.02,2,     0.06,2,    42700,2,176,   4801,  -1.4052
  32L919930718,    99,  1,     12,2,19930817, 76.6820,  -7.7330,  328,    141.0,  -0.2210,  34.4650,2,-999.0000,9,  34.4340,    305.1,2,    300.1,2,     9.57,2,    11.74,2,     0.15,2,     0.86,2,0.091000006,2,   2134.4,2,    712.7,17.2999992,2, -999.000, -999.000,9,-999.0000,9,  -999.00,  -999.00,9,   -999.0,9,       -999,9,       -999,9,     0.01,2,     0.04,2,   102000,2,176,   4800,  -0.2258
  32L919930718,    99,  1,     11,2,19930817, 76.6820,  -7.7330,  328,    180.0,   0.7930,  34.7210,2,-999.0000,9,-999.0000,    304.4,2,    301.4,2,     8.90,2,    12.60,2,     0.03,2,     0.86,2,     -0.006,2,   -999.0,9,   -999.0,      -999,9, -999.000, -999.000,9,-999.0000,9,  -999.00,  -999.00,9,   -999.0,9,       -999,9,       -999,9,     0.01,2,     0.03,2,    85200,2,176,   4799,   0.7852
  32L919930718,    99,  1,     10,2,19930817, 76.6820,  -7.7330,  328,    221.0,   1.3650,  34.8620,2,-999.0000,9,-999.0000,    303.8,2,    301.5,2,     8.36,2,    12.73,2,     0.02,2,     0.86,2,-0.01599999,2,   -999.0,9,   -999.0,      -999,9, -999.000, -999.000,9,-999.0000,9,  -999.00,  -999.00,9,   -999.0,9,       -999,9,       -999,9,  -999.00,9,  -999.00,9,    83600,2,176,   4798,   1.3542
  32L919930718,    99,  1,      9,2,19930817, 76.6820,  -7.7330,  328,    279.0,   1.4050,  34.9170,2,  34.9590,2,  34.8240,    304.5,2,    301.7,2,     8.07,2,    12.95,2,     0.03,2,     0.89,2,0.013000011,2,   2138.7,2,   -999.0,      -999,9, -999.000, -999.000,9,-999.0000,9,  -999.00,  -999.00,9,   -999.0,9,       -999,9,       -999,9,  -999.00,9,  -999.00,9,    36400,2,176,   4797,   1.3911
  32L919930718,    99,  1,      8,2,19930817, 76.6820,  -7.7330,  328,    318.0,   1.0830,  34.9230,2,-999.0000,9,  34.8820,    305.4,2,    302.3,2,     8.33,2,    12.98,2,     0.04,2,     0.87,2,0.013000011,2,   2142.7,2,    679.5,17.2999992,2, -999.000, -999.000,9,-999.0000,9,  -999.00,  -999.00,9,   -999.0,9,       -999,9,       -999,9,  -999.00,9,  -999.00,9,    62000,2,176,   4796,   1.0679