BOTTLE,20090115PRINUNIVRMK
EXPOCODE,STNNBR,CASTNO,BTLNBR,BTLNBR_FLAG_W,DATE,LATITUDE,LONGITUDE,DEPTH,CTDPRS,CTDTMP,CTDSAL,CTDSAL_FLAG_W,SALNTY,SALNTY_FLAG_W,SOMSAL,CTDOXY,CTDOXY_FLAG_W,OXYGEN,OXYGEN_FLAG_W,SILCAT,SILCAT_FLAG_W,NITRAT,NITRAT_FLAG_W,NITRIT,NITRIT_FLAG_W,PHSPHT,PHSPHT_FLAG_W,AMMONI,AMMONI_FLAG_W,TCARBN,TCARBN_FLAG_W,FCO2,FCO2_TMP,FCO2_FLAG_W,TRITUM,TRITER,TRITUM_FLAG_W,HELIUM,HELIUM_FLAG_W,DELHE3,DELHER,DELHE3_FLAG_W,DELC14,DELC14_FLAG_W,POC,POC_FLAG_W,PON,PON_FLAG_W,CHLORA,CHLORA_FLAG_W,PHAEO,PHAEO_FLAG_W,BACT,BACT_FLAG_W,CTDNO,BNLID,THETA
,,,,,,,,METERS,DBARS,ITS-90,PSS-78,,PSS-78,,PSS-78,UMOL/KG,,UMOL/KG,,UMOL/KG,,UMOL/KG,,UMOL/KG,,UMOL/KG,,UMOL/KG,,UMOL/KG,,UATM,DEGC,,TU,TU,,NMOL/KG,,PERCNT,PERCNT,,O/OO,,ug/kg,,ug/kg,,UG/L,,UG/L,,CELLS/ML,,,,DEGC
  32L919930718,    23,  1,     12,2,19930726, 80.5870, -11.1010,  260,      2.0,   1.0990,  31.3770,2,  31.4110,2,-999.0000,    428.2,2,    427.3,2,     3.76,2,     0.05,2,     0.00,2,     0.68,2,0.080000006,2,   -999.0,9,   -999.0,      -999,9, -999.000, -999.000,9,-999.0000,9,  -999.00,  -999.00,9,   -999.0,9, 9.43299961,2,0.938000023,2,     0.16,2,     0.04,2,     -999,9, 30,   3288,   1.0989
  32L919930718,    23,  1,     11,2,19930726, 80.5870, -11.1010,  260,     10.0,  -0.5240,  32.1900,2,-999.0000,9,-999.0000,    436.5,2,    444.4,2,     3.71,2,     0.08,2,     0.00,2,     0.73,2,0.061000001,2,   -999.0,9,   -999.0,      -999,9, -999.000, -999.000,9,-999.0000,9,  -999.00,  -999.00,9,   -999.0,9, 15.4469996,2,      1.528,2,     0.19,2,     0.04,2,     -999,9, 30,   3287,  -0.5243
  32L919930718,    23,  1,     10,2,19930726, 80.5870, -11.1010,  260,     25.0,  -1.4310,  32.3420,2,-999.0000,9,-999.0000,    372.9,2,    373.3,2,    10.67,2,     3.45,2,     0.03,2,     1.00,2,0.168000013,2,   -999.0,9,   -999.0,      -999,9, -999.000, -999.000,9,-999.0000,9,  -999.00,  -999.00,9,   -999.0,9, 9.69299984,2, 1.24000001,2,     1.20,2,     0.20,2,     -999,9, 30,   3286,  -1.4315
  32L919930718,    23,  1,      9,2,19930726, 80.5870, -11.1010,  260,     35.0,  -1.5990,  32.3820,2,-999.0000,9,-999.0000,    366.9,2,    367.1,2,    11.36,2,     4.17,2,     0.01,2,     1.02,2,0.275999993,2,   -999.0,9,   -999.0,      -999,9, -999.000, -999.000,9,-999.0000,9,  -999.00,  -999.00,9,   -999.0,9, 3.00900006,2,0.238000005,2,     0.14,2,     0.03,2,     -999,9, 30,   3285,  -1.5996
  32L919930718,    23,  1,      8,2,19930726, 80.5870, -11.1010,  260,     60.0,  -1.7240,  32.4680,2,-999.0000,9,-999.0000,    364.1,2,    352.7,2,    12.25,2,     5.60,2,     0.00,2,     1.01,2,0.041000001,2,   -999.0,9,   -999.0,      -999,9, -999.000, -999.000,9,-999.0000,9,  -999.00,  -999.00,9,   -999.0,9, 1.99800003,2,0.127000004,2,     0.03,2,     0.00,2,     -999,9, 30,   3284,  -1.7250
  32L919930718,    23,  1,      7,2,19930726, 80.5870, -11.1010,  260,     80.0,  -1.5940,  32.8460,2,-999.0000,9,-999.0000,    343.4,2,    335.0,2,    12.71,2,     7.43,2,     0.01,2,     0.99,2,0.051000003,2,   -999.0,9,   -999.0,      -999,9, -999.000, -999.000,9,-999.0000,9,  -999.00,  -999.00,9,   -999.0,9,       -999,9,       -999,9,     0.03,2,     0.01,2,     -999,9, 30,   3283,  -1.5955
  32L919930718,    23,  1,      6,2,19930726, 80.5870, -11.1010,  260,    101.0,  -1.3620,  33.3930,2,-999.0000,9,-999.0000,    326.6,2,    315.9,2,    12.48,2,     9.62,2,     0.01,2,     0.96,2,0.159000009,2,   -999.0,9,   -999.0,      -999,9, -999.000, -999.000,9,-999.0000,9,  -999.00,  -999.00,9,   -999.0,9, 1.86000001,2,0.104999997,2,     0.01,2,     0.01,2,     -999,9, 30,   3282,  -1.3642
  32L919930718,    23,  1,      5,2,19930726, 80.5870, -11.1010,  260,    126.0,  -1.0020,  33.9220,2,-999.0000,9,-999.0000,    310.1,2,    307.0,2,    11.97,2,    10.50,2,     0.01,2,     0.93,2,0.149000004,2,   -999.0,9,   -999.0,      -999,9, -999.000, -999.000,9,-999.0000,9,  -999.00,  -999.00,9,   -999.0,9, 5.61800003,2,0.333999991,2,     0.02,2,     0.01,2,     -999,9, 30,   3281,  -1.0053
  32L919930718,    23,  1,      4,2,19930726, 80.5870, -11.1010,  260,    151.0,  -0.3580,  34.2920,2,-999.0000,9,-999.0000,    296.1,2,    293.7,2,    12.05,2,    12.18,2,     0.01,2,     0.95,2,0.129000008,2,   -999.0,9,   -999.0,      -999,9, -999.000, -999.000,9,-999.0000,9,  -999.00,  -999.00,9,   -999.0,9, 4.67799997,2,0.263000011,2,     0.01,2,     0.01,2,     -999,9, 30,   3280,  -0.3630
  32L919930718,    23,  1,      3,2,19930726, 80.5870, -11.1010,  260,    176.0,   0.0880,  34.5130,2,-999.0000,9,-999.0000,    290.1,2,    287.9,2,    11.85,2,    12.70,2,     0.00,2,     0.95,2,0.129000008,2,   -999.0,9,   -999.0,      -999,9, -999.000, -999.000,9,-999.0000,9,  -999.00,  -999.00,9,   -999.0,9, 2.59899998,2,0.335999995,2,     0.02,2,     0.02,2,     -999,9, 30,   3279,   0.0814
  32L919930718,    23,  1,      2,2,19930726, 80.5870, -11.1010,  260,    200.0,   0.3130,  34.6260,2,  34.6190,2,-999.0000,    286.4,2,    285.1,2,    12.03,2,    13.05,2,     0.00,2,     0.96,2,0.100000001,2,   -999.0,9,   -999.0,      -999,9, -999.000, -999.000,9,-999.0000,9,  -999.00,  -999.00,9,   -999.0,9, 2.44899988,2,0.173999995,2,     0.02,2,     0.02,2,     -999,9, 30,   3278,   0.3051
  32L919930718,    23,  1,      1,2,19930726, 80.5870, -11.1010,  260,    250.0,   0.3880,  34.7520,2,-999.0000,9,-999.0000,    282.1,2,    278.3,2,    12.81,2,    13.19,2,     0.02,2,     0.98,2,0.071000002,2,   -999.0,9,   -999.0,      -999,9, -999.000, -999.000,9,-999.0000,9,  -999.00,  -999.00,9,   -999.0,9, 1.05700004,2,0.245000005,2,     0.04,2,     0.03,2,     -999,9, 30,   3277,   0.3778
  32L919930718,    24,  1,     12,2,19930726, 80.6590, -11.1190,  218,      3.0,   0.7190,  31.8130,2,  31.7250,2,-999.0000,    435.1,2,   -999.0,9,     3.44,2,     0.05,2,     0.00,2,     0.68,2,0.041000001,2,   -999.0,9,   -999.0,      -999,9, -999.000, -999.000,9,-999.0000,9,  -999.00,  -999.00,9,   -999.0,9,       -999,9,       -999,9,  -999.00,9,  -999.00,9,     -999,9, 31,   3300,   0.7189
  32L919930718,    24,  1,     11,2,19930726, 80.6590, -11.1190,  218,     10.0,  -0.4850,  32.1790,2,-999.0000,9,-999.0000,    443.3,2,   -999.0,9,     3.98,2,     0.05,2,     0.02,2,     0.71,2,0.061000001,2,   -999.0,9,   -999.0,      -999,9, -999.000, -999.000,9,-999.0000,9,  -999.00,  -999.00,9,   -999.0,9,       -999,9,       -999,9,  -999.00,9,  -999.00,9,     -999,9, 31,   3299,  -0.4853
  32L919930718,    24,  1,     10,2,19930726, 80.6590, -11.1190,  218,     19.0,  -1.6000,  32.3340,2,-999.0000,9,-999.0000,    374.2,2,   -999.0,9,    10.71,2,     3.45,2,     0.05,2,     1.00,2,0.090000004,2,   -999.0,9,   -999.0,      -999,9, -999.000, -999.000,9,-999.0000,9,  -999.00,  -999.00,9,   -999.0,9,       -999,9,       -999,9,  -999.00,9,  -999.00,9,     -999,9, 31,   3298,  -1.6003
  32L919930718,    24,  1,      9,2,19930726, 80.6590, -11.1190,  218,     34.0,  -1.7230,  32.3790,2,-999.0000,9,-999.0000,    369.9,2,   -999.0,9,    11.21,2,     3.99,2,     0.01,2,     1.02,2,0.080000006,2,   -999.0,9,   -999.0,      -999,9, -999.000, -999.000,9,-999.0000,9,  -999.00,  -999.00,9,   -999.0,9,       -999,9,       -999,9,  -999.00,9,  -999.00,9,     -999,9, 31,   3297,  -1.7235
  32L919930718,    24,  1,      8,2,19930726, 80.6590, -11.1190,  218,     50.0,  -1.6970,  32.4210,2,-999.0000,9,-999.0000,    371.4,2,   -999.0,9,    11.40,2,     4.37,2,     0.01,2,     1.03,2,0.002000004,2,   -999.0,9,   -999.0,      -999,9, -999.000, -999.000,9,-999.0000,9,  -999.00,  -999.00,9,   -999.0,9,       -999,9,       -999,9,  -999.00,9,  -999.00,9,     -999,9, 31,   3296,  -1.6978
  32L919930718,    24,  1,      7,2,19930726, 80.6590, -11.1190,  218,     59.0,  -1.7510,  32.4340,2,-999.0000,9,-999.0000,    370.5,2,   -999.0,9,    11.55,2,     4.55,2,     0.00,2,     1.03,2,0.002000004,2,   -999.0,9,   -999.0,      -999,9, -999.000, -999.000,9,-999.0000,9,  -999.00,  -999.00,9,   -999.0,9,       -999,9,       -999,9,  -999.00,9,  -999.00,9,     -999,9, 31,   3295,  -1.7520
  32L919930718,    24,  1,      6,2,19930726, 80.6590, -11.1190,  218,     75.0,  -1.6970,  32.5360,2,-999.0000,9,-999.0000,    360.9,2,   -999.0,9,    12.42,2,     6.30,2,     0.01,2,     1.02,2,0.012000002,2,   -999.0,9,   -999.0,      -999,9, -999.000, -999.000,9,-999.0000,9,  -999.00,  -999.00,9,   -999.0,9,       -999,9,       -999,9,  -999.00,9,  -999.00,9,     -999,9, 31,   3294,  -1.6983
  32L919930718,    24,  1,      5,2,19930726, 80.6590, -11.1190,  218,    100.0,  -0.8790,  33.5060,2,-999.0000,9,-999.0000,    320.9,2,   -999.0,9,    13.41,2,     9.32,2,     0.02,2,     1.01,2,0.031999998,2,   -999.0,9,   -999.0,      -999,9, -999.000, -999.000,9,-999.0000,9,  -999.00,  -999.00,9,   -999.0,9,       -999,9,       -999,9,  -999.00,9,  -999.00,9,     -999,9, 31,   3293,  -0.8816
  32L919930718,    24,  1,      4,2,19930726, 80.6590, -11.1190,  218,    124.0,  -0.6680,  33.8460,2,-999.0000,9,-999.0000,    309.0,2,   -999.0,9,    12.73,2,    10.61,2,     0.01,2,     0.99,2,      0.022,2,   -999.0,9,   -999.0,      -999,9, -999.000, -999.000,9,-999.0000,9,  -999.00,  -999.00,9,   -999.0,9,       -999,9,       -999,9,  -999.00,9,  -999.00,9,     -999,9, 31,   3292,  -0.6716
  32L919930718,    24,  1,      3,2,19930726, 80.6590, -11.1190,  218,    149.0,   0.0530,  34.5200,2,-999.0000,9,-999.0000,    292.8,2,   -999.0,9,    11.52,2,    12.51,2,     0.01,2,     0.95,2,0.120000005,2,   -999.0,9,   -999.0,      -999,9, -999.000, -999.000,9,-999.0000,9,  -999.00,  -999.00,9,   -999.0,9,       -999,9,       -999,9,  -999.00,9,  -999.00,9,     -999,9, 31,   3291,   0.0475
  32L919930718,    24,  1,      2,2,19930726, 80.6590, -11.1190,  218,    174.0,   0.1950,  34.5990,2,  34.6040,2,-999.0000,    291.8,2,   -999.0,9,    11.65,2,    12.80,2,     0.02,2,     0.96,2,0.090000004,2,   -999.0,9,   -999.0,      -999,9, -999.000, -999.000,9,-999.0000,9,  -999.00,  -999.00,9,   -999.0,9,       -999,9,       -999,9,  -999.00,9,  -999.00,9,     -999,9, 31,   3290,   0.1883
  32L919930718,    24,  1,      1,2,19930726, 80.6590, -11.1190,  218,    208.0,   0.3120,  34.7220,2,-999.0000,9,-999.0000,    290.3,2,   -999.0,9,    11.92,2,    12.90,2,     0.02,2,     0.97,2,0.031999998,2,   -999.0,9,   -999.0,      -999,9, -999.000, -999.000,9,-999.0000,9,  -999.00,  -999.00,9,   -999.0,9,       -999,9,       -999,9,  -999.00,9,  -999.00,9,     -999,9, 31,   3289,   0.3037
  32L919930718,    25,  1,     12,2,19930726, 80.6630, -11.1320,  125,      2.0,  -0.6510,  31.0250,2,  30.7110,2,  30.4290,    434.0,2,    443.0,2,     1.32,2,     0.05,2,     0.03,2,     0.70,2,0.031999998,2,   1951.8,2,    423.1,17.1000004,2, -999.000, -999.000,9,-999.0000,9,  -999.00,  -999.00,9,   -999.0,9, 16.8999996,2, 1.82099998,2,     1.09,2,     0.09,2,     -999,9, 32,   3312,  -0.6510
  32L919930718,    25,  1,     11,2,19930726, 80.6630, -11.1320,  125,      5.0,  -0.6060,  31.0090,2,-999.0000,9,  31.0120,    429.2,2,    429.3,2,     1.71,2,     0.07,2,     0.01,2,     0.76,2,0.041000001,2,   1991.9,2,    480.3,17.1000004,2, -999.000, -999.000,9,-999.0000,9,  -999.00,  -999.00,9,   -999.0,9,  33.355999,2, 4.06699991,2,     1.45,2,     0.37,2,     -999,9, 32,   3311,  -0.6061
  32L919930718,    25,  1,     10,2,19930726, 80.6630, -11.1320,  125,     10.0,  -0.5530,  30.9800,2,-999.0000,9,  31.2520,    420.0,2,    401.0,2,     5.05,2,     0.71,2,     0.03,2,     0.87,2,0.012000002,2,   2040.4,2,    590.3,17.1000004,2, -999.000, -999.000,9,-999.0000,9,  -999.00,  -999.00,9,   -999.0,9, 20.0629997,2, 2.88000011,2,     0.82,2,     1.54,2,     -999,9, 32,   3310,  -0.5532
  32L919930718,    25,  1,      9,2,19930726, 80.6630, -11.1320,  125,     15.0,  -1.1990,  31.4310,2,-999.0000,9,  31.6080,    394.0,2,    388.8,2,     6.73,2,     1.82,2,     0.04,2,     0.92,2,0.100000001,2,   2071.9,2,    641.3,17.1000004,2, -999.000, -999.000,9,-999.0000,9,  -999.00,  -999.00,9,   -999.0,9, 9.17199993,2, 1.68499994,2,     1.36,2,     0.39,2,     -999,9, 32,   3309,  -1.1993
  32L919930718,    25,  1,      8,2,19930726, 80.6630, -11.1320,  125,     20.0,  -0.8760,  31.6090,2,-999.0000,9,  31.8520,    400.5,2,    383.4,2,     7.54,2,     2.68,2,     0.03,2,     0.93,2,0.090000004,2,   2084.4,2,    658.2,17.1000004,2, -999.000, -999.000,9,-999.0000,9,  -999.00,  -999.00,9,   -999.0,9, 6.97599983,2, 1.16299999,2,     0.91,2,     0.11,2,     -999,9, 32,   3308,  -0.8764
  32L919930718,    25,  1,      7,2,19930726, 80.6630, -11.1320,  125,     35.0,  -1.6430,  32.3280,2,-999.0000,9,  32.2350,    369.6,2,    358.4,2,    10.89,2,     5.07,2,     0.04,2,     1.01,2,0.138999999,2,   2114.0,2,    745.7,17.1000004,2, -999.000, -999.000,9,-999.0000,9,  -999.00,  -999.00,9,   -999.0,9, 1.89600003,2,       -999,9,     0.29,2,     0.13,2,     -999,9, 32,   3307,  -1.6436
  32L919930718,    25,  1,      6,2,19930726, 80.6630, -11.1320,  125,     50.0,  -1.4570,  32.6490,2,-999.0000,9,  32.6920,    349.1,2,    343.1,2,    12.03,2,     6.77,2,     0.04,2,     1.01,2,0.109999999,2,   2125.7,2,    775.4,17.1000004,2, -999.000, -999.000,9,-999.0000,9,  -999.00,  -999.00,9,   -999.0,9, 1.84899998,2,0.282999992,2,     0.09,2,     0.09,2,     -999,9, 32,   3306,  -1.4580
  32L919930718,    25,  1,      5,2,19930726, 80.6630, -11.1320,  125,     60.0,  -1.3450,  32.9330,2,-999.0000,9,  32.7640,    340.9,2,    336.7,2,    12.30,2,     7.47,2,     0.04,2,     1.01,2,0.090000004,2,   2130.3,2,    775.2,17.1000004,2, -999.000, -999.000,9,-999.0000,9,  -999.00,  -999.00,9,   -999.0,9, 1.22399998,2,0.196999997,2,     0.07,2,     0.07,2,     -999,9, 32,   3305,  -1.3462
  32L919930718,    25,  1,      4,2,19930726, 80.6630, -11.1320,  125,     75.0,  -1.1340,  33.1980,2,-999.0000,9,  33.0020,    330.4,2,    327.6,2,    12.55,2,     8.41,2,     0.03,2,     1.01,2,0.227000013,2,   2133.1,2,    766.0,17.1000004,2, -999.000, -999.000,9,-999.0000,9,  -999.00,  -999.00,9,   -999.0,9, 1.36699998,2,0.202000007,2,     0.04,2,     0.06,2,     -999,9, 32,   3304,  -1.1357
  32L919930718,    25,  1,      3,2,19930726, 80.6630, -11.1320,  125,     80.0,  -1.0610,  33.2970,2,-999.0000,9,  33.0510,    328.5,2,    324.5,2,    12.70,2,     8.81,2,     0.01,2,     1.00,2,0.061000001,2,   2135.6,2,    769.6,17.1000004,2, -999.000, -999.000,9,-999.0000,9,  -999.00,  -999.00,9,   -999.0,9,0.866999984,2,0.237000003,2,     0.04,2,     0.07,2,     -999,9, 32,   3303,  -1.0629
  32L919930718,    25,  1,      2,2,19930726, 80.6630, -11.1320,  125,     99.0,  -0.7730,  33.6140,2,  33.6220,2,-999.0000,    318.7,2,    319.4,2,    13.04,2,    10.16,2,     0.02,2,     1.00,2,0.100000001,2,   -999.0,9,   -999.0,      -999,9, -999.000, -999.000,9,-999.0000,9,  -999.00,  -999.00,9,   -999.0,9,0.825999975,2,0.171000004,2,     0.03,2,     0.05,2,     -999,9, 32,   3302,  -0.7757
  32L919930718,    25,  1,      1,2,19930726, 80.6630, -11.1320,  125,    115.0,  -0.5390,  33.8850,2,-999.0000,9,  33.5940,    312.2,2,    308.1,2,    12.69,2,    10.74,2,     0.01,2,     1.00,2,0.031999998,2,   2141.6,2,    759.6,17.1000004,2, -999.000, -999.000,9,-999.0000,9,  -999.00,  -999.00,9,   -999.0,9, 2.05999994,2,0.115999997,2,     0.03,2,     0.05,2,     -999,9, 32,   3301,  -0.5425
  32L919930718,    26,  1,     12,2,19930726, 80.7840, -11.1410,  230,      2.0,   1.3530,  29.5580,2,  30.1990,2,-999.0000,    405.9,2,   -999.0,9,     1.23,2,     0.07,2,     0.01,2,     0.67,2,0.109999999,2,   -999.0,9,   -999.0,      -999,9, -999.000, -999.000,9,-999.0000,9,  -999.00,  -999.00,9,   -999.0,9,       -999,9,       -999,9,  -999.00,9,  -999.00,9,     -999,9, 33,   3324,   1.3529
  32L919930718,    26,  1,     11,2,19930726, 80.7840, -11.1410,  230,     10.0,  -0.0720,  30.7100,2,-999.0000,9,-999.0000,    446.3,2,   -999.0,9,     1.32,2,     0.05,2,     0.01,2,     0.76,2,0.061000001,2,   -999.0,9,   -999.0,      -999,9, -999.000, -999.000,9,-999.0000,9,  -999.00,  -999.00,9,   -999.0,9,       -999,9,       -999,9,  -999.00,9,  -999.00,9,     -999,9, 33,   3323,  -0.0723
  32L919930718,    26,  1,     10,2,19930726, 80.7840, -11.1410,  230,     20.0,  -0.9800,  31.4070,2,-999.0000,9,-999.0000,    400.5,2,   -999.0,9,     3.59,2,     0.63,2,     0.03,2,     0.83,2,0.071000002,2,   -999.0,9,   -999.0,      -999,9, -999.000, -999.000,9,-999.0000,9,  -999.00,  -999.00,9,   -999.0,9,       -999,9,       -999,9,  -999.00,9,  -999.00,9,     -999,9, 33,   3322,  -0.9804
  32L919930718,    26,  1,      9,2,19930726, 80.7840, -11.1410,  230,     35.0,  -1.1990,  32.2340,2,-999.0000,9,-999.0000,    362.2,2,   -999.0,9,     9.58,2,     4.82,2,     0.02,2,     1.00,2,0.275999993,2,   -999.0,9,   -999.0,      -999,9, -999.000, -999.000,9,-999.0000,9,  -999.00,  -999.00,9,   -999.0,9,       -999,9,       -999,9,  -999.00,9,  -999.00,9,     -999,9, 33,   3321,  -1.1997
  32L919930718,    26,  1,      8,2,19930726, 80.7840, -11.1410,  230,     50.0,  -1.4700,  32.6350,2,-999.0000,9,-999.0000,    349.5,2,   -999.0,9,    11.82,2,     6.58,2,     0.05,2,     1.04,2,0.159000009,2,   -999.0,9,   -999.0,      -999,9, -999.000, -999.000,9,-999.0000,9,  -999.00,  -999.00,9,   -999.0,9,       -999,9,       -999,9,  -999.00,9,  -999.00,9,     -999,9, 33,   3320,  -1.4709
  32L919930718,    26,  1,      7,2,19930726, 80.7840, -11.1410,  230,     60.0,  -1.3860,  32.8770,2,-999.0000,9,-999.0000,    340.4,2,   -999.0,9,    12.46,2,     7.95,2,     0.03,2,     1.03,2,0.100000001,2,   -999.0,9,   -999.0,      -999,9, -999.000, -999.000,9,-999.0000,9,  -999.00,  -999.00,9,   -999.0,9,       -999,9,       -999,9,  -999.00,9,  -999.00,9,     -999,9, 33,   3319,  -1.3872
  32L919930718,    26,  1,      6,2,19930726, 80.7840, -11.1410,  230,     80.0,  -0.9360,  33.4250,2,-999.0000,9,-999.0000,    320.2,2,   -999.0,9,    13.05,2,     9.90,2,     0.02,2,     1.03,2,     -0.017,2,   -999.0,9,   -999.0,      -999,9, -999.000, -999.000,9,-999.0000,9,  -999.00,  -999.00,9,   -999.0,9,       -999,9,       -999,9,  -999.00,9,  -999.00,9,     -999,9, 33,   3318,  -0.9380
  32L919930718,    26,  1,      5,2,19930726, 80.7840, -11.1410,  230,    100.0,  -0.6770,  33.7140,2,-999.0000,9,-999.0000,    310.4,2,   -999.0,9,    13.09,2,    10.71,2,     0.01,2,     1.01,2,0.002000004,2,   -999.0,9,   -999.0,      -999,9, -999.000, -999.000,9,-999.0000,9,  -999.00,  -999.00,9,   -999.0,9,       -999,9,       -999,9,  -999.00,9,  -999.00,9,     -999,9, 33,   3317,  -0.6798
  32L919930718,    26,  1,      4,2,19930726, 80.7840, -11.1410,  230,    125.0,  -0.5300,  33.8850,2,-999.0000,9,-999.0000,    307.0,2,   -999.0,9,    12.74,2,    11.29,2,     0.01,2,     1.01,2,0.002000004,2,   -999.0,9,   -999.0,      -999,9, -999.000, -999.000,9,-999.0000,9,  -999.00,  -999.00,9,   -999.0,9,       -999,9,       -999,9,  -999.00,9,  -999.00,9,     -999,9, 33,   3316,  -0.5338
  32L919930718,    26,  1,      3,2,19930726, 80.7840, -11.1410,  230,    150.0,  -0.3790,  34.0430,2,-999.0000,9,-999.0000,    302.2,2,   -999.0,9,    12.42,2,    11.78,2,     0.02,2,     1.00,2,0.031999998,2,   -999.0,9,   -999.0,      -999,9, -999.000, -999.000,9,-999.0000,9,  -999.00,  -999.00,9,   -999.0,9,       -999,9,       -999,9,  -999.00,9,  -999.00,9,     -999,9, 33,   3315,  -0.3838
  32L919930718,    26,  1,      2,2,19930726, 80.7840, -11.1410,  230,    200.0,  -0.2730,  34.1530,2,  34.1580,2,-999.0000,    300.9,2,   -999.0,9,    12.16,2,    11.92,2,     0.01,2,     1.00,2,0.061000001,2,   -999.0,9,   -999.0,      -999,9, -999.000, -999.000,9,-999.0000,9,  -999.00,  -999.00,9,   -999.0,9,       -999,9,       -999,9,  -999.00,9,  -999.00,9,     -999,9, 33,   3314,  -0.2797
  32L919930718,    26,  1,      1,2,19930726, 80.7840, -11.1410,  230,    220.0,  -0.2470,  34.1890,2,-999.0000,9,-999.0000,    302.1,2,   -999.0,9,    11.98,2,    12.08,2,     0.02,2,     1.00,2,0.080000006,2,   -999.0,9,   -999.0,      -999,9, -999.000, -999.000,9,-999.0000,9,  -999.00,  -999.00,9,   -999.0,9,       -999,9,       -999,9,  -999.00,9,  -999.00,9,     -999,9, 33,   3313,  -0.2545