BOTTLE,20090115PRINUNIVRMK
EXPOCODE,STNNBR,CASTNO,BTLNBR,BTLNBR_FLAG_W,DATE,LATITUDE,LONGITUDE,DEPTH,CTDPRS,CTDTMP,CTDSAL,CTDSAL_FLAG_W,SALNTY,SALNTY_FLAG_W,SOMSAL,CTDOXY,CTDOXY_FLAG_W,OXYGEN,OXYGEN_FLAG_W,SILCAT,SILCAT_FLAG_W,NITRAT,NITRAT_FLAG_W,NITRIT,NITRIT_FLAG_W,PHSPHT,PHSPHT_FLAG_W,AMMONI,AMMONI_FLAG_W,TCARBN,TCARBN_FLAG_W,FCO2,FCO2_TMP,FCO2_FLAG_W,TRITUM,TRITER,TRITUM_FLAG_W,HELIUM,HELIUM_FLAG_W,DELHE3,DELHER,DELHE3_FLAG_W,DELC14,DELC14_FLAG_W,POC,POC_FLAG_W,PON,PON_FLAG_W,CHLORA,CHLORA_FLAG_W,PHAEO,PHAEO_FLAG_W,BACT,BACT_FLAG_W,CTDNO,BNLID,THETA
,,,,,,,,METERS,DBARS,ITS-90,PSS-78,,PSS-78,,PSS-78,UMOL/KG,,UMOL/KG,,UMOL/KG,,UMOL/KG,,UMOL/KG,,UMOL/KG,,UMOL/KG,,UMOL/KG,,UATM,DEGC,,TU,TU,,NMOL/KG,,PERCNT,PERCNT,,O/OO,,ug/kg,,ug/kg,,UG/L,,UG/L,,CELLS/ML,,,,DEGC
  32L919930718,    79,  1,      6,2,19930809, 79.4710, -15.7400,  119,      2.0,  -1.4560,  32.0750,2,-999.0000,9,-999.0000,    378.5,2,    377.6,2,    10.47,2,     2.58,2,     0.12,2,     0.95,2,0.143000007,2,   -999.0,9,   -999.0,      -999,9, -999.000, -999.000,9,-999.0000,9,  -999.00,  -999.00,9,   -999.0,9, 4.21500015,2, 0.59799999,2,     0.36,2,     0.09,2,     -999,9,144,   4458,  -1.4560
  32L919930718,    79,  1,      5,2,19930809, 79.4710, -15.7400,  119,     10.0,  -1.5560,  32.0830,2,  32.0940,2,-999.0000,    379.5,2,    377.8,2,    10.41,2,     2.98,2,     0.09,2,     0.97,2,0.181999996,2,   -999.0,9,   -999.0,      -999,9, -999.000, -999.000,9,-999.0000,9,  -999.00,  -999.00,9,   -999.0,9, 4.30200005,2,0.637000024,2,     0.34,2,     0.07,2,     -999,9,144,   4457,  -1.5562
  32L919930718,    79,  1,      4,2,19930809, 79.4710, -15.7400,  119,     20.0,  -1.6730,  32.1160,2,-999.0000,9,-999.0000,    380.5,2,    377.5,2,    10.48,2,     2.90,2,     0.07,2,     0.97,2, 0.15200001,2,   -999.0,9,   -999.0,      -999,9, -999.000, -999.000,9,-999.0000,9,  -999.00,  -999.00,9,   -999.0,9, 3.62599993,2,0.593999982,2,     0.47,2,     0.09,2,     -999,9,144,   4456,  -1.6733
  32L919930718,    79,  1,      3,2,19930809, 79.4710, -15.7400,  119,     30.0,  -1.7130,  32.2950,2,-999.0000,9,-999.0000,    376.0,2,    370.8,2,    11.05,2,     3.74,2,     0.09,2,     1.01,2,0.133000001,2,   -999.0,9,   -999.0,      -999,9, -999.000, -999.000,9,-999.0000,9,  -999.00,  -999.00,9,   -999.0,9, 2.03699994,2,0.231000006,2,     0.16,2,     0.02,2,     -999,9,144,   4455,  -1.7135
  32L919930718,    79,  1,      2,2,19930809, 79.4710, -15.7400,  119,     40.0,  -1.7240,  32.3770,2,-999.0000,9,-999.0000,    375.3,2,    369.7,2,    11.12,2,     3.69,2,     0.06,2,     1.02,2,0.122999996,2,   -999.0,9,   -999.0,      -999,9, -999.000, -999.000,9,-999.0000,9,  -999.00,  -999.00,9,   -999.0,9,      1.653,2,0.252999991,2,     0.14,2,     0.03,2,     -999,9,144,   4454,  -1.7246
  32L919930718,    79,  1,      1,2,19930809, 79.4710, -15.7400,  119,     50.0,  -1.7360,  32.4110,2,-999.0000,9,-999.0000,    374.5,2,    368.6,2,    11.35,2,     3.73,2,     0.01,2,     1.04,2,0.074000001,2,   -999.0,9,   -999.0,      -999,9, -999.000, -999.000,9,-999.0000,9,  -999.00,  -999.00,9,   -999.0,9, 1.81599998,2,0.152999997,2,     0.06,2,     0.02,2,     -999,9,144,   4453,  -1.7368
  32L919930718,    79,  1,     12,2,19930809, 79.4710, -15.7400,  119,     60.0,  -1.7450,  32.4410,2,-999.0000,9,-999.0000,    374.9,2,    366.9,2,    11.41,2,     3.97,2,     0.04,2,     1.04,2,0.113000005,2,   -999.0,9,   -999.0,      -999,9, -999.000, -999.000,9,-999.0000,9,  -999.00,  -999.00,9,   -999.0,9, 2.55100012,2,0.138999999,2,     0.03,2,     0.01,2,     -999,9,144,   4452,  -1.7460
  32L919930718,    79,  1,     11,2,19930809, 79.4710, -15.7400,  119,     70.0,  -1.7180,  32.4970,2,-999.0000,9,-999.0000,    371.9,2,    364.2,2,    11.61,2,     4.41,2,     0.01,2,     1.04,2,0.055000007,2,   -999.0,9,   -999.0,      -999,9, -999.000, -999.000,9,-999.0000,9,  -999.00,  -999.00,9,   -999.0,9, 2.46799994,2,      0.114,2,     0.02,2,     0.02,2,     -999,9,144,   4451,  -1.7192
  32L919930718,    79,  1,     10,2,19930809, 79.4710, -15.7400,  119,     80.0,  -1.6980,  32.5340,2,-999.0000,9,-999.0000,    368.0,2,    361.1,2,    11.81,2,     4.65,2,     0.04,2,     1.03,2,0.034999996,2,   -999.0,9,   -999.0,      -999,9, -999.000, -999.000,9,-999.0000,9,  -999.00,  -999.00,9,   -999.0,9,  2.0539999,2,      0.088,2,     0.07,2,     0.03,2,     -999,9,144,   4450,  -1.6994
  32L919930718,    79,  1,      9,2,19930809, 79.4710, -15.7400,  119,     90.0,  -1.6470,  32.6540,2,-999.0000,9,-999.0000,    365.5,2,    355.1,2,    12.16,2,     5.23,2,     0.03,2,     1.03,2,0.045000002,2,   -999.0,9,   -999.0,      -999,9, -999.000, -999.000,9,-999.0000,9,  -999.00,  -999.00,9,   -999.0,9, 1.78400004,2,0.097999997,2,     0.03,2,     0.02,2,     -999,9,144,   4449,  -1.6486
  32L919930718,    79,  1,      8,2,19930809, 79.4710, -15.7400,  119,    100.0,  -1.5800,  32.8480,2,  32.9160,2,-999.0000,    357.7,2,    344.4,2,    12.55,2,     6.29,2,     0.00,2,     1.00,2,0.034999996,2,   -999.0,9,   -999.0,      -999,9, -999.000, -999.000,9,-999.0000,9,  -999.00,  -999.00,9,   -999.0,9, 2.37599993,2,0.090999998,2,     0.09,2,     0.02,2,     -999,9,144,   4448,  -1.5819
  32L919930718,    79,  1,      7,2,19930809, 79.4710, -15.7400,  119,    109.0,  -1.4870,  33.0970,2,-999.0000,9,-999.0000,    354.9,2,    345.0,2,    12.52,2,     6.22,2,    -0.04,2,     1.01,2,0.005999997,2,   -999.0,9,   -999.0,      -999,9, -999.000, -999.000,9,-999.0000,9,  -999.00,  -999.00,9,   -999.0,9, 1.72000003,2,       0.07,2,     0.03,2,     0.01,2,     -999,9,144,   4447,  -1.4892
  32L919930718,    80,  1,      6,2,19930810, 80.0610, -15.6880,  425,      2.0,   0.6740,  31.3060,2,-999.0000,9,-999.0000,    394.3,2,    399.2,2,     4.93,2,     0.54,2,     0.01,2,     0.68,2,0.083000004,2,   -999.0,9,   -999.0,      -999,9, -999.000, -999.000,9,-999.0000,9,  -999.00,  -999.00,9,      5.8,2, 19.3810005,2, 1.77400005,2,     0.72,2,     0.08,2,    42200,2,145,   4470,   0.6739
  32L919930718,    80,  1,      5,2,19930810, 80.0610, -15.6880,  425,      4.0,   0.3820,  31.4580,2,  31.4160,2,-999.0000,    392.7,2,   -999.0,9,     5.87,2,     0.53,2,     0.02,2,     0.73,2,0.083000004,2,   -999.0,9,   -999.0,      -999,9, -999.000, -999.000,9,-999.0000,9,  -999.00,  -999.00,9,      5.8,2, 18.1019993,2, 1.93400002,2,     0.99,2,     0.11,2,    48700,2,145,   4469,   0.3819
  32L919930718,    80,  1,      4,2,19930810, 80.0610, -15.6880,  425,      6.0,   0.4080,  31.4240,2,-999.0000,9,-999.0000,    389.6,2,    395.5,2,     7.38,2,     0.82,2,     0.04,2,     0.79,2,0.034000009,2,   -999.0,9,   -999.0,      -999,9, -999.000, -999.000,9,-999.0000,9,  -999.00,  -999.00,9,      4.0,2, 7.80499983,2, 1.35899997,2,     0.88,2,     0.08,2,    68500,2,145,   4468,   0.4078
  32L919930718,    80,  1,      3,2,19930810, 80.0610, -15.6880,  425,     10.0,  -0.4520,  31.8200,2,-999.0000,9,-999.0000,    386.0,2,    386.0,2,     8.76,2,     0.93,2,     0.06,2,     0.84,2,0.083000004,2,   -999.0,9,   -999.0,      -999,9, -999.000, -999.000,9,-999.0000,9,  -999.00,  -999.00,9,      6.3,2, 16.3190002,2, 2.04900002,2,     0.97,2,     0.16,2,   105000,2,145,   4467,  -0.4523
  32L919930718,    80,  1,     12,2,19930810, 80.0610, -15.6880,  425,     17.0,  -0.6980,  31.8730,2,-999.0000,9,-999.0000,    385.7,2,   -999.0,9,  -999.00,9,  -999.00,9,  -999.00,9,  -999.00,9,       -999,9,   -999.0,9,   -999.0,      -999,9, -999.000, -999.000,9,-999.0000,9,  -999.00,  -999.00,9,   -999.0,9,       -999,9,       -999,9,  -999.00,9,  -999.00,9,     -999,9,145,   4464,  -0.6984
  32L919930718,    80,  1,      1,2,19930810, 80.0610, -15.6880,  425,     17.0,  -0.7490,  31.8760,2,-999.0000,9,-999.0000,    385.9,2,   -999.0,9,  -999.00,9,  -999.00,9,  -999.00,9,  -999.00,9,       -999,9,   -999.0,9,   -999.0,      -999,9, -999.000, -999.000,9,-999.0000,9,  -999.00,  -999.00,9,   -999.0,9,       -999,9,       -999,9,  -999.00,9,  -999.00,9,     -999,9,145,   4465,  -0.7494
  32L919930718,    80,  1,      2,2,19930810, 80.0610, -15.6880,  425,     17.0,  -0.8140,  31.8790,2,-999.0000,9,  31.9330,    384.7,2,    384.4,2,     9.66,2,     2.18,2,     0.09,2,     0.91,2,0.072999999,2,   2079.0,2,    683.5,17.2000008,2, -999.000, -999.000,9,-999.0000,9,  -999.00,  -999.00,9,      1.4,2, 9.97399998,2, 1.86399996,2,     0.83,2,     0.15,2,    53900,2,145,   4466,  -0.8144
  32L919930718,    80,  1,     11,2,19930810, 80.0610, -15.6880,  425,     24.0,  -1.6170,  32.1220,2,-999.0000,9,-999.0000,    378.1,2,    374.2,2,    10.60,2,     3.57,2,     0.07,2,     1.00,2,0.054000005,2,   -999.0,9,   -999.0,      -999,9, -999.000, -999.000,9,-999.0000,9,  -999.00,  -999.00,9,      0.0,2, 3.38700008,2,0.616999984,2,     0.24,2,     0.07,2,    51000,2,145,   4463,  -1.6174
  32L919930718,    80,  1,     10,2,19930810, 80.0610, -15.6880,  425,     37.0,  -1.6990,  32.2650,2,-999.0000,9,-999.0000,    374.6,2,    369.9,2,    10.93,2,     4.08,2,     0.04,2,     1.02,2,0.024000004,2,   -999.0,9,   -999.0,      -999,9, -999.000, -999.000,9,-999.0000,9,  -999.00,  -999.00,9,      0.0,2, 1.51699996,2,0.178000003,2,     0.08,2,     0.03,2,    30800,2,145,   4462,  -1.6996
  32L919930718,    80,  1,      9,2,19930810, 80.0610, -15.6880,  425,     50.0,  -1.7340,  32.3410,2,-999.0000,9,-999.0000,    370.1,2,    364.5,2,    11.41,2,     4.62,2,     0.01,2,     1.04,2,-0.03399999,2,   -999.0,9,   -999.0,      -999,9, -999.000, -999.000,9,-999.0000,9,  -999.00,  -999.00,9,   -999.0,9, 1.39699996,2,0.043000001,2,     0.03,2,     0.01,2,    35100,2,145,   4461,  -1.7348
  32L919930718,    80,  1,      8,2,19930810, 80.0610, -15.6880,  425,    101.0,  -1.5260,  33.1940,2,  33.1750,2,-999.0000,    341.1,2,    335.4,2,    12.59,2,     7.58,2,     0.00,2,     0.99,2, 0.00500001,2,   -999.0,9,   -999.0,      -999,9, -999.000, -999.000,9,-999.0000,9,  -999.00,  -999.00,9,   -999.0,9, 1.45700002,2,      0.024,2,     0.01,2,     0.01,2,    18000,2,145,   4460,  -1.5280
  32L919930718,    80,  1,      7,2,19930810, 80.0610, -15.6880,  425,    200.0,   0.4780,  34.6680,2,-999.0000,9,-999.0000,    300.0,2,    306.1,2,    11.06,2,    12.88,2,     0.01,2,     0.95,2,     -0.015,2,   -999.0,9,   -999.0,      -999,9, -999.000, -999.000,9,-999.0000,9,  -999.00,  -999.00,9,   -999.0,9, 1.16700005,2,0.314999998,2,     0.02,2,     0.01,2,    31900,2,145,   4459,   0.4698
  32L919930718,    80,  2,      6,2,19930810, 80.0610, -15.6880,  425,      2.0,  -0.1260,  31.4260,2,-999.0000,9,  31.5550,    399.2,2,    405.5,2,     6.12,2,     0.23,2,     0.04,2,     0.74,2,0.062000006,2,   2020.0,2,    519.5,17.2000008,2, -999.000, -999.000,9,-999.0000,9,  -999.00,  -999.00,9,   -999.0,9, 14.1499996,2, 1.79400003,2,     0.95,2,     0.08,2,     -999,9,146,   4482,  -0.1261
  32L919930718,    80,  2,      5,2,19930810, 80.0610, -15.6880,  425,     15.0,  -1.4260,  31.9890,2,-999.0000,9,  32.0480,    382.9,2,    382.1,2,    10.37,2,     2.63,2,     0.10,2,     0.94,2,0.052000009,2,   2085.5,2,    693.6,17.2000008,2, -999.000, -999.000,9,-999.0000,9,  -999.00,  -999.00,9,   -999.0,9, 7.29300022,2, 1.04999995,2,     0.56,2,     0.09,2,     -999,9,146,   4481,  -1.4263
  32L919930718,    80,  2,      4,2,19930810, 80.0610, -15.6880,  425,     35.0,  -1.6400,  32.3040,2,-999.0000,9,  32.2810,    381.2,2,    378.6,2,     9.94,2,     2.34,2,     0.09,2,     0.98,2,0.043000005,2,   2103.8,2,    711.9,17.2000008,2, -999.000, -999.000,9,-999.0000,9,  -999.00,  -999.00,9,   -999.0,9, 10.8070002,2, 1.62399995,2,     1.07,2,     0.27,2,     -999,9,146,   4480,  -1.6406
  32L919930718,    80,  2,      3,2,19930810, 80.0610, -15.6880,  425,     60.0,  -1.7470,  32.4390,2,-999.0000,9,  32.4170,    371.8,2,    367.9,2,    11.23,2,     4.20,2,     0.01,2,     1.05,2,0.033000007,2,   2116.6,2,    755.4,17.2000008,2, -999.000, -999.000,9,-999.0000,9,  -999.00,  -999.00,9,   -999.0,9, 4.32800007,2,0.231000006,2,     0.07,2,     0.01,2,     -999,9,146,   4479,  -1.7480
  32L919930718,    80,  2,      2,2,19930810, 80.0610, -15.6880,  425,    100.0,  -1.5310,  33.1400,2,-999.0000,9,  33.2990,    337.0,2,    328.2,2,    12.87,2,     8.13,2,     0.02,2,     0.97,2,0.043000005,2,   2139.6,2,    806.8,17.2000008,2, -999.000, -999.000,9,-999.0000,9,  -999.00,  -999.00,9,   -999.0,9, 2.66899991,2,0.340999991,2,     0.01,2,     0.01,2,     -999,9,146,   4478,  -1.5330
  32L919930718,    80,  2,      1,2,19930810, 80.0610, -15.6880,  425,    150.0,  -0.4000,  34.3290,2,-999.0000,9,  34.3350,    299.1,2,    295.4,2,    11.48,2,    12.20,2,     0.00,2,     0.92,2,-0.02599999,2,   2138.1,2,    739.5,17.2000008,2, -999.000, -999.000,9,-999.0000,9,  -999.00,  -999.00,9,   -999.0,9, 1.55499995,2,0.050000001,2,     0.01,2,     0.00,2,     -999,9,146,   4477,  -0.4049
  32L919930718,    80,  2,     12,2,19930810, 80.0610, -15.6880,  425,    200.0,   0.4670,  34.6640,2,-999.0000,9,  34.6500,    290.5,2,    287.4,2,    11.47,2,    12.77,2,     0.04,2,     0.94,2,0.004000008,2,   2146.6,2,    723.4,17.2000008,2, -999.000, -999.000,9,-999.0000,9,  -999.00,  -999.00,9,   -999.0,9, 1.91900003,2,0.064999998,2,  -999.00,9,  -999.00,9,     -999,9,146,   4476,   0.4588
  32L919930718,    80,  2,     11,2,19930810, 80.0610, -15.6880,  425,    250.0,   0.6120,  34.7180,2,-999.0000,9,  34.6350,    288.6,2,    287.1,2,    11.71,2,    12.94,2,     0.00,2,     0.94,2,0.004000008,2,   2149.3,2,    721.7,17.2000008,2, -999.000, -999.000,9,-999.0000,9,  -999.00,  -999.00,9,   -999.0,9, 1.46599996,2,0.107000001,2,  -999.00,9,  -999.00,9,     -999,9,146,   4475,   0.6013
  32L919930718,    80,  2,     10,2,19930810, 80.0610, -15.6880,  425,    300.0,   0.6760,  34.7400,2,-999.0000,9,  34.7220,    288.6,2,    286.5,2,    11.70,2,    12.93,2,     0.03,2,     0.94,2,0.013000011,2,   2148.4,2,    723.2,17.2000008,2, -999.000, -999.000,9,-999.0000,9,  -999.00,  -999.00,9,   -999.0,9,0.815999985,2,      0.012,2,  -999.00,9,  -999.00,9,     -999,9,146,   4474,   0.6629
  32L919930718,    80,  2,      9,2,19930810, 80.0610, -15.6880,  425,    350.0,   0.6350,  34.7490,2,-999.0000,9,  34.7000,    287.2,2,    285.2,2,    12.07,2,    12.98,2,     0.02,2,     0.95,2,0.013000011,2,   2150.7,2,    729.3,17.2000008,2, -999.000, -999.000,9,-999.0000,9,  -999.00,  -999.00,9,   -999.0,9, 1.68099999,2,0.086999997,2,  -999.00,9,  -999.00,9,     -999,9,146,   4473,   0.6197
  32L919930718,    80,  2,      8,2,19930810, 80.0610, -15.6880,  425,    375.0,   0.5330,  34.7540,2,  34.7630,2,  34.7060,    287.1,2,    283.1,2,    12.41,2,    12.96,2,     0.02,2,     0.97,2,0.033000007,2,   2150.6,2,    728.2,17.2000008,2, -999.000, -999.000,9,-999.0000,9,  -999.00,  -999.00,9,   -999.0,9,0.866999984,2,0.104999997,2,  -999.00,9,  -999.00,9,     -999,9,146,   4472,   0.5168
  32L919930718,    80,  2,      7,2,19930810, 80.0610, -15.6880,  425,    415.0,   0.4890,  34.7580,2,  34.7650,2,  34.7100,    286.1,2,    283.0,2,    12.49,2,    12.97,2,     0.03,2,     0.97,2,0.013000011,2,   2150.7,2,    736.7,17.2000008,2,    2.060,    0.031,2,   1.8960,2,    10.40,     0.20,2,   -999.0,9,0.463999987,2,0.104000002,2,  -999.00,9,  -999.00,9,     -999,9,146,   4471,   0.4711
  32L919930718,    80,  3,   -999,2,19930810, 80.0610, -15.6880,  425,     19.0,  -1.3840,  32.1980,2,-999.0000,9,-999.0000,    412.1,2,   -999.0,9,  -999.00,9,  -999.00,9,  -999.00,9,  -999.00,9,       -999,9,   -999.0,9,   -999.0,      -999,9, -999.000, -999.000,9,-999.0000,9,  -999.00,  -999.00,9,   -999.0,9,       -999,9,       -999,9,  -999.00,9,  -999.00,9,     -999,9,147,   -999,  -1.3844