BOTTLE,20090115PRINUNIVRMK
EXPOCODE,STNNBR,CASTNO,BTLNBR,BTLNBR_FLAG_W,DATE,LATITUDE,LONGITUDE,DEPTH,CTDPRS,CTDTMP,CTDSAL,CTDSAL_FLAG_W,SALNTY,SALNTY_FLAG_W,SOMSAL,CTDOXY,CTDOXY_FLAG_W,OXYGEN,OXYGEN_FLAG_W,SILCAT,SILCAT_FLAG_W,NITRAT,NITRAT_FLAG_W,NITRIT,NITRIT_FLAG_W,PHSPHT,PHSPHT_FLAG_W,AMMONI,AMMONI_FLAG_W,TCARBN,TCARBN_FLAG_W,FCO2,FCO2_TMP,FCO2_FLAG_W,TRITUM,TRITER,TRITUM_FLAG_W,HELIUM,HELIUM_FLAG_W,DELHE3,DELHER,DELHE3_FLAG_W,DELC14,DELC14_FLAG_W,POC,POC_FLAG_W,PON,PON_FLAG_W,CHLORA,CHLORA_FLAG_W,PHAEO,PHAEO_FLAG_W,BACT,BACT_FLAG_W,CTDNO,BNLID,THETA
,,,,,,,,METERS,DBARS,ITS-90,PSS-78,,PSS-78,,PSS-78,UMOL/KG,,UMOL/KG,,UMOL/KG,,UMOL/KG,,UMOL/KG,,UMOL/KG,,UMOL/KG,,UMOL/KG,,UATM,DEGC,,TU,TU,,NMOL/KG,,PERCNT,PERCNT,,O/OO,,ug/kg,,ug/kg,,UG/L,,UG/L,,CELLS/ML,,,,DEGC
  32L919930718,    41,  1,     10,2,19930801, 80.1520,  -9.2210,  298,      2.0,   4.1680,  28.6150,2,  30.0690,2,-999.0000,    378.9,2,    434.4,2,     3.45,2,     0.12,2,     0.02,2,     0.67,2,     -0.006,2,   -999.0,9,   -999.0,      -999,9, -999.000, -999.000,9,-999.0000,9,  -999.00,  -999.00,9,   -999.0,9, 10.2449999,2, 1.14900005,2,     0.92,2,     0.03,2,     -999,9, 81,   3802,   4.1679
  32L919930718,    41,  1,      9,2,19930801, 80.1520,  -9.2210,  298,     10.0,  -0.8160,  32.2220,2,-999.0000,9,-999.0000,    433.4,2,    411.6,2,     7.24,2,     0.39,2,     0.01,2,     0.82,2,0.004000008,2,   -999.0,9,   -999.0,      -999,9, -999.000, -999.000,9,-999.0000,9,  -999.00,  -999.00,9,   -999.0,9, 34.1269989,2, 4.06500006,2,     2.45,2,     0.56,2,     -999,9, 81,   3801,  -0.8162
  32L919930718,    41,  1,      8,2,19930801, 80.1520,  -9.2210,  298,     20.0,  -1.5750,  32.3250,2,-999.0000,9,-999.0000,    375.6,2,    369.7,2,    11.50,2,     4.02,2,     0.02,2,     1.03,2,-0.01599999,2,   -999.0,9,   -999.0,      -999,9, -999.000, -999.000,9,-999.0000,9,  -999.00,  -999.00,9,   -999.0,9, 3.97399998,2,0.671999991,2,     0.83,2,     0.12,2,     -999,9, 81,   3800,  -1.5753
  32L919930718,    41,  1,      7,2,19930801, 80.1520,  -9.2210,  298,     35.0,  -1.7270,  32.3820,2,-999.0000,9,-999.0000,    369.6,2,    368.4,2,    11.56,2,     4.11,2,     0.02,2,     1.02,2,0.052000009,2,   -999.0,9,   -999.0,      -999,9, -999.000, -999.000,9,-999.0000,9,  -999.00,  -999.00,9,   -999.0,9, 2.44300008,2,0.384000003,2,     0.20,2,     0.04,2,     -999,9, 81,   3799,  -1.7276
  32L919930718,    41,  1,      6,2,19930801, 80.1520,  -9.2210,  298,     50.0,  -1.7020,  32.4200,2,-999.0000,9,-999.0000,    369.5,2,    369.0,2,    11.06,2,     3.93,2,     0.03,2,     1.01,2,     -0.006,2,   -999.0,9,   -999.0,      -999,9, -999.000, -999.000,9,-999.0000,9,  -999.00,  -999.00,9,   -999.0,9, 3.60599995,2,0.495999992,2,     0.23,2,     0.04,2,     -999,9, 81,   3798,  -1.7028
  32L919930718,    41,  1,      5,2,19930801, 80.1520,  -9.2210,  298,     60.0,  -1.6870,  32.4380,2,-999.0000,9,-999.0000,    367.1,2,    365.1,2,     9.40,2,     3.92,2,     0.05,2,     1.00,2,0.062000006,2,   -999.0,9,   -999.0,      -999,9, -999.000, -999.000,9,-999.0000,9,  -999.00,  -999.00,9,   -999.0,9, 6.50699997,2,0.859000027,2,     0.63,2,     0.15,2,     -999,9, 81,   3797,  -1.6880
  32L919930718,    41,  1,      4,2,19930801, 80.1520,  -9.2210,  298,     80.0,  -1.6940,  32.5410,2,-999.0000,9,-999.0000,    358.8,2,    353.0,2,    12.69,2,     5.77,2,     0.02,2,     1.01,2,0.043000005,2,   -999.0,9,   -999.0,      -999,9, -999.000, -999.000,9,-999.0000,9,  -999.00,  -999.00,9,   -999.0,9,  2.4000001,2,0.209999993,2,     0.13,2,     0.04,2,     -999,9, 81,   3796,  -1.6954
  32L919930718,    41,  1,      3,2,19930801, 80.1520,  -9.2210,  298,    100.0,  -1.5970,  32.8400,2,-999.0000,9,-999.0000,    344.7,2,    340.4,2,    13.44,2,     7.12,2,     0.00,2,     0.99,2,0.004000008,2,   -999.0,9,   -999.0,      -999,9, -999.000, -999.000,9,-999.0000,9,  -999.00,  -999.00,9,   -999.0,9, 1.18400002,2,0.174999997,2,     0.10,2,     0.04,2,     -999,9, 81,   3795,  -1.5989
  32L919930718,    41,  1,      2,2,19930801, 80.1520,  -9.2210,  298,    150.0,  -0.5030,  34.1920,2,-999.0000,9,-999.0000,    300.0,2,    296.3,2,    12.58,2,    12.41,2,     0.02,2,     0.93,2,0.082000002,2,   -999.0,9,   -999.0,      -999,9, -999.000, -999.000,9,-999.0000,9,  -999.00,  -999.00,9,   -999.0,9, 1.25899994,2,      0.169,2,     0.06,2,     0.03,2,     -999,9, 81,   3794,  -0.5077
  32L919930718,    41,  1,      1,2,19930801, 80.1520,  -9.2210,  298,    200.0,   0.2860,  34.6390,2,-999.0000,9,-999.0000,    288.7,2,    284.8,2,    12.41,2,    13.81,2,     0.00,2,     0.93,2,     -0.006,2,   -999.0,9,   -999.0,      -999,9, -999.000, -999.000,9,-999.0000,9,  -999.00,  -999.00,9,   -999.0,9, 1.15499997,2,0.137999997,2,     0.06,2,     0.01,2,     -999,9, 81,   3793,   0.2781
  32L919930718,    41,  1,     12,2,19930801, 80.1520,  -9.2210,  298,    250.0,   0.3880,  34.8030,2,  34.8070,2,-999.0000,    287.7,2,    284.0,2,    11.71,2,    14.01,2,     0.04,2,  -999.00,9,0.004000008,2,   -999.0,9,   -999.0,      -999,9, -999.000, -999.000,9,-999.0000,9,  -999.00,  -999.00,9,   -999.0,9, 1.31799996,2,0.233999997,2,  -999.00,9,  -999.00,9,     -999,9, 81,   3792,   0.3778
  32L919930718,    41,  1,     11,2,19930801, 80.1520,  -9.2210,  298,    288.0,   0.3950,  34.8370,2,-999.0000,9,-999.0000,    288.6,2,    283.7,2,    11.77,2,    14.00,2,     0.03,2,  -999.00,9,0.033000007,2,   -999.0,9,   -999.0,      -999,9, -999.000, -999.000,9,-999.0000,9,  -999.00,  -999.00,9,   -999.0,9, 2.31100011,2,      0.184,2,  -999.00,9,  -999.00,9,     -999,9, 81,   3791,   0.3831
  32L919930718,    42,  1,     10,2,19930801, 80.2680,  -8.9520,  310,      2.0,   2.8950,  30.2190,2,  30.8040,2,-999.0000,    412.1,2,    418.1,2,     2.31,2,    -0.03,2,     0.00,2,     0.65,2,0.006999999,2,   -999.0,9,   -999.0,      -999,9, -999.000, -999.000,9,-999.0000,9,  -999.00,  -999.00,9,      0.5,2, 7.76599979,2,0.865999997,2,     0.06,2,     0.01,2,   145000,2, 82,   3814,   2.8949
  32L919930718,    42,  1,      9,2,19930801, 80.2680,  -8.9520,  310,      5.0,   1.4410,  31.2810,2,-999.0000,9,-999.0000,    437.8,2,    444.8,2,     3.15,2,     0.14,2,     0.00,2,     0.72,2,-0.01199999,2,   -999.0,9,   -999.0,      -999,9, -999.000, -999.000,9,-999.0000,9,  -999.00,  -999.00,9,      1.0,2, 33.3040009,2, 2.61400008,2,     0.08,2,     0.03,2,   136000,2, 82,   3813,   1.4408
  32L919930718,    42,  1,      8,2,19930801, 80.2680,  -8.9520,  310,      8.0,   0.1580,  31.9930,2,-999.0000,9,-999.0000,    428.2,2,    439.4,2,     4.18,2,    -0.03,2,     0.00,2,     0.74,2,-0.02199998,2,   -999.0,9,   -999.0,      -999,9, -999.000, -999.000,9,-999.0000,9,  -999.00,  -999.00,9,      2.0,2, 24.0930004,2,  2.1400001,2,     0.34,2,     0.08,2,   128000,2, 82,   3812,   0.1577
  32L919930718,    42,  1,      7,2,19930801, 80.2680,  -8.9520,  310,     13.0,  -1.0870,  32.2500,2,-999.0000,9,-999.0000,    418.3,2,    423.2,2,     5.52,2,     0.02,2,     0.01,2,     0.82,2,0.006999999,2,   -999.0,9,   -999.0,      -999,9, -999.000, -999.000,9,-999.0000,9,  -999.00,  -999.00,9,      7.4,2, 50.3979988,2, 4.94799995,2,     0.66,2,     0.10,2,   186000,2, 82,   3811,  -1.0873
  32L919930718,    42,  1,      6,2,19930801, 80.2680,  -8.9520,  310,     21.0,  -1.2650,  32.2820,2,-999.0000,9,-999.0000,    406.0,2,    396.9,2,     7.91,2,     0.99,2,     0.02,2,     0.91,2,0.046000004,2,   -999.0,9,   -999.0,      -999,9, -999.000, -999.000,9,-999.0000,9,  -999.00,  -999.00,9,      4.6,2, 30.2609997,2, 3.77600002,2,     0.69,2,     0.13,2,   147000,2, 82,   3810,  -1.2654
  32L919930718,    42,  1,      4,2,19930801, 80.2680,  -8.9520,  310,     23.0,  -1.3310,  32.2890,2,-999.0000,9,  32.2870,    385.1,2,    391.4,2,     8.71,2,     1.46,2,     0.03,2,     0.92,2, 0.01700002,2,   2095.6,2,   -999.0,      -999,9, -999.000, -999.000,9,-999.0000,9,  -999.00,  -999.00,9,   -999.0,9, 18.8320007,2,  2.4519999,2,     0.22,2,     0.12,2,    83600,2, 82,   3808,  -1.3314
  32L919930718,    42,  1,      5,2,19930801, 80.2680,  -8.9520,  310,     23.0,  -1.3310,  32.2930,2,-999.0000,9,-999.0000,    397.9,2,   -999.0,9,  -999.00,9,  -999.00,9,  -999.00,9,  -999.00,9,       -999,9,   -999.0,9,   -999.0,      -999,9, -999.000, -999.000,9,-999.0000,9,  -999.00,  -999.00,9,   -999.0,9,       -999,9,       -999,9,  -999.00,9,  -999.00,9,     -999,9, 82,   3809,  -1.3314
  32L919930718,    42,  1,      3,2,19930801, 80.2680,  -8.9520,  310,     33.0,  -1.6390,  32.3520,2,-999.0000,9,-999.0000,    370.6,2,    370.2,2,    11.23,2,     3.82,2,     0.02,2,     1.05,2, 0.02700001,2,   -999.0,9,   -999.0,      -999,9, -999.000, -999.000,9,-999.0000,9,  -999.00,  -999.00,9,      0.1,2, 5.27199984,2,0.711000025,2,     0.14,2,     0.06,2,    78800,2, 82,   3807,  -1.6396
  32L919930718,    42,  1,      2,2,19930801, 80.2680,  -8.9520,  310,     50.0,  -1.6510,  32.4120,2,-999.0000,9,-999.0000,    368.1,2,    368.6,2,    11.40,2,     4.00,2,     0.03,2,     1.06,2,0.056000009,2,   -999.0,9,   -999.0,      -999,9, -999.000, -999.000,9,-999.0000,9,  -999.00,  -999.00,9,      0.0,2,       3.25,2,0.432999998,2,     0.06,2,     0.04,2,    58200,2, 82,   3806,  -1.6518
  32L919930718,    42,  1,      1,2,19930801, 80.2680,  -8.9520,  310,    101.0,  -1.2410,  33.2260,2,-999.0000,9,-999.0000,    329.4,2,   -999.0,9,    12.92,2,     8.05,2,     0.01,2,     1.02,2,0.095000014,2,   -999.0,9,   -999.0,      -999,9, -999.000, -999.000,9,-999.0000,9,  -999.00,  -999.00,9,   -999.0,9, 1.74100006,2,0.296999991,2,     0.04,2,     0.04,2,    33000,2, 82,   3805,  -1.2433
  32L919930718,    42,  1,     12,2,19930801, 80.2680,  -8.9520,  310,    202.0,   0.3530,  34.7320,2,  34.7540,2,-999.0000,    286.4,2,   -999.0,9,    11.74,2,    13.14,2,     0.01,2,     0.98,2, 0.11500001,2,   -999.0,9,   -999.0,      -999,9, -999.000, -999.000,9,-999.0000,9,  -999.00,  -999.00,9,   -999.0,9, 1.41199994,2,0.240999997,2,     0.07,2,     0.04,2,    49700,2, 82,   3804,   0.3449
  32L919930718,    42,  1,     11,2,19930801, 80.2680,  -8.9520,  310,    300.0,   0.4070,  34.8430,2,-999.0000,9,-999.0000,    291.8,2,   -999.0,9,    10.52,2,    13.13,2,     0.01,2,     0.97,2,0.173000008,2,   -999.0,9,   -999.0,      -999,9, -999.000, -999.000,9,-999.0000,9,  -999.00,  -999.00,9,   -999.0,9, 1.92499995,2,0.611999989,2,     0.06,2,     0.04,2,   247000,2, 82,   3803,   0.3945
  32L919930718,    42,  2,     10,2,19930801, 80.2680,  -8.9520,  310,      2.0,   2.5200,  30.5050,2,  30.5530,2,  30.6990,    390.8,2,    405.8,2,     3.20,2,     0.11,2,    -0.01,2,     0.64,2,-0.04099998,2,   1961.4,2,    462.7,        17,2,    7.330,    0.110,2,   1.7850,2,     0.40,     0.20,2,   -999.0,9,       -999,9,       -999,9,  -999.00,9,  -999.00,9,     -999,9, 83,   3826,   2.5199
  32L919930718,    42,  2,      9,2,19930801, 80.2680,  -8.9520,  310,     15.0,  -1.1520,  32.2700,2,-999.0000,9,  32.2510,    396.4,2,    411.6,2,     6.42,2,     0.08,2,     0.01,2,     0.80,2,-0.04099998,2,   2081.1,2,    579.2,        17,2, -999.000, -999.000,9,-999.0000,9,  -999.00,  -999.00,9,   -999.0,9,       -999,9,       -999,9,  -999.00,9,  -999.00,9,     -999,9, 83,   3825,  -1.1523
  32L919930718,    42,  2,      8,2,19930801, 80.2680,  -8.9520,  310,     35.0,  -1.6470,  32.3900,2,-999.0000,9,  32.3490,    368.5,2,    368.6,2,    10.89,2,     3.94,2,     0.03,2,     1.02,2,-0.07099998,2,   2113.0,2,    726.5,        17,2, -999.000, -999.000,9,-999.0000,9,  -999.00,  -999.00,9,   -999.0,9,       -999,9,       -999,9,  -999.00,9,  -999.00,9,     -999,9, 83,   3824,  -1.6476
  32L919930718,    42,  2,      7,2,19930801, 80.2680,  -8.9520,  310,     51.0,  -1.6900,  32.4150,2,-999.0000,9,-999.0000,    369.5,2,    366.4,2,    11.34,2,     4.10,2,     0.02,2,     1.04,2,-0.08999997,2,   -999.0,9,   -999.0,      -999,9,    6.990,    0.105,2,   1.7670,2,     4.30,     0.20,2,   -999.0,9,       -999,9,       -999,9,  -999.00,9,  -999.00,9,     -999,9, 83,   3823,  -1.6908
  32L919930718,    42,  2,      6,2,19930801, 80.2680,  -8.9520,  310,     60.0,  -1.7310,  32.4470,2,-999.0000,9,  32.4240,    365.0,2,    362.9,2,    11.69,2,     4.59,2,     0.00,2,     1.03,2,     -0.051,2,   2119.5,2,    723.9,        17,2, -999.000, -999.000,9,-999.0000,9,  -999.00,  -999.00,9,   -999.0,9,       -999,9,       -999,9,  -999.00,9,  -999.00,9,     -999,9, 83,   3822,  -1.7320
  32L919930718,    42,  2,      5,2,19930801, 80.2680,  -8.9520,  310,     80.0,  -1.7040,  32.5170,2,-999.0000,9,-999.0000,    361.0,2,    353.9,2,    12.19,2,     5.54,2,     0.00,2,     1.03,2,-0.03199998,2,   -999.0,9,   -999.0,      -999,9, -999.000, -999.000,9,-999.0000,9,  -999.00,  -999.00,9,   -999.0,9,       -999,9,       -999,9,  -999.00,9,  -999.00,9,     -999,9, 83,   3821,  -1.7054
  32L919930718,    42,  2,      4,2,19930801, 80.2680,  -8.9520,  310,    100.0,  -1.4160,  33.0870,2,-999.0000,9,  33.2890,    336.9,2,   -999.0,9,    12.64,2,     8.22,2,     0.00,2,     0.99,2,0.006999999,2,   2136.5,2,    747.3,        17,2, -999.000, -999.000,9,-999.0000,9,  -999.00,  -999.00,9,   -999.0,9,       -999,9,       -999,9,  -999.00,9,  -999.00,9,     -999,9, 83,   3820,  -1.4181
  32L919930718,    42,  2,      3,2,19930801, 80.2680,  -8.9520,  310,    125.0,  -0.5340,  34.0980,2,-999.0000,9,  34.1280,    308.0,2,    302.4,2,    10.67,2,    10.82,2,     0.02,2,     0.91,2,0.006999999,2,   2144.3,2,    697.2,        17,2,    3.000,    0.045,2,   1.8160,2,     9.60,     0.20,2,   -999.0,9,       -999,9,       -999,9,  -999.00,9,  -999.00,9,     -999,9, 83,   3819,  -0.5378
  32L919930718,    42,  2,      2,2,19930801, 80.2680,  -8.9520,  310,    200.0,   0.3600,  34.7550,2,-999.0000,9,  34.7360,    287.0,2,    282.4,2,    11.50,2,    13.11,2,    -0.01,2,     0.95,2,0.046000004,2,   2150.6,2,    584.2,        17,3, -999.000, -999.000,9,-999.0000,9,  -999.00,  -999.00,9,   -999.0,9,       -999,9,       -999,9,  -999.00,9,  -999.00,9,     -999,9, 83,   3818,   0.3520
  32L919930718,    42,  2,      1,2,19930801, 80.2680,  -8.9520,  310,    249.0,   0.3780,  34.7910,2,-999.0000,9,  34.7550,    287.7,2,    281.3,2,    11.69,2,    13.02,2,     0.02,2,     0.97,2,0.066000015,2,   2151.3,2,   -999.0,      -999,9, -999.000, -999.000,9,-999.0000,9,  -999.00,  -999.00,9,   -999.0,9,       -999,9,       -999,9,  -999.00,9,  -999.00,9,     -999,9, 83,   3817,   0.3678
  32L919930718,    42,  2,     12,2,19930801, 80.2680,  -8.9520,  310,    275.0,   0.4050,  34.8430,2,  34.8740,2,-999.0000,    291.3,2,    284.9,2,    10.39,2,    12.61,2,     0.03,2,     0.96,2,0.144000009,2,   -999.0,9,   -999.0,      -999,9, -999.000, -999.000,9,-999.0000,9,  -999.00,  -999.00,9,   -999.0,9,       -999,9,       -999,9,  -999.00,9,  -999.00,9,     -999,9, 83,   3816,   0.3936
  32L919930718,    42,  2,     11,2,19930801, 80.2680,  -8.9520,  310,    299.0,   0.4060,  34.8450,2,-999.0000,9,  34.7950,    294.7,2,    285.9,2,    10.49,2,    13.53,2,     0.01,2,     0.98,2,-0.00199997,2,   2150.2,2,   -999.0,      -999,9,    1.550,    0.023,2,   1.8380,2,     4.40,     0.20,2,   -999.0,9,       -999,9,       -999,9,  -999.00,9,  -999.00,9,     -999,9, 83,   3815,   0.3935
  32L919930718,    43,  1,     10,2,19930801, 80.3740,  -8.6770,  265,      3.0,   1.8510,  30.3770,2,  30.3890,2,-999.0000,    383.4,2,    393.4,2,     3.46,2,    -0.07,2,     0.00,2,     0.68,2,     -0.048,2,   -999.0,9,   -999.0,      -999,9, -999.000, -999.000,9,-999.0000,9,  -999.00,  -999.00,9,   -999.0,9, 9.96700001,2, 1.24800003,2,     0.30,2,     0.02,2,     -999,9, 84,   3838,   1.8509
  32L919930718,    43,  1,      9,2,19930801, 80.3740,  -8.6770,  265,     10.0,   0.9240,  30.6230,2,-999.0000,9,-999.0000,    408.0,2,    410.1,2,     3.94,2,     0.01,2,     0.00,2,     0.71,2,     -0.028,2,   -999.0,9,   -999.0,      -999,9, -999.000, -999.000,9,-999.0000,9,  -999.00,  -999.00,9,   -999.0,9,       -999,9,       -999,9,     0.96,2,     0.05,2,     -999,9, 84,   3837,   0.9236
  32L919930718,    43,  1,      8,2,19930801, 80.3740,  -8.6770,  265,     20.0,  -0.7010,  31.4050,2,-999.0000,9,-999.0000,    383.8,2,    395.4,2,     6.64,2,     0.62,2,     0.02,2,     0.84,2,0.050000001,2,   -999.0,9,   -999.0,      -999,9, -999.000, -999.000,9,-999.0000,9,  -999.00,  -999.00,9,   -999.0,9, 14.8800001,2, 2.71000004,2,     2.02,2,     0.20,2,     -999,9, 84,   3836,  -0.7015
  32L919930718,    43,  1,      7,2,19930801, 80.3740,  -8.6770,  265,     35.0,  -1.1060,  31.7720,2,-999.0000,9,-999.0000,    369.2,2,    370.9,2,     9.82,2,     3.46,2,     0.04,2,     0.97,2,0.030000001,2,   -999.0,9,   -999.0,      -999,9, -999.000, -999.000,9,-999.0000,9,  -999.00,  -999.00,9,   -999.0,9, 8.32800007,2, 1.46899998,2,     1.23,2,     0.10,2,     -999,9, 84,   3835,  -1.1067
  32L919930718,    43,  1,      6,2,19930801, 80.3740,  -8.6770,  265,     50.0,  -1.1810,  32.4270,2,-999.0000,9,-999.0000,    356.0,2,    392.7,2,    11.24,2,     5.87,2,     0.05,2,     1.01,2,0.089000002,2,   -999.0,9,   -999.0,      -999,9, -999.000, -999.000,9,-999.0000,9,  -999.00,  -999.00,9,   -999.0,9, 3.99399996,2,0.707000017,2,     0.07,2,     0.04,2,     -999,9, 84,   3834,  -1.1821
  32L919930718,    43,  1,      5,2,19930801, 80.3740,  -8.6770,  265,     60.0,  -1.1840,  32.6430,2,-999.0000,9,-999.0000,    345.8,2,    350.8,2,    11.21,2,     6.08,2,     0.05,2,     1.01,2,0.148000002,2,   -999.0,9,   -999.0,      -999,9, -999.000, -999.000,9,-999.0000,9,  -999.00,  -999.00,9,   -999.0,9, 3.77399993,2,0.488999993,2,     0.36,2,     0.09,2,     -999,9, 84,   3833,  -1.1853
  32L919930718,    43,  1,      4,2,19930801, 80.3740,  -8.6770,  265,     80.0,  -1.1840,  33.1810,2,-999.0000,9,-999.0000,    333.5,2,    346.3,2,    11.40,2,     7.59,2,     0.04,2,     1.00,2,       0.07,2,   -999.0,9,   -999.0,      -999,9, -999.000, -999.000,9,-999.0000,9,  -999.00,  -999.00,9,   -999.0,9, 3.12299991,2,0.426999986,2,     0.25,2,     0.09,2,     -999,9, 84,   3832,  -1.1858
  32L919930718,    43,  1,      3,2,19930801, 80.3740,  -8.6770,  265,    100.0,  -0.6170,  33.9690,2,-999.0000,9,-999.0000,    311.3,2,    312.4,2,    10.67,2,    10.40,2,     0.03,2,     0.97,2,      0.011,2,   -999.0,9,   -999.0,      -999,9, -999.000, -999.000,9,-999.0000,9,  -999.00,  -999.00,9,   -999.0,9, 2.33299994,2,      0.147,2,     0.45,2,     0.13,2,     -999,9, 84,   3831,  -0.6199
  32L919930718,    43,  1,      2,2,19930801, 80.3740,  -8.6770,  265,    125.0,  -0.0520,  34.5120,2,-999.0000,9,-999.0000,    294.9,2,    305.7,2,    10.61,2,    12.12,2,     0.01,2,     0.99,2,     -0.009,2,   -999.0,9,   -999.0,      -999,9, -999.000, -999.000,9,-999.0000,9,  -999.00,  -999.00,9,   -999.0,9, 2.10400009,2,0.148000002,2,     0.09,2,     0.05,2,     -999,9, 84,   3830,  -0.0564
  32L919930718,    43,  1,      1,2,19930801, 80.3740,  -8.6770,  265,    149.0,   0.3010,  34.6630,2,-999.0000,9,-999.0000,    289.5,2,    296.2,2,    11.49,2,    12.85,2,     0.01,2,     1.01,2,0.021000002,2,   -999.0,9,   -999.0,      -999,9, -999.000, -999.000,9,-999.0000,9,  -999.00,  -999.00,9,   -999.0,9, 1.77900004,2,0.180999994,2,     0.02,2,     0.03,2,     -999,9, 84,   3829,   0.2952
  32L919930718,    43,  1,     12,2,19930801, 80.3740,  -8.6770,  265,    200.0,   0.3470,  34.7510,2,  34.7560,2,-999.0000,    291.7,2,    283.5,2,    10.59,2,    13.07,2,     0.01,2,     1.01,2,     -0.009,2,   -999.0,9,   -999.0,      -999,9, -999.000, -999.000,9,-999.0000,9,  -999.00,  -999.00,9,   -999.0,9, 1.12100005,2,0.159999996,2,     0.08,2,     0.03,2,     -999,9, 84,   3828,   0.3390
  32L919930718,    43,  1,     11,2,19930801, 80.3740,  -8.6770,  265,    255.0,   0.3870,  34.8080,2,-999.0000,9,-999.0000,    293.9,2,   -999.0,9,    10.84,2,    13.02,2,     0.01,2,     1.02,2,0.021000002,2,   -999.0,9,   -999.0,      -999,9, -999.000, -999.000,9,-999.0000,9,  -999.00,  -999.00,9,   -999.0,9, 1.40699995,2,0.130999997,2,     0.05,2,     0.02,2,     -999,9, 84,   3827,   0.3765