BOTTLE,20090115PRINUNIVRMK
EXPOCODE,STNNBR,CASTNO,BTLNBR,BTLNBR_FLAG_W,DATE,LATITUDE,LONGITUDE,DEPTH,CTDPRS,CTDTMP,CTDSAL,CTDSAL_FLAG_W,SALNTY,SALNTY_FLAG_W,SOMSAL,CTDOXY,CTDOXY_FLAG_W,OXYGEN,OXYGEN_FLAG_W,SILCAT,SILCAT_FLAG_W,NITRAT,NITRAT_FLAG_W,NITRIT,NITRIT_FLAG_W,PHSPHT,PHSPHT_FLAG_W,AMMONI,AMMONI_FLAG_W,TCARBN,TCARBN_FLAG_W,FCO2,FCO2_TMP,FCO2_FLAG_W,TRITUM,TRITER,TRITUM_FLAG_W,HELIUM,HELIUM_FLAG_W,DELHE3,DELHER,DELHE3_FLAG_W,DELC14,DELC14_FLAG_W,POC,POC_FLAG_W,PON,PON_FLAG_W,CHLORA,CHLORA_FLAG_W,PHAEO,PHAEO_FLAG_W,BACT,BACT_FLAG_W,CTDNO,BNLID,THETA
,,,,,,,,METERS,DBARS,ITS-90,PSS-78,,PSS-78,,PSS-78,UMOL/KG,,UMOL/KG,,UMOL/KG,,UMOL/KG,,UMOL/KG,,UMOL/KG,,UMOL/KG,,UMOL/KG,,UATM,DEGC,,TU,TU,,NMOL/KG,,PERCNT,PERCNT,,O/OO,,ug/kg,,ug/kg,,UG/L,,UG/L,,CELLS/ML,,,,DEGC
  32L919930718,   103,  2,      7,2,19930817, 76.5170,  -6.8340, 1491,      3.0,  -1.3070,  31.9360,2,-999.0000,9,-999.0000,    406.9,2,   -999.0,9,  -999.00,9,  -999.00,9,  -999.00,9,  -999.00,9,       -999,9,   -999.0,9,   -999.0,      -999,9, -999.000, -999.000,9,-999.0000,9,  -999.00,  -999.00,9,   -999.0,9,       -999,9,       -999,9,  -999.00,9,  -999.00,9,     -999,9,181,   4879,  -1.3071
  32L919930718,   103,  2,      6,2,19930817, 76.5170,  -6.8340, 1491,     12.0,  -1.3870,  32.5780,2,-999.0000,9,-999.0000,    373.4,2,   -999.0,9,  -999.00,9,  -999.00,9,  -999.00,9,  -999.00,9,       -999,9,   -999.0,9,   -999.0,      -999,9, -999.000, -999.000,9,-999.0000,9,  -999.00,  -999.00,9,   -999.0,9,       -999,9,       -999,9,  -999.00,9,  -999.00,9,     -999,9,181,   4878,  -1.3872
  32L919930718,   103,  2,      5,2,19930817, 76.5170,  -6.8340, 1491,    280.0,   2.4690,  35.0180,2,  35.0620,2,-999.0000,    298.9,2,   -999.0,9,  -999.00,9,  -999.00,9,  -999.00,9,  -999.00,9,       -999,9,   -999.0,9,   -999.0,      -999,9, -999.000, -999.000,9,-999.0000,9,  -999.00,  -999.00,9,   -999.0,9,       -999,9,       -999,9,  -999.00,9,  -999.00,9,     -999,9,181,   4877,   2.4525
  32L919930718,   103,  2,      3,2,19930817, 76.5170,  -6.8340, 1491,    699.0,   0.1170,  34.8890,2,-999.0000,9,  34.8430,    290.2,2,    298.0,2,     8.13,2,    12.88,2,    -0.08,2,     0.87,2,     -0.015,2,   2143.8,2,    716.2,18.2000008,2, -999.000, -999.000,9,-999.0000,9,  -999.00,  -999.00,9,   -999.0,9,       -999,9,       -999,9,  -999.00,9,  -999.00,9,    12600,2,181,   4875,   0.0870
  32L919930718,   103,  2,      4,2,19930817, 76.5170,  -6.8340, 1491,    701.0,   0.1150,  34.8870,2,-999.0000,9,-999.0000,    290.0,2,   -999.0,9,  -999.00,9,  -999.00,9,  -999.00,9,  -999.00,9,       -999,9,   -999.0,9,   -999.0,      -999,9, -999.000, -999.000,9,-999.0000,9,  -999.00,  -999.00,9,   -999.0,9, 2.81599998,2,0.280999988,2,     0.14,2,     0.06,2,     -999,9,181,   4876,   0.0849
  32L919930718,   103,  2,      1,2,19930817, 76.5170,  -6.8340, 1491,    900.0,  -0.1600,  34.8960,2,-999.0000,9,  34.8430,    294.7,2,    303.0,2,     8.06,2,    12.88,2,    -0.08,2,     0.97,2, 0.00500001,2,   2146.6,2,    724.6,18.2000008,2, -999.000, -999.000,9,-999.0000,9,  -999.00,  -999.00,9,   -999.0,9,       -999,9,       -999,9,  -999.00,9,  -999.00,9,    11400,2,181,   4873,  -0.1982
  32L919930718,   103,  2,      2,2,19930817, 76.5170,  -6.8340, 1491,    900.0,  -0.1600,  34.8960,2,-999.0000,9,-999.0000,    293.5,2,   -999.0,9,  -999.00,9,  -999.00,9,  -999.00,9,  -999.00,9,       -999,9,   -999.0,9,   -999.0,      -999,9, -999.000, -999.000,9,-999.0000,9,  -999.00,  -999.00,9,   -999.0,9,       -999,9,       -999,9,  -999.00,9,  -999.00,9,     -999,9,181,   4874,  -0.1982
  32L919930718,   103,  2,     11,2,19930817, 76.5170,  -6.8340, 1491,   1100.0,  -0.3590,  34.9040,2,-999.0000,9,  34.8520,    295.3,2,    303.7,2,     8.69,2,    13.39,2,    -0.08,2,     0.90,2,     -0.005,2,   2149.4,2,    725.0,18.2000008,2, -999.000, -999.000,9,-999.0000,9,  -999.00,  -999.00,9,   -999.0,9,       -999,9,       -999,9,  -999.00,9,  -999.00,9,    19600,2,181,   4871,  -0.4059
  32L919930718,   103,  2,     12,2,19930817, 76.5170,  -6.8340, 1491,   1100.0,  -0.3560,  34.9060,2,-999.0000,9,-999.0000,    296.2,2,   -999.0,9,  -999.00,9,  -999.00,9,  -999.00,9,  -999.00,9,       -999,9,   -999.0,9,   -999.0,      -999,9, -999.000, -999.000,9,-999.0000,9,  -999.00,  -999.00,9,   -999.0,9,       -999,9,       -999,9,  -999.00,9,  -999.00,9,     -999,9,181,   4872,  -0.4029
  32L919930718,   103,  2,     10,2,19930817, 76.5170,  -6.8340, 1491,   1298.0,  -0.4620,  34.9140,2,-999.0000,9,-999.0000,    295.9,2,   -999.0,9,  -999.00,9,  -999.00,9,  -999.00,9,  -999.00,9,       -999,9,   -999.0,9,   -999.0,      -999,9, -999.000, -999.000,9,-999.0000,9,  -999.00,  -999.00,9,   -999.0,9,       -999,9,       -999,9,  -999.00,9,  -999.00,9,     -999,9,181,   4870,  -0.5185
  32L919930718,   103,  2,      9,2,19930817, 76.5170,  -6.8340, 1491,   1300.0,  -0.4600,  34.9150,2,-999.0000,9,  34.8690,    295.8,2,    301.5,2,     9.72,2,    13.49,2,    -0.08,2,     0.92,2,     -0.015,2,   2150.1,2,    730.2,18.2000008,2, -999.000, -999.000,9,-999.0000,9,  -999.00,  -999.00,9,   -999.0,9,       -999,9,       -999,9,  -999.00,9,  -999.00,9,     -999,9,181,   4869,  -0.5166
  32L919930718,   103,  2,      8,2,19930817, 76.5170,  -6.8340, 1491,   1361.0,  -0.4710,  34.9170,2,-999.0000,9,  34.8260,    297.0,2,    300.3,2,     9.94,2,    13.80,2,    -0.08,2,     0.92,2, 0.00500001,2,   2147.9,2,    726.0,18.2000008,2, -999.000, -999.000,9,-999.0000,9,  -999.00,  -999.00,9,   -999.0,9,       -999,9,       -999,9,  -999.00,9,  -999.00,9,     -999,9,181,   4868,  -0.5309