BOTTLE,20090115PRINUNIVRMK
EXPOCODE,STNNBR,CASTNO,BTLNBR,BTLNBR_FLAG_W,DATE,LATITUDE,LONGITUDE,DEPTH,CTDPRS,CTDTMP,CTDSAL,CTDSAL_FLAG_W,SALNTY,SALNTY_FLAG_W,SOMSAL,CTDOXY,CTDOXY_FLAG_W,OXYGEN,OXYGEN_FLAG_W,SILCAT,SILCAT_FLAG_W,NITRAT,NITRAT_FLAG_W,NITRIT,NITRIT_FLAG_W,PHSPHT,PHSPHT_FLAG_W,AMMONI,AMMONI_FLAG_W,TCARBN,TCARBN_FLAG_W,FCO2,FCO2_TMP,FCO2_FLAG_W,TRITUM,TRITER,TRITUM_FLAG_W,HELIUM,HELIUM_FLAG_W,DELHE3,DELHER,DELHE3_FLAG_W,DELC14,DELC14_FLAG_W,POC,POC_FLAG_W,PON,PON_FLAG_W,CHLORA,CHLORA_FLAG_W,PHAEO,PHAEO_FLAG_W,BACT,BACT_FLAG_W,CTDNO,BNLID,THETA
,,,,,,,,METERS,DBARS,ITS-90,PSS-78,,PSS-78,,PSS-78,UMOL/KG,,UMOL/KG,,UMOL/KG,,UMOL/KG,,UMOL/KG,,UMOL/KG,,UMOL/KG,,UMOL/KG,,UATM,DEGC,,TU,TU,,NMOL/KG,,PERCNT,PERCNT,,O/OO,,ug/kg,,ug/kg,,UG/L,,UG/L,,CELLS/ML,,,,DEGC
  32L919930718,   100,  1,      7,2,19930817, 76.6140,  -7.3650,  536,      3.0,   2.6980,  32.5330,2,-999.0000,9,  32.5030,    346.1,2,    353.7,2,     0.82,2,     0.16,2,     0.00,2,     0.16,2,-0.01599999,2,   1960.5,2,    400.9,18.2000008,2, -999.000, -999.000,9,-999.0000,9,  -999.00,  -999.00,9,   -999.0,9, 15.2329998,2, 2.54299998,2,     0.39,2,     0.02,2,   331000,2,177,   4819,   2.6978
  32L919930718,   100,  1,      6,2,19930817, 76.6140,  -7.3650,  536,     14.0,  -1.5160,  33.2120,2,  33.1810,2,  33.1340,    358.9,2,    350.8,2,     7.91,2,     4.25,2,     0.09,2,     0.57,2,0.023000002,2,   2104.0,2,    671.5,18.2000008,2, -999.000, -999.000,9,-999.0000,9,  -999.00,  -999.00,9,   -999.0,9, 8.35599995,2, 1.18299997,2,     0.30,2,     0.07,2,   212000,2,177,   4818,  -1.5163
  32L919930718,   100,  1,      5,2,19930817, 76.6140,  -7.3650,  536,     34.0,  -1.6180,  33.6580,2,-999.0000,9,  33.6310,    342.1,2,    338.5,2,     8.68,2,     7.12,2,     0.06,2,     0.68,2,0.091000006,2,   2146.9,2,    797.1,18.2000008,2, -999.000, -999.000,9,-999.0000,9,  -999.00,  -999.00,9,   -999.0,9, 3.18000007,2,0.236000001,2,     0.05,2,     0.05,2,   120000,2,177,   4817,  -1.6187
  32L919930718,   100,  1,      4,2,19930817, 76.6140,  -7.3650,  536,     61.0,  -1.6320,  33.9810,2,-999.0000,9,  33.9500,    330.3,2,    323.9,2,     7.41,2,     9.31,2,     0.06,2,     0.71,2,     -0.006,2,   2118.5,2,    693.9,18.2000008,2, -999.000, -999.000,9,-999.0000,9,  -999.00,  -999.00,9,   -999.0,9, 4.21999979,2,0.165000007,2,     0.02,2,     0.07,2,    80900,2,177,   4816,  -1.6332
  32L919930718,   100,  1,      3,2,19930817, 76.6140,  -7.3650,  536,    100.0,   0.0230,  34.3790,2,-999.0000,9,  34.3410,    310.1,2,    305.5,2,     8.15,2,     9.72,2,     0.18,2,     0.73,2, 0.69600004,2,   2125.1,2,    689.4,18.2000008,2, -999.000, -999.000,9,-999.0000,9,  -999.00,  -999.00,9,   -999.0,9, 2.40400004,2,0.273999989,2,     0.04,2,     0.09,2,   266000,2,177,   4815,   0.0194
  32L919930718,   100,  1,      2,2,19930817, 76.6140,  -7.3650,  536,    150.0,   1.6820,  34.8040,2,-999.0000,9,  34.7790,    302.4,2,    302.7,2,     6.66,2,    11.88,2,     0.14,2,     0.81,2,0.013000011,2,   2131.9,2,    657.6,18.2000008,2, -999.000, -999.000,9,-999.0000,9,  -999.00,  -999.00,9,   -999.0,9, 2.03299999,2,0.123000003,2,     0.01,2,     0.06,2,   128000,2,177,   4814,   1.6744
  32L919930718,   100,  1,      1,2,19930817, 76.6140,  -7.3650,  536,    201.0,   2.5970,  34.9630,2,-999.0000,9,  34.9220,    304.1,2,    307.0,2,     6.35,2,    12.23,2,     0.01,2,     0.80,2,-0.02599999,2,   2133.2,2,    638.4,18.2000008,2, -999.000, -999.000,9,-999.0000,9,  -999.00,  -999.00,9,   -999.0,9, 2.42799997,2,0.177000001,2,     0.01,2,     0.04,2,   119000,2,177,   4813,   2.5851
  32L919930718,   100,  1,     12,2,19930817, 76.6140,  -7.3650,  536,    237.0,   2.7700,  35.0050,2,-999.0000,9,-999.0000,    304.2,2,    308.0,2,     6.44,2,    12.33,2,     0.03,2,     0.82,2,0.043000005,2,   -999.0,9,   -999.0,      -999,9, -999.000, -999.000,9,-999.0000,9,  -999.00,  -999.00,9,   -999.0,9, 2.67600012,2,0.194000006,2,  -999.00,9,  -999.00,9,   111000,2,177,   4812,   2.7556
  32L919930718,   100,  1,     11,2,19930817, 76.6140,  -7.3650,  536,    319.0,   1.6360,  34.9260,2,-999.0000,9,-999.0000,    302.8,2,    303.3,2,     7.31,2,    12.53,2,     0.01,2,     0.84,2,0.004000008,2,   -999.0,9,   -999.0,      -999,9, -999.000, -999.000,9,-999.0000,9,  -999.00,  -999.00,9,   -999.0,9, 1.91400003,2,0.052000001,2,  -999.00,9,  -999.00,9,    81300,2,177,   4811,   1.6194
  32L919930718,   100,  1,     10,2,19930817, 76.6140,  -7.3650,  536,    402.0,   1.3690,  34.9310,2,-999.0000,9,  34.8850,    303.1,2,    303.2,2,     7.56,2,    12.75,2,     0.01,2,     0.88,2,     -0.006,2,   2140.7,2,    679.2,18.2000008,2, -999.000, -999.000,9,-999.0000,9,  -999.00,  -999.00,9,   -999.0,9, 1.74800003,2,       0.02,2,  -999.00,9,  -999.00,9,    76100,2,177,   4810,   1.3486
  32L919930718,   100,  1,      9,2,19930817, 76.6140,  -7.3650,  536,    450.0,   1.1240,  34.9150,2,  34.9500,2,-999.0000,    302.0,2,    300.7,2,     8.13,2,    12.85,2,     0.03,2,     0.88,2,0.062000006,2,   -999.0,9,   -999.0,      -999,9, -999.000, -999.000,9,-999.0000,9,  -999.00,  -999.00,9,   -999.0,9,       -999,9,      0.081,2,  -999.00,9,  -999.00,9,    70900,2,177,   4809,   1.1019
  32L919930718,   100,  1,      8,2,19930817, 76.6140,  -7.3650,  536,    526.0,   1.0800,  34.9130,2,-999.0000,9,  34.8730,    304.8,2,    300.4,2,     8.28,2,    12.83,2,     0.03,2,     0.90,2,0.101000011,2,   2143.3,2,    700.6,18.2000008,2, -999.000, -999.000,9,-999.0000,9,  -999.00,  -999.00,9,   -999.0,9,0.381000012,2,0.052000001,2,  -999.00,9,  -999.00,9,    52900,2,177,   4808,   1.0540
  32L919930718,   101,  1,      7,2,19930817, 76.5950,  -7.2130,  772,      4.0,   3.3370,  33.1400,2,-999.0000,9,-999.0000,    338.8,2,    352.3,2,     1.03,2,     0.05,2,     0.00,2,     0.16,2,0.034000009,2,   -999.0,9,   -999.0,      -999,9, -999.000, -999.000,9,-999.0000,9,  -999.00,  -999.00,9,   -999.0,9,       -999,9,       -999,9,     0.49,2,     0.05,2,   127000,2,178,   4831,   3.3368
  32L919930718,   101,  1,      6,2,19930817, 76.5950,  -7.2130,  772,     16.0,   2.7240,  33.3800,2,  33.4270,2,-999.0000,    332.8,2,    343.4,2,     3.49,2,     1.79,2,     0.04,2,     0.29,2,     -0.015,2,   -999.0,9,   -999.0,      -999,9, -999.000, -999.000,9,-999.0000,9,  -999.00,  -999.00,9,   -999.0,9,       -999,9,       -999,9,     0.56,2,     0.06,2,   139000,2,178,   4830,   2.7231
  32L919930718,   101,  1,      5,2,19930817, 76.5950,  -7.2130,  772,     35.0,  -1.6640,  33.6930,2,-999.0000,9,-999.0000,    340.8,2,    339.7,2,     8.50,2,     7.18,2,     0.07,2,     0.70,2,      0.044,2,   -999.0,9,   -999.0,      -999,9, -999.000, -999.000,9,-999.0000,9,  -999.00,  -999.00,9,   -999.0,9,       -999,9,       -999,9,     0.11,2,     0.14,2,    83800,2,178,   4829,  -1.6647
  32L919930718,   101,  1,      4,2,19930817, 76.5950,  -7.2130,  772,     60.0,  -1.4840,  34.0250,2,-999.0000,9,-999.0000,    330.4,2,    327.7,2,     6.35,2,     8.74,2,     0.14,2,     0.71,2,0.239000008,2,   -999.0,9,   -999.0,      -999,9, -999.000, -999.000,9,-999.0000,9,  -999.00,  -999.00,9,   -999.0,9,       -999,9,       -999,9,     0.06,2,     0.04,2,   180000,2,178,   4828,  -1.4853
  32L919930718,   101,  1,      3,2,19930817, 76.5950,  -7.2130,  772,     88.0,  -0.3720,  34.2940,2,-999.0000,9,-999.0000,    309.3,2,    309.4,2,     8.06,2,     9.14,2,     0.15,2,     0.82,2, 0.56099999,2,   -999.0,9,   -999.0,      -999,9, -999.000, -999.000,9,-999.0000,9,  -999.00,  -999.00,9,   -999.0,9,       -999,9,       -999,9,     0.04,2,     0.12,2,   201000,2,178,   4827,  -0.3748
  32L919930718,   101,  1,      2,2,19930817, 76.5950,  -7.2130,  772,    200.0,   2.8360,  34.9790,2,-999.0000,9,-999.0000,    301.8,2,    306.7,2,     6.39,2,    12.30,2,    -0.01,2,     0.85,2,     -0.005,2,   -999.0,9,   -999.0,      -999,9, -999.000, -999.000,9,-999.0000,9,  -999.00,  -999.00,9,   -999.0,9,       -999,9,       -999,9,     0.01,2,     0.05,2,   113000,2,178,   4826,   2.8238
  32L919930718,   101,  1,      1,2,19930817, 76.5950,  -7.2130,  772,    302.0,   2.7310,  35.0330,2,-999.0000,9,-999.0000,    303.4,2,    309.7,2,     6.36,2,    12.84,2,     0.01,2,     0.83,2,0.024000004,2,   -999.0,9,   -999.0,      -999,9, -999.000, -999.000,9,-999.0000,9,  -999.00,  -999.00,9,   -999.0,9,       -999,9,       -999,9,  -999.00,9,  -999.00,9,    98800,2,178,   4825,   2.7125
  32L919930718,   101,  1,     12,2,19930817, 76.5950,  -7.2130,  772,    401.0,   1.6730,  34.9520,2,-999.0000,9,-999.0000,    300.9,2,    305.8,2,     7.18,2,    12.35,2,    -0.02,2,     0.89,2,-0.09300001,2,   -999.0,9,   -999.0,      -999,9, -999.000, -999.000,9,-999.0000,9,  -999.00,  -999.00,9,   -999.0,9,       -999,9,       -999,9,  -999.00,9,  -999.00,9,    55000,2,178,   4824,   1.6517
  32L919930718,   101,  1,     11,2,19930817, 76.5950,  -7.2130,  772,    499.0,   1.2390,  34.9340,2,-999.0000,9,-999.0000,    299.5,2,    303.2,2,     7.58,2,    12.19,2,    -0.01,2,     0.88,2,      0.044,2,   -999.0,9,   -999.0,      -999,9, -999.000, -999.000,9,-999.0000,9,  -999.00,  -999.00,9,   -999.0,9,       -999,9,       -999,9,  -999.00,9,  -999.00,9,    57500,2,178,   4823,   1.2138
  32L919930718,   101,  1,     10,2,19930817, 76.5950,  -7.2130,  772,    600.0,   0.5980,  34.8940,2,-999.0000,9,-999.0000,    296.8,2,    298.8,2,     8.17,2,    13.07,2,    -0.03,2,     0.92,2, 0.00500001,2,   -999.0,9,   -999.0,      -999,9, -999.000, -999.000,9,-999.0000,9,  -999.00,  -999.00,9,   -999.0,9,       -999,9,       -999,9,  -999.00,9,  -999.00,9,    24700,2,178,   4822,   0.5704
  32L919930718,   101,  1,      9,2,19930817, 76.5950,  -7.2130,  772,    699.0,   0.3480,  34.8910,2,  34.9030,2,-999.0000,    300.3,2,    299.8,2,     8.23,2,    13.51,2,    -0.02,2,     0.91,2,0.015000001,2,   -999.0,9,   -999.0,      -999,9, -999.000, -999.000,9,-999.0000,9,  -999.00,  -999.00,9,   -999.0,9,       -999,9,       -999,9,  -999.00,9,  -999.00,9,    15700,2,178,   4821,   0.3167
  32L919930718,   101,  1,      8,2,19930817, 76.5950,  -7.2130,  772,    762.0,   0.1860,  34.8900,2,-999.0000,9,-999.0000,    302.1,2,    299.6,2,     8.60,2,    13.51,2,     0.03,2,     0.90,2,     -0.024,2,   -999.0,9,   -999.0,      -999,9, -999.000, -999.000,9,-999.0000,9,  -999.00,  -999.00,9,   -999.0,9,       -999,9,       -999,9,  -999.00,9,  -999.00,9,    10100,2,178,   4820,   0.1524
  32L919930718,   102,  1,      7,2,19930817, 76.5680,  -7.0310, 1071,      3.0,   0.2870,  31.0710,2,  31.2820,2,  31.2590,    376.8,2,    383.9,2,     1.14,2,     0.30,2,     0.00,2,     0.28,2,0.056000009,2,   1930.4,2,    417.9,17.2999992,2, -999.000, -999.000,9,-999.0000,9,  -999.00,  -999.00,9,   -999.0,9, 28.2189999,2, 3.81999993,2,     0.86,2,    -0.05,2,   133000,2,179,   4843,   0.2869
  32L919930718,   102,  1,      6,2,19930817, 76.5680,  -7.0310, 1071,     21.0,   3.6660,  33.5670,2,  33.5110,2,  33.4090,    337.7,2,    344.5,2,     1.03,2,     0.31,2,     0.01,2,     0.17,2,      0.037,2,   2001.8,2,    382.3,17.2999992,2, -999.000, -999.000,9,-999.0000,9,  -999.00,  -999.00,9,   -999.0,9, 20.8920002,2, 3.40300012,2,     0.66,2,     0.08,2,   148000,2,179,   4842,   3.6647
  32L919930718,   102,  1,      5,2,19930817, 76.5680,  -7.0310, 1071,     35.0,  -1.4780,  33.7400,2,  33.7590,2,  33.7250,    334.3,2,    329.7,2,     9.28,2,     8.29,2,     0.07,2,     0.77,2,0.056000009,2,   2140.9,2,    747.6,17.2999992,2, -999.000, -999.000,9,-999.0000,9,  -999.00,  -999.00,9,   -999.0,9,  2.7980001,2,0.187000006,2,     0.03,2,     0.04,2,    71500,2,179,   4841,  -1.4787
  32L919930718,   102,  1,      4,2,19930817, 76.5680,  -7.0310, 1071,     61.0,  -1.5600,  34.0230,2,  34.0340,2,  33.9850,    331.1,2,    329.1,2,     6.76,2,     8.94,2,     0.10,2,     0.71,2,0.076000005,2,   2127.3,2,    685.6,17.2999992,2, -999.000, -999.000,9,-999.0000,9,  -999.00,  -999.00,9,   -999.0,9, 3.18899989,2,0.239999995,2,     0.04,2,     0.04,2,    80400,2,179,   4840,  -1.5613
  32L919930718,   102,  1,      3,2,19930817, 76.5680,  -7.0310, 1071,    101.0,  -0.2750,  34.4340,2,  34.4310,2,  34.3910,    298.9,2,    295.5,2,    10.19,2,    11.92,2,     0.05,2,     0.89,2,     -0.051,2,   2139.5,2,    719.8,17.2999992,2, -999.000, -999.000,9,-999.0000,9,  -999.00,  -999.00,9,   -999.0,9,  3.0480001,2,0.143000007,2,     0.01,2,     0.04,2,    46500,2,179,   4839,  -0.2784
  32L919930718,   102,  1,      2,2,19930817, 76.5680,  -7.0310, 1071,    183.0,   2.9200,  34.9850,2,  34.9920,2,-999.0000,    302.0,2,    307.2,2,     6.00,2,    12.33,2,     0.01,2,     0.85,2,-0.00199997,2,   -999.0,9,   -999.0,      -999,9, -999.000, -999.000,9,-999.0000,9,  -999.00,  -999.00,9,   -999.0,9, 3.70499992,2,0.203999996,2,     0.01,2,     0.05,2,   145000,2,179,   4838,   2.9087
  32L919930718,   102,  1,      1,2,19930817, 76.5680,  -7.0310, 1071,    251.0,   2.6280,  35.0030,2,  35.0230,2,  34.9670,    302.6,2,    309.1,2,     6.22,2,    11.96,2,    -0.02,2,     0.88,2, 0.01700002,2,   2136.3,2,    605.8,17.2999992,2, -999.000, -999.000,9,-999.0000,9,  -999.00,  -999.00,9,   -999.0,9, 4.49700022,2,0.280999988,2,  -999.00,9,  -999.00,9,    89600,2,179,   4837,   2.6130
  32L919930718,   102,  1,     12,2,19930817, 76.5680,  -7.0310, 1071,    351.0,   2.3450,  35.0120,2,  35.0180,2,-999.0000,    303.6,2,    311.2,2,     6.30,2,    12.61,2,     0.05,2,     0.86,2,0.076000005,2,   -999.0,9,   -999.0,      -999,9, -999.000, -999.000,9,-999.0000,9,  -999.00,  -999.00,9,   -999.0,9, 4.69199991,2,0.143000007,2,  -999.00,9,  -999.00,9,    85800,2,179,   4836,   2.3245
  32L919930718,   102,  1,     11,2,19930817, 76.5680,  -7.0310, 1071,    449.0,   1.8050,  34.9820,2,  34.9830,2,-999.0000,    303.5,2,    312.4,2,     6.59,2,    13.27,2,     0.02,2,     0.89,2, 0.01700002,2,   -999.0,9,   -999.0,      -999,9, -999.000, -999.000,9,-999.0000,9,  -999.00,  -999.00,9,   -999.0,9, 2.34100008,2,0.108999997,2,  -999.00,9,  -999.00,9,    92300,2,179,   4835,   1.7804
  32L919930718,   102,  1,     10,2,19930817, 76.5680,  -7.0310, 1071,    600.0,   0.5920,  34.8990,2,  34.9060,2,  34.8590,    293.3,2,    300.8,2,     7.88,2,    13.39,2,     0.01,2,     0.94,2,0.076000005,2,   2142.8,2,    670.9,17.2999992,2,    2.100,    0.031,2,   1.8690,2,     6.90,     0.20,2,   -999.0,9, 2.91300011,2,0.153999999,2,  -999.00,9,  -999.00,9,    31000,2,179,   4834,   0.5644
  32L919930718,   102,  1,      9,2,19930817, 76.5680,  -7.0310, 1071,    800.0,   0.0770,  34.8900,2,  34.9340,2,-999.0000,    295.1,2,    299.3,2,     8.37,2,    13.09,2,     0.01,2,     0.94,2,      0.037,2,   -999.0,9,   -999.0,      -999,9, -999.000, -999.000,9,-999.0000,9,  -999.00,  -999.00,9,   -999.0,9, 2.69199991,2,0.039000001,2,  -999.00,9,  -999.00,9,    16800,2,179,   4833,   0.0422
  32L919930718,   102,  1,      8,2,19930817, 76.5680,  -7.0310, 1071,   1061.0,  -0.2410,  34.9010,2,  34.9040,2,  34.8710,    302.4,2,    303.4,2,     8.72,2,    13.35,2,     0.02,2,     0.96,2,0.056000009,2,   2148.6,2,    697.8,17.2999992,2,    1.540,    0.023,2,   1.8520,2,     6.80,     0.20,2,   -999.0,9, 1.36099994,2,0.219999999,2,  -999.00,9,  -999.00,9,    14100,2,179,   4832,  -0.2869
  32L919930718,   103,  1,      7,2,19930817, 76.5170,  -6.8340, 1491,      4.0,  -1.0790,  31.7700,2,-999.0000,9,  31.6700,    411.1,2,    416.7,2,     1.31,2,     0.10,2,     0.01,2,     0.37,2,0.006999999,2,   1982.1,2,    473.7,18.2000008,2, -999.000, -999.000,9,-999.0000,9,  -999.00,  -999.00,9,   -999.0,9,       -999,9,       -999,9,     1.91,2,     0.22,2,   254000,2,180,   4855,  -1.0791
  32L919930718,   103,  1,      6,2,19930817, 76.5170,  -6.8340, 1491,      9.0,  -1.1300,  31.8230,2,-999.0000,9,  31.7430,    414.1,2,    417.7,2,     1.56,2,     0.10,2,     0.01,2,     0.40,2, 0.02700001,2,   1992.4,2,    489.7,18.2000008,2, -999.000, -999.000,9,-999.0000,9,  -999.00,  -999.00,9,   -999.0,9,       -999,9,       -999,9,     2.68,2,     0.24,2,   274000,2,180,   4854,  -1.1302
  32L919930718,   103,  1,      5,2,19930817, 76.5170,  -6.8340, 1491,     10.0,  -1.1180,  31.8890,2,-999.0000,9,  31.9680,    414.1,2,    417.9,2,     1.63,2,     0.08,2,     0.03,2,     0.45,2,0.006999999,2,   1999.6,2,    483.2,18.2000008,2, -999.000, -999.000,9,-999.0000,9,  -999.00,  -999.00,9,   -999.0,9,       -999,9,       -999,9,  -999.00,9,  -999.00,9,   297000,2,180,   4853,  -1.1182
  32L919930718,   103,  1,      4,2,19930817, 76.5170,  -6.8340, 1491,     33.0,  -1.3110,  33.8000,2,-999.0000,9,  33.9660,    341.5,2,    336.6,2,     5.03,2,     4.14,2,     0.05,2,     0.43,2,0.212000012,2,   2093.3,2,    576.8,18.2000008,2, -999.000, -999.000,9,-999.0000,9,  -999.00,  -999.00,9,   -999.0,9,       -999,9,       -999,9,     0.38,2,     0.18,2,     -999,9,180,   4852,  -1.3117
  32L919930718,   103,  1,      3,2,19930817, 76.5170,  -6.8340, 1491,     60.0,  -1.4760,  34.0720,2,-999.0000,9,  34.0700,    322.3,2,    320.2,2,     7.18,2,     8.76,2,     0.05,2,     0.69,2, 0.01700002,2,   2124.9,2,    716.9,18.2000008,2, -999.000, -999.000,9,-999.0000,9,  -999.00,  -999.00,9,   -999.0,9,       -999,9,       -999,9,     0.05,2,     0.05,2,    70600,2,180,   4851,  -1.4773
  32L919930718,   103,  1,      2,2,19930817, 76.5170,  -6.8340, 1491,     99.0,   0.2790,  34.5350,2,-999.0000,9,  34.5270,    296.8,2,    298.6,2,     8.70,2,    10.59,2,     0.13,2,     0.77,2,0.261000007,2,   2136.0,2,    695.3,18.2000008,2, -999.000, -999.000,9,-999.0000,9,  -999.00,  -999.00,9,   -999.0,9,       -999,9,       -999,9,     0.02,2,     0.07,2,   115000,2,180,   4850,   0.2752
  32L919930718,   103,  1,      1,2,19930817, 76.5170,  -6.8340, 1491,    188.0,   2.0900,  34.9200,2,-999.0000,9,  34.8930,    298.6,2,    304.2,2,     6.79,2,    11.65,2,     0.02,2,     0.82,2,0.056000009,2,   2135.3,2,    651.0,18.2000008,2, -999.000, -999.000,9,-999.0000,9,  -999.00,  -999.00,9,   -999.0,9,       -999,9,       -999,9,     0.01,2,     0.05,2,    87000,2,180,   4849,   2.0797
  32L919930718,   103,  1,     12,2,19930817, 76.5170,  -6.8340, 1491,    287.0,   1.7390,  34.9450,2,-999.0000,9,  34.9060,    297.9,2,    304.4,2,     7.02,2,    11.88,2,     0.03,2,     0.82,2,0.105000019,2,   2140.7,2,    670.3,18.2000008,2, -999.000, -999.000,9,-999.0000,9,  -999.00,  -999.00,9,   -999.0,9,       -999,9,       -999,9,  -999.00,9,  -999.00,9,    71700,2,180,   4848,   1.7239
  32L919930718,   103,  1,     11,2,19930817, 76.5170,  -6.8340, 1491,    300.0,   1.7800,  34.9570,2,-999.0000,9,  34.9330,    297.6,2,    306.5,2,     6.86,2,    12.04,2,     0.02,2,     0.83,2,0.056000009,2,   2139.4,2,    675.4,18.2000008,2, -999.000, -999.000,9,-999.0000,9,  -999.00,  -999.00,9,   -999.0,9,       -999,9,       -999,9,  -999.00,9,  -999.00,9,    73000,2,180,   4847,   1.7640
  32L919930718,   103,  1,     10,2,19930817, 76.5170,  -6.8340, 1491,    400.0,   1.4440,  34.9550,2,-999.0000,9,  34.9210,    302.9,2,    312.2,2,     6.76,2,    12.08,2,     0.03,2,     0.82,2,0.066000015,2,   2140.7,2,    673.1,18.2000008,2, -999.000, -999.000,9,-999.0000,9,  -999.00,  -999.00,9,   -999.0,9,       -999,9,       -999,9,  -999.00,9,  -999.00,9,    83400,2,180,   4846,   1.4235
  32L919930718,   103,  1,      9,2,19930817, 76.5170,  -6.8340, 1491,    501.0,   0.5850,  34.8920,2,-999.0000,9,  34.8600,    288.9,2,    293.5,2,     7.93,2,    11.89,2,     0.01,2,     0.86,2,0.105000019,2,   2142.8,2,    690.9,18.2000008,2, -999.000, -999.000,9,-999.0000,9,  -999.00,  -999.00,9,   -999.0,9,       -999,9,       -999,9,  -999.00,9,  -999.00,9,    17100,2,180,   4845,   0.5624
  32L919930718,   103,  1,      8,2,19930817, 76.5170,  -6.8340, 1491,   1481.0,  -0.5970,  34.9190,2,  34.9390,2,  34.8760,    295.7,2,    299.1,2,    11.03,2,    13.23,2,     0.02,2,     0.95,2, 0.11500001,2,   2152.4,2,   -999.0,      -999,9, -999.000, -999.000,9,-999.0000,9,  -999.00,  -999.00,9,   -999.0,9,       -999,9,       -999,9,  -999.00,9,  -999.00,9,    15100,2,180,   4844,  -0.6623