BOTTLE,20090115PRINUNIVRMK
EXPOCODE,STNNBR,CASTNO,BTLNBR,BTLNBR_FLAG_W,DATE,LATITUDE,LONGITUDE,DEPTH,CTDPRS,CTDTMP,CTDSAL,CTDSAL_FLAG_W,SALNTY,SALNTY_FLAG_W,SOMSAL,CTDOXY,CTDOXY_FLAG_W,OXYGEN,OXYGEN_FLAG_W,SILCAT,SILCAT_FLAG_W,NITRAT,NITRAT_FLAG_W,NITRIT,NITRIT_FLAG_W,PHSPHT,PHSPHT_FLAG_W,AMMONI,AMMONI_FLAG_W,TCARBN,TCARBN_FLAG_W,FCO2,FCO2_TMP,FCO2_FLAG_W,TRITUM,TRITER,TRITUM_FLAG_W,HELIUM,HELIUM_FLAG_W,DELHE3,DELHER,DELHE3_FLAG_W,DELC14,DELC14_FLAG_W,POC,POC_FLAG_W,PON,PON_FLAG_W,CHLORA,CHLORA_FLAG_W,PHAEO,PHAEO_FLAG_W,BACT,BACT_FLAG_W,CTDNO,BNLID,THETA
,,,,,,,,METERS,DBARS,ITS-90,PSS-78,,PSS-78,,PSS-78,UMOL/KG,,UMOL/KG,,UMOL/KG,,UMOL/KG,,UMOL/KG,,UMOL/KG,,UMOL/KG,,UMOL/KG,,UATM,DEGC,,TU,TU,,NMOL/KG,,PERCNT,PERCNT,,O/OO,,ug/kg,,ug/kg,,UG/L,,UG/L,,CELLS/ML,,,,DEGC
  32L919930718,    55,  1,     11,2,19930804, 80.1510,  -7.7460,  310,      3.0,   2.1230,  29.9520,2,-999.0000,9,  29.9220,    355.9,2,    369.6,2,     4.84,2,    -0.66,3,     0.01,2,     0.64,2,0.002000004,2,   1932.4,2,    526.9,18.2000008,2,    6.850,    0.103,2,   1.9050,2,    -1.90,     0.20,2,   -999.0,9, 10.7930002,2, 1.22800004,2,  -999.00,9,  -999.00,9,     -999,9,102,   4031,   2.1229
  32L919930718,    55,  1,     10,2,19930804, 80.1510,  -7.7460,  310,     11.0,   0.7480,  30.1640,2,  30.5290,2,  30.5530,    388.8,2,    407.6,2,     5.19,2,     0.17,2,     0.01,2,     0.67,2,     -0.007,2,   1971.7,2,    515.8,18.2000008,2,    6.990,    0.105,2,   1.8070,2,     0.10,     0.20,2,   -999.0,9, 9.10700035,2, 1.40999997,2,     0.83,2,     0.08,2,     -999,9,102,   4042,   0.7476
  32L919930718,    55,  1,      9,2,19930804, 80.1510,  -7.7460,  310,     20.0,  -1.0920,  31.3720,2,-999.0000,9,  31.6200,    381.0,2,    391.8,2,     8.13,2,     1.35,2,     0.05,2,     0.80,2,0.002000004,2,   2049.9,2,    633.1,18.2000008,2, -999.000, -999.000,9,-999.0000,9,  -999.00,  -999.00,9,   -999.0,9, 5.61999989,2,0.924000025,2,     1.91,2,     0.27,2,     -999,9,102,   4041,  -1.0924
  32L919930718,    55,  1,      8,2,19930804, 80.1510,  -7.7460,  310,     36.0,  -0.8520,  32.1610,2,-999.0000,9,  32.2170,    407.0,2,    391.2,2,     8.95,2,     1.82,2,     0.03,2,     0.88,2,0.002000004,2,   2087.7,2,    676.5,18.2000008,2, -999.000, -999.000,9,-999.0000,9,  -999.00,  -999.00,9,   -999.0,9, 15.7040005,2, 2.13000011,2,     1.12,2,     0.39,2,     -999,9,102,   4040,  -0.8528
  32L919930718,    55,  1,      7,2,19930804, 80.1510,  -7.7460,  310,     51.0,  -1.6920,  32.3650,2,-999.0000,9,  32.3380,    368.4,2,    369.8,2,    12.31,2,     3.90,2,     0.02,2,     1.00,2,     -0.017,2,   2112.1,2,    779.2,18.2000008,2, -999.000, -999.000,9,-999.0000,9,  -999.00,  -999.00,9,   -999.0,9, 2.42600012,2,      0.412,2,     0.20,2,     0.08,2,     -999,9,102,   4039,  -1.6928
  32L919930718,    55,  1,      6,2,19930804, 80.1510,  -7.7460,  310,     60.0,  -1.6880,  32.4140,2,-999.0000,9,  32.4090,    364.5,2,    365.1,2,    12.68,2,     4.41,2,     0.03,2,     1.01,2,     -0.007,2,   2116.0,2,    793.1,18.2000008,2, -999.000, -999.000,9,-999.0000,9,  -999.00,  -999.00,9,   -999.0,9,      2.102,2,0.199000001,2,     0.10,2,     0.13,2,     -999,9,102,   4038,  -1.6890
  32L919930718,    55,  1,      5,2,19930804, 80.1510,  -7.7460,  310,     81.0,  -1.4900,  32.6940,2,-999.0000,9,  32.8020,    351.7,2,    347.5,2,    13.02,2,     5.88,2,     0.05,2,     1.00,2,      0.022,2,   2122.0,2,    813.2,18.2000008,2, -999.000, -999.000,9,-999.0000,9,  -999.00,  -999.00,9,   -999.0,9,      0.001,2,0.115999997,2,     0.10,2,     0.08,2,     -999,9,102,   4037,  -1.4916
  32L919930718,    55,  1,      4,2,19930804, 80.1510,  -7.7460,  310,    101.0,  -0.9600,  33.5690,2,-999.0000,9,  33.8550,    320.7,2,    310.6,2,    12.81,2,    10.18,2,     0.02,2,     0.94,2,      0.022,2,   2138.9,2,    795.5,18.2000008,2, -999.000, -999.000,9,-999.0000,9,  -999.00,  -999.00,9,   -999.0,9, 1.05299997,2,0.178000003,2,     0.08,2,     0.06,2,     -999,9,102,   4036,  -0.9626
  32L919930718,    55,  1,      3,2,19930804, 80.1510,  -7.7460,  310,    151.0,   0.0480,  34.5000,2,-999.0000,9,  34.5540,    289.0,2,    289.7,2,    12.81,2,    12.59,2,     0.01,2,     0.94,2,     -0.007,2,   2144.3,2,    774.5,18.2000008,2, -999.000, -999.000,9,-999.0000,9,  -999.00,  -999.00,9,   -999.0,9,  2.6559999,2,0.261000007,2,     0.06,2,     0.04,2,     -999,9,102,   4035,   0.0425
  32L919930718,    55,  1,      2,2,19930804, 80.1510,  -7.7460,  310,    201.0,   0.3470,  34.7340,2,-999.0000,9,-999.0000,    283.0,2,    283.4,2,    13.04,2,    12.94,2,     0.01,2,     0.95,2,0.012000002,2,   -999.0,9,   -999.0,      -999,9, -999.000, -999.000,9,-999.0000,9,  -999.00,  -999.00,9,   -999.0,9, 0.54400003,2,0.150000006,2,     0.02,2,     0.04,2,     -999,9,102,   4034,   0.3389
  32L919930718,    55,  1,      1,2,19930804, 80.1510,  -7.7460,  310,    251.0,   0.3980,  34.8330,2,-999.0000,9,  34.7800,    286.2,2,    286.2,2,    11.70,2,    12.34,2,     0.03,2,     0.95,2,     -0.007,2,   2146.2,2,    745.9,18.2000008,2, -999.000, -999.000,9,-999.0000,9,  -999.00,  -999.00,9,   -999.0,9, 3.13400006,2,0.254000008,2,     0.01,2,     0.03,2,     -999,9,102,   4033,   0.3877
  32L919930718,    55,  1,     12,2,19930804, 80.1510,  -7.7460,  310,    300.0,   0.3870,  34.8640,2,  34.8710,2,  34.8070,    289.1,2,    289.4,2,    10.64,2,    12.06,2,     0.04,2,     0.93,2,      0.022,2,   2144.8,2,    731.0,18.2000008,2, -999.000, -999.000,9,-999.0000,9,  -999.00,  -999.00,9,   -999.0,9, 0.70599997,2,0.075000003,2,     0.03,2,     0.05,2,     -999,9,102,   4032,   0.3745
  32L919930718,    56,  1,     10,2,19930804, 80.0580,  -7.7070,  289,      3.0,   2.1860,  30.4770,2,  30.7420,2,  30.7080,    386.9,2,    403.7,2,     3.59,2,     0.03,2,     0.01,2,     0.68,2,-0.01599999,2,   1955.2,2,    450.5,17.1000004,2, -999.000, -999.000,9,-999.0000,9,  -999.00,  -999.00,9,      0.2,2, 6.83199978,2,0.722000003,2,     0.10,2,     0.03,2,   232000,2,104,   4054,   2.1859
  32L919930718,    56,  1,      9,2,19930804, 80.0580,  -7.7070,  289,      6.0,   1.4510,  31.3560,2,-999.0000,9,-999.0000,    412.9,2,    435.5,2,     3.57,2,    -0.05,2,     0.00,2,     0.74,2,-0.02599999,2,   -999.0,9,   -999.0,      -999,9, -999.000, -999.000,9,-999.0000,9,  -999.00,  -999.00,9,      0.7,2, 10.7229996,2,0.888999999,2,     0.37,2,     0.07,2,   484000,2,104,   4053,   1.4508
  32L919930718,    56,  1,      8,2,19930804, 80.0580,  -7.7070,  289,     11.0,   0.0890,  32.1830,2,-999.0000,9,  32.2020,    436.8,2,    443.8,2,     3.70,2,     0.16,2,     0.01,2,     0.76,2,0.004000008,2,   2044.2,2,    483.0,17.1000004,2, -999.000, -999.000,9,-999.0000,9,  -999.00,  -999.00,9,      1.5,2, 17.2600002,2, 1.62899995,2,     0.83,2,     0.09,2,   374000,2,104,   4052,   0.0887
  32L919930718,    56,  1,      7,2,19930804, 80.0580,  -7.7070,  289,     16.0,  -0.8700,  32.2760,2,-999.0000,9,-999.0000,    431.2,2,    425.1,2,     4.12,2,     0.07,2,     0.01,2,     0.83,2,0.013000011,2,   -999.0,9,   -999.0,      -999,9, -999.000, -999.000,9,-999.0000,9,  -999.00,  -999.00,9,      4.8,2, 29.8500004,2, 3.07500005,2,     1.77,2,     0.15,2,   246000,2,104,   4051,  -0.8704
  32L919930718,    56,  1,      6,2,19930804, 80.0580,  -7.7070,  289,     26.0,  -1.3030,  32.3550,2,-999.0000,9,  32.3210,    416.4,2,    412.5,2,     4.25,2,     0.75,2,     0.04,2,     0.91,2,0.033000007,2,   2086.6,2,    599.0,17.1000004,2, -999.000, -999.000,9,-999.0000,9,  -999.00,  -999.00,9,      1.6,2, 25.2199993,2, 2.02200007,2,     1.48,2,     0.29,2,   317000,2,104,   4050,  -1.3035
  32L919930718,    56,  1,      5,2,19930804, 80.0580,  -7.7070,  289,     41.0,  -1.5940,  32.4020,2,-999.0000,9,  32.3950,    371.1,2,    371.9,2,     9.39,2,     3.64,2,     0.04,2,     1.05,2,0.033000007,2,   2113.6,2,    746.0,17.1000004,2, -999.000, -999.000,9,-999.0000,9,  -999.00,  -999.00,9,      0.0,2, 7.39900017,2, 0.98299998,2,  -999.00,9,  -999.00,9,   134000,2,104,   4049,  -1.5947
  32L919930718,    56,  1,      4,2,19930804, 80.0580,  -7.7070,  289,     62.0,  -1.7330,  32.4500,2,-999.0000,9,  32.3930,    360.2,2,    366.6,2,    11.05,2,     4.22,2,     0.02,2,     1.08,2,0.023000002,2,   2116.1,2,    761.8,17.1000004,2, -999.000, -999.000,9,-999.0000,9,  -999.00,  -999.00,9,      0.0,2,      1.102,2,0.280999988,2,     0.18,2,     0.04,2,    75000,2,104,   4048,  -1.7340
  32L919930718,    56,  1,      3,2,19930804, 80.0580,  -7.7070,  289,    101.0,  -1.5970,  32.8850,2,-999.0000,9,  32.8930,    337.6,2,    341.3,2,    12.44,2,     6.50,2,     0.03,2,     1.04,2,0.043000005,2,   2134.1,2,    808.4,17.1000004,2, -999.000, -999.000,9,-999.0000,9,  -999.00,  -999.00,9,   -999.0,9,       -999,9,0.208000004,2,     0.06,2,     0.03,2,    63800,2,104,   4047,  -1.5989
  32L919930718,    56,  1,      2,2,19930804, 80.0580,  -7.7070,  289,    150.0,  -0.3260,  34.2750,2,-999.0000,9,  34.2330,    291.3,2,    296.0,2,    11.36,2,    11.37,2,     0.03,2,     1.00,2,0.052000009,2,   2138.2,2,    742.1,17.1000004,2, -999.000, -999.000,9,-999.0000,9,  -999.00,  -999.00,9,   -999.0,9,       -999,9,       -999,9,     0.07,2,     0.04,2,    59500,2,104,   4046,  -0.3310
  32L919930718,    56,  1,      1,2,19930804, 80.0580,  -7.7070,  289,    200.0,   0.3190,  34.6710,2,-999.0000,9,  34.6330,    281.2,2,    284.5,2,    11.50,2,    12.42,2,     0.03,2,     1.01,2,0.052000009,2,   2148.1,2,    738.3,17.1000004,2, -999.000, -999.000,9,-999.0000,9,  -999.00,  -999.00,9,   -999.0,9, 2.18000007,2,0.204999998,2,     0.03,2,     0.03,2,    89700,2,104,   4045,   0.3111
  32L919930718,    56,  1,     12,2,19930804, 80.0580,  -7.7070,  289,    249.0,   0.3860,  34.8140,2,  34.8290,2,  34.7560,    281.4,2,    284.8,2,    10.50,2,    12.70,2,     0.03,2,     1.00,2,0.072000004,2,   2147.3,2,    707.6,17.1000004,2, -999.000, -999.000,9,-999.0000,9,  -999.00,  -999.00,9,   -999.0,9,      1.398,2,0.182999998,2,  -999.00,9,  -999.00,9,    82200,2,104,   4044,   0.3758
  32L919930718,    56,  1,     11,2,19930804, 80.0580,  -7.7070,  289,    279.0,   0.3970,  34.8370,2,-999.0000,9,  34.7580,    280.4,2,    283.4,2,    10.59,2,    12.51,2,     0.05,2,     1.00,2,0.082000002,2,   2148.4,2,    719.9,17.1000004,2, -999.000, -999.000,9,-999.0000,9,  -999.00,  -999.00,9,   -999.0,9,0.182999998,2,0.160999998,2,  -999.00,9,  -999.00,9,    86500,2,104,   4043,   0.3855
  32L919930718,    56,  2,     10,2,19930804, 80.0580,  -7.7070,  289,      6.0,   2.6310,  31.6520,2,  32.2360,2,-999.0000,    412.6,2,   -999.0,9,  -999.00,9,  -999.00,9,  -999.00,9,  -999.00,9,       -999,9,   -999.0,9,   -999.0,      -999,9,    3.180,    0.048,2,   1.7980,2,  -999.00,  -999.00,9,   -999.0,9,       -999,9,       -999,9,  -999.00,9,  -999.00,9,     -999,9,105,   4066,   2.6307
  32L919930718,    56,  2,      9,2,19930804, 80.0580,  -7.7070,  289,     20.0,  -1.2360,  32.3450,2,-999.0000,9,-999.0000,    426.4,2,   -999.0,9,  -999.00,9,  -999.00,9,  -999.00,9,  -999.00,9,       -999,9,   -999.0,9,   -999.0,      -999,9, -999.000, -999.000,9,-999.0000,9,  -999.00,  -999.00,9,   -999.0,9,       -999,9,       -999,9,  -999.00,9,  -999.00,9,     -999,9,105,   4065,  -1.2364
  32L919930718,    56,  2,      8,2,19930804, 80.0580,  -7.7070,  289,     40.0,  -1.6590,  32.4050,2,-999.0000,9,-999.0000,    363.8,2,   -999.0,9,  -999.00,9,  -999.00,9,  -999.00,9,  -999.00,9,       -999,9,   -999.0,9,   -999.0,      -999,9, -999.000, -999.000,9,-999.0000,9,  -999.00,  -999.00,9,   -999.0,9,       -999,9,       -999,9,  -999.00,9,  -999.00,9,     -999,9,105,   4064,  -1.6597
  32L919930718,    56,  2,      7,2,19930804, 80.0580,  -7.7070,  289,     60.0,  -1.7350,  32.4460,2,-999.0000,9,-999.0000,    359.1,2,   -999.0,9,  -999.00,9,  -999.00,9,  -999.00,9,  -999.00,9,       -999,9,   -999.0,9,   -999.0,      -999,9, -999.000, -999.000,9,-999.0000,9,  -999.00,  -999.00,9,   -999.0,9,       -999,9,       -999,9,  -999.00,9,  -999.00,9,     -999,9,105,   4063,  -1.7360
  32L919930718,    56,  2,      6,2,19930804, 80.0580,  -7.7070,  289,     80.0,  -1.6530,  32.6410,2,-999.0000,9,-999.0000,    347.9,2,   -999.0,9,  -999.00,9,  -999.00,9,  -999.00,9,  -999.00,9,       -999,9,   -999.0,9,   -999.0,      -999,9, -999.000, -999.000,9,-999.0000,9,  -999.00,  -999.00,9,   -999.0,9,       -999,9,       -999,9,  -999.00,9,  -999.00,9,     -999,9,105,   4062,  -1.6544
  32L919930718,    56,  2,      5,2,19930804, 80.0580,  -7.7070,  289,    100.0,  -1.5860,  32.9120,2,-999.0000,9,-999.0000,    338.3,2,   -999.0,9,  -999.00,9,  -999.00,9,  -999.00,9,  -999.00,9,       -999,9,   -999.0,9,   -999.0,      -999,9, -999.000, -999.000,9,-999.0000,9,  -999.00,  -999.00,9,   -999.0,9,       -999,9,       -999,9,  -999.00,9,  -999.00,9,     -999,9,105,   4061,  -1.5879
  32L919930718,    56,  2,      4,2,19930804, 80.0580,  -7.7070,  289,    125.0,  -1.1720,  33.6240,2,-999.0000,9,-999.0000,    314.5,2,   -999.0,9,  -999.00,9,  -999.00,9,  -999.00,9,  -999.00,9,       -999,9,   -999.0,9,   -999.0,      -999,9, -999.000, -999.000,9,-999.0000,9,  -999.00,  -999.00,9,   -999.0,9,       -999,9,       -999,9,  -999.00,9,  -999.00,9,     -999,9,105,   4060,  -1.1750
  32L919930718,    56,  2,      3,2,19930804, 80.0580,  -7.7070,  289,    150.0,  -0.4010,  34.2160,2,-999.0000,9,-999.0000,    294.8,2,   -999.0,9,  -999.00,9,  -999.00,9,  -999.00,9,  -999.00,9,       -999,9,   -999.0,9,   -999.0,      -999,9, -999.000, -999.000,9,-999.0000,9,  -999.00,  -999.00,9,   -999.0,9,       -999,9,       -999,9,  -999.00,9,  -999.00,9,     -999,9,105,   4059,  -0.4058
  32L919930718,    56,  2,      2,2,19930804, 80.0580,  -7.7070,  289,    176.0,   0.0030,  34.4820,2,-999.0000,9,-999.0000,    287.5,2,   -999.0,9,  -999.00,9,  -999.00,9,  -999.00,9,  -999.00,9,       -999,9,   -999.0,9,   -999.0,      -999,9, -999.000, -999.000,9,-999.0000,9,  -999.00,  -999.00,9,   -999.0,9,       -999,9,       -999,9,  -999.00,9,  -999.00,9,     -999,9,105,   4058,  -0.0034
  32L919930718,    56,  2,      1,2,19930804, 80.0580,  -7.7070,  289,    200.0,   0.3090,  34.6610,2,-999.0000,9,-999.0000,    283.0,2,   -999.0,9,  -999.00,9,  -999.00,9,  -999.00,9,  -999.00,9,       -999,9,   -999.0,9,   -999.0,      -999,9, -999.000, -999.000,9,-999.0000,9,  -999.00,  -999.00,9,   -999.0,9,       -999,9,       -999,9,  -999.00,9,  -999.00,9,     -999,9,105,   4057,   0.3011
  32L919930718,    56,  2,     12,2,19930804, 80.0580,  -7.7070,  289,    250.0,   0.3800,  34.8090,2,-999.0000,9,-999.0000,    282.9,2,   -999.0,9,  -999.00,9,  -999.00,9,  -999.00,9,  -999.00,9,       -999,9,   -999.0,9,   -999.0,      -999,9, -999.000, -999.000,9,-999.0000,9,  -999.00,  -999.00,9,   -999.0,9,       -999,9,       -999,9,  -999.00,9,  -999.00,9,     -999,9,105,   4056,   0.3698
  32L919930718,    56,  2,     11,2,19930804, 80.0580,  -7.7070,  289,    277.0,   0.3960,  34.8320,2,-999.0000,9,-999.0000,    282.5,2,   -999.0,9,  -999.00,9,  -999.00,9,  -999.00,9,  -999.00,9,       -999,9,   -999.0,9,   -999.0,      -999,9,    1.780,    0.027,2,   1.7800,2,    10.70,     0.20,2,   -999.0,9,       -999,9,       -999,9,  -999.00,9,  -999.00,9,     -999,9,105,   4055,   0.3845
  32L919930718,    57,  1,     10,2,19930804, 79.9830,  -4.7340, 1506,      2.0,  -1.1130,  29.7790,2,  28.5030,2,-999.0000,    404.5,2,    408.8,2,     5.35,2,     0.20,2,     0.02,2,     0.61,2,      0.022,2,   -999.0,9,   -999.0,      -999,9,    7.850,    0.118,2,-999.0000,9,  -999.00,  -999.00,9,   -999.0,9,       -999,9,       -999,9,  -999.00,9,  -999.00,9,     -999,9,106,   4078,  -1.1130
  32L919930718,    57,  1,      9,2,19930804, 79.9830,  -4.7340, 1506,    250.0,   1.0070,  34.8440,2,-999.0000,9,  34.8080,    295.2,2,    299.1,2,     6.99,2,    12.59,2,     0.03,2,     0.91,2,      0.022,2,   2140.4,2,    657.3,17.2999992,2, -999.000, -999.000,9,-999.0000,9,  -999.00,  -999.00,9,   -999.0,9,       -999,9,       -999,9,  -999.00,9,  -999.00,9,     -999,9,106,   4077,   0.9954
  32L919930718,    57,  1,      8,2,19930804, 79.9830,  -4.7340, 1506,    300.0,   1.0540,  34.8730,2,-999.0000,9,-999.0000,    296.9,2,    300.5,2,     6.79,2,    12.49,2,     0.02,2,     0.91,2,      0.022,2,   -999.0,9,   -999.0,      -999,9,    2.270,    0.034,2,   1.7360,2,     2.20,     0.20,2,   -999.0,9,       -999,9,       -999,9,  -999.00,9,  -999.00,9,     -999,9,106,   4076,   1.0399
  32L919930718,    57,  1,      7,2,19930804, 79.9830,  -4.7340, 1506,    400.0,   0.8050,  34.8870,2,-999.0000,9,  34.8400,    295.6,2,    300.5,2,     6.99,2,    13.01,2,     0.03,2,     0.93,2,     -0.007,2,   2142.7,2,    661.5,17.2999992,2, -999.000, -999.000,9,-999.0000,9,  -999.00,  -999.00,9,   -999.0,9,       -999,9,       -999,9,  -999.00,9,  -999.00,9,     -999,9,106,   4075,   0.7866
  32L919930718,    57,  1,      6,2,19930804, 79.9830,  -4.7340, 1506,    500.0,   0.5490,  34.8890,2,-999.0000,9,-999.0000,    294.8,2,    300.6,2,     7.17,2,    12.97,2,     0.03,2,     0.94,2,0.002000004,2,   -999.0,9,   -999.0,      -999,9, -999.000, -999.000,9,-999.0000,9,  -999.00,  -999.00,9,   -999.0,9,       -999,9,       -999,9,  -999.00,9,  -999.00,9,     -999,9,106,   4074,   0.5266
  32L919930718,    57,  1,      5,2,19930804, 79.9830,  -4.7340, 1506,    601.0,   0.2930,  34.8880,2,-999.0000,9,  34.8450,    294.9,2,    299.4,2,     7.65,2,    12.75,2,     0.05,2,     0.94,2,0.012000002,2,   2147.6,2,    669.8,17.2999992,2, -999.000, -999.000,9,-999.0000,9,  -999.00,  -999.00,9,   -999.0,9,       -999,9,       -999,9,  -999.00,9,  -999.00,9,     -999,9,106,   4073,   0.2669
  32L919930718,    57,  1,      4,2,19930804, 79.9830,  -4.7340, 1506,    700.0,   0.1210,  34.8880,2,-999.0000,9,-999.0000,    294.5,2,    300.3,2,     7.98,2,    12.91,2,     0.05,2,     0.96,2,0.012000002,2,   -999.0,9,   -999.0,      -999,9,    1.540,    0.023,2,   1.7760,2,     0.60,     0.20,2,   -999.0,9,       -999,9,       -999,9,  -999.00,9,  -999.00,9,     -999,9,106,   4072,   0.0909
  32L919930718,    57,  1,      3,2,19930804, 79.9830,  -4.7340, 1506,    801.0,  -0.0210,  34.8920,2,-999.0000,9,  34.8610,    295.5,2,    299.8,2,     8.13,2,    13.14,2,     0.04,2,     0.96,2,0.002000004,2,   2146.6,2,    672.9,17.2999992,2, -999.000, -999.000,9,-999.0000,9,  -999.00,  -999.00,9,   -999.0,9,       -999,9,       -999,9,  -999.00,9,  -999.00,9,     -999,9,106,   4071,  -0.0552
  32L919930718,    57,  1,      2,2,19930804, 79.9830,  -4.7340, 1506,    900.0,  -0.1390,  34.8970,2,-999.0000,9,-999.0000,    295.9,2,    301.4,2,     8.27,2,    13.15,2,     0.03,2,     0.97,2,0.012000002,2,   -999.0,9,   -999.0,      -999,9, -999.000, -999.000,9,-999.0000,9,  -999.00,  -999.00,9,   -999.0,9,       -999,9,       -999,9,  -999.00,9,  -999.00,9,     -999,9,106,   4070,  -0.1773
  32L919930718,    57,  1,      1,2,19930804, 79.9830,  -4.7340, 1506,   1101.0,  -0.2460,  34.9060,2,-999.0000,9,  34.8700,    295.5,2,    301.1,2,     8.91,2,    13.42,2,     0.01,2,     1.00,2,0.012000002,2,   2149.1,2,    685.2,17.2999992,2,    1.090,    0.016,2,   1.7800,2,    -1.10,     0.20,2,   -999.0,9,       -999,9,       -999,9,  -999.00,9,  -999.00,9,     -999,9,106,   4069,  -0.2939
  32L919930718,    57,  1,     12,2,19930804, 79.9830,  -4.7340, 1506,   1300.0,  -0.3230,  34.9100,2,  34.9220,2,-999.0000,    297.5,2,    301.1,2,     9.20,2,    13.69,2,     0.04,2,     1.00,2,0.012000002,2,   -999.0,9,   -999.0,      -999,9,    1.260,    0.019,2,   1.7620,2,    -1.70,     0.20,2,   -999.0,9,       -999,9,       -999,9,  -999.00,9,  -999.00,9,     -999,9,106,   4068,  -0.3811
  32L919930718,    57,  1,     11,2,19930804, 79.9830,  -4.7340, 1506,   1496.0,  -0.4200,  34.9190,2,-999.0000,9,  34.8780,    297.5,2,    300.2,2,    10.04,2,    13.60,2,     0.03,2,     1.03,2,      0.022,2,   2153.4,2,    696.4,17.2999992,2,    0.720,    0.011,2,-999.0000,9,  -999.00,  -999.00,9,   -999.0,9,       -999,9,       -999,9,  -999.00,9,  -999.00,9,     -999,9,106,   4067,  -0.4883