BOTTLE,20090115PRINUNIVRMK
EXPOCODE,STNNBR,CASTNO,BTLNBR,BTLNBR_FLAG_W,DATE,LATITUDE,LONGITUDE,DEPTH,CTDPRS,CTDTMP,CTDSAL,CTDSAL_FLAG_W,SALNTY,SALNTY_FLAG_W,SOMSAL,CTDOXY,CTDOXY_FLAG_W,OXYGEN,OXYGEN_FLAG_W,SILCAT,SILCAT_FLAG_W,NITRAT,NITRAT_FLAG_W,NITRIT,NITRIT_FLAG_W,PHSPHT,PHSPHT_FLAG_W,AMMONI,AMMONI_FLAG_W,TCARBN,TCARBN_FLAG_W,FCO2,FCO2_TMP,FCO2_FLAG_W,TRITUM,TRITER,TRITUM_FLAG_W,HELIUM,HELIUM_FLAG_W,DELHE3,DELHER,DELHE3_FLAG_W,DELC14,DELC14_FLAG_W,POC,POC_FLAG_W,PON,PON_FLAG_W,CHLORA,CHLORA_FLAG_W,PHAEO,PHAEO_FLAG_W,BACT,BACT_FLAG_W,CTDNO,BNLID,THETA
,,,,,,,,METERS,DBARS,ITS-90,PSS-78,,PSS-78,,PSS-78,UMOL/KG,,UMOL/KG,,UMOL/KG,,UMOL/KG,,UMOL/KG,,UMOL/KG,,UMOL/KG,,UMOL/KG,,UATM,DEGC,,TU,TU,,NMOL/KG,,PERCNT,PERCNT,,O/OO,,ug/kg,,ug/kg,,UG/L,,UG/L,,CELLS/ML,,,,DEGC
  32L919930718,    37, 24,      8,2,19930728, 80.4470, -13.3130,  308,      2.0,  -0.5270,  32.0280,2,-999.0000,9,-999.0000,    401.8,2,   -999.0,9,  -999.00,9,  -999.00,9,  -999.00,9,  -999.00,9,       -999,9,   -999.0,9,   -999.0,      -999,9, -999.000, -999.000,9,-999.0000,9,  -999.00,  -999.00,9,   -999.0,9,       -999,9,       -999,9,  -999.00,9,  -999.00,9,     -999,9, 68,   3668,  -0.5271
  32L919930718,    37, 24,      7,2,19930728, 80.4470, -13.3130,  308,      6.0,   0.0400,  32.0900,2,-999.0000,9,-999.0000,    399.0,2,   -999.0,9,  -999.00,9,  -999.00,9,  -999.00,9,  -999.00,9,       -999,9,   -999.0,9,   -999.0,      -999,9, -999.000, -999.000,9,-999.0000,9,  -999.00,  -999.00,9,   -999.0,9,       -999,9,       -999,9,  -999.00,9,  -999.00,9,     -999,9, 68,   3667,   0.0398
  32L919930718,    37, 24,      6,2,19930728, 80.4470, -13.3130,  308,     10.0,  -1.1890,  32.1550,2,-999.0000,9,-999.0000,    391.0,2,   -999.0,9,  -999.00,9,  -999.00,9,  -999.00,9,  -999.00,9,       -999,9,   -999.0,9,   -999.0,      -999,9, -999.000, -999.000,9,-999.0000,9,  -999.00,  -999.00,9,   -999.0,9,       -999,9,       -999,9,  -999.00,9,  -999.00,9,     -999,9, 68,   3666,  -1.1892
  32L919930718,    37, 24,      5,2,19930728, 80.4470, -13.3130,  308,     20.0,  -1.6750,  32.2620,2,-999.0000,9,-999.0000,    373.6,2,   -999.0,9,  -999.00,9,  -999.00,9,  -999.00,9,  -999.00,9,       -999,9,   -999.0,9,   -999.0,      -999,9, -999.000, -999.000,9,-999.0000,9,  -999.00,  -999.00,9,   -999.0,9,       -999,9,       -999,9,  -999.00,9,  -999.00,9,     -999,9, 68,   3665,  -1.6753
  32L919930718,    37, 24,      4,2,19930728, 80.4470, -13.3130,  308,     30.0,  -1.7050,  32.3140,2,-999.0000,9,-999.0000,    370.6,2,   -999.0,9,  -999.00,9,  -999.00,9,  -999.00,9,  -999.00,9,       -999,9,   -999.0,9,   -999.0,      -999,9, -999.000, -999.000,9,-999.0000,9,  -999.00,  -999.00,9,   -999.0,9,       -999,9,       -999,9,  -999.00,9,  -999.00,9,     -999,9, 68,   3664,  -1.7055
  32L919930718,    37, 24,      3,2,19930728, 80.4470, -13.3130,  308,     40.0,  -1.7190,  32.3460,2,-999.0000,9,-999.0000,    371.0,2,   -999.0,9,  -999.00,9,  -999.00,9,  -999.00,9,  -999.00,9,       -999,9,   -999.0,9,   -999.0,      -999,9, -999.000, -999.000,9,-999.0000,9,  -999.00,  -999.00,9,   -999.0,9,       -999,9,       -999,9,  -999.00,9,  -999.00,9,     -999,9, 68,   3663,  -1.7196
  32L919930718,    37, 24,      2,2,19930728, 80.4470, -13.3130,  308,     50.0,  -1.7320,  32.3920,2,-999.0000,9,-999.0000,    369.5,2,   -999.0,9,  -999.00,9,  -999.00,9,  -999.00,9,  -999.00,9,       -999,9,   -999.0,9,   -999.0,      -999,9, -999.000, -999.000,9,-999.0000,9,  -999.00,  -999.00,9,   -999.0,9,       -999,9,       -999,9,  -999.00,9,  -999.00,9,     -999,9, 68,   3662,  -1.7328
  32L919930718,    37, 24,      1,2,19930728, 80.4470, -13.3130,  308,     58.0,  -1.7270,  32.4280,2,-999.0000,9,-999.0000,    364.6,2,   -999.0,9,  -999.00,9,  -999.00,9,  -999.00,9,  -999.00,9,       -999,9,   -999.0,9,   -999.0,      -999,9, -999.000, -999.000,9,-999.0000,9,  -999.00,  -999.00,9,   -999.0,9,       -999,9,       -999,9,  -999.00,9,  -999.00,9,     -999,9, 68,   3661,  -1.7280
  32L919930718,    37, 24,     12,2,19930728, 80.4470, -13.3130,  308,     70.0,  -1.6390,  32.5840,2,-999.0000,9,-999.0000,    356.2,2,   -999.0,9,  -999.00,9,  -999.00,9,  -999.00,9,  -999.00,9,       -999,9,   -999.0,9,   -999.0,      -999,9, -999.000, -999.000,9,-999.0000,9,  -999.00,  -999.00,9,   -999.0,9,       -999,9,       -999,9,  -999.00,9,  -999.00,9,     -999,9, 68,   3660,  -1.6402
  32L919930718,    37, 24,     11,2,19930728, 80.4470, -13.3130,  308,     80.0,  -1.6410,  32.6870,2,-999.0000,9,-999.0000,    356.1,2,   -999.0,9,  -999.00,9,  -999.00,9,  -999.00,9,  -999.00,9,       -999,9,   -999.0,9,   -999.0,      -999,9, -999.000, -999.000,9,-999.0000,9,  -999.00,  -999.00,9,   -999.0,9,       -999,9,       -999,9,  -999.00,9,  -999.00,9,     -999,9, 68,   3659,  -1.6424
  32L919930718,    37, 24,     10,2,19930728, 80.4470, -13.3130,  308,     99.0,  -1.5670,  33.0190,2,-999.0000,9,-999.0000,    339.1,2,   -999.0,9,  -999.00,9,  -999.00,9,  -999.00,9,  -999.00,9,       -999,9,   -999.0,9,   -999.0,      -999,9, -999.000, -999.000,9,-999.0000,9,  -999.00,  -999.00,9,   -999.0,9,       -999,9,       -999,9,  -999.00,9,  -999.00,9,     -999,9, 68,   3658,  -1.5689
  32L919930718,    37, 24,      9,2,19930728, 80.4470, -13.3130,  308,    285.0,   0.6190,  34.7360,2,-999.0000,9,-999.0000,    288.0,2,   -999.0,9,  -999.00,9,  -999.00,9,  -999.00,9,  -999.00,9,       -999,9,   -999.0,9,   -999.0,      -999,9, -999.000, -999.000,9,-999.0000,9,  -999.00,  -999.00,9,   -999.0,9,       -999,9,       -999,9,  -999.00,9,  -999.00,9,     -999,9, 68,   3657,   0.6067
  32L919930718,    37, 25,      8,2,19930728, 80.4470, -13.3130,  308,      2.0,   0.6720,  31.8000,2,  32.0010,2,-999.0000,    408.6,2,    407.5,2,     8.97,2,     0.00,2,     0.03,2,     0.83,2,     -0.019,2,   -999.0,9,   -999.0,      -999,9, -999.000, -999.000,9,-999.0000,9,  -999.00,  -999.00,9,   -999.0,9, 18.7299995,2, 2.95799994,2,     1.40,2,     0.39,2,     -999,9, 69,   3680,   0.6719
  32L919930718,    37, 25,      7,2,19930728, 80.4470, -13.3130,  308,      5.0,   0.3030,  32.0540,2,-999.0000,9,-999.0000,    408.5,2,    403.8,2,     9.45,2,     0.22,2,     0.07,2,     0.84,2,      0.001,2,   -999.0,9,   -999.0,      -999,9, -999.000, -999.000,9,-999.0000,9,  -999.00,  -999.00,9,   -999.0,9,       -999,9,       -999,9,  -999.00,9,  -999.00,9,     -999,9, 69,   3679,   0.3028
  32L919930718,    37, 25,      6,2,19930728, 80.4470, -13.3130,  308,     15.0,  -1.4730,  32.2030,2,-999.0000,9,-999.0000,    389.3,2,    377.5,2,    11.67,2,     2.99,2,     0.13,2,     0.99,2,      0.059,2,   -999.0,9,   -999.0,      -999,9, -999.000, -999.000,9,-999.0000,9,  -999.00,  -999.00,9,   -999.0,9,       -999,9,       -999,9,  -999.00,9,  -999.00,9,     -999,9, 69,   3678,  -1.4733
  32L919930718,    37, 25,      5,2,19930728, 80.4470, -13.3130,  308,     20.0,  -1.6480,  32.2570,2,-999.0000,9,-999.0000,    376.8,2,    372.0,2,    11.96,2,     3.70,2,     0.06,2,     1.01,2,0.050000001,2,   -999.0,9,   -999.0,      -999,9, -999.000, -999.000,9,-999.0000,9,  -999.00,  -999.00,9,   -999.0,9,       -999,9,       -999,9,  -999.00,9,  -999.00,9,     -999,9, 69,   3677,  -1.6483
  32L919930718,    37, 25,      4,2,19930728, 80.4470, -13.3130,  308,     30.0,  -1.7050,  32.3030,2,-999.0000,9,-999.0000,    371.9,2,    368.6,2,    12.09,2,     4.37,2,     0.03,2,     1.05,2,      0.059,2,   -999.0,9,   -999.0,      -999,9, -999.000, -999.000,9,-999.0000,9,  -999.00,  -999.00,9,   -999.0,9,       -999,9,       -999,9,  -999.00,9,  -999.00,9,     -999,9, 69,   3676,  -1.7055
  32L919930718,    37, 25,      3,2,19930728, 80.4470, -13.3130,  308,     40.0,  -1.7190,  32.3510,2,-999.0000,9,-999.0000,    370.5,2,    367.4,2,    12.28,2,     4.04,2,     0.08,2,     1.05,2,     -0.009,2,   -999.0,9,   -999.0,      -999,9, -999.000, -999.000,9,-999.0000,9,  -999.00,  -999.00,9,   -999.0,9,       -999,9,       -999,9,  -999.00,9,  -999.00,9,     -999,9, 69,   3675,  -1.7196
  32L919930718,    37, 25,      2,2,19930728, 80.4470, -13.3130,  308,     50.0,  -1.7320,  32.3840,2,-999.0000,9,-999.0000,    369.7,2,    366.5,2,    12.22,2,     4.45,2,     0.01,2,     1.05,2,0.050000001,2,   -999.0,9,   -999.0,      -999,9, -999.000, -999.000,9,-999.0000,9,  -999.00,  -999.00,9,   -999.0,9,       -999,9,       -999,9,  -999.00,9,  -999.00,9,     -999,9, 69,   3674,  -1.7328
  32L919930718,    37, 25,      1,2,19930728, 80.4470, -13.3130,  308,     60.0,  -1.7190,  32.4630,2,-999.0000,9,-999.0000,    365.7,2,    360.0,2,    12.58,2,     4.77,2,     0.00,2,     1.07,2,0.068999998,2,   -999.0,9,   -999.0,      -999,9, -999.000, -999.000,9,-999.0000,9,  -999.00,  -999.00,9,   -999.0,9,       -999,9,       -999,9,  -999.00,9,  -999.00,9,     -999,9, 69,   3673,  -1.7200
  32L919930718,    37, 25,     12,2,19930728, 80.4470, -13.3130,  308,     70.0,  -1.6860,  32.5690,2,-999.0000,9,-999.0000,    362.8,2,    357.1,2,    12.61,2,     4.84,2,    -0.02,2,     1.06,2,      0.059,2,   -999.0,9,   -999.0,      -999,9, -999.000, -999.000,9,-999.0000,9,  -999.00,  -999.00,9,   -999.0,9,       -999,9,       -999,9,  -999.00,9,  -999.00,9,     -999,9, 69,   3672,  -1.6872
  32L919930718,    37, 25,     11,2,19930728, 80.4470, -13.3130,  308,     80.0,  -1.6490,  32.6650,2,-999.0000,9,-999.0000,    357.1,2,    348.5,2,    13.12,2,     6.11,2,     0.01,2,     1.07,2,      0.059,2,   -999.0,9,   -999.0,      -999,9, -999.000, -999.000,9,-999.0000,9,  -999.00,  -999.00,9,   -999.0,9,       -999,9,       -999,9,  -999.00,9,  -999.00,9,     -999,9, 69,   3671,  -1.6504
  32L919930718,    37, 25,     10,2,19930728, 80.4470, -13.3130,  308,    100.0,  -1.5490,  33.0440,2,  33.1090,2,-999.0000,    340.9,2,    333.2,2,    13.81,2,     7.52,2,     0.01,2,     1.02,2,      0.059,2,   -999.0,9,   -999.0,      -999,9, -999.000, -999.000,9,-999.0000,9,  -999.00,  -999.00,9,   -999.0,9,       -999,9,       -999,9,  -999.00,9,  -999.00,9,     -999,9, 69,   3670,  -1.5510
  32L919930718,    37, 25,      9,2,19930728, 80.4470, -13.3130,  308,    284.0,   0.6150,  34.7410,2,-999.0000,9,-999.0000,    291.7,2,    283.6,2,    12.56,2,    13.49,2,     0.01,2,     1.00,2,0.039999999,2,   -999.0,9,   -999.0,      -999,9, -999.000, -999.000,9,-999.0000,9,  -999.00,  -999.00,9,   -999.0,9,       -999,9,       -999,9,  -999.00,9,  -999.00,9,     -999,9, 69,   3669,   0.6028
  32L919930718,    37, 26,      8,2,19930728, 80.4470, -13.3130,  308,      2.0,   2.8490,  30.2400,2,  25.7500,2,-999.0000,    402.0,2,    392.3,2,     4.62,2,     0.51,2,     0.01,2,     0.62,2,0.171000004,2,   -999.0,9,   -999.0,      -999,9, -999.000, -999.000,9,-999.0000,9,  -999.00,  -999.00,9,      1.0,2, 8.21100044,2, 1.00699997,2,     0.19,2,     0.05,2,   102000,2, 70,   3692,   2.8489
  32L919930718,    37, 26,      7,2,19930728, 80.4470, -13.3130,  308,      3.0,   1.4830,  31.6160,2,-999.0000,9,-999.0000,    401.2,2,    409.6,2,     8.02,2,     0.48,2,     0.03,2,     0.79,2,0.083000004,2,   -999.0,9,   -999.0,      -999,9, -999.000, -999.000,9,-999.0000,9,  -999.00,  -999.00,9,      3.0,2, 14.9189997,2, 1.77600002,2,     0.62,2,     0.30,2,   104000,2, 70,   3691,   1.4829
  32L919930718,    37, 26,      6,2,19930728, 80.4470, -13.3130,  308,      5.0,  -0.6040,  32.0770,2,-999.0000,9,-999.0000,    394.2,2,    393.9,2,    10.82,2,     0.83,2,     0.05,2,     0.87,2,0.122000001,2,   -999.0,9,   -999.0,      -999,9, -999.000, -999.000,9,-999.0000,9,  -999.00,  -999.00,9,      3.5,2, 19.3099995,2, 2.96300006,2,     0.79,2,     0.45,2,   109000,2, 70,   3690,  -0.6041
  32L919930718,    37, 26,      5,2,19930728, 80.4470, -13.3130,  308,      8.0,  -1.0270,  32.1060,2,-999.0000,9,-999.0000,    388.4,2,    389.2,2,    10.98,2,     1.60,2,     0.06,2,     0.91,2,0.131999999,2,   -999.0,9,   -999.0,      -999,9, -999.000, -999.000,9,-999.0000,9,  -999.00,  -999.00,9,      3.5,2, 13.6029997,2, 2.00200009,2,     0.74,2,     0.56,2,    89200,2, 70,   3689,  -1.0272
  32L919930718,    37, 26,      4,2,19930728, 80.4470, -13.3130,  308,     13.0,  -1.4800,  32.1780,2,-999.0000,9,-999.0000,    382.0,2,    382.1,2,    11.29,2,     2.37,2,     0.07,2,     0.98,2,0.072999999,2,   -999.0,9,   -999.0,      -999,9, -999.000, -999.000,9,-999.0000,9,  -999.00,  -999.00,9,      1.5,2, 10.8450003,2, 1.27499998,2,     0.75,2,     0.51,2,    92100,2, 70,   3688,  -1.4802
  32L919930718,    37, 26,      3,2,19930728, 80.4470, -13.3130,  308,     20.0,  -1.6130,  32.2370,2,-999.0000,9,-999.0000,    373.4,2,    372.3,2,    11.52,2,     3.28,2,    -0.03,2,     1.04,2,0.024000004,2,   -999.0,9,   -999.0,      -999,9, -999.000, -999.000,9,-999.0000,9,  -999.00,  -999.00,9,      0.3,2, 3.32399988,2, 0.34799999,2,     0.38,2,     0.15,2,    66900,2, 70,   3687,  -1.6133
  32L919930718,    37, 26,      2,2,19930728, 80.4470, -13.3130,  308,     30.0,  -1.6920,  32.2880,2,-999.0000,9,-999.0000,    371.0,2,    370.1,2,    11.66,2,     3.57,2,    -0.02,2,     1.07,2,     -0.005,2,   -999.0,9,   -999.0,      -999,9, -999.000, -999.000,9,-999.0000,9,  -999.00,  -999.00,9,      0.0,2, 1.73699999,2,0.196999997,2,     0.25,2,     0.07,2,    78800,2, 70,   3686,  -1.6925
  32L919930718,    37, 26,      1,2,19930728, 80.4470, -13.3130,  308,     60.0,  -1.7270,  32.4270,2,-999.0000,9,-999.0000,    366.4,2,    364.5,2,    11.89,2,  -999.00,9,    -0.02,2,     1.10,2,0.054000005,2,   -999.0,9,   -999.0,      -999,9, -999.000, -999.000,9,-999.0000,9,  -999.00,  -999.00,9,   -999.0,9, 1.98899996,2,0.101999998,2,     0.03,2,     0.01,2,    35900,2, 70,   3685,  -1.7280
  32L919930718,    37, 26,     12,2,19930728, 80.4470, -13.3130,  308,     70.0,  -1.7180,  32.4860,2,-999.0000,9,-999.0000,    362.2,2,    358.6,2,    12.23,2,  -999.00,9,    -0.02,2,     1.09,2,     -0.015,2,   -999.0,9,   -999.0,      -999,9, -999.000, -999.000,9,-999.0000,9,  -999.00,  -999.00,9,   -999.0,9, 1.04100001,2,0.039999999,2,     0.04,2,     0.02,2,    29600,2, 70,   3684,  -1.7192
  32L919930718,    37, 26,     11,2,19930728, 80.4470, -13.3130,  308,     80.0,  -1.6640,  32.6160,2,-999.0000,9,-999.0000,    355.1,2,    352.6,2,    12.63,2,  -999.00,9,    -0.03,2,     1.08,2,0.015000001,2,   -999.0,9,   -999.0,      -999,9, -999.000, -999.000,9,-999.0000,9,  -999.00,  -999.00,9,   -999.0,9, 1.17700005,2,0.059999999,2,     0.01,2,     0.01,2,    35300,2, 70,   3683,  -1.6654
  32L919930718,    37, 26,     10,2,19930728, 80.4470, -13.3130,  308,    100.0,  -1.5900,  32.8990,2,  33.0040,2,-999.0000,    342.9,2,    339.0,2,    13.34,2,  -999.00,9,    -0.01,2,     1.06,2,     -0.015,2,   -999.0,9,   -999.0,      -999,9, -999.000, -999.000,9,-999.0000,9,  -999.00,  -999.00,9,   -999.0,9,0.307000011,2,0.086000003,2,  -999.00,9,  -999.00,9,    30100,2, 70,   3682,  -1.5919
  32L919930718,    37, 26,      9,2,19930728, 80.4470, -13.3130,  308,    285.0,   0.6210,  34.7370,2,-999.0000,9,-999.0000,    285.3,2,    282.9,2,    12.52,2,  -999.00,9,     0.02,2,     1.02,2,     -0.044,2,   -999.0,9,   -999.0,      -999,9, -999.000, -999.000,9,-999.0000,9,  -999.00,  -999.00,9,   -999.0,9, 1.24399996,2,0.048999999,2,     0.02,2,     0.01,2,    36200,2, 70,   3681,   0.6087
  32L919930718,    37, 27,      3,2,19930728, 80.4470, -13.3130,  308,      2.0,  -0.7600,  32.0980,2,-999.0000,9,-999.0000,    398.4,2,   -999.0,9,  -999.00,9,  -999.00,9,  -999.00,9,  -999.00,9,       -999,9,   -999.0,9,   -999.0,      -999,9, -999.000, -999.000,9,-999.0000,9,  -999.00,  -999.00,9,   -999.0,9,       -999,9,       -999,9,  -999.00,9,  -999.00,9,     -999,9, 71,   3699,  -0.7600
  32L919930718,    37, 27,      2,2,19930728, 80.4470, -13.3130,  308,      3.0,  -1.0930,  32.1170,2,-999.0000,9,-999.0000,    394.0,2,   -999.0,9,  -999.00,9,  -999.00,9,  -999.00,9,  -999.00,9,       -999,9,   -999.0,9,   -999.0,      -999,9, -999.000, -999.000,9,-999.0000,9,  -999.00,  -999.00,9,   -999.0,9,       -999,9,       -999,9,  -999.00,9,  -999.00,9,     -999,9, 71,   3698,  -1.0931
  32L919930718,    37, 27,      1,2,19930728, 80.4470, -13.3130,  308,      6.0,  -1.3090,  32.1550,2,-999.0000,9,-999.0000,    391.0,2,   -999.0,9,  -999.00,9,  -999.00,9,  -999.00,9,  -999.00,9,       -999,9,   -999.0,9,   -999.0,      -999,9, -999.000, -999.000,9,-999.0000,9,  -999.00,  -999.00,9,   -999.0,9,       -999,9,       -999,9,  -999.00,9,  -999.00,9,     -999,9, 71,   3697,  -1.3091
  32L919930718,    37, 27,     12,2,19930728, 80.4470, -13.3130,  308,      9.0,  -1.4590,  32.1830,2,-999.0000,9,-999.0000,    390.7,2,   -999.0,9,  -999.00,9,  -999.00,9,  -999.00,9,  -999.00,9,       -999,9,   -999.0,9,   -999.0,      -999,9, -999.000, -999.000,9,-999.0000,9,  -999.00,  -999.00,9,   -999.0,9,       -999,9,       -999,9,  -999.00,9,  -999.00,9,     -999,9, 71,   3696,  -1.4592
  32L919930718,    37, 27,     11,2,19930728, 80.4470, -13.3130,  308,     14.0,  -1.5390,  32.2170,2,-999.0000,9,-999.0000,    389.9,2,   -999.0,9,  -999.00,9,  -999.00,9,  -999.00,9,  -999.00,9,       -999,9,   -999.0,9,   -999.0,      -999,9, -999.000, -999.000,9,-999.0000,9,  -999.00,  -999.00,9,   -999.0,9,       -999,9,       -999,9,  -999.00,9,  -999.00,9,     -999,9, 71,   3695,  -1.5392
  32L919930718,    37, 27,     10,2,19930728, 80.4470, -13.3130,  308,     23.0,  -1.6410,  32.2630,2,-999.0000,9,-999.0000,    377.8,2,   -999.0,9,  -999.00,9,  -999.00,9,  -999.00,9,  -999.00,9,       -999,9,   -999.0,9,   -999.0,      -999,9, -999.000, -999.000,9,-999.0000,9,  -999.00,  -999.00,9,   -999.0,9,       -999,9,       -999,9,  -999.00,9,  -999.00,9,     -999,9, 71,   3694,  -1.6414
  32L919930718,    37, 27,      9,2,19930728, 80.4470, -13.3130,  308,     33.0,  -1.7000,  32.3110,2,-999.0000,9,-999.0000,    377.4,2,   -999.0,9,  -999.00,9,  -999.00,9,  -999.00,9,  -999.00,9,       -999,9,   -999.0,9,   -999.0,      -999,9, -999.000, -999.000,9,-999.0000,9,  -999.00,  -999.00,9,   -999.0,9,       -999,9,       -999,9,  -999.00,9,  -999.00,9,     -999,9, 71,   3693,  -1.7005