BOTTLE,20090115PRINUNIVRMK
EXPOCODE,STNNBR,CASTNO,BTLNBR,BTLNBR_FLAG_W,DATE,LATITUDE,LONGITUDE,DEPTH,CTDPRS,CTDTMP,CTDSAL,CTDSAL_FLAG_W,SALNTY,SALNTY_FLAG_W,SOMSAL,CTDOXY,CTDOXY_FLAG_W,OXYGEN,OXYGEN_FLAG_W,SILCAT,SILCAT_FLAG_W,NITRAT,NITRAT_FLAG_W,NITRIT,NITRIT_FLAG_W,PHSPHT,PHSPHT_FLAG_W,AMMONI,AMMONI_FLAG_W,TCARBN,TCARBN_FLAG_W,FCO2,FCO2_TMP,FCO2_FLAG_W,TRITUM,TRITER,TRITUM_FLAG_W,HELIUM,HELIUM_FLAG_W,DELHE3,DELHER,DELHE3_FLAG_W,DELC14,DELC14_FLAG_W,POC,POC_FLAG_W,PON,PON_FLAG_W,CHLORA,CHLORA_FLAG_W,PHAEO,PHAEO_FLAG_W,BACT,BACT_FLAG_W,CTDNO,BNLID,THETA
,,,,,,,,METERS,DBARS,ITS-90,PSS-78,,PSS-78,,PSS-78,UMOL/KG,,UMOL/KG,,UMOL/KG,,UMOL/KG,,UMOL/KG,,UMOL/KG,,UMOL/KG,,UMOL/KG,,UATM,DEGC,,TU,TU,,NMOL/KG,,PERCNT,PERCNT,,O/OO,,ug/kg,,ug/kg,,UG/L,,UG/L,,CELLS/ML,,,,DEGC
  32L919930718,    32,  1,     12,2,19930727, 80.5720, -10.9790,  265,      2.0,   2.7730,  29.2580,2,  29.9640,2,  29.7130,    375.3,2,    391.8,2,     4.04,2,    -0.03,2,     0.00,2,     0.65,2,     -0.017,2,   1932.8,2,    483.9,        17,2, -999.000, -999.000,9,-999.0000,9,  -999.00,  -999.00,9,      0.9,2,  9.6590004,2,0.800999999,2,     0.19,2,     0.03,2,    70800,2, 39,   3384,   2.7729
  32L919930718,    32,  1,     11,2,19930727, 80.5720, -10.9790,  265,      4.0,  -0.0740,  31.9890,2,-999.0000,9,  31.7090,    441.7,2,    438.2,2,     4.68,2,    -0.04,2,     0.01,2,     0.72,2,     -0.056,2,   2029.5,2,    481.9,        17,2, -999.000, -999.000,9,-999.0000,9,  -999.00,  -999.00,9,      1.0,2, 12.6969996,2,0.906000018,2,     0.20,2,     0.07,2,   145000,2, 39,   3383,  -0.0741
  32L919930718,    32,  1,     10,2,19930727, 80.5720, -10.9790,  265,      6.0,  -0.2320,  32.1410,2,-999.0000,9,  32.1000,    444.9,3,    404.6,2,     8.66,2,     1.76,2,     0.03,2,     0.86,2,0.012000002,2,   2076.7,2,    603.7,        17,2, -999.000, -999.000,9,-999.0000,9,  -999.00,  -999.00,9,      1.7,2, 11.4910002,2, 1.15100002,2,     0.41,2,     0.19,2,   123000,2, 39,   3382,  -0.2322
  32L919930718,    32,  1,      9,2,19930727, 80.5720, -10.9790,  265,     11.0,  -1.0870,  32.2090,2,-999.0000,9,  32.2400,    383.3,2,    378.3,2,    11.39,2,     2.66,2,     0.04,2,     0.96,2,0.372999996,2,   2101.7,2,    714.0,        17,2, -999.000, -999.000,9,-999.0000,9,  -999.00,  -999.00,9,      3.2,2, 10.2069998,2, 1.64300001,2,     0.62,2,     0.09,2,    91200,2, 39,   3381,  -1.0872
  32L919930718,    32,  1,      8,2,19930727, 80.5720, -10.9790,  265,     16.0,  -1.4840,  32.2850,2,-999.0000,9,  32.1430,    377.3,2,    375.6,2,    11.71,2,     3.06,2,     0.04,2,     0.99,2,0.109999999,2,   2107.4,2,    710.5,        17,2, -999.000, -999.000,9,-999.0000,9,  -999.00,  -999.00,9,      1.0,2, 5.96600008,2,0.090999998,2,     0.58,2,     0.06,2,    95300,2, 39,   3380,  -1.4843
  32L919930718,    32,  1,      7,2,19930727, 80.5720, -10.9790,  265,     26.0,  -1.6210,  32.3520,2,-999.0000,9,  32.2220,    372.9,2,    370.8,2,    12.06,2,     3.47,2,     0.02,2,     1.02,2,0.031999998,2,   2115.0,2,    734.7,        17,2, -999.000, -999.000,9,-999.0000,9,  -999.00,  -999.00,9,      0.0,2,  2.9749999,2,      0.191,2,     0.26,2,     0.10,2,    68700,2, 39,   3379,  -1.6214
  32L919930718,    32,  1,      6,2,19930727, 80.5720, -10.9790,  265,     38.0,  -1.6920,  32.4010,2,-999.0000,9,  32.1780,    372.1,2,    369.9,2,    12.11,2,     3.61,2,     0.02,2,     1.04,2,0.061000001,2,   2116.4,2,    740.7,        17,2, -999.000, -999.000,9,-999.0000,9,  -999.00,  -999.00,9,      0.0,2,      3.954,2,0.159999996,2,     0.15,2,     0.05,2,    54100,2, 39,   3378,  -1.6926
  32L919930718,    32,  1,      5,2,19930727, 80.5720, -10.9790,  265,     51.0,  -1.7470,  32.4260,2,-999.0000,9,  32.2350,    370.0,2,    368.4,2,    12.19,2,     3.62,2,     0.01,2,     1.04,2,0.002000004,2,   2116.4,2,    738.5,        17,2, -999.000, -999.000,9,-999.0000,9,  -999.00,  -999.00,9,   -999.0,9, 1.88900006,2,0.143999994,2,     0.11,2,     0.03,2,    66100,2, 39,   3377,  -1.7478
  32L919930718,    32,  1,      4,2,19930727, 80.5720, -10.9790,  265,    101.0,  -1.4020,  33.3290,2,-999.0000,9,-999.0000,    325.5,2,   -999.0,9,  -999.00,9,  -999.00,9,  -999.00,9,  -999.00,9,       -999,9,   -999.0,9,   -999.0,      -999,9, -999.000, -999.000,9,-999.0000,9,  -999.00,  -999.00,9,   -999.0,9,       -999,9,       -999,9,  -999.00,9,  -999.00,9,     -999,9, 39,   3376,  -1.4042
  32L919930718,    32,  1,      3,2,19930727, 80.5720, -10.9790,  265,    151.0,  -0.4000,  34.2720,2,-999.0000,9,  34.2130,    295.2,2,    294.9,2,    12.72,2,    11.33,2,    -0.02,2,     0.95,2,0.129000008,2,   2130.5,2,   -999.0,      -999,9, -999.000, -999.000,9,-999.0000,9,  -999.00,  -999.00,9,   -999.0,9, 4.81500006,2,0.187000006,2,     0.03,2,     0.02,2,    54200,2, 39,   3375,  -0.4049
  32L919930718,    32,  1,      2,2,19930727, 80.5720, -10.9790,  265,    201.0,   0.2770,  34.6130,2,  34.6240,2,  34.4040,    284.8,2,    285.3,2,    12.78,2,    12.50,2,     0.00,2,     0.96,2,0.051000003,2,   2149.9,2,    721.4,        17,2, -999.000, -999.000,9,-999.0000,9,  -999.00,  -999.00,9,   -999.0,9, 2.41499996,2,0.054000001,2,     0.25,2,     0.28,3,    76600,2, 39,   3374,   0.2691
  32L919930718,    32,  1,      1,2,19930727, 80.5720, -10.9790,  265,    255.0,   0.3790,  34.7590,2,-999.0000,9,  34.4970,    278.1,2,    279.2,2,    13.37,2,    12.91,2,    -0.01,2,     0.98,2,0.051000003,2,   2151.0,2,    728.0,        17,2, -999.000, -999.000,9,-999.0000,9,  -999.00,  -999.00,9,   -999.0,9, 3.92400002,2,0.050000001,2,     0.05,2,     0.03,2,   101000,2, 39,   3373,   0.3686
  32L919930718,    33,  1,      1,2,19930727, 80.3300, -11.0790,  260,    250.0,   0.3850,  34.7990,2,-999.0000,9,-999.0000,    285.9,2,   -999.0,9,  -999.00,9,  -999.00,9,  -999.00,9,  -999.00,9,       -999,9,   -999.0,9,   -999.0,      -999,9, -999.000, -999.000,9,-999.0000,9,  -999.00,  -999.00,9,   -999.0,9,       -999,9,       -999,9,  -999.00,9,  -999.00,9,     -999,9, 40,   3385,   0.3748
  32L919930718,    33,  1,      2,2,19930727, 80.3300, -11.0790,  260,    250.0,   0.3850,  34.7990,2,  34.8040,2,-999.0000,    285.1,2,   -999.0,9,  -999.00,9,  -999.00,9,  -999.00,9,  -999.00,9,       -999,9,   -999.0,9,   -999.0,      -999,9, -999.000, -999.000,9,-999.0000,9,  -999.00,  -999.00,9,   -999.0,9,       -999,9,       -999,9,  -999.00,9,  -999.00,9,     -999,9, 40,   3386,   0.3748
  32L919930718,    35,  1,     12,2,19930727, 80.3150, -10.9960,  242,      2.0,   1.8220,  28.0640,2,  27.8750,2,  28.0590,    362.1,2,    364.4,2,     3.35,2,     0.04,2,     0.00,2,     0.07,2,0.158999994,2,   1797.4,2,    424.2,18.1000004,2, -999.000, -999.000,9,-999.0000,9,  -999.00,  -999.00,9,      0.2,2, 11.4980001,2, 1.39999998,2,     0.87,2,     0.29,2,   190000,2, 42,   3408,   1.8219
  32L919930718,    35,  1,     11,2,19930727, 80.3150, -10.9960,  242,      4.0,   1.9030,  28.2260,2,-999.0000,9,  28.6380,    361.8,2,    366.6,2,     3.53,2,     0.01,2,     0.00,2,     0.49,2,0.256999999,2,   1828.8,2,    439.1,18.1000004,2, -999.000, -999.000,9,-999.0000,9,  -999.00,  -999.00,9,      0.4,2, 11.1199999,2, 1.30900002,2,     0.12,2,     0.03,2,   279000,2, 42,   3407,   1.9028
  32L919930718,    35,  1,     10,2,19930727, 80.3150, -10.9960,  242,      7.0,  -0.0290,  30.4470,2,-999.0000,9,  31.3030,    399.2,2,    411.6,2,     5.41,2,  -999.00,9,     0.01,2,     0.51,2,0.119999997,2,   2005.6,2,    521.5,18.1000004,2, -999.000, -999.000,9,-999.0000,9,  -999.00,  -999.00,9,      0.8,2, 12.8640003,2,      1.546,2,     0.50,2,     0.18,2,   357000,2, 42,   3406,  -0.0292
  32L919930718,    35,  1,      9,2,19930727, 80.3150, -10.9960,  242,     12.0,  -1.0810,  31.8550,2,-999.0000,9,  31.8130,    409.9,2,    409.6,2,     7.66,2,     0.19,2,     0.03,2,     0.62,2,0.090999998,2,   2070.1,2,    603.2,18.1000004,2, -999.000, -999.000,9,-999.0000,9,  -999.00,  -999.00,9,      3.3,2, 12.7150002,2,  2.0769999,2,     1.17,2,     0.31,2,   335000,2, 42,   3405,  -1.0812
  32L919930718,    35,  1,      8,2,19930727, 80.3150, -10.9960,  242,     19.0,  -1.3800,  32.2440,2,-999.0000,9,  32.1270,    404.3,2,    415.1,2,     5.98,2,     0.46,2,     0.03,2,     0.70,2,0.100000001,2,   2078.5,2,    591.8,18.1000004,2, -999.000, -999.000,9,-999.0000,9,  -999.00,  -999.00,9,      2.0,2, 18.4629993,2, 2.71099997,2,     1.23,2,     0.18,2,   412000,2, 42,   3404,  -1.3804
  32L919930718,    35,  1,      7,2,19930727, 80.3150, -10.9960,  242,     28.0,  -1.5850,  32.3850,2,-999.0000,9,  32.2370,    380.2,2,    389.7,2,     6.35,2,     1.03,2,     0.06,2,     0.72,2,0.109999999,2,   2106.6,2,    701.5,18.1000004,2, -999.000, -999.000,9,-999.0000,9,  -999.00,  -999.00,9,      0.2,2, 28.0680008,2, 2.99699998,2,     0.22,2,     0.04,2,   387000,2, 42,   3403,  -1.5855
  32L919930718,    35,  1,      6,2,19930727, 80.3150, -10.9960,  242,     44.0,  -1.7120,  32.4270,2,-999.0000,9,  32.2020,    367.7,2,    367.4,2,    12.34,2,     3.91,2,     0.03,2,     0.99,2,      0.022,2,   2120.7,2,    770.3,18.1000004,2, -999.000, -999.000,9,-999.0000,9,  -999.00,  -999.00,9,      0.1,2, 6.27400017,2,0.629000008,2,     0.54,2,     0.10,2,   209000,2, 42,   3402,  -1.7127
  32L919930718,    35,  1,      5,2,19930727, 80.3150, -10.9960,  242,     75.0,  -1.7240,  32.4670,2,-999.0000,9,  32.1030,    366.3,2,    362.2,2,    13.29,2,     4.36,2,     0.01,2,     0.91,2,0.060999997,2,   2126.2,2,    788.5,18.1000004,2, -999.000, -999.000,9,-999.0000,9,  -999.00,  -999.00,9,   -999.0,9, 3.12800002,2,0.300000012,2,     0.18,2,     0.04,2,   210000,2, 42,   3401,  -1.7253
  32L919930718,    35,  1,      4,2,19930727, 80.3150, -10.9960,  242,    100.0,  -1.6420,  32.7130,2,-999.0000,9,  32.6750,    350.0,2,    345.9,2,    14.86,2,     6.05,2,     0.01,2,     0.91,2,0.051999994,2,   2131.9,2,    820.6,18.1000004,2, -999.000, -999.000,9,-999.0000,9,  -999.00,  -999.00,9,   -999.0,9, 2.83800006,2,0.296999991,2,     0.07,2,     0.04,2,    79500,2, 42,   3400,  -1.6438
  32L919930718,    35,  1,      3,2,19930727, 80.3150, -10.9960,  242,    150.0,  -1.0600,  33.7320,2,-999.0000,9,  33.5460,    311.1,2,    309.9,2,    14.86,2,    10.05,2,     0.01,2,     0.90,2,      0.081,2,   2143.5,2,    791.4,18.1000004,2, -999.000, -999.000,9,-999.0000,9,  -999.00,  -999.00,9,   -999.0,9, 1.51300001,2,0.159999996,2,     0.04,2,     0.02,2,    68700,2, 42,   3399,  -1.0639
  32L919930718,    35,  1,      2,2,19930727, 80.3150, -10.9960,  242,    200.0,   0.0180,  34.4780,2,  34.4870,2,  34.2200,    290.1,2,    289.1,2,    13.66,2,    12.59,2,     0.01,2,     0.85,2,0.002999999,2,   2145.9,2,    748.7,18.1000004,2, -999.000, -999.000,9,-999.0000,9,  -999.00,  -999.00,9,   -999.0,9, 1.41900003,2,0.153999999,2,     0.04,2,     0.04,2,    82000,2, 42,   3398,   0.0106
  32L919930718,    35,  1,      1,2,19930727, 80.3150, -10.9960,  242,    232.0,   0.3860,  34.7470,2,-999.0000,9,  34.4240,    281.9,2,    283.2,2,    14.11,2,    13.12,2,     0.03,2,     0.83,2,     -0.056,2,   2155.8,2,    753.2,18.1000004,2, -999.000, -999.000,9,-999.0000,9,  -999.00,  -999.00,9,   -999.0,9, 1.76199996,2,0.145999998,2,  -999.00,9,  -999.00,9,    94200,2, 42,   3397,   0.3766
  32L919930718,    36,  1,      6,2,19930727, 80.3700, -10.2790,  321,      2.0,   3.2100,  31.2100,2,  31.1400,2,-999.0000,    367.6,2,   -999.0,9,  -999.00,9,  -999.00,9,  -999.00,9,  -999.00,9,       -999,9,   -999.0,9,   -999.0,      -999,9, -999.000, -999.000,9,-999.0000,9,  -999.00,  -999.00,9,   -999.0,9,       -999,9,       -999,9,  -999.00,9,  -999.00,9,     -999,9, 43,   3414,   3.2099
  32L919930718,    36,  1,      5,2,19930727, 80.3700, -10.2790,  321,     10.0,   0.3020,  32.2710,2,-999.0000,9,-999.0000,    438.0,2,   -999.0,9,  -999.00,9,  -999.00,9,  -999.00,9,  -999.00,9,       -999,9,   -999.0,9,   -999.0,      -999,9, -999.000, -999.000,9,-999.0000,9,  -999.00,  -999.00,9,   -999.0,9,       -999,9,       -999,9,  -999.00,9,  -999.00,9,     -999,9, 43,   3413,   0.3017
  32L919930718,    36,  1,      4,2,19930727, 80.3700, -10.2790,  321,     15.0,  -0.2910,  32.3160,2,-999.0000,9,-999.0000,    435.6,2,   -999.0,9,  -999.00,9,  -999.00,9,  -999.00,9,  -999.00,9,       -999,9,   -999.0,9,   -999.0,      -999,9, -999.000, -999.000,9,-999.0000,9,  -999.00,  -999.00,9,   -999.0,9,       -999,9,       -999,9,  -999.00,9,  -999.00,9,     -999,9, 43,   3412,  -0.2914
  32L919930718,    36,  1,      3,2,19930727, 80.3700, -10.2790,  321,     49.0,  -1.6920,  32.4280,2,-999.0000,9,-999.0000,    367.6,2,   -999.0,9,  -999.00,9,  -999.00,9,  -999.00,9,  -999.00,9,       -999,9,   -999.0,9,   -999.0,      -999,9, -999.000, -999.000,9,-999.0000,9,  -999.00,  -999.00,9,   -999.0,9,       -999,9,       -999,9,  -999.00,9,  -999.00,9,     -999,9, 43,   3411,  -1.6928
  32L919930718,    36,  1,      2,2,19930727, 80.3700, -10.2790,  321,    101.0,  -1.5950,  32.8830,2,  32.9210,2,-999.0000,    340.5,2,   -999.0,9,  -999.00,9,  -999.00,9,  -999.00,9,  -999.00,9,       -999,9,   -999.0,9,   -999.0,      -999,9, -999.000, -999.000,9,-999.0000,9,  -999.00,  -999.00,9,   -999.0,9,       -999,9,       -999,9,  -999.00,9,  -999.00,9,     -999,9, 43,   3410,  -1.5969
  32L919930718,    36,  1,      1,2,19930727, 80.3700, -10.2790,  321,    150.0,  -0.6630,  34.0920,2,-999.0000,9,-999.0000,    299.5,2,   -999.0,9,  -999.00,9,  -999.00,9,  -999.00,9,  -999.00,9,       -999,9,   -999.0,9,   -999.0,      -999,9, -999.000, -999.000,9,-999.0000,9,  -999.00,  -999.00,9,   -999.0,9,       -999,9,       -999,9,  -999.00,9,  -999.00,9,     -999,9, 43,   3409,  -0.6675
  32L919930718,    36,  2,      6,2,19930727, 80.3700, -10.2790,  321,      2.0,   4.5560,  31.0670,2,  31.1770,2,  31.1060,    359.5,2,    363.1,2,     3.47,2,     0.08,2,     0.01,2,     0.65,2,-0.02599999,2,   1987.1,2,    505.1,18.3999996,2, -999.000, -999.000,9,-999.0000,9,  -999.00,  -999.00,9,      0.4,2, 8.04300022,2,0.948000014,2,     0.19,2,     0.02,2,    43300,2, 44,   3426,   4.5559
  32L919930718,    36,  2,      5,2,19930727, 80.3700, -10.2790,  321,      3.0,   4.5520,  31.0730,2,-999.0000,9,  31.1250,    359.5,2,    364.9,2,     3.53,2,     0.09,2,     0.00,2,     0.66,2,0.179000005,2,   1988.3,2,    503.8,18.3999996,2, -999.000, -999.000,9,-999.0000,9,  -999.00,  -999.00,9,      0.4,2, 8.12899971,2,0.999000013,2,     0.15,2,     0.03,2,   102000,2, 44,   3425,   4.5518
  32L919930718,    36,  2,      4,2,19930727, 80.3700, -10.2790,  321,      6.0,   4.0220,  31.3770,2,-999.0000,9,  31.2150,    377.6,2,    371.4,2,     3.49,2,     0.10,2,    -0.01,2,     0.66,2,0.033000007,2,   1990.9,2,    494.3,18.3999996,2, -999.000, -999.000,9,-999.0000,9,  -999.00,  -999.00,9,      0.3,2, 8.44699955,2,0.930000007,2,     0.15,2,     0.03,2,    93400,2, 44,   3424,   4.0216
  32L919930718,    36,  2,      3,2,19930727, 80.3700, -10.2790,  321,     10.0,   3.1830,  31.6320,2,-999.0000,9,  32.1510,    393.0,2,    433.9,2,     4.72,2,     0.17,2,     0.01,2,     0.72,2,0.013000011,2,   2045.6,2,    508.1,18.3999996,2, -999.000, -999.000,9,-999.0000,9,  -999.00,  -999.00,9,      1.2,2, 13.3850002,2, 1.34099996,2,     0.46,2,     0.11,2,   186000,2, 44,   3423,   3.1824
  32L919930718,    36,  2,      2,2,19930727, 80.3700, -10.2790,  321,     15.0,  -0.0160,  32.3330,2,-999.0000,9,  32.3180,    436.8,2,    445.5,2,     3.31,2,     0.72,2,     0.01,2,     0.77,2,0.013000011,2,   2051.6,2,    523.7,18.3999996,2, -999.000, -999.000,9,-999.0000,9,  -999.00,  -999.00,9,      1.5,2, 32.0279999,2, 2.37800002,2,     1.07,2,     0.24,2,   180000,2, 44,   3422,  -0.0165
  32L919930718,    36,  2,      1,2,19930727, 80.3700, -10.2790,  321,     24.0,  -1.1140,  32.3910,2,-999.0000,9,  32.3280,    413.1,2,    382.0,2,     9.28,2,     2.73,2,     0.02,2,     0.96,2,0.023000002,2,   2102.9,2,    719.1,18.3999996,2, -999.000, -999.000,9,-999.0000,9,  -999.00,  -999.00,9,      0.5,2, 14.6619997,2, 1.71300006,2,     4.18,2,     0.87,2,   154000,2, 44,   3421,  -1.1145
  32L919930718,    36,  2,     12,2,19930727, 80.3700, -10.2790,  321,     36.0,  -1.6770,  32.4220,2,-999.0000,9,  32.3740,    367.0,2,    367.8,2,    11.41,2,     4.10,2,     0.02,2,     1.03,2,0.013000011,2,   2117.3,2,    768.2,18.3999996,2, -999.000, -999.000,9,-999.0000,9,  -999.00,  -999.00,9,      0.0,2, 9.55000019,2,0.592000008,2,     0.36,2,     0.06,2,   121000,2, 44,   3420,  -1.6776
  32L919930718,    36,  2,     11,2,19930727, 80.3700, -10.2790,  321,     80.0,  -1.6560,  32.6730,2,-999.0000,9,  32.6910,    347.6,2,    345.5,2,    13.36,2,     6.18,2,     0.01,2,     1.02,2,-0.01599999,2,   2130.8,2,    829.3,18.3999996,2, -999.000, -999.000,9,-999.0000,9,  -999.00,  -999.00,9,   -999.0,9, 1.02400005,2,      0.162,2,     0.07,2,     0.07,2,    84000,2, 44,   3419,  -1.6574
  32L919930718,    36,  2,     10,2,19930727, 80.3700, -10.2790,  321,    150.0,  -0.9830,  33.7910,2,-999.0000,9,  33.7790,    308.8,2,    307.1,2,    13.43,2,    10.57,2,     0.01,2,     0.96,2,     -0.006,2,   2140.7,2,    805.3,18.3999996,2, -999.000, -999.000,9,-999.0000,9,  -999.00,  -999.00,9,   -999.0,9,0.864000022,2,0.050000001,2,     0.04,2,     0.02,2,    60900,2, 44,   3418,  -0.9870
  32L919930718,    36,  2,      9,2,19930727, 80.3700, -10.2790,  321,    200.0,   0.1900,  34.5620,2,-999.0000,9,  34.4870,    286.5,2,    286.8,2,    12.22,2,    13.02,2,     0.01,2,     0.94,2,-0.01599999,2,   2144.3,2,    753.4,18.3999996,2, -999.000, -999.000,9,-999.0000,9,  -999.00,  -999.00,9,   -999.0,9,0.488999993,2,0.048999999,2,     0.03,2,     0.02,2,    52100,2, 44,   3417,   0.1823
  32L919930718,    36,  2,      8,2,19930727, 80.3700, -10.2790,  321,    250.0,   0.3670,  34.7460,2,  34.7540,2,  34.6650,    281.2,2,    282.7,2,    12.60,2,    13.41,2,     0.01,2,     0.97,2,0.013000011,2,   2150.2,2,    752.0,18.3999996,2, -999.000, -999.000,9,-999.0000,9,  -999.00,  -999.00,9,   -999.0,9,      1.472,2,0.112000003,2,     0.04,2,    -0.01,2,    44500,2, 44,   3416,   0.3568
  32L919930718,    36,  2,      7,2,19930727, 80.3700, -10.2790,  321,    311.0,   0.3840,  34.8000,2,-999.0000,9,  34.7450,    280.0,2,    280.2,2,    12.74,2,    13.26,2,     0.03,2,     0.97,2,     -0.006,2,   2153.2,2,    742.3,18.3999996,2, -999.000, -999.000,9,-999.0000,9,  -999.00,  -999.00,9,   -999.0,9, 1.70700002,2,       -999,9,     0.04,2,     0.03,2,    70300,2, 44,   3415,   0.3711