BOTTLE,20090115PRINUNIVRMK
EXPOCODE,STNNBR,CASTNO,BTLNBR,BTLNBR_FLAG_W,DATE,LATITUDE,LONGITUDE,DEPTH,CTDPRS,CTDTMP,CTDSAL,CTDSAL_FLAG_W,SALNTY,SALNTY_FLAG_W,SOMSAL,CTDOXY,CTDOXY_FLAG_W,OXYGEN,OXYGEN_FLAG_W,SILCAT,SILCAT_FLAG_W,NITRAT,NITRAT_FLAG_W,NITRIT,NITRIT_FLAG_W,PHSPHT,PHSPHT_FLAG_W,AMMONI,AMMONI_FLAG_W,TCARBN,TCARBN_FLAG_W,FCO2,FCO2_TMP,FCO2_FLAG_W,TRITUM,TRITER,TRITUM_FLAG_W,HELIUM,HELIUM_FLAG_W,DELHE3,DELHER,DELHE3_FLAG_W,DELC14,DELC14_FLAG_W,POC,POC_FLAG_W,PON,PON_FLAG_W,CHLORA,CHLORA_FLAG_W,PHAEO,PHAEO_FLAG_W,BACT,BACT_FLAG_W,CTDNO,BNLID,THETA
,,,,,,,,METERS,DBARS,ITS-90,PSS-78,,PSS-78,,PSS-78,UMOL/KG,,UMOL/KG,,UMOL/KG,,UMOL/KG,,UMOL/KG,,UMOL/KG,,UMOL/KG,,UMOL/KG,,UATM,DEGC,,TU,TU,,NMOL/KG,,PERCNT,PERCNT,,O/OO,,ug/kg,,ug/kg,,UG/L,,UG/L,,CELLS/ML,,,,DEGC
  32L919930718,    18,  1,     12,2,19930726, 80.3010, -11.2220,  239,      2.0,   1.7320,  29.6640,2,  30.2930,2,  30.3150,    372.1,2,    397.1,2,     3.70,2,     0.03,2,     0.02,2,     0.65,2,0.002000004,2,   1941.9,2,    449.1,17.1000004,2, -999.000, -999.000,9,-999.0000,9,  -999.00,  -999.00,9,      1.9,2,  8.4449997,2, 1.01400006,2,     0.13,2,     0.05,2,     -999,9, 24,   3240,   1.7319
  32L919930718,    18,  1,     11,2,19930726, 80.3010, -11.2220,  239,      7.0,  -1.0780,  31.8000,2,-999.0000,9,  31.7430,    411.7,2,    417.6,2,     5.54,2,     0.05,2,     0.06,2,     0.75,2,      0.022,2,   2041.6,2,    526.2,17.1000004,2, -999.000, -999.000,9,-999.0000,9,  -999.00,  -999.00,9,   -999.0,9, 14.3929996,2, 1.98800004,2,     0.51,2,     0.22,2,     -999,9, 24,   3239,  -1.0781
  32L919930718,    18,  1,     10,2,19930726, 80.3010, -11.2220,  239,     15.0,  -1.3100,  32.0480,2,-999.0000,9,  32.0040,    400.0,2,    398.8,2,     7.24,2,     0.70,2,     0.06,2,     0.86,2,0.071000002,2,   2081.5,2,    613.2,17.1000004,2, -999.000, -999.000,9,-999.0000,9,  -999.00,  -999.00,9,   -999.0,9, 11.7390003,2, 2.25600004,2,     1.17,2,     0.23,2,     -999,9, 24,   3238,  -1.3103
  32L919930718,    18,  1,      9,2,19930726, 80.3010, -11.2220,  239,     21.0,  -1.4620,  32.2440,2,-999.0000,9,  32.1670,    381.9,2,    385.1,2,     8.22,2,     1.97,2,     0.07,2,     0.94,2,0.100000001,2,   2098.1,2,    666.6,17.1000004,2, -999.000, -999.000,9,-999.0000,9,  -999.00,  -999.00,9,      0.4,2, 7.04099989,2, 1.38499999,2,     0.78,2,     0.24,2,     -999,9, 24,   3237,  -1.4624
  32L919930718,    18,  1,      8,2,19930726, 80.3010, -11.2220,  239,     35.0,  -1.6420,  32.3670,2,-999.0000,9,  32.2200,    371.4,2,    371.6,2,    10.17,2,     3.41,2,     0.09,2,     1.01,2,0.071000002,2,   2111.1,2,    717.9,17.1000004,2, -999.000, -999.000,9,-999.0000,9,  -999.00,  -999.00,9,   -999.0,9, 2.79900002,2, 0.38499999,2,     0.19,2,     0.06,2,     -999,9, 24,   3236,  -1.6426
  32L919930718,    18,  1,      7,2,19930726, 80.3010, -11.2220,  239,     40.0,  -1.6860,  32.3780,2,-999.0000,9,  32.1720,    370.6,2,    371.0,2,    10.08,2,     3.33,2,     0.08,2,     1.02,2,0.061000001,2,   2112.7,2,    719.5,17.1000004,2, -999.000, -999.000,9,-999.0000,9,  -999.00,  -999.00,9,   -999.0,9, 4.12200022,2,0.633000016,2,     0.18,2,     0.09,2,     -999,9, 24,   3235,  -1.6867
  32L919930718,    18,  1,      6,2,19930726, 80.3010, -11.2220,  239,     47.0,  -1.6960,  32.4080,2,-999.0000,9,  32.2030,    368.1,2,    368.3,2,    10.55,2,     3.69,2,     0.09,2,     1.03,2,0.041000001,2,   2115.8,2,    726.5,17.1000004,2, -999.000, -999.000,9,-999.0000,9,  -999.00,  -999.00,9,   -999.0,9, 2.13000011,2,0.354999989,2,     0.25,2,     0.19,2,     -999,9, 24,   3234,  -1.6968
  32L919930718,    18,  1,      5,2,19930726, 80.3010, -11.2220,  239,     60.0,  -1.7250,  32.4500,2,-999.0000,9,  32.3220,    367.7,2,    367.5,2,    10.85,2,     3.89,2,     0.06,2,     1.05,2,0.051000003,2,   2117.8,2,    732.7,17.1000004,2, -999.000, -999.000,9,-999.0000,9,  -999.00,  -999.00,9,   -999.0,9, 1.13399994,2,0.221000001,2,     0.04,2,     0.04,2,     -999,9, 24,   3233,  -1.7260
  32L919930718,    18,  1,      4,2,19930726, 80.3010, -11.2220,  239,     81.0,  -1.7280,  32.4840,2,-999.0000,9,  32.3320,    365.5,2,    363.3,2,    11.32,2,     4.30,2,     0.02,2,     1.05,2,0.002000004,2,   2120.8,2,    746.2,17.1000004,2, -999.000, -999.000,9,-999.0000,9,  -999.00,  -999.00,9,   -999.0,9, 1.94000006,2,0.152999997,2,     0.01,2,     0.02,2,     -999,9, 24,   3232,  -1.7294
  32L919930718,    18,  1,      3,2,19930726, 80.3010, -11.2220,  239,    101.0,  -1.5850,  32.7170,2,-999.0000,9,  32.5650,    349.6,2,    351.4,2,    12.16,2,     5.61,2,     0.01,2,     1.04,2,0.080000006,2,   2125.3,2,    750.8,17.1000004,2, -999.000, -999.000,9,-999.0000,9,  -999.00,  -999.00,9,   -999.0,9, 1.33299995,2,0.120999999,2,     0.03,2,     0.02,2,     -999,9, 24,   3231,  -1.5869
  32L919930718,    18,  1,      2,2,19930726, 80.3010, -11.2220,  239,    176.0,  -0.1860,  34.3930,2,  34.3920,2,  34.2490,    290.9,2,    291.3,2,    11.87,2,    12.45,2,     0.02,2,     0.95,2,      0.022,2,   2142.9,2,    721.0,17.1000004,2, -999.000, -999.000,9,-999.0000,9,  -999.00,  -999.00,9,   -999.0,9, 3.19499993,2,0.261999995,2,     0.04,2,     0.04,2,     -999,9, 24,   3230,  -0.1921
  32L919930718,    18,  1,      1,2,19930726, 80.3010, -11.2220,  239,    229.0,   0.3730,  34.6700,2,-999.0000,9,  34.5030,    282.9,2,    282.0,2,    12.16,2,    13.05,2,     0.03,2,     0.97,2,0.041000001,2,   2152.0,2,   -999.0,      -999,9, -999.000, -999.000,9,-999.0000,9,  -999.00,  -999.00,9,   -999.0,9, 3.45000005,2,0.268999994,2,     0.08,2,     0.05,2,     -999,9, 24,   3229,   0.3637
  32L919930718,    19,  1,     12,2,19930726, 80.3560, -11.0230,  294,      2.0,   1.5570,  29.6500,2,  29.6780,2,-999.0000,    381.1,2,    383.2,2,     3.19,2,     0.06,2,     0.00,2,     0.61,2,     -0.006,2,   -999.0,9,   -999.0,      -999,9, -999.000, -999.000,9,-999.0000,9,  -999.00,  -999.00,9,      0.2,2, 9.38500023,2,      0.875,2,     0.03,2,     0.01,2,   411000,2, 26,   3252,   1.5569
  32L919930718,    19,  1,     11,2,19930726, 80.3560, -11.0230,  294,      5.0,   2.2040,  31.5820,2,-999.0000,9,-999.0000,    405.2,2,    415.1,2,     3.26,2,     0.09,2,     0.00,2,     0.68,2,0.170000002,2,   -999.0,9,   -999.0,      -999,9, -999.000, -999.000,9,-999.0000,9,  -999.00,  -999.00,9,      0.4,2, 7.24300003,2,0.727999985,2,     0.05,2,     0.03,2,   337000,2, 26,   3251,   2.2038
  32L919930718,    19,  1,     10,2,19930726, 80.3560, -11.0230,  294,      9.0,   2.2890,  32.1490,2,-999.0000,9,-999.0000,    415.3,2,    434.1,2,     3.38,2,  -999.00,9,    -0.04,2,     0.70,2,0.062000006,2,   -999.0,9,   -999.0,      -999,9, -999.000, -999.000,9,-999.0000,9,  -999.00,  -999.00,9,      0.1,2, 6.63700008,2, 0.60799998,2,     0.05,2,     0.01,2,   557000,2, 26,   3250,   2.2886
  32L919930718,    19,  1,      9,2,19930726, 80.3560, -11.0230,  294,     15.0,   0.3540,  32.3080,2,-999.0000,9,-999.0000,    433.4,2,    434.6,2,     4.09,2,     0.12,2,     0.00,2,     0.72,2,-0.05499999,2,   -999.0,9,   -999.0,      -999,9, -999.000, -999.000,9,-999.0000,9,  -999.00,  -999.00,9,      0.3,2, 7.69799995,2,0.691999972,2,     0.18,2,     0.02,2,   600000,2, 26,   3249,   0.3535
  32L919930718,    19,  1,      8,2,19930726, 80.3560, -11.0230,  294,     23.0,  -0.7460,  32.3820,2,-999.0000,9,-999.0000,    419.8,2,    409.8,2,     4.86,2,     0.39,2,     0.02,2,     0.80,2,0.091000006,2,   -999.0,9,   -999.0,      -999,9, -999.000, -999.000,9,-999.0000,9,  -999.00,  -999.00,9,      1.0,2, 12.0869999,2, 1.10699999,2,     0.26,2,     0.07,2,   792000,2, 26,   3248,  -0.7466
  32L919930718,    19,  1,      7,2,19930726, 80.3560, -11.0230,  294,     36.0,  -1.6610,  32.4020,2,-999.0000,9,-999.0000,    369.5,2,    368.4,2,     9.73,2,     3.54,2,     0.04,2,     1.00,2,0.043000005,2,   -999.0,9,   -999.0,      -999,9, -999.000, -999.000,9,-999.0000,9,  -999.00,  -999.00,9,      0.1,2, 8.02000046,2, 1.12699997,2,     1.02,2,     0.24,2,   481000,2, 26,   3247,  -1.6616
  32L919930718,    19,  1,      6,2,19930726, 80.3560, -11.0230,  294,     53.0,  -1.7220,  32.4320,2,-999.0000,9,-999.0000,    363.0,2,    365.5,2,    11.02,2,     4.20,2,     0.02,2,     1.02,2,0.072000004,2,   -999.0,9,   -999.0,      -999,9, -999.000, -999.000,9,-999.0000,9,  -999.00,  -999.00,9,      0.1,2, 4.13500023,2,0.453999996,2,     0.17,2,     0.11,2,   325000,2, 26,   3246,  -1.7229
  32L919930718,    19,  1,      5,2,19930726, 80.3560, -11.0230,  294,    100.0,  -1.5980,  32.8670,2,-999.0000,9,-999.0000,    340.4,2,    340.3,2,    12.79,2,     6.70,2,     0.01,2,     1.00,2,0.072000004,2,   -999.0,9,   -999.0,      -999,9, -999.000, -999.000,9,-999.0000,9,  -999.00,  -999.00,9,   -999.0,9, 2.02900004,2,0.263000011,2,     0.09,2,     0.08,2,   140000,2, 26,   3245,  -1.5999
  32L919930718,    19,  1,      4,2,19930726, 80.3560, -11.0230,  294,    150.0,  -1.1080,  33.5900,2,-999.0000,9,-999.0000,    310.9,2,    311.0,2,    14.07,2,     9.81,2,     0.00,2,     0.99,2,0.121000007,2,   -999.0,9,   -999.0,      -999,9, -999.000, -999.000,9,-999.0000,9,  -999.00,  -999.00,9,   -999.0,9,0.911000013,2,0.165999994,2,     0.02,2,     0.01,2,    99900,2, 26,   3244,  -1.1117
  32L919930718,    19,  1,      3,2,19930726, 80.3560, -11.0230,  294,    199.0,  -0.1890,  34.3650,2,-999.0000,9,-999.0000,    290.6,2,    291.3,2,    11.53,2,    12.56,2,     0.01,2,     0.93,2,0.004000008,2,   -999.0,9,   -999.0,      -999,9, -999.000, -999.000,9,-999.0000,9,  -999.00,  -999.00,9,   -999.0,9, 1.51999998,2,0.172000006,2,     0.03,2,     0.04,2,   135000,2, 26,   3243,  -0.1959
  32L919930718,    19,  1,      2,2,19930726, 80.3560, -11.0230,  294,    250.0,   0.3530,  34.7260,2,  34.7380,2,-999.0000,    280.6,2,    282.5,2,    11.62,2,    13.40,2,     0.02,2,     0.97,2,0.004000008,2,   -999.0,9,   -999.0,      -999,9, -999.000, -999.000,9,-999.0000,9,  -999.00,  -999.00,9,   -999.0,9,       -999,9,0.143000007,2,     0.02,2,     0.03,2,   113000,2, 26,   3242,   0.3429
  32L919930718,    19,  1,      1,2,19930726, 80.3560, -11.0230,  294,    284.0,   0.3900,  34.8310,2,-999.0000,9,-999.0000,    280.1,2,    283.0,2,    11.12,2,    13.32,2,     0.02,2,     0.97,2,0.072000004,2,   -999.0,9,   -999.0,      -999,9, -999.000, -999.000,9,-999.0000,9,  -999.00,  -999.00,9,   -999.0,9, 3.33699989,2,0.165999994,2,     0.03,2,     0.01,2,   165000,2, 26,   3241,   0.3783
  32L919930718,    21,  1,     12,2,19930726, 80.4730, -11.0640,  296,      2.0,   4.5750,  30.7370,2,  30.8040,2,  30.5190,    344.1,2,    355.0,2,     4.37,2,     0.28,2,     0.03,2,     0.66,2,     -0.035,2,   1976.0,2,    523.1,18.2000008,2,    6.630,    0.099,2,   1.7980,2,    -1.90,     0.20,2,   -999.0,9, 7.86299992,2, 1.15600002,2,     0.16,2,     0.03,2,     -999,9, 28,   3264,   4.5749
  32L919930718,    21,  1,     11,2,19930726, 80.4730, -11.0640,  296,     10.0,   2.9140,  32.0090,2,-999.0000,9,  31.8460,    398.6,2,    411.4,2,     6.79,2,     0.32,2,     0.03,2,     0.76,2,     -0.035,2,   2058.2,2,    571.3,18.2000008,2, -999.000, -999.000,9,-999.0000,9,  -999.00,  -999.00,9,   -999.0,9, 24.3789997,2, 2.67499995,2,     0.49,2,     0.15,2,     -999,9, 28,   3263,   2.9135
  32L919930718,    21,  1,     10,2,19930726, 80.4730, -11.0640,  296,     21.0,  -1.1620,  32.3570,2,-999.0000,9,  32.2280,    384.0,2,    382.8,2,    10.13,2,     2.30,2,     0.07,2,     0.98,2,-0.02599999,2,   2104.4,2,    728.2,18.2000008,2, -999.000, -999.000,9,-999.0000,9,  -999.00,  -999.00,9,   -999.0,9, 18.2630005,2, 2.43499994,2,     1.17,2,     0.06,2,     -999,9, 28,   3262,  -1.1624
  32L919930718,    21,  1,      9,2,19930726, 80.4730, -11.0640,  296,     35.0,  -1.7130,  32.4070,2,-999.0000,9,  32.1920,    369.9,2,    369.4,2,    11.29,2,     3.69,2,     0.03,2,     1.05,2,0.023000002,2,   2116.9,2,    777.9,18.2000008,2,    7.030,    0.105,2,   1.7530,2,     4.30,     0.20,2,   -999.0,9, 2.05500007,2,0.248999998,2,     0.24,2,     0.08,2,     -999,9, 28,   3261,  -1.7136
  32L919930718,    21,  1,      8,2,19930726, 80.4730, -11.0640,  296,     65.0,  -1.7010,  32.4530,2,-999.0000,9,  32.1770,    365.6,2,    362.3,2,    11.16,2,     4.29,2,     0.05,2,     1.05,2, 0.13000001,2,   2123.7,2,    793.8,18.2000008,2, -999.000, -999.000,9,-999.0000,9,  -999.00,  -999.00,9,   -999.0,9, 4.23999977,2,0.254000008,2,     0.27,2,     0.06,2,    82400,2, 28,   3260,  -1.7021
  32L919930718,    21,  1,      7,2,19930726, 80.4730, -11.0640,  296,     76.0,  -1.7130,  32.5040,2,-999.0000,9,  32.4490,    361.9,2,    357.5,2,    12.01,2,     4.82,2,     0.03,2,     1.06,2,0.091000006,2,   2124.0,2,    812.1,18.2000008,2, -999.000, -999.000,9,-999.0000,9,  -999.00,  -999.00,9,   -999.0,9, 2.19400001,2,0.210999995,2,     0.12,2,     0.04,2,   114000,2, 28,   3259,  -1.7143
  32L919930718,    21,  1,      6,2,19930726, 80.4730, -11.0640,  296,    101.0,  -1.6130,  32.8060,2,-999.0000,9,  32.8330,    345.0,2,    338.8,2,    13.08,2,     6.51,2,     0.03,2,     1.02,2,0.043000005,2,   2135.2,2,    841.1,18.2000008,2, -999.000, -999.000,9,-999.0000,9,  -999.00,  -999.00,9,   -999.0,9, 1.77699995,2,0.107000001,2,     0.12,2,     0.05,2,   116000,2, 28,   3258,  -1.6149
  32L919930718,    21,  1,      5,2,19930726, 80.4730, -11.0640,  296,    139.0,  -1.2320,  33.5190,2,-999.0000,9,  33.4480,    319.4,2,    313.7,2,    13.05,2,     9.13,2,     0.03,2,     1.00,2,0.091000006,2,   2142.3,2,    821.3,18.2000008,2,    4.700,    0.070,2,-999.0000,9,  -999.00,  -999.00,9,   -999.0,9, 2.26200008,2,0.116999999,2,     0.05,2,     0.03,2,   178000,2, 28,   3257,  -1.2353
  32L919930718,    21,  1,      4,2,19930726, 80.4730, -11.0640,  296,    176.0,  -0.1850,  34.3600,2,-999.0000,9,  34.1720,    293.2,2,    291.0,2,    11.89,2,    11.85,2,     0.02,2,     0.97,2,0.082000002,2,   2143.1,2,    754.6,18.2000008,2, -999.000, -999.000,9,-999.0000,9,  -999.00,  -999.00,9,   -999.0,9, 1.95000005,2,       -999,9,     0.03,2,     0.02,2,   140000,2, 28,   3256,  -0.1911
  32L919930718,    21,  1,      3,2,19930726, 80.4730, -11.0640,  296,    201.0,   0.2090,  34.5720,2,-999.0000,9,  34.2870,    288.2,2,    287.6,2,    11.90,2,    12.27,2,     0.03,2,     0.98,2,0.091000006,2,   2148.2,2,    753.1,18.2000008,2, -999.000, -999.000,9,-999.0000,9,  -999.00,  -999.00,9,   -999.0,9, 2.01999998,2,0.203999996,2,     0.04,2,     0.02,2,     -999,9, 28,   3255,   0.2012
  32L919930718,    21,  1,      2,2,19930726, 80.4730, -11.0640,  296,    251.0,   0.3630,  34.7160,2,  34.7280,2,  34.5970,    285.4,2,    281.6,2,    12.09,2,    12.53,2,     0.02,2,     0.99,2, 0.13000001,2,   2151.6,2,    749.9,18.2000008,2, -999.000, -999.000,9,-999.0000,9,  -999.00,  -999.00,9,   -999.0,9,  2.0309999,2,0.209000006,2,  -999.00,9,  -999.00,9,   104000,2, 28,   3254,   0.3528
  32L919930718,    21,  1,      1,2,19930726, 80.4730, -11.0640,  296,    286.0,   0.3850,  34.8000,2,-999.0000,9,  34.7370,    286.4,2,    279.8,2,    11.93,2,    12.53,2,     0.04,2,     1.00,2, 0.13000001,2,   2153.2,2,    746.3,18.2000008,2,    1.630,    0.024,2,   1.8110,2,     2.00,     0.20,2,   -999.0,9, 1.35399997,2,0.157000005,2,  -999.00,9,  -999.00,9,   120000,2, 28,   3253,   0.3732
  32L919930718,    22,  1,     12,2,19930726, 80.5300, -11.0870,  258,      2.0,   2.7280,  31.2200,2,  31.8250,2,-999.0000,    451.6,2,   -999.0,9,     2.52,2,     0.02,2,     0.02,2,     0.67,2,0.080000006,2,   -999.0,9,   -999.0,      -999,9, -999.000, -999.000,9,-999.0000,9,  -999.00,  -999.00,9,   -999.0,9,       -999,9,       -999,9,  -999.00,9,  -999.00,9,     -999,9, 29,   3276,   2.7279
  32L919930718,    22,  1,     11,2,19930726, 80.5300, -11.0870,  258,     11.0,   1.7240,  32.2900,2,-999.0000,9,-999.0000,    471.7,2,   -999.0,9,     1.86,2,    -0.02,2,     0.08,2,     0.69,2,     -0.007,2,   -999.0,9,   -999.0,      -999,9, -999.000, -999.000,9,-999.0000,9,  -999.00,  -999.00,9,   -999.0,9,       -999,9,       -999,9,  -999.00,9,  -999.00,9,     -999,9, 29,   3275,   1.7235
  32L919930718,    22,  1,     10,2,19930726, 80.5300, -11.0870,  258,     23.0,  -1.0520,  32.4030,2,-999.0000,9,-999.0000,    417.6,2,   -999.0,9,     3.37,2,     0.12,2,     0.12,2,     0.86,2,0.109999999,2,   -999.0,9,   -999.0,      -999,9, -999.000, -999.000,9,-999.0000,9,  -999.00,  -999.00,9,   -999.0,9,       -999,9,       -999,9,  -999.00,9,  -999.00,9,     -999,9, 29,   3274,  -1.0525
  32L919930718,    22,  1,      9,2,19930726, 80.5300, -11.0870,  258,     34.0,  -1.7000,  32.4110,2,-999.0000,9,-999.0000,    373.5,2,   -999.0,9,    11.08,2,     3.49,2,     0.14,2,     1.05,2,0.041000001,2,   -999.0,9,   -999.0,      -999,9, -999.000, -999.000,9,-999.0000,9,  -999.00,  -999.00,9,   -999.0,9,       -999,9,       -999,9,  -999.00,9,  -999.00,9,     -999,9, 29,   3273,  -1.7006
  32L919930718,    22,  1,      8,2,19930726, 80.5300, -11.0870,  258,     61.0,  -1.7430,  32.4490,2,-999.0000,9,-999.0000,    367.0,2,   -999.0,9,    11.68,2,     4.20,2,     0.03,2,     1.06,2,0.061000001,2,   -999.0,9,   -999.0,      -999,9, -999.000, -999.000,9,-999.0000,9,  -999.00,  -999.00,9,   -999.0,9,       -999,9,       -999,9,  -999.00,9,  -999.00,9,     -999,9, 29,   3272,  -1.7440
  32L919930718,    22,  1,      7,2,19930726, 80.5300, -11.0870,  258,     76.0,  -1.6980,  32.5410,2,-999.0000,9,-999.0000,    362.1,2,   -999.0,9,    12.52,2,     5.65,2,     0.05,2,     1.04,2,0.109999999,2,   -999.0,9,   -999.0,      -999,9, -999.000, -999.000,9,-999.0000,9,  -999.00,  -999.00,9,   -999.0,9,       -999,9,       -999,9,  -999.00,9,  -999.00,9,     -999,9, 29,   3271,  -1.6993
  32L919930718,    22,  1,      6,2,19930726, 80.5300, -11.0870,  258,    101.0,  -1.5630,  32.9580,2,-999.0000,9,-999.0000,    342.0,2,   -999.0,9,    13.05,2,     6.88,2,     0.09,2,     1.00,2,0.120000005,2,   -999.0,9,   -999.0,      -999,9, -999.000, -999.000,9,-999.0000,9,  -999.00,  -999.00,9,   -999.0,9,       -999,9,       -999,9,  -999.00,9,  -999.00,9,     -999,9, 29,   3270,  -1.5650
  32L919930718,    22,  1,      5,2,19930726, 80.5300, -11.0870,  258,    125.0,  -1.5410,  33.3390,2,-999.0000,9,-999.0000,    331.1,2,   -999.0,9,    13.11,2,     8.07,2,     0.04,2,     1.00,2,0.071000002,2,   -999.0,9,   -999.0,      -999,9, -999.000, -999.000,9,-999.0000,9,  -999.00,  -999.00,9,   -999.0,9,       -999,9,       -999,9,  -999.00,9,  -999.00,9,     -999,9, 29,   3269,  -1.5436
  32L919930718,    22,  1,      4,2,19930726, 80.5300, -11.0870,  258,    151.0,  -0.7040,  34.1160,2,-999.0000,9,-999.0000,    305.8,2,   -999.0,9,    12.06,2,    10.64,2,     0.06,2,     0.97,2,0.071000002,2,   -999.0,9,   -999.0,      -999,9, -999.000, -999.000,9,-999.0000,9,  -999.00,  -999.00,9,   -999.0,9,       -999,9,       -999,9,  -999.00,9,  -999.00,9,     -999,9, 29,   3268,  -0.7085
  32L919930718,    22,  1,      3,2,19930726, 80.5300, -11.0870,  258,    175.0,  -0.4560,  34.2700,2,-999.0000,9,-999.0000,    300.6,2,   -999.0,9,    11.66,2,    11.37,2,     0.13,2,     0.97,2,0.012000002,2,   -999.0,9,   -999.0,      -999,9, -999.000, -999.000,9,-999.0000,9,  -999.00,  -999.00,9,   -999.0,9,       -999,9,       -999,9,  -999.00,9,  -999.00,9,     -999,9, 29,   3267,  -0.4616
  32L919930718,    22,  1,      2,2,19930726, 80.5300, -11.0870,  258,    200.0,   0.1530,  34.5470,2,  34.5380,2,-999.0000,    296.3,2,   -999.0,9,    11.69,2,    12.11,2,    -0.19,2,     0.98,2,0.051000003,2,   -999.0,9,   -999.0,      -999,9, -999.000, -999.000,9,-999.0000,9,  -999.00,  -999.00,9,   -999.0,9,       -999,9,       -999,9,  -999.00,9,  -999.00,9,     -999,9, 29,   3266,   0.1454
  32L919930718,    22,  1,      1,2,19930726, 80.5300, -11.0870,  258,    248.0,   0.3810,  34.7850,2,-999.0000,9,-999.0000,    295.3,2,   -999.0,9,    11.88,2,    12.19,2,     0.15,2,     1.00,2,0.061000001,2,   -999.0,9,   -999.0,      -999,9, -999.000, -999.000,9,-999.0000,9,  -999.00,  -999.00,9,   -999.0,9,       -999,9,       -999,9,  -999.00,9,  -999.00,9,     -999,9, 29,   3265,   0.3709