BOTTLE,20090115PRINUNIVRMK
EXPOCODE,STNNBR,CASTNO,BTLNBR,BTLNBR_FLAG_W,DATE,LATITUDE,LONGITUDE,DEPTH,CTDPRS,CTDTMP,CTDSAL,CTDSAL_FLAG_W,SALNTY,SALNTY_FLAG_W,SOMSAL,CTDOXY,CTDOXY_FLAG_W,OXYGEN,OXYGEN_FLAG_W,SILCAT,SILCAT_FLAG_W,NITRAT,NITRAT_FLAG_W,NITRIT,NITRIT_FLAG_W,PHSPHT,PHSPHT_FLAG_W,AMMONI,AMMONI_FLAG_W,TCARBN,TCARBN_FLAG_W,FCO2,FCO2_TMP,FCO2_FLAG_W,TRITUM,TRITER,TRITUM_FLAG_W,HELIUM,HELIUM_FLAG_W,DELHE3,DELHER,DELHE3_FLAG_W,DELC14,DELC14_FLAG_W,POC,POC_FLAG_W,PON,PON_FLAG_W,CHLORA,CHLORA_FLAG_W,PHAEO,PHAEO_FLAG_W,BACT,BACT_FLAG_W,CTDNO,BNLID,THETA
,,,,,,,,METERS,DBARS,ITS-90,PSS-78,,PSS-78,,PSS-78,UMOL/KG,,UMOL/KG,,UMOL/KG,,UMOL/KG,,UMOL/KG,,UMOL/KG,,UMOL/KG,,UMOL/KG,,UATM,DEGC,,TU,TU,,NMOL/KG,,PERCNT,PERCNT,,O/OO,,ug/kg,,ug/kg,,UG/L,,UG/L,,CELLS/ML,,,,DEGC
  32L919930718,    37,  6,      6,2,19930728, 80.4470, -13.3130,  308,      3.0,   3.0830,  29.2910,2,  29.7340,2,  29.7430,    376.5,2,    380.2,2,     3.54,2,     0.06,2,     0.01,2,     0.63,2,     -0.017,2,   1917.5,2,    481.5,18.1000004,2, -999.000, -999.000,9,-999.0000,9,  -999.00,  -999.00,9,   -999.0,9, 6.79799986,2, 1.05799997,2,     0.42,2,     0.14,2,     -999,9, 50,   3486,   3.0828
  32L919930718,    37,  6,      5,2,19930728, 80.4470, -13.3130,  308,      5.0,   1.5640,  32.1620,2,-999.0000,9,  32.1420,    404.2,2,    404.6,2,     7.60,2,     0.17,2,     0.03,2,     0.81,2,0.002000004,2,   1611.6,2,    601.7,18.1000004,2, -999.000, -999.000,9,-999.0000,9,  -999.00,  -999.00,9,   -999.0,9, 19.9200001,2, 3.17600012,2,     2.15,2,     0.19,2,     -999,9, 50,   3485,   1.5638
  32L919930718,    37,  6,      4,2,19930728, 80.4470, -13.3130,  308,     10.0,   0.9380,  32.2990,2,-999.0000,9,  32.2360,    387.6,2,    396.3,2,     8.98,2,     0.75,2,     0.02,2,     0.89,2,0.041000001,2,   2087.8,2,    651.2,18.1000004,2, -999.000, -999.000,9,-999.0000,9,  -999.00,  -999.00,9,   -999.0,9, 13.4919996,2, 2.60100007,2,     1.82,2,     0.66,2,     -999,9, 50,   3484,   0.9376
  32L919930718,    37,  6,      3,2,19930728, 80.4470, -13.3130,  308,     20.0,  -1.1320,  32.3360,2,-999.0000,9,  32.2740,    381.6,2,    390.8,2,     8.57,2,     1.20,2,     0.01,2,     0.93,2,0.031999998,2,   2093.3,2,    671.5,18.1000004,2, -999.000, -999.000,9,-999.0000,9,  -999.00,  -999.00,9,   -999.0,9,     13.941,2, 2.42600012,2,     1.66,2,     0.33,2,     -999,9, 50,   3483,  -1.1324
  32L919930718,    37,  6,      2,2,19930728, 80.4470, -13.3130,  308,     31.0,  -1.3660,  32.3730,2,-999.0000,9,-999.0000,    378.4,2,    380.8,2,    10.29,2,     2.24,2,     0.04,2,     0.99,2,0.031999998,2,   -999.0,9,   -999.0,      -999,9, -999.000, -999.000,9,-999.0000,9,  -999.00,  -999.00,9,   -999.0,9, 10.6960001,2, 2.01999998,2,     1.28,2,     0.19,2,     -999,9, 50,   3482,  -1.3666
  32L919930718,    37,  6,      1,2,19930728, 80.4470, -13.3130,  308,     40.0,  -1.6180,  32.3870,2,-999.0000,9,  32.3270,    373.0,2,    372.5,2,    11.19,2,     3.43,2,     0.03,2,     1.03,2,0.041000001,2,   2110.6,2,    742.9,18.1000004,2, -999.000, -999.000,9,-999.0000,9,  -999.00,  -999.00,9,   -999.0,9, 3.15400004,2,0.600000024,2,     0.41,2,     0.16,2,     -999,9, 50,   3481,  -1.6187
  32L919930718,    37,  6,     12,2,19930728, 80.4470, -13.3130,  308,     50.0,  -1.7200,  32.4250,2,-999.0000,9,-999.0000,    371.1,2,    369.2,2,    11.26,2,     3.82,2,     0.02,2,     1.06,2,0.031999998,2,   -999.0,9,   -999.0,      -999,9, -999.000, -999.000,9,-999.0000,9,  -999.00,  -999.00,9,   -999.0,9, 1.71099997,2,0.308999985,2,     0.35,2,     0.05,2,     -999,9, 50,   3480,  -1.7208
  32L919930718,    37,  6,     11,2,19930728, 80.4470, -13.3130,  308,     60.0,  -1.7310,  32.4530,2,-999.0000,9,  32.3800,    367.5,2,    365.8,2,    11.72,2,     4.20,2,     0.01,2,     1.07,2,0.012000002,2,   2117.4,2,    767.8,18.1000004,2, -999.000, -999.000,9,-999.0000,9,  -999.00,  -999.00,9,   -999.0,9, 1.66700006,2,0.326999992,2,     0.10,2,     0.04,2,     -999,9, 50,   3479,  -1.7320
  32L919930718,    37,  6,     10,2,19930728, 80.4470, -13.3130,  308,     70.0,  -1.7170,  32.4930,2,-999.0000,9,-999.0000,    362.8,2,    360.9,2,    12.14,2,     4.68,2,     0.01,2,     1.07,2,      0.022,2,   -999.0,9,   -999.0,      -999,9, -999.000, -999.000,9,-999.0000,9,  -999.00,  -999.00,9,   -999.0,9, 1.45299995,2,0.155000001,2,     0.03,2,     0.02,2,     -999,9, 50,   3478,  -1.7182
  32L919930718,    37,  6,      9,2,19930728, 80.4470, -13.3130,  308,     80.0,  -1.6520,  32.6420,2,-999.0000,9,  32.5890,    353.2,2,    352.4,2,    12.65,2,     5.46,2,     0.02,2,     1.06,2,0.041000001,2,   2124.3,2,    799.0,18.1000004,2, -999.000, -999.000,9,-999.0000,9,  -999.00,  -999.00,9,   -999.0,9,       -999,9,       -999,9,     0.01,2,     0.01,2,     -999,9, 50,   3477,  -1.6534
  32L919930718,    37,  6,      8,2,19930728, 80.4470, -13.3130,  308,    100.0,  -1.5470,  33.0190,2,  33.0390,2,  32.9510,    342.8,2,    337.0,2,    13.23,2,     7.12,2,     0.01,2,     1.03,2,0.080000006,2,   2135.2,2,    814.8,18.1000004,2, -999.000, -999.000,9,-999.0000,9,  -999.00,  -999.00,9,   -999.0,9, 1.01100004,2,0.143999994,2,     0.02,2,     0.01,2,     -999,9, 50,   3476,  -1.5490
  32L919930718,    37,  6,      7,2,19930728, 80.4470, -13.3130,  308,    285.0,   0.6460,  34.7330,2,-999.0000,9,-999.0000,    291.4,2,    283.6,2,    12.38,2,    12.96,2,     0.02,2,     1.00,2,0.071000002,2,   -999.0,9,   -999.0,      -999,9, -999.000, -999.000,9,-999.0000,9,  -999.00,  -999.00,9,   -999.0,9, 2.43499994,2,       0.07,2,  -999.00,9,  -999.00,9,     -999,9, 50,   3475,   0.6337
  32L919930718,    37,  7,      4,2,19930728, 80.4470, -13.3130,  308,     16.0,  -0.5070,  32.2460,2,-999.0000,9,-999.0000,    398.6,2,   -999.0,9,  -999.00,9,  -999.00,9,  -999.00,9,  -999.00,9,       -999,9,   -999.0,9,   -999.0,      -999,9, -999.000, -999.000,9,-999.0000,9,  -999.00,  -999.00,9,   -999.0,9,       -999,9,       -999,9,  -999.00,9,  -999.00,9,     -999,9, 51,   3496,  -0.5074
  32L919930718,    37,  7,      5,2,19930728, 80.4470, -13.3130,  308,     16.0,  -0.4290,  32.2630,2,-999.0000,9,-999.0000,    403.0,2,   -999.0,9,  -999.00,9,  -999.00,9,  -999.00,9,  -999.00,9,       -999,9,   -999.0,9,   -999.0,      -999,9, -999.000, -999.000,9,-999.0000,9,  -999.00,  -999.00,9,   -999.0,9, 25.2639999,2, 3.42000008,2,     2.15,2,     0.58,2,     -999,9, 51,   3497,  -0.4294
  32L919930718,    37,  7,      6,2,19930728, 80.4470, -13.3130,  308,     16.0,  -0.4720,  32.2220,2,-999.0000,9,-999.0000,    403.8,2,   -999.0,9,  -999.00,9,  -999.00,9,  -999.00,9,  -999.00,9,       -999,9,   -999.0,9,   -999.0,      -999,9, -999.000, -999.000,9,-999.0000,9,  -999.00,  -999.00,9,   -999.0,9,       -999,9,       -999,9,  -999.00,9,  -999.00,9,     -999,9, 51,   3498,  -0.4724
  32L919930718,    37,  7,      3,2,19930728, 80.4470, -13.3130,  308,     30.0,  -1.5250,  32.3510,2,-999.0000,9,-999.0000,    377.2,2,   -999.0,9,  -999.00,9,  -999.00,9,  -999.00,9,  -999.00,9,       -999,9,   -999.0,9,   -999.0,      -999,9, -999.000, -999.000,9,-999.0000,9,  -999.00,  -999.00,9,   -999.0,9,       -999,9,       -999,9,  -999.00,9,  -999.00,9,     -999,9, 51,   3495,  -1.5255
  32L919930718,    37,  7,      2,2,19930728, 80.4470, -13.3130,  308,     51.0,  -1.7160,  32.4170,2,-999.0000,9,-999.0000,    373.4,2,   -999.0,9,  -999.00,9,  -999.00,9,  -999.00,9,  -999.00,9,       -999,9,   -999.0,9,   -999.0,      -999,9, -999.000, -999.000,9,-999.0000,9,  -999.00,  -999.00,9,   -999.0,9,       -999,9,       -999,9,  -999.00,9,  -999.00,9,     -999,9, 51,   3494,  -1.7168
  32L919930718,    37,  7,      1,2,19930728, 80.4470, -13.3130,  308,    100.0,  -1.5780,  33.0010,2,-999.0000,9,-999.0000,    340.5,2,   -999.0,9,  -999.00,9,  -999.00,9,  -999.00,9,  -999.00,9,       -999,9,   -999.0,9,   -999.0,      -999,9, -999.000, -999.000,9,-999.0000,9,  -999.00,  -999.00,9,   -999.0,9,       -999,9,       -999,9,  -999.00,9,  -999.00,9,     -999,9, 51,   3493,  -1.5799
  32L919930718,    37,  7,     12,2,19930728, 80.4470, -13.3130,  308,    151.0,  -0.5200,  34.2400,2,-999.0000,9,-999.0000,    303.2,2,   -999.0,9,  -999.00,9,  -999.00,9,  -999.00,9,  -999.00,9,       -999,9,   -999.0,9,   -999.0,      -999,9, -999.000, -999.000,9,-999.0000,9,  -999.00,  -999.00,9,   -999.0,9,       -999,9,       -999,9,  -999.00,9,  -999.00,9,     -999,9, 51,   3492,  -0.5247
  32L919930718,    37,  7,     11,2,19930728, 80.4470, -13.3130,  308,    201.0,   0.1700,  34.5840,2,-999.0000,9,-999.0000,    296.9,2,   -999.0,9,  -999.00,9,  -999.00,9,  -999.00,9,  -999.00,9,       -999,9,   -999.0,9,   -999.0,      -999,9, -999.000, -999.000,9,-999.0000,9,  -999.00,  -999.00,9,   -999.0,9,       -999,9,       -999,9,  -999.00,9,  -999.00,9,     -999,9, 51,   3491,   0.1623
  32L919930718,    37,  7,     10,2,19930728, 80.4470, -13.3130,  308,    240.0,   0.5300,  34.6900,2,-999.0000,9,-999.0000,    292.9,2,   -999.0,9,  -999.00,9,  -999.00,9,  -999.00,9,  -999.00,9,       -999,9,   -999.0,9,   -999.0,      -999,9, -999.000, -999.000,9,-999.0000,9,  -999.00,  -999.00,9,   -999.0,9,       -999,9,       -999,9,  -999.00,9,  -999.00,9,     -999,9, 51,   3490,   0.5199
  32L919930718,    37,  7,      9,2,19930728, 80.4470, -13.3130,  308,    250.0,   0.5950,  34.7100,2,-999.0000,9,-999.0000,    293.7,2,   -999.0,9,  -999.00,9,  -999.00,9,  -999.00,9,  -999.00,9,       -999,9,   -999.0,9,   -999.0,      -999,9, -999.000, -999.000,9,-999.0000,9,  -999.00,  -999.00,9,   -999.0,9,       -999,9,       -999,9,  -999.00,9,  -999.00,9,     -999,9, 51,   3489,   0.5844
  32L919930718,    37,  7,      8,2,19930728, 80.4470, -13.3130,  308,    271.0,   0.6450,  34.7320,2,-999.0000,9,-999.0000,    293.8,2,   -999.0,9,  -999.00,9,  -999.00,9,  -999.00,9,  -999.00,9,       -999,9,   -999.0,9,   -999.0,      -999,9, -999.000, -999.000,9,-999.0000,9,  -999.00,  -999.00,9,   -999.0,9,       -999,9,       -999,9,  -999.00,9,  -999.00,9,     -999,9, 51,   3488,   0.6333
  32L919930718,    37,  7,      7,2,19930728, 80.4470, -13.3130,  308,    279.0,   0.6460,  34.7320,2,-999.0000,9,-999.0000,    294.3,2,   -999.0,9,  -999.00,9,  -999.00,9,  -999.00,9,  -999.00,9,       -999,9,   -999.0,9,   -999.0,      -999,9, -999.000, -999.000,9,-999.0000,9,  -999.00,  -999.00,9,   -999.0,9,       -999,9,       -999,9,  -999.00,9,  -999.00,9,     -999,9, 51,   3487,   0.6339
  32L919930718,    37,  9,      6,2,19930728, 80.4470, -13.3130,  308,      2.0,   1.9420,  30.9200,2,  30.4280,2,  30.5890,    389.5,2,    388.5,2,     6.65,2,     0.10,2,     0.00,2,     0.04,3,       0.07,2,   1981.2,2,    554.8,17.2999992,2, -999.000, -999.000,9,-999.0000,9,  -999.00,  -999.00,9,   -999.0,9,  9.1239996,2, 1.48699999,2,     0.42,2,     0.14,2,     -999,9, 53,   3510,   1.9419
  32L919930718,    37,  9,      5,2,19930728, 80.4470, -13.3130,  308,      5.0,   1.3780,  31.8800,2,-999.0000,9,  31.9800,    394.0,2,    397.3,2,     9.40,2,     0.74,2,     0.03,2,     0.68,2,0.001999997,2,   2071.6,2,    631.8,17.2999992,2, -999.000, -999.000,9,-999.0000,9,  -999.00,  -999.00,9,   -999.0,9, 15.8439999,2, 2.95900011,2,     0.09,2,     0.05,2,     -999,9, 53,   3509,   1.3778
  32L919930718,    37,  9,      4,2,19930728, 80.4470, -13.3130,  308,     10.0,   0.9980,  32.2370,2,-999.0000,9,  32.2300,    400.3,2,    401.4,2,     8.31,2,     0.54,2,     0.00,2,     0.82,2,     -0.086,2,   2081.4,2,    619.5,17.2999992,2, -999.000, -999.000,9,-999.0000,9,  -999.00,  -999.00,9,   -999.0,9,     18.507,2, 3.02099991,2,     1.50,2,     0.46,2,     -999,9, 53,   3508,   0.9976
  32L919930718,    37,  9,      3,2,19930728, 80.4470, -13.3130,  308,     20.0,  -1.5920,  32.3160,2,-999.0000,9,  32.2590,    371.5,2,    372.4,2,    11.14,2,     3.56,2,     0.03,2,     0.99,2,     -0.047,2,   2108.8,2,    741.5,17.2999992,2, -999.000, -999.000,9,-999.0000,9,  -999.00,  -999.00,9,   -999.0,9, 3.11899996,2,0.495000005,2,     0.40,2,     0.11,2,     -999,9, 53,   3507,  -1.5923
  32L919930718,    37,  9,      2,2,19930728, 80.4470, -13.3130,  308,     30.0,  -1.6790,  32.3560,2,-999.0000,9,-999.0000,    369.7,2,    372.0,2,    11.21,2,     3.65,2,     0.03,2,     1.00,2,     -0.018,2,   -999.0,9,   -999.0,      -999,9, -999.000, -999.000,9,-999.0000,9,  -999.00,  -999.00,9,   -999.0,9, 2.58699989,2,0.423999995,2,     0.27,2,     0.09,2,     -999,9, 53,   3506,  -1.6795
  32L919930718,    37,  9,      1,2,19930728, 80.4470, -13.3130,  308,     40.0,  -1.7070,  32.3930,2,-999.0000,9,  32.3530,    369.0,2,    369.9,2,    11.27,2,     3.86,2,     0.02,2,     1.00,2,0.021000002,2,   2115.2,2,    744.6,17.2999992,2, -999.000, -999.000,9,-999.0000,9,  -999.00,  -999.00,9,   -999.0,9, 1.84000003,2,0.275000006,2,     0.18,2,     0.07,2,     -999,9, 53,   3505,  -1.7077
  32L919930718,    37,  9,     12,2,19930728, 80.4470, -13.3130,  308,     50.0,  -1.7300,  32.4180,2,-999.0000,9,-999.0000,    369.7,2,    369.7,2,    11.31,2,     3.93,2,     0.02,2,     1.00,2,      0.011,2,   -999.0,9,   -999.0,      -999,9, -999.000, -999.000,9,-999.0000,9,  -999.00,  -999.00,9,   -999.0,9, 1.23599994,2,0.194999993,2,     0.11,2,     0.06,2,     -999,9, 53,   3504,  -1.7308
  32L919930718,    37,  9,     11,2,19930728, 80.4470, -13.3130,  308,     60.0,  -1.7470,  32.4320,2,-999.0000,9,  32.3920,    368.8,2,    366.0,2,    11.52,2,     4.29,2,     0.01,2,     1.00,2,     -0.008,2,   2119.4,2,    758.6,17.2999992,2, -999.000, -999.000,9,-999.0000,9,  -999.00,  -999.00,9,   -999.0,9, 3.34200001,2,0.291000009,2,     0.10,2,     0.04,2,     -999,9, 53,   3503,  -1.7480
  32L919930718,    37,  9,     10,2,19930728, 80.4470, -13.3130,  308,     70.0,  -1.7290,  32.4640,2,-999.0000,9,-999.0000,    364.6,2,    361.3,2,    11.90,2,     4.63,2,     0.01,2,     1.00,2,0.030999999,2,   -999.0,9,   -999.0,      -999,9, -999.000, -999.000,9,-999.0000,9,  -999.00,  -999.00,9,   -999.0,9, 1.94000006,2,0.241999999,2,     0.08,2,     0.03,2,     -999,9, 53,   3502,  -1.7302
  32L919930718,    37,  9,      9,2,19930728, 80.4470, -13.3130,  308,     80.0,  -1.6880,  32.5570,2,-999.0000,9,  32.5370,    357.2,2,   -999.0,9,    12.35,2,     5.37,2,     0.01,2,     1.00,2,0.001999997,2,   2124.0,2,    780.0,17.2999992,2, -999.000, -999.000,9,-999.0000,9,  -999.00,  -999.00,9,   -999.0,9, 1.85500002,2,0.166999996,2,     0.94,2,     0.32,3,     -999,9, 53,   3501,  -1.6894
  32L919930718,    37,  9,      8,2,19930728, 80.4470, -13.3130,  308,    100.0,  -1.5780,  32.9420,2,  33.1570,2,  33.1120,    340.6,2,    328.9,2,    13.24,2,     7.94,2,     0.01,2,     0.95,2,0.021000002,2,   2139.5,2,    809.4,17.2999992,2, -999.000, -999.000,9,-999.0000,9,  -999.00,  -999.00,9,   -999.0,9,0.479999989,2,0.037999999,2,     0.08,2,     0.05,2,     -999,9, 53,   3500,  -1.5800
  32L919930718,    37,  9,      7,2,19930728, 80.4470, -13.3130,  308,    286.0,   0.6200,  34.7340,2,-999.0000,9,-999.0000,    285.5,2,    282.6,2,    12.25,2,    13.24,2,     0.01,2,     0.93,2,0.041000001,2,   -999.0,9,   -999.0,      -999,9, -999.000, -999.000,9,-999.0000,9,  -999.00,  -999.00,9,   -999.0,9, 1.33700001,2,0.054000001,2,     0.03,2,     0.01,2,     -999,9, 53,   3499,   0.6077
  32L919930718,    37, 10,      7,2,19930728, 80.4470, -13.3130,  308,     15.0,  -0.7140,  32.2830,2,-999.0000,9,-999.0000,    389.6,2,   -999.0,9,  -999.00,9,  -999.00,9,  -999.00,9,  -999.00,9,       -999,9,   -999.0,9,   -999.0,      -999,9, -999.000, -999.000,9,-999.0000,9,  -999.00,  -999.00,9,   -999.0,9, 14.1269999,2, 2.61899996,2,     7.77,2,    -2.57,4,     -999,9, 54,   3511,  -0.7144
  32L919930718,    37, 10,      8,2,19930728, 80.4470, -13.3130,  308,     15.0,  -0.8130,  32.2840,2,-999.0000,9,-999.0000,    388.6,2,   -999.0,9,  -999.00,9,  -999.00,9,  -999.00,9,  -999.00,9,       -999,9,   -999.0,9,   -999.0,      -999,9, -999.000, -999.000,9,-999.0000,9,  -999.00,  -999.00,9,   -999.0,9,       -999,9,       -999,9,  -999.00,9,  -999.00,9,     -999,9, 54,   3512,  -0.8134