BOTTLE,20090115PRINUNIVRMK
EXPOCODE,STNNBR,CASTNO,BTLNBR,BTLNBR_FLAG_W,DATE,LATITUDE,LONGITUDE,DEPTH,CTDPRS,CTDTMP,CTDSAL,CTDSAL_FLAG_W,SALNTY,SALNTY_FLAG_W,SOMSAL,CTDOXY,CTDOXY_FLAG_W,OXYGEN,OXYGEN_FLAG_W,SILCAT,SILCAT_FLAG_W,NITRAT,NITRAT_FLAG_W,NITRIT,NITRIT_FLAG_W,PHSPHT,PHSPHT_FLAG_W,AMMONI,AMMONI_FLAG_W,TCARBN,TCARBN_FLAG_W,FCO2,FCO2_TMP,FCO2_FLAG_W,TRITUM,TRITER,TRITUM_FLAG_W,HELIUM,HELIUM_FLAG_W,DELHE3,DELHER,DELHE3_FLAG_W,DELC14,DELC14_FLAG_W,POC,POC_FLAG_W,PON,PON_FLAG_W,CHLORA,CHLORA_FLAG_W,PHAEO,PHAEO_FLAG_W,BACT,BACT_FLAG_W,CTDNO,BNLID,THETA
,,,,,,,,METERS,DBARS,ITS-90,PSS-78,,PSS-78,,PSS-78,UMOL/KG,,UMOL/KG,,UMOL/KG,,UMOL/KG,,UMOL/KG,,UMOL/KG,,UMOL/KG,,UMOL/KG,,UATM,DEGC,,TU,TU,,NMOL/KG,,PERCNT,PERCNT,,O/OO,,ug/kg,,ug/kg,,UG/L,,UG/L,,CELLS/ML,,,,DEGC
  32L919930718,    13,  1,     10,2,19930725, 80.6680, -15.1970,   79,      2.0,  -0.1960,  30.2410,2,-999.0000,9,  29.4830,    457.0,2,    449.8,2,     1.01,2,    -0.08,2,     0.17,2,     0.73,2,0.168000013,2,   1899.3,2,    408.1,18.1000004,2, -999.000, -999.000,9,-999.0000,9,  -999.00,  -999.00,9,      0.2,2, 26.6210003,2, 2.66100001,2,     0.12,2,     0.01,2,   165000,2, 19,   3190,  -0.1961
  32L919930718,    13,  1,     11,2,19930725, 80.6680, -15.1970,   79,      2.0,  -0.1930,  30.2410,2,-999.0000,9,  28.6160,    458.8,2,    453.0,2,     2.71,2,     0.85,2,     0.14,2,     0.31,2,0.978000045,2,   1845.6,2,    380.4,18.1000004,2, -999.000, -999.000,9,-999.0000,9,  -999.00,  -999.00,9,   -999.0,9, 23.6720009,2, 2.33699989,2,     0.06,2,     0.01,2,   162000,2, 19,   3191,  -0.1931
  32L919930718,    13,  1,     12,2,19930725, 80.6680, -15.1970,   79,      2.0,  -0.1670,  30.1850,2,  11.6210,0,  28.8130,    458.9,2,    453.6,2,     2.69,2,     0.86,2,     0.15,2,     0.31,2,0.967999995,2,   1851.9,2,    365.8,18.1000004,2, -999.000, -999.000,9,-999.0000,9,  -999.00,  -999.00,9,      0.3,2, 20.1450005,2, 2.22199988,2,     0.04,2,     0.01,2,     -999,9, 19,   3192,  -0.1671
  32L919930718,    13,  1,      9,2,19930725, 80.6680, -15.1970,   79,      3.0,  -0.4120,  30.5480,2,-999.0000,9,  30.3350,    451.6,2,    443.6,2,     1.03,2,     0.02,2,     0.07,2,     0.76,2,0.090000004,2,   1960.3,2,    449.9,18.1000004,2, -999.000, -999.000,9,-999.0000,9,  -999.00,  -999.00,9,      2.5,2, 29.5049992,2,  3.1559999,2,     1.28,2,     0.02,2,   185000,2, 19,   3189,  -0.4121
  32L919930718,    13,  1,      8,2,19930725, 80.6680, -15.1970,   79,      5.0,  -0.6790,  30.8090,2,-999.0000,9,  30.7820,    447.9,2,    434.9,2,     1.21,2,     0.03,2,     0.03,2,     0.75,2,     -0.046,2,   1986.5,2,    483.1,18.1000004,2, -999.000, -999.000,9,-999.0000,9,  -999.00,  -999.00,9,      3.2,2, 35.7389984,2, 4.01900005,2,     1.69,2,     0.09,2,   144000,2, 19,   3188,  -0.6791
  32L919930718,    13,  1,      7,2,19930725, 80.6680, -15.1970,   79,      8.0,  -0.7290,  30.8550,2,-999.0000,9,  30.9830,    446.1,2,    425.6,2,     1.63,2,     0.02,2,     0.11,2,     0.76,2,     -0.017,2,   2002.2,2,    508.9,18.1000004,2, -999.000, -999.000,9,-999.0000,9,  -999.00,  -999.00,9,      2.9,2, 21.1030006,2, 2.48300004,2,     1.53,2,     0.07,2,   172000,2, 19,   3187,  -0.7292
  32L919930718,    13,  1,      6,2,19930725, 80.6680, -15.1970,   79,     12.0,  -0.6330,  31.0090,2,-999.0000,9,  31.1730,    440.3,2,    412.0,2,     2.94,2,     0.30,2,     0.06,2,     0.79,2,0.051000003,2,   2028.8,2,    561.8,18.1000004,2, -999.000, -999.000,9,-999.0000,9,  -999.00,  -999.00,9,      0.6,2, 38.6559982,2, 3.67400002,2,     1.30,2,     0.19,2,   191000,2, 19,   3186,  -0.6333
  32L919930718,    13,  1,      5,2,19930725, 80.6680, -15.1970,   79,     20.0,  -0.9730,  31.2020,2,-999.0000,9,  31.4950,    424.6,2,    401.9,2,     4.48,2,     0.67,2,     0.05,2,     0.82,2,0.002000004,2,   2051.3,2,    597.6,18.1000004,2, -999.000, -999.000,9,-999.0000,9,  -999.00,  -999.00,9,      0.0,2, 14.7799997,2, 2.03800011,2,     1.07,2,     0.11,2,   252000,2, 19,   3185,  -0.9734
  32L919930718,    13,  1,      4,2,19930725, 80.6680, -15.1970,   79,     30.0,  -1.0920,  31.9380,2,-999.0000,9,  31.8970,    401.9,2,    381.3,2,     8.49,2,     2.42,2,     0.05,2,     0.92,2,0.031999998,2,   2086.2,2,    671.5,18.1000004,2, -999.000, -999.000,9,-999.0000,9,  -999.00,  -999.00,9,   -999.0,9,  8.0710001,2, 1.06599998,2,     0.43,2,     0.12,2,   213000,2, 19,   3184,  -1.0926
  32L919930718,    13,  1,      3,2,19930725, 80.6680, -15.1970,   79,     40.0,  -1.5020,  32.2340,2,-999.0000,9,  32.1260,    380.2,2,    368.5,2,    10.38,2,     3.38,2,     0.04,2,     0.97,2,0.051000003,2,   2105.3,2,    735.6,18.1000004,2, -999.000, -999.000,9,-999.0000,9,  -999.00,  -999.00,9,   -999.0,9,  3.7019999,2,0.370999992,2,     0.41,2,     0.11,2,   175000,2, 19,   3183,  -1.5027
  32L919930718,    13,  1,      2,2,19930725, 80.6680, -15.1970,   79,     50.0,  -1.6400,  32.4190,2,  32.4030,2,  32.2320,    370.9,2,    360.9,2,    12.07,2,     4.33,2,     0.03,2,     1.00,2,0.061000001,2,   2114.9,2,    760.9,18.1000004,2, -999.000, -999.000,9,-999.0000,9,  -999.00,  -999.00,9,   -999.0,9, 2.27999997,2,0.199000001,2,     0.18,2,     0.06,2,   109000,2, 19,   3182,  -1.6409
  32L919930718,    13,  1,      1,2,19930725, 80.6680, -15.1970,   79,     69.0,  -1.3600,  33.0950,2,-999.0000,9,  32.7920,    344.0,2,    336.2,2,    13.60,2,     7.06,2,     0.02,2,     1.00,2,0.120000005,2,   2131.8,2,    802.2,18.1000004,2, -999.000, -999.000,9,-999.0000,9,  -999.00,  -999.00,9,   -999.0,9, 2.14299989,2,0.137999997,2,     0.03,2,     0.04,2,    97300,2, 19,   3181,  -1.3615
  32L919930718,    14,  1,     12,2,19930725, 80.5310, -14.7030,  210,      2.0,   0.4610,  31.8650,2,  29.7310,2,-999.0000,    461.7,2,   -999.0,9,  -999.00,9,  -999.00,9,  -999.00,9,  -999.00,9,       -999,9,   -999.0,9,   -999.0,      -999,9, -999.000, -999.000,9,-999.0000,9,  -999.00,  -999.00,9,   -999.0,9,       -999,9,       -999,9,  -999.00,9,  -999.00,9,     -999,9, 20,   3204,   0.4609
  32L919930718,    14,  1,     11,2,19930725, 80.5310, -14.7030,  210,     10.0,  -1.1420,  32.1100,2,  32.1520,2,-999.0000,    433.3,2,   -999.0,9,  -999.00,9,  -999.00,9,  -999.00,9,  -999.00,9,       -999,9,   -999.0,9,   -999.0,      -999,9, -999.000, -999.000,9,-999.0000,9,  -999.00,  -999.00,9,   -999.0,9,       -999,9,       -999,9,  -999.00,9,  -999.00,9,     -999,9, 20,   3203,  -1.1422
  32L919930718,    14,  1,     10,2,19930725, 80.5310, -14.7030,  210,     20.0,  -1.5730,  32.1880,2,  32.2490,2,-999.0000,    406.5,2,   -999.0,9,  -999.00,9,  -999.00,9,  -999.00,9,  -999.00,9,       -999,9,   -999.0,9,   -999.0,      -999,9, -999.000, -999.000,9,-999.0000,9,  -999.00,  -999.00,9,   -999.0,9,       -999,9,       -999,9,  -999.00,9,  -999.00,9,     -999,9, 20,   3202,  -1.5733
  32L919930718,    14,  1,      9,2,19930725, 80.5310, -14.7030,  210,     35.0,  -1.6750,  32.3060,2,  32.3760,2,-999.0000,    369.5,2,   -999.0,9,  -999.00,9,  -999.00,9,  -999.00,9,  -999.00,9,       -999,9,   -999.0,9,   -999.0,      -999,9, -999.000, -999.000,9,-999.0000,9,  -999.00,  -999.00,9,   -999.0,9,       -999,9,       -999,9,  -999.00,9,  -999.00,9,     -999,9, 20,   3201,  -1.6756
  32L919930718,    14,  1,      8,2,19930725, 80.5310, -14.7030,  210,     49.0,  -1.6860,  32.3710,2,  32.4360,2,-999.0000,    367.6,2,   -999.0,9,  -999.00,9,  -999.00,9,  -999.00,9,  -999.00,9,       -999,9,   -999.0,9,   -999.0,      -999,9, -999.000, -999.000,9,-999.0000,9,  -999.00,  -999.00,9,   -999.0,9,       -999,9,       -999,9,  -999.00,9,  -999.00,9,     -999,9, 20,   3200,  -1.6868
  32L919930718,    14,  1,      7,2,19930725, 80.5310, -14.7030,  210,     60.0,  -1.6830,  32.4560,2,  32.6220,2,-999.0000,    361.9,2,   -999.0,9,  -999.00,9,  -999.00,9,  -999.00,9,  -999.00,9,       -999,9,   -999.0,9,   -999.0,      -999,9, -999.000, -999.000,9,-999.0000,9,  -999.00,  -999.00,9,   -999.0,9,       -999,9,       -999,9,  -999.00,9,  -999.00,9,     -999,9, 20,   3199,  -1.6840
  32L919930718,    14,  1,      6,2,19930725, 80.5310, -14.7030,  210,     74.0,  -1.5530,  32.8190,2,  33.0280,2,-999.0000,    349.5,2,   -999.0,9,  -999.00,9,  -999.00,9,  -999.00,9,  -999.00,9,       -999,9,   -999.0,9,   -999.0,      -999,9, -999.000, -999.000,9,-999.0000,9,  -999.00,  -999.00,9,   -999.0,9,       -999,9,       -999,9,  -999.00,9,  -999.00,9,     -999,9, 20,   3198,  -1.5544
  32L919930718,    14,  1,      5,2,19930725, 80.5310, -14.7030,  210,    100.0,  -0.8300,  33.7950,2,  33.8780,2,-999.0000,    313.7,2,   -999.0,9,  -999.00,9,  -999.00,9,  -999.00,9,  -999.00,9,       -999,9,   -999.0,9,   -999.0,      -999,9,    3.400,    0.051,2,   1.8470,2,     5.00,     0.20,2,   -999.0,9,       -999,9,       -999,9,  -999.00,9,  -999.00,9,     -999,9, 20,   3197,  -0.8327
  32L919930718,    14,  1,      4,2,19930725, 80.5310, -14.7030,  210,    125.0,  -0.1610,  34.3410,2,  34.3870,2,-999.0000,    296.3,2,   -999.0,9,  -999.00,9,  -999.00,9,  -999.00,9,  -999.00,9,       -999,9,   -999.0,9,   -999.0,      -999,9, -999.000, -999.000,9,-999.0000,9,  -999.00,  -999.00,9,   -999.0,9,       -999,9,       -999,9,  -999.00,9,  -999.00,9,     -999,9, 20,   3196,  -0.1653
  32L919930718,    14,  1,      3,2,19930725, 80.5310, -14.7030,  210,    149.0,   0.1900,  34.5380,2,  34.5520,2,-999.0000,    293.8,2,   -999.0,9,  -999.00,9,  -999.00,9,  -999.00,9,  -999.00,9,       -999,9,   -999.0,9,   -999.0,      -999,9, -999.000, -999.000,9,-999.0000,9,  -999.00,  -999.00,9,   -999.0,9,       -999,9,       -999,9,  -999.00,9,  -999.00,9,     -999,9, 20,   3195,   0.1843
  32L919930718,    14,  1,      2,2,19930725, 80.5310, -14.7030,  210,    175.0,   0.3960,  34.6520,2,  34.6680,2,-999.0000,    292.4,2,   -999.0,9,  -999.00,9,  -999.00,9,  -999.00,9,  -999.00,9,       -999,9,   -999.0,9,   -999.0,      -999,9, -999.000, -999.000,9,-999.0000,9,  -999.00,  -999.00,9,   -999.0,9,       -999,9,       -999,9,  -999.00,9,  -999.00,9,     -999,9, 20,   3194,   0.3890
  32L919930718,    14,  1,      1,2,19930725, 80.5310, -14.7030,  210,    200.0,   0.4250,  34.6820,2,  34.7260,2,-999.0000,    293.2,2,   -999.0,9,  -999.00,9,  -999.00,9,  -999.00,9,  -999.00,9,       -999,9,   -999.0,9,   -999.0,      -999,9,    2.770,    0.042,2,   1.7980,2,     0.60,     0.20,2,   -999.0,9,       -999,9,       -999,9,  -999.00,9,  -999.00,9,     -999,9, 20,   3193,   0.4169
  32L919930718,    16,  1,     12,2,19930725, 80.5110, -14.5150,  253,      2.0,   0.9820,  31.3390,2,  29.5020,2,-999.0000,    444.8,2,    430.5,2,     3.05,2,     0.16,2,    -0.01,2,     0.66,2,0.002999991,2,   -999.0,9,   -999.0,      -999,9, -999.000, -999.000,9,-999.0000,9,  -999.00,  -999.00,9,      1.1,2,       -999,9,       -999,9,     0.08,2,     0.01,2,   132000,2, 22,   3216,   0.9819
  32L919930718,    16,  1,     11,2,19930725, 80.5110, -14.5150,  253,      4.0,   0.7680,  31.5480,2,-999.0000,9,-999.0000,    444.4,2,    421.4,2,     5.42,2,     0.91,2,     0.02,2,     0.79,2,0.002999991,2,   -999.0,9,   -999.0,      -999,9, -999.000, -999.000,9,-999.0000,9,  -999.00,  -999.00,9,      0.8,2, 7.23199987,2, 0.80400002,2,     0.11,2,     0.06,2,   123000,2, 22,   3215,   0.7679
  32L919930718,    16,  1,     10,2,19930725, 80.5110, -14.5150,  253,      7.0,   1.1350,  31.4340,2,-999.0000,9,-999.0000,    442.6,2,    422.5,2,     5.53,2,     0.86,2,     0.02,2,     0.78,2,-0.02600001,2,   -999.0,9,   -999.0,      -999,9, -999.000, -999.000,9,-999.0000,9,  -999.00,  -999.00,9,      1.2,2, 6.18300009,2,0.855000019,2,     0.14,2,     0.03,2,   129000,2, 22,   3214,   1.1347
  32L919930718,    16,  1,      9,2,19930725, 80.5110, -14.5150,  253,     11.0,  -0.8880,  32.0520,2,-999.0000,9,-999.0000,    418.1,2,    380.6,2,    10.80,2,     2.94,2,     0.05,2,     0.95,2,0.041999996,2,   -999.0,9,   -999.0,      -999,9, -999.000, -999.000,9,-999.0000,9,  -999.00,  -999.00,9,      1.9,2, 4.29799986,2,0.409999996,2,     0.26,2,     0.07,2,   133000,2, 22,   3213,  -0.8882
  32L919930718,    16,  1,      8,2,19930725, 80.5110, -14.5150,  253,     15.0,  -1.2010,  32.1360,2,-999.0000,9,-999.0000,    378.2,2,    373.2,2,    11.77,2,     3.43,2,     0.05,2,     0.99,2,0.002999991,2,   -999.0,9,   -999.0,      -999,9, -999.000, -999.000,9,-999.0000,9,  -999.00,  -999.00,9,      1.5,2,  4.5539999,2,0.591000021,2,     0.26,2,     0.06,2,   125000,2, 22,   3212,  -1.2013
  32L919930718,    16,  1,      7,2,19930725, 80.5110, -14.5150,  253,     24.0,  -1.6240,  32.2030,2,-999.0000,9,-999.0000,    378.0,2,    372.0,2,    11.91,2,     3.52,2,     0.08,2,     1.00,2,0.012999997,2,   -999.0,9,   -999.0,      -999,9, -999.000, -999.000,9,-999.0000,9,  -999.00,  -999.00,9,      0.3,2, 3.69400001,2,0.532000005,2,     0.23,2,     0.08,2,   114000,2, 22,   3211,  -1.6244
  32L919930718,    16,  1,      6,2,19930725, 80.5110, -14.5150,  253,     37.0,  -1.6490,  32.2650,2,-999.0000,9,-999.0000,    375.7,2,    358.2,2,    12.54,2,     5.03,2,     0.02,2,     1.02,2,     -0.007,2,   -999.0,9,   -999.0,      -999,9, -999.000, -999.000,9,-999.0000,9,  -999.00,  -999.00,9,      0.1,2, 3.85299993,2,0.245000005,2,     0.09,2,     0.04,2,    82400,2, 22,   3210,  -1.6496
  32L919930718,    16,  1,      5,2,19930725, 80.5110, -14.5150,  253,     50.0,  -1.7190,  32.3750,2,-999.0000,9,-999.0000,    371.1,2,    362.9,2,    12.55,2,     4.41,2,     0.00,2,     1.04,2,0.012999997,2,   -999.0,9,   -999.0,      -999,9, -999.000, -999.000,9,-999.0000,9,  -999.00,  -999.00,9,   -999.0,9, 3.22799993,2,0.086000003,2,     0.08,2,     0.04,2,    73700,2, 22,   3209,  -1.7198
  32L919930718,    16,  1,      4,2,19930725, 80.5110, -14.5150,  253,    101.0,  -1.0760,  33.8150,2,-999.0000,9,-999.0000,    315.2,2,   -999.0,9,    13.14,2,    10.18,2,    -0.01,2,     0.96,2,0.012999997,2,   -999.0,9,   -999.0,      -999,9, -999.000, -999.000,9,-999.0000,9,  -999.00,  -999.00,9,   -999.0,9,0.911000013,2,0.136999995,2,     0.08,2,     0.03,2,    55700,2, 22,   3208,  -1.0785
  32L919930718,    16,  1,      3,2,19930725, 80.5110, -14.5150,  253,    150.0,   0.1680,  34.5230,2,-999.0000,9,-999.0000,    290.2,2,    287.2,2,    12.64,2,    12.79,2,     0.01,2,     0.97,2,     -0.016,2,   -999.0,9,   -999.0,      -999,9, -999.000, -999.000,9,-999.0000,9,  -999.00,  -999.00,9,   -999.0,9,      3.852,2,0.256000012,2,     0.02,2,     0.03,2,    56400,2, 22,   3207,   0.1623
  32L919930718,    16,  1,      2,2,19930725, 80.5110, -14.5150,  253,    201.0,   0.4900,  34.7030,2,  34.7170,2,-999.0000,    286.1,2,    283.1,2,  -999.00,9,  -999.00,9,  -999.00,9,  -999.00,9,       -999,9,   -999.0,9,   -999.0,      -999,9, -999.000, -999.000,9,-999.0000,9,  -999.00,  -999.00,9,   -999.0,9, 2.77699995,2,0.090999998,2,     0.02,2,     0.01,2,    89700,2, 22,   3206,   0.4817
  32L919930718,    16,  1,      1,2,19930725, 80.5110, -14.5150,  253,    243.0,   0.4780,  34.7250,2,-999.0000,9,-999.0000,    287.4,2,    282.3,2,    12.97,2,    13.12,2,     0.02,2,     0.99,2,-0.02600001,2,   -999.0,9,   -999.0,      -999,9, -999.000, -999.000,9,-999.0000,9,  -999.00,  -999.00,9,   -999.0,9, 1.17400002,2,0.039000001,2,  -999.00,9,  -999.00,9,    97000,2, 22,   3205,   0.4679
  32L919930718,    17,  1,     11,2,19930725, 80.4880, -13.2090,  304,      2.0,   0.9420,  31.9960,2,  31.9510,2,  31.6810,    371.9,2,    377.0,2,    10.28,2,     2.19,2,     0.04,2,     0.90,2,0.022999994,2,   2076.3,2,    671.2,        17,2, -999.000, -999.000,9,-999.0000,9,  -999.00,  -999.00,9,   -999.0,9,       -999,9,       -999,9,  -999.00,9,  -999.00,9,     -999,9, 23,   3227,   0.9419
  32L919930718,    17,  1,     12,2,19930725, 80.4880, -13.2090,  304,      2.0,   0.8500,  31.8470,2,-999.0000,9,-999.0000,    373.0,2,   -999.0,9,  -999.00,9,  -999.00,9,  -999.00,9,  -999.00,9,       -999,9,   -999.0,9,   -999.0,      -999,9, -999.000, -999.000,9,-999.0000,9,  -999.00,  -999.00,9,   -999.0,9,       -999,9,       -999,9,  -999.00,9,  -999.00,9,     -999,9, 23,   3228,   0.8499
  32L919930718,    17,  1,      9,2,19930725, 80.4880, -13.2090,  304,     20.0,  -1.4610,  32.3180,2,  32.3440,2,  32.1980,    371.7,2,    372.9,2,    11.55,2,     3.63,2,     0.05,2,     1.00,2,0.012999997,2,   2110.9,2,    729.0,        17,2, -999.000, -999.000,9,-999.0000,9,  -999.00,  -999.00,9,   -999.0,9,       -999,9,       -999,9,  -999.00,9,  -999.00,9,     -999,9, 23,   3225,  -1.4614
  32L919930718,    17,  1,     10,2,19930725, 80.4880, -13.2090,  304,     20.0,  -1.5610,  32.3160,2,-999.0000,9,-999.0000,    372.4,2,   -999.0,9,  -999.00,9,  -999.00,9,  -999.00,9,  -999.00,9,       -999,9,   -999.0,9,   -999.0,      -999,9, -999.000, -999.000,9,-999.0000,9,  -999.00,  -999.00,9,   -999.0,9,       -999,9,       -999,9,  -999.00,9,  -999.00,9,     -999,9, 23,   3226,  -1.5613
  32L919930718,    17,  1,      7,2,19930725, 80.4880, -13.2090,  304,     75.0,  -1.7230,  32.4900,2,  32.5260,2,  32.4130,    364.3,2,    361.7,2,    12.15,2,     4.74,2,     0.00,2,     1.04,2,0.012999997,2,   2120.8,2,   -999.0,      -999,9, -999.000, -999.000,9,-999.0000,9,  -999.00,  -999.00,9,   -999.0,9,       -999,9,       -999,9,  -999.00,9,  -999.00,9,     -999,9, 23,   3223,  -1.7243
  32L919930718,    17,  1,      8,2,19930725, 80.4880, -13.2090,  304,     75.0,  -1.7210,  32.4910,2,-999.0000,9,-999.0000,    364.9,2,   -999.0,9,  -999.00,9,  -999.00,9,  -999.00,9,  -999.00,9,       -999,9,   -999.0,9,   -999.0,      -999,9, -999.000, -999.000,9,-999.0000,9,  -999.00,  -999.00,9,   -999.0,9,       -999,9,       -999,9,  -999.00,9,  -999.00,9,     -999,9, 23,   3224,  -1.7223
  32L919930718,    17,  1,      5,2,19930725, 80.4880, -13.2090,  304,    125.0,  -0.9570,  33.9210,2,  33.8920,2,  33.5880,    309.7,2,    308.6,2,    12.38,2,    10.61,2,     0.00,2,     0.94,2,     -0.016,2,   2141.1,2,    747.3,        17,2, -999.000, -999.000,9,-999.0000,9,  -999.00,  -999.00,9,   -999.0,9,       -999,9,       -999,9,  -999.00,9,  -999.00,9,     -999,9, 23,   3221,  -0.9603
  32L919930718,    17,  1,      6,2,19930725, 80.4880, -13.2090,  304,    126.0,  -0.8910,  33.9280,2,-999.0000,9,-999.0000,    308.3,2,   -999.0,9,  -999.00,9,  -999.00,9,  -999.00,9,  -999.00,9,       -999,9,   -999.0,9,   -999.0,      -999,9, -999.000, -999.000,9,-999.0000,9,  -999.00,  -999.00,9,   -999.0,9,       -999,9,       -999,9,  -999.00,9,  -999.00,9,     -999,9, 23,   3222,  -0.8944
  32L919930718,    17,  1,      3,2,19930725, 80.4880, -13.2090,  304,    200.0,   0.3320,  34.6120,2,  34.6110,2,  34.3230,    286.3,2,    287.0,2,    11.97,2,    13.23,2,     0.00,2,     0.95,2,     -0.016,2,   2148.6,2,    709.3,        17,2, -999.000, -999.000,9,-999.0000,9,  -999.00,  -999.00,9,   -999.0,9,       -999,9,       -999,9,  -999.00,9,  -999.00,9,     -999,9, 23,   3219,   0.3241
  32L919930718,    17,  1,      4,2,19930725, 80.4880, -13.2090,  304,    201.0,   0.3330,  34.6130,2,-999.0000,9,-999.0000,    286.4,2,   -999.0,9,  -999.00,9,  -999.00,9,  -999.00,9,  -999.00,9,       -999,9,   -999.0,9,   -999.0,      -999,9, -999.000, -999.000,9,-999.0000,9,  -999.00,  -999.00,9,   -999.0,9,       -999,9,       -999,9,  -999.00,9,  -999.00,9,     -999,9, 23,   3220,   0.3250
  32L919930718,    17,  1,      1,2,19930725, 80.4880, -13.2090,  304,    294.0,   0.3960,  34.7830,2,  34.8190,2,  34.5420,    281.4,2,    280.9,2,    12.41,2,    13.41,2,     0.01,2,     0.96,2,0.041999996,2,   2155.3,2,    711.5,        17,2, -999.000, -999.000,9,-999.0000,9,  -999.00,  -999.00,9,   -999.0,9,       -999,9,       -999,9,  -999.00,9,  -999.00,9,     -999,9, 23,   3217,   0.3838
  32L919930718,    17,  1,      2,2,19930725, 80.4880, -13.2090,  304,    294.0,   0.3960,  34.7830,2,-999.0000,9,-999.0000,    281.3,2,   -999.0,9,  -999.00,9,  -999.00,9,  -999.00,9,  -999.00,9,       -999,9,   -999.0,9,   -999.0,      -999,9, -999.000, -999.000,9,-999.0000,9,  -999.00,  -999.00,9,   -999.0,9,       -999,9,       -999,9,  -999.00,9,  -999.00,9,     -999,9, 23,   3218,   0.3838