BOTTLE,20090115PRINUNIVRMK
EXPOCODE,STNNBR,CASTNO,BTLNBR,BTLNBR_FLAG_W,DATE,LATITUDE,LONGITUDE,DEPTH,CTDPRS,CTDTMP,CTDSAL,CTDSAL_FLAG_W,SALNTY,SALNTY_FLAG_W,SOMSAL,CTDOXY,CTDOXY_FLAG_W,OXYGEN,OXYGEN_FLAG_W,SILCAT,SILCAT_FLAG_W,NITRAT,NITRAT_FLAG_W,NITRIT,NITRIT_FLAG_W,PHSPHT,PHSPHT_FLAG_W,AMMONI,AMMONI_FLAG_W,TCARBN,TCARBN_FLAG_W,FCO2,FCO2_TMP,FCO2_FLAG_W,TRITUM,TRITER,TRITUM_FLAG_W,HELIUM,HELIUM_FLAG_W,DELHE3,DELHER,DELHE3_FLAG_W,DELC14,DELC14_FLAG_W,POC,POC_FLAG_W,PON,PON_FLAG_W,CHLORA,CHLORA_FLAG_W,PHAEO,PHAEO_FLAG_W,BACT,BACT_FLAG_W,CTDNO,BNLID,THETA
,,,,,,,,METERS,DBARS,ITS-90,PSS-78,,PSS-78,,PSS-78,UMOL/KG,,UMOL/KG,,UMOL/KG,,UMOL/KG,,UMOL/KG,,UMOL/KG,,UMOL/KG,,UMOL/KG,,UATM,DEGC,,TU,TU,,NMOL/KG,,PERCNT,PERCNT,,O/OO,,ug/kg,,ug/kg,,UG/L,,UG/L,,CELLS/ML,,,,DEGC
  32L919930718,    88,  2,      9,2,19930812, 79.4780, -17.0380,  379,      2.0,  -1.5450,  31.6660,2,-999.0000,9,-999.0000,    384.0,2,   -999.0,9,  -999.00,9,  -999.00,9,  -999.00,9,  -999.00,9,       -999,9,   -999.0,9,   -999.0,      -999,9, -999.000, -999.000,9,-999.0000,9,  -999.00,  -999.00,9,   -999.0,9,       -999,9,       -999,9,  -999.00,9,  -999.00,9,     -999,9,161,   4629,  -1.5450
  32L919930718,    88,  2,      8,2,19930812, 79.4780, -17.0380,  379,     10.0,  -1.5670,  31.7280,2,-999.0000,9,-999.0000,    382.6,2,   -999.0,9,  -999.00,9,  -999.00,9,  -999.00,9,  -999.00,9,       -999,9,   -999.0,9,   -999.0,      -999,9, -999.000, -999.000,9,-999.0000,9,  -999.00,  -999.00,9,   -999.0,9,       -999,9,       -999,9,  -999.00,9,  -999.00,9,     -999,9,161,   4628,  -1.5672
  32L919930718,    88,  2,      7,2,19930812, 79.4780, -17.0380,  379,     49.0,  -1.7360,  32.3990,2,-999.0000,9,-999.0000,    369.6,2,   -999.0,9,  -999.00,9,  -999.00,9,  -999.00,9,  -999.00,9,       -999,9,   -999.0,9,   -999.0,      -999,9, -999.000, -999.000,9,-999.0000,9,  -999.00,  -999.00,9,   -999.0,9,       -999,9,       -999,9,  -999.00,9,  -999.00,9,     -999,9,161,   4627,  -1.7368
  32L919930718,    88,  2,      6,2,19930812, 79.4780, -17.0380,  379,     75.0,  -1.7080,  32.5120,2,-999.0000,9,-999.0000,    360.7,2,   -999.0,9,  -999.00,9,  -999.00,9,  -999.00,9,  -999.00,9,       -999,9,   -999.0,9,   -999.0,      -999,9, -999.000, -999.000,9,-999.0000,9,  -999.00,  -999.00,9,   -999.0,9,       -999,9,       -999,9,  -999.00,9,  -999.00,9,     -999,9,161,   4626,  -1.7093
  32L919930718,    88,  2,      5,2,19930812, 79.4780, -17.0380,  379,    100.0,  -1.5640,  32.9180,2,-999.0000,9,-999.0000,    343.2,2,   -999.0,9,  -999.00,9,  -999.00,9,  -999.00,9,  -999.00,9,       -999,9,   -999.0,9,   -999.0,      -999,9, -999.000, -999.000,9,-999.0000,9,  -999.00,  -999.00,9,   -999.0,9,       -999,9,       -999,9,  -999.00,9,  -999.00,9,     -999,9,161,   4625,  -1.5659
  32L919930718,    88,  2,      4,2,19930812, 79.4780, -17.0380,  379,    150.0,  -0.9210,  34.0330,2,-999.0000,9,-999.0000,    308.6,2,   -999.0,9,  -999.00,9,  -999.00,9,  -999.00,9,  -999.00,9,       -999,9,   -999.0,9,   -999.0,      -999,9, -999.000, -999.000,9,-999.0000,9,  -999.00,  -999.00,9,   -999.0,9,       -999,9,       -999,9,  -999.00,9,  -999.00,9,     -999,9,161,   4624,  -0.9251
  32L919930718,    88,  2,      3,2,19930812, 79.4780, -17.0380,  379,    200.0,  -0.0120,  34.5350,2,-999.0000,9,-999.0000,    297.2,2,   -999.0,9,  -999.00,9,  -999.00,9,  -999.00,9,  -999.00,9,       -999,9,   -999.0,9,   -999.0,      -999,9, -999.000, -999.000,9,-999.0000,9,  -999.00,  -999.00,9,   -999.0,9,       -999,9,       -999,9,  -999.00,9,  -999.00,9,     -999,9,161,   4623,  -0.0193
  32L919930718,    88,  2,      2,2,19930812, 79.4780, -17.0380,  379,    249.0,   0.7180,  34.7450,2,-999.0000,9,-999.0000,    300.8,2,   -999.0,9,  -999.00,9,  -999.00,9,  -999.00,9,  -999.00,9,       -999,9,   -999.0,9,   -999.0,      -999,9, -999.000, -999.000,9,-999.0000,9,  -999.00,  -999.00,9,   -999.0,9,       -999,9,       -999,9,  -999.00,9,  -999.00,9,     -999,9,161,   4622,   0.7071
  32L919930718,    88,  2,      1,2,19930812, 79.4780, -17.0380,  379,    273.0,   1.1050,  34.8400,2,-999.0000,9,-999.0000,    300.1,2,   -999.0,9,  -999.00,9,  -999.00,9,  -999.00,9,  -999.00,9,       -999,9,   -999.0,9,   -999.0,      -999,9, -999.000, -999.000,9,-999.0000,9,  -999.00,  -999.00,9,   -999.0,9,       -999,9,       -999,9,  -999.00,9,  -999.00,9,     -999,9,161,   4621,   1.0921
  32L919930718,    88,  2,     12,2,19930812, 79.4780, -17.0380,  379,    350.0,   1.1570,  34.8800,2,-999.0000,9,-999.0000,    300.6,2,   -999.0,9,  -999.00,9,  -999.00,9,  -999.00,9,  -999.00,9,       -999,9,   -999.0,9,   -999.0,      -999,9, -999.000, -999.000,9,-999.0000,9,  -999.00,  -999.00,9,   -999.0,9,       -999,9,       -999,9,  -999.00,9,  -999.00,9,     -999,9,161,   4620,   1.1401
  32L919930718,    88,  2,     10,2,19930812, 79.4780, -17.0380,  379,    369.0,   1.1590,  34.8810,2,-999.0000,9,-999.0000,    301.0,2,   -999.0,9,  -999.00,9,  -999.00,9,  -999.00,9,  -999.00,9,       -999,9,   -999.0,9,   -999.0,      -999,9, -999.000, -999.000,9,-999.0000,9,  -999.00,  -999.00,9,   -999.0,9,       -999,9,       -999,9,  -999.00,9,  -999.00,9,     -999,9,161,   4618,   1.1411
  32L919930718,    88,  2,     11,2,19930812, 79.4780, -17.0380,  379,    369.0,   1.1580,  34.8810,2,-999.0000,9,-999.0000,    301.1,2,   -999.0,9,  -999.00,9,  -999.00,9,  -999.00,9,  -999.00,9,       -999,9,   -999.0,9,   -999.0,      -999,9, -999.000, -999.000,9,-999.0000,9,  -999.00,  -999.00,9,   -999.0,9,       -999,9,       -999,9,  -999.00,9,  -999.00,9,     -999,9,161,   4619,   1.1401
  32L919930718,    89,  1,      9,2,19930815, 79.3840, -11.7780,  252,      2.0,  -1.2720,  30.9890,2,-999.0000,9,  30.9830,    378.0,2,    388.9,2,     7.76,2,     0.79,2,     0.01,2,     0.73,2,0.160000011,2,   2005.7,2,    626.6,18.2000008,2, -999.000, -999.000,9,-999.0000,9,  -999.00,  -999.00,9,   -999.0,9,       -999,9,       -999,9,     0.33,2,     0.05,2,     -999,9,162,   4641,  -1.2720
  32L919930718,    89,  1,      8,2,19930815, 79.3840, -11.7780,  252,     15.0,  -1.5140,  31.2130,2,  31.3270,2,  31.2950,    377.3,2,    388.0,2,     8.57,2,     1.08,2,     0.01,2,     0.76,2, 0.13000001,2,   2027.7,2,    649.3,18.2000008,2, -999.000, -999.000,9,-999.0000,9,  -999.00,  -999.00,9,   -999.0,9,       -999,9,       -999,9,     0.40,2,     0.10,2,     -999,9,162,   4640,  -1.5142
  32L919930718,    89,  1,      7,2,19930815, 79.3840, -11.7780,  252,     35.0,  -1.7230,  32.3710,2,-999.0000,9,  32.3510,    363.1,2,    370.4,2,    10.85,2,     2.37,2,    -0.03,2,     0.92,2,-0.01599999,2,   2111.6,2,    775.9,18.2000008,2, -999.000, -999.000,9,-999.0000,9,  -999.00,  -999.00,9,   -999.0,9,       -999,9,       -999,9,     0.07,2,     0.02,2,     -999,9,162,   4639,  -1.7236
  32L919930718,    89,  1,      6,2,19930815, 79.3840, -11.7780,  252,     60.0,  -1.7460,  32.4330,2,-999.0000,9,  32.4080,    364.0,2,    369.3,2,    10.88,2,     3.71,2,     0.00,2,     1.20,2,0.033000007,2,   2114.2,2,    780.2,18.2000008,2, -999.000, -999.000,9,-999.0000,9,  -999.00,  -999.00,9,   -999.0,9,       -999,9,       -999,9,     0.02,2,     0.01,2,     -999,9,162,   4638,  -1.7470
  32L919930718,    89,  1,      5,2,19930815, 79.3840, -11.7780,  252,     80.0,  -1.7570,  32.4490,2,-999.0000,9,  32.4190,    364.7,2,    369.2,2,    10.85,2,     3.87,2,     0.01,2,     1.26,2,0.013000011,2,   2116.4,2,    786.5,18.2000008,2, -999.000, -999.000,9,-999.0000,9,  -999.00,  -999.00,9,   -999.0,9,       -999,9,       -999,9,     0.01,2,     0.02,2,     -999,9,162,   4637,  -1.7583
  32L919930718,    89,  1,      4,2,19930815, 79.3840, -11.7780,  252,    100.0,  -1.7450,  32.4760,2,-999.0000,9,  32.5470,    360.6,2,    362.5,2,    11.40,2,     4.51,2,     0.03,2,     1.18,2,     -0.006,2,   2118.3,2,    804.8,18.2000008,2, -999.000, -999.000,9,-999.0000,9,  -999.00,  -999.00,9,   -999.0,9,       -999,9,       -999,9,     0.02,2,     0.02,2,     -999,9,162,   4636,  -1.7467
  32L919930718,    89,  1,      3,2,19930815, 79.3840, -11.7780,  252,    125.0,  -1.4790,  32.8990,2,-999.0000,9,  33.2060,    335.7,2,    331.2,2,    12.36,2,     7.04,2,     0.03,2,     0.83,2,0.013000011,2,   2133.5,2,    832.7,18.2000008,2, -999.000, -999.000,9,-999.0000,9,  -999.00,  -999.00,9,   -999.0,9,       -999,9,       -999,9,     0.01,2,     0.02,2,     -999,9,162,   4635,  -1.4815
  32L919930718,    89,  1,      2,2,19930815, 79.3840, -11.7780,  252,    150.0,  -1.4020,  33.7170,2,-999.0000,9,  33.7830,    321.3,2,    315.5,2,    11.72,2,     8.88,2,     0.03,2,     0.75,2,0.033000007,2,   2142.7,2,    815.4,18.2000008,2, -999.000, -999.000,9,-999.0000,9,  -999.00,  -999.00,9,   -999.0,9,       -999,9,       -999,9,     0.02,2,     0.02,2,     -999,9,162,   4634,  -1.4054
  32L919930718,    89,  1,      1,2,19930815, 79.3840, -11.7780,  252,    175.0,  -0.6610,  34.0990,2,-999.0000,9,  34.0910,    294.4,2,   -999.0,9,    13.96,2,    11.06,2,     0.03,2,     0.81,2,0.023000002,2,   2144.1,2,    826.6,18.2000008,2, -999.000, -999.000,9,-999.0000,9,  -999.00,  -999.00,9,   -999.0,9,       -999,9,       -999,9,     0.01,2,     0.01,2,     -999,9,162,   4633,  -0.6663
  32L919930718,    89,  1,     12,2,19930815, 79.3840, -11.7780,  252,    200.0,  -0.3390,  34.2980,2,-999.0000,9,  34.2550,    285.1,2,    286.8,2,    15.02,2,    11.74,2,     0.04,2,     0.82,2,0.023000002,2,   2147.7,2,    842.2,18.2000008,2, -999.000, -999.000,9,-999.0000,9,  -999.00,  -999.00,9,   -999.0,9,       -999,9,       -999,9,     0.02,2,     0.02,2,     -999,9,162,   4632,  -0.3457
  32L919930718,    89,  1,     11,2,19930815, 79.3840, -11.7780,  252,    225.0,  -0.2110,  34.3780,2,  34.3830,2,  34.3290,    283.6,2,    283.8,2,    15.38,2,    11.98,2,     0.04,2,     0.81,2,0.179000005,2,   2150.1,2,    827.9,18.2000008,2, -999.000, -999.000,9,-999.0000,9,  -999.00,  -999.00,9,   -999.0,9,       -999,9,       -999,9,  -999.00,9,  -999.00,9,     -999,9,162,   4631,  -0.2189
  32L919930718,    89,  1,     10,2,19930815, 79.3840, -11.7780,  252,    242.0,  -0.1100,  34.4380,2,-999.0000,9,  34.3240,    282.6,2,    284.3,2,    15.38,2,    12.76,2,     0.04,2,     0.80,2,     -0.006,2,   2148.6,2,    853.2,18.2000008,2, -999.000, -999.000,9,-999.0000,9,  -999.00,  -999.00,9,   -999.0,9,       -999,9,       -999,9,  -999.00,9,  -999.00,9,     -999,9,162,   4630,  -0.1187
  32L919930718,    90,  1,      9,2,19930815, 78.9430, -12.0450,  265,      2.0,  -1.0210,  30.1560,2,-999.0000,9,  30.1840,    392.4,2,    407.1,2,     2.52,2,    -0.02,2,  -999.00,9,     0.64,2,0.025999993,2,   1935.9,2,    487.2,17.2999992,2, -999.000, -999.000,9,-999.0000,9,  -999.00,  -999.00,9,      1.2,2, 12.7329998,2,      1.472,2,     0.42,2,     0.04,2,    83700,2,163,   4653,  -1.0210
  32L919930718,    90,  1,      8,2,19930815, 78.9430, -12.0450,  265,      5.0,  -1.0660,  30.1930,2,  30.3240,2,-999.0000,    394.5,2,    411.4,2,     2.71,2,     0.10,2,  -999.00,9,     0.65,2,-0.00400001,2,   -999.0,9,   -999.0,      -999,9, -999.000, -999.000,9,-999.0000,9,  -999.00,  -999.00,9,      1.1,2, 16.4519997,2, 1.31099999,2,     0.49,2,     0.05,2,   181000,2,163,   4652,  -1.0661
  32L919930718,    90,  1,      7,2,19930815, 78.9430, -12.0450,  265,      9.0,  -1.1840,  30.2640,2,-999.0000,9,  30.4860,    396.0,2,    410.6,2,     3.17,2,     0.17,2,  -999.00,9,     0.68,2,0.064999998,2,   1955.5,2,    502.0,17.2999992,2, -999.000, -999.000,9,-999.0000,9,  -999.00,  -999.00,9,      1.3,2, 15.0930004,2, 1.45899999,2,     0.74,2,     0.02,2,   204000,2,163,   4651,  -1.1841
  32L919930718,    90,  1,      6,2,19930815, 78.9430, -12.0450,  265,     14.0,  -1.3940,  30.5080,2,-999.0000,9,-999.0000,    396.9,2,   -999.0,9,  -999.00,9,  -999.00,9,  -999.00,9,  -999.00,9,       -999,9,   -999.0,9,   -999.0,      -999,9, -999.000, -999.000,9,-999.0000,9,  -999.00,  -999.00,9,   -999.0,9,       -999,9,       -999,9,  -999.00,9,  -999.00,9,     -999,9,163,   4650,  -1.3942
  32L919930718,    90,  1,      5,2,19930815, 78.9430, -12.0450,  265,     22.0,  -1.5340,  31.5310,2,-999.0000,9,  32.1290,    387.2,2,    377.7,2,     9.90,2,     3.05,2,  -999.00,9,     0.97,2,-0.00400001,2,   2095.5,2,    709.2,17.2999992,2, -999.000, -999.000,9,-999.0000,9,  -999.00,  -999.00,9,      0.5,2,  8.3760004,2, 0.97299999,2,     0.53,2,     0.05,2,    61500,2,163,   4649,  -1.5344
  32L919930718,    90,  1,      4,2,19930815, 78.9430, -12.0450,  265,     35.0,  -1.7260,  32.3270,2,-999.0000,9,  32.3260,    359.0,2,    367.9,2,    11.16,2,     3.91,2,  -999.00,9,     1.03,2,0.016000003,2,   2113.7,2,    753.5,17.2999992,2, -999.000, -999.000,9,-999.0000,9,  -999.00,  -999.00,9,      0.0,2, 7.03100014,2,0.218999997,2,     0.06,2,     0.03,2,    88500,2,163,   4648,  -1.7266
  32L919930718,    90,  1,      3,2,19930815, 78.9430, -12.0450,  265,     52.0,  -1.6960,  32.4040,2,-999.0000,9,  32.3790,    355.8,2,    366.6,2,    11.10,2,     4.11,2,  -999.00,9,     1.03,2,0.005999997,2,   2117.8,2,    755.3,17.2999992,2, -999.000, -999.000,9,-999.0000,9,  -999.00,  -999.00,9,      0.0,2, 10.5340004,2, 0.67900002,2,     0.22,2,     0.04,2,   150000,2,163,   4647,  -1.6969
  32L919930718,    90,  1,      2,2,19930815, 78.9430, -12.0450,  265,    101.0,  -1.5550,  32.7950,2,-999.0000,9,  32.8760,    337.9,2,    342.0,2,    12.53,2,     6.46,2,  -999.00,9,     0.98,2,0.016000003,2,   2130.4,2,    792.9,17.2999992,2, -999.000, -999.000,9,-999.0000,9,  -999.00,  -999.00,9,   -999.0,9, 6.28100014,2,0.370999992,2,     0.02,2,     0.02,2,    50500,2,163,   4646,  -1.5569
  32L919930718,    90,  1,      1,2,19930815, 78.9430, -12.0450,  265,    150.0,  -1.2700,  33.9050,2,-999.0000,9,  33.9250,    307.8,2,    310.9,2,    11.33,2,     9.88,2,  -999.00,9,     0.87,2,0.055000007,2,   2138.1,2,    760.0,17.2999992,2, -999.000, -999.000,9,-999.0000,9,  -999.00,  -999.00,9,   -999.0,9, 5.08799982,2,0.214000002,2,     0.02,2,     0.03,2,    50500,2,163,   4645,  -1.2736
  32L919930718,    90,  1,     12,2,19930815, 78.9430, -12.0450,  265,    201.0,  -0.6370,  34.2240,2,-999.0000,9,  34.1940,    290.0,2,    294.7,2,    13.03,2,    11.34,2,  -999.00,9,     0.93,2,0.064999998,2,   2141.5,2,    749.0,17.2999992,2, -999.000, -999.000,9,-999.0000,9,  -999.00,  -999.00,9,   -999.0,9, 4.16699982,2,0.189999998,2,     0.01,2,     0.01,2,    46700,2,163,   4644,  -0.6432
  32L919930718,    90,  1,     11,2,19930815, 78.9430, -12.0450,  265,    225.0,  -0.3280,  34.3650,2,  34.3650,2,  34.3270,    282.9,2,    288.3,2,    13.62,2,    11.59,2,  -999.00,9,     0.96,2,0.025999993,2,   2144.5,2,    766.3,17.2999992,2, -999.000, -999.000,9,-999.0000,9,  -999.00,  -999.00,9,   -999.0,9, 7.73600006,2,0.203999996,2,  -999.00,9,  -999.00,9,    48000,2,163,   4643,  -0.3356
  32L919930718,    90,  1,     10,2,19930815, 78.9430, -12.0450,  265,    255.0,   0.0570,  34.5550,2,-999.0000,9,  34.4520,    278.2,2,    283.3,2,    14.04,2,    12.18,2,  -999.00,9,     0.96,2,0.034999996,2,   2145.9,2,    770.7,17.2999992,2, -999.000, -999.000,9,-999.0000,9,  -999.00,  -999.00,9,   -999.0,9, 1.89300001,2,0.041999999,2,  -999.00,9,  -999.00,9,    49600,2,163,   4642,   0.0474
  32L919930718,    91,  1,      9,2,19930815, 78.4730, -12.1460,  199,      2.0,  -1.1680,  30.1140,2,-999.0000,9,  30.0880,    403.7,2,    413.8,2,     0.99,2,    -0.01,2,    -0.01,2,     0.63,2,      -0.03,2,   1924.2,2,    489.8,18.2000008,2, -999.000, -999.000,9,-999.0000,9,  -999.00,  -999.00,9,      0.4,2, 16.8610001,2, 1.10899997,2,     0.25,2,     0.04,2,   176000,2,164,   4665,  -1.1680
  32L919930718,    91,  1,      8,2,19930815, 78.4730, -12.1460,  199,      4.0,  -1.1380,  30.1150,2,  30.1180,2,  30.0720,    402.4,2,    413.4,2,     0.94,2,     0.00,2,    -0.02,2,     0.63,2,0.009000003,2,   1924.0,2,    493.1,18.2000008,2, -999.000, -999.000,9,-999.0000,9,  -999.00,  -999.00,9,      0.3,2, 16.3500004,2, 1.54400003,2,     0.23,2,     0.04,2,   145000,2,164,   4664,  -1.1381
  32L919930718,    91,  1,      7,2,19930815, 78.4730, -12.1460,  199,      7.0,  -1.0500,  30.0920,2,-999.0000,9,  30.0700,    401.8,2,    413.6,2,     0.95,2,     0.01,2,    -0.03,2,     0.64,2,     -0.021,2,   1926.4,2,    499.3,18.2000008,2, -999.000, -999.000,9,-999.0000,9,  -999.00,  -999.00,9,      0.2,2,     14.974,2, 1.28900003,2,     0.25,2,     0.04,2,   124000,2,164,   4663,  -1.0501
  32L919930718,    91,  1,      6,2,19930815, 78.4730, -12.1460,  199,     12.0,  -1.2400,  30.2050,2,-999.0000,9,  30.4490,    406.2,2,    417.7,2,     1.09,2,     0.00,2,    -0.01,2,     0.65,2,0.027999997,2,   1948.9,2,    515.5,18.2000008,2, -999.000, -999.000,9,-999.0000,9,  -999.00,  -999.00,9,      0.5,2, 23.2019997,2,  2.7579999,2,     0.35,2,     0.10,2,   145000,2,164,   4662,  -1.2402
  32L919930718,    91,  1,      5,2,19930815, 78.4730, -12.1460,  199,     19.0,  -1.3700,  31.7570,2,-999.0000,9,  31.8540,    399.6,2,    406.8,2,     4.15,2,    -0.03,2,     0.02,2,     0.81,2,0.027999997,2,   2052.9,2,    617.2,18.2000008,2, -999.000, -999.000,9,-999.0000,9,  -999.00,  -999.00,9,      1.1,2, 16.8850002,2,      1.773,2,     1.38,2,     0.19,2,   151000,2,164,   4661,  -1.3703
  32L919930718,    91,  1,      4,2,19930815, 78.4730, -12.1460,  199,     29.0,  -1.5230,  32.2790,2,-999.0000,9,  32.3100,    367.8,2,    370.0,2,    10.60,2,     2.55,2,     0.11,2,     1.00,2,0.155000001,2,   2111.3,2,    781.6,18.2000008,2, -999.000, -999.000,9,-999.0000,9,  -999.00,  -999.00,9,      0.0,2, 5.76300001,2,0.356999993,2,     0.30,2,     0.11,2,    44500,2,164,   4660,  -1.5235
  32L919930718,    91,  1,      3,2,19930815, 78.4730, -12.1460,  199,     44.0,  -1.6570,  32.4000,2,-999.0000,9,  32.3670,    359.2,2,    365.6,2,    11.76,2,     2.76,2,     0.08,2,     1.04,2, 0.22299999,2,   2118.8,2,    805.1,18.2000008,2, -999.000, -999.000,9,-999.0000,9,  -999.00,  -999.00,9,      0.0,2, 6.96799994,2,0.164000005,2,     0.18,2,     0.08,2,   135000,2,164,   4659,  -1.6577
  32L919930718,    91,  1,      2,2,19930815, 78.4730, -12.1460,  199,     60.0,  -1.7380,  32.4590,2,-999.0000,9,  32.5010,    356.1,2,    358.1,2,    12.50,2,     3.58,2,     0.03,2,     1.01,2,0.115999997,2,   2123.5,2,    836.3,18.2000008,2, -999.000, -999.000,9,-999.0000,9,  -999.00,  -999.00,9,   -999.0,9, 7.59200001,2,0.050999999,2,     0.05,2,     0.09,2,   105000,2,164,   4658,  -1.7390
  32L919930718,    91,  1,      1,2,19930815, 78.4730, -12.1460,  199,     80.0,  -1.5810,  32.8780,2,-999.0000,9,  33.0460,    339.6,2,    341.6,2,    12.41,2,     5.04,2,     0.05,2,     0.85,2,0.155000001,2,   2139.9,2,    850.6,18.2000008,2, -999.000, -999.000,9,-999.0000,9,  -999.00,  -999.00,9,   -999.0,9, 5.35400009,2,0.123000003,2,     0.03,2,     0.09,2,    90500,2,164,   4657,  -1.5825
  32L919930718,    91,  1,     12,2,19930815, 78.4730, -12.1460,  199,    100.0,  -1.6460,  33.5090,2,-999.0000,9,  33.5260,    336.6,2,    339.1,2,     9.42,2,     5.25,2,     0.06,2,     0.75,2,0.252000004,2,   2140.3,2,    806.5,18.2000008,2, -999.000, -999.000,9,-999.0000,9,  -999.00,  -999.00,9,   -999.0,9, 7.34800005,2,0.152999997,2,     0.02,2,     0.06,2,    94100,2,164,   4656,  -1.6480
  32L919930718,    91,  1,     11,2,19930815, 78.4730, -12.1460,  199,    125.0,  -1.6850,  33.8140,2,  33.8120,2,  33.7770,    328.5,2,    330.0,2,     8.65,2,     6.16,2,     0.03,2,     0.75,2,      0.213,2,   2138.4,2,    791.2,18.2000008,2, -999.000, -999.000,9,-999.0000,9,  -999.00,  -999.00,9,   -999.0,9, 4.48000002,2,       -999,9,     0.02,2,     0.05,2,    65700,2,164,   4655,  -1.6875
  32L919930718,    91,  1,     10,2,19930815, 78.4730, -12.1460,  199,    172.0,  -0.5210,  34.2720,2,-999.0000,9,  34.1580,    300.3,2,    295.4,2,    13.64,2,     9.56,2,     0.01,2,     0.97,2,0.095999986,2,   2139.0,2,    802.3,18.2000008,2, -999.000, -999.000,9,-999.0000,9,  -999.00,  -999.00,9,   -999.0,9, 3.59599996,2,0.244000003,2,     0.01,2,     0.03,2,    86100,2,164,   4654,  -0.5264