BOTTLE,20090115PRINUNIVRMK
EXPOCODE,STNNBR,CASTNO,BTLNBR,BTLNBR_FLAG_W,DATE,LATITUDE,LONGITUDE,DEPTH,CTDPRS,CTDTMP,CTDSAL,CTDSAL_FLAG_W,SALNTY,SALNTY_FLAG_W,SOMSAL,CTDOXY,CTDOXY_FLAG_W,OXYGEN,OXYGEN_FLAG_W,SILCAT,SILCAT_FLAG_W,NITRAT,NITRAT_FLAG_W,NITRIT,NITRIT_FLAG_W,PHSPHT,PHSPHT_FLAG_W,AMMONI,AMMONI_FLAG_W,TCARBN,TCARBN_FLAG_W,FCO2,FCO2_TMP,FCO2_FLAG_W,TRITUM,TRITER,TRITUM_FLAG_W,HELIUM,HELIUM_FLAG_W,DELHE3,DELHER,DELHE3_FLAG_W,DELC14,DELC14_FLAG_W,POC,POC_FLAG_W,PON,PON_FLAG_W,CHLORA,CHLORA_FLAG_W,PHAEO,PHAEO_FLAG_W,BACT,BACT_FLAG_W,CTDNO,BNLID,THETA
,,,,,,,,METERS,DBARS,ITS-90,PSS-78,,PSS-78,,PSS-78,UMOL/KG,,UMOL/KG,,UMOL/KG,,UMOL/KG,,UMOL/KG,,UMOL/KG,,UMOL/KG,,UMOL/KG,,UATM,DEGC,,TU,TU,,NMOL/KG,,PERCNT,PERCNT,,O/OO,,ug/kg,,ug/kg,,UG/L,,UG/L,,CELLS/ML,,,,DEGC
  32L919930718,    80,  4,      6,2,19930810, 80.0610, -15.6880,  425,      5.0,   0.7660,  31.2570,2,-999.0000,9,-999.0000,    398.2,2,   -999.0,9,  -999.00,9,  -999.00,9,  -999.00,9,  -999.00,9,       -999,9,   -999.0,9,   -999.0,      -999,9, -999.000, -999.000,9,-999.0000,9,  -999.00,  -999.00,9,   -999.0,9,       -999,9,       -999,9,  -999.00,9,  -999.00,9,     -999,9,148,   4494,   0.7658
  32L919930718,    80,  4,      5,2,19930810, 80.0610, -15.6880,  425,     10.0,   0.6980,  31.7070,2,-999.0000,9,-999.0000,    393.1,2,   -999.0,9,  -999.00,9,  -999.00,9,  -999.00,9,  -999.00,9,       -999,9,   -999.0,9,   -999.0,      -999,9, -999.000, -999.000,9,-999.0000,9,  -999.00,  -999.00,9,   -999.0,9,       -999,9,       -999,9,  -999.00,9,  -999.00,9,     -999,9,148,   4493,   0.6976
  32L919930718,    80,  4,      4,2,19930810, 80.0610, -15.6880,  425,     20.0,  -1.3520,  32.1710,2,-999.0000,9,-999.0000,    432.9,2,   -999.0,9,  -999.00,9,  -999.00,9,  -999.00,9,  -999.00,9,       -999,9,   -999.0,9,   -999.0,      -999,9, -999.000, -999.000,9,-999.0000,9,  -999.00,  -999.00,9,   -999.0,9,       -999,9,       -999,9,  -999.00,9,  -999.00,9,     -999,9,148,   4492,  -1.3524
  32L919930718,    80,  4,      3,2,19930810, 80.0610, -15.6880,  425,     30.0,  -1.6790,  32.3280,2,-999.0000,9,-999.0000,    374.1,2,   -999.0,9,  -999.00,9,  -999.00,9,  -999.00,9,  -999.00,9,       -999,9,   -999.0,9,   -999.0,      -999,9, -999.000, -999.000,9,-999.0000,9,  -999.00,  -999.00,9,   -999.0,9,       -999,9,       -999,9,  -999.00,9,  -999.00,9,     -999,9,148,   4491,  -1.6795
  32L919930718,    80,  4,      2,2,19930810, 80.0610, -15.6880,  425,     50.0,  -1.7400,  32.4130,2,-999.0000,9,-999.0000,    369.8,2,   -999.0,9,  -999.00,9,  -999.00,9,  -999.00,9,  -999.00,9,       -999,9,   -999.0,9,   -999.0,      -999,9, -999.000, -999.000,9,-999.0000,9,  -999.00,  -999.00,9,   -999.0,9,       -999,9,       -999,9,  -999.00,9,  -999.00,9,     -999,9,148,   4490,  -1.7408
  32L919930718,    80,  4,      1,2,19930810, 80.0610, -15.6880,  425,     81.0,  -1.6600,  32.6100,2,-999.0000,9,-999.0000,    358.4,2,   -999.0,9,  -999.00,9,  -999.00,9,  -999.00,9,  -999.00,9,       -999,9,   -999.0,9,   -999.0,      -999,9, -999.000, -999.000,9,-999.0000,9,  -999.00,  -999.00,9,   -999.0,9,       -999,9,       -999,9,  -999.00,9,  -999.00,9,     -999,9,148,   4489,  -1.6614
  32L919930718,    80,  4,     12,2,19930810, 80.0610, -15.6880,  425,    100.0,  -1.5770,  32.9240,2,-999.0000,9,-999.0000,    344.2,2,   -999.0,9,  -999.00,9,  -999.00,9,  -999.00,9,  -999.00,9,       -999,9,   -999.0,9,   -999.0,      -999,9, -999.000, -999.000,9,-999.0000,9,  -999.00,  -999.00,9,   -999.0,9,       -999,9,       -999,9,  -999.00,9,  -999.00,9,     -999,9,148,   4488,  -1.5789
  32L919930718,    80,  4,     11,2,19930810, 80.0610, -15.6880,  425,    201.0,   0.3530,  34.6430,2,-999.0000,9,-999.0000,    290.9,2,   -999.0,9,  -999.00,9,  -999.00,9,  -999.00,9,  -999.00,9,       -999,9,   -999.0,9,   -999.0,      -999,9, -999.000, -999.000,9,-999.0000,9,  -999.00,  -999.00,9,   -999.0,9,       -999,9,       -999,9,  -999.00,9,  -999.00,9,     -999,9,148,   4487,   0.3450
  32L919930718,    80,  4,     10,2,19930810, 80.0610, -15.6880,  425,    301.0,   0.6820,  34.7430,2,-999.0000,9,-999.0000,    288.7,2,   -999.0,9,  -999.00,9,  -999.00,9,  -999.00,9,  -999.00,9,       -999,9,   -999.0,9,   -999.0,      -999,9, -999.000, -999.000,9,-999.0000,9,  -999.00,  -999.00,9,   -999.0,9,       -999,9,       -999,9,  -999.00,9,  -999.00,9,     -999,9,148,   4486,   0.6688
  32L919930718,    80,  4,      9,2,19930810, 80.0610, -15.6880,  425,    380.0,   0.5180,  34.7530,2,-999.0000,9,-999.0000,    285.0,2,   -999.0,9,  -999.00,9,  -999.00,9,  -999.00,9,  -999.00,9,       -999,9,   -999.0,9,   -999.0,      -999,9, -999.000, -999.000,9,-999.0000,9,  -999.00,  -999.00,9,   -999.0,9,       -999,9,       -999,9,  -999.00,9,  -999.00,9,     -999,9,148,   4485,   0.5016
  32L919930718,    80,  4,      7,2,19930810, 80.0610, -15.6880,  425,    395.0,   0.4970,  34.7570,2,-999.0000,9,-999.0000,    284.6,2,   -999.0,9,  -999.00,9,  -999.00,9,  -999.00,9,  -999.00,9,       -999,9,   -999.0,9,   -999.0,      -999,9, -999.000, -999.000,9,-999.0000,9,  -999.00,  -999.00,9,   -999.0,9, 32.7470017,4, 4.26999998,4,     2.84,4,     0.25,3,     -999,9,148,   4483,   0.4800
  32L919930718,    80,  4,      8,2,19930810, 80.0610, -15.6880,  425,    396.0,   0.4970,  34.7570,2,-999.0000,9,-999.0000,    284.4,2,   -999.0,9,  -999.00,9,  -999.00,9,  -999.00,9,  -999.00,9,       -999,9,   -999.0,9,   -999.0,      -999,9, -999.000, -999.000,9,-999.0000,9,  -999.00,  -999.00,9,   -999.0,9,       -999,9,       -999,9,  -999.00,9,  -999.00,9,     -999,9,148,   4484,   0.4799
  32L919930718,    81,  1,      6,2,19930810, 80.0170, -15.8530,  439,      2.0,  -0.2290,  31.2270,2,-999.0000,9,-999.0000,    395.3,2,   -999.0,9,     8.18,2,     0.39,2,     0.00,2,     0.72,2,0.131999999,2,   -999.0,9,   -999.0,      -999,9, -999.000, -999.000,9,-999.0000,9,  -999.00,  -999.00,9,   -999.0,9,       -999,9,       -999,9,  -999.00,9,  -999.00,9,     -999,9,149,   4506,  -0.2291
  32L919930718,    81,  1,      5,2,19930810, 80.0170, -15.8530,  439,     15.0,  -1.5160,  31.9510,2,  32.0160,2,-999.0000,    378.2,2,   -999.0,9,    10.89,2,     3.05,2,     0.09,2,     0.99,2,      0.044,2,   -999.0,9,   -999.0,      -999,9, -999.000, -999.000,9,-999.0000,9,  -999.00,  -999.00,9,   -999.0,9,       -999,9,       -999,9,  -999.00,9,  -999.00,9,     -999,9,149,   4505,  -1.5163
  32L919930718,    81,  1,      4,2,19930810, 80.0170, -15.8530,  439,     35.0,  -1.6960,  32.2100,2,-999.0000,9,-999.0000,    371.1,2,   -999.0,9,    11.72,2,     4.27,2,     0.03,2,     1.06,2,0.054000005,2,   -999.0,9,   -999.0,      -999,9, -999.000, -999.000,9,-999.0000,9,  -999.00,  -999.00,9,   -999.0,9,       -999,9,       -999,9,  -999.00,9,  -999.00,9,     -999,9,149,   4504,  -1.6966
  32L919930718,    81,  1,      3,2,19930810, 80.0170, -15.8530,  439,     60.0,  -1.7250,  32.3690,2,-999.0000,9,-999.0000,    366.9,2,   -999.0,9,    12.13,2,     4.91,2,     0.02,2,     1.06,2,     -0.005,2,   -999.0,9,   -999.0,      -999,9, -999.000, -999.000,9,-999.0000,9,  -999.00,  -999.00,9,   -999.0,9,       -999,9,       -999,9,  -999.00,9,  -999.00,9,     -999,9,149,   4503,  -1.7260
  32L919930718,    81,  1,      2,2,19930810, 80.0170, -15.8530,  439,    100.0,  -1.5380,  33.1220,2,-999.0000,9,-999.0000,    337.9,2,   -999.0,9,    13.19,2,     8.78,2,     0.00,2,     1.01,2,0.054000005,2,   -999.0,9,   -999.0,      -999,9, -999.000, -999.000,9,-999.0000,9,  -999.00,  -999.00,9,   -999.0,9,       -999,9,       -999,9,  -999.00,9,  -999.00,9,     -999,9,149,   4502,  -1.5400
  32L919930718,    81,  1,      1,2,19930810, 80.0170, -15.8530,  439,    150.0,  -0.3830,  34.3160,2,-999.0000,9,-999.0000,    301.0,2,   -999.0,9,    11.80,2,    12.73,2,    -0.01,2,     0.98,2,     -0.024,2,   -999.0,9,   -999.0,      -999,9, -999.000, -999.000,9,-999.0000,9,  -999.00,  -999.00,9,   -999.0,9,       -999,9,       -999,9,  -999.00,9,  -999.00,9,     -999,9,149,   4501,  -0.3879
  32L919930718,    81,  1,     12,2,19930810, 80.0170, -15.8530,  439,    200.0,   0.4880,  34.6710,2,-999.0000,9,-999.0000,    291.2,2,   -999.0,9,    11.72,2,    13.45,2,     0.00,2,     0.99,2,     -0.005,2,   -999.0,9,   -999.0,      -999,9, -999.000, -999.000,9,-999.0000,9,  -999.00,  -999.00,9,   -999.0,9,       -999,9,       -999,9,  -999.00,9,  -999.00,9,     -999,9,149,   4500,   0.4798
  32L919930718,    81,  1,     11,2,19930810, 80.0170, -15.8530,  439,    250.0,   0.6230,  34.7190,2,-999.0000,9,-999.0000,    289.8,2,   -999.0,9,    11.93,2,    13.46,2,    -0.02,2,     1.00,2,     -0.005,2,   -999.0,9,   -999.0,      -999,9, -999.000, -999.000,9,-999.0000,9,  -999.00,  -999.00,9,   -999.0,9,       -999,9,       -999,9,  -999.00,9,  -999.00,9,     -999,9,149,   4499,   0.6123
  32L919930718,    81,  1,     10,2,19930810, 80.0170, -15.8530,  439,    301.0,   0.6680,  34.7360,2,-999.0000,9,-999.0000,    289.4,2,   -999.0,9,    12.11,2,    13.67,2,    -0.01,2,     0.89,2,     -0.005,2,   -999.0,9,   -999.0,      -999,9, -999.000, -999.000,9,-999.0000,9,  -999.00,  -999.00,9,   -999.0,9,       -999,9,       -999,9,  -999.00,9,  -999.00,9,     -999,9,149,   4498,   0.6549
  32L919930718,    81,  1,      9,2,19930810, 80.0170, -15.8530,  439,    350.0,   0.6570,  34.7440,2,-999.0000,9,-999.0000,    289.2,2,   -999.0,9,    12.28,2,    13.75,2,    -0.01,2,     0.95,2,0.015000001,2,   -999.0,9,   -999.0,      -999,9, -999.000, -999.000,9,-999.0000,9,  -999.00,  -999.00,9,   -999.0,9,       -999,9,       -999,9,  -999.00,9,  -999.00,9,     -999,9,149,   4497,   0.6416
  32L919930718,    81,  1,      8,2,19930810, 80.0170, -15.8530,  439,    400.0,   0.5770,  34.7500,2,  34.7560,2,-999.0000,    289.4,2,   -999.0,9,    12.80,2,    13.92,2,     0.00,2,     0.97,2,      0.044,2,   -999.0,9,   -999.0,      -999,9, -999.000, -999.000,9,-999.0000,9,  -999.00,  -999.00,9,   -999.0,9,       -999,9,       -999,9,  -999.00,9,  -999.00,9,     -999,9,149,   4496,   0.5595
  32L919930718,    81,  1,      7,2,19930810, 80.0170, -15.8530,  439,    429.0,   0.5500,  34.7510,2,-999.0000,9,-999.0000,    290.3,2,   -999.0,9,    12.85,2,    13.85,2,     0.03,2,     0.99,2,0.015000001,2,   -999.0,9,   -999.0,      -999,9, -999.000, -999.000,9,-999.0000,9,  -999.00,  -999.00,9,   -999.0,9,       -999,9,       -999,9,  -999.00,9,  -999.00,9,     -999,9,149,   4495,   0.5312
  32L919930718,    82,  1,      6,2,19930810, 79.9380, -16.8200,  258,      2.0,  -1.4030,  30.8860,2,-999.0000,9,-999.0000,    391.2,2,    391.1,2,    10.15,2,     1.86,2,     0.07,2,     0.89,2,0.140000001,2,   -999.0,9,   -999.0,      -999,9, -999.000, -999.000,9,-999.0000,9,  -999.00,  -999.00,9,   -999.0,9,       -999,9,       -999,9,     0.29,2,     0.24,2,     -999,9,150,   4518,  -1.4030
  32L919930718,    82,  1,      5,2,19930810, 79.9380, -16.8200,  258,     10.0,  -1.4510,  31.6180,2,-999.0000,9,-999.0000,    384.5,2,    382.8,2,    10.88,2,     2.67,2,     0.11,2,     0.97,2, 0.13000001,2,   -999.0,9,   -999.0,      -999,9, -999.000, -999.000,9,-999.0000,9,  -999.00,  -999.00,9,   -999.0,9,       -999,9,       -999,9,     0.18,2,     0.16,2,     -999,9,150,   4517,  -1.4512
  32L919930718,    82,  1,      4,2,19930810, 79.9380, -16.8200,  258,     20.0,  -1.6090,  31.8940,2,-999.0000,9,-999.0000,    377.5,2,    374.5,2,    11.04,2,     3.40,2,     0.12,2,     1.02,2,0.043000005,2,   -999.0,9,   -999.0,      -999,9, -999.000, -999.000,9,-999.0000,9,  -999.00,  -999.00,9,   -999.0,9,       -999,9,       -999,9,     0.08,2,     0.06,2,     -999,9,150,   4516,  -1.6093
  32L919930718,    82,  1,      3,2,19930810, 79.9380, -16.8200,  258,     35.0,  -1.6790,  32.1060,2,-999.0000,9,-999.0000,    375.7,2,    369.4,2,    11.52,2,     4.16,2,     0.04,2,     1.06,2,0.082000002,2,   -999.0,9,   -999.0,      -999,9, -999.000, -999.000,9,-999.0000,9,  -999.00,  -999.00,9,   -999.0,9,       -999,9,       -999,9,     0.06,2,     0.03,2,     -999,9,150,   4515,  -1.6796
  32L919930718,    82,  1,      2,2,19930810, 79.9380, -16.8200,  258,     50.0,  -1.7220,  32.3210,2,-999.0000,9,-999.0000,    372.6,2,    364.4,2,    11.76,2,     4.68,2,     0.02,2,     1.05,2,0.052000009,2,   -999.0,9,   -999.0,      -999,9, -999.000, -999.000,9,-999.0000,9,  -999.00,  -999.00,9,   -999.0,9,       -999,9,       -999,9,     0.04,2,     0.02,2,     -999,9,150,   4514,  -1.7228
  32L919930718,    82,  1,      1,2,19930810, 79.9380, -16.8200,  258,     59.0,  -1.7090,  32.4480,2,-999.0000,9,-999.0000,    365.7,2,    354.1,2,    12.23,2,     5.65,2,     0.02,2,     1.06,2,0.013000011,2,   -999.0,9,   -999.0,      -999,9, -999.000, -999.000,9,-999.0000,9,  -999.00,  -999.00,9,   -999.0,9,       -999,9,       -999,9,     0.02,2,     0.01,2,     -999,9,150,   4513,  -1.7100
  32L919930718,    82,  1,     12,2,19930810, 79.9380, -16.8200,  258,     80.0,  -1.5560,  32.9100,2,  31.7420,0,-999.0000,    346.0,2,    325.9,2,    12.71,2,     8.87,2,     0.02,2,     1.00,2,0.023000002,2,   -999.0,9,   -999.0,      -999,9, -999.000, -999.000,9,-999.0000,9,  -999.00,  -999.00,9,   -999.0,9,       -999,9,       -999,9,     0.03,2,     0.01,2,     -999,9,150,   4512,  -1.5575
  32L919930718,    82,  1,     11,2,19930810, 79.9380, -16.8200,  258,    100.0,  -1.4530,  33.4160,2,-999.0000,9,-999.0000,    329.3,2,    319.0,2,    12.82,2,     9.48,2,     0.03,2,     0.99,2,0.023000002,2,   -999.0,9,   -999.0,      -999,9, -999.000, -999.000,9,-999.0000,9,  -999.00,  -999.00,9,   -999.0,9,       -999,9,       -999,9,     0.02,2,     0.01,2,     -999,9,150,   4511,  -1.4551
  32L919930718,    82,  1,     10,2,19930810, 79.9380, -16.8200,  258,    150.0,  -0.1140,  34.4400,2,-999.0000,9,-999.0000,    298.8,2,    291.9,2,    11.50,2,    13.04,2,     0.04,2,     0.97,2,0.062000006,2,   -999.0,9,   -999.0,      -999,9, -999.000, -999.000,9,-999.0000,9,  -999.00,  -999.00,9,   -999.0,9,       -999,9,       -999,9,     0.02,2,     0.01,2,     -999,9,150,   4510,  -0.1193
  32L919930718,    82,  1,      9,2,19930810, 79.9380, -16.8200,  258,    174.0,   0.2080,  34.5550,2,-999.0000,9,-999.0000,    296.1,2,    306.0,2,    11.67,2,    13.21,2,     0.00,2,     1.00,2,0.043000005,2,   -999.0,9,   -999.0,      -999,9, -999.000, -999.000,9,-999.0000,9,  -999.00,  -999.00,9,   -999.0,9,       -999,9,       -999,9,     0.02,2,     0.01,2,     -999,9,150,   4509,   0.2013
  32L919930718,    82,  1,      8,2,19930810, 79.9380, -16.8200,  258,    201.0,   0.4350,  34.6400,2,  34.6440,2,-999.0000,    294.6,2,    287.5,2,    11.64,2,    13.40,2,     0.00,2,     0.99,2,0.072000004,2,   -999.0,9,   -999.0,      -999,9, -999.000, -999.000,9,-999.0000,9,  -999.00,  -999.00,9,   -999.0,9,       -999,9,       -999,9,     0.02,2,     0.01,2,     -999,9,150,   4508,   0.4268
  32L919930718,    82,  1,      7,2,19930810, 79.9380, -16.8200,  258,    248.0,   0.6240,  34.7200,2,-999.0000,9,-999.0000,    300.0,2,    286.1,2,    11.83,2,    13.55,2,     0.00,2,     1.00,2,0.033000007,2,   -999.0,9,   -999.0,      -999,9, -999.000, -999.000,9,-999.0000,9,  -999.00,  -999.00,9,   -999.0,9,       -999,9,       -999,9,  -999.00,9,  -999.00,9,     -999,9,150,   4507,   0.6134
  32L919930718,    83,  1,      6,2,19930810, 80.1530, -15.2640,  409,      3.0,   0.4830,  30.4530,2,-999.0000,9,  30.5360,    395.5,2,    402.3,2,     5.70,2,     0.01,2,    -0.01,2,     0.65,2,     -0.024,2,   1965.0,2,    512.6,18.2000008,2, -999.000, -999.000,9,-999.0000,9,  -999.00,  -999.00,9,   -999.0,9, 13.0769997,2, 1.85599995,2,     0.96,2,     0.10,2,     -999,9,151,   4530,   0.4829
  32L919930718,    83,  1,      5,2,19930810, 80.1530, -15.2640,  409,     15.0,  -1.5280,  32.0130,2,  32.0400,2,-999.0000,    376.9,2,    379.1,2,    10.72,2,     2.76,2,     0.10,2,     1.00,2,     -0.005,2,   -999.0,9,   -999.0,      -999,9, -999.000, -999.000,9,-999.0000,9,  -999.00,  -999.00,9,   -999.0,9, 5.05000019,2,0.885999978,2,     0.37,2,     0.09,2,     -999,9,151,   4529,  -1.5283
  32L919930718,    83,  1,      4,2,19930810, 80.1530, -15.2640,  409,     35.0,  -1.7120,  32.3300,2,-999.0000,9,  32.3030,    370.3,2,    368.9,2,    11.49,2,     4.25,2,     0.02,2,     1.06,2, 0.00500001,2,   2111.1,2,    777.8,18.2000008,2, -999.000, -999.000,9,-999.0000,9,  -999.00,  -999.00,9,   -999.0,9, 1.06099999,2,0.150000006,2,     0.08,2,     0.02,2,     -999,9,151,   4528,  -1.7126
  32L919930718,    83,  1,      3,2,19930810, 80.1530, -15.2640,  409,     60.0,  -1.7400,  32.4550,2,-999.0000,9,-999.0000,    369.9,2,    365.2,2,    11.56,2,     4.46,2,     0.01,2,     1.09,2,0.034000009,2,   -999.0,9,   -999.0,      -999,9, -999.000, -999.000,9,-999.0000,9,  -999.00,  -999.00,9,   -999.0,9, 1.19599998,2,0.152999997,2,     0.07,2,     0.04,2,     -999,9,151,   4527,  -1.7410
  32L919930718,    83,  1,      2,2,19930810, 80.1530, -15.2640,  409,     85.0,  -1.6230,  32.7490,2,-999.0000,9,  32.8190,    352.1,2,    346.6,2,    12.75,2,     6.41,2,    -0.01,2,     1.05,2,0.024000004,2,   2130.5,2,    817.9,18.2000008,2, -999.000, -999.000,9,-999.0000,9,  -999.00,  -999.00,9,   -999.0,9,0.755999982,2,0.098999999,2,     0.05,2,     0.04,2,     -999,9,151,   4526,  -1.6245
  32L919930718,    83,  1,      1,2,19930810, 80.1530, -15.2640,  409,    110.0,  -1.4900,  33.2430,2,-999.0000,9,-999.0000,    334.1,2,    323.4,2,    12.95,2,     8.93,2,     0.01,2,     1.01,2,0.015000001,2,   -999.0,9,   -999.0,      -999,9, -999.000, -999.000,9,-999.0000,9,  -999.00,  -999.00,9,   -999.0,9,0.771000028,2,0.129999995,2,     0.02,2,     0.01,2,     -999,9,151,   4525,  -1.4923
  32L919930718,    83,  1,     12,2,19930810, 80.1530, -15.2640,  409,    150.0,  -0.4790,  34.2740,2,-999.0000,9,  34.3050,    301.2,2,    295.4,2,    11.67,2,    12.40,2,     0.01,2,     0.97,2,     -0.015,2,   2136.2,2,    745.4,18.2000008,2, -999.000, -999.000,9,-999.0000,9,  -999.00,  -999.00,9,   -999.0,9, 1.16100001,2,0.093000002,2,     0.01,2,     0.01,2,     -999,9,151,   4524,  -0.4838
  32L919930718,    83,  1,     11,2,19930810, 80.1530, -15.2640,  409,    200.0,   0.3820,  34.6310,2,-999.0000,9,-999.0000,    293.5,2,    288.3,2,    11.57,2,    13.23,2,     0.01,2,     0.99,2,     -0.005,2,   -999.0,9,   -999.0,      -999,9, -999.000, -999.000,9,-999.0000,9,  -999.00,  -999.00,9,   -999.0,9,       1.38,2,0.090999998,2,     0.03,2,     0.01,2,     -999,9,151,   4523,   0.3740
  32L919930718,    83,  1,     10,2,19930810, 80.1530, -15.2640,  409,    250.0,   0.6210,  34.7160,2,-999.0000,9,  34.6840,    290.6,2,    287.0,2,    11.64,2,    13.39,2,     0.01,2,     1.00,2,      0.044,2,   2146.1,2,    743.1,18.2000008,2, -999.000, -999.000,9,-999.0000,9,  -999.00,  -999.00,9,   -999.0,9,0.833000004,2,0.078000002,2,  -999.00,9,  -999.00,9,     -999,9,151,   4522,   0.6103
  32L919930718,    83,  1,      9,2,19930810, 80.1530, -15.2640,  409,    320.0,   0.7160,  34.7460,2,-999.0000,9,-999.0000,    291.4,2,    286.7,2,    11.58,2,    13.45,2,     0.01,2,     1.00,2,0.072999999,2,   -999.0,9,   -999.0,      -999,9, -999.000, -999.000,9,-999.0000,9,  -999.00,  -999.00,9,   -999.0,9, 2.00999999,2,0.160999998,2,  -999.00,9,  -999.00,9,     -999,9,151,   4521,   0.7018
  32L919930718,    83,  1,      8,2,19930810, 80.1530, -15.2640,  409,    382.0,   0.4960,  34.7570,2,  34.7610,2,-999.0000,    289.7,2,    283.1,2,    12.41,2,    13.40,2,     0.01,2,     1.01,2,0.063000008,2,   -999.0,9,   -999.0,      -999,9, -999.000, -999.000,9,-999.0000,9,  -999.00,  -999.00,9,   -999.0,9, 1.70000005,2,0.104000002,2,  -999.00,9,  -999.00,9,     -999,9,151,   4520,   0.4796
  32L919930718,    83,  1,      7,2,19930810, 80.1530, -15.2640,  409,    399.0,   0.4570,  34.7640,2,-999.0000,9,  34.7260,    289.7,2,    283.6,2,    12.48,2,    13.44,2,     0.01,2,     1.01,2,0.054000005,2,   2150.4,2,    748.8,18.2000008,2, -999.000, -999.000,9,-999.0000,9,  -999.00,  -999.00,9,   -999.0,9,0.653999984,2,0.122000001,2,  -999.00,9,  -999.00,9,     -999,9,151,   4519,   0.4399