BOTTLE,20130611PRINUNIVRMK
EXPOCODE,SECT_ID,STNNBR,CASTNO,SAMPNO,BTLNBR,BTLNBR_FLAG_W,DATE,TIME,LATITUDE,LONGITUDE,DEPTH,CTDPRS,CTDTMP,CTDSAL,CTDSAL_FLAG_W,SALNTY,SALNTY_FLAG_W,CTDOXY,CTDOXY_FLAG_W,OXYGEN,OXYGEN_FLAG_W,SILCAT,SILCAT_FLAG_W,NITRAT,NITRAT_FLAG_W,PHSPHT,PHSPHT_FLAG_W,CFC-11,CFC-11_FLAG_W,CFC-12,CFC-12_FLAG_W,CFC113,CFC113_FLAG_W,CCL4,CCL4_FLAG_W,MCHFRM,MCHFRM_FLAG_W,TCARBN,TCARBN_FLAG_W,ALKALI,ALKALI_FLAG_W,THETA,BTL_DATE,BTL_TIME
,,,,,,,,,,,METERS,DBAR,ITS-90,PSS-78,,PSS-78,,UMOL/KG,,UMOL/KG,,UMOL/KG,,UMOL/KG,,UMOL/KG,,PMOL/KG,,PMOL/KG,,PMOL/KG,,PMOL/KG,,PMOL/KG,,UMOL/KG,,UMOL/KG,,DEG C,,
  18HU20080520, AR07W,   207,  1, 332040,      1,2,20080529,0556, 54.9565, -54.2798,  367,    344.0,   4.5912,  34.7946,2,  34.7951,6,    280.5,2,    361.6,4,     7.75,6,    14.83,6,     0.99,6,    4.681,4,    2.495,4,    0.355,4,    4.473,4,    2.060,2,   2153.9,2,   2308.1,2,   4.5646, 20080529,      556
  18HU20080520, AR07W,   207,  1, 332041,      2,2,20080529,0556, 54.9565, -54.2798,  367,    329.0,   4.5904,  34.7943,2,  34.7954,2,    280.1,2,    291.7,3,     7.75,6,    14.78,6,     1.00,6, -999.000,9, -999.000,9, -999.000,9, -999.000,9, -999.000,9,   2153.1,2,   2307.2,2,   4.5645, 20080529,      557
  18HU20080520, AR07W,   207,  1, 332042,      3,2,20080529,0556, 54.9565, -54.2798,  367,    290.0,   4.5925,  34.7930,2,  34.7936,2,    279.9,2,    282.2,2,     7.67,6,    14.70,6,     0.98,6, -999.000,9, -999.000,9, -999.000,9, -999.000,9, -999.000,9,   2152.7,2,   2309.2,2,   4.5711, 20080529,      558
  18HU20080520, AR07W,   207,  1, 332043,      4,2,20080529,0556, 54.9565, -54.2798,  367,    252.0,   4.6004,  34.7924,2,-999.0000,9,    279.7,2,    280.2,2,     7.63,6,    14.73,6,     0.99,6,    4.678,4,    2.682,4,    0.333,4,    4.502,4,    2.026,2,   2152.5,2,   2302.2,2,   4.5803, 20080529,      600
  18HU20080520, AR07W,   207,  1, 332044,      5,2,20080529,0556, 54.9565, -54.2798,  367,    199.0,   3.3398,  34.4863,2,-999.0000,9,    293.2,2,    296.6,6,     6.65,6,    12.78,6,     0.90,6, -999.000,9, -999.000,9, -999.000,9, -999.000,9, -999.000,9,   2139.0,2,   2282.8,2,   3.1222, 20080529,      602
  18HU20080520, AR07W,   207,  1, 332045,      6,2,20080529,0556, 54.9565, -54.2798,  367,    149.0,   1.0366,  34.0823,2,-999.0000,9,    320.0,2,    320.7,2,     6.17,6,    10.69,6,     0.81,6, -999.000,9, -999.000,9, -999.000,9, -999.000,9, -999.000,9,   2126.1,2,   2265.7,2,   0.9957, 20080529,      604
  18HU20080520, AR07W,   207,  1, 332046,      7,2,20080529,0556, 54.9565, -54.2798,  367,    102.0,  -0.5216,  33.6620,2,-999.0000,9,    323.4,2,    327.9,2,     7.02,6,     9.87,6,     0.83,6,    6.474,4,    3.662,4,    0.554,4,    6.874,4,    2.750,2,   2119.6,2,   2246.8,2,  -0.5864, 20080529,      605
  18HU20080520, AR07W,   207,  1, 332047,      8,2,20080529,0556, 54.9565, -54.2798,  367,     80.0,  -0.8380,  33.5333,2,-999.0000,9,    324.8,2,   -999.0,9,     7.31,6,     9.58,6,     0.84,6, -999.000,9, -999.000,9, -999.000,9, -999.000,9, -999.000,9,   -999.0,9,   -999.0,9,  -0.8389, 20080529,      607
  18HU20080520, AR07W,   207,  1, 332048,      9,2,20080529,0556, 54.9565, -54.2798,  367,     60.0,  -1.0997,  33.3083,2,-999.0000,9,    323.2,2,   -999.0,9,     8.72,6,     9.13,6,     0.90,6, -999.000,9, -999.000,9, -999.000,9, -999.000,9, -999.000,9,   -999.0,9,   -999.0,9,  -1.2004, 20080529,      608
  18HU20080520, AR07W,   207,  1, 332049,     10,2,20080529,0556, 54.9565, -54.2798,  367,     49.0,  -1.2282,  33.1174,2,-999.0000,9,    321.9,2,    324.2,2,     9.31,6,     8.76,6,     0.92,6,    6.656,4,    3.813,4,    0.568,4,    6.684,4,    3.125,2,   2127.1,2,   2238.7,2,  -1.2428, 20080529,      609
  18HU20080520, AR07W,   207,  1, 332050,     11,2,20080529,0556, 54.9565, -54.2798,  367,     40.0,  -1.2642,  33.0354,2,-999.0000,9,    322.1,2,   -999.0,9,    10.09,6,     8.70,6,     0.92,6, -999.000,9, -999.000,9, -999.000,9, -999.000,9, -999.000,9,   -999.0,9,   -999.0,9,  -1.2788, 20080529,      610
  18HU20080520, AR07W,   207,  1, 332051,     12,2,20080529,0556, 54.9565, -54.2798,  367,     30.0,  -1.4359,  32.9124,2,-999.0000,9,    326.0,2,   -999.0,9,     9.40,6,     8.09,6,     0.92,6, -999.000,9, -999.000,9, -999.000,9, -999.000,9, -999.000,9,   -999.0,9,   -999.0,9,  -1.5045, 20080529,      611
  18HU20080520, AR07W,   207,  1, 332052,     13,2,20080529,0556, 54.9565, -54.2798,  367,     20.0,  -1.5774,  32.7561,2,-999.0000,9,    329.4,2,   -999.0,9,    10.08,6,     7.93,6,     0.93,6, -999.000,9, -999.000,9, -999.000,9, -999.000,9, -999.000,9,   -999.0,9,   -999.0,9,  -1.6118, 20080529,      612
  18HU20080520, AR07W,   207,  1, 332053,     14,2,20080529,0556, 54.9565, -54.2798,  367,      9.0,  -0.3318,  32.3076,2,-999.0000,9,    372.1,2,    372.7,2,     5.09,6,     1.42,6,     0.52,6,    7.047,4,    4.077,4,    0.622,4,    7.938,4,    2.358,2,   2051.5,2,   2209.6,2,  -0.3115, 20080529,      613
  18HU20080520, AR07W,   207,  1, 332054,     15,2,20080529,0556, 54.9565, -54.2798,  367,      3.0,  -0.2950,  32.3063,2,-999.0000,9,    371.5,2,   -999.0,9,     4.87,6,     1.22,6,     0.52,6, -999.000,9, -999.000,9, -999.000,9, -999.000,9, -999.000,9,   -999.0,9,   -999.0,9,  -0.2944, 20080529,      614
  18HU20080520, AR07W,   211,  1, 332055,      1,2,20080529,0827, 54.7488, -54.4732,  243,    221.0,   1.6102,  34.2329,2,  34.2143,6,    310.8,2,    316.2,2,     7.57,6,    11.92,6,     0.88,6, -999.000,9, -999.000,9, -999.000,9, -999.000,9, -999.000,9,   2132.1,2,   2275.3,2,   1.5141, 20080529,      827
  18HU20080520, AR07W,   211,  1, 332056,      2,2,20080529,0827, 54.7488, -54.4732,  243,    200.0,   0.4971,  34.0251,2,  34.0081,2,    323.4,2,    324.7,2,     7.75,6,    10.87,6,     0.82,6, -999.000,9, -999.000,9, -999.000,9, -999.000,9, -999.000,9,   2124.4,2,   2262.5,2,   0.4075, 20080529,      829
  18HU20080520, AR07W,   211,  1, 332057,      3,2,20080529,0827, 54.7488, -54.4732,  243,    150.0,  -0.6839,  33.5987,2,  33.5724,2,    327.1,2,    327.3,6,     7.25,6,     9.64,6,     0.83,6, -999.000,9, -999.000,9, -999.000,9, -999.000,9, -999.000,9,   2118.3,2,   2244.7,2,  -0.7216, 20080529,      831
  18HU20080520, AR07W,   211,  1, 332058,      4,2,20080529,0827, 54.7488, -54.4732,  243,    127.0,  -1.0063,  33.3801,2,-999.0000,9,    326.1,2,    326.5,2,     8.23,6,     9.03,6,     0.85,6, -999.000,9, -999.000,9, -999.000,9, -999.000,9, -999.000,9,   2122.0,2,   2243.6,2,  -1.0399, 20080529,      832
  18HU20080520, AR07W,   211,  1, 332059,      5,2,20080529,0827, 54.7488, -54.4732,  243,    100.0,  -1.3324,  33.0513,2,-999.0000,9,    327.7,2,    329.4,2,     9.07,6,     8.39,6,     0.90,6,    6.965,4,    3.810,4,    0.585,4,    7.320,4,    3.096,2,   2125.6,2,   2238.7,2,  -1.3513, 20080529,      833
  18HU20080520, AR07W,   211,  1, 332060,      6,2,20080529,0827, 54.7488, -54.4732,  243,     79.0,  -1.4300,  32.9018,2,-999.0000,9,    328.7,2,   -999.0,9,     9.47,6,     8.13,6,     0.91,6, -999.000,9, -999.000,9, -999.000,9, -999.000,9, -999.000,9,   -999.0,9,   -999.0,9,  -1.4479, 20080529,      835
  18HU20080520, AR07W,   211,  1, 332061,      7,2,20080529,0827, 54.7488, -54.4732,  243,     60.0,  -1.5058,  32.8089,2,-999.0000,9,    329.9,2,   -999.0,9,     9.73,6,     8.06,6,     0.92,6, -999.000,9, -999.000,9, -999.000,9, -999.000,9, -999.000,9,   -999.0,9,   -999.0,9,  -1.5125, 20080529,      836
  18HU20080520, AR07W,   211,  1, 332062,      8,2,20080529,0827, 54.7488, -54.4732,  243,     50.0,  -1.5337,  32.7576,2,-999.0000,9,    328.5,2,    329.9,2,    10.32,6,     8.13,6,     0.93,6,    6.878,4,    4.017,4,    0.579,4,    6.982,4,    3.110,2,   2123.2,2,   2229.4,2,  -1.5535, 20080529,      837
  18HU20080520, AR07W,   211,  1, 332063,      9,2,20080529,0827, 54.7488, -54.4732,  243,     39.0,  -1.6272,  32.6610,2,-999.0000,9,    337.6,2,   -999.0,9,     9.57,6,     7.38,6,     0.90,6, -999.000,9, -999.000,9, -999.000,9, -999.000,9, -999.000,9,   -999.0,9,   -999.0,9,  -1.6280, 20080529,      837
  18HU20080520, AR07W,   211,  1, 332064,     10,2,20080529,0827, 54.7488, -54.4732,  243,     30.0,  -1.6193,  32.6312,2,-999.0000,9,    335.6,2,   -999.0,9,     9.18,6,     7.40,6,     0.90,6, -999.000,9, -999.000,9, -999.000,9, -999.000,9, -999.000,9,   -999.0,9,   -999.0,9,  -1.6192, 20080529,      838
  18HU20080520, AR07W,   211,  1, 332065,     11,2,20080529,0827, 54.7488, -54.4732,  243,     19.0,  -1.3928,  32.4023,2,-999.0000,9,    343.9,2,   -999.0,9,     7.55,6,     5.88,6,     0.80,6, -999.000,9, -999.000,9, -999.000,9, -999.000,9, -999.000,9,   -999.0,9,   -999.0,9,  -1.4120, 20080529,      840
  18HU20080520, AR07W,   211,  1, 332066,     12,2,20080529,0827, 54.7488, -54.4732,  243,      9.0,  -0.8743,  31.9736,2,-999.0000,9,    371.9,2,    374.4,2,     3.43,6,     0.71,6,     0.44,6,    6.938,4,    3.903,4,    0.612,4,    7.009,4,    3.123,2,   2037.6,2,   2192.1,2,  -0.8697, 20080529,      841
  18HU20080520, AR07W,   211,  1, 332067,     13,2,20080529,0827, 54.7488, -54.4732,  243,      3.0,  -0.7293,  31.8218,2,-999.0000,9,    381.3,2,   -999.0,9,     3.09,6,     0.47,6,     0.40,6, -999.000,9, -999.000,9, -999.000,9, -999.000,9, -999.000,9,   -999.0,9,   -999.0,9,  -0.7313, 20080529,      842
  18HU20080520, AR07W,   214,  1, 332068,      1,2,20080529,1118, 54.4918, -54.7495,  200,    190.0,  -0.5507,  33.6513,2,  33.6478,6,    323.7,2,   -999.0,9,     7.88,6,     9.83,6,     0.83,6,    6.936,4,    4.015,4,    0.584,4,    7.047,4,    3.134,2,   2120.7,2,   2246.4,2,  -0.5568, 20080529,     1118
  18HU20080520, AR07W,   214,  1, 332069,      2,2,20080529,1118, 54.4918, -54.7495,  200,    126.0,  -1.1621,  33.2628,2,  33.2351,2,    321.9,2,   -999.0,9,     8.75,6,     8.95,6,     0.88,6, -999.000,9, -999.000,9, -999.000,9, -999.000,9, -999.000,9,   2123.7,6,   2241.7,2,  -1.1686, 20080529,     1121
  18HU20080520, AR07W,   214,  1, 332070,      3,2,20080529,1118, 54.4918, -54.7495,  200,    124.0,  -1.1525,  33.2327,2,  33.2251,2,    323.0,2,    324.3,2,  -999.00,9,  -999.00,9,  -999.00,9, -999.000,9, -999.000,9, -999.000,9, -999.000,9, -999.000,9,   2123.9,2,   2239.7,2,  -1.1421, 20080529,     1123
  18HU20080520, AR07W,   214,  1, 332071,      4,2,20080529,1118, 54.4918, -54.7495,  200,    101.0,  -1.3960,  33.0028,2,-999.0000,9,    327.9,2,    332.0,2,     9.01,6,     8.06,6,     0.90,6,    7.193,4,    4.170,4,    0.648,4,    8.115,4,    2.242,2,   2124.8,2,   2232.0,2,  -1.4404, 20080529,     1124
  18HU20080520, AR07W,   214,  1, 332072,      5,2,20080529,1118, 54.4918, -54.7495,  200,     81.0,  -1.5121,  32.8928,2,-999.0000,9,    332.6,2,   -999.0,9,     9.09,6,     7.86,6,     0.90,6, -999.000,9, -999.000,9, -999.000,9, -999.000,9, -999.000,9,   -999.0,9,   -999.0,9,  -1.5236, 20080529,     1125
  18HU20080520, AR07W,   214,  1, 332073,      6,2,20080529,1118, 54.4918, -54.7495,  200,     61.0,  -1.5960,  32.7980,2,-999.0000,9,    333.2,2,   -999.0,9,     9.21,6,     7.69,6,     0.90,6, -999.000,9, -999.000,9, -999.000,9, -999.000,9, -999.000,9,   -999.0,9,   -999.0,9,  -1.6018, 20080529,     1126
  18HU20080520, AR07W,   214,  1, 332074,      7,2,20080529,1118, 54.4918, -54.7495,  200,     50.0,  -1.6751,  32.7398,2,-999.0000,9,    332.3,2,    333.2,2,     9.04,6,     7.45,6,     0.90,6,    7.295,4,    4.245,4,    0.636,4,    8.165,4,    2.366,2,   2125.8,2,   2234.3,2,  -1.6759, 20080529,     1128
  18HU20080520, AR07W,   214,  1, 332075,      8,2,20080529,1118, 54.4918, -54.7495,  200,     39.0,  -1.6781,  32.7047,2,-999.0000,9,    332.3,2,   -999.0,9,     9.06,6,     7.35,6,     0.90,6, -999.000,9, -999.000,9, -999.000,9, -999.000,9, -999.000,9,   -999.0,9,   -999.0,9,  -1.6791, 20080529,     1128
  18HU20080520, AR07W,   214,  1, 332076,      9,2,20080529,1118, 54.4918, -54.7495,  200,     30.0,  -1.6353,  32.6735,2,-999.0000,9,    333.2,2,   -999.0,9,     8.91,6,     7.28,6,     0.89,6, -999.000,9, -999.000,9, -999.000,9, -999.000,9, -999.000,9,   -999.0,9,   -999.0,9,  -1.6257, 20080529,     1129
  18HU20080520, AR07W,   214,  1, 332077,     10,2,20080529,1118, 54.4918, -54.7495,  200,     20.0,  -1.6072,  32.6432,2,-999.0000,9,    335.6,2,   -999.0,9,     8.58,6,     6.97,6,     0.87,6, -999.000,9, -999.000,9, -999.000,9, -999.000,9, -999.000,9,   -999.0,9,   -999.0,9,  -1.5738, 20080529,     1130
  18HU20080520, AR07W,   214,  1, 332078,     11,2,20080529,1118, 54.4918, -54.7495,  200,     11.0,  -0.3599,  31.5906,2,-999.0000,9,    370.6,2,    383.3,2,     0.97,6,     0.17,6,     0.23,6,    7.092,4,    4.163,4,    0.623,4,    7.302,4,    3.005,2,   1985.7,2,   2157.9,2,  -0.1689, 20080529,     1131
  18HU20080520, AR07W,   214,  1, 332079,     12,2,20080529,1118, 54.4918, -54.7495,  200,      3.0,  -0.0706,  31.3638,2,-999.0000,9,    385.9,2,   -999.0,9,     0.81,6,     0.00,6,     0.17,6, -999.000,9, -999.000,9, -999.000,9, -999.000,9, -999.000,9,   -999.0,9,   -999.0,9,  -0.0375, 20080529,     1132
  18HU20080520, AR07W,   217,  1, 332080,      1,2,20080529,1349, 54.2228, -55.0198,  170,    158.0,  -0.7260,  33.6137,2,  33.5676,2,    319.8,2,    317.3,2,     7.76,6,     9.78,6,     0.84,6,    7.284,4,    4.113,4,    0.652,4,    8.067,4,    2.487,2,   2118.6,2,   2242.7,3,  -0.8198, 20080529,     1349
  18HU20080520, AR07W,   217,  1, 332081,      2,2,20080529,1349, 54.2228, -55.0198,  170,    141.0,  -1.1692,  33.3783,2,  33.3602,2,    326.7,2,    321.6,2,     7.38,6,     8.92,6,     0.82,6, -999.000,9, -999.000,9, -999.000,9, -999.000,9, -999.000,9,   2116.8,2,   2235.5,2,  -1.2254, 20080529,     1350
  18HU20080520, AR07W,   217,  1, 332082,      3,2,20080529,1349, 54.2228, -55.0198,  170,    121.0,  -1.2744,  33.2571,2,-999.0000,9,    328.1,2,    328.3,6,     7.83,6,     8.51,6,     0.84,6, -999.000,9, -999.000,9, -999.000,9, -999.000,9, -999.000,9,   2118.9,2,   2236.8,2,  -1.2965, 20080529,     1351
  18HU20080520, AR07W,   217,  1, 332083,      4,2,20080529,1349, 54.2228, -55.0198,  170,    100.0,  -1.3714,  33.1032,2,  33.0941,2,    332.1,2,    331.6,2,     8.01,6,     8.03,6,     0.84,6,    6.456,4,    3.790,4,    0.565,4,    6.723,4,    2.666,2,   2121.0,2,   2236.7,2,  -1.3501, 20080529,     1352
  18HU20080520, AR07W,   217,  1, 332084,      5,2,20080529,1349, 54.2228, -55.0198,  170,     81.0,  -1.4382,  32.9000,2,-999.0000,9,    341.8,2,   -999.0,9,     8.61,6,     7.55,6,     0.87,6, -999.000,9, -999.000,9, -999.000,9, -999.000,9, -999.000,9,   -999.0,9,   -999.0,9,  -1.5939, 20080529,     1353
  18HU20080520, AR07W,   217,  1, 332085,      6,2,20080529,1349, 54.2228, -55.0198,  170,     60.0,  -1.5511,  32.8282,2,-999.0000,9,    332.0,2,   -999.0,9,     9.45,6,     7.94,6,     0.90,6, -999.000,9, -999.000,9, -999.000,9, -999.000,9, -999.000,9,   -999.0,9,   -999.0,9,  -1.5605, 20080529,     1354
  18HU20080520, AR07W,   217,  1, 332086,      7,2,20080529,1349, 54.2228, -55.0198,  170,     51.0,  -1.5627,  32.7914,2,  32.7808,2,    330.3,2,    333.0,2,     9.55,6,     7.93,6,     0.90,6,    6.953,4,    3.977,4,    0.599,4,    7.201,4,    3.121,2,   2125.1,2,   2228.0,2,  -1.5789, 20080529,     1355
  18HU20080520, AR07W,   217,  1, 332087,      8,2,20080529,1349, 54.2228, -55.0198,  170,     39.0,  -1.6300,  32.7280,2,-999.0000,9,    334.1,2,   -999.0,9,     9.45,6,     7.73,6,     0.90,6, -999.000,9, -999.000,9, -999.000,9, -999.000,9, -999.000,9,   -999.0,9,   -999.0,9,  -1.6298, 20080529,     1356
  18HU20080520, AR07W,   217,  1, 332088,      9,2,20080529,1349, 54.2228, -55.0198,  170,     29.0,  -1.5994,  32.6398,2,-999.0000,9,    337.7,2,   -999.0,9,     9.05,6,     7.31,6,     0.88,6, -999.000,9, -999.000,9, -999.000,9, -999.000,9, -999.000,9,   -999.0,9,   -999.0,9,  -1.6012, 20080529,     1357
  18HU20080520, AR07W,   217,  1, 332089,     10,2,20080529,1349, 54.2228, -55.0198,  170,     30.0,  -1.6195,  32.6601,2,-999.0000,9,    335.9,2,   -999.0,9,  -999.00,9,  -999.00,9,  -999.00,9, -999.000,9, -999.000,9, -999.000,9, -999.000,9, -999.000,9,   -999.0,9,   -999.0,9,  -1.6016, 20080529,     1357
  18HU20080520, AR07W,   217,  1, 332090,     11,2,20080529,1349, 54.2228, -55.0198,  170,     19.0,  -0.4988,  32.3238,2,  32.3324,6,    361.1,2,    366.1,2,     3.45,6,     1.58,6,     0.52,6, -999.000,9, -999.000,9, -999.000,9, -999.000,9, -999.000,9,   -999.0,9,   -999.0,9,  -0.4314, 20080529,     1358
  18HU20080520, AR07W,   217,  1, 332091,     12,2,20080529,1349, 54.2228, -55.0198,  170,      9.0,  -0.7335,  31.7814,2,-999.0000,9,    387.5,2,    388.6,2,     0.98,6,     0.18,6,     0.33,6,    7.057,4,    4.104,4,    0.606,4,    7.251,4,    3.117,2,   2006.8,2,   2175.7,2,  -0.7237, 20080529,     1359
  18HU20080520, AR07W,   217,  1, 332092,     13,2,20080529,1349, 54.2228, -55.0198,  170,      3.0,  -0.6174,  31.4320,2,  31.4163,2,    394.1,2,    396.8,2,     0.61,6,     0.00,6,     0.28,6, -999.000,9, -999.000,9, -999.000,9, -999.000,9, -999.000,9,   -999.0,9,   -999.0,9,  -0.6004, 20080529,     1400
  18HU20080520, AR07W,   217,  1, 332093,     14,2,20080529,1349, 54.2228, -55.0198,  170,      3.0,  -0.6174,  31.4320,2,-999.0000,9,    394.1,2,   -999.0,9,  -999.00,9,  -999.00,9,  -999.00,9, -999.000,9, -999.000,9, -999.000,9, -999.000,9, -999.000,9,   -999.0,9,   -999.0,9,  -0.6061, 20080529,     1400