BOTTLE,20130611PRINUNIVRMK
EXPOCODE,SECT_ID,STNNBR,CASTNO,SAMPNO,BTLNBR,BTLNBR_FLAG_W,DATE,TIME,LATITUDE,LONGITUDE,DEPTH,CTDPRS,CTDTMP,CTDSAL,CTDSAL_FLAG_W,SALNTY,SALNTY_FLAG_W,CTDOXY,CTDOXY_FLAG_W,OXYGEN,OXYGEN_FLAG_W,SILCAT,SILCAT_FLAG_W,NITRAT,NITRAT_FLAG_W,PHSPHT,PHSPHT_FLAG_W,CFC-11,CFC-11_FLAG_W,CFC-12,CFC-12_FLAG_W,CFC113,CFC113_FLAG_W,CCL4,CCL4_FLAG_W,MCHFRM,MCHFRM_FLAG_W,TCARBN,TCARBN_FLAG_W,ALKALI,ALKALI_FLAG_W,THETA,BTL_DATE,BTL_TIME
,,,,,,,,,,,METERS,DBAR,ITS-90,PSS-78,,PSS-78,,UMOL/KG,,UMOL/KG,,UMOL/KG,,UMOL/KG,,UMOL/KG,,PMOL/KG,,PMOL/KG,,PMOL/KG,,PMOL/KG,,PMOL/KG,,UMOL/KG,,UMOL/KG,,DEG C,,
  18HU20080520, AR07W,   152,  1, 331872,      1,2,20080527,1855, 56.5357, -52.6805, 3426,   3507.0,   1.8100,  34.8959,2,  34.8947,2,    293.7,2,    292.4,2,    10.30,6,    14.04,6,     0.97,6,    3.180,4,    1.455,4,    0.125,4,    3.190,4,    5.388,2,   2163.3,2,   2304.4,3,   1.5332, 20080527,     1855
  18HU20080520, AR07W,   152,  1, 331873,      2,2,20080527,1855, 56.5357, -52.6805, 3426,   3461.0,   1.8852,  34.8960,2,  34.8947,2,    291.5,2,    298.5,3,    10.17,6,    14.15,6,     0.98,6,    4.140,4,    2.110,4,    0.260,4,    4.021,4,    4.451,2,   2162.2,2,   2301.4,2,   1.6177, 20080527,     1856
  18HU20080520, AR07W,   152,  1, 331874,      3,2,20080527,1855, 56.5357, -52.6805, 3426,   3380.0,   2.0934,  34.8969,2,  34.8958,2,    288.1,2,    302.2,3,    10.78,6,    14.48,6,     1.00,6,    4.337,4,    2.275,4,    0.298,4,    4.227,4,    4.223,2,   2161.1,2,   2303.7,2,   1.8313, 20080527,     1858
  18HU20080520, AR07W,   152,  1, 331875,      4,2,20080527,1855, 56.5357, -52.6805, 3426,   3278.0,   2.3085,  34.8998,2,  34.8987,2,    281.2,2,    282.9,2,    13.05,6,    15.26,6,     1.05,6, -999.000,9, -999.000,9, -999.000,9, -999.000,9, -999.000,9,   2163.3,2,   2302.6,2,   2.0412, 20080527,     1900
  18HU20080520, AR07W,   152,  1, 331876,      5,2,20080527,1855, 56.5357, -52.6805, 3426,   3156.0,   2.4817,  34.9063,2,  34.9054,2,    277.8,2,    279.2,2,    13.82,6,    15.65,6,     1.07,6, -999.000,9, -999.000,9, -999.000,9, -999.000,9, -999.000,9,   2164.1,2,   2309.7,2,   2.2255, 20080527,     1902
  18HU20080520, AR07W,   152,  1, 331877,      6,2,20080527,1855, 56.5357, -52.6805, 3426,   3028.0,   2.6404,  34.9138,2,  34.9134,6,    275.4,2,    277.6,2,    13.68,6,    15.99,6,     1.08,6,    3.630,4,    1.726,4,    0.184,4,    3.615,4,    4.341,2,   2164.6,2,   2306.9,2,   2.3947, 20080527,     1904
  18HU20080520, AR07W,   152,  1, 331878,      7,2,20080527,1855, 56.5357, -52.6805, 3426,   2857.0,   2.8036,  34.9176,2,  34.9162,2,    274.1,2,    276.4,6,    13.45,6,    16.17,6,     1.09,6, -999.000,9, -999.000,9, -999.000,9, -999.000,9, -999.000,9,   2166.2,2,   2307.1,2,   2.5713, 20080527,     1907
  18HU20080520, AR07W,   152,  1, 331879,      8,2,20080527,1855, 56.5357, -52.6805, 3426,   2655.0,   2.9365,  34.9124,2,  34.9124,2,    274.8,2,    276.9,2,    12.19,6,    16.07,6,     1.08,6, -999.000,9, -999.000,9, -999.000,9, -999.000,9, -999.000,9,   2161.7,2,   2306.7,2,   2.7214, 20080527,     1910
  18HU20080520, AR07W,   152,  1, 331880,      9,2,20080527,1855, 56.5357, -52.6805, 3426,   2443.0,   3.0994,  34.9078,2,  34.9067,2,    274.8,2,    278.3,2,    11.36,6,    16.15,6,     1.09,6,    5.414,4,    3.033,4,    0.443,4,    6.081,4,    1.538,2,   2164.1,2,   2303.0,2,   2.9039, 20080527,     1914
  18HU20080520, AR07W,   152,  1, 331881,     10,2,20080527,1855, 56.5357, -52.6805, 3426,   2210.0,   3.2284,  34.9019,2,  34.9005,6,    274.5,2,    277.1,2,    11.09,6,    16.32,6,     1.10,6, -999.000,9, -999.000,9, -999.000,9, -999.000,9, -999.000,9,   2160.0,2,   2301.2,2,   3.0533, 20080527,     1918
  18HU20080520, AR07W,   152,  1, 331882,     11,2,20080527,1855, 56.5357, -52.6805, 3426,   1972.0,   3.3797,  34.9020,2,-999.0000,9,    273.5,2,    275.8,2,    10.97,6,    16.60,6,     1.12,6,    3.962,4,    2.019,4,    0.267,4,    3.917,4,    4.428,2,   2161.5,2,   2300.5,2,   3.2239, 20080527,     1922
  18HU20080520, AR07W,   152,  1, 331883,     12,2,20080527,1855, 56.5357, -52.6805, 3426,   1733.0,   3.5423,  34.9000,2,  34.8987,2,    272.4,2,    274.7,2,    10.60,6,    16.80,6,     1.11,6, -999.000,9, -999.000,9, -999.000,9, -999.000,9, -999.000,9,   2162.9,2,   2300.4,2,   3.4065, 20080527,     1927
  18HU20080520, AR07W,   152,  1, 331884,     13,2,20080527,1855, 56.5357, -52.6805, 3426,   1500.0,   3.5145,  34.8725,2,  34.8706,2,    282.4,2,    285.0,6,     9.41,6,    16.22,6,     1.09,6,    4.908,4,    2.825,4,    0.382,4,    5.211,4,    1.886,2,   2162.0,2,   2300.0,2,   3.3996, 20080527,     1931
  18HU20080520, AR07W,   152,  1, 331885,     14,2,20080527,1855, 56.5357, -52.6805, 3426,   1282.0,   3.4346,  34.8538,2,  34.8545,2,    289.3,2,    291.8,2,     8.84,6,    15.83,6,     1.07,6, -999.000,9, -999.000,9, -999.000,9, -999.000,9, -999.000,9,   2162.6,2,   2298.9,2,   3.3503, 20080527,     1935
  18HU20080520, AR07W,   152,  1, 331886,     15,2,20080527,1855, 56.5357, -52.6805, 3426,   1071.0,   3.4319,  34.8495,2,  34.8480,2,    291.6,2,    293.5,2,     8.53,6,    15.64,6,     1.07,6,    2.758,4,    1.212,4,    0.117,4,    2.876,4,    4.517,2,   2160.1,2,   2298.0,2,   3.3539, 20080527,     1939
  18HU20080520, AR07W,   152,  1, 331887,     16,2,20080527,1855, 56.5357, -52.6805, 3426,    870.0,   3.4286,  34.8483,2,  34.8473,2,    293.0,2,    294.8,2,     8.59,6,    15.73,6,     1.05,6, -999.000,9, -999.000,9, -999.000,9, -999.000,9, -999.000,9,   2158.4,2,   2293.6,2,   3.3652, 20080527,     1943
  18HU20080520, AR07W,   152,  1, 331888,     17,2,20080527,1855, 56.5357, -52.6805, 3426,    679.0,   3.4305,  34.8473,2,-999.0000,9,    293.1,2,   -999.0,9,  -999.00,9,  -999.00,9,  -999.00,9, -999.000,9, -999.000,9, -999.000,9, -999.000,9, -999.000,9,   -999.0,9,   -999.0,9,   3.3834, 20080527,     1946
  18HU20080520, AR07W,   152,  1, 331889,     18,2,20080527,1855, 56.5357, -52.6805, 3426,    511.0,   3.4572,  34.8467,2,  34.8433,2,    292.6,2,    296.6,2,     8.27,6,    15.57,6,     1.05,6, -999.000,9, -999.000,9, -999.000,9, -999.000,9, -999.000,9,   2160.6,2,   2297.1,2,   3.4219, 20080527,     1949
  18HU20080520, AR07W,   152,  1, 331890,     19,2,20080527,1855, 56.5357, -52.6805, 3426,    360.0,   3.4832,  34.8412,2,  34.8391,2,    292.0,2,    294.2,2,     8.41,6,    15.68,6,     1.06,6, -999.000,9, -999.000,9, -999.000,9, -999.000,9, -999.000,9,   2159.8,2,   2301.0,2,   3.4535, 20080527,     1952
  18HU20080520, AR07W,   152,  1, 331891,     20,2,20080527,1855, 56.5357, -52.6805, 3426,    239.0,   3.5380,  34.8317,2,  34.8309,2,    298.7,2,    300.4,2,     8.11,6,    15.14,6,     1.04,6, -999.000,9, -999.000,9, -999.000,9, -999.000,9, -999.000,9,   2164.3,2,   2297.4,2,   3.5241, 20080527,     1954
  18HU20080520, AR07W,   152,  1, 331892,     21,2,20080527,1855, 56.5357, -52.6805, 3426,    138.0,   3.8051,  34.8468,2,-999.0000,9,    293.5,2,    295.6,2,     7.86,6,    15.15,6,     1.04,6,    3.333,4,    1.531,4,    0.143,4,    3.239,4,    5.816,2,   2161.5,2,   2296.1,2,   3.7986, 20080527,     1956
  18HU20080520, AR07W,   152,  1, 331893,     22,2,20080527,1855, 56.5357, -52.6805, 3426,     70.0,   3.8521,  34.8103,2,-999.0000,9,    299.2,2,    301.3,2,     7.82,6,    14.66,6,     1.01,6,    4.769,4,    2.684,4,    0.373,4,    4.959,4,    2.134,2,   2154.2,2,   2295.6,2,   3.8513, 20080527,     1957
  18HU20080520, AR07W,   152,  1, 331894,     23,2,20080527,1855, 56.5357, -52.6805, 3426,     35.0,   4.3669,  34.7657,2,-999.0000,9,    317.2,2,    319.2,2,     7.84,6,    10.85,6,     0.81,6, -999.000,9, -999.000,9, -999.000,9, -999.000,9, -999.000,9,   2135.5,2,   2299.2,2,   4.3876, 20080527,     1959
  18HU20080520, AR07W,   152,  1, 331895,     24,2,20080527,1855, 56.5357, -52.6805, 3426,      4.0,   4.7146,  34.7548,2,-999.0000,9,    336.5,2,    339.4,2,     5.15,6,     7.87,6,     0.60,6,    4.806,4,    2.651,4,    0.358,4,    4.857,4,    3.109,2,   2115.3,2,   2301.8,2,   4.7069, 20080527,     2000
  18HU20080520, AR07W,   161,  1, 331896,      1,2,20080527,2330, 56.1133, -53.1168, 3251,   3358.0,   1.7564,  34.8954,2,-999.0000,9,    294.4,2,   -999.0,9,  -999.00,9,  -999.00,9,  -999.00,9, -999.000,9, -999.000,9, -999.000,9, -999.000,9, -999.000,9,   -999.0,9,   -999.0,9,   1.4965, 20080527,     2330
  18HU20080520, AR07W,   161,  1, 331897,      2,2,20080527,2330, 56.1133, -53.1168, 3251,   3301.0,   1.8064,  34.8956,2,  34.8954,2,    292.5,2,    292.0,2,    10.24,6,    13.91,6,     0.97,6, -999.000,9, -999.000,9, -999.000,9, -999.000,9, -999.000,9,   2161.6,2,   2299.5,2,   1.5569, 20080527,     2332
  18HU20080520, AR07W,   161,  1, 331898,      3,2,20080527,2330, 56.1133, -53.1168, 3251,   3221.0,   1.8975,  34.8960,2,  34.8956,2,    290.8,2,    291.3,6,    11.41,6,    14.00,6,     0.97,6, -999.000,9, -999.000,9, -999.000,9, -999.000,9, -999.000,9,   2161.2,2,   2301.2,2,   1.6550, 20080527,     2334
  18HU20080520, AR07W,   161,  1, 331899,      4,2,20080527,2330, 56.1133, -53.1168, 3251,   3120.0,   2.1702,  34.8977,2,  34.8976,2,    285.3,2,    286.4,2,    11.36,6,    14.58,6,     1.01,6, -999.000,9, -999.000,9, -999.000,9, -999.000,9, -999.000,9,   2161.0,2,   2305.2,2,   1.9343, 20080527,     2336
  18HU20080520, AR07W,   161,  1, 331900,      5,2,20080527,2330, 56.1133, -53.1168, 3251,   3000.0,   2.4122,  34.9042,2,  34.9036,2,    280.1,2,    281.5,2,    12.50,6,    15.29,6,     1.05,6, -999.000,9, -999.000,9, -999.000,9, -999.000,9, -999.000,9,   2162.1,2,   2310.8,2,   2.1765, 20080527,     2338
  18HU20080520, AR07W,   161,  1, 331901,      6,2,20080527,2330, 56.1133, -53.1168, 3251,   2860.0,   2.6139,  34.9115,2,  34.9114,6,    277.6,2,    279.7,2,    12.33,6,    15.39,6,     1.06,6, -999.000,9, -999.000,9, -999.000,9, -999.000,9, -999.000,9,   2161.4,2,   2307.2,2,   2.3851, 20080527,     2341
  18HU20080520, AR07W,   161,  1, 331902,      7,2,20080527,2330, 56.1133, -53.1168, 3251,   2700.0,   2.7783,  34.9148,2,  34.9136,2,    275.3,2,    278.2,2,    12.14,6,    15.65,6,     1.07,6, -999.000,9, -999.000,9, -999.000,9, -999.000,9, -999.000,9,   2161.2,2,   2308.0,2,   2.5673, 20080527,     2343
  18HU20080520, AR07W,   161,  1, 331903,      8,2,20080527,2330, 56.1133, -53.1168, 3251,   2520.0,   2.9062,  34.9123,2,  34.9111,6,    274.4,2,    276.6,2,    11.97,6,    15.95,6,     1.08,6, -999.000,9, -999.000,9, -999.000,9, -999.000,9, -999.000,9,   2160.7,2,   2308.0,2,   2.7063, 20080527,     2346
  18HU20080520, AR07W,   161,  1, 331904,      9,2,20080527,2330, 56.1133, -53.1168, 3251,   2320.0,   3.0679,  34.9101,2,  34.9084,2,    275.1,2,    277.5,2,    11.25,6,    15.89,6,     1.08,6, -999.000,9, -999.000,9, -999.000,9, -999.000,9, -999.000,9,   2158.9,2,   2310.2,2,   2.8848, 20080527,     2350
  18HU20080520, AR07W,   161,  1, 331905,     10,2,20080527,2330, 56.1133, -53.1168, 3251,   2101.0,   3.1990,  34.9058,2,  34.9033,2,    275.1,2,    277.2,2,    10.71,6,    16.06,6,     1.12,6, -999.000,9, -999.000,9, -999.000,9, -999.000,9, -999.000,9,   2159.7,2,   2310.3,2,   3.0339, 20080527,     2353
  18HU20080520, AR07W,   161,  1, 331906,     11,2,20080527,2330, 56.1133, -53.1168, 3251,   1879.0,   3.3398,  34.9042,2,  34.9017,2,    274.1,2,    276.6,2,    10.49,6,    16.15,6,     1.11,6, -999.000,9, -999.000,9, -999.000,9, -999.000,9, -999.000,9,   2159.6,2,   2306.5,2,   3.1927, 20080527,     2357
  18HU20080520, AR07W,   161,  1, 331907,     12,2,20080527,2330, 56.1133, -53.1168, 3251,   1640.0,   3.5124,  34.9045,2,  34.9025,2,    272.2,2,    274.5,2,    10.39,6,    16.48,6,     1.12,6, -999.000,9, -999.000,9, -999.000,9, -999.000,9, -999.000,9,   2161.5,2,   2307.9,2,   3.3838, 20080528,        0
  18HU20080520, AR07W,   161,  1, 331908,     13,2,20080527,2330, 56.1133, -53.1168, 3251,   1401.0,   3.5303,  34.8815,2,  34.8787,2,    280.4,2,    283.5,2,     9.18,6,    16.12,6,     1.08,6, -999.000,9, -999.000,9, -999.000,9, -999.000,9, -999.000,9,   2160.4,2,   2305.4,2,   3.4188, 20080528,        4
  18HU20080520, AR07W,   161,  1, 331909,     14,2,20080527,2330, 56.1133, -53.1168, 3251,   1180.0,   3.4041,  34.8557,2,  34.8543,2,    290.7,2,    292.8,6,     8.38,6,    15.77,6,     1.06,6, -999.000,9, -999.000,9, -999.000,9, -999.000,9, -999.000,9,   2157.5,2,   2304.0,2,   3.3176, 20080528,        7
  18HU20080520, AR07W,   161,  1, 331910,     15,2,20080527,2330, 56.1133, -53.1168, 3251,    960.0,   3.4193,  34.8564,2,  34.8557,2,    290.3,2,    291.8,2,     8.44,6,    15.89,6,     1.06,6, -999.000,9, -999.000,9, -999.000,9, -999.000,9, -999.000,9,   2158.7,2,   2306.1,2,   3.3540, 20080528,       11
  18HU20080520, AR07W,   161,  1, 331911,     16,2,20080527,2330, 56.1133, -53.1168, 3251,    760.0,   3.4203,  34.8528,2,  34.8515,2,    290.8,2,    292.9,2,     8.33,6,    15.83,6,     1.06,6, -999.000,9, -999.000,9, -999.000,9, -999.000,9, -999.000,9,   2158.5,2,   2307.3,2,   3.3682, 20080528,       14
  18HU20080520, AR07W,   161,  1, 331912,     17,2,20080527,2330, 56.1133, -53.1168, 3251,    580.0,   3.4457,  34.8508,2,-999.0000,9,    290.9,2,   -999.0,9,  -999.00,9,  -999.00,9,  -999.00,9, -999.000,9, -999.000,9, -999.000,9, -999.000,9, -999.000,9,   -999.0,9,   -999.0,9,   3.4055, 20080528,       17
  18HU20080520, AR07W,   161,  1, 331913,     18,2,20080527,2330, 56.1133, -53.1168, 3251,    429.0,   3.5173,  34.8548,2,  34.8525,2,    288.9,2,    290.6,2,     8.30,6,    15.78,6,     1.04,6, -999.000,9, -999.000,9, -999.000,9, -999.000,9, -999.000,9,   2158.4,2,   2305.8,2,   3.4878, 20080528,       19
  18HU20080520, AR07W,   161,  1, 331914,     19,2,20080527,2330, 56.1133, -53.1168, 3251,    310.0,   3.5090,  34.8446,2,  34.8422,2,    291.4,2,    293.5,2,     7.99,6,    15.50,6,     1.02,6, -999.000,9, -999.000,9, -999.000,9, -999.000,9, -999.000,9,   2156.8,2,   2306.9,2,   3.4907, 20080528,       21
  18HU20080520, AR07W,   161,  1, 331915,     20,2,20080527,2330, 56.1133, -53.1168, 3251,    200.0,   3.4290,  34.8210,2,  34.8187,2,    302.2,2,    304.8,2,     7.78,6,    15.16,6,     1.01,6, -999.000,9, -999.000,9, -999.000,9, -999.000,9, -999.000,9,   2153.9,3,   2307.0,2,   3.4182, 20080528,       23
  18HU20080520, AR07W,   161,  1, 331916,     21,2,20080527,2330, 56.1133, -53.1168, 3251,    120.0,   3.5794,  34.8144,2,  34.8124,2,    300.9,2,    302.9,2,     7.98,6,    15.27,6,     1.03,6, -999.000,9, -999.000,9, -999.000,9, -999.000,9, -999.000,9,   2154.7,2,   2308.4,2,   3.5701, 20080528,       25
  18HU20080520, AR07W,   161,  1, 331917,     22,2,20080527,2330, 56.1133, -53.1168, 3251,     60.0,   4.2558,  34.7728,2,  34.7648,2,    313.9,2,    318.9,2,     5.86,6,    10.41,6,     0.77,6, -999.000,9, -999.000,9, -999.000,9, -999.000,9, -999.000,9,   2130.2,2,   2311.7,2,   4.2764, 20080528,       27
  18HU20080520, AR07W,   161,  1, 331918,     23,2,20080527,2330, 56.1133, -53.1168, 3251,     30.0,   4.3868,  34.7088,2,  34.7075,2,    333.8,2,    339.4,2,     4.03,6,     7.39,6,     0.55,6, -999.000,9, -999.000,9, -999.000,9, -999.000,9, -999.000,9,   2105.7,2,   2304.6,2,   4.3920, 20080528,       28
  18HU20080520, AR07W,   161,  1, 331919,     24,2,20080527,2330, 56.1133, -53.1168, 3251,      3.0,   4.6877,  34.6215,2,  34.6082,2,    348.1,2,    349.6,2,     3.01,6,     5.03,6,     0.41,6, -999.000,9, -999.000,9, -999.000,9, -999.000,9, -999.000,9,   2088.6,2,   2301.8,2,   4.7034, 20080528,       30