BOTTLE,20130611PRINUNIVRMK
EXPOCODE,SECT_ID,STNNBR,CASTNO,SAMPNO,BTLNBR,BTLNBR_FLAG_W,DATE,TIME,LATITUDE,LONGITUDE,DEPTH,CTDPRS,CTDTMP,CTDSAL,CTDSAL_FLAG_W,SALNTY,SALNTY_FLAG_W,CTDOXY,CTDOXY_FLAG_W,OXYGEN,OXYGEN_FLAG_W,SILCAT,SILCAT_FLAG_W,NITRAT,NITRAT_FLAG_W,PHSPHT,PHSPHT_FLAG_W,CFC-11,CFC-11_FLAG_W,CFC-12,CFC-12_FLAG_W,CFC113,CFC113_FLAG_W,CCL4,CCL4_FLAG_W,MCHFRM,MCHFRM_FLAG_W,TCARBN,TCARBN_FLAG_W,ALKALI,ALKALI_FLAG_W,THETA,BTL_DATE,BTL_TIME
,,,,,,,,,,,METERS,DBAR,ITS-90,PSS-78,,PSS-78,,UMOL/KG,,UMOL/KG,,UMOL/KG,,UMOL/KG,,UMOL/KG,,PMOL/KG,,PMOL/KG,,PMOL/KG,,PMOL/KG,,PMOL/KG,,UMOL/KG,,UMOL/KG,,DEG C,,
  18HU20080520, AR07W,    86,  1, 331702,      1,2,20080526,0650, 59.0698, -49.9543, 3381,   3500.0,   1.7129,  34.8959,2,  34.8933,2,    295.7,2,    309.2,3,     9.85,6,    14.14,6,     0.97,6,    4.828,4,    2.756,4,    0.438,4,    5.235,4,    1.696,2,   2163.1,2,   2311.4,2,   1.4401, 20080526,      650
  18HU20080520, AR07W,    86,  1, 331703,      2,2,20080526,0650, 59.0698, -49.9543, 3381,   3447.0,   1.8685,  34.8957,2,  34.8956,2,    292.6,2,    291.2,2,    10.16,6,    14.22,6,     0.98,6,    5.235,4,    3.061,4,    0.457,4,    5.967,4,    1.380,2,   2162.0,2,   2297.4,2,   1.6003, 20080526,      652
  18HU20080520, AR07W,    86,  1, 331704,      3,2,20080526,0650, 59.0698, -49.9543, 3381,   3372.0,   2.0363,  34.8965,2,  34.8953,2,    289.3,2,    288.0,2,    10.93,6,    14.65,6,     1.02,6,    4.905,4,    2.819,4,    0.444,4,    5.615,4,    1.372,2,   2159.1,2,   2303.7,2,   1.7806, 20080526,      654
  18HU20080520, AR07W,    86,  1, 331705,      4,2,20080526,0650, 59.0698, -49.9543, 3381,   3267.0,   2.2603,  34.8994,2,  34.8986,2,    283.5,2,    283.4,2,    12.53,6,    15.60,6,     1.04,6, -999.000,9, -999.000,9, -999.000,9, -999.000,9, -999.000,9,   2161.6,2,   2302.2,3,   1.9981, 20080526,      656
  18HU20080520, AR07W,    86,  1, 331706,      5,2,20080526,0650, 59.0698, -49.9543, 3381,   3149.0,   2.4401,  34.9046,2,  34.8986,2,    279.3,2,    279.6,2,    13.43,6,    15.61,6,     1.06,6, -999.000,9, -999.000,9, -999.000,9, -999.000,9, -999.000,9,   2162.0,2,   2297.2,2,   2.1869, 20080526,      700
  18HU20080520, AR07W,    86,  1, 331707,      6,2,20080526,0650, 59.0698, -49.9543, 3381,   3016.0,   2.5968,  34.9115,2,  34.9121,6,    276.4,2,    277.6,2,    13.48,6,    16.30,6,     1.08,6,    4.153,4,    2.169,4,    0.298,4,    4.165,4,    4.399,2,   2164.2,2,   2291.4,2,   2.3559, 20080526,      703
  18HU20080520, AR07W,    86,  1, 331708,      7,2,20080526,0650, 59.0698, -49.9543, 3381,   2862.0,   2.7699,  34.9166,2,  34.9162,2,    275.0,2,    276.5,2,    13.07,6,    15.96,6,     1.09,6, -999.000,9, -999.000,9, -999.000,9, -999.000,9, -999.000,9,   2161.9,2,   2295.0,2,   2.5434, 20080526,      706
  18HU20080520, AR07W,    86,  1, 331709,      8,2,20080526,0650, 59.0698, -49.9543, 3381,   2662.0,   2.9301,  34.9129,2,  34.9118,2,    274.6,2,    276.0,2,    12.45,6,    16.24,6,     1.10,6, -999.000,9, -999.000,9, -999.000,9, -999.000,9, -999.000,9,   2160.7,2,   2295.9,2,   2.7167, 20080526,      709
  18HU20080520, AR07W,    86,  1, 331710,      9,2,20080526,0650, 59.0698, -49.9543, 3381,   2437.0,   3.0858,  34.9091,2,  34.9086,6,    274.7,2,    276.1,2,    11.78,6,    16.08,6,     1.09,6,    4.003,4,    1.872,4,    0.270,4,    4.032,4,    4.568,2,   2160.7,2,   2296.8,2,   2.8911, 20080526,      713
  18HU20080520, AR07W,    86,  1, 331711,     10,2,20080526,0650, 59.0698, -49.9543, 3381,   2208.0,   3.2882,  34.9110,2,  34.9102,2,    274.1,2,    276.1,2,    11.13,6,    16.24,6,     1.09,6, -999.000,9, -999.000,9, -999.000,9, -999.000,9, -999.000,9,   2162.1,2,   2293.8,2,   3.1114, 20080526,      717
  18HU20080520, AR07W,    86,  1, 331712,     11,2,20080526,0650, 59.0698, -49.9543, 3381,   1963.0,   3.4889,  34.9110,2,  34.9107,2,    273.0,2,    273.6,2,    11.03,6,    16.49,6,     1.12,6,    4.209,4,    2.714,4,    0.264,4,    4.099,4,    4.977,2,   2161.1,2,   2296.1,2,   3.3318, 20080526,      722
  18HU20080520, AR07W,    86,  1, 331713,     12,2,20080526,0650, 59.0698, -49.9543, 3381,   1729.0,   3.6218,  34.8998,2,  34.8995,2,    273.9,2,    274.7,2,    10.53,6,    16.54,6,     1.11,6, -999.000,9, -999.000,9, -999.000,9, -999.000,9, -999.000,9,   2163.1,3,   2300.0,2,   3.4890, 20080526,      726
  18HU20080520, AR07W,    86,  1, 331714,     13,2,20080526,0650, 59.0698, -49.9543, 3381,   1500.0,   3.4648,  34.8603,2,  34.8606,2,    288.8,2,    375.7,4,     9.38,6,    16.00,6,     1.07,6,    2.826,4,    1.332,4,    0.139,4,    2.976,4,    4.558,2,   2158.6,2,   2294.9,2,   3.3545, 20080526,      730
  18HU20080520, AR07W,    86,  1, 331715,     14,2,20080526,0650, 59.0698, -49.9543, 3381,   1284.0,   3.4617,  34.8543,2,  34.8538,2,    290.1,2,    290.7,2,     9.01,6,    15.83,6,     1.06,6, -999.000,9, -999.000,9, -999.000,9, -999.000,9, -999.000,9,   2159.4,2,   2290.2,2,   3.3637, 20080526,      734
  18HU20080520, AR07W,    86,  1, 331716,     15,2,20080526,0650, 59.0698, -49.9543, 3381,   1071.0,   3.4773,  34.8519,2,  34.8514,2,    291.0,2,    291.7,2,     8.84,6,    15.65,6,     1.06,6,    3.136,4,    1.539,4,    0.156,4,    3.169,4,    5.438,2,   2156.3,2,   2290.5,2,   3.3993, 20080526,      737
  18HU20080520, AR07W,    86,  1, 331717,     16,2,20080526,0650, 59.0698, -49.9543, 3381,    871.0,   3.4844,  34.8476,2,  34.8481,2,    291.8,2,    292.3,2,     8.63,6,    15.80,6,     1.05,6, -999.000,9, -999.000,9, -999.000,9, -999.000,9, -999.000,9,   2155.8,2,   2291.5,2,   3.4246, 20080526,      741
  18HU20080520, AR07W,    86,  1, 331718,     17,2,20080526,0650, 59.0698, -49.9543, 3381,    683.0,   3.5057,  34.8428,2,  34.8394,2,    291.9,2,    292.3,2,     8.48,6,    15.16,6,     1.03,6, -999.000,9, -999.000,9, -999.000,9, -999.000,9, -999.000,9,   2153.4,2,   2294.0,2,   3.4614, 20080526,      744
  18HU20080520, AR07W,    86,  1, 331719,     18,2,20080526,0650, 59.0698, -49.9543, 3381,    508.0,   3.5902,  34.8426,2,  34.8393,2,    290.1,2,    290.9,2,     8.41,6,    15.17,6,     1.02,6,    3.496,4,    1.712,4,    0.171,4,    3.357,4,    5.661,2,   2151.6,2,   2296.2,2,   3.5547, 20080526,      748
  18HU20080520, AR07W,    86,  1, 331720,     19,2,20080526,0650, 59.0698, -49.9543, 3381,    361.0,   3.6350,  34.8339,2,  34.8293,2,    291.7,2,    292.2,2,     8.15,6,    14.95,6,     1.01,6, -999.000,9, -999.000,9, -999.000,9, -999.000,9, -999.000,9,   2149.5,2,   2292.9,2,   3.6011, 20080526,      751
  18HU20080520, AR07W,    86,  1, 331721,     20,2,20080526,0650, 59.0698, -49.9543, 3381,    238.0,   3.7711,  34.8372,2,-999.0000,9,    290.4,2,    290.7,2,     8.09,6,    14.90,6,     1.01,6, -999.000,9, -999.000,9, -999.000,9, -999.000,9, -999.000,9,   2152.5,2,   2293.4,2,   3.7695, 20080526,      753
  18HU20080520, AR07W,    86,  1, 331722,     21,2,20080526,0650, 59.0698, -49.9543, 3381,    138.0,   4.0823,  34.8421,2,-999.0000,9,    289.0,2,    289.3,2,     8.04,6,    14.83,6,     1.01,6,    4.665,4,    2.511,4,    0.379,4,    4.710,4,    3.631,2,   2151.8,2,   2295.0,2,   4.0647, 20080526,      756
  18HU20080520, AR07W,    86,  1, 331723,     22,2,20080526,0650, 59.0698, -49.9543, 3381,     69.0,   3.5385,  34.7040,2,-999.0000,9,    302.8,2,    303.2,2,     7.59,6,    13.94,6,     0.96,6,    4.757,4,    2.616,4,    0.380,4,    4.844,4,    3.107,2,   2146.4,2,   2286.9,2,   3.5178, 20080526,      758
  18HU20080520, AR07W,    86,  1, 331724,     23,2,20080526,0650, 59.0698, -49.9543, 3381,     35.0,   4.0367,  34.4084,2,-999.0000,9,    333.7,2,    334.5,2,     4.80,6,     5.84,6,     0.40,6, -999.000,9, -999.000,9, -999.000,9, -999.000,9, -999.000,9,   2097.0,2,   2276.9,2,   4.0395, 20080526,      759
  18HU20080520, AR07W,    86,  1, 331725,     24,2,20080526,0650, 59.0698, -49.9543, 3381,      3.0,   4.0414,  34.4071,2,-999.0000,9,    335.1,2,    334.7,2,     4.82,6,     5.89,6,     0.40,6,    4.649,4,    2.589,4,    0.370,4,    4.695,4,    2.445,2,   2095.4,2,   2278.1,2,   4.0423, 20080526,      800
  18HU20080520, AR07W,    96,  1, 331726,      1,2,20080526,1207, 58.6398, -50.4125, 3444,    200.0,   4.1544,  34.8790,2,  34.8797,2,    294.1,2,    291.6,2,     8.19,6,    15.01,6,     0.99,6, -999.000,9, -999.000,9, -999.000,9, -999.000,9, -999.000,9,   -999.0,9,   -999.0,9,   4.1363, 20080526,     1207
  18HU20080520, AR07W,    96,  1, 331727,      2,2,20080526,1207, 58.6398, -50.4125, 3444,    151.0,   4.2064,  34.8717,2,  34.8693,2,    295.4,2,    293.2,2,     8.03,6,    14.95,6,     1.00,6, -999.000,9, -999.000,9, -999.000,9, -999.000,9, -999.000,9,   -999.0,9,   -999.0,9,   4.2037, 20080526,     1209
  18HU20080520, AR07W,    96,  1, 331728,      3,2,20080526,1207, 58.6398, -50.4125, 3444,    101.0,   4.1145,  34.8263,2,  34.8233,2,    297.8,2,    296.0,2,     7.79,6,    14.50,6,     0.98,6, -999.000,9, -999.000,9, -999.000,9, -999.000,9, -999.000,9,   -999.0,9,   -999.0,9,   4.1014, 20080526,     1210
  18HU20080520, AR07W,    96,  1, 331729,      4,2,20080526,1207, 58.6398, -50.4125, 3444,     79.0,   3.9654,  34.7812,2,-999.0000,9,    301.9,2,   -999.0,9,     7.70,6,    14.21,6,     0.97,6, -999.000,9, -999.000,9, -999.000,9, -999.000,9, -999.000,9,   -999.0,9,   -999.0,9,   3.9691, 20080526,     1212
  18HU20080520, AR07W,    96,  1, 331730,      5,2,20080526,1207, 58.6398, -50.4125, 3444,     61.0,   4.4253,  34.7491,2,-999.0000,9,    318.8,2,   -999.0,9,     6.96,6,    10.63,6,     0.79,6, -999.000,9, -999.000,9, -999.000,9, -999.000,9, -999.000,9,   -999.0,9,   -999.0,9,   4.5342, 20080526,     1212
  18HU20080520, AR07W,    96,  1, 331731,      6,2,20080526,1207, 58.6398, -50.4125, 3444,     50.0,   4.5993,  34.7441,2,  34.7418,2,    322.6,2,    320.6,6,     6.80,6,    10.20,6,     0.77,6, -999.000,9, -999.000,9, -999.000,9, -999.000,9, -999.000,9,   -999.0,9,   -999.0,9,   4.6015, 20080526,     1213
  18HU20080520, AR07W,    96,  1, 331732,      7,2,20080526,1207, 58.6398, -50.4125, 3444,     41.0,   4.6248,  34.7384,2,-999.0000,9,    323.6,2,   -999.0,9,     6.67,6,    10.03,6,     0.74,6, -999.000,9, -999.000,9, -999.000,9, -999.000,9, -999.000,9,   -999.0,9,   -999.0,9,   4.6265, 20080526,     1215
  18HU20080520, AR07W,    96,  1, 331733,      8,2,20080526,1207, 58.6398, -50.4125, 3444,     30.0,   4.6403,  34.7337,2,-999.0000,9,    325.3,2,   -999.0,9,     6.56,6,     9.87,6,     0.73,6, -999.000,9, -999.000,9, -999.000,9, -999.000,9, -999.000,9,   -999.0,9,   -999.0,9,   4.6425, 20080526,     1216
  18HU20080520, AR07W,    96,  1, 331734,      9,2,20080526,1207, 58.6398, -50.4125, 3444,     30.0,   4.6403,  34.7337,2,-999.0000,9,    325.3,2,   -999.0,9,  -999.00,9,  -999.00,9,  -999.00,9, -999.000,9, -999.000,9, -999.000,9, -999.000,9, -999.000,9,   -999.0,9,   -999.0,9,   4.6413, 20080526,     1216
  18HU20080520, AR07W,    96,  1, 331735,     10,2,20080526,1207, 58.6398, -50.4125, 3444,     20.0,   4.6427,  34.7333,2,  34.7306,6,    325.5,2,    323.0,2,     6.61,6,     9.84,6,     0.74,6, -999.000,9, -999.000,9, -999.000,9, -999.000,9, -999.000,9,   -999.0,9,   -999.0,9,   4.6508, 20080526,     1217
  18HU20080520, AR07W,    96,  1, 331736,     11,2,20080526,1207, 58.6398, -50.4125, 3444,     11.0,   4.6486,  34.7318,2,-999.0000,9,    326.4,2,   -999.0,9,     6.51,6,     9.82,6,     0.73,6, -999.000,9, -999.000,9, -999.000,9, -999.000,9, -999.000,9,   -999.0,9,   -999.0,9,   4.6504, 20080526,     1218
  18HU20080520, AR07W,    96,  1, 331737,     12,2,20080526,1207, 58.6398, -50.4125, 3444,      3.0,   4.6523,  34.7307,2,  34.7299,2,    326.8,2,    325.0,2,     6.64,6,     9.92,6,     0.73,6, -999.000,9, -999.000,9, -999.000,9, -999.000,9, -999.000,9,   -999.0,9,   -999.0,9,   4.6523, 20080526,     1219
  18HU20080520, AR07W,    96,  1, 331738,     13,2,20080526,1207, 58.6398, -50.4125, 3444,      3.0,   4.6523,  34.7307,2,-999.0000,9,    326.8,2,   -999.0,9,  -999.00,9,  -999.00,9,  -999.00,9, -999.000,9, -999.000,9, -999.000,9, -999.000,9, -999.000,9,   -999.0,9,   -999.0,9,   4.6507, 20080526,     1219
  18HU20080520, AR07W,    97,  1, 331739,      1,2,20080526,1404, 58.6400, -50.4152, 3444,   3562.0,   1.6339,  34.9030,2,  34.8981,2,    296.2,2,    296.5,2,     8.97,6,    13.73,6,     0.96,6, -999.000,9, -999.000,9, -999.000,9, -999.000,9, -999.000,9,   2162.7,2,   2294.7,2,   1.3558, 20080526,     1404
  18HU20080520, AR07W,    97,  1, 331740,      2,2,20080526,1404, 58.6400, -50.4152, 3444,   3523.0,   1.6944,  34.9037,2,  34.8986,2,    295.0,2,    293.9,2,     8.86,6,    13.75,6,     0.96,6,    3.508,4,    1.814,4,    0.134,4,    3.519,4,    6.356,2,   2160.2,2,   2296.5,2,   1.4259, 20080526,     1405
  18HU20080520, AR07W,    97,  1, 331741,      3,2,20080526,1404, 58.6400, -50.4152, 3444,   3429.0,   1.9668,  34.9043,2,  34.9025,2,    290.8,2,    290.7,2,     9.41,6,    14.10,6,     0.97,6,    4.222,4,    2.128,4,    0.275,4,    4.296,4,    4.423,2,   2161.6,2,   2303.2,2,   1.6997, 20080526,     1408
  18HU20080520, AR07W,    97,  1, 331742,      4,2,20080526,1404, 58.6400, -50.4152, 3444,   3324.0,   2.1020,  34.9045,2,  34.9021,2,    288.1,2,    288.3,2,    10.34,6,    14.30,6,     0.99,6,    4.004,4,    2.083,4,    0.304,4,    4.122,4,    4.407,2,   2160.1,2,   2302.0,2,   1.8494, 20080526,     1410
  18HU20080520, AR07W,    97,  1, 331743,      5,2,20080526,1404, 58.6400, -50.4152, 3444,   3203.0,   2.3313,  34.9061,2,  34.9042,2,    281.4,2,    281.5,6,    13.31,6,    15.45,6,     1.05,6, -999.000,9, -999.000,9, -999.000,9, -999.000,9, -999.000,9,   2162.4,2,   2307.9,2,   2.0795, 20080526,     1413
  18HU20080520, AR07W,    97,  1, 331744,      6,2,20080526,1404, 58.6400, -50.4152, 3444,   3060.0,   2.5499,  34.9110,2,  34.9119,6,    276.1,2,    277.2,2,    14.11,6,    15.64,6,     1.07,6,    3.885,4,    2.090,4,    0.295,4,    3.982,4,    4.520,2,   2161.9,2,   2307.3,2,   2.3046, 20080526,     1416
  18HU20080520, AR07W,    97,  1, 331745,      7,2,20080526,1404, 58.6400, -50.4152, 3444,   2902.0,   2.7381,  34.9203,2,  34.9218,2,    274.5,2,    276.2,2,    13.20,6,    15.87,6,     1.07,6, -999.000,9, -999.000,9, -999.000,9, -999.000,9, -999.000,9,   2163.0,2,   2308.8,2,   2.5029, 20080526,     1419
  18HU20080520, AR07W,    97,  1, 331746,      8,2,20080526,1404, 58.6400, -50.4152, 3444,   2709.0,   2.8965,  34.9155,2,  34.9147,2,    274.9,2,    276.6,2,    12.16,6,    15.89,6,     1.07,6, -999.000,9, -999.000,9, -999.000,9, -999.000,9, -999.000,9,   2161.4,2,   2303.1,3,   2.6796, 20080526,     1422
  18HU20080520, AR07W,    97,  1, 331747,      9,2,20080526,1404, 58.6400, -50.4152, 3444,   2500.0,   3.0287,  34.9116,2,  34.9105,2,    274.4,2,    276.4,2,    11.78,6,    16.12,6,     1.08,6,    2.783,4,    1.247,4,    0.153,4,    2.951,4,    4.514,2,   2160.7,2,   2304.8,2,   2.8278, 20080526,     1426
  18HU20080520, AR07W,    97,  1, 331748,     10,2,20080526,1404, 58.6400, -50.4152, 3444,   2269.0,   3.1716,  34.9069,2,  34.9056,6,    274.2,2,    276.0,2,    11.35,6,    16.21,6,     1.09,6, -999.000,9, -999.000,9, -999.000,9, -999.000,9, -999.000,9,   2159.1,2,   2302.4,2,   2.9908, 20080526,     1429
  18HU20080520, AR07W,    97,  1, 331749,     11,2,20080526,1404, 58.6400, -50.4152, 3444,   2021.0,   3.3462,  34.9067,2,  34.9063,2,    273.4,2,    291.3,3,    10.96,6,    16.56,6,     1.10,6,    3.050,4,    1.521,4,    0.150,4,    3.112,4,    5.131,2,   2161.1,2,   2302.1,2,   3.1925, 20080526,     1433
  18HU20080520, AR07W,    97,  1, 331750,     12,2,20080526,1404, 58.6400, -50.4152, 3444,   1769.0,   3.5612,  34.9105,2,  34.9066,2,    271.8,2,    273.3,2,    10.71,6,    16.47,6,     1.10,6, -999.000,9, -999.000,9, -999.000,9, -999.000,9, -999.000,9,   2162.7,2,   2303.3,2,   3.4238, 20080526,     1438
  18HU20080520, AR07W,    97,  1, 331751,     13,2,20080526,1404, 58.6400, -50.4152, 3444,   1530.0,   3.5495,  34.8815,2,  34.8777,2,    278.9,2,    280.2,2,     9.92,6,    16.35,6,     1.10,6,    3.480,4,    1.658,4,    0.200,4,    3.472,4,    6.060,2,   2161.6,2,   2296.3,2,   3.4348, 20080526,     1442
  18HU20080520, AR07W,    97,  1, 331752,     14,2,20080526,1404, 58.6400, -50.4152, 3444,   1290.0,   3.4811,  34.8598,2,  34.8582,2,    288.0,2,    288.9,2,     9.09,6,    15.94,6,     1.06,6, -999.000,9, -999.000,9, -999.000,9, -999.000,9, -999.000,9,   2160.0,2,   2296.7,2,   3.3854, 20080526,     1446
  18HU20080520, AR07W,    97,  1, 331753,     15,2,20080526,1404, 58.6400, -50.4152, 3444,   1072.0,   3.4526,  34.8495,2,  34.8495,2,    292.5,2,    293.4,2,     8.76,6,    15.90,6,     1.06,6,    4.233,4,    2.182,4,    0.331,4,    4.166,4,    4.780,2,   2157.5,2,   2298.3,2,   3.3745, 20080526,     1450
  18HU20080520, AR07W,    97,  1, 331754,     16,2,20080526,1404, 58.6400, -50.4152, 3444,    870.0,   3.4833,  34.8506,2,-999.0000,9,    292.2,2,   -999.0,9,  -999.00,9,  -999.00,9,  -999.00,9, -999.000,9, -999.000,9, -999.000,9, -999.000,9, -999.000,9,   2160.3,2,   2299.1,2,   3.4199, 20080526,     1453
  18HU20080520, AR07W,    97,  1, 331755,     17,2,20080526,1404, 58.6400, -50.4152, 3444,    679.0,   3.5266,  34.8505,2,  34.8489,2,    292.4,2,    293.0,2,     8.47,6,    15.60,6,     1.05,6, -999.000,9, -999.000,9, -999.000,9, -999.000,9, -999.000,9,   2156.9,2,   2299.9,2,   3.4783, 20080526,     1457
  18HU20080520, AR07W,    97,  1, 331756,     18,2,20080526,1404, 58.6400, -50.4152, 3444,    508.0,   3.6964,  34.8595,2,  34.8791,2,    289.6,2,    290.2,2,     8.43,6,    15.60,6,     1.04,6,    4.818,4,    2.601,4,    0.416,4,    4.975,4,    3.020,2,   2155.9,2,   2299.8,2,   3.6646, 20080526,     1500
  18HU20080520, AR07W,    97,  1, 331757,     19,2,20080526,1404, 58.6400, -50.4152, 3444,    360.0,   3.8435,  34.8644,2,  34.8647,2,    290.1,2,    290.5,2,     8.25,6,    15.32,6,     1.03,6, -999.000,9, -999.000,9, -999.000,9, -999.000,9, -999.000,9,   2154.6,2,   2298.2,2,   3.8187, 20080526,     1502
  18HU20080520, AR07W,    97,  1, 331758,     20,2,20080526,1404, 58.6400, -50.4152, 3444,    237.0,   4.1188,  34.8792,2,  34.8808,2,    290.9,2,    291.0,2,     8.09,6,    15.21,6,     1.02,6, -999.000,9, -999.000,9, -999.000,9, -999.000,9, -999.000,9,   2154.2,2,   2304.6,2,   4.1134, 20080526,     1506
  18HU20080520, AR07W,    97,  1, 331759,     21,2,20080526,1404, 58.6400, -50.4152, 3444,    140.0,   4.0915,  34.8439,2,-999.0000,9,    294.9,2,    295.1,2,     8.56,3,    14.98,6,     1.01,6,    4.678,4,    2.608,4,    0.364,4,    4.838,4,    2.681,2,   2149.0,2,   2300.2,2,   4.0897, 20080526,     1508
  18HU20080520, AR07W,    97,  1, 331760,     22,2,20080526,1404, 58.6400, -50.4152, 3444,     69.0,   4.4027,  34.7499,2,-999.0000,9,    315.4,2,    317.8,2,     6.95,6,    11.29,6,     0.82,6,    4.618,4,    2.603,4,    0.417,4,    0.320,4,    0.000,2,   2131.9,2,   2294.8,2,   4.4163, 20080526,     1509
  18HU20080520, AR07W,    97,  1, 331761,     23,2,20080526,1404, 58.6400, -50.4152, 3444,     35.0,   4.6589,  34.7374,2,-999.0000,9,    322.1,2,    321.8,2,     6.46,6,    10.23,6,     0.74,6, -999.000,9, -999.000,9, -999.000,9, -999.000,9, -999.000,9,   2124.0,2,   2295.4,2,   4.6178, 20080526,     1511
  18HU20080520, AR07W,    97,  1, 331762,     24,2,20080526,1404, 58.6400, -50.4152, 3444,      3.0,   4.6919,  34.7386,2,-999.0000,9,    323.0,2,    322.9,2,     6.47,6,    10.11,6,     0.74,6,    4.915,4,    2.910,4,    0.441,4,    5.591,4,    1.460,2,   2125.1,2,   2293.5,2,   4.6828, 20080526,     1512