BOTTLE,20130611PRINUNIVRMK
EXPOCODE,SECT_ID,STNNBR,CASTNO,SAMPNO,BTLNBR,BTLNBR_FLAG_W,DATE,TIME,LATITUDE,LONGITUDE,DEPTH,CTDPRS,CTDTMP,CTDSAL,CTDSAL_FLAG_W,SALNTY,SALNTY_FLAG_W,CTDOXY,CTDOXY_FLAG_W,OXYGEN,OXYGEN_FLAG_W,SILCAT,SILCAT_FLAG_W,NITRAT,NITRAT_FLAG_W,PHSPHT,PHSPHT_FLAG_W,CFC-11,CFC-11_FLAG_W,CFC-12,CFC-12_FLAG_W,CFC113,CFC113_FLAG_W,CCL4,CCL4_FLAG_W,MCHFRM,MCHFRM_FLAG_W,TCARBN,TCARBN_FLAG_W,ALKALI,ALKALI_FLAG_W,THETA,BTL_DATE,BTL_TIME
,,,,,,,,,,,METERS,DBAR,ITS-90,PSS-78,,PSS-78,,UMOL/KG,,UMOL/KG,,UMOL/KG,,UMOL/KG,,UMOL/KG,,PMOL/KG,,PMOL/KG,,PMOL/KG,,PMOL/KG,,PMOL/KG,,UMOL/KG,,UMOL/KG,,DEG C,,
  18HU20080520, AR07W,   220,  1, 332094,      1,2,20080529,1555, 53.9870, -55.2523,  149,    140.0,  -1.1354,  33.3452,2,  33.3471,2,    323.8,2,    329.9,2,     8.45,6,     9.00,6,     0.84,6,    6.843,4,    3.728,4,    0.544,4,    7.095,4,    3.189,2,   2121.0,2,   2240.8,2,  -1.1398, 20080529,     1555
  18HU20080520, AR07W,   220,  1, 332095,      2,2,20080529,1555, 53.9870, -55.2523,  149,    126.0,  -1.1313,  33.3134,2,  33.2701,2,    325.0,2,    325.1,2,     8.33,6,     8.84,6,     0.85,6, -999.000,9, -999.000,9, -999.000,9, -999.000,9, -999.000,9,   2123.5,2,   2243.1,2,  -1.1608, 20080529,     1556
  18HU20080520, AR07W,   220,  1, 332096,      3,2,20080529,1555, 53.9870, -55.2523,  149,    101.0,  -1.3062,  33.1011,2,  33.0769,2,    328.5,2,    328.9,6,     8.85,6,     8.34,6,     0.87,6,    6.969,4,    3.878,4,    0.562,4,    7.295,4,    3.028,2,   2124.9,2,   2234.6,2,  -1.3232, 20080529,     1557
  18HU20080520, AR07W,   220,  1, 332097,      4,2,20080529,1555, 53.9870, -55.2523,  149,     80.0,  -1.4354,  32.9818,2,-999.0000,9,    333.0,2,   -999.0,9,     8.81,6,     7.92,6,     0.86,6, -999.000,9, -999.000,9, -999.000,9, -999.000,9, -999.000,9,   -999.0,9,   -999.0,9,  -1.4344, 20080529,     1558
  18HU20080520, AR07W,   220,  1, 332098,      5,2,20080529,1555, 53.9870, -55.2523,  149,     61.0,  -1.5314,  32.8681,2,-999.0000,9,    334.4,2,   -999.0,9,     9.41,6,     7.64,6,     0.87,6, -999.000,9, -999.000,9, -999.000,9, -999.000,9, -999.000,9,   -999.0,9,   -999.0,9,  -1.5392, 20080529,     1559
  18HU20080520, AR07W,   220,  1, 332099,      6,2,20080529,1555, 53.9870, -55.2523,  149,     50.0,  -1.5633,  32.8189,2,-999.0000,9,    335.8,2,    333.0,2,     9.53,6,     7.67,6,     0.88,6,    7.092,4,    4.023,4,    0.594,4,    8.186,4,    2.235,2,   2125.8,2,   2231.4,2,  -1.5990, 20080529,     1600
  18HU20080520, AR07W,   220,  1, 332100,      7,2,20080529,1555, 53.9870, -55.2523,  149,     39.0,  -1.6061,  32.7609,2,-999.0000,9,    335.3,2,   -999.0,9,     9.36,6,     7.57,6,     0.88,6, -999.000,9, -999.000,9, -999.000,9, -999.000,9, -999.000,9,   -999.0,9,   -999.0,9,  -1.5999, 20080529,     1601
  18HU20080520, AR07W,   220,  1, 332101,      8,2,20080529,1555, 53.9870, -55.2523,  149,     30.0,  -1.1975,  32.7122,2,-999.0000,9,    345.5,2,   -999.0,9,     8.19,6,     6.25,6,     0.82,6, -999.000,9, -999.000,9, -999.000,9, -999.000,9, -999.000,9,   -999.0,9,   -999.0,9,  -1.2918, 20080529,     1602
  18HU20080520, AR07W,   220,  1, 332102,      9,2,20080529,1555, 53.9870, -55.2523,  149,     20.0,   0.2303,  32.2960,2,-999.0000,9,    373.6,2,   -999.0,9,     0.88,6,     0.08,6,     0.33,6, -999.000,9, -999.000,9, -999.000,9, -999.000,9, -999.000,9,   -999.0,9,   -999.0,9,   0.2707, 20080529,     1603
  18HU20080520, AR07W,   220,  1, 332103,     10,2,20080529,1555, 53.9870, -55.2523,  149,      9.0,   0.4117,  32.0874,2,-999.0000,9,    394.6,2,    395.8,2,     0.75,6,     0.00,6,     0.25,6,    5.551,4,    3.354,4,    0.372,4,    5.741,4,    2.276,2,   2007.6,2,   2199.5,2,   0.4080, 20080529,     1604
  18HU20080520, AR07W,   220,  1, 332104,     11,2,20080529,1555, 53.9870, -55.2523,  149,      3.0,   0.4962,  32.0787,2,-999.0000,9,    393.8,2,   -999.0,9,     0.96,6,     0.00,6,     0.26,6, -999.000,9, -999.000,9, -999.000,9, -999.000,9, -999.000,9,   -999.0,9,   -999.0,9,   0.4738, 20080529,     1605
  18HU20080520, AR07W,   223,  1, 332105,      1,2,20080529,1745, 53.7972, -55.4377,  207,    194.0,  -0.6773,  33.5903,2,-999.0000,9,    318.9,2,   -999.0,9,  -999.00,9,  -999.00,9,  -999.00,9, -999.000,9, -999.000,9, -999.000,9, -999.000,9, -999.000,9,   -999.0,9,   -999.0,9,  -0.6746, 20080529,     1745
  18HU20080520, AR07W,   223,  1, 332106,      2,2,20080529,1745, 53.7972, -55.4377,  207,    178.0,  -0.8504,  33.5340,2,  33.5495,2,    322.3,2,    320.4,2,     8.18,6,     9.70,6,     0.84,6, -999.000,9, -999.000,9, -999.000,9, -999.000,9, -999.000,9,   2121.1,2,   2243.8,2,  -0.8448, 20080529,     1746
  18HU20080520, AR07W,   223,  1, 332107,      3,2,20080529,1745, 53.7972, -55.4377,  207,    149.0,  -0.9669,  33.4580,2,  33.4309,2,    322.9,2,    323.3,6,     7.64,6,     9.24,6,     0.83,6,    7.052,4,    3.944,4,    0.599,4,    7.415,4,    3.057,2,   2113.1,2,   2245.3,2,  -1.0127, 20080529,     1748
  18HU20080520, AR07W,   223,  1, 332108,      4,2,20080529,1745, 53.7972, -55.4377,  207,    125.0,  -1.2158,  33.3031,2,  33.2742,2,    326.1,2,    327.3,2,     7.82,6,     8.66,6,     0.83,6, -999.000,9, -999.000,9, -999.000,9, -999.000,9, -999.000,9,   2119.0,2,   2241.9,2,  -1.2287, 20080529,     1749
  18HU20080520, AR07W,   223,  1, 332109,      5,2,20080529,1745, 53.7972, -55.4377,  207,    100.0,  -1.4875,  32.9789,2,  32.9625,2,    331.0,2,    332.8,2,     8.70,6,     7.84,6,     0.87,6,    7.058,4,    3.962,4,    0.613,4,    8.149,4,    2.103,2,   2126.0,2,   2236.6,2,  -1.4869, 20080529,     1750
  18HU20080520, AR07W,   223,  1, 332110,      6,2,20080529,1745, 53.7972, -55.4377,  207,     79.0,  -1.4698,  32.8968,2,-999.0000,9,    329.6,2,   -999.0,9,     9.35,6,     7.92,6,     0.89,6, -999.000,9, -999.000,9, -999.000,9, -999.000,9, -999.000,9,   -999.0,9,   -999.0,9,  -1.4717, 20080529,     1751
  18HU20080520, AR07W,   223,  1, 332111,      7,2,20080529,1745, 53.7972, -55.4377,  207,     60.0,  -1.5588,  32.7984,2,-999.0000,9,    335.6,2,   -999.0,9,     9.04,6,     7.52,6,     0.88,6, -999.000,9, -999.000,9, -999.000,9, -999.000,9, -999.000,9,   -999.0,9,   -999.0,9,  -1.5730, 20080529,     1752
  18HU20080520, AR07W,   223,  1, 332112,      8,2,20080529,1745, 53.7972, -55.4377,  207,     49.0,  -1.5419,  32.7578,2,-999.0000,9,    335.4,2,    336.6,2,     9.16,6,     7.45,6,     0.89,6,    7.004,4,    3.882,4,    0.608,4,    7.100,4,    2.788,2,   2122.0,2,   2232.5,2,  -1.5294, 20080529,     1753
  18HU20080520, AR07W,   223,  1, 332113,      9,2,20080529,1745, 53.7972, -55.4377,  207,     39.0,  -0.6931,  32.6593,2,-999.0000,9,    352.2,2,   -999.0,9,     6.40,6,     3.75,6,     0.66,6, -999.000,9, -999.000,9, -999.000,9, -999.000,9, -999.000,9,   -999.0,9,   -999.0,9,  -0.4779, 20080529,     1755
  18HU20080520, AR07W,   223,  1, 332114,     10,2,20080529,1745, 53.7972, -55.4377,  207,     30.0,   0.0980,  32.5931,2,-999.0000,9,    361.2,2,   -999.0,9,     2.98,6,     1.66,6,     0.52,6, -999.000,9, -999.000,9, -999.000,9, -999.000,9, -999.000,9,   -999.0,9,   -999.0,9,   0.1381, 20080529,     1756
  18HU20080520, AR07W,   223,  1, 332115,     11,2,20080529,1745, 53.7972, -55.4377,  207,     19.0,   0.7869,  32.2855,2,-999.0000,9,    381.9,2,   -999.0,9,     0.87,6,     0.12,6,     0.34,6, -999.000,9, -999.000,9, -999.000,9, -999.000,9, -999.000,9,   -999.0,9,   -999.0,9,   0.8019, 20080529,     1756
  18HU20080520, AR07W,   223,  1, 332116,     12,2,20080529,1745, 53.7972, -55.4377,  207,      9.0,   1.0082,  32.1597,2,-999.0000,9,    387.1,2,    386.9,2,     0.72,6,     0.00,6,     0.28,6,    6.569,4,    3.586,4,    0.529,4,    6.761,4,    3.057,2,   2012.7,2,   2202.2,2,   0.9493, 20080529,     1757
  18HU20080520, AR07W,   223,  1, 332117,     13,2,20080529,1745, 53.7972, -55.4377,  207,      4.0,   1.4252,  32.1512,2,-999.0000,9,    384.9,2,   -999.0,9,     0.64,6,     0.11,6,     0.28,6, -999.000,9, -999.000,9, -999.000,9, -999.000,9, -999.000,9,   -999.0,9,   -999.0,9,   1.4905, 20080529,     1800
  18HU20080520, AR07W,   224,  1, 332118,      1,2,20080529,1851, 53.6787, -55.5522,  160,    148.0,  -1.2927,  33.1503,2,  33.1500,2,    324.8,2,    323.4,2,     8.99,6,     8.45,6,     0.88,6,    6.617,4,    3.654,4,    0.547,4,    7.008,4,    3.001,2,   2127.5,2,   2244.4,2,  -1.2950, 20080529,     1851
  18HU20080520, AR07W,   224,  1, 332119,      2,2,20080529,1851, 53.6787, -55.5522,  160,    123.0,  -1.2945,  33.1383,2,  33.1387,2,    324.8,2,    324.3,2,     8.98,6,     8.44,6,     0.89,6, -999.000,9, -999.000,9, -999.000,9, -999.000,9, -999.000,9,   2127.0,2,   2239.8,2,  -1.2976, 20080529,     1852
  18HU20080520, AR07W,   224,  1, 332120,      3,2,20080529,1851, 53.6787, -55.5522,  160,    100.0,  -1.4481,  32.9821,2,  32.9657,2,    331.8,2,    332.1,6,     8.87,6,     7.93,6,     0.89,6,    7.164,4,    4.003,4,    0.585,4,    7.914,4,    2.566,2,   2127.0,2,   2237.8,2,  -1.4679, 20080529,     1854
  18HU20080520, AR07W,   224,  1, 332121,      4,2,20080529,1851, 53.6787, -55.5522,  160,     80.0,  -1.5593,  32.9033,2,-999.0000,9,    335.3,2,   -999.0,9,     8.64,6,     7.61,6,     0.88,6, -999.000,9, -999.000,9, -999.000,9, -999.000,9, -999.000,9,   -999.0,9,   -999.0,9,  -1.5682, 20080529,     1855
  18HU20080520, AR07W,   224,  1, 332122,      5,2,20080529,1851, 53.6787, -55.5522,  160,     60.0,  -1.6809,  32.7688,2,-999.0000,9,    341.2,2,   -999.0,9,     8.00,6,     7.21,6,     0.86,6, -999.000,9, -999.000,9, -999.000,9, -999.000,9, -999.000,9,   -999.0,9,   -999.0,9,  -1.6850, 20080529,     1856
  18HU20080520, AR07W,   224,  1, 332123,      6,2,20080529,1851, 53.6787, -55.5522,  160,     49.0,  -1.6575,  32.7344,2,-999.0000,9,    341.2,2,    337.5,2,     9.89,6,     7.19,6,     0.87,6,    6.758,4,    3.739,4,    0.550,4,    6.939,4,    3.041,2,   2121.7,2,   2234.7,2,  -1.6566, 20080529,     1857
  18HU20080520, AR07W,   224,  1, 332124,      7,2,20080529,1851, 53.6787, -55.5522,  160,     39.0,  -1.6584,  32.7097,2,-999.0000,9,    339.1,2,   -999.0,9,     8.74,6,     7.28,6,     0.88,6, -999.000,9, -999.000,9, -999.000,9, -999.000,9, -999.000,9,   -999.0,9,   -999.0,9,  -1.6698, 20080529,     1858
  18HU20080520, AR07W,   224,  1, 332125,      8,2,20080529,1851, 53.6787, -55.5522,  160,     30.0,  -1.6659,  32.6739,2,-999.0000,9,    336.8,2,   -999.0,9,     8.29,6,     7.07,6,     0.86,6, -999.000,9, -999.000,9, -999.000,9, -999.000,9, -999.000,9,   -999.0,9,   -999.0,9,  -1.6648, 20080529,     1858
  18HU20080520, AR07W,   224,  1, 332126,      9,2,20080529,1851, 53.6787, -55.5522,  160,     19.0,  -1.6126,  32.6296,2,-999.0000,9,    339.0,2,   -999.0,9,     8.03,6,     6.62,6,     0.86,6, -999.000,9, -999.000,9, -999.000,9, -999.000,9, -999.000,9,   -999.0,9,   -999.0,9,  -1.6162, 20080529,     1859
  18HU20080520, AR07W,   224,  1, 332127,     10,2,20080529,1851, 53.6787, -55.5522,  160,      9.0,  -0.2374,  32.2233,2,-999.0000,9,    378.5,2,    372.4,2,     2.57,6,     0.63,6,     0.40,6,    7.211,4,    3.981,4,    0.629,4,    7.763,4,    2.994,2,   2048.4,2,   2199.6,2,  -0.3042, 20080529,     1900
  18HU20080520, AR07W,   224,  1, 332128,     11,2,20080529,1851, 53.6787, -55.5522,  160,      4.0,   0.4597,  31.9681,2,-999.0000,9,    388.8,2,   -999.0,9,     0.82,6,     0.15,6,     0.27,6, -999.000,9, -999.000,9, -999.000,9, -999.000,9, -999.000,9,   -999.0,9,   -999.0,9,   0.6203, 20080529,     1901
  18HU20080520, AR07W,   225,  1, 332129,      1,2,20080601,0735, 42.0307, -61.0667, 3995,   4131.0,   2.1606,  34.8821,2,  34.8829,2,    266.7,2,    295.0,3,    30.35,6,    18.84,6,     1.32,6,    5.009,4,    3.038,4,    0.409,4,    5.488,4,    1.208,2,   2175.6,2,   2322.1,2,   1.8066, 20080601,      735
  18HU20080520, AR07W,   225,  1, 332130,      2,2,20080601,0735, 42.0307, -61.0667, 3995,   4010.0,   2.1839,  34.8854,2,  34.8864,2,    266.7,2,    269.4,2,    27.72,6,    18.41,6,     1.28,6,    1.843,4,    0.509,4,    0.139,4,    2.339,4,    3.584,2,   2173.7,2,   2322.3,2,   1.8436, 20080601,      738
  18HU20080520, AR07W,   225,  1, 332131,      3,2,20080601,0735, 42.0307, -61.0667, 3995,   3899.0,   2.2019,  34.8880,2,  34.8893,2,    267.3,2,    268.3,2,    26.04,6,    18.35,6,     1.26,6,    1.751,4,    1.000,4,    0.128,4,    2.379,4,    4.210,2,   2169.5,2,   2318.9,2,   1.8729, 20080601,      740
  18HU20080520, AR07W,   225,  1, 332132,      4,2,20080601,0735, 42.0307, -61.0667, 3995,   3759.0,   2.2229,  34.8903,2,  34.8907,2,    267.3,2,    270.0,2,    24.04,6,    17.96,6,     1.23,6,    4.115,4,    4.685,4,    0.278,4,    4.091,4,    1.371,2,   2165.6,2,   2321.9,2,   1.9094, 20080601,      743
  18HU20080520, AR07W,   225,  1, 332133,      5,2,20080601,0735, 42.0307, -61.0667, 3995,   3602.0,   2.2727,  34.8938,2,  34.8942,2,    267.7,2,    271.2,2,    22.46,6,    17.74,6,     1.22,6,    2.104,4,    1.453,4,    0.139,4,    2.675,4,    4.361,2,   2168.4,2,   2313.0,2,   1.9753, 20080601,      746
  18HU20080520, AR07W,   225,  1, 332134,      6,2,20080601,0735, 42.0307, -61.0667, 3995,   3420.0,   2.3558,  34.8984,2,  34.8991,2,    268.3,2,    268.8,2,    20.14,6,    17.50,6,     1.18,6,    1.656,4,    0.930,4,    0.140,4,    2.223,4,    3.485,2,   2167.3,2,   2318.4,2,   2.0757, 20080601,      749
  18HU20080520, AR07W,   225,  1, 332135,      7,2,20080601,0735, 42.0307, -61.0667, 3995,   3219.0,   2.5024,  34.9047,2,  34.9051,2,    268.1,2,    271.3,2,    18.22,6,    17.32,6,     1.17,6,    1.391,4,    0.881,4,    0.127,4,    1.914,4,    2.824,2,   2163.5,2,   2311.2,2,   2.2408, 20080601,      752
  18HU20080520, AR07W,   225,  1, 332136,      8,2,20080601,0735, 42.0307, -61.0667, 3995,   2998.0,   2.6901,  34.9137,2,  34.9147,2,    266.0,2,    258.3,3,    17.70,6,    17.51,6,     1.19,6,    1.865,4,    1.084,4,    0.140,4,    2.471,4,    3.889,2,   2164.7,2,   2307.8,2,   2.4455, 20080601,      756
  18HU20080520, AR07W,   225,  1, 332137,      9,2,20080601,0735, 42.0307, -61.0667, 3995,   2769.0,   2.8477,  34.9201,2,  34.9208,2,    264.7,2,    265.5,2,    16.91,6,    17.52,6,     1.20,6,    1.992,4,    1.087,4,    0.134,4,    2.578,4,    4.093,2,   2158.7,2,   2311.5,2,   2.6251, 20080601,      800
  18HU20080520, AR07W,   225,  1, 332138,     10,2,20080601,0735, 42.0307, -61.0667, 3995,   2530.0,   3.0637,  34.9301,2,  34.9310,2,    262.8,2,    259.3,3,    16.42,6,    17.80,6,     1.21,6,    1.636,4,    0.513,4,    0.141,4,    2.216,4,    3.481,2,   2158.6,2,   2310.6,2,   2.8613, 20080601,      804
  18HU20080520, AR07W,   225,  1, 332139,     11,2,20080601,0735, 42.0307, -61.0667, 3995,   2280.0,   3.2550,  34.9344,2,  34.9353,2,    262.8,2,    266.3,2,    15.26,6,    17.97,6,     1.21,6,    1.875,4,    1.328,4,    0.132,4,    2.429,4,    3.993,2,   2162.9,2,   2311.1,2,   3.0739, 20080601,      808
  18HU20080520, AR07W,   225,  1, 332140,     12,2,20080601,0735, 42.0307, -61.0667, 3995,   2020.0,   3.4272,  34.9340,2,  34.9407,2,    263.8,2,    264.4,2,    12.75,6,    17.94,6,     1.20,6, -999.000,9, -999.000,9, -999.000,9, -999.000,9, -999.000,9,   2163.0,2,   2310.0,2,   3.2662, 20080601,      812
  18HU20080520, AR07W,   225,  1, 332141,     13,2,20080601,0735, 42.0307, -61.0667, 3995,   1760.0,   3.6338,  34.9398,2,  34.9412,6,    262.5,2,    265.1,6,    12.80,6,    17.98,6,     1.20,6, -999.000,9, -999.000,9, -999.000,9, -999.000,9, -999.000,9,   2162.5,2,   2301.2,2,   3.4958, 20080601,      816
  18HU20080520, AR07W,   225,  1, 332142,     14,2,20080601,0735, 42.0307, -61.0667, 3995,   1509.0,   3.8222,  34.9473,2,  34.9479,2,    260.5,2,    263.2,2,    12.22,6,    18.12,6,     1.20,6,    5.374,4,    6.563,4,    0.456,4,    6.654,4,    1.592,2,   2160.4,2,   2305.9,2,   3.7038, 20080601,      820
  18HU20080520, AR07W,   225,  1, 332143,     15,2,20080601,0735, 42.0307, -61.0667, 3995,   1270.0,   3.9553,  34.9422,2,  34.9434,2,    261.3,2,    263.0,2,    11.54,6,    17.97,6,     1.20,6, -999.000,9, -999.000,9, -999.000,9, -999.000,9, -999.000,9,   2162.2,2,   2312.3,2,   3.8589, 20080601,      824
  18HU20080520, AR07W,   225,  1, 332144,     16,2,20080601,0735, 42.0307, -61.0667, 3995,   1051.0,   4.1756,  34.9471,2,  34.9445,2,    258.7,2,    262.3,2,    11.04,6,    17.78,6,     1.20,6, -999.000,9, -999.000,9, -999.000,9, -999.000,9, -999.000,9,   2169.6,2,   2306.6,4,   4.0813, 20080601,      828
  18HU20080520, AR07W,   225,  1, 332145,     17,2,20080601,0735, 42.0307, -61.0667, 3995,    839.0,   4.3624,  34.9439,2,  34.9449,2,    256.1,2,    249.0,3,    10.82,6,    17.91,6,     1.19,6, -999.000,9, -999.000,9, -999.000,9, -999.000,9, -999.000,9,   2172.0,2,   2304.6,2,   4.2978, 20080601,      831
  18HU20080520, AR07W,   225,  1, 332146,     18,2,20080601,0735, 42.0307, -61.0667, 3995,    639.0,   4.8064,  34.9510,2,  34.9508,2,    240.9,2,    242.8,2,    11.42,6,    18.80,6,     1.23,6, -999.000,9, -999.000,9, -999.000,9, -999.000,9, -999.000,9,   2176.9,2,   2312.6,2,   4.7482, 20080601,      835
  18HU20080520, AR07W,   225,  1, 332147,     19,2,20080601,0735, 42.0307, -61.0667, 3995,    450.0,   6.2911,  35.0412,2,  35.0421,2,    195.3,2,    196.1,2,    13.37,6,    21.66,6,     1.41,6, -999.000,9, -999.000,9, -999.000,9, -999.000,9, -999.000,9,   2194.0,2,   2317.9,2,   6.2621, 20080601,      838
  18HU20080520, AR07W,   225,  1, 332148,     20,2,20080601,0735, 42.0307, -61.0667, 3995,    292.0,   8.7302,  35.1516,2,  35.1532,2,    139.6,2,    141.2,2,    15.01,6,    25.73,6,     1.63,6, -999.000,9, -999.000,9, -999.000,9, -999.000,9, -999.000,9,   2206.6,2,   2334.8,2,   8.7258, 20080601,      841
  18HU20080520, AR07W,   225,  1, 332149,     21,2,20080601,0735, 42.0307, -61.0667, 3995,    169.0,  10.2421,  35.1332,2,-999.0000,9,    158.8,2,    172.7,3,     9.04,6,    17.71,6,     1.16,6, -999.000,9, -999.000,9, -999.000,9, -999.000,9, -999.000,9,   2173.3,2,   2321.1,2,  10.1035, 20080601,      843
  18HU20080520, AR07W,   225,  1, 332150,     22,2,20080601,0735, 42.0307, -61.0667, 3995,    100.0,   9.7191,  34.6672,2,-999.0000,9,    245.5,2,    247.7,2,     4.04,6,     7.89,6,     0.64,6,    2.621,4,    2.109,4,    0.148,4,    3.076,4,    5.263,2,   2118.4,2,   2307.1,3,   9.6501, 20080601,      845
  18HU20080520, AR07W,   225,  1, 332151,     23,2,20080601,0735, 42.0307, -61.0667, 3995,     50.0,   7.8022,  33.9842,2,-999.0000,9,    279.6,2,   -999.0,9,  -999.00,9,  -999.00,9,  -999.00,9, -999.000,9, -999.000,9, -999.000,9, -999.000,9, -999.000,9,   -999.0,9,   -999.0,9,   8.5979, 20080601,      846
  18HU20080520, AR07W,   225,  1, 332152,     24,2,20080601,0735, 42.0307, -61.0667, 3995,      2.0,   8.2199,  32.8998,2,-999.0000,9,    315.7,2,   -999.0,9,     0.99,6,     0.11,6,     0.32,6,    1.793,4,    0.800,4,    0.139,4,    2.376,4,    4.044,2,   2058.5,2,   2224.5,2,   8.2207, 20080601,      848