BOTTLE,20130611PRINUNIVRMK
EXPOCODE,SECT_ID,STNNBR,CASTNO,SAMPNO,BTLNBR,BTLNBR_FLAG_W,DATE,TIME,LATITUDE,LONGITUDE,DEPTH,CTDPRS,CTDTMP,CTDSAL,CTDSAL_FLAG_W,SALNTY,SALNTY_FLAG_W,CTDOXY,CTDOXY_FLAG_W,OXYGEN,OXYGEN_FLAG_W,SILCAT,SILCAT_FLAG_W,NITRAT,NITRAT_FLAG_W,PHSPHT,PHSPHT_FLAG_W,CFC-11,CFC-11_FLAG_W,CFC-12,CFC-12_FLAG_W,CFC113,CFC113_FLAG_W,CCL4,CCL4_FLAG_W,MCHFRM,MCHFRM_FLAG_W,TCARBN,TCARBN_FLAG_W,ALKALI,ALKALI_FLAG_W,THETA,BTL_DATE,BTL_TIME
,,,,,,,,,,,METERS,DBAR,ITS-90,PSS-78,,PSS-78,,UMOL/KG,,UMOL/KG,,UMOL/KG,,UMOL/KG,,UMOL/KG,,PMOL/KG,,PMOL/KG,,PMOL/KG,,PMOL/KG,,PMOL/KG,,UMOL/KG,,UMOL/KG,,DEG C,,
  18HU20080520, AR07W,   227,  1, 332153,      1,2,20080601,1159, 41.7787, -60.9077, 4322,    202.0,  11.5973,  35.4462,2,  35.4424,2,    142.0,2,    142.9,2,     9.96,6,    20.72,6,     1.30,6, -999.000,9, -999.000,9, -999.000,9, -999.000,9, -999.000,9,   -999.0,9,   -999.0,9,  11.5252, 20080601,     1159
  18HU20080520, AR07W,   227,  1, 332154,      2,2,20080601,1159, 41.7787, -60.9077, 4322,    150.0,  13.1442,  35.6298,2,  35.6318,2,    147.2,2,    150.4,2,    11.56,6,    17.17,6,     1.05,6, -999.000,9, -999.000,9, -999.000,9, -999.000,9, -999.000,9,   -999.0,9,   -999.0,9,  13.2205, 20080601,     1200
  18HU20080520, AR07W,   227,  1, 332155,      3,2,20080601,1159, 41.7787, -60.9077, 4322,    100.0,  14.6345,  35.6915,2,  35.6905,2,    176.9,2,    179.8,2,     4.35,6,    10.91,6,     0.69,6, -999.000,9, -999.000,9, -999.000,9, -999.000,9, -999.000,9,   -999.0,9,   -999.0,9,  14.6454, 20080601,     1202
  18HU20080520, AR07W,   227,  1, 332156,      4,2,20080601,1159, 41.7787, -60.9077, 4322,     81.0,  13.4269,  35.2263,2,-999.0000,9,    230.1,2,   -999.0,9,     1.95,6,     3.93,6,     0.39,6, -999.000,9, -999.000,9, -999.000,9, -999.000,9, -999.000,9,   -999.0,9,   -999.0,9,  13.1064, 20080601,     1202
  18HU20080520, AR07W,   227,  1, 332157,      5,2,20080601,1159, 41.7787, -60.9077, 4322,     60.0,  14.4625,  35.3854,2,-999.0000,9,    236.3,2,   -999.0,9,     1.91,6,     2.24,6,     0.28,6, -999.000,9, -999.000,9, -999.000,9, -999.000,9, -999.000,9,   -999.0,9,   -999.0,9,  14.4617, 20080601,     1203
  18HU20080520, AR07W,   227,  1, 332158,      6,2,20080601,1159, 41.7787, -60.9077, 4322,     50.0,  15.5413,  35.6292,2,  35.6428,2,    223.6,2,    226.0,6,     1.27,6,     2.98,6,     0.28,6, -999.000,9, -999.000,9, -999.000,9, -999.000,9, -999.000,9,   -999.0,9,   -999.0,9,  15.7543, 20080601,     1204
  18HU20080520, AR07W,   227,  1, 332159,      7,2,20080601,1159, 41.7787, -60.9077, 4322,     40.0,  15.4164,  35.4719,2,-999.0000,9,    236.3,2,   -999.0,9,     0.90,6,     1.65,6,     0.23,6, -999.000,9, -999.000,9, -999.000,9, -999.000,9, -999.000,9,   -999.0,9,   -999.0,9,  15.4195, 20080601,     1205
  18HU20080520, AR07W,   227,  1, 332160,      8,2,20080601,1159, 41.7787, -60.9077, 4322,     30.0,  15.2014,  35.3786,2,  35.3865,2,    243.9,2,    246.7,2,     0.68,6,     0.82,6,     0.18,6, -999.000,9, -999.000,9, -999.000,9, -999.000,9, -999.000,9,   -999.0,9,   -999.0,9,  15.2110, 20080601,     1206
  18HU20080520, AR07W,   227,  1, 332161,      9,2,20080601,1159, 41.7787, -60.9077, 4322,     30.0,  15.2014,  35.3786,2,  35.3777,2,    243.9,2,   -999.0,9,  -999.00,9,  -999.00,9,  -999.00,9, -999.000,9, -999.000,9, -999.000,9, -999.000,9, -999.000,9,   -999.0,9,   2193.0,4,  15.2074, 20080601,     1206
  18HU20080520, AR07W,   227,  1, 332162,     10,2,20080601,1159, 41.7787, -60.9077, 4322,     20.0,  15.2514,  35.3835,2,-999.0000,9,    248.0,2,   -999.0,9,     0.53,6,     0.25,6,     0.14,6, -999.000,9, -999.000,9, -999.000,9, -999.000,9, -999.000,9,   -999.0,9,   -999.0,9,  15.7519, 20080601,     1207
  18HU20080520, AR07W,   227,  1, 332163,     11,2,20080601,1159, 41.7787, -60.9077, 4322,     11.0,  16.2373,  35.5729,2,-999.0000,9,    251.6,2,   -999.0,9,     0.82,6,     0.00,6,     0.16,6, -999.000,9, -999.000,9, -999.000,9, -999.000,9, -999.000,9,   -999.0,9,   -999.0,9,  14.5127, 20080601,     1208
  18HU20080520, AR07W,   227,  1, 332164,     12,2,20080601,1159, 41.7787, -60.9077, 4322,      3.0,  14.3227,  34.7373,2,  34.9973,3,    267.3,2,    264.7,2,     0.52,6,     0.06,6,     0.15,6, -999.000,9, -999.000,9, -999.000,9, -999.000,9, -999.000,9,   -999.0,9,   -999.0,9,  14.9398, 20080601,     1209
  18HU20080520, AR07W,   227,  1, 332165,     13,2,20080601,1159, 41.7787, -60.9077, 4322,      2.0,  14.8886,-999.0000,9,-999.0000,9,   -999.0,9,   -999.0,9,  -999.00,9,  -999.00,9,  -999.00,9, -999.000,9, -999.000,9, -999.000,9, -999.000,9, -999.000,9,   -999.0,9,   -999.0,9,  14.9896, 20080601,     1210
  18HU20080520, AR07W,   229,  1, 332166,      1,2,20080601,1519, 41.7783, -60.9075, 4322,   4502.0,   2.1793,  34.8789,2,  34.8798,2,    262.9,2,   -999.0,9,    33.37,6,    19.42,6,     1.28,6,    1.626,4,    0.952,4,    0.131,4,    2.235,4,    3.831,2,   2184.7,2,   2347.1,2,   1.7811, 20080601,     1519
  18HU20080520, AR07W,   229,  1, 332167,      2,2,20080601,1519, 41.7783, -60.9075, 4322,   4310.0,   2.1885,  34.8835,2,  34.8845,2,    264.6,2,    267.4,2,    28.18,6,    18.63,6,     1.21,6,    1.744,4,    1.008,4,    0.132,4,    2.277,4,    4.414,2,   2178.3,2,   2339.3,3,   1.8132, 20080601,     1525
  18HU20080520, AR07W,   229,  1, 332168,      3,2,20080601,1519, 41.7783, -60.9075, 4322,   4190.0,   2.2019,  34.8858,2,  34.8866,2,    264.9,2,    264.2,3,    27.07,6,    18.33,6,     1.20,6,    1.772,4,    0.881,4,    0.129,4,    2.382,4,    5.108,2,   2174.2,2,   2330.9,2,   1.8400, 20080601,     1527
  18HU20080520, AR07W,   229,  1, 332169,      4,2,20080601,1519, 41.7783, -60.9075, 4322,   4039.0,   2.2117,  34.8877,2,  34.8878,2,    264.3,2,    268.1,2,    26.10,6,    18.27,6,     1.18,6,    1.280,4,    0.000,4,    0.118,4,    1.769,4,    3.319,2,   2172.1,2,   2328.5,2,   1.8668, 20080601,     1530
  18HU20080520, AR07W,   229,  1, 332170,      5,2,20080601,1519, 41.7783, -60.9075, 4322,   3870.0,   2.2364,  34.8904,2,  34.8917,2,    263.6,2,    268.4,2,    25.83,6,    18.25,6,     1.18,6,    2.647,4,    2.393,4,    0.132,4,    1.093,4,    0.721,2,   2175.2,2,   2336.1,2,   1.9102, 20080601,     1533
  18HU20080520, AR07W,   229,  1, 332171,      6,2,20080601,1519, 41.7783, -60.9075, 4322,   3672.0,   2.2819,  34.8945,2,  34.8954,2,    263.5,2,    268.4,2,    24.71,6,    18.29,6,     1.19,6,    1.638,4,    0.000,4,    0.040,4,    2.202,4,    4.443,2,   2173.1,2,   2326.7,2,   1.9762, 20080601,     1537
  18HU20080520, AR07W,   229,  1, 332172,      7,2,20080601,1519, 41.7783, -60.9075, 4322,   3460.0,   2.3638,  34.8998,2,  34.9011,2,    264.2,2,    270.7,2,    22.97,6,    17.90,6,     1.16,6,    1.686,4,    1.148,4,    0.130,4,    2.338,4,    4.597,2,   2170.6,2,   2329.9,2,   2.0822, 20080601,     1540
  18HU20080520, AR07W,   229,  1, 332173,      8,2,20080601,1519, 41.7783, -60.9075, 4322,   3223.0,   2.5244,  34.9083,2,  34.9091,2,    264.2,2,    270.6,2,    19.61,6,    17.61,6,     1.13,6,    1.382,4,    0.000,4,    0.131,4,    1.985,4,    3.935,2,   2166.8,2,   2321.5,2,   2.2645, 20080601,     1544
  18HU20080520, AR07W,   229,  1, 332174,      9,2,20080601,1519, 41.7783, -60.9075, 4322,   2973.0,   2.7449,  34.9207,2,  34.9212,2,    261.6,2,    268.7,2,    18.97,6,    17.83,6,     1.15,6,    1.537,4,    0.053,4,    0.000,4,    2.223,4,    4.314,2,   2167.7,2,   2322.4,2,   2.5039, 20080601,     1549
  18HU20080520, AR07W,   229,  1, 332175,     10,2,20080601,1519, 41.7783, -60.9075, 4322,   2719.0,   2.9348,  34.9242,2,  34.9249,2,    262.9,2,    268.4,2,    16.70,6,    17.57,6,     1.13,6,    1.573,4,    0.552,4,    0.127,4,    2.186,4,    4.257,2,   2165.9,2,   2315.3,2,   2.7138, 20080601,     1554
  18HU20080520, AR07W,   229,  1, 332176,     11,2,20080601,1519, 41.7783, -60.9075, 4322,   2449.0,   3.1783,  34.9327,2,  34.9336,2,    261.4,2,    266.8,2,    15.63,6,    17.92,6,     1.14,6, -999.000,9, -999.000,9, -999.000,9, -999.000,9, -999.000,9,   2167.3,2,   2319.7,2,   2.9814, 20080601,     1558
  18HU20080520, AR07W,   229,  1, 332177,     12,2,20080601,1519, 41.7783, -60.9075, 4322,   2171.0,   3.3571,  34.9325,2,  34.9337,2,    262.3,2,    268.3,2,    14.14,6,    17.88,6,     1.14,6,    1.594,4,    0.107,4,    0.123,4,    2.250,4,    4.376,2,   2162.8,2,   2312.1,2,   3.1851, 20080601,     1602
  18HU20080520, AR07W,   229,  1, 332178,     13,2,20080601,1519, 41.7783, -60.9075, 4322,   1889.0,   3.5636,  34.9369,2,  34.9379,6,    262.0,2,    266.4,6,    13.10,6,    17.94,6,     1.14,6, -999.000,9, -999.000,9, -999.000,9, -999.000,9, -999.000,9,   2163.5,2,   2318.5,2,   3.4141, 20080601,     1606
  18HU20080520, AR07W,   229,  1, 332179,     14,2,20080601,1519, 41.7783, -60.9075, 4322,   1626.0,   3.8104,  34.9482,2,  34.9492,2,    259.5,2,    263.3,2,    12.18,6,    18.03,6,     1.14,6,    1.971,4,    0.947,4,    0.128,4,    2.586,4,    5.773,2,   2167.5,2,   2313.9,2,   3.6831, 20080601,     1611
  18HU20080520, AR07W,   229,  1, 332180,     15,2,20080601,1519, 41.7783, -60.9075, 4322,   1365.0,   3.9736,  34.9458,2,  34.9476,2,    259.9,2,    262.6,2,    11.45,6,    17.87,6,     1.13,6, -999.000,9, -999.000,9, -999.000,9, -999.000,9, -999.000,9,   2167.5,2,   2318.7,2,   3.8730, 20080601,     1616
  18HU20080520, AR07W,   229,  1, 332181,     16,2,20080601,1519, 41.7783, -60.9075, 4322,   1128.0,   4.1653,  34.9454,2,  34.9462,2,    258.9,2,    262.2,2,    11.01,6,    17.65,6,     1.13,6,    3.698,4,    4.035,4,    0.287,4,    4.247,4,    1.182,2,   2168.4,2,   2311.3,2,   4.0763, 20080601,     1620
  18HU20080520, AR07W,   229,  1, 332182,     17,2,20080601,1519, 41.7783, -60.9075, 4322,    905.0,   4.4129,  34.9459,2,  34.9467,2,    254.2,2,    256.0,2,    10.75,6,    17.70,6,     1.14,6, -999.000,9, -999.000,9, -999.000,9, -999.000,9, -999.000,9,   2168.0,2,   2318.4,2,   4.3435, 20080601,     1623
  18HU20080520, AR07W,   229,  1, 332183,     18,2,20080601,1519, 41.7783, -60.9075, 4322,    688.0,   4.4597,  34.8967,2,  34.8978,2,    252.2,2,    254.3,2,    10.75,6,    17.73,6,     1.14,6, -999.000,9, -999.000,9, -999.000,9, -999.000,9, -999.000,9,   2173.3,2,   2309.5,2,   4.4077, 20080601,     1627
  18HU20080520, AR07W,   229,  1, 332184,     19,2,20080601,1519, 41.7783, -60.9075, 4322,    487.0,   5.3165,  34.8863,2,  34.8764,2,    217.4,2,    219.5,2,    12.38,6,    19.46,6,     1.25,6,    3.511,4,    3.090,4,    0.194,4,    3.757,4,    6.033,2,   2183.7,2,   2310.6,2,   5.2395, 20080601,     1630
  18HU20080520, AR07W,   229,  1, 332185,     20,2,20080601,1519, 41.7783, -60.9075, 4322,    310.0,   8.6082,  35.1438,2,  35.1454,2,    141.8,2,    144.2,2,    14.96,6,    25.30,6,     1.56,6, -999.000,9, -999.000,9, -999.000,9, -999.000,9, -999.000,9,   2203.1,2,   2327.3,2,   8.6193, 20080601,     1633
  18HU20080520, AR07W,   229,  1, 332186,     21,2,20080601,1519, 41.7783, -60.9075, 4322,    186.0,  11.7324,  35.4646,2,-999.0000,9,    141.8,2,    145.8,2,     9.27,6,    19.56,6,     1.19,6, -999.000,9, -999.000,9, -999.000,9, -999.000,9, -999.000,9,   2184.1,2,   2337.8,2,  11.7114, 20080601,     1636
  18HU20080520, AR07W,   229,  1, 332187,     22,2,20080601,1519, 41.7783, -60.9075, 4322,    105.0,  14.3833,  35.6805,2,-999.0000,9,    166.3,2,    172.7,2,     4.88,6,    11.90,6,     0.73,6,    3.353,4,    2.795,4,    0.194,4,    3.186,4,    3.694,2,   2150.1,2,   2353.9,2,  14.4467, 20080601,     1638
  18HU20080520, AR07W,   229,  1, 332188,     23,2,20080601,1519, 41.7783, -60.9075, 4322,     56.0,  13.0075,  34.9429,2,-999.0000,9,    249.6,2,    252.5,2,     1.64,6,     1.91,6,     0.29,6, -999.000,9, -999.000,9, -999.000,9, -999.000,9, -999.000,9,   2091.2,2,   2327.2,2,  13.0778, 20080601,     1639
  18HU20080520, AR07W,   229,  1, 332189,     24,2,20080601,1519, 41.7783, -60.9075, 4322,      3.0,  13.7249,  34.7142,2,-999.0000,9,    271.6,2,    275.2,2,     0.68,6,     0.15,6,     0.19,6,    2.582,4,    1.908,4,    0.151,4,    3.136,4,    6.909,2,   2059.9,2,   2316.6,2,  13.7075, 20080601,     1640
  18HU20080520, AR07W,   231,  1, 332190,      1,2,20080601,2036, 41.4102, -60.6777, 4505,   4707.0,   2.2039,  34.8779,2,  34.8836,2,    259.7,2,    264.3,2,    31.16,6,    18.78,6,     1.25,6, -999.000,9, -999.000,9, -999.000,9, -999.000,9, -999.000,9,   2179.4,2,   2337.2,2,   1.7802, 20080601,     2036
  18HU20080520, AR07W,   231,  1, 332191,      2,2,20080601,2036, 41.4102, -60.6777, 4505,   4581.0,   2.2194,  34.8816,2,  34.8837,2,    260.6,2,    264.0,2,    31.20,6,    18.89,6,     1.26,6, -999.000,9, -999.000,9, -999.000,9, -999.000,9, -999.000,9,   2180.0,2,   2338.2,2,   1.8121, 20080601,     2038
  18HU20080520, AR07W,   231,  1, 332192,      3,2,20080601,2036, 41.4102, -60.6777, 4505,   4454.0,   2.2338,  34.8856,2,  34.8869,2,    264.7,2,    268.2,2,    26.98,6,    18.14,6,     1.20,6,    2.365,4,    0.880,4,    0.145,4,    2.507,4,    4.191,2,   2176.0,2,   2333.9,2,   1.8396, 20080601,     2041
  18HU20080520, AR07W,   231,  1, 332193,      4,2,20080601,2036, 41.4102, -60.6777, 4505,   4295.0,   2.2369,  34.8867,2,  34.8875,6,    262.7,2,    267.4,2,    27.26,6,    18.34,6,     1.21,6,    1.666,4,    0.514,4,    0.131,4,    1.982,4,    3.033,2,   2174.1,2,   2330.6,2,   1.8615, 20080601,     2044
  18HU20080520, AR07W,   231,  1, 332194,      5,2,20080601,2036, 41.4102, -60.6777, 4505,   4115.0,   2.2473,  34.8890,2,  34.8897,2,    263.1,2,    268.9,2,    26.18,6,    18.13,6,     1.21,6,    1.186,4,    0.196,4,    0.119,4,    1.588,4,    2.434,2,   2173.4,2,   2329.9,2,   1.8928, 20080601,     2048
  18HU20080520, AR07W,   231,  1, 332195,      6,2,20080601,2036, 41.4102, -60.6777, 4505,   3910.0,   2.2805,  34.8924,2,  34.8930,2,    263.9,2,    269.6,2,    23.88,6,    17.80,6,     1.18,6,    2.792,4,    1.633,4,    0.138,4,    1.456,4,    0.514,2,   2171.9,2,   2329.2,2,   1.9478, 20080601,     2051
  18HU20080520, AR07W,   231,  1, 332196,      7,2,20080601,2036, 41.4102, -60.6777, 4505,   3681.0,   2.3545,  34.8990,2,  34.9003,2,    260.7,2,    267.4,2,    25.09,6,    18.22,6,     1.20,6,    1.613,4,    0.437,4,    0.122,4,    1.918,4,    2.929,2,   2171.5,2,   2330.0,2,   2.0481, 20080601,     2055
  18HU20080520, AR07W,   231,  1, 332197,      8,2,20080601,2036, 41.4102, -60.6777, 4505,   3431.0,   2.4967,  34.9086,2,  34.9095,2,    262.1,2,    268.2,2,    22.50,6,    18.00,6,     1.19,6,    1.093,4,    0.222,4,    0.126,4,    1.550,4,    2.288,2,   2167.4,2,   2336.5,2,   2.2129, 20080601,     2107
  18HU20080520, AR07W,   231,  1, 332198,      9,2,20080601,2036, 41.4102, -60.6777, 4505,   3165.0,   2.6802,  34.9184,2,  34.9191,2,    260.1,2,    267.6,2,    20.21,6,    17.72,6,     1.18,6,    3.127,4,    1.852,4,    0.208,4,    3.046,4,    0.702,2,   2166.4,2,   2324.7,2,   2.4219, 20080601,     2116
  18HU20080520, AR07W,   231,  1, 332199,     10,2,20080601,2036, 41.4102, -60.6777, 4505,   2891.0,   2.9069,  34.9308,2,  34.9312,2,    259.1,2,    265.0,2,    19.09,6,    17.88,6,     1.19,6,    2.731,4,    1.238,4,    0.137,4,    2.571,4,    3.638,2,   2167.4,2,   2323.8,2,   2.6690, 20080601,     2125
  18HU20080520, AR07W,   231,  1, 332200,     11,2,20080601,2036, 41.4102, -60.6777, 4505,   2607.0,   3.1540,  34.9414,2,  34.9418,2,    257.1,2,    263.4,2,    17.62,6,    17.89,6,     1.18,6, -999.000,9, -999.000,9, -999.000,9, -999.000,9, -999.000,9,   2166.6,2,   2322.6,2,   2.9429, 20080601,     2130
  18HU20080520, AR07W,   231,  1, 332201,     12,2,20080601,2036, 41.4102, -60.6777, 4505,   2311.0,   3.3072,  34.9378,2,  34.9377,2,    259.5,2,    267.6,2,    15.13,6,    17.67,6,     1.16,6, -999.000,9, -999.000,9, -999.000,9, -999.000,9, -999.000,9,   2163.7,2,   2321.4,2,   3.1189, 20080601,     2134
  18HU20080520, AR07W,   231,  1, 332202,     13,2,20080601,2036, 41.4102, -60.6777, 4505,   2011.0,   3.4834,  34.9406,2,  34.9414,2,    260.4,2,    266.1,2,    13.92,6,    17.73,6,     1.17,6, -999.000,9, -999.000,9, -999.000,9, -999.000,9, -999.000,9,   2163.3,2,   2318.2,2,   3.3224, 20080601,     2139
  18HU20080520, AR07W,   231,  1, 332203,     14,2,20080601,2036, 41.4102, -60.6777, 4505,   1724.0,   3.6930,  34.9481,2,  34.9490,2,    259.2,2,    263.3,2,    12.80,6,    17.84,6,     1.17,6, -999.000,9, -999.000,9, -999.000,9, -999.000,9, -999.000,9,   2164.0,2,   2320.1,2,   3.5571, 20080601,     2144
  18HU20080520, AR07W,   231,  1, 332204,     15,2,20080601,2036, 41.4102, -60.6777, 4505,   1450.0,   3.9812,  34.9678,2,  34.9682,2,    255.3,2,    259.7,2,    12.08,6,    17.83,6,     1.17,6,    1.673,4,    0.868,4,    0.129,4,    2.204,4,    4.330,2,   2167.2,2,   2321.3,2,   3.8667, 20080601,     2148
  18HU20080520, AR07W,   231,  1, 332205,     16,2,20080601,2036, 41.4102, -60.6777, 4505,   1200.0,   4.1812,  34.9713,2,  34.9719,2,    252.6,2,    256.9,2,    11.64,6,    17.88,6,     1.18,6, -999.000,9, -999.000,9, -999.000,9, -999.000,9, -999.000,9,   2170.8,2,   2312.6,2,   4.0896, 20080601,     2152
  18HU20080520, AR07W,   231,  1, 332206,     17,2,20080601,2036, 41.4102, -60.6777, 4505,    961.0,   4.5376,  34.9893,2,  34.9908,2,    245.8,2,    249.2,2,    11.65,6,    18.26,6,     1.19,6,    1.068,4,    0.200,4,    0.117,4,    1.470,4,    2.089,2,   2171.1,2,   2316.2,2,   4.4669, 20080601,     2156
  18HU20080520, AR07W,   231,  1, 332207,     18,2,20080601,2036, 41.4102, -60.6777, 4505,    730.0,   5.1947,  35.0233,2,  35.0240,2,    227.4,2,    229.9,2,    12.29,6,    19.23,6,     1.25,6, -999.000,9, -999.000,9, -999.000,9, -999.000,9, -999.000,9,   2176.9,2,   2324.2,2,   5.1432, 20080601,     2200
  18HU20080520, AR07W,   231,  1, 332208,     19,2,20080601,2036, 41.4102, -60.6777, 4505,    515.0,   6.7176,  35.0573,2,  35.0204,2,    182.5,2,    183.6,2,    13.97,6,    22.43,6,     1.43,6, -999.000,9, -999.000,9, -999.000,9, -999.000,9, -999.000,9,   2192.4,2,   2324.0,2,   6.7181, 20080601,     2203
  18HU20080520, AR07W,   231,  1, 332209,     20,2,20080601,2036, 41.4102, -60.6777, 4505,    330.0,   9.7262,  35.2434,2,  35.2695,2,    137.6,2,    142.3,2,    12.49,6,    23.25,6,     1.45,6,    1.011,4,    0.217,4,    0.091,4,    1.324,4,    1.959,2,   2193.5,2,   2332.9,2,   9.8538, 20080601,     2206
  18HU20080520, AR07W,   231,  1, 332210,     21,2,20080601,2036, 41.4102, -60.6777, 4505,    194.0,  13.1245,  35.6218,2,-999.0000,9,    153.3,2,    157.9,2,     7.27,6,    16.18,6,     1.01,6, -999.000,9, -999.000,9, -999.000,9, -999.000,9, -999.000,9,   2166.4,2,   2348.4,2,  13.1008, 20080601,     2209
  18HU20080520, AR07W,   231,  1, 332211,     22,2,20080601,2036, 41.4102, -60.6777, 4505,    116.0,  14.2295,  35.6481,2,-999.0000,9,    199.7,2,    205.8,2,     3.76,6,     8.69,6,     0.59,6,    1.453,4,    0.369,4,    0.123,4,    1.748,4,    2.648,2,   2127.9,2,   2349.5,2,  14.1937, 20080601,     2211
  18HU20080520, AR07W,   231,  1, 332212,     23,2,20080601,2036, 41.4102, -60.6777, 4505,     57.0,  15.0797,  35.5768,2,-999.0000,9,    232.6,2,    236.8,2,     1.15,6,     2.12,6,     0.29,6, -999.000,9, -999.000,9, -999.000,9, -999.000,9, -999.000,9,   2089.1,2,   2357.2,2,  15.0579, 20080601,     2213
  18HU20080520, AR07W,   231,  1, 332213,     24,2,20080601,2036, 41.4102, -60.6777, 4505,      3.0,  15.6275,  35.2748,2,-999.0000,9,    255.6,2,    259.0,2,     0.48,6,     0.19,6,     0.13,6,    1.412,4,    0.369,4,    0.111,4,    0.420,4,    0.789,2,   2057.7,2,   2336.9,2,  15.6311, 20080601,     2214