BOTTLE,20130611PRINUNIVRMK
EXPOCODE,SECT_ID,STNNBR,CASTNO,SAMPNO,BTLNBR,BTLNBR_FLAG_W,DATE,TIME,LATITUDE,LONGITUDE,DEPTH,CTDPRS,CTDTMP,CTDSAL,CTDSAL_FLAG_W,SALNTY,SALNTY_FLAG_W,CTDOXY,CTDOXY_FLAG_W,OXYGEN,OXYGEN_FLAG_W,SILCAT,SILCAT_FLAG_W,NITRAT,NITRAT_FLAG_W,PHSPHT,PHSPHT_FLAG_W,CFC-11,CFC-11_FLAG_W,CFC-12,CFC-12_FLAG_W,CFC113,CFC113_FLAG_W,CCL4,CCL4_FLAG_W,MCHFRM,MCHFRM_FLAG_W,TCARBN,TCARBN_FLAG_W,ALKALI,ALKALI_FLAG_W,THETA,BTL_DATE,BTL_TIME
,,,,,,,,,,,METERS,DBAR,ITS-90,PSS-78,,PSS-78,,UMOL/KG,,UMOL/KG,,UMOL/KG,,UMOL/KG,,UMOL/KG,,PMOL/KG,,PMOL/KG,,PMOL/KG,,PMOL/KG,,PMOL/KG,,UMOL/KG,,UMOL/KG,,DEG C,,
  18HU20080520, AR07W,    69,  1, 331654,      1,2,20080525,2059, 59.7687, -49.1608, 3150,   3226.0,   1.6933,  34.8995,2,  34.8987,2,    295.4,2,    292.7,2,     9.67,6,    14.18,6,     0.95,6,    2.614,4,    1.314,4,    0.029,4,   25.028,4,   -1.000,4,   2160.2,2,   2300.8,2,   1.4484, 20080525,     2059
  18HU20080520, AR07W,    69,  1, 331655,      2,2,20080525,2059, 59.7687, -49.1608, 3150,   3180.0,   1.6966,  34.8977,2,  34.8961,2,    294.4,2,    292.4,2,     9.88,6,    14.18,6,     0.95,6,    3.047,4,    1.933,4,    0.122,4,   31.096,4,   -1.000,4,   2157.8,2,   2298.5,2,   1.4627, 20080525,     2101
  18HU20080520, AR07W,    69,  1, 331656,      3,2,20080525,2059, 59.7687, -49.1608, 3150,   3118.0,   1.8472,  34.8973,2,  34.8960,2,    292.0,2,    290.7,2,    10.06,6,    14.32,6,     0.97,6,    2.873,4,    1.415,4,    0.212,4,   30.864,4,   -1.000,4,   2159.6,2,   2298.6,2,   1.6153, 20080525,     2103
  18HU20080520, AR07W,    69,  1, 331657,      4,2,20080525,2059, 59.7687, -49.1608, 3150,   3023.0,   2.0192,  34.8974,2,  34.8960,2,    288.8,2,    288.4,2,    10.72,6,    14.70,6,     0.98,6, -999.000,9, -999.000,9, -999.000,9, -999.000,9, -999.000,9,   2160.5,2,   2296.3,2,   1.7951, 20080525,     2105
  18HU20080520, AR07W,    69,  1, 331658,      5,2,20080525,2059, 59.7687, -49.1608, 3150,   2904.0,   2.2770,  34.9005,2,  34.8993,2,    282.3,2,    282.3,2,    12.55,6,    15.40,6,     1.02,6, -999.000,9, -999.000,9, -999.000,9, -999.000,9, -999.000,9,   2159.2,2,   2297.8,2,   2.0680, 20080525,     2108
  18HU20080520, AR07W,    69,  1, 331659,      6,2,20080525,2059, 59.7687, -49.1608, 3150,   2766.0,   2.5143,  34.9094,2,  34.9095,6,    278.7,2,    278.3,2,    13.26,6,    15.96,6,     1.05,6,    2.840,4,    1.268,4,    0.148,4,   29.338,4,   -1.000,4,   2160.1,2,   2302.3,2,   2.2970, 20080525,     2110
  18HU20080520, AR07W,    69,  1, 331660,      7,2,20080525,2059, 59.7687, -49.1608, 3150,   2619.0,   2.6945,  34.9152,2,  34.9136,2,    277.1,2,    278.3,2,    12.44,6,    15.86,6,     1.04,6, -999.000,9, -999.000,9, -999.000,9, -999.000,9, -999.000,9,   2159.8,2,   2296.7,2,   2.4906, 20080525,     2113
  18HU20080520, AR07W,    69,  1, 331661,      8,2,20080525,2059, 59.7687, -49.1608, 3150,   2461.0,   2.8364,  34.9141,2,  34.9129,6,    276.2,2,    277.2,2,    12.04,6,    16.07,6,     1.05,6, -999.000,9, -999.000,9, -999.000,9, -999.000,9, -999.000,9,   2158.2,2,   2298.4,2,   2.6443, 20080525,     2116
  18HU20080520, AR07W,    69,  1, 331662,      9,2,20080525,2059, 59.7687, -49.1608, 3150,   2262.0,   3.0158,  34.9132,2,  34.9116,2,    275.6,2,    276.5,2,    11.63,6,    16.42,6,     1.07,6, -999.000,9, -999.000,9, -999.000,9, -999.000,9, -999.000,9,   2158.1,2,   2298.6,2,   2.8368, 20080525,     2120
  18HU20080520, AR07W,    69,  1, 331663,     10,2,20080525,2059, 59.7687, -49.1608, 3150,   2059.0,   3.1963,  34.9151,2,  34.9135,2,    275.4,2,    275.6,2,    11.12,6,    16.36,6,     1.07,6,    2.116,4,    0.828,4,    0.000,4,   23.132,4,   -1.000,4,   2160.5,2,   2299.6,2,   3.0373, 20080525,     2123
  18HU20080520, AR07W,    69,  1, 331664,     11,2,20080525,2059, 59.7687, -49.1608, 3150,   1850.0,   3.3225,  34.9081,2,  34.9064,2,    275.0,2,    275.2,2,    11.00,6,    16.72,6,     1.09,6, -999.000,9, -999.000,9, -999.000,9, -999.000,9, -999.000,9,   2158.6,2,   2301.6,2,   3.1812, 20080525,     2127
  18HU20080520, AR07W,    69,  1, 331665,     12,2,20080525,2059, 59.7687, -49.1608, 3150,   1638.0,   3.5145,  34.9148,2,  34.9130,2,    273.2,2,    273.1,2,    10.76,6,    16.90,6,     1.09,6,    3.426,4,    2.099,4,    0.224,4,   33.754,4,   -1.000,4,   2159.1,2,   2299.3,2,   3.3874, 20080525,     2131
  18HU20080520, AR07W,    69,  1, 331666,     13,2,20080525,2059, 59.7687, -49.1608, 3150,   1429.0,   3.6544,  34.9097,2,  34.9079,2,    273.6,2,    273.6,6,    10.35,6,    16.75,6,     1.09,6,    2.957,4,    1.477,4,    0.000,4,   31.319,4,   -1.000,4,   2160.6,2,   2300.1,2,   3.5450, 20080525,     2135
  18HU20080520, AR07W,    69,  1, 331667,     14,2,20080525,2059, 59.7687, -49.1608, 3150,   1233.0,   3.5269,  34.8736,2,  34.8707,2,    284.6,2,    285.1,2,     9.41,6,    16.34,6,     1.07,6,    2.520,4,    1.215,4,    0.110,4,   25.284,4,   -1.000,4,   2157.8,2,   2295.6,2,   3.4342, 20080525,     2138
  18HU20080520, AR07W,    69,  1, 331668,     15,2,20080525,2059, 59.7687, -49.1608, 3150,   1032.0,   3.5551,  34.8668,2,  34.8627,2,    287.5,2,    306.2,3,     9.05,6,    16.07,6,     1.05,6,    3.104,4,    1.531,4,    0.075,4,   27.353,4,   -1.000,4,   2157.7,2,   2294.2,2,   3.4749, 20080525,     2142
  18HU20080520, AR07W,    69,  1, 331669,     16,2,20080525,2059, 59.7687, -49.1608, 3150,    840.0,   3.6432,  34.8710,2,  34.8628,2,    287.4,2,    287.8,2,     8.83,6,    16.16,6,     1.04,6, -999.000,9, -999.000,9, -999.000,9, -999.000,9, -999.000,9,   2156.8,2,   2299.1,2,   3.5616, 20080525,     2145
  18HU20080520, AR07W,    69,  1, 331670,     17,2,20080525,2059, 59.7687, -49.1608, 3150,    659.0,   3.7860,  34.8786,2,  34.8764,2,    286.2,2,    286.2,2,     8.78,6,    15.99,6,     1.05,6,    3.539,4,    1.939,4,    0.241,4,   33.826,4,   -1.000,4,   2156.2,2,   2297.6,2,   3.7497, 20080525,     2148
  18HU20080520, AR07W,    69,  1, 331671,     18,2,20080525,2059, 59.7687, -49.1608, 3150,    480.0,   3.9897,  34.8919,2,  34.8836,2,    286.7,2,    287.0,2,     8.51,6,    15.77,6,     1.04,6,    4.133,4,    3.586,4,    0.554,4,   45.616,4,   -1.000,4,   2154.3,2,   2296.6,2,   3.9370, 20080525,     2152
  18HU20080520, AR07W,    69,  1, 331672,     19,2,20080525,2059, 59.7687, -49.1608, 3150,    329.0,   4.2759,  34.9108,2,  34.9111,2,    287.7,2,    287.5,2,     8.38,6,    15.72,6,     1.03,6,    3.548,4,    2.061,4,    0.240,4,   34.720,4,   -1.000,4,   2154.6,3,   2299.9,2,   4.2779, 20080525,     2155
  18HU20080520, AR07W,    69,  1, 331673,     20,2,20080525,2059, 59.7687, -49.1608, 3150,    211.0,   4.2914,  34.8851,2,  34.8806,2,    292.2,2,    291.8,2,     8.03,6,    15.40,6,     1.03,6, -999.000,9, -999.000,9, -999.000,9, -999.000,9, -999.000,9,   2152.0,2,   2293.8,2,   4.2749, 20080525,     2157
  18HU20080520, AR07W,    69,  1, 331674,     21,2,20080525,2059, 59.7687, -49.1608, 3150,    110.0,   4.0770,  34.8070,2,-999.0000,9,    298.1,2,    297.2,2,     7.59,6,    14.71,6,     0.98,6,    3.101,4,    1.814,4,    0.261,4,   33.673,4,   -1.000,4,   2145.0,2,   2294.9,2,   4.0669, 20080525,     2200
  18HU20080520, AR07W,    69,  1, 331675,     22,2,20080525,2059, 59.7687, -49.1608, 3150,     50.0,   3.7968,  34.3948,2,-999.0000,9,    334.6,2,    333.8,2,     4.71,6,     6.56,6,     0.47,6,    3.245,4,    2.097,4,    0.192,4,   35.711,4,   -1.000,4,   2094.7,2,   2283.4,2,   3.8040, 20080525,     2201
  18HU20080520, AR07W,    69,  1, 331676,     23,2,20080525,2059, 59.7687, -49.1608, 3150,     26.0,   3.8687,  34.3741,2,-999.0000,9,    337.6,2,    335.8,2,     4.33,6,     5.75,6,     0.40,6, -999.000,9, -999.000,9, -999.000,9, -999.000,9, -999.000,9,   2091.8,2,   2288.8,2,   3.8588, 20080525,     2202
  18HU20080520, AR07W,    69,  1, 331677,     24,2,20080525,2059, 59.7687, -49.1608, 3150,      3.0,   3.8825,  34.3735,2,-999.0000,9,    338.0,2,    335.9,2,     4.31,6,     5.74,6,     0.41,6,    4.245,4,    2.243,4,    0.285,4,    4.261,4,    4.618,4,   2090.1,2,   2280.5,2,   3.8689, 20080525,     2204
  18HU20080520, AR07W,    77,  1, 331678,      1,2,20080526,0138, 59.4822, -49.4688, 3334,   3428.0,   1.7477,  34.8973,2,  34.8953,2,    295.0,2,    292.6,2,     9.82,6,    14.07,6,     0.96,6,    2.952,4,    1.352,4,    0.145,4,    3.063,4,    4.645,2,   2159.8,2,   2298.5,2,   1.4815, 20080526,      138
  18HU20080520, AR07W,    77,  1, 331679,      2,2,20080526,0138, 59.4822, -49.4688, 3334,   3382.0,   1.7730,  34.8961,2,  34.8942,2,    293.1,2,    292.0,2,    10.00,6,    13.99,6,     0.96,6,    3.167,4,    1.462,4,    0.173,4,    3.205,4,    5.352,2,   2160.1,2,   2297.9,2,   1.5173, 20080526,      140
  18HU20080520, AR07W,    77,  1, 331680,      3,2,20080526,0138, 59.4822, -49.4688, 3334,   3300.0,   2.0197,  34.8978,2,  34.8958,2,    289.5,2,    288.8,2,    10.34,6,    14.42,6,     0.98,6,    3.674,4,    1.755,4,    0.220,4,    3.615,4,    6.197,2,   2157.6,2,   2299.5,2,   1.7617, 20080526,      142
  18HU20080520, AR07W,    77,  1, 331681,      4,2,20080526,0138, 59.4822, -49.4688, 3334,   3198.0,   2.2609,  34.9012,2,  34.8996,2,    284.5,2,    284.3,2,    11.57,6,    14.94,6,     1.02,6, -999.000,9, -999.000,9, -999.000,9, -999.000,9, -999.000,9,   2159.2,2,   2299.1,2,   2.0079, 20080526,      144
  18HU20080520, AR07W,    77,  1, 331682,      5,2,20080526,0138, 59.4822, -49.4688, 3334,   3081.0,   2.4624,  34.9079,2,  34.9071,2,    280.2,2,    280.5,2,    12.30,6,    15.31,6,     1.03,6, -999.000,9, -999.000,9, -999.000,9, -999.000,9, -999.000,9,   2158.7,2,   2302.1,2,   2.2151, 20080526,      146
  18HU20080520, AR07W,    77,  1, 331683,      6,2,20080526,0138, 59.4822, -49.4688, 3334,   2947.0,   2.6274,  34.9120,2,  34.9124,6,    277.7,2,    278.4,2,    12.45,6,    15.57,6,     1.05,6,    3.944,4,    1.968,4,    0.264,4,    3.788,4,    4.908,2,   2163.5,2,   2300.0,2,   2.3924, 20080526,      149
  18HU20080520, AR07W,    77,  1, 331684,      7,2,20080526,0138, 59.4822, -49.4688, 3334,   2793.0,   2.7884,  34.9151,2,  34.9135,2,    276.7,2,    278.1,2,    11.84,6,    15.69,6,     1.05,6, -999.000,9, -999.000,9, -999.000,9, -999.000,9, -999.000,9,   2161.0,2,   2295.9,2,   2.5669, 20080526,      152
  18HU20080520, AR07W,    77,  1, 331685,      8,2,20080526,0138, 59.4822, -49.4688, 3334,   2611.0,   2.9292,  34.9128,2,  34.9113,2,    275.8,2,    277.0,2,    11.60,6,    15.93,6,     1.07,6, -999.000,9, -999.000,9, -999.000,9, -999.000,9, -999.000,9,   2161.2,2,   2300.8,2,   2.7237, 20080526,      155
  18HU20080520, AR07W,    77,  1, 331686,      9,2,20080526,0138, 59.4822, -49.4688, 3334,   2409.0,   3.0843,  34.9132,2,  34.9121,6,    275.3,2,    276.4,2,    11.14,6,    15.94,6,     1.09,6,    4.491,4,    2.348,4,    0.382,4,    4.526,4,    3.114,2,   2160.3,2,   2300.4,2,   2.8931, 20080526,      159
  18HU20080520, AR07W,    77,  1, 331687,     10,2,20080526,0138, 59.4822, -49.4688, 3334,   2187.0,   3.2649,  34.9157,2,  34.9143,2,    275.0,2,    275.9,2,    10.70,6,    16.11,6,     1.07,6, -999.000,9, -999.000,9, -999.000,9, -999.000,9, -999.000,9,   2162.1,2,   2297.7,2,   3.0898, 20080526,      203
  18HU20080520, AR07W,    77,  1, 331688,     11,2,20080526,0138, 59.4822, -49.4688, 3334,   1961.0,   3.4169,  34.9142,2,  34.9119,2,    273.6,2,    270.4,3,    10.54,6,    16.47,6,     1.09,6,    4.537,4,    2.521,4,    0.376,4,    4.606,4,    2.737,2,   2162.7,2,   2298.6,2,   3.2581, 20080526,      207
  18HU20080520, AR07W,    77,  1, 331689,     12,2,20080526,0138, 59.4822, -49.4688, 3334,   1731.0,   3.5914,  34.9171,2,  34.9144,2,    272.3,2,    273.4,2,    10.36,6,    16.40,6,     1.08,6, -999.000,9, -999.000,9, -999.000,9, -999.000,9, -999.000,9,   2160.2,2,   2300.1,2,   3.4519, 20080526,      211
  18HU20080520, AR07W,    77,  1, 331690,     13,2,20080526,0138, 59.4822, -49.4688, 3334,   1501.0,   3.6849,  34.9059,2,  34.9049,2,    275.2,2,    275.4,2,     9.76,6,    16.32,6,     1.08,6,    4.279,4,    2.216,4,    0.290,4,    4.281,4,    4.750,2,   2166.3,2,   2297.5,2,   3.5667, 20080526,      215
  18HU20080520, AR07W,    77,  1, 331691,     14,2,20080526,0138, 59.4822, -49.4688, 3334,   1279.0,   3.6109,  34.8787,2,  34.8780,2,    282.8,2,    288.4,3,     9.05,6,    15.96,6,     1.06,6, -999.000,9, -999.000,9, -999.000,9, -999.000,9, -999.000,9,   2162.5,2,   2294.8,2,   3.5142, 20080526,      218
  18HU20080520, AR07W,    77,  1, 331692,     15,2,20080526,0138, 59.4822, -49.4688, 3334,   1071.0,   3.5707,  34.8633,2,  34.8654,2,    287.9,2,    288.7,2,     8.55,6,    15.84,6,     1.05,6,    5.201,4,    2.902,4,    0.475,4,    5.853,4,    1.487,2,   2159.4,2,   2295.7,2,   3.4887, 20080526,      222
  18HU20080520, AR07W,    77,  1, 331693,     16,2,20080526,0138, 59.4822, -49.4688, 3334,    875.0,   3.6515,  34.8684,2,  34.8649,2,    287.6,2,    287.5,2,     8.41,6,    15.61,6,     1.04,6, -999.000,9, -999.000,9, -999.000,9, -999.000,9, -999.000,9,   2160.5,2,   2298.5,2,   3.5878, 20080526,      226
  18HU20080520, AR07W,    77,  1, 331694,     17,2,20080526,0138, 59.4822, -49.4688, 3334,    680.0,   3.7243,  34.8681,2,  34.8649,2,    287.0,2,    287.3,2,     8.27,6,    15.61,6,     1.04,6, -999.000,9, -999.000,9, -999.000,9, -999.000,9, -999.000,9,   2161.2,2,   2293.8,2,   3.6761, 20080526,      229
  18HU20080520, AR07W,    77,  1, 331695,     18,2,20080526,0138, 59.4822, -49.4688, 3334,    512.0,   3.9544,  34.8878,2,  34.8766,2,    286.4,2,    286.6,2,     8.24,6,    15.61,6,     1.04,6,    5.219,4,    2.936,4,    0.463,4,    5.925,4,    1.459,2,   2159.2,2,   2295.5,2,   3.8654, 20080526,      233
  18HU20080520, AR07W,    77,  1, 331696,     19,2,20080526,0138, 59.4822, -49.4688, 3334,    362.0,   3.9637,  34.8674,2,-999.0000,9,    288.0,2,    288.0,2,     7.94,6,    15.30,6,     1.02,6, -999.000,9, -999.000,9, -999.000,9, -999.000,9, -999.000,9,   2156.6,2,   2296.3,2,   3.9531, 20080526,      235
  18HU20080520, AR07W,    77,  1, 331697,     20,2,20080526,0138, 59.4822, -49.4688, 3334,    240.0,   4.3125,  34.8880,2,  34.8854,2,    284.9,2,    284.6,2,     7.89,6,    15.34,6,     1.03,6, -999.000,9, -999.000,9, -999.000,9, -999.000,9, -999.000,9,   2159.7,2,   2298.4,2,   4.2928, 20080526,      237
  18HU20080520, AR07W,    77,  1, 331698,     21,2,20080526,0138, 59.4822, -49.4688, 3334,    140.0,   3.7228,  34.7604,2,-999.0000,9,    302.3,2,    301.7,2,     7.29,6,    14.25,6,     0.97,6, -999.000,9, -999.000,9, -999.000,9, -999.000,9, -999.000,9,   2147.3,2,   2291.8,2,   3.7789, 20080526,      240
  18HU20080520, AR07W,    77,  1, 331699,     22,2,20080526,0138, 59.4822, -49.4688, 3334,     71.0,   3.8418,  34.5721,2,-999.0000,9,    322.0,2,    322.7,2,     5.62,6,     9.24,6,     0.64,6,    3.755,4,    1.752,4,    0.265,4,    3.811,4,    4.439,2,   2118.7,2,   2277.9,2,   3.8698, 20080526,      241
  18HU20080520, AR07W,    77,  1, 331700,     23,2,20080526,0138, 59.4822, -49.4688, 3334,     36.0,   4.0771,  34.5431,2,-999.0000,9,    328.3,2,    328.1,2,     5.25,6,     7.99,6,     0.53,6, -999.000,9, -999.000,9, -999.000,9, -999.000,9, -999.000,9,   2111.5,2,   2284.2,2,   4.0639, 20080526,      243
  18HU20080520, AR07W,    77,  1, 331701,     24,2,20080526,0138, 59.4822, -49.4688, 3334,      3.0,   4.0911,  34.5429,2,-999.0000,9,    328.9,2,    327.7,2,     5.13,6,     7.82,6,     0.52,6,    4.587,4,    2.629,4,    0.383,4,    4.720,4,    2.027,2,   2109.1,2,   2282.2,2,   4.0909, 20080526,      244