BOTTLE,20130611PRINUNIVRMK
EXPOCODE,SECT_ID,STNNBR,CASTNO,SAMPNO,BTLNBR,BTLNBR_FLAG_W,DATE,TIME,LATITUDE,LONGITUDE,DEPTH,CTDPRS,CTDTMP,CTDSAL,CTDSAL_FLAG_W,SALNTY,SALNTY_FLAG_W,CTDOXY,CTDOXY_FLAG_W,OXYGEN,OXYGEN_FLAG_W,SILCAT,SILCAT_FLAG_W,NITRAT,NITRAT_FLAG_W,PHSPHT,PHSPHT_FLAG_W,CFC-11,CFC-11_FLAG_W,CFC-12,CFC-12_FLAG_W,CFC113,CFC113_FLAG_W,CCL4,CCL4_FLAG_W,MCHFRM,MCHFRM_FLAG_W,TCARBN,TCARBN_FLAG_W,ALKALI,ALKALI_FLAG_W,THETA,BTL_DATE,BTL_TIME
,,,,,,,,,,,METERS,DBAR,ITS-90,PSS-78,,PSS-78,,UMOL/KG,,UMOL/KG,,UMOL/KG,,UMOL/KG,,UMOL/KG,,PMOL/KG,,PMOL/KG,,PMOL/KG,,PMOL/KG,,PMOL/KG,,UMOL/KG,,UMOL/KG,,DEG C,,
  18HU20080520, AR07W,   240,  1, 332275,      1,2,20080602,1829, 42.5445, -61.3828, 2750,   2786.0,   2.8834,  34.9214,2,-999.0000,9,    270.3,2,    293.0,3,    17.18,6,    17.72,6,     1.13,6,    6.540,4,    3.830,4,    0.529,4,    6.816,4,    2.687,2,   2161.6,2,   2318.7,2,   2.6570, 20080602,     1829
  18HU20080520, AR07W,   240,  1, 332276,      2,2,20080602,1829, 42.5445, -61.3828, 2750,   2680.0,   2.9795,  34.9234,2,-999.0000,9,    268.7,2,    269.0,2,    17.17,6,    17.49,6,     1.12,6, -999.000,9, -999.000,9, -999.000,9, -999.000,9, -999.000,9,   2162.6,3,   2312.5,2,   2.7667, 20080602,     1832
  18HU20080520, AR07W,   240,  1, 332277,      3,2,20080602,1829, 42.5445, -61.3828, 2750,   2547.0,   3.0983,  34.9272,2,-999.0000,9,    267.2,2,    266.1,2,    16.13,6,    17.57,6,     1.13,6,    2.246,4,    0.903,4,    0.088,4,    2.574,4,    4.575,2,   2160.9,2,   2309.6,2,   2.8915, 20080602,     1835
  18HU20080520, AR07W,   240,  1, 332278,      4,2,20080602,1829, 42.5445, -61.3828, 2750,   2388.0,   3.1794,  34.9290,2,-999.0000,9,    266.4,2,    265.7,2,    15.59,6,    17.67,6,     1.17,6, -999.000,9, -999.000,9, -999.000,9, -999.000,9, -999.000,9,   2161.2,2,   2314.1,2,   2.9894, 20080602,     1837
  18HU20080520, AR07W,   240,  1, 332279,      5,2,20080602,1829, 42.5445, -61.3828, 2750,   2200.0,   3.3295,  34.9305,2,-999.0000,9,    265.9,2,    266.0,2,    14.61,6,    17.58,6,     1.14,6, -999.000,9, -999.000,9, -999.000,9, -999.000,9, -999.000,9,   2162.1,2,   2310.5,2,   3.1522, 20080602,     1841
  18HU20080520, AR07W,   240,  1, 332280,      6,2,20080602,1829, 42.5445, -61.3828, 2750,   2001.0,   3.4685,  34.9319,2,-999.0000,9,    265.2,2,    265.2,2,    13.53,6,    17.45,6,     1.13,6,    3.136,4,    1.480,4,    0.100,4,    3.118,4,    4.577,2,   2162.4,2,   2315.2,2,   3.3115, 20080602,     1844
  18HU20080520, AR07W,   240,  1, 332281,      7,2,20080602,1829, 42.5445, -61.3828, 2750,   1749.0,   3.7206,  34.9382,2,-999.0000,9,    263.4,2,    263.3,2,    12.47,6,    17.43,6,     1.14,6, -999.000,9, -999.000,9, -999.000,9, -999.000,9, -999.000,9,   2161.7,2,   2306.5,2,   3.5882, 20080602,     1848
  18HU20080520, AR07W,   240,  1, 332282,      8,2,20080602,1829, 42.5445, -61.3828, 2750,   1500.0,   3.9540,  34.9414,2,-999.0000,9,    262.0,2,    262.2,2,    11.40,6,    17.21,6,     1.13,6,    1.752,4,    0.762,4,    0.051,4,    2.054,4,    3.287,2,   2168.2,2,   2305.7,3,   3.8328, 20080602,     1852
  18HU20080520, AR07W,   240,  1, 332283,      9,2,20080602,1829, 42.5445, -61.3828, 2750,   1253.0,   4.1015,  34.9225,2,-999.0000,9,    264.9,2,    265.5,6,    10.43,6,    16.84,6,     1.11,6,    4.658,4,    2.560,4,    0.309,4,    4.488,4,    2.845,2,   2166.2,2,   2306.8,2,   4.0028, 20080602,     1856
  18HU20080520, AR07W,   240,  1, 332284,     10,2,20080602,1829, 42.5445, -61.3828, 2750,   1002.0,   3.9441,  34.8567,2,-999.0000,9,    276.3,2,    276.6,2,     9.27,6,    15.74,6,     1.05,6,    4.821,4,    2.734,4,    0.333,4,    4.689,4,    2.622,2,   2162.3,2,   2303.3,2,   3.8664, 20080602,     1900
  18HU20080520, AR07W,   240,  1, 332285,     11,2,20080602,1829, 42.5445, -61.3828, 2750,    751.0,   3.9134,  34.8252,2,-999.0000,9,    276.5,2,    277.0,2,    10.71,6,    16.02,6,     1.08,6,    4.695,4,    2.477,4,    0.331,4,    4.442,4,    2.525,2,   2161.1,2,   2302.8,2,   3.8579, 20080602,     1904
  18HU20080520, AR07W,   240,  1, 332286,     12,2,20080602,1829, 42.5445, -61.3828, 2750,    500.0,   4.0051,  34.7765,2,-999.0000,9,    263.3,2,    263.9,2,    10.21,6,    16.15,6,     1.08,6,    1.802,4,    0.725,4,    0.067,4,    2.120,4,    3.584,2,   2165.0,2,   2302.5,2,   3.9651, 20080602,     1908
  18HU20080520, AR07W,   240,  1, 332287,     13,2,20080602,1829, 42.5445, -61.3828, 2750,    249.0,   4.7127,  34.5609,2,-999.0000,9,    226.8,2,    228.0,2,    12.02,6,    17.11,6,     1.17,6,    4.625,4,    2.651,4,    0.307,4,    4.055,4,    1.605,2,   2172.3,2,   2294.0,2,   4.6858, 20080602,     1912
  18HU20080520, AR07W,   240,  1, 332288,     14,2,20080602,1829, 42.5445, -61.3828, 2750,    201.0,   4.9759,  34.5450,2,-999.0000,9,    220.5,2,   -999.0,9,    11.95,6,    17.26,6,     1.17,6, -999.000,9, -999.000,9, -999.000,9, -999.000,9, -999.000,9,   -999.0,9,   -999.0,9,   4.9574, 20080602,     1914
  18HU20080520, AR07W,   240,  1, 332289,     15,2,20080602,1829, 42.5445, -61.3828, 2750,    151.0,   5.8550,  34.6091,2,-999.0000,9,    206.4,2,   -999.0,9,    11.41,6,    18.10,6,     1.20,6, -999.000,9, -999.000,9, -999.000,9, -999.000,9, -999.000,9,   -999.0,9,   -999.0,9,   5.9644, 20080602,     1915
  18HU20080520, AR07W,   240,  1, 332290,     16,2,20080602,1829, 42.5445, -61.3828, 2750,    100.0,   4.9842,  34.1849,2,-999.0000,9,    241.2,2,    242.9,2,     8.65,6,    13.11,6,     0.98,6,    6.026,4,    3.338,4,    0.455,4,    6.487,4,    1.678,2,   2146.5,2,   2278.0,2,   5.0678, 20080602,     1917
  18HU20080520, AR07W,   240,  1, 332291,     17,2,20080602,1829, 42.5445, -61.3828, 2750,     79.0,   7.1870,  34.3272,2,-999.0000,9,    245.0,2,   -999.0,9,     5.32,6,    10.00,6,     0.78,6, -999.000,9, -999.000,9, -999.000,9, -999.000,9, -999.000,9,   -999.0,9,   -999.0,9,   7.1792, 20080602,     1918
  18HU20080520, AR07W,   240,  1, 332292,     18,2,20080602,1829, 42.5445, -61.3828, 2750,     61.0,   3.0587,  33.2714,2,-999.0000,9,    284.4,2,   -999.0,9,     6.43,6,     7.38,6,     0.81,6, -999.000,9, -999.000,9, -999.000,9, -999.000,9, -999.000,9,   -999.0,9,   -999.0,9,   2.8605, 20080602,     1919
  18HU20080520, AR07W,   240,  1, 332293,     19,2,20080602,1829, 42.5445, -61.3828, 2750,     49.0,   2.9251,  32.9995,2,-999.0000,9,    295.2,2,    299.1,2,     1.50,6,     4.15,6,     0.70,6,    5.607,4,    3.254,4,    0.413,4,    6.356,4,    1.300,2,   2104.9,2,   2226.6,2,   2.8782, 20080602,     1920
  18HU20080520, AR07W,   240,  1, 332294,     20,2,20080602,1829, 42.5445, -61.3828, 2750,     39.0,   3.2399,  32.5993,2,-999.0000,9,    323.5,2,   -999.0,9,     0.22,6,     0.00,6,     0.34,6, -999.000,9, -999.000,9, -999.000,9, -999.000,9, -999.000,9,   -999.0,9,   -999.0,9,   3.4132, 20080602,     1920
  18HU20080520, AR07W,   240,  1, 332295,     21,2,20080602,1829, 42.5445, -61.3828, 2750,     30.0,   3.7694,  32.4763,2,-999.0000,9,    342.3,2,   -999.0,9,     0.11,6,     0.00,6,     0.33,6, -999.000,9, -999.000,9, -999.000,9, -999.000,9, -999.000,9,   -999.0,9,   -999.0,9,   3.7590, 20080602,     1921
  18HU20080520, AR07W,   240,  1, 332296,     22,2,20080602,1829, 42.5445, -61.3828, 2750,     20.0,   4.8403,  32.4555,2,-999.0000,9,    336.3,2,   -999.0,9,     0.24,6,     0.00,6,     0.32,6, -999.000,9, -999.000,9, -999.000,9, -999.000,9, -999.000,9,   -999.0,9,   -999.0,9,   5.2994, 20080602,     1922
  18HU20080520, AR07W,   240,  1, 332297,     23,2,20080602,1829, 42.5445, -61.3828, 2750,     10.0,   6.1240,  32.3703,2,-999.0000,9,    324.9,2,    323.1,2,     0.31,6,     0.00,6,     0.32,6,    3.936,4,    2.080,4,    0.220,4,    3.682,4,    3.741,2,   2031.0,2,   2197.9,2,   6.3380, 20080602,     1923
  18HU20080520, AR07W,   240,  1, 332298,     24,2,20080602,1829, 42.5445, -61.3828, 2750,      3.0,   6.3942,  32.3721,2,-999.0000,9,    323.7,2,   -999.0,9,     0.46,6,     0.00,6,     0.33,6, -999.000,9, -999.000,9, -999.000,9, -999.000,9, -999.000,9,   -999.0,9,   -999.0,9,   6.3639, 20080602,     1924
  18HU20080520, AR07W,   243,  1, 332299,      1,2,20080602,2248, 42.8362, -61.7070, 1088,   1104.0,   4.1841,  34.9475,2,-999.0000,9,    262.1,2,    257.1,3,    11.40,6,    17.63,6,     1.13,6,    6.053,4,    3.478,4,    0.486,4,    6.209,4,    1.998,2,   2164.8,2,   2314.1,2,   4.0981, 20080602,     2248
  18HU20080520, AR07W,   243,  1, 332300,      2,2,20080602,2248, 42.8362, -61.7070, 1088,    751.0,   4.4232,  34.9269,2,-999.0000,9,    257.4,2,    257.1,2,    10.45,6,    17.35,6,     1.12,6,    3.386,4,    1.641,4,    0.148,4,    3.185,4,    3.978,2,   2169.5,2,   2306.6,2,   4.3692, 20080602,     2254
  18HU20080520, AR07W,   243,  1, 332301,      3,2,20080602,2248, 42.8362, -61.7070, 1088,    500.0,   4.6685,  34.8566,2,-999.0000,9,    243.2,2,    243.6,2,    11.29,6,    17.71,6,     1.15,6,    3.678,4,    1.855,4,    0.201,4,    3.384,4,    2.990,2,   2173.5,2,   2311.2,2,   4.6306, 20080602,     2258
  18HU20080520, AR07W,   243,  1, 332302,      4,2,20080602,2248, 42.8362, -61.7070, 1088,    250.0,   4.9572,  34.5850,2,-999.0000,9,    225.6,2,    227.1,2,    11.09,6,    17.49,6,     1.17,6,    3.956,4,    2.056,4,    0.263,4,    3.585,4,    2.658,2,   2166.5,2,   2296.8,3,   4.9258, 20080602,     2301
  18HU20080520, AR07W,   243,  1, 332303,      5,2,20080602,2248, 42.8362, -61.7070, 1088,    201.0,   5.0795,  34.5067,2,-999.0000,9,    227.4,2,    228.8,2,    10.33,6,    16.56,6,     1.13,6,    5.647,4,    4.154,4,    0.622,4,    5.782,4,    1.379,2,   2164.0,3,   2284.2,2,   5.0890, 20080602,     2303
  18HU20080520, AR07W,   243,  1, 332304,      6,2,20080602,2248, 42.8362, -61.7070, 1088,    151.0,   7.6813,  34.8246,2,-999.0000,9,    181.6,2,    184.3,2,    10.82,6,    18.47,6,     1.21,6,    4.170,4,    2.229,4,    0.284,4,    3.582,4,    1.746,2,   2179.4,3,   2296.8,2,   7.6952, 20080602,     2305
  18HU20080520, AR07W,   243,  1, 332305,      7,2,20080602,2248, 42.8362, -61.7070, 1088,    101.0,   6.2793,  34.3455,2,-999.0000,9,    229.0,2,    237.7,6,     7.94,6,    13.29,6,     0.99,6,    3.144,4,    1.549,4,    0.000,4,    1.981,4,    1.407,2,   2151.6,2,   2279.1,2,   6.1629, 20080602,     2306
  18HU20080520, AR07W,   243,  1, 332306,      8,2,20080602,2248, 42.8362, -61.7070, 1088,     81.0,   4.2379,  33.9034,2,-999.0000,9,    265.0,2,   -999.0,9,     6.76,6,    10.68,6,     0.89,6, -999.000,9, -999.000,9, -999.000,9, -999.000,9, -999.000,9,   -999.0,9,   -999.0,9,   3.7221, 20080602,     2307
  18HU20080520, AR07W,   243,  1, 332307,      9,2,20080602,2248, 42.8362, -61.7070, 1088,     60.0,   2.9464,  33.3842,2,-999.0000,9,    286.7,2,   -999.0,9,     8.20,6,     7.89,6,     0.81,6,    4.424,4,    2.536,4,    0.254,4,    3.735,4,    1.591,2,   -999.0,9,   -999.0,9,   2.8388, 20080602,     2308
  18HU20080520, AR07W,   243,  1, 332308,     10,2,20080602,2248, 42.8362, -61.7070, 1088,     50.0,   3.0410,  33.2641,2,-999.0000,9,    301.8,2,    300.2,2,     3.68,6,     4.90,6,     0.67,6, -999.000,9, -999.000,9, -999.000,9, -999.000,9, -999.000,9,   2102.5,2,   2233.1,2,   3.5598, 20080602,     2309
  18HU20080520, AR07W,   243,  1, 332309,     11,2,20080602,2248, 42.8362, -61.7070, 1088,     41.0,   4.4038,  33.0870,2,-999.0000,9,    307.9,2,   -999.0,9,     1.21,6,     1.48,6,     0.47,6, -999.000,9, -999.000,9, -999.000,9, -999.000,9, -999.000,9,   -999.0,9,   -999.0,9,   4.6511, 20080602,     2310
  18HU20080520, AR07W,   243,  1, 332310,     12,2,20080602,2248, 42.8362, -61.7070, 1088,     30.0,   5.1376,  32.9646,2,-999.0000,9,    315.9,2,   -999.0,9,     0.38,6,     0.18,6,     0.35,6, -999.000,9, -999.000,9, -999.000,9, -999.000,9, -999.000,9,   -999.0,9,   -999.0,9,   5.1848, 20080602,     2311
  18HU20080520, AR07W,   243,  1, 332311,     13,2,20080602,2248, 42.8362, -61.7070, 1088,     22.0,   5.8645,  32.8504,2,-999.0000,9,    322.6,2,   -999.0,9,     0.66,6,     0.15,6,     0.30,6, -999.000,9, -999.000,9, -999.000,9, -999.000,9, -999.000,9,   -999.0,9,   -999.0,9,   6.3025, 20080602,     2312
  18HU20080520, AR07W,   243,  1, 332312,     14,2,20080602,2248, 42.8362, -61.7070, 1088,     10.0,   7.2866,  32.7030,2,-999.0000,9,    312.6,2,    311.6,2,     0.43,6,     0.07,6,     0.29,6,    1.476,4,    0.349,4,    0.140,4,    1.818,4,    2.716,2,   2044.3,2,   2212.6,2,   7.3539, 20080602,     2313
  18HU20080520, AR07W,   243,  1, 332313,     15,2,20080602,2248, 42.8362, -61.7070, 1088,      3.0,   7.7091,  32.6018,2,-999.0000,9,    311.1,2,   -999.0,9,     0.41,6,     0.12,6,     0.30,6, -999.000,9, -999.000,9, -999.000,9, -999.000,9, -999.000,9,   -999.0,9,   -999.0,9,   7.7201, 20080602,     2314
  18HU20080520, AR07W,   248,  1, 332314,      1,2,20080603,0337, 43.1822, -62.0990,  101,     91.0,   8.0614,  34.2745,2,-999.0000,9,    233.8,2,    232.7,2,     7.52,6,    10.22,6,     0.82,6,    3.919,4,    2.092,4,    0.221,4,    3.439,4,    1.868,2,   2132.4,2,   2283.8,2,   8.0532, 20080603,      337
  18HU20080520, AR07W,   248,  1, 332315,      2,2,20080603,0337, 43.1822, -62.0990,  101,     80.0,   8.0242,  34.2603,2,-999.0000,9,    234.1,2,    232.0,2,     7.26,6,    10.42,6,     0.85,6,    4.335,4,    2.596,4,    0.276,4,    3.604,4,    1.111,2,   2134.8,2,   2274.1,2,   7.6980, 20080603,      337
  18HU20080520, AR07W,   248,  1, 332316,      3,2,20080603,0337, 43.1822, -62.0990,  101,     61.0,   5.5008,  33.4937,2,-999.0000,9,    285.4,2,   -999.0,9,     3.39,6,     4.28,6,     0.60,6, -999.000,9, -999.000,9, -999.000,9, -999.000,9, -999.000,9,   -999.0,9,   -999.0,9,   5.1514, 20080603,      338
  18HU20080520, AR07W,   248,  1, 332317,      4,2,20080603,0337, 43.1822, -62.0990,  101,     50.0,   3.9442,  33.1049,2,-999.0000,9,    303.1,2,    303.6,6,     3.27,6,     3.77,6,     0.63,6,    4.540,4,    2.677,4,    0.313,4,    3.926,4,    1.227,2,   2093.2,6,   2229.1,3,   3.8058, 20080603,      339
  18HU20080520, AR07W,   248,  1, 332318,      5,2,20080603,0337, 43.1822, -62.0990,  101,     41.0,   4.0231,  32.9331,2,-999.0000,9,    312.1,2,   -999.0,9,     1.98,6,     2.04,6,     0.54,6, -999.000,9, -999.000,9, -999.000,9, -999.000,9, -999.000,9,   -999.0,9,   -999.0,9,   4.0880, 20080603,      340
  18HU20080520, AR07W,   248,  1, 332319,      6,2,20080603,0337, 43.1822, -62.0990,  101,     30.0,   4.8637,  32.8171,2,-999.0000,9,    326.2,2,   -999.0,9,     1.50,6,     0.45,6,     0.39,6, -999.000,9, -999.000,9, -999.000,9, -999.000,9, -999.000,9,   -999.0,9,   -999.0,9,   5.0330, 20080603,      341
  18HU20080520, AR07W,   248,  1, 332320,      7,2,20080603,0337, 43.1822, -62.0990,  101,     20.0,   6.4429,  32.8143,2,-999.0000,9,    323.7,2,   -999.0,9,     1.19,6,     0.14,6,     0.31,6, -999.000,9, -999.000,9, -999.000,9, -999.000,9, -999.000,9,   -999.0,9,   -999.0,9,   6.8563, 20080603,      342
  18HU20080520, AR07W,   248,  1, 332321,      8,2,20080603,0337, 43.1822, -62.0990,  101,     10.0,   7.5902,  32.8624,2,-999.0000,9,    313.2,2,    313.2,2,     1.01,6,     0.14,6,     0.30,6,    5.943,4,    3.560,4,    0.480,4,    6.435,4,    1.660,2,   2034.1,2,   2214.0,2,   7.4180, 20080603,      343
  18HU20080520, AR07W,   248,  1, 332322,      9,2,20080603,0337, 43.1822, -62.0990,  101,      3.0,   7.3555,  32.5504,2,-999.0000,9,    315.2,2,   -999.0,9,     0.98,6,     0.15,6,     0.31,6, -999.000,9, -999.000,9, -999.000,9, -999.000,9, -999.000,9,   -999.0,9,   -999.0,9,   7.3912, 20080603,      344
  18HU20080520, AR07W,   250,  1, 332323,      1,2,20080603,0548, 43.4922, -62.4393,   81,     76.0,   6.6545,  33.7790,2,-999.0000,9,    231.3,2,   -999.0,9,     7.94,6,    10.83,6,     0.92,6,    5.276,4,    3.228,4,    0.425,4,    5.892,4,    1.078,2,   2132.1,6,   2260.7,2,   6.6478, 20080603,      548
  18HU20080520, AR07W,   250,  1, 332324,      2,2,20080603,0548, 43.4922, -62.4393,   81,     61.0,   5.8408,  33.4986,2,-999.0000,9,    247.1,2,    267.1,4,     5.91,6,     8.36,6,     0.85,6, -999.000,9, -999.000,9, -999.000,9, -999.000,9, -999.000,9,   2114.8,2,   2237.7,2,   5.3094, 20080603,      550
  18HU20080520, AR07W,   250,  1, 332325,      3,2,20080603,0548, 43.4922, -62.4393,   81,     50.0,   4.1221,  32.8907,2,-999.0000,9,    289.4,2,    303.7,6,     2.77,6,     3.03,6,     0.65,6,    4.677,4,    2.771,4,    0.330,4,    3.975,4,    1.259,2,   2083.8,2,   2215.6,2,   3.9389, 20080603,      551
  18HU20080520, AR07W,   250,  1, 332326,      4,2,20080603,0548, 43.4922, -62.4393,   81,     40.0,   3.9074,  32.5864,2,-999.0000,9,    321.0,2,   -999.0,9,     2.73,6,     2.77,6,     0.61,6, -999.000,9, -999.000,9, -999.000,9, -999.000,9, -999.000,9,   -999.0,9,   -999.0,9,   3.8830, 20080603,      552
  18HU20080520, AR07W,   250,  1, 332327,      5,2,20080603,0548, 43.4922, -62.4393,   81,     31.0,   4.4390,  32.2060,2,-999.0000,9,    335.1,2,   -999.0,9,     1.09,6,     0.22,6,     0.39,6, -999.000,9, -999.000,9, -999.000,9, -999.000,9, -999.000,9,   -999.0,9,   -999.0,9,   5.1596, 20080603,      553
  18HU20080520, AR07W,   250,  1, 332328,      6,2,20080603,0548, 43.4922, -62.4393,   81,     19.0,   5.8059,  31.9129,2,-999.0000,9,    332.7,2,   -999.0,9,     0.92,6,     0.14,6,     0.36,6, -999.000,9, -999.000,9, -999.000,9, -999.000,9, -999.000,9,   -999.0,9,   -999.0,9,   5.8411, 20080603,      554
  18HU20080520, AR07W,   250,  1, 332329,      7,2,20080603,0548, 43.4922, -62.4393,   81,     11.0,   5.9571,  31.7960,2,-999.0000,9,    331.0,2,    327.8,2,     0.92,6,     0.13,6,     0.37,6,    5.776,4,    3.399,4,    0.482,4,    6.318,4,    1.487,2,   2015.7,2,   2169.3,2,   6.0287, 20080603,      555
  18HU20080520, AR07W,   250,  1, 332330,      8,2,20080603,0548, 43.4922, -62.4393,   81,      4.0,   6.0117,  31.7211,2,-999.0000,9,    329.9,2,   -999.0,9,     0.92,6,     0.12,6,     0.38,6, -999.000,9, -999.000,9, -999.000,9, -999.000,9, -999.000,9,   -999.0,9,   -999.0,9,   6.0097, 20080603,      555