BOTTLE,20130611PRINUNIVRMK
EXPOCODE,SECT_ID,STNNBR,CASTNO,SAMPNO,BTLNBR,BTLNBR_FLAG_W,DATE,TIME,LATITUDE,LONGITUDE,DEPTH,CTDPRS,CTDTMP,CTDSAL,CTDSAL_FLAG_W,SALNTY,SALNTY_FLAG_W,CTDOXY,CTDOXY_FLAG_W,OXYGEN,OXYGEN_FLAG_W,SILCAT,SILCAT_FLAG_W,NITRAT,NITRAT_FLAG_W,PHSPHT,PHSPHT_FLAG_W,CFC-11,CFC-11_FLAG_W,CFC-12,CFC-12_FLAG_W,CFC113,CFC113_FLAG_W,CCL4,CCL4_FLAG_W,MCHFRM,MCHFRM_FLAG_W,TCARBN,TCARBN_FLAG_W,ALKALI,ALKALI_FLAG_W,THETA,BTL_DATE,BTL_TIME
,,,,,,,,,,,METERS,DBAR,ITS-90,PSS-78,,PSS-78,,UMOL/KG,,UMOL/KG,,UMOL/KG,,UMOL/KG,,UMOL/KG,,PMOL/KG,,PMOL/KG,,PMOL/KG,,PMOL/KG,,PMOL/KG,,UMOL/KG,,UMOL/KG,,DEG C,,
  18HU20080520, AR07W,   233,  1, 332214,      1,2,20080602,0541, 42.2437, -61.1978, 3759,   3851.0,   2.1589,  34.8853,2,  34.8852,2,    269.2,2,    269.0,2,    26.66,6,    17.56,6,     1.27,6,    2.610,4,    1.129,4,    0.090,4,    2.855,4,    4.968,2,   2175.1,2,   2329.3,2,   1.8366, 20080602,      541
  18HU20080520, AR07W,   233,  1, 332215,      2,2,20080602,0541, 42.2437, -61.1978, 3759,   3732.0,   2.2211,  34.8903,2,  34.8909,2,    269.8,2,    271.3,2,    22.67,6,    17.01,6,     1.16,6, -999.000,9, -999.000,9, -999.000,9, -999.000,9, -999.000,9,   2167.3,2,   2319.8,2,   1.9131, 20080602,      544
  18HU20080520, AR07W,   233,  1, 332216,      3,2,20080602,0541, 42.2437, -61.1978, 3759,   3598.0,   2.2585,  34.8931,2,  34.8930,2,    269.2,2,    271.4,2,    21.85,6,    16.97,6,     1.16,6,    3.662,4,    1.554,4,    0.288,4,    3.482,4,    4.201,2,   2169.9,2,   2322.8,2,   1.9611, 20080602,      547
  18HU20080520, AR07W,   233,  1, 332217,      4,2,20080602,0541, 42.2437, -61.1978, 3759,   3470.0,   2.3043,  34.8957,2,  34.8953,2,    268.8,2,    272.1,2,    20.49,6,    16.72,6,     1.14,6,    1.879,4,    0.514,4,    0.136,4,    2.197,4,    3.467,2,   2167.5,2,   2317.4,2,   2.0218, 20080602,      549
  18HU20080520, AR07W,   233,  1, 332218,      5,2,20080602,0541, 42.2437, -61.1978, 3759,   3331.0,   2.3639,  34.8989,2,  34.8992,2,    268.9,2,    274.2,2,    19.50,6,    16.66,6,     1.13,6, -999.000,9, -999.000,9, -999.000,9, -999.000,9, -999.000,9,   2169.0,2,   2316.4,2,   2.0926, 20080602,      552
  18HU20080520, AR07W,   233,  1, 332219,      6,2,20080602,0541, 42.2437, -61.1978, 3759,   3169.0,   2.4499,  34.9029,2,  34.9029,2,    268.3,2,    272.9,2,    18.25,6,    16.51,6,     1.12,6,    5.740,4,    3.044,4,    0.498,4,    5.851,4,    1.769,2,   2165.0,2,   2317.6,2,   2.1946, 20080602,      555
  18HU20080520, AR07W,   233,  1, 332220,      7,2,20080602,0541, 42.2437, -61.1978, 3759,   2998.0,   2.5456,  34.9074,2,  34.9068,2,    267.8,2,    272.6,2,    17.37,6,    16.50,6,     1.12,6,    1.993,4,    0.662,4,    0.110,4,    2.223,4,    3.485,2,   2166.5,2,   2314.0,2,   2.3026, 20080602,      558
  18HU20080520, AR07W,   233,  1, 332221,      8,2,20080602,0541, 42.2437, -61.1978, 3759,   2791.0,   2.7329,  34.9149,2,  34.9149,2,    266.3,2,    271.0,2,    16.66,6,    16.76,6,     1.13,6,    1.986,4,    0.648,4,    0.112,4,    2.213,4,    3.538,2,   2164.8,2,   2317.8,2,   2.5105, 20080602,      601
  18HU20080520, AR07W,   233,  1, 332222,      9,2,20080602,0541, 42.2437, -61.1978, 3759,   2571.0,   2.9138,  34.9221,2,  34.9205,2,    264.8,2,    269.1,2,    16.04,6,    16.85,6,     1.20,6, -999.000,9, -999.000,9, -999.000,9, -999.000,9, -999.000,9,   2162.6,2,   2317.9,2,   2.7099, 20080602,      605
  18HU20080520, AR07W,   233,  1, 332223,     10,2,20080602,0541, 42.2437, -61.1978, 3759,   2330.0,   3.0728,  34.9266,2,  34.9254,2,    264.0,2,    279.1,3,    15.43,6,    16.94,6,     1.15,6,    3.469,4,    1.735,4,    0.267,4,    3.123,4,    2.923,2,   2161.8,2,   2315.0,2,   2.8889, 20080602,      609
  18HU20080520, AR07W,   233,  1, 332224,     11,2,20080602,0541, 42.2437, -61.1978, 3759,   2069.0,   3.2432,  34.9288,2,  34.9283,2,    264.0,2,    270.7,2,    14.29,6,    17.16,6,     1.15,6, -999.000,9, -999.000,9, -999.000,9, -999.000,9, -999.000,9,   2166.1,2,   2316.3,2,   3.0808, 20080602,      613
  18HU20080520, AR07W,   233,  1, 332225,     12,2,20080602,0541, 42.2437, -61.1978, 3759,   1811.0,   3.5061,  34.9305,2,  34.9295,2,    263.7,2,    268.6,2,    12.91,6,    17.16,6,     1.15,6, -999.000,9, -999.000,9, -999.000,9, -999.000,9, -999.000,9,   2169.2,2,   2314.0,2,   3.3711, 20080602,      617
  18HU20080520, AR07W,   233,  1, 332226,     13,2,20080602,0541, 42.2437, -61.1978, 3759,   1561.0,   3.8890,  34.9394,2,  34.9385,2,    261.5,2,    264.8,2,    11.42,6,    17.31,6,     1.15,6, -999.000,9, -999.000,9, -999.000,9, -999.000,9, -999.000,9,   2169.4,2,   2313.3,2,   3.7723, 20080602,      621
  18HU20080520, AR07W,   233,  1, 332227,     14,2,20080602,0541, 42.2437, -61.1978, 3759,   1300.0,   4.0753,  34.9438,2,  34.9424,2,    259.9,2,    263.2,2,    10.97,6,    17.24,6,     1.14,6, -999.000,9, -999.000,9, -999.000,9, -999.000,9, -999.000,9,   2172.2,2,   2316.7,2,   3.9726, 20080602,      625
  18HU20080520, AR07W,   233,  1, 332228,     15,2,20080602,0541, 42.2437, -61.1978, 3759,   1069.0,   4.2014,  34.9421,2,  34.9410,2,    259.1,2,    262.0,2,    10.66,6,    17.22,6,     1.14,6,    1.688,4,    0.396,4,    0.128,4,    1.960,4,    3.077,2,   2171.0,2,   2318.6,2,   4.1173, 20080602,      629
  18HU20080520, AR07W,   233,  1, 332229,     16,2,20080602,0541, 42.2437, -61.1978, 3759,    870.0,   4.4043,  34.9468,2,  34.9457,2,    254.5,2,    257.2,2,    11.11,6,    17.40,6,     1.15,6, -999.000,9, -999.000,9, -999.000,9, -999.000,9, -999.000,9,   2172.4,2,   2305.7,4,   4.3381, 20080602,      632
  18HU20080520, AR07W,   233,  1, 332230,     17,2,20080602,0541, 42.2437, -61.1978, 3759,    680.0,   4.6049,  34.9293,2,  34.9278,2,    247.4,2,    250.1,2,    10.78,6,    17.53,6,     1.23,6,    1.886,4,    0.546,4,    0.118,4,    2.110,4,    3.486,2,   2174.3,2,   2306.3,2,   4.5533, 20080602,      636
  18HU20080520, AR07W,   233,  1, 332231,     18,2,20080602,0541, 42.2437, -61.1978, 3759,    510.0,   5.2549,  34.9530,2,  34.9425,2,    222.8,2,    225.3,2,    12.05,6,    18.92,6,     1.26,6, -999.000,9, -999.000,9, -999.000,9, -999.000,9, -999.000,9,   2181.7,2,   2306.0,2,   5.2158, 20080602,      639
  18HU20080520, AR07W,   233,  1, 332232,     19,2,20080602,0541, 42.2437, -61.1978, 3759,    361.0,   6.2423,  34.9355,2,  34.9246,2,    191.5,2,    195.1,2,    13.08,6,    20.64,6,     1.36,6, -999.000,9, -999.000,9, -999.000,9, -999.000,9, -999.000,9,   2193.2,2,   2308.3,2,   6.1618, 20080602,      641
  18HU20080520, AR07W,   233,  1, 332233,     20,2,20080602,0541, 42.2437, -61.1978, 3759,    239.0,   6.6455,  34.7963,2,-999.0000,9,    187.9,2,    191.8,2,    12.01,6,    19.54,6,     1.31,6,    1.804,4,    0.554,4,    0.100,4,    2.075,4,    3.632,2,   2187.2,2,   2302.6,2,   6.6164, 20080602,      644
  18HU20080520, AR07W,   233,  1, 332234,     21,2,20080602,0541, 42.2437, -61.1978, 3759,    141.0,   6.9059,  34.5586,2,-999.0000,9,    208.9,2,    214.5,2,     9.27,6,    14.96,6,     1.08,6, -999.000,9, -999.000,9, -999.000,9, -999.000,9, -999.000,9,   2166.1,2,   2288.6,3,   6.6698, 20080602,      648
  18HU20080520, AR07W,   233,  1, 332235,     22,2,20080602,0541, 42.2437, -61.1978, 3759,     70.0,   3.8541,  33.5297,2,-999.0000,9,    282.8,2,    292.4,3,     5.49,6,     8.05,6,     0.79,6,    2.018,4,    0.637,4,    0.124,4,    2.334,4,    3.699,2,   2124.2,2,   2237.9,2,   3.5288, 20080602,      648
  18HU20080520, AR07W,   233,  1, 332236,     23,2,20080602,0541, 42.2437, -61.1978, 3759,     35.0,   4.7985,  32.7805,2,-999.0000,9,    320.7,2,    327.0,2,     1.48,6,     0.35,6,     0.37,6, -999.000,9, -999.000,9, -999.000,9, -999.000,9, -999.000,9,   2066.4,2,   2210.3,2,   4.7724, 20080602,      649
  18HU20080520, AR07W,   233,  1, 332237,     24,2,20080602,0541, 42.2437, -61.1978, 3759,      3.0,   7.7237,  32.8052,2,-999.0000,9,    313.4,2,   -999.0,9,     1.33,6,     0.16,6,     0.32,6,    2.906,4,    1.284,4,    0.150,4,    2.124,4,    1.565,2,   2051.1,2,   2212.7,2,   7.7243, 20080602,      651
  18HU20080520, AR07W,   235,  1, 332238,      1,2,20080602,1029, 42.4022, -61.2937, 3261,   3344.0,   2.3681,  34.8987,2,-999.0000,9,    273.4,2,    274.0,2,    20.05,6,    16.99,6,     1.18,6,    4.092,4,    2.373,4,    0.215,4,    3.667,4,    2.074,2,   2172.4,2,   2308.0,3,   2.0954, 20080602,     1029
  18HU20080520, AR07W,   235,  1, 332239,      2,2,20080602,1029, 42.4022, -61.2937, 3261,   3234.0,   2.4121,  34.9013,2,-999.0000,9,    270.9,2,    272.6,2,    19.57,6,    16.93,6,     1.18,6,    3.571,4,    1.754,4,    0.179,4,    3.447,4,    4.049,2,   2169.1,6,   2311.3,2,   2.1481, 20080602,     1031
  18HU20080520, AR07W,   235,  1, 332240,      3,2,20080602,1029, 42.4022, -61.2937, 3261,   3141.0,   2.4389,  34.9023,2,-999.0000,9,    270.9,2,    272.9,6,    19.15,6,    16.80,6,     1.18,6,    3.613,4,    1.863,4,    0.190,4,    3.199,4,    2.553,2,   2171.6,2,   2308.7,3,   2.1859, 20080602,     1033
  18HU20080520, AR07W,   235,  1, 332241,      4,2,20080602,1029, 42.4022, -61.2937, 3261,   3037.0,   2.4891,  34.9047,2,-999.0000,9,    270.1,2,    272.7,2,    18.35,6,    16.72,6,     1.18,6,    2.073,4,    0.956,4,    0.072,4,    2.375,4,    3.773,2,   2173.3,2,   2306.8,2,   2.2474, 20080602,     1035
  18HU20080520, AR07W,   235,  1, 332242,      5,2,20080602,1029, 42.4022, -61.2937, 3261,   2910.0,   2.6074,  34.9110,2,-999.0000,9,    268.6,2,    271.4,2,    17.90,6,    17.07,6,     1.19,6,    2.031,4,    0.891,4,    0.068,4,    2.363,4,    3.725,2,   2171.1,2,   2315.6,2,   2.3750, 20080602,     1038
  18HU20080520, AR07W,   235,  1, 332243,      6,2,20080602,1029, 42.4022, -61.2937, 3261,   2771.0,   2.7579,  34.9167,2,-999.0000,9,    267.2,2,    270.7,2,    17.16,6,    17.16,6,     1.20,6,    2.091,4,    0.906,4,    0.068,4,    2.396,4,    3.800,2,   2175.2,2,   2316.3,3,   2.5429, 20080602,     1041
  18HU20080520, AR07W,   235,  1, 332244,      7,2,20080602,1029, 42.4022, -61.2937, 3261,   2620.0,   2.9075,  34.9224,2,-999.0000,9,    266.2,2,    269.0,2,    16.67,6,    17.37,6,     1.19,6, -999.000,9, -999.000,9, -999.000,9, -999.000,9, -999.000,9,   2176.4,2,   2312.1,2,   2.6976, 20080602,     1043
  18HU20080520, AR07W,   235,  1, 332245,      8,2,20080602,1029, 42.4022, -61.2937, 3261,   2461.0,   3.0444,  34.9260,2,-999.0000,9,    265.2,2,    268.7,2,    15.96,6,    17.52,6,     1.20,6, -999.000,9, -999.000,9, -999.000,9, -999.000,9, -999.000,9,   2170.0,2,   2311.6,2,   2.8536, 20080602,     1046
  18HU20080520, AR07W,   235,  1, 332246,      9,2,20080602,1029, 42.4022, -61.2937, 3261,   2259.0,   3.2116,  34.9280,2,-999.0000,9,    265.1,2,    268.4,2,    14.99,6,    17.63,6,     1.19,6,    1.929,4,    0.812,4,    0.051,4,    2.261,4,    3.758,2,   2173.3,2,   2313.1,2,   3.0310, 20080602,     1049
  18HU20080520, AR07W,   235,  1, 332247,     10,2,20080602,1029, 42.4022, -61.2937, 3261,   2060.0,   3.3968,  34.9303,2,-999.0000,9,    264.8,2,    268.5,2,    14.42,6,    17.61,6,     1.18,6, -999.000,9, -999.000,9, -999.000,9, -999.000,9, -999.000,9,   2171.1,2,   2306.5,2,   3.2350, 20080602,     1052
  18HU20080520, AR07W,   235,  1, 332248,     11,2,20080602,1029, 42.4022, -61.2937, 3261,   1850.0,   3.5537,  34.9336,2,-999.0000,9,    264.4,2,    267.7,2,    12.95,6,    17.74,6,     1.18,6, -999.000,9, -999.000,9, -999.000,9, -999.000,9, -999.000,9,   2168.9,2,   2303.7,2,   3.4073, 20080602,     1056
  18HU20080520, AR07W,   235,  1, 332249,     12,2,20080602,1029, 42.4022, -61.2937, 3261,   1638.0,   3.7243,  34.9404,2,-999.0000,9,    262.8,2,    265.7,2,    12.42,6,    17.96,6,     1.18,6,    1.947,4,    0.816,4,    0.074,4,    2.289,4,    4.027,2,   2175.7,2,   2295.8,2,   3.5947, 20080602,     1101
  18HU20080520, AR07W,   235,  1, 332250,     13,2,20080602,1029, 42.4022, -61.2937, 3261,   1430.0,   3.8679,  34.9420,2,-999.0000,9,    261.5,2,    264.0,2,    11.94,6,    17.76,6,     1.18,6, -999.000,9, -999.000,9, -999.000,9, -999.000,9, -999.000,9,   2174.5,2,   2303.6,2,   3.7578, 20080602,     1104
  18HU20080520, AR07W,   235,  1, 332251,     14,2,20080602,1029, 42.4022, -61.2937, 3261,   1228.0,   4.0494,  34.9430,2,-999.0000,9,    261.0,2,    263.4,2,    11.31,6,    17.75,6,     1.17,6, -999.000,9, -999.000,9, -999.000,9, -999.000,9, -999.000,9,   2179.9,2,   2309.0,2,   3.9514, 20080602,     1107
  18HU20080520, AR07W,   235,  1, 332252,     15,2,20080602,1029, 42.4022, -61.2937, 3261,   1029.0,   4.2223,  34.9439,2,-999.0000,9,    258.6,2,    261.2,2,    10.95,6,    17.73,6,     1.18,6,    4.295,4,    2.329,4,    0.265,4,    3.566,4,    1.329,2,   2179.8,2,   2302.5,2,   4.1432, 20080602,     1110
  18HU20080520, AR07W,   235,  1, 332253,     16,2,20080602,1029, 42.4022, -61.2937, 3261,    843.0,   4.4397,  34.9486,2,-999.0000,9,    253.4,2,    255.8,2,    10.92,6,    17.77,6,     1.19,6, -999.000,9, -999.000,9, -999.000,9, -999.000,9, -999.000,9,   2188.6,2,   2306.6,2,   4.3705, 20080602,     1113
  18HU20080520, AR07W,   235,  1, 332254,     17,2,20080602,1029, 42.4022, -61.2937, 3261,    660.0,   4.5604,  34.9179,2,-999.0000,9,    249.9,2,    252.6,2,    10.85,6,    17.64,6,     1.17,6, -999.000,9, -999.000,9, -999.000,9, -999.000,9, -999.000,9,   2164.2,2,   2307.3,2,   4.5114, 20080602,     1116
  18HU20080520, AR07W,   235,  1, 332255,     18,2,20080602,1029, 42.4022, -61.2937, 3261,    481.0,   4.8122,  34.8771,2,-999.0000,9,    236.4,2,    242.2,2,    11.55,6,    18.32,6,     1.22,6,    5.679,4,    3.642,4,    0.434,4,    6.591,4,    1.391,2,   2169.8,2,   2303.8,2,   4.7892, 20080602,     1119
  18HU20080520, AR07W,   235,  1, 332256,     19,2,20080602,1029, 42.4022, -61.2937, 3261,    331.0,   4.7097,  34.7141,2,-999.0000,9,    223.5,2,    226.6,2,    14.10,6,    18.11,6,     1.26,6, -999.000,9, -999.000,9, -999.000,9, -999.000,9, -999.000,9,   2174.8,2,   2299.7,2,   4.6917, 20080602,     1121
  18HU20080520, AR07W,   235,  1, 332257,     20,2,20080602,1029, 42.4022, -61.2937, 3261,    214.0,   4.9091,  34.5438,2,-999.0000,9,    223.9,2,    225.6,2,    11.60,6,    17.19,6,     1.21,6, -999.000,9, -999.000,9, -999.000,9, -999.000,9, -999.000,9,   2164.2,2,   2287.1,2,   4.8911, 20080602,     1124
  18HU20080520, AR07W,   235,  1, 332258,     21,2,20080602,1029, 42.4022, -61.2937, 3261,    112.0,   6.4553,  34.4571,2,-999.0000,9,    225.6,2,    229.5,2,     8.20,6,    13.68,6,     1.02,6,    2.165,4,    0.933,4,    0.088,4,    2.505,4,    4.052,2,   2145.6,2,   2290.3,2,   6.3963, 20080602,     1126
  18HU20080520, AR07W,   235,  1, 332259,     22,2,20080602,1029, 42.4022, -61.2937, 3261,     54.0,   4.6438,  33.6048,2,-999.0000,9,    274.3,2,    281.7,2,     5.18,6,     7.39,6,     0.78,6, -999.000,9, -999.000,9, -999.000,9, -999.000,9, -999.000,9,   2110.5,2,   2246.1,2,   4.5436, 20080602,     1128
  18HU20080520, AR07W,   235,  1, 332260,     23,2,20080602,1029, 42.4022, -61.2937, 3261,     25.0,   6.0818,  32.9697,2,-999.0000,9,    319.8,2,    326.6,2,     0.29,6,     0.06,6,     0.27,6, -999.000,9, -999.000,9, -999.000,9, -999.000,9, -999.000,9,   2037.3,2,   2228.3,2,   6.0987, 20080602,     1129
  18HU20080520, AR07W,   235,  1, 332261,     24,2,20080602,1029, 42.4022, -61.2937, 3261,      3.0,   6.6068,  32.4429,2,-999.0000,9,    317.0,2,    319.0,2,     0.12,6,     0.06,6,     0.30,6,    1.954,4,    0.885,4,    0.069,4,    2.295,4,    3.707,2,   2028.4,2,   -999.0,9,   6.6145, 20080602,     1130
  18HU20080520, AR07W,   237,  1, 332262,      1,2,20080602,1342, 42.5440, -61.3830, 2749,    202.0,   5.0664,  34.5065,2,-999.0000,9,    224.6,2,    223.9,2,    11.34,6,    16.81,6,     1.18,6, -999.000,9, -999.000,9, -999.000,9, -999.000,9, -999.000,9,   -999.0,9,   -999.0,9,   5.0734, 20080602,     1342
  18HU20080520, AR07W,   237,  1, 332263,      2,2,20080602,1342, 42.5440, -61.3830, 2749,    150.0,   7.1314,  34.7753,2,-999.0000,9,    190.2,2,    194.2,2,    11.10,6,    18.57,6,     1.25,6, -999.000,9, -999.000,9, -999.000,9, -999.000,9, -999.000,9,   -999.0,9,   -999.0,9,   7.0866, 20080602,     1343
  18HU20080520, AR07W,   237,  1, 332264,      3,2,20080602,1342, 42.5440, -61.3830, 2749,    100.0,   6.2339,  34.3366,2,-999.0000,9,    238.2,2,    240.2,2,     7.45,6,    12.53,6,     0.93,6, -999.000,9, -999.000,9, -999.000,9, -999.000,9, -999.000,9,   -999.0,9,   -999.0,9,   6.3629, 20080602,     1346
  18HU20080520, AR07W,   237,  1, 332265,      4,2,20080602,1342, 42.5440, -61.3830, 2749,     81.0,   6.3516,  34.2104,2,-999.0000,9,    249.4,2,   -999.0,9,     6.26,6,    10.69,6,     0.84,6, -999.000,9, -999.000,9, -999.000,9, -999.000,9, -999.000,9,   -999.0,9,   -999.0,9,   6.2015, 20080602,     1347
  18HU20080520, AR07W,   237,  1, 332266,      5,2,20080602,1342, 42.5440, -61.3830, 2749,     59.0,   3.4361,  33.2417,2,-999.0000,9,    289.1,2,   -999.0,9,     5.29,6,     7.16,6,     0.80,6, -999.000,9, -999.000,9, -999.000,9, -999.000,9, -999.000,9,   -999.0,9,   -999.0,9,   3.4602, 20080602,     1348
  18HU20080520, AR07W,   237,  1, 332267,      6,2,20080602,1342, 42.5440, -61.3830, 2749,     50.0,   2.7374,  32.8280,2,-999.0000,9,    304.7,2,    305.9,6,     1.23,6,     3.65,6,     0.66,6, -999.000,9, -999.000,9, -999.000,9, -999.000,9, -999.000,9,   -999.0,9,   -999.0,9,   2.7535, 20080602,     1348
  18HU20080520, AR07W,   237,  1, 332268,      7,2,20080602,1342, 42.5440, -61.3830, 2749,     40.0,   3.1530,  32.6275,2,-999.0000,9,    331.2,2,   -999.0,9,     0.13,6,     0.22,6,     0.40,6, -999.000,9, -999.000,9, -999.000,9, -999.000,9, -999.000,9,   -999.0,9,   -999.0,9,   3.1463, 20080602,     1349
  18HU20080520, AR07W,   237,  1, 332269,      8,2,20080602,1342, 42.5440, -61.3830, 2749,     30.0,   3.9909,  32.5035,2,-999.0000,9,    338.7,2,   -999.0,9,     1.38,6,     0.00,6,     0.33,6, -999.000,9, -999.000,9, -999.000,9, -999.000,9, -999.000,9,   -999.0,9,   -999.0,9,   4.3167, 20080602,     1350
  18HU20080520, AR07W,   237,  1, 332270,      9,2,20080602,1342, 42.5440, -61.3830, 2749,     30.0,   3.9909,  32.5035,2,-999.0000,9,    338.7,2,   -999.0,9,  -999.00,9,  -999.00,9,  -999.00,9, -999.000,9, -999.000,9, -999.000,9, -999.000,9, -999.000,9,   -999.0,9,   -999.0,9,   4.3538, 20080602,     1350
  18HU20080520, AR07W,   237,  1, 332271,     10,2,20080602,1342, 42.5440, -61.3830, 2749,     19.0,   5.0005,  32.4746,2,-999.0000,9,    333.8,2,    334.8,2,     0.29,6,     0.00,6,     0.32,6, -999.000,9, -999.000,9, -999.000,9, -999.000,9, -999.000,9,   -999.0,9,   -999.0,9,   5.0577, 20080602,     1351
  18HU20080520, AR07W,   237,  1, 332272,     11,2,20080602,1342, 42.5440, -61.3830, 2749,      9.0,   6.1053,  32.4170,2,-999.0000,9,    323.7,2,   -999.0,9,     0.34,6,     0.00,6,     0.32,6, -999.000,9, -999.000,9, -999.000,9, -999.000,9, -999.000,9,   -999.0,9,   -999.0,9,   6.1320, 20080602,     1352
  18HU20080520, AR07W,   237,  1, 332273,     12,2,20080602,1342, 42.5440, -61.3830, 2749,      2.0,   6.1494,  32.4152,2,-999.0000,9,    323.8,2,    325.0,2,     0.63,6,     0.00,6,     0.32,6, -999.000,9, -999.000,9, -999.000,9, -999.000,9, -999.000,9,   -999.0,9,   -999.0,9,   6.1456, 20080602,     1352
  18HU20080520, AR07W,   237,  1, 332274,     13,2,20080602,1342, 42.5440, -61.3830, 2749,      2.0,   6.1494,  32.4152,2,-999.0000,9,    323.8,2,   -999.0,9,  -999.00,9,  -999.00,9,  -999.00,9, -999.000,9, -999.000,9, -999.000,9, -999.000,9, -999.000,9,   -999.0,9,   -999.0,9,   6.1470, 20080602,     1353