BOTTLE,20020201WHPSIOKJU
#code : jjward hyd_to_exchange.pl 
#original files copied from HTML directory: 20020201
#original HYD file: ar08_ahy.txt   Fri Sep 17 14:09:27 1999
#original SUM file: ar08_asu.txt   Fri Sep 17 14:09:27 1999
EXPOCODE,SECT_ID,STNNBR,CASTNO,SAMPNO,BTLNBR,BTLNBR_FLAG_W,DATE,TIME,LATITUDE,LONGITUDE,DEPTH,CTDPRS,CTDTMP,CTDSAL,CTDSAL_FLAG_W,SALNTY,SALNTY_FLAG_W,OXYGEN,OXYGEN_FLAG_W,SILCAT,SILCAT_FLAG_W,NITRAT,NITRAT_FLAG_W,NITRIT,NITRIT_FLAG_W,PHSPHT,PHSPHT_FLAG_W,CFC-11,CFC-11_FLAG_W,CFC-12,CFC-12_FLAG_W,THETA,CTDRAW,REVTMP
,,,,,,,,,,,,DBAR,IPTS-68,PSS-78,,PSS-78,,UMOL/KG,,UMOL/KG,,UMOL/KG,,UMOL/KG,,UMOL/KG,,PMOL/KG,,PMOL/KG,,IPTS-68,,DEG C
    08BD0491_1,  AR08,     1,  1,     12,     12,2,19910912,0457,-38.5000, -56.3833,   83,      0.0,-999.0000,-999.0000,9,-999.0000,9,   -999.0,9,     0.59,2,     1.16,2,     0.19,3,     0.66,2, -999.000,9, -999.000,9,-999.0000,   -999,-999.000
    08BD0491_1,  AR08,     1,  1,     11,     12,2,19910912,0457,-38.5000, -56.3833,   83,     11.0,   9.4184,  33.6052,2,  33.6070,2,    338.2,2,     0.46,2,     1.91,2,     0.20,3,     0.66,2, -999.000,9, -999.000,9,  9.4172,  126.7,-999.000
    08BD0491_1,  AR08,     1,  1,     10,     11,2,19910912,0457,-38.5000, -56.3833,   83,     21.0,   8.8113,  33.6074,2,  33.6020,2,    335.2,2,     1.46,2,     7.39,2,     0.21,3,     0.95,2, -999.000,9, -999.000,9,  8.8092,  227.3,-999.000
    08BD0491_1,  AR08,     1,  1,      9,     10,2,19910912,0457,-38.5000, -56.3833,   83,     31.2,   8.0503,  33.6233,2,  33.6240,2,    293.3,2,     1.79,9,    13.92,9,     0.13,9,     1.22,9, -999.000,9, -999.000,9,  8.0472,  329.5,-999.000
    08BD0491_1,  AR08,     1,  1,      7,      8,2,19910912,0457,-38.5000, -56.3833,   83,     52.8,   7.0713,  33.7000,2,  33.7020,2,    269.3,2,  -999.00,9,  -999.00,9,  -999.00,9,  -999.00,9, -999.000,9, -999.000,9,  7.0664,  544.6,-999.000
    08BD0491_1,  AR08,     1,  1,      6,      7,2,19910912,0457,-38.5000, -56.3833,   83,     52.9,   7.0713,  33.6995,2,  33.7010,2,    270.6,2,  -999.00,9,  -999.00,9,  -999.00,9,  -999.00,9, -999.000,9, -999.000,9,  7.0665,  546.1,-999.000
    08BD0491_1,  AR08,     1,  1,      8,      9,2,19910912,0457,-38.5000, -56.3833,   83,     53.4,   7.0716,  33.6996,2,  33.7000,2,    268.0,2,  -999.00,9,  -999.00,9,  -999.00,9,  -999.00,9, -999.000,9, -999.000,9,  7.0667,  550.9,-999.000
    08BD0491_1,  AR08,     1,  1,      4,      5,2,19910912,0457,-38.5000, -56.3833,   83,     80.7,   7.0540,  33.7106,2,  33.7110,2,    271.5,2,  -999.00,9,  -999.00,9,  -999.00,9,  -999.00,9, -999.000,9, -999.000,9,  7.0466,  824.5,-999.000
    08BD0491_1,  AR08,     1,  1,      3,      4,2,19910912,0457,-38.5000, -56.3833,   83,     80.9,   7.0539,  33.7106,2,  33.7100,2,    278.9,4,  -999.00,9,  -999.00,9,  -999.00,9,  -999.00,9, -999.000,9, -999.000,9,  7.0465,  826.4,-999.000
    08BD0491_1,  AR08,     1,  1,      1,      2,2,19910912,0457,-38.5000, -56.3833,   83,     81.2,   7.0589,  33.7078,2,  33.7080,2,    271.5,2,  -999.00,9,  -999.00,9,  -999.00,9,  -999.00,9, -999.000,9, -999.000,9,  7.0514,  829.1,-999.000
    08BD0491_1,  AR08,     1,  1,      5,      6,2,19910912,0457,-38.5000, -56.3833,   83,     81.2,   7.0523,  33.7109,2,  33.7110,2,    271.5,2,  -999.00,9,  -999.00,9,  -999.00,9,  -999.00,9, -999.000,9, -999.000,9,  7.0449,  828.7,-999.000
    08BD0491_1,  AR08,     1,  1,      0,      1,2,19910912,0457,-38.5000, -56.3833,   83,     81.6,   7.0572,  33.7086,2,  33.7080,2,    269.3,2,     1.72,2,    11.80,2,     0.13,3,     1.32,2, -999.000,9, -999.000,9,  7.0498,  832.5,-999.000
    08BD0491_1,  AR08,     1,  1,      2,      3,2,19910912,0457,-38.5000, -56.3833,   83,     82.1,   7.0534,  33.7105,2,  33.7090,2,    273.7,2,  -999.00,9,  -999.00,9,  -999.00,9,  -999.00,9, -999.000,9, -999.000,9,  7.0459,  837.7,-999.000
    08BD0491_1,  AR08,     2,  1,     11,     12,2,19910912,0735,-38.6962, -55.9945,   83,      4.0,   8.4573,  33.6804,2,  33.6850,2,    332.5,2,     0.49,2,     5.31,2,     0.30,3,     1.02,2, -999.000,9, -999.000,9,  8.4569,   56.5,-999.000
    08BD0491_1,  AR08,     2,  1,     10,     11,2,19910912,0735,-38.6962, -55.9945,   83,     12.1,   8.4570,  33.6802,2,  33.6860,2,    331.6,2,     0.39,2,     6.71,2,     0.23,3,     1.03,2, -999.000,9, -999.000,9,  8.4558,  137.5,-999.000
    08BD0491_1,  AR08,     2,  1,      9,     10,2,19910912,0735,-38.6962, -55.9945,   83,     21.4,   7.7096,  33.7420,2,  33.7250,3,    342.4,3,     1.58,2,    10.17,2,     0.25,3,     1.15,2, -999.000,9, -999.000,9,  7.7076,  230.6,-999.000
    08BD0491_1,  AR08,     2,  1,      8,      9,2,19910912,0735,-38.6962, -55.9945,   83,     32.2,   7.3622,  33.7745,2,  33.7720,2,    305.4,2,     1.47,2,    13.55,2,     0.19,3,     1.35,2, -999.000,9, -999.000,9,  7.3592,  339.5,-999.000
    08BD0491_1,  AR08,     2,  1,      7,      8,2,19910912,0735,-38.6962, -55.9945,   83,     37.9,   6.9775,  33.7832,2,  33.7890,2,    297.6,2,  -999.00,9,  -999.00,9,  -999.00,9,  -999.00,9, -999.000,9, -999.000,9,  6.9741,  396.4,-999.000
    08BD0491_1,  AR08,     2,  1,      6,      7,2,19910912,0735,-38.6962, -55.9945,   83,     57.6,   6.8096,  33.7818,2,  33.7820,2,    279.3,2,  -999.00,9,  -999.00,9,  -999.00,9,  -999.00,9, -999.000,9, -999.000,9,  6.8045,  593.1,-999.000
    08BD0491_1,  AR08,     2,  1,      1,      2,2,19910912,0735,-38.6962, -55.9945,   83,     77.9,   6.8078,  33.7814,2,  33.7790,2,    280.2,2,  -999.00,9,  -999.00,9,  -999.00,9,  -999.00,9, -999.000,9, -999.000,9,  6.8008,  795.9,-999.000
    08BD0491_1,  AR08,     2,  1,      0,      1,2,19910912,0735,-38.6962, -55.9945,   83,     78.1,   6.8078,  33.7813,2,  33.7790,2,    287.6,4,     2.32,2,    11.85,2,     0.13,3,     1.28,2, -999.000,9, -999.000,9,  6.8008,  797.8,   6.823
    08BD0491_1,  AR08,     2,  1,      5,      6,2,19910912,0735,-38.6962, -55.9945,   83,     78.4,   6.8078,  33.7812,2,  33.7800,2,    288.0,4,  -999.00,9,  -999.00,9,  -999.00,9,  -999.00,9, -999.000,9, -999.000,9,  6.8008,  800.6,-999.000
    08BD0491_1,  AR08,     2,  1,      3,      4,2,19910912,0735,-38.6962, -55.9945,   83,     78.5,   6.8079,  33.7820,2,  33.7820,2,    279.3,2,  -999.00,9,  -999.00,9,  -999.00,9,  -999.00,9, -999.000,9, -999.000,9,  6.8008,  801.6,-999.000
    08BD0491_1,  AR08,     2,  1,      4,      5,2,19910912,0735,-38.6962, -55.9945,   83,     78.5,   6.8079,  33.7810,2,  33.7810,2,    279.3,2,  -999.00,9,  -999.00,9,  -999.00,9,  -999.00,9, -999.000,9, -999.000,9,  6.8009,  802.3,   6.829
    08BD0491_1,  AR08,     2,  1,      2,      3,2,19910912,0735,-38.6962, -55.9945,   83,     78.7,   6.8078,  33.7818,2,  33.7810,2,    278.9,2,  -999.00,9,  -999.00,9,  -999.00,9,  -999.00,9, -999.000,9, -999.000,9,  6.8007,  804.1,   6.821
    08BD0491_1,  AR08,     3,  1,     12,     13,2,19910912,0945,-38.8265, -55.6772,  106,      0.0,-999.0000,-999.0000,9,-999.0000,9,   -999.0,9,     0.33,2,     5.27,2,     0.27,3,     0.96,2, -999.000,9, -999.000,9,-999.0000,   -999,-999.000
    08BD0491_1,  AR08,     3,  1,     11,     12,2,19910912,0945,-38.8265, -55.6772,  106,     10.3,   8.0606,  33.7645,2,  33.7590,2,    335.1,2,     0.24,2,     6.30,2,     0.28,3,     1.02,2, -999.000,9, -999.000,9,  8.0595,  120.4,-999.000
    08BD0491_1,  AR08,     3,  1,      9,     10,2,19910912,0945,-38.8265, -55.6772,  106,     20.9,   6.9605,  33.8038,2,  33.7870,2,    327.2,2,  -999.00,9,  -999.00,9,  -999.00,9,  -999.00,9, -999.000,9, -999.000,9,  6.9586,  226.0,-999.000
    08BD0491_1,  AR08,     3,  1,     10,     11,2,19910912,0945,-38.8265, -55.6772,  106,     21.1,   7.0890,  33.7979,2,  33.7870,2,    331.5,2,     1.89,2,     8.76,2,     0.24,3,     1.11,2, -999.000,9, -999.000,9,  7.0870,  227.6,-999.000
    08BD0491_1,  AR08,     3,  1,      7,      8,2,19910912,0945,-38.8265, -55.6772,  106,     30.3,   6.1841,  33.8848,2,  33.8820,2,    313.6,3,     2.81,2,    12.97,2,     0.28,3,     1.45,2, -999.000,9, -999.000,9,  6.1815,  319.9,-999.000
    08BD0491_1,  AR08,     3,  1,      8,      9,2,19910912,0945,-38.8265, -55.6772,  106,     30.9,   6.0394,  33.9034,2,  33.9040,3,    301.0,2,  -999.00,9,  -999.00,9,  -999.00,9,  -999.00,9, -999.000,9, -999.000,9,  6.0368,  326.4,-999.000
    08BD0491_1,  AR08,     3,  1,      5,      6,2,19910912,0945,-38.8265, -55.6772,  106,     40.4,   4.7256,  35.1686,2,  33.9240,2,    291.0,2,     3.16,2,    16.51,2,     0.29,3,     1.52,2, -999.000,9, -999.000,9,  4.7226,  420.5,-999.000
    08BD0491_1,  AR08,     3,  1,      6,      7,2,19910912,0945,-38.8265, -55.6772,  106,     40.5,   5.9527,  33.9221,2,  33.9320,2,    290.1,2,  -999.00,9,  -999.00,9,  -999.00,9,  -999.00,9, -999.000,9, -999.000,9,  5.9493,  422.5,-999.000
    08BD0491_1,  AR08,     3,  1,      4,      5,2,19910912,0945,-38.8265, -55.6772,  106,     50.5,   5.8668,  33.9362,2,  33.9400,2,    294.0,3,     3.12,2,    13.79,2,     0.27,3,     1.45,2, -999.000,9, -999.000,9,  5.8626,  521.9,   5.865
    08BD0491_1,  AR08,     3,  1,      3,      4,2,19910912,0945,-38.8265, -55.6772,  106,     69.5,   5.8584,  33.9379,2,  33.9410,2,    289.7,2,     2.50,2,    13.63,2,     0.27,3,     1.37,2, -999.000,9, -999.000,9,  5.8526,  711.8,-999.000
    08BD0491_1,  AR08,     3,  1,      2,      3,2,19910912,0945,-38.8265, -55.6772,  106,     79.6,   5.8399,  33.9422,2,  33.9420,2,    288.8,2,     1.36,2,    13.80,2,     0.28,3,     1.38,2, -999.000,9, -999.000,9,  5.8334,  813.4,   5.860
    08BD0491_1,  AR08,     3,  1,      0,      1,2,19910912,0945,-38.8265, -55.6772,  106,     99.2,   5.8265,  33.9448,2,  33.9410,2,    295.3,2,     1.17,2,    13.64,2,     0.29,3,     1.36,2, -999.000,9, -999.000,9,  5.8183, 1008.7,   5.835
    08BD0491_1,  AR08,     3,  1,      1,      2,2,19910912,0945,-38.8265, -55.6772,  106,     99.2,   5.8253,  33.9448,2,  33.9470,2,    296.6,2,  -999.00,9,  -999.00,9,  -999.00,9,  -999.00,9, -999.000,9, -999.000,9,  5.8171, 1009.2,-999.000
    08BD0491_1,  AR08,     5,  1,     12,     13,2,19910912,1646,-39.0038, -55.3602,  559,      0.0,-999.0000,-999.0000,9,-999.0000,9,   -999.0,9,     0.57,2,     3.54,2,     0.18,3,     0.58,2, -999.000,9, -999.000,9,-999.0000,   -999,-999.000
    08BD0491_1,  AR08,     5,  1,     11,     12,2,19910912,1646,-39.0038, -55.3602,  559,      8.5,   7.0115,  33.8778,2,  33.8840,3,   -999.0,5,     0.57,2,     3.23,2,     0.19,3,     0.56,2, -999.000,9, -999.000,9,  7.0107,  101.6,-999.000
    08BD0491_1,  AR08,     5,  1,     10,     11,2,19910912,1646,-39.0038, -55.3602,  559,     20.4,   5.9872,  33.8962,2,  33.9020,2,    345.8,2,     0.58,2,     7.48,2,     0.17,3,     0.91,2, -999.000,9, -999.000,9,  5.9855,  220.5,-999.000
    08BD0491_1,  AR08,     5,  1,      9,     10,2,19910912,1646,-39.0038, -55.3602,  559,     28.1,   5.8833,  33.9048,2,  33.9100,2,    329.3,2,     0.57,2,     8.67,2,     0.18,3,     1.02,2, -999.000,9, -999.000,9,  5.8809,  298.4,-999.000
    08BD0491_1,  AR08,     5,  1,      8,      9,2,19910912,1646,-39.0038, -55.3602,  559,     99.3,   5.2474,  34.0262,2,  34.0210,2,    306.6,2,     2.74,2,    12.10,2,     0.19,3,     1.39,2, -999.000,9, -999.000,9,  5.2396, 1009.6,-999.000
    08BD0491_1,  AR08,     5,  1,      7,      8,2,19910912,1646,-39.0038, -55.3602,  559,    199.1,   4.9345,  34.1057,2,  34.1120,2,    297.4,2,     5.87,2,    15.64,2,     0.09,3,     1.33,2, -999.000,9, -999.000,9,  4.9193, 2007.8,-999.000
    08BD0491_1,  AR08,     5,  1,      6,      7,2,19910912,1646,-39.0038, -55.3602,  559,    251.0,   4.8493,  34.1204,2,  34.1260,2,    297.4,2,     5.77,2,    16.83,2,     0.09,3,     1.48,2, -999.000,9, -999.000,9,  4.8302, 2527.2,-999.000
    08BD0491_1,  AR08,     5,  1,      5,      6,2,19910912,1646,-39.0038, -55.3602,  559,    299.8,   4.6376,  34.1380,2,  34.1320,2,    303.1,2,     6.36,2,    16.83,2,     0.10,3,     1.43,2, -999.000,9, -999.000,9,  4.6152, 3015.0,-999.000
    08BD0491_1,  AR08,     5,  1,      4,      5,2,19910912,1646,-39.0038, -55.3602,  559,    358.8,   4.5768,  34.1496,2,  34.1540,2,    301.8,2,     5.96,2,    17.34,2,     0.07,3,     1.46,2, -999.000,9, -999.000,9,  4.5500, 3605.0,-999.000
    08BD0491_1,  AR08,     5,  1,      3,      4,2,19910912,1646,-39.0038, -55.3602,  559,    392.1,   4.5483,  34.1641,2,  34.1680,3,    299.6,2,     6.27,2,    16.21,2,     0.05,3,     1.34,2, -999.000,9, -999.000,9,  4.5190, 3938.2,-999.000
    08BD0491_1,  AR08,     5,  1,      2,      3,2,19910912,1646,-39.0038, -55.3602,  559,    449.1,   4.5275,  34.1725,2,  34.1790,3,    293.9,2,     6.56,2,    15.98,2,     0.04,3,     1.18,2, -999.000,9, -999.000,9,  4.4938, 4508.2,-999.000
    08BD0491_1,  AR08,     5,  1,      1,      2,2,19910912,1646,-39.0038, -55.3602,  559,    500.2,   4.4296,  34.1767,2,  34.1750,2,    290.0,2,     8.75,2,    18.42,2,     0.06,3,     1.55,2, -999.000,9, -999.000,9,  4.3922, 5019.5,-999.000
    08BD0491_1,  AR08,     5,  1,      0,      1,2,19910912,1646,-39.0038, -55.3602,  559,    546.6,   4.3002,  34.1796,2,  34.1850,2,    289.6,2,    11.43,2,    19.21,2,     0.06,3,     1.55,2, -999.000,9, -999.000,9,  4.2597, 5482.6,   4.299
    08BD0491_1,  AR08,     6,  1,     12,     13,2,19910912,1906,-39.1205, -55.0728,  986,      0.0,-999.0000,-999.0000,9,-999.0000,9,   -999.0,9,     0.60,2,     6.25,2,     0.20,3,     0.86,2, -999.000,9, -999.000,9,-999.0000,   -999,-999.000
    08BD0491_1,  AR08,     6,  1,     11,     12,2,19910912,1906,-39.1205, -55.0728,  986,      9.2,   6.3299,  33.8820,2,  33.8880,2,    256.2,3,     0.60,2,     6.09,2,     0.19,3,     0.73,2, -999.000,9, -999.000,9,  6.3291,  108.9,-999.000
    08BD0491_1,  AR08,     6,  1,     10,     11,2,19910912,1906,-39.1205, -55.0728,  986,     19.2,   6.3072,  33.8825,2,  33.8890,2,    252.7,3,     0.50,2,     6.69,2,     0.21,3,     0.85,2, -999.000,9, -999.000,9,  6.3055,  209.0,   6.286
    08BD0491_1,  AR08,     6,  1,      9,     10,2,19910912,1906,-39.1205, -55.0728,  986,     29.0,   6.2858,  33.8866,2,  33.8880,2,    323.6,2,     0.39,2,     6.81,2,     0.22,3,     0.85,2, -999.000,9, -999.000,9,  6.2833,  307.1,-999.000
    08BD0491_1,  AR08,     6,  1,      8,      9,2,19910912,1906,-39.1205, -55.0728,  986,    149.8,   4.7738,  34.1350,2,  34.1270,2,    293.1,2,     6.96,2,    17.56,2,     0.07,3,     1.46,2, -999.000,9, -999.000,9,  4.7626, 1514.6,-999.000
    08BD0491_1,  AR08,     6,  1,      7,      8,2,19910912,1906,-39.1205, -55.0728,  986,    198.1,   4.6115,  34.1525,2,  34.1450,2,    270.0,3,     6.46,2,    15.75,2,     0.04,3,     1.29,2, -999.000,9, -999.000,9,  4.5968, 1997.7,-999.000
    08BD0491_1,  AR08,     6,  1,      6,      7,2,19910912,1906,-39.1205, -55.0728,  986,    299.9,   4.4715,  34.1776,2,  34.1760,2,    290.0,2,     9.05,2,    18.53,2,     0.06,3,     1.51,2, -999.000,9, -999.000,9,  4.4495, 3015.7,   4.453
    08BD0491_1,  AR08,     6,  1,      5,      6,2,19910912,1906,-39.1205, -55.0728,  986,    449.2,   4.2013,  34.1899,2,  34.1910,2,    269.1,2,    12.13,2,    19.89,2,     0.06,3,     1.60,2, -999.000,9, -999.000,9,  4.1687, 4509.2,-999.000
    08BD0491_1,  AR08,     6,  1,      4,      5,2,19910912,1906,-39.1205, -55.0728,  986,    603.6,   4.0649,  34.1911,2,  34.1920,2,    279.1,3,    11.14,2,    17.90,2,     0.03,3,     1.40,2, -999.000,9, -999.000,9,  4.0210, 6053.0,   4.252
    08BD0491_1,  AR08,     6,  1,      3,      4,2,19910912,1906,-39.1205, -55.0728,  986,    695.1,   4.0463,  34.1927,2,  34.1970,3,   -999.0,5,    13.13,2,    20.52,2,     0.05,3,     1.62,2, -999.000,9, -999.000,9,  3.9954, 6968.3,-999.000
    08BD0491_1,  AR08,     6,  1,      2,      3,2,19910912,1906,-39.1205, -55.0728,  986,    805.9,   3.6758,  34.1986,2,  34.2050,4,    233.9,2,    16.91,2,    21.31,2,     0.05,3,     1.71,2, -999.000,9, -999.000,9,  3.6184, 8076.1,   3.658
    08BD0491_1,  AR08,     6,  1,      1,      2,2,19910912,1906,-39.1205, -55.0728,  986,    893.2,   3.4970,  34.2074,2,  34.2070,2,    266.9,3,    19.40,2,    21.99,2,     0.06,3,     1.75,2, -999.000,9, -999.000,9,  3.4340, 8949.1,-999.000
    08BD0491_1,  AR08,     6,  1,      0,      1,2,19910912,1906,-39.1205, -55.0728,  986,   1019.5,   3.2709,  34.2203,2,  34.2220,2,    155.2,4,    24.06,2,    23.06,2,     0.05,3,     1.83,2, -999.000,9, -999.000,9,  3.1998,10212.2,   3.270
    08BD0491_1,  AR08,     7,  1,     12,     13,2,19910912,2208,-39.2427, -54.8158, 1126,      0.0,-999.0000,-999.0000,9,-999.0000,9,   -999.0,9,     2.07,2,    12.09,2,     0.25,3,     1.19,2, -999.000,9, -999.000,9,-999.0000,   -999,-999.000
    08BD0491_1,  AR08,     7,  1,     11,     12,2,19910912,2208,-39.2427, -54.8158, 1126,      8.1,   5.9224,  34.0140,2,  34.0170,2,    312.3,2,     1.99,2,    12.27,2,     0.24,3,     1.24,2, -999.000,9, -999.000,9,  5.9217,   97.6,-999.000
    08BD0491_1,  AR08,     7,  1,     10,     11,2,19910912,2208,-39.2427, -54.8158, 1126,     18.3,   5.9217,  34.0126,2,  34.0180,2,    314.5,2,     1.88,2,    12.04,2,     0.25,3,     1.24,2, -999.000,9, -999.000,9,  5.9202,  199.8,   5.919
    08BD0491_1,  AR08,     7,  1,      9,     10,2,19910912,2208,-39.2427, -54.8158, 1126,     26.2,   5.8876,  34.0192,2,  34.0200,2,    313.6,2,     2.78,2,    11.76,2,     0.28,3,     1.27,2, -999.000,9, -999.000,9,  5.8854,  278.6,-999.000
    08BD0491_1,  AR08,     7,  1,      8,      9,2,19910912,2208,-39.2427, -54.8158, 1126,    102.8,   4.5253,  34.1590,2,  34.1540,2,    309.6,2,     4.94,2,    13.61,2,     0.26,3,     1.48,2, -999.000,9, -999.000,9,  4.5179, 1045.4,   4.516
    08BD0491_1,  AR08,     7,  1,      7,      8,2,19910912,2208,-39.2427, -54.8158, 1126,    199.6,   3.9023,  34.1594,2,  34.1640,2,    299.6,2,     8.56,2,    18.87,2,     0.07,3,     1.53,2, -999.000,9, -999.000,9,  3.8887, 2013.2,-999.000
    08BD0491_1,  AR08,     7,  1,      6,      7,2,19910912,2208,-39.2427, -54.8158, 1126,    296.8,   3.7327,  34.1616,2,  34.1660,2,    299.6,2,    10.44,2,    19.04,2,     0.06,3,     1.56,2, -999.000,9, -999.000,9,  3.7126, 2985.3,   3.721
    08BD0491_1,  AR08,     7,  1,      5,      6,2,19910912,2208,-39.2427, -54.8158, 1126,    385.3,   3.5705,  34.1659,2,  34.1720,2,    289.6,2,    12.23,2,    20.00,2,     0.05,3,     1.60,2, -999.000,9, -999.000,9,  3.5447, 3870.1,-999.000
    08BD0491_1,  AR08,     7,  1,      4,      5,2,19910912,2208,-39.2427, -54.8158, 1126,    547.6,   3.2644,  34.1959,2,  34.2000,2,    266.5,2,    20.09,2,    21.99,2,     0.05,3,     2.11,2, -999.000,9, -999.000,9,  3.2283, 5492.9,   3.245
    08BD0491_1,  AR08,     7,  1,      3,      4,2,19910912,2208,-39.2427, -54.8158, 1126,    751.4,   2.8274,  34.2662,2,  34.2690,2,    240.4,2,    26.66,2,    20.28,2,     0.03,3,     1.68,2, -999.000,9, -999.000,9,  2.7792, 7531.1,-999.000
    08BD0491_1,  AR08,     7,  1,      2,      3,2,19910912,2208,-39.2427, -54.8158, 1126,    907.8,   2.3583,  34.2994,2,  34.2990,2,    225.6,2,    40.28,2,    24.77,2,     0.05,3,     2.01,2, -999.000,9, -999.000,9,  2.3022, 9094.9,   2.695
    08BD0491_1,  AR08,     7,  1,      1,      2,2,19910912,2208,-39.2427, -54.8158, 1126,   1001.8,   2.5533,  34.3766,2,  34.3800,2,    209.1,2,    46.15,2,    24.99,2,     0.05,3,     2.11,2, -999.000,9, -999.000,9,  2.4890,10034.6,-999.000
    08BD0491_1,  AR08,     7,  1,      0,      1,2,19910912,2208,-39.2427, -54.8158, 1126,   1140.0,   2.4792,  34.4556,2,  34.4590,2,    204.7,2,    53.61,2,    25.16,2,     0.05,3,     2.64,3, -999.000,9, -999.000,9,  2.4052,11416.5,   2.489