BOTTLE,20020201WHPSIOKJU
EXPOCODE,SECT_ID,STNNBR,CASTNO,SAMPNO,BTLNBR,BTLNBR_FLAG_W,DATE,TIME,LATITUDE,LONGITUDE,DEPTH,CTDPRS,CTDTMP,CTDSAL,CTDSAL_FLAG_W,SALNTY,SALNTY_FLAG_W,OXYGEN,OXYGEN_FLAG_W,SILCAT,SILCAT_FLAG_W,NITRAT,NITRAT_FLAG_W,NITRIT,NITRIT_FLAG_W,PHSPHT,PHSPHT_FLAG_W,CFC-11,CFC-11_FLAG_W,CFC-12,CFC-12_FLAG_W,THETA,CTDRAW,REVTMP
,,,,,,,,,,,,DBAR,IPTS-68,PSS-78,,PSS-78,,UMOL/KG,,UMOL/KG,,UMOL/KG,,UMOL/KG,,UMOL/KG,,PMOL/KG,,PMOL/KG,,IPTS-68,,DEG C
    08BD0491_1,  AR08,     8,  1,     12,     13,2,19910913,0149,-39.3633, -54.5155, 1445,      0.0,-999.0000,-999.0000,9,-999.0000,9,   -999.0,9,     2.49,2,    12.20,2,     0.28,3,     1.34,2, -999.000,9, -999.000,9,-999.0000,   -999,-999.000
    08BD0491_1,  AR08,     8,  1,     11,     12,2,19910913,0149,-39.3633, -54.5155, 1445,      8.4,   5.7688,  34.0553,2,  34.0520,2,    314.5,2,     2.67,2,    12.45,2,     0.29,3,     1.89,3, -999.000,9, -999.000,9,  5.7682,  100.9,-999.000
    08BD0491_1,  AR08,     8,  1,     10,     11,2,19910913,0149,-39.3633, -54.5155, 1445,     17.6,   5.7535,  34.0536,2,  34.0570,2,    315.8,2,     3.34,2,    12.51,2,     0.30,3,     1.24,2, -999.000,9, -999.000,9,  5.7521,  193.2,   5.759
    08BD0491_1,  AR08,     8,  1,      9,     10,2,19910913,0149,-39.3633, -54.5155, 1445,     27.6,   5.4433,  34.0782,2,  34.0700,2,    316.6,2,     2.78,2,    12.89,2,     0.31,3,     1.24,2, -999.000,9, -999.000,9,  5.4411,  292.7,-999.000
    08BD0491_1,  AR08,     8,  1,      8,      9,2,19910913,0149,-39.3633, -54.5155, 1445,    149.2,   4.0279,  34.1744,2,  34.1780,2,    297.4,2,     9.20,2,    16.53,2,     0.08,3,     1.58,2, -999.000,9, -999.000,9,  4.0176, 1509.3,-999.000
    08BD0491_1,  AR08,     8,  1,      7,      8,2,19910913,0149,-39.3633, -54.5155, 1445,    303.8,   3.7655,  34.1836,2,  34.1860,2,    285.2,2,    12.96,2,    17.75,2,     0.17,3,     1.89,2, -999.000,9, -999.000,9,  3.7449, 3055.0,-999.000
    08BD0491_1,  AR08,     8,  1,      6,      7,2,19910913,0149,-39.3633, -54.5155, 1445,    436.7,   3.5080,  34.2025,2,  34.2080,2,    264.8,2,    18.61,2,    18.91,2,     0.06,3,     1.80,2, -999.000,9, -999.000,9,  3.4787, 4384.3,-999.000
    08BD0491_1,  AR08,     8,  1,      5,      6,2,19910913,0149,-39.3633, -54.5155, 1445,    543.2,   2.9122,  34.2049,2,  34.2100,2,    259.1,2,    25.43,2,    20.19,2,     0.06,3,     1.90,2, -999.000,9, -999.000,9,  2.8779, 5449.4,-999.000
    08BD0491_1,  AR08,     8,  1,      4,      5,2,19910913,0149,-39.3633, -54.5155, 1445,    698.0,   2.6801,  34.2492,2,  34.2540,2,    243.0,2,    31.07,2,    21.08,2,     0.06,3,     1.97,2, -999.000,9, -999.000,9,  2.6364, 6996.8,   2.683
    08BD0491_1,  AR08,     8,  1,      3,      4,2,19910913,0149,-39.3633, -54.5155, 1445,    849.7,   2.3926,  34.3150,2,  34.3180,2,    218.6,2,    37.80,2,    20.56,2,     0.04,3,     1.89,2, -999.000,9, -999.000,9,  2.3402, 8514.2,-999.000
    08BD0491_1,  AR08,     8,  1,      2,      3,2,19910913,0149,-39.3633, -54.5155, 1445,   1010.8,   2.5460,  34.4199,2,  34.4200,2,    189.5,2,    51.55,3,    22.73,3,     0.06,3,     2.14,3, -999.000,9, -999.000,9,  2.4810,10124.9,   2.538
    08BD0491_1,  AR08,     8,  1,      1,      2,2,19910913,0149,-39.3633, -54.5155, 1445,   1096.5,   2.5054,  34.4510,2,  34.4520,2,    190.4,2,    48.38,2,    21.13,2,     0.04,3,     1.88,2, -999.000,9, -999.000,9,  2.4344,10981.8,-999.000
    08BD0491_1,  AR08,     8,  1,      0,      1,2,19910913,0149,-39.3633, -54.5155, 1445,   1276.1,   2.4571,  34.5137,2,  34.5150,2,    181.7,2,    58.67,2,    22.83,2,     0.05,3,     2.11,2, -999.000,9, -999.000,9,  2.3731,12778.0,   2.469
    08BD0491_1,  AR08,     9,  1,     12,     13,2,19910913,0540,-39.5130, -54.1762, 2968,      0.0,-999.0000,-999.0000,9,-999.0000,9,   -999.0,9,     2.95,2,    13.58,2,     0.16,3,     1.30,2, -999.000,9, -999.000,9,-999.0000,   -999,-999.000
    08BD0491_1,  AR08,     9,  1,     11,     12,2,19910913,0540,-39.5130, -54.1762, 2968,      7.9,   5.9062,  33.9520,2,  33.9500,2,    311.4,2,     2.59,2,    13.43,2,     0.17,3,     1.36,2, -999.000,9, -999.000,9,  5.9056,   95.7,-999.000
    08BD0491_1,  AR08,     9,  1,     10,     11,2,19910913,0540,-39.5130, -54.1762, 2968,     18.0,   5.8436,  33.9498,2,  33.9720,3,    313.6,2,     2.35,2,    13.53,2,     0.13,3,     1.40,2, -999.000,9, -999.000,9,  5.8421,  196.6,   5.362
    08BD0491_1,  AR08,     9,  1,      9,     10,2,19910913,0540,-39.5130, -54.1762, 2968,    203.0,   4.1703,  34.1780,2,  34.1750,2,    296.1,2,     9.40,2,    16.84,2,     0.28,3,     1.59,2, -999.000,9, -999.000,9,  4.1560, 2047.0,-999.000
    08BD0491_1,  AR08,     9,  1,      8,      9,2,19910913,0540,-39.5130, -54.1762, 2968,    399.9,   3.5179,  34.1817,2,  34.1750,2,    286.5,2,    12.37,2,    17.11,2,     0.08,3,     1.65,2, -999.000,9, -999.000,9,  3.4912, 4015.5,   3.505
    08BD0491_1,  AR08,     9,  1,      7,      8,2,19910913,0540,-39.5130, -54.1762, 2968,    602.4,   3.1738,  34.2206,2,  34.0880,3,    302.6,3,     6.13,3,    14.73,3,     0.12,3,     1.43,3, -999.000,9, -999.000,9,  3.1342, 6040.9,-999.000
    08BD0491_1,  AR08,     9,  1,      6,      7,2,19910913,0540,-39.5130, -54.1762, 2968,    813.8,   2.6216,  34.2359,2,  34.1030,3,    298.2,3,     8.51,3,    15.68,3,     0.11,3,     1.73,3, -999.000,9, -999.000,9,  2.5703, 8155.2,-999.000
    08BD0491_1,  AR08,     9,  1,      5,      6,2,19910913,0540,-39.5130, -54.1762, 2968,   1006.2,   2.5329,  34.3272,2,  34.3250,2,    215.6,2,    40.87,2,    21.67,2,     0.06,3,     2.40,3, -999.000,9, -999.000,9,  2.4686,10078.7,-999.000
    08BD0491_1,  AR08,     9,  1,      4,      5,2,19910913,0540,-39.5130, -54.1762, 2968,   1216.4,   2.5041,  34.4542,2,-999.0000,5,   -999.0,5,  -999.00,5,  -999.00,5,  -999.00,5,  -999.00,5, -999.000,9, -999.000,9,  2.4242,12180.9,-999.000
    08BD0491_1,  AR08,     9,  1,      3,      4,2,19910913,0540,-39.5130, -54.1762, 2968,   1545.8,   2.3667,  34.5709,2,  34.5700,2,    179.5,2,    73.82,2,    21.35,2,     0.05,3,     1.96,2, -999.000,9, -999.000,9,  2.2625,15475.4,-999.000
    08BD0491_1,  AR08,     9,  1,      2,      3,2,19910913,0540,-39.5130, -54.1762, 2968,   1722.9,   2.6044,  34.6613,2,  34.6560,2,    183.8,3,    62.93,2,    20.97,2,     0.07,3,     1.95,2, -999.000,9, -999.000,9,  2.4825,17246.4,   2.578
    08BD0491_1,  AR08,     9,  1,      1,      2,2,19910913,0540,-39.5130, -54.1762, 2968,   1879.9,   2.2698,  34.6422,2,  34.6370,2,    177.3,2,  -999.00,9,  -999.00,9,  -999.00,9,  -999.00,9, -999.000,9, -999.000,9,  2.1394,18815.6,-999.000
    08BD0491_1,  AR08,     9,  1,      0,      1,2,19910913,0540,-39.5130, -54.1762, 2968,   1886.1,   2.2640,  34.6442,2,  34.6400,2,    177.3,2,    69.16,2,    22.04,2,     0.06,3,     2.01,2, -999.000,9, -999.000,9,  2.1331,18877.5,   2.279
    08BD0491_1,  AR08,    11,  1,     12,     13,2,19910913,1254,-39.8267, -53.3862, 3991,      0.0,-999.0000,-999.0000,9,-999.0000,9,   -999.0,9,     1.06,2,     0.84,2,     0.33,3,     0.48,2, -999.000,9, -999.000,9,-999.0000,   -999,-999.000
    08BD0491_1,  AR08,    11,  1,     11,     12,2,19910913,1254,-39.8267, -53.3862, 3991,     10.2,  15.3843,  34.8450,2,  34.8420,2,    239.9,2,     0.93,2,     0.67,2,     0.35,3,     0.78,2, -999.000,9, -999.000,9, 15.3827,  118.9,-999.000
    08BD0491_1,  AR08,    11,  1,     10,     11,2,19910913,1254,-39.8267, -53.3862, 3991,     12.9,  15.3957,  34.8477,2,  34.8580,2,    239.0,2,     0.99,2,     0.56,2,     0.36,3,     0.40,2, -999.000,9, -999.000,9, 15.3937,  146.5,-999.000
    08BD0491_1,  AR08,    11,  1,      9,     10,2,19910913,1254,-39.8267, -53.3862, 3991,     78.9,  16.1126,  35.8251,2,  35.8260,2,    236.7,2,     0.57,2,     0.00,2,     0.15,3,     0.21,2, -999.000,9, -999.000,9, 16.1000,  805.7,-999.000
    08BD0491_1,  AR08,    11,  1,      8,      9,2,19910913,1254,-39.8267, -53.3862, 3991,    200.3,  14.2961,  35.4486,2,  35.4480,2,    218.0,2,     1.58,2,     3.55,2,     0.07,3,     0.71,2, -999.000,9, -999.000,9, 14.2666, 2020.4,-999.000
    08BD0491_1,  AR08,    11,  1,      7,      8,2,19910913,1254,-39.8267, -53.3862, 3991,    337.8,  10.5008,  34.8487,2,  34.8450,2,    236.2,2,     2.67,2,     7.79,2,     0.06,3,     0.92,2, -999.000,9, -999.000,9, 10.4602, 3395.3,-999.000
    08BD0491_1,  AR08,    11,  1,      6,      7,2,19910913,1254,-39.8267, -53.3862, 3991,    610.3,   4.8766,  34.2202,2,  34.2170,2,    264.4,2,    10.89,2,    16.26,2,     0.05,3,     1.50,2, -999.000,9, -999.000,9,  4.8283, 6120.0,   4.884
    08BD0491_1,  AR08,    11,  1,      5,      6,2,19910913,1254,-39.8267, -53.3862, 3991,    807.9,   4.2691,  34.2635,2,  34.2680,2,    236.5,2,    17.42,2,    18.69,2,     0.05,3,     1.70,2, -999.000,9, -999.000,9,  4.2077, 8096.3,-999.000
    08BD0491_1,  AR08,    11,  1,      4,      5,2,19910913,1254,-39.8267, -53.3862, 3991,   1027.3,   2.9953,  34.2217,2,  34.2200,2,    252.2,3,    24.54,2,    20.39,2,     0.05,3,     1.86,2, -999.000,9, -999.000,9,  2.9259,10290.0,   3.002
    08BD0491_1,  AR08,    11,  1,      3,      4,2,19910913,1254,-39.8267, -53.3862, 3991,   1205.2,   3.1192,  34.3696,2,  34.3640,2,    201.7,2,    36.41,2,    22.25,2,     0.05,3,     2.03,2, -999.000,9, -999.000,9,  3.0346,12069.2,-999.000
    08BD0491_1,  AR08,    11,  1,      2,      3,2,19910913,1254,-39.8267, -53.3862, 3991,   1397.1,   3.0521,  34.4865,2,  34.4800,2,    192.1,2,    42.65,2,    21.72,2,     0.05,3,     2.03,2, -999.000,9, -999.000,9,  2.9524,13987.6,   3.051
    08BD0491_1,  AR08,    11,  1,      1,      2,2,19910913,1254,-39.8267, -53.3862, 3991,   1599.8,   3.1763,  34.6182,2,  34.6140,2,    188.6,2,    41.46,2,    20.50,2,     0.06,3,     1.91,2, -999.000,9, -999.000,9,  3.0578,16015.1,-999.000
    08BD0491_1,  AR08,    11,  1,      0,      1,2,19910913,1254,-39.8267, -53.3862, 3991,   1784.8,   3.5840,  34.7743,2,  34.7730,2,    206.0,2,  -999.00,9,  -999.00,9,  -999.00,9,  -999.00,9, -999.000,9, -999.000,9,  3.4433,17865.3,   3.571
    08BD0491_1,  AR08,    13,  1,     12,     13,2,19910915,0529,-40.0012, -53.0080, 3991,      0.0,-999.0000,-999.0000,9,-999.0000,9,   -999.0,9,     1.85,2,     0.00,2,     0.09,3,     0.53,2, -999.000,9, -999.000,9,-999.0000,   -999,-999.000
    08BD0491_1,  AR08,    13,  1,     11,     12,2,19910915,0529,-40.0012, -53.0080, 3991,      8.6,  15.4727,  34.7191,2,  34.7180,2,    245.1,2,     1.85,2,     0.00,2,     0.09,3,     0.50,2, -999.000,9, -999.000,9, 15.4713,  102.6,-999.000
    08BD0491_1,  AR08,    13,  1,     10,     11,2,19910915,0529,-40.0012, -53.0080, 3991,     18.5,  15.4961,  34.7344,2,  34.7350,2,    244.3,2,     1.65,2,     0.00,2,     0.07,3,     0.53,2, -999.000,9, -999.000,9, 15.4932,  201.6,  15.623
    08BD0491_1,  AR08,    13,  1,      9,     10,2,19910915,0529,-40.0012, -53.0080, 3991,    131.9,  16.1965,  35.8354,2,  35.8410,2,    233.2,2,     0.83,2,     0.05,2,     0.10,3,     0.68,2, -999.000,9, -999.000,9, 16.1753, 1335.8,-999.000
    08BD0491_1,  AR08,    13,  1,      8,      9,2,19910915,0529,-40.0012, -53.0080, 3991,    650.8,   5.6719,  34.2938,2,  34.4550,2,    246.1,2,     7.63,2,    14.20,2,     0.06,3,     1.45,2, -999.000,9, -999.000,9,  5.6161, 6524.9,   5.597
    08BD0491_1,  AR08,    13,  1,      7,      8,2,19910915,0529,-40.0012, -53.0080, 3991,    802.0,   4.5896,  34.2256,2,  34.2260,2,    260.9,2,    11.97,2,    17.21,2,     0.05,3,     1.65,2, -999.000,9, -999.000,9,  4.5268, 8036.5,-999.000
    08BD0491_1,  AR08,    13,  1,      6,      7,2,19910915,0529,-40.0012, -53.0080, 3991,    998.7,   3.6439,  34.2165,2,  34.2160,2,    255.6,2,    18.36,2,    18.75,2,     0.04,3,     1.80,2, -999.000,9, -999.000,9,  3.5716,10003.8,   3.619
    08BD0491_1,  AR08,    13,  1,      5,      6,2,19910915,0529,-40.0012, -53.0080, 3991,   1203.2,   3.0361,  34.2669,2,  34.2800,2,    230.8,2,    28.88,2,    20.50,2,     0.05,3,     1.92,2, -999.000,9, -999.000,9,  2.9526,12048.7,-999.000
    08BD0491_1,  AR08,    13,  1,      4,      5,2,19910915,0529,-40.0012, -53.0080, 3991,   1395.6,   2.8483,  34.3726,2,  34.3710,2,    203.9,2,    40.63,2,    21.82,2,     0.06,3,     2.04,2, -999.000,9, -999.000,9,  2.7512,13972.6,   3.179
    08BD0491_1,  AR08,    13,  1,      3,      4,2,19910915,0529,-40.0012, -53.0080, 3991,   1605.6,   2.8122,  34.5068,2,  34.5040,2,    197.3,2,    49.50,2,    22.19,2,     0.06,3,     2.08,2, -999.000,9, -999.000,9,  2.6979,16072.9,-999.000
    08BD0491_1,  AR08,    13,  1,      2,      3,2,19910915,0529,-40.0012, -53.0080, 3991,   1791.8,   3.3576,  34.6885,2,  34.7000,2,    195.1,2,    47.50,2,    19.17,2,     0.05,3,     1.79,2, -999.000,9, -999.000,9,  3.2196,17935.2,   3.355
    08BD0491_1,  AR08,    13,  1,      1,      2,2,19910915,0529,-40.0012, -53.0080, 3991,   2002.6,   3.5763,  34.7959,2,  34.7930,2,    208.2,2,    31.25,2,    17.43,2,     0.05,3,     1.66,2, -999.000,9, -999.000,9,  3.4153,20042.5,-999.000
    08BD0491_1,  AR08,    13,  1,      0,      1,2,19910915,0529,-40.0012, -53.0080, 3991,   2520.7,   3.4394,  34.9121,2,  34.9120,2,    235.9,2,    25.27,2,    14.41,2,     0.05,3,     1.36,2, -999.000,9, -999.000,9,  3.2294,25224.3,   3.451