BOTTLE,20020201WHPSIOKJU
EXPOCODE,SECT_ID,STNNBR,CASTNO,SAMPNO,BTLNBR,BTLNBR_FLAG_W,DATE,TIME,LATITUDE,LONGITUDE,DEPTH,CTDPRS,CTDTMP,CTDSAL,CTDSAL_FLAG_W,SALNTY,SALNTY_FLAG_W,OXYGEN,OXYGEN_FLAG_W,SILCAT,SILCAT_FLAG_W,NITRAT,NITRAT_FLAG_W,NITRIT,NITRIT_FLAG_W,PHSPHT,PHSPHT_FLAG_W,CFC-11,CFC-11_FLAG_W,CFC-12,CFC-12_FLAG_W,THETA,CTDRAW,REVTMP
,,,,,,,,,,,,DBAR,IPTS-68,PSS-78,,PSS-78,,UMOL/KG,,UMOL/KG,,UMOL/KG,,UMOL/KG,,UMOL/KG,,PMOL/KG,,PMOL/KG,,IPTS-68,,DEG C
    08EH0492_1,  AR08,     7,  1,     12,     12,2,19920510,1202,-39.6353, -54.5733, 1574,     17.8,  19.0025,  35.5048,2,  35.5050,2,    231.7,2,     2.43,2,     0.80,2,     0.24,3,     0.35,2, -999.000,9, -999.000,9, 18.9994,  197.5,  19.005
    08EH0492_1,  AR08,     7,  1,     11,     11,2,19920510,1202,-39.6353, -54.5733, 1574,     49.5,  19.0164,  35.7448,2,  35.7470,2,    231.2,2,     2.50,2,     0.53,2,     0.19,3,     0.23,2, -999.000,9, -999.000,9, 19.0075,  514.6,-999.000
    08EH0492_1,  AR08,     7,  1,     10,     10,2,19920510,1202,-39.6353, -54.5733, 1574,     98.2,  18.1934,  35.9934,2,  35.9900,2,    206.3,2,     2.20,2,     1.54,2,     0.04,3,     0.36,2, -999.000,9, -999.000,9, 18.1764, 1001.3,  19.005
    08EH0492_1,  AR08,     7,  1,      9,      9,2,19920510,1202,-39.6353, -54.5733, 1574,    197.8,  12.3055,  35.0077,2,-999.0000,5,   -999.0,5,  -999.00,5,  -999.00,5,  -999.00,5,  -999.00,5, -999.000,9, -999.000,9, 12.2792, 1997.8,-999.000
    08EH0492_1,  AR08,     7,  1,      8,      8,2,19920510,1202,-39.6353, -54.5733, 1574,    398.7,   6.2514,  34.3305,2,  34.3290,2,    244.8,2,     9.71,2,    18.06,2,     0.04,3,     1.73,2, -999.000,9, -999.000,9,  6.2162, 4006.2,   6.158
    08EH0492_1,  AR08,     7,  1,      7,      7,2,19920510,1202,-39.6353, -54.5733, 1574,    606.5,   4.3551,  34.2025,2,  34.2030,2,    263.5,2,     9.93,2,    24.91,2,     0.12,3,     2.52,3, -999.000,9, -999.000,9,  4.3096, 6083.9,-999.000
    08EH0492_1,  AR08,     7,  1,      6,      6,2,19920510,1202,-39.6353, -54.5733, 1574,    738.7,   3.9950,  34.2219,2,  34.2280,2,    256.1,2,    19.49,2,    23.96,2,     0.04,3,     2.58,3, -999.000,9, -999.000,9,  3.9409, 7406.8,   4.008
    08EH0492_1,  AR08,     7,  1,      5,      5,2,19920510,1202,-39.6353, -54.5733, 1574,    801.4,   3.9179,  34.2299,2,  34.2290,2,    249.1,2,    19.80,2,    22.79,2,     0.11,3,     2.52,3, -999.000,9, -999.000,9,  3.8594, 8033.6,-999.000
    08EH0492_1,  AR08,     7,  1,      4,      4,2,19920510,1202,-39.6353, -54.5733, 1574,    997.9,   2.8600,  34.2091,2,  34.2120,2,    266.9,3,    25.79,2,    22.57,2,     0.02,3,     2.52,3, -999.000,9, -999.000,9,  2.7938, 9998.8,   2.966
    08EH0492_1,  AR08,     7,  1,      3,      3,2,19920510,1202,-39.6353, -54.5733, 1574,   1197.7,   2.9503,  34.4072,2,  34.4100,2,    203.0,2,    49.00,2,    32.24,2,     0.05,3,     2.83,3, -999.000,9, -999.000,9,  2.8678,11995.9,-999.000
    08EH0492_1,  AR08,     7,  1,      2,      2,2,19920510,1202,-39.6353, -54.5733, 1574,   1404.5,   2.9330,  34.5491,2,  34.5570,2,    190.8,2,    54.15,2,    32.26,2,     0.01,3,     2.83,3, -999.000,9, -999.000,9,  2.8339,14064.7,   2.926
    08EH0492_1,  AR08,     7,  1,      1,      1,2,19920510,1202,-39.6353, -54.5733, 1574,   1438.4,   2.7656,  34.5440,2,  34.5500,2,    186.0,2,    60.60,2,    33.52,2,     0.07,3,     2.92,3, -999.000,9, -999.000,9,  2.6656,14402.9,-999.000
    08EH0492_1,  AR08,     8,  1,     12,     12,2,19920510,1642,-39.6353, -54.5733, -999,     48.0,  19.6174,  35.8210,2,  34.7830,3,   -999.0,5,     1.01,2,     0.87,2,     0.03,3,     0.31,2, -999.000,9, -999.000,9, 19.6086,  499.8,-999.000
    08EH0492_1,  AR08,     8,  1,     11,     11,2,19920510,1642,-39.6353, -54.5733, -999,     98.8,  14.0823,  35.0432,2,  35.0890,3,   -999.0,5,     1.40,2,     2.31,2,     0.34,3,     0.57,2, -999.000,9, -999.000,9, 14.0680, 1007.6,  14.589
    08EH0492_1,  AR08,     8,  1,     10,     10,2,19920510,1642,-39.6353, -54.5733, -999,    257.4,   7.0384,  34.3569,2,  34.3640,2,   -999.0,5,    17.12,3,    12.22,2,     0.11,3,     1.13,2, -999.000,9, -999.000,9,  7.0144, 2592.9,-999.000
    08EH0492_1,  AR08,     8,  1,      9,      9,2,19920510,1642,-39.6353, -54.5733, -999,    412.7,   5.1458,  34.2548,2,  34.2610,2,   -999.0,5,    22.01,3,    17.47,2,     0.01,3,     1.51,2, -999.000,9, -999.000,9,  5.1129, 4146.7,   5.166
    08EH0492_1,  AR08,     8,  1,      8,      8,2,19920510,1642,-39.6353, -54.5733, -999,    656.0,   4.0224,  34.2217,2,  34.2260,2,    261.7,2,    29.99,3,    29.74,3,     0.08,3,     2.30,3, -999.000,9, -999.000,9,  3.9747, 6579.6,-999.000
    08EH0492_1,  AR08,     8,  1,      7,      7,2,19920510,1642,-39.6353, -54.5733, -999,    851.3,   3.4742,  34.2396,2,  34.2400,3,    242.6,2,    40.35,3,    29.68,2,     0.02,3,     2.20,2, -999.000,9, -999.000,9,  3.4146, 8532.5,   3.450
    08EH0492_1,  AR08,     8,  1,      6,      6,2,19920510,1642,-39.6353, -54.5733, -999,   1112.3,   2.8475,  34.3399,2,  34.3310,2,    217.8,2,    42.80,2,    31.47,2,     0.02,3,     2.50,2, -999.000,9, -999.000,9,  2.7726,11142.2,-999.000
    08EH0492_1,  AR08,     8,  1,      5,      5,2,19920510,1642,-39.6353, -54.5733, -999,   1369.3,   2.8074,  34.4978,2,  34.5020,2,    193.4,2,    45.24,2,    27.74,2,     0.02,3,     2.22,2, -999.000,9, -999.000,9,  2.7125,13711.9,   2.855
    08EH0492_1,  AR08,     8,  1,      4,      4,2,19920510,1642,-39.6353, -54.5733, -999,   1607.5,   2.8057,  34.6187,2,  34.6200,2,    188.2,2,    47.21,2,    25.91,2,     0.06,3,     2.03,2, -999.000,9, -999.000,9,  2.6910,16094.7,-999.000
    08EH0492_1,  AR08,     8,  1,      3,      3,2,19920510,1642,-39.6353, -54.5733, -999,   1869.3,   3.0105,  34.7423,2,  34.7370,2,    201.6,2,    48.27,2,    26.70,2,     0.02,3,     2.16,2, -999.000,9, -999.000,9,  2.8702,18712.0,   3.042
    08EH0492_1,  AR08,     8,  1,      2,      2,2,19920510,1642,-39.6353, -54.5733, -999,   2098.7,   3.0812,  34.8184,2,  34.8120,2,    216.0,2,  -999.00,9,  -999.00,9,  -999.00,9,  -999.00,9, -999.000,9, -999.000,9,  2.9187,21006.7,-999.000
    08EH0492_1,  AR08,     8,  1,      1,      1,2,19920510,1642,-39.6353, -54.5733, -999,   2100.1,   3.0820,  34.8184,2,  34.8190,2,    217.3,2,    56.25,2,    31.69,2,     0.02,3,     2.41,2, -999.000,9, -999.000,9,  2.9194,21020.3,   3.093
    08EH0492_1,  AR08,     9,  1,     11,     12,2,19920510,2119,-40.0000, -53.9133, -999,      8.9,  17.2398,  34.1742,2,-999.0000,5,   -999.0,5,  -999.00,5,  -999.00,5,  -999.00,5,  -999.00,5, -999.000,9, -999.000,9, 17.2383,  108.2,-999.000
    08EH0492_1,  AR08,     9,  1,     10,     11,2,19920510,2119,-40.0000, -53.9133, -999,     34.9,  17.8458,  34.4061,2,  34.3780,3,    240.0,2,     0.43,2,     0.31,2,     0.07,2,     2.38,3, -999.000,9, -999.000,9, 17.8399,  368.5,  17.792
    08EH0492_1,  AR08,     9,  1,      9,     10,2,19920510,2119,-40.0000, -53.9133, -999,     79.1,  10.0196,  34.2707,2,  34.2470,3,    218.4,2,     1.87,2,    14.77,2,     0.01,2,     2.44,3, -999.000,9, -999.000,9, 10.0105,  810.0,-999.000
    08EH0492_1,  AR08,     9,  1,      8,      9,2,19920510,2119,-40.0000, -53.9133, -999,    123.3,  10.8131,  34.8575,2,  34.7760,3,    219.3,2,     1.87,2,    13.98,2,     0.03,2,     2.44,3, -999.000,9, -999.000,9, 10.7982, 1252.8,-999.000
    08EH0492_1,  AR08,     9,  1,      7,      8,2,19920510,2119,-40.0000, -53.9133, -999,    248.9,   7.6207,  34.4838,2,  34.4920,2,    226.6,2,    11.00,2,    20.49,2,     0.04,2,     2.38,3, -999.000,9, -999.000,9,  7.5964, 2508.4,-999.000
    08EH0492_1,  AR08,     9,  1,      6,      7,2,19920510,2119,-40.0000, -53.9133, -999,    406.0,   4.8086,  34.2223,2,  34.2150,2,    269.2,2,    14.17,2,    23.33,2,     0.01,2,     2.03,3, -999.000,9, -999.000,9,  4.7774, 4079.6,   4.769
    08EH0492_1,  AR08,     9,  1,      5,      6,2,19920510,2119,-40.0000, -53.9133, -999,    602.8,   4.1743,  34.2236,2,  34.2350,2,    260.4,2,    15.18,2,    24.11,2,     0.02,2,     2.01,3, -999.000,9, -999.000,9,  4.1299, 6047.6,-999.000
    08EH0492_1,  AR08,     9,  1,      4,      5,2,19920510,2119,-40.0000, -53.9133, -999,    793.0,   3.4269,  34.2364,2,  34.2420,2,    246.1,2,    24.45,2,    23.27,2,     0.01,2,     1.92,3, -999.000,9, -999.000,9,  3.3720, 7949.6,   3.458
    08EH0492_1,  AR08,     9,  1,      3,      4,2,19920510,2119,-40.0000, -53.9133, -999,   1004.3,   3.1182,  34.3148,2,  34.3260,2,    220.0,2,    38.56,2,    35.47,2,     0.01,2,     1.73,3, -999.000,9, -999.000,9,  3.0494,10062.4,-999.000
    08EH0492_1,  AR08,     9,  1,      2,      3,2,19920510,2119,-40.0000, -53.9133, -999,   1297.7,   2.8895,  34.4691,2,  34.4660,2,    200.8,2,    50.14,2,    36.57,2,     0.18,3,     1.30,3, -999.000,9, -999.000,9,  2.7996,12996.6,   2.875
    08EH0492_1,  AR08,     9,  1,      1,      2,2,19920510,2119,-40.0000, -53.9133, -999,   1504.2,   2.7845,  34.5585,2,  34.5570,2,    186.9,2,    56.25,2,    34.31,2,     0.01,2,     1.40,3, -999.000,9, -999.000,9,  2.6788,15061.8,-999.000
    08EH0492_1,  AR08,     9,  1,      0,      1,2,19920510,2119,-40.0000, -53.9133, -999,   1663.2,   2.8469,  34.6365,2,  34.6310,2,    197.3,2,    59.92,2,    35.25,2,     0.01,2,     0.62,3, -999.000,9, -999.000,9,  2.7270,16651.0,   2.878
    08EH0492_1,  AR08,    10,  1,     11,     12,2,19920511,0541,-40.2278, -53.5237, -999,      8.5,  16.8376,  34.0703,2,  34.0710,2,    245.3,2,     2.74,2,     0.32,2,     0.07,2,     0.69,2, -999.000,9, -999.000,9, 16.8363,  104.4,-999.000
    08EH0492_1,  AR08,    10,  1,     10,     11,2,19920511,0541,-40.2278, -53.5237, -999,     48.3,  16.1452,  34.5912,2,  34.5830,2,    230.8,2,     3.28,2,     4.73,2,     0.25,2,     0.88,2, -999.000,9, -999.000,9, 16.1376,  502.5,  15.498
    08EH0492_1,  AR08,    10,  1,      9,     10,2,19920511,0541,-40.2278, -53.5237, -999,     73.4,  12.2783,  34.5498,2,  34.5210,3,    225.1,2,     4.58,2,    10.47,2,     0.01,2,     1.22,2, -999.000,9, -999.000,9, 12.2687,  753.7,-999.000
    08EH0492_1,  AR08,    10,  1,      8,      9,2,19920511,0541,-40.2278, -53.5237, -999,     96.8,   9.4736,  34.1497,2,  34.1540,2,    218.4,2,     4.92,2,    15.57,2,     0.02,2,     1.52,2, -999.000,9, -999.000,9,  9.4629,  987.5,   9.301
    08EH0492_1,  AR08,    10,  1,      7,      8,2,19920511,0541,-40.2278, -53.5237, -999,    198.6,   8.2690,  34.4350,2,  34.4040,3,    228.4,2,    15.39,3,    19.12,2,     0.01,2,     1.75,2, -999.000,9, -999.000,9,  8.2486, 2005.5,-999.000
    08EH0492_1,  AR08,    10,  1,      6,      7,2,19920511,0541,-40.2278, -53.5237, -999,    299.8,   6.0722,  34.3152,2,  34.3120,2,    247.9,2,    19.35,3,    22.79,2,     0.01,2,     1.94,2, -999.000,9, -999.000,9,  6.0463, 3017.5,   6.033
    08EH0492_1,  AR08,    10,  1,      5,      6,2,19920511,0541,-40.2278, -53.5237, -999,    399.6,   5.0184,  34.2389,2,  34.2370,2,    261.3,2,    22.15,3,    24.27,2,     0.02,2,     1.99,2, -999.000,9, -999.000,9,  4.9869, 4015.7,-999.000
    08EH0492_1,  AR08,    10,  1,      4,      5,2,19920511,0541,-40.2278, -53.5237, -999,    498.9,   4.4513,  34.2206,2,  34.2180,2,    266.1,2,    24.89,3,    24.65,2,     0.03,2,     2.04,2, -999.000,9, -999.000,9,  4.4139, 5008.4,   4.441
    08EH0492_1,  AR08,    10,  1,      3,      4,2,19920511,0541,-40.2278, -53.5237, -999,    597.9,   4.0689,  34.2154,2,  34.2180,2,    264.8,2,    28.56,3,    25.02,2,     0.00,2,     2.08,2, -999.000,9, -999.000,9,  4.0254, 5998.1,-999.000
    08EH0492_1,  AR08,    10,  1,      2,      3,2,19920511,0541,-40.2278, -53.5237, -999,    696.6,   3.7771,  34.2187,2,  34.2150,2,    260.9,2,    33.24,3,    25.60,2,     0.00,2,     2.12,2, -999.000,9, -999.000,9,  3.7276, 6984.9,   3.753
    08EH0492_1,  AR08,    10,  1,      1,      2,2,19920511,0541,-40.2278, -53.5237, -999,    798.3,   3.3861,  34.2181,2,  34.2150,2,    256.9,2,    37.90,3,    26.02,2,     0.00,2,     2.28,2, -999.000,9, -999.000,9,  3.3312, 8002.1,-999.000
    08EH0492_1,  AR08,    10,  1,      0,      1,2,19920511,0541,-40.2278, -53.5237, -999,    889.4,   3.4833,  34.2853,2,  34.2770,2,    228.7,2,    46.90,3,    33.94,2,     0.09,2,     2.27,2, -999.000,9, -999.000,9,  3.4207, 8913.8,   3.497