BOTTLE,20020201WHPSIOKJU
#code : jjward hyd_to_exchange.pl 
#original files copied from HTML directory: 20020201
#original HYD file: ar08_bhy.txt   Wed Dec  1 13:44:05 1999
#original SUM file: ar08_bsu.txt   Fri Sep 17 16:23:55 1999
EXPOCODE,SECT_ID,STNNBR,CASTNO,SAMPNO,BTLNBR,BTLNBR_FLAG_W,DATE,TIME,LATITUDE,LONGITUDE,DEPTH,CTDPRS,CTDTMP,CTDSAL,CTDSAL_FLAG_W,SALNTY,SALNTY_FLAG_W,OXYGEN,OXYGEN_FLAG_W,SILCAT,SILCAT_FLAG_W,NITRAT,NITRAT_FLAG_W,NITRIT,NITRIT_FLAG_W,PHSPHT,PHSPHT_FLAG_W,CFC-11,CFC-11_FLAG_W,CFC-12,CFC-12_FLAG_W,THETA,CTDRAW,REVTMP
,,,,,,,,,,,,DBAR,IPTS-68,PSS-78,,PSS-78,,UMOL/KG,,UMOL/KG,,UMOL/KG,,UMOL/KG,,UMOL/KG,,PMOL/KG,,PMOL/KG,,IPTS-68,,DEG C
    08EH0492_1,  AR08,     1,  1,     11,     12,2,19920509,0508,-38.6433, -56.5587,   80,      9.8,  15.1102,  33.6744,2,  33.6760,2,    248.4,2,     2.40,2,     0.33,2,     0.08,2,     0.55,2, -999.000,9, -999.000,9, 15.1088,  116.9,-999.000
    08EH0492_1,  AR08,     1,  1,     10,     11,2,19920509,0508,-38.6433, -56.5587,   80,     17.6,  15.0734,  33.6785,2,  33.6830,2,    244.0,2,     3.07,2,     1.41,2,     0.09,2,     0.59,2, -999.000,9, -999.000,9, 15.0707,  195.2,  15.020
    08EH0492_1,  AR08,     1,  1,      8,      9,2,19920509,0508,-38.6433, -56.5587,   80,     27.5,  14.8288,  33.6287,2,  33.6320,2,    248.4,2,  -999.00,9,  -999.00,9,  -999.00,9,  -999.00,9, -999.000,9, -999.000,9, 14.8248,  294.6,  15.111
    08EH0492_1,  AR08,     1,  1,      9,     10,2,19920509,0508,-38.6433, -56.5587,   80,     28.4,  14.8435,  33.6294,2,  33.6390,2,    248.4,2,     3.78,2,     1.44,2,     0.03,2,     0.50,2, -999.000,9, -999.000,9, 14.8393,  303.2,-999.000
    08EH0492_1,  AR08,     1,  1,      7,      8,2,19920509,0508,-38.6433, -56.5587,   80,     34.9,  14.8074,  33.6269,2,  33.6320,2,    248.4,2,     3.12,2,     1.87,2,     0.05,2,     0.54,2, -999.000,9, -999.000,9, 14.8023,  367.9,-999.000
    08EH0492_1,  AR08,     1,  1,      6,      7,2,19920509,0508,-38.6433, -56.5587,   80,     35.0,  14.8025,  33.6291,2,  33.6370,2,    248.4,2,  -999.00,9,  -999.00,9,  -999.00,9,  -999.00,9, -999.000,9, -999.000,9, 14.7973,  369.0,  14.081
    08EH0492_1,  AR08,     1,  1,      4,      5,2,19920509,0508,-38.6433, -56.5587,   80,     48.8,   8.0217,  33.4187,2,  33.4310,2,    195.9,2,  -999.00,9,  -999.00,9,  -999.00,9,  -999.00,9, -999.000,9, -999.000,9,  8.0169,  507.4,   8.432
    08EH0492_1,  AR08,     1,  1,      5,      6,2,19920509,0508,-38.6433, -56.5587,   80,     49.6,   7.9876,  33.4104,2,  33.4390,2,    200.2,2,     3.18,2,     4.28,2,     0.04,2,     1.14,2, -999.000,9, -999.000,9,  7.9827,  515.0,-999.000
    08EH0492_1,  AR08,     1,  1,      3,      4,2,19920509,0508,-38.6433, -56.5587,   80,     63.4,   7.8855,  33.4144,2,  33.4160,2,    191.5,2,     5.94,2,    12.47,2,     0.25,2,     1.48,2, -999.000,9, -999.000,9,  7.8794,  653.0,-999.000
    08EH0492_1,  AR08,     1,  1,      2,      3,2,19920509,0508,-38.6433, -56.5587,   80,     63.7,   7.8845,  33.4142,2,  33.4200,2,    187.2,2,  -999.00,9,  -999.00,9,  -999.00,9,  -999.00,9, -999.000,9, -999.000,9,  7.8783,  656.0,   7.920
    08EH0492_1,  AR08,     1,  1,      0,      1,2,19920509,0508,-38.6433, -56.5587,   80,     72.3,   7.8875,  33.4137,2,  33.4140,2,    195.9,2,  -999.00,9,  -999.00,9,  -999.00,9,  -999.00,9, -999.000,9, -999.000,9,  7.8805,  742.0,   7.939
    08EH0492_1,  AR08,     1,  1,      1,      2,2,19920509,0508,-38.6433, -56.5587,   80,     73.1,   7.8865,  33.4142,2,  33.4200,2,    191.5,2,     4.81,2,    16.20,2,     0.15,2,     1.52,2, -999.000,9, -999.000,9,  7.8794,  750.0,-999.000
    08EH0492_1,  AR08,     2,  1,     11,     12,2,19920509,0811,-38.8308, -56.2547,   81,      8.9,  14.3655,  33.6298,2,  33.6350,2,    257.1,2,     2.19,2,     0.35,2,     0.05,2,     0.47,2, -999.000,9, -999.000,9, 14.3642,  108.3,-999.000
    08EH0492_1,  AR08,     2,  1,      9,     10,2,19920509,0811,-38.8308, -56.2547,   81,     18.8,  14.3711,  33.6303,2,  33.6360,2,    257.1,2,  -999.00,9,  -999.00,9,  -999.00,9,  -999.00,9, -999.000,9, -999.000,9, 14.3684,  207.7,-999.000
    08EH0492_1,  AR08,     2,  1,     10,     11,2,19920509,0811,-38.8308, -56.2547,   81,     19.2,  14.3726,  33.6305,2,  33.6390,2,    257.1,2,     1.59,2,     0.32,2,     0.14,2,     0.51,2, -999.000,9, -999.000,9, 14.3698,  211.4,  14.403
    08EH0492_1,  AR08,     2,  1,      8,      9,2,19920509,0811,-38.8308, -56.2547,   81,     28.9,  14.3670,  33.6314,2,  33.6380,2,    265.8,3,     1.83,2,     0.46,2,     0.10,2,     0.55,2, -999.000,9, -999.000,9, 14.3629,  308.1,  14.378
    08EH0492_1,  AR08,     2,  1,      7,      8,2,19920509,0811,-38.8308, -56.2547,   81,     29.3,  14.3684,  33.6308,2,  33.6390,2,    257.1,2,  -999.00,9,  -999.00,9,  -999.00,9,  -999.00,9, -999.000,9, -999.000,9, 14.3642,  312.5,-999.000
    08EH0492_1,  AR08,     2,  1,      6,      7,2,19920509,0811,-38.8308, -56.2547,   81,     30.4,  14.3685,  33.6309,2,  33.6390,2,    213.5,2,  -999.00,9,  -999.00,9,  -999.00,9,  -999.00,9, -999.000,9, -999.000,9, 14.3641,  323.8,  14.330
    08EH0492_1,  AR08,     2,  1,      4,      5,2,19920509,0811,-38.8308, -56.2547,   81,     45.6,   7.6836,  33.4065,2,  33.4500,2,    204.6,2,  -999.00,9,  -999.00,9,  -999.00,9,  -999.00,9, -999.000,9, -999.000,9,  7.6793,  475.0,   7.620
    08EH0492_1,  AR08,     2,  1,      5,      6,2,19920509,0811,-38.8308, -56.2547,   81,     45.9,   7.9238,  33.4306,2,  33.4720,2,    208.9,2,     4.20,2,    13.04,2,     0.15,2,     1.39,2, -999.000,9, -999.000,9,  7.9194,  477.9,-999.000
    08EH0492_1,  AR08,     2,  1,      3,      4,2,19920509,0811,-38.8308, -56.2547,   81,     59.1,   7.2667,  33.4188,2,  33.4230,2,    191.5,2,  -999.00,9,  -999.00,9,  -999.00,9,  -999.00,9, -999.000,9, -999.000,9,  7.2612,  610.2,-999.000
    08EH0492_1,  AR08,     2,  1,      2,      3,2,19920509,0811,-38.8308, -56.2547,   81,     60.7,   7.2638,  33.4188,2,  33.4220,2,    191.5,2,     4.35,2,    12.94,2,     0.05,2,     1.28,2, -999.000,9, -999.000,9,  7.2582,  626.4,   7.620
    08EH0492_1,  AR08,     2,  1,      0,      1,2,19920509,0811,-38.8308, -56.2547,   81,     75.1,   7.2587,  33.4193,2,  33.4260,2,    195.8,2,  -999.00,9,  -999.00,9,  -999.00,9,  -999.00,9, -999.000,9, -999.000,9,  7.2518,  770.5,   7.307
    08EH0492_1,  AR08,     2,  1,      1,      2,2,19920509,0811,-38.8308, -56.2547,   81,     75.5,   7.2559,  33.4190,2,  33.4250,2,    187.1,2,     5.19,2,    17.52,2,     0.11,2,     1.24,2, -999.000,9, -999.000,9,  7.2489,  774.8,-999.000
    08EH0492_1,  AR08,     3,  1,     11,     12,2,19920509,1103,-38.9783, -55.9053,   95,      8.5,  12.8485,  33.7370,2,  33.7470,2,    265.7,2,     2.19,2,     1.84,2,     0.17,2,     0.50,2, -999.000,9, -999.000,9, 12.8474,  104.0,-999.000
    08EH0492_1,  AR08,     3,  1,     10,     11,2,19920509,1103,-38.9783, -55.9053,   95,      8.9,  12.8465,  33.7395,2,  33.7520,2,    270.0,2,  -999.00,9,  -999.00,9,  -999.00,9,  -999.00,9, -999.000,9, -999.000,9, 12.8453,  108.0,  12.892
    08EH0492_1,  AR08,     3,  1,      9,     10,2,19920509,1103,-38.9783, -55.9053,   95,     14.4,  12.8475,  33.7392,2,  33.7470,2,    270.0,2,  -999.00,9,  -999.00,9,  -999.00,9,  -999.00,9, -999.000,9, -999.000,9, 12.8456,  163.0,-999.000
    08EH0492_1,  AR08,     3,  1,      8,      9,2,19920509,1103,-38.9783, -55.9053,   95,     15.7,  12.8475,  33.7387,2,  33.7510,2,    270.0,2,     1.87,2,     1.32,2,     0.12,2,     0.45,2, -999.000,9, -999.000,9, 12.8454,  176.0,  13.169
    08EH0492_1,  AR08,     3,  1,      6,      7,2,19920509,1103,-38.9783, -55.9053,   95,     23.6,  12.8455,  33.7391,2,  33.7510,2,    265.7,2,  -999.00,9,  -999.00,9,  -999.00,9,  -999.00,9, -999.000,9, -999.000,9, 12.8424,  255.0,  12.800
    08EH0492_1,  AR08,     3,  1,      7,      8,2,19920509,1103,-38.9783, -55.9053,   95,     23.7,  12.8475,  33.7391,2,  33.7510,2,    270.0,2,     1.73,2,     1.74,2,     0.15,2,     0.53,2, -999.000,9, -999.000,9, 12.8444,  256.0,-999.000
    08EH0492_1,  AR08,     3,  1,      5,      6,2,19920509,1103,-38.9783, -55.9053,   95,     36.1,  12.4785,  33.7627,2,  33.7670,2,    265.6,2,  -999.00,9,  -999.00,9,  -999.00,9,  -999.00,9, -999.000,9, -999.000,9, 12.4738,  380.0,-999.000
    08EH0492_1,  AR08,     3,  1,      4,      5,2,19920509,1103,-38.9783, -55.9053,   95,     37.0,  12.2255,  33.8249,2,-999.0000,5,   -999.0,5,     1.98,2,     2.96,2,     0.20,2,     0.49,2, -999.000,9, -999.000,9, 12.2207,  389.0,  11.020
    08EH0492_1,  AR08,     3,  1,      3,      4,2,19920509,1103,-38.9783, -55.9053,   95,     54.7,   6.0475,  33.7884,2,  33.8090,2,    217.5,2,     5.76,2,    15.67,2,     0.12,2,     0.53,3, -999.000,9, -999.000,9,  6.0430,  566.0,-999.000
    08EH0492_1,  AR08,     3,  1,      2,      3,2,19920509,1103,-38.9783, -55.9053,   95,     68.8,   6.0481,  33.7875,2,  33.7950,2,    217.5,2,     6.11,2,    17.61,2,     0.14,2,     1.22,3, -999.000,9, -999.000,9,  6.0424,  707.2,   6.081
    08EH0492_1,  AR08,     3,  1,      0,      1,2,19920509,1103,-38.9783, -55.9053,   95,     88.5,   6.0500,  33.7866,2,  33.7980,2,    226.2,2,  -999.00,9,  -999.00,9,  -999.00,9,  -999.00,9, -999.000,9, -999.000,9,  6.0426,  904.4,   6.086
    08EH0492_1,  AR08,     3,  1,      1,      2,2,19920509,1103,-38.9783, -55.9053,   95,     89.1,   6.0506,  33.7869,2,  33.7980,2,    217.5,2,     5.83,2,    16.67,2,     0.11,2,     2.03,3, -999.000,9, -999.000,9,  6.0432,  910.8,-999.000
    08EH0492_1,  AR08,    54,  1,     11,     12,2,19920509,1725,-39.1500, -55.5767,  358,      3.2,  11.6828,  33.8001,2,  33.8070,2,    278.7,2,     2.51,2,     4.38,2,     0.12,3,     0.83,2, -999.000,9, -999.000,9, 11.6824,   51.3,-999.000
    08EH0492_1,  AR08,    54,  1,     10,     11,2,19920509,1725,-39.1500, -55.5767,  358,     18.0,  11.4225,  33.8049,2,  33.8120,2,    278.6,2,     1.97,2,     5.64,2,     0.16,3,     1.00,2, -999.000,9, -999.000,9, 11.4203,  199.5,  11.445
    08EH0492_1,  AR08,    54,  1,      9,     10,2,19920509,1725,-39.1500, -55.5767,  358,     28.5,  10.6750,  33.8889,2,  33.9110,2,    278.6,2,     2.51,2,     7.05,2,     0.17,3,     1.14,2, -999.000,9, -999.000,9, 10.6716,  304.3,-999.000
    08EH0492_1,  AR08,    54,  1,      8,      9,2,19920509,1725,-39.1500, -55.5767,  358,     37.6,   8.9333,  33.9049,2,  33.9070,2,    278.5,2,     2.90,2,    13.36,2,     0.48,3,     1.38,2, -999.000,9, -999.000,9,  8.9294,  395.5,   8.938
    08EH0492_1,  AR08,    54,  1,      7,      8,2,19920509,1725,-39.1500, -55.5767,  358,     47.3,   8.5275,  33.9248,2,  33.9330,2,    274.1,2,     3.85,2,    15.30,2,     0.52,3,     1.46,2, -999.000,9, -999.000,9,  8.5226,  492.0,-999.000
    08EH0492_1,  AR08,    54,  1,      6,      7,2,19920509,1725,-39.1500, -55.5767,  358,     59.7,   7.2987,  33.9466,2,  33.9580,2,    269.7,2,     4.80,2,    17.24,2,     0.26,3,     1.55,2, -999.000,9, -999.000,9,  7.2932,  616.5,   7.389
    08EH0492_1,  AR08,    54,  1,      5,      6,2,19920509,1725,-39.1500, -55.5767,  358,     98.0,   5.9875,  33.9960,2,  34.0030,2,    261.0,2,     7.54,2,    23.14,2,     0.15,3,     1.88,2, -999.000,9, -999.000,9,  5.9793,  999.6,-999.000
    08EH0492_1,  AR08,    54,  1,      4,      5,2,19920509,1725,-39.1500, -55.5767,  358,    149.0,   5.5469,  34.0328,2,  34.0390,2,    265.3,2,     7.94,2,    24.78,2,     0.35,3,     1.95,2, -999.000,9, -999.000,9,  5.5349, 1509.4,   5.558
    08EH0492_1,  AR08,    54,  1,      3,      4,2,19920509,1725,-39.1500, -55.5767,  358,    199.8,   5.2935,  34.0637,2,  34.0670,2,    269.6,2,     8.18,2,    21.68,2,     0.07,3,     1.80,2, -999.000,9, -999.000,9,  5.2777, 2017.1,-999.000
    08EH0492_1,  AR08,    54,  1,      2,      3,2,19920509,1725,-39.1500, -55.5767,  358,    260.3,   4.8826,  34.1104,2,  34.1130,2,    278.3,2,     9.43,2,    23.08,2,     0.13,3,     1.91,2, -999.000,9, -999.000,9,  4.8627, 2622.7,   4.893
    08EH0492_1,  AR08,    54,  1,      1,      2,2,19920509,1725,-39.1500, -55.5767,  358,    316.7,   4.7959,  34.1200,2,  34.1090,2,    282.7,2,     9.75,2,    22.84,2,     0.04,3,     1.90,2, -999.000,9, -999.000,9,  4.7718, 3185.9,-999.000
    08EH0492_1,  AR08,    54,  1,      0,      1,2,19920509,1725,-39.1500, -55.5767,  358,    371.0,   4.5500,  34.1358,2,  34.1400,2,    282.6,2,    11.32,2,    23.56,2,     0.12,3,     1.95,2, -999.000,9, -999.000,9,  4.5224, 3728.9,   4.816
    08EH0492_1,  AR08,     5,  1,     12,     12,2,19920509,2054,-39.3200, -55.2347,  854,      3.7,  15.5764,  34.3085,2,  34.3130,3,    252.6,2,     1.97,2,     0.79,2,     0.11,2,     0.79,2, -999.000,9, -999.000,9, 15.5758,   56.3,-999.000
    08EH0492_1,  AR08,     5,  1,     11,     11,2,19920509,2054,-39.3200, -55.2347,  854,     10.4,  15.5763,  34.3116,2,  34.3190,5,   -999.0,9,     1.89,2,     0.49,2,     0.08,2,     0.68,2, -999.000,9, -999.000,9, 15.5747,  123.8,  15.475
    08EH0492_1,  AR08,     5,  1,     10,     10,2,19920509,2054,-39.3200, -55.2347,  854,     38.9,  13.2445,  34.5939,2,  34.5540,2,    213.3,2,     4.41,2,    10.99,2,     0.19,2,     1.14,2, -999.000,9, -999.000,9, 13.2391,  408.5,-999.000
    08EH0492_1,  AR08,     5,  1,      9,      9,2,19920509,2054,-39.3200, -55.2347,  854,     78.6,   9.6213,  34.4551,2,  34.4090,2,    226.2,2,     6.05,2,    17.49,2,     0.21,2,     1.55,2, -999.000,9, -999.000,9,  9.6125,  805.4,   9.484
    08EH0492_1,  AR08,     5,  1,      8,      8,2,19920509,2054,-39.3200, -55.2347,  854,    115.2,   8.4164,  34.3806,2,  34.3760,2,    226.2,2,     6.68,2,    17.49,2,     0.06,2,     1.60,2, -999.000,9, -999.000,9,  8.4045, 1171.5,-999.000
    08EH0492_1,  AR08,     5,  1,      7,      7,2,19920509,2054,-39.3200, -55.2347,  854,    150.4,   8.6675,  34.5245,2,  34.5400,2,    226.2,2,     8.26,2,    18.70,2,     0.10,2,     1.58,2, -999.000,9, -999.000,9,  8.6517, 1523.5,   8.423
    08EH0492_1,  AR08,     5,  1,      6,      6,2,19920509,2054,-39.3200, -55.2347,  854,    200.0,   7.3256,  34.4033,2,  34.4150,2,    230.5,2,     8.49,2,    19.74,2,     0.06,2,     1.71,2, -999.000,9, -999.000,9,  7.3065, 2019.4,-999.000
    08EH0492_1,  AR08,     5,  1,      5,      5,2,19920509,2054,-39.3200, -55.2347,  854,    403.1,   4.8110,  34.2225,2,  34.2300,2,    260.9,2,    12.97,2,    24.83,2,     0.07,2,     2.04,2, -999.000,9, -999.000,9,  4.7800, 4050.5,   4.838
    08EH0492_1,  AR08,     5,  1,      4,      4,2,19920509,2054,-39.3200, -55.2347,  854,    504.2,   4.1778,  34.1742,2,  34.1730,2,    282.6,2,    12.89,2,    25.02,2,     0.09,2,     2.01,2, -999.000,9, -999.000,9,  4.1411, 5060.9,-999.000
    08EH0492_1,  AR08,     5,  1,      3,      3,2,19920509,2054,-39.3200, -55.2347,  854,    605.5,   3.9838,  34.1683,2,-999.0000,5,   -999.0,5,  -999.00,5,  -999.00,5,  -999.00,5,  -999.00,5, -999.000,9, -999.000,9,  3.9402, 6074.6,   4.007
    08EH0492_1,  AR08,     5,  1,      2,      2,2,19920509,2054,-39.3200, -55.2347,  854,    756.3,   3.5656,  34.1675,2,  34.1670,2,    282.6,2,    17.60,2,    27.27,2,     0.10,2,     2.12,2, -999.000,9, -999.000,9,  3.5128, 7581.9,-999.000
    08EH0492_1,  AR08,     5,  1,      1,      1,2,19920509,2054,-39.3200, -55.2347,  854,    845.4,   3.2997,  34.1790,2,  34.1790,2,    273.9,2,    22.95,2,    30.19,2,     0.19,3,     2.19,2, -999.000,9, -999.000,9,  3.2418, 8473.2,   3.325
    08EH0492_1,  AR08,     6,  1,     12,     12,2,19920510,0729,-39.4753, -54.9253, 1178,      9.8,  18.4649,  35.2431,2,-999.0000,5,    289.2,2,     2.43,2,     0.80,2,     0.09,2,     0.28,2, -999.000,9, -999.000,9, 18.4632,  117.4,-999.000
    08EH0492_1,  AR08,     6,  1,     11,     11,2,19920510,0729,-39.4753, -54.9253, 1178,     21.0,  18.7353,  35.3797,2,  35.2920,4,    282.7,2,     1.82,2,     0.80,2,     0.19,2,     0.35,2, -999.000,9, -999.000,9, 18.7316,  229.3,-999.000
    08EH0492_1,  AR08,     6,  1,     10,     10,2,19920510,0729,-39.4753, -54.9253, 1178,     30.4,  18.7484,  35.3915,2,  35.3880,2,    289.6,2,     4.55,2,     1.13,2,     0.07,2,     0.66,2, -999.000,9, -999.000,9, 18.7431,  323.5,-999.000
    08EH0492_1,  AR08,     6,  1,      9,      9,2,19920510,0729,-39.4753, -54.9253, 1178,     50.9,  15.7600,  35.3081,2,-999.0000,5,   -999.0,5,  -999.00,5,  -999.00,5,  -999.00,5,  -999.00,5, -999.000,9, -999.000,9, 15.7520,  528.1,-999.000
    08EH0492_1,  AR08,     6,  1,      8,      8,2,19920510,0729,-39.4753, -54.9253, 1178,     74.6,  13.0675,  34.9553,2,  34.9530,2,    230.2,2,     4.93,2,     9.41,2,     0.21,2,     1.03,2, -999.000,9, -999.000,9, 13.0572,  765.1,-999.000
    08EH0492_1,  AR08,     6,  1,      7,      7,2,19920510,0729,-39.4753, -54.9253, 1178,    100.7,  13.2319,  35.1783,2,  35.1660,3,    230.7,2,     7.28,2,    15.72,2,     0.07,2,     1.61,2, -999.000,9, -999.000,9, 13.2179, 1026.2,-999.000
    08EH0492_1,  AR08,     6,  1,      6,      6,2,19920510,0729,-39.4753, -54.9253, 1178,    197.5,   9.2125,  34.6814,2,  34.6790,2,   -999.0,5,  -999.00,5,  -999.00,5,  -999.00,5,  -999.00,5, -999.000,9, -999.000,9,  9.1908, 1994.1,-999.000
    08EH0492_1,  AR08,     6,  1,      5,      5,2,19920510,0729,-39.4753, -54.9253, 1178,    298.6,   4.9415,  34.1059,2,  34.1100,3,    209.6,2,    10.69,2,    21.62,2,     0.13,2,     1.98,2, -999.000,9, -999.000,9,  4.9185, 3005.6,-999.000
    08EH0492_1,  AR08,     6,  1,      4,      4,2,19920510,0729,-39.4753, -54.9253, 1178,    397.4,   4.5719,  34.1669,2,  34.1660,2,    209.2,2,    11.31,2,    20.60,2,     0.10,2,     1.93,2, -999.000,9, -999.000,9,  4.5421, 3993.4,-999.000
    08EH0492_1,  AR08,     6,  1,      3,      3,2,19920510,0729,-39.4753, -54.9253, 1178,    497.7,   4.1862,  34.1624,2,  34.1650,2,    217.8,2,    12.44,2,    21.03,2,     0.07,2,     1.85,2, -999.000,9, -999.000,9,  4.1500, 4996.7,-999.000
    08EH0492_1,  AR08,     6,  1,      2,      2,2,19920510,0729,-39.4753, -54.9253, 1178,    598.1,   3.9458,  34.1701,2,  34.2110,4,    276.5,2,    14.86,2,    23.31,2,     0.09,2,     1.89,2, -999.000,9, -999.000,9,  3.9029, 6000.2,-999.000
    08EH0492_1,  AR08,     6,  1,      1,      1,2,19920510,0729,-39.4753, -54.9253, 1178,    722.4,   3.5672,  34.1647,2,  34.1700,2,    282.2,2,    17.29,2,    24.76,2,     0.07,2,     2.08,2, -999.000,9, -999.000,9,  3.5169, 7243.1,-999.000