BOTTLE,20240627CCHHYDRO
EXPOCODE,SECT_ID,STNNBR,CASTNO,SAMPNO,BTLNBR,BTLNBR_FLAG_W,DATE,TIME,LATITUDE,LONGITUDE,DEPTH,CTDPRS,CTDTMP,CTDSAL,CTDSAL_FLAG_W,SALNTY,SALNTY_FLAG_W,CTDOXY,CTDOXY_FLAG_W,OXYGEN,OXYGEN_FLAG_W,SILCAT,SILCAT_FLAG_W,NITRAT,NITRAT_FLAG_W,NITRIT,NITRIT_FLAG_W,PHSPHT,PHSPHT_FLAG_W,CFC-11,CFC-11_FLAG_W,CFC-12,CFC-12_FLAG_W,SF6,SF6_FLAG_W,TCARBN,TCARBN_FLAG_W,ALKALI,ALKALI_FLAG_W,FCO2,FCO2_FLAG_W,PH_TOT,PH_TOT_FLAG_W,PH_TMP,DOC,DOC_FLAG_W,DELC13,DELC13_FLAG_W,TDN,TDN_FLAG_W,N2O,N2O_FLAG_W
,,,,,,,,,,,METERS,DBAR,ITS-90,PSS-78,,PSS-78,,UMOL/KG,,UMOL/KG,,UMOL/KG,,UMOL/KG,,UMOL/KG,,UMOL/KG,,PMOL/KG,,PMOL/KG,,FMOL/KG,,UMOL/KG,,UMOL/KG,,UATM,,,,DEG C,UMOL/KG,,/MILLE,,UMOL/KG,,NMOL/KG,
33RO20230413  ,A16N       ,92      ,  3,920323     ,23         ,2,20230423,1320,  35.9944, -19.9923,     5345,      3.6,  17.7331,  36.0891,2,  36.0882,2,    224.6,2,     -999,9,     1.00,2,     0.00,2,     0.00,2,     0.07,2,     -999,9,     -999,9,     -999,9,   2113.9,2,   2361.8,2,    433.5,2,   7.9318,2,    25.00,     -999,9,      0.8,2,     -999,9,     -999,9
33RO20230413  ,A16N       ,92      ,  3,920322     ,22         ,2,20230423,1320,  35.9944, -19.9923,     5345,     49.0,  16.0892,  35.9867,2,  35.9858,2,    235.0,2,     -999,9,     1.10,2,     1.50,2,     0.34,2,     0.18,2,     -999,9,     -999,9,     -999,9,   2130.1,2,   2361.7,2,    472.7,2,   7.9015,2,    25.00,     -999,9,      0.7,2,     -999,9,     -999,9
33RO20230413  ,A16N       ,92      ,  3,920321     ,21         ,2,20230423,1320,  35.9944, -19.9923,     5345,    100.2,  15.3415,  36.0415,2,  36.0383,2,    223.4,2,     -999,9,     1.90,2,     5.00,2,     0.02,2,     0.34,2,     -999,9,     -999,9,     -999,9,   2139.2,6,   2357.6,2,    506.6,2,   7.8763,2,    25.00,     -999,9,      0.4,2,     -999,9,     -999,9
33RO20230413  ,A16N       ,92      ,  3,920320     ,20         ,2,20230423,1320,  35.9944, -19.9923,     5345,    149.8,  14.9207,  35.9872,2,  35.9879,6,    210.6,2,     -999,9,     1.80,2,     4.60,2,     0.02,2,     0.33,2,     -999,9,     -999,9,     -999,9,   2134.8,2,   2354.2,2,    511.4,2,   7.8707,2,    25.00,     -999,9,      0.5,6,     -999,9,     -999,9
33RO20230413  ,A16N       ,92      ,  3,920319     ,19         ,2,20230423,1320,  35.9944, -19.9923,     5345,    200.2,  14.3969,  35.9060,2,  35.9014,2,    218.5,2,     -999,9,     3.40,2,     9.50,2,     0.02,2,     0.61,2,     -999,9,     -999,9,     -999,9,   2154.5,2,   2343.7,2,    585.8,6,   7.8185,2,    25.00,     -999,9,      0.4,2,     -999,9,     -999,9
33RO20230413  ,A16N       ,92      ,  3,920318     ,18         ,2,20230423,1320,  35.9944, -19.9923,     5345,    300.1,  13.4217,  35.7574,2,  35.7546,2,    199.0,2,     -999,9,     4.00,2,    11.00,2,     0.01,2,     0.72,2,     -999,9,     -999,9,     -999,9,   2160.5,2,   2334.9,2,    631.1,2,   7.7919,2,    25.00,     -999,9,      0.4,2,     -999,9,     -999,9
33RO20230413  ,A16N       ,92      ,  3,920317     ,17         ,2,20230423,1320,  35.9944, -19.9923,     5345,    399.4,  12.4402,  35.6202,2,  35.6196,2,    198.7,2,     -999,9,     6.60,2,    15.30,2,     0.01,2,     0.97,2,     -999,9,     -999,9,     -999,9,   2175.1,2,   2331.2,2,    714.7,2,   7.7444,2,    25.00,     -999,9,      0.4,2,     -999,9,     -999,9
33RO20230413  ,A16N       ,92      ,  3,920316     ,16         ,2,20230423,1320,  35.9944, -19.9923,     5345,    600.8,  11.0801,  35.5200,2,  35.5224,2,    180.1,2,     -999,9,     9.70,2,    17.70,2,     0.01,2,     1.15,2,     -999,9,     -999,9,     -999,9,   2194.2,6,   2343.4,2,    746.5,2,   7.7300,2,    25.00,     -999,9,      0.5,2,     -999,9,     -999,9
33RO20230413  ,A16N       ,92      ,  3,920315     ,15         ,2,20230423,1320,  35.9944, -19.9923,     5345,    800.6,  10.0616,  35.6204,2,  35.6239,2,    165.4,2,     -999,9,    10.40,2,    17.50,2,     0.00,2,     1.13,2,     -999,9,     -999,9,     -999,9,   2203.7,2,   2358.9,2,    734.7,2,   7.7390,2,    25.00,     -999,9,      0.6,2,     -999,9,     -999,9
33RO20230413  ,A16N       ,92      ,  3,920314     ,14         ,2,20230423,1320,  35.9944, -19.9923,     5345,   1000.1,   9.5965,  35.7691,2,  35.7816,2,    169.4,2,     -999,9,    11.20,2,    17.40,2,     0.00,2,     1.14,2,     -999,9,     -999,9,     -999,9,   2202.5,2,   2356.1,6,    733.5,2,   7.7382,6,    25.00,     -999,9,      0.7,2,     -999,9,     -999,9
33RO20230413  ,A16N       ,92      ,  3,920313     ,13         ,2,20230423,1320,  35.9944, -19.9923,     5345,   1200.1,   8.6076,  35.7227,2,  35.7218,2,    181.4,2,     -999,9,    12.30,2,    17.60,2,     0.00,2,     1.17,2,     -999,9,     -999,9,     -999,9,   2193.0,2,   2336.3,2,    751.5,2,   7.7251,2,    25.00,     -999,9,      0.8,2,     -999,9,     -999,9
33RO20230413  ,A16N       ,92      ,  3,920312     ,12         ,2,20230423,1320,  35.9944, -19.9923,     5345,   1450.4,   6.6245,  35.4262,2,  35.4235,2,    203.2,2,     -999,9,    13.60,2,    17.80,2,     0.00,2,     1.19,2,     -999,9,     -999,9,     -999,9,   2181.1,2,   2321.4,2,    759.7,2,   7.7187,2,    25.00,     -999,9,      0.8,2,     -999,9,     -999,9
33RO20230413  ,A16N       ,92      ,  3,920311     ,11         ,2,20230423,1320,  35.9944, -19.9923,     5345,   1701.0,   5.1557,  35.2072,2,  35.2115,2,    218.6,2,     -999,9,    16.30,2,    18.10,2,     0.00,2,     1.22,2,     -999,9,     -999,9,     -999,9,   2174.2,2,   2316.4,2,    758.1,2,   7.7192,2,    25.00,     -999,9,      0.9,2,     -999,9,     -999,9
33RO20230413  ,A16N       ,92      ,  3,920310     ,10         ,2,20230423,1320,  35.9944, -19.9923,     5345,   1950.2,   4.2296,  35.0811,2,  35.0853,2,    225.8,2,     -999,9,    21.30,2,    18.70,2,     0.00,2,     1.27,2,     -999,9,     -999,9,     -999,9,   2176.0,2,   2317.1,2,    753.8,2,   7.7234,2,    25.00,     -999,9,      0.9,2,     -999,9,     -999,9
33RO20230413  ,A16N       ,92      ,  3,920309     ,9          ,2,20230423,1320,  35.9944, -19.9923,     5345,   2249.8,   3.5435,  35.0051,2,  35.0081,2,    226.7,2,     -999,9,    26.30,2,    19.20,2,     0.00,2,     1.32,2,     -999,9,     -999,9,     -999,9,   2179.8,2,   2322.5,6,    753.5,2,   7.7224,6,    25.00,     -999,9,      1.0,2,     -999,9,     -999,9
33RO20230413  ,A16N       ,92      ,  3,920308     ,8          ,2,20230423,1320,  35.9944, -19.9923,     5345,   2550.4,   3.1254,  34.9668,2,  34.9619,2,    224.6,2,     -999,9,    30.50,2,    19.80,2,     0.00,2,     1.36,2,     -999,9,     -999,9,     -999,9,   2185.8,2,   2327.8,2,    757.5,2,   7.7193,2,    25.00,     -999,9,      1.0,2,     -999,9,     -999,9
33RO20230413  ,A16N       ,92      ,  3,920307     ,7          ,2,20230423,1320,  35.9944, -19.9923,     5345,   2851.2,   2.8749,  34.9443,2,  34.9462,2,    222.0,2,     -999,9,    35.10,2,    20.50,2,     0.00,2,     1.42,2,     -999,9,     -999,9,     -999,9,   2191.4,2,   2333.4,2,    759.3,2,   7.7217,2,    25.00,     -999,9,      1.0,2,     -999,9,     -999,9
33RO20230413  ,A16N       ,92      ,  3,920306     ,6          ,2,20230423,1320,  35.9944, -19.9923,     5345,   3149.7,   2.7187,  34.9308,2,  34.9347,2,    218.5,2,     -999,9,    38.90,2,    21.10,2,     0.00,2,     1.46,2,     -999,9,     -999,9,     -999,9,   2194.2,2,   2338.6,2,    759.0,2,   7.7219,2,    25.00,     -999,9,      1.0,2,     -999,9,     -999,9
33RO20230413  ,A16N       ,92      ,  3,920305     ,5          ,2,20230423,1320,  35.9944, -19.9923,     5345,   3450.8,   2.6175,  34.9204,2,  34.9137,2,    215.7,2,     -999,9,    41.70,2,    21.50,2,     0.00,2,     1.49,2,     -999,9,     -999,9,     -999,9,   2197.0,2,   2347.1,3,    759.0,2,   7.7219,2,    25.00,     -999,9,      1.0,2,     -999,9,     -999,9
33RO20230413  ,A16N       ,92      ,  3,920304     ,4          ,2,20230423,1320,  35.9944, -19.9923,     5345,   3749.8,   2.5394,  34.9107,2,  34.9153,2,    214.4,2,     -999,9,    43.60,2,    21.70,2,     0.00,2,     1.51,2,     -999,9,     -999,9,     -999,9,   2198.6,2,   2344.0,2,    759.6,2,   7.7203,2,    25.00,     -999,9,      0.9,2,     -999,9,     -999,9
33RO20230413  ,A16N       ,92      ,  3,920303     ,3          ,2,20230423,1320,  35.9944, -19.9923,     5345,   4001.9,   2.4886,  34.9033,2,  34.9061,6,    213.9,2,     -999,9,    45.70,2,    21.90,2,     0.00,2,     1.52,2,     -999,9,     -999,9,     -999,9,   2201.4,2,   2342.8,2,    761.6,2,   7.7019,3,    25.00,     -999,9,      1.0,2,     -999,9,     -999,9
33RO20230413  ,A16N       ,92      ,  3,920302     ,2          ,2,20230423,1320,  35.9944, -19.9923,     5345,   4349.9,   2.4379,  34.8943,2,  34.8977,2,    213.7,2,     -999,9,    46.20,2,    22.00,2,     0.00,2,     1.52,2,     -999,9,     -999,9,     -999,9,     -999,9,   2344.2,2,    761.4,2,   7.7193,2,    25.00,     -999,9,      1.0,2,     -999,9,     -999,9
33RO20230413  ,A16N       ,92      ,  3,920301     ,1          ,2,20230423,1320,  35.9944, -19.9923,     5345,   5440.1,   2.5136,  34.8874,2,  34.8977,2,    214.6,2,     -999,9,    47.40,2,    22.20,2,     0.00,2,     1.53,2,     -999,9,     -999,9,     -999,9,   2203.1,2,   2348.8,2,    760.7,2,   7.7203,2,    25.00,     -999,9,      1.0,6,     -999,9,     -999,9
33RO20230413  ,A16N       ,93      ,  1,930124     ,24         ,2,20230423,2028,  36.5026, -20.0052,     5170,      3.9,  18.0253,  36.2293,2,  36.2324,2,    222.8,2,    236.5,2,     0.70,2,     0.00,2,     0.01,2,     0.06,2,     -999,9,     -999,9,     -999,9,   2118.3,2,   2376.4,2,    426.1,2,   7.9385,2,    25.00,     -999,9,      0.7,6,     -999,9,     -999,9
33RO20230413  ,A16N       ,93      ,  1,930123     ,23         ,2,20230423,2028,  36.5026, -20.0052,     5170,     60.5,  16.4666,  36.1974,2,  36.2153,2,    229.1,2,    242.8,2,     0.80,2,     0.10,2,     0.02,2,     0.06,2,     -999,9,     -999,9,     -999,9,   2121.3,6,   2375.3,2,    429.3,2,   7.9348,2,    25.00,     -999,9,      0.7,2,     -999,9,     -999,9
33RO20230413  ,A16N       ,93      ,  1,930122     ,22         ,2,20230423,2028,  36.5026, -20.0052,     5170,    109.8,  15.7585,  36.1315,2,  36.1321,2,    216.3,2,    229.2,2,     1.30,2,     2.60,2,     0.03,2,     0.22,2,     -999,9,     -999,9,     -999,9,   2134.2,2,   2369.7,2,    470.4,2,   7.9016,2,    25.00,     -999,9,      0.5,2,     -999,9,     -999,9
33RO20230413  ,A16N       ,93      ,  1,930121     ,21         ,2,20230423,2028,  36.5026, -20.0052,     5170,    164.1,  14.9214,  35.9822,2,  35.9829,2,    218.7,2,    230.8,2,     1.60,2,     4.50,2,     0.01,2,     0.31,2,     -999,9,     -999,9,     -999,9,   2135.3,2,   2356.8,2,    493.8,2,   7.8812,2,    25.00,     -999,9,      0.5,2,     -999,9,     -999,9
33RO20230413  ,A16N       ,93      ,  1,930120     ,20         ,2,20230423,2028,  36.5026, -20.0052,     5170,    210.1,  14.4011,  35.9059,2,  35.9076,2,    209.4,2,    222.0,2,     2.10,2,     6.00,2,     0.01,2,     0.41,2,     -999,9,     -999,9,     -999,9,   2143.3,2,   2355.1,2,    529.5,2,   7.8557,2,    25.00,     -999,9,      0.5,2,     -999,9,     -999,9
33RO20230413  ,A16N       ,93      ,  1,930119     ,19         ,2,20230423,2028,  36.5026, -20.0052,     5170,    326.6,  13.2013,  35.7258,2,  35.7530,2,    198.4,2,    212.2,6,     3.30,2,     9.90,2,     0.01,2,     0.64,2,     -999,9,     -999,9,     -999,9,   2157.1,2,   2342.8,6,    597.2,2,   7.8127,6,    25.00,     -999,9,      0.4,2,     -999,9,     -999,9
33RO20230413  ,A16N       ,93      ,  1,930118     ,18         ,2,20230423,2028,  36.5026, -20.0052,     5170,    490.9,  11.7937,  35.5524,2,  35.5546,2,    193.3,2,    206.3,2,     4.80,2,    12.80,2,     0.01,2,     0.83,2,     -999,9,     -999,9,     -999,9,   2168.1,2,   2332.4,2,    668.7,2,   7.7686,2,    25.00,     -999,9,      0.4,2,     -999,9,     -999,9
33RO20230413  ,A16N       ,93      ,  1,930117     ,17         ,2,20230423,2028,  36.5026, -20.0052,     5170,    649.8,  11.1358,  35.5839,2,  35.5819,2,    174.7,2,    187.7,2,     6.70,2,    15.60,2,     0.00,2,     1.00,2,     -999,9,     -999,9,     -999,9,   2182.9,2,   2337.2,2,    717.8,2,   7.7417,2,    25.00,     -999,9,      0.5,2,     -999,9,     -999,9
33RO20230413  ,A16N       ,93      ,  1,930116     ,16         ,2,20230423,2028,  36.5026, -20.0052,     5170,    786.0,  10.7366,  35.6906,2,  35.7067,2,    166.0,2,    178.7,2,     8.40,2,    16.70,2,     0.00,2,     1.08,2,     -999,9,     -999,9,     -999,9,   2195.9,2,   2346.6,2,    729.8,2,   7.7388,2,    25.00,     -999,9,      0.5,2,     -999,9,     -999,9
33RO20230413  ,A16N       ,93      ,  1,930115     ,15         ,2,20230423,2028,  36.5026, -20.0052,     5170,    949.7,  10.0810,  35.7466,2,  35.7434,2,    166.5,2,    157.4,4,     9.60,2,    17.30,2,     0.00,2,     1.11,2,     -999,9,     -999,9,     -999,9,   2203.3,6,   2356.1,2,    735.6,2,   7.7353,2,    25.00,     -999,9,      0.5,2,     -999,9,     -999,9
33RO20230413  ,A16N       ,93      ,  1,930114     ,14         ,2,20230423,2028,  36.5026, -20.0052,     5170,   1149.6,   8.3494,  35.5686,2,  35.5731,2,    182.9,2,    198.1,2,    10.60,2,    17.70,2,     0.00,2,     1.16,2,     -999,9,     -999,9,     -999,9,   2202.0,2,   2344.3,2,    759.2,2,   7.7232,2,    25.00,     -999,9,      0.6,2,     -999,9,     -999,9
33RO20230413  ,A16N       ,93      ,  1,930113     ,13         ,2,20230423,2028,  36.5026, -20.0052,     5170,   1350.8,   7.4467,  35.5195,2,  35.5246,2,    196.0,2,    213.2,2,    11.00,2,    17.40,2,     0.00,2,     1.15,2,     -999,9,     -999,9,     -999,9,   2201.8,2,   2342.1,6,    754.6,2,   7.7246,6,    25.00,     -999,9,      0.6,2,     -999,9,     -999,9
33RO20230413  ,A16N       ,93      ,  1,930112     ,12         ,2,20230423,2028,  36.5026, -20.0052,     5170,   1593.6,   5.4005,  35.2030,2,  35.2067,2,    220.0,2,    240.0,2,    11.80,2,    17.50,2,     0.00,2,     1.18,2,     -999,9,     -999,9,     -999,9,   2186.4,2,   2322.2,2,    773.3,2,   7.7191,2,    25.00,     -999,9,      0.8,2,     -999,9,     -999,9
33RO20230413  ,A16N       ,93      ,  1,930111     ,11         ,2,20230423,2028,  36.5026, -20.0052,     5170,   1875.2,   4.4933,  35.0975,2,  35.0868,6,    226.5,2,    248.1,2,    14.20,2,    17.90,2,     0.00,2,     1.21,2,     -999,9,     -999,9,     -999,9,   2180.0,2,   2314.8,2,    765.8,2,   7.7194,2,    25.00,     -999,9,      0.9,2,     -999,9,     -999,9
33RO20230413  ,A16N       ,93      ,  1,930110     ,10         ,2,20230423,2028,  36.5026, -20.0052,     5170,   2174.4,   3.8413,  35.0246,2,  35.0321,2,    229.3,2,    252.3,2,    17.20,2,    18.10,2,     0.00,2,     1.23,2,     -999,9,     -999,9,     -999,9,   2177.5,2,   2314.7,2,    758.3,2,   7.7326,2,    25.00,     -999,9,      0.9,2,     -999,9,     -999,9
33RO20230413  ,A16N       ,93      ,  1,930109     ,9          ,2,20230423,2028,  36.5026, -20.0052,     5170,   2474.5,   3.3800,  34.9862,2,  34.9921,2,    226.8,2,    253.1,2,    22.30,2,    18.80,2,     0.00,2,     1.29,2,     -999,9,     -999,9,     -999,9,   2180.2,2,   2319.1,2,    753.6,2,   7.7217,2,    25.00,     -999,9,      1.0,2,     -999,9,     -999,9
33RO20230413  ,A16N       ,93      ,  1,930108     ,8          ,2,20230423,2028,  36.5026, -20.0052,     5170,   2775.1,   3.0321,  34.9562,2,  34.9580,2,    224.1,2,    248.0,2,    27.50,2,    19.40,2,     0.00,2,     1.34,2,     -999,9,     -999,9,     -999,9,   2184.8,2,   2326.4,2,    755.1,6,   7.7221,2,    25.00,     -999,9,      0.9,2,     -999,9,     -999,9
33RO20230413  ,A16N       ,93      ,  1,930107     ,7          ,2,20230423,2028,  36.5026, -20.0052,     5170,   3074.7,   2.8197,  34.9392,2,  34.9551,2,    220.4,2,    246.7,2,    32.40,2,    20.20,2,     0.00,2,     1.39,2,     -999,9,     -999,9,     -999,9,   2191.4,2,   2330.4,2,    757.5,2,   7.7204,2,    25.00,     -999,9,      1.0,2,     -999,9,     -999,9
33RO20230413  ,A16N       ,93      ,  1,930106     ,6          ,2,20230423,2028,  36.5026, -20.0052,     5170,   3375.9,   2.6846,  34.9266,2,  34.9271,2,    217.2,2,    243.9,2,    36.70,2,    20.90,2,     0.00,2,     1.44,2,     -999,9,     -999,9,     -999,9,   2197.6,2,   2335.9,2,    758.3,2,   7.7203,2,    25.00,     -999,9,      0.9,2,     -999,9,     -999,9
33RO20230413  ,A16N       ,93      ,  1,930105     ,5          ,2,20230423,2028,  36.5026, -20.0052,     5170,   3674.5,   2.5997,  34.9167,2,  34.9204,2,    215.4,2,    242.4,2,    39.90,2,    21.30,2,     0.00,2,     1.48,2,     -999,9,     -999,9,     -999,9,   2197.5,2,   2340.1,2,    758.9,2,   7.7224,2,    25.00,     -999,9,      0.9,2,     -999,9,     -999,9
33RO20230413  ,A16N       ,93      ,  1,930104     ,4          ,2,20230423,2028,  36.5026, -20.0052,     5170,   3974.1,   2.5206,  34.9064,2,  34.9065,2,    214.6,2,    242.0,2,    42.60,6,    21.60,6,     0.00,6,     1.50,6,     -999,9,     -999,9,     -999,9,   2198.8,2,   2343.6,2,    759.6,2,   7.7220,2,    25.00,     -999,9,      1.0,2,     -999,9,     -999,9
33RO20230413  ,A16N       ,93      ,  1,930103     ,3          ,2,20230423,2028,  36.5026, -20.0052,     5170,   4273.5,   2.4648,  34.8977,2,  34.9020,2,    214.4,2,    242.1,2,    44.70,6,    21.90,6,     0.00,6,     1.52,6,     -999,9,     -999,9,     -999,9,   2202.1,2,   2344.1,2,    761.2,2,   7.7213,2,    25.00,     -999,9,      0.9,2,     -999,9,     -999,9
33RO20230413  ,A16N       ,93      ,  1,930102     ,2          ,2,20230423,2028,  36.5026, -20.0052,     5170,   4599.1,   2.4311,  34.8905,2,  34.8911,2,    214.3,2,    244.0,2,    46.40,6,    22.00,6,     0.00,6,     1.53,6,     -999,9,     -999,9,     -999,9,   2204.1,6,   2344.8,2,    761.8,2,   7.7200,2,    25.00,     -999,9,      0.9,2,     -999,9,     -999,9
33RO20230413  ,A16N       ,93      ,  1,930101     ,1          ,2,20230423,2028,  36.5026, -20.0052,     5170,   5255.8,   2.4899,  34.8874,2,  34.8933,2,    215.3,2,    241.4,6,    47.20,6,    22.20,6,     0.00,6,     1.54,6,     -999,9,     -999,9,     -999,9,   2205.6,2,   2346.3,2,    759.5,2,   7.7194,2,    25.00,     -999,9,      0.9,6,     -999,9,     -999,9