BOTTLE,20240627CCHHYDRO
EXPOCODE,SECT_ID,STNNBR,CASTNO,SAMPNO,BTLNBR,BTLNBR_FLAG_W,DATE,TIME,LATITUDE,LONGITUDE,DEPTH,CTDPRS,CTDTMP,CTDSAL,CTDSAL_FLAG_W,SALNTY,SALNTY_FLAG_W,CTDOXY,CTDOXY_FLAG_W,OXYGEN,OXYGEN_FLAG_W,SILCAT,SILCAT_FLAG_W,NITRAT,NITRAT_FLAG_W,NITRIT,NITRIT_FLAG_W,PHSPHT,PHSPHT_FLAG_W,CFC-11,CFC-11_FLAG_W,CFC-12,CFC-12_FLAG_W,SF6,SF6_FLAG_W,TCARBN,TCARBN_FLAG_W,ALKALI,ALKALI_FLAG_W,FCO2,FCO2_FLAG_W,PH_TOT,PH_TOT_FLAG_W,PH_TMP,DOC,DOC_FLAG_W,DELC13,DELC13_FLAG_W,TDN,TDN_FLAG_W,N2O,N2O_FLAG_W
,,,,,,,,,,,METERS,DBAR,ITS-90,PSS-78,,PSS-78,,UMOL/KG,,UMOL/KG,,UMOL/KG,,UMOL/KG,,UMOL/KG,,UMOL/KG,,PMOL/KG,,PMOL/KG,,FMOL/KG,,UMOL/KG,,UMOL/KG,,UATM,,,,DEG C,UMOL/KG,,/MILLE,,UMOL/KG,,NMOL/KG,
33RO20230413  ,A16N       ,140     ,  2,1400224    ,24         ,2,20230506,1053,  60.0000, -20.0000,     2750,      4.7,   9.4345,  35.2346,2,  -9.0000,9,    261.4,2,    280.0,2,     5.10,2,    10.50,2,     0.20,2,     0.75,2,     -999,9,     -999,9,     -999,9,   2142.7,6,   2321.4,2,    627.8,2,   7.7904,2,    25.00,     -999,9,      0.7,6,     -999,9,     -999,9
33RO20230413  ,A16N       ,140     ,  2,1400223    ,23         ,2,20230506,1053,  60.0000, -20.0000,     2750,     32.5,   9.4168,  35.2343,2,  35.2381,2,    261.0,2,    279.0,2,     5.10,2,    10.50,2,     0.20,2,     0.76,2,     -999,9,     -999,9,     -999,9,   2142.0,2,   2320.5,2,    629.3,2,   7.7876,2,    25.00,     -999,9,      0.7,2,     -999,9,     -999,9
33RO20230413  ,A16N       ,140     ,  2,1400222    ,22         ,2,20230506,1053,  60.0000, -20.0000,     2750,     57.4,   9.2827,  35.2362,2,  -9.0000,9,    259.8,2,    280.1,2,     5.20,2,    10.70,2,     0.20,2,     0.78,2,     -999,9,     -999,9,     -999,9,   2143.3,2,   2319.2,2,    638.4,2,   7.7822,2,    25.00,     -999,9,      0.6,2,     -999,9,     -999,9
33RO20230413  ,A16N       ,140     ,  2,1400221    ,21         ,2,20230506,1053,  60.0000, -20.0000,     2750,     83.7,   9.2563,  35.2411,2,  35.2541,2,    259.0,2,    275.2,2,     5.20,2,    10.90,2,     0.20,2,     0.78,2,     -999,9,     -999,9,     -999,9,   2144.6,2,   2320.2,2,    639.4,2,   7.7804,2,    25.00,     -999,9,      0.6,2,     -999,9,     -999,9
33RO20230413  ,A16N       ,140     ,  2,1400220    ,20         ,2,20230506,1053,  60.0000, -20.0000,     2750,    108.9,   9.2159,  35.2422,2,  -9.0000,9,    257.4,2,    275.3,6,     5.20,2,    11.00,2,     0.21,2,     0.78,2,     -999,9,     -999,9,     -999,9,   2146.5,2,   2320.6,2,    643.8,2,   7.7780,2,    25.00,     -999,9,      0.6,2,     -999,9,     -999,9
33RO20230413  ,A16N       ,140     ,  2,1400219    ,19         ,2,20230506,1053,  60.0000, -20.0000,     2750,    133.2,   9.1552,  35.2499,2,  35.2646,2,    255.3,2,    275.7,2,     5.20,2,    11.30,2,     0.23,2,     0.80,2,     -999,9,     -999,9,     -999,9,   2148.6,2,   2319.4,2,    649.3,2,   7.7749,2,    25.00,     -999,9,      0.6,2,     -999,9,     -999,9
33RO20230413  ,A16N       ,140     ,  2,1400218    ,18         ,2,20230506,1053,  60.0000, -20.0000,     2750,    157.9,   9.1880,  35.2582,2,  -9.0000,9,    254.6,2,    274.0,2,     5.10,2,    11.30,2,     0.19,2,     0.81,2,     -999,9,     -999,9,     -999,9,   2147.4,2,   2320.0,2,    649.9,2,   7.7757,2,    25.00,     -999,9,      0.7,2,     -999,9,     -999,9
33RO20230413  ,A16N       ,140     ,  2,1400217    ,17         ,2,20230506,1053,  60.0000, -20.0000,     2750,    183.2,   9.1932,  35.2596,2,  35.2855,2,    254.5,2,    272.9,2,     5.20,2,    11.30,2,     0.19,2,     0.80,2,     -999,9,     -999,9,     -999,9,   2148.5,2,   2320.6,6,    649.2,2,   7.7753,6,    25.00,     -999,9,      0.6,2,     -999,9,     -999,9
33RO20230413  ,A16N       ,140     ,  2,1400216    ,16         ,2,20230506,1053,  60.0000, -20.0000,     2750,    217.5,   9.1911,  35.2594,2,  -9.0000,9,    253.5,2,    272.2,2,     5.20,2,    11.60,2,     0.17,2,     0.81,2,     -999,9,     -999,9,     -999,9,   2148.2,2,   2319.9,2,    652.3,2,   7.7736,2,    25.00,     -999,9,      0.6,2,     -999,9,     -999,9
33RO20230413  ,A16N       ,140     ,  2,1400215    ,15         ,2,20230506,1053,  60.0000, -20.0000,     2750,    274.2,   9.1330,  35.2514,2,  35.2637,2,    250.8,2,    269.6,2,     5.30,2,    11.90,2,     0.08,2,     0.83,2,     -999,9,     -999,9,     -999,9,   2148.3,2,   2318.3,2,    658.2,2,   7.7700,2,    25.00,     -999,9,      0.6,2,     -999,9,     -999,9
33RO20230413  ,A16N       ,140     ,  2,1400214    ,14         ,2,20230506,1053,  60.0000, -20.0000,     2750,    349.4,   8.9476,  35.2313,2,  -9.0000,9,    248.4,2,    267.0,2,     5.40,2,    12.50,2,     0.02,2,     0.85,2,     -999,9,     -999,9,     -999,9,   2151.1,2,   2317.2,2,    670.8,6,   7.7635,2,    25.00,     -999,9,      0.5,2,     -999,9,     -999,9
33RO20230413  ,A16N       ,140     ,  2,1400213    ,13         ,2,20230506,1053,  60.0000, -20.0000,     2750,    425.3,   8.7202,  35.1948,2,  35.2026,2,    245.3,2,    264.6,2,     5.90,2,    13.10,2,     0.02,2,     0.89,2,     -999,9,     -999,9,     -999,9,   2154.8,6,   2316.0,2,    686.4,2,   7.7554,2,    25.00,     -999,9,      0.7,2,     -999,9,     -999,9
33RO20230413  ,A16N       ,140     ,  2,1400212    ,12         ,2,20230506,1053,  60.0000, -20.0000,     2750,    499.3,   8.2702,  35.1434,2,  -9.0000,9,    234.3,2,    252.7,2,     6.90,2,    14.50,2,     0.01,2,     0.99,2,     -999,9,     -999,9,     -999,9,   2160.8,2,   2313.5,2,    725.5,2,   7.7330,2,    25.00,     -999,9,      0.6,2,     -999,9,     -999,9
33RO20230413  ,A16N       ,140     ,  2,1400211    ,11         ,2,20230506,1053,  60.0000, -20.0000,     2750,    581.4,   7.9980,  35.1400,2,  35.1452,2,    224.3,2,    241.7,2,     7.80,2,    15.70,2,     0.01,2,     1.06,2,     -999,9,     -999,9,     -999,9,   2168.4,2,   2314.6,2,    755.3,2,   7.7182,2,    25.00,     -999,9,      0.6,2,     -999,9,     -999,9
33RO20230413  ,A16N       ,140     ,  2,1400210    ,10         ,2,20230506,1053,  60.0000, -20.0000,     2750,    682.6,   7.1803,  35.0893,2,  -9.0000,9,    198.7,2,    214.8,2,    10.30,2,    18.50,2,     0.01,2,     1.22,2,     -999,9,     -999,9,     -999,9,   2182.3,2,   2309.7,6,    834.9,2,   7.6804,6,    25.00,     -999,9,      0.6,2,     -999,9,     -999,9
33RO20230413  ,A16N       ,140     ,  2,1400209    ,9          ,2,20230506,1053,  60.0000, -20.0000,     2750,    800.3,   6.2040,  35.0537,2,  35.0643,2,    204.5,2,    221.2,2,    11.00,2,    18.70,2,     0.01,2,     1.25,2,     -999,9,     -999,9,     -999,9,   2184.2,2,   2307.2,2,    856.2,2,   7.6687,2,    25.00,     -999,9,      0.5,2,     -999,9,     -999,9
33RO20230413  ,A16N       ,140     ,  2,1400208    ,8          ,2,20230506,1053,  60.0000, -20.0000,     2750,    949.6,   5.2050,  34.9953,2,  -9.0000,9,    222.8,2,    241.7,2,    10.70,2,    18.20,2,     0.01,2,     1.22,2,     -999,9,     -999,9,     -999,9,   2179.3,2,   2305.0,2,    853.3,2,   7.6691,2,    25.00,     -999,9,      0.6,2,     -999,9,     -999,9
33RO20230413  ,A16N       ,140     ,  2,1400207    ,7          ,2,20230506,1053,  60.0000, -20.0000,     2750,   1100.8,   4.5653,  34.9517,2,  34.9555,2,    234.0,2,    253.5,2,    10.70,2,    18.00,2,     0.01,2,     1.21,2,     -999,9,     -999,9,     -999,9,   2174.6,2,   2301.9,2,    848.9,2,   7.6718,2,    25.00,     -999,9,      0.8,2,     -999,9,     -999,9
33RO20230413  ,A16N       ,140     ,  2,1400206    ,6          ,2,20230506,1053,  60.0000, -20.0000,     2750,   1249.8,   4.1948,  34.9285,2,  -9.0000,9,    242.6,2,    263.6,2,    10.60,2,    17.60,2,     0.01,2,     1.18,2,     -999,9,     -999,9,     -999,9,   2171.8,2,   2300.6,2,    836.4,2,   7.6751,2,    25.00,     -999,9,      0.8,2,     -999,9,     -999,9
33RO20230413  ,A16N       ,140     ,  2,1400205    ,5          ,2,20230506,1053,  60.0000, -20.0000,     2750,   1433.3,   3.9140,  34.9107,2,  34.9166,2,    249.4,2,    272.9,2,    10.60,2,    17.40,2,     0.01,2,     1.17,2,     -999,9,     -999,9,     -999,9,   2168.1,2,   2298.7,2,    825.9,2,   7.6820,2,    25.00,     -999,9,      0.8,2,     -999,9,     -999,9
33RO20230413  ,A16N       ,140     ,  2,1400204    ,4          ,2,20230506,1053,  60.0000, -20.0000,     2750,   1734.1,   3.6494,  34.9011,2,  -9.0000,9,    254.2,2,    277.6,2,    10.70,2,    17.00,2,     0.01,2,     1.15,2,     -999,9,     -999,9,     -999,9,   2165.1,2,   2297.3,2,    810.6,2,   7.6875,2,    25.00,     -999,9,      0.8,2,     -999,9,     -999,9
33RO20230413  ,A16N       ,140     ,  2,1400203    ,3          ,2,20230506,1053,  60.0000, -20.0000,     2750,   2134.0,   3.4859,  34.9317,2,  34.9436,2,    247.1,2,    270.9,2,    12.20,2,    16.90,2,     0.00,2,     1.15,2,     -999,9,     -999,9,     -999,9,   2166.2,2,   2298.8,2,    795.4,2,   7.6956,2,    25.00,     -999,9,      0.9,2,     -999,9,     -999,9
33RO20230413  ,A16N       ,140     ,  2,1400202    ,2          ,2,20230506,1053,  60.0000, -20.0000,     2750,   2533.8,   3.0590,  34.9609,2,  -9.0000,9,    246.7,2,    271.0,2,    13.80,2,    16.30,2,     0.00,2,     1.13,2,     -999,9,     -999,9,     -999,9,   2173.5,2,   2305.2,2,    809.2,2,   7.6888,2,    25.00,     -999,9,      0.8,2,     -999,9,     -999,9
33RO20230413  ,A16N       ,140     ,  2,1400201    ,1          ,2,20230506,1053,  60.0000, -20.0000,     2750,   2752.0,   2.6891,  34.9637,2,  34.9738,6,    249.4,2,    274.6,6,    13.50,2,    15.80,2,     0.01,2,     1.10,2,     -999,9,     -999,9,     -999,9,   2177.8,6,   2306.2,2,    831.8,2,   7.6781,2,    25.00,     -999,9,      0.8,6,     -999,9,     -999,9
33RO20230413  ,A16N       ,141     ,  1,1410124    ,24         ,2,20230506,1631,  60.5000, -20.0000,     2530,      4.1,   9.1416,  35.2151,2,  -9.0000,9,    264.4,2,    282.0,2,     5.40,2,    10.80,2,     0.20,2,     0.76,2,     -999,9,     -999,9,     -999,9,   2150.3,6,   2317.9,2,    630.8,2,   7.7870,2,    25.00,     -999,9,      0.7,6,     -999,9,     -999,9
33RO20230413  ,A16N       ,141     ,  1,1410123    ,23         ,2,20230506,1631,  60.5000, -20.0000,     2530,     20.0,   9.0784,  35.2164,2,  35.2208,2,    264.0,2,    281.1,2,     5.40,2,    10.90,2,     0.20,2,     0.77,2,     -999,9,     -999,9,     -999,9,   2154.9,2,   2315.8,2,    635.5,6,   7.7830,2,    25.00,     -999,9,      0.7,2,     -999,9,     -999,9
33RO20230413  ,A16N       ,141     ,  1,1410122    ,22         ,2,20230506,1631,  60.5000, -20.0000,     2530,     42.0,   8.9527,  35.2134,2,  -9.0000,9,    261.7,2,    278.2,2,     5.40,2,    11.10,2,     0.21,2,     0.78,2,     -999,9,     -999,9,     -999,9,   2154.7,2,   2316.5,2,    644.0,2,   7.7781,2,    25.00,     -999,9,      0.8,2,     -999,9,     -999,9
33RO20230413  ,A16N       ,141     ,  1,1410121    ,21         ,2,20230506,1631,  60.5000, -20.0000,     2530,     67.0,   8.9135,  35.2156,2,  35.2208,2,    259.1,2,    275.4,6,     5.50,2,    11.30,2,     0.22,2,     0.80,2,     -999,9,     -999,9,     -999,9,   2155.2,2,   2316.6,2,    651.5,2,   7.7743,2,    25.00,     -999,9,      0.7,2,     -999,9,     -999,9
33RO20230413  ,A16N       ,141     ,  1,1410120    ,20         ,2,20230506,1631,  60.5000, -20.0000,     2530,     91.7,   8.9116,  35.2151,2,  -9.0000,9,    258.7,2,    276.6,2,     5.50,2,    11.40,2,     0.22,2,     0.80,2,     -999,9,     -999,9,     -999,9,   2155.9,2,   -999.0,9,    652.9,2,   7.7738,2,    25.00,     -999,9,      0.7,2,     -999,9,     -999,9
33RO20230413  ,A16N       ,141     ,  1,1410119    ,19         ,2,20230506,1631,  60.5000, -20.0000,     2530,    116.5,   8.9216,  35.2173,2,  35.2199,2,    258.4,2,    276.3,2,     5.50,2,    11.40,2,     0.22,2,     0.80,2,     -999,9,     -999,9,     -999,9,     -999,9,   2317.5,2,   -999.0,9,   7.7722,2,    25.00,     -999,9,      0.7,2,     -999,9,     -999,9
33RO20230413  ,A16N       ,141     ,  1,1410118    ,18         ,2,20230506,1631,  60.5000, -20.0000,     2530,    141.9,   8.9053,  35.2139,2,  -9.0000,9,    257.9,2,    258.6,3,     5.50,2,    11.40,2,     0.22,2,     0.81,2,     -999,9,     -999,9,     -999,9,   2156.8,2,   -999.0,9,    654.4,2,   7.7727,2,    25.00,     -999,9,      0.6,2,     -999,9,     -999,9
33RO20230413  ,A16N       ,141     ,  1,1410117    ,17         ,2,20230506,1631,  60.5000, -20.0000,     2530,    166.5,   8.8806,  35.2099,2,  35.2237,2,    256.7,2,    275.5,2,     5.50,2,    11.50,2,     0.21,2,     0.81,2,     -999,9,     -999,9,     -999,9,     -999,9,   2316.6,2,   -999.0,9,   7.7715,2,    25.00,     -999,9,      0.7,2,     -999,9,     -999,9
33RO20230413  ,A16N       ,141     ,  1,1410116    ,16         ,2,20230506,1631,  60.5000, -20.0000,     2530,    191.4,   8.8121,  35.2000,2,  -9.0000,9,    254.7,2,    257.3,3,     5.60,2,    12.00,2,     0.17,2,     0.83,2,     -999,9,     -999,9,     -999,9,   2159.0,2,   2315.5,2,    666.6,2,   7.7654,2,    25.00,     -999,9,      0.7,2,     -999,9,     -999,9
33RO20230413  ,A16N       ,141     ,  1,1410115    ,15         ,2,20230506,1631,  60.5000, -20.0000,     2530,    232.5,   8.6011,  35.1700,2,  35.1828,2,    249.2,2,    266.9,2,     5.90,2,    13.00,2,     0.02,2,     0.87,2,     -999,9,     -999,9,     -999,9,   2161.1,2,   2313.9,2,    686.9,2,   7.7547,6,    25.00,     -999,9,      0.6,2,     -999,9,     -999,9
33RO20230413  ,A16N       ,141     ,  1,1410114    ,14         ,2,20230506,1631,  60.5000, -20.0000,     2530,    282.2,   8.5566,  35.1714,2,  -9.0000,9,    246.3,2,    263.6,2,     6.20,2,    13.30,2,     0.02,2,     0.91,2,     -999,9,     -999,9,     -999,9,   2162.4,2,   2314.7,2,    693.4,2,   7.7498,2,    25.00,     -999,9,      0.6,2,     -999,9,     -999,9
33RO20230413  ,A16N       ,141     ,  1,1410113    ,13         ,2,20230506,1631,  60.5000, -20.0000,     2530,    332.5,   8.3844,  35.1537,2,  35.1568,2,    232.5,2,    248.0,2,     7.00,2,    14.60,2,     0.01,2,     0.99,2,     -999,9,     -999,9,     -999,9,   2171.2,2,   2313.1,2,    726.1,2,   7.7335,2,    25.00,     -999,9,      0.6,2,     -999,9,     -999,9
33RO20230413  ,A16N       ,141     ,  1,1410112    ,12         ,2,20230506,1631,  60.5000, -20.0000,     2530,    416.4,   8.0962,  35.1410,2,  -9.0000,9,    237.1,2,    254.8,2,     7.00,2,    14.60,2,     0.01,2,     0.98,2,     -999,9,     -999,9,     -999,9,   2168.3,2,   2311.8,2,    726.3,2,   7.7337,2,    25.00,     -999,9,      0.6,2,     -999,9,     -999,9
33RO20230413  ,A16N       ,141     ,  1,1410111    ,11         ,2,20230506,1631,  60.5000, -20.0000,     2530,    517.5,   7.7218,  35.1161,2,  35.1271,2,    224.3,2,    240.4,2,     8.10,2,    16.00,2,     0.01,2,     1.08,2,     -999,9,     -999,9,     -999,9,   2177.8,2,   2310.9,2,    766.7,2,   7.7129,2,    25.00,     -999,9,      0.6,2,     -999,9,     -999,9
33RO20230413  ,A16N       ,141     ,  1,1410110    ,10         ,2,20230506,1631,  60.5000, -20.0000,     2530,    617.3,   7.0120,  35.0796,2,  -9.0000,9,    201.9,2,    218.2,2,    10.40,2,    18.40,2,     0.01,2,     1.22,2,     -999,9,     -999,9,     -999,9,   2188.4,2,   -999.0,9,    835.5,2,   7.6849,2,    25.00,     -999,9,      0.6,2,     -999,9,     -999,9
33RO20230413  ,A16N       ,141     ,  1,1410109    ,9          ,2,20230506,1631,  60.5000, -20.0000,     2530,    717.1,   6.2032,  35.0360,2,  35.0411,2,    205.4,2,    221.9,2,    10.80,2,    18.70,2,     0.01,2,     1.25,2,     -999,9,     -999,9,     -999,9,     -999,9,   2308.7,2,   -999.0,9,   7.6685,2,    25.00,     -999,9,      0.6,2,     -999,9,     -999,9
33RO20230413  ,A16N       ,141     ,  1,1410108    ,8          ,2,20230506,1631,  60.5000, -20.0000,     2530,    833.6,   5.6581,  35.0263,2,  -9.0000,9,    215.8,2,    234.4,2,    10.70,2,    18.20,2,     0.00,2,     1.22,2,     -999,9,     -999,9,     -999,9,   2187.9,2,   2307.2,2,    850.4,2,   7.6723,6,    25.00,     -999,9,      0.7,2,     -999,9,     -999,9
33RO20230413  ,A16N       ,141     ,  1,1410107    ,7          ,2,20230506,1631,  60.5000, -20.0000,     2530,    968.3,   4.9605,  34.9808,2,  34.9854,2,    226.2,2,    243.9,2,    10.90,2,    18.20,2,     0.00,2,     1.22,2,     -999,9,     -999,9,     -999,9,   2185.2,2,   2303.9,2,    853.8,2,   7.6711,2,    25.00,     -999,9,      0.6,2,     -999,9,     -999,9
33RO20230413  ,A16N       ,141     ,  1,1410106    ,6          ,2,20230506,1631,  60.5000, -20.0000,     2530,   1150.9,   4.4282,  34.9465,2,  -9.0000,9,    237.5,2,    257.2,2,    10.70,2,    17.80,2,     0.00,2,     1.19,2,     -999,9,     -999,9,     -999,9,   2182.5,2,   -999.0,9,    842.7,2,   7.6744,2,    25.00,     -999,9,      0.7,2,     -999,9,     -999,9
33RO20230413  ,A16N       ,141     ,  1,1410105    ,5          ,2,20230506,1631,  60.5000, -20.0000,     2530,   1300.4,   4.1082,  34.9245,2,  34.9291,6,    244.9,2,    265.7,2,    10.60,2,    17.50,2,     0.00,2,     1.18,2,     -999,9,     -999,9,     -999,9,     -999,9,   2299.6,2,   -999.0,9,   7.6793,2,    25.00,     -999,9,      0.7,2,     -999,9,     -999,9
33RO20230413  ,A16N       ,141     ,  1,1410104    ,4          ,2,20230506,1631,  60.5000, -20.0000,     2530,   1514.1,   3.8570,  34.9103,2,  -9.0000,9,    250.4,2,    273.6,2,    10.70,2,    17.10,2,     0.00,2,     1.15,2,     -999,9,     -999,9,     -999,9,   2175.7,2,   2298.2,2,    820.5,2,   7.6852,2,    25.00,     -999,9,      0.8,2,     -999,9,     -999,9
33RO20230413  ,A16N       ,141     ,  1,1410103    ,3          ,2,20230506,1631,  60.5000, -20.0000,     2530,   1866.8,   3.6393,  34.9106,2,  34.9145,2,    251.9,2,    279.3,3,    11.10,2,    16.90,2,     0.00,2,     1.15,2,     -999,9,     -999,9,     -999,9,   2173.2,2,   2299.4,2,    807.0,2,   7.6906,2,    25.00,     -999,9,      0.9,2,     -999,9,     -999,9
33RO20230413  ,A16N       ,141     ,  1,1410102    ,2          ,2,20230506,1631,  60.5000, -20.0000,     2530,   2266.5,   3.3434,  34.9506,2,  -9.0000,9,    246.9,2,    270.2,2,    12.50,2,    16.50,2,     0.00,2,     1.13,2,     -999,9,     -999,9,     -999,9,   2174.3,2,   2302.4,2,    799.5,2,   7.6947,2,    25.00,     -999,9,      0.9,2,     -999,9,     -999,9
33RO20230413  ,A16N       ,141     ,  1,1410101    ,1          ,2,20230506,1631,  60.5000, -20.0000,     2530,   2557.8,   2.6391,  34.9632,2,  34.9675,2,    251.0,2,    274.8,6,    12.80,2,    15.60,2,     0.01,2,     1.08,2,     -999,9,     -999,9,     -999,9,   2184.9,6,   2306.7,2,    832.0,2,   7.6778,2,    25.00,     -999,9,      0.8,6,     -999,9,     -999,9