BOTTLE,20240627CCHHYDRO
EXPOCODE,SECT_ID,STNNBR,CASTNO,SAMPNO,BTLNBR,BTLNBR_FLAG_W,DATE,TIME,LATITUDE,LONGITUDE,DEPTH,CTDPRS,CTDTMP,CTDSAL,CTDSAL_FLAG_W,SALNTY,SALNTY_FLAG_W,CTDOXY,CTDOXY_FLAG_W,OXYGEN,OXYGEN_FLAG_W,SILCAT,SILCAT_FLAG_W,NITRAT,NITRAT_FLAG_W,NITRIT,NITRIT_FLAG_W,PHSPHT,PHSPHT_FLAG_W,CFC-11,CFC-11_FLAG_W,CFC-12,CFC-12_FLAG_W,SF6,SF6_FLAG_W,TCARBN,TCARBN_FLAG_W,ALKALI,ALKALI_FLAG_W,FCO2,FCO2_FLAG_W,PH_TOT,PH_TOT_FLAG_W,PH_TMP,DOC,DOC_FLAG_W,DELC13,DELC13_FLAG_W,TDN,TDN_FLAG_W,N2O,N2O_FLAG_W
,,,,,,,,,,,METERS,DBAR,ITS-90,PSS-78,,PSS-78,,UMOL/KG,,UMOL/KG,,UMOL/KG,,UMOL/KG,,UMOL/KG,,UMOL/KG,,PMOL/KG,,PMOL/KG,,FMOL/KG,,UMOL/KG,,UMOL/KG,,UATM,,,,DEG C,UMOL/KG,,/MILLE,,UMOL/KG,,NMOL/KG,
33RO20230413  ,A16N       ,144     ,  1,1440124    ,24         ,2,20230507,0614,  61.6667, -20.0010,     1060,      5.0,   9.0203,  35.2241,2,  -9.0000,9,    260.9,2,    279.4,6,     5.40,2,    11.10,2,     0.20,2,     0.77,2,     -999,9,     -999,9,     -999,9,   2152.9,6,   -999.0,9,    643.4,2,   7.7774,2,    25.00,     -999,9,      0.7,6,     -999,9,     -999,9
33RO20230413  ,A16N       ,144     ,  1,1440123    ,23         ,2,20230507,0614,  61.6667, -20.0010,     1060,     15.4,   9.0157,  35.2241,2,  35.2359,6,    261.1,2,    279.5,2,     5.30,2,    11.10,2,     0.19,2,     0.78,2,     -999,9,     -999,9,     -999,9,     -999,9,   2318.2,2,    643.8,2,   7.7787,2,    25.00,     -999,9,      0.6,2,     -999,9,     -999,9
33RO20230413  ,A16N       ,144     ,  1,1440122    ,22         ,2,20230507,0614,  61.6667, -20.0010,     1060,     32.1,   8.9876,  35.2239,2,  -9.0000,9,    261.0,2,    278.6,2,     5.30,2,    11.20,2,     0.18,2,     0.79,2,     -999,9,     -999,9,     -999,9,     -999,9,   2318.3,2,   -999.0,9,   7.7783,2,    25.00,     -999,9,      0.7,2,     -999,9,     -999,9
33RO20230413  ,A16N       ,144     ,  1,1440121    ,21         ,2,20230507,0614,  61.6667, -20.0010,     1060,     46.8,   8.9268,  35.2232,2,  35.2304,2,    260.2,2,    277.0,2,     5.40,2,    11.30,2,     0.18,2,     0.80,2,     -999,9,     -999,9,     -999,9,   2153.7,2,   -999.0,9,    649.4,2,   7.7749,2,    25.00,     -999,9,      0.7,2,     -999,9,     -999,9
33RO20230413  ,A16N       ,144     ,  1,1440120    ,20         ,2,20230507,0614,  61.6667, -20.0010,     1060,     67.1,   8.9100,  35.2230,2,  -9.0000,9,    258.8,2,    277.0,2,     5.40,2,    11.40,2,     0.18,2,     0.81,2,     -999,9,     -999,9,     -999,9,     -999,9,   2318.2,2,   -999.0,9,   7.7725,2,    25.00,     -999,9,      0.7,2,     -999,9,     -999,9
33RO20230413  ,A16N       ,144     ,  1,1440119    ,19         ,2,20230507,0614,  61.6667, -20.0010,     1060,     92.4,   8.9082,  35.2233,2,  35.2294,2,    258.7,2,    274.6,2,     5.40,2,    11.40,2,     0.18,2,     0.81,2,     -999,9,     -999,9,     -999,9,     -999,9,   2318.3,2,   -999.0,9,   7.7720,2,    25.00,     -999,9,      0.6,2,     -999,9,     -999,9
33RO20230413  ,A16N       ,144     ,  1,1440118    ,18         ,2,20230507,0614,  61.6667, -20.0010,     1060,    117.1,   8.9060,  35.2241,2,  -9.0000,9,    258.5,2,    276.3,2,     5.40,2,    11.40,2,     0.19,2,     0.80,2,     -999,9,     -999,9,     -999,9,   2154.9,2,   -999.0,9,    653.2,6,   7.7721,2,    25.00,     -999,9,      0.6,2,     -999,9,     -999,9
33RO20230413  ,A16N       ,144     ,  1,1440117    ,17         ,2,20230507,0614,  61.6667, -20.0010,     1060,    142.5,   8.9042,  35.2260,2,  35.2381,2,    258.8,2,    276.9,2,     5.40,2,    11.40,2,     0.21,2,     0.80,2,     -999,9,     -999,9,     -999,9,     -999,9,   2317.9,2,   -999.0,9,   7.7740,6,    25.00,     -999,9,      0.5,2,     -999,9,     -999,9
33RO20230413  ,A16N       ,144     ,  1,1440116    ,16         ,2,20230507,0614,  61.6667, -20.0010,     1060,    167.6,   8.9038,  35.2276,2,  -9.0000,9,    259.3,2,    278.2,2,     5.40,2,    11.20,2,     0.21,2,     0.80,2,     -999,9,     -999,9,     -999,9,   2153.7,2,   -999.0,9,    650.0,2,   7.7736,2,    25.00,     -999,9,      0.7,2,     -999,9,     -999,9
33RO20230413  ,A16N       ,144     ,  1,1440115    ,15         ,2,20230507,0614,  61.6667, -20.0010,     1060,    192.3,   8.8899,  35.2252,2,  35.2353,2,    258.6,2,    288.3,4,     5.40,2,    11.30,2,     0.21,2,     0.81,2,     -999,9,     -999,9,     -999,9,     -999,9,   2318.7,2,    653.8,2,   7.7739,2,    25.00,     -999,9,      0.7,2,     -999,9,     -999,9
33RO20230413  ,A16N       ,144     ,  1,1440114    ,14         ,2,20230507,0614,  61.6667, -20.0010,     1060,    233.4,   8.7147,  35.1981,2,  -9.0000,9,    249.8,2,    267.7,2,     5.90,2,    12.70,2,     0.06,2,     0.86,2,     -999,9,     -999,9,     -999,9,   2159.9,2,   2315.8,2,    681.1,2,   7.7575,2,    25.00,     -999,9,      0.7,2,     -999,9,     -999,9
33RO20230413  ,A16N       ,144     ,  1,1440113    ,13         ,2,20230507,0614,  61.6667, -20.0010,     1060,    284.0,   8.4787,  35.1703,2,  35.1850,2,    241.2,2,    258.4,2,     6.40,2,    13.80,2,     0.02,2,     0.93,2,     -999,9,     -999,9,     -999,9,     -999,9,   2314.9,2,    706.2,2,   7.7418,2,    25.00,     -999,9,      0.7,2,     -999,9,     -999,9
33RO20230413  ,A16N       ,144     ,  1,1440112    ,12         ,2,20230507,0614,  61.6667, -20.0010,     1060,    350.0,   8.1809,  35.1506,2,  -9.0000,9,    235.0,2,    252.1,2,     7.00,2,    14.60,2,     0.01,2,     0.99,2,     -999,9,     -999,9,     -999,9,   2166.6,2,   2312.9,2,    728.3,2,   7.7313,2,    25.00,     -999,9,      0.7,2,     -999,9,     -999,9
33RO20230413  ,A16N       ,144     ,  1,1440111    ,11         ,2,20230507,0614,  61.6667, -20.0010,     1060,    425.8,   8.1762,  35.1843,2,  35.1937,2,    250.2,2,    269.2,2,     6.10,2,    13.50,2,     0.01,2,     0.91,2,     -999,9,     -999,9,     -999,9,     -999,9,   2315.6,2,   -999.0,9,   7.7491,2,    25.00,     -999,9,      0.7,2,     -999,9,     -999,9
33RO20230413  ,A16N       ,144     ,  1,1440110    ,10         ,2,20230507,0614,  61.6667, -20.0010,     1060,    500.0,   8.0079,  35.1707,2,  -9.0000,9,    246.2,2,    265.4,2,     6.40,2,    14.00,2,     0.01,2,     0.94,2,     -999,9,     -999,9,     -999,9,   2165.9,2,   -999.0,9,    713.5,2,   7.7392,2,    25.00,     -999,9,      0.5,2,     -999,9,     -999,9
33RO20230413  ,A16N       ,144     ,  1,1440109    ,9          ,2,20230507,0614,  61.6667, -20.0010,     1060,    575.5,   7.6282,  35.1426,2,  35.1352,2,    237.2,2,    255.3,2,     7.30,2,    14.90,2,     0.01,2,     1.01,2,     -999,9,     -999,9,     -999,9,     -999,9,   2311.8,2,    742.3,2,   7.7225,2,    25.00,     -999,9,      0.6,2,     -999,9,     -999,9
33RO20230413  ,A16N       ,144     ,  1,1440108    ,8          ,2,20230507,0614,  61.6667, -20.0010,     1060,    667.1,   7.0526,  35.1028,2,  -9.0000,9,    221.3,2,    239.1,2,     8.80,2,    16.50,2,     0.00,2,     1.11,2,     -999,9,     -999,9,     -999,9,   2178.9,2,   -999.0,9,    789.8,2,   7.6997,2,    25.00,     -999,9,      0.7,6,     -999,9,     -999,9
33RO20230413  ,A16N       ,144     ,  1,1440107    ,7          ,2,20230507,0614,  61.6667, -20.0010,     1060,    800.5,   6.0639,  35.0496,2,  35.0597,2,    210.2,2,    226.9,2,    10.60,2,    18.40,2,     0.00,2,     1.23,2,     -999,9,     -999,9,     -999,9,   2189.9,2,   2310.0,2,    850.4,2,   7.6723,2,    25.00,     -999,9,      0.6,2,     -999,9,     -999,9
33RO20230413  ,A16N       ,144     ,  1,1440106    ,6          ,2,20230507,0614,  61.6667, -20.0010,     1060,    950.5,   5.1958,  35.0001,2,  -9.0000,9,    224.5,2,    242.7,2,    10.60,2,    18.00,2,     0.00,2,     1.21,2,     -999,9,     -999,9,     -999,9,     -999,9,   2304.4,2,    847.7,2,   7.6702,6,    25.00,     -999,9,      0.6,2,     -999,9,     -999,9
33RO20230413  ,A16N       ,144     ,  1,1440105    ,5          ,2,20230507,0614,  61.6667, -20.0010,     1060,   1133.2,   4.5041,  34.9578,2,  34.9716,2,    242.5,2,    262.6,2,     9.90,2,    16.80,2,     0.00,2,     1.14,2,     -999,9,     -999,9,     -999,9,   2180.8,2,   2301.6,2,    828.5,2,   7.6810,2,    25.00,     -999,9,      0.7,2,     -999,9,     -999,9
33RO20230413  ,A16N       ,144     ,  1,1440104    ,4          ,2,20230507,0614,  61.6667, -20.0010,     1060,   1367.0,   3.9004,  34.9306,2,  -9.0000,9,    252.4,2,    273.9,2,    10.00,6,    16.40,6,     0.00,6,     1.11,6,     -999,9,     -999,9,     -999,9,     -999,9,   2299.6,2,   -999.0,9,   7.6831,2,    25.00,     -999,9,      0.8,2,     -999,9,     -999,9
33RO20230413  ,A16N       ,144     ,  1,1440103    ,3          ,2,20230507,0614,  61.6667, -20.0010,     1060,   1600.1,   3.6356,  34.9711,2,  35.0001,2,    251.1,2,    273.2,2,     9.60,6,    15.60,6,     0.00,6,     1.07,6,     -999,9,     -999,9,     -999,9,   2179.9,2,   -999.0,9,    816.2,2,   7.6866,2,    25.00,     -999,9,      0.7,2,     -999,9,     -999,9
33RO20230413  ,A16N       ,144     ,  1,1440102    ,2          ,2,20230507,0614,  61.6667, -20.0010,     1060,   1801.4,   3.0187,  34.9722,2,  -9.0000,9,    255.5,2,    276.7,2,     9.30,6,    15.10,6,     0.00,6,     1.05,6,     -999,9,     -999,9,     -999,9,     -999,9,   2300.8,2,   -999.0,9,   7.6826,2,    25.00,     -999,9,      0.9,2,     -999,9,     -999,9
33RO20230413  ,A16N       ,144     ,  1,1440101    ,1          ,2,20230507,0614,  61.6667, -20.0010,     1060,   1982.1,   2.5954,  34.9646,2,  34.9712,2,    257.0,2,    279.5,6,    10.00,6,    15.20,6,     0.01,6,     1.05,6,     -999,9,     -999,9,     -999,9,   2180.3,2,   2302.0,2,    826.7,2,   7.6791,2,    25.00,     -999,9,      0.9,6,     -999,9,     -999,9
33RO20230413  ,A16N       ,145     ,  2,1450224    ,24         ,2,20230507,1107,  62.0001, -20.0001,     1711,      4.3,   8.9545,  35.2249,2,  -9.0000,9,    261.8,2,     -999,9,     5.50,2,    11.40,2,     0.15,2,     0.80,2,     -999,9,     -999,9,     -999,9,   2148.7,6,   2317.8,2,    646.3,2,   7.7764,2,    25.00,     -999,9,      0.6,2,     -999,9,     -999,9
33RO20230413  ,A16N       ,145     ,  2,1450223    ,23         ,2,20230507,1107,  62.0001, -20.0001,     1711,     10.6,   8.9229,  35.2252,2,  34.9996,6,    261.8,2,     -999,9,     5.50,2,    11.40,2,     0.15,2,     0.79,2,     -999,9,     -999,9,     -999,9,   2148.2,2,   2317.0,2,    647.8,2,   7.7774,2,    25.00,     -999,9,      0.6,2,     -999,9,     -999,9
33RO20230413  ,A16N       ,145     ,  2,1450222    ,22         ,2,20230507,1107,  62.0001, -20.0001,     1711,     20.1,   8.8874,  35.2256,2,  34.9842,9,    261.4,2,     -999,9,     5.50,2,    11.40,2,     0.15,2,     0.80,2,     -999,9,     -999,9,     -999,9,   2148.8,2,   2317.6,2,    648.1,2,   7.7756,2,    25.00,     -999,9,      0.7,2,     -999,9,     -999,9
33RO20230413  ,A16N       ,145     ,  2,1450221    ,21         ,2,20230507,1107,  62.0001, -20.0001,     1711,     30.5,   8.8831,  35.2256,2,  35.2336,2,    261.0,2,     -999,9,     5.70,2,    11.50,2,     0.14,2,     0.80,2,     -999,9,     -999,9,     -999,9,   2149.9,2,   2316.8,2,    649.5,2,   7.7771,2,    25.00,     -999,9,      0.8,2,     -999,9,     -999,9
33RO20230413  ,A16N       ,145     ,  2,1450220    ,20         ,2,20230507,1107,  62.0001, -20.0001,     1711,     50.3,   8.8656,  35.2267,2,  -9.0000,9,    259.8,2,     -999,9,     5.50,2,    11.60,2,     0.15,2,     0.80,2,     -999,9,     -999,9,     -999,9,   2150.2,2,   2318.1,2,    653.8,2,   7.7525,3,    25.00,     -999,9,      0.6,2,     -999,9,     -999,9
33RO20230413  ,A16N       ,145     ,  2,1450219    ,19         ,2,20230507,1107,  62.0001, -20.0001,     1711,     75.2,   8.8499,  35.2278,2,  35.2371,2,    258.1,2,    270.4,4,     5.50,2,    11.70,2,     0.16,2,     0.81,2,     -999,9,     -999,9,     -999,9,   2152.2,2,   2317.3,2,    656.3,2,   7.7712,6,    25.00,     -999,9,      0.7,2,     -999,9,     -999,9
33RO20230413  ,A16N       ,145     ,  2,1450218    ,18         ,2,20230507,1107,  62.0001, -20.0001,     1711,    100.1,   8.8515,  35.2285,2,  -9.0000,9,    257.7,2,    269.9,4,     5.40,2,    11.70,2,     0.16,2,     0.79,2,     -999,9,     -999,9,     -999,9,   2152.2,2,   2317.1,2,    658.0,2,   7.7712,2,    25.00,     -999,9,      0.7,2,     -999,9,     -999,9
33RO20230413  ,A16N       ,145     ,  2,1450217    ,17         ,2,20230507,1107,  62.0001, -20.0001,     1711,    125.9,   8.8515,  35.2288,2,  35.2304,2,    257.2,2,    270.0,4,     5.40,2,    11.70,2,     0.17,2,     0.80,2,     -999,9,     -999,9,     -999,9,   2151.0,2,   2316.2,2,    657.9,2,   7.7696,2,    25.00,     -999,9,      0.5,2,     -999,9,     -999,9
33RO20230413  ,A16N       ,145     ,  2,1450216    ,16         ,2,20230507,1107,  62.0001, -20.0001,     1711,    175.0,   8.7784,  35.2199,2,  -9.0000,9,    253.4,2,    264.0,4,     5.70,2,    12.30,2,     0.11,2,     0.84,2,     -999,9,     -999,9,     -999,9,   2152.9,2,   2314.5,2,    672.6,2,   7.7636,2,    25.00,     -999,9,      0.6,2,     -999,9,     -999,9
33RO20230413  ,A16N       ,145     ,  2,1450215    ,15         ,2,20230507,1107,  62.0001, -20.0001,     1711,    225.0,   8.5994,  35.2148,2,  35.2462,2,    251.2,2,     -999,9,     5.60,2,    12.70,2,     0.02,2,     0.86,2,     -999,9,     -999,9,     -999,9,   2154.2,2,   2314.5,2,    682.1,2,   7.7566,2,    25.00,     -999,9,      0.6,2,     -999,9,     -999,9
33RO20230413  ,A16N       ,145     ,  2,1450214    ,14         ,2,20230507,1107,  62.0001, -20.0001,     1711,    275.0,   8.4811,  35.2040,2,  -9.0000,9,    250.7,2,     -999,9,     5.80,2,    13.00,2,     0.02,2,     0.87,2,     -999,9,     -999,9,     -999,9,   2153.5,2,   2315.3,2,    687.4,2,   7.7537,2,    25.00,     -999,9,      0.6,2,     -999,9,     -999,9
33RO20230413  ,A16N       ,145     ,  2,1450213    ,13         ,2,20230507,1107,  62.0001, -20.0001,     1711,    318.0,   8.3540,  35.1960,2,  35.2264,2,    251.1,2,     -999,9,     5.90,2,    13.10,2,     0.02,2,     0.88,2,     -999,9,     -999,9,     -999,9,   2155.9,2,   2312.8,3,    690.6,2,   7.7525,2,    25.00,     -999,9,      0.6,2,     -999,9,     -999,9
33RO20230413  ,A16N       ,145     ,  2,1450212    ,12         ,2,20230507,1107,  62.0001, -20.0001,     1711,    366.9,   8.2965,  35.1954,2,  -9.0000,9,    252.6,2,     -999,9,     5.80,2,    13.10,2,     0.02,2,     0.87,2,     -999,9,     -999,9,     -999,9,   2155.4,2,   2315.0,2,    690.0,2,   7.7526,2,    25.00,     -999,9,      0.6,2,     -999,9,     -999,9
33RO20230413  ,A16N       ,145     ,  2,1450211    ,11         ,2,20230507,1107,  62.0001, -20.0001,     1711,    433.4,   8.1978,  35.1867,2,  35.2018,2,    255.3,2,     -999,9,     5.80,2,    13.10,2,     0.03,2,     0.88,2,     -999,9,     -999,9,     -999,9,   2156.8,2,   2314.5,2,    690.4,2,   7.7531,2,    25.00,     -999,9,      0.6,2,     -999,9,     -999,9
33RO20230413  ,A16N       ,145     ,  2,1450210    ,10         ,2,20230507,1107,  62.0001, -20.0001,     1711,    499.7,   8.1913,  35.1899,2,  -9.0000,9,    253.5,2,     -999,9,     -999,9,     -999,9,     -999,9,     -999,9,     -999,9,     -999,9,     -999,9,     -999,9,   -999.0,9,   -999.0,9,-999.0000,9,    25.00,     -999,9,     -999,9,     -999,9,     -999,9
33RO20230413  ,A16N       ,145     ,  2,1450209    ,9          ,2,20230507,1107,  62.0001, -20.0001,     1711,    533.7,   8.1883,  35.1896,2,  35.1961,2,    253.4,2,     -999,9,     5.90,2,    13.10,2,     0.01,2,     0.89,2,     -999,9,     -999,9,     -999,9,   2157.8,2,   2313.6,2,    692.5,2,   7.7510,2,    25.00,     -999,9,      0.6,2,     -999,9,     -999,9
33RO20230413  ,A16N       ,145     ,  2,1450208    ,8          ,2,20230507,1107,  62.0001, -20.0001,     1711,    650.1,   7.9016,  35.1633,2,  -9.0000,9,    244.8,2,     -999,9,     6.70,2,    14.20,2,     0.01,2,     0.95,2,     -999,9,     -999,9,     -999,9,   2157.8,2,   2312.3,2,    720.1,2,   7.7358,2,    25.00,     -999,9,      0.6,2,     -999,9,     -999,9
33RO20230413  ,A16N       ,145     ,  2,1450207    ,7          ,2,20230507,1107,  62.0001, -20.0001,     1711,    832.7,   6.5800,  35.0742,2,  35.1674,2,    223.8,2,     -999,9,     9.20,2,    16.60,2,     0.01,2,     1.10,2,     -999,9,     -999,9,     -999,9,   2176.5,2,   2310.0,6,    801.3,2,   7.6950,6,    25.00,     -999,9,      0.6,6,     -999,9,     -999,9
33RO20230413  ,A16N       ,145     ,  2,1450206    ,6          ,2,20230507,1107,  62.0001, -20.0001,     1711,    999.6,   5.2767,  34.9966,2,  -9.0000,9,    239.8,2,     -999,9,     -999,9,     -999,9,     -999,9,     -999,9,     -999,9,     -999,9,     -999,9,     -999,9,   -999.0,9,   -999.0,9,-999.0000,9,    25.00,     -999,9,     -999,9,     -999,9,     -999,9
33RO20230413  ,A16N       ,145     ,  2,1450205    ,5          ,2,20230507,1107,  62.0001, -20.0001,     1711,    999.7,   5.2748,  34.9966,2,  35.0034,2,    239.4,2,     -999,9,     9.10,2,    16.00,2,     0.01,2,     1.08,2,     -999,9,     -999,9,     -999,9,   2173.5,2,   2303.3,2,    812.5,6,   7.6887,2,    25.00,     -999,9,      0.7,2,     -999,9,     -999,9
33RO20230413  ,A16N       ,145     ,  2,1450204    ,4          ,2,20230507,1107,  62.0001, -20.0001,     1711,   1166.7,   4.3888,  34.9451,2,  -9.0000,9,    239.5,2,     -999,9,    10.60,2,    17.50,2,     0.00,2,     1.17,2,     -999,9,     -999,9,     -999,9,   2174.5,2,   2299.3,2,    839.7,2,   7.6762,2,    25.00,     -999,9,      0.8,2,     -999,9,     -999,9
33RO20230413  ,A16N       ,145     ,  2,1450203    ,3          ,2,20230507,1107,  62.0001, -20.0001,     1711,   1333.0,   3.9060,  34.9191,2,  34.9492,2,    251.3,2,     -999,9,    10.40,2,    16.90,2,     0.00,2,     1.13,2,     -999,9,     -999,9,     -999,9,   2169.7,2,   2298.1,2,    819.9,2,   7.6857,2,    25.00,     -999,9,      0.7,2,     -999,9,     -999,9
33RO20230413  ,A16N       ,145     ,  2,1450202    ,2          ,2,20230507,1107,  62.0001, -20.0001,     1711,   1499.8,   3.7314,  34.9463,2,  34.9492,2,    252.5,2,     -999,9,    10.00,2,    15.90,2,     0.00,2,     1.08,2,     -999,9,     -999,9,     -999,9,   2170.4,2,   2299.5,2,    808.9,2,   7.6893,2,    25.00,     -999,9,      0.8,2,     -999,9,     -999,9
33RO20230413  ,A16N       ,145     ,  2,1450201    ,1          ,2,20230507,1107,  62.0001, -20.0001,     1711,   1813.4,   2.9764,  34.9671,2,  34.9721,2,    255.0,2,     -999,9,    10.00,2,    15.30,2,     0.01,2,     1.05,2,     -999,9,     -999,9,     -999,9,   2173.8,6,   2302.2,2,    820.0,2,   7.6816,2,    25.00,     -999,9,      0.7,6,     -999,9,     -999,9