BOTTLE,20240627CCHHYDRO
EXPOCODE,SECT_ID,STNNBR,CASTNO,SAMPNO,BTLNBR,BTLNBR_FLAG_W,DATE,TIME,LATITUDE,LONGITUDE,DEPTH,CTDPRS,CTDTMP,CTDSAL,CTDSAL_FLAG_W,SALNTY,SALNTY_FLAG_W,CTDOXY,CTDOXY_FLAG_W,OXYGEN,OXYGEN_FLAG_W,SILCAT,SILCAT_FLAG_W,NITRAT,NITRAT_FLAG_W,NITRIT,NITRIT_FLAG_W,PHSPHT,PHSPHT_FLAG_W,CFC-11,CFC-11_FLAG_W,CFC-12,CFC-12_FLAG_W,SF6,SF6_FLAG_W,TCARBN,TCARBN_FLAG_W,ALKALI,ALKALI_FLAG_W,FCO2,FCO2_FLAG_W,PH_TOT,PH_TOT_FLAG_W,PH_TMP,DOC,DOC_FLAG_W,DELC13,DELC13_FLAG_W,TDN,TDN_FLAG_W,N2O,N2O_FLAG_W
,,,,,,,,,,,METERS,DBAR,ITS-90,PSS-78,,PSS-78,,UMOL/KG,,UMOL/KG,,UMOL/KG,,UMOL/KG,,UMOL/KG,,UMOL/KG,,PMOL/KG,,PMOL/KG,,FMOL/KG,,UMOL/KG,,UMOL/KG,,UATM,,,,DEG C,UMOL/KG,,/MILLE,,UMOL/KG,,NMOL/KG,
33RO20230413  ,A16N       ,76      ,  1,760124     ,24         ,2,20230418,0104,  27.9997, -24.5181,     5214,      3.6,  21.7175,  37.2638,2,  37.2676,2,    205.2,2,    218.9,2,     0.50,2,     0.00,2,     0.01,2,     0.05,2,     -999,9,     -999,9,     -999,9,   2132.0,6,   2434.0,2,    371.9,2,   7.9950,2,    25.00,     -999,9,      0.7,2,     -999,9,     -999,9
33RO20230413  ,A16N       ,76      ,  1,760123     ,23         ,2,20230418,0104,  27.9997, -24.5181,     5214,     15.5,  21.7272,  37.2631,2,  37.2677,2,    205.2,2,    216.8,2,     0.50,2,     0.00,2,     0.01,2,     0.04,2,     -999,9,     -999,9,     -999,9,   2132.3,2,   2435.0,6,    371.5,2,   7.9936,6,    25.00,     -999,9,      0.8,2,     -999,9,     -999,9
33RO20230413  ,A16N       ,76      ,  1,760122     ,22         ,2,20230418,0104,  27.9997, -24.5181,     5214,     45.8,  21.7283,  37.2628,2,  37.2606,2,    205.1,2,    219.0,2,     0.50,2,     0.00,2,     0.01,2,     0.06,2,     -999,9,     -999,9,     -999,9,   2129.8,2,   2435.9,2,    372.1,2,   7.9955,2,    25.00,     -999,9,      0.8,2,     -999,9,     -999,9
33RO20230413  ,A16N       ,76      ,  1,760121     ,21         ,2,20230418,0104,  27.9997, -24.5181,     5214,     70.1,  21.5867,  37.2389,2,  37.2351,2,    205.5,2,    218.2,2,     0.50,2,     0.00,2,     0.00,2,     0.06,2,     -999,9,     -999,9,     -999,9,   2129.7,2,   2433.5,2,    372.8,2,   7.9927,2,    25.00,     -999,9,      0.7,2,     -999,9,     -999,9
33RO20230413  ,A16N       ,76      ,  1,760120     ,20         ,2,20230418,0104,  27.9997, -24.5181,     5214,     85.3,  20.7775,  37.1455,2,  37.1427,2,    206.7,2,    219.7,2,     0.50,2,     0.00,2,     0.01,2,     0.06,2,     -999,9,     -999,9,     -999,9,   2130.0,2,   2427.3,2,    379.5,2,   7.9873,2,    25.00,     -999,9,      0.7,2,     -999,9,     -999,9
33RO20230413  ,A16N       ,76      ,  1,760119     ,19         ,2,20230418,0104,  27.9997, -24.5181,     5214,    140.3,  19.6333,  36.9096,2,  36.9110,2,    195.8,2,    209.2,2,     0.70,2,     0.90,2,     0.08,2,     0.10,2,     -999,9,     -999,9,     -999,9,   2135.6,2,   2412.6,2,    414.8,2,   7.9541,2,    25.00,     -999,9,      0.5,2,     -999,9,     -999,9
33RO20230413  ,A16N       ,76      ,  1,760118     ,18         ,2,20230418,0104,  27.9997, -24.5181,     5214,    230.3,  17.0145,  36.3604,2,  36.3603,6,    180.3,2,    194.1,2,     1.90,2,     5.90,2,     0.01,2,     0.38,2,     -999,9,     -999,9,     -999,9,   2145.4,2,   2378.4,2,    491.3,2,   7.8884,2,    25.00,     -999,9,      0.4,2,     -999,9,     -999,9
33RO20230413  ,A16N       ,76      ,  1,760117     ,17         ,2,20230418,0104,  27.9997, -24.5181,     5214,    300.3,  15.7127,  36.1321,2,  36.1341,2,    182.8,2,    195.3,2,     2.60,2,     7.60,2,     0.01,2,     0.49,2,     -999,9,     -999,9,     -999,9,   2149.4,2,   2364.5,2,    527.2,2,   7.8612,2,    25.00,     -999,9,      0.3,2,     -999,9,     -999,9
33RO20230413  ,A16N       ,76      ,  1,760116     ,16         ,2,20230418,0104,  27.9997, -24.5181,     5214,    425.6,  13.7024,  35.8238,2,  35.8244,2,    175.2,2,    188.1,2,     4.10,2,    11.70,2,     0.01,2,     0.74,2,     -999,9,     -999,9,     -999,9,   2164.6,2,   2347.5,2,    615.0,2,   7.8030,2,    25.00,     -999,9,      0.4,2,     -999,9,     -999,9
33RO20230413  ,A16N       ,76      ,  1,760115     ,15         ,2,20230418,0104,  27.9997, -24.5181,     5214,    526.0,  12.4127,  35.6662,2,  35.6656,2,    167.8,2,    180.3,2,     6.30,2,    14.70,2,     0.00,2,     0.93,2,     -999,9,     -999,9,     -999,9,   2168.7,6,   2337.3,2,    677.9,2,   7.7659,2,    25.00,     -999,9,      0.4,2,     -999,9,     -999,9
33RO20230413  ,A16N       ,76      ,  1,760114     ,14         ,2,20230418,0104,  27.9997, -24.5181,     5214,    700.4,  10.6269,  35.5011,2,  35.5076,2,    147.7,2,    155.1,2,     9.90,2,    19.70,2,     0.00,2,     1.26,2,     -999,9,     -999,9,     -999,9,   2188.5,2,   2332.1,2,    778.2,2,   7.7120,2,    25.00,     -999,9,      0.4,2,     -999,9,     -999,9
33RO20230413  ,A16N       ,76      ,  1,760113     ,13         ,2,20230418,0104,  27.9997, -24.5181,     5214,    825.4,   9.1692,  35.3731,2,  35.3842,2,    139.1,2,    153.4,2,    13.80,2,    23.00,2,     0.00,2,     1.49,2,     -999,9,     -999,9,     -999,9,   2198.9,2,   2327.9,2,    846.9,2,   7.6789,2,    25.00,     -999,9,      0.6,2,     -999,9,     -999,9
33RO20230413  ,A16N       ,76      ,  1,760112     ,12         ,2,20230418,0104,  27.9997, -24.5181,     5214,    975.7,   8.0418,  35.3136,2,  35.3179,2,    146.0,2,    158.6,2,    16.00,2,    23.70,2,     0.00,2,     1.57,2,     -999,9,     -999,9,     -999,9,   2201.3,2,   2330.8,2,    858.9,2,   7.6750,2,    25.00,     -999,9,      0.7,2,     -999,9,     -999,9
33RO20230413  ,A16N       ,76      ,  1,760111     ,11         ,2,20230418,0104,  27.9997, -24.5181,     5214,   1165.1,   6.9907,  35.2740,2,  35.2785,2,    162.5,2,    176.7,2,    17.10,2,    22.90,2,     0.00,2,     1.53,2,     -999,9,     -999,9,     -999,9,   2195.4,2,   2329.9,2,    834.3,2,   7.6879,2,    25.00,     -999,9,      0.8,2,     -999,9,     -999,9
33RO20230413  ,A16N       ,76      ,  1,760110     ,10         ,2,20230418,0104,  27.9997, -24.5181,     5214,   1252.3,   6.6130,  35.2454,2,  35.2503,2,    167.6,2,    181.9,2,    17.50,2,    22.70,2,     0.00,2,     1.52,2,     -999,9,     -999,9,     -999,9,   2193.9,2,   2329.1,2,    826.6,6,   7.6883,2,    25.00,     -999,9,      0.8,2,     -999,9,     -999,9
33RO20230413  ,A16N       ,76      ,  1,760109     ,9          ,2,20230418,0104,  27.9997, -24.5181,     5214,   1500.6,   5.8249,  35.2392,2,  35.2458,6,    186.5,2,    209.0,2,    18.10,2,    21.10,2,     0.00,2,     1.41,2,     -999,9,     -999,9,     -999,9,   2188.9,2,   2330.6,2,    784.7,2,   7.7077,2,    25.00,     -999,9,      0.8,2,     -999,9,     -999,9
33RO20230413  ,A16N       ,76      ,  1,760108     ,8          ,2,20230418,0104,  27.9997, -24.5181,     5214,   1800.7,   4.7761,  35.1425,2,  35.1462,2,    199.1,2,    219.6,2,    21.20,2,    20.70,2,     0.00,2,     1.41,2,     -999,9,     -999,9,     -999,9,   2181.1,2,   2328.8,2,    772.8,2,   7.7119,2,    25.00,     -999,9,      0.9,2,     -999,9,     -999,9
33RO20230413  ,A16N       ,76      ,  1,760107     ,7          ,2,20230418,0104,  27.9997, -24.5181,     5214,   2300.8,   3.6521,  35.0278,2,  35.0362,2,    216.0,2,    240.7,2,    24.80,2,    19.80,2,     0.00,2,     1.36,2,     -999,9,     -999,9,     -999,9,   2180.4,2,   2327.7,2,    752.7,2,   7.7231,2,    25.00,     -999,9,      0.9,2,     -999,9,     -999,9
33RO20230413  ,A16N       ,76      ,  1,760106     ,6          ,2,20230418,0104,  27.9997, -24.5181,     5214,   2799.9,   2.9135,  34.9531,2,  34.9553,2,    217.2,2,    243.9,2,    32.90,2,    20.60,2,     0.00,2,     1.42,2,     -999,9,     -999,9,     -999,9,   2185.1,2,   2334.0,2,    755.4,2,   7.7231,2,    25.00,     -999,9,      0.9,2,     -999,9,     -999,9
33RO20230413  ,A16N       ,76      ,  1,760105     ,5          ,2,20230418,0104,  27.9997, -24.5181,     5214,   3350.1,   2.5771,  34.9175,2,  34.9250,2,    215.8,2,    244.2,2,    39.90,2,    21.40,2,     0.00,2,     1.47,2,     -999,9,     -999,9,     -999,9,   2188.9,2,   2339.5,2,   -999.0,9,   7.7220,2,    25.00,     -999,9,      1.0,2,     -999,9,     -999,9
33RO20230413  ,A16N       ,76      ,  1,760104     ,4          ,2,20230418,0104,  27.9997, -24.5181,     5214,   3820.9,   2.4691,  34.9030,2,  34.9058,2,    214.4,2,    244.0,2,    43.60,6,    21.70,6,     0.00,6,     1.50,6,     -999,9,     -999,9,     -999,9,   2193.2,2,   2341.7,2,    759.3,2,   7.7219,2,    25.00,     -999,9,      0.9,2,     -999,9,     -999,9
33RO20230413  ,A16N       ,76      ,  1,760103     ,3          ,2,20230418,0104,  27.9997, -24.5181,     5214,   4350.2,   2.3987,  34.8907,2,  34.8944,2,    213.8,2,    244.0,2,    46.50,6,    22.10,6,     0.00,6,     1.53,6,     -999,9,     -999,9,     -999,9,   2195.8,2,   2345.1,2,    764.1,2,   7.7193,2,    25.00,     -999,9,      0.9,2,     -999,9,     -999,9
33RO20230413  ,A16N       ,76      ,  1,760102     ,2          ,2,20230418,0104,  27.9997, -24.5181,     5214,   4900.5,   2.4021,  34.8840,2,  34.8872,2,    213.8,2,    243.1,6,    48.10,6,    22.20,6,     0.00,6,     1.54,6,     -999,9,     -999,9,     -999,9,   2200.8,2,   2347.6,6,    765.5,2,   7.7198,6,    25.00,     -999,9,      0.9,2,     -999,9,     -999,9
33RO20230413  ,A16N       ,76      ,  1,760101     ,1          ,2,20230418,0104,  27.9997, -24.5181,     5214,   5305.5,   2.4468,  34.8829,2,  34.8858,2,    215.0,2,    243.9,6,    48.40,6,    22.20,6,     0.01,6,     1.54,6,     -999,9,     -999,9,     -999,9,   2202.1,6,   2347.5,2,    764.6,2,   7.7183,2,    25.00,     -999,9,      1.0,2,     -999,9,     -999,9
33RO20230413  ,A16N       ,77      ,  1,770124     ,24         ,2,20230418,0904,  28.5037, -24.2358,     5195,      4.4,  21.5402,  37.2343,2,  37.2368,2,    206.0,2,    220.4,2,     0.60,2,     0.00,2,     0.01,2,     0.07,2,     -999,9,     -999,9,     -999,9,   2127.4,6,   2432.3,2,    373.5,2,   7.9940,2,    25.00,     -999,9,      0.9,2,     -999,9,     -999,9
33RO20230413  ,A16N       ,77      ,  1,770123     ,23         ,2,20230418,0904,  28.5037, -24.2358,     5195,     50.2,  21.5061,  37.2335,2,  37.2410,2,    205.8,2,    219.7,2,     0.50,2,     0.00,2,     0.01,2,     0.06,2,     -999,9,     -999,9,     -999,9,   2126.2,2,   2432.5,2,    373.8,2,   7.9947,2,    25.00,     -999,9,      0.8,2,     -999,9,     -999,9
33RO20230413  ,A16N       ,77      ,  1,770122     ,22         ,2,20230418,0904,  28.5037, -24.2358,     5195,    100.3,  20.4454,  37.0936,2,  37.0912,2,    201.1,2,    215.0,2,     0.70,2,     0.10,2,     0.07,2,     0.10,2,     -999,9,     -999,9,     -999,9,   2132.7,2,   2421.9,2,    395.0,2,   7.9739,2,    25.00,     -999,9,      0.7,2,     -999,9,     -999,9
33RO20230413  ,A16N       ,77      ,  1,770121     ,21         ,2,20230418,0904,  28.5037, -24.2358,     5195,    151.5,  19.1698,  36.8253,2,  36.8168,6,    188.9,2,    200.9,2,     0.90,2,     2.10,2,     0.04,2,     0.19,2,     -999,9,     -999,9,     -999,9,   2140.9,2,   2406.7,2,    438.0,2,   7.9347,2,    25.00,     -999,9,      0.5,2,     -999,9,     -999,9
33RO20230413  ,A16N       ,77      ,  1,770120     ,20         ,2,20230418,0904,  28.5037, -24.2358,     5195,    199.8,  17.9368,  36.5669,2,  36.5661,2,    187.4,2,    201.2,2,     1.30,2,     3.60,2,     0.02,2,     0.26,2,     -999,9,     -999,9,     -999,9,   2140.7,2,   2389.5,2,    462.3,2,   7.9127,2,    25.00,     -999,9,      0.5,2,     -999,9,     -999,9
33RO20230413  ,A16N       ,77      ,  1,770119     ,19         ,2,20230418,0904,  28.5037, -24.2358,     5195,    300.7,  15.5216,  36.0996,2,  36.0974,2,    181.0,2,    194.3,2,     2.60,2,     8.10,2,     0.01,2,     0.53,2,     -999,9,     -999,9,     -999,9,   2148.0,2,   2362.1,2,    537.3,2,   7.8547,2,    25.00,     -999,9,      0.4,2,     -999,9,     -999,9
33RO20230413  ,A16N       ,77      ,  1,770118     ,18         ,2,20230418,0904,  28.5037, -24.2358,     5195,    400.0,  13.9035,  35.8540,2,  35.8574,2,    173.3,2,    186.9,2,     4.10,2,    11.60,2,     0.01,2,     0.74,2,     -999,9,     -999,9,     -999,9,   2156.1,2,   2347.2,6,    612.7,2,   7.8046,6,    25.00,     -999,9,      0.4,2,     -999,9,     -999,9
33RO20230413  ,A16N       ,77      ,  1,770117     ,17         ,2,20230418,0904,  28.5037, -24.2358,     5195,    601.1,  11.6774,  35.5973,2,  35.5992,2,    161.2,2,    175.4,2,     7.00,2,    16.70,2,     0.01,2,     1.05,2,     -999,9,     -999,9,     -999,9,   2172.9,6,   2334.4,2,    719.4,2,   7.7435,2,    25.00,     -999,9,      0.4,2,     -999,9,     -999,9
33RO20230413  ,A16N       ,77      ,  1,770116     ,16         ,2,20230418,0904,  28.5037, -24.2358,     5195,    801.2,   9.8603,  35.4677,2,  35.4684,2,    144.0,2,    156.8,2,    11.90,2,    21.50,2,     0.01,2,     1.39,2,     -999,9,     -999,9,     -999,9,   2187.7,2,   2332.0,2,    813.3,2,   7.6960,2,    25.00,     -999,9,      0.6,6,     -999,9,     -999,9
33RO20230413  ,A16N       ,77      ,  1,770115     ,15         ,2,20230418,0904,  28.5037, -24.2358,     5195,   1001.5,   8.3456,  35.4085,2,  35.4109,2,    152.2,2,    165.3,2,    14.80,2,    22.50,2,     0.00,2,     1.48,2,     -999,9,     -999,9,     -999,9,   2195.0,2,   2335.3,2,    824.6,6,   7.6914,2,    25.00,     -999,9,   -999.0,9,     -999,9,     -999,9
33RO20230413  ,A16N       ,77      ,  1,770114     ,14         ,2,20230418,0904,  28.5037, -24.2358,     5195,   1201.4,   7.1138,  35.3299,2,  35.3263,2,    165.2,2,    179.9,2,    16.60,2,    22.40,2,     0.00,2,     1.50,2,     -999,9,     -999,9,     -999,9,   2192.4,2,   2332.3,2,    816.4,2,   7.6951,2,    25.00,     -999,9,      0.7,2,     -999,9,     -999,9
33RO20230413  ,A16N       ,77      ,  1,770113     ,13         ,2,20230418,0904,  28.5037, -24.2358,     5195,   1451.2,   5.9834,  35.2575,2,  35.2600,2,    183.6,2,    201.6,2,    18.20,2,    21.40,2,     0.00,2,     1.45,2,     -999,9,     -999,9,     -999,9,   2183.5,2,   2330.3,2,    788.1,2,   7.7067,2,    25.00,     -999,9,      0.8,2,     -999,9,     -999,9
33RO20230413  ,A16N       ,77      ,  1,770112     ,12         ,2,20230418,0904,  28.5037, -24.2358,     5195,   1701.0,   5.1880,  35.1979,2,  35.2037,2,    198.4,2,    217.6,2,    19.30,2,    20.40,2,     0.00,2,     1.39,2,     -999,9,     -999,9,     -999,9,   2183.6,2,   2328.6,2,    769.8,2,   7.7148,2,    25.00,     -999,9,      0.9,2,     -999,9,     -999,9
33RO20230413  ,A16N       ,77      ,  1,770111     ,11         ,2,20230418,0904,  28.5037, -24.2358,     5195,   1950.9,   4.4349,  35.1151,2,  35.1237,2,    208.7,2,    230.4,2,    21.00,2,    20.00,2,     0.00,2,     1.38,2,     -999,9,     -999,9,     -999,9,   2178.6,2,   2326.5,2,    759.2,2,   7.7193,2,    25.00,     -999,9,      0.9,2,     -999,9,     -999,9
33RO20230413  ,A16N       ,77      ,  1,770110     ,10         ,2,20230418,0904,  28.5037, -24.2358,     5195,   2251.0,   3.7537,  35.0382,2,  35.0455,2,    216.5,2,    240.9,2,    23.80,2,    19.80,2,     0.00,2,     1.36,2,     -999,9,     -999,9,     -999,9,     -999,9,   2327.2,2,    752.8,2,   7.7224,2,    25.00,     -999,9,      0.9,2,     -999,9,     -999,9
33RO20230413  ,A16N       ,77      ,  1,770109     ,9          ,2,20230418,0904,  28.5037, -24.2358,     5195,   2550.1,   3.1918,  34.9802,2,  34.9836,2,    218.9,2,    243.6,2,    28.80,2,    20.10,2,     0.00,2,     1.40,2,     -999,9,     -999,9,     -999,9,   2176.3,2,   2327.8,2,    752.5,2,   7.7248,2,    25.00,     -999,9,      0.9,2,     -999,9,     -999,9
33RO20230413  ,A16N       ,77      ,  1,770108     ,8          ,2,20230418,0904,  28.5037, -24.2358,     5195,   2851.0,   2.8689,  34.9486,2,  34.9514,2,    218.0,2,    241.8,2,    33.50,2,    20.60,2,     0.00,2,     1.43,2,     -999,9,     -999,9,     -999,9,   2181.8,2,   2334.0,2,    753.5,2,   7.7235,2,    25.00,     -999,9,      1.0,2,     -999,9,     -999,9
33RO20230413  ,A16N       ,77      ,  1,770107     ,7          ,2,20230418,0904,  28.5037, -24.2358,     5195,   3150.6,   2.6663,  34.9281,2,  34.9381,2,    216.5,2,    244.7,2,    37.70,2,    21.20,2,     0.00,2,     1.47,2,     -999,9,     -999,9,     -999,9,   2183.3,2,   2337.7,2,    757.5,2,   7.7237,2,    25.00,     -999,9,      1.0,2,     -999,9,     -999,9
33RO20230413  ,A16N       ,77      ,  1,770106     ,6          ,2,20230418,0904,  28.5037, -24.2358,     5195,   3451.8,   2.5410,  34.9135,2,  34.9175,2,    215.7,2,    244.4,2,    41.30,2,    21.60,2,     0.00,2,     1.50,2,     -999,9,     -999,9,     -999,9,   2188.8,2,   2340.0,2,    757.6,2,   7.7236,2,    25.00,     -999,9,      0.9,2,     -999,9,     -999,9
33RO20230413  ,A16N       ,77      ,  1,770105     ,5          ,2,20230418,0904,  28.5037, -24.2358,     5195,   3750.6,   2.4712,  34.9038,2,  34.8996,2,    215.1,2,    244.4,2,    43.60,2,    21.90,2,     0.00,2,     1.52,2,     -999,9,     -999,9,     -999,9,   2190.7,2,   2341.0,2,    759.5,2,   7.7225,6,    25.00,     -999,9,      0.9,2,     -999,9,     -999,9
33RO20230413  ,A16N       ,77      ,  1,770104     ,4          ,2,20230418,0904,  28.5037, -24.2358,     5195,   4001.7,   2.4369,  34.8980,2,  34.9016,2,    214.7,2,     -999,9,    44.80,2,    22.00,2,     0.00,2,     1.53,2,     -999,9,     -999,9,     -999,9,   2189.5,2,   2342.0,2,    760.7,2,   7.7344,2,    25.00,     -999,9,      1.0,2,     -999,9,     -999,9
33RO20230413  ,A16N       ,77      ,  1,770103     ,3          ,2,20230418,0904,  28.5037, -24.2358,     5195,   4350.5,   2.3972,  34.8904,2,  34.8916,2,    214.4,2,    243.7,6,    46.60,2,    22.20,2,     0.00,2,     1.54,2,     -999,9,     -999,9,     -999,9,   2195.7,2,   2343.7,2,   -999.0,9,   7.7128,2,    25.00,     -999,9,      1.0,2,     -999,9,     -999,9
33RO20230413  ,A16N       ,77      ,  1,770102     ,2          ,2,20230418,0904,  28.5037, -24.2358,     5195,   4500.5,   2.3900,  34.8879,2,  34.8943,6,    214.4,2,    243.2,4,    47.20,2,    22.20,2,     0.00,2,     1.55,2,     -999,9,     -999,9,     -999,9,   2194.3,2,   2344.0,2,    763.5,2,   7.7193,2,    25.00,     -999,9,      0.9,2,     -999,9,     -999,9
33RO20230413  ,A16N       ,77      ,  1,770101     ,1          ,2,20230418,0904,  28.5037, -24.2358,     5195,   5288.7,   2.4504,  34.8833,2,  34.8859,2,    215.6,2,    242.4,6,    48.20,2,    22.30,2,     0.01,2,     1.55,2,     -999,9,     -999,9,     -999,9,   2198.6,6,   2348.9,2,    763.5,2,   7.7195,2,    25.00,     -999,9,      0.9,6,     -999,9,     -999,9