BOTTLE,20240627CCHHYDRO
EXPOCODE,SECT_ID,STNNBR,CASTNO,SAMPNO,BTLNBR,BTLNBR_FLAG_W,DATE,TIME,LATITUDE,LONGITUDE,DEPTH,CTDPRS,CTDTMP,CTDSAL,CTDSAL_FLAG_W,SALNTY,SALNTY_FLAG_W,CTDOXY,CTDOXY_FLAG_W,OXYGEN,OXYGEN_FLAG_W,SILCAT,SILCAT_FLAG_W,NITRAT,NITRAT_FLAG_W,NITRIT,NITRIT_FLAG_W,PHSPHT,PHSPHT_FLAG_W,CFC-11,CFC-11_FLAG_W,CFC-12,CFC-12_FLAG_W,SF6,SF6_FLAG_W,TCARBN,TCARBN_FLAG_W,ALKALI,ALKALI_FLAG_W,FCO2,FCO2_FLAG_W,PH_TOT,PH_TOT_FLAG_W,PH_TMP,DOC,DOC_FLAG_W,DELC13,DELC13_FLAG_W,TDN,TDN_FLAG_W,N2O,N2O_FLAG_W
,,,,,,,,,,,METERS,DBAR,ITS-90,PSS-78,,PSS-78,,UMOL/KG,,UMOL/KG,,UMOL/KG,,UMOL/KG,,UMOL/KG,,UMOL/KG,,PMOL/KG,,PMOL/KG,,FMOL/KG,,UMOL/KG,,UMOL/KG,,UATM,,,,DEG C,UMOL/KG,,/MILLE,,UMOL/KG,,NMOL/KG,
33RO20230413  ,A16N       ,134     ,  1,1340117    ,17         ,2,20230505,0024,  56.9992, -19.9997,      970,      5.6,  10.7875,  35.3405,2,  35.3495,2,    252.7,2,     -999,9,     3.80,2,     8.90,2,     0.18,2,     0.65,2,     -999,9,     -999,9,     -999,9,   2139.9,6,   2325.3,2,    591.2,2,   7.8082,2,    25.00,     -999,9,      0.6,6,     -999,9,     -999,9
33RO20230413  ,A16N       ,134     ,  1,1340116    ,16         ,2,20230505,0024,  56.9992, -19.9997,      970,     11.1,  10.7876,  35.3405,2,  -9.0000,2,    252.2,2,     -999,9,     3.80,2,     8.90,2,     0.18,2,     0.64,2,     -999,9,     -999,9,     -999,9,   2139.0,2,   2324.3,2,    591.8,6,   7.8123,2,    25.00,     -999,9,      0.6,2,     -999,9,     -999,9
33RO20230413  ,A16N       ,134     ,  1,1340115    ,15         ,2,20230505,0024,  56.9992, -19.9997,      970,     18.8,  10.7826,  35.3438,2,  35.3571,2,    252.5,2,     -999,9,     3.90,2,     9.00,2,     0.18,2,     0.65,2,     -999,9,     -999,9,     -999,9,   2138.0,2,   2324.8,6,    592.4,2,   7.8094,6,    25.00,     -999,9,      0.7,2,     -999,9,     -999,9
33RO20230413  ,A16N       ,134     ,  1,1340114    ,14         ,2,20230505,0024,  56.9992, -19.9997,      970,     28.2,  10.7460,  35.3628,2,  -9.0000,9,    252.2,2,     -999,9,     3.90,2,     9.00,2,     0.18,2,     0.65,2,     -999,9,     -999,9,     -999,9,   2139.8,2,   2325.0,2,    593.1,2,   7.8097,2,    25.00,     -999,9,      0.6,2,     -999,9,     -999,9
33RO20230413  ,A16N       ,134     ,  1,1340113    ,13         ,2,20230505,0024,  56.9992, -19.9997,      970,     39.2,  10.6626,  35.3979,2,  35.4257,2,    250.8,2,     -999,9,     3.90,2,     9.30,2,     0.18,2,     0.66,2,     -999,9,     -999,9,     -999,9,   2142.4,2,   2327.2,2,    598.0,2,   7.8049,2,    25.00,     -999,9,      0.7,2,     -999,9,     -999,9
33RO20230413  ,A16N       ,134     ,  1,1340112    ,12         ,2,20230505,0024,  56.9992, -19.9997,      970,     58.5,  10.6346,  35.4076,2,  35.4226,9,    249.5,2,     -999,9,     4.00,2,     9.50,2,     0.19,2,     0.66,2,     -999,9,     -999,9,     -999,9,   2144.2,2,   2328.2,2,    602.2,2,   7.8043,2,    25.00,     -999,9,      0.7,2,     -999,9,     -999,9
33RO20230413  ,A16N       ,134     ,  1,1340111    ,11         ,2,20230505,0024,  56.9992, -19.9997,      970,     82.9,  10.6074,  35.4088,2,  35.4155,2,    248.4,2,     -999,9,     4.00,2,     9.60,2,     0.20,2,     0.67,2,     -999,9,     -999,9,     -999,9,   2144.2,2,   2327.6,6,    605.5,2,   7.8023,6,    25.00,     -999,9,      0.5,2,     -999,9,     -999,9
33RO20230413  ,A16N       ,134     ,  1,1340110    ,10         ,2,20230505,0024,  56.9992, -19.9997,      970,    112.8,  10.5972,  35.4078,2,  -9.0000,2,    248.3,2,     -999,9,     4.10,2,     9.60,2,     0.20,2,     0.67,2,     -999,9,     -999,9,     -999,9,   2145.1,2,   2327.2,2,    606.0,2,   7.8006,2,    25.00,     -999,9,      0.6,2,     -999,9,     -999,9
33RO20230413  ,A16N       ,134     ,  1,1340109    ,9          ,2,20230505,0024,  56.9992, -19.9997,      970,    143.7,  10.5865,  35.4068,2,  35.4240,2,    247.2,2,     -999,9,     4.10,2,     9.80,2,     0.18,2,     0.68,2,     -999,9,     -999,9,     -999,9,   2145.9,2,   2326.8,2,    608.5,2,   7.7990,2,    25.00,     -999,9,      0.6,2,     -999,9,     -999,9
33RO20230413  ,A16N       ,134     ,  1,1340108    ,8          ,2,20230505,0024,  56.9992, -19.9997,      970,    184.7,  10.5500,  35.4070,2,  35.4141,9,    243.7,2,     -999,9,     4.20,2,    10.40,2,     0.08,2,     0.70,2,     -999,9,     -999,9,     -999,9,   2149.3,2,   2327.2,2,    618.0,2,   7.7950,2,    25.00,     -999,9,      0.6,2,     -999,9,     -999,9
33RO20230413  ,A16N       ,134     ,  1,1340107    ,7          ,2,20230505,0024,  56.9992, -19.9997,      970,    333.3,  10.3575,  35.3754,2,  35.3790,2,    240.8,2,     -999,9,     4.50,2,    10.90,2,     0.04,2,     0.74,2,     -999,9,     -999,9,     -999,9,   2152.7,2,   2322.9,2,    631.0,2,   7.7826,2,    25.00,     -999,9,      0.5,2,     -999,9,     -999,9
33RO20230413  ,A16N       ,134     ,  1,1340106    ,6          ,2,20230505,0024,  56.9992, -19.9997,      970,    388.8,  10.2277,  35.3599,2,  -9.0000,2,    235.8,2,     -999,9,     4.90,2,    11.60,2,     0.03,2,     0.78,2,     -999,9,     -999,9,     -999,9,   2154.7,2,   2322.4,2,    645.7,2,   7.7748,2,    25.00,     -999,9,      0.6,2,     -999,9,     -999,9
33RO20230413  ,A16N       ,134     ,  1,1340105    ,5          ,2,20230505,0024,  56.9992, -19.9997,      970,    466.9,   9.9029,  35.3156,2,  35.3126,2,    233.1,2,     -999,9,     5.40,2,    12.30,2,     0.03,2,     0.83,2,     -999,9,     -999,9,     -999,9,   2156.7,2,   2319.1,2,    662.5,2,   7.7656,2,    25.00,     -999,9,      0.5,2,     -999,9,     -999,9
33RO20230413  ,A16N       ,134     ,  1,1340104    ,4          ,2,20230505,0024,  56.9992, -19.9997,      970,    578.2,   9.4523,  35.2639,2,  -9.0000,9,    238.1,2,     -999,9,     5.70,6,    12.70,6,     0.02,6,     0.85,6,     -999,9,     -999,9,     -999,9,   2156.7,2,   2319.1,2,    675.1,2,   7.7610,2,    25.00,     -999,9,      0.6,2,     -999,9,     -999,9
33RO20230413  ,A16N       ,134     ,  1,1340103    ,3          ,2,20230505,0024,  56.9992, -19.9997,      970,    711.6,   8.5470,  35.1764,2,  35.1847,2,    197.5,2,     -999,9,     8.80,6,    17.00,6,     0.00,6,     1.13,6,     -999,9,     -999,9,     -999,9,   2176.9,2,   2314.1,2,    784.7,2,   7.7019,2,    25.00,     -999,9,      0.5,2,     -999,9,     -999,9
33RO20230413  ,A16N       ,134     ,  1,1340102    ,2          ,2,20230505,0024,  56.9992, -19.9997,      970,    843.7,   7.5673,  35.1771,2,  35.1671,9,    189.3,2,     -999,9,    10.50,6,    18.60,6,     0.00,6,     1.22,6,     -999,9,     -999,9,     -999,9,   2188.2,2,   2317.2,2,    829.4,2,   7.6828,2,    25.00,     -999,9,      0.6,2,     -999,9,     -999,9
33RO20230413  ,A16N       ,134     ,  1,1340101    ,1          ,2,20230505,0024,  56.9992, -19.9997,      970,    971.7,   6.0798,  35.0916,2,  35.0975,2,    208.4,2,    227.5,6,    11.20,6,    18.30,6,     0.01,6,     1.22,6,     -999,9,     -999,9,     -999,9,   2186.6,2,   2311.9,2,     -999,9,   7.6733,2,    25.00,     -999,9,      0.7,6,     -999,9,     -999,9
33RO20230413  ,A16N       ,135     ,  1,1350121    ,21         ,2,20230505,0444,  57.5000, -20.0000,     1168,      5.7,  10.5513,  35.2379,2,  35.2664,6,    255.3,2,    271.6,2,     4.20,2,     8.50,2,     0.23,2,     0.63,2,     -999,9,     -999,9,     -999,9,   2137.9,6,   2319.0,2,    589.4,2,   7.8090,2,    25.00,     -999,9,      0.7,6,     -999,9,     -999,9
33RO20230413  ,A16N       ,135     ,  1,1350120    ,20         ,2,20230505,0444,  57.5000, -20.0000,     1168,      7.4,  10.5371,  35.2379,2,  35.2560,2,    255.5,2,    271.7,2,     4.20,2,     8.50,2,     0.22,2,     0.64,2,     -999,9,     -999,9,     -999,9,   2136.0,2,   -999.0,9,    588.9,2,   7.8097,2,    25.00,     -999,9,      0.8,2,     -999,9,     -999,9
33RO20230413  ,A16N       ,135     ,  1,1350119    ,19         ,2,20230505,0444,  57.5000, -20.0000,     1168,     14.3,  10.5350,  35.2382,2,  -9.0000,2,    255.7,2,    275.2,2,     4.30,2,     8.50,2,     0.22,2,     0.63,2,     -999,9,     -999,9,     -999,9,     -999,9,   2319.1,2,   -999.0,9,   7.8103,2,    25.00,     -999,9,      0.8,2,     -999,9,     -999,9
33RO20230413  ,A16N       ,135     ,  1,1350118    ,18         ,2,20230505,0444,  57.5000, -20.0000,     1168,     21.7,  10.5343,  35.2382,2,  35.2590,2,    255.6,2,    274.2,2,     4.30,2,     8.50,2,     0.23,2,     0.63,2,     -999,9,     -999,9,     -999,9,   2138.6,2,   -999.0,9,    590.5,2,   7.8097,2,    25.00,     -999,9,      0.8,2,     -999,9,     -999,9
33RO20230413  ,A16N       ,135     ,  1,1350117    ,17         ,2,20230505,0444,  57.5000, -20.0000,     1168,     31.6,  10.5142,  35.2397,2,  -9.0000,9,    255.3,2,    273.3,2,     4.20,2,     8.50,2,     0.23,2,     0.63,2,     -999,9,     -999,9,     -999,9,     -999,9,   2319.3,6,   -999.0,9,   7.8092,6,    25.00,     -999,9,      0.8,2,     -999,9,     -999,9
33RO20230413  ,A16N       ,135     ,  1,1350116    ,16         ,2,20230505,0444,  57.5000, -20.0000,     1168,     44.7,  10.4264,  35.2459,2,  35.2521,2,    254.4,2,    272.2,2,     4.30,2,     8.60,2,     0.24,2,     0.64,2,     -999,9,     -999,9,     -999,9,   2138.2,2,   -999.0,9,    596.3,2,   7.8051,2,    25.00,     -999,9,      0.7,2,     -999,9,     -999,9
33RO20230413  ,A16N       ,135     ,  1,1350115    ,15         ,2,20230505,0444,  57.5000, -20.0000,     1168,     67.2,  10.2985,  35.2779,2,  -9.0000,9,    249.9,2,    267.2,2,     4.30,2,     9.20,2,     0.29,2,     0.68,2,     -999,9,     -999,9,     -999,9,     -999,9,   2324.5,2,   -999.0,9,   7.7972,2,    25.00,     -999,9,      0.7,2,     -999,9,     -999,9
33RO20230413  ,A16N       ,135     ,  1,1350114    ,14         ,2,20230505,0444,  57.5000, -20.0000,     1168,     91.6,  10.3149,  35.3024,2,  35.3095,2,    246.6,2,    262.9,6,     4.40,2,     9.90,2,     0.23,2,     0.71,2,     -999,9,     -999,9,     -999,9,   2146.0,2,   -999.0,9,    619.1,2,   7.7926,2,    25.00,     -999,9,      0.7,2,     -999,9,     -999,9
33RO20230413  ,A16N       ,135     ,  1,1350113    ,13         ,2,20230505,0444,  57.5000, -20.0000,     1168,    122.5,  10.3513,  35.3323,2,  -9.0000,9,    243.4,2,    261.0,2,     4.40,2,    10.40,2,     0.19,2,     0.72,2,     -999,9,     -999,9,     -999,9,     -999,9,   2323.2,2,   -999.0,9,   7.7904,2,    25.00,     -999,9,      0.7,2,     -999,9,     -999,9
33RO20230413  ,A16N       ,135     ,  1,1350112    ,12         ,2,20230505,0444,  57.5000, -20.0000,     1168,    155.8,  10.4396,  35.3714,2,  35.3837,2,    242.1,2,    259.0,2,     4.30,2,    10.60,2,     0.11,2,     0.71,2,     -999,9,     -999,9,     -999,9,   2153.7,2,   2324.8,2,    624.0,2,   7.7876,2,    25.00,     -999,9,      0.7,2,     -999,9,     -999,9
33RO20230413  ,A16N       ,135     ,  1,1350111    ,11         ,2,20230505,0444,  57.5000, -20.0000,     1168,    199.9,  10.3870,  35.3684,2,  -9.0000,9,    242.6,2,    260.0,2,     4.40,2,    10.70,2,     0.07,2,     0.72,2,     -999,9,     -999,9,     -999,9,   2154.6,2,   -999.0,9,    625.2,2,   7.7887,2,    25.00,     -999,9,      0.6,2,     -999,9,     -999,9
33RO20230413  ,A16N       ,135     ,  1,1350110    ,10         ,2,20230505,0444,  57.5000, -20.0000,     1168,    250.3,  10.3402,  35.3637,2,  35.3793,6,    241.2,2,    258.4,2,     4.50,2,    10.90,2,     0.04,2,     0.73,2,     -999,9,     -999,9,     -999,9,     -999,9,   2325.2,2,   -999.0,9,   7.7855,2,    25.00,     -999,9,      0.6,2,     -999,9,     -999,9
33RO20230413  ,A16N       ,135     ,  1,1350109    ,9          ,2,20230505,0444,  57.5000, -20.0000,     1168,    300.6,  10.3140,  35.3614,2,  -9.0000,9,    242.6,2,    260.2,2,     4.40,2,    10.80,2,     0.04,2,     0.71,2,     -999,9,     -999,9,     -999,9,   2154.0,2,   -999.0,9,    627.5,2,   7.7868,6,    25.00,     -999,9,      0.6,2,     -999,9,     -999,9
33RO20230413  ,A16N       ,135     ,  1,1350108    ,8          ,2,20230505,0444,  57.5000, -20.0000,     1168,    350.0,  10.1544,  35.3346,2,  35.3467,2,    243.6,2,    263.5,2,     4.60,2,    10.80,2,     0.14,2,     0.74,2,     -999,9,     -999,9,     -999,9,     -999,9,   2322.9,2,   -999.0,9,   7.7844,2,    25.00,     -999,9,      0.5,2,     -999,9,     -999,9
33RO20230413  ,A16N       ,135     ,  1,1350107    ,7          ,2,20230505,0444,  57.5000, -20.0000,     1168,    411.3,   9.7684,  35.2773,2,  -9.0000,9,    232.5,2,    249.2,2,     5.60,2,    12.50,2,     0.03,2,     0.84,2,     -999,9,     -999,9,     -999,9,   2160.8,2,   2319.9,2,    668.3,2,   7.7629,2,    25.00,     -999,9,      0.7,2,     -999,9,     -999,9
33RO20230413  ,A16N       ,135     ,  1,1350106    ,6          ,2,20230505,0444,  57.5000, -20.0000,     1168,    500.8,   9.4571,  35.2559,2,  35.2669,2,    232.0,2,    249.7,2,     5.90,2,    13.00,2,     0.01,2,     0.87,2,     -999,9,     -999,9,     -999,9,   2161.8,2,   2318.6,2,    679.2,2,   7.7566,2,    25.00,     -999,9,      0.6,2,     -999,9,     -999,9
33RO20230413  ,A16N       ,135     ,  1,1350105    ,5          ,2,20230505,0444,  57.5000, -20.0000,     1168,    622.2,   8.4045,  35.1602,2,  -9.0000,9,    187.4,2,    202.8,2,     9.60,2,    18.00,2,     0.00,2,     1.17,2,     -999,9,     -999,9,     -999,9,   2183.3,2,   2315.0,2,    811.2,2,   7.6910,2,    25.00,     -999,9,      0.7,6,     -999,9,     -999,9
33RO20230413  ,A16N       ,135     ,  1,1350104    ,4          ,2,20230505,0444,  57.5000, -20.0000,     1168,    756.3,   7.0333,  35.0757,2,  35.0778,2,    193.1,2,    208.1,2,    10.70,6,    18.80,6,     0.00,6,     1.24,6,     -999,9,     -999,9,     -999,9,   2189.9,2,   2310.8,2,    851.1,2,   7.6714,2,    25.00,     -999,9,      0.7,2,     -999,9,     -999,9
33RO20230413  ,A16N       ,135     ,  1,1350103    ,3          ,2,20230505,0444,  57.5000, -20.0000,     1168,    890.5,   6.5696,  35.1496,2,  -9.0000,9,    200.9,2,    217.1,2,    10.90,6,    18.50,6,     0.00,6,     1.21,6,     -999,9,     -999,9,     -999,9,   2189.6,2,   2316.7,2,    833.2,6,   7.6792,2,    25.00,     -999,9,      0.8,2,     -999,9,     -999,9
33RO20230413  ,A16N       ,135     ,  1,1350102    ,2          ,2,20230505,0444,  57.5000, -20.0000,     1168,   1049.9,   5.3452,  35.0385,2,  35.0474,2,    219.0,2,    235.4,2,    12.10,6,    18.10,6,     0.00,6,     1.20,6,     -999,9,     -999,9,     -999,9,   2186.2,2,   2308.3,2,    846.5,2,   7.6729,2,    25.00,     -999,9,      0.7,2,     -999,9,     -999,9
33RO20230413  ,A16N       ,135     ,  1,1350101    ,1          ,2,20230505,0444,  57.5000, -20.0000,     1168,   1168.7,   4.6358,  34.9806,2,  34.9954,9,    231.3,2,    249.1,6,    12.70,6,    17.80,6,     0.01,6,     1.20,6,     -999,9,     -999,9,     -999,9,   2185.2,2,   2307.1,2,    842.8,2,   7.6755,2,    25.00,     -999,9,      0.7,6,     -999,9,     -999,9