BOTTLE,20240627CCHHYDRO
EXPOCODE,SECT_ID,STNNBR,CASTNO,SAMPNO,BTLNBR,BTLNBR_FLAG_W,DATE,TIME,LATITUDE,LONGITUDE,DEPTH,CTDPRS,CTDTMP,CTDSAL,CTDSAL_FLAG_W,SALNTY,SALNTY_FLAG_W,CTDOXY,CTDOXY_FLAG_W,OXYGEN,OXYGEN_FLAG_W,SILCAT,SILCAT_FLAG_W,NITRAT,NITRAT_FLAG_W,NITRIT,NITRIT_FLAG_W,PHSPHT,PHSPHT_FLAG_W,CFC-11,CFC-11_FLAG_W,CFC-12,CFC-12_FLAG_W,SF6,SF6_FLAG_W,TCARBN,TCARBN_FLAG_W,ALKALI,ALKALI_FLAG_W,FCO2,FCO2_FLAG_W,PH_TOT,PH_TOT_FLAG_W,PH_TMP,DOC,DOC_FLAG_W,DELC13,DELC13_FLAG_W,TDN,TDN_FLAG_W,N2O,N2O_FLAG_W
,,,,,,,,,,,METERS,DBAR,ITS-90,PSS-78,,PSS-78,,UMOL/KG,,UMOL/KG,,UMOL/KG,,UMOL/KG,,UMOL/KG,,UMOL/KG,,PMOL/KG,,PMOL/KG,,FMOL/KG,,UMOL/KG,,UMOL/KG,,UATM,,,,DEG C,UMOL/KG,,/MILLE,,UMOL/KG,,NMOL/KG,
33RO20230413  ,A16N       ,148     ,  1,1480119    ,19         ,2,20230507,2303,  63.0000, -20.0000,     1010,      4.7,   8.1654,  35.1538,2,  35.1585,9,    273.3,2,    284.7,2,     5.00,2,    11.20,2,     0.18,2,     0.78,2,     -999,9,     -999,9,     -999,9,   2145.3,2,   2314.3,2,    641.2,2,   7.7800,2,    25.00,     -999,9,      0.7,6,     -999,9,     -999,9
33RO20230413  ,A16N       ,148     ,  1,1480118    ,18         ,2,20230507,2303,  63.0000, -20.0000,     1010,     16.5,   8.1068,  35.1559,2,  -9.0000,2,    270.8,2,    281.9,2,     5.30,2,    11.50,2,     0.17,2,     0.79,2,     -999,9,     -999,9,     -999,9,   2148.7,2,   2314.9,2,    652.9,2,   7.7732,6,    25.00,     -999,9,      0.6,2,     -999,9,     -999,9
33RO20230413  ,A16N       ,148     ,  1,1480117    ,17         ,2,20230507,2303,  63.0000, -20.0000,     1010,     25.3,   8.0759,  35.1547,2,  35.1581,9,    270.5,2,    281.2,2,     5.30,2,    11.50,2,     0.18,2,     0.79,2,     -999,9,     -999,9,     -999,9,   2148.8,2,   -999.0,9,    654.3,2,   7.7726,2,    25.00,     -999,9,      0.7,2,     -999,9,     -999,9
33RO20230413  ,A16N       ,148     ,  1,1480116    ,16         ,2,20230507,2303,  63.0000, -20.0000,     1010,     32.8,   8.0521,  35.1530,2,  -9.0000,2,    270.6,2,    282.1,2,     5.40,2,    11.50,2,     0.18,2,     0.79,2,     -999,9,     -999,9,     -999,9,     -999,9,   2313.7,2,   -999.0,9,   7.7712,2,    25.00,     -999,9,      0.7,2,     -999,9,     -999,9
33RO20230413  ,A16N       ,148     ,  1,1480115    ,15         ,2,20230507,2303,  63.0000, -20.0000,     1010,     50.3,   8.0275,  35.1611,2,  35.1678,9,    267.1,2,    277.7,2,     5.90,2,    11.90,2,     0.20,2,     0.82,2,     -999,9,     -999,9,     -999,9,   2153.9,2,   2315.2,2,    666.8,2,   7.7659,2,    25.00,     -999,9,      0.6,2,     -999,9,     -999,9
33RO20230413  ,A16N       ,148     ,  1,1480114    ,14         ,2,20230507,2303,  63.0000, -20.0000,     1010,     75.3,   7.9019,  35.1473,2,  -9.0000,2,    268.7,2,    279.0,2,     5.80,2,    11.90,2,     0.21,2,     0.81,2,     -999,9,     -999,9,     -999,9,     -999,9,   2312.7,2,   -999.0,9,   7.7654,2,    25.00,     -999,9,      0.7,2,     -999,9,     -999,9
33RO20230413  ,A16N       ,148     ,  1,1480113    ,13         ,2,20230507,2303,  63.0000, -20.0000,     1010,    100.3,   7.7854,  35.1517,2,  35.1565,9,    254.8,2,    265.5,2,     6.50,2,    13.70,2,     0.08,2,     0.92,2,     -999,9,     -999,9,     -999,9,   2161.7,2,   2312.4,2,    709.8,2,   7.7425,2,    25.00,     -999,9,      0.6,2,     -999,9,     -999,9
33RO20230413  ,A16N       ,148     ,  1,1480112    ,12         ,2,20230507,2303,  63.0000, -20.0000,     1010,    132.7,   7.6610,  35.1468,2,  -9.0000,6,    251.3,2,    262.0,2,     6.70,2,    14.00,2,     0.05,2,     0.94,2,     -999,9,     -999,9,     -999,9,   2163.7,2,   -999.0,9,    719.0,2,   7.7373,2,    25.00,     -999,9,      0.6,2,     -999,9,     -999,9
33RO20230413  ,A16N       ,148     ,  1,1480111    ,11         ,2,20230507,2303,  63.0000, -20.0000,     1010,    167.2,   7.5301,  35.1394,2,  35.1458,2,    249.4,2,    260.3,2,     7.00,2,    14.30,2,     0.04,2,     0.96,2,     -999,9,     -999,9,     -999,9,   2164.4,2,   2312.9,2,    726.4,2,   7.7329,6,    25.00,     -999,9,      0.5,2,     -999,9,     -999,9
33RO20230413  ,A16N       ,148     ,  1,1480110    ,10         ,2,20230507,2303,  63.0000, -20.0000,     1010,    217.6,   7.3610,  35.1288,2,  -9.0000,9,    240.5,2,    250.8,2,     7.60,6,    14.90,6,     0.02,6,     1.01,6,     -999,9,     -999,9,     -999,9,     -999,9,   2312.5,2,   -999.0,9,   7.7233,2,    25.00,     -999,9,      0.6,2,     -999,9,     -999,9
33RO20230413  ,A16N       ,148     ,  1,1480109    ,9          ,2,20230507,2303,  63.0000, -20.0000,     1010,    266.5,   7.2099,  35.1181,2,  35.1244,2,    236.6,2,    247.0,2,     7.90,6,    15.30,6,     0.02,6,     1.03,6,     -999,9,     -999,9,     -999,9,   2169.9,2,   -999.0,9,    759.5,2,   7.7157,2,    25.00,     -999,9,      0.7,2,     -999,9,     -999,9
33RO20230413  ,A16N       ,148     ,  1,1480108    ,8          ,2,20230507,2303,  63.0000, -20.0000,     1010,    318.1,   7.0262,  35.1079,2,  -9.0000,9,    237.7,2,    249.1,2,     8.00,6,    15.20,6,     0.03,6,     1.04,6,     -999,9,     -999,9,     -999,9,     -999,9,   2310.0,2,   -999.0,9,   7.7142,2,    25.00,     -999,9,      0.6,2,     -999,9,     -999,9
33RO20230413  ,A16N       ,148     ,  1,1480107    ,7          ,2,20230507,2303,  63.0000, -20.0000,     1010,    367.2,   6.8344,  35.0940,2,  35.1004,2,    235.8,2,    247.2,2,     8.30,6,    15.50,6,     0.03,6,     1.05,6,     -999,9,     -999,9,     -999,9,   2172.3,2,   -999.0,9,    771.7,6,   7.7098,2,    25.00,     -999,9,      0.6,2,     -999,9,     -999,9
33RO20230413  ,A16N       ,148     ,  1,1480106    ,6          ,2,20230507,2303,  63.0000, -20.0000,     1010,    433.2,   6.3734,  35.0639,2,  -9.0000,9,    237.2,2,    248.8,2,     8.50,6,    15.70,6,     0.02,6,     1.07,6,     -999,9,     -999,9,     -999,9,   2174.1,2,   2309.0,2,    784.8,2,   7.7033,2,    25.00,     -999,9,      0.6,2,     -999,9,     -999,9
33RO20230413  ,A16N       ,148     ,  1,1480105    ,5          ,2,20230507,2303,  63.0000, -20.0000,     1010,    533.1,   6.0009,  35.0433,2,  35.0504,2,    230.5,2,    241.8,6,     9.20,6,    16.40,6,     0.01,6,     1.10,6,     -999,9,     -999,9,     -999,9,   2178.4,2,   2307.8,2,    808.8,2,   7.6921,2,    25.00,     -999,9,      0.7,2,     -999,9,     -999,9
33RO20230413  ,A16N       ,148     ,  1,1480104    ,4          ,2,20230507,2303,  63.0000, -20.0000,     1010,    667.2,   5.4899,  35.0107,2,  35.0160,9,    241.6,2,    253.2,2,     8.80,6,    15.60,6,     0.01,6,     1.07,6,     -999,9,     -999,9,     -999,9,   2175.8,2,   2306.1,2,    803.4,2,   7.6924,2,    25.00,     -999,9,      0.6,2,     -999,9,     -999,9
33RO20230413  ,A16N       ,148     ,  1,1480103    ,3          ,2,20230507,2303,  63.0000, -20.0000,     1010,    800.6,   5.0968,  34.9879,2,  34.9971,2,    246.6,2,    259.7,2,     8.70,6,    15.40,6,     0.01,6,     1.06,6,     -999,9,     -999,9,     -999,9,   2174.9,2,   2303.3,2,    806.0,2,   7.6923,2,    25.00,     -999,9,      0.7,2,     -999,9,     -999,9
33RO20230413  ,A16N       ,148     ,  1,1480102    ,2          ,2,20230507,2303,  63.0000, -20.0000,     1010,    932.8,   4.5047,  34.9582,2,  34.9621,9,    252.4,2,    266.2,2,     8.70,6,    15.20,6,     0.01,6,     1.04,6,     -999,9,     -999,9,     -999,9,   2174.3,2,   2302.1,2,    811.6,2,   7.6890,2,    25.00,     -999,9,      0.8,2,     -999,9,     -999,9
33RO20230413  ,A16N       ,148     ,  1,1480101    ,1          ,2,20230507,2303,  63.0000, -20.0000,     1010,   1019.8,   4.3444,  34.9501,2,  34.9608,2,    254.1,2,    267.4,6,     8.80,6,    15.20,6,     0.01,6,     1.04,6,     -999,9,     -999,9,     -999,9,   2175.0,2,   2301.0,2,    811.9,2,   7.6897,2,    25.00,     -999,9,      0.8,6,     -999,9,     -999,9
33RO20230413  ,A16N       ,149     ,  1,1490116    ,16         ,2,20230508,0121,  63.2140, -20.0000,      550,      4.6,   8.2760,  35.1691,2,  -9.0000,9,    271.1,2,    281.7,2,     5.30,2,    11.30,2,     0.18,2,     0.78,2,     -999,9,     -999,9,     -999,9,   2146.3,2,   2316.6,2,    645.4,6,   7.7784,2,    25.00,     -999,9,      0.7,6,     -999,9,     -999,9
33RO20230413  ,A16N       ,149     ,  1,1490115    ,15         ,2,20230508,0121,  63.2140, -20.0000,      550,     10.1,   8.2765,  35.1690,2,  -9.0000,9,    271.0,2,    274.7,4,     5.30,2,    11.30,2,     0.18,2,     0.79,2,     -999,9,     -999,9,     -999,9,   2148.0,2,   2315.1,2,    644.6,2,   7.7781,2,    25.00,     -999,9,      0.7,2,     -999,9,     -999,9
33RO20230413  ,A16N       ,149     ,  1,1490114    ,14         ,2,20230508,0121,  63.2140, -20.0000,      550,     20.1,   8.2751,  35.1692,2,  -9.0000,9,    270.7,2,    294.2,4,     5.30,2,    11.30,2,     0.18,2,     0.79,2,     -999,9,     -999,9,     -999,9,   2146.2,2,   2315.7,2,    645.5,2,   7.7787,2,    25.00,     -999,9,      0.8,2,     -999,9,     -999,9
33RO20230413  ,A16N       ,149     ,  1,1490113    ,13         ,2,20230508,0121,  63.2140, -20.0000,      550,     30.6,   8.2592,  35.1704,2,  -9.0000,9,    269.7,2,    282.1,2,     5.40,2,    11.40,2,     0.18,2,     0.79,2,     -999,9,     -999,9,     -999,9,     -999,9,   2314.2,2,   -999.0,9,   7.7734,6,    25.00,     -999,9,      0.7,2,     -999,9,     -999,9
33RO20230413  ,A16N       ,149     ,  1,1490112    ,12         ,2,20230508,0121,  63.2140, -20.0000,      550,     46.9,   8.1722,  35.1704,2,  35.1783,2,    268.6,2,    279.8,2,     5.60,2,    11.50,2,     0.18,2,     0.80,2,     -999,9,     -999,9,     -999,9,   2150.9,2,   -999.0,9,    656.5,2,   7.7724,2,    25.00,     -999,9,      0.7,2,     -999,9,     -999,9
33RO20230413  ,A16N       ,149     ,  1,1490111    ,11         ,2,20230508,0121,  63.2140, -20.0000,      550,     67.2,   8.1632,  35.1738,2,  -9.0000,9,    266.7,2,    277.6,2,     5.80,2,    11.70,2,     0.19,2,     0.82,2,     -999,9,     -999,9,     -999,9,   2153.0,2,   2314.2,2,    662.1,2,   7.7669,2,    25.00,     -999,9,      0.7,2,     -999,9,     -999,9
33RO20230413  ,A16N       ,149     ,  1,1490110    ,10         ,2,20230508,0121,  63.2140, -20.0000,      550,     92.7,   8.0826,  35.1734,2,  -9.0000,9,    261.1,2,    272.0,2,     6.10,2,    12.50,2,     0.17,2,     0.85,2,     -999,9,     -999,9,     -999,9,   2155.6,2,   2313.9,2,    680.6,2,   7.7554,2,    25.00,     -999,9,      0.7,2,     -999,9,     -999,9
33RO20230413  ,A16N       ,149     ,  1,1490109    ,9          ,2,20230508,0121,  63.2140, -20.0000,      550,    117.6,   7.9776,  35.1687,2,  35.1755,2,    255.3,2,    266.7,2,     6.30,2,    13.30,2,     0.08,2,     0.90,2,     -999,9,     -999,9,     -999,9,     -999,9,   2312.8,2,   -999.0,9,   7.7465,6,    25.00,     -999,9,      0.6,2,     -999,9,     -999,9
33RO20230413  ,A16N       ,149     ,  1,1490108    ,8          ,2,20230508,0121,  63.2140, -20.0000,      550,    144.4,   7.9012,  35.1656,2,  -9.0000,9,    252.9,2,    263.9,2,     6.40,2,    13.60,2,     0.04,2,     0.91,2,     -999,9,     -999,9,     -999,9,   2159.4,2,   -999.0,9,    708.1,2,   7.7414,2,    25.00,     -999,9,      0.6,2,     -999,9,     -999,9
33RO20230413  ,A16N       ,149     ,  1,1490107    ,7          ,2,20230508,0121,  63.2140, -20.0000,      550,    183.3,   7.7909,  35.1583,2,  35.1690,2,    250.9,2,    262.0,2,     6.60,2,    13.80,2,     0.04,2,     0.93,2,     -999,9,     -999,9,     -999,9,   2163.5,2,   2312.8,2,    714.6,2,   7.7389,2,    25.00,     -999,9,      0.6,2,     -999,9,     -999,9
33RO20230413  ,A16N       ,149     ,  1,1490106    ,6          ,2,20230508,0121,  63.2140, -20.0000,      550,    233.3,   7.6392,  35.1489,2,  -9.0000,9,    246.7,2,    257.8,6,     6.90,2,    14.30,2,     0.03,2,     0.96,2,     -999,9,     -999,9,     -999,9,   2166.3,2,   2309.4,3,    727.1,2,   7.7325,2,    25.00,     -999,9,      0.6,2,     -999,9,     -999,9
33RO20230413  ,A16N       ,149     ,  1,1490105    ,5          ,2,20230508,0121,  63.2140, -20.0000,      550,    282.9,   7.4731,  35.1358,2,  35.1584,2,    241.3,2,    252.8,2,     7.40,2,    14.80,2,     0.02,2,     0.99,2,     -999,9,     -999,9,     -999,9,   2167.9,2,   2312.3,2,    740.4,2,   7.7244,2,    25.00,     -999,9,      0.6,2,     -999,9,     -999,9
33RO20230413  ,A16N       ,149     ,  1,1490104    ,4          ,2,20230508,0121,  63.2140, -20.0000,      550,    333.3,   7.3005,  35.1233,2,  -9.0000,9,    237.2,2,    249.0,2,     7.80,6,    15.20,6,     0.02,6,     1.02,6,     -999,9,     -999,9,     -999,9,   2169.6,2,   2312.1,2,    756.2,2,   7.7167,2,    25.00,     -999,9,      0.6,2,     -999,9,     -999,9
33RO20230413  ,A16N       ,149     ,  1,1490103    ,3          ,2,20230508,0121,  63.2140, -20.0000,      550,    389.6,   6.9200,  35.0993,2,  35.1082,2,    234.4,2,    246.6,2,     8.30,6,    15.60,6,     0.02,6,     1.04,6,     -999,9,     -999,9,     -999,9,   2172.2,2,   2309.7,2,    771.8,2,   7.7088,2,    25.00,     -999,9,      0.6,2,     -999,9,     -999,9
33RO20230413  ,A16N       ,149     ,  1,1490102    ,2          ,2,20230508,0121,  63.2140, -20.0000,      550,    466.7,   6.6015,  35.0788,2,  -9.0000,9,    233.8,2,    244.3,2,     8.60,6,    15.80,6,     0.02,6,     1.06,6,     -999,9,     -999,9,     -999,9,   2171.8,2,   2308.5,2,    783.5,2,   7.7035,2,    25.00,     -999,9,      0.6,2,     -999,9,     -999,9
33RO20230413  ,A16N       ,149     ,  1,1490101    ,1          ,2,20230508,0121,  63.2140, -20.0000,      550,    565.5,   6.2648,  35.0573,2,  35.0655,6,    233.8,2,    245.5,6,     8.80,6,    16.00,6,     0.02,6,     1.07,6,     -999,9,     -999,9,     -999,9,   2175.0,2,   2307.8,2,    794.3,2,   7.6975,2,    25.00,     -999,9,      0.7,6,     -999,9,     -999,9
33RO20230413  ,A16N       ,150     ,  1,1500114    ,14         ,2,20230508,0333,  63.3007, -20.0004,      260,      5.4,   8.5314,  35.1959,2,  -9.0000,2,    265.4,2,    276.3,2,     5.60,2,    11.40,2,     0.18,2,     0.80,2,     -999,9,     -999,9,     -999,9,   2154.5,2,   2316.6,2,    652.1,2,   7.7722,2,    25.00,     -999,9,      0.6,6,     -999,9,     -999,9
33RO20230413  ,A16N       ,150     ,  1,1500113    ,13         ,2,20230508,0333,  63.3007, -20.0004,      260,      8.2,   8.5327,  35.1958,2,  35.1993,9,    265.4,2,    276.7,2,     5.60,2,    11.40,2,     0.18,2,     0.80,2,     -999,9,     -999,9,     -999,9,   2154.6,2,   2316.5,2,    652.9,2,   7.7719,2,    25.00,     -999,9,      0.7,2,     -999,9,     -999,9
33RO20230413  ,A16N       ,150     ,  1,1500112    ,12         ,2,20230508,0333,  63.3007, -20.0004,      260,     16.3,   8.5315,  35.1958,2,  -9.0000,9,    265.3,2,    276.2,2,     5.60,2,    11.40,2,     0.18,2,     0.80,2,     -999,9,     -999,9,     -999,9,   2155.3,2,   2315.9,2,    653.4,2,   7.7711,2,    25.00,     -999,9,      0.6,2,     -999,9,     -999,9
33RO20230413  ,A16N       ,150     ,  1,1500111    ,11         ,2,20230508,0333,  63.3007, -20.0004,      260,     26.9,   8.5288,  35.1962,2,  -9.0000,6,    265.2,2,    276.2,2,     5.60,2,    11.50,2,     0.17,2,     0.81,2,     -999,9,     -999,9,     -999,9,   2153.7,2,   2317.0,2,    652.9,2,   7.7707,6,    25.00,     -999,9,      0.7,2,     -999,9,     -999,9
33RO20230413  ,A16N       ,150     ,  1,1500110    ,10         ,2,20230508,0333,  63.3007, -20.0004,      260,     35.9,   8.5207,  35.1970,2,  35.2075,9,    265.1,2,    276.0,2,     5.70,2,    11.60,2,     0.17,2,     0.80,2,     -999,9,     -999,9,     -999,9,   2153.1,2,   2315.7,2,    654.1,2,   7.7712,2,    25.00,     -999,9,      0.6,2,     -999,9,     -999,9
33RO20230413  ,A16N       ,150     ,  1,1500109    ,9          ,2,20230508,0333,  63.3007, -20.0004,      260,     47.7,   8.4834,  35.2003,2,  -9.0000,9,    263.4,2,    275.2,2,     5.60,2,    11.60,2,     0.18,2,     0.81,2,     -999,9,     -999,9,     -999,9,   2155.6,2,   2316.2,2,    660.0,2,   7.7691,2,    25.00,     -999,9,      0.7,2,     -999,9,     -999,9
33RO20230413  ,A16N       ,150     ,  1,1500108    ,8          ,2,20230508,0333,  63.3007, -20.0004,      260,     61.0,   8.4506,  35.2015,2,  -9.0000,2,    261.6,2,    274.7,4,     5.70,2,    11.80,2,     0.18,2,     0.82,2,     -999,9,     -999,9,     -999,9,   2157.5,2,   2315.0,2,    664.4,2,   7.7658,2,    25.00,     -999,9,      0.6,2,     -999,9,     -999,9
33RO20230413  ,A16N       ,150     ,  1,1500107    ,7          ,2,20230508,0333,  63.3007, -20.0004,      260,     78.1,   8.3953,  35.2007,2,  35.2094,9,    258.4,2,    269.5,6,     5.80,2,    12.40,2,     0.15,2,     0.85,2,     -999,9,     -999,9,     -999,9,   2160.8,2,   2314.7,2,    674.6,2,   7.7601,2,    25.00,     -999,9,      0.7,2,     -999,9,     -999,9
33RO20230413  ,A16N       ,150     ,  1,1500106    ,6          ,2,20230508,0333,  63.3007, -20.0004,      260,    100.3,   8.2668,  35.1903,2,  -9.0000,2,    254.8,2,    266.2,2,     6.00,2,    13.00,2,     0.06,2,     0.88,2,     -999,9,     -999,9,     -999,9,   2160.9,2,   2314.6,2,    689.7,6,   7.7506,2,    25.00,     -999,9,      0.6,2,     -999,9,     -999,9
33RO20230413  ,A16N       ,150     ,  1,1500105    ,5          ,2,20230508,0333,  63.3007, -20.0004,      260,    125.4,   8.1279,  35.1828,2,  35.1941,9,    253.3,2,    263.8,2,     6.00,6,    13.20,6,     0.02,6,     0.90,6,     -999,9,     -999,9,     -999,9,   2164.4,2,   2312.9,2,    697.6,2,   7.7477,2,    25.00,     -999,9,      0.6,2,     -999,9,     -999,9
33RO20230413  ,A16N       ,150     ,  1,1500104    ,4          ,2,20230508,0333,  63.3007, -20.0004,      260,    150.7,   8.0571,  35.1795,2,  -9.0000,2,    253.0,2,    264.4,2,     6.10,6,    13.40,6,     0.02,6,     0.91,6,     -999,9,     -999,9,     -999,9,   2164.2,2,   2314.4,2,    700.9,2,   7.7450,6,    25.00,     -999,9,      0.6,2,     -999,9,     -999,9
33RO20230413  ,A16N       ,150     ,  1,1500102    ,2          ,2,20230508,0333,  63.3007, -20.0004,      260,    175.4,   7.9948,  35.1739,2,  -9.0000,2,    252.7,2,    264.0,2,     6.30,6,    13.50,6,     0.03,6,     0.91,6,     -999,9,     -999,9,     -999,9,   2165.1,2,   2314.1,2,    703.5,2,   7.7423,2,    25.00,     -999,9,      0.6,2,     -999,9,     -999,9
33RO20230413  ,A16N       ,150     ,  1,1500103    ,3          ,2,20230508,0333,  63.3007, -20.0004,      260,    175.6,   7.9946,  35.1738,2,  35.1819,9,    252.7,2,     -999,9,     -999,9,     -999,9,     -999,9,     -999,9,     -999,9,     -999,9,     -999,9,     -999,9,   -999.0,9,   -999.0,9,-999.0000,9,    25.00,     -999,9,     -999,9,     -999,9,     -999,9
33RO20230413  ,A16N       ,150     ,  1,1500101    ,1          ,2,20230508,0333,  63.3007, -20.0004,      260,    191.7,   7.9121,  35.1669,2,  35.1720,9,    249.7,2,    261.0,6,     6.50,6,    13.80,6,     0.03,6,     0.93,6,     -999,9,     -999,9,     -999,9,   2165.4,2,   2313.8,2,    711.4,2,   7.7390,2,    25.00,     -999,9,      0.6,6,     -999,9,     -999,9