BOTTLE,20240627CCHHYDRO
EXPOCODE,SECT_ID,STNNBR,CASTNO,SAMPNO,BTLNBR,BTLNBR_FLAG_W,DATE,TIME,LATITUDE,LONGITUDE,DEPTH,CTDPRS,CTDTMP,CTDSAL,CTDSAL_FLAG_W,SALNTY,SALNTY_FLAG_W,CTDOXY,CTDOXY_FLAG_W,OXYGEN,OXYGEN_FLAG_W,SILCAT,SILCAT_FLAG_W,NITRAT,NITRAT_FLAG_W,NITRIT,NITRIT_FLAG_W,PHSPHT,PHSPHT_FLAG_W,CFC-11,CFC-11_FLAG_W,CFC-12,CFC-12_FLAG_W,SF6,SF6_FLAG_W,TCARBN,TCARBN_FLAG_W,ALKALI,ALKALI_FLAG_W,FCO2,FCO2_FLAG_W,PH_TOT,PH_TOT_FLAG_W,PH_TMP,DOC,DOC_FLAG_W,DELC13,DELC13_FLAG_W,TDN,TDN_FLAG_W,N2O,N2O_FLAG_W
,,,,,,,,,,,METERS,DBAR,ITS-90,PSS-78,,PSS-78,,UMOL/KG,,UMOL/KG,,UMOL/KG,,UMOL/KG,,UMOL/KG,,UMOL/KG,,PMOL/KG,,PMOL/KG,,FMOL/KG,,UMOL/KG,,UMOL/KG,,UATM,,,,DEG C,UMOL/KG,,/MILLE,,UMOL/KG,,NMOL/KG,
33RO20230413  ,A16N       ,108     ,  2,1080224    ,24         ,2,20230428,0951,  43.9992, -19.9907,     4003,      4.3,  14.4928,  35.6581,2,  35.7022,2,    246.1,2,     -999,9,     2.00,2,     2.40,2,     0.13,2,     0.23,2,     -999,9,     -999,9,     -999,9,   2110.1,6,   2342.6,2,    463.4,2,   7.9003,2,    25.00,     -999,9,      0.8,2,     -999,9,     -999,9
33RO20230413  ,A16N       ,108     ,  2,1080223    ,23         ,2,20230428,0951,  43.9992, -19.9907,     4003,     20.6,  14.0023,  35.7113,2,  35.7227,2,    248.9,2,     -999,9,     1.90,2,     2.80,2,     0.13,2,     0.24,2,     -999,9,     -999,9,     -999,9,   2116.7,2,   2346.5,2,    469.8,2,   7.8999,2,    25.00,     -999,9,      0.9,2,     -999,9,     -999,9
33RO20230413  ,A16N       ,108     ,  2,1080222    ,22         ,2,20230428,0951,  43.9992, -19.9907,     4003,     41.9,  13.8515,  35.7534,2,  35.7567,2,    240.5,2,    252.0,2,     2.00,2,     3.60,2,     0.18,2,     0.29,2,     -999,9,     -999,9,     -999,9,   2126.2,2,   2350.3,2,    492.4,2,   7.8846,2,    25.00,     -999,9,      0.6,2,     -999,9,     -999,9
33RO20230413  ,A16N       ,108     ,  2,1080221    ,21         ,2,20230428,0951,  43.9992, -19.9907,     4003,     67.2,  13.5665,  35.7479,2,  35.7537,6,    238.0,2,    248.0,2,     2.10,2,     4.50,2,     0.32,2,     0.36,2,     -999,9,     -999,9,     -999,9,   2131.2,2,   2347.4,2,    510.5,2,   7.8685,2,    25.00,     -999,9,      0.7,2,     -999,9,     -999,9
33RO20230413  ,A16N       ,108     ,  2,1080220    ,20         ,2,20230428,0951,  43.9992, -19.9907,     4003,     91.3,  13.3955,  35.7482,2,  35.7592,2,    235.5,2,    247.3,2,     2.30,2,     5.50,2,     0.50,2,     0.41,2,     -999,9,     -999,9,     -999,9,   2134.0,2,   2345.9,2,    522.5,2,   7.8608,2,    25.00,     -999,9,      0.5,2,     -999,9,     -999,9
33RO20230413  ,A16N       ,108     ,  2,1080219    ,19         ,2,20230428,0951,  43.9992, -19.9907,     4003,    116.6,  13.3637,  35.7511,2,  35.7528,2,    233.2,2,    245.6,2,     2.60,2,     6.00,2,     0.20,2,     0.43,2,     -999,9,     -999,9,     -999,9,   2133.6,2,   2346.1,2,    528.9,2,   7.8556,2,    25.00,     -999,9,      0.5,2,     -999,9,     -999,9
33RO20230413  ,A16N       ,108     ,  2,1080218    ,18         ,2,20230428,0951,  43.9992, -19.9907,     4003,    142.8,  13.3288,  35.7488,2,  35.7715,2,    232.6,2,    245.2,2,     2.40,2,     6.40,2,     0.07,2,     0.44,2,     -999,9,     -999,9,     -999,9,   2136.8,2,   2345.3,2,    530.1,2,   7.8540,2,    25.00,     -999,9,      0.6,2,     -999,9,     -999,9
33RO20230413  ,A16N       ,108     ,  2,1080217    ,17         ,2,20230428,0951,  43.9992, -19.9907,     4003,    182.7,  13.3043,  35.7528,2,  35.7571,2,    231.1,2,    242.7,2,     2.40,2,     6.50,2,     0.03,2,     0.45,2,     -999,9,     -999,9,     -999,9,   2136.9,2,   2346.7,2,    531.7,2,   7.8531,2,    25.00,     -999,9,      0.5,2,     -999,9,     -999,9
33RO20230413  ,A16N       ,108     ,  2,1080216    ,16         ,2,20230428,0951,  43.9992, -19.9907,     4003,    251.2,  13.2252,  35.7495,2,  35.7547,2,    230.0,2,    243.0,2,     2.50,2,     6.90,2,     0.02,2,     0.48,2,     -999,9,     -999,9,     -999,9,   2137.3,2,   2345.4,2,    536.9,2,   7.8503,2,    25.00,     -999,9,      0.5,2,     -999,9,     -999,9
33RO20230413  ,A16N       ,108     ,  2,1080215    ,15         ,2,20230428,0951,  43.9992, -19.9907,     4003,    325.5,  12.9712,  35.6986,2,  35.7005,2,    224.3,2,    236.8,2,     2.80,2,     7.60,2,     0.02,2,     0.52,2,     -999,9,     -999,9,     -999,9,   2141.1,2,   2342.3,2,    555.2,2,   7.8382,2,    25.00,     -999,9,      0.5,2,     -999,9,     -999,9
33RO20230413  ,A16N       ,108     ,  2,1080214    ,14         ,2,20230428,0951,  43.9992, -19.9907,     4003,    400.3,  12.2294,  35.5740,2,  35.5965,2,    207.1,2,    218.3,2,     4.10,2,    10.60,2,     0.02,2,     0.70,2,     -999,9,     -999,9,     -999,9,   2155.1,2,   2335.8,6,    617.0,2,   7.8012,6,    25.00,     -999,9,      0.5,2,     -999,9,     -999,9
33RO20230413  ,A16N       ,108     ,  2,1080213    ,13         ,2,20230428,0951,  43.9992, -19.9907,     4003,    476.2,  11.7170,  35.5167,2,  35.5211,2,    202.9,2,    215.3,2,     4.50,2,    11.90,2,     0.02,2,     0.78,2,     -999,9,     -999,9,     -999,9,   2160.7,2,   2333.0,2,    651.9,2,   7.7769,2,    25.00,     -999,9,      0.4,2,     -999,9,     -999,9
33RO20230413  ,A16N       ,108     ,  2,1080212    ,12         ,2,20230428,0951,  43.9992, -19.9907,     4003,    601.2,  10.9187,  35.4418,2,  35.4438,2,    193.8,2,    205.7,2,     5.90,2,    14.20,2,     0.01,2,     0.92,2,     -999,9,     -999,9,     -999,9,   2170.7,2,   2326.0,2,    701.0,2,   7.7475,2,    25.00,     -999,9,      0.4,6,     -999,9,     -999,9
33RO20230413  ,A16N       ,108     ,  2,1080211    ,11         ,2,20230428,0951,  43.9992, -19.9907,     4003,    751.0,  10.3962,  35.4794,2,  35.4795,2,    177.5,2,    188.7,6,     7.70,2,    16.30,2,     0.01,2,     1.06,2,     -999,9,     -999,9,     -999,9,   2182.8,6,   2330.6,2,    741.8,2,   7.7274,2,    25.00,     -999,9,      0.5,2,     -999,9,     -999,9
33RO20230413  ,A16N       ,108     ,  2,1080210    ,10         ,2,20230428,0951,  43.9992, -19.9907,     4003,    901.4,   9.4652,  35.4967,2,  35.4973,2,    171.0,2,    182.3,2,     9.70,2,    17.80,2,     0.00,2,     1.16,2,     -999,9,     -999,9,     -999,9,   2194.5,2,   2336.1,2,    772.9,2,   7.7145,2,    25.00,     -999,9,      0.7,2,     -999,9,     -999,9
33RO20230413  ,A16N       ,108     ,  2,1080209    ,9          ,2,20230428,0951,  43.9992, -19.9907,     4003,   1051.4,   7.8364,  35.3676,2,  35.3618,2,    185.4,2,    197.8,2,    10.80,2,    18.30,2,     0.01,2,     1.20,2,     -999,9,     -999,9,     -999,9,   2193.2,2,   2329.9,2,    799.1,2,   7.6992,2,    25.00,     -999,9,      0.7,2,     -999,9,     -999,9
33RO20230413  ,A16N       ,108     ,  2,1080208    ,8          ,2,20230428,0951,  43.9992, -19.9907,     4003,   1234.0,   6.3431,  35.2278,2,  35.2420,6,    207.1,2,    221.7,2,    10.90,2,    17.90,2,     0.00,2,     1.19,2,     -999,9,     -999,9,     -999,9,   2189.2,2,   2321.5,2,    804.0,2,   7.6962,2,    25.00,     -999,9,      0.8,2,     -999,9,     -999,9
33RO20230413  ,A16N       ,108     ,  2,1080207    ,7          ,2,20230428,0951,  43.9992, -19.9907,     4003,   1501.0,   4.5244,  34.9918,2,  35.0248,2,    236.1,2,    258.7,2,    10.70,2,    17.40,2,     0.00,2,     1.18,2,     -999,9,     -999,9,     -999,9,   2176.7,2,   2306.7,2,    815.7,2,   7.6874,2,    25.00,     -999,9,      0.8,2,     -999,9,     -999,9
33RO20230413  ,A16N       ,108     ,  2,1080206    ,6          ,2,20230428,0951,  43.9992, -19.9907,     4003,   1867.2,   3.7590,  34.9172,2,  34.9245,2,    248.8,2,    266.9,2,    11.10,2,    17.00,2,     0.01,2,     1.16,2,     -999,9,     -999,9,     -999,9,   2170.1,2,   2300.4,2,    803.5,2,   7.6912,2,    25.00,     -999,9,      1.0,2,     -999,9,     -999,9
33RO20230413  ,A16N       ,108     ,  2,1080205    ,5          ,2,20230428,0951,  43.9992, -19.9907,     4003,   2267.8,   3.4881,  34.9464,2,  34.9533,2,    239.2,2,    259.1,2,    15.40,2,    17.40,2,     0.05,2,     1.20,2,     -999,9,     -999,9,     -999,9,   2170.3,2,   2306.7,2,    776.5,6,   7.7050,2,    25.00,     -999,9,      0.9,2,     -999,9,     -999,9
33RO20230413  ,A16N       ,108     ,  2,1080204    ,4          ,2,20230428,0951,  43.9992, -19.9907,     4003,   2666.9,   3.0772,  34.9437,2,  34.9564,2,    233.7,2,    254.5,2,    22.10,2,    18.30,2,     0.03,2,     1.26,2,     -999,9,     -999,9,     -999,9,   2178.5,2,   2318.3,2,    769.2,2,   7.7098,2,    25.00,     -999,9,      0.9,2,     -999,9,     -999,9
33RO20230413  ,A16N       ,108     ,  2,1080203    ,3          ,2,20230428,0951,  43.9992, -19.9907,     4003,   3167.5,   2.7684,  34.9328,2,  34.9350,2,    224.3,2,    245.8,2,    32.10,2,    19.90,2,     0.02,2,     1.37,2,     -999,9,     -999,9,     -999,9,   2190.1,2,   2329.7,6,    766.8,2,   7.7131,6,    25.00,     -999,9,      1.0,2,     -999,9,     -999,9
33RO20230413  ,A16N       ,108     ,  2,1080202    ,2          ,2,20230428,0951,  43.9992, -19.9907,     4003,   3667.5,   2.5659,  34.9129,2,  34.9150,2,    216.5,2,    237.0,2,    41.30,2,    21.40,2,     0.02,2,     1.48,2,     -999,9,     -999,9,     -999,9,   2201.7,2,   2342.0,2,    769.0,2,   7.7148,2,    25.00,     -999,9,      1.0,2,     -999,9,     -999,9
33RO20230413  ,A16N       ,108     ,  2,1080201    ,1          ,2,20230428,0951,  43.9992, -19.9907,     4003,   4074.5,   2.5669,  34.9086,2,  34.9130,2,    215.2,2,    235.0,6,    43.30,2,    21.80,2,     0.02,2,     1.51,2,     -999,9,     -999,9,     -999,9,   2204.3,6,   2348.5,2,    768.2,2,   7.7160,2,    25.00,     -999,9,      1.1,6,     -999,9,     -999,9
33RO20230413  ,A16N       ,109     ,  1,1090124    ,24         ,2,20230428,1608,  44.4995, -19.9966,     4246,      4.3,  14.5118,  35.7235,2,  35.7255,2,    246.7,2,    258.5,2,     1.80,2,     2.50,2,     0.13,2,     0.23,2,     -999,9,     -999,9,     -999,9,   2115.0,6,   2348.3,2,    466.5,2,   7.9038,2,    25.00,     -999,9,      0.7,6,     -999,9,     -999,9
33RO20230413  ,A16N       ,109     ,  1,1090123    ,23         ,2,20230428,1608,  44.4995, -19.9966,     4246,     25.0,  13.7615,  35.7546,2,  35.7556,2,    243.0,2,    254.6,2,     2.00,2,     3.80,2,     0.18,2,     0.30,2,     -999,9,     -999,9,     -999,9,   2122.5,2,   2347.9,6,    490.6,2,   7.8815,6,    25.00,     -999,9,      0.6,2,     -999,9,     -999,9
33RO20230413  ,A16N       ,109     ,  1,1090122    ,22         ,2,20230428,1608,  44.4995, -19.9966,     4246,     50.9,  13.6850,  35.7550,2,  35.7555,6,    238.8,2,    250.5,2,     2.10,2,     4.20,2,     0.25,2,     0.35,2,     -999,9,     -999,9,     -999,9,   2127.9,2,   2347.9,2,    502.6,2,   7.8738,2,    25.00,     -999,9,      0.6,2,     -999,9,     -999,9
33RO20230413  ,A16N       ,109     ,  1,1090121    ,21         ,2,20230428,1608,  44.4995, -19.9966,     4246,     72.3,  13.5928,  35.7616,2,  35.7623,2,    236.9,2,    247.1,2,     2.10,2,     4.70,2,     0.36,2,     0.37,2,     -999,9,     -999,9,     -999,9,   2132.1,2,   2346.0,2,    511.4,2,   7.8707,2,    25.00,     -999,9,      0.6,2,     -999,9,     -999,9
33RO20230413  ,A16N       ,109     ,  1,1090120    ,20         ,2,20230428,1608,  44.4995, -19.9966,     4246,    100.6,  13.5028,  35.7699,2,  35.7724,2,    235.4,2,    247.0,2,     2.20,2,     5.20,2,     0.47,2,     0.39,2,     -999,9,     -999,9,     -999,9,   2134.3,2,   2346.7,2,    519.3,2,   7.8649,2,    25.00,     -999,9,      0.5,2,     -999,9,     -999,9
33RO20230413  ,A16N       ,109     ,  1,1090119    ,19         ,2,20230428,1608,  44.4995, -19.9966,     4246,    125.4,  13.4740,  35.7725,2,  35.7726,2,    234.5,2,    247.0,2,     2.50,2,     5.40,2,     0.40,2,     0.40,2,     -999,9,     -999,9,     -999,9,   2135.4,2,   2349.1,2,    521.4,2,   7.8627,2,    25.00,     -999,9,      0.5,2,     -999,9,     -999,9
33RO20230413  ,A16N       ,109     ,  1,1090118    ,18         ,2,20230428,1608,  44.4995, -19.9966,     4246,    149.9,  13.4635,  35.7715,2,  35.7715,2,    234.1,2,    246.4,2,     2.20,2,     5.50,2,     0.33,2,     0.41,2,     -999,9,     -999,9,     -999,9,   2134.2,2,   2347.0,2,    521.8,2,   7.8605,2,    25.00,     -999,9,      0.5,2,     -999,9,     -999,9
33RO20230413  ,A16N       ,109     ,  1,1090117    ,17         ,2,20230428,1608,  44.4995, -19.9966,     4246,    200.0,  13.4529,  35.7726,2,  35.7735,2,    232.2,2,    244.6,2,     2.30,2,     6.00,2,     0.05,2,     0.42,2,     -999,9,     -999,9,     -999,9,   2136.7,2,   2346.6,2,    524.7,2,   7.8611,2,    25.00,     -999,9,      0.4,2,     -999,9,     -999,9
33RO20230413  ,A16N       ,109     ,  1,1090116    ,16         ,2,20230428,1608,  44.4995, -19.9966,     4246,    300.6,  13.1910,  35.7344,2,  35.7360,2,    226.9,2,    239.9,2,     2.50,2,     6.90,2,     0.01,2,     0.48,2,     -999,9,     -999,9,     -999,9,   2140.6,2,   2344.8,2,    542.0,2,   7.8467,2,    25.00,     -999,9,      0.4,2,     -999,9,     -999,9
33RO20230413  ,A16N       ,109     ,  1,1090115    ,15         ,2,20230428,1608,  44.4995, -19.9966,     4246,    410.4,  12.1431,  35.5632,2,  35.5635,2,    205.5,2,    218.0,2,     4.00,2,    10.70,2,     0.01,2,     0.71,2,     -999,9,     -999,9,     -999,9,   2157.8,2,   2334.0,2,    626.3,2,   7.7919,2,    25.00,     -999,9,      0.4,2,     -999,9,     -999,9
33RO20230413  ,A16N       ,109     ,  1,1090114    ,14         ,2,20230428,1608,  44.4995, -19.9966,     4246,    500.2,  11.5937,  35.5005,2,  35.5018,2,    199.6,2,    211.0,2,     4.90,2,    12.50,2,     0.02,2,     0.82,2,     -999,9,     -999,9,     -999,9,   2162.6,2,   2330.4,2,    661.9,2,   7.7722,2,    25.00,     -999,9,      0.4,2,     -999,9,     -999,9
33RO20230413  ,A16N       ,109     ,  1,1090113    ,13         ,2,20230428,1608,  44.4995, -19.9966,     4246,    649.8,  10.9353,  35.4605,2,  35.4641,2,    193.3,2,    205.4,2,     6.00,2,    14.20,2,     0.01,2,     0.92,2,     -999,9,     -999,9,     -999,9,   2171.4,2,   2329.4,2,    703.5,2,   7.7470,2,    25.00,     -999,9,      0.5,2,     -999,9,     -999,9
33RO20230413  ,A16N       ,109     ,  1,1090112    ,12         ,2,20230428,1608,  44.4995, -19.9966,     4246,    801.8,   9.8406,  35.4003,2,  35.4106,2,    172.4,2,    183.9,6,     8.90,2,    17.60,2,     0.01,2,     1.15,2,     -999,9,     -999,9,     -999,9,   2184.1,6,   2329.1,2,    770.0,2,   7.7144,2,    25.00,     -999,9,      0.5,2,     -999,9,     -999,9
33RO20230413  ,A16N       ,109     ,  1,1090111    ,11         ,2,20230428,1608,  44.4995, -19.9966,     4246,    951.2,   8.8335,  35.4160,2,  35.4224,2,    173.4,2,    185.4,2,    10.40,2,    18.40,2,     0.01,2,     1.20,2,     -999,9,     -999,9,     -999,9,   2193.7,2,   2331.6,2,    789.6,2,   7.7097,2,    25.00,     -999,9,      0.5,2,     -999,9,     -999,9
33RO20230413  ,A16N       ,109     ,  1,1090110    ,10         ,2,20230428,1608,  44.4995, -19.9966,     4246,   1100.1,   6.6779,  35.1598,2,  35.1631,2,    196.3,2,    209.2,2,    11.20,2,    18.80,2,     0.01,2,     1.24,2,     -999,9,     -999,9,     -999,9,   2188.1,2,   2318.2,2,    831.3,2,   7.6831,2,    25.00,     -999,9,      0.6,2,     -999,9,     -999,9
33RO20230413  ,A16N       ,109     ,  1,1090109    ,9          ,2,20230428,1608,  44.4995, -19.9966,     4246,   1300.6,   5.5001,  35.0938,2,  35.0989,2,    218.2,2,    216.9,4,    10.90,2,    18.00,2,     0.01,2,     1.21,2,     -999,9,     -999,9,     -999,9,   2182.7,2,   2313.2,2,    821.0,6,   7.6874,2,    25.00,     -999,9,      0.6,2,     -999,9,     -999,9
33RO20230413  ,A16N       ,109     ,  1,1090108    ,8          ,2,20230428,1608,  44.4995, -19.9966,     4246,   1601.5,   4.2960,  34.9632,2,  34.9584,2,    240.0,2,    258.4,2,    10.70,2,    17.30,2,     0.00,2,     1.17,2,     -999,9,     -999,9,     -999,9,   2174.3,2,   2302.9,2,    814.8,2,   7.6892,2,    25.00,     -999,9,      0.7,2,     -999,9,     -999,9
33RO20230413  ,A16N       ,109     ,  1,1090107    ,7          ,2,20230428,1608,  44.4995, -19.9966,     4246,   2000.5,   3.7254,  34.9207,2,  34.9228,6,    247.0,2,    266.9,2,    11.40,2,    17.10,2,     0.00,2,     1.17,2,     -999,9,     -999,9,     -999,9,   2168.3,2,   2300.4,2,    799.8,2,   7.6951,2,    25.00,     -999,9,      0.9,2,     -999,9,     -999,9
33RO20230413  ,A16N       ,109     ,  1,1090106    ,6          ,2,20230428,1608,  44.4995, -19.9966,     4246,   2400.8,   3.4171,  34.9346,2,  34.9374,2,    241.1,2,    261.2,2,    14.50,2,    17.30,2,     0.00,2,     1.19,2,     -999,9,     -999,9,     -999,9,   2167.4,2,   2307.4,2,    781.3,2,   7.7036,2,    25.00,     -999,9,      0.9,2,     -999,9,     -999,9
33RO20230413  ,A16N       ,109     ,  1,1090105    ,5          ,2,20230428,1608,  44.4995, -19.9966,     4246,   2800.1,   3.0188,  34.9418,2,  34.9460,2,    233.0,2,    255.0,2,    22.80,2,    18.30,2,     0.00,2,     1.26,2,     -999,9,     -999,9,     -999,9,   2179.3,2,   2315.8,2,    775.6,2,   7.7094,2,    25.00,     -999,9,      0.8,2,     -999,9,     -999,9
33RO20230413  ,A16N       ,109     ,  1,1090104    ,4          ,2,20230428,1608,  44.4995, -19.9966,     4246,   3200.6,   2.7727,  34.9333,2,  34.9364,2,    225.1,2,    247.4,2,    31.10,2,    19.60,2,     0.00,2,     1.35,2,     -999,9,     -999,9,     -999,9,   2189.0,2,   2328.9,2,    773.0,2,   7.7092,2,    25.00,     -999,9,      1.0,2,     -999,9,     -999,9
33RO20230413  ,A16N       ,109     ,  1,1090103    ,3          ,2,20230428,1608,  44.4995, -19.9966,     4246,   3600.2,   2.6128,  34.9177,2,  34.9209,2,    217.5,2,    239.1,2,    39.20,2,    21.10,2,     0.01,2,     1.46,2,     -999,9,     -999,9,     -999,9,   2196.8,2,   2341.6,2,    770.0,2,   7.7144,2,    25.00,     -999,9,      0.9,2,     -999,9,     -999,9
33RO20230413  ,A16N       ,109     ,  1,1090102    ,2          ,2,20230428,1608,  44.4995, -19.9966,     4246,   3999.9,   2.5658,  34.9095,2,  34.9240,2,    214.4,2,    235.3,2,    43.00,2,    21.70,2,     0.00,2,     1.50,2,     -999,9,     -999,9,     -999,9,   2202.8,2,   2346.2,6,    768.4,2,   7.7170,6,    25.00,     -999,9,      0.9,2,     -999,9,     -999,9
33RO20230413  ,A16N       ,109     ,  1,1090101    ,1          ,2,20230428,1608,  44.4995, -19.9966,     4246,   4312.5,   2.5869,  34.9077,2,  34.9099,2,    214.1,2,    235.0,6,    43.80,2,    22.00,2,     0.00,2,     1.52,2,     -999,9,     -999,9,     -999,9,   2205.4,6,   2352.0,2,    766.6,2,   7.7155,2,    25.00,     -999,9,      0.9,6,     -999,9,     -999,9