BOTTLE,20240627CCHHYDRO
EXPOCODE,SECT_ID,STNNBR,CASTNO,SAMPNO,BTLNBR,BTLNBR_FLAG_W,DATE,TIME,LATITUDE,LONGITUDE,DEPTH,CTDPRS,CTDTMP,CTDSAL,CTDSAL_FLAG_W,SALNTY,SALNTY_FLAG_W,CTDOXY,CTDOXY_FLAG_W,OXYGEN,OXYGEN_FLAG_W,SILCAT,SILCAT_FLAG_W,NITRAT,NITRAT_FLAG_W,NITRIT,NITRIT_FLAG_W,PHSPHT,PHSPHT_FLAG_W,CFC-11,CFC-11_FLAG_W,CFC-12,CFC-12_FLAG_W,SF6,SF6_FLAG_W,TCARBN,TCARBN_FLAG_W,ALKALI,ALKALI_FLAG_W,FCO2,FCO2_FLAG_W,PH_TOT,PH_TOT_FLAG_W,PH_TMP,DOC,DOC_FLAG_W,DELC13,DELC13_FLAG_W,TDN,TDN_FLAG_W,N2O,N2O_FLAG_W
,,,,,,,,,,,METERS,DBAR,ITS-90,PSS-78,,PSS-78,,UMOL/KG,,UMOL/KG,,UMOL/KG,,UMOL/KG,,UMOL/KG,,UMOL/KG,,PMOL/KG,,PMOL/KG,,FMOL/KG,,UMOL/KG,,UMOL/KG,,UATM,,,,DEG C,UMOL/KG,,/MILLE,,UMOL/KG,,NMOL/KG,
33RO20230413  ,A16N       ,118     ,  1,1180124    ,24         ,2,20230501,0406,  49.0034, -19.9949,     4415,      4.3,  13.3102,  35.5131,2,  35.5159,2,    252.8,2,    269.9,2,     2.90,2,     4.60,2,     0.15,2,     0.36,2,     -999,9,     -999,9,     -999,9,   2118.2,6,   2338.6,2,    491.0,2,   7.8801,2,    25.00,     -999,9,      0.8,2,     -999,9,     -999,9
33RO20230413  ,A16N       ,118     ,  1,1180123    ,23         ,2,20230501,0406,  49.0034, -19.9949,     4415,     26.9,  12.6622,  35.5215,2,  35.5237,6,    251.9,2,    270.1,2,     3.00,2,     5.70,2,     0.20,2,     0.42,2,     -999,9,     -999,9,     -999,9,   2125.7,2,   2337.2,2,    511.6,2,   7.8634,2,    25.00,     -999,9,      0.6,2,     -999,9,     -999,9
33RO20230413  ,A16N       ,118     ,  1,1180122    ,22         ,2,20230501,0406,  49.0034, -19.9949,     4415,     50.1,  12.4370,  35.5200,2,  35.5221,2,    244.4,2,    261.8,2,     3.20,2,     6.50,2,     0.36,2,     0.48,2,     -999,9,     -999,9,     -999,9,   2133.7,2,   2337.2,2,    537.9,2,   7.8259,2,    25.00,     -999,9,      0.6,2,     -999,9,     -999,9
33RO20230413  ,A16N       ,118     ,  1,1180121    ,21         ,2,20230501,0406,  49.0034, -19.9949,     4415,     75.4,  12.2954,  35.5365,2,  35.5476,2,    240.7,2,    256.2,2,     3.30,2,     7.20,2,     0.70,2,     0.54,2,     -999,9,     -999,9,     -999,9,   2141.1,2,   2335.7,2,    555.3,2,   7.8391,2,    25.00,     -999,9,      0.5,2,     -999,9,     -999,9
33RO20230413  ,A16N       ,118     ,  1,1180120    ,20         ,2,20230501,0406,  49.0034, -19.9949,     4415,    100.5,  12.2127,  35.5473,2,  35.5505,2,    238.3,2,    255.0,6,     3.40,2,     7.70,2,     0.51,2,     0.55,2,     -999,9,     -999,9,     -999,9,   2144.9,2,   2340.4,3,    562.0,2,-999.0000,9,    25.00,     -999,9,      0.5,2,     -999,9,     -999,9
33RO20230413  ,A16N       ,118     ,  1,1180119    ,19         ,2,20230501,0406,  49.0034, -19.9949,     4415,    125.0,  12.1031,  35.5334,2,  35.5373,2,    237.5,2,    254.5,2,     3.40,2,     8.10,2,     0.27,2,     0.56,2,     -999,9,     -999,9,     -999,9,   2146.1,2,   2335.5,6,    565.7,2,   7.8238,6,    25.00,     -999,9,      0.5,2,     -999,9,     -999,9
33RO20230413  ,A16N       ,118     ,  1,1180118    ,18         ,2,20230501,0406,  49.0034, -19.9949,     4415,    194.6,  11.7914,  35.4892,2,  35.4989,2,    226.3,2,    242.8,2,     4.10,2,     9.90,2,     0.03,2,     0.66,2,     -999,9,     -999,9,     -999,9,   2151.7,2,   2332.8,2,    598.4,2,   7.8073,2,    25.00,     -999,9,      0.5,2,     -999,9,     -999,9
33RO20230413  ,A16N       ,118     ,  1,1180117    ,17         ,2,20230501,0406,  49.0034, -19.9949,     4415,    274.9,  11.4968,  35.4643,2,  35.4675,2,    219.9,2,    236.7,2,     4.60,2,    11.00,2,     0.01,2,     0.72,2,     -999,9,     -999,9,     -999,9,   2156.8,2,   2331.8,2,    622.5,2,   7.7920,2,    25.00,     -999,9,      0.4,2,     -999,9,     -999,9
33RO20230413  ,A16N       ,118     ,  1,1180116    ,16         ,2,20230501,0406,  49.0034, -19.9949,     4415,    351.4,  11.2767,  35.4542,2,  35.4583,2,    222.8,2,    240.2,2,     4.40,2,    10.90,2,     0.02,2,     0.72,2,     -999,9,     -999,9,     -999,9,   2157.6,2,   2330.6,2,    626.0,2,   7.7912,2,    25.00,     -999,9,      0.5,2,     -999,9,     -999,9
33RO20230413  ,A16N       ,118     ,  1,1180115    ,15         ,2,20230501,0406,  49.0034, -19.9949,     4415,    426.4,  10.5688,  35.3462,2,  35.3555,2,    192.8,2,    209.1,2,     6.80,2,    14.80,2,     0.01,2,     0.97,2,     -999,9,     -999,9,     -999,9,   2172.5,2,   2324.3,2,    711.9,2,   7.7481,2,    25.00,     -999,9,      0.4,2,     -999,9,     -999,9
33RO20230413  ,A16N       ,118     ,  1,1180114    ,14         ,2,20230501,0406,  49.0034, -19.9949,     4415,    501.2,  10.1261,  35.3322,2,  35.3457,2,    187.0,2,    203.8,2,     7.50,2,    16.00,2,     0.01,2,     1.04,2,     -999,9,     -999,9,     -999,9,   2180.2,2,   2324.3,2,    743.8,2,   7.7258,2,    25.00,     -999,9,      0.4,2,     -999,9,     -999,9
33RO20230413  ,A16N       ,118     ,  1,1180113    ,13         ,2,20230501,0406,  49.0034, -19.9949,     4415,    609.8,   9.1459,  35.2949,2,  35.2998,2,    175.7,2,    189.8,2,     9.60,2,    18.20,2,     0.00,2,     1.19,2,     -999,9,     -999,9,     -999,9,   2189.7,2,   2323.7,2,    796.9,2,   7.7032,2,    25.00,     -999,9,      0.5,6,     -999,9,     -999,9
33RO20230413  ,A16N       ,118     ,  1,1180112    ,12         ,2,20230501,0406,  49.0034, -19.9949,     4415,    801.3,   7.3946,  35.2433,2,  35.2549,2,    187.7,2,    204.3,2,    10.90,2,    18.80,2,     0.00,2,     1.23,2,     -999,9,     -999,9,     -999,9,   2196.2,2,   2323.2,2,    822.2,2,   7.6863,2,    25.00,     -999,9,      0.6,2,     -999,9,     -999,9
33RO20230413  ,A16N       ,118     ,  1,1180111    ,11         ,2,20230501,0406,  49.0034, -19.9949,     4415,    951.3,   6.1245,  35.1427,2,  35.1550,6,    207.2,2,    225.4,2,    11.00,2,    18.40,2,     0.00,2,     1.22,2,     -999,9,     -999,9,     -999,9,   2191.3,2,   2316.7,2,    829.4,2,   7.6790,2,    25.00,     -999,9,      0.6,2,     -999,9,     -999,9
33RO20230413  ,A16N       ,118     ,  1,1180110    ,10         ,2,20230501,0406,  49.0034, -19.9949,     4415,   1100.7,   5.1690,  35.0487,2,  35.0538,2,    223.5,2,    242.3,2,    10.90,2,    17.90,2,     0.00,2,     1.20,2,     -999,9,     -999,9,     -999,9,   2184.8,2,   2309.2,2,    830.4,2,   7.6816,2,    25.00,     -999,9,      0.6,2,     -999,9,     -999,9
33RO20230413  ,A16N       ,118     ,  1,1180109    ,9          ,2,20230501,0406,  49.0034, -19.9949,     4415,   1301.4,   4.1699,  34.9335,2,  34.9415,2,    243.2,2,    264.3,2,    10.60,2,    17.40,2,     0.00,2,     1.16,2,     -999,9,     -999,9,     -999,9,   2177.9,2,   2301.8,2,    830.2,6,   7.6795,2,    25.00,     -999,9,      0.7,2,     -999,9,     -999,9
33RO20230413  ,A16N       ,118     ,  1,1180108    ,8          ,2,20230501,0406,  49.0034, -19.9949,     4415,   1600.7,   3.7972,  34.9095,2,  34.9198,2,    250.7,2,    277.2,2,    10.60,2,    17.00,2,     0.00,2,     1.15,2,     -999,9,     -999,9,     -999,9,   2172.5,2,   2300.3,2,    815.5,2,   7.6860,2,    25.00,     -999,9,      0.7,2,     -999,9,     -999,9
33RO20230413  ,A16N       ,118     ,  1,1180107    ,7          ,2,20230501,0406,  49.0034, -19.9949,     4415,   2001.2,   3.5777,  34.9236,2,  34.9344,2,    245.5,2,    270.8,2,    12.40,2,    17.00,2,     0.00,2,     1.16,2,     -999,9,     -999,9,     -999,9,   2171.6,2,   2301.1,2,    795.4,2,   7.6952,2,    25.00,     -999,9,      0.8,2,     -999,9,     -999,9
33RO20230413  ,A16N       ,118     ,  1,1180106    ,6          ,2,20230501,0406,  49.0034, -19.9949,     4415,   2402.4,   3.2742,  34.9412,2,  34.9445,2,    238.1,2,    263.3,2,    17.60,2,    17.70,2,     0.00,2,     1.20,2,     -999,9,     -999,9,     -999,9,   2173.6,2,   2308.6,2,    779.6,2,   7.7036,2,    25.00,     -999,9,      0.9,2,     -999,9,     -999,9
33RO20230413  ,A16N       ,118     ,  1,1180105    ,5          ,2,20230501,0406,  49.0034, -19.9949,     4415,   2802.0,   2.9399,  34.9413,2,  34.9496,2,    229.5,2,    255.3,2,    26.10,2,    18.90,2,     0.00,2,     1.29,2,     -999,9,     -999,9,     -999,9,   2183.1,2,   2320.7,2,    775.8,2,   7.7089,2,    25.00,     -999,9,      1.0,2,     -999,9,     -999,9
33RO20230413  ,A16N       ,118     ,  1,1180104    ,4          ,2,20230501,0406,  49.0034, -19.9949,     4415,   3201.9,   2.6883,  34.9271,2,  34.9311,2,    220.9,2,    247.1,2,    35.20,6,    20.40,6,     0.00,6,     1.41,6,     -999,9,     -999,9,     -999,9,   2194.3,2,   2333.1,6,    770.7,2,   7.7126,6,    25.00,     -999,9,      0.9,2,     -999,9,     -999,9
33RO20230413  ,A16N       ,118     ,  1,1180103    ,3          ,2,20230501,0406,  49.0034, -19.9949,     4415,   3602.2,   2.5577,  34.9129,2,  34.9199,2,    215.7,2,    241.5,2,    41.50,6,    21.60,6,     0.00,6,     1.48,6,     -999,9,     -999,9,     -999,9,   2198.6,2,   2345.2,2,    768.0,2,   7.7143,2,    25.00,     -999,9,      0.9,2,     -999,9,     -999,9
33RO20230413  ,A16N       ,118     ,  1,1180102    ,2          ,2,20230501,0406,  49.0034, -19.9949,     4415,   4001.0,   2.5162,  34.9048,2,  34.9126,2,    213.4,2,    239.0,2,    44.40,6,    22.10,6,     0.00,6,     1.51,6,     -999,9,     -999,9,     -999,9,   2206.9,2,   2348.7,2,    767.0,2,   7.7177,2,    25.00,     -999,9,      0.9,2,     -999,9,     -999,9
33RO20230413  ,A16N       ,118     ,  1,1180101    ,1          ,2,20230501,0406,  49.0034, -19.9949,     4415,   4481.7,   2.5318,  34.9005,2,  34.9028,2,    213.8,2,    239.1,6,    45.60,6,    22.20,6,     0.00,6,     1.53,6,     -999,9,     -999,9,     -999,9,   2209.9,6,   2349.2,2,    764.2,2,   7.7191,2,    25.00,     -999,9,      0.9,6,     -999,9,     -999,9
33RO20230413  ,A16N       ,119     ,  1,1190122    ,22         ,2,20230501,1051,  49.5008, -20.0029,     3869,      4.1,  13.1214,  35.5144,2,  35.5142,2,    254.2,2,    270.8,2,     3.10,2,     5.30,2,     0.17,2,     0.39,2,     -999,9,     -999,9,     -999,9,   2117.0,6,   2336.6,2,    499.8,2,   7.8661,2,    25.00,     -999,9,      0.5,2,     -999,9,     -999,9
33RO20230413  ,A16N       ,119     ,  1,1190121    ,21         ,2,20230501,1051,  49.5008, -20.0029,     3869,     28.8,  12.3228,  35.5530,2,  35.5563,2,    245.1,2,    260.5,6,     3.30,2,     7.00,2,     0.42,2,     0.49,2,     -999,9,     -999,9,     -999,9,   2133.2,2,   2336.4,6,    541.8,2,   7.8447,6,    25.00,     -999,9,      0.4,6,     -999,9,     -999,9
33RO20230413  ,A16N       ,119     ,  1,1190120    ,20         ,2,20230501,1051,  49.5008, -20.0029,     3869,     84.1,  12.0892,  35.5392,2,  35.5418,6,    241.0,2,    257.5,2,     3.30,2,     7.70,2,     0.44,2,     0.53,2,     -999,9,     -999,9,     -999,9,   2136.5,2,   2334.7,2,    558.2,6,   7.8347,2,    25.00,     -999,9,      0.3,2,     -999,9,     -999,9
33RO20230413  ,A16N       ,119     ,  1,1190119    ,19         ,2,20230501,1051,  49.5008, -20.0029,     3869,    108.7,  12.0857,  35.5435,2,  35.5450,2,    242.1,2,    259.5,2,     3.30,2,     7.50,2,     0.46,2,     0.52,2,     -999,9,     -999,9,     -999,9,   2136.5,2,   2335.3,2,    556.9,2,   7.8347,2,    25.00,     -999,9,      0.5,2,     -999,9,     -999,9
33RO20230413  ,A16N       ,119     ,  1,1190118    ,18         ,2,20230501,1051,  49.5008, -20.0029,     3869,    132.0,  11.9352,  35.5299,2,  35.5294,2,    238.4,2,    255.0,2,     3.50,2,     8.30,2,     0.37,2,     0.56,2,     -999,9,     -999,9,     -999,9,   2140.8,2,   2333.8,2,    570.9,2,   7.8247,2,    25.00,     -999,9,      0.4,2,     -999,9,     -999,9
33RO20230413  ,A16N       ,119     ,  1,1190117    ,17         ,2,20230501,1051,  49.5008, -20.0029,     3869,    167.7,  11.8040,  35.5251,2,  35.5267,2,    237.9,2,    257.8,2,     3.60,2,     8.50,2,     0.25,2,     0.57,2,     -999,9,     -999,9,     -999,9,   2142.4,2,   2334.3,2,    575.4,2,   7.8214,2,    25.00,     -999,9,      0.4,2,     -999,9,     -999,9
33RO20230413  ,A16N       ,119     ,  1,1190116    ,16         ,2,20230501,1051,  49.5008, -20.0029,     3869,    226.0,  11.7353,  35.5193,2,  35.5234,2,    237.1,2,    254.6,2,     3.60,2,     8.80,2,     0.15,2,     0.58,2,     -999,9,     -999,9,     -999,9,   2146.1,2,   2332.6,2,    579.6,2,   7.8207,2,    25.00,     -999,9,      0.4,2,     -999,9,     -999,9
33RO20230413  ,A16N       ,119     ,  1,1190115    ,15         ,2,20230501,1051,  49.5008, -20.0029,     3869,    275.4,  11.4935,  35.4820,2,  35.4871,2,    229.9,2,    247.5,2,     4.00,2,     9.90,2,     0.02,2,     0.65,2,     -999,9,     -999,9,     -999,9,   2147.7,2,   2331.4,2,    604.0,2,   7.8010,2,    25.00,     -999,9,      0.5,2,     -999,9,     -999,9
33RO20230413  ,A16N       ,119     ,  1,1190114    ,14         ,2,20230501,1051,  49.5008, -20.0029,     3869,    373.8,  11.1123,  35.4414,2,  35.4435,2,    223.3,2,    241.2,2,     4.60,2,    11.10,2,     0.01,2,     0.71,2,     -999,9,     -999,9,     -999,9,   2152.0,2,   2328.0,2,    630.4,2,   7.7887,2,    25.00,     -999,9,      0.3,2,     -999,9,     -999,9
33RO20230413  ,A16N       ,119     ,  1,1190113    ,13         ,2,20230501,1051,  49.5008, -20.0029,     3869,    449.0,  10.7197,  35.3842,2,  35.3884,2,    207.5,2,    222.8,2,     5.80,2,    13.40,2,     0.01,2,     0.86,2,     -999,9,     -999,9,     -999,9,   2159.8,2,   2325.5,2,    678.7,2,   7.7596,2,    25.00,     -999,9,      0.5,2,     -999,9,     -999,9
33RO20230413  ,A16N       ,119     ,  1,1190112    ,12         ,2,20230501,1051,  49.5008, -20.0029,     3869,    514.7,  10.4031,  35.3539,2,  35.3625,2,    195.1,2,    211.4,2,     6.70,2,    14.80,2,     0.01,2,     0.96,2,     -999,9,     -999,9,     -999,9,   2168.0,6,   2324.1,2,    715.8,2,   7.7429,2,    25.00,     -999,9,      0.4,2,     -999,9,     -999,9
33RO20230413  ,A16N       ,119     ,  1,1190111    ,11         ,2,20230501,1051,  49.5008, -20.0029,     3869,    666.9,   9.3597,  35.3038,2,  35.3062,2,    176.2,2,    190.9,2,     9.30,2,    18.00,2,     0.01,2,     1.15,2,     -999,9,     -999,9,     -999,9,   2181.4,2,   2321.9,2,    788.2,2,   7.7033,2,    25.00,     -999,9,      0.5,2,     -999,9,     -999,9
33RO20230413  ,A16N       ,119     ,  1,1190110    ,10         ,2,20230501,1051,  49.5008, -20.0029,     3869,   1000.3,   6.2492,  35.1053,2,  35.1447,2,    203.4,2,    220.1,2,    11.10,2,    18.60,2,     0.00,2,     1.22,2,     -999,9,     -999,9,     -999,9,   2186.8,2,   2313.3,2,    843.7,2,   7.6766,2,    25.00,     -999,9,      0.5,2,     -999,9,     -999,9
33RO20230413  ,A16N       ,119     ,  1,1190109    ,9          ,2,20230501,1051,  49.5008, -20.0029,     3869,   1167.4,   5.6218,  35.1094,2,  35.1143,2,    216.1,2,    234.8,2,    11.00,2,    18.10,2,     0.00,2,     1.18,2,     -999,9,     -999,9,     -999,9,   2182.8,2,   2313.5,2,    824.0,2,   7.6810,2,    25.00,     -999,9,      0.6,2,     -999,9,     -999,9
33RO20230413  ,A16N       ,119     ,  1,1190108    ,8          ,2,20230501,1051,  49.5008, -20.0029,     3869,   1267.8,   4.8612,  35.0125,2,  35.0291,2,    229.0,2,    249.5,2,    10.80,2,    17.80,2,     0.00,2,     1.17,2,     -999,9,     -999,9,     -999,9,   2176.7,2,   2305.0,2,    830.1,2,   7.6810,2,    25.00,     -999,9,      0.7,2,     -999,9,     -999,9
33RO20230413  ,A16N       ,119     ,  1,1190107    ,7          ,2,20230501,1051,  49.5008, -20.0029,     3869,   1403.0,   4.3370,  34.9506,2,  34.9553,2,    239.3,2,    260.4,2,    10.60,2,    17.50,2,     0.00,2,     1.16,2,     -999,9,     -999,9,     -999,9,   2173.2,2,   2302.2,2,    830.4,2,   7.6787,2,    25.00,     -999,9,      0.6,2,     -999,9,     -999,9
33RO20230413  ,A16N       ,119     ,  1,1190106    ,6          ,2,20230501,1051,  49.5008, -20.0029,     3869,   1731.8,   3.8186,  34.9086,2,  34.9124,2,    250.5,2,    276.1,2,    10.60,2,    17.00,2,     0.00,2,     1.12,2,     -999,9,     -999,9,     -999,9,   2169.7,2,   2298.8,6,    817.3,2,   7.6856,6,    25.00,     -999,9,      0.8,2,     -999,9,     -999,9
33RO20230413  ,A16N       ,119     ,  1,1190105    ,5          ,2,20230501,1051,  49.5008, -20.0029,     3869,   2133.5,   3.5947,  34.9209,2,  34.9237,6,    246.6,2,    271.3,2,    12.00,2,    17.10,2,     0.00,2,     1.13,2,     -999,9,     -999,9,     -999,9,   2165.7,2,   2300.6,2,    796.7,2,   7.6967,2,    25.00,     -999,9,      0.8,2,     -999,9,     -999,9
33RO20230413  ,A16N       ,119     ,  1,1190104    ,4          ,2,20230501,1051,  49.5008, -20.0029,     3869,   2534.1,   3.2689,  34.9395,2,  34.9666,2,    238.9,2,    265.3,2,    17.40,2,    17.60,2,     0.00,2,     1.19,2,     -999,9,     -999,9,     -999,9,   2172.2,2,   2308.9,2,    780.4,2,   7.7059,2,    25.00,     -999,9,      0.9,2,     -999,9,     -999,9
33RO20230413  ,A16N       ,119     ,  1,1190103    ,3          ,2,20230501,1051,  49.5008, -20.0029,     3869,   2932.6,   2.9510,  34.9413,2,  34.9461,2,    229.9,2,    255.3,2,    26.40,2,    19.00,2,     0.00,2,     1.29,2,     -999,9,     -999,9,     -999,9,   2183.0,2,   2322.1,2,    773.8,2,   7.7105,2,    25.00,     -999,9,      1.0,2,     -999,9,     -999,9
33RO20230413  ,A16N       ,119     ,  1,1190102    ,2          ,2,20230501,1051,  49.5008, -20.0029,     3869,   3333.9,   2.7043,  34.9277,2,  34.9304,2,    222.8,2,    248.0,2,    34.70,2,    20.30,2,     0.00,2,     1.38,2,     -999,9,     -999,9,     -999,9,   2194.2,2,   2334.0,2,    771.0,2,   7.7115,2,    25.00,     -999,9,      0.8,2,     -999,9,     -999,9
33RO20230413  ,A16N       ,119     ,  1,1190101    ,1          ,2,20230501,1051,  49.5008, -20.0029,     3869,   3921.6,   2.4974,  34.9037,2,  34.9062,2,    215.6,2,    239.2,6,    44.80,2,    22.10,2,     0.00,2,     1.50,2,     -999,9,     -999,9,     -999,9,   2209.2,2,   2348.5,2,    764.9,2,   7.7164,2,    25.00,     -999,9,      1.0,6,     -999,9,     -999,9