BOTTLE,20240627CCHHYDRO
EXPOCODE,SECT_ID,STNNBR,CASTNO,SAMPNO,BTLNBR,BTLNBR_FLAG_W,DATE,TIME,LATITUDE,LONGITUDE,DEPTH,CTDPRS,CTDTMP,CTDSAL,CTDSAL_FLAG_W,SALNTY,SALNTY_FLAG_W,CTDOXY,CTDOXY_FLAG_W,OXYGEN,OXYGEN_FLAG_W,SILCAT,SILCAT_FLAG_W,NITRAT,NITRAT_FLAG_W,NITRIT,NITRIT_FLAG_W,PHSPHT,PHSPHT_FLAG_W,CFC-11,CFC-11_FLAG_W,CFC-12,CFC-12_FLAG_W,SF6,SF6_FLAG_W,TCARBN,TCARBN_FLAG_W,ALKALI,ALKALI_FLAG_W,FCO2,FCO2_FLAG_W,PH_TOT,PH_TOT_FLAG_W,PH_TMP,DOC,DOC_FLAG_W,DELC13,DELC13_FLAG_W,TDN,TDN_FLAG_W,N2O,N2O_FLAG_W
,,,,,,,,,,,METERS,DBAR,ITS-90,PSS-78,,PSS-78,,UMOL/KG,,UMOL/KG,,UMOL/KG,,UMOL/KG,,UMOL/KG,,UMOL/KG,,PMOL/KG,,PMOL/KG,,FMOL/KG,,UMOL/KG,,UMOL/KG,,UATM,,,,DEG C,UMOL/KG,,/MILLE,,UMOL/KG,,NMOL/KG,
33RO20230413  ,A16N       ,86      ,  1,860124     ,24         ,2,20230421,1016,  32.9998, -21.6880,     5247,      4.0,  19.9326,  36.7737,2,  36.7735,2,    213.8,2,    225.9,2,     0.70,2,     0.00,2,     0.01,2,     0.04,2,     -999,9,     -999,9,     -999,9,   2118.5,6,   2405.2,2,    392.4,2,   7.9731,2,    25.00,     -999,9,      0.7,6,     -999,9,     -999,9
33RO20230413  ,A16N       ,86      ,  1,860123     ,23         ,2,20230421,1016,  32.9998, -21.6880,     5247,     50.4,  19.9738,  36.8494,2,  36.8496,2,    213.8,2,    226.2,2,     0.70,2,     0.00,2,     0.01,2,     0.04,2,     -999,9,     -999,9,     -999,9,   2119.1,2,   2411.4,2,    389.6,2,   7.9744,2,    25.00,     -999,9,      0.9,2,     -999,9,     -999,9
33RO20230413  ,A16N       ,86      ,  1,860121     ,21         ,2,20230421,1016,  32.9998, -21.6880,     5247,    100.3,  18.7647,  36.6984,2,  36.6995,2,    213.0,2,    223.6,2,     0.70,2,     0.00,2,     0.02,2,     0.04,2,     -999,9,     -999,9,     -999,9,   2119.8,2,   2400.5,2,    400.3,6,   7.9607,2,    25.00,     -999,9,      0.7,2,     -999,9,     -999,9
33RO20230413  ,A16N       ,86      ,  1,860122     ,22         ,2,20230421,1016,  32.9998, -21.6880,     5247,    100.4,  18.7635,  36.6982,2,  36.6972,2,    213.1,2,    225.5,2,     0.80,2,     0.00,2,     0.02,2,     0.03,2,     -999,9,     -999,9,     -999,9,   2117.1,2,   2401.0,2,    399.3,2,   7.9647,2,    25.00,     -999,9,      0.7,2,     -999,9,     -999,9
33RO20230413  ,A16N       ,86      ,  1,860120     ,20         ,2,20230421,1016,  32.9998, -21.6880,     5247,    151.1,  18.1802,  36.5766,2,  36.5724,2,    207.3,2,    219.1,2,     0.90,2,     1.00,2,     0.03,2,     0.09,2,     -999,9,     -999,9,     -999,9,   2122.8,2,   2392.9,2,    420.3,2,   7.9469,2,    25.00,     -999,9,      0.6,2,     -999,9,     -999,9
33RO20230413  ,A16N       ,86      ,  1,860119     ,19         ,2,20230421,1016,  32.9998, -21.6880,     5247,    200.5,  16.9483,  36.3276,2,  36.3236,2,    190.8,2,    203.0,2,     1.80,2,     4.90,2,     0.02,2,     0.30,2,     -999,9,     -999,9,     -999,9,   2134.3,2,   2375.8,2,    475.0,2,   7.8995,2,    25.00,     -999,9,      0.3,2,     -999,9,     -999,9
33RO20230413  ,A16N       ,86      ,  1,860118     ,18         ,2,20230421,1016,  32.9998, -21.6880,     5247,    300.9,  15.2473,  36.0431,2,  36.0433,2,    190.3,2,    202.7,2,     2.60,2,     7.40,2,     0.02,2,     0.46,2,     -999,9,     -999,9,     -999,9,   2140.3,2,   2358.8,2,    530.7,2,   7.8591,2,    25.00,     -999,9,      0.4,2,     -999,9,     -999,9
33RO20230413  ,A16N       ,86      ,  1,860117     ,17         ,2,20230421,1016,  32.9998, -21.6880,     5247,    601.2,  11.6647,  35.5599,2,  35.5630,2,    180.6,2,    192.7,2,     5.90,2,    14.30,2,     0.01,2,     0.90,2,     -999,9,     -999,9,     -999,9,   2167.2,2,   2334.0,2,    688.3,2,   7.7591,2,    25.00,     -999,9,      0.3,2,     -999,9,     -999,9
33RO20230413  ,A16N       ,86      ,  1,860116     ,16         ,2,20230421,1016,  32.9998, -21.6880,     5247,    800.3,  10.3246,  35.5488,2,  35.5528,2,    159.1,2,    170.0,2,     9.90,2,    18.50,2,     0.01,2,     1.18,2,     -999,9,     -999,9,     -999,9,   2185.0,6,   2337.4,2,    759.1,2,   7.7220,2,    25.00,     -999,9,      0.6,2,     -999,9,     -999,9
33RO20230413  ,A16N       ,86      ,  1,860115     ,15         ,2,20230421,1016,  32.9998, -21.6880,     5247,   1000.7,   9.5885,  35.6774,2,  35.6784,2,    165.1,2,    177.7,2,    11.00,2,    18.30,2,     0.00,2,     1.17,2,     -999,9,     -999,9,     -999,9,   2195.3,2,   2350.6,2,    748.1,2,   7.7294,2,    25.00,     -999,9,      0.6,2,     -999,9,     -999,9
33RO20230413  ,A16N       ,86      ,  1,860114     ,14         ,2,20230421,1016,  32.9998, -21.6880,     5247,   1201.2,   8.6717,  35.6828,2,  35.6857,2,    172.6,2,    185.9,2,    12.50,2,    18.40,2,     0.01,2,     1.21,2,     -999,9,     -999,9,     -999,9,   2197.7,2,   2355.0,2,    744.4,2,   7.7314,2,    25.00,     -999,9,      0.6,2,     -999,9,     -999,9
33RO20230413  ,A16N       ,86      ,  1,860113     ,13         ,2,20230421,1016,  32.9998, -21.6880,     5247,   1451.0,   6.7034,  35.4145,2,  35.4178,6,    197.9,2,    215.0,2,    13.30,2,    18.20,2,     0.01,2,     1.19,2,     -999,9,     -999,9,     -999,9,   2185.6,2,   2335.6,2,    753.8,2,   7.7239,2,    25.00,     -999,9,      0.8,2,     -999,9,     -999,9
33RO20230413  ,A16N       ,86      ,  1,860112     ,12         ,2,20230421,1016,  32.9998, -21.6880,     5247,   1701.5,   5.3980,  35.2396,2,  35.2431,2,    213.1,2,    232.3,6,    14.30,2,    18.10,2,     0.01,2,     1.20,2,     -999,9,     -999,9,     -999,9,   2177.3,2,   2325.2,2,    756.8,2,   7.7209,2,    25.00,     -999,9,      0.9,2,     -999,9,     -999,9
33RO20230413  ,A16N       ,86      ,  1,860111     ,11         ,2,20230421,1016,  32.9998, -21.6880,     5247,   1950.7,   4.4379,  35.1122,2,  35.1158,2,    221.9,2,    242.4,2,    16.40,2,    18.30,2,     0.01,2,     1.22,2,     -999,9,     -999,9,     -999,9,   2170.9,2,   2319.7,6,    753.8,2,   7.7213,6,    25.00,     -999,9,      0.9,2,     -999,9,     -999,9
33RO20230413  ,A16N       ,86      ,  1,860110     ,10         ,2,20230421,1016,  32.9998, -21.6880,     5247,   2250.6,   3.6199,  35.0115,2,  35.0145,2,    226.6,2,    249.1,2,    20.50,2,    18.60,2,     0.00,2,     1.26,2,     -999,9,     -999,9,     -999,9,   2169.6,2,   2317.1,2,    753.5,2,   7.7212,2,    25.00,     -999,9,      0.9,2,     -999,9,     -999,9
33RO20230413  ,A16N       ,86      ,  1,860109     ,9          ,2,20230421,1016,  32.9998, -21.6880,     5247,   2550.6,   3.1980,  34.9736,2,  34.9770,2,    224.2,2,    248.0,2,    25.90,2,    19.20,2,     0.00,2,     1.32,2,     -999,9,     -999,9,     -999,9,   2175.4,2,   2322.4,2,    753.0,2,   7.7235,2,    25.00,     -999,9,      0.9,2,     -999,9,     -999,9
33RO20230413  ,A16N       ,86      ,  1,860108     ,8          ,2,20230421,1016,  32.9998, -21.6880,     5247,   2850.2,   2.9159,  34.9499,2,  34.9552,2,    220.7,2,    246.9,2,    31.20,2,    20.00,2,     0.00,2,     1.37,2,     -999,9,     -999,9,     -999,9,   2180.4,2,   2328.6,2,    755.6,2,   7.7225,2,    25.00,     -999,9,      1.0,2,     -999,9,     -999,9
33RO20230413  ,A16N       ,86      ,  1,860107     ,7          ,2,20230421,1016,  32.9998, -21.6880,     5247,   3151.3,   2.7357,  34.9340,2,  34.9368,2,    217.5,2,    243.1,2,    36.00,2,    20.70,2,     0.01,2,     1.43,2,     -999,9,     -999,9,     -999,9,   2185.7,2,   2335.7,2,    756.8,2,   7.7234,2,    25.00,     -999,9,      0.8,2,     -999,9,     -999,9
33RO20230413  ,A16N       ,86      ,  1,860106     ,6          ,2,20230421,1016,  32.9998, -21.6880,     5247,   3450.7,   2.6133,  34.9208,2,  34.9229,6,    215.5,2,    241.2,2,    39.60,2,    21.20,2,     0.01,2,     1.46,2,     -999,9,     -999,9,     -999,9,   2191.1,2,   2339.4,2,    756.9,2,   7.7226,2,    25.00,     -999,9,      1.0,2,     -999,9,     -999,9
33RO20230413  ,A16N       ,86      ,  1,860105     ,5          ,2,20230421,1016,  32.9998, -21.6880,     5247,   3750.4,   2.5292,  34.9100,2,  34.9161,2,    214.7,2,    240.7,2,    42.30,2,    21.60,2,     0.01,2,     1.48,2,     -999,9,     -999,9,     -999,9,   2193.1,2,   2339.0,2,    758.6,2,   7.7218,2,    25.00,     -999,9,      1.0,2,     -999,9,     -999,9
33RO20230413  ,A16N       ,86      ,  1,860104     ,4          ,2,20230421,1016,  32.9998, -21.6880,     5247,   4000.4,   2.4807,  34.9027,2,  34.9090,2,    214.4,2,    241.1,2,    44.00,2,    21.70,2,     0.01,2,     1.49,2,     -999,9,     -999,9,     -999,9,   2194.3,2,   2340.5,6,    760.3,2,   7.7214,6,    25.00,     -999,9,      0.9,2,     -999,9,     -999,9
33RO20230413  ,A16N       ,86      ,  1,860103     ,3          ,2,20230421,1016,  32.9998, -21.6880,     5247,   4350.9,   2.4348,  34.8942,2,  34.9017,2,    214.3,2,    241.5,2,    45.90,2,    21.90,2,     0.01,2,     1.51,2,     -999,9,     -999,9,     -999,9,   2197.0,2,   2342.7,2,    763.1,2,   7.7202,2,    25.00,     -999,9,      0.8,2,     -999,9,     -999,9
33RO20230413  ,A16N       ,86      ,  1,860102     ,2          ,2,20230421,1016,  32.9998, -21.6880,     5247,   4500.5,   2.4223,  34.8912,2,  34.8953,2,    214.3,2,    242.1,2,    46.50,2,    21.90,2,     0.00,2,     1.51,2,     -999,9,     -999,9,     -999,9,   2198.0,2,   2343.5,2,    764.0,2,   7.7196,2,    25.00,     -999,9,      0.9,2,     -999,9,     -999,9
33RO20230413  ,A16N       ,86      ,  1,860101     ,1          ,2,20230421,1016,  32.9998, -21.6880,     5247,   5344.4,   2.4685,  34.8845,2,  34.8863,2,    215.2,2,    241.5,6,    48.20,2,    22.10,2,     0.01,2,     1.52,2,     -999,9,     -999,9,     -999,9,   2203.3,2,   2347.3,2,    764.4,2,   7.7188,2,    25.00,     -999,9,      0.9,6,     -999,9,     -999,9
33RO20230413  ,A16N       ,87      ,  1,870124     ,24         ,2,20230421,2021,  33.4936, -21.4060,     5336,      4.5,  19.5264,  36.6322,2,  36.6304,2,    215.2,2,    226.7,2,     0.70,2,     0.00,2,     0.00,2,     0.06,2,     -999,9,     -999,9,     -999,9,   2117.4,2,   2396.4,2,    397.4,2,   7.9662,2,    25.00,     -999,9,      0.7,6,     -999,9,     -999,9
33RO20230413  ,A16N       ,87      ,  1,870123     ,23         ,2,20230421,2021,  33.4936, -21.4060,     5336,     60.8,  19.3760,  36.7047,2,  36.7109,6,    216.5,2,    227.8,2,     0.70,2,     0.00,2,     0.00,2,     0.06,2,     -999,9,     -999,9,     -999,9,   2120.1,6,   2401.2,2,    391.3,2,   7.9712,2,    25.00,     -999,9,      0.8,2,     -999,9,     -999,9
33RO20230413  ,A16N       ,87      ,  1,870122     ,22         ,2,20230421,2021,  33.4936, -21.4060,     5336,    110.6,  18.9517,  36.7292,2,  36.7583,2,    209.8,2,    222.1,2,     0.70,2,     0.00,2,     0.05,2,     0.07,2,     -999,9,     -999,9,     -999,9,   2127.4,2,   2401.7,2,    401.9,2,   7.9634,2,    25.00,     -999,9,      0.7,2,     -999,9,     -999,9
33RO20230413  ,A16N       ,87      ,  1,870121     ,21         ,2,20230421,2021,  33.4936, -21.4060,     5336,    165.1,  17.3415,  36.3289,2,  36.3274,2,    211.3,2,    221.4,2,     1.00,2,     1.30,2,     0.04,2,     0.14,2,     -999,9,     -999,9,     -999,9,   2122.5,2,   2378.0,2,    434.3,2,   7.9329,2,    25.00,     -999,9,      0.6,2,     -999,9,     -999,9
33RO20230413  ,A16N       ,87      ,  1,870120     ,20         ,2,20230421,2021,  33.4936, -21.4060,     5336,    210.1,  16.6448,  36.2418,2,  36.2505,2,    201.6,2,    211.5,2,     1.60,2,     3.90,2,     0.01,2,     0.29,2,     -999,9,     -999,9,     -999,9,   2135.3,2,   2372.1,6,    469.0,2,   7.9052,6,    25.00,     -999,9,      0.5,2,     -999,9,     -999,9
33RO20230413  ,A16N       ,87      ,  1,870119     ,19         ,2,20230421,2021,  33.4936, -21.4060,     5336,    324.0,  15.1711,  36.0318,2,  36.0341,2,    188.1,2,    199.4,2,     2.70,2,     7.90,2,     0.01,2,     0.51,2,     -999,9,     -999,9,     -999,9,   2148.4,2,   2357.7,2,    538.0,6,   7.8525,2,    25.00,     -999,9,      0.4,2,     -999,9,     -999,9
33RO20230413  ,A16N       ,87      ,  1,870118     ,18         ,2,20230421,2021,  33.4936, -21.4060,     5336,    489.9,  12.8110,  35.6781,2,  35.6769,2,    185.9,2,    197.5,2,     4.60,2,    12.10,2,     0.01,2,     0.77,2,     -999,9,     -999,9,     -999,9,   2163.3,2,   2337.6,2,    632.5,2,   7.7907,2,    25.00,     -999,9,      0.5,2,     -999,9,     -999,9
33RO20230413  ,A16N       ,87      ,  1,870117     ,17         ,2,20230421,2021,  33.4936, -21.4060,     5336,    650.3,  11.4075,  35.5412,2,  35.5454,2,    173.7,2,    185.0,2,     6.60,2,    15.50,2,     0.00,2,     1.00,2,     -999,9,     -999,9,     -999,9,   2174.6,2,   2332.5,2,    705.3,2,   7.7497,2,    25.00,     -999,9,      0.6,2,     -999,9,     -999,9
33RO20230413  ,A16N       ,87      ,  1,870116     ,16         ,2,20230421,2021,  33.4936, -21.4060,     5336,    784.8,  10.2729,  35.4858,2,  35.4885,2,    166.7,2,    178.3,2,     9.00,2,    17.80,2,     0.00,2,     1.15,2,     -999,9,     -999,9,     -999,9,   2184.2,6,   2331.9,2,    750.0,2,   7.7268,2,    25.00,     -999,9,      0.6,2,     -999,9,     -999,9
33RO20230413  ,A16N       ,87      ,  1,870115     ,15         ,2,20230421,2021,  33.4936, -21.4060,     5336,    949.9,   9.2477,  35.5360,2,  35.5399,2,    169.1,2,    181.7,2,    10.60,2,    18.50,2,     0.00,2,     1.21,2,     -999,9,     -999,9,     -999,9,   2183.1,2,   2338.4,2,    762.6,2,   7.7183,2,    25.00,     -999,9,      0.7,2,     -999,9,     -999,9
33RO20230413  ,A16N       ,87      ,  1,870114     ,14         ,2,20230421,2021,  33.4936, -21.4060,     5336,   1150.2,   8.3527,  35.5827,2,  35.5859,2,    177.4,2,    189.4,2,    11.80,2,    18.50,2,     0.00,2,     1.21,2,     -999,9,     -999,9,     -999,9,   2199.3,2,   2346.5,2,    754.2,2,   7.7193,2,    25.00,     -999,9,      0.9,2,     -999,9,     -999,9
33RO20230413  ,A16N       ,87      ,  1,870113     ,13         ,2,20230421,2021,  33.4936, -21.4060,     5336,   1350.6,   7.0625,  35.4544,2,  35.4547,2,    195.3,2,    211.4,6,    12.30,2,    18.10,2,     0.00,2,     1.20,2,     -999,9,     -999,9,     -999,9,   2193.5,2,   2338.1,2,    756.0,2,   7.7218,2,    25.00,     -999,9,      0.9,2,     -999,9,     -999,9
33RO20230413  ,A16N       ,87      ,  1,870111     ,11         ,2,20230421,2021,  33.4936, -21.4060,     5336,   1875.7,   4.5734,  35.1263,2,  35.1283,2,    222.0,2,    240.6,2,    15.10,2,    18.20,2,     0.00,2,     1.23,2,     -999,9,     -999,9,     -999,9,   2179.4,2,   2318.9,2,    756.3,2,   7.7181,2,    25.00,     -999,9,      1.1,2,     -999,9,     -999,9
33RO20230413  ,A16N       ,87      ,  1,870112     ,12         ,2,20230421,2021,  33.4936, -21.4060,     5336,   1876.0,   4.5733,  35.1262,2,  35.1304,2,    222.0,2,    241.3,2,    15.20,2,    18.10,2,     0.00,2,     1.22,2,     -999,9,     -999,9,     -999,9,   2177.6,2,   2320.4,2,    756.4,2,   7.7178,2,    25.00,     -999,9,      1.0,2,     -999,9,     -999,9
33RO20230413  ,A16N       ,87      ,  1,870110     ,10         ,2,20230421,2021,  33.4936, -21.4060,     5336,   2174.9,   3.7515,  35.0216,2,  35.0264,2,    227.4,2,    248.7,2,    18.70,2,    18.40,2,     0.00,2,     1.25,2,     -999,9,     -999,9,     -999,9,   2174.1,2,   2317.4,2,    754.3,2,   7.7192,2,    25.00,     -999,9,      1.1,2,     -999,9,     -999,9
33RO20230413  ,A16N       ,87      ,  1,870109     ,9          ,2,20230421,2021,  33.4936, -21.4060,     5336,   2475.0,   3.2980,  34.9775,2,  34.9911,2,    226.5,2,    249.8,2,    23.20,2,    18.90,2,     0.00,2,     1.30,2,     -999,9,     -999,9,     -999,9,   2177.9,2,   2319.9,6,    754.0,2,   7.7223,6,    25.00,     -999,9,      1.1,2,     -999,9,     -999,9
33RO20230413  ,A16N       ,87      ,  1,870108     ,8          ,2,20230421,2021,  33.4936, -21.4060,     5336,   2775.9,   3.0192,  34.9557,2,  34.9571,2,    223.1,2,    248.3,2,    28.10,2,    19.50,2,     0.00,2,     1.35,2,     -999,9,     -999,9,     -999,9,   2181.8,2,   2325.0,2,    755.1,2,   7.7193,2,    25.00,     -999,9,      1.2,2,     -999,9,     -999,9
33RO20230413  ,A16N       ,87      ,  1,870107     ,7          ,2,20230421,2021,  33.4936, -21.4060,     5336,   3074.7,   2.8130,  34.9392,2,  34.9456,2,    219.4,2,    243.7,2,    33.10,2,    20.30,2,     0.00,2,     1.41,2,     -999,9,     -999,9,     -999,9,   2187.7,2,   2330.6,2,    757.0,2,   7.7219,2,    25.00,     -999,9,      1.2,2,     -999,9,     -999,9
33RO20230413  ,A16N       ,87      ,  1,870106     ,6          ,2,20230421,2021,  33.4936, -21.4060,     5336,   3375.3,   2.6732,  34.9261,2,  34.9279,2,    216.5,2,    241.5,2,    37.30,2,    21.00,2,     0.00,2,     1.45,2,     -999,9,     -999,9,     -999,9,   2191.6,2,   2335.8,2,    757.9,2,   7.7217,2,    25.00,     -999,9,      1.1,2,     -999,9,     -999,9
33RO20230413  ,A16N       ,87      ,  1,870105     ,5          ,2,20230421,2021,  33.4936, -21.4060,     5336,   3675.5,   2.5762,  34.9148,2,  34.9251,2,    214.8,2,    240.9,2,    40.70,2,    21.50,2,     0.00,2,     1.49,2,     -999,9,     -999,9,     -999,9,   2195.6,2,   2338.8,2,    757.8,2,   7.7216,2,    25.00,     -999,9,      1.1,2,     -999,9,     -999,9
33RO20230413  ,A16N       ,87      ,  1,870104     ,4          ,2,20230421,2021,  33.4936, -21.4060,     5336,   3973.6,   2.5144,  34.9060,2,  34.9062,2,    214.2,2,    240.5,2,    43.00,6,    21.60,6,     0.00,6,     1.50,6,     -999,9,     -999,9,     -999,9,   2195.8,2,   2341.5,2,    758.7,2,   7.7207,2,    25.00,     -999,9,      1.1,2,     -999,9,     -999,9
33RO20230413  ,A16N       ,87      ,  1,870103     ,3          ,2,20230421,2021,  33.4936, -21.4060,     5336,   4276.2,   2.4596,  34.8974,2,  34.9133,2,    214.0,2,    240.6,2,    45.00,6,    21.90,6,     0.00,6,     1.52,6,     -999,9,     -999,9,     -999,9,   2196.6,2,   2343.8,2,    761.0,2,   7.7180,2,    25.00,     -999,9,      1.1,2,     -999,9,     -999,9
33RO20230413  ,A16N       ,87      ,  1,870102     ,2          ,2,20230421,2021,  33.4936, -21.4060,     5336,   4600.6,   2.4315,  34.8908,2,  34.8901,6,    213.9,2,    241.2,2,    46.40,6,    22.10,6,     0.00,6,     1.53,6,     -999,9,     -999,9,     -999,9,   2200.3,6,   2345.9,2,    762.4,2,   7.7230,2,    25.00,     -999,9,      1.1,2,     -999,9,     -999,9
33RO20230413  ,A16N       ,87      ,  1,870101     ,1          ,2,20230421,2021,  33.4936, -21.4060,     5336,   5419.7,   2.4837,  34.8847,2,  34.8964,2,    214.9,2,    239.3,6,    47.90,6,    22.20,6,     0.00,6,     1.55,6,     -999,9,     -999,9,     -999,9,   2204.1,2,   2348.5,2,    762.7,2,   7.7236,2,    25.00,     -999,9,      1.0,6,     -999,9,     -999,9