BOTTLE,20240627CCHHYDRO
EXPOCODE,SECT_ID,STNNBR,CASTNO,SAMPNO,BTLNBR,BTLNBR_FLAG_W,DATE,TIME,LATITUDE,LONGITUDE,DEPTH,CTDPRS,CTDTMP,CTDSAL,CTDSAL_FLAG_W,SALNTY,SALNTY_FLAG_W,CTDOXY,CTDOXY_FLAG_W,OXYGEN,OXYGEN_FLAG_W,SILCAT,SILCAT_FLAG_W,NITRAT,NITRAT_FLAG_W,NITRIT,NITRIT_FLAG_W,PHSPHT,PHSPHT_FLAG_W,CFC-11,CFC-11_FLAG_W,CFC-12,CFC-12_FLAG_W,SF6,SF6_FLAG_W,TCARBN,TCARBN_FLAG_W,ALKALI,ALKALI_FLAG_W,FCO2,FCO2_FLAG_W,PH_TOT,PH_TOT_FLAG_W,PH_TMP,DOC,DOC_FLAG_W,DELC13,DELC13_FLAG_W,TDN,TDN_FLAG_W,N2O,N2O_FLAG_W
,,,,,,,,,,,METERS,DBAR,ITS-90,PSS-78,,PSS-78,,UMOL/KG,,UMOL/KG,,UMOL/KG,,UMOL/KG,,UMOL/KG,,UMOL/KG,,PMOL/KG,,PMOL/KG,,FMOL/KG,,UMOL/KG,,UMOL/KG,,UATM,,,,DEG C,UMOL/KG,,/MILLE,,UMOL/KG,,NMOL/KG,
33RO20230413  ,A16N       ,106     ,  1,1060124    ,24         ,2,20230427,1917,  42.9908, -19.9919,     5120,      3.4,  14.7975,  35.6035,2,  35.6118,2,    246.1,2,    258.8,2,     1.80,2,     2.50,2,     0.12,2,     0.24,2,     -999,9,     -999,9,     -999,9,   2112.3,2,   2340.3,2,    463.4,2,   7.9022,2,    25.00,     -999,9,      0.7,6,     -999,9,     -999,9
33RO20230413  ,A16N       ,106     ,  1,1060123    ,23         ,2,20230427,1917,  42.9908, -19.9919,     5120,     24.5,  14.2521,  35.7006,2,  35.7230,2,    246.1,2,    258.9,2,     1.60,2,     2.60,2,     0.14,2,     0.22,2,     -999,9,     -999,9,     -999,9,   2122.6,2,   2346.0,2,    474.8,2,   7.8936,2,    25.00,     -999,9,      0.7,2,     -999,9,     -999,9
33RO20230413  ,A16N       ,106     ,  1,1060122    ,22         ,2,20230427,1917,  42.9908, -19.9919,     5120,     49.9,  13.9121,  35.7638,2,  35.7841,2,    239.9,2,    249.9,2,     1.70,2,     3.30,2,     0.22,2,     0.29,2,     -999,9,     -999,9,     -999,9,   2132.9,6,   2350.5,2,    498.9,2,   7.8751,2,    25.00,     -999,9,      0.6,2,     -999,9,     -999,9
33RO20230413  ,A16N       ,106     ,  1,1060121    ,21         ,2,20230427,1917,  42.9908, -19.9919,     5120,     75.0,  13.4639,  35.7405,2,  35.7432,2,    234.2,2,    244.4,2,     1.90,2,     4.80,2,     0.36,2,     0.38,2,     -999,9,     -999,9,     -999,9,   2141.1,2,   2347.2,2,    524.0,2,   7.8576,2,    25.00,     -999,9,      0.6,2,     -999,9,     -999,9
33RO20230413  ,A16N       ,106     ,  1,1060120    ,20         ,2,20230427,1917,  42.9908, -19.9919,     5120,    100.0,  13.3875,  35.7381,2,  35.7409,2,    232.2,2,    243.5,2,     2.00,2,     5.30,2,     0.26,2,     0.40,2,     -999,9,     -999,9,     -999,9,   2142.5,2,   2345.3,2,    529.5,2,   7.8529,2,    25.00,     -999,9,      0.6,2,     -999,9,     -999,9
33RO20230413  ,A16N       ,106     ,  1,1060119    ,19         ,2,20230427,1917,  42.9908, -19.9919,     5120,    150.1,  13.2443,  35.7347,2,  35.7407,2,    232.3,2,    244.2,2,     2.10,2,     6.30,2,     0.04,2,     0.44,2,     -999,9,     -999,9,     -999,9,   2142.6,2,   2345.2,6,    534.6,2,   7.8497,6,    25.00,     -999,9,      0.5,2,     -999,9,     -999,9
33RO20230413  ,A16N       ,106     ,  1,1060118    ,18         ,2,20230427,1917,  42.9908, -19.9919,     5120,    225.5,  12.9677,  35.7030,2,  35.7031,2,    227.6,2,    240.2,2,     2.50,2,     7.00,2,     0.02,2,     0.49,2,     -999,9,     -999,9,     -999,9,   2145.0,2,   2344.8,2,    550.4,2,   7.8399,2,    25.00,     -999,9,      0.5,2,     -999,9,     -999,9
33RO20230413  ,A16N       ,106     ,  1,1060117    ,17         ,2,20230427,1917,  42.9908, -19.9919,     5120,    300.3,  12.3755,  35.5951,2,  35.5978,2,    210.8,2,    222.7,2,     3.60,2,    10.00,2,     0.01,2,     0.66,2,     -999,9,     -999,9,     -999,9,   2157.0,2,   2339.7,2,    606.4,2,   7.8033,2,    25.00,     -999,9,      0.5,2,     -999,9,     -999,9
33RO20230413  ,A16N       ,106     ,  1,1060116    ,16         ,2,20230427,1917,  42.9908, -19.9919,     5120,    397.2,  11.7138,  35.5175,2,  35.5232,2,    203.7,2,    215.4,2,     4.30,2,    11.80,2,     0.01,2,     0.77,2,     -999,9,     -999,9,     -999,9,   2165.8,2,   2332.1,2,    651.6,2,   7.7766,2,    25.00,     -999,9,      0.4,2,     -999,9,     -999,9
33RO20230413  ,A16N       ,106     ,  1,1060115    ,15         ,2,20230427,1917,  42.9908, -19.9919,     5120,    500.3,  11.3622,  35.4867,2,  35.4980,2,    200.5,2,    212.2,2,     4.70,2,    12.80,2,     0.01,2,     0.83,2,     -999,9,     -999,9,     -999,9,   2170.0,2,   2331.3,2,    675.9,2,   7.7642,2,    25.00,     -999,9,      0.5,2,     -999,9,     -999,9
33RO20230413  ,A16N       ,106     ,  1,1060114    ,14         ,2,20230427,1917,  42.9908, -19.9919,     5120,    649.8,  10.4753,  35.4514,2,  35.4693,2,    182.8,2,    194.2,2,     7.00,2,    15.80,2,     0.01,2,     1.03,2,     -999,9,     -999,9,     -999,9,   2183.4,2,   2331.1,6,    735.0,2,   7.7321,6,    25.00,     -999,9,      0.5,2,     -999,9,     -999,9
33RO20230413  ,A16N       ,106     ,  1,1060113    ,13         ,2,20230427,1917,  42.9908, -19.9919,     5120,    800.0,   9.2663,  35.4457,2,  35.4575,2,    172.2,2,    183.5,2,     9.60,2,    18.10,2,     0.01,2,     1.18,2,     -999,9,     -999,9,     -999,9,   2195.7,2,   2336.4,2,    780.1,2,   7.7090,2,    25.00,     -999,9,      0.6,2,     -999,9,     -999,9
33RO20230413  ,A16N       ,106     ,  1,1060112    ,12         ,2,20230427,1917,  42.9908, -19.9919,     5120,    949.6,   8.4782,  35.5143,2,  35.5222,2,    180.7,2,    192.2,2,    10.30,2,    17.90,2,     0.01,2,     1.17,2,     -999,9,     -999,9,     -999,9,   2203.1,6,   2342.8,2,    772.6,2,   7.7139,2,    25.00,     -999,9,      0.7,2,     -999,9,     -999,9
33RO20230413  ,A16N       ,106     ,  1,1060111    ,11         ,2,20230427,1917,  42.9908, -19.9919,     5120,   1099.7,   7.1067,  35.3523,2,  35.3552,2,    197.0,2,    211.9,2,    10.60,2,    17.90,2,     0.00,2,     1.19,2,     -999,9,     -999,9,     -999,9,   2197.6,2,   2332.1,2,    791.0,6,   7.6996,2,    25.00,     -999,9,      0.7,2,     -999,9,     -999,9
33RO20230413  ,A16N       ,106     ,  1,1060110    ,10         ,2,20230427,1917,  42.9908, -19.9919,     5120,   1299.3,   5.1940,  35.0895,2,  35.1066,2,    224.8,2,    240.7,2,    10.70,2,    17.60,2,     0.00,2,     1.18,2,     -999,9,     -999,9,     -999,9,   2185.6,2,   2312.6,2,    811.2,2,   7.6918,2,    25.00,     -999,9,      0.7,2,     -999,9,     -999,9
33RO20230413  ,A16N       ,106     ,  1,1060109    ,9          ,2,20230427,1917,  42.9908, -19.9919,     5120,   1599.9,   3.9915,  34.9349,2,  34.9397,2,    245.7,2,    264.5,6,    10.60,2,    17.00,2,     0.00,2,     1.16,2,     -999,9,     -999,9,     -999,9,   2177.4,2,   2302.2,2,    811.9,2,   7.6898,2,    25.00,     -999,9,      0.8,2,     -999,9,     -999,9
33RO20230413  ,A16N       ,106     ,  1,1060108    ,8          ,2,20230427,1917,  42.9908, -19.9919,     5120,   2000.2,   3.6423,  34.9289,2,  34.9346,2,    244.0,2,    267.8,2,    12.10,2,    17.00,2,     0.00,2,     1.17,2,     -999,9,     -999,9,     -999,9,   2175.3,2,   2301.9,2,    793.4,2,   7.6987,2,    25.00,     -999,9,      0.9,2,     -999,9,     -999,9
33RO20230413  ,A16N       ,106     ,  1,1060107    ,7          ,2,20230427,1917,  42.9908, -19.9919,     5120,   2599.9,   3.0744,  34.9412,2,  34.9490,2,    235.4,2,    259.1,2,    19.70,2,    17.70,2,     0.00,2,     1.23,2,     -999,9,     -999,9,     -999,9,   2179.7,2,   2313.0,2,    778.1,2,   7.7095,2,    25.00,     -999,9,      0.9,2,     -999,9,     -999,9
33RO20230413  ,A16N       ,106     ,  1,1060106    ,6          ,2,20230427,1917,  42.9908, -19.9919,     5120,   2999.9,   2.8349,  34.9379,2,  34.9429,2,    224.7,2,    246.7,2,    29.30,2,    19.40,2,     0.00,2,     1.35,2,     -999,9,     -999,9,     -999,9,   2187.6,2,   2329.1,2,    768.5,2,   7.7148,2,    25.00,     -999,9,      1.0,2,     -999,9,     -999,9
33RO20230413  ,A16N       ,106     ,  1,1060105    ,5          ,2,20230427,1917,  42.9908, -19.9919,     5120,   3500.2,   2.6265,  34.9202,2,  34.9250,6,    216.4,2,    239.5,2,    38.20,2,    21.00,2,     0.00,2,     1.45,2,     -999,9,     -999,9,     -999,9,   2198.2,2,   2340.1,2,    770.2,2,   7.7161,2,    25.00,     -999,9,      0.9,2,     -999,9,     -999,9
33RO20230413  ,A16N       ,106     ,  1,1060104    ,4          ,2,20230427,1917,  42.9908, -19.9919,     5120,   3999.7,   2.5734,  34.9106,2,  34.9132,2,    212.0,2,    235.5,2,    42.70,6,    21.70,6,     0.00,6,     1.50,6,     -999,9,     -999,9,     -999,9,   2204.6,2,   2350.1,2,    769.2,2,   7.7168,2,    25.00,     -999,9,      1.0,2,     -999,9,     -999,9
33RO20230413  ,A16N       ,106     ,  1,1060103    ,3          ,2,20230427,1917,  42.9908, -19.9919,     5120,   4500.8,   2.6081,  34.9082,2,  34.9176,2,    210.9,2,    235.4,2,    43.80,6,    21.90,6,     0.00,6,     1.52,6,     -999,9,     -999,9,     -999,9,   2204.7,2,   2348.4,2,    767.6,2,   7.7149,2,    25.00,     -999,9,      0.9,2,     -999,9,     -999,9
33RO20230413  ,A16N       ,106     ,  1,1060102    ,2          ,2,20230427,1917,  42.9908, -19.9919,     5120,   5000.9,   2.6706,  34.9078,2,  34.9137,2,    211.2,2,    234.9,2,    43.90,6,    21.80,6,     0.00,6,     1.52,6,     -999,9,     -999,9,     -999,9,   2205.7,2,   2349.2,2,    767.3,2,   7.7159,2,    25.00,     -999,9,      1.0,2,     -999,9,     -999,9
33RO20230413  ,A16N       ,106     ,  1,1060101    ,1          ,2,20230427,1917,  42.9908, -19.9919,     5120,   5223.5,   2.7007,  34.9077,2,  34.9120,2,    212.1,2,    234.7,6,    43.90,6,    21.90,6,     0.01,6,     1.52,6,     -999,9,     -999,9,     -999,9,   2207.7,6,   2348.9,2,    766.5,2,   7.7167,2,    25.00,     -999,9,      1.0,6,     -999,9,     -999,9
33RO20230413  ,A16N       ,107     ,  1,1070124    ,24         ,2,20230428,0157,  43.5015, -19.9939,     3994,      4.3,  14.9833,  35.6424,2,  35.6450,2,    234.2,2,    247.9,2,     1.70,2,     1.90,2,     0.11,2,     0.17,2,     -999,9,     -999,9,     -999,9,   2114.9,6,   2341.5,2,    472.3,2,   7.8942,2,    25.00,     -999,9,      0.7,2,     -999,9,     -999,9
33RO20230413  ,A16N       ,107     ,  1,1070123    ,23         ,2,20230428,0157,  43.5015, -19.9939,     3994,     33.4,  14.5459,  35.7688,2,  35.7678,2,    236.7,2,    250.5,2,     1.70,2,     2.10,2,     0.12,2,     0.18,2,     -999,9,     -999,9,     -999,9,   2119.2,2,   2349.2,2,    475.4,2,   7.8925,2,    25.00,     -999,9,      0.8,2,     -999,9,     -999,9
33RO20230413  ,A16N       ,107     ,  1,1070122    ,22         ,2,20230428,0157,  43.5015, -19.9939,     3994,     58.2,  14.4030,  35.7788,2,  35.7799,2,    237.1,2,    288.3,4,     1.80,2,     2.30,2,     0.12,2,     0.20,2,     -999,9,     -999,9,     -999,9,   2121.2,2,   2349.6,2,    480.0,2,   7.8896,2,    25.00,     -999,9,      0.7,2,     -999,9,     -999,9
33RO20230413  ,A16N       ,107     ,  1,1070121    ,21         ,2,20230428,0157,  43.5015, -19.9939,     3994,     83.5,  14.0702,  35.7791,2,  35.7829,2,    234.9,2,    251.7,4,     1.90,2,     3.20,2,     0.21,2,     0.27,2,     -999,9,     -999,9,     -999,9,   2129.4,2,   2345.6,2,    497.6,2,   7.8770,2,    25.00,     -999,9,      0.6,2,     -999,9,     -999,9
33RO20230413  ,A16N       ,107     ,  1,1070120    ,20         ,2,20230428,0157,  43.5015, -19.9939,     3994,    108.8,  13.8482,  35.7768,2,  35.7782,2,    228.6,2,    240.3,2,     2.10,2,     4.40,2,     0.39,2,     0.34,2,     -999,9,     -999,9,     -999,9,   2133.6,2,   2349.8,2,    517.0,2,   7.8636,2,    25.00,     -999,9,      0.6,2,     -999,9,     -999,9
33RO20230413  ,A16N       ,107     ,  1,1070119    ,19         ,2,20230428,0157,  43.5015, -19.9939,     3994,    134.0,  13.7246,  35.7826,2,  35.7818,2,    221.6,2,    235.5,2,     2.20,2,     5.60,2,     0.13,2,     0.40,2,     -999,9,     -999,9,     -999,9,   2142.8,2,   2348.2,2,    531.4,6,   7.8524,2,    25.00,     -999,9,      0.5,2,     -999,9,     -999,9
33RO20230413  ,A16N       ,107     ,  1,1070118    ,18         ,2,20230428,0157,  43.5015, -19.9939,     3994,    166.1,  13.4229,  35.7565,2,  35.7595,2,    222.7,2,    235.5,2,     2.20,2,     6.10,2,     0.01,2,     0.42,2,     -999,9,     -999,9,     -999,9,   2141.9,2,   2347.9,2,    541.1,2,   7.8469,2,    25.00,     -999,9,      0.5,2,     -999,9,     -999,9
33RO20230413  ,A16N       ,107     ,  1,1070117    ,17         ,2,20230428,0157,  43.5015, -19.9939,     3994,    209.9,  12.9844,  35.6902,2,  35.7115,2,    203.9,2,    214.8,2,     3.40,2,     9.50,2,     0.02,2,     0.62,2,     -999,9,     -999,9,     -999,9,   2154.9,2,   2342.0,2,    592.7,2,   7.8240,2,    25.00,     -999,9,      0.4,2,     -999,9,     -999,9
33RO20230413  ,A16N       ,107     ,  1,1070116    ,16         ,2,20230428,0157,  43.5015, -19.9939,     3994,    270.7,  12.5175,  35.6186,2,  35.6218,2,    205.2,2,    217.6,2,     3.70,2,    10.10,2,     0.01,2,     0.66,2,     -999,9,     -999,9,     -999,9,   2157.8,2,   2338.8,6,    611.8,2,   7.8004,6,    25.00,     -999,9,      0.4,2,     -999,9,     -999,9
33RO20230413  ,A16N       ,107     ,  1,1070115    ,15         ,2,20230428,0157,  43.5015, -19.9939,     3994,    361.2,  11.9057,  35.5476,2,  35.5473,2,    203.8,2,    216.2,2,     4.20,2,    11.30,2,     0.01,2,     0.73,2,     -999,9,     -999,9,     -999,9,   2163.9,2,   2335.2,2,    644.4,2,   7.7811,2,    25.00,     -999,9,      0.4,2,     -999,9,     -999,9
33RO20230413  ,A16N       ,107     ,  1,1070114    ,14         ,2,20230428,0157,  43.5015, -19.9939,     3994,    451.5,  11.4706,  35.5040,2,  35.5041,2,    199.8,2,    211.3,2,     4.80,2,    12.60,2,     0.01,2,     0.81,2,     -999,9,     -999,9,     -999,9,   2168.4,2,   2330.8,2,    671.3,2,   7.7647,2,    25.00,     -999,9,      0.4,2,     -999,9,     -999,9
33RO20230413  ,A16N       ,107     ,  1,1070113    ,13         ,2,20230428,0157,  43.5015, -19.9939,     3994,    534.8,  11.0319,  35.4664,2,  35.4735,2,    194.2,2,    206.0,2,     4.80,2,    12.60,2,     0.01,2,     0.81,2,     -999,9,     -999,9,     -999,9,   2172.2,2,   2326.7,2,    698.3,2,   7.7491,2,    25.00,     -999,9,      0.4,2,     -999,9,     -999,9
33RO20230413  ,A16N       ,107     ,  1,1070112    ,12         ,2,20230428,0157,  43.5015, -19.9939,     3994,    701.1,  10.4048,  35.4800,2,  35.4818,2,    176.3,2,    186.8,2,     5.70,2,    14.00,2,     0.00,2,     0.90,2,     -999,9,     -999,9,     -999,9,   2188.3,2,   2334.4,2,    742.8,2,   7.7278,2,    25.00,     -999,9,      0.5,2,     -999,9,     -999,9
33RO20230413  ,A16N       ,107     ,  1,1070111    ,11         ,2,20230428,0157,  43.5015, -19.9939,     3994,    850.4,   9.5472,  35.5273,2,  35.5316,2,    169.9,2,    181.7,2,     9.80,2,    17.80,2,     0.00,2,     1.15,2,     -999,9,     -999,9,     -999,9,   2196.4,6,   2340.3,2,    765.7,2,   7.7164,2,    25.00,     -999,9,      0.6,6,     -999,9,     -999,9
33RO20230413  ,A16N       ,107     ,  1,1070110    ,10         ,2,20230428,0157,  43.5015, -19.9939,     3994,    980.4,   9.5119,  35.7149,2,  35.7223,2,    171.9,2,    184.1,6,    10.00,2,    17.30,2,     0.00,2,     1.11,2,     -999,9,     -999,9,     -999,9,   2203.7,2,   2355.0,2,    743.9,2,   7.7291,2,    25.00,     -999,9,      0.6,2,     -999,9,     -999,9
33RO20230413  ,A16N       ,107     ,  1,1070109    ,9          ,2,20230428,0157,  43.5015, -19.9939,     3994,   1151.3,   8.4186,  35.6187,2,  35.6230,2,    184.5,2,    197.3,2,    10.50,2,    17.40,2,     0.00,2,     1.12,2,     -999,9,     -999,9,     -999,9,   2207.3,2,   2349.6,2,    752.3,2,   7.7244,2,    25.00,     -999,9,      0.6,2,     -999,9,     -999,9
33RO20230413  ,A16N       ,107     ,  1,1070108    ,8          ,2,20230428,0157,  43.5015, -19.9939,     3994,   1263.5,   7.1595,  35.4237,2,  35.4289,2,    199.2,2,    214.0,2,    10.90,2,    17.50,2,     0.00,2,     1.15,2,     -999,9,     -999,9,     -999,9,   2196.6,2,   2336.9,2,    771.8,2,   7.7117,2,    25.00,     -999,9,      0.7,2,     -999,9,     -999,9
33RO20230413  ,A16N       ,107     ,  1,1070107    ,7          ,2,20230428,0157,  43.5015, -19.9939,     3994,   1467.6,   5.4252,  35.1570,2,  35.1607,2,    222.0,2,    239.1,2,    11.90,2,    17.50,2,     0.00,2,     1.16,2,     -999,9,     -999,9,     -999,9,   2183.2,2,   2319.4,2,    793.8,2,   7.6986,2,    25.00,     -999,9,      0.7,2,     -999,9,     -999,9
33RO20230413  ,A16N       ,107     ,  1,1070106    ,6          ,2,20230428,0157,  43.5015, -19.9939,     3994,   1734.3,   4.2980,  35.0087,2,  35.0108,2,    236.7,2,    254.5,2,    12.10,2,    17.40,2,     0.00,2,     1.16,2,     -999,9,     -999,9,     -999,9,   2177.2,2,   2308.4,6,    793.2,2,   7.7012,6,    25.00,     -999,9,      0.8,2,     -999,9,     -999,9
33RO20230413  ,A16N       ,107     ,  1,1070105    ,5          ,2,20230428,0157,  43.5015, -19.9939,     3994,   2133.5,   3.5950,  34.9587,2,  34.9600,2,    238.0,2,    258.2,2,    15.50,2,    17.70,2,     0.00,2,     1.20,2,     -999,9,     -999,9,     -999,9,   2172.3,2,   2309.3,2,    776.1,2,   7.7052,2,    25.00,     -999,9,      0.9,2,     -999,9,     -999,9
33RO20230413  ,A16N       ,107     ,  1,1070104    ,4          ,2,20230428,0157,  43.5015, -19.9939,     3994,   2533.1,   3.1476,  34.9485,2,  34.9526,6,    233.5,2,    254.1,2,    21.70,6,    18.30,6,     0.00,6,     1.25,6,     -999,9,     -999,9,     -999,9,   2180.4,2,   2317.0,2,    765.2,2,   7.7115,2,    25.00,     -999,9,      1.0,2,     -999,9,     -999,9
33RO20230413  ,A16N       ,107     ,  1,1070103    ,3          ,2,20230428,0157,  43.5015, -19.9939,     3994,   2833.6,   2.9190,  34.9417,2,  34.9418,2,    228.9,2,    251.4,2,    26.90,6,    19.00,6,     0.00,6,     1.30,6,     -999,9,     -999,9,     -999,9,   2182.9,2,   2324.9,2,    766.7,2,   7.7126,2,    25.00,     -999,9,      1.0,2,     -999,9,     -999,9
33RO20230413  ,A16N       ,107     ,  1,1070102    ,2          ,2,20230428,0157,  43.5015, -19.9939,     3994,   3333.8,   2.6523,  34.9235,2,  34.9288,2,    220.9,2,    242.4,2,    36.40,6,    20.50,6,     0.00,6,     1.41,6,     -999,9,     -999,9,     -999,9,   2197.4,2,   2338.2,2,    770.7,2,   7.7124,2,    25.00,     -999,9,      0.9,2,     -999,9,     -999,9
33RO20230413  ,A16N       ,107     ,  1,1070101    ,1          ,2,20230428,0157,  43.5015, -19.9939,     3994,   4064.2,   2.5532,  34.9075,2,  34.9096,6,    214.7,2,    234.6,6,    44.00,6,    21.80,6,     0.00,6,     1.50,6,     -999,9,     -999,9,     -999,9,   2208.6,6,   2349.7,2,    767.3,2,   7.7164,2,    25.00,     -999,9,      0.9,6,     -999,9,     -999,9