BOTTLE,20240627CCHHYDRO
EXPOCODE,SECT_ID,STNNBR,CASTNO,SAMPNO,BTLNBR,BTLNBR_FLAG_W,DATE,TIME,LATITUDE,LONGITUDE,DEPTH,CTDPRS,CTDTMP,CTDSAL,CTDSAL_FLAG_W,SALNTY,SALNTY_FLAG_W,CTDOXY,CTDOXY_FLAG_W,OXYGEN,OXYGEN_FLAG_W,SILCAT,SILCAT_FLAG_W,NITRAT,NITRAT_FLAG_W,NITRIT,NITRIT_FLAG_W,PHSPHT,PHSPHT_FLAG_W,CFC-11,CFC-11_FLAG_W,CFC-12,CFC-12_FLAG_W,SF6,SF6_FLAG_W,TCARBN,TCARBN_FLAG_W,ALKALI,ALKALI_FLAG_W,FCO2,FCO2_FLAG_W,PH_TOT,PH_TOT_FLAG_W,PH_TMP,DOC,DOC_FLAG_W,DELC13,DELC13_FLAG_W,TDN,TDN_FLAG_W,N2O,N2O_FLAG_W
,,,,,,,,,,,METERS,DBAR,ITS-90,PSS-78,,PSS-78,,UMOL/KG,,UMOL/KG,,UMOL/KG,,UMOL/KG,,UMOL/KG,,UMOL/KG,,PMOL/KG,,PMOL/KG,,FMOL/KG,,UMOL/KG,,UMOL/KG,,UATM,,,,DEG C,UMOL/KG,,/MILLE,,UMOL/KG,,NMOL/KG,
33RO20230413  ,A16N       ,122     ,  1,1220124    ,24         ,2,20230502,0731,  51.0010, -20.0040,     3658,      4.9,  12.2804,  35.3774,2,  35.3908,2,    254.0,2,    269.3,6,     3.30,2,     6.40,2,     0.21,2,     0.49,2,     -999,9,     -999,9,     -999,9,   2129.1,6,   2327.8,2,    534.7,2,   7.8476,2,    25.00,     -999,9,      0.7,2,     -999,9,     -999,9
33RO20230413  ,A16N       ,122     ,  1,1220123    ,23         ,2,20230502,0731,  51.0010, -20.0040,     3658,     33.3,  11.9725,  35.3533,2,  35.3657,2,    254.0,2,    272.3,2,     3.40,2,     6.60,2,     0.21,2,     0.51,2,     -999,9,     -999,9,     -999,9,   2132.0,2,   2328.3,2,    542.0,2,   7.8439,2,    25.00,     -999,9,      0.6,2,     -999,9,     -999,9
33RO20230413  ,A16N       ,122     ,  1,1220122    ,22         ,2,20230502,0731,  51.0010, -20.0040,     3658,     58.0,  10.9194,  35.2615,2,  35.2643,2,    251.0,2,    266.8,2,     3.80,2,     7.70,2,     0.26,2,     0.60,2,     -999,9,     -999,9,     -999,9,   2138.4,2,   2321.9,2,    578.3,2,   7.8209,2,    25.00,     -999,9,      0.5,2,     -999,9,     -999,9
33RO20230413  ,A16N       ,122     ,  1,1220121    ,21         ,2,20230502,0731,  51.0010, -20.0040,     3658,     83.0,  10.7228,  35.2543,2,  35.2592,2,    246.5,2,    264.0,2,     4.00,2,     8.90,2,     0.31,2,     0.64,2,     -999,9,     -999,9,     -999,9,   2142.7,2,   2321.8,2,    598.9,2,   7.8070,2,    25.00,     -999,9,      0.6,2,     -999,9,     -999,9
33RO20230413  ,A16N       ,122     ,  1,1220120    ,20         ,2,20230502,0731,  51.0010, -20.0040,     3658,    109.5,  10.5904,  35.2458,2,  35.2521,2,    245.3,2,    262.3,2,     4.10,2,     9.30,2,     0.19,2,     0.66,2,     -999,9,     -999,9,     -999,9,   2145.3,2,   2320.6,2,    606.5,2,   7.8001,2,    25.00,     -999,9,      0.6,2,     -999,9,     -999,9
33RO20230413  ,A16N       ,122     ,  1,1220119    ,19         ,2,20230502,0731,  51.0010, -20.0040,     3658,    134.7,  10.5802,  35.2483,2,  35.2520,2,    243.3,2,    260.2,2,     4.20,2,     9.60,2,     0.12,2,     0.68,2,     -999,9,     -999,9,     -999,9,   2147.2,2,   2322.0,2,    611.0,2,   7.7967,2,    25.00,     -999,9,      0.6,2,     -999,9,     -999,9
33RO20230413  ,A16N       ,122     ,  1,1220118    ,18         ,2,20230502,0731,  51.0010, -20.0040,     3658,    167.5,  10.4606,  35.2654,2,  35.2844,2,    244.6,2,    261.5,2,     4.40,2,     9.50,2,     0.39,2,     0.68,2,     -999,9,     -999,9,     -999,9,   2148.9,2,   2320.2,2,    613.6,2,   7.7961,2,    25.00,     -999,9,      0.4,2,     -999,9,     -999,9
33RO20230413  ,A16N       ,122     ,  1,1220117    ,17         ,2,20230502,0731,  51.0010, -20.0040,     3658,    224.9,   9.7905,  35.1710,2,  35.1757,2,    224.1,2,    240.0,2,     5.90,2,    12.60,2,     0.03,2,     0.86,2,     -999,9,     -999,9,     -999,9,   2161.3,2,   2316.0,2,    680.3,2,   7.7565,2,    25.00,     -999,9,      0.4,2,     -999,9,     -999,9
33RO20230413  ,A16N       ,122     ,  1,1220116    ,16         ,2,20230502,0731,  51.0010, -20.0040,     3658,    301.6,  10.3028,  35.3259,2,  35.3355,6,    233.7,2,    250.9,2,     5.10,2,    11.40,2,     0.01,2,     0.78,2,     -999,9,     -999,9,     -999,9,   2157.9,2,   2323.2,2,    646.9,2,   7.7750,2,    25.00,     -999,9,      0.4,2,     -999,9,     -999,9
33RO20230413  ,A16N       ,122     ,  1,1220115    ,15         ,2,20230502,0731,  51.0010, -20.0040,     3658,    375.7,   9.2985,  35.1585,2,  35.1671,2,    212.6,2,    227.4,2,     7.20,2,    14.60,2,     0.01,2,     0.99,2,     -999,9,     -999,9,     -999,9,   2170.1,2,   2314.5,6,    728.9,2,   7.7320,6,    25.00,     -999,9,      0.3,2,     -999,9,     -999,9
33RO20230413  ,A16N       ,122     ,  1,1220114    ,14         ,2,20230502,0731,  51.0010, -20.0040,     3658,    450.2,   8.5788,  35.1141,2,  35.1226,2,    192.0,2,    206.5,2,     9.20,2,    17.50,2,     0.01,2,     1.16,2,     -999,9,     -999,9,     -999,9,   2176.2,2,   2311.3,2,    800.6,2,   7.6951,2,    25.00,     -999,9,      0.5,2,     -999,9,     -999,9
33RO20230413  ,A16N       ,122     ,  1,1220113    ,13         ,2,20230502,0731,  51.0010, -20.0040,     3658,    550.9,   7.8283,  35.1298,2,  35.1398,2,    183.5,2,    197.6,2,    10.50,2,    18.90,2,     0.00,2,     1.25,2,     -999,9,     -999,9,     -999,9,   2190.7,6,   2312.4,2,    839.9,2,   7.6777,2,    25.00,     -999,9,      0.5,6,     -999,9,     -999,9
33RO20230413  ,A16N       ,122     ,  1,1220112    ,12         ,2,20230502,0731,  51.0010, -20.0040,     3658,    700.7,   6.5539,  35.0975,2,  35.1013,2,    198.5,2,    213.6,2,    11.00,2,    18.80,2,     0.00,2,     1.24,2,     -999,9,     -999,9,     -999,9,   2193.2,2,   2312.2,2,    849.3,2,   7.6728,2,    25.00,     -999,9,   -999.0,9,     -999,9,     -999,9
33RO20230413  ,A16N       ,122     ,  1,1220111    ,11         ,2,20230502,0731,  51.0010, -20.0040,     3658,    851.1,   5.5083,  35.0407,2,  35.0601,2,    216.3,2,    232.5,2,    10.90,2,    18.30,2,     0.00,2,     1.21,2,     -999,9,     -999,9,     -999,9,   2188.5,2,   2308.4,2,    846.2,6,   7.6721,2,    25.00,     -999,9,      0.6,2,     -999,9,     -999,9
33RO20230413  ,A16N       ,122     ,  1,1220110    ,10         ,2,20230502,0731,  51.0010, -20.0040,     3658,   1000.6,   4.7899,  34.9834,2,  35.0009,2,    230.6,2,    249.5,2,    10.70,2,    17.80,2,     0.00,2,     1.20,2,     -999,9,     -999,9,     -999,9,   2184.6,2,   2307.3,2,    841.2,2,   7.6757,2,    25.00,     -999,9,      0.6,2,     -999,9,     -999,9
33RO20230413  ,A16N       ,122     ,  1,1220109    ,9          ,2,20230502,0731,  51.0010, -20.0040,     3658,   1150.9,   4.3567,  34.9488,2,  34.9584,2,    239.6,2,    260.3,2,    10.60,2,    17.40,2,     0.00,2,     1.18,2,     -999,9,     -999,9,     -999,9,   2180.2,2,   2300.9,2,    833.5,2,   7.6766,2,    25.00,     -999,9,      0.5,2,     -999,9,     -999,9
33RO20230413  ,A16N       ,122     ,  1,1220108    ,8          ,2,20230502,0731,  51.0010, -20.0040,     3658,   1267.8,   4.1307,  34.9322,2,  34.9505,2,    244.7,2,    266.3,2,    10.60,2,    17.20,2,     0.00,2,     1.17,2,     -999,9,     -999,9,     -999,9,   2177.6,2,   2300.5,2,    826.9,2,   7.6793,2,    25.00,     -999,9,      0.5,2,     -999,9,     -999,9
33RO20230413  ,A16N       ,122     ,  1,1220107    ,7          ,2,20230502,0731,  51.0010, -20.0040,     3658,   1434.1,   3.9235,  34.9153,2,  34.9417,2,    249.3,2,    271.3,2,    10.60,2,    17.00,2,     0.00,2,     1.15,2,     -999,9,     -999,9,     -999,9,   2176.0,2,   2299.8,2,    822.0,2,   7.6804,2,    25.00,     -999,9,      0.7,2,     -999,9,     -999,9
33RO20230413  ,A16N       ,122     ,  1,1220106    ,6          ,2,20230502,0731,  51.0010, -20.0040,     3658,   1733.2,   3.6593,  34.9026,2,  34.9101,2,    253.3,2,    275.9,2,    10.80,2,    16.80,2,     0.00,2,     1.14,2,     -999,9,     -999,9,     -999,9,   2171.8,2,   2300.4,2,    810.6,2,   7.6848,2,    25.00,     -999,9,      0.8,2,     -999,9,     -999,9
33RO20230413  ,A16N       ,122     ,  1,1220105    ,5          ,2,20230502,0731,  51.0010, -20.0040,     3658,   2132.9,   3.4813,  34.9274,2,  34.9296,2,    244.7,2,    269.9,2,    13.30,2,    17.00,2,     0.00,2,     1.16,2,     -999,9,     -999,9,     -999,9,   2173.8,2,   2303.6,6,    793.6,2,   7.6890,6,    25.00,     -999,9,      0.9,2,     -999,9,     -999,9
33RO20230413  ,A16N       ,122     ,  1,1220104    ,4          ,2,20230502,0731,  51.0010, -20.0040,     3658,   2533.3,   3.0511,  34.9396,2,  34.9537,6,    239.5,2,    265.5,2,    18.90,2,    17.30,2,     0.00,2,     1.19,2,     -999,9,     -999,9,     -999,9,   2177.9,2,   2312.3,2,    787.4,2,   7.6975,2,    25.00,     -999,9,      0.9,2,     -999,9,     -999,9
33RO20230413  ,A16N       ,122     ,  1,1220103    ,3          ,2,20230502,0731,  51.0010, -20.0040,     3658,   2932.7,   2.7797,  34.9377,2,  34.9153,2,    231.6,2,    256.4,2,    27.10,2,    18.60,2,     0.00,2,     1.28,2,     -999,9,     -999,9,     -999,9,   2190.3,2,   2324.3,2,    785.7,2,   7.7032,2,    25.00,     -999,9,      0.9,2,     -999,9,     -999,9
33RO20230413  ,A16N       ,122     ,  1,1220102    ,2          ,2,20230502,0731,  51.0010, -20.0040,     3658,   3332.7,   2.5242,  34.9119,2,  34.9204,2,    217.9,2,    242.3,2,    41.60,2,    21.40,2,     0.00,2,     1.48,2,     -999,9,     -999,9,     -999,9,   2204.2,6,   2342.6,2,    765.7,2,   7.7163,2,    25.00,     -999,9,      0.9,2,     -999,9,     -999,9
33RO20230413  ,A16N       ,122     ,  1,1220101    ,1          ,2,20230502,0731,  51.0010, -20.0040,     3658,   3710.7,   2.4471,  34.9009,2,  34.9026,2,    215.5,2,    238.4,2,    45.80,2,    22.10,2,     0.00,2,     1.52,2,     -999,9,     -999,9,     -999,9,   2212.3,2,   2350.9,2,    765.6,2,   7.7161,2,    25.00,     -999,9,      0.9,6,     -999,9,     -999,9
33RO20230413  ,A16N       ,123     ,  2,1230224    ,24         ,2,20230502,1502,  51.5000, -20.0000,     3640,      4.5,  12.1085,  35.2057,2,  35.2080,6,    264.0,2,     -999,9,     3.70,2,     5.80,2,     0.17,2,     0.46,2,     -999,9,     -999,9,     -999,9,   2119.4,6,   2322.5,2,    523.3,2,   7.8544,2,    25.00,     -999,9,      0.9,2,     -999,9,     -999,9
33RO20230413  ,A16N       ,123     ,  2,1230223    ,23         ,2,20230502,1502,  51.5000, -20.0000,     3640,     20.2,  11.8142,  35.2136,2,  35.2194,2,    266.9,2,     -999,9,     3.70,2,     5.80,2,     0.17,2,     0.46,2,     -999,9,     -999,9,     -999,9,   2118.7,2,   2317.0,2,    523.3,2,   7.8578,2,    25.00,     -999,9,      0.8,2,     -999,9,     -999,9
33RO20230413  ,A16N       ,123     ,  2,1230222    ,22         ,2,20230502,1502,  51.5000, -20.0000,     3640,     41.8,  10.6972,  35.2058,2,  35.2099,2,    256.6,2,     -999,9,     4.00,2,     7.80,2,     0.35,2,     0.59,2,     -999,9,     -999,9,     -999,9,   2134.5,2,   2319.3,2,    577.9,2,   7.8180,2,    25.00,     -999,9,      0.7,2,     -999,9,     -999,9
33RO20230413  ,A16N       ,123     ,  2,1230221    ,21         ,2,20230502,1502,  51.5000, -20.0000,     3640,     66.8,  10.5828,  35.1938,2,  35.2041,2,    252.5,2,     -999,9,     4.20,2,     8.10,2,     0.46,2,     0.62,2,     -999,9,     -999,9,     -999,9,   2136.9,2,   2318.8,2,    592.9,2,   7.8094,2,    25.00,     -999,9,      0.7,2,     -999,9,     -999,9
33RO20230413  ,A16N       ,123     ,  2,1230220    ,20         ,2,20230502,1502,  51.5000, -20.0000,     3640,     92.5,  10.4979,  35.2178,2,  35.2308,2,    248.1,2,     -999,9,     4.30,2,     8.90,2,     0.59,2,     0.66,2,     -999,9,     -999,9,     -999,9,   2142.7,2,   2322.8,2,    607.0,2,   7.8006,2,    25.00,     -999,9,      0.6,2,     -999,9,     -999,9
33RO20230413  ,A16N       ,123     ,  2,1230219    ,19         ,2,20230502,1502,  51.5000, -20.0000,     3640,    117.4,  10.3149,  35.1927,2,  35.2074,2,    247.4,2,     -999,9,     4.30,2,     9.40,2,     0.33,2,     0.68,2,     -999,9,     -999,9,     -999,9,   2141.5,2,   2317.6,2,    615.0,2,   7.7957,2,    25.00,     -999,9,      0.6,2,     -999,9,     -999,9
33RO20230413  ,A16N       ,123     ,  2,1230218    ,18         ,2,20230502,1502,  51.5000, -20.0000,     3640,    140.8,  10.3517,  35.2065,2,  35.2106,2,    246.1,2,     -999,9,     4.40,2,     9.60,2,     0.30,2,     0.69,2,     -999,9,     -999,9,     -999,9,     -999,9,   2318.2,2,    616.1,2,   7.7953,2,    25.00,     -999,9,      0.6,2,     -999,9,     -999,9
33RO20230413  ,A16N       ,123     ,  2,1230217    ,17         ,2,20230502,1502,  51.5000, -20.0000,     3640,    183.9,  10.1192,  35.1889,2,  35.1955,2,    237.1,2,    253.0,2,     5.00,2,    11.10,2,     0.04,2,     0.76,2,     -999,9,     -999,9,     -999,9,   2150.3,2,   2317.0,6,    645.3,2,   7.7782,6,    25.00,     -999,9,      0.6,2,     -999,9,     -999,9
33RO20230413  ,A16N       ,123     ,  2,1230216    ,16         ,2,20230502,1502,  51.5000, -20.0000,     3640,    250.0,   9.8272,  35.1984,2,  35.2006,2,    226.0,2,    242.0,2,     5.80,2,    12.70,2,     0.02,2,     0.85,2,     -999,9,     -999,9,     -999,9,   2158.7,2,   2315.4,2,    679.9,2,   7.7592,2,    25.00,     -999,9,      0.5,2,     -999,9,     -999,9
33RO20230413  ,A16N       ,123     ,  2,1230215    ,15         ,2,20230502,1502,  51.5000, -20.0000,     3640,    326.0,   9.4376,  35.1819,2,  35.1853,2,    213.3,2,    231.6,2,     6.90,2,    14.40,2,     0.02,2,     0.96,2,     -999,9,     -999,9,     -999,9,   2168.6,2,   2316.1,2,    720.3,2,   7.7368,2,    25.00,     -999,9,      0.5,2,     -999,9,     -999,9
33RO20230413  ,A16N       ,123     ,  2,1230214    ,14         ,2,20230502,1502,  51.5000, -20.0000,     3640,    400.2,   8.6804,  35.1068,2,  35.1105,2,    208.3,2,    223.7,2,     8.10,2,    16.10,2,     0.01,2,     1.08,2,     -999,9,     -999,9,     -999,9,   2174.0,2,   2310.4,2,    765.9,2,   7.7126,2,    25.00,     -999,9,      0.6,6,     -999,9,     -999,9
33RO20230413  ,A16N       ,123     ,  2,1230213    ,13         ,2,20230502,1502,  51.5000, -20.0000,     3640,    475.8,   7.6692,  35.0359,2,  35.0443,2,    188.5,2,    203.3,2,    10.40,2,    18.80,2,     0.01,2,     1.25,2,     -999,9,     -999,9,     -999,9,     -999,9,   2303.2,2,    847.0,2,   7.6752,2,    25.00,     -999,9,      0.6,2,     -999,9,     -999,9
33RO20230413  ,A16N       ,123     ,  2,1230212    ,12         ,2,20230502,1502,  51.5000, -20.0000,     3640,    600.5,   6.7600,  35.0431,2,  35.0633,2,    195.8,2,    210.2,2,    10.90,2,    19.00,2,     0.01,2,     1.25,2,     -999,9,     -999,9,     -999,9,   2189.0,2,   2308.9,2,    859.4,2,   7.6690,2,    25.00,     -999,9,      0.5,2,     -999,9,     -999,9
33RO20230413  ,A16N       ,123     ,  2,1230211    ,11         ,2,20230502,1502,  51.5000, -20.0000,     3640,    750.5,   5.8254,  35.0327,2,  35.0405,2,    209.9,2,    226.1,2,    10.90,2,    18.60,2,     0.01,2,     1.23,2,     -999,9,     -999,9,     -999,9,   2187.4,2,   2311.3,2,    856.3,2,   7.6705,2,    25.00,     -999,9,      0.6,2,     -999,9,     -999,9
33RO20230413  ,A16N       ,123     ,  2,1230210    ,10         ,2,20230502,1502,  51.5000, -20.0000,     3640,    902.3,   5.0864,  35.0090,2,  35.0123,2,    225.0,2,    241.9,2,    10.80,2,    18.10,2,     0.00,2,     1.20,2,     -999,9,     -999,9,     -999,9,   2183.9,2,   2305.4,2,    844.2,2,   7.6745,2,    25.00,     -999,9,      0.7,2,     -999,9,     -999,9
33RO20230413  ,A16N       ,123     ,  2,1230209    ,9          ,2,20230502,1502,  51.5000, -20.0000,     3640,   1050.7,   4.6614,  34.9859,2,  34.9907,2,    233.9,2,    252.2,2,    10.70,2,    17.70,2,     0.00,2,     1.19,2,     -999,9,     -999,9,     -999,9,   2181.1,2,   2304.0,2,    833.9,2,   7.6789,2,    25.00,     -999,9,      0.8,2,     -999,9,     -999,9
33RO20230413  ,A16N       ,123     ,  2,1230208    ,8          ,2,20230502,1502,  51.5000, -20.0000,     3640,   1233.4,   4.0976,  34.9300,2,  34.9392,2,    245.6,2,    265.9,2,    10.60,2,    17.20,2,     0.00,2,     1.15,2,     -999,9,     -999,9,     -999,9,   2174.7,2,   2300.1,2,    828.2,2,   7.6801,2,    25.00,     -999,9,      0.8,2,     -999,9,     -999,9
33RO20230413  ,A16N       ,123     ,  2,1230207    ,7          ,2,20230502,1502,  51.5000, -20.0000,     3640,   1500.1,   3.7943,  34.9129,2,  34.9243,2,    250.9,2,    275.1,2,    10.90,2,    17.00,2,     0.00,2,     1.15,2,     -999,9,     -999,9,     -999,9,   2173.4,2,   2300.4,2,    814.9,2,   7.6870,2,    25.00,     -999,9,      0.8,2,     -999,9,     -999,9
33RO20230413  ,A16N       ,123     ,  2,1230206    ,6          ,2,20230502,1502,  51.5000, -20.0000,     3640,   1868.3,   3.5518,  34.9173,2,  34.9268,6,    249.3,2,    272.3,2,    11.70,2,    16.90,2,     0.00,2,     1.14,2,     -999,9,     -999,9,     -999,9,     -999,9,   2299.3,2,    798.6,6,   7.6944,2,    25.00,     -999,9,      0.9,2,     -999,9,     -999,9
33RO20230413  ,A16N       ,123     ,  2,1230205    ,5          ,2,20230502,1502,  51.5000, -20.0000,     3640,   2267.7,   3.2692,  34.9351,2,  34.9400,2,    242.9,2,    266.5,2,    15.30,2,    17.20,2,     0.00,2,     1.17,2,     -999,9,     -999,9,     -999,9,   2172.2,2,   2305.1,2,    784.6,2,   7.7017,2,    25.00,     -999,9,      0.8,2,     -999,9,     -999,9
33RO20230413  ,A16N       ,123     ,  2,1230204    ,4          ,2,20230502,1502,  51.5000, -20.0000,     3640,   2667.4,   2.9572,  34.9417,2,  34.9461,2,    236.8,2,    271.4,3,    21.50,2,    17.80,2,     0.00,2,     1.22,2,     -999,9,     -999,9,     -999,9,     -999,9,   2314.5,2,    784.9,2,   7.7030,2,    25.00,     -999,9,      0.9,2,     -999,9,     -999,9
33RO20230413  ,A16N       ,123     ,  2,1230203    ,3          ,2,20230502,1502,  51.5000, -20.0000,     3640,   3067.5,   2.6730,  34.9268,2,  34.9322,2,    223.8,2,    249.6,3,    34.60,2,    20.30,2,     0.00,2,     1.39,2,     -999,9,     -999,9,     -999,9,   2194.3,2,   2331.7,2,    773.1,2,   7.7121,2,    25.00,     -999,9,      1.0,2,     -999,9,     -999,9
33RO20230413  ,A16N       ,123     ,  2,1230202    ,2          ,2,20230502,1502,  51.5000, -20.0000,     3640,   3467.5,   2.4878,  34.9071,2,  34.9098,2,    217.0,2,    239.9,6,    43.30,2,    21.70,2,     0.00,2,     1.50,2,     -999,9,     -999,9,     -999,9,   2205.8,2,   2348.2,6,    767.4,2,   7.7160,6,    25.00,     -999,9,      1.0,2,     -999,9,     -999,9
33RO20230413  ,A16N       ,123     ,  2,1230201    ,1          ,2,20230502,1502,  51.5000, -20.0000,     3640,   3688.5,   2.4549,  34.9017,2,  34.9045,2,    215.7,2,    238.6,6,    45.60,2,    22.10,2,     0.00,2,     1.52,2,     -999,9,     -999,9,     -999,9,   2208.6,6,   2349.4,2,    766.5,2,   7.7174,2,    25.00,     -999,9,      0.9,6,     -999,9,     -999,9