BOTTLE,20240627CCHHYDRO
EXPOCODE,SECT_ID,STNNBR,CASTNO,SAMPNO,BTLNBR,BTLNBR_FLAG_W,DATE,TIME,LATITUDE,LONGITUDE,DEPTH,CTDPRS,CTDTMP,CTDSAL,CTDSAL_FLAG_W,SALNTY,SALNTY_FLAG_W,CTDOXY,CTDOXY_FLAG_W,OXYGEN,OXYGEN_FLAG_W,SILCAT,SILCAT_FLAG_W,NITRAT,NITRAT_FLAG_W,NITRIT,NITRIT_FLAG_W,PHSPHT,PHSPHT_FLAG_W,CFC-11,CFC-11_FLAG_W,CFC-12,CFC-12_FLAG_W,SF6,SF6_FLAG_W,TCARBN,TCARBN_FLAG_W,ALKALI,ALKALI_FLAG_W,FCO2,FCO2_FLAG_W,PH_TOT,PH_TOT_FLAG_W,PH_TMP,DOC,DOC_FLAG_W,DELC13,DELC13_FLAG_W,TDN,TDN_FLAG_W,N2O,N2O_FLAG_W
,,,,,,,,,,,METERS,DBAR,ITS-90,PSS-78,,PSS-78,,UMOL/KG,,UMOL/KG,,UMOL/KG,,UMOL/KG,,UMOL/KG,,UMOL/KG,,PMOL/KG,,PMOL/KG,,FMOL/KG,,UMOL/KG,,UMOL/KG,,UATM,,,,DEG C,UMOL/KG,,/MILLE,,UMOL/KG,,NMOL/KG,
33RO20230413  ,A16N       ,110     ,  1,1100124    ,24         ,2,20230428,2228,  44.9996, -19.9885,     4308,      3.9,  14.3351,  35.6981,2,  35.6994,2,    247.8,2,    260.2,2,     2.10,2,     3.00,2,     0.12,2,     0.26,2,     -999,9,     -999,9,     -999,9,   2116.3,6,   2345.3,2,    469.1,2,   7.8953,2,    25.00,     -999,9,      0.7,6,     -999,9,     -999,9
33RO20230413  ,A16N       ,110     ,  1,1100123    ,23         ,2,20230428,2228,  44.9996, -19.9885,     4308,     32.7,  13.7278,  35.7305,2,  35.7457,2,    247.6,2,    259.5,2,     2.30,2,     4.10,2,     0.19,2,     0.33,2,     -999,9,     -999,9,     -999,9,   2122.9,2,   2347.6,2,    484.7,2,   7.8850,2,    25.00,     -999,9,      0.7,2,     -999,9,     -999,9
33RO20230413  ,A16N       ,110     ,  1,1100122    ,22         ,2,20230428,2228,  44.9996, -19.9885,     4308,     57.9,  13.6106,  35.7476,2,  35.7499,2,    240.0,2,    251.8,2,     2.40,2,     4.80,2,     0.30,2,     0.37,2,     -999,9,     -999,9,     -999,9,   2129.9,2,   2347.4,2,    503.1,2,   7.8710,2,    25.00,     -999,9,      0.5,2,     -999,9,     -999,9
33RO20230413  ,A16N       ,110     ,  1,1100121    ,21         ,2,20230428,2228,  44.9996, -19.9885,     4308,     82.8,  13.5363,  35.7550,2,  35.7580,2,    236.3,2,    246.7,2,     2.50,2,     5.00,2,     0.44,2,     0.39,2,     -999,9,     -999,9,     -999,9,   2135.7,2,   2345.7,2,    513.0,2,   7.8644,2,    25.00,     -999,9,      0.5,2,     -999,9,     -999,9
33RO20230413  ,A16N       ,110     ,  1,1100120    ,20         ,2,20230428,2228,  44.9996, -19.9885,     4308,    108.1,  13.4991,  35.7558,2,  35.7676,2,    235.6,2,    248.2,2,     2.50,2,     5.30,2,     0.50,2,     0.40,2,     -999,9,     -999,9,     -999,9,   2131.7,2,   2346.8,2,    516.3,2,   7.8623,2,    25.00,     -999,9,      0.5,2,     -999,9,     -999,9
33RO20230413  ,A16N       ,110     ,  1,1100119    ,19         ,2,20230428,2228,  44.9996, -19.9885,     4308,    132.9,  13.4614,  35.7560,2,  35.7665,2,    235.0,2,    247.7,2,     2.50,2,     5.60,2,     0.48,2,     0.43,2,     -999,9,     -999,9,     -999,9,   2136.5,2,   2347.6,6,    519.7,2,   7.8609,6,    25.00,     -999,9,      0.6,2,     -999,9,     -999,9
33RO20230413  ,A16N       ,110     ,  1,1100118    ,18         ,2,20230428,2228,  44.9996, -19.9885,     4308,    166.9,  13.3798,  35.7557,2,  35.7573,2,    233.9,2,    246.9,2,     2.60,2,     6.10,2,     0.27,2,     0.44,2,     -999,9,     -999,9,     -999,9,   2136.7,2,   2346.8,2,    524.1,2,   7.8569,2,    25.00,     -999,9,      0.5,2,     -999,9,     -999,9
33RO20230413  ,A16N       ,110     ,  1,1100117    ,17         ,2,20230428,2228,  44.9996, -19.9885,     4308,    225.1,  13.3488,  35.7514,2,  35.7544,2,    232.5,2,    245.1,2,     2.60,2,     6.50,2,     0.03,2,     0.45,2,     -999,9,     -999,9,     -999,9,   2139.5,2,   2347.2,2,    528.1,6,   7.8547,2,    25.00,     -999,9,      0.5,2,     -999,9,     -999,9
33RO20230413  ,A16N       ,110     ,  1,1100116    ,16         ,2,20230428,2228,  44.9996, -19.9885,     4308,    311.1,  13.1382,  35.7120,2,  35.7157,2,    227.4,2,    239.4,2,     3.80,2,     7.50,2,     0.01,2,     0.51,2,     -999,9,     -999,9,     -999,9,   2142.2,2,   2345.2,2,    544.5,2,   7.8422,2,    25.00,     -999,9,      0.4,2,     -999,9,     -999,9
33RO20230413  ,A16N       ,110     ,  1,1100115    ,15         ,2,20230428,2228,  44.9996, -19.9885,     4308,    375.1,  12.6025,  35.6222,2,  35.6251,2,    210.1,2,    222.3,4,     3.90,2,     9.90,2,     0.01,2,     0.65,2,     -999,9,     -999,9,     -999,9,   2152.5,2,   2338.2,2,    595.0,2,   7.8101,2,    25.00,     -999,9,      0.3,2,     -999,9,     -999,9
33RO20230413  ,A16N       ,110     ,  1,1100114    ,14         ,2,20230428,2228,  44.9996, -19.9885,     4308,    451.4,  11.9327,  35.5352,2,  35.5387,2,    200.7,2,    212.7,2,     4.80,2,    11.90,2,     0.01,2,     0.77,2,     -999,9,     -999,9,     -999,9,   2162.8,2,   2332.9,2,    643.0,2,   7.7781,2,    25.00,     -999,9,      0.4,2,     -999,9,     -999,9
33RO20230413  ,A16N       ,110     ,  1,1100113    ,13         ,2,20230428,2228,  44.9996, -19.9885,     4308,    550.3,  11.2886,  35.4732,2,  35.4762,6,    196.2,2,    209.1,2,     5.60,2,    13.40,2,     0.01,2,     0.87,2,     -999,9,     -999,9,     -999,9,   2168.3,2,   2330.0,2,    682.4,2,   7.7575,2,    25.00,     -999,9,      0.4,2,     -999,9,     -999,9
33RO20230413  ,A16N       ,110     ,  1,1100112    ,12         ,2,20230428,2228,  44.9996, -19.9885,     4308,    700.6,  10.1339,  35.3962,2,  35.4142,2,    176.0,2,    187.3,6,     8.50,2,    17.00,2,     0.00,2,     1.11,2,     -999,9,     -999,9,     -999,9,   2184.2,2,   2327.9,2,    757.8,2,   7.7176,2,    25.00,     -999,9,      0.4,2,     -999,9,     -999,9
33RO20230413  ,A16N       ,110     ,  1,1100111    ,11         ,2,20230428,2228,  44.9996, -19.9885,     4308,    850.2,   9.6244,  35.4884,2,  35.4867,2,    170.3,2,    181.7,2,     9.80,2,    17.80,2,     0.00,2,     1.16,2,     -999,9,     -999,9,     -999,9,   2193.4,6,   2334.6,2,    770.3,2,   7.7120,2,    25.00,     -999,9,      0.5,2,     -999,9,     -999,9
33RO20230413  ,A16N       ,110     ,  1,1100110    ,10         ,2,20230428,2228,  44.9996, -19.9885,     4308,    998.4,   8.4140,  35.4511,2,  35.4540,2,    179.3,2,    192.2,2,    10.80,2,    18.20,2,     0.00,2,     1.19,2,     -999,9,     -999,9,     -999,9,   2198.8,2,   2335.4,2,    784.3,2,   7.7064,2,    25.00,     -999,9,      0.6,2,     -999,9,     -999,9
33RO20230413  ,A16N       ,110     ,  1,1100109    ,9          ,2,20230428,2228,  44.9996, -19.9885,     4308,   1167.2,   5.8471,  35.0970,2,  35.1003,2,    210.4,2,    224.3,2,    11.50,2,    18.20,2,     0.00,2,     1.23,2,     -999,9,     -999,9,     -999,9,   2187.7,2,   2312.4,2,    830.0,2,   7.6808,2,    25.00,     -999,9,      0.6,2,     -999,9,     -999,9
33RO20230413  ,A16N       ,110     ,  1,1100108    ,8          ,2,20230428,2228,  44.9996, -19.9885,     4308,   1400.9,   4.7925,  35.0099,2,  35.0277,2,    230.6,2,    248.9,2,    11.10,2,    17.50,2,     0.00,2,     1.19,2,     -999,9,     -999,9,     -999,9,   2182.6,2,   2305.2,2,    821.0,2,   7.6850,2,    25.00,     -999,9,      0.7,2,     -999,9,     -999,9
33RO20230413  ,A16N       ,110     ,  1,1100107    ,7          ,2,20230428,2228,  44.9996, -19.9885,     4308,   1732.8,   3.9749,  34.9312,2,  34.9368,2,    245.4,2,    264.5,2,    11.10,2,    17.10,2,     0.00,2,     1.16,2,     -999,9,     -999,9,     -999,9,   2174.6,2,   2301.3,6,    809.9,2,   7.6868,6,    25.00,     -999,9,      0.7,2,     -999,9,     -999,9
33RO20230413  ,A16N       ,110     ,  1,1100106    ,6          ,2,20230428,2228,  44.9996, -19.9885,     4308,   2134.5,   3.6117,  34.9175,2,  34.9212,6,    246.9,2,    267.3,2,    12.20,2,    17.00,2,     0.00,2,     1.16,2,     -999,9,     -999,9,     -999,9,   2171.7,2,   2300.4,2,    797.2,2,   7.6916,2,    25.00,     -999,9,      0.8,2,     -999,9,     -999,9
33RO20230413  ,A16N       ,110     ,  1,1100105    ,5          ,2,20230428,2228,  44.9996, -19.9885,     4308,   2532.5,   3.2961,  34.9350,2,  34.9489,2,    240.9,2,    261.8,2,    15.40,2,    17.30,2,     0.00,2,     1.18,2,     -999,9,     -999,9,     -999,9,   2172.0,2,   2306.6,2,    780.6,2,   7.6859,2,    25.00,     -999,9,      0.9,2,     -999,9,     -999,9
33RO20230413  ,A16N       ,110     ,  1,1100104    ,4          ,2,20230428,2228,  44.9996, -19.9885,     4308,   2933.0,   3.0027,  34.9422,2,  34.9468,2,    232.1,2,    254.0,2,    23.60,6,    18.30,6,     0.00,6,     1.26,6,     -999,9,     -999,9,     -999,9,   2180.0,2,   2318.1,2,    773.3,2,   7.7071,2,    25.00,     -999,9,   -999.0,9,     -999,9,     -999,9
33RO20230413  ,A16N       ,110     ,  1,1100103    ,3          ,2,20230428,2228,  44.9996, -19.9885,     4308,   3331.0,   2.7655,  34.9322,2,  34.9372,2,    224.3,2,    247.8,2,    32.00,6,    19.60,6,     0.00,6,     1.36,6,     -999,9,     -999,9,     -999,9,   2191.5,2,   2329.2,2,    775.0,2,   7.7076,2,    25.00,     -999,9,      0.9,2,     -999,9,     -999,9
33RO20230413  ,A16N       ,110     ,  1,1100102    ,2          ,2,20230428,2228,  44.9996, -19.9885,     4308,   3834.0,   2.5843,  34.9132,2,  34.9191,2,    215.6,2,    237.5,2,    41.80,6,    21.30,6,     0.00,6,     1.49,6,     -999,9,     -999,9,     -999,9,   2202.7,2,   2343.9,2,    769.7,2,   7.7125,2,    25.00,     -999,9,      0.9,2,     -999,9,     -999,9
33RO20230413  ,A16N       ,110     ,  1,1100101    ,1          ,2,20230428,2228,  44.9996, -19.9885,     4308,   4387.5,   2.5941,  34.9078,2,  34.9091,2,    214.1,2,    234.9,6,    44.30,6,    21.80,6,     0.00,6,     1.51,6,     -999,9,     -999,9,     -999,9,   2207.8,6,   2348.2,2,    767.6,2,   7.7311,2,    25.00,     -999,9,      0.9,6,     -999,9,     -999,9
33RO20230413  ,A16N       ,111     ,  1,1110124    ,24         ,2,20230429,0453,  45.4989, -19.9970,     4530,      4.6,  14.1835,  35.7131,2,  35.7137,6,    249.9,2,    262.0,2,     2.10,2,     2.60,2,     0.11,2,     0.25,2,     -999,9,     -999,9,     -999,9,   2114.8,6,   2348.7,2,    460.3,2,   7.9003,2,    25.00,     -999,9,      0.8,2,     -999,9,     -999,9
33RO20230413  ,A16N       ,111     ,  1,1110123    ,23         ,2,20230429,0453,  45.4989, -19.9970,     4530,     20.4,  14.1417,  35.7133,2,  35.7163,2,    250.3,2,    263.3,2,     2.10,2,     2.80,2,     0.11,2,     0.26,2,     -999,9,     -999,9,     -999,9,   2116.3,2,   2350.7,2,    465.1,2,   7.8996,2,    25.00,     -999,9,      0.8,2,     -999,9,     -999,9
33RO20230413  ,A16N       ,111     ,  1,1110122    ,22         ,2,20230429,0453,  45.4989, -19.9970,     4530,     51.9,  13.4977,  35.7445,2,  35.7457,2,    237.5,2,    250.3,2,     2.20,2,     4.70,2,     0.24,2,     0.38,2,     -999,9,     -999,9,     -999,9,   2133.8,2,   2349.7,2,    513.1,2,   7.8679,2,    25.00,     -999,9,      0.6,2,     -999,9,     -999,9
33RO20230413  ,A16N       ,111     ,  1,1110121    ,21         ,2,20230429,0453,  45.4989, -19.9970,     4530,     67.9,  13.4872,  35.7441,2,  35.7460,2,    236.9,2,    247.7,2,     2.60,2,     4.90,2,     0.26,2,     0.39,2,     -999,9,     -999,9,     -999,9,   2135.1,2,   2347.5,2,    515.0,2,   7.8642,2,    25.00,     -999,9,      0.6,2,     -999,9,     -999,9
33RO20230413  ,A16N       ,111     ,  1,1110120    ,20         ,2,20230429,0453,  45.4989, -19.9970,     4530,     91.8,  13.4270,  35.7489,2,  35.7496,2,    235.7,2,    248.3,2,     2.30,2,     5.20,2,     0.34,2,     0.40,2,     -999,9,     -999,9,     -999,9,   2137.5,2,   2347.2,2,    520.7,2,   7.8611,2,    25.00,     -999,9,      0.7,2,     -999,9,     -999,9
33RO20230413  ,A16N       ,111     ,  1,1110119    ,19         ,2,20230429,0453,  45.4989, -19.9970,     4530,    113.8,  13.3341,  35.7529,2,  35.7561,2,    233.7,2,    246.8,2,     2.40,2,     5.90,2,     0.29,2,     0.43,2,     -999,9,     -999,9,     -999,9,   2138.7,2,   2347.1,2,    528.8,2,   7.8547,2,    25.00,     -999,9,      0.5,2,     -999,9,     -999,9
33RO20230413  ,A16N       ,111     ,  1,1110118    ,18         ,2,20230429,0453,  45.4989, -19.9970,     4530,    156.6,  13.2672,  35.7400,2,  35.7443,2,    233.8,2,     -999,9,     2.50,2,     6.00,2,     0.32,2,     0.45,2,     -999,9,     -999,9,     -999,9,   2140.5,2,   2346.8,6,    531.4,2,   7.8527,6,    25.00,     -999,9,      0.6,2,     -999,9,     -999,9
33RO20230413  ,A16N       ,111     ,  1,1110117    ,17         ,2,20230429,0453,  45.4989, -19.9970,     4530,    241.6,  12.8960,  35.6769,2,  35.6782,2,    218.4,2,    229.9,2,     3.30,2,     8.40,2,     0.02,2,     0.56,2,     -999,9,     -999,9,     -999,9,   2147.6,2,   2340.9,2,    569.6,2,   7.8278,2,    25.00,     -999,9,      0.6,2,     -999,9,     -999,9
33RO20230413  ,A16N       ,111     ,  1,1110116    ,16         ,2,20230429,0453,  45.4989, -19.9970,     4530,    324.6,  12.2091,  35.5715,2,  35.5874,2,    205.2,2,    219.1,2,     4.30,2,    10.90,2,     0.01,2,     0.72,2,     -999,9,     -999,9,     -999,9,   2159.4,2,   2336.4,2,    622.1,2,   7.7933,2,    25.00,     -999,9,      0.5,2,     -999,9,     -999,9
33RO20230413  ,A16N       ,111     ,  1,1110115    ,15         ,2,20230429,0453,  45.4989, -19.9970,     4530,    388.4,  11.8537,  35.5279,2,  35.5291,2,    205.1,2,    217.1,2,     4.70,2,    11.60,2,     0.01,2,     0.76,2,     -999,9,     -999,9,     -999,9,   2161.3,2,   2333.4,2,    638.7,2,   7.7822,2,    25.00,     -999,9,      0.4,2,     -999,9,     -999,9
33RO20230413  ,A16N       ,111     ,  1,1110114    ,14         ,2,20230429,0453,  45.4989, -19.9970,     4530,    467.0,  11.5008,  35.4902,2,  35.4922,2,    197.0,2,    208.3,6,     5.40,2,    13.00,2,     0.01,2,     0.84,2,     -999,9,     -999,9,     -999,9,   2167.4,2,   2331.3,2,    670.5,2,   7.7643,2,    25.00,     -999,9,      0.4,2,     -999,9,     -999,9
33RO20230413  ,A16N       ,111     ,  1,1110113    ,13         ,2,20230429,0453,  45.4989, -19.9970,     4530,    599.7,  10.6528,  35.3908,2,  35.3944,2,    188.2,2,    199.2,2,     6.90,2,    15.20,2,     0.00,2,     0.99,2,     -999,9,     -999,9,     -999,9,   2175.4,2,   2324.8,2,    719.8,2,   7.7379,2,    25.00,     -999,9,      0.4,2,     -999,9,     -999,9
33RO20230413  ,A16N       ,111     ,  1,1110112    ,12         ,2,20230429,0453,  45.4989, -19.9970,     4530,    749.3,   9.2947,  35.3022,2,  35.3028,2,    171.6,2,    182.6,2,     9.90,2,    18.60,2,     0.00,2,     1.21,2,     -999,9,     -999,9,     -999,9,   2187.3,6,   2324.8,2,    796.5,2,   7.6989,2,    25.00,     -999,9,      0.6,6,     -999,9,     -999,9
33RO20230413  ,A16N       ,111     ,  1,1110111    ,11         ,2,20230429,0453,  45.4989, -19.9970,     4530,    899.7,   7.8518,  35.2315,2,  35.2335,6,    179.9,2,    190.9,2,    11.30,2,    19.00,2,     0.00,2,     1.25,2,     -999,9,     -999,9,     -999,9,   2192.7,2,   2323.3,2,    825.8,2,   7.6846,2,    25.00,     -999,9,      0.6,2,     -999,9,     -999,9
33RO20230413  ,A16N       ,111     ,  1,1110110    ,10         ,2,20230429,0453,  45.4989, -19.9970,     4530,   1050.1,   6.3956,  35.1322,2,  35.1358,2,    200.8,2,    212.0,2,    11.30,2,    18.60,2,     0.00,2,     1.24,2,     -999,9,     -999,9,     -999,9,   2190.2,2,   2316.5,2,    835.2,2,   7.6809,2,    25.00,     -999,9,      0.7,2,     -999,9,     -999,9
33RO20230413  ,A16N       ,111     ,  1,1110109    ,9          ,2,20230429,0453,  45.4989, -19.9970,     4530,   1274.5,   5.0550,  35.0332,2,  35.0374,2,    225.5,2,    241.5,2,    11.10,2,    17.80,2,     0.00,2,     1.20,2,     -999,9,     -999,9,     -999,9,   2181.3,2,   2310.3,2,    826.8,2,   7.6826,2,    25.00,     -999,9,      0.8,2,     -999,9,     -999,9
33RO20230413  ,A16N       ,111     ,  1,1110108    ,8          ,2,20230429,0453,  45.4989, -19.9970,     4530,   1499.6,   4.2601,  34.9547,2,  34.9573,2,    240.5,2,    259.1,2,    11.50,2,    17.40,2,     0.00,2,     1.17,2,     -999,9,     -999,9,     -999,9,   2175.4,2,   2304.3,2,    817.2,2,   7.6848,2,    25.00,     -999,9,      0.9,2,     -999,9,     -999,9
33RO20230413  ,A16N       ,111     ,  1,1110107    ,7          ,2,20230429,0453,  45.4989, -19.9970,     4530,   1868.6,   3.7233,  34.9150,2,  34.9178,2,    248.6,2,    268.9,2,    11.40,2,    16.90,2,     0.00,2,     1.15,2,     -999,9,     -999,9,     -999,9,   2169.5,2,   2301.1,2,    804.3,2,   7.6906,2,    25.00,     -999,9,      0.8,2,     -999,9,     -999,9
33RO20230413  ,A16N       ,111     ,  1,1110106    ,6          ,2,20230429,0453,  45.4989, -19.9970,     4530,   2267.0,   3.5027,  34.9291,2,  34.9318,2,    242.9,2,    264.2,2,    13.30,2,    17.10,2,     0.00,2,     1.16,2,     -999,9,     -999,9,     -999,9,   2167.6,2,   2304.7,2,    788.1,2,   7.6982,2,    25.00,     -999,9,      0.9,2,     -999,9,     -999,9
33RO20230413  ,A16N       ,111     ,  1,1110105    ,5          ,2,20230429,0453,  45.4989, -19.9970,     4530,   2667.5,   3.1930,  34.9408,2,  34.9496,2,    236.6,2,    258.9,2,    18.70,2,    17.80,2,     0.00,2,     1.21,2,     -999,9,     -999,9,     -999,9,   2172.4,2,   2311.8,2,    774.6,6,   7.7052,2,    25.00,     -999,9,      1.0,2,     -999,9,     -999,9
33RO20230413  ,A16N       ,111     ,  1,1110104    ,4          ,2,20230429,0453,  45.4989, -19.9970,     4530,   3067.2,   2.8947,  34.9392,2,  34.9437,2,    229.2,2,    251.9,2,    26.40,6,    18.80,6,     0.00,6,     1.29,6,     -999,9,     -999,9,     -999,9,   2182.4,2,   2324.1,2,    775.3,2,   7.7081,2,    25.00,     -999,9,      1.0,2,     -999,9,     -999,9
33RO20230413  ,A16N       ,111     ,  1,1110103    ,3          ,2,20230429,0453,  45.4989, -19.9970,     4530,   3567.6,   2.6593,  34.9221,2,  34.9268,2,    218.6,2,    241.8,2,    37.70,6,    20.70,6,     0.00,6,     1.43,6,     -999,9,     -999,9,     -999,9,   2195.8,2,   2339.0,6,    770.2,2,   7.7126,6,    25.00,     -999,9,      1.0,2,     -999,9,     -999,9
33RO20230413  ,A16N       ,111     ,  1,1110102    ,2          ,2,20230429,0453,  45.4989, -19.9970,     4530,   4068.8,   2.5689,  34.9092,2,  34.9271,2,    213.6,2,    235.8,2,    43.40,6,    21.60,6,     0.00,6,     1.50,6,     -999,9,     -999,9,     -999,9,   2203.6,2,   2347.1,2,    768.2,2,   7.7143,2,    25.00,     -999,9,      1.0,2,     -999,9,     -999,9
33RO20230413  ,A16N       ,111     ,  1,1110101    ,1          ,2,20230429,0453,  45.4989, -19.9970,     4530,   4615.5,   2.5881,  34.9044,2,  34.9103,2,    212.8,2,    234.1,6,    45.40,6,    22.10,6,     0.00,6,     1.52,6,     -999,9,     -999,9,     -999,9,   2208.3,6,   2350.4,2,    766.6,2,   7.7174,2,    25.00,     -999,9,      1.0,6,     -999,9,     -999,9