BOTTLE,20240627CCHHYDRO
EXPOCODE,SECT_ID,STNNBR,CASTNO,SAMPNO,BTLNBR,BTLNBR_FLAG_W,DATE,TIME,LATITUDE,LONGITUDE,DEPTH,CTDPRS,CTDTMP,CTDSAL,CTDSAL_FLAG_W,SALNTY,SALNTY_FLAG_W,CTDOXY,CTDOXY_FLAG_W,OXYGEN,OXYGEN_FLAG_W,SILCAT,SILCAT_FLAG_W,NITRAT,NITRAT_FLAG_W,NITRIT,NITRIT_FLAG_W,PHSPHT,PHSPHT_FLAG_W,CFC-11,CFC-11_FLAG_W,CFC-12,CFC-12_FLAG_W,SF6,SF6_FLAG_W,TCARBN,TCARBN_FLAG_W,ALKALI,ALKALI_FLAG_W,FCO2,FCO2_FLAG_W,PH_TOT,PH_TOT_FLAG_W,PH_TMP,DOC,DOC_FLAG_W,DELC13,DELC13_FLAG_W,TDN,TDN_FLAG_W,N2O,N2O_FLAG_W
,,,,,,,,,,,METERS,DBAR,ITS-90,PSS-78,,PSS-78,,UMOL/KG,,UMOL/KG,,UMOL/KG,,UMOL/KG,,UMOL/KG,,UMOL/KG,,PMOL/KG,,PMOL/KG,,FMOL/KG,,UMOL/KG,,UMOL/KG,,UATM,,,,DEG C,UMOL/KG,,/MILLE,,UMOL/KG,,NMOL/KG,
33RO20230413  ,A16N       ,142     ,  1,1420124    ,24         ,2,20230506,2150,  61.0000, -20.0000,     2401,      4.7,   9.1149,  35.2225,2,  -9.0000,9,    264.5,2,    281.4,2,     5.30,2,    10.60,2,     0.20,2,     0.75,2,     -999,9,     -999,9,     -999,9,   2149.7,6,   2319.2,2,    632.4,2,   7.7834,2,    25.00,     -999,9,      0.6,6,     -999,9,     -999,9
33RO20230413  ,A16N       ,142     ,  1,1420123    ,23         ,2,20230506,2150,  61.0000, -20.0000,     2401,     23.8,   8.9904,  35.2235,2,  35.2293,2,    262.9,2,    280.5,2,     5.30,2,    11.00,2,     0.18,2,     0.77,2,     -999,9,     -999,9,     -999,9,   2148.3,2,   2318.8,2,    640.0,2,   7.7784,2,    25.00,     -999,9,      0.7,2,     -999,9,     -999,9
33RO20230413  ,A16N       ,142     ,  1,1420122    ,22         ,2,20230506,2150,  61.0000, -20.0000,     2401,     50.0,   8.9577,  35.2271,2,  -9.0000,9,    261.4,2,    278.3,6,     5.30,2,    11.10,2,     0.20,2,     0.78,2,     -999,9,     -999,9,     -999,9,   2153.3,2,   2318.6,2,    644.4,2,   7.7770,2,    25.00,     -999,9,      0.6,2,     -999,9,     -999,9
33RO20230413  ,A16N       ,142     ,  1,1420121    ,21         ,2,20230506,2150,  61.0000, -20.0000,     2401,     73.9,   8.9377,  35.2315,2,  35.2385,2,    259.9,2,    278.2,2,     5.30,2,    11.20,2,     0.21,2,     0.79,2,     -999,9,     -999,9,     -999,9,   2154.3,2,   2319.3,2,    647.9,2,   7.7754,2,    25.00,     -999,9,      0.6,2,     -999,9,     -999,9
33RO20230413  ,A16N       ,142     ,  1,1420120    ,20         ,2,20230506,2150,  61.0000, -20.0000,     2401,    101.7,   8.9342,  35.2319,2,  -9.0000,9,    259.3,2,    278.5,2,     5.30,2,    11.30,2,     0.22,2,     0.79,2,     -999,9,     -999,9,     -999,9,   2153.5,2,   2319.1,2,    649.5,2,   7.7758,2,    25.00,     -999,9,      0.7,2,     -999,9,     -999,9
33RO20230413  ,A16N       ,142     ,  1,1420119    ,19         ,2,20230506,2150,  61.0000, -20.0000,     2401,    125.8,   8.9351,  35.2319,2,  35.2384,2,    259.1,2,    277.9,2,     5.40,2,    11.30,2,     0.22,2,     0.79,2,     -999,9,     -999,9,     -999,9,   2155.2,2,   2319.0,6,    649.7,2,   7.7740,6,    25.00,     -999,9,      0.6,2,     -999,9,     -999,9
33RO20230413  ,A16N       ,142     ,  1,1420118    ,18         ,2,20230506,2150,  61.0000, -20.0000,     2401,    143.5,   8.9342,  35.2316,2,  -9.0000,9,    258.9,2,    276.8,2,     5.30,2,    11.30,2,     0.23,2,     0.80,2,     -999,9,     -999,9,     -999,9,   2153.1,2,   2319.4,2,    651.2,2,   7.7747,2,    25.00,     -999,9,      0.5,2,     -999,9,     -999,9
33RO20230413  ,A16N       ,142     ,  1,1420117    ,17         ,2,20230506,2150,  61.0000, -20.0000,     2401,    171.3,   8.9138,  35.2291,2,  35.2352,6,    257.7,2,    276.0,2,     5.40,2,    11.50,2,     0.23,2,     0.80,2,     -999,9,     -999,9,     -999,9,   2157.7,2,   2318.9,2,    653.4,2,   7.7723,2,    25.00,     -999,9,      0.6,2,     -999,9,     -999,9
33RO20230413  ,A16N       ,142     ,  1,1420116    ,16         ,2,20230506,2150,  61.0000, -20.0000,     2401,    200.3,   8.7050,  35.2074,2,  -9.0000,9,    251.1,2,    269.0,2,     5.80,2,    12.70,2,     0.12,2,     0.86,2,     -999,9,     -999,9,     -999,9,   2155.1,2,   2315.8,2,    678.2,2,   7.7584,2,    25.00,     -999,9,      0.6,2,     -999,9,     -999,9
33RO20230413  ,A16N       ,142     ,  1,1420115    ,15         ,2,20230506,2150,  61.0000, -20.0000,     2401,    250.8,   8.5910,  35.2064,2,  35.2101,2,    250.8,2,    268.4,2,     5.90,2,    12.80,2,     0.06,2,     0.87,2,     -999,9,     -999,9,     -999,9,   2158.6,2,   2315.1,2,    683.3,2,   7.7550,2,    25.00,     -999,9,      0.6,2,     -999,9,     -999,9
33RO20230413  ,A16N       ,142     ,  1,1420114    ,14         ,2,20230506,2150,  61.0000, -20.0000,     2401,    300.5,   8.4858,  35.1993,2,  -9.0000,9,    248.7,2,    266.9,2,     6.00,2,    13.10,2,     0.05,2,     0.89,2,     -999,9,     -999,9,     -999,9,   2160.4,2,   2314.4,2,    690.4,2,   7.7513,2,    25.00,     -999,9,      0.6,2,     -999,9,     -999,9
33RO20230413  ,A16N       ,142     ,  1,1420113    ,13         ,2,20230506,2150,  61.0000, -20.0000,     2401,    375.1,   8.2868,  35.1886,2,  35.1936,2,    246.0,2,    263.9,2,     6.20,2,    13.60,2,     0.01,2,     0.91,2,     -999,9,     -999,9,     -999,9,   2158.4,2,   2314.5,2,    701.2,2,   7.7464,2,    25.00,     -999,9,      0.6,2,     -999,9,     -999,9
33RO20230413  ,A16N       ,142     ,  1,1420112    ,12         ,2,20230506,2150,  61.0000, -20.0000,     2401,    450.4,   7.9821,  35.1542,2,  -9.0000,9,    235.8,2,    253.9,2,     7.10,2,    14.70,2,     0.01,2,     0.99,2,     -999,9,     -999,9,     -999,9,   2168.6,2,   2312.4,6,    731.6,2,   7.7297,6,    25.00,     -999,9,      0.6,2,     -999,9,     -999,9
33RO20230413  ,A16N       ,142     ,  1,1420111    ,11         ,2,20230506,2150,  61.0000, -20.0000,     2401,    524.5,   7.6682,  35.1333,2,  35.1403,6,    232.6,2,    250.5,2,     7.60,2,    15.30,2,     0.01,2,     1.03,2,     -999,9,     -999,9,     -999,9,   2172.2,2,   2311.9,2,    748.6,2,   7.7202,2,    25.00,     -999,9,      0.6,2,     -999,9,     -999,9
33RO20230413  ,A16N       ,142     ,  1,1420110    ,10         ,2,20230506,2150,  61.0000, -20.0000,     2401,    600.1,   7.0537,  35.0828,2,  -9.0000,9,    209.9,2,    226.3,2,     9.70,2,    17.70,2,     0.01,2,     1.18,2,     -999,9,     -999,9,     -999,9,   2184.1,2,   2311.4,2,    820.3,2,   7.6865,2,    25.00,     -999,9,      0.6,2,     -999,9,     -999,9
33RO20230413  ,A16N       ,142     ,  1,1420109    ,9          ,2,20230506,2150,  61.0000, -20.0000,     2401,    700.4,   6.3723,  35.0602,2,  35.0679,2,    202.8,2,    218.9,2,    10.90,2,    18.70,2,     0.01,2,     1.25,2,     -999,9,     -999,9,     -999,9,   2189.5,6,   2309.3,2,    854.8,2,   7.6706,2,    25.00,     -999,9,      0.6,2,     -999,9,     -999,9
33RO20230413  ,A16N       ,142     ,  1,1420108    ,8          ,2,20230506,2150,  61.0000, -20.0000,     2401,    850.3,   5.2642,  34.9999,2,  -9.0000,9,    220.7,2,    239.4,2,    10.90,2,    18.30,2,     0.00,2,     1.22,2,     -999,9,     -999,9,     -999,9,   2187.1,2,   2305.8,2,    856.1,2,   7.6697,2,    25.00,     -999,9,      0.7,2,     -999,9,     -999,9
33RO20230413  ,A16N       ,142     ,  1,1420107    ,7          ,2,20230506,2150,  61.0000, -20.0000,     2401,    999.5,   4.5377,  34.9496,2,  34.9553,2,    235.2,2,    254.6,2,    10.60,2,    17.90,2,     0.00,2,     1.20,2,     -999,9,     -999,9,     -999,9,   2181.0,2,   2300.1,2,    847.9,2,   7.6709,2,    25.00,     -999,9,      0.7,2,     -999,9,     -999,9
33RO20230413  ,A16N       ,142     ,  1,1420106    ,6          ,2,20230506,2150,  61.0000, -20.0000,     2401,   1200.0,   4.1043,  34.9224,2,  -9.0000,9,    245.4,2,    266.3,2,    10.50,2,    17.50,2,     0.01,2,     1.17,2,     -999,9,     -999,9,     -999,9,   2177.8,2,   2300.2,2,    833.8,2,   7.6772,2,    25.00,     -999,9,      0.8,2,     -999,9,     -999,9
33RO20230413  ,A16N       ,142     ,  1,1420105    ,5          ,2,20230506,2150,  61.0000, -20.0000,     2401,   1400.8,   3.8531,  34.9097,2,  34.9182,2,    251.0,2,    272.8,2,    10.60,2,    17.20,2,     0.00,2,     1.16,2,     -999,9,     -999,9,     -999,9,   2173.0,2,   2299.1,2,    821.2,2,   7.6820,2,    25.00,     -999,9,      0.8,2,     -999,9,     -999,9
33RO20230413  ,A16N       ,142     ,  1,1420104    ,4          ,2,20230506,2150,  61.0000, -20.0000,     2401,   1600.5,   3.7194,  34.9106,2,  -9.0000,9,    253.1,2,    275.4,2,    10.60,6,    16.80,6,     0.00,6,     1.15,6,     -999,9,     -999,9,     -999,9,   2170.3,2,   2297.4,2,    812.0,2,   7.6856,2,    25.00,     -999,9,      0.8,2,     -999,9,     -999,9
33RO20230413  ,A16N       ,142     ,  1,1420103    ,3          ,2,20230506,2150,  61.0000, -20.0000,     2401,   1800.4,   3.5929,  34.9216,2,  34.9402,2,    249.9,2,    272.5,2,    11.60,6,    16.90,6,     0.00,6,     1.15,6,     -999,9,     -999,9,     -999,9,   2169.9,2,   2299.3,2,    801.4,2,   7.6890,2,    25.00,     -999,9,      0.9,2,     -999,9,     -999,9
33RO20230413  ,A16N       ,142     ,  1,1420102    ,2          ,2,20230506,2150,  61.0000, -20.0000,     2401,   2001.0,   3.4053,  34.9375,2,  -9.0000,9,    247.7,2,    270.6,2,    12.60,6,    16.70,6,     0.00,6,     1.14,6,     -999,9,     -999,9,     -999,9,   2169.9,2,   2302.7,2,    794.6,6,   7.6915,2,    25.00,     -999,9,      0.9,2,     -999,9,     -999,9
33RO20230413  ,A16N       ,142     ,  1,1420101    ,1          ,2,20230506,2150,  61.0000, -20.0000,     2401,   2424.5,   2.6812,  34.9622,2,  34.9729,2,    249.8,2,    272.6,6,    14.00,6,    15.80,6,     0.01,6,     1.09,6,     -999,9,     -999,9,     -999,9,   2181.0,6,   2305.4,2,    828.4,2,   7.6814,2,    25.00,     -999,9,      0.9,6,     -999,9,     -999,9
33RO20230413  ,A16N       ,143     ,  1,1430124    ,24         ,2,20230507,0203,  61.3340, -20.0002,     2347,      4.8,   9.0477,  35.2132,2,  -9.0000,9,    262.5,2,    279.6,2,     5.30,2,    11.10,2,     0.18,2,     0.79,2,     -999,9,     -999,9,     -999,9,   2152.3,6,   2317.9,2,    641.5,2,   7.7794,2,    25.00,     -999,9,      0.7,6,     -999,9,     -999,9
33RO20230413  ,A16N       ,143     ,  1,1430123    ,23         ,2,20230507,0203,  61.3340, -20.0002,     2347,     33.3,   9.1294,  35.2458,2,  35.2555,2,    257.1,2,    274.7,6,     5.20,2,    11.10,2,     0.21,2,     0.80,2,     -999,9,     -999,9,     -999,9,     -999,9,   2318.5,2,   -999.0,9,   7.7773,2,    25.00,     -999,9,      0.6,2,     -999,9,     -999,9
33RO20230413  ,A16N       ,143     ,  1,1430122    ,22         ,2,20230507,0203,  61.3340, -20.0002,     2347,     57.9,   9.0214,  35.2274,2,  -9.0000,9,    258.8,2,    274.2,2,     5.30,2,    11.10,2,     0.25,2,     0.79,2,     -999,9,     -999,9,     -999,9,     -999,9,   2319.1,2,   -999.0,9,   7.7760,6,    25.00,     -999,9,      0.7,2,     -999,9,     -999,9
33RO20230413  ,A16N       ,143     ,  1,1430121    ,21         ,2,20230507,0203,  61.3340, -20.0002,     2347,     83.4,   8.9852,  35.2219,2,  35.2264,2,    257.4,2,    274.2,2,     5.30,2,    11.30,2,     0.22,2,     0.80,2,     -999,9,     -999,9,     -999,9,   2156.4,2,   -999.0,9,    653.3,2,   7.7737,2,    25.00,     -999,9,   -999.0,9,     -999,9,     -999,9
33RO20230413  ,A16N       ,143     ,  1,1430120    ,20         ,2,20230507,0203,  61.3340, -20.0002,     2347,    108.7,   8.9378,  35.2199,2,  -9.0000,9,    259.1,2,    276.6,2,     5.30,2,    11.10,2,     0.22,2,     0.80,2,     -999,9,     -999,9,     -999,9,     -999,9,   2317.2,2,   -999.0,9,   7.7739,2,    25.00,     -999,9,      0.6,2,     -999,9,     -999,9
33RO20230413  ,A16N       ,143     ,  1,1430119    ,19         ,2,20230507,0203,  61.3340, -20.0002,     2347,    133.0,   8.9150,  35.2199,2,  35.2241,2,    258.6,2,    276.5,2,     5.30,2,    11.30,2,     0.21,2,     0.80,2,     -999,9,     -999,9,     -999,9,     -999,9,   2319.2,2,   -999.0,9,   7.7730,2,    25.00,     -999,9,      0.7,2,     -999,9,     -999,9
33RO20230413  ,A16N       ,143     ,  1,1430118    ,18         ,2,20230507,0203,  61.3340, -20.0002,     2347,    158.1,   8.9065,  35.2192,2,  -9.0000,9,    258.3,2,    276.9,2,     5.30,2,    11.40,2,     0.21,2,     0.81,2,     -999,9,     -999,9,     -999,9,   2154.1,2,   -999.0,9,    653.5,2,   7.7730,2,    25.00,     -999,9,      0.6,2,     -999,9,     -999,9
33RO20230413  ,A16N       ,143     ,  1,1430117    ,17         ,2,20230507,0203,  61.3340, -20.0002,     2347,    183.2,   8.8932,  35.2171,2,  35.2221,2,    258.0,2,    276.2,2,     5.40,2,    11.50,2,     0.21,2,     0.81,2,     -999,9,     -999,9,     -999,9,     -999,9,   2317.4,2,   -999.0,9,   7.7696,2,    25.00,     -999,9,      0.6,2,     -999,9,     -999,9
33RO20230413  ,A16N       ,143     ,  1,1430116    ,16         ,2,20230507,0203,  61.3340, -20.0002,     2347,    217.2,   8.7147,  35.1919,2,  -9.0000,9,    251.2,2,    269.0,2,     5.70,2,    12.60,2,     0.09,2,     0.86,2,     -999,9,     -999,9,     -999,9,   2158.2,2,   -999.0,9,    677.9,2,   7.7578,2,    25.00,     -999,9,      0.5,2,     -999,9,     -999,9
33RO20230413  ,A16N       ,143     ,  1,1430115    ,15         ,2,20230507,0203,  61.3340, -20.0002,     2347,    267.7,   8.5507,  35.1743,2,  35.1936,2,    247.4,2,    265.4,2,     6.10,2,    13.10,2,     0.05,2,     0.90,2,     -999,9,     -999,9,     -999,9,     -999,9,   2315.8,2,   -999.0,9,   7.7510,2,    25.00,     -999,9,      0.6,2,     -999,9,     -999,9
33RO20230413  ,A16N       ,143     ,  1,1430114    ,14         ,2,20230507,0203,  61.3340, -20.0002,     2347,    325.7,   8.4121,  35.1690,2,  -9.0000,9,    247.2,2,    265.6,2,     6.30,2,    13.40,2,     0.10,2,     0.92,2,     -999,9,     -999,9,     -999,9,   2161.6,2,   -999.0,9,    698.1,2,   7.7482,2,    25.00,     -999,9,      0.6,2,     -999,9,     -999,9
33RO20230413  ,A16N       ,143     ,  1,1430113    ,13         ,2,20230507,0203,  61.3340, -20.0002,     2347,    400.4,   8.0574,  35.1545,2,  35.1613,2,    238.0,2,    255.7,2,     6.90,2,    14.40,2,     0.01,2,     0.98,2,     -999,9,     -999,9,     -999,9,     -999,9,   2311.1,2,   -999.0,9,   7.7338,2,    25.00,     -999,9,      0.6,2,     -999,9,     -999,9
33RO20230413  ,A16N       ,143     ,  1,1430112    ,12         ,2,20230507,0203,  61.3340, -20.0002,     2347,    475.6,   7.5992,  35.1183,2,  -9.0000,9,    227.1,2,    242.4,4,     8.20,2,    15.90,2,     0.01,2,     1.07,2,     -999,9,     -999,9,     -999,9,   2176.8,2,   -999.0,9,    769.1,2,   7.7118,2,    25.00,     -999,9,      0.6,2,     -999,9,     -999,9
33RO20230413  ,A16N       ,143     ,  1,1430111    ,11         ,2,20230507,0203,  61.3340, -20.0002,     2347,    550.2,   6.9244,  35.0751,2,  35.0853,2,    208.3,2,    222.4,2,    10.00,2,    17.80,2,     0.00,2,     1.19,2,     -999,9,     -999,9,     -999,9,   2183.1,2,   2310.5,2,    826.6,2,   7.6810,2,    25.00,     -999,9,      0.5,2,     -999,9,     -999,9
33RO20230413  ,A16N       ,143     ,  1,1430110    ,10         ,2,20230507,0203,  61.3340, -20.0002,     2347,    633.5,   6.3651,  35.0597,2,  -9.0000,9,    207.7,2,    223.8,2,    10.50,2,    18.30,2,     0.00,2,     1.22,2,     -999,9,     -999,9,     -999,9,   2188.5,2,   -999.0,9,    845.1,6,   7.6743,2,    25.00,     -999,9,      0.7,6,     -999,9,     -999,9
33RO20230413  ,A16N       ,143     ,  1,1430109    ,9          ,2,20230507,0203,  61.3340, -20.0002,     2347,    750.2,   5.5645,  35.0234,2,  35.0299,2,    215.9,2,    232.6,2,    11.00,2,    18.40,2,     0.00,2,     1.23,2,     -999,9,     -999,9,     -999,9,   2189.4,2,   2305.6,2,    854.5,2,   7.6703,2,    25.00,     -999,9,      0.6,2,     -999,9,     -999,9
33RO20230413  ,A16N       ,143     ,  1,1430108    ,8          ,2,20230507,0203,  61.3340, -20.0002,     2347,    901.0,   4.7698,  34.9641,2,  -9.0000,9,    230.3,2,    249.8,2,    10.80,2,    18.00,2,     0.00,2,     1.21,2,     -999,9,     -999,9,     -999,9,     -999,9,   -999.0,9,   -999.0,9,-999.0000,9,    25.00,     -999,9,      0.7,2,     -999,9,     -999,9
33RO20230413  ,A16N       ,143     ,  1,1430107    ,7          ,2,20230507,0203,  61.3340, -20.0002,     2347,   1068.3,   4.2810,  34.9332,2,  34.9411,6,    241.4,2,    261.4,2,    10.60,2,    17.60,2,     0.00,2,     1.18,2,     -999,9,     -999,9,     -999,9,   2181.6,2,   2301.5,2,    840.4,2,   7.6752,2,    25.00,     -999,9,      0.7,2,     -999,9,     -999,9
33RO20230413  ,A16N       ,143     ,  1,1430106    ,6          ,2,20230507,0203,  61.3340, -20.0002,     2347,   1267.4,   3.9568,  34.9157,2,  -9.0000,9,    248.9,2,    269.9,2,    10.60,2,    17.30,2,     0.00,2,     1.17,2,     -999,9,     -999,9,     -999,9,     -999,9,   2298.1,2,   -999.0,9,   7.6805,2,    25.00,     -999,9,      0.8,2,     -999,9,     -999,9
33RO20230413  ,A16N       ,143     ,  1,1430105    ,5          ,2,20230507,0203,  61.3340, -20.0002,     2347,   1467.1,   3.7478,  34.9044,2,  34.9099,2,    253.6,2,    275.6,2,    10.60,2,    17.10,2,     0.00,2,     1.15,2,     -999,9,     -999,9,     -999,9,     -999,9,   2298.1,2,   -999.0,9,   7.6856,2,    25.00,     -999,9,      0.8,2,     -999,9,     -999,9
33RO20230413  ,A16N       ,143     ,  1,1430104    ,4          ,2,20230507,0203,  61.3340, -20.0002,     2347,   1668.1,   3.6331,  34.9091,2,  -9.0000,9,    253.3,2,    275.6,2,    11.00,6,    16.90,6,     0.00,6,     1.14,6,     -999,9,     -999,9,     -999,9,   2180.9,2,   -999.0,9,    806.2,2,   7.6879,2,    25.00,     -999,9,      0.7,2,     -999,9,     -999,9
33RO20230413  ,A16N       ,143     ,  1,1430103    ,3          ,2,20230507,0203,  61.3340, -20.0002,     2347,   1967.1,   3.4241,  34.9377,2,  34.9438,2,    247.9,2,    270.8,2,    12.40,6,    16.70,6,     0.00,6,     1.15,6,     -999,9,     -999,9,     -999,9,     -999,9,   2300.2,2,   -999.0,9,   7.6958,2,    25.00,     -999,9,      0.9,2,     -999,9,     -999,9
33RO20230413  ,A16N       ,143     ,  1,1430102    ,2          ,2,20230507,0203,  61.3340, -20.0002,     2347,   2167.7,   3.1948,  34.9576,2,  -9.0000,9,    248.1,2,    271.6,2,    12.80,6,    16.30,6,     0.00,6,     1.12,6,     -999,9,     -999,9,     -999,9,     -999,9,   2301.6,2,   -999.0,9,   7.6913,6,    25.00,     -999,9,      0.9,2,     -999,9,     -999,9
33RO20230413  ,A16N       ,143     ,  1,1430101    ,1          ,2,20230507,0203,  61.3340, -20.0002,     2347,   2374.3,   2.5653,  34.9650,2,  34.9717,2,    255.3,2,    278.7,6,    10.50,6,    15.10,6,     0.01,6,     1.06,6,     -999,9,     -999,9,     -999,9,   2173.5,2,   2303.5,2,    830.7,2,   7.6779,2,    25.00,     -999,9,      0.7,6,     -999,9,     -999,9