BOTTLE,20240627CCHHYDRO
EXPOCODE,SECT_ID,STNNBR,CASTNO,SAMPNO,BTLNBR,BTLNBR_FLAG_W,DATE,TIME,LATITUDE,LONGITUDE,DEPTH,CTDPRS,CTDTMP,CTDSAL,CTDSAL_FLAG_W,SALNTY,SALNTY_FLAG_W,CTDOXY,CTDOXY_FLAG_W,OXYGEN,OXYGEN_FLAG_W,SILCAT,SILCAT_FLAG_W,NITRAT,NITRAT_FLAG_W,NITRIT,NITRIT_FLAG_W,PHSPHT,PHSPHT_FLAG_W,CFC-11,CFC-11_FLAG_W,CFC-12,CFC-12_FLAG_W,SF6,SF6_FLAG_W,TCARBN,TCARBN_FLAG_W,ALKALI,ALKALI_FLAG_W,FCO2,FCO2_FLAG_W,PH_TOT,PH_TOT_FLAG_W,PH_TMP,DOC,DOC_FLAG_W,DELC13,DELC13_FLAG_W,TDN,TDN_FLAG_W,N2O,N2O_FLAG_W
,,,,,,,,,,,METERS,DBAR,ITS-90,PSS-78,,PSS-78,,UMOL/KG,,UMOL/KG,,UMOL/KG,,UMOL/KG,,UMOL/KG,,UMOL/KG,,PMOL/KG,,PMOL/KG,,FMOL/KG,,UMOL/KG,,UMOL/KG,,UATM,,,,DEG C,UMOL/KG,,/MILLE,,UMOL/KG,,NMOL/KG,
33RO20230413  ,A16N       ,132     ,  1,1320122    ,22         ,2,20230504,1527,  56.0000, -20.0000,     1450,      5.1,  10.5565,  35.1490,2,  -9.0000,2,    260.1,2,    276.8,2,     4.30,2,     7.90,2,     0.28,2,     0.60,2,     -999,9,     -999,9,     -999,9,   2127.8,2,   2314.4,2,    578.6,2,   7.8187,2,    25.00,     -999,9,      0.9,2,     -999,9,     -999,9
33RO20230413  ,A16N       ,132     ,  1,1320121    ,21         ,2,20230504,1527,  56.0000, -20.0000,     1450,      9.4,  10.5529,  35.1492,2,  35.1563,2,    260.7,2,    275.9,2,     4.20,2,     8.00,2,     0.29,2,     0.60,2,     -999,9,     -999,9,     -999,9,   2125.6,6,   2314.5,2,    578.3,2,   7.8188,2,    25.00,     -999,9,      0.9,2,     -999,9,     -999,9
33RO20230413  ,A16N       ,132     ,  1,1320120    ,20         ,2,20230504,1527,  56.0000, -20.0000,     1450,     14.1,  10.5220,  35.1493,2,  -9.0000,9,    260.3,2,    277.7,2,     4.20,2,     8.00,2,     0.29,2,     0.60,2,     -999,9,     -999,9,     -999,9,   2125.7,2,   2314.4,2,    580.0,2,   7.8165,2,    25.00,     -999,9,      0.9,2,     -999,9,     -999,9
33RO20230413  ,A16N       ,132     ,  1,1320119    ,19         ,2,20230504,1527,  56.0000, -20.0000,     1450,     22.1,  10.3216,  35.1548,2,  35.1673,2,    258.9,2,    278.2,2,     4.20,2,     8.20,2,     0.31,2,     0.63,2,     -999,9,     -999,9,     -999,9,   2128.2,2,   2315.7,2,    588.7,2,   7.8134,2,    25.00,     -999,9,      0.8,2,     -999,9,     -999,9
33RO20230413  ,A16N       ,132     ,  1,1320118    ,18         ,2,20230504,1527,  56.0000, -20.0000,     1450,     31.1,  10.0838,  35.1581,2,  -9.0000,9,    254.8,2,    272.0,2,     4.30,2,     8.70,2,     0.39,2,     0.66,2,     -999,9,     -999,9,     -999,9,   2135.4,2,   2314.7,2,    608.3,6,   7.7979,2,    25.00,     -999,9,      0.7,2,     -999,9,     -999,9
33RO20230413  ,A16N       ,132     ,  1,1320117    ,17         ,2,20230504,1527,  56.0000, -20.0000,     1450,     44.0,  10.1464,  35.1867,2,  35.1949,2,    253.3,2,    269.2,2,     4.30,2,     8.90,2,     0.42,2,     0.67,2,     -999,9,     -999,9,     -999,9,   2136.3,2,   2316.6,2,    610.4,2,   7.7970,2,    25.00,     -999,9,      0.7,2,     -999,9,     -999,9
33RO20230413  ,A16N       ,132     ,  1,1320116    ,16         ,2,20230504,1527,  56.0000, -20.0000,     1450,     66.3,  10.2032,  35.2162,2,  -9.0000,9,    252.2,2,    269.4,2,     4.30,2,     9.00,2,     0.43,2,     0.67,2,     -999,9,     -999,9,     -999,9,   2137.7,2,   2316.7,2,    611.0,2,   7.7969,2,    25.00,     -999,9,      0.7,2,     -999,9,     -999,9
33RO20230413  ,A16N       ,132     ,  1,1320115    ,15         ,2,20230504,1527,  56.0000, -20.0000,     1450,     91.8,  10.2155,  35.2304,2,  35.2399,2,    250.1,2,    266.4,2,     4.30,2,     9.50,2,     0.41,2,     0.69,2,     -999,9,     -999,9,     -999,9,   2139.8,2,   2319.5,2,    617.3,2,   7.7936,2,    25.00,     -999,9,      0.7,2,     -999,9,     -999,9
33RO20230413  ,A16N       ,132     ,  1,1320114    ,14         ,2,20230504,1527,  56.0000, -20.0000,     1450,    122.0,   9.8359,  35.1795,2,  -9.0000,9,    244.2,2,    260.1,2,     4.80,2,    10.80,2,     0.19,2,     0.76,2,     -999,9,     -999,9,     -999,9,   2143.0,2,   2315.0,2,    644.0,2,   7.7783,6,    25.00,     -999,9,      0.6,2,     -999,9,     -999,9
33RO20230413  ,A16N       ,132     ,  1,1320113    ,13         ,2,20230504,1527,  56.0000, -20.0000,     1450,    157.3,   9.9149,  35.2233,2,  35.2531,2,    239.4,2,    257.5,2,     4.90,2,    11.30,2,     0.11,2,     0.78,2,     -999,9,     -999,9,     -999,9,   2146.2,2,   2318.8,2,    648.1,2,   7.7763,2,    25.00,     -999,9,      0.7,2,     -999,9,     -999,9
33RO20230413  ,A16N       ,132     ,  1,1320112    ,12         ,2,20230504,1527,  56.0000, -20.0000,     1450,    200.7,  10.3055,  35.3328,2,  -9.0000,9,    240.1,2,    256.0,2,     4.50,2,    11.00,2,     0.06,2,     0.75,2,     -999,9,     -999,9,     -999,9,   2148.7,2,   2323.6,2,    634.3,2,   7.7835,2,    25.00,     -999,9,      0.7,2,     -999,9,     -999,9
33RO20230413  ,A16N       ,132     ,  1,1320111    ,11         ,2,20230504,1527,  56.0000, -20.0000,     1450,    249.7,   9.6892,  35.2269,2,  35.2578,2,    229.9,2,    245.8,6,     5.60,2,    12.70,2,     0.04,2,     0.86,2,     -999,9,     -999,9,     -999,9,   2155.5,2,   2316.0,2,    677.5,2,   7.7589,2,    25.00,     -999,9,      0.6,2,     -999,9,     -999,9
33RO20230413  ,A16N       ,132     ,  1,1320110    ,10         ,2,20230504,1527,  56.0000, -20.0000,     1450,    300.8,   9.4134,  35.2052,2,  -9.0000,9,    220.0,2,    235.6,4,     6.40,2,    14.20,2,     0.01,2,     0.94,2,     -999,9,     -999,9,     -999,9,   2160.8,2,   2316.7,2,    709.3,2,   7.7429,2,    25.00,     -999,9,      0.7,2,     -999,9,     -999,9
33RO20230413  ,A16N       ,132     ,  1,1320109    ,9          ,2,20230504,1527,  56.0000, -20.0000,     1450,    351.3,   9.0031,  35.1560,2,  35.1568,2,    224.9,2,    243.9,2,     6.60,2,    14.20,2,     0.01,2,     0.95,2,     -999,9,     -999,9,     -999,9,   2160.3,2,   2313.7,2,    716.2,2,   7.7376,2,    25.00,     -999,9,      0.6,2,     -999,9,     -999,9
33RO20230413  ,A16N       ,132     ,  1,1320108    ,8          ,2,20230504,1527,  56.0000, -20.0000,     1450,    412.1,   8.3769,  35.0894,2,  -9.0000,9,    197.3,2,    211.9,2,     8.90,2,    17.40,2,     0.01,2,     1.16,2,     -999,9,     -999,9,     -999,9,   2175.1,2,   2309.7,2,    799.3,2,   7.6953,6,    25.00,     -999,9,      0.5,2,     -999,9,     -999,9
33RO20230413  ,A16N       ,132     ,  1,1320107    ,7          ,2,20230504,1527,  56.0000, -20.0000,     1450,    500.0,   7.7066,  35.0721,2,  35.0796,2,    189.5,2,    203.3,2,    10.10,2,    18.60,2,     0.01,2,     1.24,2,     -999,9,     -999,9,     -999,9,   2180.8,2,   2309.3,2,    839.9,2,   7.6768,2,    25.00,     -999,9,      0.6,2,     -999,9,     -999,9
33RO20230413  ,A16N       ,132     ,  1,1320106    ,6          ,2,20230504,1527,  56.0000, -20.0000,     1450,    622.9,   6.6550,  35.0390,2,  -9.0000,9,    197.9,2,    211.7,2,    10.70,2,    18.90,2,     0.01,2,     1.26,2,     -999,9,     -999,9,     -999,9,   2182.1,2,   2307.6,2,    859.3,2,   7.6681,2,    25.00,     -999,9,      0.7,2,     -999,9,     -999,9
33RO20230413  ,A16N       ,132     ,  1,1320105    ,5          ,2,20230504,1527,  56.0000, -20.0000,     1450,    779.0,   5.9189,  35.0657,2,  35.0720,2,    209.9,2,    225.3,2,    10.80,2,    18.40,2,     0.01,2,     1.24,2,     -999,9,     -999,9,     -999,9,   2181.8,2,   2309.7,2,    847.5,2,   7.6729,2,    25.00,     -999,9,      0.7,2,     -999,9,     -999,9
33RO20230413  ,A16N       ,132     ,  1,1320104    ,4          ,2,20230504,1527,  56.0000, -20.0000,     1450,    942.6,   5.0325,  34.9990,2,  -9.0000,9,    226.3,2,    242.7,2,    10.70,2,    18.00,2,     0.01,2,     1.21,2,     -999,9,     -999,9,     -999,9,   2178.2,2,   2305.3,2,    846.2,2,   7.6730,2,    25.00,     -999,9,      0.7,2,     -999,9,     -999,9
33RO20230413  ,A16N       ,132     ,  1,1320103    ,3          ,2,20230504,1527,  56.0000, -20.0000,     1450,   1112.6,   4.4471,  34.9569,2,  34.9687,6,    238.7,2,    256.6,2,    10.60,2,    17.50,2,     0.01,2,     1.18,2,     -999,9,     -999,9,     -999,9,   2173.3,2,   2301.5,2,    834.4,2,   7.6771,2,    25.00,     -999,9,      0.7,2,     -999,9,     -999,9
33RO20230413  ,A16N       ,132     ,  1,1320102    ,2          ,2,20230504,1527,  56.0000, -20.0000,     1450,   1278.6,   4.0866,  34.9319,2,  34.9362,9,    246.2,2,    262.2,2,    10.80,2,    17.20,2,     0.01,2,     1.16,2,     -999,9,     -999,9,     -999,9,   2169.4,2,   2302.3,2,    826.0,2,   7.6807,2,    25.00,     -999,9,      0.8,2,     -999,9,     -999,9
33RO20230413  ,A16N       ,132     ,  1,1320101    ,1          ,2,20230504,1527,  56.0000, -20.0000,     1450,   1466.1,   3.5338,  34.9177,2,  34.9252,2,    251.4,2,    272.0,6,    12.30,2,    16.90,2,     0.01,2,     1.15,2,     -999,9,     -999,9,     -999,9,   2168.8,2,   2301.4,2,    803.4,2,   7.6899,2,    25.00,     -999,9,      0.9,6,     -999,9,     -999,9
33RO20230413  ,A16N       ,133     ,  1,1330121    ,21         ,2,20230504,1949,  56.5000, -20.0000,     1362,      4.7,  11.2427,  35.3191,2,  35.3237,2,    253.7,2,    268.5,2,     3.80,2,     7.70,2,     0.17,2,     0.59,2,     -999,9,     -999,9,     -999,9,   2134.1,6,   2322.5,2,    567.2,2,   7.8244,2,    25.00,     -999,9,      0.8,6,     -999,9,     -999,9
33RO20230413  ,A16N       ,133     ,  1,1330120    ,20         ,2,20230504,1949,  56.5000, -20.0000,     1362,     10.6,  11.2437,  35.3186,2,  -9.0000,2,    253.6,2,    269.7,2,     3.90,2,     7.80,2,     0.17,2,     0.58,2,     -999,9,     -999,9,     -999,9,   2135.5,2,   2323.2,2,    566.2,2,   7.8254,2,    25.00,     -999,9,      0.8,2,     -999,9,     -999,9
33RO20230413  ,A16N       ,133     ,  1,1330119    ,19         ,2,20230504,1949,  56.5000, -20.0000,     1362,     17.4,  11.2410,  35.3191,2,  35.3245,2,    253.7,2,    270.5,2,     3.80,2,     7.80,2,     0.17,2,     0.59,2,     -999,9,     -999,9,     -999,9,   2136.5,2,   2323.7,2,    566.0,2,   7.8259,6,    25.00,     -999,9,      0.8,2,     -999,9,     -999,9
33RO20230413  ,A16N       ,133     ,  1,1330118    ,18         ,2,20230504,1949,  56.5000, -20.0000,     1362,     25.6,  11.0938,  35.3291,2,  -9.0000,9,    255.2,2,    275.8,2,     3.70,2,     7.90,2,     0.18,2,     0.59,2,     -999,9,     -999,9,     -999,9,   2136.0,2,   -999.0,9,    569.0,2,   7.8245,2,    25.00,     -999,9,      0.8,2,     -999,9,     -999,9
33RO20230413  ,A16N       ,133     ,  1,1330117    ,17         ,2,20230504,1949,  56.5000, -20.0000,     1362,     32.6,  10.9648,  35.3460,2,  35.3508,2,    255.4,2,    272.5,2,     3.40,2,     8.00,2,     0.17,2,     0.60,2,     -999,9,     -999,9,     -999,9,     -999,9,   2325.3,2,   -999.0,9,   7.8216,2,    25.00,     -999,9,      0.7,2,     -999,9,     -999,9
33RO20230413  ,A16N       ,133     ,  1,1330116    ,16         ,2,20230504,1949,  56.5000, -20.0000,     1362,     50.3,  10.6222,  35.3784,2,  -9.0000,9,    255.6,2,    272.2,2,     3.00,2,     8.60,2,     0.18,2,     0.63,2,     -999,9,     -999,9,     -999,9,   2142.1,2,   2327.2,2,    586.1,2,   7.8165,2,    25.00,     -999,9,      0.6,2,     -999,9,     -999,9
33RO20230413  ,A16N       ,133     ,  1,1330115    ,15         ,2,20230504,1949,  56.5000, -20.0000,     1362,     75.8,  10.5983,  35.3922,2,  35.4154,2,    250.5,2,    266.6,2,     3.60,2,     9.20,2,     0.21,2,     0.66,2,     -999,9,     -999,9,     -999,9,   2147.3,2,   2326.1,2,    600.1,2,   7.8047,2,    25.00,     -999,9,      0.7,2,     -999,9,     -999,9
33RO20230413  ,A16N       ,133     ,  1,1330114    ,14         ,2,20230504,1949,  56.5000, -20.0000,     1362,    100.6,  10.6062,  35.4073,2,  -9.0000,9,    246.7,2,    263.1,2,     4.10,2,     9.70,2,     0.20,2,     0.68,2,     -999,9,     -999,9,     -999,9,   2150.8,2,   -999.0,9,    608.5,2,   7.7982,2,    25.00,     -999,9,      0.7,2,     -999,9,     -999,9
33RO20230413  ,A16N       ,133     ,  1,1330113    ,13         ,2,20230504,1949,  56.5000, -20.0000,     1362,    133.1,  10.6037,  35.4103,2,  35.4141,2,    247.8,2,    264.7,2,     4.10,2,     9.50,2,     0.20,2,     0.67,2,     -999,9,     -999,9,     -999,9,     -999,9,   2326.7,2,   -999.0,9,   7.7886,2,    25.00,     -999,9,      0.6,2,     -999,9,     -999,9
33RO20230413  ,A16N       ,133     ,  1,1330112    ,12         ,2,20230504,1949,  56.5000, -20.0000,     1362,    166.6,  10.5849,  35.4140,2,  -9.0000,9,    244.0,2,    259.9,6,     4.20,2,    10.30,2,     0.09,2,     0.70,2,     -999,9,     -999,9,     -999,9,   2152.6,2,   -999.0,9,    615.1,2,   7.7942,2,    25.00,     -999,9,      0.6,2,     -999,9,     -999,9
33RO20230413  ,A16N       ,133     ,  1,1330111    ,11         ,2,20230504,1949,  56.5000, -20.0000,     1362,    217.3,  10.5703,  35.4139,2,  35.4176,2,    243.3,2,    259.6,2,     4.20,2,    10.30,2,     0.05,2,     0.70,2,     -999,9,     -999,9,     -999,9,     -999,9,   2327.2,2,   -999.0,9,   7.7942,6,    25.00,     -999,9,      0.5,2,     -999,9,     -999,9
33RO20230413  ,A16N       ,133     ,  1,1330110    ,10         ,2,20230504,1949,  56.5000, -20.0000,     1362,    268.1,  10.5034,  35.4009,2,  -9.0000,9,    242.0,2,    259.2,2,     4.30,2,    10.60,2,     0.04,2,     0.72,2,     -999,9,     -999,9,     -999,9,   2155.2,2,   -999.0,9,    624.4,2,   7.7912,2,    25.00,     -999,9,      0.6,2,     -999,9,     -999,9
33RO20230413  ,A16N       ,133     ,  1,1330109    ,9          ,2,20230504,1949,  56.5000, -20.0000,     1362,    317.0,  10.4179,  35.3860,2,  35.4047,2,    243.1,2,    267.6,4,     4.40,2,    10.60,2,     0.06,2,     0.72,2,     -999,9,     -999,9,     -999,9,     -999,9,   2324.6,2,   -999.0,9,   7.7885,2,    25.00,     -999,9,      0.6,2,     -999,9,     -999,9
33RO20230413  ,A16N       ,133     ,  1,1330108    ,8          ,2,20230504,1949,  56.5000, -20.0000,     1362,    367.4,  10.3364,  35.3756,2,  -9.0000,9,    241.2,2,    259.8,2,     4.50,2,    10.90,2,     0.03,2,     0.74,2,     -999,9,     -999,9,     -999,9,   2153.4,2,   -999.0,9,    632.6,2,   7.7862,2,    25.00,     -999,9,      0.6,2,     -999,9,     -999,9
33RO20230413  ,A16N       ,133     ,  1,1330107    ,7          ,2,20230504,1949,  56.5000, -20.0000,     1362,    434.0,  10.0608,  35.3380,2,  35.3443,2,    231.0,2,    247.3,2,     5.20,2,    12.20,2,     0.01,2,     0.83,2,     -999,9,     -999,9,     -999,9,     -999,9,   2321.4,2,   -999.0,9,   7.7692,2,    25.00,     -999,9,      0.5,2,     -999,9,     -999,9
33RO20230413  ,A16N       ,133     ,  1,1330106    ,6          ,2,20230504,1949,  56.5000, -20.0000,     1362,    534.2,   9.6689,  35.3012,2,  -9.0000,9,    217.7,2,    233.4,2,     6.30,2,    13.90,2,     0.01,2,     0.93,2,     -999,9,     -999,9,     -999,9,   2167.5,2,   2320.6,2,    703.5,2,   7.7455,2,    25.00,     -999,9,      0.5,2,     -999,9,     -999,9
33RO20230413  ,A16N       ,133     ,  1,1330105    ,5          ,2,20230504,1949,  56.5000, -20.0000,     1362,    666.8,   8.9746,  35.2563,2,  35.2705,2,    191.8,2,    206.7,2,     8.80,2,    16.90,2,     0.01,2,     1.12,2,     -999,9,     -999,9,     -999,9,     -999,9,   2319.7,2,   -999.0,9,   7.7084,2,    25.00,     -999,9,      0.6,2,     -999,9,     -999,9
33RO20230413  ,A16N       ,133     ,  1,1330104    ,4          ,2,20230504,1949,  56.5000, -20.0000,     1362,    800.4,   7.7042,  35.1788,2,  -9.0000,9,    187.8,2,    202.3,2,    10.50,2,    18.50,2,     0.00,2,     1.23,2,     -999,9,     -999,9,     -999,9,   2189.8,2,   2314.8,2,    829.3,2,   7.6853,2,    25.00,     -999,9,      0.7,2,     -999,9,     -999,9
33RO20230413  ,A16N       ,133     ,  1,1330103    ,3          ,2,20230504,1949,  56.5000, -20.0000,     1362,    967.2,   6.4641,  35.1273,2,  35.1338,2,    202.2,2,    217.1,2,    10.90,2,    18.40,2,     0.00,2,     1.23,2,     -999,9,     -999,9,     -999,9,   2190.6,2,   2314.8,2,    838.9,6,   7.6770,2,    25.00,     -999,9,      0.7,2,     -999,9,     -999,9
33RO20230413  ,A16N       ,133     ,  1,1330102    ,2          ,2,20230504,1949,  56.5000, -20.0000,     1362,   1250.4,   4.7051,  34.9805,2,  34.9858,9,    233.6,2,    250.7,2,    10.80,2,    17.50,2,     0.00,2,     1.19,2,     -999,9,     -999,9,     -999,9,   2182.1,2,   2304.9,2,    835.3,2,   7.6777,2,    25.00,     -999,9,      0.8,2,     -999,9,     -999,9
33RO20230413  ,A16N       ,133     ,  1,1330101    ,1          ,2,20230504,1949,  56.5000, -20.0000,     1362,   1376.5,   4.0998,  34.9393,2,  34.9465,6,    244.4,2,    263.6,6,    11.80,2,    17.20,2,     0.01,2,     1.17,2,     -999,9,     -999,9,     -999,9,   2180.5,2,   2301.3,2,    824.8,2,   7.6808,2,    25.00,     -999,9,      0.9,6,     -999,9,     -999,9