BOTTLE,20240627CCHHYDRO
EXPOCODE,SECT_ID,STNNBR,CASTNO,SAMPNO,BTLNBR,BTLNBR_FLAG_W,DATE,TIME,LATITUDE,LONGITUDE,DEPTH,CTDPRS,CTDTMP,CTDSAL,CTDSAL_FLAG_W,SALNTY,SALNTY_FLAG_W,CTDOXY,CTDOXY_FLAG_W,OXYGEN,OXYGEN_FLAG_W,SILCAT,SILCAT_FLAG_W,NITRAT,NITRAT_FLAG_W,NITRIT,NITRIT_FLAG_W,PHSPHT,PHSPHT_FLAG_W,CFC-11,CFC-11_FLAG_W,CFC-12,CFC-12_FLAG_W,SF6,SF6_FLAG_W,TCARBN,TCARBN_FLAG_W,ALKALI,ALKALI_FLAG_W,FCO2,FCO2_FLAG_W,PH_TOT,PH_TOT_FLAG_W,PH_TMP,DOC,DOC_FLAG_W,DELC13,DELC13_FLAG_W,TDN,TDN_FLAG_W,N2O,N2O_FLAG_W
,,,,,,,,,,,METERS,DBAR,ITS-90,PSS-78,,PSS-78,,UMOL/KG,,UMOL/KG,,UMOL/KG,,UMOL/KG,,UMOL/KG,,UMOL/KG,,PMOL/KG,,PMOL/KG,,FMOL/KG,,UMOL/KG,,UMOL/KG,,UATM,,,,DEG C,UMOL/KG,,/MILLE,,UMOL/KG,,NMOL/KG,
33RO20230413  ,A16N       ,124     ,  1,1240124    ,24         ,2,20230502,2057,  52.0000, -20.0000,     3762,      4.2,  12.3917,  35.4310,2,  35.4342,2,    263.9,2,    285.2,2,     3.70,2,     5.30,2,     0.18,2,     0.42,2,     -999,9,     -999,9,     -999,9,   2122.1,2,   2333.6,2,    499.4,2,   7.8733,2,    25.00,     -999,9,      0.8,6,     -999,9,     -999,9
33RO20230413  ,A16N       ,124     ,  1,1240123    ,23         ,2,20230502,2057,  52.0000, -20.0000,     3762,     24.5,  11.9299,  35.4217,2,  35.4254,2,    260.7,2,    278.0,2,     3.80,2,     6.20,2,     0.20,2,     0.46,2,     -999,9,     -999,9,     -999,9,   2127.2,2,   2331.8,2,    520.7,2,   7.8576,2,    25.00,     -999,9,      0.7,2,     -999,9,     -999,9
33RO20230413  ,A16N       ,124     ,  1,1240122    ,22         ,2,20230502,2057,  52.0000, -20.0000,     3762,     50.2,  11.4313,  35.4456,2,  35.4506,2,    248.5,2,    264.7,2,     3.90,2,     7.80,2,     0.40,2,     0.59,2,     -999,9,     -999,9,     -999,9,   2141.4,2,   2331.2,2,    568.6,2,   7.8254,2,    25.00,     -999,9,      0.6,2,     -999,9,     -999,9
33RO20230413  ,A16N       ,124     ,  1,1240121    ,21         ,2,20230502,2057,  52.0000, -20.0000,     3762,     74.4,  11.3840,  35.4444,2,  35.4468,2,    246.8,2,    262.0,2,     3.90,2,     8.10,2,     0.44,2,     0.61,2,     -999,9,     -999,9,     -999,9,   2140.5,2,   2329.1,2,    575.4,2,   7.8223,2,    25.00,     -999,9,      0.5,2,     -999,9,     -999,9
33RO20230413  ,A16N       ,124     ,  1,1240120    ,20         ,2,20230502,2057,  52.0000, -20.0000,     3762,    100.1,  11.2264,  35.4402,2,  35.4414,2,    242.9,2,    258.7,2,     4.10,2,     9.00,2,     0.59,2,     0.64,2,     -999,9,     -999,9,     -999,9,   2145.7,2,   2330.1,2,    592.8,2,   7.8115,2,    25.00,     -999,9,      0.6,2,     -999,9,     -999,9
33RO20230413  ,A16N       ,124     ,  1,1240119    ,19         ,2,20230502,2057,  52.0000, -20.0000,     3762,    125.0,  11.0622,  35.4218,2,  35.4444,2,    243.5,2,    261.1,2,     4.20,2,     9.40,2,     0.41,2,     0.66,2,     -999,9,     -999,9,     -999,9,   2145.4,2,   2328.1,6,    598.9,2,   7.8073,6,    25.00,     -999,9,      0.5,2,     -999,9,     -999,9
33RO20230413  ,A16N       ,124     ,  1,1240118    ,18         ,2,20230502,2057,  52.0000, -20.0000,     3762,    149.5,  10.9566,  35.4096,2,  35.4130,2,    240.5,2,    257.2,2,     4.30,2,    10.00,2,     0.19,2,     0.69,2,     -999,9,     -999,9,     -999,9,   2148.4,2,   2328.7,2,    607.8,2,   7.8014,2,    25.00,     -999,9,      0.6,2,     -999,9,     -999,9
33RO20230413  ,A16N       ,124     ,  1,1240117    ,17         ,2,20230502,2057,  52.0000, -20.0000,     3762,    199.8,  10.7642,  35.3957,2,  35.4180,2,    236.5,2,    253.0,2,     4.60,2,    10.90,2,     0.01,2,     0.74,2,     -999,9,     -999,9,     -999,9,   2154.0,2,   2326.2,2,    626.8,2,   7.7891,2,    25.00,     -999,9,      0.5,2,     -999,9,     -999,9
33RO20230413  ,A16N       ,124     ,  1,1240116    ,16         ,2,20230502,2057,  52.0000, -20.0000,     3762,    275.9,  10.5870,  35.3783,2,  35.3947,2,    233.8,2,    250.6,2,     4.80,2,    11.30,2,     0.01,2,     0.76,2,     -999,9,     -999,9,     -999,9,   2156.5,2,   2326.0,2,    637.4,6,   7.7830,2,    25.00,     -999,9,      0.6,2,     -999,9,     -999,9
33RO20230413  ,A16N       ,124     ,  1,1240115    ,15         ,2,20230502,2057,  52.0000, -20.0000,     3762,    350.2,   9.7757,  35.2559,2,  35.2650,2,    199.5,2,    214.2,2,     7.40,2,    15.50,2,     0.01,2,     1.03,2,     -999,9,     -999,9,     -999,9,   2175.9,2,   2321.6,2,   -999.0,9,   7.7277,2,    25.00,     -999,9,      0.5,2,     -999,9,     -999,9
33RO20230413  ,A16N       ,124     ,  1,1240114    ,14         ,2,20230502,2057,  52.0000, -20.0000,     3762,    424.9,   9.0541,  35.1887,2,  35.1958,2,    186.9,2,    201.1,2,     9.00,2,    17.60,2,     0.01,2,     1.16,2,     -999,9,     -999,9,     -999,9,   2185.2,2,   2317.7,2,    790.8,2,   7.7006,2,    25.00,     -999,9,      0.5,2,     -999,9,     -999,9
33RO20230413  ,A16N       ,124     ,  1,1240113    ,13         ,2,20230502,2057,  52.0000, -20.0000,     3762,    500.1,   8.3072,  35.1537,2,  35.1656,2,    180.8,2,    194.8,2,    10.30,2,    18.90,2,     0.00,2,     1.25,2,     -999,9,     -999,9,     -999,9,   2189.3,6,   2317.0,2,    829.1,2,   7.6830,2,    25.00,     -999,9,      0.5,2,     -999,9,     -999,9
33RO20230413  ,A16N       ,124     ,  1,1240112    ,12         ,2,20230502,2057,  52.0000, -20.0000,     3762,    626.3,   7.3779,  35.1603,2,  35.1668,2,    187.1,2,    201.2,2,    11.00,2,    19.10,2,     0.01,2,     1.27,2,     -999,9,     -999,9,     -999,9,   2195.2,2,   2317.7,2,    839.4,2,   7.6786,2,    25.00,     -999,9,      0.6,2,     -999,9,     -999,9
33RO20230413  ,A16N       ,124     ,  1,1240111    ,11         ,2,20230502,2057,  52.0000, -20.0000,     3762,    775.2,   6.8919,  35.2366,2,  35.2599,2,    197.5,2,    213.0,2,    11.00,2,    18.50,2,     0.00,2,     1.21,2,     -999,9,     -999,9,     -999,9,   2195.5,2,   2322.7,2,    817.5,2,   7.6886,2,    25.00,     -999,9,      0.6,2,     -999,9,     -999,9
33RO20230413  ,A16N       ,124     ,  1,1240110    ,10         ,2,20230502,2057,  52.0000, -20.0000,     3762,    925.2,   5.1539,  35.0113,2,  35.0282,2,    223.4,2,    240.3,2,    10.80,2,    18.30,2,     0.00,2,     1.22,2,     -999,9,     -999,9,     -999,9,   2186.4,2,   2305.6,2,    845.4,2,   7.6731,2,    25.00,     -999,9,      0.6,2,     -999,9,     -999,9
33RO20230413  ,A16N       ,124     ,  1,1240109    ,9          ,2,20230502,2057,  52.0000, -20.0000,     3762,   1025.6,   4.6876,  34.9692,2,  34.9817,9,    232.4,2,    251.0,2,    10.70,2,    17.90,2,     0.00,2,     1.20,2,     -999,9,     -999,9,     -999,9,   2183.7,2,   2303.1,6,    844.4,2,   7.6732,6,    25.00,     -999,9,      0.7,2,     -999,9,     -999,9
33RO20230413  ,A16N       ,124     ,  1,1240108    ,8          ,2,20230502,2057,  52.0000, -20.0000,     3762,   1200.5,   4.1875,  34.9348,2,  34.9549,2,    243.5,2,    264.0,2,    10.60,2,    17.50,2,     0.00,2,     1.18,2,     -999,9,     -999,9,     -999,9,   2180.5,2,   2300.3,2,    830.5,2,   7.6795,2,    25.00,     -999,9,      0.7,2,     -999,9,     -999,9
33RO20230413  ,A16N       ,124     ,  1,1240107    ,7          ,2,20230502,2057,  52.0000, -20.0000,     3762,   1400.4,   3.8945,  34.9139,2,  -9.0000,2,    250.0,2,    272.9,2,    10.60,2,    17.20,2,     0.00,2,     1.16,2,     -999,9,     -999,9,     -999,9,   2175.6,2,   2300.1,2,    821.7,2,   7.6832,2,    25.00,     -999,9,      0.6,2,     -999,9,     -999,9
33RO20230413  ,A16N       ,124     ,  1,1240106    ,6          ,2,20230502,2057,  52.0000, -20.0000,     3762,   1600.8,   3.6941,  34.9045,2,  34.9168,2,    253.1,2,    276.3,2,    10.90,2,    17.00,2,     0.00,2,     1.15,2,     -999,9,     -999,9,     -999,9,   2171.2,2,   2298.3,2,    813.6,2,   7.6860,2,    25.00,     -999,9,      0.8,2,     -999,9,     -999,9
33RO20230413  ,A16N       ,124     ,  1,1240105    ,5          ,2,20230502,2057,  52.0000, -20.0000,     3762,   2001.5,   3.5257,  34.9242,2,  34.9304,6,    246.5,2,    270.7,2,    12.60,2,    17.10,2,     0.00,2,     1.16,2,     -999,9,     -999,9,     -999,9,   2172.4,2,   2299.3,2,    793.3,2,   7.6956,2,    25.00,     -999,9,      0.8,2,     -999,9,     -999,9
33RO20230413  ,A16N       ,124     ,  1,1240104    ,4          ,2,20230502,2057,  52.0000, -20.0000,     3762,   2401.1,   3.1724,  34.9374,2,  34.9666,2,    242.7,2,    281.4,4,    15.90,6,    17.00,6,     0.00,6,     1.18,6,     -999,9,     -999,9,     -999,9,   2174.2,2,   2305.0,2,    786.7,2,   7.6998,2,    25.00,     -999,9,      0.8,2,     -999,9,     -999,9
33RO20230413  ,A16N       ,124     ,  1,1240103    ,3          ,2,20230502,2057,  52.0000, -20.0000,     3762,   2800.7,   2.8643,  34.9391,2,  34.9443,2,    234.0,2,    260.4,6,    24.60,6,    18.30,6,     0.00,6,     1.27,6,     -999,9,     -999,9,     -999,9,   2183.0,2,   2318.7,2,    786.4,2,   7.7018,2,    25.00,     -999,9,      0.8,2,     -999,9,     -999,9
33RO20230413  ,A16N       ,124     ,  1,1240102    ,2          ,2,20230502,2057,  52.0000, -20.0000,     3762,   3200.5,   2.6562,  34.9256,2,  34.9352,2,    224.7,2,    249.4,3,    34.10,6,    20.00,6,     0.00,6,     1.38,6,     -999,9,     -999,9,     -999,9,   2197.6,2,   2334.2,2,    778.4,2,   7.7089,2,    25.00,     -999,9,      0.9,2,     -999,9,     -999,9
33RO20230413  ,A16N       ,124     ,  1,1240101    ,1          ,2,20230502,2057,  52.0000, -20.0000,     3762,   3814.3,   2.4627,  34.9009,2,  34.9368,2,    215.4,2,    238.5,6,    45.90,6,    22.20,6,     0.00,6,     1.53,6,     -999,9,     -999,9,     -999,9,   2209.3,6,   2348.4,2,    765.1,2,   7.7182,2,    25.00,     -999,9,      1.0,6,     -999,9,     -999,9
33RO20230413  ,A16N       ,125     ,  1,1250124    ,24         ,2,20230503,0237,  52.4976, -20.0007,     2780,      4.7,  12.3633,  35.4713,2,  35.4790,2,    258.3,2,    275.5,2,     3.60,2,     5.90,2,     0.18,2,     0.45,2,     -999,9,     -999,9,     -999,9,   2124.4,6,   2333.3,2,    514.9,2,   7.8497,2,    25.00,     -999,9,      0.8,2,     -999,9,     -999,9
33RO20230413  ,A16N       ,125     ,  1,1250123    ,23         ,2,20230503,0237,  52.4976, -20.0007,     2780,     33.1,  11.7655,  35.4964,2,  35.5042,2,    248.0,2,    264.2,2,     3.50,2,     7.50,2,     0.35,2,     0.55,2,     -999,9,     -999,9,     -999,9,   2137.0,2,   2334.2,6,    557.1,2,   7.8330,6,    25.00,     -999,9,      0.7,2,     -999,9,     -999,9
33RO20230413  ,A16N       ,125     ,  1,1250122    ,22         ,2,20230503,0237,  52.4976, -20.0007,     2780,     57.7,  11.7256,  35.5022,2,  35.5121,2,    243.2,2,    259.2,2,     3.60,2,     8.10,2,     0.44,2,     0.58,2,     -999,9,     -999,9,     -999,9,   2141.1,2,   2332.8,2,    570.3,2,   7.8240,2,    25.00,     -999,9,      0.5,2,     -999,9,     -999,9
33RO20230413  ,A16N       ,125     ,  1,1250121    ,21         ,2,20230503,0237,  52.4976, -20.0007,     2780,     82.8,  11.6768,  35.4943,2,  35.5066,2,    242.6,2,    256.7,2,     3.60,2,     8.20,2,     0.41,2,     0.60,2,     -999,9,     -999,9,     -999,9,   2141.6,2,   2330.9,2,    574.0,2,   7.8233,2,    25.00,     -999,9,      0.6,2,     -999,9,     -999,9
33RO20230413  ,A16N       ,125     ,  1,1250120    ,20         ,2,20230503,0237,  52.4976, -20.0007,     2780,    108.3,  11.5718,  35.4770,2,  35.4892,2,    243.3,2,    259.3,2,     3.70,2,     8.20,2,     0.35,2,     0.60,2,     -999,9,     -999,9,     -999,9,   2142.2,2,   2331.8,2,    575.9,2,   7.8197,2,    25.00,     -999,9,      0.6,2,     -999,9,     -999,9
33RO20230413  ,A16N       ,125     ,  1,1250119    ,19         ,2,20230503,0237,  52.4976, -20.0007,     2780,    133.0,  11.6608,  35.5123,2,  35.5180,2,    235.0,2,    251.3,2,     3.70,2,     9.30,2,     0.16,2,     0.64,2,     -999,9,     -999,9,     -999,9,   2149.4,2,   2333.1,2,    590.4,2,   7.8117,2,    25.00,     -999,9,      0.5,2,     -999,9,     -999,9
33RO20230413  ,A16N       ,125     ,  1,1250118    ,18         ,2,20230503,0237,  52.4976, -20.0007,     2780,    158.5,  11.5311,  35.4961,2,  35.5076,2,    231.7,2,    248.6,2,     3.80,2,     9.80,2,     0.04,2,     0.66,2,     -999,9,     -999,9,     -999,9,     -999,9,   2331.5,2,   -999.0,9,   7.8043,2,    25.00,     -999,9,      0.5,2,     -999,9,     -999,9
33RO20230413  ,A16N       ,125     ,  1,1250117    ,17         ,2,20230503,0237,  52.4976, -20.0007,     2780,    183.6,  11.3065,  35.4577,2,  35.4646,2,    232.5,2,    248.3,2,     4.30,2,    10.10,2,     0.08,2,     0.68,2,     -999,9,     -999,9,     -999,9,   2148.7,2,   2330.7,2,    607.9,2,   7.8017,2,    25.00,     -999,9,      0.6,2,     -999,9,     -999,9
33RO20230413  ,A16N       ,125     ,  1,1250116    ,16         ,2,20230503,0237,  52.4976, -20.0007,     2780,    217.2,  11.2307,  35.4570,2,  35.4656,2,    235.1,2,    251.7,2,     4.00,2,     9.90,2,     0.06,2,     0.68,2,     -999,9,     -999,9,     -999,9,   2148.2,2,   2329.7,2,    606.6,2,   7.8022,2,    25.00,     -999,9,      0.6,2,     -999,9,     -999,9
33RO20230413  ,A16N       ,125     ,  1,1250115    ,15         ,2,20230503,0237,  52.4976, -20.0007,     2780,    268.8,  11.1057,  35.4487,2,  35.4605,2,    234.9,2,    248.7,2,     4.00,2,    10.10,2,     0.02,2,     0.69,2,     -999,9,     -999,9,     -999,9,     -999,9,   2328.2,2,   -999.0,9,   7.7967,2,    25.00,     -999,9,      0.6,2,     -999,9,     -999,9
33RO20230413  ,A16N       ,125     ,  1,1250114    ,14         ,2,20230503,0237,  52.4976, -20.0007,     2780,    300.9,  11.1386,  35.4675,2,  35.4731,2,    235.5,2,    453.8,4,     3.80,2,    10.00,2,     0.01,2,     0.69,2,     -999,9,     -999,9,     -999,9,   2149.2,2,   2329.5,2,    611.9,2,   7.7982,2,    25.00,     -999,9,      0.5,2,     -999,9,     -999,9
33RO20230413  ,A16N       ,125     ,  1,1250113    ,13         ,2,20230503,0237,  52.4976, -20.0007,     2780,    375.4,  10.8439,  35.4251,2,  35.4341,2,    229.8,2,    306.1,4,     4.50,2,    11.10,2,     0.01,2,     0.76,2,     -999,9,     -999,9,     -999,9,     -999,9,   2326.7,2,   -999.0,9,   7.7855,2,    25.00,     -999,9,      0.6,2,     -999,9,     -999,9
33RO20230413  ,A16N       ,125     ,  1,1250112    ,12         ,2,20230503,0237,  52.4976, -20.0007,     2780,    450.3,  10.4646,  35.3622,2,  35.3712,2,    208.3,2,    225.9,2,     6.10,2,    13.70,2,     0.01,2,     0.91,2,     -999,9,     -999,9,     -999,9,   2167.3,2,   2324.5,2,    688.0,2,   7.7552,2,    25.00,     -999,9,      0.5,2,     -999,9,     -999,9
33RO20230413  ,A16N       ,125     ,  1,1250111    ,11         ,2,20230503,0237,  52.4976, -20.0007,     2780,    549.6,   9.1464,  35.1689,2,  35.1978,2,    230.7,2,    247.3,2,     6.60,2,    14.00,2,     0.00,2,     0.95,2,     -999,9,     -999,9,     -999,9,   2160.3,2,   2315.6,2,    706.3,2,   7.7424,2,    25.00,     -999,9,      0.7,2,     -999,9,     -999,9
33RO20230413  ,A16N       ,125     ,  1,1250110    ,10         ,2,20230503,0237,  52.4976, -20.0007,     2780,    634.4,   8.4656,  35.1395,2,  35.1470,2,    182.7,2,    197.5,2,    10.00,2,    18.70,2,     0.00,2,     1.23,2,     -999,9,     -999,9,     -999,9,   2184.7,2,   2313.8,2,    820.4,2,   7.6858,2,    25.00,     -999,9,      0.6,2,     -999,9,     -999,9
33RO20230413  ,A16N       ,125     ,  1,1250109    ,9          ,2,20230503,0237,  52.4976, -20.0007,     2780,    725.3,   7.5078,  35.1188,2,  35.1379,2,    186.2,2,    200.4,2,    10.80,2,    19.10,2,     0.00,2,     1.27,2,     -999,9,     -999,9,     -999,9,   2189.9,2,   2314.5,2,    843.7,2,   7.6757,2,    25.00,     -999,9,      0.7,6,     -999,9,     -999,9
33RO20230413  ,A16N       ,125     ,  1,1250108    ,8          ,2,20230503,0237,  52.4976, -20.0007,     2780,    875.3,   6.3145,  35.1002,2,  35.1122,2,    202.7,2,    219.5,2,    11.00,2,    18.80,2,     0.00,2,     1.25,2,     -999,9,     -999,9,     -999,9,   2190.0,2,   2312.9,2,    844.5,2,   7.6756,2,    25.00,     -999,9,      0.7,2,     -999,9,     -999,9
33RO20230413  ,A16N       ,125     ,  1,1250107    ,7          ,2,20230503,0237,  52.4976, -20.0007,     2780,   1068.1,   4.8298,  34.9697,2,  34.9842,2,    229.4,2,    248.9,2,    10.70,2,    18.10,2,     0.00,2,     1.21,2,     -999,9,     -999,9,     -999,9,     -999,9,   2305.0,2,   -999.0,9,   7.6707,2,    25.00,     -999,9,      0.8,2,     -999,9,     -999,9
33RO20230413  ,A16N       ,125     ,  1,1250106    ,6          ,2,20230503,0237,  52.4976, -20.0007,     2780,   1267.7,   4.3331,  34.9522,2,  34.9596,2,    240.9,2,    264.7,6,    10.70,2,    17.60,2,     0.00,2,     1.17,2,     -999,9,     -999,9,     -999,9,   2176.3,2,   2301.8,2,    829.2,2,   7.6804,2,    25.00,     -999,9,      0.8,2,     -999,9,     -999,9
33RO20230413  ,A16N       ,125     ,  1,1250105    ,5          ,2,20230503,0237,  52.4976, -20.0007,     2780,   1468.2,   3.9890,  34.9228,2,  34.9342,2,    248.4,2,    274.6,2,    10.60,2,    17.30,2,     0.00,2,     1.16,2,     -999,9,     -999,9,     -999,9,     -999,9,   2300.9,2,   -999.0,9,   7.6834,2,    25.00,     -999,9,      0.9,2,     -999,9,     -999,9
33RO20230413  ,A16N       ,125     ,  1,1250104    ,4          ,2,20230503,0237,  52.4976, -20.0007,     2780,   1667.2,   3.7548,  34.9090,2,  34.9148,2,    252.4,2,    275.3,2,    10.90,6,    17.00,6,     0.00,6,     1.15,6,     -999,9,     -999,9,     -999,9,   2172.9,2,   2300.0,2,    813.0,2,   7.6902,2,    25.00,     -999,9,      0.9,2,     -999,9,     -999,9
33RO20230413  ,A16N       ,125     ,  1,1250103    ,3          ,2,20230503,0237,  52.4976, -20.0007,     2780,   1867.8,   3.6312,  34.9090,2,  34.9167,6,    252.3,2,    275.6,2,    11.40,6,    16.90,6,     0.00,6,     1.15,6,     -999,9,     -999,9,     -999,9,     -999,9,   2300.4,6,   -999.0,9,   7.6880,6,    25.00,     -999,9,      0.9,2,     -999,9,     -999,9
33RO20230413  ,A16N       ,125     ,  1,1250102    ,2          ,2,20230503,0237,  52.4976, -20.0007,     2780,   2269.3,   3.3842,  34.9312,2,  34.9400,2,    245.8,2,    269.8,2,    13.70,6,    17.00,6,     0.00,6,     1.16,6,     -999,9,     -999,9,     -999,9,   2169.8,2,   2303.7,2,    785.3,6,   7.7002,2,    25.00,     -999,9,      1.0,2,     -999,9,     -999,9
33RO20230413  ,A16N       ,125     ,  1,1250101    ,1          ,2,20230503,0237,  52.4976, -20.0007,     2780,   2824.8,   2.8354,  34.9303,2,  34.9378,2,    228.6,2,    250.3,6,    30.80,6,    19.50,6,     0.00,6,     1.35,6,     -999,9,     -999,9,     -999,9,   2190.7,6,   2326.3,2,    782.6,2,   7.7063,2,    25.00,     -999,9,      1.0,6,     -999,9,     -999,9