BOTTLE,20240627CCHHYDRO
EXPOCODE,SECT_ID,STNNBR,CASTNO,SAMPNO,BTLNBR,BTLNBR_FLAG_W,DATE,TIME,LATITUDE,LONGITUDE,DEPTH,CTDPRS,CTDTMP,CTDSAL,CTDSAL_FLAG_W,SALNTY,SALNTY_FLAG_W,CTDOXY,CTDOXY_FLAG_W,OXYGEN,OXYGEN_FLAG_W,SILCAT,SILCAT_FLAG_W,NITRAT,NITRAT_FLAG_W,NITRIT,NITRIT_FLAG_W,PHSPHT,PHSPHT_FLAG_W,CFC-11,CFC-11_FLAG_W,CFC-12,CFC-12_FLAG_W,SF6,SF6_FLAG_W,TCARBN,TCARBN_FLAG_W,ALKALI,ALKALI_FLAG_W,FCO2,FCO2_FLAG_W,PH_TOT,PH_TOT_FLAG_W,PH_TMP,DOC,DOC_FLAG_W,DELC13,DELC13_FLAG_W,TDN,TDN_FLAG_W,N2O,N2O_FLAG_W
,,,,,,,,,,,METERS,DBAR,ITS-90,PSS-78,,PSS-78,,UMOL/KG,,UMOL/KG,,UMOL/KG,,UMOL/KG,,UMOL/KG,,UMOL/KG,,PMOL/KG,,PMOL/KG,,FMOL/KG,,UMOL/KG,,UMOL/KG,,UATM,,,,DEG C,UMOL/KG,,/MILLE,,UMOL/KG,,NMOL/KG,
33RO20230413  ,A16N       ,130     ,  1,1300122    ,22         ,2,20230504,0503,  54.9991, -20.0000,     1611,      5.3,  10.9656,  35.1232,2,  35.1295,2,    261.8,2,    279.1,2,     4.20,2,     7.10,2,     0.21,2,     0.55,2,     -999,9,     -999,9,     -999,9,   2118.1,6,   2316.8,2,    559.2,2,   7.8267,2,    25.00,     -999,9,      0.8,6,     -999,9,     -999,9
33RO20230413  ,A16N       ,130     ,  1,1300121    ,21         ,2,20230504,0503,  54.9991, -20.0000,     1611,     12.2,  10.9632,  35.1250,2,  -9.0000,9,    261.7,2,    275.2,2,     4.20,2,     7.10,2,     0.21,2,     0.55,2,     -999,9,     -999,9,     -999,9,   2119.2,2,   2315.9,2,    561.9,2,   7.8249,2,    25.00,     -999,9,      0.8,2,     -999,9,     -999,9
33RO20230413  ,A16N       ,130     ,  1,1300120    ,20         ,2,20230504,0503,  54.9991, -20.0000,     1611,     23.6,  10.7211,  35.1256,2,  35.1273,2,    261.4,2,    286.7,3,     4.20,2,     7.20,2,     0.21,2,     0.56,2,     -999,9,     -999,9,     -999,9,   2120.0,2,   2314.6,2,    563.7,2,   7.8246,2,    25.00,     -999,9,      0.8,6,     -999,9,     -999,9
33RO20230413  ,A16N       ,130     ,  1,1300119    ,19         ,2,20230504,0503,  54.9991, -20.0000,     1611,     35.7,  10.0742,  35.1448,2,  -9.0000,9,    255.5,2,    273.7,2,     4.50,2,     8.70,2,     0.39,2,     0.66,2,     -999,9,     -999,9,     -999,9,   2132.1,2,   2316.4,2,    606.5,2,   7.8020,2,    25.00,     -999,9,      0.6,2,     -999,9,     -999,9
33RO20230413  ,A16N       ,130     ,  1,1300118    ,18         ,2,20230504,0503,  54.9991, -20.0000,     1611,     50.5,  10.1062,  35.1745,2,  35.1806,2,    252.7,2,    269.8,2,     4.50,2,     9.20,2,     0.41,2,     0.67,2,     -999,9,     -999,9,     -999,9,   2134.9,2,   2317.5,2,    612.1,2,   7.7960,2,    25.00,     -999,9,      0.7,6,     -999,9,     -999,9
33RO20230413  ,A16N       ,130     ,  1,1300117    ,17         ,2,20230504,0503,  54.9991, -20.0000,     1611,     75.3,   9.6758,  35.1119,2,  -9.0000,9,    251.9,2,    266.8,2,     4.70,2,     9.80,2,     0.42,2,     0.72,2,     -999,9,     -999,9,     -999,9,   2137.5,2,   2314.3,6,    633.2,2,   7.7847,6,    25.00,     -999,9,      0.6,2,     -999,9,     -999,9
33RO20230413  ,A16N       ,130     ,  1,1300116    ,16         ,2,20230504,0503,  54.9991, -20.0000,     1611,    100.5,   9.5121,  35.0957,2,  35.1091,6,    250.0,2,    267.0,2,     4.80,2,    10.30,2,     0.36,2,     0.74,2,     -999,9,     -999,9,     -999,9,   2140.6,2,   2311.8,2,    641.6,2,   7.7815,2,    25.00,     -999,9,      0.6,6,     -999,9,     -999,9
33RO20230413  ,A16N       ,130     ,  1,1300115    ,15         ,2,20230504,0503,  54.9991, -20.0000,     1611,    133.1,  10.0119,  35.2390,2,  -9.0000,9,    243.0,2,    260.0,2,     4.80,2,    10.80,2,     0.19,2,     0.73,2,     -999,9,     -999,9,     -999,9,   2145.5,2,   2319.5,2,    637.7,2,   7.7822,2,    25.00,     -999,9,      0.5,2,     -999,9,     -999,9
33RO20230413  ,A16N       ,130     ,  1,1300114    ,14         ,2,20230504,0503,  54.9991, -20.0000,     1611,    167.7,  10.3946,  35.3365,2,  35.3409,2,    242.8,2,    253.9,2,     4.50,2,    10.50,2,     0.14,2,     0.71,2,     -999,9,     -999,9,     -999,9,   2146.2,2,   2323.7,2,    624.2,6,   7.7906,2,    25.00,     -999,9,      0.6,6,     -999,9,     -999,9
33RO20230413  ,A16N       ,130     ,  1,1300113    ,13         ,2,20230504,0503,  54.9991, -20.0000,     1611,    218.1,  10.4094,  35.3532,2,  -9.0000,9,    240.5,2,    258.2,2,     4.50,2,    10.70,2,     0.10,2,     0.72,2,     -999,9,     -999,9,     -999,9,   2146.6,2,   2325.1,2,    628.0,2,   7.7891,2,    25.00,     -999,9,      0.5,2,     -999,9,     -999,9
33RO20230413  ,A16N       ,130     ,  1,1300112    ,12         ,2,20230504,0503,  54.9991, -20.0000,     1611,    267.7,  10.2476,  35.3307,2,  35.3337,2,    238.4,2,    255.3,2,     4.80,2,    11.30,2,     0.05,2,     0.76,2,     -999,9,     -999,9,     -999,9,   2149.2,2,   2322.5,2,    638.8,2,   7.7619,2,    25.00,     -999,9,      0.6,6,     -999,9,     -999,9
33RO20230413  ,A16N       ,130     ,  1,1300111    ,11         ,2,20230504,0503,  54.9991, -20.0000,     1611,    317.8,   9.8548,  35.2655,2,  -9.0000,9,    225.4,2,    241.6,2,     5.80,2,    13.00,2,     0.01,2,     0.86,2,     -999,9,     -999,9,     -999,9,   2154.6,2,   2317.3,2,    681.0,2,   7.7597,2,    25.00,     -999,9,      0.5,2,     -999,9,     -999,9
33RO20230413  ,A16N       ,130     ,  1,1300110    ,10         ,2,20230504,0503,  54.9991, -20.0000,     1611,    367.5,   9.3832,  35.2153,2,  35.2205,2,    215.6,2,    231.6,2,     6.80,2,    14.60,2,     0.01,2,     0.97,2,     -999,9,     -999,9,     -999,9,   2162.5,2,   2317.7,2,    720.6,2,   7.7345,2,    25.00,     -999,9,      0.6,6,     -999,9,     -999,9
33RO20230413  ,A16N       ,130     ,  1,1300109    ,9          ,2,20230504,0503,  54.9991, -20.0000,     1611,    434.0,   8.9409,  35.1748,2,  -9.0000,9,    193.6,2,    214.3,6,     8.30,2,    16.60,2,     0.01,2,     1.09,2,     -999,9,     -999,9,     -999,9,   2171.6,2,   2314.6,2,    769.8,2,   7.7127,2,    25.00,     -999,9,      0.6,2,     -999,9,     -999,9
33RO20230413  ,A16N       ,130     ,  1,1300108    ,8          ,2,20230504,0503,  54.9991, -20.0000,     1611,    533.6,   8.2584,  35.1826,2,  35.1872,2,    184.3,2,    198.3,2,    10.00,2,    18.60,2,     0.00,2,     1.20,2,     -999,9,     -999,9,     -999,9,   2181.8,2,   2316.8,2,    819.5,2,   7.6889,2,    25.00,     -999,9,      0.5,6,     -999,9,     -999,9
33RO20230413  ,A16N       ,130     ,  1,1300107    ,7          ,2,20230504,0503,  54.9991, -20.0000,     1611,    668.7,   7.4195,  35.1874,2,  -9.0000,9,    188.7,2,    202.8,2,    10.70,2,    18.90,2,     0.00,2,     1.23,2,     -999,9,     -999,9,     -999,9,   2184.8,2,   2318.1,2,    833.0,2,   7.6808,2,    25.00,     -999,9,      0.6,2,     -999,9,     -999,9
33RO20230413  ,A16N       ,130     ,  1,1300106    ,6          ,2,20230504,0503,  54.9991, -20.0000,     1611,    833.6,   6.2330,  35.1292,2,  35.1462,2,    206.1,2,    221.3,2,    11.00,2,    18.50,2,     0.00,2,     1.21,2,     -999,9,     -999,9,     -999,9,   2183.3,2,   2313.7,2,    835.2,2,   7.6793,2,    25.00,     -999,9,      0.6,6,     -999,9,     -999,9
33RO20230413  ,A16N       ,130     ,  1,1300105    ,5          ,2,20230504,0503,  54.9991, -20.0000,     1611,   1021.2,   4.9053,  34.9914,2,  -9.0000,9,    228.7,2,    246.7,2,    10.80,2,    18.00,2,     0.00,2,     1.19,2,     -999,9,     -999,9,     -999,9,   2172.0,2,   2303.8,2,    842.9,2,   7.6721,2,    25.00,     -999,9,      0.6,2,     -999,9,     -999,9
33RO20230413  ,A16N       ,130     ,  1,1300104    ,4          ,2,20230504,0503,  54.9991, -20.0000,     1611,   1168.0,   4.3909,  34.9501,2,  34.9528,2,    239.6,2,    258.4,2,    10.60,6,    17.50,6,     0.00,6,     1.18,6,     -999,9,     -999,9,     -999,9,   2170.3,2,   2302.4,2,    836.5,2,   7.6774,2,    25.00,     -999,9,      0.7,6,     -999,9,     -999,9
33RO20230413  ,A16N       ,130     ,  1,1300103    ,3          ,2,20230504,0503,  54.9991, -20.0000,     1611,   1333.5,   4.1689,  34.9439,2,  -9.0000,2,    244.2,2,    263.8,2,    11.20,6,    17.30,6,     0.00,6,     1.15,6,     -999,9,     -999,9,     -999,9,   2167.4,2,   2299.0,2,    824.0,2,   7.6824,2,    25.00,     -999,9,      0.7,2,     -999,9,     -999,9
33RO20230413  ,A16N       ,130     ,  1,1300102    ,2          ,2,20230504,0503,  54.9991, -20.0000,     1611,   1500.0,   3.8729,  34.9241,2,  34.9276,2,    249.4,2,    270.4,2,    11.40,6,    17.10,6,     0.00,6,     1.15,6,     -999,9,     -999,9,     -999,9,   2170.4,2,   2301.3,2,    814.8,2,   7.6891,2,    25.00,     -999,9,      0.8,2,     -999,9,     -999,9
33RO20230413  ,A16N       ,130     ,  1,1300101    ,1          ,2,20230504,0503,  54.9991, -20.0000,     1611,   1615.2,   3.7998,  34.9226,2,  34.9274,9,    249.5,2,    269.8,6,    11.90,6,    17.10,6,     0.00,6,     1.15,6,     -999,9,     -999,9,     -999,9,   2172.9,2,   2300.0,2,    810.5,2,   7.6889,2,    25.00,     -999,9,      0.8,6,     -999,9,     -999,9
33RO20230413  ,A16N       ,131     ,  2,1310224    ,24         ,2,20230504,1033,  55.0156, -20.0018,     1090,      4.5,  10.7630,  35.1918,2,  35.1958,2,    260.2,2,    276.9,2,     4.20,2,     7.70,2,     0.22,2,     0.57,2,     -999,9,     -999,9,     -999,9,   2126.5,6,   2315.9,2,    569.1,2,   7.8224,2,    25.00,     -999,9,      0.8,6,     -999,9,     -999,9
33RO20230413  ,A16N       ,131     ,  2,1310223    ,23         ,2,20230504,1033,  55.0156, -20.0018,     1090,     11.3,  10.7649,  35.1913,2,  -9.0000,2,    260.3,2,    277.0,2,     4.10,2,     7.70,2,     0.21,2,     0.57,2,     -999,9,     -999,9,     -999,9,   2125.9,2,   -999.0,9,    569.5,2,   7.8266,2,    25.00,     -999,9,      0.7,2,     -999,9,     -999,9
33RO20230413  ,A16N       ,131     ,  2,1310222    ,22         ,2,20230504,1033,  55.0156, -20.0018,     1090,     19.6,  10.5424,  35.2349,2,  35.2366,2,    257.7,2,    274.4,2,     4.20,2,     8.30,2,     0.27,2,     0.62,2,     -999,9,     -999,9,     -999,9,     -999,9,   2318.8,2,   -999.0,9,   7.8100,2,    25.00,     -999,9,      0.6,2,     -999,9,     -999,9
33RO20230413  ,A16N       ,131     ,  2,1310221    ,21         ,2,20230504,1033,  55.0156, -20.0018,     1090,     28.9,  10.4453,  35.2333,2,  -9.0000,9,    256.4,2,    272.1,2,     4.20,2,     8.50,2,     0.29,2,     0.64,2,     -999,9,     -999,9,     -999,9,   2138.5,2,   2319.0,6,    593.9,2,   7.8066,6,    25.00,     -999,9,      0.7,2,     -999,9,     -999,9
33RO20230413  ,A16N       ,131     ,  2,1310220    ,20         ,2,20230504,1033,  55.0156, -20.0018,     1090,     39.0,  10.3212,  35.2254,2,  35.2297,2,    254.5,2,    271.2,2,     4.20,2,     8.70,2,     0.32,2,     0.65,2,     -999,9,     -999,9,     -999,9,     -999,9,   2317.9,2,   -999.0,9,   7.8025,2,    25.00,     -999,9,      0.6,2,     -999,9,     -999,9
33RO20230413  ,A16N       ,131     ,  2,1310219    ,19         ,2,20230504,1033,  55.0156, -20.0018,     1090,     57.9,  10.2291,  35.2222,2,  -9.0000,9,    252.6,2,    269.0,2,     4.30,2,     8.80,2,     0.34,2,     0.68,2,     -999,9,     -999,9,     -999,9,   2143.7,2,   2319.4,2,    609.0,2,   7.7978,2,    25.00,     -999,9,      0.5,2,     -999,9,     -999,9
33RO20230413  ,A16N       ,131     ,  2,1310218    ,18         ,2,20230504,1033,  55.0156, -20.0018,     1090,     83.5,  10.5674,  35.3208,2,  35.3228,6,    252.0,2,    270.1,2,     4.10,2,     8.70,2,     0.24,2,     0.66,2,     -999,9,     -999,9,     -999,9,     -999,9,   2324.4,2,   -999.0,9,   7.8058,2,    25.00,     -999,9,      0.6,2,     -999,9,     -999,9
33RO20230413  ,A16N       ,131     ,  2,1310217    ,17         ,2,20230504,1033,  55.0156, -20.0018,     1090,    111.3,  10.5872,  35.3447,2,  -9.0000,9,    246.5,2,    263.4,2,     4.20,2,     9.50,2,     0.27,2,     0.68,2,     -999,9,     -999,9,     -999,9,   2147.3,2,   -999.0,9,    609.0,2,   7.7987,2,    25.00,     -999,9,      0.5,2,     -999,9,     -999,9
33RO20230413  ,A16N       ,131     ,  2,1310216    ,16         ,2,20230504,1033,  55.0156, -20.0018,     1090,    143.8,  10.4651,  35.3448,2,  35.3589,2,    242.4,2,    258.4,2,     4.40,2,    10.40,2,     0.20,2,     0.72,2,     -999,9,     -999,9,     -999,9,     -999,9,   2323.5,2,   -999.0,9,   7.7912,2,    25.00,     -999,9,      0.5,2,     -999,9,     -999,9
33RO20230413  ,A16N       ,131     ,  2,1310215    ,15         ,2,20230504,1033,  55.0156, -20.0018,     1090,    150.6,  10.4116,  35.3352,2,  -9.0000,9,    242.8,2,     -999,9,     -999,9,     -999,9,     -999,9,     -999,9,     -999,9,     -999,9,     -999,9,     -999,9,   -999.0,9,   -999.0,9,-999.0000,9,    25.00,     -999,9,     -999,9,     -999,9,     -999,9
33RO20230413  ,A16N       ,131     ,  2,1310214    ,14         ,2,20230504,1033,  55.0156, -20.0018,     1090,    183.3,  10.3672,  35.3353,2,  35.3483,2,    242.7,2,    258.5,2,     4.50,2,    10.50,2,     0.16,2,     0.73,2,     -999,9,     -999,9,     -999,9,   2151.0,2,   2323.9,2,    625.5,6,   7.7877,2,    25.00,     -999,9,      0.5,2,     -999,9,     -999,9
33RO20230413  ,A16N       ,131     ,  2,1310213    ,13         ,2,20230504,1033,  55.0156, -20.0018,     1090,    201.1,  10.3695,  35.3403,2,  -9.0000,9,    242.2,2,     -999,9,     -999,9,     -999,9,     -999,9,     -999,9,     -999,9,     -999,9,     -999,9,     -999,9,   -999.0,9,   -999.0,9,-999.0000,9,    25.00,     -999,9,     -999,9,     -999,9,     -999,9
33RO20230413  ,A16N       ,131     ,  2,1310212    ,12         ,2,20230504,1033,  55.0156, -20.0018,     1090,    233.3,  10.3751,  35.3450,2,  -9.0000,2,    241.7,2,    257.4,2,     4.50,2,    10.80,2,     0.09,2,     0.73,2,     -999,9,     -999,9,     -999,9,     -999,9,   2324.2,2,   -999.0,9,   7.7866,2,    25.00,     -999,9,      0.4,2,     -999,9,     -999,9
33RO20230413  ,A16N       ,131     ,  2,1310211    ,11         ,2,20230504,1033,  55.0156, -20.0018,     1090,    283.4,  10.3045,  35.3516,2,  -9.0000,9,    236.7,2,    252.5,2,     4.80,2,    11.40,2,     0.04,2,     0.78,2,     -999,9,     -999,9,     -999,9,   2153.3,2,   2324.3,2,    643.0,2,   7.7771,2,    25.00,     -999,9,      0.5,2,     -999,9,     -999,9
33RO20230413  ,A16N       ,131     ,  2,1310210    ,10         ,2,20230504,1033,  55.0156, -20.0018,     1090,    333.6,   9.9302,  35.2973,2,  35.2982,2,    229.2,2,    245.0,6,     5.50,2,    12.60,2,     0.03,2,     0.85,2,     -999,9,     -999,9,     -999,9,     -999,9,   2320.4,2,   -999.0,9,   7.7630,2,    25.00,     -999,9,      0.4,2,     -999,9,     -999,9
33RO20230413  ,A16N       ,131     ,  2,1310209    ,9          ,2,20230504,1033,  55.0156, -20.0018,     1090,    389.2,   9.4806,  35.2401,2,  -9.0000,9,    216.7,2,    231.4,2,     6.60,2,    14.30,2,     0.01,2,     0.96,2,     -999,9,     -999,9,     -999,9,   2165.5,2,   2317.2,2,    714.1,2,   7.7394,2,    25.00,     -999,9,      0.5,2,     -999,9,     -999,9
33RO20230413  ,A16N       ,131     ,  2,1310208    ,8          ,2,20230504,1033,  55.0156, -20.0018,     1090,    467.4,   8.4694,  35.0985,2,  35.1068,2,    197.2,2,    210.9,2,     8.90,2,    17.30,2,     0.01,2,     1.16,2,     -999,9,     -999,9,     -999,9,   2178.0,2,   2309.6,2,    795.0,2,   7.6995,2,    25.00,     -999,9,      0.6,2,     -999,9,     -999,9
33RO20230413  ,A16N       ,131     ,  2,1310207    ,7          ,2,20230504,1033,  55.0156, -20.0018,     1090,    499.9,   8.3592,  35.1088,2,   9.0000,9,    192.5,2,     -999,9,     -999,9,     -999,9,     -999,9,     -999,9,     -999,9,     -999,9,     -999,9,     -999,9,   -999.0,9,   -999.0,9,-999.0000,9,    25.00,     -999,9,     -999,9,     -999,9,     -999,9
33RO20230413  ,A16N       ,131     ,  2,1310206    ,6          ,2,20230504,1033,  55.0156, -20.0018,     1090,    579.7,   7.8788,  35.1447,2,  -9.0000,2,    187.1,2,    202.2,2,    10.20,2,    18.60,2,     0.01,2,     1.24,2,     -999,9,     -999,9,     -999,9,   2188.0,2,   2316.4,2,    829.5,2,   7.6805,2,    25.00,     -999,9,      0.5,6,     -999,9,     -999,9
33RO20230413  ,A16N       ,131     ,  2,1310205    ,5          ,2,20230504,1033,  55.0156, -20.0018,     1090,    712.7,   6.5082,  35.0914,2,  35.0950,2,    200.6,2,    215.2,2,    10.80,2,    18.70,2,     0.01,2,     1.25,2,     -999,9,     -999,9,     -999,9,   2187.9,2,   2312.9,2,    848.1,2,   7.6724,2,    25.00,     -999,9,      0.6,2,     -999,9,     -999,9
33RO20230413  ,A16N       ,131     ,  2,1310204    ,4          ,2,20230504,1033,  55.0156, -20.0018,     1090,    845.0,   5.8638,  35.0589,2,  35.0625,2,    211.2,2,    226.6,2,    10.80,2,    18.40,2,     0.01,2,     1.23,2,     -999,9,     -999,9,     -999,9,     -999,9,   2307.0,2,   -999.0,9,   7.6710,2,    25.00,     -999,9,      0.6,2,     -999,9,     -999,9
33RO20230413  ,A16N       ,131     ,  2,1310203    ,3          ,2,20230504,1033,  55.0156, -20.0018,     1090,    978.9,   5.4729,  35.0506,2,  35.0554,2,    219.0,2,    235.3,2,    10.90,2,    18.10,2,     0.00,2,     1.21,2,     -999,9,     -999,9,     -999,9,   2186.3,2,   2309.1,2,    839.5,2,   7.6760,2,    25.00,     -999,9,      0.7,2,     -999,9,     -999,9
33RO20230413  ,A16N       ,131     ,  2,1310202    ,2          ,2,20230504,1033,  55.0156, -20.0018,     1090,   1000.5,   5.2868,  35.0286,2,  -9.0000,2,    222.4,2,     -999,9,     -999,9,     -999,9,     -999,9,     -999,9,     -999,9,     -999,9,     -999,9,     -999,9,   -999.0,9,   -999.0,9,-999.0000,9,    25.00,     -999,9,     -999,9,     -999,9,     -999,9
33RO20230413  ,A16N       ,131     ,  2,1310201    ,1          ,2,20230504,1033,  55.0156, -20.0018,     1090,   1122.4,   4.7357,  34.9785,2,  34.9844,9,    233.0,2,    250.5,6,    10.80,2,    17.70,2,     0.01,2,     1.20,2,     -999,9,     -999,9,     -999,9,   2183.6,2,   2303.9,2,    838.0,2,   7.6728,2,    25.00,     -999,9,      0.7,6,     -999,9,     -999,9