BOTTLE,20240627CCHHYDRO
EXPOCODE,SECT_ID,STNNBR,CASTNO,SAMPNO,BTLNBR,BTLNBR_FLAG_W,DATE,TIME,LATITUDE,LONGITUDE,DEPTH,CTDPRS,CTDTMP,CTDSAL,CTDSAL_FLAG_W,SALNTY,SALNTY_FLAG_W,CTDOXY,CTDOXY_FLAG_W,OXYGEN,OXYGEN_FLAG_W,SILCAT,SILCAT_FLAG_W,NITRAT,NITRAT_FLAG_W,NITRIT,NITRIT_FLAG_W,PHSPHT,PHSPHT_FLAG_W,CFC-11,CFC-11_FLAG_W,CFC-12,CFC-12_FLAG_W,SF6,SF6_FLAG_W,TCARBN,TCARBN_FLAG_W,ALKALI,ALKALI_FLAG_W,FCO2,FCO2_FLAG_W,PH_TOT,PH_TOT_FLAG_W,PH_TMP,DOC,DOC_FLAG_W,DELC13,DELC13_FLAG_W,TDN,TDN_FLAG_W,N2O,N2O_FLAG_W
,,,,,,,,,,,METERS,DBAR,ITS-90,PSS-78,,PSS-78,,UMOL/KG,,UMOL/KG,,UMOL/KG,,UMOL/KG,,UMOL/KG,,UMOL/KG,,PMOL/KG,,PMOL/KG,,FMOL/KG,,UMOL/KG,,UMOL/KG,,UATM,,,,DEG C,UMOL/KG,,/MILLE,,UMOL/KG,,NMOL/KG,
33RO20230413  ,A16N       ,88      ,  1,880124     ,24         ,2,20230422,0400,  33.9956, -21.1177,     5229,      3.9,  19.9497,  36.8497,2,  36.8514,2,    212.9,2,    223.8,2,     -999,9,     -999,9,     -999,9,     -999,9,     -999,9,     -999,9,     -999,9,   2124.8,6,   2410.1,2,    391.8,2,   7.9736,2,    25.00,     -999,9,      0.6,6,     -999,9,     -999,9
33RO20230413  ,A16N       ,88      ,  1,880123     ,23         ,2,20230422,0400,  33.9956, -21.1177,     5229,     40.2,  19.9507,  36.8469,2,  36.8580,2,    212.8,2,    224.2,2,     -999,9,     -999,9,     -999,9,     -999,9,     -999,9,     -999,9,     -999,9,   2123.0,2,   2410.4,2,    391.8,2,   7.9766,2,    25.00,     -999,9,      0.7,2,     -999,9,     -999,9
33RO20230413  ,A16N       ,88      ,  1,880122     ,22         ,2,20230422,0400,  33.9956, -21.1177,     5229,     91.2,  18.4443,  36.5614,2,  36.5720,2,    213.8,2,    225.5,2,     -999,9,     -999,9,     -999,9,     -999,9,     -999,9,     -999,9,     -999,9,   2119.0,2,   2392.8,2,    404.7,2,   7.9610,2,    25.00,     -999,9,      0.5,2,     -999,9,     -999,9
33RO20230413  ,A16N       ,88      ,  1,880121     ,21         ,2,20230422,0400,  33.9956, -21.1177,     5229,    139.7,  18.1616,  36.5683,2,  36.5697,2,    205.6,2,    215.4,2,     -999,9,     -999,9,     -999,9,     -999,9,     -999,9,     -999,9,     -999,9,   2125.2,2,   2391.3,2,    422.6,2,   7.9463,2,    25.00,     -999,9,      0.5,2,     -999,9,     -999,9
33RO20230413  ,A16N       ,88      ,  1,880120     ,20         ,2,20230422,0400,  33.9956, -21.1177,     5229,    191.6,  17.1535,  36.3561,2,  36.3609,2,    195.4,2,    206.6,2,     -999,9,     -999,9,     -999,9,     -999,9,     -999,9,     -999,9,     -999,9,   2130.8,2,   2379.1,2,    459.6,2,   7.9113,2,    25.00,     -999,9,      0.4,2,     -999,9,     -999,9
33RO20230413  ,A16N       ,88      ,  1,880119     ,19         ,2,20230422,0400,  33.9956, -21.1177,     5229,    275.4,  15.5655,  36.0909,2,  36.0988,2,    190.9,2,    202.2,2,     -999,9,     -999,9,     -999,9,     -999,9,     -999,9,     -999,9,     -999,9,   2143.8,2,   2362.2,2,    515.9,2,   7.8657,2,    25.00,     -999,9,      0.4,2,     -999,9,     -999,9
33RO20230413  ,A16N       ,88      ,  1,880118     ,18         ,2,20230422,0400,  33.9956, -21.1177,     5229,    424.5,  13.3900,  35.7546,2,  35.7563,2,    191.9,2,    204.8,2,     0.70,2,     0.00,2,     0.00,2,     0.06,2,     -999,9,     -999,9,     -999,9,   2152.3,2,   2343.9,2,    597.9,2,   7.8109,2,    25.00,     -999,9,      0.3,2,     -999,9,     -999,9
33RO20230413  ,A16N       ,88      ,  1,880117     ,17         ,2,20230422,0400,  33.9956, -21.1177,     5229,    581.7,  11.8869,  35.5782,2,  35.5806,2,    178.1,2,    189.1,2,     0.70,2,     0.00,2,     0.00,2,     0.05,2,     -999,9,     -999,9,     -999,9,   2168.7,6,   2334.2,2,    679.6,2,   7.7621,2,    25.00,     -999,9,      0.4,2,     -999,9,     -999,9
33RO20230413  ,A16N       ,88      ,  1,880116     ,16         ,2,20230422,0400,  33.9956, -21.1177,     5229,    750.9,  10.6079,  35.5313,2,  35.5355,2,    164.5,2,    176.0,2,     0.80,2,     0.10,2,     0.03,2,     0.06,2,     -999,9,     -999,9,     -999,9,   2182.6,2,   2335.6,6,    742.0,2,   7.7296,6,    25.00,     -999,9,      0.5,6,     -999,9,     -999,9
33RO20230413  ,A16N       ,88      ,  1,880115     ,15         ,2,20230422,0400,  33.9956, -21.1177,     5229,    991.6,   9.0732,  35.5767,2,  35.5823,6,    169.3,2,    182.1,2,     0.90,2,     1.20,2,     0.03,2,     0.12,2,     -999,9,     -999,9,     -999,9,   2194.6,2,   2343.6,2,    758.2,2,   7.7197,2,    25.00,     -999,9,      0.7,2,     -999,9,     -999,9
33RO20230413  ,A16N       ,88      ,  1,880114     ,14         ,2,20230422,0400,  33.9956, -21.1177,     5229,   1242.2,   7.7962,  35.5418,2,  35.5471,2,    187.5,2,    202.2,6,     1.50,2,     3.70,2,     0.01,2,     0.26,2,     -999,9,     -999,9,     -999,9,   2193.9,2,   2344.8,2,    752.6,2,   7.7253,2,    25.00,     -999,9,      0.7,2,     -999,9,     -999,9
33RO20230413  ,A16N       ,88      ,  1,880113     ,13         ,2,20230422,0400,  33.9956, -21.1177,     5229,   1501.1,   5.9301,  35.2871,2,  35.2909,2,    209.4,2,    226.3,2,     2.80,2,     6.90,2,     0.00,2,     0.45,2,     -999,9,     -999,9,     -999,9,   2182.9,2,   2328.0,6,    763.4,2,   7.7167,6,    25.00,     -999,9,      0.7,2,     -999,9,     -999,9
33RO20230413  ,A16N       ,88      ,  1,880106     ,6          ,2,20230422,0400,  33.9956, -21.1177,     5229,   3526.1,   2.6167,  34.9195,2,  34.9240,2,    215.7,2,    240.8,2,    39.10,2,    21.00,2,     0.00,2,     1.47,2,     -999,9,     -999,9,     -999,9,   2190.5,2,   2338.9,2,    757.1,2,   7.7220,2,    25.00,     -999,9,      1.0,2,     -999,9,     -999,9
33RO20230413  ,A16N       ,88      ,  1,880105     ,5          ,2,20230422,0400,  33.9956, -21.1177,     5229,   3826.0,   2.5383,  34.9097,2,  34.9116,2,    214.7,2,    243.8,2,    41.90,2,    21.50,2,     0.00,2,     1.49,2,     -999,9,     -999,9,     -999,9,   2192.8,2,   2341.0,2,    758.0,2,   7.7268,2,    25.00,     -999,9,      1.0,2,     -999,9,     -999,9
33RO20230413  ,A16N       ,88      ,  1,880104     ,4          ,2,20230422,0400,  33.9956, -21.1177,     5229,   4127.2,   2.4779,  34.9008,2,  34.9034,2,    214.3,2,    240.5,2,    44.00,6,    21.70,6,     0.00,6,     1.52,6,     -999,9,     -999,9,     -999,9,   2194.9,2,   2343.3,2,    759.3,2,   7.7216,2,    25.00,     -999,9,      0.9,2,     -999,9,     -999,9
33RO20230413  ,A16N       ,88      ,  1,880103     ,3          ,2,20230422,0400,  33.9956, -21.1177,     5229,   4425.5,   2.4444,  34.8941,2,  34.8963,2,    214.2,2,    246.8,2,    45.60,6,    21.80,6,     0.00,6,     1.52,6,     -999,9,     -999,9,     -999,9,   2198.0,2,   2344.4,2,    761.9,2,   7.7045,2,    25.00,     -999,9,      1.0,2,     -999,9,     -999,9
33RO20230413  ,A16N       ,88      ,  1,880102     ,2          ,2,20230422,0400,  33.9956, -21.1177,     5229,   4702.8,   2.4251,  34.8888,2,  34.8916,6,    214.2,2,    241.0,2,    46.80,6,    22.00,6,     0.00,6,     1.54,6,     -999,9,     -999,9,     -999,9,   2200.7,6,   2346.1,2,    762.9,2,   7.7210,2,    25.00,     -999,9,      1.0,2,     -999,9,     -999,9
33RO20230413  ,A16N       ,88      ,  1,880101     ,1          ,2,20230422,0400,  33.9956, -21.1177,     5229,   5320.9,   2.4756,  34.8854,2,  34.8889,2,    215.2,2,    241.3,6,    47.70,6,    22.00,6,     0.00,6,     1.54,6,     -999,9,     -999,9,     -999,9,   2203.8,2,   2349.7,2,    761.5,2,   7.7205,2,    25.00,     -999,9,      0.9,6,     -999,9,     -999,9
33RO20230413  ,A16N       ,89      ,  2,890224     ,24         ,2,20230422,1330,  34.5015, -20.8458,     5250,      4.3,  19.1715,  36.4522,2,  36.4599,2,    217.7,2,    230.4,2,     0.80,2,     0.00,2,     0.01,2,     0.04,2,     -999,9,     -999,9,     -999,9,   2119.4,2,   2385.4,2,    409.2,2,   7.9631,2,    25.00,     -999,9,      0.7,6,     -999,9,     -999,9
33RO20230413  ,A16N       ,89      ,  2,890223     ,23         ,2,20230422,1330,  34.5015, -20.8458,     5250,     50.2,  18.4755,  36.3950,2,  36.3966,2,    221.5,2,    234.8,2,     0.80,2,     0.00,2,     0.00,2,     0.05,2,     -999,9,     -999,9,     -999,9,   2116.6,2,   2381.9,2,    409.4,6,   7.9516,2,    25.00,     -999,9,      0.7,2,     -999,9,     -999,9
33RO20230413  ,A16N       ,89      ,  2,890222     ,22         ,2,20230422,1330,  34.5015, -20.8458,     5250,    100.8,  17.0456,  36.2824,2,  36.2837,2,    223.8,2,    237.0,2,     0.90,2,     0.00,2,     0.01,2,     0.07,2,     -999,9,     -999,9,     -999,9,   2118.1,6,   2375.8,2,    424.5,2,   7.9399,2,    25.00,     -999,9,      0.8,2,     -999,9,     -999,9
33RO20230413  ,A16N       ,89      ,  2,890221     ,21         ,2,20230422,1330,  34.5015, -20.8458,     5250,    150.3,  16.4276,  36.2471,2,  36.2476,2,    214.6,2,    225.7,2,     2.10,2,     1.50,2,     0.03,2,     0.15,2,     -999,9,     -999,9,     -999,9,   2130.1,2,   2372.4,2,    452.1,2,   7.9166,2,    25.00,     -999,9,      0.7,2,     -999,9,     -999,9
33RO20230413  ,A16N       ,89      ,  2,890220     ,20         ,2,20230422,1330,  34.5015, -20.8458,     5250,    199.6,  15.8209,  36.1444,2,  36.1403,2,    207.8,2,    219.8,2,     1.50,2,     3.60,2,     0.02,2,     0.27,2,     -999,9,     -999,9,     -999,9,   2135.3,2,   2366.1,2,    483.3,2,   7.8902,2,    25.00,     -999,9,      0.6,2,     -999,9,     -999,9
33RO20230413  ,A16N       ,89      ,  2,890219     ,19         ,2,20230422,1330,  34.5015, -20.8458,     5250,    299.3,  14.2172,  35.8781,2,  35.8813,2,    197.2,2,    210.6,2,     2.90,2,     8.10,2,     0.01,2,     0.53,2,     -999,9,     -999,9,     -999,9,   2148.0,2,   2350.2,2,    557.6,2,   7.8373,2,    25.00,     -999,9,      0.5,2,     -999,9,     -999,9
33RO20230413  ,A16N       ,89      ,  2,890218     ,18         ,2,20230422,1330,  34.5015, -20.8458,     5250,    399.4,  13.1374,  35.7216,2,  35.7714,2,    192.5,2,    205.1,2,     3.80,2,    10.50,2,     0.01,2,     0.67,2,     -999,9,     -999,9,     -999,9,   2158.3,2,   2341.8,2,    610.0,2,   7.8011,2,    25.00,     -999,9,      0.5,2,     -999,9,     -999,9
33RO20230413  ,A16N       ,89      ,  2,890217     ,17         ,2,20230422,1330,  34.5015, -20.8458,     5250,    600.1,  11.3378,  35.5250,2,  35.5283,2,    175.2,2,    187.0,2,     6.80,2,    15.50,2,     0.00,2,     0.99,2,     -999,9,     -999,9,     -999,9,   2176.6,2,   2331.2,2,    706.7,2,   7.7448,2,    25.00,     -999,9,      0.5,2,     -999,9,     -999,9
33RO20230413  ,A16N       ,89      ,  2,890216     ,16         ,2,20230422,1330,  34.5015, -20.8458,     5250,    801.1,   9.9769,  35.5294,2,  35.7105,4,    166.1,2,    178.2,2,    10.20,2,    17.90,2,     0.00,2,     1.16,2,     -999,9,     -999,9,     -999,9,   2189.4,2,   2337.6,2,    754.5,2,   7.7233,2,    25.00,     -999,9,      0.7,2,     -999,9,     -999,9
33RO20230413  ,A16N       ,89      ,  2,890215     ,15         ,2,20230422,1330,  34.5015, -20.8458,     5250,   1000.4,   9.4463,  35.7041,2,  35.7067,2,    170.0,2,    183.0,6,    10.80,2,    17.70,2,     0.00,2,     1.14,2,     -999,9,     -999,9,     -999,9,   2201.8,6,   -999.0,9,    743.3,2,-999.0000,9,    25.00,     -999,9,      0.7,2,     -999,9,     -999,9
33RO20230413  ,A16N       ,89      ,  2,890214     ,14         ,2,20230422,1330,  34.5015, -20.8458,     5250,   1200.6,   7.6186,  35.4909,2,  35.4940,2,    188.8,2,    203.9,2,    11.90,2,    18.10,2,     0.00,2,     1.18,2,     -999,9,     -999,9,     -999,9,   2197.0,2,   2340.2,2,    759.7,2,   7.7202,2,    25.00,     -999,9,      0.8,2,     -999,9,     -999,9
33RO20230413  ,A16N       ,89      ,  2,890213     ,13         ,2,20230422,1330,  34.5015, -20.8458,     5250,   1450.0,   5.9884,  35.2896,2,  35.2925,2,    211.9,2,    229.2,2,    11.90,2,    17.60,2,     0.00,2,     1.17,2,     -999,9,     -999,9,     -999,9,   2184.5,2,   2326.9,6,    767.5,2,   7.7130,6,    25.00,     -999,9,      0.9,2,     -999,9,     -999,9
33RO20230413  ,A16N       ,89      ,  2,890212     ,12         ,2,20230422,1330,  34.5015, -20.8458,     5250,   1700.2,   4.9731,  35.1637,2,  35.1662,2,    219.8,2,    238.9,2,    14.00,2,    18.00,2,     0.00,2,     1.20,2,     -999,9,     -999,9,     -999,9,   2181.7,2,   2319.4,2,    761.8,2,   7.7147,2,    25.00,     -999,9,      0.9,2,     -999,9,     -999,9
33RO20230413  ,A16N       ,89      ,  2,890211     ,11         ,2,20230422,1330,  34.5015, -20.8458,     5250,   1950.3,   4.3672,  35.0967,2,  35.1067,2,    223.0,2,    244.4,2,    16.00,2,    18.20,2,     0.00,2,     1.22,2,     -999,9,     -999,9,     -999,9,   2176.2,2,   2316.9,2,    757.1,2,   7.7177,2,    25.00,     -999,9,      1.0,2,     -999,9,     -999,9
33RO20230413  ,A16N       ,89      ,  2,890210     ,10         ,2,20230422,1330,  34.5015, -20.8458,     5250,   2250.4,   3.7939,  35.0356,2,  35.0406,2,    223.2,2,    245.7,2,    20.40,2,    18.80,2,     0.00,2,     1.28,2,     -999,9,     -999,9,     -999,9,   2176.1,2,   2319.0,2,    751.1,2,   7.7208,2,    25.00,     -999,9,      1.1,2,     -999,9,     -999,9
33RO20230413  ,A16N       ,89      ,  2,890209     ,9          ,2,20230422,1330,  34.5015, -20.8458,     5250,   2550.1,   3.2126,  34.9697,2,  34.9739,2,    226.1,2,    250.0,2,    24.30,2,    19.00,2,     0.00,2,     1.29,2,     -999,9,     -999,9,     -999,9,   2177.3,2,   2320.9,2,    756.1,2,   7.7168,2,    25.00,     -999,9,      1.1,2,     -999,9,     -999,9
33RO20230413  ,A16N       ,89      ,  2,890208     ,8          ,2,20230422,1330,  34.5015, -20.8458,     5250,   2857.1,   2.9302,  34.9494,2,  34.9524,2,    221.7,2,    247.5,2,    30.20,2,    19.80,2,     0.00,2,     1.36,2,     -999,9,     -999,9,     -999,9,   2185.8,2,   2329.0,2,    756.0,2,   7.7184,2,    25.00,     -999,9,      1.0,2,     -999,9,     -999,9
33RO20230413  ,A16N       ,89      ,  2,890207     ,7          ,2,20230422,1330,  34.5015, -20.8458,     5250,   3151.4,   2.7543,  34.9342,2,  34.9423,2,    218.5,2,    245.1,2,    34.70,2,    20.50,2,     0.00,2,     1.40,2,     -999,9,     -999,9,     -999,9,   2188.8,2,   2332.1,2,    756.9,2,   7.7252,2,    25.00,     -999,9,      1.1,2,     -999,9,     -999,9
33RO20230413  ,A16N       ,89      ,  2,890206     ,6          ,2,20230422,1330,  34.5015, -20.8458,     5250,   3449.9,   2.6377,  34.9226,2,  34.9261,6,    215.9,2,    241.5,2,    38.70,2,    21.10,2,     0.00,2,     1.45,2,     -999,9,     -999,9,     -999,9,   2191.2,2,   2337.5,6,    757.7,2,   7.7199,6,    25.00,     -999,9,      1.0,2,     -999,9,     -999,9
33RO20230413  ,A16N       ,89      ,  2,890205     ,5          ,2,20230422,1330,  34.5015, -20.8458,     5250,   3752.1,   2.5557,  34.9122,2,  34.9157,2,    215.0,2,    241.0,2,    41.40,2,    21.40,2,     0.00,2,     1.48,2,     -999,9,     -999,9,     -999,9,   2193.9,2,   2340.7,2,    758.4,2,   7.7189,2,    25.00,     -999,9,      1.0,2,     -999,9,     -999,9
33RO20230413  ,A16N       ,89      ,  2,890204     ,4          ,2,20230422,1330,  34.5015, -20.8458,     5250,   4001.8,   2.5086,  34.9051,2,  34.9080,2,    214.6,2,    241.2,2,    43.10,2,    21.60,2,     0.00,2,     1.50,2,     -999,9,     -999,9,     -999,9,   2197.2,2,   2341.2,2,    758.9,2,   7.7189,2,    25.00,     -999,9,      1.0,2,     -999,9,     -999,9
33RO20230413  ,A16N       ,89      ,  2,890203     ,3          ,2,20230422,1330,  34.5015, -20.8458,     5250,   4350.5,   2.4524,  34.8956,2,  34.8986,2,    214.4,2,    241.8,2,    45.30,2,    21.90,2,     0.00,2,     1.51,2,     -999,9,     -999,9,     -999,9,   2196.8,2,   2342.8,2,    761.7,2,   7.7207,2,    25.00,     -999,9,      1.0,2,     -999,9,     -999,9
33RO20230413  ,A16N       ,89      ,  2,890202     ,2          ,2,20230422,1330,  34.5015, -20.8458,     5250,   4501.5,   2.4385,  34.8925,2,  34.8962,2,    214.4,2,    241.8,2,    45.90,2,    21.90,2,     0.00,2,     1.51,2,     -999,9,     -999,9,     -999,9,   2200.0,2,   2344.5,2,    763.0,2,   7.7180,2,    25.00,     -999,9,      1.0,2,     -999,9,     -999,9
33RO20230413  ,A16N       ,89      ,  2,890201     ,1          ,2,20230422,1330,  34.5015, -20.8458,     5250,   5250.4,   2.4633,  34.8849,2,  34.9013,2,    215.2,2,    240.5,6,    47.80,2,    22.10,2,     0.00,2,     1.52,2,     -999,9,     -999,9,     -999,9,   2203.7,6,   2349.0,2,    763.3,2,   7.7213,2,    25.00,     -999,9,      1.0,6,     -999,9,     -999,9