BOTTLE,20240627CCHHYDRO
EXPOCODE,SECT_ID,STNNBR,CASTNO,SAMPNO,BTLNBR,BTLNBR_FLAG_W,DATE,TIME,LATITUDE,LONGITUDE,DEPTH,CTDPRS,CTDTMP,CTDSAL,CTDSAL_FLAG_W,SALNTY,SALNTY_FLAG_W,CTDOXY,CTDOXY_FLAG_W,OXYGEN,OXYGEN_FLAG_W,SILCAT,SILCAT_FLAG_W,NITRAT,NITRAT_FLAG_W,NITRIT,NITRIT_FLAG_W,PHSPHT,PHSPHT_FLAG_W,CFC-11,CFC-11_FLAG_W,CFC-12,CFC-12_FLAG_W,SF6,SF6_FLAG_W,TCARBN,TCARBN_FLAG_W,ALKALI,ALKALI_FLAG_W,FCO2,FCO2_FLAG_W,PH_TOT,PH_TOT_FLAG_W,PH_TMP,DOC,DOC_FLAG_W,DELC13,DELC13_FLAG_W,TDN,TDN_FLAG_W,N2O,N2O_FLAG_W
,,,,,,,,,,,METERS,DBAR,ITS-90,PSS-78,,PSS-78,,UMOL/KG,,UMOL/KG,,UMOL/KG,,UMOL/KG,,UMOL/KG,,UMOL/KG,,PMOL/KG,,PMOL/KG,,FMOL/KG,,UMOL/KG,,UMOL/KG,,UATM,,,,DEG C,UMOL/KG,,/MILLE,,UMOL/KG,,NMOL/KG,
33RO20230413  ,A16N       ,146     ,  1,1460122    ,22         ,2,20230507,1505,  62.3333, -20.0000,     1800,      4.6,   8.4881,  35.1819,2,  -9.0000,9,    269.6,2,    280.5,2,     5.50,2,    11.40,2,     0.19,2,     0.80,2,     -999,9,     -999,9,     -999,9,   2151.7,2,   2314.7,2,    645.2,2,   7.7792,2,    25.00,     -999,9,      0.7,2,     -999,9,     -999,9
33RO20230413  ,A16N       ,146     ,  1,1460121    ,21         ,2,20230507,1505,  62.3333, -20.0000,     1800,     12.8,   8.4658,  35.1836,2,  35.2438,2,    270.1,2,    281.0,2,     5.40,2,    11.30,2,     0.19,2,     0.80,2,     -999,9,     -999,9,     -999,9,   2150.7,2,   -999.0,9,    642.0,2,   7.7786,2,    25.00,     -999,9,      0.7,2,     -999,9,     -999,9
33RO20230413  ,A16N       ,146     ,  1,1460120    ,20         ,2,20230507,1505,  62.3333, -20.0000,     1800,     21.4,   8.4275,  35.1863,2,  -9.0000,9,    269.6,2,    280.1,2,     5.40,2,    11.30,2,     0.20,2,     0.80,2,     -999,9,     -999,9,     -999,9,     -999,9,   2313.9,2,   -999.0,9,   7.7786,2,    25.00,     -999,9,      0.6,2,     -999,9,     -999,9
33RO20230413  ,A16N       ,146     ,  1,1460119    ,19         ,2,20230507,1505,  62.3333, -20.0000,     1800,     32.6,   8.4041,  35.1849,2,  35.2586,2,    268.9,2,    279.6,2,     5.50,2,    11.50,2,     0.19,2,     0.80,2,     -999,9,     -999,9,     -999,9,   2154.0,2,   -999.0,9,    648.9,2,   7.7760,2,    25.00,     -999,9,      0.7,2,     -999,9,     -999,9
33RO20230413  ,A16N       ,146     ,  1,1460118    ,18         ,2,20230507,1505,  62.3333, -20.0000,     1800,     58.6,   8.2332,  35.1832,2,  -9.0000,9,    264.5,2,    275.4,2,     5.90,2,    12.10,2,     0.21,2,     0.83,2,     -999,9,     -999,9,     -999,9,     -999,9,   2315.2,2,   -999.0,9,   7.7662,2,    25.00,     -999,9,      0.6,2,     -999,9,     -999,9
33RO20230413  ,A16N       ,146     ,  1,1460117    ,17         ,2,20230507,1505,  62.3333, -20.0000,     1800,     83.2,   8.2345,  35.1844,2,  35.2487,6,    264.2,2,    274.8,2,     5.80,2,    12.10,2,     0.20,2,     0.83,2,     -999,9,     -999,9,     -999,9,   2156.8,2,   -999.0,9,    667.7,2,   7.7649,2,    25.00,     -999,9,      0.6,2,     -999,9,     -999,9
33RO20230413  ,A16N       ,146     ,  1,1460116    ,16         ,2,20230507,1505,  62.3333, -20.0000,     1800,    111.1,   8.2344,  35.1853,2,  -9.0000,2,    263.7,2,    275.2,2,     5.90,2,    12.10,2,     0.20,2,     0.83,2,     -999,9,     -999,9,     -999,9,     -999,9,   2313.7,2,   -999.0,9,   7.7635,2,    25.00,     -999,9,      0.7,2,     -999,9,     -999,9
33RO20230413  ,A16N       ,146     ,  1,1460115    ,15         ,2,20230507,1505,  62.3333, -20.0000,     1800,    143.5,   8.2320,  35.1859,2,  35.2435,2,    263.2,2,    274.6,2,     5.80,2,    12.10,2,     0.20,2,     0.84,2,     -999,9,     -999,9,     -999,9,   2157.8,2,   -999.0,9,    670.0,2,   7.7649,2,    25.00,     -999,9,      0.7,2,     -999,9,     -999,9
33RO20230413  ,A16N       ,146     ,  1,1460114    ,14         ,2,20230507,1505,  62.3333, -20.0000,     1800,    182.9,   8.1002,  35.1822,2,  -9.0000,9,    253.2,2,    275.3,4,     6.10,2,    13.40,2,     0.03,2,     0.91,2,     -999,9,     -999,9,     -999,9,     -999,9,   2312.5,2,   -999.0,9,   7.7469,2,    25.00,     -999,9,      0.7,2,     -999,9,     -999,9
33RO20230413  ,A16N       ,146     ,  1,1460113    ,13         ,2,20230507,1505,  62.3333, -20.0000,     1800,    233.6,   8.0062,  35.1759,2,  35.2385,2,    251.7,2,    262.6,2,     6.30,2,    13.70,2,     0.02,2,     0.92,2,     -999,9,     -999,9,     -999,9,   2165.0,2,   -999.0,9,    705.0,2,   7.7446,2,    25.00,     -999,9,      0.6,2,     -999,9,     -999,9
33RO20230413  ,A16N       ,146     ,  1,1460112    ,12         ,2,20230507,1505,  62.3333, -20.0000,     1800,    288.9,   7.9136,  35.1692,2,  -9.0000,9,    251.5,2,    263.0,2,     6.30,2,    13.80,2,     0.03,2,     0.93,2,     -999,9,     -999,9,     -999,9,     -999,9,   2311.8,2,   -999.0,9,   7.7427,2,    25.00,     -999,9,      0.7,2,     -999,9,     -999,9
33RO20230413  ,A16N       ,146     ,  1,1460111    ,11         ,2,20230507,1505,  62.3333, -20.0000,     1800,    333.5,   7.8088,  35.1610,2,  35.2053,2,    249.8,2,    261.0,2,     6.50,2,    14.00,2,     0.03,2,     0.94,2,     -999,9,     -999,9,     -999,9,   2167.4,2,   -999.0,9,    714.8,2,   7.7393,2,    25.00,     -999,9,      0.7,2,     -999,9,     -999,9
33RO20230413  ,A16N       ,146     ,  1,1460110    ,10         ,2,20230507,1505,  62.3333, -20.0000,     1800,    382.2,   7.7394,  35.1561,2,  -9.0000,9,    248.2,2,    260.3,2,     6.70,2,    14.20,2,     0.02,2,     0.96,2,     -999,9,     -999,9,     -999,9,     -999,9,   2311.9,2,   -999.0,9,   7.7370,2,    25.00,     -999,9,      0.6,2,     -999,9,     -999,9
33RO20230413  ,A16N       ,146     ,  1,1460109    ,9          ,2,20230507,1505,  62.3333, -20.0000,     1800,    468.0,   7.5786,  35.1437,2,  35.1913,2,    243.5,2,    255.4,2,     7.10,2,    14.60,2,     0.02,2,     0.98,2,     -999,9,     -999,9,     -999,9,   2170.2,2,   2311.4,2,    733.4,6,   7.7290,2,    25.00,     -999,9,      0.7,2,     -999,9,     -999,9
33RO20230413  ,A16N       ,146     ,  1,1460108    ,8          ,2,20230507,1505,  62.3333, -20.0000,     1800,    579.0,   7.0222,  35.1044,2,  -9.0000,9,    233.0,2,    245.3,2,     8.30,2,    15.80,2,     0.02,2,     1.05,2,     -999,9,     -999,9,     -999,9,   2177.9,2,   2310.1,2,    770.1,2,   7.7116,2,    25.00,     -999,9,      0.7,2,     -999,9,     -999,9
33RO20230413  ,A16N       ,146     ,  1,1460107    ,7          ,2,20230507,1505,  62.3333, -20.0000,     1800,    722.9,   6.2240,  35.0572,2,  35.1602,2,    238.3,2,    251.1,2,     8.60,2,    15.70,2,     0.01,2,     1.06,2,     -999,9,     -999,9,     -999,9,   2178.2,2,   -999.0,9,    785.1,2,   7.7033,2,    25.00,     -999,9,      0.8,2,     -999,9,     -999,9
33RO20230413  ,A16N       ,146     ,  1,1460106    ,6          ,2,20230507,1505,  62.3333, -20.0000,     1800,    889.9,   5.3920,  35.0030,2,  -9.0000,9,    241.5,2,    254.5,2,     8.80,2,    15.80,2,     0.01,2,     1.07,2,     -999,9,     -999,9,     -999,9,     -999,9,   2303.6,2,   -999.0,9,   7.6938,2,    25.00,     -999,9,      0.7,6,     -999,9,     -999,9
33RO20230413  ,A16N       ,146     ,  1,1460105    ,5          ,2,20230507,1505,  62.3333, -20.0000,     1800,   1056.6,   4.6446,  34.9785,2,  35.0539,2,    241.0,2,    254.9,2,    10.00,2,    16.80,2,     0.01,2,     1.13,2,     -999,9,     -999,9,     -999,9,   2180.5,2,   -999.0,9,    825.3,2,   7.6854,2,    25.00,     -999,9,      0.8,2,     -999,9,     -999,9
33RO20230413  ,A16N       ,146     ,  1,1460104    ,4          ,2,20230507,1505,  62.3333, -20.0000,     1800,   1223.1,   4.1961,  34.9773,2,  -9.0000,9,    250.0,2,    264.8,3,     9.20,2,    15.70,2,     0.01,2,     1.07,2,     -999,9,     -999,9,     -999,9,     -999,9,   2301.4,2,   -999.0,9,   7.6882,2,    25.00,     -999,9,      0.7,2,     -999,9,     -999,9
33RO20230413  ,A16N       ,146     ,  1,1460103    ,3          ,2,20230507,1505,  62.3333, -20.0000,     1800,   1389.6,   3.9588,  34.9825,2,  34.9825,2,    252.8,2,    267.3,6,     8.80,2,    15.20,2,     0.01,2,     1.04,2,     -999,9,     -999,9,     -999,9,   2176.1,2,   2301.5,2,    812.9,2,   7.6894,2,    25.00,     -999,9,      0.8,2,     -999,9,     -999,9
33RO20230413  ,A16N       ,146     ,  1,1460102    ,2          ,2,20230507,1505,  62.3333, -20.0000,     1800,   1556.6,   3.6889,  34.9772,2,  34.9776,9,    255.1,2,    270.3,3,     8.60,2,    14.90,2,     0.01,2,     1.03,2,     -999,9,     -999,9,     -999,9,   2177.5,2,   2301.2,2,    815.5,2,   7.6879,2,    25.00,     -999,9,      0.7,2,     -999,9,     -999,9
33RO20230413  ,A16N       ,146     ,  1,1460101    ,1          ,2,20230507,1505,  62.3333, -20.0000,     1800,   1814.0,   3.3458,  34.9719,2,  34.9772,2,    253.9,2,    269.4,6,     9.40,2,    15.30,2,     0.01,2,     1.06,2,     -999,9,     -999,9,     -999,9,   2178.3,2,   2301.2,2,    818.4,2,   7.6847,2,    25.00,     -999,9,      0.8,6,     -999,9,     -999,9
33RO20230413  ,A16N       ,147     ,  1,1470121    ,21         ,2,20230507,1916,  62.7486, -20.0000,     1405,      4.1,   9.1019,  35.2395,2,  -9.0000,9,    260.6,2,    269.7,2,     5.30,2,    11.40,2,     0.15,2,     0.80,2,     -999,9,     -999,9,     -999,9,   2155.1,2,   2318.7,2,    644.8,2,   7.7772,2,    25.00,     -999,9,      0.6,2,     -999,9,     -999,9
33RO20230413  ,A16N       ,147     ,  1,1470120    ,20         ,2,20230507,1916,  62.7486, -20.0000,     1405,     14.0,   9.0708,  35.2396,2,  -9.0000,2,    260.6,2,    272.4,2,     5.30,2,    11.40,2,     0.15,2,     0.80,2,     -999,9,     -999,9,     -999,9,     -999,9,   2319.0,2,   -999.0,9,   7.7776,2,    25.00,     -999,9,      0.7,2,     -999,9,     -999,9
33RO20230413  ,A16N       ,147     ,  1,1470119    ,19         ,2,20230507,1916,  62.7486, -20.0000,     1405,     21.8,   9.0039,  35.2398,2,  -9.0000,9,    260.4,2,    271.1,2,     5.30,2,    11.40,2,     0.15,2,     0.80,2,     -999,9,     -999,9,     -999,9,   2154.3,2,   -999.0,9,    646.1,2,   7.7777,2,    25.00,     -999,9,      0.7,2,     -999,9,     -999,9
33RO20230413  ,A16N       ,147     ,  1,1470118    ,18         ,2,20230507,1916,  62.7486, -20.0000,     1405,     30.7,   9.0049,  35.2421,2,  -9.0000,6,    259.6,2,    270.9,2,     5.30,2,    11.40,2,     0.16,2,     0.79,2,     -999,9,     -999,9,     -999,9,     -999,9,   2318.6,2,   -999.0,9,   7.7776,2,    25.00,     -999,9,      0.7,2,     -999,9,     -999,9
33RO20230413  ,A16N       ,147     ,  1,1470117    ,17         ,2,20230507,1916,  62.7486, -20.0000,     1405,     44.3,   9.0064,  35.2450,2,  -9.0000,2,    259.5,2,    270.4,2,     5.30,2,    11.40,2,     0.16,2,     0.79,2,     -999,9,     -999,9,     -999,9,   2157.1,2,   -999.0,9,    648.3,2,   7.7743,2,    25.00,     -999,9,      0.7,2,     -999,9,     -999,9
33RO20230413  ,A16N       ,147     ,  1,1470116    ,16         ,2,20230507,1916,  62.7486, -20.0000,     1405,     67.2,   8.9905,  35.2450,2,  -9.0000,2,    257.5,2,    268.6,2,     5.40,2,    11.60,2,     0.16,2,     0.81,2,     -999,9,     -999,9,     -999,9,     -999,9,   2320.3,2,   -999.0,9,   7.7726,2,    25.00,     -999,9,      0.7,2,     -999,9,     -999,9
33RO20230413  ,A16N       ,147     ,  1,1470115    ,15         ,2,20230507,1916,  62.7486, -20.0000,     1405,     92.3,   8.9215,  35.2375,2,  -9.0000,2,    256.5,2,    267.5,2,     5.40,2,    11.60,2,     0.19,2,     0.81,2,     -999,9,     -999,9,     -999,9,   2158.9,2,   -999.0,9,    658.6,2,   7.7717,2,    25.00,     -999,9,      0.6,2,     -999,9,     -999,9
33RO20230413  ,A16N       ,147     ,  1,1470114    ,14         ,2,20230507,1916,  62.7486, -20.0000,     1405,    121.5,   8.8082,  35.2268,2,  -9.0000,2,    254.9,2,    266.4,2,     5.60,2,    11.80,2,     0.18,2,     0.82,2,     -999,9,     -999,9,     -999,9,     -999,9,   2319.1,2,   -999.0,9,   7.7670,2,    25.00,     -999,9,      0.6,2,     -999,9,     -999,9
33RO20230413  ,A16N       ,147     ,  1,1470113    ,13         ,2,20230507,1916,  62.7486, -20.0000,     1405,    156.6,   8.7688,  35.2323,2,  -9.0000,2,    257.9,2,    269.6,2,     5.40,2,    11.60,2,     0.21,2,     0.81,2,     -999,9,     -999,9,     -999,9,   2160.5,2,   -999.0,9,    659.0,2,   7.7712,2,    25.00,     -999,9,      0.7,2,     -999,9,     -999,9
33RO20230413  ,A16N       ,147     ,  1,1470112    ,12         ,2,20230507,1916,  62.7486, -20.0000,     1405,    200.0,   8.6758,  35.2200,2,  -9.0000,9,    250.1,2,    266.3,2,     5.70,2,    12.60,2,     0.06,2,     0.86,2,     -999,9,     -999,9,     -999,9,     -999,9,   2315.4,2,   -999.0,9,   7.7608,6,    25.00,     -999,9,      0.6,2,     -999,9,     -999,9
33RO20230413  ,A16N       ,147     ,  1,1470111    ,11         ,2,20230507,1916,  62.7486, -20.0000,     1405,    249.3,   8.4962,  35.1991,2,  -9.0000,2,    247.1,2,    260.0,2,     6.20,2,    13.40,2,     0.03,2,     0.90,2,     -999,9,     -999,9,     -999,9,   2164.7,2,   -999.0,9,    694.2,2,   7.7516,2,    25.00,     -999,9,      0.6,2,     -999,9,     -999,9
33RO20230413  ,A16N       ,147     ,  1,1470110    ,10         ,2,20230507,1916,  62.7486, -20.0000,     1405,    300.0,   8.3907,  35.1935,2,  -9.0000,9,    249.8,2,    263.7,2,     6.00,2,    13.20,2,     0.04,2,     0.89,2,     -999,9,     -999,9,     -999,9,     -999,9,   2312.2,2,   -999.0,9,   7.7525,2,    25.00,     -999,9,      0.6,2,     -999,9,     -999,9
33RO20230413  ,A16N       ,147     ,  1,1470109    ,9          ,2,20230507,1916,  62.7486, -20.0000,     1405,    350.1,   8.2850,  35.1865,2,  -9.0000,2,    246.0,2,    256.1,2,     6.40,2,    13.80,2,     0.02,2,     0.93,2,     -999,9,     -999,9,     -999,9,   2167.7,2,   2312.2,2,    706.9,2,   7.7457,2,    25.00,     -999,9,      0.6,2,     -999,9,     -999,9
33RO20230413  ,A16N       ,147     ,  1,1470108    ,8          ,2,20230507,1916,  62.7486, -20.0000,     1405,    410.8,   8.0815,  35.1763,2,  -9.0000,9,    245.6,2,    257.9,2,     6.50,2,    14.00,2,     0.01,2,     0.94,2,     -999,9,     -999,9,     -999,9,     -999,9,   2312.1,2,   -999.0,9,   7.7421,2,    25.00,     -999,9,      0.6,2,     -999,9,     -999,9
33RO20230413  ,A16N       ,147     ,  1,1470107    ,7          ,2,20230507,1916,  62.7486, -20.0000,     1405,    499.9,   7.8004,  35.1523,2,  -9.0000,2,    233.8,2,    246.9,2,     7.50,2,    15.10,2,     0.01,2,     1.01,2,     -999,9,     -999,9,     -999,9,   2172.9,2,   2311.7,2,    743.5,2,   7.7256,2,    25.00,     -999,9,      0.5,2,     -999,9,     -999,9
33RO20230413  ,A16N       ,147     ,  1,1470106    ,6          ,2,20230507,1916,  62.7486, -20.0000,     1405,    621.8,   6.8967,  35.0999,2,  -9.0000,9,    227.5,2,    239.3,2,     8.60,2,    16.10,2,     0.01,2,     1.08,2,     -999,9,     -999,9,     -999,9,   2178.8,2,   2309.4,2,    781.9,2,   7.7048,2,    25.00,     -999,9,      0.6,6,     -999,9,     -999,9
33RO20230413  ,A16N       ,147     ,  1,1470105    ,5          ,2,20230507,1916,  62.7486, -20.0000,     1405,    776.6,   5.8809,  35.0485,2,  -9.0000,2,    229.9,2,    246.2,4,     9.50,2,    16.60,2,     0.01,2,     1.11,2,     -999,9,     -999,9,     -999,9,   2183.5,2,   -999.0,9,    810.1,2,   7.6919,2,    25.00,     -999,9,      0.8,2,     -999,9,     -999,9
33RO20230413  ,A16N       ,147     ,  1,1470104    ,4          ,2,20230507,1916,  62.7486, -20.0000,     1405,    944.5,   4.9909,  35.0124,2,  -9.0000,9,    242.6,2,    255.9,6,     9.20,2,    16.00,2,     0.01,2,     1.08,2,     -999,9,     -999,9,     -999,9,     -999,9,   2301.4,2,   -999.0,9,   7.6919,2,    25.00,     -999,9,      0.7,2,     -999,9,     -999,9
33RO20230413  ,A16N       ,147     ,  1,1470103    ,3          ,2,20230507,1916,  62.7486, -20.0000,     1405,   1111.3,   3.9698,  34.9752,2,  -9.0000,2,    252.0,2,    265.4,2,     9.30,2,    15.60,2,     0.00,2,     1.06,2,     -999,9,     -999,9,     -999,9,   2177.8,2,   2299.5,2,    812.4,6,   7.6880,2,    25.00,     -999,9,      0.7,2,     -999,9,     -999,9
33RO20230413  ,A16N       ,147     ,  1,1470102    ,2          ,2,20230507,1916,  62.7486, -20.0000,     1405,   1277.9,   3.4056,  34.9710,2,  -9.0000,9,    254.5,2,    268.5,2,     9.50,2,    15.50,2,     0.01,2,     1.06,2,     -999,9,     -999,9,     -999,9,   2178.4,2,   2300.0,2,    818.5,2,   7.6864,2,    25.00,     -999,9,      0.8,2,     -999,9,     -999,9
33RO20230413  ,A16N       ,147     ,  1,1470101    ,1          ,2,20230507,1916,  62.7486, -20.0000,     1405,   1418.1,   3.2994,  34.9687,2,  -9.0000,2,    254.8,2,    268.8,6,     9.50,2,    15.40,2,     0.01,2,     1.06,2,     -999,9,     -999,9,     -999,9,   2178.8,2,   2298.2,2,    820.2,2,   7.6841,2,    25.00,     -999,9,      0.8,6,     -999,9,     -999,9