BOTTLE,20240627CCHHYDRO
EXPOCODE,SECT_ID,STNNBR,CASTNO,SAMPNO,BTLNBR,BTLNBR_FLAG_W,DATE,TIME,LATITUDE,LONGITUDE,DEPTH,CTDPRS,CTDTMP,CTDSAL,CTDSAL_FLAG_W,SALNTY,SALNTY_FLAG_W,CTDOXY,CTDOXY_FLAG_W,OXYGEN,OXYGEN_FLAG_W,SILCAT,SILCAT_FLAG_W,NITRAT,NITRAT_FLAG_W,NITRIT,NITRIT_FLAG_W,PHSPHT,PHSPHT_FLAG_W,CFC-11,CFC-11_FLAG_W,CFC-12,CFC-12_FLAG_W,SF6,SF6_FLAG_W,TCARBN,TCARBN_FLAG_W,ALKALI,ALKALI_FLAG_W,FCO2,FCO2_FLAG_W,PH_TOT,PH_TOT_FLAG_W,PH_TMP,DOC,DOC_FLAG_W,DELC13,DELC13_FLAG_W,TDN,TDN_FLAG_W,N2O,N2O_FLAG_W
,,,,,,,,,,,METERS,DBAR,ITS-90,PSS-78,,PSS-78,,UMOL/KG,,UMOL/KG,,UMOL/KG,,UMOL/KG,,UMOL/KG,,UMOL/KG,,PMOL/KG,,PMOL/KG,,FMOL/KG,,UMOL/KG,,UMOL/KG,,UATM,,,,DEG C,UMOL/KG,,/MILLE,,UMOL/KG,,NMOL/KG,
33RO20230413  ,A16N       ,100     ,  1,1000124    ,24         ,2,20230426,0459,  39.9990, -19.9922,     4759,      4.8,  16.7652,  36.0624,2,  36.0653,2,    226.7,2,    241.8,2,     1.00,2,     0.00,2,     0.03,2,     0.05,2,     -999,9,     -999,9,     -999,9,   2111.1,6,   2362.7,2,    429.0,2,   7.9339,2,    25.00,     -999,9,      0.8,6,     -999,9,     -999,9
33RO20230413  ,A16N       ,100     ,  1,1000123    ,23         ,2,20230426,0459,  39.9990, -19.9922,     4759,     30.1,  16.7413,  36.0686,2,  36.0691,2,    227.0,2,    242.0,2,     0.90,2,     0.00,2,     0.03,2,     0.04,2,     -999,9,     -999,9,     -999,9,   2111.6,2,   2363.9,2,    429.1,2,   7.9356,2,    25.00,     -999,9,      0.9,2,     -999,9,     -999,9
33RO20230413  ,A16N       ,100     ,  1,1000122    ,22         ,2,20230426,0459,  39.9990, -19.9922,     4759,     60.8,  15.7742,  36.0678,2,  36.0687,2,    227.8,2,    242.7,2,     1.20,2,     0.70,2,     0.28,2,     0.13,2,     -999,9,     -999,9,     -999,9,   2119.7,2,   2364.8,2,    450.4,2,   7.9154,2,    25.00,     -999,9,      0.8,2,     -999,9,     -999,9
33RO20230413  ,A16N       ,100     ,  1,1000121    ,21         ,2,20230426,0459,  39.9990, -19.9922,     4759,     85.5,  15.6774,  36.0762,2,  36.0771,2,    225.5,2,    238.5,2,     1.20,2,     0.90,2,     0.44,2,     0.14,2,     -999,9,     -999,9,     -999,9,   2122.7,2,   2365.5,2,    458.1,2,   7.9093,2,    25.00,     -999,9,      0.6,2,     -999,9,     -999,9
33RO20230413  ,A16N       ,100     ,  1,1000120    ,20         ,2,20230426,0459,  39.9990, -19.9922,     4759,    111.0,  15.4722,  36.0615,2,  36.0623,2,    222.1,2,    237.0,2,     1.30,2,     2.30,2,     0.08,2,     0.18,2,     -999,9,     -999,9,     -999,9,   2128.1,2,   2363.5,2,    468.4,2,   7.9010,2,    25.00,     -999,9,      0.6,2,     -999,9,     -999,9
33RO20230413  ,A16N       ,100     ,  1,1000119    ,19         ,2,20230426,0459,  39.9990, -19.9922,     4759,    141.9,  15.3163,  36.0460,2,  36.0461,2,    221.4,2,    233.6,2,     1.30,2,     2.70,2,     0.05,2,     0.21,2,     -999,9,     -999,9,     -999,9,   2128.6,2,   2361.8,2,    474.7,2,   7.8970,2,    25.00,     -999,9,      0.6,2,     -999,9,     -999,9
33RO20230413  ,A16N       ,100     ,  1,1000118    ,18         ,2,20230426,0459,  39.9990, -19.9922,     4759,    179.7,  15.0472,  36.0072,2,  36.0082,2,    219.7,2,    235.3,2,     1.50,2,     3.50,2,     0.01,2,     0.26,2,     -999,9,     -999,9,     -999,9,   2131.7,2,   2359.8,2,    487.4,2,   7.8865,2,    25.00,     -999,9,      0.6,2,     -999,9,     -999,9
33RO20230413  ,A16N       ,100     ,  1,1000117    ,17         ,2,20230426,0459,  39.9990, -19.9922,     4759,    289.8,  13.9861,  35.8383,2,  35.8391,2,    204.8,2,    218.6,2,     2.60,2,     7.80,2,     0.01,2,     0.51,2,     -999,9,     -999,9,     -999,9,   2146.7,2,   2349.0,6,    552.7,2,   7.8388,6,    25.00,     -999,9,      0.4,2,     -999,9,     -999,9
33RO20230413  ,A16N       ,100     ,  1,1000116    ,16         ,2,20230426,0459,  39.9990, -19.9922,     4759,    351.6,  13.4860,  35.7638,2,  35.7671,2,    201.5,2,    216.3,2,     3.20,2,     9.20,2,     0.01,2,     0.59,2,     -999,9,     -999,9,     -999,9,   2150.8,2,   2344.2,2,    578.6,2,   7.8214,2,    25.00,     -999,9,      0.5,2,     -999,9,     -999,9
33RO20230413  ,A16N       ,100     ,  1,1000115    ,15         ,2,20230426,0459,  39.9990, -19.9922,     4759,    450.8,  12.4640,  35.6177,2,  35.6186,2,    200.4,2,    215.0,2,     4.10,2,    10.80,2,     0.01,2,     0.69,2,     -999,9,     -999,9,     -999,9,   2158.1,2,   2335.5,2,    625.2,2,   7.7919,2,    25.00,     -999,9,      0.5,2,     -999,9,     -999,9
33RO20230413  ,A16N       ,100     ,  1,1000114    ,14         ,2,20230426,0459,  39.9990, -19.9922,     4759,    550.7,  11.4424,  35.5089,2,  35.5093,2,    195.3,2,    210.3,2,     5.20,2,    13.20,2,     0.00,2,     0.84,2,     -999,9,     -999,9,     -999,9,   2166.4,2,   2330.2,2,    681.9,2,   7.7572,2,    25.00,     -999,9,      0.4,2,     -999,9,     -999,9
33RO20230413  ,A16N       ,100     ,  1,1000113    ,13         ,2,20230426,0459,  39.9990, -19.9922,     4759,    700.8,  10.6894,  35.5152,2,  35.5475,6,    177.5,2,    191.8,2,     7.70,2,    16.00,2,     0.01,2,     1.02,2,     -999,9,     -999,9,     -999,9,   2181.1,2,   2333.3,2,    731.9,2,   7.7346,2,    25.00,     -999,9,      0.6,2,     -999,9,     -999,9
33RO20230413  ,A16N       ,100     ,  1,1000112    ,12         ,2,20230426,0459,  39.9990, -19.9922,     4759,    849.4,   9.7574,  35.5286,2,  35.5325,2,    169.4,2,    183.4,2,     9.50,2,    17.90,2,     0.00,2,     1.15,2,     -999,9,     -999,9,     -999,9,   2193.5,6,   2338.9,2,    761.0,2,   7.7196,2,    25.00,     -999,9,      0.6,2,     -999,9,     -999,9
33RO20230413  ,A16N       ,100     ,  1,1000111    ,11         ,2,20230426,0459,  39.9990, -19.9922,     4759,   1025.0,   8.9021,  35.5819,2,  35.5824,2,    176.2,2,    190.8,2,    10.50,2,    18.00,2,     0.00,2,     1.16,2,     -999,9,     -999,9,     -999,9,   2197.3,2,   2344.6,2,    758.2,2,   7.7208,2,    25.00,     -999,9,      0.6,2,     -999,9,     -999,9
33RO20230413  ,A16N       ,100     ,  1,1000110    ,10         ,2,20230426,0459,  39.9990, -19.9922,     4759,   1202.3,   7.9381,  35.5168,2,  35.5369,2,    187.8,2,    203.8,2,    10.80,2,    17.90,2,     0.00,2,     1.16,2,     -999,9,     -999,9,     -999,9,   2194.3,2,   2340.7,2,    762.9,2,   7.7186,2,    25.00,     -999,9,      0.8,2,     -999,9,     -999,9
33RO20230413  ,A16N       ,100     ,  1,1000109    ,9          ,2,20230426,0459,  39.9990, -19.9922,     4759,   1450.4,   5.8383,  35.2305,2,  35.2399,2,    216.4,2,    235.5,2,    11.10,2,    17.60,2,     0.00,2,     1.16,2,     -999,9,     -999,9,     -999,9,   2186.6,2,   2322.7,2,    783.4,2,   7.7049,2,    25.00,     -999,9,      0.8,2,     -999,9,     -999,9
33RO20230413  ,A16N       ,100     ,  1,1000108    ,8          ,2,20230426,0459,  39.9990, -19.9922,     4759,   1800.5,   4.2518,  35.0223,2,  35.0332,2,    235.1,2,    258.4,2,    12.60,2,    17.50,2,     0.01,2,     1.17,2,     -999,9,     -999,9,     -999,9,   2174.1,2,   2308.6,6,    783.4,2,   7.7028,6,    25.00,     -999,9,      1.0,2,     -999,9,     -999,9
33RO20230413  ,A16N       ,100     ,  1,1000107    ,7          ,2,20230426,0459,  39.9990, -19.9922,     4759,   2193.2,   3.7171,  34.9929,2,  34.9966,2,    233.5,2,    259.8,2,    15.90,2,    18.00,2,     0.01,2,     1.21,2,     -999,9,     -999,9,     -999,9,   2173.6,2,   2311.3,2,    764.7,2,   7.7127,2,    25.00,     -999,9,      1.0,2,     -999,9,     -999,9
33RO20230413  ,A16N       ,100     ,  1,1000106    ,6          ,2,20230426,0459,  39.9990, -19.9922,     4759,   2700.4,   3.1013,  34.9549,2,  34.9565,2,    228.6,2,    254.9,2,    24.10,2,    18.90,2,     0.01,2,     1.29,2,     -999,9,     -999,9,     -999,9,   2179.5,2,   2320.3,2,    757.8,2,   7.7183,2,    25.00,     -999,9,      1.1,2,     -999,9,     -999,9
33RO20230413  ,A16N       ,100     ,  1,1000105    ,5          ,2,20230426,0459,  39.9990, -19.9922,     4759,   3000.1,   2.8352,  34.9378,2,  34.9390,2,    224.4,2,    249.6,2,    29.80,2,    19.70,2,     0.01,2,     1.35,2,     -999,9,     -999,9,     -999,9,   2185.8,2,   2328.1,2,    764.2,2,   7.7162,2,    25.00,     -999,9,      1.0,2,     -999,9,     -999,9
33RO20230413  ,A16N       ,100     ,  1,1000104    ,4          ,2,20230426,0459,  39.9990, -19.9922,     4759,   3391.8,   2.6506,  34.9232,2,  34.9332,2,    218.1,2,    245.2,2,    36.90,6,    20.90,6,     0.01,6,     1.43,6,     -999,9,     -999,9,     -999,9,   2194.3,2,   2336.0,2,    763.0,2,   7.7168,2,    25.00,     -999,9,      1.0,2,     -999,9,     -999,9
33RO20230413  ,A16N       ,100     ,  1,1000103    ,3          ,2,20230426,0459,  39.9990, -19.9922,     4759,   3791.3,   2.5650,  34.9123,2,  34.9127,2,    215.3,2,    242.2,2,    41.00,6,    21.50,6,     0.02,6,     1.48,6,     -999,9,     -999,9,     -999,9,   2198.2,2,   2343.8,2,    762.0,6,   7.7170,2,    25.00,     -999,9,      1.1,2,     -999,9,     -999,9
33RO20230413  ,A16N       ,100     ,  1,1000102    ,2          ,2,20230426,0459,  39.9990, -19.9922,     4759,   4190.7,   2.5161,  34.9034,2,  34.9047,2,    214.5,2,    241.7,6,    43.40,6,    21.80,6,     0.02,6,     1.50,6,     -999,9,     -999,9,     -999,9,   2200.6,6,   2347.8,2,    760.8,2,   7.7187,2,    25.00,     -999,9,      1.1,2,     -999,9,     -999,9
33RO20230413  ,A16N       ,100     ,  1,1000101    ,1          ,2,20230426,0459,  39.9990, -19.9922,     4759,   4836.6,   2.5233,  34.8959,2,  34.8975,2,    215.2,2,    241.7,6,    45.30,6,    22.10,6,     0.02,6,     1.52,6,     -999,9,     -999,9,     -999,9,   2203.3,2,   2349.7,2,    758.4,2,   7.7201,2,    25.00,     -999,9,      1.0,6,     -999,9,     -999,9
33RO20230413  ,A16N       ,101     ,  1,1010124    ,24         ,2,20230426,1152,  40.5005, -19.9813,     4915,      4.6,  16.0675,  35.8430,2,  35.8462,2,    232.1,2,    247.3,2,     1.30,2,     0.30,2,     0.06,2,     0.08,2,     -999,9,     -999,9,     -999,9,   2108.3,2,   2351.4,2,    443.0,2,   7.9194,2,    25.00,     -999,9,      0.7,6,     -999,9,     -999,9
33RO20230413  ,A16N       ,101     ,  1,1010123    ,23         ,2,20230426,1152,  40.5005, -19.9813,     4915,     25.1,  15.9754,  35.8943,2,  35.9155,2,    233.7,2,    250.4,2,     1.20,2,     0.20,2,     0.06,2,     0.08,2,     -999,9,     -999,9,     -999,9,   2108.4,2,   2354.7,2,    441.2,2,   7.9227,2,    25.00,     -999,9,      0.8,2,     -999,9,     -999,9
33RO20230413  ,A16N       ,101     ,  1,1010122    ,22         ,2,20230426,1152,  40.5005, -19.9813,     4915,     49.7,  15.4822,  35.9594,2,  35.9632,2,    235.2,2,    251.5,2,     1.10,2,     0.60,2,     0.10,2,     0.13,2,     -999,9,     -999,9,     -999,9,   2110.7,2,   2357.1,2,    450.1,2,   7.9166,2,    25.00,     -999,9,      0.7,2,     -999,9,     -999,9
33RO20230413  ,A16N       ,101     ,  1,1010121    ,21         ,2,20230426,1152,  40.5005, -19.9813,     4915,     74.1,  14.9520,  35.9395,2,  35.9407,2,    232.6,2,    248.3,2,     1.20,2,     1.40,2,     0.20,2,     0.19,2,     -999,9,     -999,9,     -999,9,   2123.5,2,   2355.6,2,    469.5,2,   7.8992,2,    25.00,     -999,9,      0.6,2,     -999,9,     -999,9
33RO20230413  ,A16N       ,101     ,  1,1010120    ,20         ,2,20230426,1152,  40.5005, -19.9813,     4915,     99.9,  14.1858,  35.8655,2,  35.8628,2,    225.2,2,    240.6,2,     1.50,2,     4.00,2,     0.13,2,     0.31,2,     -999,9,     -999,9,     -999,9,   2133.5,2,   2350.1,2,    509.5,2,   7.8685,2,    25.00,     -999,9,      0.5,2,     -999,9,     -999,9
33RO20230413  ,A16N       ,101     ,  1,1010119    ,19         ,2,20230426,1152,  40.5005, -19.9813,     4915,    149.7,  13.6887,  35.7977,2,  35.8508,2,    222.6,2,    238.5,2,     1.80,2,     5.20,2,     0.03,2,     0.38,2,     -999,9,     -999,9,     -999,9,   2132.8,2,   2345.9,2,    530.9,2,   7.8543,2,    25.00,     -999,9,      0.4,2,     -999,9,     -999,9
33RO20230413  ,A16N       ,101     ,  1,1010118    ,18         ,2,20230426,1152,  40.5005, -19.9813,     4915,    224.1,  13.2336,  35.7260,2,  35.7294,2,    218.2,2,    234.5,2,     2.10,2,     6.80,2,     0.02,2,     0.48,2,     -999,9,     -999,9,     -999,9,   2141.2,2,   2341.6,2,    557.6,2,   7.8362,2,    25.00,     -999,9,      0.5,2,     -999,9,     -999,9
33RO20230413  ,A16N       ,101     ,  1,1010117    ,17         ,2,20230426,1152,  40.5005, -19.9813,     4915,    301.0,  12.5403,  35.6210,2,  35.6294,2,    208.7,2,    223.0,2,     3.00,2,     9.50,2,     0.02,2,     0.63,2,     -999,9,     -999,9,     -999,9,   2158.1,2,   2335.8,2,    607.4,2,   7.8031,2,    25.00,     -999,9,      0.3,2,     -999,9,     -999,9
33RO20230413  ,A16N       ,101     ,  1,1010116    ,16         ,2,20230426,1152,  40.5005, -19.9813,     4915,    400.4,  11.8586,  35.5476,2,  35.5568,6,    202.7,2,    217.7,2,     4.00,2,    11.60,2,     0.01,2,     0.76,2,     -999,9,     -999,9,     -999,9,   2165.1,2,   2330.6,2,    652.1,2,   7.7768,2,    25.00,     -999,9,      0.3,2,     -999,9,     -999,9
33RO20230413  ,A16N       ,101     ,  1,1010115    ,15         ,2,20230426,1152,  40.5005, -19.9813,     4915,    499.6,  11.3660,  35.5050,2,  35.5085,2,    195.5,2,    211.0,2,     4.80,2,    13.30,2,     0.01,2,     0.87,2,     -999,9,     -999,9,     -999,9,   2175.7,2,   2325.9,2,    685.3,2,   7.7577,2,    25.00,     -999,9,      0.4,2,     -999,9,     -999,9
33RO20230413  ,A16N       ,101     ,  1,1010114    ,14         ,2,20230426,1152,  40.5005, -19.9813,     4915,    650.7,  10.4274,  35.4519,2,  35.4710,2,    175.6,2,    189.3,2,     7.60,2,    16.70,2,     0.01,2,     1.08,2,     -999,9,     -999,9,     -999,9,   2181.4,2,   2326.8,2,    742.9,2,   7.7274,2,    25.00,     -999,9,      0.4,2,     -999,9,     -999,9
33RO20230413  ,A16N       ,101     ,  1,1010113    ,13         ,2,20230426,1152,  40.5005, -19.9813,     4915,    800.4,   9.8232,  35.5295,2,  35.5340,2,    169.1,2,    183.0,2,     9.10,2,    17.80,2,     0.01,2,     1.15,2,     -999,9,     -999,9,     -999,9,   2191.2,6,   2336.3,2,    760.5,2,   7.7197,2,    25.00,     -999,9,      0.6,2,     -999,9,     -999,9
33RO20230413  ,A16N       ,101     ,  1,1010112    ,12         ,2,20230426,1152,  40.5005, -19.9813,     4915,    949.8,   9.2603,  35.6000,2,  35.6059,2,    172.1,2,    186.4,2,    10.00,2,    17.90,2,     0.01,2,     1.16,2,     -999,9,     -999,9,     -999,9,   2198.0,2,   2344.4,2,    757.8,2,   7.7217,2,    25.00,     -999,9,      0.5,2,     -999,9,     -999,9
33RO20230413  ,A16N       ,101     ,  1,1010111    ,11         ,2,20230426,1152,  40.5005, -19.9813,     4915,   1100.0,   8.8932,  35.6839,2,  35.6871,2,    178.3,2,    194.2,4,    10.20,2,    17.50,2,     0.00,2,     1.13,2,     -999,9,     -999,9,     -999,9,   2201.1,2,   2352.0,6,    745.3,2,   7.7287,6,    25.00,     -999,9,      0.6,2,     -999,9,     -999,9
33RO20230413  ,A16N       ,101     ,  1,1010110    ,10         ,2,20230426,1152,  40.5005, -19.9813,     4915,   1299.9,   7.5171,  35.5203,2,  35.5337,2,    195.3,2,    213.1,2,    10.80,2,    17.50,2,     0.01,2,     1.15,2,     -999,9,     -999,9,     -999,9,   2196.0,2,   2340.6,2,    756.2,2,   7.7217,2,    25.00,     -999,9,      0.7,2,     -999,9,     -999,9
33RO20230413  ,A16N       ,101     ,  1,1010109    ,9          ,2,20230426,1152,  40.5005, -19.9813,     4915,   1599.6,   4.7281,  35.0773,2,  35.0847,2,    231.0,2,    252.4,2,    11.30,2,    17.40,2,     0.01,2,     1.17,2,     -999,9,     -999,9,     -999,9,   2178.4,2,   2310.2,2,    788.8,2,   7.7003,2,    25.00,     -999,9,      0.8,2,     -999,9,     -999,9
33RO20230413  ,A16N       ,101     ,  1,1010108    ,8          ,2,20230426,1152,  40.5005, -19.9813,     4915,   2001.0,   3.7328,  34.9733,2,  34.9780,2,    237.2,2,    261.3,2,    14.00,2,    17.60,2,     0.00,2,     1.20,2,     -999,9,     -999,9,     -999,9,   2167.8,2,   2305.5,2,    776.5,2,   7.7058,2,    25.00,     -999,9,      0.9,2,     -999,9,     -999,9
33RO20230413  ,A16N       ,101     ,  1,1010107    ,7          ,2,20230426,1152,  40.5005, -19.9813,     4915,   2600.6,   3.1019,  34.9563,2,  34.9755,2,    228.3,2,    254.7,2,    24.20,2,    19.00,2,     0.00,2,     1.31,2,     -999,9,     -999,9,     -999,9,   2177.9,2,   2318.1,2,    758.2,6,   7.7171,2,    25.00,     -999,9,      0.9,2,     -999,9,     -999,9
33RO20230413  ,A16N       ,101     ,  1,1010106    ,6          ,2,20230426,1152,  40.5005, -19.9813,     4915,   2800.4,   2.9291,  34.9455,2,  34.9474,6,    225.4,2,    251.2,2,    27.70,2,    19.40,2,     0.00,2,     1.34,2,     -999,9,     -999,9,     -999,9,   2182.9,2,   2325.2,2,    759.5,2,   7.7151,2,    25.00,     -999,9,      1.0,2,     -999,9,     -999,9
33RO20230413  ,A16N       ,101     ,  1,1010105    ,5          ,2,20230426,1152,  40.5005, -19.9813,     4915,   3198.2,   2.7077,  34.9286,2,  34.9439,2,    220.2,2,    246.1,2,    34.20,2,    20.30,2,     0.00,2,     1.40,2,     -999,9,     -999,9,     -999,9,   2188.2,2,   2331.1,6,    766.5,2,   7.7140,6,    25.00,     -999,9,      0.9,2,     -999,9,     -999,9
33RO20230413  ,A16N       ,101     ,  1,1010104    ,4          ,2,20230426,1152,  40.5005, -19.9813,     4915,   3600.0,   2.5920,  34.9166,2,  34.9198,2,    215.3,2,    241.9,2,    39.90,2,    21.30,2,     0.00,2,     1.48,2,     -999,9,     -999,9,     -999,9,   2197.4,2,   2339.3,2,    763.3,2,   7.7168,2,    25.00,     -999,9,      1.0,2,     -999,9,     -999,9
33RO20230413  ,A16N       ,101     ,  1,1010103    ,3          ,2,20230426,1152,  40.5005, -19.9813,     4915,   4000.1,   2.5282,  34.9067,2,  34.9291,2,    213.8,2,    241.5,6,    42.90,2,    21.80,2,     0.00,2,     1.50,2,     -999,9,     -999,9,     -999,9,   2198.9,2,   2343.5,2,    761.5,2,   7.7196,2,    25.00,     -999,9,      0.8,2,     -999,9,     -999,9
33RO20230413  ,A16N       ,101     ,  1,1010102    ,2          ,2,20230426,1152,  40.5005, -19.9813,     4915,   4500.0,   2.4992,  34.8980,2,  34.9007,2,    213.7,2,    241.7,2,    45.00,2,    22.00,2,     0.00,2,     1.53,2,     -999,9,     -999,9,     -999,9,   2200.6,6,   2345.3,2,    760.5,2,   7.7200,2,    25.00,     -999,9,      0.9,2,     -999,9,     -999,9
33RO20230413  ,A16N       ,101     ,  1,1010101    ,1          ,2,20230426,1152,  40.5005, -19.9813,     4915,   5011.4,   2.5273,  34.8940,2,  34.8961,2,    214.7,2,    243.5,6,    45.90,2,    22.10,2,     0.01,2,     1.53,2,     -999,9,     -999,9,     -999,9,   2203.6,2,   2347.3,2,    759.1,2,   7.7196,2,    25.00,     -999,9,      1.0,6,     -999,9,     -999,9