BOTTLE,20240627CCHHYDRO
EXPOCODE,SECT_ID,STNNBR,CASTNO,SAMPNO,BTLNBR,BTLNBR_FLAG_W,DATE,TIME,LATITUDE,LONGITUDE,DEPTH,CTDPRS,CTDTMP,CTDSAL,CTDSAL_FLAG_W,SALNTY,SALNTY_FLAG_W,CTDOXY,CTDOXY_FLAG_W,OXYGEN,OXYGEN_FLAG_W,SILCAT,SILCAT_FLAG_W,NITRAT,NITRAT_FLAG_W,NITRIT,NITRIT_FLAG_W,PHSPHT,PHSPHT_FLAG_W,CFC-11,CFC-11_FLAG_W,CFC-12,CFC-12_FLAG_W,SF6,SF6_FLAG_W,TCARBN,TCARBN_FLAG_W,ALKALI,ALKALI_FLAG_W,FCO2,FCO2_FLAG_W,PH_TOT,PH_TOT_FLAG_W,PH_TMP,DOC,DOC_FLAG_W,DELC13,DELC13_FLAG_W,TDN,TDN_FLAG_W,N2O,N2O_FLAG_W
,,,,,,,,,,,METERS,DBAR,ITS-90,PSS-78,,PSS-78,,UMOL/KG,,UMOL/KG,,UMOL/KG,,UMOL/KG,,UMOL/KG,,UMOL/KG,,PMOL/KG,,PMOL/KG,,FMOL/KG,,UMOL/KG,,UMOL/KG,,UATM,,,,DEG C,UMOL/KG,,/MILLE,,UMOL/KG,,NMOL/KG,
33RO20230413  ,A16N       ,138     ,  2,1380224    ,24         ,2,20230505,2208,  59.0000, -20.0000,     2842,      4.9,   9.7084,  35.2381,2,  -9.0000,9,    262.4,2,    281.6,2,     5.10,2,     9.80,2,     0.16,2,     0.70,2,     -999,9,     -999,9,     -999,9,   2141.4,6,   2321.4,2,    610.7,2,   7.7974,2,    25.00,     -999,9,      0.7,6,     -999,9,     -999,9
33RO20230413  ,A16N       ,138     ,  2,1380223    ,23         ,2,20230505,2208,  59.0000, -20.0000,     2842,     21.3,   9.7098,  35.2381,2,  35.2450,2,    262.1,2,    282.5,2,     5.00,2,     9.80,2,     0.16,2,     0.71,2,     -999,9,     -999,9,     -999,9,   2140.7,2,   2321.0,2,    610.7,2,   7.7974,2,    25.00,     -999,9,      0.6,2,     -999,9,     -999,9
33RO20230413  ,A16N       ,138     ,  2,1380222    ,22         ,2,20230505,2208,  59.0000, -20.0000,     2842,     42.4,   9.5968,  35.2579,2,  -9.0000,9,    257.0,2,    276.5,2,     4.90,2,    10.20,2,     0.17,2,     0.73,2,     -999,9,     -999,9,     -999,9,   2145.5,2,   2321.5,6,    625.9,2,   7.7885,6,    25.00,     -999,9,      0.6,2,     -999,9,     -999,9
33RO20230413  ,A16N       ,138     ,  2,1380221    ,21         ,2,20230505,2208,  59.0000, -20.0000,     2842,     67.9,   9.5435,  35.2604,2,  35.2638,2,    254.3,2,    273.4,2,     5.00,2,    10.60,2,     0.19,2,     0.74,2,     -999,9,     -999,9,     -999,9,   2148.2,2,   2322.3,2,    633.4,2,   7.7837,2,    25.00,     -999,9,      0.7,2,     -999,9,     -999,9
33RO20230413  ,A16N       ,138     ,  2,1380220    ,20         ,2,20230505,2208,  59.0000, -20.0000,     2842,     92.3,   9.4878,  35.2820,2,  -9.0000,9,    239.3,2,    257.2,2,     5.30,2,    12.20,2,     0.06,2,     0.83,2,     -999,9,     -999,9,     -999,9,   2157.3,2,   2321.3,2,    667.9,2,   7.7646,2,    25.00,     -999,9,      0.5,2,     -999,9,     -999,9
33RO20230413  ,A16N       ,138     ,  2,1380219    ,19         ,2,20230505,2208,  59.0000, -20.0000,     2842,    116.2,   9.3656,  35.2627,2,  35.2698,2,    243.0,2,    263.1,2,     5.40,2,    12.00,2,     0.11,2,     0.82,2,     -999,9,     -999,9,     -999,9,   2153.4,2,   2321.0,2,    662.5,2,   7.7673,2,    25.00,     -999,9,      0.6,2,     -999,9,     -999,9
33RO20230413  ,A16N       ,138     ,  2,1380218    ,18         ,2,20230505,2208,  59.0000, -20.0000,     2842,    142.0,   9.2703,  35.2473,2,  -9.0000,9,    253.4,2,    272.3,6,     5.20,2,    11.10,2,     0.22,2,     0.79,2,     -999,9,     -999,9,     -999,9,   2149.8,2,   2321.4,2,    648.5,2,   7.7753,2,    25.00,     -999,9,      0.6,2,     -999,9,     -999,9
33RO20230413  ,A16N       ,138     ,  2,1380217    ,17         ,2,20230505,2208,  59.0000, -20.0000,     2842,    172.2,   9.1894,  35.2359,2,  35.2464,2,    252.2,2,    271.5,2,     5.30,2,    11.50,2,     0.21,2,     0.80,2,     -999,9,     -999,9,     -999,9,   2150.0,2,   2320.5,2,    654.3,2,   7.7716,2,    25.00,     -999,9,      0.6,2,     -999,9,     -999,9
33RO20230413  ,A16N       ,138     ,  2,1380216    ,16         ,2,20230505,2208,  59.0000, -20.0000,     2842,    233.7,   8.9621,  35.2081,2,  -9.0000,9,    248.7,2,    267.6,2,     5.60,2,    12.30,2,     0.08,2,     0.85,2,     -999,9,     -999,9,     -999,9,   2152.5,2,   2318.5,2,    670.9,2,   7.7619,2,    25.00,     -999,9,      0.6,2,     -999,9,     -999,9
33RO20230413  ,A16N       ,138     ,  2,1380215    ,15         ,2,20230505,2208,  59.0000, -20.0000,     2842,    300.4,   8.6918,  35.1753,2,  35.1885,2,    244.5,2,    275.2,4,     6.30,2,    13.00,2,     0.05,2,     0.89,2,     -999,9,     -999,9,     -999,9,   2157.6,2,   2316.7,2,    689.3,2,   7.7535,2,    25.00,     -999,9,      0.6,2,     -999,9,     -999,9
33RO20230413  ,A16N       ,138     ,  2,1380214    ,14         ,2,20230505,2208,  59.0000, -20.0000,     2842,    374.5,   8.4258,  35.1447,2,  -9.0000,9,    244.3,2,    264.6,2,     6.30,2,    13.40,2,     0.02,2,     0.92,2,     -999,9,     -999,9,     -999,9,   2159.1,2,   2314.9,2,    700.9,2,   7.7453,2,    25.00,     -999,9,      0.6,2,     -999,9,     -999,9
33RO20230413  ,A16N       ,138     ,  2,1380213    ,13         ,2,20230505,2208,  59.0000, -20.0000,     2842,    450.2,   8.2431,  35.1587,2,  35.1712,6,    201.0,2,    217.5,2,     9.00,2,    17.00,2,     0.00,2,     1.14,2,     -999,9,     -999,9,     -999,9,   2178.2,2,   2316.2,2,    790.2,2,   7.7010,2,    25.00,     -999,9,      0.5,2,     -999,9,     -999,9
33RO20230413  ,A16N       ,138     ,  2,1380212    ,12         ,2,20230505,2208,  59.0000, -20.0000,     2842,    524.5,   7.6261,  35.1029,2,  -9.0000,9,    196.5,2,    212.1,2,     9.80,2,    18.00,2,     0.00,2,     1.20,2,     -999,9,     -999,9,     -999,9,   2181.7,6,   2313.5,2,    849.1,2,   7.6852,2,    25.00,     -999,9,      0.6,2,     -999,9,     -999,9
33RO20230413  ,A16N       ,138     ,  2,1380211    ,11         ,2,20230505,2208,  59.0000, -20.0000,     2842,    617.6,   6.8245,  35.0446,2,  35.0600,2,    200.1,2,    217.6,2,    10.40,2,    18.50,2,     0.00,2,     1.23,2,     -999,9,     -999,9,     -999,9,   2186.2,2,   2311.1,2,    860.8,2,   7.6730,2,    25.00,     -999,9,      0.7,2,     -999,9,     -999,9
33RO20230413  ,A16N       ,138     ,  2,1380210    ,10         ,2,20230505,2208,  59.0000, -20.0000,     2842,    714.5,   6.0669,  35.0314,2,  -9.0000,9,    205.8,2,    223.1,2,    10.80,2,    18.60,2,     0.00,2,     1.25,2,     -999,9,     -999,9,     -999,9,   2187.2,2,   2308.9,2,    860.7,2,   7.6680,2,    25.00,     -999,9,      0.6,2,     -999,9,     -999,9
33RO20230413  ,A16N       ,138     ,  2,1380209    ,9          ,2,20230505,2208,  59.0000, -20.0000,     2842,    850.5,   5.2082,  34.9840,2,  35.0008,2,    220.4,2,    238.7,2,    10.70,2,    18.30,2,     0.00,2,     1.23,2,     -999,9,     -999,9,     -999,9,   2184.8,2,   2307.1,2,   -999.0,9,   7.6711,2,    25.00,     -999,9,      0.7,2,     -999,9,     -999,9
33RO20230413  ,A16N       ,138     ,  2,1380208    ,8          ,2,20230505,2208,  59.0000, -20.0000,     2842,   1000.8,   4.5943,  34.9488,2,  -9.0000,9,    233.2,2,    254.2,2,    10.60,2,    17.80,2,     0.00,2,     1.20,2,     -999,9,     -999,9,     -999,9,   2178.6,2,   2301.6,6,    852.9,2,   7.6692,6,    25.00,     -999,9,      0.6,2,     -999,9,     -999,9
33RO20230413  ,A16N       ,138     ,  2,1380207    ,7          ,2,20230505,2208,  59.0000, -20.0000,     2842,   1150.1,   4.2604,  34.9334,2,  34.9443,2,    240.9,2,    262.6,2,    10.60,2,    17.50,2,     0.00,2,     1.18,2,     -999,9,     -999,9,     -999,9,   2176.3,2,   2301.9,2,    839.6,6,   7.6750,2,    25.00,     -999,9,      0.8,2,     -999,9,     -999,9
33RO20230413  ,A16N       ,138     ,  2,1380206    ,6          ,2,20230505,2208,  59.0000, -20.0000,     2842,   1302.2,   3.9949,  34.9161,2,  -9.0000,9,    247.2,2,    269.3,2,    10.50,2,    17.20,2,     0.00,2,     1.15,2,     -999,9,     -999,9,     -999,9,   2172.2,2,   2300.1,2,    829.9,2,   7.6789,2,    25.00,     -999,9,      0.8,2,     -999,9,     -999,9
33RO20230413  ,A16N       ,138     ,  2,1380205    ,5          ,2,20230505,2208,  59.0000, -20.0000,     2842,   1534.5,   3.7798,  34.9048,2,  34.9273,2,    252.0,2,    277.1,2,    10.50,2,    17.00,2,     0.00,2,     1.14,2,     -999,9,     -999,9,     -999,9,   2169.0,2,   2298.5,2,    818.6,2,   7.6846,2,    25.00,     -999,9,      0.9,2,     -999,9,     -999,9
33RO20230413  ,A16N       ,138     ,  2,1380204    ,4          ,2,20230505,2208,  59.0000, -20.0000,     2842,   1832.4,   3.6058,  34.9071,2,  -9.0000,9,    252.5,2,    277.8,2,    10.90,6,    16.80,6,     0.00,6,     1.13,6,     -999,9,     -999,9,     -999,9,   2168.5,2,   2298.2,2,    807.5,2,   7.6897,2,    25.00,     -999,9,      1.0,2,     -999,9,     -999,9
33RO20230413  ,A16N       ,138     ,  2,1380203    ,3          ,2,20230505,2208,  59.0000, -20.0000,     2842,   2266.8,   3.3580,  34.9394,2,  34.9497,2,    246.1,2,    271.0,2,    12.70,6,    16.70,6,     0.00,6,     1.13,6,     -999,9,     -999,9,     -999,9,   2169.1,2,   2301.7,2,    794.3,2,   7.6972,2,    25.00,     -999,9,      0.9,2,     -999,9,     -999,9
33RO20230413  ,A16N       ,138     ,  2,1380202    ,2          ,2,20230505,2208,  59.0000, -20.0000,     2842,   2667.1,   2.9043,  34.9561,2,  -9.0000,9,    243.3,2,    267.3,2,    17.00,6,    16.70,6,     0.00,6,     1.15,6,     -999,9,     -999,9,     -999,9,   2178.1,2,   2309.2,2,    806.3,2,   7.6901,2,    25.00,     -999,9,      1.0,2,     -999,9,     -999,9
33RO20230413  ,A16N       ,138     ,  2,1380201    ,1          ,2,20230505,2208,  59.0000, -20.0000,     2842,   2868.5,   2.7162,  34.9618,2,  34.9746,2,    246.7,2,    272.6,6,    15.10,6,    15.90,6,     0.00,6,     1.11,6,     -999,9,     -999,9,     -999,9,   2180.6,6,   2308.6,2,    828.1,2,   7.6817,2,    25.00,     -999,9,      0.8,6,     -999,9,     -999,9
33RO20230413  ,A16N       ,139     ,  1,1390124    ,24         ,2,20230506,0341,  59.0020, -19.9998,     2768,      4.6,   9.9689,  35.2866,2,  35.3218,2,    258.7,2,    277.9,2,     4.80,2,     9.70,2,     0.18,2,     0.68,2,     -999,9,     -999,9,     -999,9,   2145.3,6,   2324.4,2,    609.1,2,   7.7985,2,    25.00,     -999,9,      0.7,6,     -999,9,     -999,9
33RO20230413  ,A16N       ,139     ,  1,1390123    ,23         ,2,20230506,0341,  59.0020, -19.9998,     2768,     25.4,  10.0472,  35.3178,2,  -9.0000,9,    252.5,2,    270.2,2,     4.70,2,    10.20,2,     0.18,2,     0.72,2,     -999,9,     -999,9,     -999,9,   2147.7,2,   2323.2,2,    620.8,2,   7.7925,2,    25.00,     -999,9,      0.6,2,     -999,9,     -999,9
33RO20230413  ,A16N       ,139     ,  1,1390122    ,22         ,2,20230506,0341,  59.0020, -19.9998,     2768,     50.3,   9.9098,  35.3063,2,  -9.0000,9,    249.5,2,    267.4,2,     4.80,2,    10.50,2,     0.20,2,     0.73,2,     -999,9,     -999,9,     -999,9,   2147.5,2,   2323.3,2,    631.8,2,   7.7872,2,    25.00,     -999,9,      0.6,2,     -999,9,     -999,9
33RO20230413  ,A16N       ,139     ,  1,1390121    ,21         ,2,20230506,0341,  59.0020, -19.9998,     2768,     75.3,   9.7682,  35.2996,2,  35.3059,2,    242.1,2,    257.6,2,     5.20,2,    11.70,2,     0.08,2,     0.79,2,     -999,9,     -999,9,     -999,9,   2153.6,2,   2323.2,2,    652.7,2,   7.7733,2,    25.00,     -999,9,      0.5,2,     -999,9,     -999,9
33RO20230413  ,A16N       ,139     ,  1,1390120    ,20         ,2,20230506,0341,  59.0020, -19.9998,     2768,    100.6,   9.7045,  35.2987,2,  -9.0000,9,    242.5,2,    258.8,2,     5.20,2,    11.90,2,     0.05,2,     0.79,2,     -999,9,     -999,9,     -999,9,   2156.2,2,   2323.2,2,    655.2,2,   7.7725,2,    25.00,     -999,9,      0.5,2,     -999,9,     -999,9
33RO20230413  ,A16N       ,139     ,  1,1390119    ,19         ,2,20230506,0341,  59.0020, -19.9998,     2768,    125.0,   9.6198,  35.2920,2,  35.3059,2,    241.0,2,    258.0,6,     5.30,2,    12.20,2,     0.02,2,     0.82,2,     -999,9,     -999,9,     -999,9,   2153.3,2,   2322.9,2,    660.7,2,   7.7699,2,    25.00,     -999,9,      0.6,2,     -999,9,     -999,9
33RO20230413  ,A16N       ,139     ,  1,1390118    ,18         ,2,20230506,0341,  59.0020, -19.9998,     2768,    150.8,   9.4100,  35.2573,2,  -9.0000,9,    245.0,2,    262.8,2,     5.50,2,    12.10,2,     0.08,2,     0.81,2,     -999,9,     -999,9,     -999,9,   2155.0,2,   2317.9,2,    661.2,2,   7.7695,2,    25.00,     -999,9,      0.5,2,     -999,9,     -999,9
33RO20230413  ,A16N       ,139     ,  1,1390117    ,17         ,2,20230506,0341,  59.0020, -19.9998,     2768,    174.8,   9.3470,  35.2541,2,  35.2711,2,    247.4,2,    266.0,2,     5.40,2,    12.10,2,     0.04,2,     0.82,2,     -999,9,     -999,9,     -999,9,   2155.8,2,   2319.8,2,    659.6,2,   7.7686,2,    25.00,     -999,9,      0.6,2,     -999,9,     -999,9
33RO20230413  ,A16N       ,139     ,  1,1390116    ,16         ,2,20230506,0341,  59.0020, -19.9998,     2768,    200.6,   9.2831,  35.2475,2,  -9.0000,9,    248.7,2,    266.5,2,     5.30,2,    12.10,2,     0.02,2,     0.82,2,     -999,9,     -999,9,     -999,9,   2156.7,2,   2319.0,2,    660.5,2,   7.7681,2,    25.00,     -999,9,      0.6,2,     -999,9,     -999,9
33RO20230413  ,A16N       ,139     ,  1,1390115    ,15         ,2,20230506,0341,  59.0020, -19.9998,     2768,    250.7,   9.0994,  35.2208,2,  35.2280,2,    246.8,2,    264.9,2,     5.70,2,    12.40,2,     0.07,2,     0.84,2,     -999,9,     -999,9,     -999,9,   2156.6,2,   2318.5,2,    670.3,6,   7.7620,2,    25.00,     -999,9,      0.6,2,     -999,9,     -999,9
33RO20230413  ,A16N       ,139     ,  1,1390114    ,14         ,2,20230506,0341,  59.0020, -19.9998,     2768,    333.3,   8.8300,  35.1924,2,  -9.0000,9,    240.5,2,    258.2,2,     6.30,2,    13.30,2,     0.03,2,     0.90,2,     -999,9,     -999,9,     -999,9,   2163.9,2,   2318.0,6,    694.6,2,   7.7508,6,    25.00,     -999,9,      0.5,2,     -999,9,     -999,9
33RO20230413  ,A16N       ,139     ,  1,1390113    ,13         ,2,20230506,0341,  59.0020, -19.9998,     2768,    467.2,   8.0132,  35.0944,2,  35.1116,2,    230.1,2,    245.5,2,     7.70,2,    15.30,2,     0.01,2,     1.03,2,     -999,9,     -999,9,     -999,9,   2170.0,6,   2313.2,2,    748.9,2,   7.7217,2,    25.00,     -999,9,      0.5,2,     -999,9,     -999,9
33RO20230413  ,A16N       ,139     ,  1,1390112    ,12         ,2,20230506,0341,  59.0020, -19.9998,     2768,    567.2,   7.4553,  35.0781,2,  -9.0000,9,    201.3,2,    216.7,2,     9.90,2,    18.00,2,     0.01,2,     1.18,2,     -999,9,     -999,9,     -999,9,   2185.4,2,   2311.2,2,    824.0,2,   7.6854,2,    25.00,     -999,9,      0.6,6,     -999,9,     -999,9
33RO20230413  ,A16N       ,139     ,  1,1390111    ,11         ,2,20230506,0341,  59.0020, -19.9998,     2768,    666.6,   6.5714,  35.0450,2,  35.0550,6,    200.6,2,    216.3,2,    10.80,2,    18.80,2,     0.00,2,     1.23,2,     -999,9,     -999,9,     -999,9,   2188.3,2,   2310.2,2,    856.9,2,   7.6712,2,    25.00,     -999,9,      0.5,2,     -999,9,     -999,9
33RO20230413  ,A16N       ,139     ,  1,1390110    ,10         ,2,20230506,0341,  59.0020, -19.9998,     2768,    767.3,   5.9156,  35.0224,2,  -9.0000,9,    209.2,2,    225.8,2,    11.00,2,    18.70,2,     0.00,2,     1.23,2,     -999,9,     -999,9,     -999,9,   2189.9,2,   2308.2,2,    860.0,2,   7.6675,2,    25.00,     -999,9,      0.6,2,     -999,9,     -999,9
33RO20230413  ,A16N       ,139     ,  1,1390109    ,9          ,2,20230506,0341,  59.0020, -19.9998,     2768,    867.2,   5.5132,  35.0339,2,  35.0442,2,    216.4,2,    234.1,2,    11.30,2,    18.30,2,     0.00,2,     1.22,2,     -999,9,     -999,9,     -999,9,   2187.8,2,   2308.7,2,    851.2,2,   7.6716,2,    25.00,     -999,9,      0.7,2,     -999,9,     -999,9
33RO20230413  ,A16N       ,139     ,  1,1390108    ,8          ,2,20230506,0341,  59.0020, -19.9998,     2768,    966.9,   5.0955,  35.0095,2,  -9.0000,9,    223.9,2,    243.8,2,    11.50,2,    18.20,2,     0.00,2,     1.20,2,     -999,9,     -999,9,     -999,9,   2186.0,2,   2308.0,2,    846.3,2,   7.6722,2,    25.00,     -999,9,      0.6,2,     -999,9,     -999,9
33RO20230413  ,A16N       ,139     ,  1,1390107    ,7          ,2,20230506,0341,  59.0020, -19.9998,     2768,   1049.9,   4.7705,  34.9770,2,  34.9870,2,    230.2,2,    249.5,2,    11.00,2,    18.00,2,     0.00,2,     1.19,2,     -999,9,     -999,9,     -999,9,   2182.7,2,   2305.3,2,    844.5,2,   7.6735,2,    25.00,     -999,9,      0.7,2,     -999,9,     -999,9
33RO20230413  ,A16N       ,139     ,  1,1390106    ,6          ,2,20230506,0341,  59.0020, -19.9998,     2768,   1200.9,   4.2876,  34.9410,2,  -9.0000,9,    240.5,2,    260.7,2,    11.00,2,    17.70,2,     0.00,2,     1.17,2,     -999,9,     -999,9,     -999,9,   2176.8,2,   2302.2,2,    836.5,2,   7.6782,2,    25.00,     -999,9,      0.7,2,     -999,9,     -999,9
33RO20230413  ,A16N       ,139     ,  1,1390105    ,5          ,2,20230506,0341,  59.0020, -19.9998,     2768,   1351.2,   4.0041,  34.9221,2,  34.9301,2,    246.6,2,    268.5,2,    11.10,2,    17.40,2,     0.00,2,     1.16,2,     -999,9,     -999,9,     -999,9,   2174.9,2,   2301.3,2,    827.2,2,   7.6825,2,    25.00,     -999,9,      0.7,2,     -999,9,     -999,9
33RO20230413  ,A16N       ,139     ,  1,1390104    ,4          ,2,20230506,0341,  59.0020, -19.9998,     2768,   1600.4,   3.6975,  34.8984,2,  -9.0000,9,    255.1,2,    276.2,2,    10.50,6,    16.90,6,     0.00,6,     1.14,6,     -999,9,     -999,9,     -999,9,   2170.8,2,   2299.0,6,    817.6,2,   7.6852,6,    25.00,     -999,9,      0.8,2,     -999,9,     -999,9
33RO20230413  ,A16N       ,139     ,  1,1390103    ,3          ,2,20230506,0341,  59.0020, -19.9998,     2768,   2000.7,   3.5529,  34.9179,2,  34.9237,2,    250.4,2,    274.6,2,    11.60,6,    16.90,6,     0.00,6,     1.13,6,     -999,9,     -999,9,     -999,9,   2169.5,2,   2300.7,2,    798.7,2,   7.6974,2,    25.00,     -999,9,      0.8,2,     -999,9,     -999,9
33RO20230413  ,A16N       ,139     ,  1,1390102    ,2          ,2,20230506,0341,  59.0020, -19.9998,     2768,   2401.2,   3.2452,  34.9463,2,  -9.0000,9,    246.5,2,    270.3,2,    13.50,6,    16.60,6,     0.00,6,     1.12,6,     -999,9,     -999,9,     -999,9,   2174.6,6,   2304.2,2,    795.2,2,   7.6949,2,    25.00,     -999,9,   -999.0,9,     -999,9,     -999,9
33RO20230413  ,A16N       ,139     ,  1,1390101    ,1          ,2,20230506,0341,  59.0020, -19.9998,     2768,   2798.3,   2.7407,  34.9601,2,  34.9640,2,    246.5,2,    270.3,6,    16.20,6,    16.30,6,     0.00,6,     1.12,6,     -999,9,     -999,9,     -999,9,   2186.1,2,   2311.6,2,    824.9,2,   7.6817,2,    25.00,     -999,9,      0.8,6,     -999,9,     -999,9