BOTTLE,20240627CCHHYDRO
EXPOCODE,SECT_ID,STNNBR,CASTNO,SAMPNO,BTLNBR,BTLNBR_FLAG_W,DATE,TIME,LATITUDE,LONGITUDE,DEPTH,CTDPRS,CTDTMP,CTDSAL,CTDSAL_FLAG_W,SALNTY,SALNTY_FLAG_W,CTDOXY,CTDOXY_FLAG_W,OXYGEN,OXYGEN_FLAG_W,SILCAT,SILCAT_FLAG_W,NITRAT,NITRAT_FLAG_W,NITRIT,NITRIT_FLAG_W,PHSPHT,PHSPHT_FLAG_W,CFC-11,CFC-11_FLAG_W,CFC-12,CFC-12_FLAG_W,SF6,SF6_FLAG_W,TCARBN,TCARBN_FLAG_W,ALKALI,ALKALI_FLAG_W,FCO2,FCO2_FLAG_W,PH_TOT,PH_TOT_FLAG_W,PH_TMP,DOC,DOC_FLAG_W,DELC13,DELC13_FLAG_W,TDN,TDN_FLAG_W,N2O,N2O_FLAG_W
,,,,,,,,,,,METERS,DBAR,ITS-90,PSS-78,,PSS-78,,UMOL/KG,,UMOL/KG,,UMOL/KG,,UMOL/KG,,UMOL/KG,,UMOL/KG,,PMOL/KG,,PMOL/KG,,FMOL/KG,,UMOL/KG,,UMOL/KG,,UATM,,,,DEG C,UMOL/KG,,/MILLE,,UMOL/KG,,NMOL/KG,
33RO20230413  ,A16N       ,80      ,  2,800224     ,24         ,2,20230419,0836,  29.9986, -23.3781,     5331,      3.6,  20.9462,  37.1552,2,  37.1567,2,    208.0,2,    220.2,2,     0.60,2,     0.00,2,     0.01,2,     0.05,2,     -999,9,     -999,9,     -999,9,   2131.6,6,   2431.5,2,    384.8,2,   7.9810,2,    25.00,     -999,9,      0.7,6,     -999,9,     -999,9
33RO20230413  ,A16N       ,80      ,  2,800223     ,23         ,2,20230419,0836,  29.9986, -23.3781,     5331,     50.2,  20.7897,  37.1437,2,  37.1460,2,    208.7,2,    221.1,2,     0.60,2,     0.00,2,     0.01,2,     0.05,2,     -999,9,     -999,9,     -999,9,   2130.6,2,   2431.6,2,    385.1,2,   7.9830,2,    25.00,     -999,9,      0.7,2,     -999,9,     -999,9
33RO20230413  ,A16N       ,80      ,  2,800222     ,22         ,2,20230419,0836,  29.9986, -23.3781,     5331,    100.3,  19.9756,  37.0138,2,  36.9975,2,    208.7,2,    220.4,2,     0.60,2,     0.00,2,     0.01,2,     0.04,2,     -999,9,     -999,9,     -999,9,   2127.6,2,   2421.8,2,    391.9,2,   7.9753,2,    25.00,     -999,9,      0.6,2,     -999,9,     -999,9
33RO20230413  ,A16N       ,80      ,  2,800221     ,21         ,2,20230419,0836,  29.9986, -23.3781,     5331,    150.9,  19.4840,  36.9217,2,  36.9171,2,    200.9,2,    210.9,2,     0.70,2,     0.60,2,     0.04,2,     0.09,2,     -999,9,     -999,9,     -999,9,   2132.5,2,   2414.9,2,    410.9,2,   7.9582,2,    25.00,     -999,9,      0.6,2,     -999,9,     -999,9
33RO20230413  ,A16N       ,80      ,  2,800220     ,20         ,2,20230419,0836,  29.9986, -23.3781,     5331,    200.5,  17.6699,  36.5220,2,  36.5141,2,    190.2,2,    201.4,2,     1.40,2,     3.60,2,     0.02,2,     0.25,2,     -999,9,     -999,9,     -999,9,   2136.8,2,   2390.4,6,    464.5,2,   7.9109,6,    25.00,     -999,9,      0.5,2,     -999,9,     -999,9
33RO20230413  ,A16N       ,80      ,  2,800219     ,19         ,2,20230419,0836,  29.9986, -23.3781,     5331,    301.0,  15.8814,  36.1756,2,  36.1756,2,    186.0,2,    197.9,2,     2.20,2,     6.70,2,     0.01,2,     0.45,2,     -999,9,     -999,9,     -999,9,   2144.1,2,   2368.4,2,    519.3,2,   7.8673,2,    25.00,     -999,9,      0.4,2,     -999,9,     -999,9
33RO20230413  ,A16N       ,80      ,  2,800218     ,18         ,2,20230419,0836,  29.9986, -23.3781,     5331,    401.1,  14.0004,  35.8658,2,  35.8659,2,    175.0,2,    186.4,2,     3.90,2,    11.10,2,     0.01,2,     0.71,2,     -999,9,     -999,9,     -999,9,   2157.8,2,   2349.4,2,    605.6,2,   7.8089,2,    25.00,     -999,9,      0.5,2,     -999,9,     -999,9
33RO20230413  ,A16N       ,80      ,  2,800217     ,17         ,2,20230419,0836,  29.9986, -23.3781,     5331,    601.3,  11.7790,  35.5945,2,  35.5984,2,    170.8,2,    182.3,2,     6.20,2,    15.30,2,     0.01,2,     0.97,2,     -999,9,     -999,9,     -999,9,   2168.9,2,   2334.9,2,    697.4,2,   7.7545,2,    25.00,     -999,9,      0.4,2,     -999,9,     -999,9
33RO20230413  ,A16N       ,80      ,  2,800216     ,16         ,2,20230419,0836,  29.9986, -23.3781,     5331,    801.3,  10.2040,  35.5366,2,  35.5436,2,    157.2,2,    168.8,2,    10.20,2,    18.90,2,     0.01,2,     1.23,2,     -999,9,     -999,9,     -999,9,   2187.9,2,   2337.1,2,    765.6,2,   7.7200,2,    25.00,     -999,9,      0.5,2,     -999,9,     -999,9
33RO20230413  ,A16N       ,80      ,  2,800215     ,15         ,2,20230419,0836,  29.9986, -23.3781,     5331,   1001.1,   8.5511,  35.4243,2,  35.4276,2,    154.3,2,    166.0,2,    14.20,2,    21.70,2,     0.01,2,     1.42,2,     -999,9,     -999,9,     -999,9,   2196.4,6,   2336.2,2,    813.5,2,   7.6967,2,    25.00,     -999,9,      0.8,2,     -999,9,     -999,9
33RO20230413  ,A16N       ,80      ,  2,800214     ,14         ,2,20230419,0836,  29.9986, -23.3781,     5331,   1200.9,   7.9970,  35.5148,2,  35.5176,2,    169.1,2,    182.6,2,    14.20,2,    20.00,2,     0.00,2,     1.33,2,     -999,9,     -999,9,     -999,9,   2196.7,2,   2345.0,2,    774.9,2,   7.6972,2,    25.00,     -999,9,      0.7,2,     -999,9,     -999,9
33RO20230413  ,A16N       ,80      ,  2,800213     ,13         ,2,20230419,0836,  29.9986, -23.3781,     5331,   1449.1,   6.6873,  35.3896,2,  35.3889,2,    186.8,2,    203.0,2,    15.40,2,    19.50,2,     0.00,2,     1.31,2,     -999,9,     -999,9,     -999,9,   2190.6,2,   2337.2,2,    765.6,6,   7.7189,2,    25.00,     -999,9,      0.8,2,     -999,9,     -999,9
33RO20230413  ,A16N       ,80      ,  2,800212     ,12         ,2,20230419,0836,  29.9986, -23.3781,     5331,   1700.6,   5.3857,  35.2311,2,  35.2357,2,    204.3,2,    222.5,2,    16.60,2,    19.10,2,     0.00,2,     1.29,2,     -999,9,     -999,9,     -999,9,   2180.7,2,   2328.2,2,    759.2,2,   7.7211,2,    25.00,     -999,9,      1.0,2,     -999,9,     -999,9
33RO20230413  ,A16N       ,80      ,  2,800211     ,11         ,2,20230419,0836,  29.9986, -23.3781,     5331,   1951.1,   4.4752,  35.1200,2,  35.1252,2,    208.3,2,    227.7,2,    20.80,2,    19.80,2,     0.01,2,     1.35,2,     -999,9,     -999,9,     -999,9,   2181.2,2,   2326.5,2,    760.7,2,   7.7192,2,    25.00,     -999,9,      0.9,2,     -999,9,     -999,9
33RO20230413  ,A16N       ,80      ,  2,800210     ,10         ,2,20230419,0836,  29.9986, -23.3781,     5331,   2252.0,   3.7735,  35.0407,2,  35.0443,2,    215.7,2,    237.5,2,    23.80,2,    19.70,2,     0.00,2,     1.35,2,     -999,9,     -999,9,     -999,9,   2181.4,2,   2324.4,2,    753.9,2,   7.7214,2,    25.00,     -999,9,      0.9,2,     -999,9,     -999,9
33RO20230413  ,A16N       ,80      ,  2,800209     ,9          ,2,20230419,0836,  29.9986, -23.3781,     5331,   2551.0,   3.2486,  34.9843,2,  34.9883,2,    219.5,2,    243.0,2,    27.60,2,    19.60,2,     0.00,2,     1.36,2,     -999,9,     -999,9,     -999,9,   2181.0,2,   2326.0,2,    752.9,2,   7.7235,2,    25.00,     -999,9,      1.0,2,     -999,9,     -999,9
33RO20230413  ,A16N       ,80      ,  2,800208     ,8          ,2,20230419,0836,  29.9986, -23.3781,     5331,   2851.2,   2.9082,  34.9509,2,  34.9541,2,    219.0,2,    244.1,2,    32.10,2,    20.10,2,     0.00,2,     1.40,2,     -999,9,     -999,9,     -999,9,   2185.0,2,   2332.2,2,    753.8,2,   7.7228,2,    25.00,     -999,9,      1.0,2,     -999,9,     -999,9
33RO20230413  ,A16N       ,80      ,  2,800207     ,7          ,2,20230419,0836,  29.9986, -23.3781,     5331,   3150.5,   2.7089,  34.9316,2,  34.9354,2,    217.0,2,    243.7,4,    36.70,2,    20.80,2,     0.01,2,     1.44,2,     -999,9,     -999,9,     -999,9,   2186.9,2,   2336.2,2,    756.3,2,   7.7245,2,    25.00,     -999,9,      0.8,2,     -999,9,     -999,9
33RO20230413  ,A16N       ,80      ,  2,800206     ,6          ,2,20230419,0836,  29.9986, -23.3781,     5331,   3451.6,   2.5873,  34.9178,2,  34.9230,6,    215.7,2,    241.7,6,    40.10,2,    21.30,2,     0.00,2,     1.47,2,     -999,9,     -999,9,     -999,9,   2190.5,2,   2339.2,2,    756.7,2,   7.7237,2,    25.00,     -999,9,      1.0,2,     -999,9,     -999,9
33RO20230413  ,A16N       ,80      ,  2,800205     ,5          ,2,20230419,0836,  29.9986, -23.3781,     5331,   3751.3,   2.5111,  34.9077,2,  34.9170,2,    215.0,2,    241.2,2,    42.60,2,    21.70,2,     0.01,2,     1.49,2,     -999,9,     -999,9,     -999,9,   2191.8,2,   2340.4,2,    758.5,2,   7.7227,2,    25.00,     -999,9,      1.0,2,     -999,9,     -999,9
33RO20230413  ,A16N       ,80      ,  2,800204     ,4          ,2,20230419,0836,  29.9986, -23.3781,     5331,   4000.5,   2.4668,  34.9011,2,  34.9036,2,    214.6,2,    241.3,2,    44.00,2,    21.80,2,     0.00,2,     1.51,2,     -999,9,     -999,9,     -999,9,   2192.6,2,   2341.5,6,    758.9,2,   7.7214,6,    25.00,     -999,9,      0.9,2,     -999,9,     -999,9
33RO20230413  ,A16N       ,80      ,  2,800203     ,3          ,2,20230419,0836,  29.9986, -23.3781,     5331,   4351.1,   2.4192,  34.8925,2,  34.8952,2,    214.4,2,    241.4,2,    46.10,2,    22.00,2,     0.00,2,     1.53,2,     -999,9,     -999,9,     -999,9,   2196.0,2,   2343.7,2,    762.6,2,   7.7201,2,    25.00,     -999,9,      0.9,2,     -999,9,     -999,9
33RO20230413  ,A16N       ,80      ,  2,800202     ,2          ,2,20230419,0836,  29.9986, -23.3781,     5331,   4502.1,   2.4094,  34.8898,2,  34.8933,2,    214.4,2,    241.4,2,    46.70,2,    22.00,2,     0.00,2,     1.53,2,     -999,9,     -999,9,     -999,9,   2197.4,6,   2345.9,2,    763.5,2,   7.7202,2,    25.00,     -999,9,      1.0,2,     -999,9,     -999,9
33RO20230413  ,A16N       ,80      ,  2,800201     ,1          ,2,20230419,0836,  29.9986, -23.3781,     5331,   5332.0,   2.4570,  34.8832,2,  34.8857,2,    215.4,2,    241.0,6,    48.20,2,    22.10,2,     0.01,2,     1.54,2,     -999,9,     -999,9,     -999,9,   2201.4,2,   2348.9,2,    764.7,2,   7.7192,2,    25.00,     -999,9,      0.9,6,     -999,9,     -999,9
33RO20230413  ,A16N       ,81      ,  1,810124     ,24         ,2,20230419,1921,  30.4979, -23.0990,     5284,      3.4,  20.9236,  37.0239,2,  37.0274,2,    209.4,2,    220.7,2,     0.60,2,     0.00,2,     0.01,2,     0.04,2,     -999,9,     -999,9,     -999,9,   2133.6,6,   2421.4,2,    389.7,2,   7.9753,2,    25.00,     -999,9,      0.8,6,     -999,9,     -999,9
33RO20230413  ,A16N       ,81      ,  1,810123     ,23         ,2,20230419,1921,  30.4979, -23.0990,     5284,     60.5,  20.5252,  37.0335,2,  37.0395,6,    209.9,2,    221.8,2,     0.50,2,     0.00,2,     0.01,2,     0.05,2,     -999,9,     -999,9,     -999,9,   2129.0,2,   2421.1,6,    387.7,2,   7.9793,6,    25.00,     -999,9,      0.8,2,     -999,9,     -999,9
33RO20230413  ,A16N       ,81      ,  1,810122     ,22         ,2,20230419,1921,  30.4979, -23.0990,     5284,    110.5,  20.4107,  37.1080,2,  37.1012,2,    204.4,2,    216.1,2,     0.50,2,     0.00,2,     0.01,2,     0.05,2,     -999,9,     -999,9,     -999,9,   2134.5,2,   2426.1,2,    389.3,2,   7.9797,2,    25.00,     -999,9,      0.8,2,     -999,9,     -999,9
33RO20230413  ,A16N       ,81      ,  1,810121     ,21         ,2,20230419,1921,  30.4979, -23.0990,     5284,    165.7,  19.1200,  36.8304,2,  36.8353,2,    194.4,2,    204.8,2,     0.80,2,     1.30,2,     0.04,2,     0.13,2,     -999,9,     -999,9,     -999,9,   2140.6,2,   2406.4,2,    425.6,2,   7.9445,2,    25.00,     -999,9,      0.7,2,     -999,9,     -999,9
33RO20230413  ,A16N       ,81      ,  1,810120     ,20         ,2,20230419,1921,  30.4979, -23.0990,     5284,    209.0,  17.9164,  36.5630,2,  36.5585,2,    187.4,2,    198.8,2,     1.20,2,     3.60,2,     0.02,2,     0.24,2,     -999,9,     -999,9,     -999,9,   2145.5,2,   2389.3,2,    463.2,2,   7.9123,2,    25.00,     -999,9,      0.5,2,     -999,9,     -999,9
33RO20230413  ,A16N       ,81      ,  1,810119     ,19         ,2,20230419,1921,  30.4979, -23.0990,     5284,    327.4,  15.4816,  36.0912,2,  36.1040,2,    180.9,2,    192.7,2,     2.60,2,     8.10,2,     0.01,2,     0.52,2,     -999,9,     -999,9,     -999,9,   2151.2,2,   2363.0,2,    540.5,2,   7.8521,2,    25.00,     -999,9,      0.5,2,     -999,9,     -999,9
33RO20230413  ,A16N       ,81      ,  1,810118     ,18         ,2,20230419,1921,  30.4979, -23.0990,     5284,    489.8,  12.9118,  35.7102,2,  35.7085,2,    179.6,2,    190.4,2,     4.50,2,    12.50,2,     0.01,2,     0.79,2,     -999,9,     -999,9,     -999,9,   2166.9,2,   2339.2,2,    644.1,2,   7.7838,2,    25.00,     -999,9,      0.4,2,     -999,9,     -999,9
33RO20230413  ,A16N       ,81      ,  1,810117     ,17         ,2,20230419,1921,  30.4979, -23.0990,     5284,    649.9,  11.4271,  35.5684,2,  35.5693,2,    165.9,2,    176.9,2,     7.00,2,    16.40,2,     0.01,2,     1.03,2,     -999,9,     -999,9,     -999,9,   2181.0,2,   2334.0,2,    719.3,2,   7.7413,2,    25.00,     -999,9,      0.5,2,     -999,9,     -999,9
33RO20230413  ,A16N       ,81      ,  1,810116     ,16         ,2,20230419,1921,  30.4979, -23.0990,     5284,    786.6,  10.2429,  35.5258,2,  35.5291,2,    151.5,2,    162.3,2,    10.50,2,    19.70,2,     0.01,2,     1.27,2,     -999,9,     -999,9,     -999,9,   2201.2,2,   2338.1,2,    778.7,2,   7.6744,2,    25.00,     -999,9,      0.5,2,     -999,9,     -999,9
33RO20230413  ,A16N       ,81      ,  1,810115     ,15         ,2,20230419,1921,  30.4979, -23.0990,     5284,    950.2,   8.9060,  35.4695,2,  35.4779,2,    154.2,2,    165.6,2,    13.20,2,    21.20,2,     0.01,2,     1.38,2,     -999,9,     -999,9,     -999,9,   2201.2,2,   2339.1,2,    802.0,2,   7.6778,2,    25.00,     -999,9,      0.7,2,     -999,9,     -999,9
33RO20230413  ,A16N       ,81      ,  1,810114     ,14         ,2,20230419,1921,  30.4979, -23.0990,     5284,   1150.9,   7.9402,  35.4728,2,  35.4842,2,    165.1,2,    177.6,2,    14.60,2,    20.90,2,     0.01,2,     1.38,2,     -999,9,     -999,9,     -999,9,   2202.3,2,   2341.4,2,    788.0,2,   7.7084,2,    25.00,     -999,9,      0.8,2,     -999,9,     -999,9
33RO20230413  ,A16N       ,81      ,  1,810113     ,13         ,2,20230419,1921,  30.4979, -23.0990,     5284,   1350.7,   7.1664,  35.4447,2,  35.4482,2,    179.8,2,    194.4,2,    14.90,2,    19.90,2,     0.01,2,     1.32,2,     -999,9,     -999,9,     -999,9,   2197.6,2,   2341.1,2,    767.5,2,   7.7175,2,    25.00,     -999,9,      0.9,2,     -999,9,     -999,9
33RO20230413  ,A16N       ,81      ,  1,810112     ,12         ,2,20230419,1921,  30.4979, -23.0990,     5284,   1610.2,   5.9231,  35.3145,2,  35.3331,2,    200.1,2,    216.8,2,    15.50,2,    18.90,2,     0.01,2,     1.28,2,     -999,9,     -999,9,     -999,9,   2187.6,2,   2332.6,2,    756.2,2,   7.7221,2,    25.00,     -999,9,      1.0,2,     -999,9,     -999,9
33RO20230413  ,A16N       ,81      ,  1,810111     ,11         ,2,20230419,1921,  30.4979, -23.0990,     5284,   1875.3,   4.8457,  35.1730,2,  35.1770,2,    214.6,2,    234.1,2,    16.50,2,    18.60,2,     0.00,2,     1.26,2,     -999,9,     -999,9,     -999,9,   2181.5,2,   2323.9,6,    752.3,2,   7.7223,6,    25.00,     -999,9,      1.0,2,     -999,9,     -999,9
33RO20230413  ,A16N       ,81      ,  1,810110     ,10         ,2,20230419,1921,  30.4979, -23.0990,     5284,   2175.1,   3.8825,  35.0496,2,  35.0548,2,    221.9,2,    243.3,2,    20.40,2,    18.80,2,     0.00,2,     1.30,2,     -999,9,     -999,9,     -999,9,   2176.4,2,   2320.9,2,    750.5,2,   7.7233,2,    25.00,     -999,9,      1.1,2,     -999,9,     -999,9
33RO20230413  ,A16N       ,81      ,  1,810109     ,9          ,2,20230419,1921,  30.4979, -23.0990,     5284,   2476.1,   3.3363,  34.9929,2,  35.0027,2,    219.9,2,    242.4,2,    26.40,2,    19.70,2,     0.00,2,     1.36,2,     -999,9,     -999,9,     -999,9,   2180.6,2,   2324.4,2,    751.9,2,   7.7265,2,    25.00,     -999,9,      1.1,2,     -999,9,     -999,9
33RO20230413  ,A16N       ,81      ,  1,810108     ,8          ,2,20230419,1921,  30.4979, -23.0990,     5284,   2776.4,   2.9750,  34.9578,2,  34.9622,2,    218.8,2,    243.0,2,    31.30,2,    20.20,2,     0.01,2,     1.40,2,     -999,9,     -999,9,     -999,9,   2184.6,2,   2329.8,2,    754.5,2,   7.7244,2,    25.00,     -999,9,      1.2,2,     -999,9,     -999,9
33RO20230413  ,A16N       ,81      ,  1,810107     ,7          ,2,20230419,1921,  30.4979, -23.0990,     5284,   3076.0,   2.7400,  34.9352,2,  34.9400,2,    216.8,2,    242.4,6,    36.00,2,    20.70,2,     0.00,2,     1.44,2,     -999,9,     -999,9,     -999,9,   2188.6,2,   2336.7,2,    755.9,2,   7.7227,2,    25.00,     -999,9,      1.1,2,     -999,9,     -999,9
33RO20230413  ,A16N       ,81      ,  1,810106     ,6          ,2,20230419,1921,  30.4979, -23.0990,     5284,   3375.6,   2.6059,  34.9209,2,  34.9258,2,    215.1,2,    240.6,2,    39.60,2,    21.30,2,     0.00,2,     1.48,2,     -999,9,     -999,9,     -999,9,   2192.9,2,   2340.8,2,    757.2,2,   7.7230,2,    25.00,     -999,9,      1.1,2,     -999,9,     -999,9
33RO20230413  ,A16N       ,81      ,  1,810105     ,5          ,2,20230419,1921,  30.4979, -23.0990,     5284,   3676.3,   2.5079,  34.9086,2,  34.9101,6,    214.5,2,    240.8,2,    42.60,2,    21.70,2,     0.00,2,     1.51,2,     -999,9,     -999,9,     -999,9,   2193.4,2,   2341.4,2,    757.8,2,   7.7224,2,    25.00,     -999,9,      1.2,2,     -999,9,     -999,9
33RO20230413  ,A16N       ,81      ,  1,810104     ,4          ,2,20230419,1921,  30.4979, -23.0990,     5284,   3976.0,   2.4476,  34.8995,2,  34.9035,2,    214.4,2,    240.7,2,    44.50,6,    21.90,6,     0.01,6,     1.52,6,     -999,9,     -999,9,     -999,9,   2194.6,2,   2345.0,2,    760.3,2,   7.7222,2,    25.00,     -999,9,      1.1,2,     -999,9,     -999,9
33RO20230413  ,A16N       ,81      ,  1,810103     ,3          ,2,20230419,1921,  30.4979, -23.0990,     5284,   4275.8,   2.4119,  34.8925,2,  34.8943,2,    214.2,2,    241.1,2,    46.00,6,    22.00,6,     0.01,6,     1.53,6,     -999,9,     -999,9,     -999,9,   2196.1,2,   2343.4,2,    762.5,6,   7.7205,2,    25.00,     -999,9,      1.1,2,     -999,9,     -999,9
33RO20230413  ,A16N       ,81      ,  1,810102     ,2          ,2,20230419,1921,  30.4979, -23.0990,     5284,   4601.0,   2.3956,  34.8871,2,  34.9002,2,    214.2,2,    241.2,2,    47.30,6,    22.10,6,     0.00,6,     1.53,6,     -999,9,     -999,9,     -999,9,   2201.2,6,   2345.0,2,    764.4,2,   7.7203,2,    25.00,     -999,9,      1.2,2,     -999,9,     -999,9
33RO20230413  ,A16N       ,81      ,  1,810101     ,1          ,2,20230419,1921,  30.4979, -23.0990,     5284,   5362.1,   2.4618,  34.8832,2,  34.8875,2,    215.3,2,    240.5,6,    48.30,6,    22.20,6,     0.01,6,     1.54,6,     -999,9,     -999,9,     -999,9,   2203.3,2,   2349.4,2,    761.9,2,   7.7213,2,    25.00,     -999,9,      1.1,6,     -999,9,     -999,9