BOTTLE,20240627CCHHYDRO
EXPOCODE,SECT_ID,STNNBR,CASTNO,SAMPNO,BTLNBR,BTLNBR_FLAG_W,DATE,TIME,LATITUDE,LONGITUDE,DEPTH,CTDPRS,CTDTMP,CTDSAL,CTDSAL_FLAG_W,SALNTY,SALNTY_FLAG_W,CTDOXY,CTDOXY_FLAG_W,OXYGEN,OXYGEN_FLAG_W,SILCAT,SILCAT_FLAG_W,NITRAT,NITRAT_FLAG_W,NITRIT,NITRIT_FLAG_W,PHSPHT,PHSPHT_FLAG_W,CFC-11,CFC-11_FLAG_W,CFC-12,CFC-12_FLAG_W,SF6,SF6_FLAG_W,TCARBN,TCARBN_FLAG_W,ALKALI,ALKALI_FLAG_W,FCO2,FCO2_FLAG_W,PH_TOT,PH_TOT_FLAG_W,PH_TMP,DOC,DOC_FLAG_W,DELC13,DELC13_FLAG_W,TDN,TDN_FLAG_W,N2O,N2O_FLAG_W
,,,,,,,,,,,METERS,DBAR,ITS-90,PSS-78,,PSS-78,,UMOL/KG,,UMOL/KG,,UMOL/KG,,UMOL/KG,,UMOL/KG,,UMOL/KG,,PMOL/KG,,PMOL/KG,,FMOL/KG,,UMOL/KG,,UMOL/KG,,UATM,,,,DEG C,UMOL/KG,,/MILLE,,UMOL/KG,,NMOL/KG,
33RO20230413  ,A16N       ,78      ,  2,780224     ,24         ,2,20230418,1537,  28.9917, -23.9417,     5278,      5.1,  21.1345,  37.1546,2,  37.1570,2,    208.2,2,    221.6,2,     0.40,2,     0.00,2,     0.01,2,     0.04,2,     -999,9,     -999,9,     -999,9,   2138.5,6,   2429.6,2,    385.3,2,   7.9802,2,    25.00,     -999,9,      0.8,6,     -999,9,     -999,9
33RO20230413  ,A16N       ,78      ,  2,780223     ,23         ,2,20230418,1537,  28.9917, -23.9417,     5278,     60.0,  20.6570,  37.1192,2,  37.1165,2,    209.5,2,    223.4,2,     0.40,2,     0.00,2,     0.01,2,     0.04,2,     -999,9,     -999,9,     -999,9,   2131.9,2,   2426.9,6,    385.0,2,   7.9817,6,    25.00,     -999,9,      0.7,2,     -999,9,     -999,9
33RO20230413  ,A16N       ,78      ,  2,780222     ,22         ,2,20230418,1537,  28.9917, -23.9417,     5278,    110.8,  19.5141,  36.9326,2,  36.9431,2,    207.2,2,    221.1,2,     0.40,2,     0.00,2,     0.02,2,     0.04,2,     -999,9,     -999,9,     -999,9,   2134.0,2,   2415.7,2,    396.1,2,   7.9700,2,    25.00,     -999,9,      0.7,2,     -999,9,     -999,9
33RO20230413  ,A16N       ,78      ,  2,780221     ,21         ,2,20230418,1537,  28.9917, -23.9417,     5278,    164.3,  19.0490,  36.8317,2,  36.8435,2,    201.2,2,    213.7,2,     0.60,2,     0.90,2,     0.02,2,     0.09,2,     -999,9,     -999,9,     -999,9,   2135.8,2,   2407.4,2,    415.4,2,   7.9532,2,    25.00,     -999,9,      0.6,2,     -999,9,     -999,9
33RO20230413  ,A16N       ,78      ,  2,780220     ,20         ,2,20230418,1537,  28.9917, -23.9417,     5278,    210.4,  17.6525,  36.5304,2,  36.5457,2,    191.4,2,    204.2,2,     1.10,2,     3.30,2,     0.02,2,     0.23,2,     -999,9,     -999,9,     -999,9,   2142.7,2,   2387.8,2,    464.3,2,   7.9106,2,    25.00,     -999,9,      0.6,2,     -999,9,     -999,9
33RO20230413  ,A16N       ,78      ,  2,780219     ,19         ,2,20230418,1537,  28.9917, -23.9417,     5278,    326.4,  15.0430,  36.0310,2,  36.0380,2,    183.3,2,    196.6,2,     2.50,2,     8.30,2,     0.01,2,     0.53,2,     -999,9,     -999,9,     -999,9,   2152.1,2,   2357.9,2,    552.8,2,   7.8433,2,    25.00,     -999,9,      0.4,2,     -999,9,     -999,9
33RO20230413  ,A16N       ,78      ,  2,780218     ,18         ,2,20230418,1537,  28.9917, -23.9417,     5278,    491.2,  12.7216,  35.6943,2,  35.6950,2,    174.9,2,    188.4,2,     4.80,2,    13.30,2,     0.01,2,     0.83,2,     -999,9,     -999,9,     -999,9,   2169.0,2,   2339.5,2,    657.9,2,   7.7771,2,    25.00,     -999,9,      0.5,2,     -999,9,     -999,9
33RO20230413  ,A16N       ,78      ,  2,780217     ,17         ,2,20230418,1537,  28.9917, -23.9417,     5278,    650.1,  11.3461,  35.5682,2,  35.5717,2,    168.1,2,    181.0,2,     6.80,2,    16.30,2,     0.01,2,     1.03,2,     -999,9,     -999,9,     -999,9,   2179.0,2,   2333.2,2,    721.7,2,   7.7414,2,    25.00,     -999,9,      0.6,2,     -999,9,     -999,9
33RO20230413  ,A16N       ,78      ,  2,780216     ,16         ,2,20230418,1537,  28.9917, -23.9417,     5278,    786.2,  10.0957,  35.4879,2,  35.4901,6,    149.7,2,    161.7,2,    10.80,2,    20.20,2,     0.01,2,     1.30,2,     -999,9,     -999,9,     -999,9,   2190.8,6,   2332.8,2,    788.5,2,   7.7072,2,    25.00,     -999,9,      0.6,2,     -999,9,     -999,9
33RO20230413  ,A16N       ,78      ,  2,780215     ,15         ,2,20230418,1537,  28.9917, -23.9417,     5278,    950.4,   9.1736,  35.5219,2,  35.5224,2,    150.5,2,    163.0,2,    13.30,2,    21.20,2,     0.01,2,     1.38,2,     -999,9,     -999,9,     -999,9,   2202.5,2,   2341.4,2,    802.9,2,   7.7023,2,    25.00,     -999,9,      0.7,2,     -999,9,     -999,9
33RO20230413  ,A16N       ,78      ,  2,780214     ,14         ,2,20230418,1537,  28.9917, -23.9417,     5278,   1150.1,   8.5001,  35.5794,2,  35.5816,2,    162.2,2,    176.3,2,    13.90,2,    20.30,2,     0.01,2,     1.34,2,     -999,9,     -999,9,     -999,9,   2205.2,2,   2348.5,2,    778.1,2,   7.7154,2,    25.00,     -999,9,      0.8,2,     -999,9,     -999,9
33RO20230413  ,A16N       ,78      ,  2,780213     ,13         ,2,20230418,1537,  28.9917, -23.9417,     5278,   1351.2,   7.3733,  35.4714,2,  35.4746,2,    175.9,2,    192.4,2,    14.90,2,    20.00,2,     0.01,2,     1.32,2,     -999,9,     -999,9,     -999,9,   2200.3,2,   2341.9,2,    770.1,2,   7.6986,2,    25.00,     -999,9,      0.9,2,     -999,9,     -999,9
33RO20230413  ,A16N       ,78      ,  2,780212     ,12         ,2,20230418,1537,  28.9917, -23.9417,     5278,   1611.1,   5.9116,  35.3039,2,  35.3050,2,    195.8,2,    213.8,2,    16.70,2,    19.50,2,     0.00,2,     1.31,2,     -999,9,     -999,9,     -999,9,   2189.2,2,   2334.7,2,    761.3,2,   7.7213,2,    25.00,     -999,9,      0.9,2,     -999,9,     -999,9
33RO20230413  ,A16N       ,78      ,  2,780211     ,11         ,2,20230418,1537,  28.9917, -23.9417,     5278,   1876.3,   4.8638,  35.1744,2,  35.1793,2,    215.6,2,    236.3,2,    16.00,2,    18.30,2,     0.01,2,     1.24,2,     -999,9,     -999,9,     -999,9,   2179.2,2,   2323.2,2,    752.1,2,   7.7218,2,    25.00,     -999,9,      1.1,2,     -999,9,     -999,9
33RO20230413  ,A16N       ,78      ,  2,780210     ,10         ,2,20230418,1537,  28.9917, -23.9417,     5278,   2175.0,   3.9999,  35.0689,2,  35.0733,2,    216.1,2,    237.8,2,    22.10,2,    19.40,2,     0.00,2,     1.33,2,     -999,9,     -999,9,     -999,9,   2181.3,2,   2326.0,2,    752.8,2,   7.7226,2,    25.00,     -999,9,      1.0,2,     -999,9,     -999,9
33RO20230413  ,A16N       ,78      ,  2,780209     ,9          ,2,20230418,1537,  28.9917, -23.9417,     5278,   2475.3,   3.3640,  34.9965,2,  35.0012,2,    219.8,2,    244.8,2,    26.30,2,    19.60,2,     0.00,2,     1.35,2,     -999,9,     -999,9,     -999,9,   2182.0,2,   2325.7,6,    752.1,2,   7.7229,6,    25.00,     -999,9,      1.1,2,     -999,9,     -999,9
33RO20230413  ,A16N       ,78      ,  2,780208     ,8          ,2,20230418,1537,  28.9917, -23.9417,     5278,   2775.6,   2.9702,  34.9580,2,  34.9707,2,    218.0,2,    242.6,4,    31.90,2,    20.20,2,     0.00,2,     1.40,2,     -999,9,     -999,9,     -999,9,   2184.0,2,   2332.0,2,    754.7,2,   7.7224,2,    25.00,     -999,9,      1.0,2,     -999,9,     -999,9
33RO20230413  ,A16N       ,78      ,  2,780207     ,7          ,2,20230418,1537,  28.9917, -23.9417,     5278,   3076.8,   2.7133,  34.9326,2,  34.9372,2,    217.2,2,    245.6,2,    36.30,2,    20.80,2,     0.01,2,     1.44,2,     -999,9,     -999,9,     -999,9,   2189.1,2,   2336.1,2,    757.1,2,   7.7216,2,    25.00,     -999,9,      1.0,2,     -999,9,     -999,9
33RO20230413  ,A16N       ,78      ,  2,780206     ,6          ,2,20230418,1537,  28.9917, -23.9417,     5278,   3377.0,   2.5864,  34.9187,2,  34.9222,2,    215.5,2,    244.1,2,    40.00,2,    21.30,2,     0.01,2,     1.47,2,     -999,9,     -999,9,     -999,9,   2195.1,2,   2339.4,2,    757.5,6,   7.7225,2,    25.00,     -999,9,      1.0,2,     -999,9,     -999,9
33RO20230413  ,A16N       ,78      ,  2,780205     ,5          ,2,20230418,1537,  28.9917, -23.9417,     5278,   3675.9,   2.4934,  34.9073,2,  34.9132,2,    214.6,2,    243.5,2,    42.90,2,    21.70,2,     0.01,2,     1.51,2,     -999,9,     -999,9,     -999,9,   2194.1,2,   2343.6,2,   -999.0,9,   7.7233,2,    25.00,     -999,9,      1.0,2,     -999,9,     -999,9
33RO20230413  ,A16N       ,78      ,  2,780204     ,4          ,2,20230418,1537,  28.9917, -23.9417,     5278,   3974.5,   2.4323,  34.8981,2,  34.9017,6,    214.5,2,    243.4,6,    44.90,2,    21.90,2,     0.01,2,     1.51,2,     -999,9,     -999,9,     -999,9,   2195.1,2,   2342.7,2,    760.3,2,   7.7211,2,    25.00,     -999,9,      1.0,2,     -999,9,     -999,9
33RO20230413  ,A16N       ,78      ,  2,780203     ,3          ,2,20230418,1537,  28.9917, -23.9417,     5278,   4274.2,   2.3975,  34.8914,2,  34.8938,2,    214.5,2,     -999,9,    46.40,2,    22.00,2,     0.01,2,     1.53,2,     -999,9,     -999,9,     -999,9,   2196.4,2,   2345.4,2,    761.8,2,   7.7210,2,    25.00,     -999,9,      1.0,2,     -999,9,     -999,9
33RO20230413  ,A16N       ,78      ,  2,780202     ,2          ,2,20230418,1537,  28.9917, -23.9417,     5278,   4599.0,   2.3887,  34.8864,2,  34.8880,2,    214.4,2,     -999,9,    47.50,2,    22.10,2,     0.01,2,     1.53,2,     -999,9,     -999,9,     -999,9,   2198.4,2,   2346.5,2,    763.8,2,   7.7201,2,    25.00,     -999,9,      0.9,2,     -999,9,     -999,9
33RO20230413  ,A16N       ,78      ,  2,780201     ,1          ,2,20230418,1537,  28.9917, -23.9417,     5278,   5275.9,   2.4493,  34.8832,2,  34.8866,2,    215.6,2,    243.5,6,    48.20,2,    22.20,2,     0.01,2,     1.53,2,     -999,9,     -999,9,     -999,9,   2204.7,2,   2346.6,2,    763.0,2,   7.7198,2,    25.00,     -999,9,      0.9,6,     -999,9,     -999,9
33RO20230413  ,A16N       ,79      ,  1,790124     ,24         ,2,20230419,0208,  29.4988, -23.6671,     5213,      3.5,  20.8484,  37.0891,2,  37.0877,2,    208.4,2,    222.8,2,     0.50,2,     0.00,2,     0.01,2,     0.04,2,     -999,9,     -999,9,     -999,9,   2126.5,6,   2423.6,2,    388.3,2,   7.9794,2,    25.00,     -999,9,      0.8,2,     -999,9,     -999,9
33RO20230413  ,A16N       ,79      ,  1,790123     ,23         ,2,20230419,0208,  29.4988, -23.6671,     5213,     40.5,  20.6295,  37.0581,2,  37.0625,2,    209.3,2,    223.1,2,     0.50,2,     0.00,2,     0.01,2,     0.03,2,     -999,9,     -999,9,     -999,9,   2126.2,2,   2422.5,2,    388.3,2,   7.9797,2,    25.00,     -999,9,      0.7,2,     -999,9,     -999,9
33RO20230413  ,A16N       ,79      ,  1,790122     ,22         ,2,20230419,0208,  29.4988, -23.6671,     5213,     90.5,  20.5447,  37.0782,2,  37.0777,2,    208.7,2,    221.7,2,     0.50,2,     0.00,2,     0.01,2,     0.04,2,     -999,9,     -999,9,     -999,9,   2125.4,2,   2422.9,2,    387.6,2,   7.9805,2,    25.00,     -999,9,      0.8,2,     -999,9,     -999,9
33RO20230413  ,A16N       ,79      ,  1,790121     ,21         ,2,20230419,0208,  29.4988, -23.6671,     5213,    140.3,  19.7950,  37.0028,2,  37.0072,2,    204.7,2,    216.6,2,     0.50,2,     0.10,2,     0.11,2,     0.05,2,     -999,9,     -999,9,     -999,9,   2129.3,2,   2418.4,2,    399.9,2,   7.9695,2,    25.00,     -999,9,      0.7,2,     -999,9,     -999,9
33RO20230413  ,A16N       ,79      ,  1,790120     ,20         ,2,20230419,0208,  29.4988, -23.6671,     5213,    190.6,  18.2581,  36.6420,2,  36.6479,2,    191.7,2,    204.2,2,     1.00,2,     2.60,2,     0.02,2,     0.18,2,     -999,9,     -999,9,     -999,9,   2132.8,2,   2396.2,2,    446.6,2,   7.9255,2,    25.00,     -999,9,      0.5,2,     -999,9,     -999,9
33RO20230413  ,A16N       ,79      ,  1,790119     ,19         ,2,20230419,0208,  29.4988, -23.6671,     5213,    275.5,  15.9635,  36.1841,2,  36.1887,2,    183.3,2,    196.4,2,     2.10,2,     7.00,2,     0.01,2,     0.45,2,     -999,9,     -999,9,     -999,9,   2142.7,2,   2367.2,2,    518.6,6,   7.8686,2,    25.00,     -999,9,      0.4,2,     -999,9,     -999,9
33RO20230413  ,A16N       ,79      ,  1,790118     ,18         ,2,20230419,0208,  29.4988, -23.6671,     5213,    425.7,  13.3377,  35.7730,2,  35.7761,2,    179.5,2,    192.9,2,     3.90,2,    11.60,2,     0.01,2,     0.73,2,     -999,9,     -999,9,     -999,9,   2157.7,2,   2343.1,2,    627.0,2,   7.7963,2,    25.00,     -999,9,      0.4,2,     -999,9,     -999,9
33RO20230413  ,A16N       ,79      ,  1,790117     ,17         ,2,20230419,0208,  29.4988, -23.6671,     5213,    580.3,  11.6393,  35.5877,2,  35.5894,2,    173.1,2,    186.0,2,     6.00,2,    15.30,2,     0.01,2,     0.95,2,     -999,9,     -999,9,     -999,9,   2171.7,6,   2333.5,2,    708.4,2,   7.7480,2,    25.00,     -999,9,      0.4,2,     -999,9,     -999,9
33RO20230413  ,A16N       ,79      ,  1,790116     ,16         ,2,20230419,0208,  29.4988, -23.6671,     5213,    751.7,  11.3002,  35.8099,2,  35.8059,2,    157.5,2,    170.3,2,     8.60,2,    17.10,2,     0.01,2,     1.08,2,     -999,9,     -999,9,     -999,9,   2193.2,2,   2354.1,6,    728.2,2,   7.7419,6,    25.00,     -999,9,      0.5,6,     -999,9,     -999,9
33RO20230413  ,A16N       ,79      ,  1,790115     ,15         ,2,20230419,0208,  29.4988, -23.6671,     5213,    991.4,  11.5237,  36.1406,2,  36.1423,2,    161.7,2,    175.6,2,     8.40,3,    15.40,3,     0.01,2,     0.97,3,     -999,9,     -999,9,     -999,9,   2206.1,2,   2383.5,2,    685.4,2,   7.7677,2,    25.00,     -999,9,      0.6,2,     -999,9,     -999,9
33RO20230413  ,A16N       ,79      ,  1,790114     ,14         ,2,20230419,0208,  29.4988, -23.6671,     5213,   1241.2,  10.8977,  36.1574,2,  36.1585,2,    162.5,2,    176.6,2,     9.70,3,    16.10,3,     0.01,2,     1.03,3,     -999,9,     -999,9,     -999,9,   2213.3,2,   2387.0,2,    693.7,2,   7.7635,2,    25.00,     -999,9,      0.6,2,     -999,9,     -999,9
33RO20230413  ,A16N       ,79      ,  1,790113     ,13         ,2,20230419,0208,  29.4988, -23.6671,     5213,   1501.0,   7.7224,  35.5811,2,  35.5849,6,    178.2,2,    195.9,2,    14.30,2,    19.00,2,     0.01,2,     1.25,2,     -999,9,     -999,9,     -999,9,   2198.3,2,   2349.2,2,    749.7,2,   7.7276,2,    25.00,     -999,9,      0.8,2,     -999,9,     -999,9
33RO20230413  ,A16N       ,79      ,  1,790112     ,12         ,2,20230419,0208,  29.4988, -23.6671,     5213,   1740.6,   5.7135,  35.2850,2,  35.2903,2,    197.7,2,    216.9,2,    17.20,2,    19.60,2,     0.00,2,     1.30,2,     -999,9,     -999,9,     -999,9,   2188.1,2,   2332.7,2,    760.4,2,   7.7208,2,    25.00,     -999,9,      0.9,2,     -999,9,     -999,9
33RO20230413  ,A16N       ,79      ,  1,790111     ,11         ,2,20230419,0208,  29.4988, -23.6671,     5213,   2026.0,   4.5216,  35.1301,2,  35.1323,2,    210.3,2,    232.0,2,    20.10,2,    19.60,2,     0.00,2,     1.32,2,     -999,9,     -999,9,     -999,9,   2179.8,2,   2326.3,2,    758.0,2,   7.7199,2,    25.00,     -999,9,      0.9,2,     -999,9,     -999,9
33RO20230413  ,A16N       ,79      ,  1,790110     ,10         ,2,20230419,0208,  29.4988, -23.6671,     5213,   2325.9,   3.7464,  35.0378,2,  35.0563,2,    214.8,2,    239.9,2,    24.60,2,    19.90,2,     0.01,2,     1.36,2,     -999,9,     -999,9,     -999,9,   2179.6,2,   2327.2,2,    756.3,2,   7.7223,2,    25.00,     -999,9,      1.0,2,     -999,9,     -999,9
33RO20230413  ,A16N       ,79      ,  1,790109     ,9          ,2,20230419,0208,  29.4988, -23.6671,     5213,   2626.1,   3.2124,  34.9803,2,  34.9847,2,    219.3,2,    244.3,2,    28.10,2,    19.90,2,     0.01,2,     1.37,2,     -999,9,     -999,9,     -999,9,   2179.8,2,   2329.1,2,    753.6,2,   7.7233,2,    25.00,     -999,9,      1.0,2,     -999,9,     -999,9
33RO20230413  ,A16N       ,79      ,  1,790108     ,8          ,2,20230419,0208,  29.4988, -23.6671,     5213,   2925.7,   2.8979,  34.9509,2,  34.9571,6,    217.0,2,    244.8,2,    33.50,2,    20.60,2,     0.01,2,     1.42,2,     -999,9,     -999,9,     -999,9,   2181.8,2,   2333.1,2,    755.5,2,   7.7230,2,    25.00,     -999,9,      0.9,2,     -999,9,     -999,9
33RO20230413  ,A16N       ,79      ,  1,790107     ,7          ,2,20230419,0208,  29.4988, -23.6671,     5213,   3226.2,   2.7058,  34.9304,2,  34.9350,2,    216.9,2,    245.0,2,    36.60,2,    20.90,2,     0.00,2,     1.44,2,     -999,9,     -999,9,     -999,9,   2186.8,2,   2336.7,6,    755.6,2,   7.7221,6,    25.00,     -999,9,      1.0,2,     -999,9,     -999,9
33RO20230413  ,A16N       ,79      ,  1,790106     ,6          ,2,20230419,0208,  29.4988, -23.6671,     5213,   3526.3,   2.5818,  34.9168,2,  34.9191,2,    215.2,2,    244.7,2,    40.30,2,    21.50,2,     0.01,2,     1.48,2,     -999,9,     -999,9,     -999,9,   2188.4,2,   2341.6,2,    757.5,2,   7.7250,2,    25.00,     -999,9,      1.0,2,     -999,9,     -999,9
33RO20230413  ,A16N       ,79      ,  1,790105     ,5          ,2,20230419,0208,  29.4988, -23.6671,     5213,   3825.9,   2.4853,  34.9048,2,  34.9064,2,    214.2,2,    242.8,6,    43.50,2,    21.80,2,     0.00,2,     1.50,2,     -999,9,     -999,9,     -999,9,   2190.9,2,   2343.4,2,    760.4,2,   7.7238,2,    25.00,     -999,9,      1.0,2,     -999,9,     -999,9
33RO20230413  ,A16N       ,79      ,  1,790104     ,4          ,2,20230419,0208,  29.4988, -23.6671,     5213,   4126.5,   2.4316,  34.8964,2,  34.9052,2,    214.3,2,    243.5,2,    45.30,6,    22.00,6,     0.00,6,     1.52,6,     -999,9,     -999,9,     -999,9,   2191.4,2,   2343.9,2,    760.9,2,   7.7208,2,    25.00,     -999,9,      1.0,2,     -999,9,     -999,9
33RO20230413  ,A16N       ,79      ,  1,790103     ,3          ,2,20230419,0208,  29.4988, -23.6671,     5213,   4426.2,   2.4018,  34.8896,2,  34.8917,2,    214.4,2,    237.3,2,    46.70,6,    22.10,6,     0.00,6,     1.53,6,     -999,9,     -999,9,     -999,9,   2192.9,2,   2344.7,2,    764.1,2,   7.7190,2,    25.00,     -999,9,      0.9,2,     -999,9,     -999,9
33RO20230413  ,A16N       ,79      ,  1,790102     ,2          ,2,20230419,0208,  29.4988, -23.6671,     5213,   4700.4,   2.3966,  34.8857,2,  34.8882,2,    214.4,2,    242.7,2,    47.70,6,    22.10,6,     0.01,6,     1.53,6,     -999,9,     -999,9,     -999,9,   2198.1,6,   2346.3,2,    765.2,2,   7.7189,2,    25.00,     -999,9,      0.9,2,     -999,9,     -999,9
33RO20230413  ,A16N       ,79      ,  1,790101     ,1          ,2,20230419,0208,  29.4988, -23.6671,     5213,   5311.3,   2.4544,  34.8830,2,  34.8872,2,    215.6,2,    242.2,6,    48.20,6,    22.20,6,     0.01,6,     1.54,6,     -999,9,     -999,9,     -999,9,   2196.7,2,   2347.7,2,    764.0,2,   7.7208,2,    25.00,     -999,9,      1.0,6,     -999,9,     -999,9