BOTTLE,20240627CCHHYDRO
EXPOCODE,SECT_ID,STNNBR,CASTNO,SAMPNO,BTLNBR,BTLNBR_FLAG_W,DATE,TIME,LATITUDE,LONGITUDE,DEPTH,CTDPRS,CTDTMP,CTDSAL,CTDSAL_FLAG_W,SALNTY,SALNTY_FLAG_W,CTDOXY,CTDOXY_FLAG_W,OXYGEN,OXYGEN_FLAG_W,SILCAT,SILCAT_FLAG_W,NITRAT,NITRAT_FLAG_W,NITRIT,NITRIT_FLAG_W,PHSPHT,PHSPHT_FLAG_W,CFC-11,CFC-11_FLAG_W,CFC-12,CFC-12_FLAG_W,SF6,SF6_FLAG_W,TCARBN,TCARBN_FLAG_W,ALKALI,ALKALI_FLAG_W,FCO2,FCO2_FLAG_W,PH_TOT,PH_TOT_FLAG_W,PH_TMP,DOC,DOC_FLAG_W,DELC13,DELC13_FLAG_W,TDN,TDN_FLAG_W,N2O,N2O_FLAG_W
,,,,,,,,,,,METERS,DBAR,ITS-90,PSS-78,,PSS-78,,UMOL/KG,,UMOL/KG,,UMOL/KG,,UMOL/KG,,UMOL/KG,,UMOL/KG,,PMOL/KG,,PMOL/KG,,FMOL/KG,,UMOL/KG,,UMOL/KG,,UATM,,,,DEG C,UMOL/KG,,/MILLE,,UMOL/KG,,NMOL/KG,
33RO20230413  ,A16N       ,116     ,  1,1160124    ,24         ,2,20230430,1500,  48.0018, -19.9939,     4360,      4.1,  14.0631,  35.6968,2,  35.7047,2,    247.0,2,    263.1,2,     2.40,2,     4.50,2,     0.16,2,     0.35,2,     -999,9,     -999,9,     -999,9,   2123.1,6,   2345.8,2,    483.4,2,   7.8874,2,    25.00,     -999,9,      0.7,6,     -999,9,     -999,9
33RO20230413  ,A16N       ,116     ,  1,1160123    ,23         ,2,20230430,1500,  48.0018, -19.9939,     4360,     33.4,  13.6084,  35.7169,2,  35.7316,2,    241.9,2,    258.0,2,     2.50,2,     5.40,2,     0.27,2,     0.39,2,     -999,9,     -999,9,     -999,9,   2134.9,2,   2346.4,2,    503.3,2,   7.8737,2,    25.00,     -999,9,      0.6,2,     -999,9,     -999,9
33RO20230413  ,A16N       ,116     ,  1,1160122    ,22         ,2,20230430,1500,  48.0018, -19.9939,     4360,     58.1,  13.4235,  35.7427,2,  35.7515,2,    235.8,2,    252.1,2,     2.60,2,     5.90,2,     0.45,2,     0.42,2,     -999,9,     -999,9,     -999,9,   2139.8,2,   2345.1,2,    518.2,2,   7.8660,2,    25.00,     -999,9,      0.6,2,     -999,9,     -999,9
33RO20230413  ,A16N       ,116     ,  1,1160121    ,21         ,2,20230430,1500,  48.0018, -19.9939,     4360,     83.2,  13.3865,  35.7437,2,  35.7533,2,    234.3,2,    249.0,2,     2.60,2,     6.20,2,     0.33,2,     0.45,2,     -999,9,     -999,9,     -999,9,   2141.0,2,   2346.4,6,    523.9,2,   7.8636,6,    25.00,     -999,9,      0.6,2,     -999,9,     -999,9
33RO20230413  ,A16N       ,116     ,  1,1160120    ,20         ,2,20230430,1500,  48.0018, -19.9939,     4360,    108.5,  13.1633,  35.6997,2,  35.7140,2,    235.1,2,    251.3,2,     2.90,2,     6.60,2,     0.39,2,     0.46,2,     -999,9,     -999,9,     -999,9,   2143.4,2,   2344.6,2,    529.5,2,   7.8480,2,    25.00,     -999,9,      0.6,2,     -999,9,     -999,9
33RO20230413  ,A16N       ,116     ,  1,1160119    ,19         ,2,20230430,1500,  48.0018, -19.9939,     4360,    133.3,  13.0444,  35.6815,2,  35.6934,2,    234.4,2,    251.3,2,     3.00,2,     7.00,2,     0.31,2,     0.49,2,     -999,9,     -999,9,     -999,9,   2140.6,2,   2342.8,2,    535.6,2,   7.8450,2,    25.00,     -999,9,      0.5,2,     -999,9,     -999,9
33RO20230413  ,A16N       ,116     ,  1,1160118    ,18         ,2,20230430,1500,  48.0018, -19.9939,     4360,    167.1,  12.8507,  35.6591,2,  35.6751,2,    231.6,2,    247.5,6,     3.20,2,     7.80,2,     0.12,2,     0.52,2,     -999,9,     -999,9,     -999,9,   2145.5,2,   2342.0,2,    548.0,2,   7.8457,2,    25.00,     -999,9,      0.5,2,     -999,9,     -999,9
33RO20230413  ,A16N       ,116     ,  1,1160117    ,17         ,2,20230430,1500,  48.0018, -19.9939,     4360,    224.2,  12.4748,  35.5859,2,  35.5987,2,    231.1,2,    248.0,2,     3.50,2,     8.30,2,     0.08,2,     0.56,2,     -999,9,     -999,9,     -999,9,   2145.2,2,   2336.8,2,    561.9,2,   7.8369,2,    25.00,     -999,9,      0.6,2,     -999,9,     -999,9
33RO20230413  ,A16N       ,116     ,  1,1160116    ,16         ,2,20230430,1500,  48.0018, -19.9939,     4360,    300.5,  12.1203,  35.5423,2,  35.5498,2,    223.0,2,    239.0,2,     4.00,2,     9.70,2,     0.02,2,     0.65,2,     -999,9,     -999,9,     -999,9,   2151.4,2,   2335.3,2,    593.1,6,   7.8083,2,    25.00,     -999,9,      0.6,2,     -999,9,     -999,9
33RO20230413  ,A16N       ,116     ,  1,1160115    ,15         ,2,20230430,1500,  48.0018, -19.9939,     4360,    373.7,  11.2108,  35.4115,2,  35.4247,2,    201.1,2,    234.4,4,     5.80,2,    13.20,2,     0.01,2,     0.85,2,     -999,9,     -999,9,     -999,9,   2165.5,2,   2328.1,2,    667.9,2,   7.7628,2,    25.00,     -999,9,      0.6,2,     -999,9,     -999,9
33RO20230413  ,A16N       ,116     ,  1,1160114    ,14         ,2,20230430,1500,  48.0018, -19.9939,     4360,    450.1,  10.6373,  35.3583,2,  35.3719,2,    187.1,2,    202.1,2,     7.00,2,    15.40,2,     0.01,2,     1.00,2,     -999,9,     -999,9,     -999,9,   2175.4,2,   2322.7,2,    720.9,2,   7.7335,2,    25.00,     -999,9,      0.5,2,     -999,9,     -999,9
33RO20230413  ,A16N       ,116     ,  1,1160113    ,13         ,2,20230430,1500,  48.0018, -19.9939,     4360,    550.7,   9.7376,  35.3012,2,  35.3058,2,    176.0,2,    170.9,4,     8.90,2,    17.70,2,     0.01,2,     1.15,2,     -999,9,     -999,9,     -999,9,   2184.4,6,   2320.9,6,    777.9,2,   7.7082,6,    25.00,     -999,9,      0.5,2,     -999,9,     -999,9
33RO20230413  ,A16N       ,116     ,  1,1160112    ,12         ,2,20230430,1500,  48.0018, -19.9939,     4360,    699.9,   7.6464,  35.1267,2,  35.1441,2,    182.0,2,    195.8,2,    11.00,2,    19.30,2,     0.01,2,     1.27,2,     -999,9,     -999,9,     -999,9,   2193.2,2,   2314.0,2,    843.5,2,   7.6799,2,    25.00,     -999,9,      0.6,2,     -999,9,     -999,9
33RO20230413  ,A16N       ,116     ,  1,1160111    ,11         ,2,20230430,1500,  48.0018, -19.9939,     4360,    850.2,   6.8015,  35.1937,2,  35.2107,2,    196.2,2,    211.9,2,    11.10,2,    18.60,2,     0.01,2,     1.23,2,     -999,9,     -999,9,     -999,9,   2194.3,2,   2317.2,2,    826.3,2,   7.6888,2,    25.00,     -999,9,      0.7,2,     -999,9,     -999,9
33RO20230413  ,A16N       ,116     ,  1,1160110    ,10         ,2,20230430,1500,  48.0018, -19.9939,     4360,   1001.5,   5.2509,  35.0200,2,  35.0346,2,    221.4,2,    246.5,2,    10.80,2,    18.10,2,     0.01,2,     1.21,2,     -999,9,     -999,9,     -999,9,   2185.5,2,   2306.3,2,    843.0,2,   7.6712,2,    25.00,     -999,9,      0.7,2,     -999,9,     -999,9
33RO20230413  ,A16N       ,116     ,  1,1160109    ,9          ,2,20230430,1500,  48.0018, -19.9939,     4360,   1166.8,   4.6846,  34.9898,2,  35.0018,2,    232.7,2,    252.1,2,    10.70,2,    17.90,2,     0.00,2,     1.20,2,     -999,9,     -999,9,     -999,9,   2183.3,2,   2304.0,2,    832.0,2,   7.6825,2,    25.00,     -999,9,      0.7,2,     -999,9,     -999,9
33RO20230413  ,A16N       ,116     ,  1,1160108    ,8          ,2,20230430,1500,  48.0018, -19.9939,     4360,   1400.4,   4.0564,  34.9307,2,  34.9390,2,    245.6,2,    268.1,2,    10.60,2,    17.30,2,     0.00,2,     1.17,2,     -999,9,     -999,9,     -999,9,   2176.8,2,   2299.7,2,    819.8,2,   7.6828,2,    25.00,     -999,9,      0.8,2,     -999,9,     -999,9
33RO20230413  ,A16N       ,116     ,  1,1160107    ,7          ,2,20230430,1500,  48.0018, -19.9939,     4360,   1733.0,   3.6933,  34.9074,2,  34.9247,2,    251.2,2,    274.6,2,    10.90,2,    16.90,2,     0.01,2,     1.14,2,     -999,9,     -999,9,     -999,9,   2174.9,2,   2298.1,2,    807.2,2,   7.6919,2,    25.00,     -999,9,      0.8,2,     -999,9,     -999,9
33RO20230413  ,A16N       ,116     ,  1,1160106    ,6          ,2,20230430,1500,  48.0018, -19.9939,     4360,   2133.0,   3.4914,  34.9249,2,  34.9293,6,    245.0,2,    269.8,2,    12.60,2,    17.00,2,     0.02,2,     1.15,2,     -999,9,     -999,9,     -999,9,   2173.0,2,   2300.3,2,    791.1,2,   7.6948,2,    25.00,     -999,9,      0.9,2,     -999,9,     -999,9
33RO20230413  ,A16N       ,116     ,  1,1160105    ,5          ,2,20230430,1500,  48.0018, -19.9939,     4360,   2533.7,   3.1636,  34.9383,2,  34.9476,2,    239.9,2,    271.5,2,    16.70,2,    17.30,2,     0.01,2,     1.18,2,     -999,9,     -999,9,     -999,9,   2175.3,2,   2307.1,2,    782.7,2,   7.7019,2,    25.00,     -999,9,      0.9,2,     -999,9,     -999,9
33RO20230413  ,A16N       ,116     ,  1,1160104    ,4          ,2,20230430,1500,  48.0018, -19.9939,     4360,   2932.8,   2.8837,  34.9391,2,  34.9488,2,    228.5,2,    254.8,2,    27.20,2,    19.00,2,     0.01,2,     1.30,2,     -999,9,     -999,9,     -999,9,   2189.3,2,   2323.8,2,    773.3,2,   7.7087,2,    25.00,     -999,9,      1.0,2,     -999,9,     -999,9
33RO20230413  ,A16N       ,116     ,  1,1160103    ,3          ,2,20230430,1500,  48.0018, -19.9939,     4360,   3332.8,   2.6815,  34.9255,2,  34.9270,2,    220.9,2,    247.4,2,    35.30,2,    20.40,2,     0.01,2,     1.41,2,     -999,9,     -999,9,     -999,9,   2198.7,2,   2334.9,2,    771.3,2,   7.7091,2,    25.00,     -999,9,      0.9,2,     -999,9,     -999,9
33RO20230413  ,A16N       ,116     ,  1,1160102    ,2          ,2,20230430,1500,  48.0018, -19.9939,     4360,   3733.2,   2.5511,  34.9105,2,  34.9161,2,    215.1,2,    240.8,2,    42.20,2,    21.60,2,     0.01,2,     1.49,2,     -999,9,     -999,9,     -999,9,   2204.2,2,   2344.0,2,    767.5,2,   7.7151,2,    25.00,     -999,9,      1.0,2,     -999,9,     -999,9
33RO20230413  ,A16N       ,116     ,  1,1160101    ,1          ,2,20230430,1500,  48.0018, -19.9939,     4360,   4432.8,   2.5273,  34.9002,2,  34.9138,2,    213.8,2,    238.9,6,    45.50,2,    22.30,2,     0.01,2,     1.53,2,     -999,9,     -999,9,     -999,9,   2210.0,6,   2350.0,2,    764.8,2,   7.7190,2,    25.00,     -999,9,      1.0,6,     -999,9,     -999,9
33RO20230413  ,A16N       ,117     ,  1,1170124    ,24         ,2,20230430,2056,  48.5028, -19.9976,     4044,      4.7,  13.4574,  35.5601,2,  35.5719,2,    255.5,2,    273.4,2,     2.80,2,     4.60,2,     0.13,2,     0.34,2,     -999,9,     -999,9,     -999,9,   2118.0,2,   2340.9,2,    481.2,2,   7.8786,2,    25.00,     -999,9,      0.9,6,     -999,9,     -999,9
33RO20230413  ,A16N       ,117     ,  1,1170123    ,23         ,2,20230430,2056,  48.5028, -19.9976,     4044,     20.4,  13.2079,  35.5555,2,  35.5800,2,    256.4,2,    274.0,2,     2.80,2,     4.80,2,     0.13,2,     0.36,2,     -999,9,     -999,9,     -999,9,   2119.7,2,   2340.3,2,    486.5,2,   7.8868,2,    25.00,     -999,9,      0.9,2,     -999,9,     -999,9
33RO20230413  ,A16N       ,117     ,  1,1170122    ,22         ,2,20230430,2056,  48.5028, -19.9976,     4044,     42.1,  12.6500,  35.5885,2,  35.5978,2,    244.3,2,    261.9,2,     3.10,2,     6.50,2,     0.33,2,     0.47,2,     -999,9,     -999,9,     -999,9,   2133.1,2,   2340.1,2,    530.9,2,   7.8550,2,    25.00,     -999,9,      0.6,2,     -999,9,     -999,9
33RO20230413  ,A16N       ,117     ,  1,1170121    ,21         ,2,20230430,2056,  48.5028, -19.9976,     4044,     66.3,  12.4543,  35.5869,2,  35.6043,2,    237.9,2,     -999,9,     3.20,2,     7.50,2,     0.52,2,     0.53,2,     -999,9,     -999,9,     -999,9,   2144.1,6,   2338.2,2,    552.1,2,   7.8396,2,    25.00,     -999,9,      0.5,2,     -999,9,     -999,9
33RO20230413  ,A16N       ,117     ,  1,1170120    ,20         ,2,20230430,2056,  48.5028, -19.9976,     4044,     92.1,  12.2281,  35.5629,2,  35.5776,2,    235.6,2,    252.3,2,     3.40,2,     8.10,2,     0.29,2,     0.56,2,     -999,9,     -999,9,     -999,9,   2143.1,2,   2336.2,2,    563.8,2,   7.8291,2,    25.00,     -999,9,      0.6,2,     -999,9,     -999,9
33RO20230413  ,A16N       ,117     ,  1,1170119    ,19         ,2,20230430,2056,  48.5028, -19.9976,     4044,    116.3,  12.0256,  35.5263,2,  35.5402,2,    232.9,2,    249.8,6,     3.70,2,     8.80,2,     0.15,2,     0.60,2,     -999,9,     -999,9,     -999,9,   2145.1,2,   2335.7,2,    576.2,2,   7.8238,2,    25.00,     -999,9,      0.5,2,     -999,9,     -999,9
33RO20230413  ,A16N       ,117     ,  1,1170118    ,18         ,2,20230430,2056,  48.5028, -19.9976,     4044,    141.8,  11.9849,  35.5381,2,  35.5461,2,    231.6,2,    247.2,2,     3.70,2,     9.00,2,     0.15,2,     0.60,2,     -999,9,     -999,9,     -999,9,   2148.1,2,   2334.5,2,    581.4,2,   7.8200,2,    25.00,     -999,9,      0.5,2,     -999,9,     -999,9
33RO20230413  ,A16N       ,117     ,  1,1170117    ,17         ,2,20230430,2056,  48.5028, -19.9976,     4044,    183.0,  11.9962,  35.5654,2,  35.5749,6,    234.6,2,    251.4,2,     3.70,2,     8.50,2,     0.27,2,     0.58,2,     -999,9,     -999,9,     -999,9,   2146.5,2,   2336.2,2,    575.6,2,   7.8234,2,    25.00,     -999,9,      0.4,2,     -999,9,     -999,9
33RO20230413  ,A16N       ,117     ,  1,1170116    ,16         ,2,20230430,2056,  48.5028, -19.9976,     4044,    250.3,  11.6899,  35.5216,2,  35.5336,2,    229.7,2,    248.1,2,     3.80,2,     9.60,2,     0.03,2,     0.64,2,     -999,9,     -999,9,     -999,9,   2150.5,2,   2333.9,2,    597.9,2,   7.8092,2,    25.00,     -999,9,      0.6,2,     -999,9,     -999,9
33RO20230413  ,A16N       ,117     ,  1,1170115    ,15         ,2,20230430,2056,  48.5028, -19.9976,     4044,    324.7,  10.9711,  35.3893,2,  35.4050,2,    208.9,2,    224.6,2,     5.50,2,    12.70,2,     0.01,2,     0.83,2,     -999,9,     -999,9,     -999,9,   2164.0,2,   2326.7,2,    663.0,2,   7.7707,2,    25.00,     -999,9,      0.4,2,     -999,9,     -999,9
33RO20230413  ,A16N       ,117     ,  1,1170114    ,14         ,2,20230430,2056,  48.5028, -19.9976,     4044,    400.0,  10.5967,  35.3643,2,  35.3640,2,    208.5,2,    220.9,2,     6.10,2,    13.60,2,     0.01,2,     0.90,2,     -999,9,     -999,9,     -999,9,   2167.4,2,   2324.7,2,    686.8,2,   7.7504,2,    25.00,     -999,9,      0.5,2,     -999,9,     -999,9
33RO20230413  ,A16N       ,117     ,  1,1170113    ,13         ,2,20230430,2056,  48.5028, -19.9976,     4044,    474.6,   9.2699,  35.2246,2,  35.2316,2,    176.0,2,    189.5,2,     9.40,2,    18.20,2,     0.01,2,     1.19,2,     -999,9,     -999,9,     -999,9,   2187.1,2,   2318.9,6,    798.5,2,   7.7006,6,    25.00,     -999,9,      0.6,2,     -999,9,     -999,9
33RO20230413  ,A16N       ,117     ,  1,1170112    ,12         ,2,20230430,2056,  48.5028, -19.9976,     4044,    600.1,   8.7062,  35.2887,2,  35.3059,2,    174.7,2,    189.1,2,    10.30,2,    18.70,2,     0.00,2,     1.21,2,     -999,9,     -999,9,     -999,9,   2195.2,2,   2323.9,2,    809.4,2,   7.6942,2,    25.00,     -999,9,      0.6,2,     -999,9,     -999,9
33RO20230413  ,A16N       ,117     ,  1,1170111    ,11         ,2,20230430,2056,  48.5028, -19.9976,     4044,    752.1,   7.4547,  35.2637,2,  35.2732,2,    187.7,2,    202.7,2,    10.90,2,    18.70,2,     0.00,2,     1.22,2,     -999,9,     -999,9,     -999,9,   2195.4,6,   2325.4,2,    818.9,2,   7.6899,2,    25.00,     -999,9,      0.5,2,     -999,9,     -999,9
33RO20230413  ,A16N       ,117     ,  1,1170110    ,10         ,2,20230430,2056,  48.5028, -19.9976,     4044,    900.3,   6.3709,  35.2008,2,  35.2129,2,    204.8,2,    222.4,2,    10.90,2,    18.20,2,     0.00,2,     1.20,2,     -999,9,     -999,9,     -999,9,   2191.7,2,   2320.9,2,    816.9,2,   7.6849,2,    25.00,     -999,9,      0.6,2,     -999,9,     -999,9
33RO20230413  ,A16N       ,117     ,  1,1170109    ,9          ,2,20230430,2056,  48.5028, -19.9976,     4044,   1050.3,   5.3953,  35.0936,2,  35.1036,2,    220.6,2,    239.6,2,    11.00,2,    17.90,2,     0.00,2,     1.19,2,     -999,9,     -999,9,     -999,9,   2185.5,2,   2313.2,6,    820.5,2,   7.6880,6,    25.00,     -999,9,      0.7,2,     -999,9,     -999,9
33RO20230413  ,A16N       ,117     ,  1,1170108    ,8          ,2,20230430,2056,  48.5028, -19.9976,     4044,   1232.6,   4.3526,  34.9576,2,  34.9709,2,    239.4,2,    261.9,2,    10.60,2,    17.40,2,     0.00,2,     1.17,2,     -999,9,     -999,9,     -999,9,   2178.0,2,   2303.3,2,    826.7,2,   7.6802,2,    25.00,     -999,9,      0.7,2,     -999,9,     -999,9
33RO20230413  ,A16N       ,117     ,  1,1170107    ,7          ,2,20230430,2056,  48.5028, -19.9976,     4044,   1500.7,   3.8517,  34.9156,2,  34.9451,2,    249.5,2,    273.0,2,    10.60,2,    17.00,2,     0.00,2,     1.15,2,     -999,9,     -999,9,     -999,9,   2175.1,2,   2301.3,2,    813.0,2,   7.6914,2,    25.00,     -999,9,      0.8,2,     -999,9,     -999,9
33RO20230413  ,A16N       ,117     ,  1,1170106    ,6          ,2,20230430,2056,  48.5028, -19.9976,     4044,   1864.7,   3.6095,  34.9169,2,  34.9290,2,    248.3,2,    272.1,2,    11.70,2,    17.00,2,     0.00,2,     1.15,2,     -999,9,     -999,9,     -999,9,   2169.2,2,   2300.9,2,    797.7,2,   7.6900,2,    25.00,     -999,9,      0.9,2,     -999,9,     -999,9
33RO20230413  ,A16N       ,117     ,  1,1170105    ,5          ,2,20230430,2056,  48.5028, -19.9976,     4044,   2267.5,   3.3314,  34.9336,2,  34.9552,2,    242.3,2,    267.9,2,    14.70,2,    17.10,2,     0.00,2,     1.18,2,     -999,9,     -999,9,     -999,9,   2172.5,2,   2305.9,2,    782.2,2,   7.6994,2,    25.00,     -999,9,      0.9,2,     -999,9,     -999,9
33RO20230413  ,A16N       ,117     ,  1,1170104    ,4          ,2,20230430,2056,  48.5028, -19.9976,     4044,   2666.6,   3.0005,  34.9412,2,  34.9512,2,    234.1,2,    260.0,2,    22.50,6,    18.20,6,     0.01,6,     1.24,6,     -999,9,     -999,9,     -999,9,   2179.4,2,   2316.1,2,    775.3,6,   7.7109,2,    25.00,     -999,9,      1.0,2,     -999,9,     -999,9
33RO20230413  ,A16N       ,117     ,  1,1170103    ,3          ,2,20230430,2056,  48.5028, -19.9976,     4044,   3067.2,   2.7405,  34.9314,2,  34.9436,2,    223.8,2,    248.6,2,    32.70,6,    20.00,6,     0.00,6,     1.37,6,     -999,9,     -999,9,     -999,9,   2194.6,2,   2329.1,2,    770.1,2,   7.7084,2,    25.00,     -999,9,      1.1,2,     -999,9,     -999,9
33RO20230413  ,A16N       ,117     ,  1,1170102    ,2          ,2,20230430,2056,  48.5028, -19.9976,     4044,   3567.6,   2.5299,  34.9102,2,  34.9199,2,    215.9,2,    240.8,2,    42.20,6,    21.60,6,     0.00,6,     1.48,6,     -999,9,     -999,9,     -999,9,   2203.2,2,   2346.6,2,    767.7,2,   7.7212,2,    25.00,     -999,9,      1.1,2,     -999,9,     -999,9
33RO20230413  ,A16N       ,117     ,  1,1170101    ,1          ,2,20230430,2056,  48.5028, -19.9976,     4044,   4105.0,   2.5139,  34.9027,2,  34.9105,2,    214.7,2,    239.6,6,    44.70,6,    22.10,6,     0.01,6,     1.52,6,     -999,9,     -999,9,     -999,9,   2208.2,6,   2350.4,2,    765.3,2,   7.7115,2,    25.00,     -999,9,      1.0,6,     -999,9,     -999,9