BOTTLE,20240627CCHHYDRO
EXPOCODE,SECT_ID,STNNBR,CASTNO,SAMPNO,BTLNBR,BTLNBR_FLAG_W,DATE,TIME,LATITUDE,LONGITUDE,DEPTH,CTDPRS,CTDTMP,CTDSAL,CTDSAL_FLAG_W,SALNTY,SALNTY_FLAG_W,CTDOXY,CTDOXY_FLAG_W,OXYGEN,OXYGEN_FLAG_W,SILCAT,SILCAT_FLAG_W,NITRAT,NITRAT_FLAG_W,NITRIT,NITRIT_FLAG_W,PHSPHT,PHSPHT_FLAG_W,CFC-11,CFC-11_FLAG_W,CFC-12,CFC-12_FLAG_W,SF6,SF6_FLAG_W,TCARBN,TCARBN_FLAG_W,ALKALI,ALKALI_FLAG_W,FCO2,FCO2_FLAG_W,PH_TOT,PH_TOT_FLAG_W,PH_TMP,DOC,DOC_FLAG_W,DELC13,DELC13_FLAG_W,TDN,TDN_FLAG_W,N2O,N2O_FLAG_W
,,,,,,,,,,,METERS,DBAR,ITS-90,PSS-78,,PSS-78,,UMOL/KG,,UMOL/KG,,UMOL/KG,,UMOL/KG,,UMOL/KG,,UMOL/KG,,PMOL/KG,,PMOL/KG,,FMOL/KG,,UMOL/KG,,UMOL/KG,,UATM,,,,DEG C,UMOL/KG,,/MILLE,,UMOL/KG,,NMOL/KG,
33RO20230413  ,A16N       ,96      ,  3,960301     ,1          ,2,20230424,2154,  37.9954, -19.9956,     5107,      4.4,  17.5997,  36.1495,2,  36.1413,2,    225.1,2,     -999,9,     1.00,2,     0.10,2,     0.00,2,     0.06,2,     -999,9,     -999,9,     -999,9,   2111.2,2,   2368.9,2,    423.2,2,   7.9392,2,    25.00,     -999,9,      0.8,6,     -999,9,     -999,9
33RO20230413  ,A16N       ,96      ,  3,960324     ,24         ,2,20230424,2154,  37.9954, -19.9956,     5107,     20.7,  17.4029,  36.1463,2,  36.1466,2,    225.4,2,     -999,9,     0.80,2,     0.00,2,     0.00,2,     0.05,2,     -999,9,     -999,9,     -999,9,   2111.7,6,   2368.8,2,    422.0,2,   7.9380,2,    25.00,     -999,9,      0.7,2,     -999,9,     -999,9
33RO20230413  ,A16N       ,96      ,  3,960323     ,23         ,2,20230424,2154,  37.9954, -19.9956,     5107,     42.1,  16.7759,  36.1319,2,  36.1336,2,    229.1,2,     -999,9,     1.00,2,     0.00,2,     0.00,2,     0.05,2,     -999,9,     -999,9,     -999,9,   2111.8,2,   2369.8,2,    426.9,2,   7.9356,2,    25.00,     -999,9,      0.7,2,     -999,9,     -999,9
33RO20230413  ,A16N       ,96      ,  3,960322     ,22         ,2,20230424,2154,  37.9954, -19.9956,     5107,     67.4,  15.9554,  36.0750,2,  36.0777,2,    228.8,2,     -999,9,     1.20,2,     0.50,2,     0.23,2,     0.12,2,     -999,9,     -999,9,     -999,9,   2119.9,2,   2366.3,2,    444.7,6,   7.8872,3,    25.00,     -999,9,      0.6,2,     -999,9,     -999,9
33RO20230413  ,A16N       ,96      ,  3,960321     ,21         ,2,20230424,2154,  37.9954, -19.9956,     5107,     91.9,  15.5656,  36.0760,2,  36.0749,2,    220.6,2,     -999,9,     1.40,2,     2.30,2,     0.08,2,     0.20,2,     -999,9,     -999,9,     -999,9,   2128.1,2,   2364.7,2,    470.9,2,   7.8999,2,    25.00,     -999,9,      0.5,2,     -999,9,     -999,9
33RO20230413  ,A16N       ,96      ,  3,960320     ,20         ,2,20230424,2154,  37.9954, -19.9956,     5107,    133.4,  15.0999,  36.0066,2,  36.0105,2,    220.4,2,     -999,9,     1.60,2,     3.20,2,     0.01,2,     0.25,2,     -999,9,     -999,9,     -999,9,   2130.4,2,   2359.1,2,    484.3,2,   7.8895,2,    25.00,     -999,9,      0.4,2,     -999,9,     -999,9
33RO20230413  ,A16N       ,96      ,  3,960319     ,19         ,2,20230424,2154,  37.9954, -19.9956,     5107,    200.5,  14.5844,  35.9274,2,  35.9281,2,    209.7,2,     -999,9,     2.20,2,     5.80,2,     0.01,2,     0.40,2,     -999,9,     -999,9,     -999,9,   2139.3,2,   2354.7,2,    522.7,2,   7.8604,2,    25.00,     -999,9,      0.4,2,     -999,9,     -999,9
33RO20230413  ,A16N       ,96      ,  3,960318     ,18         ,2,20230424,2154,  37.9954, -19.9956,     5107,    274.7,  13.5989,  35.7810,2,  35.7800,6,    203.0,2,     -999,9,     3.20,2,     8.70,2,     0.01,2,     0.57,2,     -999,9,     -999,9,     -999,9,   2146.7,2,   2345.4,2,    573.5,2,   7.8285,2,    25.00,     -999,9,      0.5,2,     -999,9,     -999,9
33RO20230413  ,A16N       ,96      ,  3,960317     ,17         ,2,20230424,2154,  37.9954, -19.9956,     5107,    367.9,  12.8336,  35.6701,2,  35.6723,2,    198.7,2,     -999,9,     4.00,2,    10.40,2,     0.01,2,     0.69,2,     -999,9,     -999,9,     -999,9,   2155.2,2,   2338.6,2,    609.9,2,   7.8019,2,    25.00,     -999,9,      0.4,2,     -999,9,     -999,9
33RO20230413  ,A16N       ,96      ,  3,960316     ,16         ,2,20230424,2154,  37.9954, -19.9956,     5107,    467.2,  12.1346,  35.5803,2,  35.5838,2,    193.9,2,     -999,9,     4.80,2,    12.20,2,     0.01,2,     0.79,2,     -999,9,     -999,9,     -999,9,   2160.8,2,   2335.4,2,    648.5,2,   7.7791,2,    25.00,     -999,9,      0.4,2,     -999,9,     -999,9
33RO20230413  ,A16N       ,96      ,  3,960315     ,15         ,2,20230424,2154,  37.9954, -19.9956,     5107,    600.7,  10.9077,  35.4549,2,  35.4571,2,    184.7,2,     -999,9,     6.70,2,    15.00,2,     0.00,2,     0.98,2,     -999,9,     -999,9,     -999,9,   2172.8,2,   2328.5,6,    714.8,2,   7.7424,6,    25.00,     -999,9,      0.4,2,     -999,9,     -999,9
33RO20230413  ,A16N       ,96      ,  3,960314     ,14         ,2,20230424,2154,  37.9954, -19.9956,     5107,    750.2,  10.2351,  35.4723,2,  35.4743,2,    173.0,2,     -999,9,     8.50,2,    16.90,2,     0.00,2,     1.10,2,     -999,9,     -999,9,     -999,9,   2182.6,6,   2331.9,2,    750.9,2,   7.7233,2,    25.00,     -999,9,      0.5,2,     -999,9,     -999,9
33RO20230413  ,A16N       ,96      ,  3,960313     ,13         ,2,20230424,2154,  37.9954, -19.9956,     5107,    897.8,  10.0418,  35.7027,2,  35.7050,2,    167.7,2,     -999,9,     9.70,2,    17.20,2,     0.00,2,     1.11,2,     -999,9,     -999,9,     -999,9,   2197.4,2,   2351.9,2,    739.2,2,   7.7329,2,    25.00,     -999,9,      0.5,2,     -999,9,     -999,9
33RO20230413  ,A16N       ,96      ,  3,960312     ,12         ,2,20230424,2154,  37.9954, -19.9956,     5107,   1050.2,  10.0879,  35.8922,2,  35.8961,2,    166.9,2,     -999,9,    10.20,2,    17.00,2,     0.00,2,     1.09,2,     -999,9,     -999,9,     -999,9,   2207.3,2,   2366.8,2,    720.9,2,   7.7449,2,    25.00,     -999,9,      0.6,2,     -999,9,     -999,9
33RO20230413  ,A16N       ,96      ,  3,960311     ,11         ,2,20230424,2154,  37.9954, -19.9956,     5107,   1232.8,   8.3670,  35.6619,2,  35.6638,2,    185.4,2,     -999,9,    10.90,2,    17.20,2,     0.00,2,     1.12,2,     -999,9,     -999,9,     -999,9,   2201.5,2,   2351.9,2,    740.8,2,   7.7318,2,    25.00,     -999,9,      0.6,2,     -999,9,     -999,9
33RO20230413  ,A16N       ,96      ,  3,960310     ,10         ,2,20230424,2154,  37.9954, -19.9956,     5107,   1499.8,   6.3542,  35.3672,2,  35.3710,2,    207.7,2,     -999,9,    12.00,2,    17.50,2,     0.00,2,     1.16,2,     -999,9,     -999,9,     -999,9,   2186.2,2,   2332.6,2,    758.0,2,   7.7200,2,    25.00,     -999,9,      0.7,2,     -999,9,     -999,9
33RO20230413  ,A16N       ,96      ,  3,960309     ,9          ,2,20230424,2154,  37.9954, -19.9956,     5107,   1867.8,   4.5714,  35.1075,2,  35.1103,2,    225.9,2,     -999,9,    14.10,2,    17.70,2,     0.00,2,     1.20,2,     -999,9,     -999,9,     -999,9,   2175.0,2,   2316.0,2,    765.0,2,   7.7148,2,    25.00,     -999,9,      0.9,2,     -999,9,     -999,9
33RO20230413  ,A16N       ,96      ,  3,960308     ,8          ,2,20230424,2154,  37.9954, -19.9956,     5107,   2267.9,   3.4956,  34.9731,2,  34.9767,2,    234.0,2,     -999,9,    17.60,2,    17.90,2,     0.00,2,     1.22,2,     -999,9,     -999,9,     -999,9,   2171.1,2,   2312.0,2,    763.4,2,   7.7143,2,    25.00,     -999,9,      0.9,2,     -999,9,     -999,9
33RO20230413  ,A16N       ,96      ,  3,960307     ,7          ,2,20230424,2154,  37.9954, -19.9956,     5107,   2667.8,   2.9937,  34.9424,2,  34.9433,2,    229.7,2,     -999,9,    24.60,2,    18.70,2,     0.00,2,     1.29,2,     -999,9,     -999,9,     -999,9,   2177.3,2,   2319.8,2,    764.4,2,   7.7134,2,    25.00,     -999,9,      0.9,2,     -999,9,     -999,9
33RO20230413  ,A16N       ,96      ,  3,960306     ,6          ,2,20230424,2154,  37.9954, -19.9956,     5107,   3133.8,   2.7152,  34.9291,2,  34.9314,2,    220.3,2,     -999,9,    34.20,2,    20.20,2,     0.00,2,     1.40,2,     -999,9,     -999,9,     -999,9,   2189.0,2,   2333.1,6,    763.2,2,   7.7175,6,    25.00,     -999,9,      1.0,2,     -999,9,     -999,9
33RO20230413  ,A16N       ,96      ,  3,960305     ,5          ,2,20230424,2154,  37.9954, -19.9956,     5107,   3631.8,   2.5635,  34.9133,2,  34.9156,2,    214.6,2,     -999,9,    40.80,6,    21.30,6,     0.00,6,     1.48,6,     -999,9,     -999,9,     -999,9,   2195.9,2,   2342.7,2,    763.8,2,   7.7185,2,    25.00,     -999,9,      1.0,2,     -999,9,     -999,9
33RO20230413  ,A16N       ,96      ,  3,960304     ,4          ,2,20230424,2154,  37.9954, -19.9956,     5107,   4233.1,   2.5054,  34.9014,2,  34.9074,6,    213.2,2,     -999,9,    44.20,6,    21.80,6,     0.00,6,     1.51,6,     -999,9,     -999,9,     -999,9,   2197.8,2,   2345.8,2,    762.3,2,   7.7199,2,    25.00,     -999,9,      0.9,2,     -999,9,     -999,9
33RO20230413  ,A16N       ,96      ,  3,960303     ,3          ,2,20230424,2154,  37.9954, -19.9956,     5107,   4600.0,   2.4944,  34.8963,2,  34.8976,2,    213.5,2,     -999,9,    45.50,6,    21.90,6,     0.00,6,     1.52,6,     -999,9,     -999,9,     -999,9,   2199.4,2,   2347.5,2,    760.6,2,   7.7190,2,    25.00,     -999,9,      1.0,2,     -999,9,     -999,9
33RO20230413  ,A16N       ,96      ,  3,960302     ,2          ,2,20230424,2154,  37.9954, -19.9956,     5107,   5212.5,   2.5185,  34.8905,2,  34.8952,2,    215.2,2,     -999,9,    46.50,6,    21.90,6,     0.00,6,     1.53,6,     -999,9,     -999,9,     -999,9,   2201.3,6,   2347.7,2,    759.7,2,   7.7198,2,    25.00,     -999,9,      1.0,6,     -999,9,     -999,9
33RO20230413  ,A16N       ,97      ,  1,970124     ,24         ,2,20230425,0453,  38.4989, -19.9940,     4044,      5.2,  17.2354,  36.0890,2,  36.0917,2,    226.1,2,    240.0,2,     0.90,2,     0.00,2,     0.01,2,     0.05,2,     -999,9,     -999,9,     -999,9,   2109.8,2,   2368.1,2,    428.4,2,   7.9330,2,    25.00,     -999,9,      0.9,2,     -999,9,     -999,9
33RO20230413  ,A16N       ,97      ,  1,970123     ,23         ,2,20230425,0453,  38.4989, -19.9940,     4044,     25.1,  17.2362,  36.0897,2,  36.0940,2,    226.1,2,    240.2,2,     0.70,2,     0.00,2,     0.01,2,     0.04,2,     -999,9,     -999,9,     -999,9,   2110.0,2,   2368.2,2,    428.9,6,   7.9359,2,    25.00,     -999,9,      0.8,2,     -999,9,     -999,9
33RO20230413  ,A16N       ,97      ,  1,970122     ,22         ,2,20230425,0453,  38.4989, -19.9940,     4044,     51.1,  16.3087,  36.1111,2,  36.1110,6,    233.5,2,    247.4,6,     0.80,2,     0.00,2,     0.02,2,     0.05,2,     -999,9,     -999,9,     -999,9,   2111.7,2,   2369.8,2,    428.6,2,   7.9348,2,    25.00,     -999,9,      0.7,2,     -999,9,     -999,9
33RO20230413  ,A16N       ,97      ,  1,970121     ,21         ,2,20230425,0453,  38.4989, -19.9940,     4044,     75.0,  16.1524,  36.1862,2,  36.1767,2,    217.5,2,    229.5,2,     1.10,2,     1.80,2,     0.07,2,     0.16,2,     -999,9,     -999,9,     -999,9,   2125.0,2,   2372.7,2,    457.6,2,   7.9121,2,    25.00,     -999,9,      0.6,2,     -999,9,     -999,9
33RO20230413  ,A16N       ,97      ,  1,970120     ,20         ,2,20230425,0453,  38.4989, -19.9940,     4044,    100.4,  15.2925,  36.0229,2,  36.0239,2,    222.1,2,    236.9,2,     1.40,2,     3.30,2,     0.02,2,     0.25,2,     -999,9,     -999,9,     -999,9,   2125.1,2,   2362.8,2,    476.1,2,   7.8959,2,    25.00,     -999,9,      0.5,2,     -999,9,     -999,9
33RO20230413  ,A16N       ,97      ,  1,970119     ,19         ,2,20230425,0453,  38.4989, -19.9940,     4044,    124.2,  14.9985,  35.9966,2,  36.0074,2,    216.1,2,    230.5,2,     1.60,2,     4.20,2,     0.02,2,     0.31,2,     -999,9,     -999,9,     -999,9,   2131.7,2,   2359.9,6,    495.7,2,   7.8821,6,    25.00,     -999,9,      0.6,2,     -999,9,     -999,9
33RO20230413  ,A16N       ,97      ,  1,970118     ,18         ,2,20230425,0453,  38.4989, -19.9940,     4044,    150.4,  14.6460,  35.9390,2,  35.9384,2,    213.2,2,    226.8,2,     2.00,2,     5.50,2,     0.02,2,     0.38,2,     -999,9,     -999,9,     -999,9,   2136.6,2,   2354.5,2,    515.4,2,   7.8665,2,    25.00,     -999,9,      0.5,2,     -999,9,     -999,9
33RO20230413  ,A16N       ,97      ,  1,970117     ,17         ,2,20230425,0453,  38.4989, -19.9940,     4044,    200.2,  14.0166,  35.8466,2,  35.8462,2,    202.3,2,    215.8,2,     2.60,2,     7.90,2,     0.02,2,     0.52,2,     -999,9,     -999,9,     -999,9,   2150.1,2,   2349.2,2,    558.2,2,   7.8367,2,    25.00,     -999,9,      0.4,2,     -999,9,     -999,9
33RO20230413  ,A16N       ,97      ,  1,970116     ,16         ,2,20230425,0453,  38.4989, -19.9940,     4044,    276.5,  13.2028,  35.7255,2,  35.7364,2,    199.6,2,    213.4,4,     3.30,2,     9.60,2,     0.02,2,     0.63,2,     -999,9,     -999,9,     -999,9,   2151.7,2,   2341.0,2,    595.6,2,   7.8122,2,    25.00,     -999,9,      0.5,2,     -999,9,     -999,9
33RO20230413  ,A16N       ,97      ,  1,970115     ,15         ,2,20230425,0453,  38.4989, -19.9940,     4044,    350.3,  12.5951,  35.6451,2,  35.6448,2,    196.1,2,    215.0,2,     3.90,2,    11.10,2,     0.01,2,     0.72,2,     -999,9,     -999,9,     -999,9,   2156.4,2,   2338.1,2,    626.5,2,   7.7916,2,    25.00,     -999,9,      0.4,2,     -999,9,     -999,9
33RO20230413  ,A16N       ,97      ,  1,970114     ,14         ,2,20230425,0453,  38.4989, -19.9940,     4044,    424.4,  12.0652,  35.5832,2,  35.5946,2,    193.5,2,    207.2,2,     4.50,2,    12.30,2,     0.01,2,     0.80,2,     -999,9,     -999,9,     -999,9,   2165.7,2,   2334.7,2,    654.7,2,   7.7732,2,    25.00,     -999,9,      0.4,2,     -999,9,     -999,9
33RO20230413  ,A16N       ,97      ,  1,970113     ,13         ,2,20230425,0453,  38.4989, -19.9940,     4044,    500.0,  11.4796,  35.5339,2,  35.5433,2,    188.6,2,    201.3,2,     5.30,2,    13.90,2,     0.01,2,     0.89,2,     -999,9,     -999,9,     -999,9,   2170.1,2,   2332.7,2,    690.7,2,   7.7550,2,    25.00,     -999,9,      0.4,2,     -999,9,     -999,9
33RO20230413  ,A16N       ,97      ,  1,970112     ,12         ,2,20230425,0453,  38.4989, -19.9940,     4044,    650.9,  10.7441,  35.5754,2,  35.5672,2,    171.1,2,    183.8,2,     7.70,2,    16.50,2,     0.01,2,     1.06,2,     -999,9,     -999,9,     -999,9,   2187.6,2,   2338.6,2,    731.8,2,   7.7344,2,    25.00,     -999,9,      0.5,2,     -999,9,     -999,9
33RO20230413  ,A16N       ,97      ,  1,970111     ,11         ,2,20230425,0453,  38.4989, -19.9940,     4044,    801.5,  10.5212,  35.7540,2,  35.7661,2,    165.0,2,    177.9,2,     8.90,2,    17.00,2,     0.01,2,     1.10,2,     -999,9,     -999,9,     -999,9,   2197.5,2,   2354.7,2,    728.4,2,   7.7371,2,    25.00,     -999,9,      0.6,6,     -999,9,     -999,9
33RO20230413  ,A16N       ,97      ,  1,970110     ,10         ,2,20230425,0453,  38.4989, -19.9940,     4044,    950.5,  10.0837,  35.8420,2,  35.8530,2,    167.0,2,    180.4,4,     9.80,2,    17.20,2,     0.01,2,     1.11,2,     -999,9,     -999,9,     -999,9,   2203.5,6,   2362.2,2,    725.3,2,   7.7410,2,    25.00,     -999,9,      0.6,2,     -999,9,     -999,9
33RO20230413  ,A16N       ,97      ,  1,970109     ,9          ,2,20230425,0453,  38.4989, -19.9940,     4044,   1100.5,   9.0702,  35.7506,2,  35.7474,2,    177.0,2,    192.1,2,    10.60,2,    17.40,2,     0.01,2,     1.14,2,     -999,9,     -999,9,     -999,9,   2201.4,2,   2358.4,6,    735.2,2,   7.7359,6,    25.00,     -999,9,      0.7,2,     -999,9,     -999,9
33RO20230413  ,A16N       ,97      ,  1,970108     ,8          ,2,20230425,0453,  38.4989, -19.9940,     4044,   1301.0,   7.1333,  35.4487,2,  35.4502,2,    199.5,2,    217.1,2,    11.10,2,    17.50,2,     0.00,2,     1.17,2,     -999,9,     -999,9,     -999,9,   2192.8,2,   2338.8,2,    762.2,2,   7.7179,2,    25.00,     -999,9,      0.7,2,     -999,9,     -999,9
33RO20230413  ,A16N       ,97      ,  1,970107     ,7          ,2,20230425,0453,  38.4989, -19.9940,     4044,   1601.2,   5.2605,  35.1791,2,  35.1814,2,    222.9,2,    243.0,2,    11.80,2,    17.60,2,     0.00,2,     1.18,2,     -999,9,     -999,9,     -999,9,   2179.2,2,   2320.0,2,    775.6,2,   7.7085,2,    25.00,     -999,9,      0.8,2,     -999,9,     -999,9
33RO20230413  ,A16N       ,97      ,  1,970106     ,6          ,2,20230425,0453,  38.4989, -19.9940,     4044,   2000.5,   4.1338,  35.0448,2,  35.0494,6,    231.5,2,    254.1,2,    14.50,2,    17.80,2,     0.01,2,     1.21,2,     -999,9,     -999,9,     -999,9,   2172.4,2,   2312.7,2,    764.9,2,   7.7134,2,    25.00,     -999,9,      0.8,2,     -999,9,     -999,9
33RO20230413  ,A16N       ,97      ,  1,970105     ,5          ,2,20230425,0453,  38.4989, -19.9940,     4044,   2400.6,   3.4077,  34.9789,2,  34.9719,2,    231.7,2,    254.8,2,    20.20,2,    18.40,2,     0.01,2,     1.27,2,     -999,9,     -999,9,     -999,9,   2173.2,2,   2316.2,2,    756.8,2,   7.7168,2,    25.00,     -999,9,      1.0,2,     -999,9,     -999,9
33RO20230413  ,A16N       ,97      ,  1,970104     ,4          ,2,20230425,0453,  38.4989, -19.9940,     4044,   2800.2,   2.9463,  34.9447,2,  34.9532,2,    228.2,2,    253.5,2,    27.10,6,    19.20,6,     0.01,6,     1.33,6,     -999,9,     -999,9,     -999,9,   2178.8,2,   2324.8,2,    759.6,2,   7.7168,2,    25.00,     -999,9,      1.0,2,     -999,9,     -999,9
33RO20230413  ,A16N       ,97      ,  1,970103     ,3          ,2,20230425,0453,  38.4989, -19.9940,     4044,   3201.5,   2.7359,  34.9307,2,  34.9342,2,    222.3,2,    245.5,2,    34.00,6,    20.30,6,     0.00,6,     1.41,6,     -999,9,     -999,9,     -999,9,   2187.4,2,   2333.9,2,    761.3,2,   7.7165,2,    25.00,     -999,9,      0.9,2,     -999,9,     -999,9
33RO20230413  ,A16N       ,97      ,  1,970102     ,2          ,2,20230425,0453,  38.4989, -19.9940,     4044,   3800.9,   2.5620,  34.9115,2,  34.9144,2,    217.1,2,    242.1,4,    41.50,6,    21.40,6,     0.01,6,     1.49,6,     -999,9,     -999,9,     -999,9,   2199.6,2,   2342.8,2,    762.3,2,   7.7164,2,    25.00,     -999,9,      1.0,2,     -999,9,     -999,9
33RO20230413  ,A16N       ,97      ,  1,970101     ,1          ,2,20230425,0453,  38.4989, -19.9940,     4044,   4199.0,   2.5088,  34.9022,2,  34.9046,2,    217.1,2,    240.9,6,    44.00,6,    21.80,6,     0.00,6,     1.51,6,     -999,9,     -999,9,     -999,9,   2200.7,6,   2347.1,2,    759.0,2,   7.7200,2,    25.00,     -999,9,      1.0,6,     -999,9,     -999,9