BOTTLE,20240627CCHHYDRO
EXPOCODE,SECT_ID,STNNBR,CASTNO,SAMPNO,BTLNBR,BTLNBR_FLAG_W,DATE,TIME,LATITUDE,LONGITUDE,DEPTH,CTDPRS,CTDTMP,CTDSAL,CTDSAL_FLAG_W,SALNTY,SALNTY_FLAG_W,CTDOXY,CTDOXY_FLAG_W,OXYGEN,OXYGEN_FLAG_W,SILCAT,SILCAT_FLAG_W,NITRAT,NITRAT_FLAG_W,NITRIT,NITRIT_FLAG_W,PHSPHT,PHSPHT_FLAG_W,CFC-11,CFC-11_FLAG_W,CFC-12,CFC-12_FLAG_W,SF6,SF6_FLAG_W,TCARBN,TCARBN_FLAG_W,ALKALI,ALKALI_FLAG_W,FCO2,FCO2_FLAG_W,PH_TOT,PH_TOT_FLAG_W,PH_TMP,DOC,DOC_FLAG_W,DELC13,DELC13_FLAG_W,TDN,TDN_FLAG_W,N2O,N2O_FLAG_W
,,,,,,,,,,,METERS,DBAR,ITS-90,PSS-78,,PSS-78,,UMOL/KG,,UMOL/KG,,UMOL/KG,,UMOL/KG,,UMOL/KG,,UMOL/KG,,PMOL/KG,,PMOL/KG,,FMOL/KG,,UMOL/KG,,UMOL/KG,,UATM,,,,DEG C,UMOL/KG,,/MILLE,,UMOL/KG,,NMOL/KG,
33RO20230413  ,A16N       ,114     ,  1,1140124    ,24         ,2,20230430,0211,  46.9984, -19.9952,     4535,      4.2,  14.2244,  35.7342,2,  35.7416,2,    249.5,2,    266.6,2,     2.20,2,     2.80,2,     0.11,2,     0.26,2,     -999,9,     -999,9,     -999,9,   2112.3,6,   2348.6,2,    460.1,2,   7.8991,2,    25.00,     -999,9,      0.8,2,     -999,9,     -999,9
33RO20230413  ,A16N       ,114     ,  1,1140123    ,23         ,2,20230430,0211,  46.9984, -19.9952,     4535,     20.2,  14.1919,  35.7337,2,  35.7954,2,    249.5,2,    265.6,2,     2.20,2,     3.10,2,     0.13,2,     0.25,2,     -999,9,     -999,9,     -999,9,   2115.1,2,   2349.2,2,    464.8,2,   7.9054,2,    25.00,     -999,9,      0.6,2,     -999,9,     -999,9
33RO20230413  ,A16N       ,114     ,  1,1140122    ,22         ,2,20230430,0211,  46.9984, -19.9952,     4535,     37.4,  13.6130,  35.7576,2,  35.7620,2,    236.4,2,    253.6,2,     2.50,2,     5.10,2,     0.35,2,     0.39,2,     -999,9,     -999,9,     -999,9,   2130.7,2,   2350.6,2,    510.6,2,   7.8587,2,    25.00,     -999,9,      0.6,2,     -999,9,     -999,9
33RO20230413  ,A16N       ,114     ,  1,1140121    ,21         ,2,20230430,0211,  46.9984, -19.9952,     4535,     67.9,  13.5221,  35.7543,2,  35.7741,2,    234.8,2,    250.3,2,     2.40,2,     5.60,2,     0.48,2,     0.42,2,     -999,9,     -999,9,     -999,9,   2133.6,2,   2346.6,6,    519.1,2,   7.8647,6,    25.00,     -999,9,      0.5,2,     -999,9,     -999,9
33RO20230413  ,A16N       ,114     ,  1,1140120    ,20         ,2,20230430,0211,  46.9984, -19.9952,     4535,     92.3,  13.5145,  35.7658,2,  35.7749,2,    233.9,2,    250.7,2,     2.40,2,     5.70,2,     0.41,2,     0.41,2,     -999,9,     -999,9,     -999,9,   2136.2,2,   2348.0,2,    520.4,2,   7.8546,2,    25.00,     -999,9,      0.4,2,     -999,9,     -999,9
33RO20230413  ,A16N       ,114     ,  1,1140119    ,19         ,2,20230430,0211,  46.9984, -19.9952,     4535,    133.3,  13.4527,  35.7652,2,  35.7976,2,    232.9,2,    250.8,2,     2.40,2,     5.80,2,     0.24,2,     0.41,2,     -999,9,     -999,9,     -999,9,   2135.2,2,   2346.4,2,    524.1,2,   7.8554,2,    25.00,     -999,9,      0.6,2,     -999,9,     -999,9
33RO20230413  ,A16N       ,114     ,  1,1140118    ,18         ,2,20230430,0211,  46.9984, -19.9952,     4535,    215.7,  13.3402,  35.7473,2,  35.7568,2,    230.7,2,    249.4,2,     2.70,2,     6.80,2,     0.09,2,     0.46,2,     -999,9,     -999,9,     -999,9,   2138.2,2,   2344.0,2,    530.5,2,   7.8562,2,    25.00,     -999,9,      0.4,2,     -999,9,     -999,9
33RO20230413  ,A16N       ,114     ,  1,1140117    ,17         ,2,20230430,0211,  46.9984, -19.9952,     4535,    275.7,  13.2167,  35.7287,2,  35.7803,2,    230.9,2,    249.2,6,     2.90,2,     7.40,2,     0.07,2,     0.49,2,     -999,9,     -999,9,     -999,9,   2139.5,2,   2347.1,2,    534.8,2,   7.8557,2,    25.00,     -999,9,      0.5,2,     -999,9,     -999,9
33RO20230413  ,A16N       ,114     ,  1,1140116    ,16         ,2,20230430,0211,  46.9984, -19.9952,     4535,    367.0,  12.6348,  35.6245,2,  35.6451,2,    209.1,2,    225.7,2,     3.70,2,     9.90,2,     0.01,2,     0.65,2,     -999,9,     -999,9,     -999,9,   2150.7,2,   2339.7,2,    598.1,2,   7.8099,2,    25.00,     -999,9,      0.3,2,     -999,9,     -999,9
33RO20230413  ,A16N       ,114     ,  1,1140115    ,15         ,2,20230430,0211,  46.9984, -19.9952,     4535,    467.9,  11.7626,  35.5089,2,  35.5255,2,    198.9,2,    214.6,2,     5.00,2,    12.50,2,     0.01,2,     0.81,2,     -999,9,     -999,9,     -999,9,   2162.9,2,   2332.7,2,    654.2,2,   7.7751,2,    25.00,     -999,9,      0.3,2,     -999,9,     -999,9
33RO20230413  ,A16N       ,114     ,  1,1140114    ,14         ,2,20230430,0211,  46.9984, -19.9952,     4535,    600.8,  10.7651,  35.4050,2,  35.4422,2,    186.5,2,    202.5,2,     6.70,2,    15.30,2,     0.01,2,     0.98,2,     -999,9,     -999,9,     -999,9,   2174.3,2,   2327.1,2,    718.1,2,   7.7422,2,    25.00,     -999,9,      0.4,2,     -999,9,     -999,9
33RO20230413  ,A16N       ,114     ,  1,1140113    ,13         ,2,20230430,0211,  46.9984, -19.9952,     4535,    750.8,   9.1417,  35.3121,2,  35.3333,2,    171.5,2,    186.3,2,    10.30,2,    18.70,2,     0.00,2,     1.21,2,     -999,9,     -999,9,     -999,9,   2189.7,2,   2326.2,2,    799.5,6,   7.6936,2,    25.00,     -999,9,      0.4,6,     -999,9,     -999,9
33RO20230413  ,A16N       ,114     ,  1,1140112    ,12         ,2,20230430,0211,  46.9984, -19.9952,     4535,    900.5,   7.5310,  35.1896,2,  35.1958,2,    183.5,2,    199.8,2,    11.10,2,    19.10,2,     0.00,2,     1.25,2,     -999,9,     -999,9,     -999,9,   2192.1,6,   2320.1,2,    833.4,2,   7.6775,2,    25.00,     -999,9,      0.5,2,     -999,9,     -999,9
33RO20230413  ,A16N       ,114     ,  1,1140111    ,11         ,2,20230430,0211,  46.9984, -19.9952,     4535,   1051.1,   6.6931,  35.1933,2,  35.2032,2,    197.7,2,    215.7,2,    11.10,2,    18.70,2,     0.00,2,     1.23,2,     -999,9,     -999,9,     -999,9,   2189.3,2,   2322.3,2,    822.5,2,   7.6829,2,    25.00,     -999,9,      0.6,2,     -999,9,     -999,9
33RO20230413  ,A16N       ,114     ,  1,1140110    ,10         ,2,20230430,0211,  46.9984, -19.9952,     4535,   1234.3,   5.2512,  35.0406,2,  35.0544,2,    221.3,2,    240.5,2,    10.90,2,    18.10,2,     0.00,2,     1.21,2,     -999,9,     -999,9,     -999,9,   2183.4,2,   2309.7,2,    832.2,2,   7.6795,2,    25.00,     -999,9,      0.6,2,     -999,9,     -999,9
33RO20230413  ,A16N       ,114     ,  1,1140109    ,9          ,2,20230430,0211,  46.9984, -19.9952,     4535,   1500.9,   4.2983,  34.9506,2,  34.9656,2,    240.0,2,    262.7,2,    10.60,2,    17.40,2,     0.00,2,     1.17,2,     -999,9,     -999,9,     -999,9,   2176.0,2,   2303.9,2,    823.0,2,   7.6801,2,    25.00,     -999,9,      0.6,2,     -999,9,     -999,9
33RO20230413  ,A16N       ,114     ,  1,1140108    ,8          ,2,20230430,0211,  46.9984, -19.9952,     4535,   1868.8,   3.7408,  34.9070,2,  34.9187,2,    249.7,2,    275.8,2,    10.80,2,    17.00,2,     0.00,2,     1.15,2,     -999,9,     -999,9,     -999,9,   2170.1,2,   2300.6,2,    807.6,2,   7.6849,2,    25.00,     -999,9,      0.7,2,     -999,9,     -999,9
33RO20230413  ,A16N       ,114     ,  1,1140107    ,7          ,2,20230430,0211,  46.9984, -19.9952,     4535,   2268.2,   3.4854,  34.9284,2,  34.9754,2,    242.0,2,    269.3,2,    13.60,2,    17.10,2,     0.00,2,     1.17,2,     -999,9,     -999,9,     -999,9,   2171.5,2,   2303.0,2,    786.9,2,   7.6967,2,    25.00,     -999,9,      0.7,2,     -999,9,     -999,9
33RO20230413  ,A16N       ,114     ,  1,1140106    ,6          ,2,20230430,0211,  46.9984, -19.9952,     4535,   2668.3,   3.1388,  34.9386,2,  34.9449,2,    234.6,2,    260.9,2,    20.20,2,    18.00,2,     0.00,2,     1.23,2,     -999,9,     -999,9,     -999,9,   2176.8,2,   2314.7,2,    776.3,2,   7.7101,2,    25.00,     -999,9,      0.8,2,     -999,9,     -999,9
33RO20230413  ,A16N       ,114     ,  1,1140105    ,5          ,2,20230430,0211,  46.9984, -19.9952,     4535,   3067.7,   2.8611,  34.9348,2,  34.9430,2,    224.5,2,    253.5,2,    27.30,2,    19.20,2,     0.00,2,     1.32,2,     -999,9,     -999,9,     -999,9,   2185.4,2,   2324.2,2,    771.1,2,   7.7109,2,    25.00,     -999,9,      0.8,2,     -999,9,     -999,9
33RO20230413  ,A16N       ,114     ,  1,1140104    ,4          ,2,20230430,0211,  46.9984, -19.9952,     4535,   3468.1,   2.6643,  34.9201,2,  34.9281,6,    218.5,2,    245.3,2,    37.20,6,    20.90,6,     0.00,6,     1.43,6,     -999,9,     -999,9,     -999,9,   2195.3,2,   2338.0,6,    767.6,2,   7.7148,6,    25.00,     -999,9,      0.8,2,     -999,9,     -999,9
33RO20230413  ,A16N       ,114     ,  1,1140103    ,3          ,2,20230430,0211,  46.9984, -19.9952,     4535,   3867.0,   2.5482,  34.9063,2,  34.9214,2,    214.1,2,    241.3,2,    42.80,6,    22.00,6,     0.00,6,     1.50,6,     -999,9,     -999,9,     -999,9,   2202.6,2,   2347.6,2,    766.5,2,   7.7138,2,    25.00,     -999,9,      0.8,2,     -999,9,     -999,9
33RO20230413  ,A16N       ,114     ,  1,1140102    ,2          ,2,20230430,0211,  46.9984, -19.9952,     4535,   4267.0,   2.5354,  34.9006,2,  34.9115,2,    212.7,2,    239.0,2,    44.90,6,    22.20,6,     0.00,6,     1.52,6,     -999,9,     -999,9,     -999,9,   2204.8,2,   2348.4,2,    766.1,2,   7.7173,2,    25.00,     -999,9,      0.8,2,     -999,9,     -999,9
33RO20230413  ,A16N       ,114     ,  1,1140101    ,1          ,2,20230430,0211,  46.9984, -19.9952,     4535,   4598.5,   2.5582,  34.8987,2,  34.9049,2,    213.3,2,    238.5,6,    45.40,6,    22.20,6,     0.00,6,     1.53,6,     -999,9,     -999,9,     -999,9,   2207.6,6,   2350.3,2,    764.6,2,   7.7184,2,    25.00,     -999,9,      0.9,6,     -999,9,     -999,9
33RO20230413  ,A16N       ,115     ,  1,1150124    ,24         ,2,20230430,0841,  47.5011, -19.9917,     4552,      4.7,  14.0728,  35.6981,2,  35.7011,2,    245.7,2,    235.0,4,     2.30,2,     4.30,2,     0.14,2,     0.33,2,     -999,9,     -999,9,     -999,9,   2122.5,6,   2344.6,2,    481.8,2,   7.8871,2,    25.00,     -999,9,      0.6,2,     -999,9,     -999,9
33RO20230413  ,A16N       ,115     ,  1,1150123    ,23         ,2,20230430,0841,  47.5011, -19.9917,     4552,     25.5,  13.7998,  35.6934,2,  35.6950,2,    243.5,2,    259.0,2,     2.40,2,     4.80,2,     0.17,2,     0.36,2,     -999,9,     -999,9,     -999,9,     -999,9,   2344.1,2,    494.8,2,   7.8775,2,    25.00,     -999,9,      0.6,2,     -999,9,     -999,9
33RO20230413  ,A16N       ,115     ,  1,1150122    ,22         ,2,20230430,0841,  47.5011, -19.9917,     4552,     50.1,  13.3650,  35.7133,2,  35.7223,2,    238.0,2,    253.6,2,     2.60,2,     5.80,2,     0.37,2,     0.43,2,     -999,9,     -999,9,     -999,9,     -999,9,   2344.1,2,    517.0,2,   7.8644,2,    25.00,     -999,9,      0.5,2,     -999,9,     -999,9
33RO20230413  ,A16N       ,115     ,  1,1150121    ,21         ,2,20230430,0841,  47.5011, -19.9917,     4552,     75.6,  13.2845,  35.7152,2,  35.7164,2,    235.4,2,    249.8,2,     2.80,2,     6.40,2,     0.48,2,     0.46,2,     -999,9,     -999,9,     -999,9,   2140.7,2,   2344.5,2,    525.5,2,   7.8577,2,    25.00,     -999,9,      0.5,2,     -999,9,     -999,9
33RO20230413  ,A16N       ,115     ,  1,1150120    ,20         ,2,20230430,0841,  47.5011, -19.9917,     4552,     99.0,  13.2341,  35.7127,2,  35.7155,2,    234.6,2,    250.4,2,     2.80,2,     6.50,2,     0.40,2,     0.47,2,     -999,9,     -999,9,     -999,9,     -999,9,   2347.2,2,    529.3,2,   7.8562,2,    25.00,     -999,9,      0.4,2,     -999,9,     -999,9
33RO20230413  ,A16N       ,115     ,  1,1150119    ,19         ,2,20230430,0841,  47.5011, -19.9917,     4552,    150.2,  13.1050,  35.7039,2,  35.7035,6,    231.7,2,    248.6,2,     2.90,2,     7.30,2,     0.18,2,     0.50,2,     -999,9,     -999,9,     -999,9,   2143.0,2,   2343.2,2,    538.9,2,   7.8499,2,    25.00,     -999,9,      0.4,2,     -999,9,     -999,9
33RO20230413  ,A16N       ,115     ,  1,1150118    ,18         ,2,20230430,0841,  47.5011, -19.9917,     4552,    199.9,  12.9431,  35.6770,2,  35.6810,2,    230.2,2,    247.4,2,     3.10,2,     7.80,2,     0.06,2,     0.52,2,     -999,9,     -999,9,     -999,9,     -999,9,   2343.3,2,    545.6,2,   7.8490,2,    25.00,     -999,9,      0.5,2,     -999,9,     -999,9
33RO20230413  ,A16N       ,115     ,  1,1150117    ,17         ,2,20230430,0841,  47.5011, -19.9917,     4552,    326.1,  12.2513,  35.5480,2,  35.5538,2,    223.9,2,    240.3,6,     3.80,2,     9.30,2,     0.03,2,     0.63,2,     -999,9,     -999,9,     -999,9,   2149.2,2,   2337.2,2,    583.3,2,   7.8117,2,    25.00,     -999,9,      0.5,2,     -999,9,     -999,9
33RO20230413  ,A16N       ,115     ,  1,1150116    ,16         ,2,20230430,0841,  47.5011, -19.9917,     4552,    400.6,  11.5851,  35.4556,2,  35.4571,2,    211.1,2,    227.0,2,     4.90,2,    11.60,2,     0.00,2,     0.77,2,     -999,9,     -999,9,     -999,9,     -999,9,   2330.5,6,    632.9,2,   7.7848,6,    25.00,     -999,9,      0.5,2,     -999,9,     -999,9
33RO20230413  ,A16N       ,115     ,  1,1150115    ,15         ,2,20230430,0841,  47.5011, -19.9917,     4552,    500.0,  10.9976,  35.4140,2,  35.4140,2,    191.6,2,    207.2,2,     6.30,2,    14.40,2,     0.00,2,     0.93,2,     -999,9,     -999,9,     -999,9,   2172.9,2,   2326.5,2,    697.3,2,   7.7502,2,    25.00,     -999,9,      0.4,2,     -999,9,     -999,9
33RO20230413  ,A16N       ,115     ,  1,1150114    ,14         ,2,20230430,0841,  47.5011, -19.9917,     4552,    650.3,   9.4025,  35.2898,2,  35.2930,2,    172.5,2,    186.4,2,     9.60,2,    18.20,2,     0.00,2,     1.19,2,     -999,9,     -999,9,     -999,9,   2188.5,2,   2321.4,2,    793.3,2,   7.6978,2,    25.00,     -999,9,      0.5,6,     -999,9,     -999,9
33RO20230413  ,A16N       ,115     ,  1,1150113    ,13         ,2,20230430,0841,  47.5011, -19.9917,     4552,    800.8,   8.2250,  35.2670,2,  35.2674,2,    176.5,2,    190.9,2,    10.80,2,    19.00,2,     0.00,2,     1.25,2,     -999,9,     -999,9,     -999,9,   2196.1,2,   2324.1,2,    819.2,2,   7.6899,2,    25.00,     -999,9,      0.6,2,     -999,9,     -999,9
33RO20230413  ,A16N       ,115     ,  1,1150112    ,12         ,2,20230430,0841,  47.5011, -19.9917,     4552,    951.1,   7.8663,  35.4055,2,  35.4224,2,    186.3,2,    202.1,2,    10.90,2,    18.10,2,     0.00,2,     1.18,2,     -999,9,     -999,9,     -999,9,   2199.5,2,   2332.1,2,    790.4,2,   7.6996,2,    25.00,     -999,9,      0.6,2,     -999,9,     -999,9
33RO20230413  ,A16N       ,115     ,  1,1150111    ,11         ,2,20230430,0841,  47.5011, -19.9917,     4552,   1099.5,   6.0064,  35.1651,2,  35.1737,2,    210.5,2,    226.5,2,    11.10,2,    18.20,2,     0.00,2,     1.19,2,     -999,9,     -999,9,     -999,9,     -999,9,   2316.6,2,    817.0,2,   7.6851,2,    25.00,     -999,9,      0.6,2,     -999,9,     -999,9
33RO20230413  ,A16N       ,115     ,  1,1150110    ,10         ,2,20230430,0841,  47.5011, -19.9917,     4552,   1300.4,   4.6775,  34.9975,2,  35.0015,2,    232.6,2,    252.4,2,    10.80,2,    17.70,2,     0.00,2,     1.18,2,     -999,9,     -999,9,     -999,9,   2181.6,2,   2304.6,2,    825.2,2,   7.6820,2,    25.00,     -999,9,      0.7,2,     -999,9,     -999,9
33RO20230413  ,A16N       ,115     ,  1,1150109    ,9          ,2,20230430,0841,  47.5011, -19.9917,     4552,   1600.4,   3.9113,  34.9181,2,  34.9262,2,    248.0,2,    271.9,2,    10.60,2,    17.10,2,     0.00,2,     1.15,2,     -999,9,     -999,9,     -999,9,     -999,9,   2298.8,6,    816.3,2,   7.6877,6,    25.00,     -999,9,      0.8,2,     -999,9,     -999,9
33RO20230413  ,A16N       ,115     ,  1,1150108    ,8          ,2,20230430,0841,  47.5011, -19.9917,     4552,   2000.5,   3.6203,  34.9164,2,  34.9199,6,    247.5,2,    273.1,2,    11.70,2,    17.10,2,     0.00,2,     1.14,2,     -999,9,     -999,9,     -999,9,     -999,9,   2300.9,2,    798.3,2,   7.6957,2,    25.00,     -999,9,      0.8,2,     -999,9,     -999,9
33RO20230413  ,A16N       ,115     ,  1,1150107    ,7          ,2,20230430,0841,  47.5011, -19.9917,     4552,   2400.1,   3.3300,  34.9345,2,  34.9375,2,    240.7,2,    267.6,2,    15.00,2,    17.30,2,     0.00,2,     1.17,2,     -999,9,     -999,9,     -999,9,   2173.4,2,   2305.3,2,    781.7,2,   7.7025,2,    25.00,     -999,9,      0.9,2,     -999,9,     -999,9
33RO20230413  ,A16N       ,115     ,  1,1150106    ,6          ,2,20230430,0841,  47.5011, -19.9917,     4552,   2800.5,   3.0231,  34.9420,2,  34.9454,2,    231.7,2,    257.8,2,    23.30,2,    18.50,2,     0.00,2,     1.26,2,     -999,9,     -999,9,     -999,9,     -999,9,   2316.9,2,    772.1,2,   7.7098,2,    25.00,     -999,9,      0.9,2,     -999,9,     -999,9
33RO20230413  ,A16N       ,115     ,  1,1150105    ,5          ,2,20230430,0841,  47.5011, -19.9917,     4552,   3200.5,   2.7693,  34.9324,2,  34.9352,2,    223.1,2,    250.6,2,    32.20,2,    19.90,2,     0.00,2,     1.37,2,     -999,9,     -999,9,     -999,9,     -999,9,   2331.4,2,    770.2,6,   7.7134,2,    25.00,     -999,9,      0.9,2,     -999,9,     -999,9
33RO20230413  ,A16N       ,115     ,  1,1150104    ,4          ,2,20230430,0841,  47.5011, -19.9917,     4552,   3599.6,   2.6013,  34.9164,2,  34.9222,2,    216.3,2,    243.6,2,    40.00,2,    21.20,2,     0.00,2,     1.46,2,     -999,9,     -999,9,     -999,9,   2201.2,2,   2341.8,2,    767.3,2,   7.7157,2,    25.00,     -999,9,      1.0,2,     -999,9,     -999,9
33RO20230413  ,A16N       ,115     ,  1,1150103    ,3          ,2,20230430,0841,  47.5011, -19.9917,     4552,   4000.6,   2.5370,  34.9065,2,  34.9159,2,    213.3,2,    240.8,2,    43.90,2,    21.90,2,     0.00,2,     1.50,2,     -999,9,     -999,9,     -999,9,     -999,9,   2347.6,2,    766.7,2,   7.7171,2,    25.00,     -999,9,      1.0,2,     -999,9,     -999,9
33RO20230413  ,A16N       ,115     ,  1,1150102    ,2          ,2,20230430,0841,  47.5011, -19.9917,     4552,   4397.7,   2.5377,  34.9019,2,  34.9237,2,    212.7,2,    239.3,2,    45.40,2,    22.10,2,     0.00,2,     1.52,2,     -999,9,     -999,9,     -999,9,     -999,9,   2349.6,2,    766.5,2,   7.7149,2,    25.00,     -999,9,      0.9,2,     -999,9,     -999,9
33RO20230413  ,A16N       ,115     ,  1,1150101    ,1          ,2,20230430,0841,  47.5011, -19.9917,     4552,   4624.1,   2.5558,  34.9007,2,  34.9075,2,    213.1,2,    239.4,6,    45.60,2,    22.20,2,     0.00,2,     1.52,2,     -999,9,     -999,9,     -999,9,   2211.2,2,   2350.6,2,    764.2,2,   7.7096,2,    25.00,     -999,9,      0.9,6,     -999,9,     -999,9