BOTTLE,20240627CCHHYDRO
EXPOCODE,SECT_ID,STNNBR,CASTNO,SAMPNO,BTLNBR,BTLNBR_FLAG_W,DATE,TIME,LATITUDE,LONGITUDE,DEPTH,CTDPRS,CTDTMP,CTDSAL,CTDSAL_FLAG_W,SALNTY,SALNTY_FLAG_W,CTDOXY,CTDOXY_FLAG_W,OXYGEN,OXYGEN_FLAG_W,SILCAT,SILCAT_FLAG_W,NITRAT,NITRAT_FLAG_W,NITRIT,NITRIT_FLAG_W,PHSPHT,PHSPHT_FLAG_W,CFC-11,CFC-11_FLAG_W,CFC-12,CFC-12_FLAG_W,SF6,SF6_FLAG_W,TCARBN,TCARBN_FLAG_W,ALKALI,ALKALI_FLAG_W,FCO2,FCO2_FLAG_W,PH_TOT,PH_TOT_FLAG_W,PH_TMP,DOC,DOC_FLAG_W,DELC13,DELC13_FLAG_W,TDN,TDN_FLAG_W,N2O,N2O_FLAG_W
,,,,,,,,,,,METERS,DBAR,ITS-90,PSS-78,,PSS-78,,UMOL/KG,,UMOL/KG,,UMOL/KG,,UMOL/KG,,UMOL/KG,,UMOL/KG,,PMOL/KG,,PMOL/KG,,FMOL/KG,,UMOL/KG,,UMOL/KG,,UATM,,,,DEG C,UMOL/KG,,/MILLE,,UMOL/KG,,NMOL/KG,
33RO20230413  ,A16N       ,94      ,  1,940124     ,24         ,2,20230424,0314,  37.0011, -19.9902,     3797,      4.0,  18.1150,  36.3024,2,  36.3133,2,    221.3,2,    235.6,2,     1.10,2,     0.00,2,     0.00,2,     0.04,2,     -999,9,     -999,9,     -999,9,   2121.7,6,   2380.2,2,    423.3,2,   7.9409,2,    25.00,     -999,9,      0.7,2,     -999,9,     -999,9
33RO20230413  ,A16N       ,94      ,  1,940123     ,23         ,2,20230424,0314,  37.0011, -19.9902,     3797,     24.8,  17.6614,  36.2969,2,  36.3421,2,    224.3,2,    238.0,2,     1.20,2,     0.00,2,     0.00,2,     0.04,2,     -999,9,     -999,9,     -999,9,   2119.6,2,   2378.4,2,    422.3,2,   7.9419,2,    25.00,     -999,9,      0.8,2,     -999,9,     -999,9
33RO20230413  ,A16N       ,94      ,  1,940122     ,22         ,2,20230424,0314,  37.0011, -19.9902,     3797,     50.1,  16.7853,  36.2235,2,  36.2278,2,    230.5,2,    244.4,2,     1.30,2,     0.00,2,     0.00,2,     0.05,2,     -999,9,     -999,9,     -999,9,   2117.8,2,   2375.2,2,    424.3,2,   7.9384,2,    25.00,     -999,9,      0.8,2,     -999,9,     -999,9
33RO20230413  ,A16N       ,94      ,  1,940121     ,21         ,2,20230424,0314,  37.0011, -19.9902,     3797,     75.1,  16.2289,  36.2096,2,  36.2091,2,    222.1,2,    234.7,2,     1.40,2,     0.60,2,     0.19,2,     0.10,2,     -999,9,     -999,9,     -999,9,   2128.6,2,   2373.2,2,    446.9,2,   7.9205,2,    25.00,     -999,9,      0.7,2,     -999,9,     -999,9
33RO20230413  ,A16N       ,94      ,  1,940120     ,20         ,2,20230424,0314,  37.0011, -19.9902,     3797,    100.4,  15.9323,  36.1782,2,  36.1784,2,    217.7,2,    230.7,6,     1.40,2,     2.00,2,     0.02,2,     0.17,2,     -999,9,     -999,9,     -999,9,   2132.2,2,   2372.4,2,    461.8,2,   7.9082,2,    25.00,     -999,9,      0.7,2,     -999,9,     -999,9
33RO20230413  ,A16N       ,94      ,  1,940119     ,19         ,2,20230424,0314,  37.0011, -19.9902,     3797,    126.0,  15.7702,  36.1527,2,  36.1987,2,    217.8,2,    231.8,2,     1.40,2,     2.20,2,     0.01,2,     0.18,2,     -999,9,     -999,9,     -999,9,   2132.8,2,   2368.5,2,    466.1,2,   7.9035,2,    25.00,     -999,9,      0.6,2,     -999,9,     -999,9
33RO20230413  ,A16N       ,94      ,  1,940118     ,18         ,2,20230424,0314,  37.0011, -19.9902,     3797,    150.6,  15.5084,  36.1002,2,  36.0998,2,    217.1,2,    231.1,2,     1.50,2,     2.80,2,     0.01,2,     0.21,2,     -999,9,     -999,9,     -999,9,   2133.7,2,   2365.6,2,    476.8,2,   7.8962,2,    25.00,     -999,9,      0.5,2,     -999,9,     -999,9
33RO20230413  ,A16N       ,94      ,  1,940117     ,17         ,2,20230424,0314,  37.0011, -19.9902,     3797,    200.4,  14.7481,  35.9627,2,  35.9609,2,    203.3,2,    216.6,2,     2.30,2,     6.30,2,     0.01,2,     0.42,2,     -999,9,     -999,9,     -999,9,   2147.4,2,   2356.4,6,    527.8,2,   7.8581,6,    25.00,     -999,9,      0.4,2,     -999,9,     -999,9
33RO20230413  ,A16N       ,94      ,  1,940116     ,16         ,2,20230424,0314,  37.0011, -19.9902,     3797,    275.3,  13.7436,  35.8040,2,  35.8065,2,    201.9,2,    214.4,2,     2.90,2,     8.50,2,     0.01,2,     0.55,2,     -999,9,     -999,9,     -999,9,   2152.2,2,   2347.8,2,    568.9,2,   7.8292,2,    25.00,     -999,9,      0.4,2,     -999,9,     -999,9
33RO20230413  ,A16N       ,94      ,  1,940115     ,15         ,2,20230424,0314,  37.0011, -19.9902,     3797,    350.8,  12.7160,  35.6641,2,  35.6675,6,    196.2,2,    217.0,2,     4.00,2,    10.90,2,     0.00,2,     0.69,2,     -999,9,     -999,9,     -999,9,   2161.7,2,   2338.8,2,    622.6,2,   7.7955,2,    25.00,     -999,9,      0.4,2,     -999,9,     -999,9
33RO20230413  ,A16N       ,94      ,  1,940114     ,14         ,2,20230424,0314,  37.0011, -19.9902,     3797,    400.8,  12.2205,  35.6031,2,  35.6057,2,    194.7,2,    202.3,2,     4.30,2,    12.00,2,     0.00,2,     0.76,2,     -999,9,     -999,9,     -999,9,   2164.7,2,   2335.5,2,    646.2,2,   7.7799,2,    25.00,     -999,9,      0.3,2,     -999,9,     -999,9
33RO20230413  ,A16N       ,94      ,  1,940113     ,13         ,2,20230424,0314,  37.0011, -19.9902,     3797,    500.9,  11.5224,  35.5418,2,  35.5443,2,    190.5,2,    206.6,2,     5.20,2,    13.60,2,     0.00,2,     0.86,2,     -999,9,     -999,9,     -999,9,   2173.9,2,   2332.7,2,    686.9,2,   7.7558,2,    25.00,     -999,9,      0.3,2,     -999,9,     -999,9
33RO20230413  ,A16N       ,94      ,  1,940112     ,12         ,2,20230424,0314,  37.0011, -19.9902,     3797,    651.1,  11.4336,  35.7240,2,  35.7487,2,    171.8,2,    180.0,2,     6.70,2,    15.30,2,     0.00,2,     0.96,2,     -999,9,     -999,9,     -999,9,   2191.4,6,   2347.4,2,    707.0,2,   7.7493,2,    25.00,     -999,9,      0.4,2,     -999,9,     -999,9
33RO20230413  ,A16N       ,94      ,  1,940111     ,11         ,2,20230424,0314,  37.0011, -19.9902,     3797,    801.1,  12.1953,  36.1557,2,  36.1625,2,    165.9,2,    178.4,2,     7.00,2,    14.10,2,     0.00,2,     0.89,2,     -999,9,     -999,9,     -999,9,   2209.6,2,   2381.7,2,    665.5,2,   7.7761,2,    25.00,     -999,9,      0.5,2,     -999,9,     -999,9
33RO20230413  ,A16N       ,94      ,  1,940110     ,10         ,2,20230424,0314,  37.0011, -19.9902,     3797,    951.5,  11.9547,  36.2114,2,  36.2171,2,    163.8,2,    176.4,2,     7.70,2,    14.50,2,     0.00,2,     0.90,2,     -999,9,     -999,9,     -999,9,   2215.3,2,   2388.5,2,    669.4,2,   7.7744,2,    25.00,     -999,9,      0.6,2,     -999,9,     -999,9
33RO20230413  ,A16N       ,94      ,  1,940109     ,9          ,2,20230424,0314,  37.0011, -19.9902,     3797,   1101.2,  11.5407,  36.2281,2,  36.2657,2,    162.5,2,    175.7,2,     8.50,2,    15.10,2,     0.00,2,     0.95,2,     -999,9,     -999,9,     -999,9,   2218.1,2,   2391.0,2,    678.2,2,   7.7715,2,    25.00,     -999,9,      0.5,6,     -999,9,     -999,9
33RO20230413  ,A16N       ,94      ,  1,940108     ,8          ,2,20230424,0314,  37.0011, -19.9902,     3797,   1300.4,  10.1711,  36.0340,2,  36.0336,2,    171.3,2,    188.0,2,    10.00,2,    16.20,2,     0.00,2,     1.04,2,     -999,9,     -999,9,     -999,9,   2215.8,2,   2378.8,2,    704.4,2,   7.7530,2,    25.00,     -999,9,      0.6,2,     -999,9,     -999,9
33RO20230413  ,A16N       ,94      ,  1,940107     ,7          ,2,20230424,0314,  37.0011, -19.9902,     3797,   1601.3,   6.0863,  35.2972,2,  35.3015,2,    212.6,2,    231.1,2,    11.60,2,    17.60,2,     0.00,2,     1.16,2,     -999,9,     -999,9,     -999,9,   2189.2,2,   2326.8,2,    770.3,2,   7.7121,2,    25.00,     -999,9,      0.7,2,     -999,9,     -999,9
33RO20230413  ,A16N       ,94      ,  1,940106     ,6          ,2,20230424,0314,  37.0011, -19.9902,     3797,   2001.1,   4.6525,  35.1314,2,  35.1465,2,    224.0,2,    244.5,2,    14.60,2,    18.00,2,     0.00,2,     1.20,2,     -999,9,     -999,9,     -999,9,   2179.1,2,   2319.7,2,    760.1,2,   7.7170,2,    25.00,     -999,9,      0.8,2,     -999,9,     -999,9
33RO20230413  ,A16N       ,94      ,  1,940105     ,5          ,2,20230424,0314,  37.0011, -19.9902,     3797,   2401.1,   3.5776,  34.9976,2,  35.0022,2,    230.9,2,    253.5,2,    19.30,2,    18.40,2,     0.00,2,     1.25,2,     -999,9,     -999,9,     -999,9,   2177.0,2,   2317.3,2,    755.4,6,   7.7161,2,    25.00,     -999,9,      0.9,2,     -999,9,     -999,9
33RO20230413  ,A16N       ,94      ,  1,940104     ,4          ,2,20230424,0314,  37.0011, -19.9902,     3797,   2801.0,   2.9789,  34.9466,2,  34.9511,2,    229.0,2,    252.7,2,    26.60,6,    19.20,6,     0.00,6,     1.31,6,     -999,9,     -999,9,     -999,9,   2181.5,2,   2322.5,2,    757.9,2,   7.7171,2,    25.00,     -999,9,      1.0,2,     -999,9,     -999,9
33RO20230413  ,A16N       ,94      ,  1,940103     ,3          ,2,20230424,0314,  37.0011, -19.9902,     3797,   3201.4,   2.7279,  34.9286,2,  34.9334,2,    223.3,2,    248.1,2,    33.90,6,    20.30,6,     0.00,6,     1.39,6,     -999,9,     -999,9,     -999,9,   2191.4,2,   2332.8,6,    761.9,2,   7.7162,6,    25.00,     -999,9,      0.9,2,     -999,9,     -999,9
33RO20230413  ,A16N       ,94      ,  1,940102     ,2          ,2,20230424,0314,  37.0011, -19.9902,     3797,   3600.9,   2.6116,  34.9170,2,  34.9378,2,    219.4,2,    243.5,2,    39.00,6,    21.20,6,     0.00,6,     1.45,6,     -999,9,     -999,9,     -999,9,   2199.7,6,   2341.2,2,    763.1,2,   7.7173,2,    25.00,     -999,9,      0.9,2,     -999,9,     -999,9
33RO20230413  ,A16N       ,94      ,  1,940101     ,1          ,2,20230424,0314,  37.0011, -19.9902,     3797,   3905.4,   2.5980,  34.9129,2,  34.9164,6,    219.0,2,    241.6,6,    40.50,6,    21.40,6,     0.00,6,     1.46,6,     -999,9,     -999,9,     -999,9,   2204.0,2,   2342.4,2,    761.3,2,   7.7197,2,    25.00,     -999,9,      0.9,6,     -999,9,     -999,9
33RO20230413  ,A16N       ,95      ,  2,950224     ,24         ,2,20230424,1045,  37.4984, -19.9958,     4849,      3.9,  17.6690,  36.1812,2,  36.1829,2,    224.1,2,     -999,9,     0.80,2,     0.00,2,     0.00,2,     0.09,2,     -999,9,     -999,9,     -999,9,   2109.5,6,   2369.6,2,    423.8,2,   7.9412,2,    25.00,     -999,9,      0.7,6,     -999,9,     -999,9
33RO20230413  ,A16N       ,95      ,  2,950223     ,23         ,2,20230424,1045,  37.4984, -19.9958,     4849,     33.4,  17.2510,  36.1635,2,  36.1646,6,    225.6,2,     -999,9,     0.80,2,     0.00,2,     0.00,2,     0.08,2,     -999,9,     -999,9,     -999,9,   2120.1,2,   2371.3,2,    424.1,2,   7.9399,2,    25.00,     -999,9,      0.8,2,     -999,9,     -999,9
33RO20230413  ,A16N       ,95      ,  2,950222     ,22         ,2,20230424,1045,  37.4984, -19.9958,     4849,     58.2,  16.8464,  36.1463,2,  36.1464,2,    229.5,2,     -999,9,     0.90,2,     0.00,2,     0.00,2,     0.09,2,     -999,9,     -999,9,     -999,9,   2110.1,2,   2369.5,2,    423.4,2,   7.9409,2,    25.00,     -999,9,      0.7,2,     -999,9,     -999,9
33RO20230413  ,A16N       ,95      ,  2,950221     ,21         ,2,20230424,1045,  37.4984, -19.9958,     4849,     79.1,  16.3861,  36.1201,2,  36.1205,2,    230.3,2,     -999,9,     1.00,2,     0.00,2,     0.05,2,     0.11,2,     -999,9,     -999,9,     -999,9,   2113.4,2,   2366.6,2,    431.4,2,   7.9328,2,    25.00,     -999,9,      0.6,2,     -999,9,     -999,9
33RO20230413  ,A16N       ,95      ,  2,950220     ,20         ,2,20230424,1045,  37.4984, -19.9958,     4849,    113.7,  15.4904,  36.0489,2,  36.0490,2,    221.8,2,     -999,9,     1.50,2,     2.90,2,     0.03,2,     0.27,2,     -999,9,     -999,9,     -999,9,   2123.8,2,   2360.5,2,    469.7,2,   7.9021,2,    25.00,     -999,9,      0.5,2,     -999,9,     -999,9
33RO20230413  ,A16N       ,95      ,  2,950219     ,19         ,2,20230424,1045,  37.4984, -19.9958,     4849,    170.9,  15.1116,  36.0076,2,  36.0091,2,    221.2,2,     -999,9,     1.80,2,     3.90,2,     0.01,2,     0.31,2,     -999,9,     -999,9,     -999,9,   2125.2,2,   2359.2,2,    483.1,2,   7.8924,2,    25.00,     -999,9,      0.6,2,     -999,9,     -999,9
33RO20230413  ,A16N       ,95      ,  2,950218     ,18         ,2,20230424,1045,  37.4984, -19.9958,     4849,    249.7,  14.5659,  35.9244,2,  35.9222,2,    213.8,2,     -999,9,     2.20,2,     5.90,2,     0.01,2,     0.43,2,     -999,9,     -999,9,     -999,9,   2138.1,2,   2354.8,2,    516.7,2,   7.8675,2,    25.00,     -999,9,      0.4,2,     -999,9,     -999,9
33RO20230413  ,A16N       ,95      ,  2,950217     ,17         ,2,20230424,1045,  37.4984, -19.9958,     4849,    333.3,  13.6119,  35.7874,2,  35.7871,2,    197.0,2,     -999,9,     3.20,2,     9.30,2,     0.01,2,     0.63,2,     -999,9,     -999,9,     -999,9,   2151.0,2,   2344.8,2,    582.7,2,   7.8197,2,    25.00,     -999,9,      0.4,2,     -999,9,     -999,9
33RO20230413  ,A16N       ,95      ,  2,950216     ,16         ,2,20230424,1045,  37.4984, -19.9958,     4849,    433.1,  12.3404,  35.6052,2,  35.6108,2,    196.8,2,     -999,9,     4.30,2,    11.60,2,     0.01,2,     0.79,2,     -999,9,     -999,9,     -999,9,   2152.5,2,   2334.4,6,    636.4,2,   7.7870,6,    25.00,     -999,9,      0.3,2,     -999,9,     -999,9
33RO20230413  ,A16N       ,95      ,  2,950215     ,15         ,2,20230424,1045,  37.4984, -19.9958,     4849,    550.6,  11.3440,  35.5044,2,  35.5077,2,    191.0,2,     -999,9,     5.50,2,    13.90,2,     0.01,2,     0.91,2,     -999,9,     -999,9,     -999,9,   2161.9,2,   2328.4,2,    689.3,2,   7.7571,2,    25.00,     -999,9,      0.5,2,     -999,9,     -999,9
33RO20230413  ,A16N       ,95      ,  2,950214     ,14         ,2,20230424,1045,  37.4984, -19.9958,     4849,    699.5,  10.6423,  35.5344,2,  35.5304,2,    172.2,2,     -999,9,     7.90,2,    16.70,2,     0.00,2,     1.11,2,     -999,9,     -999,9,     -999,9,   2184.8,2,   2332.8,2,    737.1,2,   7.7325,2,    25.00,     -999,9,      0.5,2,     -999,9,     -999,9
33RO20230413  ,A16N       ,95      ,  2,950213     ,13         ,2,20230424,1045,  37.4984, -19.9958,     4849,    849.8,  10.6699,  35.7592,2,  35.7499,2,    165.4,2,     -999,9,     8.90,2,    17.00,2,     0.00,2,     1.12,2,     -999,9,     -999,9,     -999,9,   2196.7,2,   2352.0,2,    726.6,6,   7.7397,2,    25.00,     -999,9,      0.5,2,     -999,9,     -999,9
33RO20230413  ,A16N       ,95      ,  2,950212     ,12         ,2,20230424,1045,  37.4984, -19.9958,     4849,    999.9,  10.1032,  35.8333,2,  35.8370,2,    166.1,2,     -999,9,    10.00,2,    17.30,2,     0.00,2,     1.14,2,     -999,9,     -999,9,     -999,9,   2205.0,2,   2361.5,2,    725.8,2,   7.7414,2,    25.00,     -999,9,      0.6,2,     -999,9,     -999,9
33RO20230413  ,A16N       ,95      ,  2,950211     ,11         ,2,20230424,1045,  37.4984, -19.9958,     4849,   1166.5,   9.1094,  35.7770,2,  35.7837,2,    177.2,2,     -999,9,    10.70,2,    17.30,2,     0.00,2,     1.16,2,     -999,9,     -999,9,     -999,9,   2202.0,6,   2362.0,2,    730.5,2,   7.7387,2,    25.00,     -999,9,      0.7,2,     -999,9,     -999,9
33RO20230413  ,A16N       ,95      ,  2,950210     ,10         ,2,20230424,1045,  37.4984, -19.9958,     4849,   1399.5,   7.4099,  35.5273,2,  35.5228,2,    195.8,2,     -999,9,    11.40,2,    17.50,2,     0.00,2,     1.19,2,     -999,9,     -999,9,     -999,9,   2193.4,2,   2342.4,2,    749.4,2,   7.7274,2,    25.00,     -999,9,      0.7,2,     -999,9,     -999,9
33RO20230413  ,A16N       ,95      ,  2,950209     ,9          ,2,20230424,1045,  37.4984, -19.9958,     4849,   1733.3,   5.2806,  35.2119,2,  35.2127,2,    218.8,2,     -999,9,    12.80,2,    17.70,2,     0.00,2,     1.22,2,     -999,9,     -999,9,     -999,9,   2181.3,2,   2321.9,2,    763.8,2,   7.7161,2,    25.00,     -999,9,      0.8,2,     -999,9,     -999,9
33RO20230413  ,A16N       ,95      ,  2,950208     ,8          ,2,20230424,1045,  37.4984, -19.9958,     4849,   2133.0,   3.8659,  35.0223,2,  35.0241,6,    230.7,2,     -999,9,    16.40,2,    18.20,2,     0.00,2,     1.27,2,     -999,9,     -999,9,     -999,9,   2168.7,2,   2314.5,2,    759.9,2,   7.7174,2,    25.00,     -999,9,      1.0,2,     -999,9,     -999,9
33RO20230413  ,A16N       ,95      ,  2,950207     ,7          ,2,20230424,1045,  37.4984, -19.9958,     4849,   2533.1,   3.1921,  34.9583,2,  34.9624,2,    230.7,2,     -999,9,    22.00,2,    18.70,2,     0.00,2,     1.31,2,     -999,9,     -999,9,     -999,9,   2170.2,2,   2316.4,2,    758.6,2,   7.7170,2,    25.00,     -999,9,      1.0,2,     -999,9,     -999,9
33RO20230413  ,A16N       ,95      ,  2,950206     ,6          ,2,20230424,1045,  37.4984, -19.9958,     4849,   2933.9,   2.8534,  34.9393,2,  34.9411,2,    224.1,2,     -999,9,    29.80,2,    19.70,2,     0.00,2,     1.39,2,     -999,9,     -999,9,     -999,9,   2182.5,2,   2327.5,2,    760.2,2,   7.7197,2,    25.00,     -999,9,      0.9,2,     -999,9,     -999,9
33RO20230413  ,A16N       ,95      ,  2,950205     ,5          ,2,20230424,1045,  37.4984, -19.9958,     4849,   3333.5,   2.6569,  34.9229,2,  34.9419,2,    218.7,2,     -999,9,    36.50,2,    20.80,2,     0.00,2,     1.47,2,     -999,9,     -999,9,     -999,9,   2191.1,2,   2336.9,6,    765.2,2,   7.7169,6,    25.00,     -999,9,      1.0,2,     -999,9,     -999,9
33RO20230413  ,A16N       ,95      ,  2,950204     ,4          ,2,20230424,1045,  37.4984, -19.9958,     4849,   3732.8,   2.5745,  34.9131,2,  34.9181,2,    215.3,2,     -999,9,    40.90,6,    21.40,6,     0.00,6,     1.51,6,     -999,9,     -999,9,     -999,9,   2197.8,2,   2341.8,2,    764.3,2,   7.7177,2,    25.00,     -999,9,      1.0,2,     -999,9,     -999,9
33RO20230413  ,A16N       ,95      ,  2,950203     ,3          ,2,20230424,1045,  37.4984, -19.9958,     4849,   4133.7,   2.5334,  34.9054,2,  34.9068,2,    214.3,2,     -999,9,    43.30,6,    21.80,6,     0.00,6,     1.54,6,     -999,9,     -999,9,     -999,9,   2198.9,2,   2345.2,2,    761.5,2,   7.7184,2,    25.00,     -999,9,      0.9,2,     -999,9,     -999,9
33RO20230413  ,A16N       ,95      ,  2,950202     ,2          ,2,20230424,1045,  37.4984, -19.9958,     4849,   4534.1,   2.5055,  34.8981,2,  34.9227,2,    214.7,2,     -999,9,    44.90,6,    22.00,6,     0.00,6,     1.55,6,     -999,9,     -999,9,     -999,9,   2201.5,2,   2346.8,2,    761.2,2,   7.7196,2,    25.00,     -999,9,      0.9,2,     -999,9,     -999,9
33RO20230413  ,A16N       ,95      ,  2,950201     ,1          ,2,20230424,1045,  37.4984, -19.9958,     4849,   4926.7,   2.4719,  34.8899,2,  34.8937,2,    215.9,2,     -999,9,    46.70,6,    22.10,6,     0.01,6,     1.56,6,     -999,9,     -999,9,     -999,9,   2202.3,6,   2348.1,2,    760.5,2,   7.7186,2,    25.00,     -999,9,      0.9,6,     -999,9,     -999,9