BOTTLE,20240627CCHHYDRO
EXPOCODE,SECT_ID,STNNBR,CASTNO,SAMPNO,BTLNBR,BTLNBR_FLAG_W,DATE,TIME,LATITUDE,LONGITUDE,DEPTH,CTDPRS,CTDTMP,CTDSAL,CTDSAL_FLAG_W,SALNTY,SALNTY_FLAG_W,CTDOXY,CTDOXY_FLAG_W,OXYGEN,OXYGEN_FLAG_W,SILCAT,SILCAT_FLAG_W,NITRAT,NITRAT_FLAG_W,NITRIT,NITRIT_FLAG_W,PHSPHT,PHSPHT_FLAG_W,CFC-11,CFC-11_FLAG_W,CFC-12,CFC-12_FLAG_W,SF6,SF6_FLAG_W,TCARBN,TCARBN_FLAG_W,ALKALI,ALKALI_FLAG_W,FCO2,FCO2_FLAG_W,PH_TOT,PH_TOT_FLAG_W,PH_TMP,DOC,DOC_FLAG_W,DELC13,DELC13_FLAG_W,TDN,TDN_FLAG_W,N2O,N2O_FLAG_W
,,,,,,,,,,,METERS,DBAR,ITS-90,PSS-78,,PSS-78,,UMOL/KG,,UMOL/KG,,UMOL/KG,,UMOL/KG,,UMOL/KG,,UMOL/KG,,PMOL/KG,,PMOL/KG,,FMOL/KG,,UMOL/KG,,UMOL/KG,,UATM,,,,DEG C,UMOL/KG,,/MILLE,,UMOL/KG,,NMOL/KG,
33RO20230413  ,A16N       ,98      ,  2,980224     ,24         ,2,20230425,1452,  38.9993, -19.9934,     4716,      4.5,  17.0179,  36.0528,2,  36.0547,2,    226.2,2,    241.7,2,     0.90,2,     0.00,2,     0.01,2,     0.05,2,     -999,9,     -999,9,     -999,9,   2117.3,2,   2363.6,2,    431.8,2,   7.9326,2,    25.00,     -999,9,      0.7,6,     -999,9,     -999,9
33RO20230413  ,A16N       ,98      ,  2,980223     ,23         ,2,20230425,1452,  38.9993, -19.9934,     4716,     33.7,  16.7881,  36.0418,2,  36.0443,2,    227.5,2,    242.9,6,     1.00,2,     0.00,2,     0.01,2,     0.05,2,     -999,9,     -999,9,     -999,9,   2113.2,2,   2362.0,2,    433.2,2,   7.9291,2,    25.00,     -999,9,      0.9,2,     -999,9,     -999,9
33RO20230413  ,A16N       ,98      ,  2,980222     ,22         ,2,20230425,1452,  38.9993, -19.9934,     4716,     59.3,  15.8017,  36.0428,2,  36.0432,2,    233.3,2,    249.6,2,     1.30,2,     0.20,2,     0.12,2,     0.09,2,     -999,9,     -999,9,     -999,9,   2116.8,2,   2362.5,2,    441.4,2,   7.9252,2,    25.00,     -999,9,      0.8,2,     -999,9,     -999,9
33RO20230413  ,A16N       ,98      ,  2,980221     ,21         ,2,20230425,1452,  38.9993, -19.9934,     4716,     83.5,  15.3525,  36.0386,2,  36.0479,2,    223.5,2,    238.2,2,     1.30,2,     1.90,2,     0.41,2,     0.20,2,     -999,9,     -999,9,     -999,9,   2129.0,2,   2361.9,2,    471.8,2,   7.9009,2,    25.00,     -999,9,      0.5,2,     -999,9,     -999,9
33RO20230413  ,A16N       ,98      ,  2,980220     ,20         ,2,20230425,1452,  38.9993, -19.9934,     4716,    108.6,  15.2133,  36.0339,2,  36.0363,2,    219.3,2,    234.3,2,     1.50,2,     3.10,2,     0.04,2,     0.23,2,     -999,9,     -999,9,     -999,9,   2132.5,2,   2361.1,2,    481.8,2,   7.8927,2,    25.00,     -999,9,      0.6,2,     -999,9,     -999,9
33RO20230413  ,A16N       ,98      ,  2,980219     ,19         ,2,20230425,1452,  38.9993, -19.9934,     4716,    141.9,  14.8374,  35.9702,2,  35.9408,2,    215.1,2,    229.5,2,     1.90,2,     4.50,2,     0.03,2,     0.32,2,     -999,9,     -999,9,     -999,9,   2136.6,2,   2356.3,2,    503.1,2,   7.8777,2,    25.00,     -999,9,      0.5,2,     -999,9,     -999,9
33RO20230413  ,A16N       ,98      ,  2,980218     ,18         ,2,20230425,1452,  38.9993, -19.9934,     4716,    199.9,  14.0427,  35.8474,2,  35.8529,2,    214.5,2,    229.8,2,     2.10,2,     5.70,2,     0.03,2,     0.41,2,     -999,9,     -999,9,     -999,9,   2140.9,2,   2350.6,2,    533.1,2,   7.8548,2,    25.00,     -999,9,      0.5,2,     -999,9,     -999,9
33RO20230413  ,A16N       ,98      ,  2,980217     ,17         ,2,20230425,1452,  38.9993, -19.9934,     4716,    275.3,  13.2889,  35.7304,2,  35.7348,2,    207.1,2,    222.5,2,     3.50,2,     8.30,2,     0.02,2,     0.55,2,     -999,9,     -999,9,     -999,9,   2151.4,2,   2340.3,2,    577.7,2,   7.8243,2,    25.00,     -999,9,      0.3,2,     -999,9,     -999,9
33RO20230413  ,A16N       ,98      ,  2,980216     ,16         ,2,20230425,1452,  38.9993, -19.9934,     4716,    349.9,  12.5976,  35.6432,2,  35.6437,2,    200.9,2,    215.4,2,     3.60,2,    10.20,2,     0.02,2,     0.66,2,     -999,9,     -999,9,     -999,9,   2158.4,2,   2336.3,2,    623.2,2,   7.7962,2,    25.00,     -999,9,      0.3,2,     -999,9,     -999,9
33RO20230413  ,A16N       ,98      ,  2,980215     ,15         ,2,20230425,1452,  38.9993, -19.9934,     4716,    433.0,  11.8333,  35.5586,2,  35.5611,2,    199.5,2,    215.2,2,     4.20,2,    11.80,2,     0.02,2,     0.77,2,     -999,9,     -999,9,     -999,9,   2165.3,2,   2331.9,2,    660.9,2,   7.7718,2,    25.00,     -999,9,      0.3,2,     -999,9,     -999,9
33RO20230413  ,A16N       ,98      ,  2,980214     ,14         ,2,20230425,1452,  38.9993, -19.9934,     4716,    545.5,  11.1459,  35.5013,2,  35.5037,6,    193.1,2,    208.1,2,     5.50,2,    13.80,2,     0.01,2,     0.89,2,     -999,9,     -999,9,     -999,9,   2174.9,2,   2329.3,2,    698.3,2,   7.7501,2,    25.00,     -999,9,      0.3,2,     -999,9,     -999,9
33RO20230413  ,A16N       ,98      ,  2,980213     ,13         ,2,20230425,1452,  38.9993, -19.9934,     4716,    700.8,  10.9524,  35.6682,2,  35.6705,2,    168.3,2,    181.6,2,     7.80,2,    16.40,2,     0.01,2,     1.04,2,     -999,9,     -999,9,     -999,9,   2191.5,2,   2344.4,6,    724.5,2,   7.7390,6,    25.00,     -999,9,      0.5,2,     -999,9,     -999,9
33RO20230413  ,A16N       ,98      ,  2,980212     ,12         ,2,20230425,1452,  38.9993, -19.9934,     4716,    850.0,  10.4631,  35.7722,2,  35.7754,2,    166.1,2,    179.6,2,     9.10,2,    16.80,2,     0.01,2,     1.08,2,     -999,9,     -999,9,     -999,9,   2200.1,6,   2356.5,2,    727.6,2,   7.7398,2,    25.00,     -999,9,      0.5,2,     -999,9,     -999,9
33RO20230413  ,A16N       ,98      ,  2,980211     ,11         ,2,20230425,1452,  38.9993, -19.9934,     4716,   1000.6,  10.0376,  35.8600,2,  35.8637,2,    168.7,2,    182.5,2,     9.80,2,    16.80,2,     0.01,2,     1.08,2,     -999,9,     -999,9,     -999,9,   2206.4,2,   2363.1,2,    723.8,2,   7.7433,2,    25.00,     -999,9,      0.6,2,     -999,9,     -999,9
33RO20230413  ,A16N       ,98      ,  2,980210     ,10         ,2,20230425,1452,  38.9993, -19.9934,     4716,   1163.5,   8.6801,  35.6766,2,  35.6853,2,    181.5,2,    198.4,2,    11.00,2,    17.30,2,     0.01,2,     1.13,2,     -999,9,     -999,9,     -999,9,   2202.6,2,   2354.2,2,    744.3,2,   7.7309,2,    25.00,     -999,9,      0.7,2,     -999,9,     -999,9
33RO20230413  ,A16N       ,98      ,  2,980209     ,9          ,2,20230425,1452,  38.9993, -19.9934,     4716,   1400.3,   6.5712,  35.3731,2,  35.3782,2,    207.0,2,    225.9,2,    11.40,2,    17.40,2,     0.01,2,     1.15,2,     -999,9,     -999,9,     -999,9,   2189.9,2,   2332.1,2,    766.7,2,   7.7156,2,    25.00,     -999,9,      0.7,2,     -999,9,     -999,9
33RO20230413  ,A16N       ,98      ,  2,980208     ,8          ,2,20230425,1452,  38.9993, -19.9934,     4716,   1733.2,   4.7781,  35.1114,2,  35.1174,2,    227.2,2,    250.6,2,    12.50,2,    17.40,2,     0.01,2,     1.18,2,     -999,9,     -999,9,     -999,9,   2176.1,2,   2313.0,2,    775.9,2,   7.7084,2,    25.00,     -999,9,      0.7,2,     -999,9,     -999,9
33RO20230413  ,A16N       ,98      ,  2,980207     ,7          ,2,20230425,1452,  38.9993, -19.9934,     4716,   2133.7,   3.7691,  34.9914,2,  34.9985,2,    234.6,2,    259.3,2,    15.30,2,    17.70,2,     0.01,2,     1.20,2,     -999,9,     -999,9,     -999,9,   2172.5,2,   -999.0,9,    768.5,2,   7.7128,2,    25.00,     -999,9,      0.9,2,     -999,9,     -999,9
33RO20230413  ,A16N       ,98      ,  2,980206     ,6          ,2,20230425,1452,  38.9993, -19.9934,     4716,   2534.0,   3.2079,  34.9561,2,  34.9594,2,    231.9,2,    257.6,2,    21.50,2,    18.40,2,     0.01,2,     1.27,2,     -999,9,     -999,9,     -999,9,   2176.0,2,   2316.5,6,    762.8,2,   7.7152,6,    25.00,     -999,9,      0.9,2,     -999,9,     -999,9
33RO20230413  ,A16N       ,98      ,  2,980205     ,5          ,2,20230425,1452,  38.9993, -19.9934,     4716,   2934.1,   2.8567,  34.9386,2,  34.9431,2,    225.3,2,    252.0,2,    29.30,2,    19.50,2,     0.01,2,     1.34,2,     -999,9,     -999,9,     -999,9,   2184.0,2,   2326.0,2,    763.1,2,   7.7171,2,    25.00,     -999,9,      0.9,2,     -999,9,     -999,9
33RO20230413  ,A16N       ,98      ,  2,980204     ,4          ,2,20230425,1452,  38.9993, -19.9934,     4716,   3333.8,   2.6657,  34.9244,2,  34.9260,2,    218.7,2,    245.7,2,    36.40,2,    20.70,2,     0.01,2,     1.42,2,     -999,9,     -999,9,     -999,9,   2192.3,2,   2335.5,2,    763.6,2,   7.7180,2,    25.00,     -999,9,      0.8,2,     -999,9,     -999,9
33RO20230413  ,A16N       ,98      ,  2,980203     ,3          ,2,20230425,1452,  38.9993, -19.9934,     4716,   3735.4,   2.5949,  34.9150,2,  34.9217,2,    215.6,2,    252.4,3,    40.20,2,    21.30,2,     0.01,2,     1.46,2,     -999,9,     -999,9,     -999,9,   2198.8,2,   2343.4,2,    764.7,6,   7.7181,2,    25.00,     -999,9,      1.0,2,     -999,9,     -999,9
33RO20230413  ,A16N       ,98      ,  2,980202     ,2          ,2,20230425,1452,  38.9993, -19.9934,     4716,   4133.8,   2.5387,  34.9056,2,  34.9123,2,    214.5,2,    242.0,2,    43.00,2,    21.60,2,     0.01,2,     1.49,2,     -999,9,     -999,9,     -999,9,   2201.4,2,   2343.0,2,    763.2,2,   7.7217,2,    25.00,     -999,9,      0.9,2,     -999,9,     -999,9
33RO20230413  ,A16N       ,98      ,  2,980201     ,1          ,2,20230425,1452,  38.9993, -19.9934,     4716,   4809.5,   2.5125,  34.8949,2,  34.8999,2,    215.2,2,    241.1,6,    45.70,2,    22.00,2,     0.01,2,     1.52,2,     -999,9,     -999,9,     -999,9,   2206.1,6,   2349.7,2,    760.1,2,   7.7186,2,    25.00,     -999,9,      0.9,6,     -999,9,     -999,9
33RO20230413  ,A16N       ,99      ,  2,990224     ,24         ,2,20230425,2217,  39.5005, -19.9950,     4657,      5.2,  16.5812,  35.9916,2,  35.9924,2,    230.4,2,     -999,9,     0.80,2,     0.00,2,     0.01,2,     0.04,2,     -999,9,     -999,9,     -999,9,   2112.8,6,   2361.8,2,    429.6,2,   7.9320,2,    25.00,     -999,9,      0.8,6,     -999,9,     -999,9
33RO20230413  ,A16N       ,99      ,  2,990223     ,23         ,2,20230425,2217,  39.5005, -19.9950,     4657,     20.4,  16.5376,  35.9975,2,  35.9992,2,    231.1,2,     -999,9,     0.90,2,     0.00,2,     0.01,2,     0.04,2,     -999,9,     -999,9,     -999,9,   2114.3,2,   2362.1,6,    430.7,2,   7.9323,6,    25.00,     -999,9,      0.8,2,     -999,9,     -999,9
33RO20230413  ,A16N       ,99      ,  2,990222     ,22         ,2,20230425,2217,  39.5005, -19.9950,     4657,     42.7,  15.6912,  35.9879,2,  35.9887,2,    235.3,2,     -999,9,     1.10,2,     0.10,2,     0.08,2,     0.07,2,     -999,9,     -999,9,     -999,9,   2116.0,2,   2361.0,2,    445.0,2,   7.9222,2,    25.00,     -999,9,      0.8,2,     -999,9,     -999,9
33RO20230413  ,A16N       ,99      ,  2,990221     ,21         ,2,20230425,2217,  39.5005, -19.9950,     4657,     68.5,  15.1114,  35.9787,2,  35.9803,2,    228.9,2,     -999,9,     1.00,2,     1.00,2,     0.57,2,     0.15,2,     -999,9,     -999,9,     -999,9,   2129.3,2,   2360.1,2,    470.7,2,   7.9000,2,    25.00,     -999,9,      0.7,2,     -999,9,     -999,9
33RO20230413  ,A16N       ,99      ,  2,990220     ,20         ,2,20230425,2217,  39.5005, -19.9950,     4657,     92.4,  14.9159,  35.9657,2,  35.9670,2,    224.5,2,     -999,9,     1.10,2,     1.80,2,     0.67,2,     0.19,2,     -999,9,     -999,9,     -999,9,   2133.7,2,   2359.1,2,    483.9,2,   7.8900,2,    25.00,     -999,9,      0.7,2,     -999,9,     -999,9
33RO20230413  ,A16N       ,99      ,  2,990219     ,19         ,2,20230425,2217,  39.5005, -19.9950,     4657,    133.3,  14.4060,  35.9064,2,  35.9070,2,    222.1,2,     -999,9,     1.40,2,     3.70,2,     0.03,2,     0.27,2,     -999,9,     -999,9,     -999,9,   2138.8,2,   2353.8,2,    504.9,2,   7.8731,2,    25.00,     -999,9,      0.6,2,     -999,9,     -999,9
33RO20230413  ,A16N       ,99      ,  2,990218     ,18         ,2,20230425,2217,  39.5005, -19.9950,     4657,    200.4,  13.7606,  35.8012,2,  35.8039,2,    214.6,2,     -999,9,     2.10,2,     6.30,2,     0.02,2,     0.42,2,     -999,9,     -999,9,     -999,9,   2143.5,2,   2347.6,6,    544.1,2,   7.8458,6,    25.00,     -999,9,      0.6,2,     -999,9,     -999,9
33RO20230413  ,A16N       ,99      ,  2,990217     ,17         ,2,20230425,2217,  39.5005, -19.9950,     4657,    276.0,  12.8823,  35.6772,2,  35.6795,2,    203.3,2,     -999,9,     3.00,2,     9.50,2,     0.02,2,     0.60,2,     -999,9,     -999,9,     -999,9,   2157.1,2,   2339.4,2,    603.4,2,   7.8072,2,    25.00,     -999,9,      0.4,2,     -999,9,     -999,9
33RO20230413  ,A16N       ,99      ,  2,990216     ,16         ,2,20230425,2217,  39.5005, -19.9950,     4657,    367.0,  12.1705,  35.5926,2,  35.5940,2,    200.4,2,     -999,9,     4.20,2,    11.10,2,     0.01,2,     0.70,2,     -999,9,     -999,9,     -999,9,   2165.3,2,   2335.8,2,    643.5,2,   7.7816,2,    25.00,     -999,9,      0.4,2,     -999,9,     -999,9
33RO20230413  ,A16N       ,99      ,  2,990215     ,15         ,2,20230425,2217,  39.5005, -19.9950,     4657,    468.1,  11.5874,  35.5347,2,  35.5297,6,    197.9,2,     -999,9,     4.30,2,    12.60,2,     0.01,2,     0.79,2,     -999,9,     -999,9,     -999,9,   2172.2,2,   2332.3,2,    674.6,2,   7.7647,2,    25.00,     -999,9,      0.3,2,     -999,9,     -999,9
33RO20230413  ,A16N       ,99      ,  2,990214     ,14         ,2,20230425,2217,  39.5005, -19.9950,     4657,    601.2,  11.0734,  35.5434,2,  35.5405,2,    180.2,2,     -999,9,     6.10,2,    15.20,2,     0.01,2,     0.96,2,     -999,9,     -999,9,     -999,9,   2182.7,2,   2334.0,2,    715.2,6,   7.7414,2,    25.00,     -999,9,      0.5,2,     -999,9,     -999,9
33RO20230413  ,A16N       ,99      ,  2,990213     ,13         ,2,20230425,2217,  39.5005, -19.9950,     4657,    751.4,  11.0367,  35.7477,2,  35.7481,2,    168.0,2,     -999,9,     7.60,2,    16.00,2,     0.01,2,     1.02,2,     -999,9,     -999,9,     -999,9,   2197.2,2,   2351.9,2,    718.0,2,   7.7436,2,    25.00,     -999,9,      0.6,2,     -999,9,     -999,9
33RO20230413  ,A16N       ,99      ,  2,990212     ,12         ,2,20230425,2217,  39.5005, -19.9950,     4657,    900.8,  10.8081,  35.8935,2,  35.8942,2,    163.2,2,     -999,9,     8.90,2,    16.60,2,     0.01,2,     1.05,2,     -999,9,     -999,9,     -999,9,   2205.1,6,   2365.7,2,    715.3,2,   7.7476,2,    25.00,     -999,9,      0.5,2,     -999,9,     -999,9
33RO20230413  ,A16N       ,99      ,  2,990211     ,11         ,2,20230425,2217,  39.5005, -19.9950,     4657,   1051.2,  10.0964,  35.8809,2,  35.8779,2,    166.8,2,     -999,9,     9.80,2,    17.00,2,     0.00,2,     1.08,2,     -999,9,     -999,9,     -999,9,   2210.6,2,   2364.3,2,    722.3,2,   7.7429,2,    25.00,     -999,9,      0.7,2,     -999,9,     -999,9
33RO20230413  ,A16N       ,99      ,  2,990210     ,10         ,2,20230425,2217,  39.5005, -19.9950,     4657,   1233.5,   8.8896,  35.7580,2,  35.7588,2,    180.9,2,     -999,9,    10.30,2,    17.00,2,     0.01,2,     1.09,2,     -999,9,     -999,9,     -999,9,   2207.7,2,   2358.6,2,    732.9,2,   7.7373,2,    25.00,     -999,9,      0.7,2,     -999,9,     -999,9
33RO20230413  ,A16N       ,99      ,  2,990209     ,9          ,2,20230425,2217,  39.5005, -19.9950,     4657,   1501.6,   6.0580,  35.2925,2,  35.2947,2,    212.9,2,     -999,9,    11.20,2,    17.40,2,     0.01,2,     1.15,2,     -999,9,     -999,9,     -999,9,   2188.1,2,   2327.5,2,    771.8,2,   7.7116,2,    25.00,     -999,9,      0.7,2,     -999,9,     -999,9
33RO20230413  ,A16N       ,99      ,  2,990208     ,8          ,2,20230425,2217,  39.5005, -19.9950,     4657,   1866.9,   4.5455,  35.0884,2,  35.0861,6,    228.3,2,     -999,9,    13.00,2,    17.60,2,     0.01,2,     1.18,2,     -999,9,     -999,9,     -999,9,   2179.4,2,   2313.4,2,    771.8,2,   7.7101,2,    25.00,     -999,9,      0.9,2,     -999,9,     -999,9
33RO20230413  ,A16N       ,99      ,  2,990207     ,7          ,2,20230425,2217,  39.5005, -19.9950,     4657,   2266.9,   3.5385,  34.9733,2,  34.9755,2,    234.9,2,     -999,9,    16.70,2,    17.90,2,     0.01,2,     1.21,2,     -999,9,     -999,9,     -999,9,   2174.1,2,   2310.9,2,    765.4,2,   7.7118,2,    25.00,     -999,9,      0.9,2,     -999,9,     -999,9
33RO20230413  ,A16N       ,99      ,  2,990206     ,6          ,2,20230425,2217,  39.5005, -19.9950,     4657,   2667.0,   3.0881,  34.9543,2,  34.9538,2,    228.7,2,     -999,9,    24.20,2,    18.90,2,     0.00,2,     1.29,2,     -999,9,     -999,9,     -999,9,   2180.0,2,   2321.7,2,    758.3,2,   7.7172,2,    25.00,     -999,9,      1.0,2,     -999,9,     -999,9
33RO20230413  ,A16N       ,99      ,  2,990205     ,5          ,2,20230425,2217,  39.5005, -19.9950,     4657,   3068.1,   2.7914,  34.9360,2,  34.9408,2,    222.0,2,     -999,9,    31.90,2,    20.00,2,     0.00,2,     1.38,2,     -999,9,     -999,9,     -999,9,   2187.6,2,   2331.1,2,    758.9,2,   7.7203,2,    25.00,     -999,9,      1.0,2,     -999,9,     -999,9
33RO20230413  ,A16N       ,99      ,  2,990204     ,4          ,2,20230425,2217,  39.5005, -19.9950,     4657,   3467.1,   2.6385,  34.9216,2,  34.9233,2,    217.7,2,     -999,9,    38.00,6,    20.90,6,     0.01,6,     1.44,6,     -999,9,     -999,9,     -999,9,   2194.5,2,   2338.5,2,    761.1,2,   7.7179,2,    25.00,     -999,9,      1.0,2,     -999,9,     -999,9
33RO20230413  ,A16N       ,99      ,  2,990203     ,3          ,2,20230425,2217,  39.5005, -19.9950,     4657,   3868.3,   2.5534,  34.9104,2,  34.9122,2,    215.3,2,     -999,9,    41.80,6,    21.50,6,     0.01,6,     1.48,6,     -999,9,     -999,9,     -999,9,   2201.0,2,   2342.5,2,    761.1,2,   7.7180,2,    25.00,     -999,9,      0.9,2,     -999,9,     -999,9
33RO20230413  ,A16N       ,99      ,  2,990202     ,2          ,2,20230425,2217,  39.5005, -19.9950,     4657,   4220.2,   2.5077,  34.9021,2,  34.9089,2,    215.0,2,     -999,9,    43.70,6,    21.80,6,     0.02,6,     1.50,6,     -999,9,     -999,9,     -999,9,   2201.6,2,   2345.1,2,    760.3,2,   7.7206,2,    25.00,     -999,9,      0.9,2,     -999,9,     -999,9
33RO20230413  ,A16N       ,99      ,  2,990201     ,1          ,2,20230425,2217,  39.5005, -19.9950,     4657,   4719.3,   2.5056,  34.8957,2,  34.8975,6,    215.5,2,     -999,9,    45.40,6,    22.00,6,     0.02,6,     1.52,6,     -999,9,     -999,9,     -999,9,   2205.6,6,   2347.6,2,    758.1,2,   7.7191,2,    25.00,     -999,9,      1.0,6,     -999,9,     -999,9