BOTTLE,20240627CCHHYDRO
EXPOCODE,SECT_ID,STNNBR,CASTNO,SAMPNO,BTLNBR,BTLNBR_FLAG_W,DATE,TIME,LATITUDE,LONGITUDE,DEPTH,CTDPRS,CTDTMP,CTDSAL,CTDSAL_FLAG_W,SALNTY,SALNTY_FLAG_W,CTDOXY,CTDOXY_FLAG_W,OXYGEN,OXYGEN_FLAG_W,SILCAT,SILCAT_FLAG_W,NITRAT,NITRAT_FLAG_W,NITRIT,NITRIT_FLAG_W,PHSPHT,PHSPHT_FLAG_W,CFC-11,CFC-11_FLAG_W,CFC-12,CFC-12_FLAG_W,SF6,SF6_FLAG_W,TCARBN,TCARBN_FLAG_W,ALKALI,ALKALI_FLAG_W,FCO2,FCO2_FLAG_W,PH_TOT,PH_TOT_FLAG_W,PH_TMP,DOC,DOC_FLAG_W,DELC13,DELC13_FLAG_W,TDN,TDN_FLAG_W,N2O,N2O_FLAG_W
,,,,,,,,,,,METERS,DBAR,ITS-90,PSS-78,,PSS-78,,UMOL/KG,,UMOL/KG,,UMOL/KG,,UMOL/KG,,UMOL/KG,,UMOL/KG,,PMOL/KG,,PMOL/KG,,FMOL/KG,,UMOL/KG,,UMOL/KG,,UATM,,,,DEG C,UMOL/KG,,/MILLE,,UMOL/KG,,NMOL/KG,
33RO20230413  ,A16N       ,112     ,  2,1120224    ,24         ,2,20230429,1257,  45.9971, -19.9976,     4900,      3.8,  14.2297,  35.7151,2,  35.7187,9,    250.7,2,     -999,9,     2.40,2,     3.20,2,     0.12,2,     0.27,2,     -999,9,     -999,9,     -999,9,   2115.8,6,   2348.1,2,    461.3,2,   7.9038,2,    25.00,     -999,9,      0.7,6,     -999,9,     -999,9
33RO20230413  ,A16N       ,112     ,  2,1120223    ,23         ,2,20230429,1257,  45.9971, -19.9976,     4900,     25.2,  13.7097,  35.7201,2,  35.7359,2,    244.5,2,     -999,9,     2.60,2,     4.60,2,     0.21,2,     0.35,2,     -999,9,     -999,9,     -999,9,   2130.4,2,   2347.1,2,    496.7,2,   7.8805,2,    25.00,     -999,9,      0.4,2,     -999,9,     -999,9
33RO20230413  ,A16N       ,112     ,  2,1120222    ,22         ,2,20230429,1257,  45.9971, -19.9976,     4900,     44.5,  13.4483,  35.7323,2,  -9.0000,2,    239.5,2,     -999,9,     2.60,2,     5.20,2,     0.30,2,     0.39,2,     -999,9,     -999,9,     -999,9,   2134.3,2,   2346.6,2,    511.6,6,   7.8660,2,    25.00,     -999,9,      0.6,2,     -999,9,     -999,9
33RO20230413  ,A16N       ,112     ,  2,1120221    ,21         ,2,20230429,1257,  45.9971, -19.9976,     4900,     75.5,  13.3481,  35.7283,2,  35.7873,2,    236.3,2,     -999,9,     2.70,2,     5.70,2,     0.44,2,     0.42,2,     -999,9,     -999,9,     -999,9,   2137.5,2,   2345.9,2,    521.5,2,   7.8596,2,    25.00,     -999,9,      0.4,2,     -999,9,     -999,9
33RO20230413  ,A16N       ,112     ,  2,1120220    ,20         ,2,20230429,1257,  45.9971, -19.9976,     4900,    100.8,  13.3158,  35.7414,2,  35.7447,2,    234.4,2,     -999,9,     2.70,2,     6.10,2,     0.32,2,     0.43,2,     -999,9,     -999,9,     -999,9,   2137.8,2,   2347.8,6,    527.6,2,   7.8553,6,    25.00,     -999,9,      0.4,2,     -999,9,     -999,9
33RO20230413  ,A16N       ,112     ,  2,1120219    ,19         ,2,20230429,1257,  45.9971, -19.9976,     4900,    149.5,  13.3162,  35.7539,2,  35.7506,2,    233.5,2,     -999,9,     2.50,2,     6.20,2,     0.16,2,     0.42,2,     -999,9,     -999,9,     -999,9,   2138.5,2,   2345.7,2,    528.1,2,   7.8559,2,    25.00,     -999,9,      0.5,2,     -999,9,     -999,9
33RO20230413  ,A16N       ,112     ,  2,1120218    ,18         ,2,20230429,1257,  45.9971, -19.9976,     4900,    224.2,  13.2078,  35.7354,2,  35.7472,2,    229.5,2,     -999,9,     2.70,2,     6.80,2,     0.07,2,     0.46,2,     -999,9,     -999,9,     -999,9,   2139.4,2,   2345.9,2,    537.8,2,   7.8472,2,    25.00,     -999,9,      0.4,2,     -999,9,     -999,9
33RO20230413  ,A16N       ,112     ,  2,1120217    ,17         ,2,20230429,1257,  45.9971, -19.9976,     4900,    300.6,  12.6332,  35.6344,2,  35.6363,2,    215.8,2,     -999,9,     3.70,2,     9.30,2,     0.01,2,     0.61,2,     -999,9,     -999,9,     -999,9,   2150.4,2,   2333.2,2,    585.0,2,   7.8180,2,    25.00,     -999,9,      0.5,2,     -999,9,     -999,9
33RO20230413  ,A16N       ,112     ,  2,1120216    ,16         ,2,20230429,1257,  45.9971, -19.9976,     4900,    399.2,  11.8522,  35.5224,2,  35.5312,2,    203.5,2,     -999,9,     4.90,2,    11.80,2,     0.01,2,     0.77,2,     -999,9,     -999,9,     -999,9,   2160.6,2,   2333.3,2,    641.2,2,   7.7829,2,    25.00,     -999,9,      0.4,2,     -999,9,     -999,9
33RO20230413  ,A16N       ,112     ,  2,1120215    ,15         ,2,20230429,1257,  45.9971, -19.9976,     4900,    500.5,  11.2310,  35.4464,2,  35.4482,2,    193.5,2,     -999,9,     6.20,2,    13.90,2,     0.01,2,     0.90,2,     -999,9,     -999,9,     -999,9,   2168.9,2,   2328.8,2,    685.9,2,   7.7567,2,    25.00,     -999,9,      0.4,2,     -999,9,     -999,9
33RO20230413  ,A16N       ,112     ,  2,1120214    ,14         ,2,20230429,1257,  45.9971, -19.9976,     4900,    650.2,  10.3146,  35.3780,2,  35.3827,2,    179.6,2,     -999,9,     8.00,2,    16.50,2,     0.00,2,     1.06,2,     -999,9,     -999,9,     -999,9,   2178.7,6,   2325.0,2,    746.7,2,   7.7228,2,    25.00,     -999,9,      0.4,2,     -999,9,     -999,9
33RO20230413  ,A16N       ,112     ,  2,1120213    ,13         ,2,20230429,1257,  45.9971, -19.9976,     4900,    800.4,   8.9512,  35.3261,2,  35.3309,2,    171.8,2,     -999,9,    10.40,2,    18.50,2,     0.01,2,     1.21,2,     -999,9,     -999,9,     -999,9,   2190.6,2,   2325.6,2,    802.8,2,   7.6992,2,    25.00,     -999,9,      0.4,2,     -999,9,     -999,9
33RO20230413  ,A16N       ,112     ,  2,1120212    ,12         ,2,20230429,1257,  45.9971, -19.9976,     4900,    949.9,   7.5047,  35.2742,2,  35.2789,2,    186.0,2,     -999,9,    11.20,2,    18.70,2,     0.00,2,     1.22,2,     -999,9,     -999,9,     -999,9,   2192.6,2,   2325.3,2,    815.1,2,   7.6908,2,    25.00,     -999,9,      0.5,2,     -999,9,     -999,9
33RO20230413  ,A16N       ,112     ,  2,1120211    ,11         ,2,20230429,1257,  45.9971, -19.9976,     4900,   1100.9,   6.3093,  35.1674,2,  35.2115,2,    203.7,2,     -999,9,    11.20,2,    18.40,2,     0.00,2,     1.22,2,     -999,9,     -999,9,     -999,9,   2188.3,2,   2317.9,2,    822.9,2,   7.6866,2,    25.00,     -999,9,      0.6,2,     -999,9,     -999,9
33RO20230413  ,A16N       ,112     ,  2,1120210    ,10         ,2,20230429,1257,  45.9971, -19.9976,     4900,   1300.3,   4.8791,  35.0193,2,  35.0248,2,    228.5,2,     -999,9,    11.30,2,    17.90,2,     0.00,2,     1.19,2,     -999,9,     -999,9,     -999,9,   2181.4,2,   2306.6,6,    823.3,2,   7.6837,6,    25.00,     -999,9,      0.6,2,     -999,9,     -999,9
33RO20230413  ,A16N       ,112     ,  2,1120209    ,9          ,2,20230429,1257,  45.9971, -19.9976,     4900,   1600.7,   3.9502,  34.9210,2,  34.9251,2,    246.7,2,     -999,9,    10.70,2,    17.10,2,     0.00,2,     1.15,2,     -999,9,     -999,9,     -999,9,   2172.0,2,   2300.5,2,    817.4,2,   7.6873,2,    25.00,     -999,9,      0.6,2,     -999,9,     -999,9
33RO20230413  ,A16N       ,112     ,  2,1120208    ,8          ,2,20230429,1257,  45.9971, -19.9976,     4900,   1999.5,   3.6576,  34.9151,2,  34.9511,2,    247.4,2,     -999,9,    11.60,2,    16.90,2,     0.00,2,     1.14,2,     -999,9,     -999,9,     -999,9,   2169.7,2,   2298.5,2,    801.3,2,   7.6945,2,    25.00,     -999,9,      0.8,2,     -999,9,     -999,9
33RO20230413  ,A16N       ,112     ,  2,1120207    ,7          ,2,20230429,1257,  45.9971, -19.9976,     4900,   2400.1,   3.3745,  34.9294,2,  34.9364,2,    241.2,2,     -999,9,    14.70,2,    17.10,2,     0.00,2,     1.17,2,     -999,9,     -999,9,     -999,9,   2169.6,2,   2304.9,2,    786.9,2,   7.7011,2,    25.00,     -999,9,      0.8,2,     -999,9,     -999,9
33RO20230413  ,A16N       ,112     ,  2,1120206    ,6          ,2,20230429,1257,  45.9971, -19.9976,     4900,   2801.2,   3.1055,  34.9375,2,  34.9433,2,    236.7,2,     -999,9,    18.80,2,    17.60,2,     0.01,2,     1.20,2,     -999,9,     -999,9,     -999,9,   2174.5,2,   2311.5,2,    781.4,2,   7.7038,2,    25.00,     -999,9,      0.8,2,     -999,9,     -999,9
33RO20230413  ,A16N       ,112     ,  2,1120205    ,5          ,2,20230429,1257,  45.9971, -19.9976,     4900,   3201.4,   2.8665,  34.9383,2,  34.9455,2,    226.9,2,     -999,9,    27.60,2,    18.90,2,     0.01,2,     1.30,2,     -999,9,     -999,9,     -999,9,   2184.2,2,   2322.6,2,    776.0,2,   7.7070,2,    25.00,     -999,9,      0.9,2,     -999,9,     -999,9
33RO20230413  ,A16N       ,112     ,  2,1120204    ,4          ,2,20230429,1257,  45.9971, -19.9976,     4900,   3650.2,   2.6489,  34.9206,2,  34.9219,2,    216.8,2,     -999,9,    38.10,2,    20.90,2,     0.00,2,     1.44,2,     -999,9,     -999,9,     -999,9,   2198.3,2,   2337.9,2,    770.6,2,   7.7116,2,    25.00,     -999,9,      0.9,2,     -999,9,     -999,9
33RO20230413  ,A16N       ,112     ,  2,1120203    ,3          ,2,20230429,1257,  45.9971, -19.9976,     4900,   4000.2,   2.5773,  34.9108,2,  34.9141,6,    213.0,2,     -999,9,    42.50,2,    21.70,2,     0.00,2,     1.49,2,     -999,9,     -999,9,     -999,9,   2202.9,6,   2345.5,2,    768.3,2,   7.7143,2,    25.00,     -999,9,      0.9,2,     -999,9,     -999,9
33RO20230413  ,A16N       ,112     ,  2,1120202    ,2          ,2,20230429,1257,  45.9971, -19.9976,     4900,   4497.3,   2.5841,  34.9057,2,  34.9086,2,    211.5,2,     -999,9,    44.50,2,    21.90,2,     0.00,2,     1.51,2,     -999,9,     -999,9,     -999,9,   2206.9,2,   2348.9,2,    768.2,2,   7.7152,2,    25.00,     -999,9,      0.9,2,     -999,9,     -999,9
33RO20230413  ,A16N       ,112     ,  2,1120201    ,1          ,2,20230429,1257,  45.9971, -19.9976,     4900,   4923.6,   2.6355,  34.9052,2,  34.9094,2,    212.1,2,     -999,9,    44.60,2,    22.00,2,     0.01,2,     1.52,2,     -999,9,     -999,9,     -999,9,   2207.7,2,   2350.0,2,    766.7,2,   7.7151,2,    25.00,     -999,9,      0.9,6,     -999,9,     -999,9
33RO20230413  ,A16N       ,113     ,  1,1130124    ,24         ,2,20230429,1940,  46.4991, -19.9938,     4800,      3.9,  14.1038,  35.6983,2,  35.7030,2,    251.0,2,    272.0,2,     2.40,2,     3.60,2,     0.13,2,     0.31,2,     -999,9,     -999,9,     -999,9,   2115.5,6,   2347.1,2,    466.5,2,   7.9041,2,    25.00,     -999,9,      0.7,6,     -999,9,     -999,9
33RO20230413  ,A16N       ,113     ,  1,1130123    ,23         ,2,20230429,1940,  46.4991, -19.9938,     4800,     33.1,  13.2347,  35.6692,2,  35.6136,2,    243.4,2,    261.2,2,     2.80,2,     5.50,2,     0.24,2,     0.42,2,     -999,9,     -999,9,     -999,9,   2128.5,2,   2344.7,2,    510.8,2,   7.8623,2,    25.00,     -999,9,      0.6,2,     -999,9,     -999,9
33RO20230413  ,A16N       ,113     ,  1,1130122    ,22         ,2,20230429,1940,  46.4991, -19.9938,     4800,     58.1,  13.1703,  35.6747,2,  35.6708,2,    239.8,2,    256.1,2,     2.80,2,     5.90,2,     0.36,2,     0.46,2,     -999,9,     -999,9,     -999,9,   2131.3,2,   2344.3,2,    522.1,2,   7.8602,2,    25.00,     -999,9,      0.5,2,     -999,9,     -999,9
33RO20230413  ,A16N       ,113     ,  1,1130121    ,21         ,2,20230429,1940,  46.4991, -19.9938,     4800,     83.7,  12.9669,  35.6628,2,  35.6610,2,    238.2,2,    253.3,2,     2.90,2,     6.40,2,     0.45,2,     0.48,2,     -999,9,     -999,9,     -999,9,   2133.1,2,   2342.2,2,    533.3,2,   7.8509,2,    25.00,     -999,9,      0.5,2,     -999,9,     -999,9
33RO20230413  ,A16N       ,113     ,  1,1130120    ,20         ,2,20230429,1940,  46.4991, -19.9938,     4800,    108.8,  12.9203,  35.6708,2,  35.6614,2,    235.0,2,    252.3,2,     3.00,2,     6.90,2,     0.39,2,     0.50,2,     -999,9,     -999,9,     -999,9,   2140.7,2,   2343.8,2,    542.4,2,   7.8460,2,    25.00,     -999,9,      0.5,2,     -999,9,     -999,9
33RO20230413  ,A16N       ,113     ,  1,1130119    ,19         ,2,20230429,1940,  46.4991, -19.9938,     4800,    169.4,  12.6867,  35.6368,2,  35.6156,2,    234.2,2,    252.0,2,     3.20,2,     7.40,2,     0.30,2,     0.52,2,     -999,9,     -999,9,     -999,9,   2140.8,2,   2342.2,2,    551.4,2,   7.8381,2,    25.00,     -999,9,      0.5,2,     -999,9,     -999,9
33RO20230413  ,A16N       ,113     ,  1,1130118    ,18         ,2,20230429,1940,  46.4991, -19.9938,     4800,    250.1,  12.4730,  35.6086,2,  35.6072,2,    234.0,2,    252.0,2,     3.40,2,     7.90,2,     0.22,2,     0.56,2,     -999,9,     -999,9,     -999,9,   2143.6,2,   2340.4,2,    558.3,2,   7.8375,2,    25.00,     -999,9,      0.5,2,     -999,9,     -999,9
33RO20230413  ,A16N       ,113     ,  1,1130117    ,17         ,2,20230429,1940,  46.4991, -19.9938,     4800,    333.6,  12.3199,  35.5809,2,  35.5802,2,    229.8,2,    247.2,2,     3.60,2,     8.60,2,     0.08,2,     0.59,2,     -999,9,     -999,9,     -999,9,   2144.9,2,   2337.9,6,    571.1,2,   7.8287,6,    25.00,     -999,9,      0.5,2,     -999,9,     -999,9
33RO20230413  ,A16N       ,113     ,  1,1130116    ,16         ,2,20230429,1940,  46.4991, -19.9938,     4800,    427.2,  11.8140,  35.5080,2,  35.5108,2,    204.5,2,    222.2,6,     5.10,2,    11.70,2,     0.01,2,     0.78,2,     -999,9,     -999,9,     -999,9,   2161.6,2,   2333.2,2,    637.2,2,   7.7886,2,    25.00,     -999,9,      0.4,2,     -999,9,     -999,9
33RO20230413  ,A16N       ,113     ,  1,1130115    ,15         ,2,20230429,1940,  46.4991, -19.9938,     4800,    550.2,  10.9795,  35.4080,2,  35.4093,2,    191.6,2,    206.9,2,     6.40,2,    14.50,2,     0.00,2,     0.94,2,     -999,9,     -999,9,     -999,9,   2170.4,2,   2328.4,2,    699.9,2,   7.7491,2,    25.00,     -999,9,      0.4,2,     -999,9,     -999,9
33RO20230413  ,A16N       ,113     ,  1,1130114    ,14         ,2,20230429,1940,  46.4991, -19.9938,     4800,    699.8,   9.2734,  35.2470,2,  35.2500,2,    174.0,2,    192.3,2,     9.70,2,    18.30,2,     0.00,2,     1.20,2,     -999,9,     -999,9,     -999,9,   2185.2,2,   2321.8,2,    798.4,2,   7.6977,2,    25.00,     -999,9,      0.5,2,     -999,9,     -999,9
33RO20230413  ,A16N       ,113     ,  1,1130113    ,13         ,2,20230429,1940,  46.4991, -19.9938,     4800,    850.1,   8.5049,  35.3100,2,  35.3117,2,    175.0,2,    190.5,2,    10.60,2,    18.70,2,     0.00,2,     1.23,2,     -999,9,     -999,9,     -999,9,   2190.5,6,   2326.3,2,    809.5,2,   7.6953,2,    25.00,     -999,9,      0.5,2,     -999,9,     -999,9
33RO20230413  ,A16N       ,113     ,  1,1130112    ,12         ,2,20230429,1940,  46.4991, -19.9938,     4800,    999.8,   6.9098,  35.2155,2,  35.2205,2,    194.1,2,    212.0,2,    11.20,2,    18.60,2,     0.00,2,     1.23,2,     -999,9,     -999,9,     -999,9,   2191.3,2,   2311.4,3,    823.6,2,   7.6875,2,    25.00,     -999,9,      0.6,2,     -999,9,     -999,9
33RO20230413  ,A16N       ,113     ,  1,1130111    ,11         ,2,20230429,1940,  46.4991, -19.9938,     4800,   1166.6,   5.4943,  35.0694,2,  35.0848,2,    216.4,2,    235.7,2,    11.10,2,    18.00,2,     0.00,2,     1.22,2,     -999,9,     -999,9,     -999,9,   2186.5,2,   2313.1,2,    829.9,2,   7.6827,2,    25.00,     -999,9,      0.7,2,     -999,9,     -999,9
33RO20230413  ,A16N       ,113     ,  1,1130110    ,10         ,2,20230429,1940,  46.4991, -19.9938,     4800,   1399.7,   4.5372,  34.9752,2,  34.9933,2,    234.4,2,    257.0,2,    10.90,2,    17.50,2,     0.00,2,     1.18,2,     -999,9,     -999,9,     -999,9,   2178.3,2,   2306.5,2,    825.7,2,   7.6787,2,    25.00,     -999,9,      0.7,2,     -999,9,     -999,9
33RO20230413  ,A16N       ,113     ,  1,1130109    ,9          ,2,20230429,1940,  46.4991, -19.9938,     4800,   1733.3,   3.8772,  34.9152,2,  34.9255,2,    247.0,2,    272.9,2,    10.90,2,    17.00,2,     0.00,2,     1.16,2,     -999,9,     -999,9,     -999,9,   2171.1,2,   2300.2,2,    813.1,6,   7.6907,2,    25.00,     -999,9,      0.7,2,     -999,9,     -999,9
33RO20230413  ,A16N       ,113     ,  1,1130108    ,8          ,2,20230429,1940,  46.4991, -19.9938,     4800,   2134.4,   3.6144,  34.9210,2,  34.9289,2,    244.0,2,    273.1,2,    12.40,2,    16.90,2,     0.00,2,     1.16,2,     -999,9,     -999,9,     -999,9,   2171.1,2,   2301.7,6,    795.9,2,   7.6974,6,    25.00,     -999,9,      0.9,2,     -999,9,     -999,9
33RO20230413  ,A16N       ,113     ,  1,1130107    ,7          ,2,20230429,1940,  46.4991, -19.9938,     4800,   2534.3,   3.2693,  34.9374,2,  34.9454,2,    237.0,2,    265.1,2,    17.20,2,    17.40,2,     0.00,2,     1.21,2,     -999,9,     -999,9,     -999,9,   2171.6,2,   2309.3,2,    778.6,2,   7.7062,2,    25.00,     -999,9,      0.8,2,     -999,9,     -999,9
33RO20230413  ,A16N       ,113     ,  1,1130106    ,6          ,2,20230429,1940,  46.4991, -19.9938,     4800,   2934.1,   2.9721,  34.9394,2,  34.9440,2,    228.5,2,    256.8,2,    25.30,2,    18.80,2,     0.00,2,     1.29,2,     -999,9,     -999,9,     -999,9,   2179.5,2,   2321.3,2,    772.9,2,   7.7086,2,    25.00,     -999,9,      0.9,2,     -999,9,     -999,9
33RO20230413  ,A16N       ,113     ,  1,1130105    ,5          ,2,20230429,1940,  46.4991, -19.9938,     4800,   3334.2,   2.7426,  34.9284,2,  34.9328,6,    221.1,2,    248.8,2,    33.20,2,    19.90,2,     0.00,2,     1.37,2,     -999,9,     -999,9,     -999,9,   2189.7,2,   2332.6,2,    773.0,2,   7.7118,2,    25.00,     -999,9,      0.9,2,     -999,9,     -999,9
33RO20230413  ,A16N       ,113     ,  1,1130104    ,4          ,2,20230429,1940,  46.4991, -19.9938,     4800,   3732.9,   2.5983,  34.9131,2,  34.9466,2,    214.4,2,    242.1,2,    40.50,6,    21.20,6,     0.00,6,     1.47,6,     -999,9,     -999,9,     -999,9,   2198.4,2,   2343.8,2,    768.8,2,   7.7148,2,    25.00,     -999,9,      0.9,2,     -999,9,     -999,9
33RO20230413  ,A16N       ,113     ,  1,1130103    ,3          ,2,20230429,1940,  46.4991, -19.9938,     4800,   4131.5,   2.5554,  34.9050,2,  34.9018,2,    211.6,2,    239.8,2,    43.80,6,    21.80,6,     0.00,6,     1.51,6,     -999,9,     -999,9,     -999,9,   2202.4,2,   2347.1,2,    768.1,2,   7.7160,2,    25.00,     -999,9,      0.9,2,     -999,9,     -999,9
33RO20230413  ,A16N       ,113     ,  1,1130102    ,2          ,2,20230429,1940,  46.4991, -19.9938,     4800,   4433.8,   2.5680,  34.9027,2,  34.8877,2,    211.2,2,    238.4,4,    44.60,6,    21.90,6,     0.00,6,     1.52,6,     -999,9,     -999,9,     -999,9,   2205.0,2,   2349.6,2,    767.8,2,   7.7152,2,    25.00,     -999,9,      0.9,2,     -999,9,     -999,9
33RO20230413  ,A16N       ,113     ,  1,1130101    ,1          ,2,20230429,1940,  46.4991, -19.9938,     4800,   4946.8,   2.6131,  34.9005,2,  34.9042,2,    211.9,2,    238.9,6,    45.20,6,    21.90,6,     0.00,6,     1.52,6,     -999,9,     -999,9,     -999,9,   2206.0,6,   2351.2,2,    765.7,2,   7.7166,2,    25.00,     -999,9,      0.9,6,     -999,9,     -999,9