BOTTLE,20240627CCHHYDRO
EXPOCODE,SECT_ID,STNNBR,CASTNO,SAMPNO,BTLNBR,BTLNBR_FLAG_W,DATE,TIME,LATITUDE,LONGITUDE,DEPTH,CTDPRS,CTDTMP,CTDSAL,CTDSAL_FLAG_W,SALNTY,SALNTY_FLAG_W,CTDOXY,CTDOXY_FLAG_W,OXYGEN,OXYGEN_FLAG_W,SILCAT,SILCAT_FLAG_W,NITRAT,NITRAT_FLAG_W,NITRIT,NITRIT_FLAG_W,PHSPHT,PHSPHT_FLAG_W,CFC-11,CFC-11_FLAG_W,CFC-12,CFC-12_FLAG_W,SF6,SF6_FLAG_W,TCARBN,TCARBN_FLAG_W,ALKALI,ALKALI_FLAG_W,FCO2,FCO2_FLAG_W,PH_TOT,PH_TOT_FLAG_W,PH_TMP,DOC,DOC_FLAG_W,DELC13,DELC13_FLAG_W,TDN,TDN_FLAG_W,N2O,N2O_FLAG_W
,,,,,,,,,,,METERS,DBAR,ITS-90,PSS-78,,PSS-78,,UMOL/KG,,UMOL/KG,,UMOL/KG,,UMOL/KG,,UMOL/KG,,UMOL/KG,,PMOL/KG,,PMOL/KG,,FMOL/KG,,UMOL/KG,,UMOL/KG,,UATM,,,,DEG C,UMOL/KG,,/MILLE,,UMOL/KG,,NMOL/KG,
33RO20230413  ,A16N       ,90      ,  1,900124     ,24         ,2,20230422,1638,  35.0021, -20.5539,     5100,      4.3,  19.2515,  36.5517,2,  36.5524,2,    216.2,2,    233.5,2,     0.80,2,     0.00,2,     0.01,2,     0.06,2,     -999,9,     -999,9,     -999,9,   2120.5,6,   2391.2,2,    400.4,2,   7.9624,2,    25.00,     -999,9,      0.7,6,     -999,9,     -999,9
33RO20230413  ,A16N       ,90      ,  1,900123     ,23         ,2,20230422,1638,  35.0021, -20.5539,     5100,     59.4,  19.0164,  36.5660,2,  36.5649,2,    218.4,2,    229.3,3,     0.80,2,     0.00,2,     0.00,2,     0.05,2,     -999,9,     -999,9,     -999,9,   2116.0,2,   2391.0,2,    395.8,2,   7.9711,2,    25.00,     -999,9,      0.8,2,     -999,9,     -999,9
33RO20230413  ,A16N       ,90      ,  1,900122     ,22         ,2,20230422,1638,  35.0021, -20.5539,     5100,    110.1,  17.1713,  36.3064,2,  36.3110,6,    212.0,2,    223.8,2,     1.40,2,     1.10,2,     0.14,2,     0.14,2,     -999,9,     -999,9,     -999,9,   2124.8,2,   2377.7,6,    436.8,2,   7.9328,6,    25.00,     -999,9,      0.7,2,     -999,9,     -999,9
33RO20230413  ,A16N       ,90      ,  1,900121     ,21         ,2,20230422,1638,  35.0021, -20.5539,     5100,    154.3,  16.5888,  36.2493,2,  36.2689,2,    213.8,2,    223.5,2,     1.10,2,     1.50,2,     0.18,2,     0.15,2,     -999,9,     -999,9,     -999,9,   2130.7,2,   2374.4,2,    450.7,2,   7.9174,2,    25.00,     -999,9,      0.7,2,     -999,9,     -999,9
33RO20230413  ,A16N       ,90      ,  1,900120     ,20         ,2,20230422,1638,  35.0021, -20.5539,     5100,    210.0,  15.3920,  36.0603,2,  36.0653,2,    201.1,2,    212.0,2,     2.10,2,     5.60,2,     0.01,2,     0.37,2,     -999,9,     -999,9,     -999,9,   2142.7,2,   2361.0,2,    508.8,2,   7.8741,2,    25.00,     -999,9,      0.5,2,     -999,9,     -999,9
33RO20230413  ,A16N       ,90      ,  1,900119     ,19         ,2,20230422,1638,  35.0021, -20.5539,     5100,    325.8,  13.7179,  35.8031,2,  35.8098,2,    191.7,2,    202.9,2,     3.60,2,     9.90,2,     0.01,2,     0.62,2,     -999,9,     -999,9,     -999,9,   2152.8,2,   2343.8,2,    584.2,2,   7.8209,2,    25.00,     -999,9,      0.4,2,     -999,9,     -999,9
33RO20230413  ,A16N       ,90      ,  1,900118     ,18         ,2,20230422,1638,  35.0021, -20.5539,     5100,    490.0,  12.1269,  35.6117,2,  35.6141,2,    179.3,2,    190.8,2,     5.40,2,    13.80,2,     0.01,2,     0.87,2,     -999,9,     -999,9,     -999,9,   2169.3,2,   2333.8,2,    669.7,2,   7.7680,2,    25.00,     -999,9,      0.5,2,     -999,9,     -999,9
33RO20230413  ,A16N       ,90      ,  1,900117     ,17         ,2,20230422,1638,  35.0021, -20.5539,     5100,    651.1,  10.8576,  35.5122,2,  35.5147,2,    174.9,2,    185.9,2,     7.40,2,    16.10,2,     0.01,2,     1.02,2,     -999,9,     -999,9,     -999,9,   2179.7,2,   2332.3,2,    725.5,2,   7.7385,2,    25.00,     -999,9,      0.5,2,     -999,9,     -999,9
33RO20230413  ,A16N       ,90      ,  1,900116     ,16         ,2,20230422,1638,  35.0021, -20.5539,     5100,    785.2,   9.9250,  35.5128,2,  35.5153,2,    166.4,2,    177.4,6,     9.80,2,    18.20,2,     0.01,2,     1.17,2,     -999,9,     -999,9,     -999,9,   2192.6,2,   2335.4,2,    756.2,2,   7.7233,2,    25.00,     -999,9,      0.6,2,     -999,9,     -999,9
33RO20230413  ,A16N       ,90      ,  1,900115     ,15         ,2,20230422,1638,  35.0021, -20.5539,     5100,    950.2,   9.1172,  35.5898,2,  35.5947,2,    170.1,2,    182.2,2,    11.00,2,    18.50,2,     0.00,2,     1.20,2,     -999,9,     -999,9,     -999,9,   2199.1,6,   2344.3,2,    757.5,2,   7.7231,2,    25.00,     -999,9,      0.7,2,     -999,9,     -999,9
33RO20230413  ,A16N       ,90      ,  1,900114     ,14         ,2,20230422,1638,  35.0021, -20.5539,     5100,   1151.3,   8.3670,  35.6355,2,  35.6395,2,    179.3,2,    192.7,2,    11.90,2,    18.10,2,     0.01,2,     1.19,2,     -999,9,     -999,9,     -999,9,   2202.5,2,   2348.8,2,    745.4,2,   7.7296,2,    25.00,     -999,9,      0.8,2,     -999,9,     -999,9
33RO20230413  ,A16N       ,90      ,  1,900113     ,13         ,2,20230422,1638,  35.0021, -20.5539,     5100,   1351.2,   6.8784,  35.4280,2,  35.4304,2,    198.8,2,    213.2,2,    12.30,2,    18.00,2,     0.00,2,     1.18,2,     -999,9,     -999,9,     -999,9,   2192.7,2,   2337.9,6,    757.2,2,   7.7207,6,    25.00,     -999,9,      0.9,2,     -999,9,     -999,9
33RO20230413  ,A16N       ,90      ,  1,900112     ,12         ,2,20230422,1638,  35.0021, -20.5539,     5100,   1610.6,   5.4151,  35.2275,2,  35.2298,2,    216.2,2,    234.0,2,    13.10,2,    17.80,2,     0.00,2,     1.19,2,     -999,9,     -999,9,     -999,9,   2185.5,2,   2321.9,2,    763.1,2,   7.7155,2,    25.00,     -999,9,      0.9,2,     -999,9,     -999,9
33RO20230413  ,A16N       ,90      ,  1,900111     ,11         ,2,20230422,1638,  35.0021, -20.5539,     5100,   1876.3,   4.3549,  35.0796,2,  35.0841,2,    227.6,2,    247.5,2,    14.60,2,    17.90,2,     0.00,2,     1.21,2,     -999,9,     -999,9,     -999,9,   2174.7,2,   2317.4,2,    763.7,6,   7.7151,2,    25.00,     -999,9,      1.0,2,     -999,9,     -999,9
33RO20230413  ,A16N       ,90      ,  1,900110     ,10         ,2,20230422,1638,  35.0021, -20.5539,     5100,   2176.5,   3.6266,  35.0005,2,  35.0056,2,    230.2,2,    251.0,2,    18.60,2,    18.30,2,     0.00,2,     1.24,2,     -999,9,     -999,9,     -999,9,   2176.4,2,   2313.7,2,    758.4,2,   7.7169,2,    25.00,     -999,9,      1.0,2,     -999,9,     -999,9
33RO20230413  ,A16N       ,90      ,  1,900109     ,9          ,2,20230422,1638,  35.0021, -20.5539,     5100,   2474.1,   3.2340,  34.9720,2,  34.9744,2,    226.5,2,    249.5,2,    23.80,2,    19.00,2,     0.00,2,     1.29,2,     -999,9,     -999,9,     -999,9,   2179.3,2,   2318.2,2,    755.4,2,   7.7198,2,    25.00,     -999,9,      1.0,2,     -999,9,     -999,9
33RO20230413  ,A16N       ,90      ,  1,900108     ,8          ,2,20230422,1638,  35.0021, -20.5539,     5100,   2776.1,   2.9483,  34.9476,2,  34.9506,2,    224.3,2,    249.0,2,    28.50,2,    19.50,2,     0.00,2,     1.34,2,     -999,9,     -999,9,     -999,9,   2184.6,2,   2324.1,2,    758.9,2,   7.7189,2,    25.00,     -999,9,      1.0,2,     -999,9,     -999,9
33RO20230413  ,A16N       ,90      ,  1,900107     ,7          ,2,20230422,1638,  35.0021, -20.5539,     5100,   3076.6,   2.7867,  34.9366,2,  34.9432,2,    219.8,2,    244.1,2,    33.60,2,    20.30,2,     0.00,2,     1.39,2,     -999,9,     -999,9,     -999,9,   2191.1,2,   2332.2,2,    758.0,2,   7.7213,2,    25.00,     -999,9,      1.0,2,     -999,9,     -999,9
33RO20230413  ,A16N       ,90      ,  1,900106     ,6          ,2,20230422,1638,  35.0021, -20.5539,     5100,   3377.2,   2.6690,  34.9253,2,  34.9289,2,    217.0,2,    241.2,2,    37.40,2,    20.90,2,     0.00,2,     1.43,2,     -999,9,     -999,9,     -999,9,   2193.3,2,   2334.2,2,    758.5,2,   7.7209,2,    25.00,     -999,9,      1.0,2,     -999,9,     -999,9
33RO20230413  ,A16N       ,90      ,  1,900105     ,5          ,2,20230422,1638,  35.0021, -20.5539,     5100,   3671.3,   2.5804,  34.9151,2,  34.9187,2,    215.5,2,    247.8,3,    40.60,2,    21.40,2,     0.00,2,     1.47,2,     -999,9,     -999,9,     -999,9,   2196.6,2,   2340.3,2,    758.1,2,   7.7216,2,    25.00,     -999,9,      1.0,2,     -999,9,     -999,9
33RO20230413  ,A16N       ,90      ,  1,900104     ,4          ,2,20230422,1638,  35.0021, -20.5539,     5100,   3970.2,   2.5145,  34.9059,2,  34.9080,6,    215.1,2,    240.3,2,    42.80,6,    21.60,6,     0.00,6,     1.49,6,     -999,9,     -999,9,     -999,9,   2196.6,2,   2341.7,2,    758.6,2,   7.7222,2,    25.00,     -999,9,      1.0,2,     -999,9,     -999,9
33RO20230413  ,A16N       ,90      ,  1,900103     ,3          ,2,20230422,1638,  35.0021, -20.5539,     5100,   4273.6,   2.4691,  34.8983,2,  34.9015,2,    214.7,2,    241.0,2,    44.60,6,    21.90,6,     0.00,6,     1.51,6,     -999,9,     -999,9,     -999,9,   2198.7,2,   2342.3,2,    760.0,2,   7.7214,2,    25.00,     -999,9,      1.1,2,     -999,9,     -999,9
33RO20230413  ,A16N       ,90      ,  1,900102     ,2          ,2,20230422,1638,  35.0021, -20.5539,     5100,   4601.5,   2.4381,  34.8914,2,  34.8940,2,    214.8,2,    241.4,2,    46.30,6,    22.00,6,     0.00,6,     1.51,6,     -999,9,     -999,9,     -999,9,   2201.1,2,   2345.1,2,    761.4,2,   7.7200,2,    25.00,     -999,9,      1.1,2,     -999,9,     -999,9
33RO20230413  ,A16N       ,90      ,  1,900101     ,1          ,2,20230422,1638,  35.0021, -20.5539,     5100,   5199.2,   2.4635,  34.8857,2,  34.8907,2,    215.6,2,    240.7,6,    47.70,6,    22.10,6,     0.00,6,     1.53,6,     -999,9,     -999,9,     -999,9,   2203.9,6,   2348.1,2,    760.8,2,   7.6886,3,    25.00,     -999,9,      1.0,6,     -999,9,     -999,9
33RO20230413  ,A16N       ,91      ,  1,910124     ,24         ,2,20230423,0359,  35.4910, -20.2752,     5280,      4.2,  18.9258,  36.4676,2,  36.4682,6,    216.9,2,    231.9,2,     0.90,2,     0.00,2,     0.00,2,     0.02,2,     -999,9,     -999,9,     -999,9,   2116.9,2,   2388.2,2,    405.5,2,   7.9565,2,    25.00,     -999,9,      0.8,2,     -999,9,     -999,9
33RO20230413  ,A16N       ,91      ,  1,910123     ,23         ,2,20230423,0359,  35.4910, -20.2752,     5280,     40.8,  18.8773,  36.4781,2,  36.4805,2,    218.0,2,    233.0,2,     0.80,2,     0.00,2,     0.00,2,     0.01,2,     -999,9,     -999,9,     -999,9,   2105.3,2,   2389.1,2,    403.8,2,   7.9583,2,    25.00,     -999,9,      0.7,2,     -999,9,     -999,9
33RO20230413  ,A16N       ,91      ,  1,910122     ,22         ,2,20230423,0359,  35.4910, -20.2752,     5280,     90.1,  17.7256,  36.3684,2,  36.3678,2,    219.1,2,    235.0,2,     0.80,2,     0.00,2,     0.00,2,     0.02,2,     -999,9,     -999,9,     -999,9,   2113.6,2,   2380.7,2,    412.4,2,   7.9508,2,    25.00,     -999,9,      0.8,2,     -999,9,     -999,9
33RO20230413  ,A16N       ,91      ,  1,910121     ,21         ,2,20230423,0359,  35.4910, -20.2752,     5280,    140.7,  16.4695,  36.2009,2,  36.2032,2,    201.6,2,    214.0,2,     1.50,2,     3.90,2,     0.02,2,     0.26,2,     -999,9,     -999,9,     -999,9,   2133.1,2,   2369.5,2,    473.1,2,   7.9012,2,    25.00,     -999,9,      0.6,2,     -999,9,     -999,9
33RO20230413  ,A16N       ,91      ,  1,910120     ,20         ,2,20230423,0359,  35.4910, -20.2752,     5280,    189.9,  15.7677,  36.1138,2,  36.1146,2,    194.0,2,    207.9,2,     2.10,2,     6.20,2,     0.01,2,     0.38,2,     -999,9,     -999,9,     -999,9,   2141.3,2,   2363.6,2,    504.9,2,   7.8742,2,    25.00,     -999,9,      0.5,2,     -999,9,     -999,9
33RO20230413  ,A16N       ,91      ,  1,910119     ,19         ,2,20230423,0359,  35.4910, -20.2752,     5280,    275.4,  14.6282,  35.9396,2,  35.9406,2,    197.8,2,    211.6,2,     2.60,2,     7.40,2,     0.01,2,     0.47,2,     -999,9,     -999,9,     -999,9,   2147.7,2,   2354.4,2,    541.7,2,   7.8505,2,    25.00,     -999,9,      0.5,2,     -999,9,     -999,9
33RO20230413  ,A16N       ,91      ,  1,910118     ,18         ,2,20230423,0359,  35.4910, -20.2752,     5280,    426.1,  12.8087,  35.6781,2,  35.6817,2,    190.3,2,    204.0,2,     4.20,2,    11.40,2,     0.00,2,     0.71,2,     -999,9,     -999,9,     -999,9,   2159.7,2,   2338.8,2,    625.9,2,   7.7932,2,    25.00,     -999,9,      0.5,2,     -999,9,     -999,9
33RO20230413  ,A16N       ,91      ,  1,910117     ,17         ,2,20230423,0359,  35.4910, -20.2752,     5280,    580.9,  11.4276,  35.5387,2,  35.5424,2,    176.6,2,    189.3,6,     6.40,2,    15.20,2,     0.00,2,     0.95,2,     -999,9,     -999,9,     -999,9,   2172.3,6,   2331.2,2,    701.0,2,   7.7499,2,    25.00,     -999,9,      0.6,2,     -999,9,     -999,9
33RO20230413  ,A16N       ,91      ,  1,910116     ,16         ,2,20230423,0359,  35.4910, -20.2752,     5280,    751.3,  10.5184,  35.5445,2,  35.5497,2,    165.6,2,    178.5,2,     8.60,2,    17.40,2,     0.00,2,     1.10,2,     -999,9,     -999,9,     -999,9,   2186.0,2,   2337.2,2,    743.2,2,   7.7276,2,    25.00,     -999,9,      0.6,6,     -999,9,     -999,9
33RO20230413  ,A16N       ,91      ,  1,910115     ,15         ,2,20230423,0359,  35.4910, -20.2752,     5280,    990.4,   9.0716,  35.5964,2,  35.6017,2,    169.8,2,    184.1,2,    11.10,2,    18.50,2,     0.00,2,     1.18,2,     -999,9,     -999,9,     -999,9,   2198.2,2,   2345.2,2,    756.7,2,   7.7226,2,    25.00,     -999,9,      0.8,2,     -999,9,     -999,9
33RO20230413  ,A16N       ,91      ,  1,910114     ,14         ,2,20230423,0359,  35.4910, -20.2752,     5280,   1240.7,   7.6299,  35.5241,2,  35.5255,2,    188.1,2,    204.7,2,    12.00,2,    18.10,2,     0.00,2,     1.17,2,     -999,9,     -999,9,     -999,9,   2193.6,2,   2343.3,2,    752.6,2,   7.7248,2,    25.00,     -999,9,      0.9,2,     -999,9,     -999,9
33RO20230413  ,A16N       ,91      ,  1,910113     ,13         ,2,20230423,0359,  35.4910, -20.2752,     5280,   1499.5,   6.0572,  35.3151,2,  35.3181,2,    209.4,2,    228.3,2,    12.30,2,    17.80,2,     0.00,2,     1.17,2,     -999,9,     -999,9,     -999,9,   2185.4,2,   2328.9,2,    761.6,2,   7.7173,2,    25.00,     -999,9,      0.8,2,     -999,9,     -999,9
33RO20230413  ,A16N       ,91      ,  1,910112     ,12         ,2,20230423,0359,  35.4910, -20.2752,     5280,   1740.7,   4.9919,  35.1683,2,  35.1800,2,    220.5,2,    241.3,2,    13.60,2,    17.90,2,     0.00,2,     1.19,2,     -999,9,     -999,9,     -999,9,   2177.6,2,   2318.9,6,    762.9,2,   7.7159,6,    25.00,     -999,9,      0.9,2,     -999,9,     -999,9
33RO20230413  ,A16N       ,91      ,  1,910111     ,11         ,2,20230423,0359,  35.4910, -20.2752,     5280,   2025.2,   4.0453,  35.0502,2,  35.0544,2,    227.8,2,    251.1,2,    16.20,2,    18.10,2,     0.00,2,     1.21,2,     -999,9,     -999,9,     -999,9,   2172.6,2,   2314.0,2,    758.2,2,   7.7178,2,    25.00,     -999,9,      1.1,2,     -999,9,     -999,9
33RO20230413  ,A16N       ,91      ,  1,910110     ,10         ,2,20230423,0359,  35.4910, -20.2752,     5280,   2326.2,   3.4401,  34.9846,2,  34.9882,2,    228.8,2,    253.4,2,    20.50,2,    18.50,2,     0.00,2,     1.25,2,     -999,9,     -999,9,     -999,9,   2174.8,2,   2315.8,2,    757.1,2,   7.7183,2,    25.00,     -999,9,      1.1,2,     -999,9,     -999,9
33RO20230413  ,A16N       ,91      ,  1,910109     ,9          ,2,20230423,0359,  35.4910, -20.2752,     5280,   2626.0,   3.0853,  34.9552,2,  34.9585,2,    226.7,2,    252.1,2,    25.20,2,    19.00,2,     0.00,2,     1.29,2,     -999,9,     -999,9,     -999,9,   2178.6,2,   2321.8,2,    760.1,2,   7.7182,2,    25.00,     -999,9,      1.1,2,     -999,9,     -999,9
33RO20230413  ,A16N       ,91      ,  1,910108     ,8          ,2,20230423,0359,  35.4910, -20.2752,     5280,   2925.7,   2.8830,  34.9436,2,  34.9459,2,    221.6,2,    249.5,2,    30.70,2,    19.90,2,     0.00,2,     1.35,2,     -999,9,     -999,9,     -999,9,   2186.3,2,   2329.0,2,    758.6,2,   7.7187,2,    25.00,     -999,9,      1.0,2,     -999,9,     -999,9
33RO20230413  ,A16N       ,91      ,  1,910107     ,7          ,2,20230423,0359,  35.4910, -20.2752,     5280,   3225.1,   2.7158,  34.9299,2,  34.9316,2,    217.8,2,    244.7,2,    35.70,2,    20.70,2,     0.00,2,     1.41,2,     -999,9,     -999,9,     -999,9,   2191.7,2,   -999.0,9,    759.5,2,-999.0000,9,    25.00,     -999,9,      1.1,2,     -999,9,     -999,9
33RO20230413  ,A16N       ,91      ,  1,910106     ,6          ,2,20230423,0359,  35.4910, -20.2752,     5280,   3525.5,   2.6196,  34.9195,2,  34.9197,2,    215.6,2,    242.8,2,    39.10,2,    21.20,2,     0.00,2,     1.45,2,     -999,9,     -999,9,     -999,9,   2192.9,2,   2337.2,2,    760.0,2,   7.7186,2,    25.00,     -999,9,      1.1,2,     -999,9,     -999,9
33RO20230413  ,A16N       ,91      ,  1,910105     ,5          ,2,20230423,0359,  35.4910, -20.2752,     5280,   3825.1,   2.5444,  34.9100,2,  34.9134,2,    214.6,2,    242.6,2,    41.70,2,    21.60,2,     0.00,2,     1.48,2,     -999,9,     -999,9,     -999,9,   2192.8,2,   2339.4,2,    759.5,6,   7.7218,2,    25.00,     -999,9,      1.1,2,     -999,9,     -999,9
33RO20230413  ,A16N       ,91      ,  1,910104     ,4          ,2,20230423,0359,  35.4910, -20.2752,     5280,   4125.6,   2.4939,  34.9022,2,  34.9066,2,    214.1,2,    242.7,2,    43.80,6,    21.80,6,     0.00,6,     1.49,6,     -999,9,     -999,9,     -999,9,   2194.7,2,   2341.7,6,    759.9,2,   7.7206,6,    25.00,     -999,9,      1.2,2,     -999,9,     -999,9
33RO20230413  ,A16N       ,91      ,  1,910103     ,3          ,2,20230423,0359,  35.4910, -20.2752,     5280,   4426.1,   2.4567,  34.8951,2,  35.0041,2,    214.0,2,    243.2,2,    45.40,6,    22.00,6,     0.00,6,     1.50,6,     -999,9,     -999,9,     -999,9,   2197.8,2,   2343.5,2,    761.5,2,   7.7192,2,    25.00,     -999,9,      1.1,2,     -999,9,     -999,9
33RO20230413  ,A16N       ,91      ,  1,910102     ,2          ,2,20230423,0359,  35.4910, -20.2752,     5280,   4701.0,   2.4423,  34.8904,2,  34.8920,2,    214.0,2,    242.9,2,    46.50,6,    22.10,6,     0.00,6,     1.51,6,     -999,9,     -999,9,     -999,9,   2199.6,2,   2344.9,2,    762.3,2,   7.7200,2,    25.00,     -999,9,      1.1,2,     -999,9,     -999,9
33RO20230413  ,A16N       ,91      ,  1,910101     ,1          ,2,20230423,0359,  35.4910, -20.2752,     5280,   5358.9,   2.4856,  34.8857,2,  34.8911,6,    215.0,2,    241.6,6,    47.70,6,    22.20,6,     0.00,6,     1.52,6,     -999,9,     -999,9,     -999,9,   2202.6,6,   2346.4,2,    761.7,2,   7.7268,2,    25.00,     -999,9,      1.1,6,     -999,9,     -999,9