BOTTLE,20240627CCHHYDRO
EXPOCODE,SECT_ID,STNNBR,CASTNO,SAMPNO,BTLNBR,BTLNBR_FLAG_W,DATE,TIME,LATITUDE,LONGITUDE,DEPTH,CTDPRS,CTDTMP,CTDSAL,CTDSAL_FLAG_W,SALNTY,SALNTY_FLAG_W,CTDOXY,CTDOXY_FLAG_W,OXYGEN,OXYGEN_FLAG_W,SILCAT,SILCAT_FLAG_W,NITRAT,NITRAT_FLAG_W,NITRIT,NITRIT_FLAG_W,PHSPHT,PHSPHT_FLAG_W,CFC-11,CFC-11_FLAG_W,CFC-12,CFC-12_FLAG_W,SF6,SF6_FLAG_W,TCARBN,TCARBN_FLAG_W,ALKALI,ALKALI_FLAG_W,FCO2,FCO2_FLAG_W,PH_TOT,PH_TOT_FLAG_W,PH_TMP,DOC,DOC_FLAG_W,DELC13,DELC13_FLAG_W,TDN,TDN_FLAG_W,N2O,N2O_FLAG_W
,,,,,,,,,,,METERS,DBAR,ITS-90,PSS-78,,PSS-78,,UMOL/KG,,UMOL/KG,,UMOL/KG,,UMOL/KG,,UMOL/KG,,UMOL/KG,,PMOL/KG,,PMOL/KG,,FMOL/KG,,UMOL/KG,,UMOL/KG,,UATM,,,,DEG C,UMOL/KG,,/MILLE,,UMOL/KG,,NMOL/KG,
33RO20230413  ,A16N       ,102     ,  1,1020124    ,24         ,2,20230426,1823,  40.9987, -19.9961,     4708,      4.3,  16.0061,  35.8994,2,  35.9067,2,    233.5,2,    248.3,2,     1.30,2,     0.60,2,     0.07,2,     0.12,2,     -999,9,     -999,9,     -999,9,   2114.4,6,   2355.1,2,    445.0,2,   7.9203,2,    25.00,     -999,9,      0.8,6,     -999,9,     -999,9
33RO20230413  ,A16N       ,102     ,  1,1020123    ,23         ,2,20230426,1823,  40.9987, -19.9961,     4708,     19.8,  15.8836,  35.9154,2,  35.9257,2,    234.5,2,    250.2,2,     1.40,2,     0.60,2,     0.08,2,     0.10,2,     -999,9,     -999,9,     -999,9,   2116.4,2,   2357.1,2,    444.8,2,   7.9206,2,    25.00,     -999,9,      0.8,2,     -999,9,     -999,9
33RO20230413  ,A16N       ,102     ,  1,1020122    ,22         ,2,20230426,1823,  40.9987, -19.9961,     4708,     41.6,  15.6067,  35.9510,2,  35.9583,2,    235.6,2,    250.8,2,     1.30,2,     0.70,2,     0.09,2,     0.11,2,     -999,9,     -999,9,     -999,9,   2117.3,2,   2356.6,2,    447.8,2,   7.9179,2,    25.00,     -999,9,      0.7,2,     -999,9,     -999,9
33RO20230413  ,A16N       ,102     ,  1,1020121    ,21         ,2,20230426,1823,  40.9987, -19.9961,     4708,     66.7,  15.0652,  35.9402,2,  35.9475,6,    234.6,2,    248.4,2,     1.40,2,     1.70,2,     0.17,2,     0.19,2,     -999,9,     -999,9,     -999,9,   2125.1,2,   2356.7,6,    465.4,2,   7.9038,6,    25.00,     -999,9,      0.7,2,     -999,9,     -999,9
33RO20230413  ,A16N       ,102     ,  1,1020120    ,20         ,2,20230426,1823,  40.9987, -19.9961,     4708,     91.3,  14.9216,  35.9519,2,  35.9592,2,    228.0,2,    242.8,2,     1.40,2,     2.20,2,     0.38,2,     0.23,2,     -999,9,     -999,9,     -999,9,   2129.3,2,   2358.2,2,    479.8,2,   7.8918,2,    25.00,     -999,9,      0.6,2,     -999,9,     -999,9
33RO20230413  ,A16N       ,102     ,  1,1020119    ,19         ,2,20230426,1823,  40.9987, -19.9961,     4708,    133.3,  14.5459,  35.9029,2,  35.9092,2,    222.7,2,    237.9,2,     1.80,2,     4.00,2,     0.25,2,     0.34,2,     -999,9,     -999,9,     -999,9,     -999,9,   2352.4,2,    501.8,6,   7.8744,2,    25.00,     -999,9,      0.5,2,     -999,9,     -999,9
33RO20230413  ,A16N       ,102     ,  1,1020118    ,18         ,2,20230426,1823,  40.9987, -19.9961,     4708,    199.7,  14.1324,  35.8579,2,  35.8644,2,    220.3,2,    238.4,2,     2.10,2,     5.10,2,     0.03,2,     0.38,2,     -999,9,     -999,9,     -999,9,   2138.5,2,   2350.9,2,    519.6,2,   7.8623,2,    25.00,     -999,9,      0.4,2,     -999,9,     -999,9
33RO20230413  ,A16N       ,102     ,  1,1020117    ,17         ,2,20230426,1823,  40.9987, -19.9961,     4708,    275.1,  13.2735,  35.7358,2,  35.7423,2,    224.3,2,    240.3,2,     2.20,2,     6.20,2,     0.02,2,     0.45,2,     -999,9,     -999,9,     -999,9,   2140.9,2,   2342.6,2,    543.2,2,   7.8463,2,    25.00,     -999,9,      0.4,2,     -999,9,     -999,9
33RO20230413  ,A16N       ,102     ,  1,1020116    ,16         ,2,20230426,1823,  40.9987, -19.9961,     4708,    366.8,  12.5296,  35.6202,2,  35.6274,2,    207.2,2,    222.2,2,     3.40,2,     9.70,2,     0.01,2,     0.65,2,     -999,9,     -999,9,     -999,9,   2155.0,2,   2336.5,2,    610.8,2,   7.7998,2,    25.00,     -999,9,      0.4,2,     -999,9,     -999,9
33RO20230413  ,A16N       ,102     ,  1,1020115    ,15         ,2,20230426,1823,  40.9987, -19.9961,     4708,    466.8,  11.7532,  35.5320,2,  35.5406,2,    206.4,2,    222.1,2,     4.00,2,    11.30,2,     0.01,2,     0.75,2,     -999,9,     -999,9,     -999,9,     -999,9,   2328.9,2,    650.6,2,   7.7782,2,    25.00,     -999,9,      0.5,2,     -999,9,     -999,9
33RO20230413  ,A16N       ,102     ,  1,1020114    ,14         ,2,20230426,1823,  40.9987, -19.9961,     4708,    600.0,  11.0988,  35.4877,2,  35.4982,2,    190.2,2,    204.2,2,     6.00,2,    14.30,2,     0.01,2,     0.93,2,     -999,9,     -999,9,     -999,9,   2175.6,2,   2330.2,2,    703.2,2,   7.7492,2,    25.00,     -999,9,      0.3,2,     -999,9,     -999,9
33RO20230413  ,A16N       ,102     ,  1,1020113    ,13         ,2,20230426,1823,  40.9987, -19.9961,     4708,    749.7,  10.5375,  35.5763,2,  35.5893,2,    170.7,2,    184.0,2,     8.30,2,    16.80,2,     0.01,2,     1.08,2,     -999,9,     -999,9,     -999,9,   2192.1,2,   2337.3,2,    738.9,2,   7.7308,2,    25.00,     -999,9,      0.5,2,     -999,9,     -999,9
33RO20230413  ,A16N       ,102     ,  1,1020112    ,12         ,2,20230426,1823,  40.9987, -19.9961,     4708,    900.4,   9.8234,  35.6392,2,  35.6596,2,    168.6,2,    183.2,2,     9.70,2,    17.50,2,     0.01,2,     1.15,2,     -999,9,     -999,9,     -999,9,   2199.3,2,   2346.6,2,    749.1,2,   7.7276,2,    25.00,     -999,9,      0.5,2,     -999,9,     -999,9
33RO20230413  ,A16N       ,102     ,  1,1020111    ,11         ,2,20230426,1823,  40.9987, -19.9961,     4708,   1050.1,   9.7151,  35.7794,2,  35.7896,2,    170.5,2,    184.6,2,    10.10,2,    17.20,2,     0.01,2,     1.12,2,     -999,9,     -999,9,     -999,9,   2205.6,2,   2360.0,2,    734.3,2,   7.7358,2,    25.00,     -999,9,      0.5,2,     -999,9,     -999,9
33RO20230413  ,A16N       ,102     ,  1,1020110    ,10         ,2,20230426,1823,  40.9987, -19.9961,     4708,   1231.5,   8.2605,  35.6177,2,  35.6301,2,    186.8,2,    202.8,2,    10.70,2,    17.30,2,     0.00,2,     1.13,2,     -999,9,     -999,9,     -999,9,     -999,9,   2348.9,6,    749.7,2,   7.7254,6,    25.00,     -999,9,      0.7,2,     -999,9,     -999,9
33RO20230413  ,A16N       ,102     ,  1,1020109    ,9          ,2,20230426,1823,  40.9987, -19.9961,     4708,   1500.5,   5.6338,  35.2089,2,  35.2326,2,    219.0,2,    237.6,2,    11.40,2,    17.50,2,     0.00,2,     1.17,2,     -999,9,     -999,9,     -999,9,   2185.0,2,   2320.8,2,    783.1,2,   7.7057,2,    25.00,     -999,9,      0.7,2,     -999,9,     -999,9
33RO20230413  ,A16N       ,102     ,  1,1020108    ,8          ,2,20230426,1823,  40.9987, -19.9961,     4708,   1867.4,   4.3784,  35.0489,2,  35.0619,2,    231.8,2,    254.3,2,    12.90,2,    17.50,2,     0.00,2,     1.19,2,     -999,9,     -999,9,     -999,9,   2174.8,2,   2309.1,2,    779.4,2,   7.7046,2,    25.00,     -999,9,      0.8,2,     -999,9,     -999,9
33RO20230413  ,A16N       ,102     ,  1,1020107    ,7          ,2,20230426,1823,  40.9987, -19.9961,     4708,   2266.5,   3.6226,  34.9871,2,  35.0002,6,    233.1,2,    258.2,2,    17.40,2,    18.10,2,     0.00,2,     1.24,2,     -999,9,     -999,9,     -999,9,   2174.4,2,   2310.1,2,    763.6,2,   7.7138,2,    25.00,     -999,9,      0.9,2,     -999,9,     -999,9
33RO20230413  ,A16N       ,102     ,  1,1020106    ,6          ,2,20230426,1823,  40.9987, -19.9961,     4708,   2665.4,   3.0889,  34.9546,2,  34.9656,2,    228.5,2,    253.9,2,    24.60,2,    19.00,2,     0.00,2,     1.30,2,     -999,9,     -999,9,     -999,9,     -999,9,   2319.3,2,    758.1,2,   7.7174,2,    25.00,     -999,9,      1.0,2,     -999,9,     -999,9
33RO20230413  ,A16N       ,102     ,  1,1020105    ,5          ,2,20230426,1823,  40.9987, -19.9961,     4708,   3073.6,   2.8443,  34.9394,2,  34.9527,2,    222.9,2,    248.0,2,    31.20,2,    20.00,2,     0.00,2,     1.36,2,     -999,9,     -999,9,     -999,9,   2187.2,2,   2329.2,2,    758.8,2,   7.7191,2,    25.00,     -999,9,      1.0,2,     -999,9,     -999,9
33RO20230413  ,A16N       ,102     ,  1,1020104    ,4          ,2,20230426,1823,  40.9987, -19.9961,     4708,   3466.6,   2.6575,  34.9229,2,  34.9370,2,    218.2,2,    244.0,6,    37.30,2,    20.80,2,     0.00,2,     1.44,2,     -999,9,     -999,9,     -999,9,   2194.6,2,   2335.8,2,    764.8,2,   7.7160,2,    25.00,     -999,9,      1.0,2,     -999,9,     -999,9
33RO20230413  ,A16N       ,102     ,  1,1020103    ,3          ,2,20230426,1823,  40.9987, -19.9961,     4708,   3866.7,   2.5742,  34.9122,2,  34.9220,2,    214.7,2,    241.7,2,    41.90,2,    21.50,2,     0.00,2,     1.49,2,     -999,9,     -999,9,     -999,9,   2202.1,2,   2344.3,2,    765.4,2,   7.7157,2,    25.00,     -999,9,      1.0,2,     -999,9,     -999,9
33RO20230413  ,A16N       ,102     ,  1,1020102    ,2          ,2,20230426,1823,  40.9987, -19.9961,     4708,   4263.7,   2.5183,  34.9026,2,  34.8880,2,    214.4,2,    241.5,2,    44.20,2,    21.80,2,     0.00,2,     1.51,2,     -999,9,     -999,9,     -999,9,   2203.8,6,   2347.6,2,    761.4,2,   7.7184,2,    25.00,     -999,9,      0.9,2,     -999,9,     -999,9
33RO20230413  ,A16N       ,102     ,  1,1020101    ,1          ,2,20230426,1823,  40.9987, -19.9961,     4708,   4769.6,   2.5064,  34.8950,2,  34.8975,2,    215.4,2,    241.3,6,    45.90,2,    22.10,2,     0.00,2,     1.52,2,     -999,9,     -999,9,     -999,9,   2206.2,2,   2348.8,2,    759.0,2,   7.7206,2,    25.00,     -999,9,      1.0,6,     -999,9,     -999,9
33RO20230413  ,A16N       ,103     ,  2,1030224    ,24         ,2,20230427,0100,  41.4991, -19.9950,     2559,     15.3,  16.0617,  35.9178,2,  35.9390,2,    232.4,2,     -999,9,     1.40,2,     0.10,2,     0.04,2,     0.07,2,     -999,9,     -999,9,     -999,9,   2099.4,2,   2359.4,2,    437.2,2,   7.9234,2,    25.00,     -999,9,      0.9,2,     -999,9,     -999,9
33RO20230413  ,A16N       ,103     ,  2,1030223    ,23         ,2,20230427,0100,  41.4991, -19.9950,     2559,     33.4,  15.7907,  35.9445,2,  35.9528,2,    233.8,2,     -999,9,     1.30,2,     0.30,2,     0.06,2,     0.08,2,     -999,9,     -999,9,     -999,9,   2108.9,2,   2358.7,2,    442.4,2,   7.9205,2,    25.00,     -999,9,      0.9,2,     -999,9,     -999,9
33RO20230413  ,A16N       ,103     ,  2,1030222    ,22         ,2,20230427,0100,  41.4991, -19.9950,     2559,     58.6,  15.6008,  35.9569,2,  35.9576,2,    234.0,2,     -999,9,     1.40,2,     0.60,2,     0.08,2,     0.09,2,     -999,9,     -999,9,     -999,9,   2103.1,2,   2359.5,2,    446.9,2,   7.8814,3,    25.00,     -999,9,      0.9,2,     -999,9,     -999,9
33RO20230413  ,A16N       ,103     ,  2,1030221    ,21         ,2,20230427,0100,  41.4991, -19.9950,     2559,     83.3,  14.9469,  35.9221,2,  35.9232,2,    234.8,2,     -999,9,     1.70,2,     1.30,2,     0.15,2,     0.16,2,     -999,9,     -999,9,     -999,9,   2116.3,2,   2356.2,2,    467.7,2,   7.8986,2,    25.00,     -999,9,      0.8,2,     -999,9,     -999,9
33RO20230413  ,A16N       ,103     ,  2,1030220    ,20         ,2,20230427,0100,  41.4991, -19.9950,     2559,    120.3,  14.4742,  35.8933,2,  35.9036,2,    224.8,2,     -999,9,     1.70,2,     3.60,2,     0.29,2,     0.29,2,     -999,9,     -999,9,     -999,9,   2134.9,2,   2353.8,6,    500.5,2,   7.8750,6,    25.00,     -999,9,      0.7,2,     -999,9,     -999,9
33RO20230413  ,A16N       ,103     ,  2,1030219    ,19         ,2,20230427,0100,  41.4991, -19.9950,     2559,    136.5,  14.3763,  35.8888,2,  35.8926,2,    223.3,2,     -999,9,     1.80,2,     4.00,2,     0.16,2,     0.30,2,     -999,9,     -999,9,     -999,9,   2136.1,2,   2352.4,2,    506.2,2,   7.8709,2,    25.00,     -999,9,      0.7,2,     -999,9,     -999,9
33RO20230413  ,A16N       ,103     ,  2,1030218    ,18         ,2,20230427,0100,  41.4991, -19.9950,     2559,    157.7,  14.2733,  35.8851,2,  35.9037,2,    221.7,2,     -999,9,     1.90,2,     4.60,2,     0.02,2,     0.33,2,     -999,9,     -999,9,     -999,9,     -999,9,   2354.3,2,    512.1,2,   7.8661,2,    25.00,     -999,9,      0.7,2,     -999,9,     -999,9
33RO20230413  ,A16N       ,103     ,  2,1030217    ,17         ,2,20230427,0100,  41.4991, -19.9950,     2559,    183.5,  13.9859,  35.8410,2,  35.8650,2,    224.8,2,     -999,9,     1.80,2,     4.60,2,     0.02,2,     0.33,2,     -999,9,     -999,9,     -999,9,   2134.3,2,   2351.4,2,    516.2,2,   7.8639,2,    25.00,     -999,9,      0.7,2,     -999,9,     -999,9
33RO20230413  ,A16N       ,103     ,  2,1030216    ,16         ,2,20230427,0100,  41.4991, -19.9950,     2559,    225.6,  13.7772,  35.8126,2,  35.8191,2,    222.1,2,     -999,9,     2.10,2,     5.40,2,     0.01,2,     0.38,2,     -999,9,     -999,9,     -999,9,   2135.8,2,   2348.9,2,    528.5,2,   7.8559,2,    25.00,     -999,9,      0.6,2,     -999,9,     -999,9
33RO20230413  ,A16N       ,103     ,  2,1030215    ,15         ,2,20230427,0100,  41.4991, -19.9950,     2559,    267.6,  13.2712,  35.7335,2,  35.7343,2,    216.1,2,     -999,9,     2.60,2,     7.30,2,     0.01,2,     0.49,2,     -999,9,     -999,9,     -999,9,     -999,9,   2343.4,2,    562.5,2,   7.8318,2,    25.00,     -999,9,      0.5,2,     -999,9,     -999,9
33RO20230413  ,A16N       ,103     ,  2,1030214    ,14         ,2,20230427,0100,  41.4991, -19.9950,     2559,    340.5,  12.5872,  35.6326,2,  35.6403,2,    202.7,2,     -999,9,     3.80,2,    10.30,2,     0.01,2,     0.67,2,     -999,9,     -999,9,     -999,9,   2156.6,2,   2339.4,2,    616.5,2,   7.7980,2,    25.00,     -999,9,      0.4,2,     -999,9,     -999,9
33RO20230413  ,A16N       ,103     ,  2,1030213    ,13         ,2,20230427,0100,  41.4991, -19.9950,     2559,    400.0,  12.2158,  35.5880,2,  35.5919,2,    201.8,2,     -999,9,     4.10,2,    11.10,2,     0.00,2,     0.72,2,     -999,9,     -999,9,     -999,9,     -999,9,   2334.9,2,    637.6,2,   7.7848,2,    25.00,     -999,9,      0.5,2,     -999,9,     -999,9
33RO20230413  ,A16N       ,103     ,  2,1030212    ,12         ,2,20230427,0100,  41.4991, -19.9950,     2559,    475.6,  11.8254,  35.5476,2,  35.5498,2,    198.8,2,     -999,9,     4.50,2,    12.10,2,     0.01,2,     0.77,2,     -999,9,     -999,9,     -999,9,     -999,9,   2333.3,2,    659.9,6,   7.7712,2,    25.00,     -999,9,      0.4,2,     -999,9,     -999,9
33RO20230413  ,A16N       ,103     ,  2,1030211    ,11         ,2,20230427,0100,  41.4991, -19.9950,     2559,    550.8,  11.4830,  35.5172,2,  35.5471,2,    198.1,2,     -999,9,     4.80,2,    12.80,2,     0.01,2,     0.82,2,     -999,9,     -999,9,     -999,9,   2166.1,2,   2328.3,2,    677.7,2,   7.7612,2,    25.00,     -999,9,      0.4,2,     -999,9,     -999,9
33RO20230413  ,A16N       ,103     ,  2,1030210    ,10         ,2,20230427,0100,  41.4991, -19.9950,     2559,    641.4,  10.9092,  35.4844,2,  35.4898,2,    184.9,2,     -999,9,     6.50,2,    15.10,2,     0.00,2,     0.97,2,     -999,9,     -999,9,     -999,9,   2176.1,2,   2330.2,2,    717.3,2,   7.7408,2,    25.00,     -999,9,      0.5,2,     -999,9,     -999,9
33RO20230413  ,A16N       ,103     ,  2,1030209    ,9          ,2,20230427,0100,  41.4991, -19.9950,     2559,    800.6,  10.5517,  35.6332,2,  35.6416,2,    169.7,2,     -999,9,     8.50,2,    16.60,2,     0.00,2,     1.07,2,     -999,9,     -999,9,     -999,9,   2190.1,2,   2344.1,2,    736.9,2,   7.7326,2,    25.00,     -999,9,      0.5,2,     -999,9,     -999,9
33RO20230413  ,A16N       ,103     ,  2,1030208    ,8          ,2,20230427,0100,  41.4991, -19.9950,     2559,    950.2,  10.2588,  35.7885,2,  35.7954,2,    167.1,2,     -999,9,     9.50,2,    16.90,2,     0.00,2,     1.09,2,     -999,9,     -999,9,     -999,9,   2200.1,2,   2358.2,2,    730.6,2,   7.7370,2,    25.00,     -999,9,      0.7,6,     -999,9,     -999,9
33RO20230413  ,A16N       ,103     ,  2,1030207    ,7          ,2,20230427,0100,  41.4991, -19.9950,     2559,   1070.3,  10.1642,  35.8767,2,  35.8911,2,    167.8,2,     -999,9,     9.80,2,    16.80,2,     0.00,2,     1.07,2,     -999,9,     -999,9,     -999,9,     -999,9,   2366.0,2,   -999.0,9,   7.7420,2,    25.00,     -999,9,      0.6,2,     -999,9,     -999,9
33RO20230413  ,A16N       ,103     ,  2,1030206    ,6          ,2,20230427,0100,  41.4991, -19.9950,     2559,   1270.1,   8.1856,  35.5897,2,  35.5979,2,    187.7,2,     -999,9,    10.70,2,    17.40,2,     0.00,2,     1.14,2,     -999,9,     -999,9,     -999,9,   2196.6,2,   2348.0,2,    754.8,2,   7.7225,2,    25.00,     -999,9,      0.7,2,     -999,9,     -999,9
33RO20230413  ,A16N       ,103     ,  2,1030205    ,5          ,2,20230427,0100,  41.4991, -19.9950,     2559,   1469.7,   6.6954,  35.3873,2,  35.3934,2,    206.6,2,     -999,9,    11.30,2,    17.50,2,     0.00,2,     1.15,2,     -999,9,     -999,9,     -999,9,   2187.8,2,   2333.8,6,    767.2,2,   7.7151,6,    25.00,     -999,9,      0.8,2,     -999,9,     -999,9
33RO20230413  ,A16N       ,103     ,  2,1030204    ,4          ,2,20230427,0100,  41.4991, -19.9950,     2559,   1670.6,   5.1125,  35.1387,2,  35.1481,2,    227.1,2,     -999,9,    11.70,6,    17.40,6,     0.00,6,     1.17,6,     -999,9,     -999,9,     -999,9,   2177.9,2,   2317.8,2,    783.2,2,   7.7051,2,    25.00,     -999,9,      0.8,2,     -999,9,     -999,9
33RO20230413  ,A16N       ,103     ,  2,1030203    ,3          ,2,20230427,0100,  41.4991, -19.9950,     2559,   1869.2,   4.4904,  35.0651,2,  35.0725,6,    232.8,2,     -999,9,    12.80,6,    17.50,6,     0.00,6,     1.18,6,     -999,9,     -999,9,     -999,9,   2173.7,2,   2313.6,2,    777.9,2,   7.7061,2,    25.00,     -999,9,      0.9,2,     -999,9,     -999,9
33RO20230413  ,A16N       ,103     ,  2,1030202    ,2          ,2,20230427,0100,  41.4991, -19.9950,     2559,   2069.9,   3.9586,  34.9998,2,  35.0084,2,    237.6,2,     -999,9,    14.20,6,    17.50,6,     0.00,6,     1.19,6,     -999,9,     -999,9,     -999,9,   2171.3,6,   2309.6,2,    776.0,2,   7.7062,2,    25.00,     -999,9,      0.9,2,     -999,9,     -999,9
33RO20230413  ,A16N       ,103     ,  2,1030201    ,1          ,2,20230427,0100,  41.4991, -19.9950,     2559,   2616.4,   3.1382,  34.9470,2,  34.9598,2,    237.0,2,     -999,9,    21.70,6,    18.30,6,     0.00,6,     1.25,6,     -999,9,     -999,9,     -999,9,   2175.9,2,   2316.1,2,    767.0,2,   7.7141,2,    25.00,     -999,9,      1.1,6,     -999,9,     -999,9