BOTTLE,20240627CCHHYDRO
EXPOCODE,SECT_ID,STNNBR,CASTNO,SAMPNO,BTLNBR,BTLNBR_FLAG_W,DATE,TIME,LATITUDE,LONGITUDE,DEPTH,CTDPRS,CTDTMP,CTDSAL,CTDSAL_FLAG_W,SALNTY,SALNTY_FLAG_W,CTDOXY,CTDOXY_FLAG_W,OXYGEN,OXYGEN_FLAG_W,SILCAT,SILCAT_FLAG_W,NITRAT,NITRAT_FLAG_W,NITRIT,NITRIT_FLAG_W,PHSPHT,PHSPHT_FLAG_W,CFC-11,CFC-11_FLAG_W,CFC-12,CFC-12_FLAG_W,SF6,SF6_FLAG_W,TCARBN,TCARBN_FLAG_W,ALKALI,ALKALI_FLAG_W,FCO2,FCO2_FLAG_W,PH_TOT,PH_TOT_FLAG_W,PH_TMP,DOC,DOC_FLAG_W,DELC13,DELC13_FLAG_W,TDN,TDN_FLAG_W,N2O,N2O_FLAG_W
,,,,,,,,,,,METERS,DBAR,ITS-90,PSS-78,,PSS-78,,UMOL/KG,,UMOL/KG,,UMOL/KG,,UMOL/KG,,UMOL/KG,,UMOL/KG,,PMOL/KG,,PMOL/KG,,FMOL/KG,,UMOL/KG,,UMOL/KG,,UATM,,,,DEG C,UMOL/KG,,/MILLE,,UMOL/KG,,NMOL/KG,
33RO20230413  ,A16N       ,82      ,  1,820124     ,24         ,2,20230420,0259,  30.9976, -22.8089,     5247,      4.0,  20.4698,  36.9308,2,  36.9384,2,    210.8,2,     -999,9,     0.80,2,     0.00,2,     0.01,2,     0.04,2,     -999,9,     -999,9,     -999,9,   2126.2,6,   2415.1,2,    391.0,2,   7.9751,2,    25.00,     -999,9,      0.7,2,     -999,9,     -999,9
33RO20230413  ,A16N       ,82      ,  1,820123     ,23         ,2,20230420,0259,  30.9976, -22.8089,     5247,     40.1,  20.2544,  36.9507,2,  36.9579,2,    211.7,2,    223.4,6,     0.80,2,     0.00,2,     0.01,2,     0.03,2,     -999,9,     -999,9,     -999,9,   2121.4,2,   2415.7,2,    388.5,6,   7.9761,2,    25.00,     -999,9,      0.8,2,     -999,9,     -999,9
33RO20230413  ,A16N       ,82      ,  1,820122     ,22         ,2,20230420,0259,  30.9976, -22.8089,     5247,     90.7,  18.7781,  36.6849,2,  36.6861,2,    214.7,2,    226.2,2,     0.90,2,     0.10,2,     0.01,2,     0.04,2,     -999,9,     -999,9,     -999,9,   2116.9,2,   2398.9,2,    397.9,2,   7.9651,2,    25.00,     -999,9,      0.7,2,     -999,9,     -999,9
33RO20230413  ,A16N       ,82      ,  1,820121     ,21         ,2,20230420,0259,  30.9976, -22.8089,     5247,    141.1,  18.4567,  36.6415,2,  36.6393,2,    206.9,2,    217.7,2,     1.10,2,     1.00,2,     0.02,2,     0.09,2,     -999,9,     -999,9,     -999,9,   2124.4,2,   2396.1,6,    414.7,2,   7.9510,6,    25.00,     -999,9,      0.7,2,     -999,9,     -999,9
33RO20230413  ,A16N       ,82      ,  1,820120     ,20         ,2,20230420,0259,  30.9976, -22.8089,     5247,    190.2,  17.9970,  36.5347,2,  36.5206,2,    204.5,2,    215.6,2,     1.30,2,     1.90,2,     0.02,2,     0.14,2,     -999,9,     -999,9,     -999,9,   2124.8,2,   2388.8,2,    430.6,2,   7.9367,2,    25.00,     -999,9,      0.6,2,     -999,9,     -999,9
33RO20230413  ,A16N       ,82      ,  1,820119     ,19         ,2,20230420,0259,  30.9976, -22.8089,     5247,    276.3,  15.6346,  36.1033,2,  36.1075,2,    191.4,2,    203.0,2,     2.60,2,     6.80,2,     0.01,2,     0.43,2,     -999,9,     -999,9,     -999,9,   2142.1,2,   2362.6,2,    513.8,2,   7.8696,2,    25.00,     -999,9,      0.4,2,     -999,9,     -999,9
33RO20230413  ,A16N       ,82      ,  1,820118     ,18         ,2,20230420,0259,  30.9976, -22.8089,     5247,    425.8,  13.3169,  35.7493,2,  35.7715,2,    186.1,2,    197.3,2,     4.40,2,    11.40,2,     0.01,2,     0.72,2,     -999,9,     -999,9,     -999,9,   2157.7,2,   2343.8,2,    611.7,2,   7.8037,2,    25.00,     -999,9,      0.5,2,     -999,9,     -999,9
33RO20230413  ,A16N       ,82      ,  1,820117     ,17         ,2,20230420,0259,  30.9976, -22.8089,     5247,    581.0,  11.7777,  35.5956,2,  35.6043,2,    172.5,2,    183.7,2,     6.40,2,    15.30,2,     0.01,2,     0.95,2,     -999,9,     -999,9,     -999,9,   2173.4,2,   2335.2,2,    696.0,2,   7.7540,2,    25.00,     -999,9,      0.6,2,     -999,9,     -999,9
33RO20230413  ,A16N       ,82      ,  1,820116     ,16         ,2,20230420,0259,  30.9976, -22.8089,     5247,    750.5,  10.5331,  35.5438,2,  35.5706,2,    155.0,2,    174.2,2,    10.10,2,    19.00,2,     0.01,2,     1.21,2,     -999,9,     -999,9,     -999,9,   2188.2,6,   2336.7,2,    764.1,2,   7.7191,2,    25.00,     -999,9,      0.7,6,     -999,9,     -999,9
33RO20230413  ,A16N       ,82      ,  1,820115     ,15         ,2,20230420,0259,  30.9976, -22.8089,     5247,    990.9,   9.1743,  35.5858,2,  35.5879,2,    160.0,2,    172.2,2,    12.80,2,    19.90,2,     0.01,2,     1.29,2,     -999,9,     -999,9,     -999,9,   2198.3,2,   2345.3,2,    770.8,2,   7.7168,2,    25.00,     -999,9,      0.8,2,     -999,9,     -999,9
33RO20230413  ,A16N       ,82      ,  1,820114     ,14         ,2,20230420,0259,  30.9976, -22.8089,     5247,   1241.1,   7.9823,  35.5611,2,  35.5882,2,    176.3,2,    189.6,2,    13.70,2,    19.30,2,     0.01,2,     1.25,2,     -999,9,     -999,9,     -999,9,   2199.6,2,   2346.6,2,    756.7,2,   7.7220,2,    25.00,     -999,9,      0.8,2,     -999,9,     -999,9
33RO20230413  ,A16N       ,82      ,  1,820113     ,13         ,2,20230420,0259,  30.9976, -22.8089,     5247,   1500.1,   6.1862,  35.3422,2,  35.3486,2,    200.8,2,    218.0,2,    14.50,2,    18.70,2,     0.01,2,     1.25,2,     -999,9,     -999,9,     -999,9,   2186.1,2,   2332.8,2,    757.0,2,   7.7223,2,    25.00,     -999,9,      0.9,2,     -999,9,     -999,9
33RO20230413  ,A16N       ,82      ,  1,820112     ,12         ,2,20230420,0259,  30.9976, -22.8089,     5247,   1740.5,   5.0644,  35.1999,2,  35.2042,2,    214.4,2,    233.3,2,    15.70,2,    18.40,2,     0.00,2,     1.25,2,     -999,9,     -999,9,     -999,9,   2181.0,2,   2325.3,2,    754.4,2,   7.7226,2,    25.00,     -999,9,      0.8,2,     -999,9,     -999,9
33RO20230413  ,A16N       ,82      ,  1,820111     ,11         ,2,20230420,0259,  30.9976, -22.8089,     5247,   2026.3,   4.1398,  35.0789,2,  35.0886,2,    222.0,2,    242.5,2,    18.70,2,    18.70,2,     0.00,2,     1.27,2,     -999,9,     -999,9,     -999,9,   2176.4,2,   2320.9,2,    751.5,2,   7.7198,2,    25.00,     -999,9,      1.0,2,     -999,9,     -999,9
33RO20230413  ,A16N       ,82      ,  1,820110     ,10         ,2,20230420,0259,  30.9976, -22.8089,     5247,   2325.0,   3.5099,  35.0096,2,  35.0223,6,    222.3,2,    244.8,2,    23.90,2,    19.40,2,     0.00,2,     1.33,2,     -999,9,     -999,9,     -999,9,   2177.3,2,   2323.4,2,    751.4,2,   7.7226,2,    25.00,     -999,9,      1.0,2,     -999,9,     -999,9
33RO20230413  ,A16N       ,82      ,  1,820109     ,9          ,2,20230420,0259,  30.9976, -22.8089,     5247,   2625.6,   3.0800,  34.9675,2,  34.9809,2,    220.5,2,    244.0,2,    29.30,2,    20.00,2,     0.00,2,     1.38,2,     -999,9,     -999,9,     -999,9,   2182.6,2,   2329.3,2,    753.2,2,   7.7233,2,    25.00,     -999,9,      1.1,2,     -999,9,     -999,9
33RO20230413  ,A16N       ,82      ,  1,820108     ,8          ,2,20230420,0259,  30.9976, -22.8089,     5247,   2927.0,   2.8217,  34.9434,2,  34.9466,2,    218.2,2,    242.0,6,    34.20,2,    20.70,2,     0.00,2,     1.43,2,     -999,9,     -999,9,     -999,9,   2190.0,2,   2334.1,2,    755.6,2,   7.7231,2,    25.00,     -999,9,      1.1,2,     -999,9,     -999,9
33RO20230413  ,A16N       ,82      ,  1,820107     ,7          ,2,20230420,0259,  30.9976, -22.8089,     5247,   3226.4,   2.6577,  34.9269,2,  34.9409,2,    216.1,2,    241.6,2,    38.20,2,    21.30,2,     0.00,2,     1.46,2,     -999,9,     -999,9,     -999,9,   2192.7,2,   2339.1,2,    757.4,2,   7.7236,2,    25.00,     -999,9,      1.0,2,     -999,9,     -999,9
33RO20230413  ,A16N       ,82      ,  1,820106     ,6          ,2,20230420,0259,  30.9976, -22.8089,     5247,   3525.8,   2.5436,  34.9137,2,  34.9222,2,    214.9,2,    240.6,2,    41.50,2,    21.80,2,     0.01,2,     1.50,2,     -999,9,     -999,9,     -999,9,   2193.3,2,   2340.9,2,    757.5,2,   7.7227,2,    25.00,     -999,9,      1.1,2,     -999,9,     -999,9
33RO20230413  ,A16N       ,82      ,  1,820105     ,5          ,2,20230420,0259,  30.9976, -22.8089,     5247,   3826.3,   2.4698,  34.9036,2,  34.9082,2,    214.5,2,    239.5,2,    43.80,2,    22.00,2,     0.00,2,     1.52,2,     -999,9,     -999,9,     -999,9,   2195.1,2,   2341.4,2,    760.0,2,   7.7233,2,    25.00,     -999,9,      1.1,2,     -999,9,     -999,9
33RO20230413  ,A16N       ,82      ,  1,820104     ,4          ,2,20230420,0259,  30.9976, -22.8089,     5247,   4125.5,   2.4197,  34.8955,2,  34.9053,2,    214.4,2,    240.7,2,    45.50,2,    22.10,2,     0.00,2,     1.52,2,     -999,9,     -999,9,     -999,9,   2197.0,2,   2342.9,6,    761.1,2,   7.7207,6,    25.00,     -999,9,      1.0,2,     -999,9,     -999,9
33RO20230413  ,A16N       ,82      ,  1,820103     ,3          ,2,20230420,0259,  30.9976, -22.8089,     5247,   4426.2,   2.3954,  34.8895,2,  34.8927,2,    214.3,2,    241.2,2,    46.70,2,    22.20,2,     0.00,2,     1.54,2,     -999,9,     -999,9,     -999,9,   2198.9,2,   2344.4,2,    763.1,2,   7.7206,2,    25.00,     -999,9,      1.1,2,     -999,9,     -999,9
33RO20230413  ,A16N       ,82      ,  1,820102     ,2          ,2,20230420,0259,  30.9976, -22.8089,     5247,   4701.2,   2.4013,  34.8865,2,  34.8904,2,    214.2,2,    241.4,2,    47.60,2,    22.20,2,     0.01,2,     1.53,2,     -999,9,     -999,9,     -999,9,   2200.4,6,   2347.8,2,    762.5,2,   7.7208,2,    25.00,     -999,9,      1.0,2,     -999,9,     -999,9
33RO20230413  ,A16N       ,82      ,  1,820101     ,1          ,2,20230420,0259,  30.9976, -22.8089,     5247,   5306.7,   2.4584,  34.8838,2,  34.8861,2,    215.4,2,    240.5,6,    48.00,2,    22.30,2,     0.01,2,     1.54,2,     -999,9,     -999,9,     -999,9,   2203.1,2,   2349.0,2,    762.2,2,   7.7201,2,    25.00,     -999,9,      1.0,6,     -999,9,     -999,9
33RO20230413  ,A16N       ,83      ,  2,830224     ,24         ,2,20230420,1153,  31.4972, -22.5299,     5306,      3.1,  20.3542,  36.8949,2,  36.8983,2,    211.5,2,    223.3,2,     0.70,2,     0.00,2,     0.01,2,     0.02,2,     -999,9,     -999,9,     -999,9,   2125.2,6,   2411.4,2,    392.2,2,   7.9758,2,    25.00,     -999,9,      0.9,6,     -999,9,     -999,9
33RO20230413  ,A16N       ,83      ,  2,830223     ,23         ,2,20230420,1153,  31.4972, -22.5299,     5306,     51.0,  20.3413,  36.9541,2,  36.9568,2,    210.9,2,    223.7,2,     1.10,2,     0.00,2,     0.00,2,     0.01,2,     -999,9,     -999,9,     -999,9,   2126.0,2,   2414.2,2,    387.7,2,   7.9769,2,    25.00,     -999,9,      0.7,2,     -999,9,     -999,9
33RO20230413  ,A16N       ,83      ,  2,830222     ,22         ,2,20230420,1153,  31.4972, -22.5299,     5306,    100.3,  19.1980,  36.8379,2,  36.8454,6,    207.4,2,    220.1,2,     0.70,2,     0.20,2,     0.01,2,     0.04,2,     -999,9,     -999,9,     -999,9,   2128.4,2,   2407.5,2,    402.3,6,   7.9639,2,    25.00,     -999,9,      0.7,2,     -999,9,     -999,9
33RO20230413  ,A16N       ,83      ,  2,830221     ,21         ,2,20230420,1153,  31.4972, -22.5299,     5306,    150.8,  17.9124,  36.5671,2,  36.5627,2,    192.9,2,    203.0,2,     1.20,2,     2.90,2,     0.02,2,     0.18,2,     -999,9,     -999,9,     -999,9,   2137.1,2,   2389.3,2,    451.7,2,   7.9213,2,    25.00,     -999,9,      0.6,2,     -999,9,     -999,9
33RO20230413  ,A16N       ,83      ,  2,830220     ,20         ,2,20230420,1153,  31.4972, -22.5299,     5306,    201.1,  16.7485,  36.3284,2,  36.3345,2,    188.3,2,    199.8,2,     1.80,2,     5.20,2,     0.01,2,     0.31,2,     -999,9,     -999,9,     -999,9,   2143.5,2,   2374.3,2,    487.0,2,   7.8922,2,    25.00,     -999,9,      0.6,2,     -999,9,     -999,9
33RO20230413  ,A16N       ,83      ,  2,830219     ,19         ,2,20230420,1153,  31.4972, -22.5299,     5306,    300.7,  15.1153,  36.0329,2,  36.0538,2,    184.9,2,    197.1,2,     2.70,2,     8.20,2,     0.01,2,     0.50,2,     -999,9,     -999,9,     -999,9,   2148.4,2,   2356.9,2,    545.9,2,   7.8478,2,    25.00,     -999,9,      0.5,2,     -999,9,     -999,9
33RO20230413  ,A16N       ,83      ,  2,830218     ,18         ,2,20230420,1153,  31.4972, -22.5299,     5306,    400.0,  13.5482,  35.7960,2,  35.7974,2,    180.2,2,    192.8,2,     4.00,2,    11.30,2,     0.01,2,     0.69,2,     -999,9,     -999,9,     -999,9,   2159.9,2,   2344.7,2,    613.1,2,   7.8033,2,    25.00,     -999,9,      0.5,2,     -999,9,     -999,9
33RO20230413  ,A16N       ,83      ,  2,830217     ,17         ,2,20230420,1153,  31.4972, -22.5299,     5306,    600.4,  11.7067,  35.5903,2,  35.5931,2,    171.8,2,    183.5,2,     6.30,2,    15.20,2,     0.00,2,     0.96,2,     -999,9,     -999,9,     -999,9,   2175.5,2,   2333.1,2,    700.7,2,   7.7518,2,    25.00,     -999,9,      0.5,2,     -999,9,     -999,9
33RO20230413  ,A16N       ,83      ,  2,830216     ,16         ,2,20230420,1153,  31.4972, -22.5299,     5306,    801.0,  10.3543,  35.5541,2,  35.5762,2,    162.3,2,    174.0,2,     9.40,2,    18.00,2,     0.00,2,     1.15,2,     -999,9,     -999,9,     -999,9,   2188.4,6,   2338.1,2,    750.9,2,   7.7263,2,    25.00,     -999,9,      0.6,2,     -999,9,     -999,9
33RO20230413  ,A16N       ,83      ,  2,830215     ,15         ,2,20230420,1153,  31.4972, -22.5299,     5306,   1000.6,   9.1166,  35.5821,2,  35.5894,2,    161.5,2,    173.7,2,    12.20,2,    19.50,2,     0.00,2,     1.26,2,     -999,9,     -999,9,     -999,9,   2196.2,2,   2343.7,6,    768.0,2,   7.7151,6,    25.00,     -999,9,      0.7,2,     -999,9,     -999,9
33RO20230413  ,A16N       ,83      ,  2,830214     ,14         ,2,20230420,1153,  31.4972, -22.5299,     5306,   1200.8,   8.4458,  35.6481,2,  35.6516,2,    174.5,2,    188.8,2,    12.50,2,    18.60,2,     0.00,2,     1.20,2,     -999,9,     -999,9,     -999,9,   2202.9,2,   2350.1,2,    745.9,2,   7.7303,2,    25.00,     -999,9,      0.8,2,     -999,9,     -999,9
33RO20230413  ,A16N       ,83      ,  2,830213     ,13         ,2,20230420,1153,  31.4972, -22.5299,     5306,   1450.6,   6.2931,  35.3448,2,  35.3493,2,    205.2,2,    222.3,2,    12.70,2,    18.00,2,     0.00,2,     1.18,2,     -999,9,     -999,9,     -999,9,   2187.9,2,   2329.9,2,    761.1,2,   7.7202,2,    25.00,     -999,9,      0.8,2,     -999,9,     -999,9
33RO20230413  ,A16N       ,83      ,  2,830212     ,12         ,2,20230420,1153,  31.4972, -22.5299,     5306,   1699.9,   5.1599,  35.2062,2,  35.2129,2,    216.2,2,    235.3,2,    14.30,2,    18.00,2,     0.00,2,     1.20,2,     -999,9,     -999,9,     -999,9,   2178.1,2,   2323.6,2,    757.9,2,   7.7216,2,    25.00,     -999,9,      0.8,2,     -999,9,     -999,9
33RO20230413  ,A16N       ,83      ,  2,830211     ,11         ,2,20230420,1153,  31.4972, -22.5299,     5306,   1949.9,   4.4078,  35.1164,2,  35.1211,2,    220.6,2,    241.1,2,    17.30,2,    18.40,2,     0.00,2,     1.26,2,     -999,9,     -999,9,     -999,9,   2177.0,2,   2319.0,2,    751.6,2,   7.7223,2,    25.00,     -999,9,      0.9,2,     -999,9,     -999,9
33RO20230413  ,A16N       ,83      ,  2,830210     ,10         ,2,20230420,1153,  31.4972, -22.5299,     5306,   2250.3,   3.6691,  35.0248,2,  35.0391,2,    223.9,2,    245.9,2,    21.50,2,    18.90,2,     0.00,2,     1.30,2,     -999,9,     -999,9,     -999,9,   2172.0,2,   2317.4,2,    750.7,2,   7.7227,2,    25.00,     -999,9,      0.9,2,     -999,9,     -999,9
33RO20230413  ,A16N       ,83      ,  2,830209     ,9          ,2,20230420,1153,  31.4972, -22.5299,     5306,   2550.1,   3.1861,  34.9751,2,  34.9964,2,    222.9,2,    246.7,6,    26.70,2,    19.40,2,     0.00,2,     1.35,2,     -999,9,     -999,9,     -999,9,   2175.4,2,   2323.9,2,    752.8,2,   7.7232,2,    25.00,     -999,9,      1.0,2,     -999,9,     -999,9
33RO20230413  ,A16N       ,83      ,  2,830208     ,8          ,2,20230420,1153,  31.4972, -22.5299,     5306,   2851.3,   2.8931,  34.9486,2,  34.9515,2,    220.2,2,    245.8,2,    31.80,2,    20.10,2,     0.00,2,     1.39,2,     -999,9,     -999,9,     -999,9,   2189.1,2,   2330.0,2,    754.3,2,   7.7260,2,    25.00,     -999,9,      1.0,2,     -999,9,     -999,9
33RO20230413  ,A16N       ,83      ,  2,830207     ,7          ,2,20230420,1153,  31.4972, -22.5299,     5306,   3150.1,   2.6989,  34.9306,2,  34.9352,2,    217.4,2,    242.6,2,    36.50,2,    20.80,2,     0.00,2,     1.44,2,     -999,9,     -999,9,     -999,9,   2190.0,2,   2335.5,2,    756.5,2,   7.7231,2,    25.00,     -999,9,      1.0,2,     -999,9,     -999,9
33RO20230413  ,A16N       ,83      ,  2,830206     ,6          ,2,20230420,1153,  31.4972, -22.5299,     5306,   3449.5,   2.5828,  34.9179,2,  34.9195,2,    215.6,2,    241.2,2,    40.10,2,    21.30,2,     0.00,2,     1.48,2,     -999,9,     -999,9,     -999,9,   2191.5,2,   2339.2,2,    756.7,2,   7.7235,2,    25.00,     -999,9,      1.0,2,     -999,9,     -999,9
33RO20230413  ,A16N       ,83      ,  2,830205     ,5          ,2,20230420,1153,  31.4972, -22.5299,     5306,   3751.5,   2.5025,  34.9073,2,  34.9211,2,    214.9,2,    240.5,2,    42.80,2,    21.60,2,     0.00,2,     1.50,2,     -999,9,     -999,9,     -999,9,   2196.1,2,   2340.7,2,    757.9,2,   7.7234,2,    25.00,     -999,9,      1.0,2,     -999,9,     -999,9
33RO20230413  ,A16N       ,83      ,  2,830204     ,4          ,2,20230420,1153,  31.4972, -22.5299,     5306,   4001.1,   2.4514,  34.8998,2,  34.9030,2,    214.7,2,    241.1,2,    44.40,6,    21.70,6,     0.00,6,     1.50,6,     -999,9,     -999,9,     -999,9,   2195.5,2,   2340.3,2,    759.4,2,   7.7212,2,    25.00,     -999,9,      1.0,2,     -999,9,     -999,9
33RO20230413  ,A16N       ,83      ,  2,830203     ,3          ,2,20230420,1153,  31.4972, -22.5299,     5306,   4350.6,   2.4068,  34.8914,2,  34.8941,2,    214.5,2,    241.7,2,    46.30,6,    21.90,6,     0.00,6,     1.51,6,     -999,9,     -999,9,     -999,9,   2205.4,2,   2342.7,6,    763.0,2,   7.7218,6,    25.00,     -999,9,      1.0,2,     -999,9,     -999,9
33RO20230413  ,A16N       ,83      ,  2,830202     ,2          ,2,20230420,1153,  31.4972, -22.5299,     5306,   4500.2,   2.4008,  34.8891,2,  34.8992,6,    214.5,2,    242.0,2,    46.90,6,    22.00,6,     0.00,6,     1.51,6,     -999,9,     -999,9,     -999,9,   2200.5,2,   2346.3,2,    763.6,2,   7.7205,2,    25.00,     -999,9,      1.0,2,     -999,9,     -999,9
33RO20230413  ,A16N       ,83      ,  2,830201     ,1          ,2,20230420,1153,  31.4972, -22.5299,     5306,   5306.5,   2.4572,  34.8836,2,  34.8870,2,    215.5,2,    240.7,6,    48.20,6,    22.10,6,     0.00,6,     1.52,6,     -999,9,     -999,9,     -999,9,   2205.8,2,   2339.3,2,    764.3,2,   7.7207,2,    25.00,     -999,9,      1.1,6,     -999,9,     -999,9