BOTTLE,20240627CCHHYDRO
EXPOCODE,SECT_ID,STNNBR,CASTNO,SAMPNO,BTLNBR,BTLNBR_FLAG_W,DATE,TIME,LATITUDE,LONGITUDE,DEPTH,CTDPRS,CTDTMP,CTDSAL,CTDSAL_FLAG_W,SALNTY,SALNTY_FLAG_W,CTDOXY,CTDOXY_FLAG_W,OXYGEN,OXYGEN_FLAG_W,SILCAT,SILCAT_FLAG_W,NITRAT,NITRAT_FLAG_W,NITRIT,NITRIT_FLAG_W,PHSPHT,PHSPHT_FLAG_W,CFC-11,CFC-11_FLAG_W,CFC-12,CFC-12_FLAG_W,SF6,SF6_FLAG_W,TCARBN,TCARBN_FLAG_W,ALKALI,ALKALI_FLAG_W,FCO2,FCO2_FLAG_W,PH_TOT,PH_TOT_FLAG_W,PH_TMP,DOC,DOC_FLAG_W,DELC13,DELC13_FLAG_W,TDN,TDN_FLAG_W,N2O,N2O_FLAG_W
,,,,,,,,,,,METERS,DBAR,ITS-90,PSS-78,,PSS-78,,UMOL/KG,,UMOL/KG,,UMOL/KG,,UMOL/KG,,UMOL/KG,,UMOL/KG,,PMOL/KG,,PMOL/KG,,FMOL/KG,,UMOL/KG,,UMOL/KG,,UATM,,,,DEG C,UMOL/KG,,/MILLE,,UMOL/KG,,NMOL/KG,
33RO20230413  ,A16N       ,104     ,  1,1040124    ,24         ,2,20230427,0624,  41.9988, -19.9932,     2445,      4.5,  16.2100,  36.0145,2,  36.0153,6,    230.6,2,    245.6,2,     1.10,2,     0.20,2,     0.05,2,     0.09,2,     -999,9,     -999,9,     -999,9,   2113.8,6,   2364.9,2,    437.9,2,   7.9248,2,    25.00,     -999,9,      0.7,2,     -999,9,     -999,9
33RO20230413  ,A16N       ,104     ,  1,1040123    ,23         ,2,20230427,0624,  41.9988, -19.9932,     2445,     25.5,  16.0723,  36.0018,2,  36.0018,2,    231.3,2,    246.4,2,     1.20,2,     0.50,2,     0.08,2,     0.11,2,     -999,9,     -999,9,     -999,9,   2114.3,2,   2361.8,2,    443.3,2,   7.9204,2,    25.00,     -999,9,      0.7,2,     -999,9,     -999,9
33RO20230413  ,A16N       ,104     ,  1,1040122    ,22         ,2,20230427,0624,  41.9988, -19.9932,     2445,     50.3,  15.4836,  35.9593,2,  35.9751,2,    232.2,2,    245.5,2,     1.30,2,     1.20,2,     0.22,2,     0.16,2,     -999,9,     -999,9,     -999,9,   2118.6,2,   2360.7,2,    457.0,2,   7.9089,2,    25.00,     -999,9,      0.6,2,     -999,9,     -999,9
33RO20230413  ,A16N       ,104     ,  1,1040121    ,21         ,2,20230427,0624,  41.9988, -19.9932,     2445,     75.3,  15.3931,  36.0364,2,  36.0510,2,    222.5,2,    235.7,2,     1.30,2,     2.40,2,     0.15,2,     0.21,2,     -999,9,     -999,9,     -999,9,   2126.9,2,   2362.7,2,    472.1,2,   7.8982,2,    25.00,     -999,9,      0.5,2,     -999,9,     -999,9
33RO20230413  ,A16N       ,104     ,  1,1040120    ,20         ,2,20230427,0624,  41.9988, -19.9932,     2445,    100.0,  15.0909,  36.0026,2,  36.0252,2,    220.7,2,    234.2,2,     1.50,2,     3.40,2,     0.06,2,     0.26,2,     -999,9,     -999,9,     -999,9,   2128.7,2,   2360.0,2,    484.0,2,   7.8884,2,    25.00,     -999,9,      0.5,2,     -999,9,     -999,9
33RO20230413  ,A16N       ,104     ,  1,1040119    ,19         ,2,20230427,0624,  41.9988, -19.9932,     2445,    124.3,  14.9797,  35.9967,2,  36.0070,2,    217.9,2,    231.9,2,     1.60,2,     4.00,2,     0.02,2,     0.29,2,     -999,9,     -999,9,     -999,9,   2133.1,2,   2360.1,2,    492.1,2,   7.8819,2,    25.00,     -999,9,      0.5,2,     -999,9,     -999,9
33RO20230413  ,A16N       ,104     ,  1,1040118    ,18         ,2,20230427,0624,  41.9988, -19.9932,     2445,    150.0,  14.6720,  35.9462,2,  35.9485,2,    214.1,2,    228.2,2,     2.00,2,     5.40,2,     0.01,2,     0.37,2,     -999,9,     -999,9,     -999,9,   2135.9,2,   2358.7,2,    510.4,2,   7.8681,2,    25.00,     -999,9,      0.6,2,     -999,9,     -999,9
33RO20230413  ,A16N       ,104     ,  1,1040117    ,17         ,2,20230427,0624,  41.9988, -19.9932,     2445,    175.2,  14.5064,  35.9220,2,  35.9216,2,    215.0,2,    230.0,2,     1.90,2,     5.10,2,     0.01,2,     0.35,2,     -999,9,     -999,9,     -999,9,   2138.4,2,   2355.0,2,    513.7,2,   7.8656,2,    25.00,     -999,9,      0.5,2,     -999,9,     -999,9
33RO20230413  ,A16N       ,104     ,  1,1040116    ,16         ,2,20230427,0624,  41.9988, -19.9932,     2445,    200.9,  14.1929,  35.8716,2,  35.8758,2,    213.2,2,    228.2,2,     2.10,2,     6.00,2,     0.01,2,     0.42,2,     -999,9,     -999,9,     -999,9,   2140.1,2,   2352.1,2,    529.0,2,   7.8549,2,    25.00,     -999,9,      0.5,2,     -999,9,     -999,9
33RO20230413  ,A16N       ,104     ,  1,1040115    ,15         ,2,20230427,0624,  41.9988, -19.9932,     2445,    249.4,  13.6853,  35.7896,2,  35.7885,2,    209.5,2,    225.4,2,     2.70,2,     7.60,2,     0.01,2,     0.52,2,     -999,9,     -999,9,     -999,9,   2145.2,2,   2348.1,2,    554.9,2,   7.8378,2,    25.00,     -999,9,      0.5,2,     -999,9,     -999,9
33RO20230413  ,A16N       ,104     ,  1,1040114    ,14         ,2,20230427,0624,  41.9988, -19.9932,     2445,    300.8,  13.2857,  35.7302,2,  35.5102,2,    205.6,2,    219.8,2,     3.10,2,     8.90,2,     0.01,2,     0.58,2,     -999,9,     -999,9,     -999,9,   2149.1,2,   2344.2,2,    581.3,2,   7.8194,2,    25.00,     -999,9,      0.5,2,     -999,9,     -999,9
33RO20230413  ,A16N       ,104     ,  1,1040113    ,13         ,2,20230427,0624,  41.9988, -19.9932,     2445,    360.2,  12.8715,  35.6695,2,  35.6707,2,    202.6,2,    217.7,2,     3.60,2,    10.00,2,     0.01,2,     0.65,2,     -999,9,     -999,9,     -999,9,   2153.7,2,   2339.7,6,    602.4,2,   7.8052,6,    25.00,     -999,9,      0.4,2,     -999,9,     -999,9
33RO20230413  ,A16N       ,104     ,  1,1040112    ,12         ,2,20230427,0624,  41.9988, -19.9932,     2445,    448.9,  12.2528,  35.5888,2,  35.5904,2,    195.2,2,    209.1,2,     4.70,2,    12.00,2,     0.00,2,     0.77,2,     -999,9,     -999,9,     -999,9,   2162.0,6,   2336.4,2,    642.0,2,   7.7814,2,    25.00,     -999,9,      0.4,2,     -999,9,     -999,9
33RO20230413  ,A16N       ,104     ,  1,1040111    ,11         ,2,20230427,0624,  41.9988, -19.9932,     2445,    500.6,  11.7760,  35.5327,2,  35.5359,2,    191.2,2,    205.2,2,     5.40,2,    13.20,2,     0.00,2,     0.85,2,     -999,9,     -999,9,     -999,9,   2165.8,2,   2332.2,2,    668.1,2,   7.7643,2,    25.00,     -999,9,      0.4,2,     -999,9,     -999,9
33RO20230413  ,A16N       ,104     ,  1,1040110    ,10         ,2,20230427,0624,  41.9988, -19.9932,     2445,    610.6,  10.9957,  35.4801,2,  35.4827,6,    183.2,2,    197.0,2,     6.50,2,    15.10,2,     0.00,2,     0.98,2,     -999,9,     -999,9,     -999,9,   2174.8,2,   2331.0,2,    712.3,2,   7.7408,2,    25.00,     -999,9,      0.4,2,     -999,9,     -999,9
33RO20230413  ,A16N       ,104     ,  1,1040109    ,9          ,2,20230427,0624,  41.9988, -19.9932,     2445,    701.2,  10.4986,  35.4745,2,  35.4776,2,    175.6,2,    188.8,2,     7.80,2,    16.50,2,     0.00,2,     1.07,2,     -999,9,     -999,9,     -999,9,   2182.2,2,   2334.7,2,    739.5,6,   7.7276,2,    25.00,     -999,9,      0.5,2,     -999,9,     -999,9
33RO20230413  ,A16N       ,104     ,  1,1040108    ,8          ,2,20230427,0624,  41.9988, -19.9932,     2445,    850.4,   9.5345,  35.5149,2,  35.5226,2,    170.5,2,    184.7,2,     9.80,2,    18.00,2,     0.00,2,     1.17,2,     -999,9,     -999,9,     -999,9,   2192.0,2,   2340.0,2,    766.6,2,   7.7136,2,    25.00,     -999,9,      0.6,6,     -999,9,     -999,9
33RO20230413  ,A16N       ,104     ,  1,1040107    ,7          ,2,20230427,0624,  41.9988, -19.9932,     2445,   1000.4,   8.7790,  35.5261,2,  35.5633,2,    176.8,2,    191.2,2,    10.40,2,    18.10,2,     0.00,2,     1.18,2,     -999,9,     -999,9,     -999,9,   2195.5,2,   2342.2,2,    769.2,2,   7.7143,2,    25.00,     -999,9,   -999.0,9,     -999,9,     -999,9
33RO20230413  ,A16N       ,104     ,  1,1040106    ,6          ,2,20230427,0624,  41.9988, -19.9932,     2445,   1201.6,   8.0750,  35.5681,2,  35.5737,2,    189.3,2,    204.7,6,    10.70,2,    17.50,2,     0.00,2,     1.14,2,     -999,9,     -999,9,     -999,9,   2198.9,2,   2347.7,2,    757.0,2,   7.7205,2,    25.00,     -999,9,      0.7,2,     -999,9,     -999,9
33RO20230413  ,A16N       ,104     ,  1,1040105    ,5          ,2,20230427,0624,  41.9988, -19.9932,     2445,   1400.7,   5.5451,  35.1646,2,  35.1824,2,    221.8,2,    239.5,2,    11.10,2,    17.70,2,     0.00,2,     1.18,2,     -999,9,     -999,9,     -999,9,   2185.5,2,   2319.7,2,    796.6,2,   7.6953,2,    25.00,     -999,9,      0.7,2,     -999,9,     -999,9
33RO20230413  ,A16N       ,104     ,  1,1040104    ,4          ,2,20230427,0624,  41.9988, -19.9932,     2445,   1600.7,   4.8141,  35.0840,2,  35.0897,2,    232.0,2,    252.4,2,    11.50,2,    17.40,2,     0.00,2,     1.17,2,     -999,9,     -999,9,     -999,9,   2177.3,2,   2317.7,2,    789.8,2,   7.6948,2,    25.00,     -999,9,      0.7,2,     -999,9,     -999,9
33RO20230413  ,A16N       ,104     ,  1,1040103    ,3          ,2,20230427,0624,  41.9988, -19.9932,     2445,   1801.1,   4.1424,  34.9932,2,  34.9995,2,    240.4,2,    261.8,2,    12.10,2,    17.40,2,     0.00,2,     1.17,2,     -999,9,     -999,9,     -999,9,   2171.6,6,   2307.9,2,    788.4,2,   7.6978,2,    25.00,     -999,9,      0.8,2,     -999,9,     -999,9
33RO20230413  ,A16N       ,104     ,  1,1040102    ,2          ,2,20230427,0624,  41.9988, -19.9932,     2445,   2100.9,   3.7502,  34.9723,2,  34.9752,2,    240.3,2,    261.4,2,    14.40,2,    17.50,2,     0.00,2,     1.19,2,     -999,9,     -999,9,     -999,9,   2173.2,2,   2306.9,6,   -999.0,9,   7.7040,6,    25.00,     -999,9,      0.9,2,     -999,9,     -999,9
33RO20230413  ,A16N       ,104     ,  1,1040101    ,1          ,2,20230427,0624,  41.9988, -19.9932,     2445,   2499.4,   3.2362,  34.9513,2,  34.9537,2,    237.9,2,    259.8,6,    20.10,2,    18.10,2,     0.00,2,     1.25,2,     -999,9,     -999,9,     -999,9,   2175.6,2,   2334.1,3,    765.0,2,   7.7121,2,    25.00,     -999,9,      0.9,6,     -999,9,     -999,9
33RO20230413  ,A16N       ,105     ,  1,1050124    ,24         ,2,20230427,1243,  42.4971, -19.9950,     4164,      4.2,  15.1810,  35.7971,2,  35.7995,2,    240.8,2,    255.1,2,     1.90,2,     2.30,2,     0.11,2,     0.21,2,     -999,9,     -999,9,     -999,9,   2117.4,2,   2349.9,2,    460.7,2,   7.9066,2,    25.00,     -999,9,      0.8,6,     -999,9,     -999,9
33RO20230413  ,A16N       ,105     ,  1,1050123    ,23         ,2,20230427,1243,  42.4971, -19.9950,     4164,     20.2,  14.9678,  35.8036,2,  35.8029,6,    241.5,2,    255.8,2,     1.90,2,     2.50,2,     0.12,2,     0.22,2,     -999,9,     -999,9,     -999,9,   2117.8,2,   2353.5,2,    463.4,2,   7.9035,2,    25.00,     -999,9,      0.7,2,     -999,9,     -999,9
33RO20230413  ,A16N       ,105     ,  1,1050122    ,22         ,2,20230427,1243,  42.4971, -19.9950,     4164,     40.5,  14.3810,  35.8232,2,  35.8256,2,    241.0,2,    255.6,2,     2.10,2,     3.20,2,     0.16,2,     0.26,2,     -999,9,     -999,9,     -999,9,   2124.2,2,   2351.7,2,    476.1,2,   7.8970,2,    25.00,     -999,9,      0.8,2,     -999,9,     -999,9
33RO20230413  ,A16N       ,105     ,  1,1050121    ,21         ,2,20230427,1243,  42.4971, -19.9950,     4164,     68.4,  14.1742,  35.8277,2,  35.8297,2,    236.3,2,    250.8,2,     2.00,2,     3.70,2,     0.25,2,     0.31,2,     -999,9,     -999,9,     -999,9,   2127.3,2,   2351.1,2,    492.3,2,   7.8818,2,    25.00,     -999,9,      0.6,2,     -999,9,     -999,9
33RO20230413  ,A16N       ,105     ,  1,1050120    ,20         ,2,20230427,1243,  42.4971, -19.9950,     4164,     89.3,  14.0895,  35.8238,2,  35.8265,2,    234.8,2,    248.9,2,     2.10,2,     4.00,2,     0.32,2,     0.33,2,     -999,9,     -999,9,     -999,9,   2132.1,2,   2350.0,2,    498.9,2,   7.8772,2,    25.00,     -999,9,      0.7,2,     -999,9,     -999,9
33RO20230413  ,A16N       ,105     ,  1,1050119    ,19         ,2,20230427,1243,  42.4971, -19.9950,     4164,    115.5,  13.8893,  35.8250,2,  35.8247,2,    231.6,2,    247.0,2,     2.00,2,     4.80,2,     0.41,2,     0.37,2,     -999,9,     -999,9,     -999,9,   2133.0,2,   2347.4,2,    512.2,2,   7.8684,2,    25.00,     -999,9,      0.6,2,     -999,9,     -999,9
33RO20230413  ,A16N       ,105     ,  1,1050118    ,18         ,2,20230427,1243,  42.4971, -19.9950,     4164,    139.7,  13.7949,  35.8121,2,  35.8123,2,    230.5,2,    245.5,2,     2.10,2,     5.30,2,     0.21,2,     0.38,2,     -999,9,     -999,9,     -999,9,   2135.8,2,   2349.5,2,    517.6,2,   7.8636,2,    25.00,     -999,9,      0.6,2,     -999,9,     -999,9
33RO20230413  ,A16N       ,105     ,  1,1050117    ,17         ,2,20230427,1243,  42.4971, -19.9950,     4164,    189.7,  13.5214,  35.7745,2,  35.7774,2,    227.2,2,    241.7,2,     2.30,2,     6.10,2,     0.04,2,     0.43,2,     -999,9,     -999,9,     -999,9,   2140.6,2,   2347.5,2,    531.6,2,   7.8556,2,    25.00,     -999,9,      0.6,2,     -999,9,     -999,9
33RO20230413  ,A16N       ,105     ,  1,1050116    ,16         ,2,20230427,1243,  42.4971, -19.9950,     4164,    238.5,  13.3201,  35.7457,2,  35.7478,2,    226.1,2,    240.7,2,     2.50,2,     6.60,2,     0.03,2,     0.46,2,     -999,9,     -999,9,     -999,9,   2145.5,2,   2344.5,6,    540.4,2,   7.8474,6,    25.00,     -999,9,      0.6,2,     -999,9,     -999,9
33RO20230413  ,A16N       ,105     ,  1,1050115    ,15         ,2,20230427,1243,  42.4971, -19.9950,     4164,    325.5,  12.8698,  35.6909,2,  35.6921,2,    227.3,2,    241.8,2,     2.60,2,     7.00,2,     0.01,2,     0.49,2,     -999,9,     -999,9,     -999,9,   2087.1,4,   2342.0,2,    554.6,2,   7.8388,2,    25.00,     -999,9,      0.5,2,     -999,9,     -999,9
33RO20230413  ,A16N       ,105     ,  1,1050114    ,14         ,2,20230427,1243,  42.4971, -19.9950,     4164,    380.6,  12.2919,  35.5844,2,  35.5909,2,    203.3,2,    225.5,2,     4.30,2,    11.10,2,     0.01,2,     0.73,2,     -999,9,     -999,9,     -999,9,   2148.3,2,   2337.8,2,    627.5,2,   7.7907,2,    25.00,     -999,9,      0.5,2,     -999,9,     -999,9
33RO20230413  ,A16N       ,105     ,  1,1050113    ,13         ,2,20230427,1243,  42.4971, -19.9950,     4164,    485.7,  11.4048,  35.4769,2,  35.4841,2,    195.4,2,    217.2,2,     5.60,2,    13.50,2,     0.01,2,     0.88,2,     -999,9,     -999,9,     -999,9,   2145.8,2,   2329.7,2,    678.6,2,   7.7625,2,    25.00,     -999,9,      0.5,2,     -999,9,     -999,9
33RO20230413  ,A16N       ,105     ,  1,1050112    ,12         ,2,20230427,1243,  42.4971, -19.9950,     4164,    590.9,  10.7807,  35.4369,2,  35.4436,2,    187.4,2,    200.4,2,     6.50,2,    15.10,2,     0.01,2,     0.98,2,     -999,9,     -999,9,     -999,9,   2152.9,2,   2329.4,2,    718.4,2,   7.7385,2,    25.00,     -999,9,      0.5,2,     -999,9,     -999,9
33RO20230413  ,A16N       ,105     ,  1,1050111    ,11         ,2,20230427,1243,  42.4971, -19.9950,     4164,    749.0,   9.8652,  35.4257,2,  35.4461,2,    172.7,2,    186.1,2,     8.80,2,    17.50,2,     0.00,2,     1.14,2,     -999,9,     -999,9,     -999,9,   2168.7,2,   2336.8,2,    765.9,2,   7.7193,2,    25.00,     -999,9,      0.6,2,     -999,9,     -999,9
33RO20230413  ,A16N       ,105     ,  1,1050110    ,10         ,2,20230427,1243,  42.4971, -19.9950,     4164,    899.4,   9.7439,  35.6193,2,  35.6255,2,    170.3,2,    184.4,2,     9.60,2,    17.50,2,     0.00,2,     1.14,2,     -999,9,     -999,9,     -999,9,   2175.5,2,   2345.8,2,    753.8,2,   7.7231,2,    25.00,     -999,9,      0.5,2,     -999,9,     -999,9
33RO20230413  ,A16N       ,105     ,  1,1050109    ,9          ,2,20230427,1243,  42.4971, -19.9950,     4164,   1025.9,   9.1027,  35.6344,2,  35.6399,2,    175.5,2,    188.6,2,    10.30,2,    17.60,2,     0.00,2,     1.15,2,     -999,9,     -999,9,     -999,9,   2184.3,2,   2349.4,2,    754.4,2,   7.7219,2,    25.00,     -999,9,      0.7,2,     -999,9,     -999,9
33RO20230413  ,A16N       ,105     ,  1,1050108    ,8          ,2,20230427,1243,  42.4971, -19.9950,     4164,   1200.9,   7.8051,  35.5264,2,  35.5322,2,    192.0,2,    209.2,6,    10.90,2,    17.50,2,     0.00,2,     1.16,2,     -999,9,     -999,9,     -999,9,   2182.0,2,   2343.7,2,    761.7,2,   7.7187,2,    25.00,     -999,9,      0.8,2,     -999,9,     -999,9
33RO20230413  ,A16N       ,105     ,  1,1050107    ,7          ,2,20230427,1243,  42.4971, -19.9950,     4164,   1500.2,   4.9992,  35.0971,2,  35.1006,2,    228.5,2,    248.0,2,    11.40,2,    17.60,2,     0.00,2,     1.18,2,     -999,9,     -999,9,     -999,9,   2167.2,2,   2313.7,2,    795.3,2,   7.6973,2,    25.00,     -999,9,      0.8,2,     -999,9,     -999,9
33RO20230413  ,A16N       ,105     ,  1,1050106    ,6          ,2,20230427,1243,  42.4971, -19.9950,     4164,   1900.6,   3.8468,  34.9596,2,  34.9648,6,    240.9,2,    261.8,2,    12.90,2,    17.50,2,     0.00,2,     1.19,2,     -999,9,     -999,9,     -999,9,   2158.0,2,   2305.4,2,    787.8,6,   7.7004,2,    25.00,     -999,9,      1.0,2,     -999,9,     -999,9
33RO20230413  ,A16N       ,105     ,  1,1050105    ,5          ,2,20230427,1243,  42.4971, -19.9950,     4164,   2266.9,   3.4303,  34.9492,2,  34.9540,2,    238.4,2,    261.9,2,    16.50,2,    17.80,2,     0.00,2,     1.22,2,     -999,9,     -999,9,     -999,9,   2157.2,2,   2307.9,6,   -999.0,9,   7.7075,6,    25.00,     -999,9,      1.0,2,     -999,9,     -999,9
33RO20230413  ,A16N       ,105     ,  1,1050104    ,4          ,2,20230427,1243,  42.4971, -19.9950,     4164,   2661.7,   3.0123,  34.9398,2,  34.9466,2,    235.9,2,    260.6,2,    21.30,2,    18.00,2,     0.00,2,     1.24,2,     -999,9,     -999,9,     -999,9,   2165.4,2,   2319.1,2,    776.8,2,   7.7081,2,    25.00,     -999,9,      1.0,2,     -999,9,     -999,9
33RO20230413  ,A16N       ,105     ,  1,1050103    ,3          ,2,20230427,1243,  42.4971, -19.9950,     4164,   3067.8,   2.7594,  34.9326,2,  34.9345,2,    225.5,2,    250.5,2,    31.60,2,    19.70,2,     0.00,2,     1.37,2,     -999,9,     -999,9,     -999,9,   2178.3,2,   2331.2,2,    771.3,2,   7.7120,2,    25.00,     -999,9,      1.0,2,     -999,9,     -999,9
33RO20230413  ,A16N       ,105     ,  1,1050102    ,2          ,2,20230427,1243,  42.4971, -19.9950,     4164,   3568.5,   2.6126,  34.9179,2,  34.9269,2,    218.3,2,    243.8,2,    39.30,2,    21.00,2,     0.00,2,     1.46,2,     -999,9,     -999,9,     -999,9,   2191.6,2,   2339.6,2,    769.4,2,   7.7119,2,    25.00,     -999,9,      1.0,2,     -999,9,     -999,9
33RO20230413  ,A16N       ,105     ,  1,1050101    ,1          ,2,20230427,1243,  42.4971, -19.9950,     4164,   4221.8,   2.5560,  34.9062,2,  34.9096,2,    215.8,2,    239.5,6,    43.80,2,    21.90,2,     0.00,2,     1.52,2,     -999,9,     -999,9,     -999,9,   2204.1,2,   2347.5,2,    763.4,2,   7.7154,2,    25.00,     -999,9,      1.0,6,     -999,9,     -999,9