BOTTLE,20240627CCHHYDRO
EXPOCODE,SECT_ID,STNNBR,CASTNO,SAMPNO,BTLNBR,BTLNBR_FLAG_W,DATE,TIME,LATITUDE,LONGITUDE,DEPTH,CTDPRS,CTDTMP,CTDSAL,CTDSAL_FLAG_W,SALNTY,SALNTY_FLAG_W,CTDOXY,CTDOXY_FLAG_W,OXYGEN,OXYGEN_FLAG_W,SILCAT,SILCAT_FLAG_W,NITRAT,NITRAT_FLAG_W,NITRIT,NITRIT_FLAG_W,PHSPHT,PHSPHT_FLAG_W,CFC-11,CFC-11_FLAG_W,CFC-12,CFC-12_FLAG_W,SF6,SF6_FLAG_W,TCARBN,TCARBN_FLAG_W,ALKALI,ALKALI_FLAG_W,FCO2,FCO2_FLAG_W,PH_TOT,PH_TOT_FLAG_W,PH_TMP,DOC,DOC_FLAG_W,DELC13,DELC13_FLAG_W,TDN,TDN_FLAG_W,N2O,N2O_FLAG_W
,,,,,,,,,,,METERS,DBAR,ITS-90,PSS-78,,PSS-78,,UMOL/KG,,UMOL/KG,,UMOL/KG,,UMOL/KG,,UMOL/KG,,UMOL/KG,,PMOL/KG,,PMOL/KG,,FMOL/KG,,UMOL/KG,,UMOL/KG,,UATM,,,,DEG C,UMOL/KG,,/MILLE,,UMOL/KG,,NMOL/KG,
33RO20230413  ,A16N       ,136     ,  1,1360124    ,24         ,2,20230505,0925,  58.0000, -20.0004,     1636,      5.6,  10.3951,  35.2337,2,  35.2377,2,    255.3,2,    271.4,2,     4.40,2,     8.90,2,     0.29,2,     0.65,2,     -999,9,     -999,9,     -999,9,   2138.9,6,   2319.5,2,    598.9,2,   7.8044,2,    25.00,     -999,9,      0.6,2,     -999,9,     -999,9
33RO20230413  ,A16N       ,136     ,  1,1360123    ,23         ,2,20230505,0925,  58.0000, -20.0004,     1636,     12.0,  10.3967,  35.2338,2,  -9.0000,9,    255.2,2,    262.8,4,     4.40,2,     8.80,2,     0.29,2,     0.65,2,     -999,9,     -999,9,     -999,9,   2137.7,2,   2318.8,2,    598.8,2,   7.8058,2,    25.00,     -999,9,      0.7,2,     -999,9,     -999,9
33RO20230413  ,A16N       ,136     ,  1,1360122    ,22         ,2,20230505,0925,  58.0000, -20.0004,     1636,     24.3,  10.3928,  35.2364,2,  34.9163,2,    254.8,2,    271.0,2,     4.40,2,     8.90,2,     0.30,2,     0.66,2,     -999,9,     -999,9,     -999,9,   2137.8,2,   2319.9,2,    600.3,6,   7.8057,2,    25.00,     -999,9,      0.6,2,     -999,9,     -999,9
33RO20230413  ,A16N       ,136     ,  1,1360121    ,21         ,2,20230505,0925,  58.0000, -20.0004,     1636,     35.8,  10.3776,  35.2389,2,  -9.0000,9,    254.6,2,    271.0,2,     4.40,2,     8.90,2,     0.30,2,     0.66,2,     -999,9,     -999,9,     -999,9,   2138.8,2,   2319.5,2,    601.0,2,   7.8041,2,    25.00,     -999,9,      0.6,2,     -999,9,     -999,9
33RO20230413  ,A16N       ,136     ,  1,1360120    ,20         ,2,20230505,0925,  58.0000, -20.0004,     1636,     41.0,  10.3704,  35.2396,2,  -9.0000,9,    254.4,2,     -999,9,     -999,9,     -999,9,     -999,9,     -999,9,     -999,9,     -999,9,     -999,9,     -999,9,   -999.0,9,   -999.0,9,-999.0000,9,    25.00,     -999,9,     -999,9,     -999,9,     -999,9
33RO20230413  ,A16N       ,136     ,  1,1360119    ,19         ,2,20230505,0925,  58.0000, -20.0004,     1636,     50.2,  10.3086,  35.2725,2,  35.2793,2,    251.9,2,    267.9,2,     4.40,2,     9.20,2,     0.28,2,     0.67,2,     -999,9,     -999,9,     -999,9,   2142.2,2,   2322.9,6,    608.3,2,   7.8007,6,    25.00,     -999,9,      0.6,2,     -999,9,     -999,9
33RO20230413  ,A16N       ,136     ,  1,1360118    ,18         ,2,20230505,0925,  58.0000, -20.0004,     1636,     74.9,  10.2637,  35.2765,2,  -9.0000,9,    250.4,2,    266.4,2,     4.40,2,     9.40,2,     0.31,2,     0.68,2,     -999,9,     -999,9,     -999,9,   2143.4,2,   2323.5,2,    611.1,2,   7.7986,2,    25.00,     -999,9,      0.6,2,     -999,9,     -999,9
33RO20230413  ,A16N       ,136     ,  1,1360117    ,17         ,2,20230505,0925,  58.0000, -20.0004,     1636,    100.8,  10.2855,  35.2823,2,  35.2864,2,    249.5,2,    265.5,2,     4.40,2,     9.50,2,     0.28,2,     0.68,2,     -999,9,     -999,9,     -999,9,   2144.0,2,   2321.7,2,    612.1,2,   7.7977,2,    25.00,     -999,9,      0.7,2,     -999,9,     -999,9
33RO20230413  ,A16N       ,136     ,  1,1360116    ,16         ,2,20230505,0925,  58.0000, -20.0004,     1636,    133.5,  10.3307,  35.3261,2,  -9.0000,9,    246.3,2,    262.7,6,     4.40,2,     9.90,2,     0.25,2,     0.69,2,     -999,9,     -999,9,     -999,9,   2147.5,2,   2324.5,2,    619.1,2,   7.7936,2,    25.00,     -999,9,      0.7,2,     -999,9,     -999,9
33RO20230413  ,A16N       ,136     ,  1,1360115    ,15         ,2,20230505,0925,  58.0000, -20.0004,     1636,    167.2,  10.3465,  35.3592,2,  35.3756,2,    246.3,2,    262.7,2,     4.40,2,    10.20,2,     0.16,2,     0.71,2,     -999,9,     -999,9,     -999,9,   2151.0,2,   2325.1,2,    620.2,2,   7.7941,2,    25.00,     -999,9,      0.6,2,     -999,9,     -999,9
33RO20230413  ,A16N       ,136     ,  1,1360114    ,14         ,2,20230505,0925,  58.0000, -20.0004,     1636,    200.0,  10.3179,  35.3559,2,  -9.0000,9,    247.3,2,     -999,9,     -999,9,     -999,9,     -999,9,     -999,9,     -999,9,     -999,9,     -999,9,     -999,9,   -999.0,9,   -999.0,9,-999.0000,9,    25.00,     -999,9,     -999,9,     -999,9,     -999,9
33RO20230413  ,A16N       ,136     ,  1,1360113    ,13         ,2,20230505,0925,  58.0000, -20.0004,     1636,    217.3,  10.3166,  35.3566,2,  -9.0000,9,    246.8,2,    263.2,2,     4.40,2,    10.10,2,     0.18,2,     0.70,2,     -999,9,     -999,9,     -999,9,   2148.1,2,   2326.0,2,    619.8,2,   7.7922,2,    25.00,     -999,9,      0.6,2,     -999,9,     -999,9
33RO20230413  ,A16N       ,136     ,  1,1360112    ,12         ,2,20230505,0925,  58.0000, -20.0004,     1636,    267.2,  10.2893,  35.3583,2,  -9.0000,9,    242.8,2,    260.5,2,     -999,9,     -999,9,     -999,9,     -999,9,     -999,9,     -999,9,     -999,9,   2151.3,2,   2325.9,2,    630.1,2,   7.7961,2,    25.00,     -999,9,      0.5,2,     -999,9,     -999,9
33RO20230413  ,A16N       ,136     ,  1,1360111    ,11         ,2,20230505,0925,  58.0000, -20.0004,     1636,    316.8,  10.1522,  35.3382,2,  -9.0000,9,    241.3,2,    257.9,2,     4.70,2,    11.20,2,     0.07,2,     0.76,2,     -999,9,     -999,9,     -999,9,   2149.8,2,   2325.2,2,    638.0,2,   7.7824,2,    25.00,     -999,9,      0.5,2,     -999,9,     -999,9
33RO20230413  ,A16N       ,136     ,  1,1360110    ,10         ,2,20230505,0925,  58.0000, -20.0004,     1636,    368.4,   9.8728,  35.3021,2,  35.3083,2,    238.6,2,    263.0,4,     5.10,2,    11.80,2,     0.05,2,     0.79,2,     -999,9,     -999,9,     -999,9,   2153.8,2,   2322.5,2,    653.7,2,   7.7720,2,    25.00,     -999,9,      0.5,2,     -999,9,     -999,9
33RO20230413  ,A16N       ,136     ,  1,1360109    ,9          ,2,20230505,0925,  58.0000, -20.0004,     1636,    434.1,   9.7000,  35.2984,2,  -9.0000,9,    241.8,2,    261.1,2,     5.00,2,    11.80,2,     0.02,2,     0.80,2,     -999,9,     -999,9,     -999,9,   2155.4,2,   2321.8,2,    656.0,2,   7.7669,2,    25.00,     -999,9,      0.5,2,     -999,9,     -999,9
33RO20230413  ,A16N       ,136     ,  1,1360108    ,8          ,2,20230505,0925,  58.0000, -20.0004,     1636,    532.3,   8.9723,  35.2093,2,  35.2122,2,    203.5,2,    221.2,2,     7.90,2,    15.90,2,     0.00,2,     1.05,2,     -999,9,     -999,9,     -999,9,   2173.7,2,   2318.1,2,    755.9,2,   7.7192,2,    25.00,     -999,9,      0.6,2,     -999,9,     -999,9
33RO20230413  ,A16N       ,136     ,  1,1360107    ,7          ,2,20230505,0925,  58.0000, -20.0004,     1636,    666.0,   7.8603,  35.1622,2,  -9.0000,9,    188.8,2,    203.1,2,    10.20,2,    18.30,2,     0.00,2,     1.22,2,     -999,9,     -999,9,     -999,9,   2186.1,2,   2315.9,2,    823.8,2,   7.6839,2,    25.00,     -999,9,      0.6,6,     -999,9,     -999,9
33RO20230413  ,A16N       ,136     ,  1,1360106    ,6          ,2,20230505,0925,  58.0000, -20.0004,     1636,    833.0,   6.6102,  35.1225,2,  -9.0000,9,    200.2,2,    214.1,2,     -999,9,     -999,9,     -999,9,     -999,9,     -999,9,     -999,9,     -999,9,   2188.2,2,   2316.7,2,    840.9,2,   7.6796,2,    25.00,     -999,9,      0.7,2,     -999,9,     -999,9
33RO20230413  ,A16N       ,136     ,  1,1360105    ,5          ,2,20230505,0925,  58.0000, -20.0004,     1636,   1000.1,   5.5553,  35.0573,2,  -9.0000,9,    216.1,2,    233.2,2,    11.70,2,    18.10,2,     0.00,2,     1.21,2,     -999,9,     -999,9,     -999,9,   2186.0,2,   2310.5,2,    845.8,2,   7.6731,2,    25.00,     -999,9,      0.8,2,     -999,9,     -999,9
33RO20230413  ,A16N       ,136     ,  1,1360104    ,4          ,2,20230505,0925,  58.0000, -20.0004,     1636,   1167.9,   4.6778,  34.9692,2,  34.9774,2,    233.2,2,    255.8,4,    10.70,2,    17.70,2,     0.00,2,     1.20,2,     -999,9,     -999,9,     -999,9,   2179.7,2,   2305.6,2,    843.8,2,   7.6707,2,    25.00,     -999,9,      0.8,2,     -999,9,     -999,9
33RO20230413  ,A16N       ,136     ,  1,1360103    ,3          ,2,20230505,0925,  58.0000, -20.0004,     1636,   1333.9,   4.2100,  34.9376,2,  -9.0000,9,    242.8,2,    262.4,2,    11.00,2,    17.40,2,     0.00,2,     1.18,2,     -999,9,     -999,9,     -999,9,   2181.0,2,   2301.7,6,    832.8,2,   7.6756,6,    25.00,     -999,9,      0.8,2,     -999,9,     -999,9
33RO20230413  ,A16N       ,136     ,  1,1360102    ,2          ,2,20230505,0925,  58.0000, -20.0004,     1636,   1500.7,   3.8249,  34.9152,2,  34.9250,2,    250.4,2,    271.3,2,    11.30,2,    17.00,2,     0.00,2,     1.15,2,     -999,9,     -999,9,     -999,9,   2172.4,2,   2301.4,2,    820.0,2,   7.6835,2,    25.00,     -999,9,      0.9,2,     -999,9,     -999,9
33RO20230413  ,A16N       ,136     ,  1,1360101    ,1          ,2,20230505,0925,  58.0000, -20.0004,     1636,   1650.2,   3.6115,  34.9119,2,  34.9193,2,    252.5,2,    272.0,6,    11.70,2,    16.90,2,     0.00,2,     1.15,2,     -999,9,     -999,9,     -999,9,   2170.9,6,   2300.8,2,    810.2,2,   7.6889,2,    25.00,     -999,9,      0.9,6,     -999,9,     -999,9
33RO20230413  ,A16N       ,137     ,  1,1370123    ,23         ,2,20230505,1444,  58.4983, -20.0067,     2570,      4.2,   9.4735,  35.2113,2,  35.2147,9,    266.7,2,    284.6,2,     5.20,2,     9.80,2,     0.19,2,     0.70,2,     -999,9,     -999,9,     -999,9,   2142.7,6,   -999.0,9,    609.6,2,   7.7976,2,    25.00,     -999,9,      0.7,6,     -999,9,     -999,9
33RO20230413  ,A16N       ,137     ,  1,1370122    ,22         ,2,20230505,1444,  58.4983, -20.0067,     2570,     33.6,   9.4358,  35.2124,2,  -9.0000,2,    265.8,2,    282.9,2,     5.20,2,    10.00,2,     0.19,2,     0.71,2,     -999,9,     -999,9,     -999,9,   2144.0,2,   2317.9,2,    613.9,2,   7.7951,2,    25.00,     -999,9,      0.7,2,     -999,9,     -999,9
33RO20230413  ,A16N       ,137     ,  1,1370121    ,21         ,2,20230505,1444,  58.4983, -20.0067,     2570,     57.8,   9.1557,  35.2121,2,  35.2161,9,    260.8,2,    276.2,2,     5.40,2,    10.70,2,     0.23,2,     0.76,2,     -999,9,     -999,9,     -999,9,   2151.7,2,   2317.3,2,    637.8,2,   7.7812,2,    25.00,     -999,9,      0.6,2,     -999,9,     -999,9
33RO20230413  ,A16N       ,137     ,  1,1370120    ,20         ,2,20230505,1444,  58.4983, -20.0067,     2570,     82.5,   8.9842,  35.2085,2,  -9.0000,2,    256.4,2,    272.9,2,     5.60,2,    11.30,2,     0.28,2,     0.81,2,     -999,9,     -999,9,     -999,9,   2152.1,2,   2318.1,2,    654.1,2,   7.7733,2,    25.00,     -999,9,      0.6,2,     -999,9,     -999,9
33RO20230413  ,A16N       ,137     ,  1,1370119    ,19         ,2,20230505,1444,  58.4983, -20.0067,     2570,    108.8,   8.8363,  35.1947,2,  35.2016,9,    256.5,2,     -999,9,     5.80,2,    11.50,2,     0.29,2,     0.82,2,     -999,9,     -999,9,     -999,9,   2152.7,2,   2317.2,2,    658.8,2,   7.7688,2,    25.00,     -999,9,      0.6,2,     -999,9,     -999,9
33RO20230413  ,A16N       ,137     ,  1,1370118    ,18         ,2,20230505,1444,  58.4983, -20.0067,     2570,    133.4,   8.8068,  35.1956,2,  -9.0000,2,    259.0,2,     -999,9,     5.70,2,    11.30,2,     0.32,2,     0.82,2,     -999,9,     -999,9,     -999,9,   2153.2,2,   2317.0,2,    655.5,2,   7.7739,2,    25.00,     -999,9,      0.6,2,     -999,9,     -999,9
33RO20230413  ,A16N       ,137     ,  1,1370117    ,17         ,2,20230505,1444,  58.4983, -20.0067,     2570,    157.9,   8.5726,  35.1549,2,  35.1587,2,    253.0,2,    271.4,6,     6.00,2,    12.60,2,     0.13,2,     0.87,2,     -999,9,     -999,9,     -999,9,   2156.9,2,   -999.0,9,    681.0,2,   7.7582,2,    25.00,     -999,9,      0.6,2,     -999,9,     -999,9
33RO20230413  ,A16N       ,137     ,  1,1370116    ,16         ,2,20230505,1444,  58.4983, -20.0067,     2570,    183.0,   8.5991,  35.1711,2,  -9.0000,9,    252.5,2,    270.1,2,     6.00,2,    12.60,2,     0.16,2,     0.87,2,     -999,9,     -999,9,     -999,9,   2158.4,2,   2315.2,2,    681.1,2,   7.7565,6,    25.00,     -999,9,      0.6,2,     -999,9,     -999,9
33RO20230413  ,A16N       ,137     ,  1,1370115    ,15         ,2,20230505,1444,  58.4983, -20.0067,     2570,    225.0,   8.3181,  35.1287,2,  35.1339,2,    238.4,2,    255.0,2,     6.90,2,    14.10,2,     0.03,2,     0.97,2,     -999,9,     -999,9,     -999,9,     -999,9,   2313.6,2,   -999.0,9,   7.7395,2,    25.00,     -999,9,      0.6,2,     -999,9,     -999,9
33RO20230413  ,A16N       ,137     ,  1,1370114    ,14         ,2,20230505,1444,  58.4983, -20.0067,     2570,    271.2,   8.0911,  35.1045,2,  -9.0000,9,    238.3,2,    255.2,2,     7.10,2,    14.50,2,     0.03,2,     0.99,2,     -999,9,     -999,9,     -999,9,   2166.5,2,   2311.4,2,    730.1,2,   7.7318,2,    25.00,     -999,9,      0.6,2,     -999,9,     -999,9
33RO20230413  ,A16N       ,137     ,  1,1370113    ,13         ,2,20230505,1444,  58.4983, -20.0067,     2570,    325.6,   7.9511,  35.1048,2,  35.1082,2,    233.8,2,    251.8,2,     7.40,2,    15.00,2,     0.03,2,     1.01,2,     -999,9,     -999,9,     -999,9,   2168.9,2,   2311.1,2,    742.0,2,   7.7260,2,    25.00,     -999,9,      0.6,2,     -999,9,     -999,9
33RO20230413  ,A16N       ,137     ,  1,1370112    ,12         ,2,20230505,1444,  58.4983, -20.0067,     2570,    399.9,   7.5972,  35.0823,2,  -9.0000,9,    210.6,2,    198.4,4,     9.10,2,    17.10,2,     0.02,2,     1.15,2,     -999,9,     -999,9,     -999,9,   2179.6,2,   2311.4,6,    800.2,2,   7.6967,6,    25.00,     -999,9,      0.6,2,     -999,9,     -999,9
33RO20230413  ,A16N       ,137     ,  1,1370111    ,11         ,2,20230505,1444,  58.4983, -20.0067,     2570,    475.4,   7.0102,  35.0522,2,  35.0568,2,    200.7,2,     -999,9,    10.40,2,    18.40,2,     0.02,2,     1.24,2,     -999,9,     -999,9,     -999,9,   2188.6,2,   2309.2,2,    844.4,6,   7.6749,2,    25.00,     -999,9,      0.6,2,     -999,9,     -999,9
33RO20230413  ,A16N       ,137     ,  1,1370110    ,10         ,2,20230505,1444,  58.4983, -20.0067,     2570,    549.3,   6.5687,  35.0504,2,  -9.0000,9,    201.6,2,    215.1,2,    10.80,2,    18.60,2,     0.02,2,     1.25,2,     -999,9,     -999,9,     -999,9,   2188.5,2,   -999.0,9,    855.0,2,   7.6721,2,    25.00,     -999,9,      0.7,2,     -999,9,     -999,9
33RO20230413  ,A16N       ,137     ,  1,1370109    ,9          ,2,20230505,1444,  58.4983, -20.0067,     2570,    650.5,   5.7573,  35.0060,2,  35.0128,2,    211.3,2,    226.0,2,    11.00,2,    18.50,2,     0.02,2,     1.25,2,     -999,9,     -999,9,     -999,9,     -999,9,   2307.1,2,    864.0,2,   7.6655,2,    25.00,     -999,9,      0.7,2,     -999,9,     -999,9
33RO20230413  ,A16N       ,137     ,  1,1370108    ,8          ,2,20230505,1444,  58.4983, -20.0067,     2570,    750.0,   5.2082,  34.9861,2,  -9.0000,9,    221.3,2,    227.3,4,    11.00,2,    18.30,2,     0.02,2,     1.23,2,     -999,9,     -999,9,     -999,9,   2185.1,2,   2305.5,2,    859.7,2,   7.6670,2,    25.00,     -999,9,      0.7,2,     -999,9,     -999,9
33RO20230413  ,A16N       ,137     ,  1,1370107    ,7          ,2,20230505,1444,  58.4983, -20.0067,     2570,    900.5,   4.6352,  34.9545,2,  34.9664,2,    233.1,2,    249.7,2,    10.80,2,    18.00,2,     0.01,2,     1.21,2,     -999,9,     -999,9,     -999,9,   2182.3,2,   2305.2,2,    852.1,2,   7.6696,2,    25.00,     -999,9,      0.8,2,     -999,9,     -999,9
33RO20230413  ,A16N       ,137     ,  1,1370106    ,6          ,2,20230505,1444,  58.4983, -20.0067,     2570,   1066.9,   4.2167,  34.9302,2,  -9.0000,9,    242.8,2,    260.6,2,    10.60,2,    17.60,2,     0.01,2,     1.18,2,     -999,9,     -999,9,     -999,9,     -999,9,   2300.9,2,   -999.0,9,   7.6745,2,    25.00,     -999,9,      0.8,2,     -999,9,     -999,9
33RO20230413  ,A16N       ,137     ,  1,1370105    ,5          ,2,20230505,1444,  58.4983, -20.0067,     2570,   1467.4,   3.7136,  34.8989,2,  34.9059,2,    255.3,2,    275.9,2,    10.50,2,    16.90,2,     0.01,2,     1.15,2,     -999,9,     -999,9,     -999,9,   2172.8,2,   2298.7,2,    819.4,2,   7.6833,2,    25.00,     -999,9,      0.8,2,     -999,9,     -999,9
33RO20230413  ,A16N       ,137     ,  1,1370104    ,4          ,2,20230505,1444,  58.4983, -20.0067,     2570,   1667.5,   3.5886,  34.8965,2,  -9.0000,9,    257.0,2,    277.9,2,    10.60,2,    16.80,2,     0.01,2,     1.14,2,     -999,9,     -999,9,     -999,9,   2172.1,2,   2298.9,2,    811.5,2,   7.6887,2,    25.00,     -999,9,      0.8,2,     -999,9,     -999,9
33RO20230413  ,A16N       ,137     ,  1,1370103    ,3          ,2,20230505,1444,  58.4983, -20.0067,     2570,   1862.4,   3.5742,  34.9125,2,  34.9163,2,    252.1,2,    274.8,2,    11.30,2,    16.70,2,     0.01,2,     1.14,2,     -999,9,     -999,9,     -999,9,   2170.7,2,   2300.2,2,    802.4,2,   7.6904,2,    25.00,     -999,9,      0.9,2,     -999,9,     -999,9
33RO20230413  ,A16N       ,137     ,  1,1370102    ,2          ,2,20230505,1444,  58.4983, -20.0067,     2570,   2068.2,   3.4745,  34.9245,2,  -9.0000,9,    248.3,2,    274.7,3,    12.80,2,    16.90,2,     0.01,2,     1.15,2,     -999,9,     -999,9,     -999,9,   2173.3,6,   2303.4,2,    798.8,2,   7.6920,2,    25.00,     -999,9,      0.8,2,     -999,9,     -999,9
33RO20230413  ,A16N       ,137     ,  1,1370101    ,1          ,2,20230505,1444,  58.4983, -20.0067,     2570,   2579.2,   2.9960,  34.9507,2,  34.9545,6,    244.4,2,    266.4,6,    17.00,2,    16.80,2,     0.01,2,     1.16,2,     -999,9,     -999,9,     -999,9,   2181.9,2,   2310.8,2,    798.5,2,   7.6942,2,    25.00,     -999,9,      0.9,6,     -999,9,     -999,9