BOTTLE,20240627CCHHYDRO
EXPOCODE,SECT_ID,STNNBR,CASTNO,SAMPNO,BTLNBR,BTLNBR_FLAG_W,DATE,TIME,LATITUDE,LONGITUDE,DEPTH,CTDPRS,CTDTMP,CTDSAL,CTDSAL_FLAG_W,SALNTY,SALNTY_FLAG_W,CTDOXY,CTDOXY_FLAG_W,OXYGEN,OXYGEN_FLAG_W,SILCAT,SILCAT_FLAG_W,NITRAT,NITRAT_FLAG_W,NITRIT,NITRIT_FLAG_W,PHSPHT,PHSPHT_FLAG_W,CFC-11,CFC-11_FLAG_W,CFC-12,CFC-12_FLAG_W,SF6,SF6_FLAG_W,TCARBN,TCARBN_FLAG_W,ALKALI,ALKALI_FLAG_W,FCO2,FCO2_FLAG_W,PH_TOT,PH_TOT_FLAG_W,PH_TMP,DOC,DOC_FLAG_W,DELC13,DELC13_FLAG_W,TDN,TDN_FLAG_W,N2O,N2O_FLAG_W
,,,,,,,,,,,METERS,DBAR,ITS-90,PSS-78,,PSS-78,,UMOL/KG,,UMOL/KG,,UMOL/KG,,UMOL/KG,,UMOL/KG,,UMOL/KG,,PMOL/KG,,PMOL/KG,,FMOL/KG,,UMOL/KG,,UMOL/KG,,UATM,,,,DEG C,UMOL/KG,,/MILLE,,UMOL/KG,,NMOL/KG,
33RO20230413  ,A16N       ,84      ,  1,840124     ,24         ,2,20230420,1917,  32.0005, -22.2527,     5170,      3.2,  20.3516,  36.9452,2,  36.9166,2,    211.1,2,    222.3,2,     0.80,2,     0.00,2,     0.00,2,     0.04,2,     -999,9,     -999,9,     -999,9,   2128.6,2,   2413.7,2,    391.6,2,   7.9751,2,    25.00,     -999,9,      0.8,6,     -999,9,     -999,9
33RO20230413  ,A16N       ,84      ,  1,840123     ,23         ,2,20230420,1917,  32.0005, -22.2527,     5170,     61.3,  20.2410,  36.9283,2,  36.9187,2,    212.0,2,    224.0,2,     0.80,2,     0.00,2,     0.00,2,     0.04,2,     -999,9,     -999,9,     -999,9,   2128.8,2,   2414.3,2,    389.4,2,   7.9761,2,    25.00,     -999,9,      0.8,2,     -999,9,     -999,9
33RO20230413  ,A16N       ,84      ,  1,840122     ,22         ,2,20230420,1917,  32.0005, -22.2527,     5170,    111.0,  19.0859,  36.8063,2,  36.8116,9,    208.8,2,    220.7,2,     0.80,2,     0.00,2,     0.01,2,     0.04,2,     -999,9,     -999,9,     -999,9,   2128.6,2,   2403.3,2,    401.6,2,   7.9646,2,    25.00,     -999,9,      0.7,2,     -999,9,     -999,9
33RO20230413  ,A16N       ,84      ,  1,840121     ,21         ,2,20230420,1917,  32.0005, -22.2527,     5170,    166.1,  17.4188,  36.4541,2,  36.4603,6,    190.4,2,    200.0,2,     1.50,2,     3.90,2,     0.01,2,     0.25,2,     -999,9,     -999,9,     -999,9,   2140.7,2,   2385.8,2,    465.5,2,   7.9103,2,    25.00,     -999,9,      0.5,2,     -999,9,     -999,9
33RO20230413  ,A16N       ,84      ,  1,840120     ,20         ,2,20230420,1917,  32.0005, -22.2527,     5170,    211.2,  16.3967,  36.2481,2,  36.2491,2,    188.6,2,    199.7,2,     2.10,2,     5.90,2,     0.00,2,     0.36,2,     -999,9,     -999,9,     -999,9,   2142.7,2,   2371.1,6,    494.7,2,   7.8867,6,    25.00,     -999,9,      0.4,2,     -999,9,     -999,9
33RO20230413  ,A16N       ,84      ,  1,840119     ,19         ,2,20230420,1917,  32.0005, -22.2527,     5170,    323.1,  14.7085,  35.9648,2,  35.9746,2,    184.1,2,    195.8,2,     3.00,2,     9.00,2,     0.00,2,     0.56,2,     -999,9,     -999,9,     -999,9,   2153.3,2,   2351.9,2,    561.3,2,   7.8371,2,    25.00,     -999,9,      0.5,2,     -999,9,     -999,9
33RO20230413  ,A16N       ,84      ,  1,840118     ,18         ,2,20230420,1917,  32.0005, -22.2527,     5170,    490.3,  12.6850,  35.6930,2,  35.6934,2,    173.0,2,    184.2,2,     5.10,2,    13.60,2,     0.00,2,     0.84,2,     -999,9,     -999,9,     -999,9,   2170.3,2,   2337.8,2,    663.7,2,   7.7732,2,    25.00,     -999,9,      0.3,2,     -999,9,     -999,9
33RO20230413  ,A16N       ,84      ,  1,840117     ,17         ,2,20230420,1917,  32.0005, -22.2527,     5170,    651.2,  11.3657,  35.5709,2,  35.5738,2,    161.9,2,    172.7,2,     7.50,2,    17.00,2,     0.00,2,     1.05,2,     -999,9,     -999,9,     -999,9,   2181.7,2,   2331.5,2,    729.4,2,   7.7371,2,    25.00,     -999,9,      0.6,2,     -999,9,     -999,9
33RO20230413  ,A16N       ,84      ,  1,840116     ,16         ,2,20230420,1917,  32.0005, -22.2527,     5170,    785.2,  10.1895,  35.4991,2,  35.4985,2,    147.8,2,    158.6,2,    10.90,2,    20.30,2,     0.00,2,     1.29,2,     -999,9,     -999,9,     -999,9,   2196.5,2,   2331.9,2,    791.4,2,   7.7059,2,    25.00,     -999,9,      0.6,2,     -999,9,     -999,9
33RO20230413  ,A16N       ,84      ,  1,840115     ,15         ,2,20230420,1917,  32.0005, -22.2527,     5170,    950.6,   9.2726,  35.5278,2,  35.5291,2,    152.7,2,    163.8,2,    12.80,2,    20.80,2,     0.00,2,     1.34,2,     -999,9,     -999,9,     -999,9,   2204.4,2,   2340.5,2,    792.7,2,   7.7056,2,    25.00,     -999,9,      0.7,2,     -999,9,     -999,9
33RO20230413  ,A16N       ,84      ,  1,840114     ,14         ,2,20230420,1917,  32.0005, -22.2527,     5170,   1150.7,   8.9414,  35.6752,2,  35.6769,2,    165.5,2,    178.1,2,    12.60,2,    19.20,2,     0.00,2,     1.23,2,     -999,9,     -999,9,     -999,9,   2205.7,6,   2353.2,2,    754.1,2,   7.7272,2,    25.00,     -999,9,      0.7,2,     -999,9,     -999,9
33RO20230413  ,A16N       ,84      ,  1,840113     ,13         ,2,20230420,1917,  32.0005, -22.2527,     5170,   1350.3,   7.8994,  35.6172,2,  35.6215,2,    186.3,2,    202.0,2,    12.20,2,    17.90,2,     0.00,2,     1.15,2,     -999,9,     -999,9,     -999,9,   2202.7,2,   2350.3,2,    741.6,2,   7.7331,2,    25.00,     -999,9,      0.8,2,     -999,9,     -999,9
33RO20230413  ,A16N       ,84      ,  1,840112     ,12         ,2,20230420,1917,  32.0005, -22.2527,     5170,   1612.2,   5.8529,  35.3018,2,  35.3060,2,    210.5,2,    227.8,2,    13.10,2,    17.90,2,     0.00,2,     1.18,2,     -999,9,     -999,9,     -999,9,   2185.2,2,   2329.3,2,    758.2,2,   7.7197,2,    25.00,     -999,9,      0.8,2,     -999,9,     -999,9
33RO20230413  ,A16N       ,84      ,  1,840111     ,11         ,2,20230420,1917,  32.0005, -22.2527,     5170,   1876.7,   4.8368,  35.1776,2,  35.6771,2,    212.7,2,    231.5,2,    17.70,2,    19.00,2,     0.00,2,     1.26,2,     -999,9,     -999,9,     -999,9,   2184.1,2,   2324.9,2,    751.5,2,   7.7240,2,    25.00,     -999,9,      0.9,2,     -999,9,     -999,9
33RO20230413  ,A16N       ,84      ,  1,840110     ,10         ,2,20230420,1917,  32.0005, -22.2527,     5170,   2175.6,   3.8555,  35.0396,2,  35.0465,2,    225.2,2,    247.0,6,    19.20,2,    18.60,2,     0.00,2,     1.26,2,     -999,9,     -999,9,     -999,9,   2176.6,2,   2318.2,2,    751.2,2,   7.7227,2,    25.00,     -999,9,      1.0,2,     -999,9,     -999,9
33RO20230413  ,A16N       ,84      ,  1,840109     ,9          ,2,20230420,1917,  32.0005, -22.2527,     5170,   2475.6,   3.3364,  34.9879,2,  34.9925,2,    224.2,2,    247.0,2,    24.40,2,    19.20,2,     0.00,2,     1.32,2,     -999,9,     -999,9,     -999,9,   2180.4,2,   2315.0,2,    751.9,6,   7.7220,2,    25.00,     -999,9,      1.0,2,     -999,9,     -999,9
33RO20230413  ,A16N       ,84      ,  1,840108     ,8          ,2,20230420,1917,  32.0005, -22.2527,     5170,   2775.1,   3.0130,  34.9581,2,  34.9613,2,    222.0,2,    247.9,2,    29.20,2,    19.80,2,     0.00,2,     1.35,2,     -999,9,     -999,9,     -999,9,   2181.1,2,   2325.8,2,    754.9,2,   7.7224,2,    25.00,     -999,9,      1.1,2,     -999,9,     -999,9
33RO20230413  ,A16N       ,84      ,  1,840107     ,7          ,2,20230420,1917,  32.0005, -22.2527,     5170,   3075.7,   2.7996,  34.9401,2,  34.9427,2,    218.1,2,    243.3,2,    34.60,2,    20.60,2,     0.00,2,     1.42,2,     -999,9,     -999,9,     -999,9,   2190.0,2,   2333.6,2,    756.3,2,   7.7230,2,    25.00,     -999,9,      1.0,2,     -999,9,     -999,9
33RO20230413  ,A16N       ,84      ,  1,840106     ,6          ,2,20230420,1917,  32.0005, -22.2527,     5170,   3375.2,   2.6403,  34.9239,2,  34.9269,2,    215.7,2,    241.1,2,    38.80,2,    21.20,2,     0.00,2,     1.46,2,     -999,9,     -999,9,     -999,9,   2193.5,2,   2337.8,6,    757.9,2,   7.7233,6,    25.00,     -999,9,      1.0,2,     -999,9,     -999,9
33RO20230413  ,A16N       ,84      ,  1,840105     ,5          ,2,20230420,1917,  32.0005, -22.2527,     5170,   3675.7,   2.5368,  34.9113,2,  34.9132,2,    214.6,2,    240.3,4,    42.00,2,    21.60,2,     0.00,2,     1.48,2,     -999,9,     -999,9,     -999,9,   2198.1,2,   2340.7,2,    758.9,2,   7.7247,2,    25.00,     -999,9,      1.0,2,     -999,9,     -999,9
33RO20230413  ,A16N       ,84      ,  1,840104     ,4          ,2,20230420,1917,  32.0005, -22.2527,     5170,   3975.7,   2.4794,  34.9027,2,  34.9061,6,    214.5,2,    241.0,2,    43.90,6,    21.80,6,     0.00,6,     1.50,6,     -999,9,     -999,9,     -999,9,   2198.6,2,   2341.3,2,    759.6,2,   7.7204,2,    25.00,     -999,9,      1.0,2,     -999,9,     -999,9
33RO20230413  ,A16N       ,84      ,  1,840103     ,3          ,2,20230420,1917,  32.0005, -22.2527,     5170,   4275.4,   2.4353,  34.8951,2,  34.8969,2,    214.5,2,    242.0,2,    45.50,6,    22.00,6,     0.00,6,     1.52,6,     -999,9,     -999,9,     -999,9,   2201.2,6,   2342.0,2,    760.5,2,   7.7217,2,    25.00,     -999,9,      1.0,2,     -999,9,     -999,9
33RO20230413  ,A16N       ,84      ,  1,840102     ,2          ,2,20230420,1917,  32.0005, -22.2527,     5170,   4600.9,   2.4161,  34.8893,2,  34.9025,2,    214.4,2,    241.9,2,    44.90,6,    21.90,6,     0.00,6,     1.51,6,     -999,9,     -999,9,     -999,9,   2195.8,2,   2342.6,2,    760.0,2,   7.7223,2,    25.00,     -999,9,      0.9,2,     -999,9,     -999,9
33RO20230413  ,A16N       ,84      ,  1,840101     ,1          ,2,20230420,1917,  32.0005, -22.2527,     5170,   5252.0,   2.4667,  34.8853,2,  34.8905,2,    215.3,2,    240.9,6,    48.00,6,    22.30,6,     0.00,6,     1.54,6,     -999,9,     -999,9,     -999,9,   2204.3,2,   2348.9,2,    760.6,2,   7.7238,2,    25.00,     -999,9,      1.0,6,     -999,9,     -999,9
33RO20230413  ,A16N       ,85      ,  1,850124     ,24         ,2,20230421,0250,  32.4915, -21.9673,     5212,      4.4,  20.1562,  36.9332,2,  36.9252,2,    211.6,2,    223.6,2,     1.20,2,     0.00,2,     0.00,2,     0.03,2,     -999,9,     -999,9,     -999,9,   2133.1,6,   2415.6,2,    391.1,2,   7.9730,2,    25.00,     -999,9,      0.7,2,     -999,9,     -999,9
33RO20230413  ,A16N       ,85      ,  1,850123     ,23         ,2,20230421,0250,  32.4915, -21.9673,     5212,     40.5,  20.1773,  36.9377,2,  36.9454,6,    211.6,2,    223.8,2,     0.60,2,     0.00,2,     0.00,2,     0.03,2,     -999,9,     -999,9,     -999,9,   2127.9,2,   2416.7,2,    390.1,2,   7.9757,2,    25.00,     -999,9,      0.8,2,     -999,9,     -999,9
33RO20230413  ,A16N       ,85      ,  1,850122     ,22         ,2,20230421,0250,  32.4915, -21.9673,     5212,     90.6,  19.2727,  36.8537,2,  36.8547,2,    211.4,2,    223.3,2,     0.60,2,     0.00,2,     0.00,2,     0.04,2,     -999,9,     -999,9,     -999,9,   2127.3,2,   2409.8,2,    396.6,2,   7.9688,2,    25.00,     -999,9,      0.7,2,     -999,9,     -999,9
33RO20230413  ,A16N       ,85      ,  1,850121     ,21         ,2,20230421,0250,  32.4915, -21.9673,     5212,    140.2,  19.2283,  36.8835,2,  36.8827,2,    203.7,2,    213.7,2,     0.60,2,     0.60,2,     0.02,2,     0.07,2,     -999,9,     -999,9,     -999,9,   2134.6,2,   2411.2,2,    409.1,2,   7.9577,2,    25.00,     -999,9,      0.7,2,     -999,9,     -999,9
33RO20230413  ,A16N       ,85      ,  1,850120     ,20         ,2,20230421,0250,  32.4915, -21.9673,     5212,    190.0,  17.9480,  36.6017,2,  36.6007,2,    194.6,2,    205.8,2,     1.40,2,     2.70,2,     0.01,2,     0.18,2,     -999,9,     -999,9,     -999,9,   2139.3,2,   2393.3,2,    448.6,2,   7.9232,2,    25.00,     -999,9,      0.5,2,     -999,9,     -999,9
33RO20230413  ,A16N       ,85      ,  1,850119     ,19         ,2,20230421,0250,  32.4915, -21.9673,     5212,    275.5,  16.0011,  36.1977,2,  36.2024,2,    186.9,2,    198.3,2,     2.10,2,     6.30,2,     0.00,2,     0.41,2,     -999,9,     -999,9,     -999,9,   2146.7,2,   2367.5,2,    513.6,2,   7.8710,2,    25.00,     -999,9,      0.4,2,     -999,9,     -999,9
33RO20230413  ,A16N       ,85      ,  1,850118     ,18         ,2,20230421,0250,  32.4915, -21.9673,     5212,    425.4,  13.5584,  35.7940,2,  35.7943,6,    182.4,2,    195.7,2,     3.80,2,    11.00,2,     0.00,2,     0.68,2,     -999,9,     -999,9,     -999,9,   2159.1,2,   2346.1,2,    609.7,2,   7.8047,2,    25.00,     -999,9,      0.4,2,     -999,9,     -999,9
33RO20230413  ,A16N       ,85      ,  1,850117     ,17         ,2,20230421,0250,  32.4915, -21.9673,     5212,    581.0,  11.8777,  35.6085,2,  35.6097,2,    171.5,2,    182.7,2,     5.90,2,    15.00,2,     0.00,2,     0.94,2,     -999,9,     -999,9,     -999,9,   2173.3,2,   2333.9,2,    697.3,6,   7.7543,2,    25.00,     -999,9,      0.4,2,     -999,9,     -999,9
33RO20230413  ,A16N       ,85      ,  1,850116     ,16         ,2,20230421,0250,  32.4915, -21.9673,     5212,    749.5,  10.7603,  35.5563,2,  35.5568,2,    154.3,2,    165.4,2,     9.20,2,    18.70,2,     0.00,2,     1.17,2,     -999,9,     -999,9,     -999,9,   2189.6,2,   2335.7,6,    762.0,2,   7.7196,6,    25.00,     -999,9,      0.5,2,     -999,9,     -999,9
33RO20230413  ,A16N       ,85      ,  1,850115     ,15         ,2,20230421,0250,  32.4915, -21.9673,     5212,    990.8,   9.1745,  35.5485,2,  35.5504,2,    152.5,2,    163.9,2,    13.10,2,    20.80,2,     0.00,2,     1.34,2,     -999,9,     -999,9,     -999,9,   2200.3,2,   2343.3,2,    792.9,2,   7.7196,2,    25.00,     -999,9,      0.6,6,     -999,9,     -999,9
33RO20230413  ,A16N       ,85      ,  1,850114     ,14         ,2,20230421,0250,  32.4915, -21.9673,     5212,   1240.2,   8.5173,  35.6273,2,  35.6272,2,    166.2,2,    179.4,2,    13.70,2,    19.60,2,     0.00,2,     1.27,2,     -999,9,     -999,9,     -999,9,   2203.3,2,   2351.0,2,    762.5,2,   7.7238,2,    25.00,     -999,9,      0.8,2,     -999,9,     -999,9
33RO20230413  ,A16N       ,85      ,  1,850113     ,13         ,2,20230421,0250,  32.4915, -21.9673,     5212,   1500.8,   6.7793,  35.4266,2,  35.4187,2,    191.0,2,    206.9,2,    14.30,2,    18.90,2,     0.00,2,     1.24,2,     -999,9,     -999,9,     -999,9,   2193.1,2,   2337.2,2,    754.8,2,   7.7215,2,    25.00,     -999,9,      0.9,2,     -999,9,     -999,9
33RO20230413  ,A16N       ,85      ,  1,850112     ,12         ,2,20230421,0250,  32.4915, -21.9673,     5212,   1740.9,   5.4955,  35.2589,2,  35.2648,2,    209.5,2,    227.6,2,    14.80,2,    18.40,2,     0.00,2,     1.21,2,     -999,9,     -999,9,     -999,9,   2182.6,2,   2328.3,2,    752.4,2,   7.7221,2,    25.00,     -999,9,      0.9,2,     -999,9,     -999,9
33RO20230413  ,A16N       ,85      ,  1,850111     ,11         ,2,20230421,0250,  32.4915, -21.9673,     5212,   2025.3,   4.5773,  35.1393,2,  35.1427,2,    217.6,2,    238.7,6,    17.30,2,    18.60,2,     0.00,2,     1.24,2,     -999,9,     -999,9,     -999,9,   2176.2,2,   2322.6,2,    751.2,2,   7.7237,2,    25.00,     -999,9,      0.8,2,     -999,9,     -999,9
33RO20230413  ,A16N       ,85      ,  1,850110     ,10         ,2,20230421,0250,  32.4915, -21.9673,     5212,   2325.6,   3.7536,  35.0387,2,  35.0363,2,    220.6,2,    243.8,2,    22.30,2,    19.10,2,     0.00,2,     1.29,2,     -999,9,     -999,9,     -999,9,   2177.6,2,   2323.6,2,    750.3,2,   7.7253,2,    25.00,     -999,9,      1.0,2,     -999,9,     -999,9
33RO20230413  ,A16N       ,85      ,  1,850109     ,9          ,2,20230421,0250,  32.4915, -21.9673,     5212,   2626.1,   3.2629,  34.9858,2,  34.9887,2,    220.5,2,    243.8,2,    27.20,2,    19.60,2,     0.00,2,     1.34,2,     -999,9,     -999,9,     -999,9,   2181.0,2,   2324.9,2,    751.8,2,   7.7223,2,    25.00,     -999,9,      1.0,2,     -999,9,     -999,9
33RO20230413  ,A16N       ,85      ,  1,850108     ,8          ,2,20230421,0250,  32.4915, -21.9673,     5212,   2926.7,   2.9128,  34.9483,2,  34.9506,2,    220.9,2,    247.8,2,    31.10,2,    19.90,2,     0.00,2,     1.36,2,     -999,9,     -999,9,     -999,9,   2184.4,2,   2328.8,2,    755.2,2,   7.7218,2,    25.00,     -999,9,      0.9,2,     -999,9,     -999,9
33RO20230413  ,A16N       ,85      ,  1,850107     ,7          ,2,20230421,0250,  32.4915, -21.9673,     5212,   3225.6,   2.7211,  34.9329,2,  34.9378,2,    215.9,2,    241.8,2,    37.20,2,    21.00,2,     0.00,2,     1.44,2,     -999,9,     -999,9,     -999,9,   2190.7,2,   2336.4,6,    757.5,2,   7.7221,6,    25.00,     -999,9,      1.0,2,     -999,9,     -999,9
33RO20230413  ,A16N       ,85      ,  1,850106     ,6          ,2,20230421,0250,  32.4915, -21.9673,     5212,   3525.7,   2.5961,  34.9187,2,  34.9253,2,    214.4,2,    226.2,2,    40.50,2,    21.50,2,     0.00,2,     1.47,2,     -999,9,     -999,9,     -999,9,   2191.0,2,   2340.4,2,    758.5,2,   7.7239,2,    25.00,     -999,9,      0.9,2,     -999,9,     -999,9
33RO20230413  ,A16N       ,85      ,  1,850105     ,5          ,2,20230421,0250,  32.4915, -21.9673,     5212,   3826.0,   2.5161,  34.9079,2,  34.9096,2,    214.6,2,    237.8,2,    42.60,2,    21.70,2,     0.00,2,     1.49,2,     -999,9,     -999,9,     -999,9,   2192.9,2,   2341.7,2,    758.5,2,   7.7214,2,    25.00,     -999,9,      1.0,2,     -999,9,     -999,9
33RO20230413  ,A16N       ,85      ,  1,850104     ,4          ,2,20230421,0250,  32.4915, -21.9673,     5212,   4125.7,   2.4625,  34.8996,2,  34.9023,2,    214.4,2,    239.7,2,    44.50,6,    21.90,6,     0.00,6,     1.50,6,     -999,9,     -999,9,     -999,9,   2194.4,2,   2340.5,2,    759.8,2,   7.7211,2,    25.00,     -999,9,      1.0,2,     -999,9,     -999,9
33RO20230413  ,A16N       ,85      ,  1,850103     ,3          ,2,20230421,0250,  32.4915, -21.9673,     5212,   4426.4,   2.4247,  34.8923,2,  34.8961,2,    214.3,2,    242.1,2,    46.10,6,    22.00,6,     0.00,6,     1.51,6,     -999,9,     -999,9,     -999,9,   2195.5,2,   2344.1,2,    761.4,2,   7.7208,2,    25.00,     -999,9,      1.0,2,     -999,9,     -999,9
33RO20230413  ,A16N       ,85      ,  1,850102     ,2          ,2,20230421,0250,  32.4915, -21.9673,     5212,   4701.4,   2.4182,  34.8884,2,  34.8936,2,    214.3,2,    241.8,4,    47.10,6,    22.10,6,     0.00,6,     1.51,6,     -999,9,     -999,9,     -999,9,   2200.2,6,   2345.1,2,    761.9,2,   7.7215,2,    25.00,     -999,9,      0.9,2,     -999,9,     -999,9
33RO20230413  ,A16N       ,85      ,  1,850101     ,1          ,2,20230421,0250,  32.4915, -21.9673,     5212,   5293.5,   2.4657,  34.8848,2,  34.8915,2,    215.1,2,    240.5,6,    48.00,6,    22.20,6,     0.00,6,     1.53,6,     -999,9,     -999,9,     -999,9,   2201.4,2,   2347.2,2,    761.7,2,   7.7222,2,    25.00,     -999,9,      0.9,6,     -999,9,     -999,9