BOTTLE,20240627CCHHYDRO
EXPOCODE,SECT_ID,STNNBR,CASTNO,SAMPNO,BTLNBR,BTLNBR_FLAG_W,DATE,TIME,LATITUDE,LONGITUDE,DEPTH,CTDPRS,CTDTMP,CTDSAL,CTDSAL_FLAG_W,SALNTY,SALNTY_FLAG_W,CTDOXY,CTDOXY_FLAG_W,OXYGEN,OXYGEN_FLAG_W,SILCAT,SILCAT_FLAG_W,NITRAT,NITRAT_FLAG_W,NITRIT,NITRIT_FLAG_W,PHSPHT,PHSPHT_FLAG_W,CFC-11,CFC-11_FLAG_W,CFC-12,CFC-12_FLAG_W,SF6,SF6_FLAG_W,TCARBN,TCARBN_FLAG_W,ALKALI,ALKALI_FLAG_W,FCO2,FCO2_FLAG_W,PH_TOT,PH_TOT_FLAG_W,PH_TMP,DOC,DOC_FLAG_W,DELC13,DELC13_FLAG_W,TDN,TDN_FLAG_W,N2O,N2O_FLAG_W
,,,,,,,,,,,METERS,DBAR,ITS-90,PSS-78,,PSS-78,,UMOL/KG,,UMOL/KG,,UMOL/KG,,UMOL/KG,,UMOL/KG,,UMOL/KG,,PMOL/KG,,PMOL/KG,,FMOL/KG,,UMOL/KG,,UMOL/KG,,UATM,,,,DEG C,UMOL/KG,,/MILLE,,UMOL/KG,,NMOL/KG,
33RO20230413  ,A16N       ,126     ,  2,1260224    ,24         ,2,20230503,0956,  53.0031, -20.0011,     2675,      4.0,  12.2487,  35.3526,2,  35.3592,2,    262.0,2,    279.2,2,     3.70,2,     5.40,2,     0.17,2,     0.43,2,     -999,9,     -999,9,     -999,9,   2121.0,2,   2329.5,2,    510.5,2,   7.8617,2,    25.00,     -999,9,      0.8,2,     -999,9,     -999,9
33RO20230413  ,A16N       ,126     ,  2,1260223    ,23         ,2,20230503,0956,  53.0031, -20.0011,     2675,     19.6,  12.0169,  35.3492,2,  35.3617,9,    261.5,2,    279.0,2,     3.70,2,     5.70,2,     0.18,2,     0.45,2,     -999,9,     -999,9,     -999,9,   2123.5,2,   2328.4,2,    519.9,2,   7.8571,2,    25.00,     -999,9,      0.9,2,     -999,9,     -999,9
33RO20230413  ,A16N       ,126     ,  2,1260222    ,22         ,2,20230503,0956,  53.0031, -20.0011,     2675,     42.0,  11.6196,  35.4614,2,  35.4696,2,    249.4,2,    269.4,2,     3.70,2,     7.50,2,     0.37,2,     0.56,2,     -999,9,     -999,9,     -999,9,   2140.5,2,   2331.5,2,    559.8,2,   7.8047,2,    25.00,     -999,9,      0.6,2,     -999,9,     -999,9
33RO20230413  ,A16N       ,126     ,  2,1260221    ,21         ,2,20230503,0956,  53.0031, -20.0011,     2675,     67.1,  11.5570,  35.4648,2,  -9.0000,2,    246.2,2,    261.1,2,     3.70,2,     7.80,2,     0.36,2,     0.58,2,     -999,9,     -999,9,     -999,9,   2144.4,2,   2331.3,2,    569.3,2,   7.8252,2,    25.00,     -999,9,      0.4,2,     -999,9,     -999,9
33RO20230413  ,A16N       ,126     ,  2,1260220    ,20         ,2,20230503,0956,  53.0031, -20.0011,     2675,     91.9,  11.4683,  35.4653,2,  35.4736,6,    239.7,2,    255.2,2,     3.80,2,     8.80,2,     0.37,2,     0.63,2,     -999,9,     -999,9,     -999,9,   2146.6,2,   2332.1,2,    587.2,2,   7.8132,2,    25.00,     -999,9,      0.6,2,     -999,9,     -999,9
33RO20230413  ,A16N       ,126     ,  2,1260219    ,19         ,2,20230503,0956,  53.0031, -20.0011,     2675,    117.6,  11.3333,  35.4583,2,  35.4675,2,    232.1,2,    250.9,2,     4.00,2,     9.80,2,     0.13,2,     0.68,2,     -999,9,     -999,9,     -999,9,   2150.8,2,   2329.3,2,    606.1,2,   7.8016,2,    25.00,     -999,9,      0.4,2,     -999,9,     -999,9
33RO20230413  ,A16N       ,126     ,  2,1260218    ,18         ,2,20230503,0956,  53.0031, -20.0011,     2675,    141.9,  11.1611,  35.4305,2,  35.4387,2,    236.6,2,    252.5,2,     4.10,2,     9.70,2,     0.26,2,     0.67,2,     -999,9,     -999,9,     -999,9,   2149.8,2,   2328.2,2,    604.6,2,   7.8028,2,    25.00,     -999,9,      0.5,2,     -999,9,     -999,9
33RO20230413  ,A16N       ,126     ,  2,1260217    ,17         ,2,20230503,0956,  53.0031, -20.0011,     2675,    166.7,  11.0847,  35.4250,2,  35.4479,2,    239.8,2,    256.1,2,     4.10,2,     9.60,2,     0.24,2,     0.66,2,     -999,9,     -999,9,     -999,9,   2148.9,2,   2327.7,2,    601.7,2,   7.8069,2,    25.00,     -999,9,      0.5,2,     -999,9,     -999,9
33RO20230413  ,A16N       ,126     ,  2,1260216    ,16         ,2,20230503,0956,  53.0031, -20.0011,     2675,    192.3,  11.0243,  35.4178,2,  35.4284,2,    241.1,2,    260.3,2,     4.10,2,     9.60,2,     0.23,2,     0.67,2,     -999,9,     -999,9,     -999,9,   2147.9,2,   2326.2,2,    602.4,2,   7.8049,2,    25.00,     -999,9,      0.5,2,     -999,9,     -999,9
33RO20230413  ,A16N       ,126     ,  2,1260215    ,15         ,2,20230503,0956,  53.0031, -20.0011,     2675,    250.3,  10.8586,  35.4101,2,  35.4288,2,    234.4,2,    242.9,4,     4.40,2,    10.80,2,     0.02,2,     0.72,2,     -999,9,     -999,9,     -999,9,   2154.2,2,   2326.4,2,    624.7,2,   7.7909,2,    25.00,     -999,9,      0.6,2,     -999,9,     -999,9
33RO20230413  ,A16N       ,126     ,  2,1260214    ,14         ,2,20230503,0956,  53.0031, -20.0011,     2675,    325.4,  10.6472,  35.3903,2,  35.4056,2,    235.9,2,    251.8,2,     4.50,2,    11.00,2,     0.01,2,     0.75,2,     -999,9,     -999,9,     -999,9,   2154.4,2,   2324.7,6,    631.7,2,   7.7871,6,    25.00,     -999,9,      0.4,2,     -999,9,     -999,9
33RO20230413  ,A16N       ,126     ,  2,1260213    ,13         ,2,20230503,0956,  53.0031, -20.0011,     2675,    400.1,  10.1215,  35.3089,2,  35.3134,2,    201.1,2,    217.4,2,     6.80,2,    14.80,2,     0.01,2,     0.97,2,     -999,9,     -999,9,     -999,9,   2170.3,2,   2322.7,2,    715.6,2,   7.7400,2,    25.00,     -999,9,      0.3,2,     -999,9,     -999,9
33RO20230413  ,A16N       ,126     ,  2,1260212    ,12         ,2,20230503,0956,  53.0031, -20.0011,     2675,    475.1,   9.4348,  35.2757,2,  35.2834,2,    184.7,2,    198.5,2,     8.60,2,    17.10,2,     0.00,2,     1.12,2,     -999,9,     -999,9,     -999,9,   2184.3,2,   2321.2,2,    776.5,2,   7.7092,2,    25.00,     -999,9,      0.5,2,     -999,9,     -999,9
33RO20230413  ,A16N       ,126     ,  2,1260211    ,11         ,2,20230503,0956,  53.0031, -20.0011,     2675,    524.9,   8.6684,  35.1855,2,  35.1926,2,    180.7,2,    193.9,2,     9.90,2,    18.50,2,     0.00,2,     1.22,2,     -999,9,     -999,9,     -999,9,   2188.6,6,   2315.5,2,    814.4,2,   7.6895,2,    25.00,     -999,9,      0.6,6,     -999,9,     -999,9
33RO20230413  ,A16N       ,126     ,  2,1260210    ,10         ,2,20230503,0956,  53.0031, -20.0011,     2675,    617.0,   7.5748,  35.1333,2,  35.1440,2,    184.8,2,    199.1,2,    10.80,2,    19.10,2,     0.00,2,     1.26,2,     -999,9,     -999,9,     -999,9,   2192.0,2,   2313.6,2,    842.5,2,   7.6769,2,    25.00,     -999,9,      0.5,2,     -999,9,     -999,9
33RO20230413  ,A16N       ,126     ,  2,1260209    ,9          ,2,20230503,0956,  53.0031, -20.0011,     2675,    718.0,   7.4063,  35.2680,2,  35.2809,6,    189.5,2,    203.3,2,    10.80,2,    18.50,2,     0.00,2,     1.22,2,     -999,9,     -999,9,     -999,9,   2195.3,2,   2324.1,2,    817.7,2,   7.6887,2,    25.00,     -999,9,      0.6,2,     -999,9,     -999,9
33RO20230413  ,A16N       ,126     ,  2,1260208    ,8          ,2,20230503,0956,  53.0031, -20.0011,     2675,    850.1,   5.6215,  35.0434,2,  35.0476,2,    214.7,2,    231.6,2,    10.80,2,    18.30,2,     0.00,2,     1.22,2,     -999,9,     -999,9,     -999,9,   2188.8,2,   2308.5,2,    847.6,2,   7.6727,2,    25.00,     -999,9,      0.6,2,     -999,9,     -999,9
33RO20230413  ,A16N       ,126     ,  2,1260207    ,7          ,2,20230503,0956,  53.0031, -20.0011,     2675,    999.7,   5.0220,  35.0147,2,  35.0299,2,    226.6,2,    244.8,2,    10.80,2,    17.90,2,     0.00,2,     1.20,2,     -999,9,     -999,9,     -999,9,   2184.8,2,   -999.0,9,    838.0,2,-999.0000,9,    25.00,     -999,9,      0.7,2,     -999,9,     -999,9
33RO20230413  ,A16N       ,126     ,  2,1260206    ,6          ,2,20230503,0956,  53.0031, -20.0011,     2675,   1150.5,   4.3495,  34.9450,2,  34.9489,2,    240.3,2,    259.6,2,    10.60,2,    17.50,2,     0.00,2,     1.17,2,     -999,9,     -999,9,     -999,9,   2179.5,2,   2301.3,6,   -999.0,9,   7.6776,6,    25.00,     -999,9,      0.7,2,     -999,9,     -999,9
33RO20230413  ,A16N       ,126     ,  2,1260205    ,5          ,2,20230503,0956,  53.0031, -20.0011,     2675,   1300.1,   3.9695,  34.9157,2,  34.9326,2,    249.3,2,    269.7,6,    10.50,2,    17.20,2,     0.00,2,     1.16,2,     -999,9,     -999,9,     -999,9,   2177.5,2,   2299.8,2,    826.3,2,   7.6795,2,    25.00,     -999,9,      0.7,2,     -999,9,     -999,9
33RO20230413  ,A16N       ,126     ,  2,1260204    ,4          ,2,20230503,0956,  53.0031, -20.0011,     2675,   1500.3,   3.7632,  34.9021,2,  34.9220,2,    254.2,2,    275.8,2,    10.40,2,    16.90,2,     0.00,2,     1.14,2,     -999,9,     -999,9,     -999,9,   2173.9,2,   2299.7,2,    818.8,2,   7.6822,2,    25.00,     -999,9,      0.6,2,     -999,9,     -999,9
33RO20230413  ,A16N       ,126     ,  2,1260203    ,3          ,2,20230503,0956,  53.0031, -20.0011,     2675,   1750.8,   3.5827,  34.8979,2,  34.9112,2,    256.4,2,    279.0,2,    10.60,2,    16.80,2,     0.00,2,     1.13,2,     -999,9,     -999,9,     -999,9,   2172.0,2,   2297.9,2,    808.1,6,   7.6896,2,    25.00,     -999,9,      0.8,2,     -999,9,     -999,9
33RO20230413  ,A16N       ,126     ,  2,1260202    ,2          ,2,20230503,0956,  53.0031, -20.0011,     2675,   2149.9,   3.4588,  34.9252,2,  34.9291,2,    248.2,2,    270.3,2,    12.30,2,    16.90,2,     0.00,2,     1.15,2,     -999,9,     -999,9,     -999,9,   2172.5,2,   2301.7,2,    792.2,2,   7.6968,2,    25.00,     -999,9,      0.8,2,     -999,9,     -999,9
33RO20230413  ,A16N       ,126     ,  2,1260201    ,1          ,2,20230503,0956,  53.0031, -20.0011,     2675,   2712.2,   2.8657,  34.9321,2,  34.9374,2,    230.7,2,    252.4,6,    29.10,2,    19.20,2,     0.01,2,     1.33,2,     -999,9,     -999,9,     -999,9,   2193.2,6,   2324.7,2,    785.2,2,   7.7016,2,    25.00,     -999,9,      0.9,6,     -999,9,     -999,9
33RO20230413  ,A16N       ,127     ,  1,1270124    ,24         ,2,20230503,1505,  53.4973, -20.0045,     2289,      4.1,  11.7331,  35.2634,2,  35.2797,2,    267.2,2,    284.9,2,     3.80,2,     5.70,2,     0.18,2,     0.44,2,     -999,9,     -999,9,     -999,9,   2114.4,6,   2321.2,2,    516.1,2,   7.8632,2,    25.00,     -999,9,      0.9,2,     -999,9,     -999,9
33RO20230413  ,A16N       ,127     ,  1,1270123    ,23         ,2,20230503,1505,  53.4973, -20.0045,     2289,     23.9,  10.9821,  35.3746,2,  35.3794,2,    256.9,2,    274.6,2,     4.10,2,     7.90,2,     0.29,2,     0.58,2,     -999,9,     -999,9,     -999,9,   2133.6,2,   2325.0,2,    571.3,2,   7.8253,2,    25.00,     -999,9,      0.6,2,     -999,9,     -999,9
33RO20230413  ,A16N       ,127     ,  1,1270122    ,22         ,2,20230503,1505,  53.4973, -20.0045,     2289,     49.8,  10.8866,  35.3726,2,  35.3751,6,    251.9,2,    267.7,2,     3.90,2,     8.50,2,     0.38,2,     0.61,2,     -999,9,     -999,9,     -999,9,   2139.1,2,   2325.8,2,    586.3,2,   7.8135,2,    25.00,     -999,9,      0.6,2,     -999,9,     -999,9
33RO20230413  ,A16N       ,127     ,  1,1270121    ,21         ,2,20230503,1505,  53.4973, -20.0045,     2289,     74.7,  10.8750,  35.3773,2,  35.3824,2,    250.1,2,    264.1,2,     4.00,2,     8.80,2,     0.42,2,     0.63,2,     -999,9,     -999,9,     -999,9,   2140.8,2,   2324.2,2,    591.4,2,   7.8115,2,    25.00,     -999,9,      0.6,6,     -999,9,     -999,9
33RO20230413  ,A16N       ,127     ,  1,1270120    ,20         ,2,20230503,1505,  53.4973, -20.0045,     2289,    100.4,  10.6143,  35.3600,2,  35.3633,2,    242.8,2,    258.2,2,     4.30,2,    10.20,2,     0.17,2,     0.69,2,     -999,9,     -999,9,     -999,9,   2146.4,2,   2324.1,2,    615.4,2,   7.7983,2,    25.00,     -999,9,      0.5,2,     -999,9,     -999,9
33RO20230413  ,A16N       ,127     ,  1,1270119    ,19         ,2,20230503,1505,  53.4973, -20.0045,     2289,    125.5,  10.5490,  35.3478,2,  35.3508,2,    245.3,2,    261.4,2,     5.20,2,    10.10,2,     0.16,2,     0.70,2,     -999,9,     -999,9,     -999,9,     -999,9,   2322.5,2,   -999.0,9,   7.7980,2,    25.00,     -999,9,      0.5,2,     -999,9,     -999,9
33RO20230413  ,A16N       ,127     ,  1,1270118    ,18         ,2,20230503,1505,  53.4973, -20.0045,     2289,    149.8,  10.5750,  35.3560,2,  35.3717,2,    244.6,2,    261.3,2,     4.30,2,    10.10,2,     0.12,2,     0.69,2,     -999,9,     -999,9,     -999,9,   2146.1,2,   2322.4,6,    614.6,2,   7.7964,6,    25.00,     -999,9,      0.4,2,     -999,9,     -999,9
33RO20230413  ,A16N       ,127     ,  1,1270117    ,17         ,2,20230503,1505,  53.4973, -20.0045,     2289,    174.7,  10.6543,  35.3784,2,  35.3806,2,    243.5,2,    258.7,2,     4.30,2,    10.10,2,     0.12,2,     0.69,2,     -999,9,     -999,9,     -999,9,     -999,9,   2323.2,2,   -999.0,9,   7.7984,2,    25.00,     -999,9,      0.4,2,     -999,9,     -999,9
33RO20230413  ,A16N       ,127     ,  1,1270116    ,16         ,2,20230503,1505,  53.4973, -20.0045,     2289,    200.6,  10.6086,  35.3744,2,  35.3858,2,    242.5,2,    259.0,2,     4.20,2,    10.40,2,     0.05,2,     0.70,2,     -999,9,     -999,9,     -999,9,   2148.7,2,   2322.9,2,    618.0,2,   7.7962,2,    25.00,     -999,9,      0.5,2,     -999,9,     -999,9
33RO20230413  ,A16N       ,127     ,  1,1270115    ,15         ,2,20230503,1505,  53.4973, -20.0045,     2289,    239.9,  10.6039,  35.3805,2,  35.3854,2,    241.0,2,    258.3,2,     4.30,2,    10.50,2,     0.03,2,     0.72,2,     -999,9,     -999,9,     -999,9,     -999,9,   2324.8,2,   -999.0,9,   7.7949,2,    25.00,     -999,9,      0.5,2,     -999,9,     -999,9
33RO20230413  ,A16N       ,127     ,  1,1270114    ,14         ,2,20230503,1505,  53.4973, -20.0045,     2289,    290.4,  10.5749,  35.3827,2,  35.4170,2,    239.4,2,    256.3,2,     4.40,2,    10.80,2,     0.04,2,     0.73,2,     -999,9,     -999,9,     -999,9,   2154.0,2,   2322.9,2,    626.3,2,   7.7901,2,    25.00,     -999,9,      0.4,2,     -999,9,     -999,9
33RO20230413  ,A16N       ,127     ,  1,1270113    ,13         ,2,20230503,1505,  53.4973, -20.0045,     2289,    339.6,  10.5060,  35.3774,2,  35.3786,2,    237.6,2,    254.9,2,     4.50,2,    11.00,2,     0.03,2,     0.74,2,     -999,9,     -999,9,     -999,9,   2153.8,2,   2323.7,2,    631.7,2,   7.7857,2,    25.00,     -999,9,      0.5,2,     -999,9,     -999,9
33RO20230413  ,A16N       ,127     ,  1,1270112    ,12         ,2,20230503,1505,  53.4973, -20.0045,     2289,    419.4,   9.6305,  35.2291,2,  35.2332,2,    216.0,2,    232.0,2,     6.50,2,    14.20,2,     0.01,2,     0.94,2,     -999,9,     -999,9,     -999,9,     -999,9,   2316.4,2,    708.3,2,   7.7437,2,    25.00,     -999,9,      0.4,2,     -999,9,     -999,9
33RO20230413  ,A16N       ,127     ,  1,1270111    ,11         ,2,20230503,1505,  53.4973, -20.0045,     2289,    510.2,   8.8691,  35.1984,2,  35.2101,2,    181.5,2,    195.2,2,     9.50,2,    18.20,2,     0.01,2,     1.19,2,     -999,9,     -999,9,     -999,9,   2182.9,2,   2316.7,2,    805.4,2,   7.6951,2,    25.00,     -999,9,      0.5,2,     -999,9,     -999,9
33RO20230413  ,A16N       ,127     ,  1,1270110    ,10         ,2,20230503,1505,  53.4973, -20.0045,     2289,    600.0,   7.6544,  35.1054,2,  35.1127,2,    185.7,2,    199.7,2,    10.60,2,    19.00,2,     0.00,2,     1.26,2,     -999,9,     -999,9,     -999,9,     -999,9,   2312.8,6,   -999.0,9,   7.6761,6,    25.00,     -999,9,      0.6,2,     -999,9,     -999,9
33RO20230413  ,A16N       ,127     ,  1,1270109    ,9          ,2,20230503,1505,  53.4973, -20.0045,     2289,    700.3,   6.8380,  35.1159,2,  35.1206,2,    194.7,2,    204.2,2,    10.90,2,    19.00,2,     0.00,2,     1.25,2,     -999,9,     -999,9,     -999,9,   2190.4,2,   2312.8,2,    846.9,2,   7.6740,2,    25.00,     -999,9,      0.5,2,     -999,9,     -999,9
33RO20230413  ,A16N       ,127     ,  1,1270108    ,8          ,2,20230503,1505,  53.4973, -20.0045,     2289,    825.0,   6.1424,  35.1042,2,  35.1127,2,    206.6,2,    222.2,2,    10.80,2,    18.60,2,     0.00,2,     1.22,2,     -999,9,     -999,9,     -999,9,     -999,9,   2313.3,2,   -999.0,9,   7.6776,2,    25.00,     -999,9,      0.6,2,     -999,9,     -999,9
33RO20230413  ,A16N       ,127     ,  1,1270107    ,7          ,2,20230503,1505,  53.4973, -20.0045,     2289,    974.5,   5.0052,  34.9909,2,  35.0001,2,    226.4,2,    244.1,2,    10.70,2,    18.10,2,     0.00,2,     1.21,2,     -999,9,     -999,9,     -999,9,   2183.1,2,   2304.3,2,    848.5,2,   7.6729,2,    25.00,     -999,9,      0.6,2,     -999,9,     -999,9
33RO20230413  ,A16N       ,127     ,  1,1270106    ,6          ,2,20230503,1505,  53.4973, -20.0045,     2289,   1193.4,   4.4157,  34.9565,2,  34.9601,2,    239.3,2,    257.9,6,    10.70,2,    17.60,2,     0.00,2,     1.18,2,     -999,9,     -999,9,     -999,9,     -999,9,   2302.7,2,   -999.0,9,   7.6797,2,    25.00,     -999,9,      0.8,2,     -999,9,     -999,9
33RO20230413  ,A16N       ,127     ,  1,1270105    ,5          ,2,20230503,1505,  53.4973, -20.0045,     2289,   1399.8,   4.0246,  34.9308,2,  34.9375,2,    246.9,2,    268.8,2,    10.90,2,    17.20,2,     0.00,2,     1.16,2,     -999,9,     -999,9,     -999,9,   2174.7,2,   2299.5,2,    819.7,6,   7.6851,2,    25.00,     -999,9,      0.7,2,     -999,9,     -999,9
33RO20230413  ,A16N       ,127     ,  1,1270104    ,4          ,2,20230503,1505,  53.4973, -20.0045,     2289,   1601.1,   3.6759,  34.9144,2,  34.9198,6,    251.7,2,    273.0,2,    11.60,2,    17.00,2,     0.00,2,     1.14,2,     -999,9,     -999,9,     -999,9,     -999,9,   2299.1,2,   -999.0,9,   7.6887,2,    25.00,     -999,9,      0.9,2,     -999,9,     -999,9
33RO20230413  ,A16N       ,127     ,  1,1270103    ,3          ,2,20230503,1505,  53.4973, -20.0045,     2289,   1800.1,   3.4831,  34.9252,2,  34.9283,2,    248.4,2,    269.6,2,    12.70,2,    17.00,2,     0.00,2,     1.15,2,     -999,9,     -999,9,     -999,9,   2171.2,2,   2301.5,2,    792.2,2,   7.6959,2,    25.00,     -999,9,      0.9,2,     -999,9,     -999,9
33RO20230413  ,A16N       ,127     ,  1,1270102    ,2          ,2,20230503,1505,  53.4973, -20.0045,     2289,   2001.0,   3.2722,  34.9326,2,  34.9400,2,    245.5,2,    266.9,2,    15.20,2,    17.10,2,     0.00,2,     1.17,2,     -999,9,     -999,9,     -999,9,   2175.0,2,   2306.5,2,    788.0,2,   7.6987,2,    25.00,     -999,9,      0.9,2,     -999,9,     -999,9
33RO20230413  ,A16N       ,127     ,  1,1270101    ,1          ,2,20230503,1505,  53.4973, -20.0045,     2289,   2312.6,   2.8856,  34.9333,2,  34.9392,2,    234.2,2,    255.1,6,    26.90,2,    18.90,2,     0.00,2,     1.29,2,     -999,9,     -999,9,     -999,9,   2188.0,6,   2322.7,2,    783.9,2,   7.7037,2,    25.00,     -999,9,      0.9,6,     -999,9,     -999,9