BOTTLE,20240627CCHHYDRO
EXPOCODE,SECT_ID,STNNBR,CASTNO,SAMPNO,BTLNBR,BTLNBR_FLAG_W,DATE,TIME,LATITUDE,LONGITUDE,DEPTH,CTDPRS,CTDTMP,CTDSAL,CTDSAL_FLAG_W,SALNTY,SALNTY_FLAG_W,CTDOXY,CTDOXY_FLAG_W,OXYGEN,OXYGEN_FLAG_W,SILCAT,SILCAT_FLAG_W,NITRAT,NITRAT_FLAG_W,NITRIT,NITRIT_FLAG_W,PHSPHT,PHSPHT_FLAG_W,CFC-11,CFC-11_FLAG_W,CFC-12,CFC-12_FLAG_W,SF6,SF6_FLAG_W,TCARBN,TCARBN_FLAG_W,ALKALI,ALKALI_FLAG_W,FCO2,FCO2_FLAG_W,PH_TOT,PH_TOT_FLAG_W,PH_TMP,DOC,DOC_FLAG_W,DELC13,DELC13_FLAG_W,TDN,TDN_FLAG_W,N2O,N2O_FLAG_W
,,,,,,,,,,,METERS,DBAR,ITS-90,PSS-78,,PSS-78,,UMOL/KG,,UMOL/KG,,UMOL/KG,,UMOL/KG,,UMOL/KG,,UMOL/KG,,PMOL/KG,,PMOL/KG,,FMOL/KG,,UMOL/KG,,UMOL/KG,,UATM,,,,DEG C,UMOL/KG,,/MILLE,,UMOL/KG,,NMOL/KG,
33RO20230413  ,A16N       ,120     ,  1,1200124    ,24         ,2,20230501,1914,  49.9983, -19.9842,     4402,      4.3,  13.3281,  35.5320,2,  35.5472,2,    254.4,2,    272.1,2,     2.90,2,     5.40,2,     0.17,2,     0.40,2,     -999,9,     -999,9,     -999,9,   2124.4,6,   2337.9,2,    497.5,2,   7.8770,2,    25.00,     -999,9,      0.8,6,     -999,9,     -999,9
33RO20230413  ,A16N       ,120     ,  1,1200123    ,23         ,2,20230501,1914,  49.9983, -19.9842,     4402,     20.4,  12.8914,  35.5377,2,  35.5486,2,    255.0,2,    265.9,4,     3.00,2,     5.60,2,     0.19,2,     0.41,2,     -999,9,     -999,9,     -999,9,   2128.8,2,   2338.0,2,    503.6,2,   7.8720,2,    25.00,     -999,9,      0.9,2,     -999,9,     -999,9
33RO20230413  ,A16N       ,120     ,  1,1200122    ,22         ,2,20230501,1914,  49.9983, -19.9842,     4402,     42.7,  12.2347,  35.5733,2,  35.5784,2,    244.4,2,    260.7,6,     3.20,2,     6.90,2,     0.40,2,     0.50,2,     -999,9,     -999,9,     -999,9,   2136.8,2,   2338.5,2,    542.7,2,   7.8449,2,    25.00,     -999,9,      0.7,2,     -999,9,     -999,9
33RO20230413  ,A16N       ,120     ,  1,1200121    ,21         ,2,20230501,1914,  49.9983, -19.9842,     4402,     67.5,  12.2173,  35.5743,2,  35.5829,2,    241.9,2,    258.3,2,     3.20,2,     7.20,2,     0.51,2,     0.51,2,     -999,9,     -999,9,     -999,9,   2141.2,2,   2338.2,2,    550.9,2,   7.8376,2,    25.00,     -999,9,      0.7,2,     -999,9,     -999,9
33RO20230413  ,A16N       ,120     ,  1,1200120    ,20         ,2,20230501,1914,  49.9983, -19.9842,     4402,     91.0,  12.2072,  35.5744,2,  35.5818,2,    240.8,2,    258.2,2,     3.10,2,     7.20,2,     0.52,2,     0.51,2,     -999,9,     -999,9,     -999,9,   2140.7,2,   2339.0,2,    552.6,2,   7.8377,2,    25.00,     -999,9,      0.6,2,     -999,9,     -999,9
33RO20230413  ,A16N       ,120     ,  1,1200119    ,19         ,2,20230501,1914,  49.9983, -19.9842,     4402,    116.8,  12.1830,  35.5819,2,  35.5871,2,    238.8,2,    256.5,2,     3.20,2,     7.50,2,     0.52,2,     0.53,2,     -999,9,     -999,9,     -999,9,   2141.3,2,   2336.3,2,    558.0,2,   7.8336,2,    25.00,     -999,9,      0.6,2,     -999,9,     -999,9
33RO20230413  ,A16N       ,120     ,  1,1200118    ,18         ,2,20230501,1914,  49.9983, -19.9842,     4402,    183.1,  12.0879,  35.5831,2,  35.5955,2,    236.0,2,    254.4,2,     3.30,2,     8.30,2,     0.14,2,     0.56,2,     -999,9,     -999,9,     -999,9,   2146.2,2,   2339.1,2,    567.3,2,   7.8283,2,    25.00,     -999,9,      0.6,2,     -999,9,     -999,9
33RO20230413  ,A16N       ,120     ,  1,1200117    ,17         ,2,20230501,1914,  49.9983, -19.9842,     4402,    250.1,  11.7984,  35.5427,2,  35.5513,2,    232.3,2,    249.6,2,     3.50,2,     9.30,2,     0.02,2,     0.61,2,     -999,9,     -999,9,     -999,9,   2148.4,2,   2333.6,2,    590.1,2,   7.8124,2,    25.00,     -999,9,      0.6,2,     -999,9,     -999,9
33RO20230413  ,A16N       ,120     ,  1,1200116    ,16         ,2,20230501,1914,  49.9983, -19.9842,     4402,    325.4,  11.5668,  35.5014,2,  35.5281,2,    228.4,2,    246.5,2,     3.70,2,    10.00,2,     0.01,2,     0.65,2,     -999,9,     -999,9,     -999,9,   2152.5,2,   2332.7,2,    604.3,2,   7.8033,2,    25.00,     -999,9,      0.6,2,     -999,9,     -999,9
33RO20230413  ,A16N       ,120     ,  1,1200115    ,15         ,2,20230501,1914,  49.9983, -19.9842,     4402,    400.2,  11.3169,  35.4696,2,  35.4764,2,    230.9,2,    249.2,4,     3.80,2,     9.90,2,     0.03,2,     0.65,2,     -999,9,     -999,9,     -999,9,   2152.2,2,   2330.8,2,    608.7,2,   7.8010,2,    25.00,     -999,9,      0.6,2,     -999,9,     -999,9
33RO20230413  ,A16N       ,120     ,  1,1200114    ,14         ,2,20230501,1914,  49.9983, -19.9842,     4402,    467.5,  11.0614,  35.4446,2,  35.4490,2,    227.7,2,    245.7,2,     4.20,2,    10.80,2,     0.01,2,     0.72,2,     -999,9,     -999,9,     -999,9,   2159.0,2,   2328.3,2,    627.2,2,   7.7906,2,    25.00,     -999,9,      0.5,2,     -999,9,     -999,9
33RO20230413  ,A16N       ,120     ,  1,1200113    ,13         ,2,20230501,1914,  49.9983, -19.9842,     4402,    599.9,  10.3547,  35.3436,2,  35.3489,2,    212.0,2,    228.8,2,     5.90,2,    13.50,2,     0.01,2,     0.88,2,     -999,9,     -999,9,     -999,9,   2166.8,6,   2321.7,2,    686.5,2,   7.7545,2,    25.00,     -999,9,      0.5,2,     -999,9,     -999,9
33RO20230413  ,A16N       ,120     ,  1,1200112    ,12         ,2,20230501,1914,  49.9983, -19.9842,     4402,    749.7,   9.0273,  35.2953,2,  35.3077,2,    175.2,2,    189.9,2,     9.70,2,    18.40,2,     0.01,2,     1.19,2,     -999,9,     -999,9,     -999,9,   2191.0,2,   2324.1,6,    800.3,2,   7.6986,6,    25.00,     -999,9,      0.5,2,     -999,9,     -999,9
33RO20230413  ,A16N       ,120     ,  1,1200111    ,11         ,2,20230501,1914,  49.9983, -19.9842,     4402,    900.7,   7.8844,  35.3070,2,  35.3107,2,    182.9,2,    196.4,2,    10.60,2,    18.70,2,     0.00,2,     1.21,2,     -999,9,     -999,9,     -999,9,   2197.3,2,   2325.9,2,    812.0,2,   7.6924,2,    25.00,     -999,9,      0.6,2,     -999,9,     -999,9
33RO20230413  ,A16N       ,120     ,  1,1200110    ,10         ,2,20230501,1914,  49.9983, -19.9842,     4402,   1050.6,   6.4084,  35.1620,2,  35.1728,2,    202.2,2,    217.8,2,    10.90,2,    18.50,2,     0.00,2,     1.20,2,     -999,9,     -999,9,     -999,9,   2192.9,2,   2316.1,2,    829.0,6,   7.6840,2,    25.00,     -999,9,      0.6,2,     -999,9,     -999,9
33RO20230413  ,A16N       ,120     ,  1,1200109    ,9          ,2,20230501,1914,  49.9983, -19.9842,     4402,   1233.4,   4.6958,  34.9679,2,  34.9724,2,    231.1,2,    251.7,2,    10.60,2,    17.80,2,     0.00,2,     1.19,2,     -999,9,     -999,9,     -999,9,   2184.4,2,   2303.2,2,    843.1,2,   7.6734,2,    25.00,     -999,9,      0.7,2,     -999,9,     -999,9
33RO20230413  ,A16N       ,120     ,  1,1200108    ,8          ,2,20230501,1914,  49.9983, -19.9842,     4402,   1501.3,   4.1090,  34.9289,2,  34.9413,6,    243.9,2,    267.8,2,    10.40,2,    17.30,2,     0.00,2,     1.15,2,     -999,9,     -999,9,     -999,9,   2177.3,2,   2299.2,6,    826.6,2,   7.6813,6,    25.00,     -999,9,      0.8,2,     -999,9,     -999,9
33RO20230413  ,A16N       ,120     ,  1,1200107    ,7          ,2,20230501,1914,  49.9983, -19.9842,     4402,   1867.2,   3.6379,  34.8993,2,  34.9081,2,    253.1,2,    278.3,2,    10.50,2,    16.80,2,     0.00,2,     1.13,2,     -999,9,     -999,9,     -999,9,   2170.7,2,   2297.8,2,    810.9,2,   7.6874,2,    25.00,     -999,9,      0.9,2,     -999,9,     -999,9
33RO20230413  ,A16N       ,120     ,  1,1200106    ,6          ,2,20230501,1914,  49.9983, -19.9842,     4402,   2267.3,   3.5162,  34.9267,2,  34.9418,2,    243.7,2,    269.5,2,    12.60,2,    17.00,2,     0.00,2,     1.15,2,     -999,9,     -999,9,     -999,9,   2169.5,2,   2303.8,2,    789.8,2,   7.6991,2,    25.00,     -999,9,      1.0,2,     -999,9,     -999,9
33RO20230413  ,A16N       ,120     ,  1,1200105    ,5          ,2,20230501,1914,  49.9983, -19.9842,     4402,   2667.5,   3.2244,  34.9376,2,  34.9550,2,    240.1,2,    268.1,2,    15.80,2,    17.20,2,     0.00,2,     1.17,2,     -999,9,     -999,9,     -999,9,   2174.2,2,   2305.8,2,    784.8,2,   7.7013,2,    25.00,     -999,9,      1.0,2,     -999,9,     -999,9
33RO20230413  ,A16N       ,120     ,  1,1200104    ,4          ,2,20230501,1914,  49.9983, -19.9842,     4402,   3067.2,   2.9094,  34.9405,2,  34.9481,2,    230.0,2,    256.8,2,    25.40,6,    18.60,6,     0.00,6,     1.27,6,     -999,9,     -999,9,     -999,9,   2184.7,2,   2320.8,2,    779.9,2,   7.7059,2,    25.00,     -999,9,      1.0,2,     -999,9,     -999,9
33RO20230413  ,A16N       ,120     ,  1,1200103    ,3          ,2,20230501,1914,  49.9983, -19.9842,     4402,   3467.7,   2.6870,  34.9258,2,  34.9332,2,    221.2,2,    248.6,2,    34.90,6,    20.20,6,     0.00,6,     1.39,6,     -999,9,     -999,9,     -999,9,   2194.7,2,   2333.0,2,    775.0,2,   7.7111,2,    25.00,     -999,9,      0.9,2,     -999,9,     -999,9
33RO20230413  ,A16N       ,120     ,  1,1200102    ,2          ,2,20230501,1914,  49.9983, -19.9842,     4402,   3868.2,   2.5470,  34.9090,2,  34.9178,2,    214.6,2,    240.8,2,    42.80,6,    21.60,6,     0.00,6,     1.49,6,     -999,9,     -999,9,     -999,9,   2205.3,6,   2344.6,2,    767.1,2,   7.7145,2,    25.00,     -999,9,      1.0,2,     -999,9,     -999,9
33RO20230413  ,A16N       ,120     ,  1,1200101    ,1          ,2,20230501,1914,  49.9983, -19.9842,     4402,   4472.1,   2.5347,  34.9009,2,  34.9049,2,    213.5,2,    238.3,6,    45.70,6,    22.10,6,     0.00,6,     1.53,6,     -999,9,     -999,9,     -999,9,   2210.2,2,   2350.4,2,    764.4,2,   7.7158,2,    25.00,     -999,9,      1.0,6,     -999,9,     -999,9
33RO20230413  ,A16N       ,121     ,  1,1210124    ,24         ,2,20230502,0128,  50.5000, -20.0000,     3916,      4.4,  12.4028,  35.3912,2,  35.4034,2,    255.9,2,    273.2,2,     3.20,2,     6.10,2,     0.20,2,     0.47,2,     -999,9,     -999,9,     -999,9,   2126.4,6,   2330.7,2,    524.1,2,   7.8563,2,    25.00,     -999,9,      0.6,2,     -999,9,     -999,9
33RO20230413  ,A16N       ,121     ,  1,1210123    ,23         ,2,20230502,0128,  50.5000, -20.0000,     3916,     23.4,  12.1378,  35.4007,2,  35.4197,2,    254.6,2,    272.1,6,     3.30,2,     6.40,2,     0.21,2,     0.48,2,     -999,9,     -999,9,     -999,9,   2128.7,2,   2330.4,2,    532.1,2,   7.8530,2,    25.00,     -999,9,      0.7,2,     -999,9,     -999,9
33RO20230413  ,A16N       ,121     ,  1,1210122    ,22         ,2,20230502,0128,  50.5000, -20.0000,     3916,     51.0,  11.3593,  35.3608,2,  35.3695,6,    248.1,2,    263.8,2,     3.40,2,     7.60,2,     0.31,2,     0.57,2,     -999,9,     -999,9,     -999,9,   2137.0,2,   2328.3,2,    567.4,2,   7.8218,2,    25.00,     -999,9,      0.6,2,     -999,9,     -999,9
33RO20230413  ,A16N       ,121     ,  1,1210121    ,21         ,2,20230502,0128,  50.5000, -20.0000,     3916,     75.2,  11.3350,  35.3595,2,  35.3720,2,    246.7,2,    264.4,2,     3.50,2,     7.70,2,     0.36,2,     0.58,2,     -999,9,     -999,9,     -999,9,   2139.5,2,   2329.1,2,    571.4,2,   7.8222,2,    25.00,     -999,9,      0.5,2,     -999,9,     -999,9
33RO20230413  ,A16N       ,121     ,  1,1210120    ,20         ,2,20230502,0128,  50.5000, -20.0000,     3916,    101.2,  11.2134,  35.3459,2,  35.3587,2,    245.5,2,    263.1,2,     3.70,2,     8.10,2,     0.39,2,     0.61,2,     -999,9,     -999,9,     -999,9,   2140.4,2,   2326.7,2,    579.7,2,   7.8198,2,    25.00,     -999,9,      0.5,2,     -999,9,     -999,9
33RO20230413  ,A16N       ,121     ,  1,1210119    ,19         ,2,20230502,0128,  50.5000, -20.0000,     3916,    126.3,  10.9670,  35.3161,2,  35.3525,2,    242.6,2,    260.4,2,     4.00,2,     9.00,2,     0.26,2,     0.64,2,     -999,9,     -999,9,     -999,9,   2145.1,2,   2326.2,2,    595.9,2,   7.8081,2,    25.00,     -999,9,      0.5,2,     -999,9,     -999,9
33RO20230413  ,A16N       ,121     ,  1,1210118    ,18         ,2,20230502,0128,  50.5000, -20.0000,     3916,    150.6,  10.8091,  35.2899,2,  35.3033,2,    241.4,2,    258.2,2,     4.10,2,     9.50,2,     0.14,2,     0.68,2,     -999,9,     -999,9,     -999,9,   2145.6,2,   2323.5,6,    606.3,2,   7.7997,6,    25.00,     -999,9,      0.6,2,     -999,9,     -999,9
33RO20230413  ,A16N       ,121     ,  1,1210117    ,17         ,2,20230502,0128,  50.5000, -20.0000,     3916,    199.8,  10.4737,  35.2228,2,  35.2316,2,    244.5,2,    262.2,2,     4.30,2,     9.60,2,     0.13,2,     0.68,2,     -999,9,     -999,9,     -999,9,   2144.8,2,   2318.8,2,    614.6,2,   7.7946,2,    25.00,     -999,9,      0.5,2,     -999,9,     -999,9
33RO20230413  ,A16N       ,121     ,  1,1210116    ,16         ,2,20230502,0128,  50.5000, -20.0000,     3916,    275.6,  10.4368,  35.2561,2,  35.2721,2,    240.4,2,    258.8,2,     4.50,2,    10.10,2,     0.16,2,     0.71,2,     -999,9,     -999,9,     -999,9,   2148.9,2,   2321.4,2,    623.3,2,   7.7930,2,    25.00,     -999,9,      0.5,2,     -999,9,     -999,9
33RO20230413  ,A16N       ,121     ,  1,1210115    ,15         ,2,20230502,0128,  50.5000, -20.0000,     3916,    351.1,   9.8755,  35.1721,2,  35.1761,2,    228.9,2,    246.8,2,     5.60,2,    12.10,2,     0.01,2,     0.83,2,     -999,9,     -999,9,     -999,9,   2155.0,2,   2316.3,2,    671.0,2,   7.7600,2,    25.00,     -999,9,      0.5,2,     -999,9,     -999,9
33RO20230413  ,A16N       ,121     ,  1,1210114    ,14         ,2,20230502,0128,  50.5000, -20.0000,     3916,    425.7,   9.6020,  35.1997,2,  35.2223,2,    199.1,2,    215.5,2,     7.50,2,    15.40,2,     0.01,2,     1.03,2,     -999,9,     -999,9,     -999,9,   2172.5,2,   2316.4,2,    739.5,2,   7.7304,2,    25.00,     -999,9,      0.4,2,     -999,9,     -999,9
33RO20230413  ,A16N       ,121     ,  1,1210113    ,13         ,2,20230502,0128,  50.5000, -20.0000,     3916,    500.2,   8.9919,  35.1838,2,  35.2008,6,    181.6,2,    196.1,2,     9.30,2,    18.00,2,     0.01,2,     1.19,2,     -999,9,     -999,9,     -999,9,   2185.1,6,   2317.0,2,    800.7,2,   7.6991,2,    25.00,     -999,9,      0.5,6,     -999,9,     -999,9
33RO20230413  ,A16N       ,121     ,  1,1210112    ,12         ,2,20230502,0128,  50.5000, -20.0000,     3916,    651.2,   6.9474,  35.0137,2,  35.0246,2,    193.3,2,    206.9,2,    11.40,2,    19.00,2,     0.00,2,     1.27,2,     -999,9,     -999,9,     -999,9,   2189.6,2,   2306.2,2,    861.8,2,   7.6683,2,    25.00,     -999,9,      0.5,2,     -999,9,     -999,9
33RO20230413  ,A16N       ,121     ,  1,1210111    ,11         ,2,20230502,0128,  50.5000, -20.0000,     3916,    800.3,   6.0833,  35.0475,2,  35.0599,2,    204.7,2,    220.7,2,    11.00,2,    18.70,2,     0.00,2,     1.25,2,     -999,9,     -999,9,     -999,9,   2190.0,2,   2310.6,2,    856.4,2,   7.6679,2,    25.00,     -999,9,      0.5,2,     -999,9,     -999,9
33RO20230413  ,A16N       ,121     ,  1,1210110    ,10         ,2,20230502,0128,  50.5000, -20.0000,     3916,    951.1,   5.3186,  35.0316,2,  35.0468,2,    219.9,2,    238.1,2,    10.80,2,    18.10,2,     0.00,2,     1.21,2,     -999,9,     -999,9,     -999,9,   2185.5,2,   2308.7,6,    843.9,2,   7.6752,6,    25.00,     -999,9,      0.6,2,     -999,9,     -999,9
33RO20230413  ,A16N       ,121     ,  1,1210109    ,9          ,2,20230502,0128,  50.5000, -20.0000,     3916,   1101.3,   4.6169,  34.9661,2,  34.9816,2,    233.6,2,    253.3,2,    10.60,2,    17.70,2,     0.00,2,     1.18,2,     -999,9,     -999,9,     -999,9,   2184.1,2,   2303.9,2,    841.1,6,   7.6737,2,    25.00,     -999,9,      0.6,2,     -999,9,     -999,9
33RO20230413  ,A16N       ,121     ,  1,1210108    ,8          ,2,20230502,0128,  50.5000, -20.0000,     3916,   1299.9,   4.1150,  34.9293,2,  34.9368,2,    244.4,2,    267.1,2,    10.60,2,    17.30,2,     0.00,2,     1.16,2,     -999,9,     -999,9,     -999,9,   2177.9,2,   2301.9,2,    829.2,2,   7.6807,2,    25.00,     -999,9,      0.6,2,     -999,9,     -999,9
33RO20230413  ,A16N       ,121     ,  1,1210107    ,7          ,2,20230502,0128,  50.5000, -20.0000,     3916,   1600.2,   3.7305,  34.9024,2,  34.9285,2,    252.9,2,    276.1,2,    10.50,2,    16.90,2,     0.00,2,     1.14,2,     -999,9,     -999,9,     -999,9,   2175.1,2,   2299.1,2,    816.0,2,   7.6860,2,    25.00,     -999,9,      0.7,2,     -999,9,     -999,9
33RO20230413  ,A16N       ,121     ,  1,1210106    ,6          ,2,20230502,0128,  50.5000, -20.0000,     3916,   2001.4,   3.5623,  34.9123,2,  34.9193,2,    249.9,2,    274.4,2,    11.30,2,    16.80,2,     0.00,2,     1.14,2,     -999,9,     -999,9,     -999,9,   2174.5,2,   2298.7,2,    799.6,2,   7.6929,2,    25.00,     -999,9,      0.8,2,     -999,9,     -999,9
33RO20230413  ,A16N       ,121     ,  1,1210105    ,5          ,2,20230502,0128,  50.5000, -20.0000,     3916,   2400.2,   3.3573,  34.9328,2,  34.9469,2,    242.8,2,    268.7,2,    14.20,2,    17.10,2,     0.00,2,     1.16,2,     -999,9,     -999,9,     -999,9,   2174.2,2,   2303.2,2,   -999.0,9,   7.6981,2,    25.00,     -999,9,      0.8,2,     -999,9,     -999,9
33RO20230413  ,A16N       ,121     ,  1,1210104    ,4          ,2,20230502,0128,  50.5000, -20.0000,     3916,   2801.1,   3.0374,  34.9421,2,  34.9542,2,    237.7,2,    264.7,2,    19.40,6,    17.50,6,     0.00,6,     1.20,6,     -999,9,     -999,9,     -999,9,   2179.3,2,   2313.2,2,    773.1,2,   7.7012,2,    25.00,     -999,9,      0.9,2,     -999,9,     -999,9
33RO20230413  ,A16N       ,121     ,  1,1210103    ,3          ,2,20230502,0128,  50.5000, -20.0000,     3916,   3201.0,   2.7494,  34.9310,2,  34.9420,2,    224.4,2,    250.2,2,    32.60,6,    19.90,6,     0.00,6,     1.37,6,     -999,9,     -999,9,     -999,9,   2193.9,2,   2330.8,2,    784.3,2,   7.7097,2,    25.00,     -999,9,      1.0,2,     -999,9,     -999,9
33RO20230413  ,A16N       ,121     ,  1,1210102    ,2          ,2,20230502,0128,  50.5000, -20.0000,     3916,   3601.2,   2.5481,  34.9114,2,  34.9204,2,    217.0,2,    242.1,2,    41.60,6,    21.40,6,     0.00,6,     1.48,6,     -999,9,     -999,9,     -999,9,   2205.0,6,   2343.7,2,    767.4,2,   7.7141,2,    25.00,     -999,9,      1.0,2,     -999,9,     -999,9
33RO20230413  ,A16N       ,121     ,  1,1210101    ,1          ,2,20230502,0128,  50.5000, -20.0000,     3916,   3977.8,   2.4847,  34.9015,2,  34.9108,6,    214.7,2,    238.3,6,    45.50,6,    22.10,6,     0.00,6,     1.53,6,     -999,9,     -999,9,     -999,9,   2212.0,2,   2349.4,2,    765.8,2,   7.6883,2,    25.00,     -999,9,      0.9,6,     -999,9,     -999,9