BOTTLE,20240627CCHHYDRO
EXPOCODE,SECT_ID,STNNBR,CASTNO,SAMPNO,BTLNBR,BTLNBR_FLAG_W,DATE,TIME,LATITUDE,LONGITUDE,DEPTH,CTDPRS,CTDTMP,CTDSAL,CTDSAL_FLAG_W,SALNTY,SALNTY_FLAG_W,CTDOXY,CTDOXY_FLAG_W,OXYGEN,OXYGEN_FLAG_W,SILCAT,SILCAT_FLAG_W,NITRAT,NITRAT_FLAG_W,NITRIT,NITRIT_FLAG_W,PHSPHT,PHSPHT_FLAG_W,CFC-11,CFC-11_FLAG_W,CFC-12,CFC-12_FLAG_W,SF6,SF6_FLAG_W,TCARBN,TCARBN_FLAG_W,ALKALI,ALKALI_FLAG_W,FCO2,FCO2_FLAG_W,PH_TOT,PH_TOT_FLAG_W,PH_TMP,DOC,DOC_FLAG_W,DELC13,DELC13_FLAG_W,TDN,TDN_FLAG_W,N2O,N2O_FLAG_W
,,,,,,,,,,,METERS,DBAR,ITS-90,PSS-78,,PSS-78,,UMOL/KG,,UMOL/KG,,UMOL/KG,,UMOL/KG,,UMOL/KG,,UMOL/KG,,PMOL/KG,,PMOL/KG,,FMOL/KG,,UMOL/KG,,UMOL/KG,,UATM,,,,DEG C,UMOL/KG,,/MILLE,,UMOL/KG,,NMOL/KG,
33RO20230413  ,A16N       ,128     ,  1,1280121    ,21         ,2,20230503,1954,  54.0000, -20.0000,     1417,      4.4,  11.7497,  35.3281,2,  35.3396,2,    254.5,2,    270.9,2,     3.70,2,     7.10,2,     0.15,2,     0.54,2,     -999,9,     -999,9,     -999,9,   2133.8,6,   2324.6,2,    547.8,2,   7.8376,2,    25.00,     -999,9,      0.8,2,     -999,9,     -999,9
33RO20230413  ,A16N       ,128     ,  1,1280120    ,20         ,2,20230503,1954,  54.0000, -20.0000,     1417,     11.2,  11.7503,  35.3309,2,  -9.0000,9,    254.7,2,    271.1,2,     3.70,2,     7.10,2,     0.15,2,     0.52,2,     -999,9,     -999,9,     -999,9,   2134.4,2,   2326.8,2,    547.7,2,   7.8393,2,    25.00,     -999,9,      0.8,2,     -999,9,     -999,9
33RO20230413  ,A16N       ,128     ,  1,1280119    ,19         ,2,20230503,1954,  54.0000, -20.0000,     1417,     19.4,  11.7472,  35.3321,2,  35.3371,2,    254.9,2,    272.5,2,     3.80,2,     7.10,2,     0.15,2,     0.53,2,     -999,9,     -999,9,     -999,9,   2134.9,2,   2325.9,2,    547.4,2,   7.8394,2,    25.00,     -999,9,      0.8,6,     -999,9,     -999,9
33RO20230413  ,A16N       ,128     ,  1,1280118    ,18         ,2,20230503,1954,  54.0000, -20.0000,     1417,     28.0,  11.7161,  35.3401,2,  -9.0000,9,    255.0,2,    272.2,2,     3.70,2,     7.20,2,     0.16,2,     0.54,2,     -999,9,     -999,9,     -999,9,     -999,9,   2326.4,2,    564.1,2,   7.8370,2,    25.00,     -999,9,      0.7,2,     -999,9,     -999,9
33RO20230413  ,A16N       ,128     ,  1,1280117    ,17         ,2,20230503,1954,  54.0000, -20.0000,     1417,     37.9,  11.4828,  35.4389,2,  35.4422,2,    251.0,2,    268.3,2,     3.60,2,     7.70,2,     0.20,2,     0.58,2,     -999,9,     -999,9,     -999,9,   2144.1,2,   2331.7,2,   -999.0,9,   7.8276,2,    25.00,     -999,9,      0.6,2,     -999,9,     -999,9
33RO20230413  ,A16N       ,128     ,  1,1280116    ,16         ,2,20230503,1954,  54.0000, -20.0000,     1417,     58.0,  11.3534,  35.4792,2,  -9.0000,9,    246.9,2,    264.0,2,     3.60,2,     8.20,2,     0.28,2,     0.60,2,     -999,9,     -999,9,     -999,9,   2147.8,2,   2333.9,2,    577.4,2,   7.8205,2,    25.00,     -999,9,      0.6,2,     -999,9,     -999,9
33RO20230413  ,A16N       ,128     ,  1,1280115    ,15         ,2,20230503,1954,  54.0000, -20.0000,     1417,     83.5,  11.2238,  35.4568,2,  35.4625,2,    247.0,2,    264.3,2,     3.90,2,     8.40,2,     0.23,2,     0.61,2,     -999,9,     -999,9,     -999,9,   2149.1,2,   2326.1,2,    580.2,2,   7.8167,2,    25.00,     -999,9,      0.6,2,     -999,9,     -999,9
33RO20230413  ,A16N       ,128     ,  1,1280114    ,14         ,2,20230503,1954,  54.0000, -20.0000,     1417,    110.9,  11.1474,  35.4490,2,  -9.0000,9,    247.0,2,    264.0,2,     3.80,2,     8.50,2,     0.23,2,     0.61,2,     -999,9,     -999,9,     -999,9,     -999,9,   2330.5,2,   -999.0,9,   7.8179,2,    25.00,     -999,9,      0.6,2,     -999,9,     -999,9
33RO20230413  ,A16N       ,128     ,  1,1280113    ,13         ,2,20230503,1954,  54.0000, -20.0000,     1417,    144.5,  11.0481,  35.4433,2,  35.4562,2,    242.8,2,    260.4,2,     3.80,2,     9.30,2,     0.25,2,     0.65,2,     -999,9,     -999,9,     -999,9,   2151.9,2,   2329.0,6,    598.8,2,   7.8062,6,    25.00,     -999,9,      0.6,2,     -999,9,     -999,9
33RO20230413  ,A16N       ,128     ,  1,1280112    ,12         ,2,20230503,1954,  54.0000, -20.0000,     1417,    183.4,  10.9574,  35.4423,2,  -9.0000,9,    238.1,2,    254.4,2,     4.00,2,    10.20,2,     0.08,2,     0.69,2,     -999,9,     -999,9,     -999,9,     -999,9,   2328.6,2,    614.1,2,   7.7974,2,    25.00,     -999,9,      0.5,2,     -999,9,     -999,9
33RO20230413  ,A16N       ,128     ,  1,1280111    ,11         ,2,20230503,1954,  54.0000, -20.0000,     1417,    233.6,  10.7118,  35.4067,2,  35.4249,2,    240.2,2,    256.9,2,     4.20,2,    10.30,2,     0.12,2,     0.70,2,     -999,9,     -999,9,     -999,9,   2157.1,2,   2327.3,2,    617.1,2,   7.7959,2,    25.00,     -999,9,      0.6,2,     -999,9,     -999,9
33RO20230413  ,A16N       ,128     ,  1,1280110    ,10         ,2,20230503,1954,  54.0000, -20.0000,     1417,    282.6,  10.5713,  35.3901,2,  -9.0000,9,    230.7,2,    247.1,2,     4.80,2,    11.50,2,     0.04,2,     0.77,2,     -999,9,     -999,9,     -999,9,     -999,9,   2326.3,2,    640.9,2,   7.7820,2,    25.00,     -999,9,      0.5,2,     -999,9,     -999,9
33RO20230413  ,A16N       ,128     ,  1,1280109    ,9          ,2,20230503,1954,  54.0000, -20.0000,     1417,    334.0,  10.4678,  35.3844,2,  35.3918,2,    229.9,2,    246.6,2,     4.90,2,    11.70,2,     0.02,2,     0.79,2,     -999,9,     -999,9,     -999,9,   2163.5,2,   2324.3,2,    647.6,2,   7.7780,2,    25.00,     -999,9,      0.5,2,     -999,9,     -999,9
33RO20230413  ,A16N       ,128     ,  1,1280108    ,8          ,2,20230503,1954,  54.0000, -20.0000,     1417,    387.9,  10.1528,  35.3392,2,  -9.0000,9,    216.2,2,    233.2,2,     5.90,2,    13.40,2,     0.01,2,     0.89,2,     -999,9,     -999,9,     -999,9,     -999,9,   2320.8,2,    685.2,6,   7.7559,2,    25.00,     -999,9,      0.5,2,     -999,9,     -999,9
33RO20230413  ,A16N       ,128     ,  1,1280107    ,7          ,2,20230503,1954,  54.0000, -20.0000,     1417,    467.1,   9.4439,  35.2497,2,  35.2566,2,    196.5,2,    212.4,6,     7.80,2,    16.10,2,     0.01,2,     1.06,2,     -999,9,     -999,9,     -999,9,   2180.6,2,   2319.0,2,    752.3,2,   7.7202,2,    25.00,     -999,9,      0.6,2,     -999,9,     -999,9
33RO20230413  ,A16N       ,128     ,  1,1280106    ,6          ,2,20230503,1954,  54.0000, -20.0000,     1417,    577.3,   8.3325,  35.2019,2,  -9.0000,9,    183.6,2,    199.1,2,    10.00,2,    18.50,2,     0.01,2,     1.21,2,     -999,9,     -999,9,     -999,9,     -999,9,   2317.1,2,    817.5,2,   7.6890,2,    25.00,     -999,9,      0.5,2,     -999,9,     -999,9
33RO20230413  ,A16N       ,128     ,  1,1280105    ,5          ,2,20230503,1954,  54.0000, -20.0000,     1417,    711.3,   7.6197,  35.2270,2,  35.2338,6,    189.2,2,    204.6,2,    10.50,2,    18.50,2,     0.00,2,     1.21,2,     -999,9,     -999,9,     -999,9,   2195.6,2,   2319.2,2,    821.0,2,   7.6881,2,    25.00,     -999,9,      0.6,2,     -999,9,     -999,9
33RO20230413  ,A16N       ,128     ,  1,1280104    ,4          ,2,20230503,1954,  54.0000, -20.0000,     1417,    856.2,   6.4125,  35.1544,2,  -9.0000,2,    203.8,2,    217.8,2,    10.90,6,    18.30,6,     0.00,6,     1.22,6,     -999,9,     -999,9,     -999,9,     -999,9,   2314.7,2,    832.0,2,   7.6825,2,    25.00,     -999,9,      0.7,2,     -999,9,     -999,9
33RO20230413  ,A16N       ,128     ,  1,1280103    ,3          ,2,20230503,1954,  54.0000, -20.0000,     1417,   1023.1,   5.6411,  35.0803,2,  35.0905,2,    216.6,2,    233.3,2,    10.90,6,    18.00,6,     0.00,6,     1.20,6,     -999,9,     -999,9,     -999,9,   2191.1,2,   2311.3,6,    834.2,2,   7.6785,6,    25.00,     -999,9,      0.8,2,     -999,9,     -999,9
33RO20230413  ,A16N       ,128     ,  1,1280102    ,2          ,2,20230503,1954,  54.0000, -20.0000,     1417,   1251.2,   4.4605,  34.9657,2,  34.9716,2,    239.1,2,    258.6,2,    10.70,6,    17.30,6,     0.00,6,     1.17,6,     -999,9,     -999,9,     -999,9,   2182.3,2,   2303.0,2,    827.0,2,   7.6808,2,    25.00,     -999,9,      0.7,2,     -999,9,     -999,9
33RO20230413  ,A16N       ,128     ,  1,1280101    ,1          ,2,20230503,1954,  54.0000, -20.0000,     1417,   1419.1,   3.9838,  34.9375,2,  34.9420,2,    246.7,2,    266.6,6,    11.70,6,    17.00,6,     0.00,6,     1.16,6,     -999,9,     -999,9,     -999,9,   2179.8,6,   2303.4,2,    814.8,2,   7.6862,2,    25.00,     -999,9,      0.9,6,     -999,9,     -999,9
33RO20230413  ,A16N       ,129     ,  1,1290121    ,21         ,2,20230504,0031,  54.4960, -20.0012,     1384,      4.8,  11.4294,  35.1739,2,  35.1785,2,    262.6,2,    277.6,2,     4.20,2,     6.20,2,     0.19,2,     0.49,2,     -999,9,     -999,9,     -999,9,   2119.7,6,   2319.4,2,    536.5,2,   7.8405,2,    25.00,     -999,9,      0.9,2,     -999,9,     -999,9
33RO20230413  ,A16N       ,129     ,  1,1290120    ,20         ,2,20230504,0031,  54.4960, -20.0012,     1384,      7.5,  11.4296,  35.1751,2,  -9.0000,9,    262.4,2,    279.7,2,     4.10,2,     6.20,2,     0.19,2,     0.50,2,     -999,9,     -999,9,     -999,9,     -999,9,   -999.0,9,   -999.0,9,-999.0000,9,    25.00,     -999,9,      0.9,2,     -999,9,     -999,9
33RO20230413  ,A16N       ,129     ,  1,1290119    ,19         ,2,20230504,0031,  54.4960, -20.0012,     1384,     14.0,  10.8802,  35.1885,2,  35.1938,2,    262.1,2,    279.6,2,     4.30,2,     7.40,2,     0.21,2,     0.56,2,     -999,9,     -999,9,     -999,9,   2128.4,2,   2318.6,2,    565.5,2,   7.8233,2,    25.00,     -999,9,      0.9,2,     -999,9,     -999,9
33RO20230413  ,A16N       ,129     ,  1,1290118    ,18         ,2,20230504,0031,  54.4960, -20.0012,     1384,     21.8,  10.2765,  35.1551,2,  -9.0000,9,    257.6,2,    274.9,2,     4.40,2,     8.30,2,     0.35,2,     0.64,2,     -999,9,     -999,9,     -999,9,   2134.6,2,   2316.6,2,    596.1,2,   7.8056,2,    25.00,     -999,9,      0.8,2,     -999,9,     -999,9
33RO20230413  ,A16N       ,129     ,  1,1290117    ,17         ,2,20230504,0031,  54.4960, -20.0012,     1384,     30.6,   9.9737,  35.1187,2,  35.1361,2,    255.5,2,    271.9,2,     4.50,2,     8.80,2,     0.43,2,     0.66,2,     -999,9,     -999,9,     -999,9,     -999,9,   -999.0,9,   -999.0,9,-999.0000,9,    25.00,     -999,9,      0.7,2,     -999,9,     -999,9
33RO20230413  ,A16N       ,129     ,  1,1290116    ,16         ,2,20230504,0031,  54.4960, -20.0012,     1384,     44.5,  10.1980,  35.1924,2,  -9.0000,9,    253.4,2,    271.4,2,     4.40,2,     8.80,2,     0.37,2,     0.66,2,     -999,9,     -999,9,     -999,9,   2140.9,2,   2318.5,2,    605.4,2,   7.7972,2,    25.00,     -999,9,      0.8,2,     -999,9,     -999,9
33RO20230413  ,A16N       ,129     ,  1,1290115    ,15         ,2,20230504,0031,  54.4960, -20.0012,     1384,     67.2,  10.3827,  35.2709,2,  35.2815,2,    252.2,2,    269.8,2,     4.30,2,     8.90,2,     0.32,2,     0.67,2,     -999,9,     -999,9,     -999,9,     -999,9,   -999.0,9,   -999.0,9,-999.0000,9,    25.00,     -999,9,      0.8,2,     -999,9,     -999,9
33RO20230413  ,A16N       ,129     ,  1,1290114    ,14         ,2,20230504,0031,  54.4960, -20.0012,     1384,     92.3,  10.7104,  35.3700,2,  -9.0000,9,    250.7,2,    267.8,2,     4.10,2,     8.70,2,     0.25,2,     0.64,2,     -999,9,     -999,9,     -999,9,   2143.7,2,   2327.8,6,    593.3,2,   7.8091,6,    25.00,     -999,9,      0.8,2,     -999,9,     -999,9
33RO20230413  ,A16N       ,129     ,  1,1290113    ,13         ,2,20230504,0031,  54.4960, -20.0012,     1384,    123.0,  10.3949,  35.3235,2,  35.3308,2,    245.4,2,    262.8,2,     4.40,2,    10.00,2,     0.29,2,     0.71,2,     -999,9,     -999,9,     -999,9,     -999,9,   -999.0,9,   -999.0,9,-999.0000,9,    25.00,     -999,9,      0.7,2,     -999,9,     -999,9
33RO20230413  ,A16N       ,129     ,  1,1290112    ,12         ,2,20230504,0031,  54.4960, -20.0012,     1384,    156.5,  10.3455,  35.3321,2,  -9.0000,9,    242.3,2,    259.5,2,     4.50,2,    10.50,2,     0.21,2,     0.73,2,     -999,9,     -999,9,     -999,9,   2150.9,2,   2322.1,2,    625.9,2,   7.7898,2,    25.00,     -999,9,      0.7,2,     -999,9,     -999,9
33RO20230413  ,A16N       ,129     ,  1,1290111    ,11         ,2,20230504,0031,  54.4960, -20.0012,     1384,    200.1,  10.4387,  35.3608,2,  35.3715,6,    241.8,2,    258.3,2,     4.40,2,    10.50,2,     0.15,2,     0.72,2,     -999,9,     -999,9,     -999,9,   2151.4,2,   2325.4,2,    624.1,2,   7.7907,2,    25.00,     -999,9,      0.6,2,     -999,9,     -999,9
33RO20230413  ,A16N       ,129     ,  1,1290110    ,10         ,2,20230504,0031,  54.4960, -20.0012,     1384,    250.3,  10.4365,  35.3662,2,  -9.0000,9,    239.5,2,    255.9,2,     4.60,2,    10.90,2,     0.07,2,     0.73,2,     -999,9,     -999,9,     -999,9,     -999,9,   -999.0,9,   -999.0,9,-999.0000,9,    25.00,     -999,9,      0.6,2,     -999,9,     -999,9
33RO20230413  ,A16N       ,129     ,  1,1290109    ,9          ,2,20230504,0031,  54.4960, -20.0012,     1384,    300.8,  10.2758,  35.3462,2,  35.3503,2,    233.2,2,    250.4,2,     5.00,2,    11.70,2,     0.02,2,     0.79,2,     -999,9,     -999,9,     -999,9,   2158.4,2,   2322.6,2,    646.9,2,   7.7745,2,    25.00,     -999,9,      0.6,2,     -999,9,     -999,9
33RO20230413  ,A16N       ,129     ,  1,1290108    ,8          ,2,20230504,0031,  54.4960, -20.0012,     1384,    351.2,  10.0494,  35.3216,2,  -9.0000,9,    222.6,2,    240.6,6,     5.70,2,    13.00,2,     0.01,2,     0.86,2,     -999,9,     -999,9,     -999,9,     -999,9,   -999.0,9,   -999.0,9,-999.0000,9,    25.00,     -999,9,      0.6,2,     -999,9,     -999,9
33RO20230413  ,A16N       ,129     ,  1,1290107    ,7          ,2,20230504,0031,  54.4960, -20.0012,     1384,    411.8,   9.4919,  35.2445,2,  35.2525,2,    208.6,2,    224.6,2,     7.10,2,    14.90,2,     0.01,2,     0.99,2,     -999,9,     -999,9,     -999,9,   2171.3,2,   2317.5,2,    725.1,2,   7.7334,2,    25.00,     -999,9,      0.7,2,     -999,9,     -999,9
33RO20230413  ,A16N       ,129     ,  1,1290106    ,6          ,2,20230504,0031,  54.4960, -20.0012,     1384,    500.7,   8.7839,  35.2017,2,  -9.0000,9,    185.8,2,    200.0,2,     9.30,2,    17.90,2,     0.01,2,     1.17,2,     -999,9,     -999,9,     -999,9,   2185.6,2,   2315.9,2,    800.4,6,   7.6970,2,    25.00,     -999,9,      0.6,6,     -999,9,     -999,9
33RO20230413  ,A16N       ,129     ,  1,1290105    ,5          ,2,20230504,0031,  54.4960, -20.0012,     1384,    623.5,   7.7060,  35.1865,2,  35.1909,2,    186.4,2,    200.4,2,    10.50,2,    18.90,2,     0.00,2,     1.24,2,     -999,9,     -999,9,     -999,9,   2193.4,2,   2318.9,6,    830.8,2,   7.6802,6,    25.00,     -999,9,      0.6,2,     -999,9,     -999,9
33RO20230413  ,A16N       ,129     ,  1,1290104    ,4          ,2,20230504,0031,  54.4960, -20.0012,     1384,    756.7,   6.2797,  35.0710,2,  -9.0000,2,    203.4,2,    218.0,2,    11.00,6,    18.70,6,     0.00,6,     1.24,6,     -999,9,     -999,9,     -999,9,   2187.4,2,   2310.4,2,    853.0,2,   7.6712,2,    25.00,     -999,9,   -999.0,9,     -999,9,     -999,9
33RO20230413  ,A16N       ,129     ,  1,1290103    ,3          ,2,20230504,0031,  54.4960, -20.0012,     1384,    910.0,   5.5593,  35.0615,2,  35.0668,2,    217.3,2,    234.4,2,    11.00,6,    18.20,6,     0.00,6,     1.22,6,     -999,9,     -999,9,     -999,9,   2186.7,2,   2310.8,2,    838.7,2,   7.6547,2,    25.00,     -999,9,      0.7,2,     -999,9,     -999,9
33RO20230413  ,A16N       ,129     ,  1,1290102    ,2          ,2,20230504,0031,  54.4960, -20.0012,     1384,   1111.5,   4.6026,  34.9794,2,  34.9838,2,    236.0,2,    254.5,2,    10.90,6,    17.50,6,     0.00,6,     1.18,6,     -999,9,     -999,9,     -999,9,   2179.8,2,   2303.0,2,    829.8,2,   7.6525,2,    25.00,     -999,9,      0.7,2,     -999,9,     -999,9
33RO20230413  ,A16N       ,129     ,  1,1290101    ,1          ,2,20230504,0031,  54.4960, -20.0012,     1384,   1389.2,   4.1373,  34.9475,2,  34.9516,9,    244.3,2,    264.4,6,    11.60,6,    17.20,6,     0.00,6,     1.17,6,     -999,9,     -999,9,     -999,9,   2178.5,2,   2303.3,2,    817.9,2,   7.6817,2,    25.00,     -999,9,      0.9,6,     -999,9,     -999,9