BOTTLE,20240607CCHHYDRO
EXPOCODE,SECT_ID,STNNBR,CASTNO,SAMPNO,BTLNBR,BTLNBR_FLAG_W,DATE,TIME,LATITUDE,LONGITUDE,DEPTH,CTDPRS,CTDTMP,CTDSAL,SALNTY,SALNTY_FLAG_W
,,,,,,,,,,,METERS,DBAR,ITS-90,PSS-78,PSS-78,
74JC20091118  ,SR1b       ,12      ,  1,23         ,23         ,2,20091121,1916,-56.46667,-57.42800,     3854,     17.3,   2.0517,  33.9711,     -999,9
74JC20091118  ,SR1b       ,12      ,  1,22         ,22         ,2,20091121,1916,-56.46667,-57.42800,     3854,     17.7,   2.0487,  33.9714,  33.9702,2
74JC20091118  ,SR1b       ,12      ,  1,24         ,24         ,2,20091121,1916,-56.46667,-57.42800,     3854,     17.8,   2.0490,  33.9715,     -999,9
74JC20091118  ,SR1b       ,12      ,  1,21         ,21         ,2,20091121,1916,-56.46667,-57.42800,     3854,     57.1,   1.8973,  33.9749,     -999,9
74JC20091118  ,SR1b       ,12      ,  1,20         ,20         ,2,20091121,1916,-56.46667,-57.42800,     3854,     57.3,   1.9208,  33.9765,     -999,9
74JC20091118  ,SR1b       ,12      ,  1,19         ,19         ,2,20091121,1916,-56.46667,-57.42800,     3854,     57.7,   1.9239,  33.9768,  33.9730,2
74JC20091118  ,SR1b       ,12      ,  1,16         ,16         ,2,20091121,1916,-56.46667,-57.42800,     3854,    127.4,   1.2955,  33.9701,  33.9696,2
74JC20091118  ,SR1b       ,12      ,  1,17         ,17         ,2,20091121,1916,-56.46667,-57.42800,     3854,    128.1,   1.2409,  33.9632,     -999,9
74JC20091118  ,SR1b       ,12      ,  1,18         ,18         ,2,20091121,1916,-56.46667,-57.42800,     3854,    128.7,   1.2062,  33.9590,     -999,9
74JC20091118  ,SR1b       ,12      ,  1,14         ,14         ,2,20091121,1916,-56.46667,-57.42800,     3854,   2032.8,   1.5509,  34.7244,     -999,9
74JC20091118  ,SR1b       ,12      ,  1,15         ,15         ,2,20091121,1916,-56.46667,-57.42800,     3854,   2033.9,   1.5506,  34.7245,     -999,9
74JC20091118  ,SR1b       ,12      ,  1,13         ,13         ,2,20091121,1916,-56.46667,-57.42800,     3854,   2034.6,   1.5502,  34.7245,  34.7217,2
74JC20091118  ,SR1b       ,12      ,  1,10         ,10         ,2,20091121,1916,-56.46667,-57.42800,     3854,   2543.1,   1.1637,  34.7188,  34.7168,2
74JC20091118  ,SR1b       ,12      ,  1,11         ,11         ,2,20091121,1916,-56.46667,-57.42800,     3854,   2544.9,   1.1639,  34.7190,     -999,9
74JC20091118  ,SR1b       ,12      ,  1,12         ,12         ,2,20091121,1916,-56.46667,-57.42800,     3854,   2546.0,   1.1644,  34.7191,     -999,9
74JC20091118  ,SR1b       ,12      ,  1,7          ,7          ,2,20091121,1916,-56.46667,-57.42800,     3854,   3055.3,   1.0216,  34.7137,  34.7109,2
74JC20091118  ,SR1b       ,12      ,  1,9          ,9          ,2,20091121,1916,-56.46667,-57.42800,     3854,   3055.5,   1.0235,  34.7136,     -999,9
74JC20091118  ,SR1b       ,12      ,  1,8          ,8          ,2,20091121,1916,-56.46667,-57.42800,     3854,   3056.1,   1.0231,  34.7136,     -999,9
74JC20091118  ,SR1b       ,12      ,  1,6          ,6          ,2,20091121,1916,-56.46667,-57.42800,     3854,   3569.5,   0.8339,  34.7045,     -999,9
74JC20091118  ,SR1b       ,12      ,  1,4          ,4          ,2,20091121,1916,-56.46667,-57.42800,     3854,   3569.7,   0.8325,  34.7045,  34.7020,2
74JC20091118  ,SR1b       ,12      ,  1,5          ,5          ,2,20091121,1916,-56.46667,-57.42800,     3854,   3569.8,   0.8327,  34.7045,     -999,9
74JC20091118  ,SR1b       ,12      ,  1,2          ,2          ,2,20091121,1916,-56.46667,-57.42800,     3854,   3907.7,   0.7793,  34.7002,     -999,9
74JC20091118  ,SR1b       ,12      ,  1,1          ,1          ,2,20091121,1916,-56.46667,-57.42800,     3854,   3907.9,   0.7794,  34.7003,  34.6985,2
74JC20091118  ,SR1b       ,12      ,  1,3          ,3          ,2,20091121,1916,-56.46667,-57.42800,     3854,   3908.5,   0.7786,  34.7003,     -999,9
74JC20091118  ,SR1b       ,13      ,  1,23         ,23         ,2,20091121,2337,-56.78300,-57.23317,     3082,     16.5,   1.9251,  33.9636,     -999,9
74JC20091118  ,SR1b       ,13      ,  1,22         ,22         ,2,20091121,2337,-56.78300,-57.23317,     3082,     17.2,   1.9196,  33.9637,  33.9618,2
74JC20091118  ,SR1b       ,13      ,  1,24         ,24         ,2,20091121,2337,-56.78300,-57.23317,     3082,     17.3,   1.9009,  33.9633,     -999,9
74JC20091118  ,SR1b       ,13      ,  1,21         ,21         ,2,20091121,2337,-56.78300,-57.23317,     3082,    107.0,   1.0097,  33.9363,     -999,9
74JC20091118  ,SR1b       ,13      ,  1,20         ,20         ,2,20091121,2337,-56.78300,-57.23317,     3082,    107.0,   1.0113,  33.9364,     -999,9
74JC20091118  ,SR1b       ,13      ,  1,19         ,19         ,2,20091121,2337,-56.78300,-57.23317,     3082,    107.6,   1.0125,  33.9367,  33.9363,2
74JC20091118  ,SR1b       ,13      ,  1,16         ,16         ,2,20091121,2337,-56.78300,-57.23317,     3082,    208.0,   1.3086,  33.9967,  33.9959,2
74JC20091118  ,SR1b       ,13      ,  1,17         ,17         ,2,20091121,2337,-56.78300,-57.23317,     3082,    208.5,   1.3091,  33.9968,     -999,9
74JC20091118  ,SR1b       ,13      ,  1,18         ,18         ,2,20091121,2337,-56.78300,-57.23317,     3082,    208.8,   1.3089,  33.9970,     -999,9
74JC20091118  ,SR1b       ,13      ,  1,13         ,13         ,2,20091121,2337,-56.78300,-57.23317,     3082,    288.5,   2.0105,  34.1507,  34.1491,2
74JC20091118  ,SR1b       ,13      ,  1,15         ,15         ,2,20091121,2337,-56.78300,-57.23317,     3082,    289.0,   2.0051,  34.1498,     -999,9
74JC20091118  ,SR1b       ,13      ,  1,14         ,14         ,2,20091121,2337,-56.78300,-57.23317,     3082,    289.2,   2.0087,  34.1506,     -999,9
74JC20091118  ,SR1b       ,13      ,  1,12         ,12         ,2,20091121,2337,-56.78300,-57.23317,     3082,   1523.8,   1.9061,  34.7089,     -999,9
74JC20091118  ,SR1b       ,13      ,  1,11         ,11         ,2,20091121,2337,-56.78300,-57.23317,     3082,   1523.8,   1.9065,  34.7088,     -999,9
74JC20091118  ,SR1b       ,13      ,  1,10         ,10         ,2,20091121,2337,-56.78300,-57.23317,     3082,   1524.4,   1.9064,  34.7088,  34.7070,2
74JC20091118  ,SR1b       ,13      ,  1,9          ,9          ,2,20091121,2337,-56.78300,-57.23317,     3082,   2032.9,   1.5512,  34.7234,     -999,9
74JC20091118  ,SR1b       ,13      ,  1,8          ,8          ,2,20091121,2337,-56.78300,-57.23317,     3082,   2032.9,   1.5513,  34.7233,     -999,9
74JC20091118  ,SR1b       ,13      ,  1,7          ,7          ,2,20091121,2337,-56.78300,-57.23317,     3082,   2033.0,   1.5511,  34.7233,  34.7219,2
74JC20091118  ,SR1b       ,13      ,  1,4          ,4          ,2,20091121,2337,-56.78300,-57.23317,     3082,   2543.8,   1.2334,  34.7200,  34.7172,2
74JC20091118  ,SR1b       ,13      ,  1,5          ,5          ,2,20091121,2337,-56.78300,-57.23317,     3082,   2544.1,   1.2369,  34.7201,     -999,9
74JC20091118  ,SR1b       ,13      ,  1,6          ,6          ,2,20091121,2337,-56.78300,-57.23317,     3082,   2544.2,   1.2367,  34.7202,     -999,9
74JC20091118  ,SR1b       ,13      ,  1,3          ,3          ,2,20091121,2337,-56.78300,-57.23317,     3082,   3121.0,   0.9263,  34.7098,     -999,9
74JC20091118  ,SR1b       ,13      ,  1,2          ,2          ,2,20091121,2337,-56.78300,-57.23317,     3082,   3121.4,   0.9268,  34.7095,     -999,9
74JC20091118  ,SR1b       ,13      ,  1,1          ,1          ,2,20091121,2337,-56.78300,-57.23317,     3082,   3121.5,   0.9262,  34.7098,  34.7091,2
74JC20091118  ,SR1b       ,14      ,  1,22         ,22         ,2,20091122,0433,-57.10017,-57.03367,     4140,     48.2,   2.0118,  33.9844,  33.9835,2
74JC20091118  ,SR1b       ,14      ,  1,23         ,23         ,2,20091122,0433,-57.10017,-57.03367,     4140,     48.2,   2.0128,  33.9842,     -999,9
74JC20091118  ,SR1b       ,14      ,  1,24         ,24         ,2,20091122,0433,-57.10017,-57.03367,     4140,     48.4,   2.0131,  33.9844,     -999,9
74JC20091118  ,SR1b       ,14      ,  1,21         ,21         ,2,20091122,0433,-57.10017,-57.03367,     4140,     67.1,   1.9947,  33.9843,     -999,9
74JC20091118  ,SR1b       ,14      ,  1,20         ,20         ,2,20091122,0433,-57.10017,-57.03367,     4140,     68.3,   1.9838,  33.9843,     -999,9
74JC20091118  ,SR1b       ,14      ,  1,19         ,19         ,2,20091122,0433,-57.10017,-57.03367,     4140,     68.3,   1.9749,  33.9840,  33.9831,2
74JC20091118  ,SR1b       ,14      ,  1,17         ,17         ,2,20091122,0433,-57.10017,-57.03367,     4140,    279.8,   1.6796,  34.1001,     -999,9
74JC20091118  ,SR1b       ,14      ,  1,18         ,18         ,2,20091122,0433,-57.10017,-57.03367,     4140,    279.9,   1.6790,  34.1001,     -999,9
74JC20091118  ,SR1b       ,14      ,  1,16         ,16         ,2,20091122,0433,-57.10017,-57.03367,     4140,    280.2,   1.6783,  34.1002,  34.0991,2
74JC20091118  ,SR1b       ,14      ,  1,15         ,15         ,2,20091122,0433,-57.10017,-57.03367,     4140,   1525.8,   1.8146,  34.7120,     -999,9
74JC20091118  ,SR1b       ,14      ,  1,13         ,13         ,2,20091122,0433,-57.10017,-57.03367,     4140,   1526.3,   1.8135,  34.7120,  34.7093,2
74JC20091118  ,SR1b       ,14      ,  1,14         ,14         ,2,20091122,0433,-57.10017,-57.03367,     4140,   1526.6,   1.8138,  34.7119,     -999,9
74JC20091118  ,SR1b       ,14      ,  1,10         ,10         ,2,20091122,0433,-57.10017,-57.03367,     4140,   2034.7,   1.4718,  34.7240,  34.7221,2
74JC20091118  ,SR1b       ,14      ,  1,11         ,11         ,2,20091122,0433,-57.10017,-57.03367,     4140,   2036.0,   1.4720,  34.7240,     -999,9
74JC20091118  ,SR1b       ,14      ,  1,12         ,12         ,2,20091122,0433,-57.10017,-57.03367,     4140,   2036.7,   1.4711,  34.7241,     -999,9
74JC20091118  ,SR1b       ,14      ,  1,7          ,7          ,2,20091122,0433,-57.10017,-57.03367,     4140,   3058.2,   0.8780,  34.7095,  34.7074,2
74JC20091118  ,SR1b       ,14      ,  1,8          ,8          ,2,20091122,0433,-57.10017,-57.03367,     4140,   3058.4,   0.8783,  34.7094,     -999,9
74JC20091118  ,SR1b       ,14      ,  1,9          ,9          ,2,20091122,0433,-57.10017,-57.03367,     4140,   3058.7,   0.8784,  34.7096,     -999,9
74JC20091118  ,SR1b       ,14      ,  1,5          ,5          ,2,20091122,0433,-57.10017,-57.03367,     4140,   3570.6,   0.7405,  34.7011,     -999,9
74JC20091118  ,SR1b       ,14      ,  1,4          ,4          ,2,20091122,0433,-57.10017,-57.03367,     4140,   3571.6,   0.7400,  34.7010,  34.6983,2
74JC20091118  ,SR1b       ,14      ,  1,6          ,6          ,2,20091122,0433,-57.10017,-57.03367,     4140,   3571.8,   0.7415,  34.7011,     -999,9
74JC20091118  ,SR1b       ,14      ,  1,3          ,3          ,2,20091122,0433,-57.10017,-57.03367,     4140,   4201.0,   0.5701,  34.6875,     -999,9
74JC20091118  ,SR1b       ,14      ,  1,2          ,2          ,2,20091122,0433,-57.10017,-57.03367,     4140,   4201.0,   0.5702,  34.6874,     -999,9
74JC20091118  ,SR1b       ,14      ,  1,1          ,1          ,2,20091122,0433,-57.10017,-57.03367,     4140,   4201.0,   0.5694,  34.6875,  34.6848,2
74JC20091118  ,SR1b       ,15      ,  1,23         ,23         ,2,20091122,0914,-57.41617,-56.83283,     3480,     17.2,   1.6550,  33.9561,     -999,9
74JC20091118  ,SR1b       ,15      ,  1,22         ,22         ,2,20091122,0914,-57.41617,-56.83283,     3480,     17.5,   1.6521,  33.9560,  33.9547,2
74JC20091118  ,SR1b       ,15      ,  1,24         ,24         ,2,20091122,0914,-57.41617,-56.83283,     3480,     18.1,   1.6571,  33.9560,     -999,9
74JC20091118  ,SR1b       ,15      ,  1,19         ,19         ,2,20091122,0914,-57.41617,-56.83283,     3480,     27.3,   1.6501,  33.9557,  33.9543,2
74JC20091118  ,SR1b       ,15      ,  1,21         ,21         ,2,20091122,0914,-57.41617,-56.83283,     3480,     27.8,   1.6541,  33.9558,     -999,9
74JC20091118  ,SR1b       ,15      ,  1,20         ,20         ,2,20091122,0914,-57.41617,-56.83283,     3480,     27.8,   1.6595,  33.9560,     -999,9
74JC20091118  ,SR1b       ,15      ,  1,18         ,18         ,2,20091122,0914,-57.41617,-56.83283,     3480,    326.2,   2.1304,  34.2759,     -999,9
74JC20091118  ,SR1b       ,15      ,  1,16         ,16         ,2,20091122,0914,-57.41617,-56.83283,     3480,    327.2,   2.1226,  34.2764,  34.2736,2
74JC20091118  ,SR1b       ,15      ,  1,17         ,17         ,2,20091122,0914,-57.41617,-56.83283,     3480,    328.5,   2.1237,  34.2761,     -999,9
74JC20091118  ,SR1b       ,15      ,  1,14         ,14         ,2,20091122,0914,-57.41617,-56.83283,     3480,   1519.9,   1.7459,  34.7194,     -999,9
74JC20091118  ,SR1b       ,15      ,  1,15         ,15         ,2,20091122,0914,-57.41617,-56.83283,     3480,   1521.2,   1.7455,  34.7197,     -999,9
74JC20091118  ,SR1b       ,15      ,  1,13         ,13         ,2,20091122,0914,-57.41617,-56.83283,     3480,   1522.9,   1.7420,  34.7199,  34.7180,2
74JC20091118  ,SR1b       ,15      ,  1,12         ,12         ,2,20091122,0914,-57.41617,-56.83283,     3480,   2028.6,   1.3800,  34.7264,     -999,9
74JC20091118  ,SR1b       ,15      ,  1,10         ,10         ,2,20091122,0914,-57.41617,-56.83283,     3480,   2029.9,   1.3812,  34.7266,  34.7247,2
74JC20091118  ,SR1b       ,15      ,  1,11         ,11         ,2,20091122,0914,-57.41617,-56.83283,     3480,   2030.7,   1.3802,  34.7266,     -999,9
74JC20091118  ,SR1b       ,15      ,  1,7          ,7          ,2,20091122,0914,-57.41617,-56.83283,     3480,   2538.6,   0.9628,  34.7147,  34.7131,2
74JC20091118  ,SR1b       ,15      ,  1,9          ,9          ,2,20091122,0914,-57.41617,-56.83283,     3480,   2538.8,   0.9654,  34.7147,     -999,9
74JC20091118  ,SR1b       ,15      ,  1,8          ,8          ,2,20091122,0914,-57.41617,-56.83283,     3480,   2541.8,   0.9651,  34.7147,     -999,9
74JC20091118  ,SR1b       ,15      ,  1,5          ,5          ,2,20091122,0914,-57.41617,-56.83283,     3480,   3050.3,   0.7824,  34.7047,  34.7034,2
74JC20091118  ,SR1b       ,15      ,  1,6          ,6          ,2,20091122,0914,-57.41617,-56.83283,     3480,   3051.3,   0.7822,  34.7048,     -999,9
74JC20091118  ,SR1b       ,15      ,  1,4          ,4          ,2,20091122,0914,-57.41617,-56.83283,     3480,   3051.5,   0.7820,  34.7049,     -999,9
74JC20091118  ,SR1b       ,15      ,  1,1          ,1          ,2,20091122,0914,-57.41617,-56.83283,     3480,   3528.8,   0.5270,  34.6894,  34.6875,2
74JC20091118  ,SR1b       ,15      ,  1,2          ,2          ,2,20091122,0914,-57.41617,-56.83283,     3480,   3529.2,   0.5261,  34.6893,     -999,9
74JC20091118  ,SR1b       ,15      ,  1,3          ,3          ,2,20091122,0914,-57.41617,-56.83283,     3480,   3529.7,   0.5268,  34.6895,     -999,9
74JC20091118  ,SR1b       ,16      ,  1,23         ,23         ,2,20091122,1343,-57.73133,-56.63717,     3492,     17.3,  -0.0664,  33.8067,     -999,9
74JC20091118  ,SR1b       ,16      ,  1,24         ,24         ,2,20091122,1343,-57.73133,-56.63717,     3492,     17.9,  -0.0637,  33.8066,     -999,9
74JC20091118  ,SR1b       ,16      ,  1,22         ,22         ,2,20091122,1343,-57.73133,-56.63717,     3492,     18.0,  -0.0686,  33.8063,  33.8067,2
74JC20091118  ,SR1b       ,16      ,  1,21         ,21         ,2,20091122,1343,-57.73133,-56.63717,     3492,     86.9,  -1.0063,  33.8449,     -999,9
74JC20091118  ,SR1b       ,16      ,  1,19         ,19         ,2,20091122,1343,-57.73133,-56.63717,     3492,     87.6,  -1.0127,  33.8441,  33.8427,2
74JC20091118  ,SR1b       ,16      ,  1,20         ,20         ,2,20091122,1343,-57.73133,-56.63717,     3492,     88.2,  -1.0127,  33.8441,     -999,9
74JC20091118  ,SR1b       ,16      ,  1,17         ,17         ,2,20091122,1343,-57.73133,-56.63717,     3492,   1216.0,   1.7742,  34.7235,     -999,9
74JC20091118  ,SR1b       ,16      ,  1,16         ,16         ,2,20091122,1343,-57.73133,-56.63717,     3492,   1216.6,   1.7731,  34.7236,  34.7221,2
74JC20091118  ,SR1b       ,16      ,  1,18         ,18         ,2,20091122,1343,-57.73133,-56.63717,     3492,   1218.6,   1.7742,  34.7237,     -999,9
74JC20091118  ,SR1b       ,16      ,  1,15         ,15         ,2,20091122,1343,-57.73133,-56.63717,     3492,   1822.8,   1.2651,  34.7236,     -999,9
74JC20091118  ,SR1b       ,16      ,  1,13         ,13         ,2,20091122,1343,-57.73133,-56.63717,     3492,   1824.7,   1.2652,  34.7237,  34.7223,2
74JC20091118  ,SR1b       ,16      ,  1,14         ,14         ,2,20091122,1343,-57.73133,-56.63717,     3492,   1824.8,   1.2656,  34.7235,     -999,9
74JC20091118  ,SR1b       ,16      ,  1,12         ,12         ,2,20091122,1343,-57.73133,-56.63717,     3492,   2027.9,   1.1158,  34.7178,     -999,9
74JC20091118  ,SR1b       ,16      ,  1,10         ,10         ,2,20091122,1343,-57.73133,-56.63717,     3492,   2029.0,   1.1131,  34.7180,  34.7160,2
74JC20091118  ,SR1b       ,16      ,  1,11         ,11         ,2,20091122,1343,-57.73133,-56.63717,     3492,   2031.0,   1.1150,  34.7179,     -999,9
74JC20091118  ,SR1b       ,16      ,  1,9          ,9          ,2,20091122,1343,-57.73133,-56.63717,     3492,   2536.3,   0.7913,  34.7091,     -999,9
74JC20091118  ,SR1b       ,16      ,  1,8          ,8          ,2,20091122,1343,-57.73133,-56.63717,     3492,   2538.9,   0.7912,  34.7093,  34.7076,2
74JC20091118  ,SR1b       ,16      ,  1,7          ,7          ,2,20091122,1343,-57.73133,-56.63717,     3492,   2539.8,   0.7908,  34.7093,     -999,9
74JC20091118  ,SR1b       ,16      ,  1,5          ,5          ,2,20091122,1343,-57.73133,-56.63717,     3492,   3049.5,   0.4952,  34.6907,  34.6889,2
74JC20091118  ,SR1b       ,16      ,  1,6          ,6          ,2,20091122,1343,-57.73133,-56.63717,     3492,   3050.5,   0.4959,  34.6908,     -999,9
74JC20091118  ,SR1b       ,16      ,  1,3          ,3          ,2,20091122,1343,-57.73133,-56.63717,     3492,   3050.5,   0.4917,  34.6907,     -999,9
74JC20091118  ,SR1b       ,16      ,  1,4          ,4          ,2,20091122,1343,-57.73133,-56.63717,     3492,   3051.5,   0.4939,  34.6907,     -999,9
74JC20091118  ,SR1b       ,16      ,  1,1          ,1          ,2,20091122,1343,-57.73133,-56.63717,     3492,   3547.2,   0.2108,  34.6700,  34.6684,2
74JC20091118  ,SR1b       ,16      ,  1,2          ,2          ,2,20091122,1343,-57.73133,-56.63717,     3492,   3549.4,   0.2104,  34.6702,     -999,9