BOTTLE,20240607CCHHYDRO
EXPOCODE,SECT_ID,STNNBR,CASTNO,SAMPNO,BTLNBR,BTLNBR_FLAG_W,DATE,TIME,LATITUDE,LONGITUDE,DEPTH,CTDPRS,CTDTMP,CTDSAL,SALNTY,SALNTY_FLAG_W
,,,,,,,,,,,METERS,DBAR,ITS-90,PSS-78,PSS-78,
74JC20091118  ,SR1b       ,27      ,  1,22         ,22         ,2,20091124,2300,-60.83317,-54.71950,     1626,     12.7,  -1.1491,  34.1278,  34.1621,2
74JC20091118  ,SR1b       ,27      ,  1,23         ,23         ,2,20091124,2300,-60.83317,-54.71950,     1626,     13.1,  -1.1623,  34.1212,     -999,9
74JC20091118  ,SR1b       ,27      ,  1,24         ,24         ,2,20091124,2300,-60.83317,-54.71950,     1626,     13.2,  -1.1669,  34.1219,     -999,9
74JC20091118  ,SR1b       ,27      ,  1,20         ,20         ,2,20091124,2300,-60.83317,-54.71950,     1626,    143.9,  -0.7823,  34.3776,     -999,9
74JC20091118  ,SR1b       ,27      ,  1,21         ,21         ,2,20091124,2300,-60.83317,-54.71950,     1626,    144.2,  -0.7843,  34.3773,     -999,9
74JC20091118  ,SR1b       ,27      ,  1,19         ,19         ,2,20091124,2300,-60.83317,-54.71950,     1626,    144.2,  -0.7838,  34.3775,  34.3764,2
74JC20091118  ,SR1b       ,27      ,  1,17         ,17         ,2,20091124,2300,-60.83317,-54.71950,     1626,    315.0,  -0.0408,  34.5293,     -999,9
74JC20091118  ,SR1b       ,27      ,  1,16         ,16         ,2,20091124,2300,-60.83317,-54.71950,     1626,    315.1,  -0.0227,  34.5311,  34.5300,2
74JC20091118  ,SR1b       ,27      ,  1,18         ,18         ,2,20091124,2300,-60.83317,-54.71950,     1626,    315.5,  -0.0477,  34.5294,     -999,9
74JC20091118  ,SR1b       ,27      ,  1,15         ,15         ,2,20091124,2300,-60.83317,-54.71950,     1626,    507.6,   0.6000,  34.6340,     -999,9
74JC20091118  ,SR1b       ,27      ,  1,14         ,14         ,2,20091124,2300,-60.83317,-54.71950,     1626,    507.6,   0.5993,  34.6339,     -999,9
74JC20091118  ,SR1b       ,27      ,  1,13         ,13         ,2,20091124,2300,-60.83317,-54.71950,     1626,    508.1,   0.5980,  34.6336,  34.6329,2
74JC20091118  ,SR1b       ,27      ,  1,10         ,10         ,2,20091124,2300,-60.83317,-54.71950,     1626,    710.4,   0.8090,  34.6794,  34.6783,2
74JC20091118  ,SR1b       ,27      ,  1,12         ,12         ,2,20091124,2300,-60.83317,-54.71950,     1626,    710.6,   0.8029,  34.6780,     -999,9
74JC20091118  ,SR1b       ,27      ,  1,11         ,11         ,2,20091124,2300,-60.83317,-54.71950,     1626,    711.0,   0.8043,  34.6783,     -999,9
74JC20091118  ,SR1b       ,27      ,  1,9          ,9          ,2,20091124,2300,-60.83317,-54.71950,     1626,   1115.9,   0.7350,  34.7062,     -999,9
74JC20091118  ,SR1b       ,27      ,  1,8          ,8          ,2,20091124,2300,-60.83317,-54.71950,     1626,   1116.2,   0.7358,  34.7063,     -999,9
74JC20091118  ,SR1b       ,27      ,  1,7          ,7          ,2,20091124,2300,-60.83317,-54.71950,     1626,   1116.3,   0.7350,  34.7063,  34.7056,2
74JC20091118  ,SR1b       ,27      ,  1,5          ,5          ,2,20091124,2300,-60.83317,-54.71950,     1626,   1421.1,   0.5045,  34.6920,  34.6908,2
74JC20091118  ,SR1b       ,27      ,  1,6          ,6          ,2,20091124,2300,-60.83317,-54.71950,     1626,   1421.5,   0.5029,  34.6917,     -999,9
74JC20091118  ,SR1b       ,27      ,  1,4          ,4          ,2,20091124,2300,-60.83317,-54.71950,     1626,   1421.6,   0.5059,  34.6922,     -999,9
74JC20091118  ,SR1b       ,27      ,  1,2          ,2          ,2,20091124,2300,-60.83317,-54.71950,     1626,   1638.7,   0.3511,  34.6812,     -999,9
74JC20091118  ,SR1b       ,27      ,  1,3          ,3          ,2,20091124,2300,-60.83317,-54.71950,     1626,   1639.0,   0.3510,  34.6812,     -999,9
74JC20091118  ,SR1b       ,27      ,  1,1          ,1          ,2,20091124,2300,-60.83317,-54.71950,     1626,   1639.2,   0.3511,  34.6812,  34.6802,2
74JC20091118  ,SR1b       ,28      ,  1,24         ,24         ,2,20091125,0138,-60.85017,-54.71100,      983,      1.6,  -1.1824,  34.0426,     -999,9
74JC20091118  ,SR1b       ,28      ,  1,23         ,23         ,2,20091125,0138,-60.85017,-54.71100,      983,     12.4,  -1.2125,  34.0441,     -999,9
74JC20091118  ,SR1b       ,28      ,  1,22         ,22         ,2,20091125,0138,-60.85017,-54.71100,      983,     12.7,  -1.2122,  34.0442,  34.0454,2
74JC20091118  ,SR1b       ,28      ,  1,19         ,19         ,2,20091125,0138,-60.85017,-54.71100,      983,     52.7,  -1.2159,  34.2044,  34.2064,2
74JC20091118  ,SR1b       ,28      ,  1,20         ,20         ,2,20091125,0138,-60.85017,-54.71100,      983,     52.9,  -1.2160,  34.2033,     -999,9
74JC20091118  ,SR1b       ,28      ,  1,21         ,21         ,2,20091125,0138,-60.85017,-54.71100,      983,     53.1,  -1.2161,  34.2034,     -999,9
74JC20091118  ,SR1b       ,28      ,  1,16         ,16         ,2,20091125,0138,-60.85017,-54.71100,      983,     83.2,  -1.1799,  34.2565,  34.2572,2
74JC20091118  ,SR1b       ,28      ,  1,18         ,18         ,2,20091125,0138,-60.85017,-54.71100,      983,     83.4,  -1.1796,  34.2564,     -999,9
74JC20091118  ,SR1b       ,28      ,  1,17         ,17         ,2,20091125,0138,-60.85017,-54.71100,      983,     83.6,  -1.1798,  34.2563,     -999,9
74JC20091118  ,SR1b       ,28      ,  1,14         ,14         ,2,20091125,0138,-60.85017,-54.71100,      983,    173.9,  -0.9165,  34.3849,     -999,9
74JC20091118  ,SR1b       ,28      ,  1,15         ,15         ,2,20091125,0138,-60.85017,-54.71100,      983,    174.2,  -0.9168,  34.3849,     -999,9
74JC20091118  ,SR1b       ,28      ,  1,13         ,13         ,2,20091125,0138,-60.85017,-54.71100,      983,    174.3,  -0.9155,  34.3843,  34.3904,2
74JC20091118  ,SR1b       ,28      ,  1,12         ,12         ,2,20091125,0138,-60.85017,-54.71100,      983,    275.0,  -0.8708,  34.4496,     -999,9
74JC20091118  ,SR1b       ,28      ,  1,11         ,11         ,2,20091125,0138,-60.85017,-54.71100,      983,    275.0,  -0.8705,  34.4496,     -999,9
74JC20091118  ,SR1b       ,28      ,  1,10         ,10         ,2,20091125,0138,-60.85017,-54.71100,      983,    275.3,  -0.8689,  34.4499,  34.4485,2
74JC20091118  ,SR1b       ,28      ,  1,7          ,7          ,2,20091125,0138,-60.85017,-54.71100,      983,    446.8,   0.4705,  34.6134,  34.6119,2
74JC20091118  ,SR1b       ,28      ,  1,9          ,9          ,2,20091125,0138,-60.85017,-54.71100,      983,    446.9,   0.4928,  34.6153,     -999,9
74JC20091118  ,SR1b       ,28      ,  1,8          ,8          ,2,20091125,0138,-60.85017,-54.71100,      983,    447.2,   0.4788,  34.6139,     -999,9
74JC20091118  ,SR1b       ,28      ,  1,5          ,5          ,2,20091125,0138,-60.85017,-54.71100,      983,    730.5,   0.5137,  34.6591,     -999,9
74JC20091118  ,SR1b       ,28      ,  1,6          ,6          ,2,20091125,0138,-60.85017,-54.71100,      983,    730.7,   0.5114,  34.6586,     -999,9
74JC20091118  ,SR1b       ,28      ,  1,4          ,4          ,2,20091125,0138,-60.85017,-54.71100,      983,    730.8,   0.5119,  34.6589,  34.6572,2
74JC20091118  ,SR1b       ,28      ,  1,1          ,1          ,2,20091125,0138,-60.85017,-54.71100,      983,    979.5,   0.7028,  34.6986,  34.6987,2
74JC20091118  ,SR1b       ,28      ,  1,2          ,2          ,2,20091125,0138,-60.85017,-54.71100,      983,    979.7,   0.6918,  34.6974,     -999,9
74JC20091118  ,SR1b       ,28      ,  1,3          ,3          ,2,20091125,0138,-60.85017,-54.71100,      983,    979.9,   0.6964,  34.6979,     -999,9
74JC20091118  ,SR1b       ,29      ,  1,22         ,22         ,2,20091125,0444,-60.97767,-54.63367,      585,     12.9,  -1.0430,  34.1353,  34.1585,2
74JC20091118  ,SR1b       ,29      ,  1,24         ,24         ,2,20091125,0444,-60.97767,-54.63367,      585,     13.0,  -1.0132,  34.1509,     -999,9
74JC20091118  ,SR1b       ,29      ,  1,23         ,23         ,2,20091125,0444,-60.97767,-54.63367,      585,     13.0,  -1.0248,  34.1444,     -999,9
74JC20091118  ,SR1b       ,29      ,  1,21         ,21         ,2,20091125,0444,-60.97767,-54.63367,      585,     33.1,  -1.0590,  34.1876,     -999,9
74JC20091118  ,SR1b       ,29      ,  1,20         ,20         ,2,20091125,0444,-60.97767,-54.63367,      585,     33.2,  -1.0589,  34.1882,     -999,9
74JC20091118  ,SR1b       ,29      ,  1,19         ,19         ,2,20091125,0444,-60.97767,-54.63367,      585,     33.3,  -1.0604,  34.1908,  34.1921,2
74JC20091118  ,SR1b       ,29      ,  1,16         ,16         ,2,20091125,0444,-60.97767,-54.63367,      585,    123.8,  -0.9816,  34.2591,  34.2585,2
74JC20091118  ,SR1b       ,29      ,  1,18         ,18         ,2,20091125,0444,-60.97767,-54.63367,      585,    124.1,  -0.9819,  34.2596,     -999,9
74JC20091118  ,SR1b       ,29      ,  1,17         ,17         ,2,20091125,0444,-60.97767,-54.63367,      585,    124.3,  -0.9811,  34.2585,     -999,9
74JC20091118  ,SR1b       ,29      ,  1,15         ,15         ,2,20091125,0444,-60.97767,-54.63367,      585,    224.7,  -0.6804,  34.3578,     -999,9
74JC20091118  ,SR1b       ,29      ,  1,14         ,14         ,2,20091125,0444,-60.97767,-54.63367,      585,    224.8,  -0.6770,  34.3590,     -999,9
74JC20091118  ,SR1b       ,29      ,  1,13         ,13         ,2,20091125,0444,-60.97767,-54.63367,      585,    225.1,  -0.6819,  34.3572,  33.9700,2
74JC20091118  ,SR1b       ,29      ,  1,10         ,10         ,2,20091125,0444,-60.97767,-54.63367,      585,    275.2,  -0.6077,  34.3811,  34.3811,2
74JC20091118  ,SR1b       ,29      ,  1,11         ,11         ,2,20091125,0444,-60.97767,-54.63367,      585,    275.4,  -0.6006,  34.3831,     -999,9
74JC20091118  ,SR1b       ,29      ,  1,12         ,12         ,2,20091125,0444,-60.97767,-54.63367,      585,    275.6,  -0.6001,  34.3829,     -999,9
74JC20091118  ,SR1b       ,29      ,  1,8          ,8          ,2,20091125,0444,-60.97767,-54.63367,      585,    325.8,  -0.7212,  34.3999,     -999,9
74JC20091118  ,SR1b       ,29      ,  1,7          ,7          ,2,20091125,0444,-60.97767,-54.63367,      585,    325.8,  -0.7235,  34.4009,  34.4002,2
74JC20091118  ,SR1b       ,29      ,  1,9          ,9          ,2,20091125,0444,-60.97767,-54.63367,      585,    325.8,  -0.7188,  34.3976,     -999,9
74JC20091118  ,SR1b       ,29      ,  1,4          ,4          ,2,20091125,0444,-60.97767,-54.63367,      585,    487.6,  -0.7416,  34.4965,  34.4962,2
74JC20091118  ,SR1b       ,29      ,  1,5          ,5          ,2,20091125,0444,-60.97767,-54.63367,      585,    487.8,  -0.7429,  34.4958,     -999,9
74JC20091118  ,SR1b       ,29      ,  1,6          ,6          ,2,20091125,0444,-60.97767,-54.63367,      585,    488.1,  -0.7424,  34.4962,     -999,9
74JC20091118  ,SR1b       ,29      ,  1,3          ,3          ,2,20091125,0444,-60.97767,-54.63367,      585,    582.3,  -0.5707,  34.5426,     -999,9
74JC20091118  ,SR1b       ,29      ,  1,2          ,2          ,2,20091125,0444,-60.97767,-54.63367,      585,    582.4,  -0.5701,  34.5428,     -999,9
74JC20091118  ,SR1b       ,29      ,  1,1          ,1          ,2,20091125,0444,-60.97767,-54.63367,      585,    582.6,  -0.5680,  34.5433,  34.5410,2
74JC20091118  ,SR1b       ,30      ,  1,20         ,20         ,2,20091125,0645,-61.05100,-54.59117,      360,     12.4,  -0.9443,  34.1820,     -999,9
74JC20091118  ,SR1b       ,30      ,  1,19         ,19         ,2,20091125,0645,-61.05100,-54.59117,      360,     12.4,  -0.9448,  34.1821,  34.1822,2
74JC20091118  ,SR1b       ,30      ,  1,24         ,24         ,2,20091125,0645,-61.05100,-54.59117,      360,     12.6,  -0.9451,  34.1811,     -999,9
74JC20091118  ,SR1b       ,30      ,  1,21         ,21         ,2,20091125,0645,-61.05100,-54.59117,      360,     12.6,  -0.9444,  34.1816,     -999,9
74JC20091118  ,SR1b       ,30      ,  1,22         ,22         ,2,20091125,0645,-61.05100,-54.59117,      360,     12.7,  -0.9448,  34.1813,     -999,9
74JC20091118  ,SR1b       ,30      ,  1,23         ,23         ,2,20091125,0645,-61.05100,-54.59117,      360,     12.8,  -0.9446,  34.1813,     -999,9
74JC20091118  ,SR1b       ,30      ,  1,18         ,18         ,2,20091125,0645,-61.05100,-54.59117,      360,     42.5,  -0.9205,  34.1966,     -999,9
74JC20091118  ,SR1b       ,30      ,  1,17         ,17         ,2,20091125,0645,-61.05100,-54.59117,      360,     42.5,  -0.9206,  34.1970,     -999,9
74JC20091118  ,SR1b       ,30      ,  1,13         ,13         ,2,20091125,0645,-61.05100,-54.59117,      360,     42.8,  -0.9201,  34.1974,  34.2064,2
74JC20091118  ,SR1b       ,30      ,  1,16         ,16         ,2,20091125,0645,-61.05100,-54.59117,      360,     42.9,  -0.9208,  34.1950,     -999,9
74JC20091118  ,SR1b       ,30      ,  1,14         ,14         ,2,20091125,0645,-61.05100,-54.59117,      360,     42.9,  -0.9201,  34.1978,     -999,9
74JC20091118  ,SR1b       ,30      ,  1,15         ,15         ,2,20091125,0645,-61.05100,-54.59117,      360,     43.1,  -0.9210,  34.1945,     -999,9
74JC20091118  ,SR1b       ,30      ,  1,7          ,7          ,2,20091125,0645,-61.05100,-54.59117,      360,    123.2,  -0.9104,  34.2582,  34.2591,2
74JC20091118  ,SR1b       ,30      ,  1,12         ,12         ,2,20091125,0645,-61.05100,-54.59117,      360,    123.3,  -0.9050,  34.2634,     -999,9
74JC20091118  ,SR1b       ,30      ,  1,10         ,10         ,2,20091125,0645,-61.05100,-54.59117,      360,    123.4,  -0.9034,  34.2650,     -999,9
74JC20091118  ,SR1b       ,30      ,  1,8          ,8          ,2,20091125,0645,-61.05100,-54.59117,      360,    123.4,  -0.9093,  34.2598,     -999,9
74JC20091118  ,SR1b       ,30      ,  1,9          ,9          ,2,20091125,0645,-61.05100,-54.59117,      360,    123.5,  -0.9036,  34.2652,     -999,9
74JC20091118  ,SR1b       ,30      ,  1,11         ,11         ,2,20091125,0645,-61.05100,-54.59117,      360,    123.5,  -0.9034,  34.2651,     -999,9
74JC20091118  ,SR1b       ,30      ,  1,6          ,6          ,2,20091125,0645,-61.05100,-54.59117,      360,    356.6,  -0.7685,  34.4644,     -999,9
74JC20091118  ,SR1b       ,30      ,  1,5          ,5          ,2,20091125,0645,-61.05100,-54.59117,      360,    356.8,  -0.7684,  34.4644,     -999,9
74JC20091118  ,SR1b       ,30      ,  1,4          ,4          ,2,20091125,0645,-61.05100,-54.59117,      360,    356.8,  -0.7684,  34.4647,     -999,9
74JC20091118  ,SR1b       ,30      ,  1,3          ,3          ,2,20091125,0645,-61.05100,-54.59117,      360,    356.8,  -0.7683,  34.4645,     -999,9
74JC20091118  ,SR1b       ,30      ,  1,1          ,1          ,2,20091125,0645,-61.05100,-54.59117,      360,    357.0,  -0.7685,  34.4644,  34.4610,2
74JC20091118  ,SR1b       ,30      ,  1,2          ,2          ,2,20091125,0645,-61.05100,-54.59117,      360,    357.2,  -0.7685,  34.4643,     -999,9