BOTTLE,20240607CCHHYDRO
#BOTTLE,20240607CCHSIOSLL
# For more information on how to cite, please visit cchdo.ucsd.edu
# BOTTLE,20170706OCPNOCYLF
#SHIP: James Clark Ross
#Cruise JR195; SR1b
#Region: Drake Passage
#EXPOCODE: 74JC20091118
#DATES: 20091118 - 20091129
#Chief Scientist: M. Yelland, NOC
#Supported by NERC National Capability
#32 stations with 24-place rosette
#CTD: Who - B. King; Status - final
#Notes: CTD PRS; TMP; SAL are calibrated and good
#s: Who - Salinity; Status - final
#s: Who -  ; Status - final
#These data should be acknowledged with: "Data were collected and made publicly available by the international Global Ship-based Hydrographic Investigations Program (GO-SHIP; http://www.go-ship.org/) with National Capability funding from the UK Natural Environment Research Council to the National Oceanography Centre."
EXPOCODE,SECT_ID,STNNBR,CASTNO,SAMPNO,BTLNBR,BTLNBR_FLAG_W,DATE,TIME,LATITUDE,LONGITUDE,DEPTH,CTDPRS,CTDTMP,CTDSAL,SALNTY,SALNTY_FLAG_W
,,,,,,,,,,,METERS,DBAR,ITS-90,PSS-78,PSS-78,
74JC20091118  ,SR1b       ,1       ,  1,23         ,23         ,2,20091119,0534,-54.66667,-58.54450,      386,     42.5,   4.5901,  34.0876,     -999,9
74JC20091118  ,SR1b       ,1       ,  1,22         ,22         ,2,20091119,0534,-54.66667,-58.54450,      386,     43.1,   4.5902,  34.0878,  34.0865,2
74JC20091118  ,SR1b       ,1       ,  1,24         ,24         ,2,20091119,0534,-54.66667,-58.54450,      386,     43.6,   4.5886,  34.0878,     -999,9
74JC20091118  ,SR1b       ,1       ,  1,21         ,21         ,2,20091119,0534,-54.66667,-58.54450,      386,     61.3,   4.5570,  34.0950,     -999,9
74JC20091118  ,SR1b       ,1       ,  1,20         ,20         ,2,20091119,0534,-54.66667,-58.54450,      386,     62.1,   4.5566,  34.0952,     -999,9
74JC20091118  ,SR1b       ,1       ,  1,19         ,19         ,2,20091119,0534,-54.66667,-58.54450,      386,     63.5,   4.5568,  34.0952,  34.0896,2
74JC20091118  ,SR1b       ,1       ,  1,16         ,16         ,2,20091119,0534,-54.66667,-58.54450,      386,     81.4,   4.5529,  34.0967,  34.0939,2
74JC20091118  ,SR1b       ,1       ,  1,18         ,18         ,2,20091119,0534,-54.66667,-58.54450,      386,     82.0,   4.5539,  34.0962,     -999,9
74JC20091118  ,SR1b       ,1       ,  1,17         ,17         ,2,20091119,0534,-54.66667,-58.54450,      386,     83.8,   4.5538,  34.0964,     -999,9
74JC20091118  ,SR1b       ,1       ,  1,14         ,14         ,2,20091119,0534,-54.66667,-58.54450,      386,    103.3,   4.5480,  34.0984,     -999,9
74JC20091118  ,SR1b       ,1       ,  1,15         ,15         ,2,20091119,0534,-54.66667,-58.54450,      386,    104.4,   4.5480,  34.0985,     -999,9
74JC20091118  ,SR1b       ,1       ,  1,13         ,13         ,2,20091119,0534,-54.66667,-58.54450,      386,    104.7,   4.5476,  34.0985,  34.0965,2
74JC20091118  ,SR1b       ,1       ,  1,10         ,10         ,2,20091119,0534,-54.66667,-58.54450,      386,    203.9,   4.3793,  34.1158,  34.1055,2
74JC20091118  ,SR1b       ,1       ,  1,12         ,12         ,2,20091119,0534,-54.66667,-58.54450,      386,    204.3,   4.3789,  34.1157,     -999,9
74JC20091118  ,SR1b       ,1       ,  1,11         ,11         ,2,20091119,0534,-54.66667,-58.54450,      386,    204.9,   4.3801,  34.1158,     -999,9
74JC20091118  ,SR1b       ,1       ,  1,7          ,7          ,2,20091119,0534,-54.66667,-58.54450,      386,    253.4,   4.3340,  34.1127,  34.1045,2
74JC20091118  ,SR1b       ,1       ,  1,9          ,9          ,2,20091119,0534,-54.66667,-58.54450,      386,    254.5,   4.3360,  34.1131,     -999,9
74JC20091118  ,SR1b       ,1       ,  1,8          ,8          ,2,20091119,0534,-54.66667,-58.54450,      386,    254.9,   4.3344,  34.1131,     -999,9
74JC20091118  ,SR1b       ,1       ,  1,6          ,6          ,2,20091119,0534,-54.66667,-58.54450,      386,    304.6,   4.2473,  34.1079,     -999,9
74JC20091118  ,SR1b       ,1       ,  1,4          ,4          ,2,20091119,0534,-54.66667,-58.54450,      386,    305.3,   4.2419,  34.1078,  34.1044,2
74JC20091118  ,SR1b       ,1       ,  1,5          ,5          ,2,20091119,0534,-54.66667,-58.54450,      386,    305.7,   4.2444,  34.1081,     -999,9
74JC20091118  ,SR1b       ,1       ,  1,3          ,3          ,2,20091119,0534,-54.66667,-58.54450,      386,    380.7,   4.1469,  34.1068,     -999,9
74JC20091118  ,SR1b       ,1       ,  1,2          ,2          ,2,20091119,0534,-54.66667,-58.54450,      386,    381.7,   4.1470,  34.1068,     -999,9
74JC20091118  ,SR1b       ,1       ,  1,1          ,1          ,2,20091119,0534,-54.66667,-58.54450,      386,    381.8,   4.1486,  34.1067,  34.1059,2
74JC20091118  ,SR1b       ,2       ,  1,24         ,24         ,2,20091119,0801,-54.92333,-58.38250,      582,     13.1,   4.8277,  34.0884,     -999,9
74JC20091118  ,SR1b       ,2       ,  1,22         ,22         ,2,20091119,0801,-54.92333,-58.38250,      582,     13.1,   4.8175,  34.0893,  34.0871,2
74JC20091118  ,SR1b       ,2       ,  1,23         ,23         ,2,20091119,0801,-54.92333,-58.38250,      582,     14.3,   4.8290,  34.0885,     -999,9
74JC20091118  ,SR1b       ,2       ,  1,20         ,20         ,2,20091119,0801,-54.92333,-58.38250,      582,     23.9,   4.7808,  34.0907,     -999,9
74JC20091118  ,SR1b       ,2       ,  1,19         ,19         ,2,20091119,0801,-54.92333,-58.38250,      582,     23.9,   4.7901,  34.0897,  34.0879,2
74JC20091118  ,SR1b       ,2       ,  1,21         ,21         ,2,20091119,0801,-54.92333,-58.38250,      582,     24.1,   4.7807,  34.0906,     -999,9
74JC20091118  ,SR1b       ,2       ,  1,16         ,16         ,2,20091119,0801,-54.92333,-58.38250,      582,     83.0,   4.4855,  34.1180,  34.1151,2
74JC20091118  ,SR1b       ,2       ,  1,18         ,18         ,2,20091119,0801,-54.92333,-58.38250,      582,     83.5,   4.4813,  34.1180,     -999,9
74JC20091118  ,SR1b       ,2       ,  1,17         ,17         ,2,20091119,0801,-54.92333,-58.38250,      582,     83.5,   4.4825,  34.1181,     -999,9
74JC20091118  ,SR1b       ,2       ,  1,13         ,13         ,2,20091119,0801,-54.92333,-58.38250,      582,    144.7,   4.3483,  34.1253,  34.1226,2
74JC20091118  ,SR1b       ,2       ,  1,15         ,15         ,2,20091119,0801,-54.92333,-58.38250,      582,    145.0,   4.3427,  34.1246,     -999,9
74JC20091118  ,SR1b       ,2       ,  1,14         ,14         ,2,20091119,0801,-54.92333,-58.38250,      582,    145.1,   4.3430,  34.1246,     -999,9
74JC20091118  ,SR1b       ,2       ,  1,10         ,10         ,2,20091119,0801,-54.92333,-58.38250,      582,    244.8,   4.3957,  34.1274,  34.1242,2
74JC20091118  ,SR1b       ,2       ,  1,11         ,11         ,2,20091119,0801,-54.92333,-58.38250,      582,    245.7,   4.3770,  34.1260,     -999,9
74JC20091118  ,SR1b       ,2       ,  1,12         ,12         ,2,20091119,0801,-54.92333,-58.38250,      582,    245.8,   4.3782,  34.1262,     -999,9
74JC20091118  ,SR1b       ,2       ,  1,8          ,8          ,2,20091119,0801,-54.92333,-58.38250,      582,    304.3,   4.3147,  34.1201,     -999,9
74JC20091118  ,SR1b       ,2       ,  1,9          ,9          ,2,20091119,0801,-54.92333,-58.38250,      582,    305.2,   4.3147,  34.1202,     -999,9
74JC20091118  ,SR1b       ,2       ,  1,7          ,7          ,2,20091119,0801,-54.92333,-58.38250,      582,    305.3,   4.3139,  34.1201,  34.1183,2
74JC20091118  ,SR1b       ,2       ,  1,6          ,6          ,2,20091119,0801,-54.92333,-58.38250,      582,    404.2,   4.2019,  34.1096,     -999,9
74JC20091118  ,SR1b       ,2       ,  1,4          ,4          ,2,20091119,0801,-54.92333,-58.38250,      582,    404.6,   4.2022,  34.1096,  34.1075,2
74JC20091118  ,SR1b       ,2       ,  1,5          ,5          ,2,20091119,0801,-54.92333,-58.38250,      582,    406.2,   4.2012,  34.1096,     -999,9
74JC20091118  ,SR1b       ,2       ,  1,3          ,3          ,2,20091119,0801,-54.92333,-58.38250,      582,    571.0,   3.8524,  34.1286,     -999,9
74JC20091118  ,SR1b       ,2       ,  1,1          ,1          ,2,20091119,0801,-54.92333,-58.38250,      582,    571.0,   3.8574,  34.1285,  34.1283,2
74JC20091118  ,SR1b       ,2       ,  1,2          ,2          ,2,20091119,0801,-54.92333,-58.38250,      582,    571.3,   3.8519,  34.1286,     -999,9
74JC20091118  ,SR1b       ,3       ,  1,24         ,24         ,2,20091119,0927,-54.94467,-58.37183,     1188,     44.4,   4.8186,  34.0777,     -999,9
74JC20091118  ,SR1b       ,3       ,  1,23         ,23         ,2,20091119,0927,-54.94467,-58.37183,     1188,     45.0,   4.8187,  34.0776,     -999,9
74JC20091118  ,SR1b       ,3       ,  1,22         ,22         ,2,20091119,0927,-54.94467,-58.37183,     1188,     45.1,   4.8221,  34.0769,  34.0759,2
74JC20091118  ,SR1b       ,3       ,  1,19         ,19         ,2,20091119,0927,-54.94467,-58.37183,     1188,     53.3,   4.8150,  34.0814,  34.0802,2
74JC20091118  ,SR1b       ,3       ,  1,21         ,21         ,2,20091119,0927,-54.94467,-58.37183,     1188,     55.0,   4.8123,  34.0816,     -999,9
74JC20091118  ,SR1b       ,3       ,  1,20         ,20         ,2,20091119,0927,-54.94467,-58.37183,     1188,     55.7,   4.8116,  34.0814,     -999,9
74JC20091118  ,SR1b       ,3       ,  1,18         ,18         ,2,20091119,0927,-54.94467,-58.37183,     1188,    104.3,   4.6417,  34.1133,     -999,9
74JC20091118  ,SR1b       ,3       ,  1,17         ,17         ,2,20091119,0927,-54.94467,-58.37183,     1188,    104.6,   4.6416,  34.1133,     -999,9
74JC20091118  ,SR1b       ,3       ,  1,16         ,16         ,2,20091119,0927,-54.94467,-58.37183,     1188,    105.8,   4.6400,  34.1137,  34.1112,2
74JC20091118  ,SR1b       ,3       ,  1,14         ,14         ,2,20091119,0927,-54.94467,-58.37183,     1188,    184.8,   4.4952,  34.1258,     -999,9
74JC20091118  ,SR1b       ,3       ,  1,13         ,13         ,2,20091119,0927,-54.94467,-58.37183,     1188,    185.2,   4.4946,  34.1260,  34.1244,2
74JC20091118  ,SR1b       ,3       ,  1,15         ,15         ,2,20091119,0927,-54.94467,-58.37183,     1188,    185.9,   4.4954,  34.1259,     -999,9
74JC20091118  ,SR1b       ,3       ,  1,12         ,12         ,2,20091119,0927,-54.94467,-58.37183,     1188,    304.6,   4.3203,  34.1267,     -999,9
74JC20091118  ,SR1b       ,3       ,  1,11         ,11         ,2,20091119,0927,-54.94467,-58.37183,     1188,    304.8,   4.3223,  34.1270,     -999,9
74JC20091118  ,SR1b       ,3       ,  1,10         ,10         ,2,20091119,0927,-54.94467,-58.37183,     1188,    306.0,   4.3065,  34.1257,  34.1246,2
74JC20091118  ,SR1b       ,3       ,  1,9          ,9          ,2,20091119,0927,-54.94467,-58.37183,     1188,    608.2,   3.8725,  34.1450,     -999,9
74JC20091118  ,SR1b       ,3       ,  1,8          ,8          ,2,20091119,0927,-54.94467,-58.37183,     1188,    609.6,   3.8673,  34.1456,     -999,9
74JC20091118  ,SR1b       ,3       ,  1,7          ,7          ,2,20091119,0927,-54.94467,-58.37183,     1188,    610.4,   3.8708,  34.1453,  34.1432,2
74JC20091118  ,SR1b       ,3       ,  1,4          ,4          ,2,20091119,0927,-54.94467,-58.37183,     1188,    811.0,   3.4983,  34.2280,  34.2263,2
74JC20091118  ,SR1b       ,3       ,  1,5          ,5          ,2,20091119,0927,-54.94467,-58.37183,     1188,    811.7,   3.4988,  34.2278,     -999,9
74JC20091118  ,SR1b       ,3       ,  1,6          ,6          ,2,20091119,0927,-54.94467,-58.37183,     1188,    812.1,   3.4998,  34.2274,     -999,9
74JC20091118  ,SR1b       ,3       ,  1,2          ,2          ,2,20091119,0927,-54.94467,-58.37183,     1188,   1191.6,   3.0353,  34.3808,     -999,9
74JC20091118  ,SR1b       ,3       ,  1,1          ,1          ,2,20091119,0927,-54.94467,-58.37183,     1188,   1191.7,   3.0343,  34.3813,  34.3791,2
74JC20091118  ,SR1b       ,3       ,  1,3          ,3          ,2,20091119,0927,-54.94467,-58.37183,     1188,   1191.8,   3.0357,  34.3806,     -999,9
74JC20091118  ,SR1b       ,4       ,  1,22         ,22         ,2,20091119,1105,-54.96167,-58.36033,     1598,     14.2,   4.8995,  34.0846,  34.0835,2
74JC20091118  ,SR1b       ,4       ,  1,24         ,24         ,2,20091119,1105,-54.96167,-58.36033,     1598,     15.1,   4.9003,  34.0845,     -999,9
74JC20091118  ,SR1b       ,4       ,  1,23         ,23         ,2,20091119,1105,-54.96167,-58.36033,     1598,     15.3,   4.9004,  34.0849,     -999,9
74JC20091118  ,SR1b       ,4       ,  1,20         ,20         ,2,20091119,1105,-54.96167,-58.36033,     1598,    153.7,   4.4985,  34.1248,     -999,9
74JC20091118  ,SR1b       ,4       ,  1,21         ,21         ,2,20091119,1105,-54.96167,-58.36033,     1598,    153.8,   4.4992,  34.1248,     -999,9
74JC20091118  ,SR1b       ,4       ,  1,19         ,19         ,2,20091119,1105,-54.96167,-58.36033,     1598,    153.9,   4.4966,  34.1246,  34.1220,2
74JC20091118  ,SR1b       ,4       ,  1,18         ,18         ,2,20091119,1105,-54.96167,-58.36033,     1598,    203.7,   4.4488,  34.1276,     -999,9
74JC20091118  ,SR1b       ,4       ,  1,17         ,17         ,2,20091119,1105,-54.96167,-58.36033,     1598,    204.9,   4.4494,  34.1277,     -999,9
74JC20091118  ,SR1b       ,4       ,  1,16         ,16         ,2,20091119,1105,-54.96167,-58.36033,     1598,    205.0,   4.4500,  34.1277,  34.1255,2
74JC20091118  ,SR1b       ,4       ,  1,13         ,13         ,2,20091119,1105,-54.96167,-58.36033,     1598,    453.8,   3.9592,  34.1135,  34.1116,2
74JC20091118  ,SR1b       ,4       ,  1,15         ,15         ,2,20091119,1105,-54.96167,-58.36033,     1598,    454.7,   3.9615,  34.1132,     -999,9
74JC20091118  ,SR1b       ,4       ,  1,14         ,14         ,2,20091119,1105,-54.96167,-58.36033,     1598,    454.9,   3.9638,  34.1126,     -999,9
74JC20091118  ,SR1b       ,4       ,  1,12         ,12         ,2,20091119,1105,-54.96167,-58.36033,     1598,    860.4,   3.4316,  34.2573,     -999,9
74JC20091118  ,SR1b       ,4       ,  1,11         ,11         ,2,20091119,1105,-54.96167,-58.36033,     1598,    861.2,   3.4331,  34.2580,     -999,9
74JC20091118  ,SR1b       ,4       ,  1,10         ,10         ,2,20091119,1105,-54.96167,-58.36033,     1598,    861.9,   3.4333,  34.2581,  34.2563,2
74JC20091118  ,SR1b       ,4       ,  1,9          ,9          ,2,20091119,1105,-54.96167,-58.36033,     1598,   1113.4,   3.0136,  34.3897,     -999,9
74JC20091118  ,SR1b       ,4       ,  1,7          ,7          ,2,20091119,1105,-54.96167,-58.36033,     1598,   1113.4,   3.0125,  34.3899,  34.3887,2
74JC20091118  ,SR1b       ,4       ,  1,8          ,8          ,2,20091119,1105,-54.96167,-58.36033,     1598,   1114.7,   3.0124,  34.3900,     -999,9
74JC20091118  ,SR1b       ,4       ,  1,4          ,4          ,2,20091119,1105,-54.96167,-58.36033,     1598,   1516.6,   2.6990,  34.4989,  34.4984,2
74JC20091118  ,SR1b       ,4       ,  1,5          ,5          ,2,20091119,1105,-54.96167,-58.36033,     1598,   1520.7,   2.6990,  34.4990,     -999,9
74JC20091118  ,SR1b       ,4       ,  1,6          ,6          ,2,20091119,1105,-54.96167,-58.36033,     1598,   1520.8,   2.7002,  34.4987,     -999,9
74JC20091118  ,SR1b       ,4       ,  1,2          ,2          ,2,20091119,1105,-54.96167,-58.36033,     1598,   1606.2,   2.4933,  34.5676,     -999,9
74JC20091118  ,SR1b       ,4       ,  1,1          ,1          ,2,20091119,1105,-54.96167,-58.36033,     1598,   1607.2,   2.4943,  34.5672,  34.5651,2
74JC20091118  ,SR1b       ,4       ,  1,3          ,3          ,2,20091119,1105,-54.96167,-58.36033,     1598,   1607.8,   2.4910,  34.5684,     -999,9
74JC20091118  ,SR1b       ,5       ,  1,22         ,22         ,2,20091119,1718,-55.07267,-58.27650,     2070,     15.8,   4.9384,  34.0852,  34.0845,2
74JC20091118  ,SR1b       ,5       ,  1,23         ,23         ,2,20091119,1718,-55.07267,-58.27650,     2070,     16.2,   4.9336,  34.0838,     -999,9
74JC20091118  ,SR1b       ,5       ,  1,24         ,24         ,2,20091119,1718,-55.07267,-58.27650,     2070,     17.0,   4.9385,  34.0852,     -999,9
74JC20091118  ,SR1b       ,5       ,  1,19         ,19         ,2,20091119,1718,-55.07267,-58.27650,     2070,    212.0,   4.4689,  34.1333,  34.1314,2
74JC20091118  ,SR1b       ,5       ,  1,20         ,20         ,2,20091119,1718,-55.07267,-58.27650,     2070,    213.2,   4.4688,  34.1335,     -999,9
74JC20091118  ,SR1b       ,5       ,  1,21         ,21         ,2,20091119,1718,-55.07267,-58.27650,     2070,    214.1,   4.4701,  34.1334,     -999,9
74JC20091118  ,SR1b       ,5       ,  1,17         ,17         ,2,20091119,1718,-55.07267,-58.27650,     2070,    252.6,   4.4230,  34.1343,     -999,9
74JC20091118  ,SR1b       ,5       ,  1,18         ,18         ,2,20091119,1718,-55.07267,-58.27650,     2070,    253.2,   4.4239,  34.1340,     -999,9
74JC20091118  ,SR1b       ,5       ,  1,16         ,16         ,2,20091119,1718,-55.07267,-58.27650,     2070,    255.3,   4.4211,  34.1345,  34.1320,2
74JC20091118  ,SR1b       ,5       ,  1,13         ,13         ,2,20091119,1718,-55.07267,-58.27650,     2070,    426.1,   4.1106,  34.1400,  34.1377,2
74JC20091118  ,SR1b       ,5       ,  1,14         ,14         ,2,20091119,1718,-55.07267,-58.27650,     2070,    426.1,   4.1104,  34.1398,     -999,9
74JC20091118  ,SR1b       ,5       ,  1,15         ,15         ,2,20091119,1718,-55.07267,-58.27650,     2070,    427.2,   4.1102,  34.1400,     -999,9
74JC20091118  ,SR1b       ,5       ,  1,11         ,11         ,2,20091119,1718,-55.07267,-58.27650,     2070,   1091.5,   2.8657,  34.4283,     -999,9
74JC20091118  ,SR1b       ,5       ,  1,10         ,10         ,2,20091119,1718,-55.07267,-58.27650,     2070,   1091.6,   2.8641,  34.4297,  34.4257,2
74JC20091118  ,SR1b       ,5       ,  1,12         ,12         ,2,20091119,1718,-55.07267,-58.27650,     2070,   1093.1,   2.8652,  34.4287,     -999,9
74JC20091118  ,SR1b       ,5       ,  1,8          ,8          ,2,20091119,1718,-55.07267,-58.27650,     2070,   1366.9,   2.5681,  34.5398,     -999,9
74JC20091118  ,SR1b       ,5       ,  1,9          ,9          ,2,20091119,1718,-55.07267,-58.27650,     2070,   1368.9,   2.5664,  34.5408,     -999,9
74JC20091118  ,SR1b       ,5       ,  1,7          ,7          ,2,20091119,1718,-55.07267,-58.27650,     2070,   1370.0,   2.5651,  34.5413,  34.5391,2
74JC20091118  ,SR1b       ,5       ,  1,5          ,5          ,2,20091119,1718,-55.07267,-58.27650,     2070,   1823.5,   2.3222,  34.6302,     -999,9
74JC20091118  ,SR1b       ,5       ,  1,6          ,6          ,2,20091119,1718,-55.07267,-58.27650,     2070,   1826.3,   2.3223,  34.6303,     -999,9
74JC20091118  ,SR1b       ,5       ,  1,4          ,4          ,2,20091119,1718,-55.07267,-58.27650,     2070,   1828.3,   2.3216,  34.6305,  34.6286,2
74JC20091118  ,SR1b       ,5       ,  1,2          ,2          ,2,20091119,1718,-55.07267,-58.27650,     2070,   2081.3,   2.1800,  34.6703,     -999,9
74JC20091118  ,SR1b       ,5       ,  1,3          ,3          ,2,20091119,1718,-55.07267,-58.27650,     2070,   2081.7,   2.1798,  34.6705,     -999,9
74JC20091118  ,SR1b       ,5       ,  1,1          ,1          ,2,20091119,1718,-55.07267,-58.27650,     2070,   2083.3,   2.1799,  34.6704,  34.6695,2