BOTTLE,20240607CCHHYDRO
EXPOCODE,SECT_ID,STNNBR,CASTNO,SAMPNO,BTLNBR,BTLNBR_FLAG_W,DATE,TIME,LATITUDE,LONGITUDE,DEPTH,CTDPRS,CTDTMP,CTDSAL,SALNTY,SALNTY_FLAG_W
,,,,,,,,,,,METERS,DBAR,ITS-90,PSS-78,PSS-78,
74JC20091118  ,SR1b       ,22      ,  1,22         ,22         ,2,20091123,1948,-59.66667,-55.44433,     3675,     16.5,  -0.3209,  34.0509,  34.0517,2
74JC20091118  ,SR1b       ,22      ,  1,24         ,24         ,2,20091123,1948,-59.66667,-55.44433,     3675,     16.9,  -0.3204,  34.0509,     -999,9
74JC20091118  ,SR1b       ,22      ,  1,23         ,23         ,2,20091123,1948,-59.66667,-55.44433,     3675,     17.1,  -0.3125,  34.0503,     -999,9
74JC20091118  ,SR1b       ,22      ,  1,21         ,21         ,2,20091123,1948,-59.66667,-55.44433,     3675,    258.4,   0.9241,  34.4768,     -999,9
74JC20091118  ,SR1b       ,22      ,  1,20         ,20         ,2,20091123,1948,-59.66667,-55.44433,     3675,    258.6,   0.9550,  34.4805,     -999,9
74JC20091118  ,SR1b       ,22      ,  1,19         ,19         ,2,20091123,1948,-59.66667,-55.44433,     3675,    259.3,   0.9528,  34.4794,  34.4938,2
74JC20091118  ,SR1b       ,22      ,  1,17         ,17         ,2,20091123,1948,-59.66667,-55.44433,     3675,    359.3,   0.9167,  34.5338,     -999,9
74JC20091118  ,SR1b       ,22      ,  1,18         ,18         ,2,20091123,1948,-59.66667,-55.44433,     3675,    359.8,   0.9464,  34.5364,     -999,9
74JC20091118  ,SR1b       ,22      ,  1,16         ,16         ,2,20091123,1948,-59.66667,-55.44433,     3675,    360.1,   0.9302,  34.5347,  34.5301,2
74JC20091118  ,SR1b       ,22      ,  1,13         ,13         ,2,20091123,1948,-59.66667,-55.44433,     3675,    814.1,   1.5356,  34.7276,  34.7260,2
74JC20091118  ,SR1b       ,22      ,  1,14         ,14         ,2,20091123,1948,-59.66667,-55.44433,     3675,    814.4,   1.5365,  34.7276,     -999,9
74JC20091118  ,SR1b       ,22      ,  1,15         ,15         ,2,20091123,1948,-59.66667,-55.44433,     3675,    814.7,   1.5368,  34.7275,     -999,9
74JC20091118  ,SR1b       ,22      ,  1,10         ,10         ,2,20091123,1948,-59.66667,-55.44433,     3675,   1828.6,   0.7537,  34.7085,  34.7076,2
74JC20091118  ,SR1b       ,22      ,  1,12         ,12         ,2,20091123,1948,-59.66667,-55.44433,     3675,   1829.5,   0.7550,  34.7085,     -999,9
74JC20091118  ,SR1b       ,22      ,  1,11         ,11         ,2,20091123,1948,-59.66667,-55.44433,     3675,   1829.5,   0.7549,  34.7085,     -999,9
74JC20091118  ,SR1b       ,22      ,  1,7          ,7          ,2,20091123,1948,-59.66667,-55.44433,     3675,   2543.0,   0.3174,  34.6810,  34.6787,2
74JC20091118  ,SR1b       ,22      ,  1,8          ,8          ,2,20091123,1948,-59.66667,-55.44433,     3675,   2543.4,   0.3187,  34.6811,     -999,9
74JC20091118  ,SR1b       ,22      ,  1,9          ,9          ,2,20091123,1948,-59.66667,-55.44433,     3675,   2543.7,   0.3188,  34.6811,     -999,9
74JC20091118  ,SR1b       ,22      ,  1,4          ,4          ,2,20091123,1948,-59.66667,-55.44433,     3675,   3054.6,   0.1041,  34.6660,  34.6647,2
74JC20091118  ,SR1b       ,22      ,  1,6          ,6          ,2,20091123,1948,-59.66667,-55.44433,     3675,   3054.7,   0.1046,  34.6660,     -999,9
74JC20091118  ,SR1b       ,22      ,  1,5          ,5          ,2,20091123,1948,-59.66667,-55.44433,     3675,   3055.0,   0.1047,  34.6661,     -999,9
74JC20091118  ,SR1b       ,22      ,  1,1          ,1          ,2,20091123,1948,-59.66667,-55.44433,     3675,   3732.2,  -0.0440,  34.6569,  34.6561,2
74JC20091118  ,SR1b       ,22      ,  1,2          ,2          ,2,20091123,1948,-59.66667,-55.44433,     3675,   3732.7,  -0.0442,  34.6570,     -999,9
74JC20091118  ,SR1b       ,22      ,  1,3          ,3          ,2,20091123,1948,-59.66667,-55.44433,     3675,   3733.1,  -0.0444,  34.6570,     -999,9
74JC20091118  ,SR1b       ,23      ,  1,22         ,22         ,2,20091124,0020,-59.99967,-55.23800,     3500,     17.7,  -0.1730,  33.9743,  33.9739,2
74JC20091118  ,SR1b       ,23      ,  1,24         ,24         ,2,20091124,0020,-59.99967,-55.23800,     3500,     17.8,  -0.1725,  33.9744,     -999,9
74JC20091118  ,SR1b       ,23      ,  1,23         ,23         ,2,20091124,0020,-59.99967,-55.23800,     3500,     17.8,  -0.1734,  33.9743,     -999,9
74JC20091118  ,SR1b       ,23      ,  1,21         ,21         ,2,20091124,0020,-59.99967,-55.23800,     3500,     27.6,  -0.2047,  33.9774,     -999,9
74JC20091118  ,SR1b       ,23      ,  1,19         ,19         ,2,20091124,0020,-59.99967,-55.23800,     3500,     27.6,  -0.2070,  33.9771,  33.9757,2
74JC20091118  ,SR1b       ,23      ,  1,20         ,20         ,2,20091124,0020,-59.99967,-55.23800,     3500,     27.7,  -0.1984,  33.9766,     -999,9
74JC20091118  ,SR1b       ,23      ,  1,18         ,18         ,2,20091124,0020,-59.99967,-55.23800,     3500,    207.8,   2.0350,  34.5468,     -999,9
74JC20091118  ,SR1b       ,23      ,  1,16         ,16         ,2,20091124,0020,-59.99967,-55.23800,     3500,    207.9,   2.0349,  34.5468,     -999,9
74JC20091118  ,SR1b       ,23      ,  1,17         ,17         ,2,20091124,0020,-59.99967,-55.23800,     3500,    208.6,   2.0351,  34.5467,  34.5459,2
74JC20091118  ,SR1b       ,23      ,  1,14         ,14         ,2,20091124,0020,-59.99967,-55.23800,     3500,    861.5,   1.6248,  34.7267,     -999,9
74JC20091118  ,SR1b       ,23      ,  1,15         ,15         ,2,20091124,0020,-59.99967,-55.23800,     3500,    861.7,   1.6259,  34.7266,     -999,9
74JC20091118  ,SR1b       ,23      ,  1,13         ,13         ,2,20091124,0020,-59.99967,-55.23800,     3500,    862.0,   1.6214,  34.7267,  34.7262,2
74JC20091118  ,SR1b       ,23      ,  1,12         ,12         ,2,20091124,0020,-59.99967,-55.23800,     3500,   1516.8,   1.1204,  34.7209,     -999,9
74JC20091118  ,SR1b       ,23      ,  1,11         ,11         ,2,20091124,0020,-59.99967,-55.23800,     3500,   1517.3,   1.1202,  34.7211,     -999,9
74JC20091118  ,SR1b       ,23      ,  1,10         ,10         ,2,20091124,0020,-59.99967,-55.23800,     3500,   1518.3,   1.1204,  34.7211,  34.7203,2
74JC20091118  ,SR1b       ,23      ,  1,9          ,9          ,2,20091124,0020,-59.99967,-55.23800,     3500,   2025.2,   0.6197,  34.6961,     -999,9
74JC20091118  ,SR1b       ,23      ,  1,7          ,7          ,2,20091124,0020,-59.99967,-55.23800,     3500,   2025.4,   0.6199,  34.6964,  34.6948,2
74JC20091118  ,SR1b       ,23      ,  1,8          ,8          ,2,20091124,0020,-59.99967,-55.23800,     3500,   2025.6,   0.6190,  34.6961,     -999,9
74JC20091118  ,SR1b       ,23      ,  1,4          ,4          ,2,20091124,0020,-59.99967,-55.23800,     3500,   3040.1,   0.1405,  34.6679,  34.6659,2
74JC20091118  ,SR1b       ,23      ,  1,6          ,6          ,2,20091124,0020,-59.99967,-55.23800,     3500,   3041.1,   0.1410,  34.6680,     -999,9
74JC20091118  ,SR1b       ,23      ,  1,5          ,5          ,2,20091124,0020,-59.99967,-55.23800,     3500,   3041.3,   0.1411,  34.6679,     -999,9
74JC20091118  ,SR1b       ,23      ,  1,3          ,3          ,2,20091124,0020,-59.99967,-55.23800,     3500,   3552.0,   0.0147,  34.6597,     -999,9
74JC20091118  ,SR1b       ,23      ,  1,2          ,2          ,2,20091124,0020,-59.99967,-55.23800,     3500,   3552.8,   0.0146,  34.6600,     -999,9
74JC20091118  ,SR1b       ,23      ,  1,1          ,1          ,2,20091124,0020,-59.99967,-55.23800,     3500,   3552.8,   0.0147,  34.6598,  34.6584,2
74JC20091118  ,SR1b       ,24      ,  1,22         ,22         ,2,20091124,0501,-60.33333,-55.03117,     3437,     17.2,  -0.2170,  33.9898,  33.9886,2
74JC20091118  ,SR1b       ,24      ,  1,23         ,23         ,2,20091124,0501,-60.33333,-55.03117,     3437,     17.4,  -0.2173,  33.9897,     -999,9
74JC20091118  ,SR1b       ,24      ,  1,24         ,24         ,2,20091124,0501,-60.33333,-55.03117,     3437,     17.5,  -0.2171,  33.9895,     -999,9
74JC20091118  ,SR1b       ,24      ,  1,19         ,19         ,2,20091124,0501,-60.33333,-55.03117,     3437,    148.0,   1.6977,  34.4712,  34.4722,2
74JC20091118  ,SR1b       ,24      ,  1,20         ,20         ,2,20091124,0501,-60.33333,-55.03117,     3437,    148.3,   1.6937,  34.4700,     -999,9
74JC20091118  ,SR1b       ,24      ,  1,21         ,21         ,2,20091124,0501,-60.33333,-55.03117,     3437,    148.7,   1.6961,  34.4707,     -999,9
74JC20091118  ,SR1b       ,24      ,  1,16         ,16         ,2,20091124,0501,-60.33333,-55.03117,     3437,    349.8,   2.0121,  34.6535,  34.6533,2
74JC20091118  ,SR1b       ,24      ,  1,17         ,17         ,2,20091124,0501,-60.33333,-55.03117,     3437,    349.9,   2.0133,  34.6534,     -999,9
74JC20091118  ,SR1b       ,24      ,  1,18         ,18         ,2,20091124,0501,-60.33333,-55.03117,     3437,    350.1,   2.0142,  34.6535,     -999,9
74JC20091118  ,SR1b       ,24      ,  1,13         ,13         ,2,20091124,0501,-60.33333,-55.03117,     3437,    713.4,   1.5393,  34.7110,  34.7087,2
74JC20091118  ,SR1b       ,24      ,  1,12         ,12         ,2,20091124,0501,-60.33333,-55.03117,     3437,    713.8,   1.5340,  34.7102,     -999,9
74JC20091118  ,SR1b       ,24      ,  1,14         ,14         ,2,20091124,0501,-60.33333,-55.03117,     3437,    713.9,   1.5347,  34.7107,     -999,9
74JC20091118  ,SR1b       ,24      ,  1,15         ,15         ,2,20091124,0501,-60.33333,-55.03117,     3437,    713.9,   1.5339,  34.7103,     -999,9
74JC20091118  ,SR1b       ,24      ,  1,11         ,11         ,2,20091124,0501,-60.33333,-55.03117,     3437,   1522.4,   0.9109,  34.7098,     -999,9
74JC20091118  ,SR1b       ,24      ,  1,10         ,10         ,2,20091124,0501,-60.33333,-55.03117,     3437,   1522.8,   0.9112,  34.7098,  34.7081,2
74JC20091118  ,SR1b       ,24      ,  1,9          ,9          ,2,20091124,0501,-60.33333,-55.03117,     3437,   1522.8,   0.9110,  34.7096,     -999,9
74JC20091118  ,SR1b       ,24      ,  1,7          ,7          ,2,20091124,0501,-60.33333,-55.03117,     3437,   2029.5,   0.6178,  34.6989,  34.6969,2
74JC20091118  ,SR1b       ,24      ,  1,8          ,8          ,2,20091124,0501,-60.33333,-55.03117,     3437,   2029.7,   0.6184,  34.6990,     -999,9
74JC20091118  ,SR1b       ,24      ,  1,4          ,4          ,2,20091124,0501,-60.33333,-55.03117,     3437,   3050.7,   0.0781,  34.6641,     -999,9
74JC20091118  ,SR1b       ,24      ,  1,6          ,6          ,2,20091124,0501,-60.33333,-55.03117,     3437,   3050.9,   0.0777,  34.6639,     -999,9
74JC20091118  ,SR1b       ,24      ,  1,5          ,5          ,2,20091124,0501,-60.33333,-55.03117,     3437,   3050.9,   0.0779,  34.6640,  34.6618,2
74JC20091118  ,SR1b       ,24      ,  1,3          ,3          ,2,20091124,0501,-60.33333,-55.03117,     3437,   3487.9,  -0.0171,  34.6590,     -999,9
74JC20091118  ,SR1b       ,24      ,  1,2          ,2          ,2,20091124,0501,-60.33333,-55.03117,     3437,   3488.0,  -0.0171,  34.6590,     -999,9
74JC20091118  ,SR1b       ,24      ,  1,1          ,1          ,2,20091124,0501,-60.33333,-55.03117,     3437,   3488.2,  -0.0170,  34.6590,  34.6559,2
74JC20091118  ,SR1b       ,25      ,  1,23         ,23         ,2,20091124,0915,-60.66583,-54.82467,     3090,     17.1,  -0.4891,  34.1665,     -999,9
74JC20091118  ,SR1b       ,25      ,  1,24         ,24         ,2,20091124,0915,-60.66583,-54.82467,     3090,     17.3,  -0.4875,  34.1658,     -999,9
74JC20091118  ,SR1b       ,25      ,  1,22         ,22         ,2,20091124,0915,-60.66583,-54.82467,     3090,     17.6,  -0.4892,  34.1664,  34.1672,2
74JC20091118  ,SR1b       ,25      ,  1,21         ,21         ,2,20091124,0915,-60.66583,-54.82467,     3090,     67.5,  -0.7394,  34.2422,     -999,9
74JC20091118  ,SR1b       ,25      ,  1,20         ,20         ,2,20091124,0915,-60.66583,-54.82467,     3090,     67.9,  -0.7331,  34.2430,     -999,9
74JC20091118  ,SR1b       ,25      ,  1,19         ,19         ,2,20091124,0915,-60.66583,-54.82467,     3090,     67.9,  -0.7178,  34.2460,  34.2460,2
74JC20091118  ,SR1b       ,25      ,  1,16         ,16         ,2,20091124,0915,-60.66583,-54.82467,     3090,    107.9,  -0.5182,  34.3123,  34.3168,2
74JC20091118  ,SR1b       ,25      ,  1,18         ,18         ,2,20091124,0915,-60.66583,-54.82467,     3090,    108.2,  -0.5198,  34.3119,     -999,9
74JC20091118  ,SR1b       ,25      ,  1,17         ,17         ,2,20091124,0915,-60.66583,-54.82467,     3090,    108.3,  -0.5215,  34.3115,     -999,9
74JC20091118  ,SR1b       ,25      ,  1,13         ,13         ,2,20091124,0915,-60.66583,-54.82467,     3090,    309.4,  -0.2670,  34.4685,  34.4724,2
74JC20091118  ,SR1b       ,25      ,  1,15         ,15         ,2,20091124,0915,-60.66583,-54.82467,     3090,    309.9,  -0.3004,  34.4689,     -999,9
74JC20091118  ,SR1b       ,25      ,  1,14         ,14         ,2,20091124,0915,-60.66583,-54.82467,     3090,    309.9,  -0.3090,  34.4677,     -999,9
74JC20091118  ,SR1b       ,25      ,  1,11         ,11         ,2,20091124,0915,-60.66583,-54.82467,     3090,   1526.3,   0.5053,  34.6941,     -999,9
74JC20091118  ,SR1b       ,25      ,  1,12         ,12         ,2,20091124,0915,-60.66583,-54.82467,     3090,   1526.6,   0.5046,  34.6941,     -999,9
74JC20091118  ,SR1b       ,25      ,  1,10         ,10         ,2,20091124,0915,-60.66583,-54.82467,     3090,   1526.8,   0.5059,  34.6941,  34.6928,2
74JC20091118  ,SR1b       ,25      ,  1,9          ,9          ,2,20091124,0915,-60.66583,-54.82467,     3090,   2035.1,   0.2434,  34.6800,     -999,9
74JC20091118  ,SR1b       ,25      ,  1,8          ,8          ,2,20091124,0915,-60.66583,-54.82467,     3090,   2035.7,   0.2434,  34.6800,     -999,9
74JC20091118  ,SR1b       ,25      ,  1,7          ,7          ,2,20091124,0915,-60.66583,-54.82467,     3090,   2036.1,   0.2436,  34.6800,  34.6787,2
74JC20091118  ,SR1b       ,25      ,  1,6          ,6          ,2,20091124,0915,-60.66583,-54.82467,     3090,   2546.6,   0.0909,  34.6680,     -999,9
74JC20091118  ,SR1b       ,25      ,  1,5          ,5          ,2,20091124,0915,-60.66583,-54.82467,     3090,   2546.7,   0.0909,  34.6677,     -999,9
74JC20091118  ,SR1b       ,25      ,  1,4          ,4          ,2,20091124,0915,-60.66583,-54.82467,     3090,   2546.7,   0.0907,  34.6680,  34.6655,2
74JC20091118  ,SR1b       ,25      ,  1,1          ,1          ,2,20091124,0915,-60.66583,-54.82467,     3090,   3132.9,  -0.0473,  34.6588,  34.6586,2
74JC20091118  ,SR1b       ,25      ,  1,2          ,2          ,2,20091124,0915,-60.66583,-54.82467,     3090,   3133.8,  -0.0475,  34.6590,     -999,9
74JC20091118  ,SR1b       ,25      ,  1,3          ,3          ,2,20091124,0915,-60.66583,-54.82467,     3090,   3134.0,  -0.0476,  34.6589,     -999,9
74JC20091118  ,SR1b       ,26      ,  1,24         ,24         ,2,20091124,1941,-60.79983,-54.74217,     2577,     14.3,  -0.2822,  34.1711,     -999,9
74JC20091118  ,SR1b       ,26      ,  1,22         ,22         ,2,20091124,1941,-60.79983,-54.74217,     2577,     14.5,  -0.2783,  34.1703,  34.1770,2
74JC20091118  ,SR1b       ,26      ,  1,23         ,23         ,2,20091124,1941,-60.79983,-54.74217,     2577,     14.5,  -0.2856,  34.1716,     -999,9
74JC20091118  ,SR1b       ,26      ,  1,21         ,21         ,2,20091124,1941,-60.79983,-54.74217,     2577,    508.6,   0.7725,  34.6357,     -999,9
74JC20091118  ,SR1b       ,26      ,  1,19         ,19         ,2,20091124,1941,-60.79983,-54.74217,     2577,    509.0,   0.7507,  34.6339,  34.6303,2
74JC20091118  ,SR1b       ,26      ,  1,20         ,20         ,2,20091124,1941,-60.79983,-54.74217,     2577,    509.4,   0.7567,  34.6345,     -999,9
74JC20091118  ,SR1b       ,26      ,  1,18         ,18         ,2,20091124,1941,-60.79983,-54.74217,     2577,    812.4,   0.7955,  34.6772,     -999,9
74JC20091118  ,SR1b       ,26      ,  1,16         ,16         ,2,20091124,1941,-60.79983,-54.74217,     2577,    812.4,   0.7949,  34.6774,  34.6761,2
74JC20091118  ,SR1b       ,26      ,  1,17         ,17         ,2,20091124,1941,-60.79983,-54.74217,     2577,    812.7,   0.7956,  34.6772,     -999,9
74JC20091118  ,SR1b       ,26      ,  1,13         ,13         ,2,20091124,1941,-60.79983,-54.74217,     2577,   1218.6,   0.7397,  34.7047,  34.7036,2
74JC20091118  ,SR1b       ,26      ,  1,15         ,15         ,2,20091124,1941,-60.79983,-54.74217,     2577,   1218.7,   0.7407,  34.7046,     -999,9
74JC20091118  ,SR1b       ,26      ,  1,14         ,14         ,2,20091124,1941,-60.79983,-54.74217,     2577,   1218.7,   0.7409,  34.7047,     -999,9
74JC20091118  ,SR1b       ,26      ,  1,10         ,10         ,2,20091124,1941,-60.79983,-54.74217,     2577,   1523.2,   0.5234,  34.6972,  34.6963,2
74JC20091118  ,SR1b       ,26      ,  1,12         ,12         ,2,20091124,1941,-60.79983,-54.74217,     2577,   1523.9,   0.5227,  34.6972,     -999,9
74JC20091118  ,SR1b       ,26      ,  1,11         ,11         ,2,20091124,1941,-60.79983,-54.74217,     2577,   1524.0,   0.5233,  34.6973,     -999,9
74JC20091118  ,SR1b       ,26      ,  1,8          ,8          ,2,20091124,1941,-60.79983,-54.74217,     2577,   1931.0,   0.2673,  34.6822,  34.6802,2
74JC20091118  ,SR1b       ,26      ,  1,9          ,9          ,2,20091124,1941,-60.79983,-54.74217,     2577,   1931.4,   0.2689,  34.6823,     -999,9
74JC20091118  ,SR1b       ,26      ,  1,7          ,7          ,2,20091124,1941,-60.79983,-54.74217,     2577,   1931.8,   0.2658,  34.6822,     -999,9
74JC20091118  ,SR1b       ,26      ,  1,4          ,4          ,2,20091124,1941,-60.79983,-54.74217,     2577,   2236.9,   0.1276,  34.6710,  34.6696,2
74JC20091118  ,SR1b       ,26      ,  1,5          ,5          ,2,20091124,1941,-60.79983,-54.74217,     2577,   2237.7,   0.1288,  34.6712,     -999,9
74JC20091118  ,SR1b       ,26      ,  1,6          ,6          ,2,20091124,1941,-60.79983,-54.74217,     2577,   2238.1,   0.1288,  34.6711,     -999,9
74JC20091118  ,SR1b       ,26      ,  1,2          ,2          ,2,20091124,1941,-60.79983,-54.74217,     2577,   2607.0,  -0.0001,  34.6627,     -999,9
74JC20091118  ,SR1b       ,26      ,  1,1          ,1          ,2,20091124,1941,-60.79983,-54.74217,     2577,   2607.1,   0.0005,  34.6626,  34.6616,2
74JC20091118  ,SR1b       ,26      ,  1,3          ,3          ,2,20091124,1941,-60.79983,-54.74217,     2577,   2607.2,  -0.0007,  34.6625,     -999,9