BOTTLE,20240607CCHHYDRO
EXPOCODE,SECT_ID,STNNBR,CASTNO,SAMPNO,BTLNBR,BTLNBR_FLAG_W,DATE,TIME,LATITUDE,LONGITUDE,DEPTH,CTDPRS,CTDTMP,CTDSAL,SALNTY,SALNTY_FLAG_W
,,,,,,,,,,,METERS,DBAR,ITS-90,PSS-78,PSS-78,
74JC20091118  ,SR1b       ,17      ,  1,24         ,24         ,2,20091122,1729,-57.89600,-56.54483,     3985,     17.7,   0.0755,  33.9101,     -999,9
74JC20091118  ,SR1b       ,17      ,  1,23         ,23         ,2,20091122,1729,-57.89600,-56.54483,     3985,     18.3,   0.0656,  33.9101,     -999,9
74JC20091118  ,SR1b       ,17      ,  1,22         ,22         ,2,20091122,1729,-57.89600,-56.54483,     3985,     18.7,   0.0573,  33.9095,  33.9093,2
74JC20091118  ,SR1b       ,17      ,  1,20         ,20         ,2,20091122,1729,-57.89600,-56.54483,     3985,     88.6,  -0.6765,  33.9521,     -999,9
74JC20091118  ,SR1b       ,17      ,  1,21         ,21         ,2,20091122,1729,-57.89600,-56.54483,     3985,     88.7,  -0.6772,  33.9523,     -999,9
74JC20091118  ,SR1b       ,17      ,  1,19         ,19         ,2,20091122,1729,-57.89600,-56.54483,     3985,     88.7,  -0.6779,  33.9527,  33.9522,2
74JC20091118  ,SR1b       ,17      ,  1,17         ,17         ,2,20091122,1729,-57.89600,-56.54483,     3985,    389.1,   2.0955,  34.5426,     -999,9
74JC20091118  ,SR1b       ,17      ,  1,18         ,18         ,2,20091122,1729,-57.89600,-56.54483,     3985,    390.2,   2.0966,  34.5430,     -999,9
74JC20091118  ,SR1b       ,17      ,  1,16         ,16         ,2,20091122,1729,-57.89600,-56.54483,     3985,    392.1,   2.0968,  34.5435,  34.5419,2
74JC20091118  ,SR1b       ,17      ,  1,15         ,15         ,2,20091122,1729,-57.89600,-56.54483,     3985,   1016.6,   1.7720,  34.7211,     -999,9
74JC20091118  ,SR1b       ,17      ,  1,13         ,13         ,2,20091122,1729,-57.89600,-56.54483,     3985,   1016.9,   1.7712,  34.7210,  34.7195,2
74JC20091118  ,SR1b       ,17      ,  1,14         ,14         ,2,20091122,1729,-57.89600,-56.54483,     3985,   1017.7,   1.7717,  34.7211,     -999,9
74JC20091118  ,SR1b       ,17      ,  1,12         ,12         ,2,20091122,1729,-57.89600,-56.54483,     3985,   1523.6,   1.3946,  34.7249,     -999,9
74JC20091118  ,SR1b       ,17      ,  1,11         ,11         ,2,20091122,1729,-57.89600,-56.54483,     3985,   1524.6,   1.3949,  34.7249,     -999,9
74JC20091118  ,SR1b       ,17      ,  1,10         ,10         ,2,20091122,1729,-57.89600,-56.54483,     3985,   1525.4,   1.3951,  34.7249,  34.7227,2
74JC20091118  ,SR1b       ,17      ,  1,8          ,8          ,2,20091122,1729,-57.89600,-56.54483,     3985,   2541.8,   0.7014,  34.7040,     -999,9
74JC20091118  ,SR1b       ,17      ,  1,7          ,7          ,2,20091122,1729,-57.89600,-56.54483,     3985,   2541.9,   0.7007,  34.7039,  34.7019,2
74JC20091118  ,SR1b       ,17      ,  1,9          ,9          ,2,20091122,1729,-57.89600,-56.54483,     3985,   2542.6,   0.7009,  34.7040,     -999,9
74JC20091118  ,SR1b       ,17      ,  1,5          ,5          ,2,20091122,1729,-57.89600,-56.54483,     3985,   3563.5,   0.1636,  34.6673,     -999,9
74JC20091118  ,SR1b       ,17      ,  1,6          ,6          ,2,20091122,1729,-57.89600,-56.54483,     3985,   3565.4,   0.1625,  34.6675,     -999,9
74JC20091118  ,SR1b       ,17      ,  1,4          ,4          ,2,20091122,1729,-57.89600,-56.54483,     3985,   3566.3,   0.1623,  34.6674,  34.6651,2
74JC20091118  ,SR1b       ,17      ,  1,1          ,1          ,2,20091122,1729,-57.89600,-56.54483,     3985,   4048.4,   0.1253,  34.6628,  34.6614,2
74JC20091118  ,SR1b       ,17      ,  1,3          ,3          ,2,20091122,1729,-57.89600,-56.54483,     3985,   4049.7,   0.1250,  34.6629,     -999,9
74JC20091118  ,SR1b       ,17      ,  1,2          ,2          ,2,20091122,1729,-57.89600,-56.54483,     3985,   4050.0,   0.1248,  34.6628,     -999,9
74JC20091118  ,SR1b       ,18      ,  1,22         ,22         ,2,20091123,0115,-58.36667,-56.25017,     3885,     18.4,  -0.0028,  33.8893,  33.8929,2
74JC20091118  ,SR1b       ,18      ,  1,24         ,24         ,2,20091123,0115,-58.36667,-56.25017,     3885,     18.5,   0.0217,  33.8896,     -999,9
74JC20091118  ,SR1b       ,18      ,  1,23         ,23         ,2,20091123,0115,-58.36667,-56.25017,     3885,     18.8,   0.0178,  33.8891,     -999,9
74JC20091118  ,SR1b       ,18      ,  1,21         ,21         ,2,20091123,0115,-58.36667,-56.25017,     3885,    108.6,  -0.6766,  34.0077,     -999,9
74JC20091118  ,SR1b       ,18      ,  1,20         ,20         ,2,20091123,0115,-58.36667,-56.25017,     3885,    108.7,  -0.6769,  34.0074,     -999,9
74JC20091118  ,SR1b       ,18      ,  1,19         ,19         ,2,20091123,0115,-58.36667,-56.25017,     3885,    109.5,  -0.6724,  34.0089,  34.0070,2
74JC20091118  ,SR1b       ,18      ,  1,16         ,16         ,2,20091123,0115,-58.36667,-56.25017,     3885,   1017.7,   1.7233,  34.7184,  34.7174,2
74JC20091118  ,SR1b       ,18      ,  1,17         ,17         ,2,20091123,0115,-58.36667,-56.25017,     3885,   1018.0,   1.7234,  34.7184,     -999,9
74JC20091118  ,SR1b       ,18      ,  1,18         ,18         ,2,20091123,0115,-58.36667,-56.25017,     3885,   1018.6,   1.7233,  34.7184,     -999,9
74JC20091118  ,SR1b       ,18      ,  1,14         ,14         ,2,20091123,0115,-58.36667,-56.25017,     3885,   1524.2,   1.3293,  34.7220,     -999,9
74JC20091118  ,SR1b       ,18      ,  1,15         ,15         ,2,20091123,0115,-58.36667,-56.25017,     3885,   1525.3,   1.3289,  34.7221,     -999,9
74JC20091118  ,SR1b       ,18      ,  1,13         ,13         ,2,20091123,0115,-58.36667,-56.25017,     3885,   1525.9,   1.3287,  34.7222,  34.7213,2
74JC20091118  ,SR1b       ,18      ,  1,10         ,10         ,2,20091123,0115,-58.36667,-56.25017,     3885,   2033.3,   0.9625,  34.7135,  34.7121,2
74JC20091118  ,SR1b       ,18      ,  1,11         ,11         ,2,20091123,0115,-58.36667,-56.25017,     3885,   2034.0,   0.9650,  34.7137,     -999,9
74JC20091118  ,SR1b       ,18      ,  1,12         ,12         ,2,20091123,0115,-58.36667,-56.25017,     3885,   2034.2,   0.9662,  34.7138,     -999,9
74JC20091118  ,SR1b       ,18      ,  1,7          ,7          ,2,20091123,0115,-58.36667,-56.25017,     3885,   2542.2,   0.5598,  34.6915,  34.6891,2
74JC20091118  ,SR1b       ,18      ,  1,9          ,9          ,2,20091123,0115,-58.36667,-56.25017,     3885,   2543.2,   0.5608,  34.6917,     -999,9
74JC20091118  ,SR1b       ,18      ,  1,8          ,8          ,2,20091123,0115,-58.36667,-56.25017,     3885,   2543.4,   0.5603,  34.6918,     -999,9
74JC20091118  ,SR1b       ,18      ,  1,6          ,6          ,2,20091123,0115,-58.36667,-56.25017,     3885,   3054.1,   0.2852,  34.6733,     -999,9
74JC20091118  ,SR1b       ,18      ,  1,5          ,5          ,2,20091123,0115,-58.36667,-56.25017,     3885,   3054.5,   0.2851,  34.6735,  34.6716,2
74JC20091118  ,SR1b       ,18      ,  1,4          ,4          ,2,20091123,0115,-58.36667,-56.25017,     3885,   3054.6,   0.2846,  34.6735,     -999,9
74JC20091118  ,SR1b       ,18      ,  1,3          ,3          ,2,20091123,0115,-58.36667,-56.25017,     3885,   3945.9,   0.0070,  34.6574,     -999,9
74JC20091118  ,SR1b       ,18      ,  1,2          ,2          ,2,20091123,0115,-58.36667,-56.25017,     3885,   3946.7,   0.0070,  34.6574,     -999,9
74JC20091118  ,SR1b       ,18      ,  1,1          ,1          ,2,20091123,0115,-58.36667,-56.25017,     3885,   3947.2,   0.0071,  34.6574,  34.6567,2
74JC20091118  ,SR1b       ,19      ,  1,23         ,23         ,2,20091123,0559,-58.68333,-56.05383,     3752,     20.6,   0.1479,  33.8752,     -999,9
74JC20091118  ,SR1b       ,19      ,  1,22         ,22         ,2,20091123,0559,-58.68333,-56.05383,     3752,     20.8,   0.1478,  33.8752,  33.8739,2
74JC20091118  ,SR1b       ,19      ,  1,24         ,24         ,2,20091123,0559,-58.68333,-56.05383,     3752,     21.3,   0.1471,  33.8751,     -999,9
74JC20091118  ,SR1b       ,19      ,  1,21         ,21         ,2,20091123,0559,-58.68333,-56.05383,     3752,     30.8,   0.1397,  33.8752,     -999,9
74JC20091118  ,SR1b       ,19      ,  1,19         ,19         ,2,20091123,0559,-58.68333,-56.05383,     3752,     31.0,   0.1384,  33.8750,  33.8737,2
74JC20091118  ,SR1b       ,19      ,  1,20         ,20         ,2,20091123,0559,-58.68333,-56.05383,     3752,     31.2,   0.1390,  33.8751,     -999,9
74JC20091118  ,SR1b       ,19      ,  1,18         ,18         ,2,20091123,0559,-58.68333,-56.05383,     3752,    111.8,  -0.6971,  33.9720,     -999,9
74JC20091118  ,SR1b       ,19      ,  1,17         ,17         ,2,20091123,0559,-58.68333,-56.05383,     3752,    111.8,  -0.7008,  33.9712,     -999,9
74JC20091118  ,SR1b       ,19      ,  1,16         ,16         ,2,20091123,0559,-58.68333,-56.05383,     3752,    112.1,  -0.7022,  33.9703,  33.9792,2
74JC20091118  ,SR1b       ,19      ,  1,15         ,15         ,2,20091123,0559,-58.68333,-56.05383,     3752,   1022.3,   1.7201,  34.7160,     -999,9
74JC20091118  ,SR1b       ,19      ,  1,14         ,14         ,2,20091123,0559,-58.68333,-56.05383,     3752,   1022.7,   1.7198,  34.7163,     -999,9
74JC20091118  ,SR1b       ,19      ,  1,13         ,13         ,2,20091123,0559,-58.68333,-56.05383,     3752,   1023.1,   1.7187,  34.7165,  34.7144,2
74JC20091118  ,SR1b       ,19      ,  1,11         ,11         ,2,20091123,0559,-58.68333,-56.05383,     3752,   2038.7,   0.9542,  34.7131,     -999,9
74JC20091118  ,SR1b       ,19      ,  1,12         ,12         ,2,20091123,0559,-58.68333,-56.05383,     3752,   2038.8,   0.9547,  34.7131,     -999,9
74JC20091118  ,SR1b       ,19      ,  1,10         ,10         ,2,20091123,0559,-58.68333,-56.05383,     3752,   2038.8,   0.9540,  34.7131,  34.7109,2
74JC20091118  ,SR1b       ,19      ,  1,8          ,8          ,2,20091123,0559,-58.68333,-56.05383,     3752,   3060.9,   0.2858,  34.6768,     -999,9
74JC20091118  ,SR1b       ,19      ,  1,9          ,9          ,2,20091123,0559,-58.68333,-56.05383,     3752,   3061.3,   0.2860,  34.6769,     -999,9
74JC20091118  ,SR1b       ,19      ,  1,7          ,7          ,2,20091123,0559,-58.68333,-56.05383,     3752,   3061.5,   0.2853,  34.6769,  34.6737,2
74JC20091118  ,SR1b       ,19      ,  1,5          ,5          ,2,20091123,0559,-58.68333,-56.05383,     3752,   3574.1,   0.1433,  34.6664,     -999,9
74JC20091118  ,SR1b       ,19      ,  1,4          ,4          ,2,20091123,0559,-58.68333,-56.05383,     3752,   3574.9,   0.1432,  34.6664,  34.6624,2
74JC20091118  ,SR1b       ,19      ,  1,6          ,6          ,2,20091123,0559,-58.68333,-56.05383,     3752,   3575.9,   0.1428,  34.6663,     -999,9
74JC20091118  ,SR1b       ,19      ,  1,3          ,3          ,2,20091123,0559,-58.68333,-56.05383,     3752,   3810.2,   0.0582,  34.6608,     -999,9
74JC20091118  ,SR1b       ,19      ,  1,1          ,1          ,2,20091123,0559,-58.68333,-56.05383,     3752,   3811.3,   0.0590,  34.6610,  34.6600,2
74JC20091118  ,SR1b       ,19      ,  1,2          ,2          ,2,20091123,0559,-58.68333,-56.05383,     3752,   3811.5,   0.0580,  34.6609,     -999,9
74JC20091118  ,SR1b       ,20      ,  1,24         ,24         ,2,20091123,1036,-58.99950,-55.85650,     3776,     17.1,  -0.0283,  33.8809,     -999,9
74JC20091118  ,SR1b       ,20      ,  1,22         ,22         ,2,20091123,1036,-58.99950,-55.85650,     3776,     17.4,  -0.0282,  33.8808,  33.8799,2
74JC20091118  ,SR1b       ,20      ,  1,23         ,23         ,2,20091123,1036,-58.99950,-55.85650,     3776,     17.6,  -0.0283,  33.8810,     -999,9
74JC20091118  ,SR1b       ,20      ,  1,21         ,21         ,2,20091123,1036,-58.99950,-55.85650,     3776,     27.1,  -0.0285,  33.8810,     -999,9
74JC20091118  ,SR1b       ,20      ,  1,19         ,19         ,2,20091123,1036,-58.99950,-55.85650,     3776,     27.2,  -0.0298,  33.8807,  33.8809,2
74JC20091118  ,SR1b       ,20      ,  1,20         ,20         ,2,20091123,1036,-58.99950,-55.85650,     3776,     27.5,  -0.0289,  33.8809,     -999,9
74JC20091118  ,SR1b       ,20      ,  1,18         ,18         ,2,20091123,1036,-58.99950,-55.85650,     3776,    309.1,   2.0059,  34.5466,     -999,9
74JC20091118  ,SR1b       ,20      ,  1,16         ,16         ,2,20091123,1036,-58.99950,-55.85650,     3776,    309.2,   2.0082,  34.5470,  34.5478,2
74JC20091118  ,SR1b       ,20      ,  1,17         ,17         ,2,20091123,1036,-58.99950,-55.85650,     3776,    309.9,   2.0081,  34.5471,     -999,9
74JC20091118  ,SR1b       ,20      ,  1,14         ,14         ,2,20091123,1036,-58.99950,-55.85650,     3776,    815.2,   1.7836,  34.7067,     -999,9
74JC20091118  ,SR1b       ,20      ,  1,13         ,13         ,2,20091123,1036,-58.99950,-55.85650,     3776,    815.7,   1.7766,  34.7064,  34.7044,2
74JC20091118  ,SR1b       ,20      ,  1,15         ,15         ,2,20091123,1036,-58.99950,-55.85650,     3776,    815.8,   1.7838,  34.7068,     -999,9
74JC20091118  ,SR1b       ,20      ,  1,12         ,12         ,2,20091123,1036,-58.99950,-55.85650,     3776,   1526.3,   1.2317,  34.7204,     -999,9
74JC20091118  ,SR1b       ,20      ,  1,11         ,11         ,2,20091123,1036,-58.99950,-55.85650,     3776,   1526.4,   1.2301,  34.7203,     -999,9
74JC20091118  ,SR1b       ,20      ,  1,10         ,10         ,2,20091123,1036,-58.99950,-55.85650,     3776,   1526.5,   1.2272,  34.7202,  34.7178,2
74JC20091118  ,SR1b       ,20      ,  1,7          ,7          ,2,20091123,1036,-58.99950,-55.85650,     3776,   2034.2,   0.8803,  34.7093,  34.7074,2
74JC20091118  ,SR1b       ,20      ,  1,8          ,8          ,2,20091123,1036,-58.99950,-55.85650,     3776,   2035.1,   0.8814,  34.7095,     -999,9
74JC20091118  ,SR1b       ,20      ,  1,9          ,9          ,2,20091123,1036,-58.99950,-55.85650,     3776,   2036.1,   0.8820,  34.7095,     -999,9
74JC20091118  ,SR1b       ,20      ,  1,5          ,5          ,2,20091123,1036,-58.99950,-55.85650,     3776,   3056.9,   0.2391,  34.6711,     -999,9
74JC20091118  ,SR1b       ,20      ,  1,4          ,4          ,2,20091123,1036,-58.99950,-55.85650,     3776,   3057.4,   0.2396,  34.6716,  34.6682,2
74JC20091118  ,SR1b       ,20      ,  1,6          ,6          ,2,20091123,1036,-58.99950,-55.85650,     3776,   3058.7,   0.2384,  34.6710,     -999,9
74JC20091118  ,SR1b       ,20      ,  1,2          ,2          ,2,20091123,1036,-58.99950,-55.85650,     3776,   3834.0,   0.0154,  34.6589,     -999,9
74JC20091118  ,SR1b       ,20      ,  1,3          ,3          ,2,20091123,1036,-58.99950,-55.85650,     3776,   3834.4,   0.0156,  34.6588,     -999,9
74JC20091118  ,SR1b       ,20      ,  1,1          ,1          ,2,20091123,1036,-58.99950,-55.85650,     3776,   3835.0,   0.0155,  34.6589,  34.6565,2
74JC20091118  ,SR1b       ,21      ,  1,24         ,24         ,2,20091123,1513,-59.33283,-55.65033,     3755,     16.5,  -0.1932,  33.9393,     -999,9
74JC20091118  ,SR1b       ,21      ,  1,22         ,22         ,2,20091123,1513,-59.33283,-55.65033,     3755,     16.5,  -0.1929,  33.9394,  33.9402,2
74JC20091118  ,SR1b       ,21      ,  1,23         ,23         ,2,20091123,1513,-59.33283,-55.65033,     3755,     16.8,  -0.1926,  33.9393,     -999,9
74JC20091118  ,SR1b       ,21      ,  1,20         ,20         ,2,20091123,1513,-59.33283,-55.65033,     3755,    126.8,   0.6052,  34.2733,     -999,9
74JC20091118  ,SR1b       ,21      ,  1,21         ,21         ,2,20091123,1513,-59.33283,-55.65033,     3755,    127.3,   0.6073,  34.2723,     -999,9
74JC20091118  ,SR1b       ,21      ,  1,19         ,19         ,2,20091123,1513,-59.33283,-55.65033,     3755,    127.6,   0.6110,  34.2745,  34.2785,2
74JC20091118  ,SR1b       ,21      ,  1,17         ,17         ,2,20091123,1513,-59.33283,-55.65033,     3755,    814.0,   1.7812,  34.7175,     -999,9
74JC20091118  ,SR1b       ,21      ,  1,16         ,16         ,2,20091123,1513,-59.33283,-55.65033,     3755,    814.4,   1.7805,  34.7174,  34.7162,2
74JC20091118  ,SR1b       ,21      ,  1,18         ,18         ,2,20091123,1513,-59.33283,-55.65033,     3755,    814.8,   1.7826,  34.7174,     -999,9
74JC20091118  ,SR1b       ,21      ,  1,15         ,15         ,2,20091123,1513,-59.33283,-55.65033,     3755,   1322.5,   1.3004,  34.7252,     -999,9
74JC20091118  ,SR1b       ,21      ,  1,13         ,13         ,2,20091123,1513,-59.33283,-55.65033,     3755,   1322.5,   1.2992,  34.7251,  34.7235,2
74JC20091118  ,SR1b       ,21      ,  1,14         ,14         ,2,20091123,1513,-59.33283,-55.65033,     3755,   1323.0,   1.2993,  34.7252,     -999,9
74JC20091118  ,SR1b       ,21      ,  1,12         ,12         ,2,20091123,1513,-59.33283,-55.65033,     3755,   2033.8,   0.7985,  34.7078,     -999,9
74JC20091118  ,SR1b       ,21      ,  1,10         ,10         ,2,20091123,1513,-59.33283,-55.65033,     3755,   2035.1,   0.7971,  34.7078,  34.7060,2
74JC20091118  ,SR1b       ,21      ,  1,11         ,11         ,2,20091123,1513,-59.33283,-55.65033,     3755,   2035.3,   0.7987,  34.7078,     -999,9
74JC20091118  ,SR1b       ,21      ,  1,9          ,9          ,2,20091123,1513,-59.33283,-55.65033,     3755,   3058.5,   0.2279,  34.6724,     -999,9
74JC20091118  ,SR1b       ,21      ,  1,8          ,8          ,2,20091123,1513,-59.33283,-55.65033,     3755,   3058.8,   0.2271,  34.6725,     -999,9
74JC20091118  ,SR1b       ,21      ,  1,7          ,7          ,2,20091123,1513,-59.33283,-55.65033,     3755,   3058.9,   0.2254,  34.6722,  34.6706,2
74JC20091118  ,SR1b       ,21      ,  1,6          ,6          ,2,20091123,1513,-59.33283,-55.65033,     3755,   3571.9,   0.0807,  34.6629,     -999,9
74JC20091118  ,SR1b       ,21      ,  1,5          ,5          ,2,20091123,1513,-59.33283,-55.65033,     3755,   3572.4,   0.0808,  34.6628,  34.6598,2
74JC20091118  ,SR1b       ,21      ,  1,4          ,4          ,2,20091123,1513,-59.33283,-55.65033,     3755,   3572.9,   0.0809,  34.6627,     -999,9
74JC20091118  ,SR1b       ,21      ,  1,3          ,3          ,2,20091123,1513,-59.33283,-55.65033,     3755,   3813.6,  -0.0305,  34.6571,     -999,9
74JC20091118  ,SR1b       ,21      ,  1,2          ,2          ,2,20091123,1513,-59.33283,-55.65033,     3755,   3813.6,  -0.0306,  34.6572,     -999,9
74JC20091118  ,SR1b       ,21      ,  1,1          ,1          ,2,20091123,1513,-59.33283,-55.65033,     3755,   3813.9,  -0.0303,  34.6571,  34.6547,2