BOTTLE,20240607CCHHYDRO
EXPOCODE,SECT_ID,STNNBR,CASTNO,SAMPNO,BTLNBR,BTLNBR_FLAG_W,DATE,TIME,LATITUDE,LONGITUDE,DEPTH,CTDPRS,CTDTMP,CTDSAL,SALNTY,SALNTY_FLAG_W
,,,,,,,,,,,METERS,DBAR,ITS-90,PSS-78,PSS-78,
74JC20091118  ,SR1b       ,6       ,  1,23         ,23         ,2,20091119,1936,-55.12567,-58.24200,     2545,     16.2,   4.7938,  34.0792,     -999,9
74JC20091118  ,SR1b       ,6       ,  1,24         ,24         ,2,20091119,1936,-55.12567,-58.24200,     2545,     17.4,   4.7927,  34.0790,     -999,9
74JC20091118  ,SR1b       ,6       ,  1,22         ,22         ,2,20091119,1936,-55.12567,-58.24200,     2545,     17.6,   4.7870,  34.0787,  34.0776,2
74JC20091118  ,SR1b       ,6       ,  1,19         ,19         ,2,20091119,1936,-55.12567,-58.24200,     2545,    155.4,   4.1313,  34.0905,  34.0893,2
74JC20091118  ,SR1b       ,6       ,  1,21         ,21         ,2,20091119,1936,-55.12567,-58.24200,     2545,    156.5,   4.1324,  34.0906,     -999,9
74JC20091118  ,SR1b       ,6       ,  1,20         ,20         ,2,20091119,1936,-55.12567,-58.24200,     2545,    158.2,   4.1284,  34.0902,     -999,9
74JC20091118  ,SR1b       ,6       ,  1,17         ,17         ,2,20091119,1936,-55.12567,-58.24200,     2545,    354.1,   3.8161,  34.0924,     -999,9
74JC20091118  ,SR1b       ,6       ,  1,16         ,16         ,2,20091119,1936,-55.12567,-58.24200,     2545,    354.3,   3.8150,  34.0923,  34.0913,2
74JC20091118  ,SR1b       ,6       ,  1,18         ,18         ,2,20091119,1936,-55.12567,-58.24200,     2545,    354.4,   3.8192,  34.0926,     -999,9
74JC20091118  ,SR1b       ,6       ,  1,14         ,14         ,2,20091119,1936,-55.12567,-58.24200,     2545,   1061.8,   2.9087,  34.4291,     -999,9
74JC20091118  ,SR1b       ,6       ,  1,13         ,13         ,2,20091119,1936,-55.12567,-58.24200,     2545,   1062.6,   2.9082,  34.4292,  34.4284,2
74JC20091118  ,SR1b       ,6       ,  1,15         ,15         ,2,20091119,1936,-55.12567,-58.24200,     2545,   1063.8,   2.9077,  34.4296,     -999,9
74JC20091118  ,SR1b       ,6       ,  1,12         ,12         ,2,20091119,1936,-55.12567,-58.24200,     2545,   1720.4,   2.2625,  34.6462,     -999,9
74JC20091118  ,SR1b       ,6       ,  1,11         ,11         ,2,20091119,1936,-55.12567,-58.24200,     2545,   1721.4,   2.2623,  34.6465,     -999,9
74JC20091118  ,SR1b       ,6       ,  1,10         ,10         ,2,20091119,1936,-55.12567,-58.24200,     2545,   1722.0,   2.2620,  34.6464,  34.6447,2
74JC20091118  ,SR1b       ,6       ,  1,9          ,9          ,2,20091119,1936,-55.12567,-58.24200,     2545,   2026.0,   2.1273,  34.6800,     -999,9
74JC20091118  ,SR1b       ,6       ,  1,8          ,8          ,2,20091119,1936,-55.12567,-58.24200,     2545,   2026.9,   2.1269,  34.6802,     -999,9
74JC20091118  ,SR1b       ,6       ,  1,7          ,7          ,2,20091119,1936,-55.12567,-58.24200,     2545,   2028.0,   2.1275,  34.6802,  34.6798,2
74JC20091118  ,SR1b       ,6       ,  1,4          ,4          ,2,20091119,1936,-55.12567,-58.24200,     2545,   2229.8,   1.9300,  34.7022,  34.7007,2
74JC20091118  ,SR1b       ,6       ,  1,5          ,5          ,2,20091119,1936,-55.12567,-58.24200,     2545,   2231.2,   1.9302,  34.7023,     -999,9
74JC20091118  ,SR1b       ,6       ,  1,6          ,6          ,2,20091119,1936,-55.12567,-58.24200,     2545,   2231.7,   1.9293,  34.7024,     -999,9
74JC20091118  ,SR1b       ,6       ,  1,3          ,3          ,2,20091119,1936,-55.12567,-58.24200,     2545,   2571.7,   1.8422,  34.7132,     -999,9
74JC20091118  ,SR1b       ,6       ,  1,2          ,2          ,2,20091119,1936,-55.12567,-58.24200,     2545,   2572.0,   1.8411,  34.7135,     -999,9
74JC20091118  ,SR1b       ,6       ,  1,1          ,1          ,2,20091119,1936,-55.12567,-58.24200,     2545,   2572.5,   1.8408,  34.7134,  34.7129,2
74JC20091118  ,SR1b       ,7       ,  1,23         ,23         ,2,20091119,2239,-55.17900,-58.19700,     3117,     19.5,   4.6421,  34.0746,     -999,9
74JC20091118  ,SR1b       ,7       ,  1,24         ,24         ,2,20091119,2239,-55.17900,-58.19700,     3117,     19.7,   4.6440,  34.0744,     -999,9
74JC20091118  ,SR1b       ,7       ,  1,22         ,22         ,2,20091119,2239,-55.17900,-58.19700,     3117,     19.7,   4.6234,  34.0755,  34.0742,2
74JC20091118  ,SR1b       ,7       ,  1,20         ,20         ,2,20091119,2239,-55.17900,-58.19700,     3117,    126.0,   3.9708,  34.0900,     -999,9
74JC20091118  ,SR1b       ,7       ,  1,19         ,19         ,2,20091119,2239,-55.17900,-58.19700,     3117,    128.9,   3.9707,  34.0899,  34.0885,2
74JC20091118  ,SR1b       ,7       ,  1,21         ,21         ,2,20091119,2239,-55.17900,-58.19700,     3117,    130.8,   3.9704,  34.0901,     -999,9
74JC20091118  ,SR1b       ,7       ,  1,17         ,17         ,2,20091119,2239,-55.17900,-58.19700,     3117,    530.1,   3.0581,  34.1507,     -999,9
74JC20091118  ,SR1b       ,7       ,  1,16         ,16         ,2,20091119,2239,-55.17900,-58.19700,     3117,    530.3,   3.0659,  34.1513,  34.1509,2
74JC20091118  ,SR1b       ,7       ,  1,18         ,18         ,2,20091119,2239,-55.17900,-58.19700,     3117,    531.4,   3.0568,  34.1511,     -999,9
74JC20091118  ,SR1b       ,7       ,  1,13         ,13         ,2,20091119,2239,-55.17900,-58.19700,     3117,   1523.2,   2.3565,  34.6140,  34.6134,2
74JC20091118  ,SR1b       ,7       ,  1,14         ,14         ,2,20091119,2239,-55.17900,-58.19700,     3117,   1523.9,   2.3562,  34.6142,     -999,9
74JC20091118  ,SR1b       ,7       ,  1,15         ,15         ,2,20091119,2239,-55.17900,-58.19700,     3117,   1525.4,   2.3554,  34.6146,     -999,9
74JC20091118  ,SR1b       ,7       ,  1,12         ,12         ,2,20091119,2239,-55.17900,-58.19700,     3117,   2074.2,   2.0027,  34.6959,     -999,9
74JC20091118  ,SR1b       ,7       ,  1,11         ,11         ,2,20091119,2239,-55.17900,-58.19700,     3117,   2074.6,   2.0022,  34.6961,     -999,9
74JC20091118  ,SR1b       ,7       ,  1,10         ,10         ,2,20091119,2239,-55.17900,-58.19700,     3117,   2076.6,   2.0024,  34.6961,  34.6940,2
74JC20091118  ,SR1b       ,7       ,  1,9          ,9          ,2,20091119,2239,-55.17900,-58.19700,     3117,   2528.4,   1.6438,  34.7186,     -999,9
74JC20091118  ,SR1b       ,7       ,  1,8          ,8          ,2,20091119,2239,-55.17900,-58.19700,     3117,   2528.9,   1.6439,  34.7186,     -999,9
74JC20091118  ,SR1b       ,7       ,  1,7          ,7          ,2,20091119,2239,-55.17900,-58.19700,     3117,   2531.1,   1.6441,  34.7185,  34.7166,2
74JC20091118  ,SR1b       ,7       ,  1,6          ,6          ,2,20091119,2239,-55.17900,-58.19700,     3117,   2832.6,   1.5315,  34.7212,     -999,9
74JC20091118  ,SR1b       ,7       ,  1,4          ,4          ,2,20091119,2239,-55.17900,-58.19700,     3117,   2834.6,   1.5352,  34.7213,  34.7195,2
74JC20091118  ,SR1b       ,7       ,  1,5          ,5          ,2,20091119,2239,-55.17900,-58.19700,     3117,   2834.8,   1.5352,  34.7214,     -999,9
74JC20091118  ,SR1b       ,7       ,  1,1          ,1          ,2,20091119,2239,-55.17900,-58.19700,     3117,   3156.4,   1.1559,  34.7165,  34.7142,2
74JC20091118  ,SR1b       ,7       ,  1,3          ,3          ,2,20091119,2239,-55.17900,-58.19700,     3117,   3156.7,   1.1555,  34.7164,     -999,9
74JC20091118  ,SR1b       ,7       ,  1,2          ,2          ,2,20091119,2239,-55.17900,-58.19700,     3117,   3157.0,   1.1545,  34.7163,     -999,9
74JC20091118  ,SR1b       ,8       ,  1,22         ,22         ,2,20091121,0335,-55.36817,-58.09900,     4216,     19.3,   3.0955,  34.0040,  34.0031,2
74JC20091118  ,SR1b       ,8       ,  1,23         ,23         ,2,20091121,0335,-55.36817,-58.09900,     4216,     20.5,   3.0951,  34.0042,     -999,9
74JC20091118  ,SR1b       ,8       ,  1,24         ,24         ,2,20091121,0335,-55.36817,-58.09900,     4216,     21.8,   3.0948,  34.0043,     -999,9
74JC20091118  ,SR1b       ,8       ,  1,21         ,21         ,2,20091121,0335,-55.36817,-58.09900,     4216,     31.1,   3.0960,  34.0040,     -999,9
74JC20091118  ,SR1b       ,8       ,  1,19         ,19         ,2,20091121,0335,-55.36817,-58.09900,     4216,     31.3,   3.0960,  34.0040,  34.0041,2
74JC20091118  ,SR1b       ,8       ,  1,20         ,20         ,2,20091121,0335,-55.36817,-58.09900,     4216,     31.9,   3.0961,  34.0040,     -999,9
74JC20091118  ,SR1b       ,8       ,  1,18         ,18         ,2,20091121,0335,-55.36817,-58.09900,     4216,    259.8,   2.1197,  34.0889,     -999,9
74JC20091118  ,SR1b       ,8       ,  1,16         ,16         ,2,20091121,0335,-55.36817,-58.09900,     4216,    260.2,   2.1241,  34.0888,  34.0913,2
74JC20091118  ,SR1b       ,8       ,  1,17         ,17         ,2,20091121,0335,-55.36817,-58.09900,     4216,    261.5,   2.1347,  34.0908,     -999,9
74JC20091118  ,SR1b       ,8       ,  1,14         ,14         ,2,20091121,0335,-55.36817,-58.09900,     4216,   2034.3,   1.8946,  34.7089,     -999,9
74JC20091118  ,SR1b       ,8       ,  1,13         ,13         ,2,20091121,0335,-55.36817,-58.09900,     4216,   2036.0,   1.8932,  34.7090,  34.7066,2
74JC20091118  ,SR1b       ,8       ,  1,15         ,15         ,2,20091121,0335,-55.36817,-58.09900,     4216,   2036.3,   1.8970,  34.7090,     -999,9
74JC20091118  ,SR1b       ,8       ,  1,12         ,12         ,2,20091121,0335,-55.36817,-58.09900,     4216,   2542.1,   1.5517,  34.7235,     -999,9
74JC20091118  ,SR1b       ,8       ,  1,11         ,11         ,2,20091121,0335,-55.36817,-58.09900,     4216,   2543.6,   1.5516,  34.7237,     -999,9
74JC20091118  ,SR1b       ,8       ,  1,10         ,10         ,2,20091121,0335,-55.36817,-58.09900,     4216,   2544.5,   1.5498,  34.7236,  34.7217,2
74JC20091118  ,SR1b       ,8       ,  1,7          ,7          ,2,20091121,0335,-55.36817,-58.09900,     4216,   3050.9,   1.1929,  34.7183,  34.7166,2
74JC20091118  ,SR1b       ,8       ,  1,9          ,9          ,2,20091121,0335,-55.36817,-58.09900,     4216,   3051.4,   1.1931,  34.7183,     -999,9
74JC20091118  ,SR1b       ,8       ,  1,8          ,8          ,2,20091121,0335,-55.36817,-58.09900,     4216,   3051.8,   1.1933,  34.7183,     -999,9
74JC20091118  ,SR1b       ,8       ,  1,4          ,4          ,2,20091121,0335,-55.36817,-58.09900,     4216,   3557.7,   0.8449,  34.7044,  34.7026,2
74JC20091118  ,SR1b       ,8       ,  1,5          ,5          ,2,20091121,0335,-55.36817,-58.09900,     4216,   3558.0,   0.8458,  34.7044,     -999,9
74JC20091118  ,SR1b       ,8       ,  1,6          ,6          ,2,20091121,0335,-55.36817,-58.09900,     4216,   3558.6,   0.8419,  34.7042,     -999,9
74JC20091118  ,SR1b       ,8       ,  1,3          ,3          ,2,20091121,0335,-55.36817,-58.09900,     4216,   4278.1,   0.3848,  34.6756,     -999,9
74JC20091118  ,SR1b       ,8       ,  1,2          ,2          ,2,20091121,0335,-55.36817,-58.09900,     4216,   4281.2,   0.3845,  34.6757,     -999,9
74JC20091118  ,SR1b       ,8       ,  1,1          ,1          ,2,20091121,0335,-55.36817,-58.09900,     4216,   4282.3,   0.3844,  34.6756,  34.6747,2
74JC20091118  ,SR1b       ,10      ,  1,22         ,22         ,2,20091121,0942,-55.83350,-57.82067,     4732,     23.9,   1.9817,  33.9567,  33.9559,2
74JC20091118  ,SR1b       ,10      ,  1,24         ,24         ,2,20091121,0942,-55.83350,-57.82067,     4732,     24.2,   1.9821,  33.9568,     -999,9
74JC20091118  ,SR1b       ,10      ,  1,23         ,23         ,2,20091121,0942,-55.83350,-57.82067,     4732,     24.8,   1.9810,  33.9554,     -999,9
74JC20091118  ,SR1b       ,10      ,  1,21         ,21         ,2,20091121,0942,-55.83350,-57.82067,     4732,     33.6,   1.9834,  33.9588,     -999,9
74JC20091118  ,SR1b       ,10      ,  1,19         ,19         ,2,20091121,0942,-55.83350,-57.82067,     4732,     33.7,   1.9855,  33.9611,  33.9594,2
74JC20091118  ,SR1b       ,10      ,  1,20         ,20         ,2,20091121,0942,-55.83350,-57.82067,     4732,     33.9,   1.9834,  33.9588,     -999,9
74JC20091118  ,SR1b       ,10      ,  1,18         ,18         ,2,20091121,0942,-55.83350,-57.82067,     4732,    113.3,   1.4732,  33.9686,     -999,9
74JC20091118  ,SR1b       ,10      ,  1,16         ,16         ,2,20091121,0942,-55.83350,-57.82067,     4732,    113.4,   1.4535,  33.9682,  33.9665,2
74JC20091118  ,SR1b       ,10      ,  1,17         ,17         ,2,20091121,0942,-55.83350,-57.82067,     4732,    114.5,   1.4643,  33.9686,     -999,9
74JC20091118  ,SR1b       ,10      ,  1,14         ,14         ,2,20091121,0942,-55.83350,-57.82067,     4732,   2039.3,   1.7518,  34.7202,     -999,9
74JC20091118  ,SR1b       ,10      ,  1,13         ,13         ,2,20091121,0942,-55.83350,-57.82067,     4732,   2039.8,   1.7516,  34.7200,  34.7178,2
74JC20091118  ,SR1b       ,10      ,  1,15         ,15         ,2,20091121,0942,-55.83350,-57.82067,     4732,   2040.0,   1.7522,  34.7201,     -999,9
74JC20091118  ,SR1b       ,10      ,  1,10         ,10         ,2,20091121,0942,-55.83350,-57.82067,     4732,   3048.2,   1.0852,  34.7150,  34.7129,2
74JC20091118  ,SR1b       ,10      ,  1,11         ,11         ,2,20091121,0942,-55.83350,-57.82067,     4732,   3049.9,   1.0860,  34.7150,     -999,9
74JC20091118  ,SR1b       ,10      ,  1,12         ,12         ,2,20091121,0942,-55.83350,-57.82067,     4732,   3050.5,   1.0848,  34.7149,     -999,9
74JC20091118  ,SR1b       ,10      ,  1,7          ,7          ,2,20091121,0942,-55.83350,-57.82067,     4732,   4063.6,   0.6925,  34.6955,     -999,9
74JC20091118  ,SR1b       ,10      ,  1,8          ,8          ,2,20091121,0942,-55.83350,-57.82067,     4732,   4063.9,   0.6962,  34.6957,  34.6930,2
74JC20091118  ,SR1b       ,10      ,  1,9          ,9          ,2,20091121,0942,-55.83350,-57.82067,     4732,   4064.1,   0.6973,  34.6957,     -999,9
74JC20091118  ,SR1b       ,10      ,  1,4          ,4          ,2,20091121,0942,-55.83350,-57.82067,     4732,   4579.0,   0.3024,  34.6695,  34.6675,2
74JC20091118  ,SR1b       ,10      ,  1,5          ,5          ,2,20091121,0942,-55.83350,-57.82067,     4732,   4579.2,   0.3010,  34.6693,     -999,9
74JC20091118  ,SR1b       ,10      ,  1,6          ,6          ,2,20091121,0942,-55.83350,-57.82067,     4732,   4580.1,   0.2983,  34.6692,     -999,9
74JC20091118  ,SR1b       ,10      ,  1,1          ,1          ,2,20091121,0942,-55.83350,-57.82067,     4732,   4814.0,   0.3062,  34.6677,  34.6655,2
74JC20091118  ,SR1b       ,10      ,  1,2          ,2          ,2,20091121,0942,-55.83350,-57.82067,     4732,   4814.7,   0.3059,  34.6678,     -999,9
74JC20091118  ,SR1b       ,10      ,  1,3          ,3          ,2,20091121,0942,-55.83350,-57.82067,     4732,   4815.5,   0.3061,  34.6678,     -999,9
74JC20091118  ,SR1b       ,11      ,  1,22         ,22         ,2,20091121,1448,-56.15017,-57.62450,     3395,     16.6,   1.7879,  33.9605,  33.9592,2
74JC20091118  ,SR1b       ,11      ,  1,24         ,24         ,2,20091121,1448,-56.15017,-57.62450,     3395,     16.8,   1.7948,  33.9604,     -999,9
74JC20091118  ,SR1b       ,11      ,  1,23         ,23         ,2,20091121,1448,-56.15017,-57.62450,     3395,     17.7,   1.7928,  33.9605,     -999,9
74JC20091118  ,SR1b       ,11      ,  1,20         ,20         ,2,20091121,1448,-56.15017,-57.62450,     3395,    108.4,   1.4133,  33.9638,     -999,9
74JC20091118  ,SR1b       ,11      ,  1,19         ,19         ,2,20091121,1448,-56.15017,-57.62450,     3395,    108.5,   1.4151,  33.9638,  33.9630,2
74JC20091118  ,SR1b       ,11      ,  1,21         ,21         ,2,20091121,1448,-56.15017,-57.62450,     3395,    108.7,   1.4085,  33.9644,     -999,9
74JC20091118  ,SR1b       ,11      ,  1,18         ,18         ,2,20091121,1448,-56.15017,-57.62450,     3395,    350.1,   1.8087,  34.1482,     -999,9
74JC20091118  ,SR1b       ,11      ,  1,16         ,16         ,2,20091121,1448,-56.15017,-57.62450,     3395,    351.1,   1.8065,  34.1477,  34.1507,2
74JC20091118  ,SR1b       ,11      ,  1,17         ,17         ,2,20091121,1448,-56.15017,-57.62450,     3395,    351.8,   1.8089,  34.1485,     -999,9
74JC20091118  ,SR1b       ,11      ,  1,15         ,15         ,2,20091121,1448,-56.15017,-57.62450,     3395,   2033.8,   1.5293,  34.7245,     -999,9
74JC20091118  ,SR1b       ,11      ,  1,13         ,13         ,2,20091121,1448,-56.15017,-57.62450,     3395,   2034.6,   1.5274,  34.7245,  34.7225,2
74JC20091118  ,SR1b       ,11      ,  1,14         ,14         ,2,20091121,1448,-56.15017,-57.62450,     3395,   2035.1,   1.5283,  34.7247,     -999,9
74JC20091118  ,SR1b       ,11      ,  1,11         ,11         ,2,20091121,1448,-56.15017,-57.62450,     3395,   2545.9,   1.2187,  34.7193,     -999,9
74JC20091118  ,SR1b       ,11      ,  1,12         ,12         ,2,20091121,1448,-56.15017,-57.62450,     3395,   2546.5,   1.2194,  34.7193,     -999,9
74JC20091118  ,SR1b       ,11      ,  1,10         ,10         ,2,20091121,1448,-56.15017,-57.62450,     3395,   2546.6,   1.2184,  34.7193,  34.7162,2
74JC20091118  ,SR1b       ,11      ,  1,9          ,9          ,2,20091121,1448,-56.15017,-57.62450,     3395,   2852.2,   0.9948,  34.7130,     -999,9
74JC20091118  ,SR1b       ,11      ,  1,7          ,7          ,2,20091121,1448,-56.15017,-57.62450,     3395,   2853.7,   0.9929,  34.7129,  34.7101,2
74JC20091118  ,SR1b       ,11      ,  1,8          ,8          ,2,20091121,1448,-56.15017,-57.62450,     3395,   2854.4,   0.9944,  34.7130,     -999,9
74JC20091118  ,SR1b       ,11      ,  1,4          ,4          ,2,20091121,1448,-56.15017,-57.62450,     3395,   3260.8,   0.6912,  34.6992,  34.6969,2
74JC20091118  ,SR1b       ,11      ,  1,5          ,5          ,2,20091121,1448,-56.15017,-57.62450,     3395,   3261.5,   0.6987,  34.6996,     -999,9
74JC20091118  ,SR1b       ,11      ,  1,6          ,6          ,2,20091121,1448,-56.15017,-57.62450,     3395,   3262.6,   0.7003,  34.6998,     -999,9
74JC20091118  ,SR1b       ,11      ,  1,1          ,1          ,2,20091121,1448,-56.15017,-57.62450,     3395,   3442.2,   0.6752,  34.6972,  34.6954,2
74JC20091118  ,SR1b       ,11      ,  1,2          ,2          ,2,20091121,1448,-56.15017,-57.62450,     3395,   3442.8,   0.6752,  34.6971,     -999,9
74JC20091118  ,SR1b       ,11      ,  1,3          ,3          ,2,20091121,1448,-56.15017,-57.62450,     3395,   3443.3,   0.6753,  34.6971,     -999,9