BOTTLE,20240601CCHHYDRO
EXPOCODE,SECT_ID,STNNBR,CASTNO,SAMPNO,BTLNBR,DATE,TIME,LATITUDE,LONGITUDE,DEPTH,CTDPRS,CTDTMP,CTDSAL,CTDSAL_FLAG_W,SALNTY,SALNTY_FLAG_W,CTDOXY,CTDOXY_FLAG_W,OXYGEN,OXYGEN_FLAG_W,SILCAT,SILCAT_FLAG_W,NITRAT,NITRAT_FLAG_W,NITRIT,NITRIT_FLAG_W,PHSPHT,PHSPHT_FLAG_W,CFC-11,CFC-11_FLAG_W,CFC-12,CFC-12_FLAG_W,SF6,SF6_FLAG_W,TCARBN,TCARBN_FLAG_W,ALKALI,ALKALI_FLAG_W,FCO2,FCO2_FLAG_W,FCO2TMP,PH_TOT,PH_TOT_FLAG_W,PH_TMP,DOC,DOC_FLAG_W,DELC13,DELC13_FLAG_W,TDN,TDN_FLAG_W,N2O,N2O_FLAG_W,BTL_DATE,BTL_TIME
,,,,,,,,,,METERS,DBAR,ITS-90,PSS-78,,PSS-78,,UMOL/KG,,UMOL/KG,,UMOL/KG,,UMOL/KG,,UMOL/KG,,UMOL/KG,,PMOL/KG,,PMOL/KG,,FMOL/KG,,UMOL/KG,,UMOL/KG,,UATM,,DEG C,,,DEG C,UMOL/KG,,/MILLE,,UMOL/KG,,NMOL/KG,,,
33RO20230306  ,A16N       ,74      ,  2,740224     ,224        ,20230331,1629,  27.5035, -24.7839,     5194,     12.7,  21.7628,  37.2474,2,  37.2507,2,    159.8,2,    219.8,2,     0.50,2,     0.00,2,     0.00,2,     0.05,2,    1.868,2,    1.164,2,   2.0509,2,   2132.8,6,   2433.4,6,    373.9,2,       20,   8.0014,6,       25,    63.09,2,      0.8,2,     4.30,2,      6.8,2,20230331,1824
33RO20230306  ,A16N       ,74      ,  2,740223     ,223        ,20230331,1629,  27.5035, -24.7839,     5194,     19.8,  21.7567,  37.2479,2,  37.2583,2,    171.1,2,    219.0,2,     0.50,2,     0.00,2,     0.00,2,     0.03,2,    1.872,2,    1.165,2,   2.0557,2,   2130.8,2,   2432.5,2,    373.4,2,       20,   8.0007,2,       25,    64.54,2,      0.9,2,     3.80,2,      6.8,2,20230331,1822
33RO20230306  ,A16N       ,74      ,  2,740222     ,222        ,20230331,1629,  27.5035, -24.7839,     5194,     41.4,  21.5839,  37.2417,2,  37.2447,2,    206.6,2,    219.0,2,     0.50,2,     0.00,2,     0.00,2,     0.04,2,    1.874,2,    1.168,2,   2.0265,2,   2132.5,2,   2432.4,2,    373.5,2,       20,   7.9980,2,       25,    62.79,2,      0.8,2,     3.92,2,      6.8,2,20230331,1821
33RO20230306  ,A16N       ,74      ,  2,740221     ,221        ,20230331,1629,  27.5035, -24.7839,     5194,     65.3,  21.2755,  37.2105,2,  37.2158,2,    207.3,2,    218.2,2,     0.60,2,     0.00,2,     0.00,2,     0.04,2,    1.892,2,    1.165,2,   2.0849,2,   2135.1,2,   2430.7,2,    376.1,2,       20,   7.9959,2,       25,    64.94,2,      0.7,2,     3.44,2,      6.9,2,20230331,1819
33RO20230306  ,A16N       ,74      ,  2,740220     ,220        ,20230331,1629,  27.5035, -24.7839,     5194,     90.5,  20.8269,  37.1674,2,  37.1701,2,    206.7,2,    219.3,2,     0.70,2,     0.00,2,     0.00,2,     0.04,2,    1.925,2,    1.198,2,   2.1386,2,   2134.1,2,   2428.7,2,    382.1,2,       20,   7.9911,2,       25,    61.50,2,      0.9,2,     4.01,2,      7.0,2,20230331,1817
33RO20230306  ,A16N       ,74      ,  2,740219     ,219        ,20230331,1629,  27.5035, -24.7839,     5194,    126.0,  20.5711,  37.1338,2,  37.1471,2,    202.3,2,    214.5,2,     0.70,2,     0.10,2,     0.14,2,     0.05,2,    1.941,2,    1.200,2,   2.1291,2,   2140.7,2,   2425.3,2,    393.9,2,       20,   7.9798,2,       25,    61.68,2,      0.6,2,     3.49,2,      7.1,2,20230331,1815
33RO20230306  ,A16N       ,74      ,  2,740218     ,218        ,20230331,1629,  27.5035, -24.7839,     5194,    198.8,  17.6286,  36.4705,2,  36.4873,2,    182.8,2,    195.1,2,     1.80,2,     5.00,2,     0.01,2,     0.31,2,    2.244,2,    1.342,2,   2.0722,2,   2148.4,2,   2383.5,2,    477.3,2,       20,   7.9047,2,       25,    53.03,2,      0.5,2,     8.31,2,      9.7,2,20230331,1813
33RO20230306  ,A16N       ,74      ,  2,740217     ,217        ,20230331,1629,  27.5035, -24.7839,     5194,    281.1,  16.1065,  36.1899,2,  36.1948,2,    181.0,2,    192.0,2,     2.60,2,     7.60,2,     0.00,2,     0.47,2,    2.408,2,    1.433,2,   1.8855,2,   2151.9,2,   2366.8,2,    520.9,2,       20,   7.8709,2,       25,    49.66,2,      0.3,2,     9.51,2,     10.4,2,20230331,1811
33RO20230306  ,A16N       ,74      ,  2,740216     ,216        ,20230331,1629,  27.5035, -24.7839,     5194,    377.2,  14.4143,  35.9212,2,  35.9291,6,    182.7,2,    195.8,2,     3.40,2,     9.80,2,     0.00,2,     0.61,2,    2.588,2,    1.494,2,   1.9560,2,   2157.3,2,   2351.7,2,    578.4,2,       20,   7.8292,2,       25,    50.86,2,      0.4,2,    12.38,2,     11.5,2,20230331,1809
33RO20230306  ,A16N       ,74      ,  2,740215     ,215        ,20230331,1629,  27.5035, -24.7839,     5194,    471.9,  13.0404,  35.7370,2,  35.7629,2,    174.3,2,    199.2,2,     4.90,2,    13.00,2,     0.00,2,     0.81,2,    2.620,2,    1.503,2,   1.6475,2,   2167.6,2,   2340.8,2,    645.1,2,       20,   7.7885,2,       25,    47.60,2,      0.4,6,    15.43,2,     13.4,2,20230331,1806
33RO20230306  ,A16N       ,74      ,  2,740214     ,214        ,20230331,1629,  27.5035, -24.7839,     5194,    551.9,  12.2027,  35.6497,2,  35.6713,2,    167.4,2,    177.5,2,     6.10,2,    15.20,2,     0.00,2,     0.95,2,    2.589,2,    1.444,2,   1.3525,2,   2178.6,6,   2336.4,2,    693.6,2,       20,   7.7597,2,       25,    46.13,2,      0.4,2,    16.85,2,     14.5,2,20230331,1803
33RO20230306  ,A16N       ,74      ,  2,740213     ,213        ,20230331,1629,  27.5035, -24.7839,     5194,    686.7,  10.6873,  35.5099,2,  35.4140,2,    149.2,2,    167.2,2,    13.80,2,    21.50,2,     0.00,2,     1.39,2,    1.341,2,    0.752,2,   0.6051,2,   2195.9,2,   2329.6,2,    813.3,2,       20,   7.6981,2,       25,    44.19,2,      0.8,2,    22.14,2,     17.5,2,20230331,1800
33RO20230306  ,A16N       ,74      ,  2,740212     ,212        ,20230331,1629,  27.5035, -24.7839,     5194,    811.7,   9.5363,  35.4028,2,  35.4070,2,    140.9,2,    150.1,2,    13.20,2,    22.50,2,     0.00,2,     1.44,2,    1.308,2,    0.725,2,   0.3715,2,   2199.8,2,   2328.6,2,    841.2,6,       20,   7.6852,2,       25,    41.96,2,      0.7,2,    23.05,2,     18.6,2,20230331,1757
33RO20230306  ,A16N       ,74      ,  2,740211     ,211        ,20230331,1629,  27.5035, -24.7839,     5194,   1001.5,   7.7656,  35.2783,2,  35.2812,2,    148.4,2,    159.6,2,    17.00,2,    24.00,2,     0.00,2,     1.59,2,    0.676,2,    0.381,2,   0.2290,2,   2204.9,2,   2326.9,2,    870.0,2,       20,   7.6725,2,       25,    43.78,2,      0.7,2,    25.65,2,     18.8,2,20230331,1752
33RO20230306  ,A16N       ,74      ,  2,740210     ,210        ,20230331,1629,  27.5035, -24.7839,     5194,   1148.6,   7.0836,  35.2910,2,  35.3081,2,    164.1,2,    176.3,2,    17.20,2,    22.70,2,     0.00,2,     1.51,2,    0.621,6,    0.342,6,   0.2232,6,   2200.6,2,   2330.2,2,    833.9,2,       20,   7.6888,2,       25,    42.67,2,      0.8,2,    24.05,2,     17.3,6,20230331,1749
33RO20230306  ,A16N       ,74      ,  2,740209     ,209        ,20230331,1629,  27.5035, -24.7839,     5194,   1421.6,   6.1686,  35.2815,2,  35.2927,2,    188.7,2,    201.9,2,    17.10,2,    20.60,2,     0.00,2,     1.39,2,    0.770,2,    0.409,2,   0.2129,2,   2192.7,2,   2327.2,2,    783.9,2,       20,   7.7116,2,       25,    43.56,2,      0.9,2,    21.13,2,     15.3,2,20230331,1743
33RO20230306  ,A16N       ,74      ,  2,740208     ,208        ,20230331,1629,  27.5035, -24.7839,     5194,   1826.9,   4.6176,  35.1289,2,  35.1338,2,    209.8,2,    226.5,2,    20.90,2,    20.10,2,     0.00,2,     1.37,2,    0.467,2,    0.242,2,   0.1282,2,   2186.0,2,   2325.3,6,    767.4,2,       20,   7.7203,6,       25,    41.97,2,      1.0,2,    21.97,2,     14.3,2,20230331,1735
33RO20230306  ,A16N       ,74      ,  2,740207     ,207        ,20230331,1629,  27.5035, -24.7839,     5194,   2250.6,   3.6186,  35.0236,2,  35.0294,2,    222.2,2,    242.8,2,    25.10,2,    19.70,2,     0.00,2,     1.36,2,    0.340,2,    0.179,2,   0.0635,3,   2183.2,2,   2325.4,2,    754.9,2,       20,   7.7255,2,       25,    46.20,3,      0.9,2,    20.34,2,     13.9,2,20230331,1727
33RO20230306  ,A16N       ,74      ,  2,740206     ,206        ,20230331,1629,  27.5035, -24.7839,     5194,   2650.0,   3.0153,  34.9622,2,  34.9671,2,    225.3,2,    245.9,2,    31.10,2,    20.10,2,     0.00,2,     1.39,2,    0.224,2,    0.121,2,   0.1546,2,   2186.1,2,   2328.6,2,    755.1,2,       20,   7.7260,2,       25,    45.88,3,      1.0,2,    19.79,2,     13.6,2,20230331,1719
33RO20230306  ,A16N       ,74      ,  2,740205     ,205        ,20230331,1629,  27.5035, -24.7839,     5194,   3150.7,   2.6579,  34.9267,2,  34.9271,6,    222.8,2,    244.7,2,    38.20,2,    21.00,2,     0.00,2,     1.45,2,    0.113,2,    0.062,2,   0.0687,3,   2195.1,2,   2335.7,2,   -999.0,9,       20,   7.7253,2,       25,    43.58,2,      0.9,2,    21.46,2,     13.8,2,20230331,1708
33RO20230306  ,A16N       ,74      ,  2,740204     ,204        ,20230331,1629,  27.5035, -24.7839,     5194,   3649.1,   2.4788,  34.9056,2,  34.9078,2,    220.6,2,    243.9,2,    43.40,6,    21.60,6,     0.00,6,     1.50,6,    0.032,2,    0.019,2,   0.0972,2,   2197.6,2,   2340.2,2,    763.0,2,       20,   7.7244,2,       25,    43.82,2,      1.1,2,    22.70,2,     14.4,2,20230331,1659
33RO20230306  ,A16N       ,74      ,  2,740203     ,203        ,20230331,1629,  27.5035, -24.7839,     5194,   4149.1,   2.3999,  34.8929,2,  34.8962,2,    219.0,2,    243.9,2,    46.50,6,    22.00,6,     0.00,6,     1.52,6,    0.016,2,    0.009,2,   0.1434,2,   2201.8,2,   2342.2,2,    767.2,2,       20,   7.7226,2,       25,    44.01,3,      1.0,2,    23.42,2,     14.7,2,20230331,1650
33RO20230306  ,A16N       ,74      ,  2,740202     ,202        ,20230331,1629,  27.5035, -24.7839,     5194,   4650.4,   2.3852,  34.8856,2,  34.9094,2,    217.6,2,    244.8,2,    48.10,6,    22.10,6,     0.00,6,     1.53,6,    0.019,2,    0.011,2,   0.0542,2,   2205.8,6,   2345.1,2,    770.2,2,       20,   7.7208,2,       25,    43.40,3,      1.0,2,    23.38,2,     15.0,2,20230331,1641
33RO20230306  ,A16N       ,74      ,  2,740201     ,201        ,20230331,1629,  27.5035, -24.7839,     5194,   5281.1,   2.4389,  34.8826,2,  34.8856,2,    215.5,2,    244.1,2,    48.60,6,    22.20,6,     0.00,6,     1.54,6,    0.029,2,    0.016,2,   0.0590,2,   2206.0,2,   2347.4,2,    768.8,2,       20,   7.7212,2,       25,    41.94,2,      1.0,6,    23.02,2,     15.1,2,20230331,1629
33RO20230306  ,A16N       ,75      ,  1,750124     ,224        ,20230401,0120,  28.0105, -24.5038,     5214,      4.6,  21.7797,  37.2524,2,  37.2518,6,    206.3,2,    219.3,2,     0.60,2,     0.00,2,     0.00,2,     0.04,2,    1.870,2,    1.173,2,   1.9343,2,   2132.7,6,   2434.8,2,    375.6,2,       20,   7.9951,2,       25,    59.94,2,      0.8,2,     3.90,2,      6.9,2,20230401,0332
33RO20230306  ,A16N       ,75      ,  1,750123     ,223        ,20230401,0120,  28.0105, -24.5038,     5214,     15.3,  21.7568,  37.2499,2,  37.2589,2,    206.5,2,     -999,9,     0.60,2,     0.00,2,     0.00,2,     0.04,2,    1.867,2,    1.171,2,   1.9188,2,   2130.6,2,   2435.6,2,    375.4,2,       20,   7.9954,2,       25,  -999.00,9,      0.6,2,  -999.00,9,      6.9,2,20230401,0330
33RO20230306  ,A16N       ,75      ,  1,750122     ,222        ,20230401,0120,  28.0105, -24.5038,     5214,     46.1,  21.3537,  37.2087,2,  37.2130,2,    208.0,2,    219.5,2,     0.60,2,     0.00,2,     0.00,2,     0.04,2,    1.898,2,    1.199,2,   1.8885,2,   2129.9,2,   2433.3,6,    376.8,2,       20,   7.9967,6,       25,  -999.00,9,      0.7,2,  -999.00,9,      7.0,2,20230401,0328
33RO20230306  ,A16N       ,75      ,  1,750121     ,221        ,20230401,0120,  28.0105, -24.5038,     5214,     68.3,  21.0067,  37.1595,2,  37.1658,2,    208.3,2,    218.1,2,     0.50,2,     0.00,2,     0.00,2,     0.04,2,    1.924,6,    1.224,6,   1.9705,6,   2131.4,2,   2430.2,2,    381.4,2,       20,   7.9899,2,       25,  -999.00,9,      0.7,2,  -999.00,9,      7.1,6,20230401,0326
33RO20230306  ,A16N       ,75      ,  1,750120     ,220        ,20230401,0120,  28.0105, -24.5038,     5214,     84.0,  20.5262,  37.0945,2,  37.1092,2,    208.8,2,    220.3,2,     0.60,2,     0.00,2,     0.00,2,     0.04,2,    1.968,2,    1.253,2,   2.0260,2,   2130.2,2,   2425.6,2,    386.0,2,       20,   7.9857,2,       25,  -999.00,9,      0.7,2,  -999.00,9,      7.2,2,20230401,0325
33RO20230306  ,A16N       ,75      ,  1,750119     ,219        ,20230401,0120,  28.0105, -24.5038,     5214,    140.7,  19.4340,  36.8572,2,  36.8632,2,    192.0,2,    204.1,2,     0.90,2,     1.70,2,     0.05,2,     0.14,2,    2.068,2,    1.289,2,   2.0513,2,   2142.0,2,   2408.9,2,    430.6,2,       20,   7.9458,2,       25,  -999.00,9,      0.5,2,  -999.00,9,      8.1,2,20230401,0322
33RO20230306  ,A16N       ,75      ,  1,750118     ,218        ,20230401,0120,  28.0105, -24.5038,     5214,    232.3,  16.9957,  36.3712,2,  36.3630,2,    185.7,2,    197.4,2,     1.90,2,     5.40,2,     0.01,2,     0.34,2,    2.341,2,    1.442,2,   2.0709,2,   2145.7,2,   2378.0,2,    490.1,2,       20,   7.8941,2,       25,  -999.00,9,      0.3,2,  -999.00,9,      9.5,2,20230401,0320
33RO20230306  ,A16N       ,75      ,  1,750117     ,217        ,20230401,0120,  28.0105, -24.5038,     5214,    302.5,  15.4179,  36.0798,2,  36.0868,2,    183.9,2,    195.8,2,     2.80,2,     8.10,2,     0.01,2,     0.51,2,    2.530,2,    1.505,2,   1.9931,2,   2148.8,2,   2361.2,2,    540.7,2,       20,   7.8561,2,       25,  -999.00,9,      0.3,2,  -999.00,9,     10.6,2,20230401,0317
33RO20230306  ,A16N       ,75      ,  1,750116     ,216        ,20230401,0120,  28.0105, -24.5038,     5214,    424.5,  13.7079,  35.8226,2,  35.8176,2,    178.7,2,    190.4,2,     4.20,2,    11.50,2,     0.01,2,     0.71,2,    2.639,2,    1.534,2,   1.8220,2,   2160.6,2,   2347.6,2,    614.9,2,       20,   7.8052,2,       25,  -999.00,9,      0.3,2,  -999.00,9,     12.5,2,20230401,0314
33RO20230306  ,A16N       ,75      ,  1,750115     ,215        ,20230401,0120,  28.0105, -24.5038,     5214,    519.6,  12.2881,  35.6514,2,  35.6465,2,    170.2,2,    183.7,2,     6.00,2,    14.60,2,     0.00,2,     0.92,2,    2.591,2,    1.455,2,   1.4823,2,   2170.0,2,   2340.0,2,    682.3,2,       20,   7.7653,2,       25,  -999.00,9,      0.3,2,  -999.00,9,     13.9,2,20230401,0311
33RO20230306  ,A16N       ,75      ,  1,750114     ,214        ,20230401,0120,  28.0105, -24.5038,     5214,    702.7,  10.5914,  35.5208,2,  35.5227,2,    159.1,2,     -999,9,     9.70,2,    19.00,2,     0.00,2,     1.20,2,    2.036,2,    1.123,2,   0.9736,2,   2188.9,2,   2336.2,2,    769.9,2,       20,   7.7186,2,       25,  -999.00,9,      0.4,2,  -999.00,9,     16.3,2,20230401,0307
33RO20230306  ,A16N       ,75      ,  1,750113     ,213        ,20230401,0120,  28.0105, -24.5038,     5214,    825.8,   9.6715,  35.4955,2,  35.4880,2,    149.6,2,    160.7,2,    12.30,2,    21.00,2,     0.00,2,     1.35,2,    1.520,2,    0.836,2,   0.6555,2,   2197.1,6,   2336.7,2,    804.4,2,       20,   7.7023,2,       25,  -999.00,9,      0.6,6,  -999.00,9,     17.1,2,20230401,0304
33RO20230306  ,A16N       ,75      ,  1,750112     ,212        ,20230401,0120,  28.0105, -24.5038,     5214,    974.1,   8.3054,  35.3879,2,  35.3764,2,    152.5,2,    164.1,2,    15.40,2,    22.70,2,     0.00,2,     1.48,2,    0.956,2,    0.524,2,   0.1792,2,   2203.7,2,   2332.3,2,    835.9,2,       20,   7.6867,2,       25,  -999.00,9,      0.7,2,  -999.00,9,     17.6,2,20230401,0300
33RO20230306  ,A16N       ,75      ,  1,750111     ,211        ,20230401,0120,  28.0105, -24.5038,     5214,   1165.8,   7.5239,  35.4053,2,  35.4216,2,    169.1,2,    181.0,2,    15.60,2,    21.30,2,     0.00,2,     1.40,2,    0.941,2,    0.506,2,   0.3750,2,   2198.2,2,   2337.2,6,    801.2,2,       20,   7.7029,6,       25,  -999.00,9,      0.8,2,  -999.00,9,     16.1,2,20230401,0256
33RO20230306  ,A16N       ,75      ,  1,750110     ,210        ,20230401,0120,  28.0105, -24.5038,     5214,   1253.5,   7.0516,  35.3720,2,  35.3729,2,    175.4,2,    190.0,2,    16.10,2,    21.00,2,     0.00,2,     1.39,2,    0.893,2,    0.483,2,   0.3423,2,   2193.7,2,   2336.3,2,    793.6,2,       20,   7.7054,2,       25,  -999.00,9,      0.8,2,  -999.00,9,     15.9,2,20230401,0254
33RO20230306  ,A16N       ,75      ,  1,750109     ,209        ,20230401,0120,  28.0105, -24.5038,     5214,   1502.4,   5.6746,  35.2278,2,  35.2771,2,    191.7,2,    198.5,2,    17.60,2,    21.40,2,     0.00,2,     1.42,2,    0.584,2,    0.317,2,   0.1182,2,   2192.1,2,   2331.6,2,    795.8,2,       20,   7.7046,2,       25,  -999.00,9,      0.8,2,  -999.00,9,     15.7,2,20230401,0244
33RO20230306  ,A16N       ,75      ,  1,750108     ,208        ,20230401,0120,  28.0105, -24.5038,     5214,   1804.8,   4.6834,  35.1360,2,  35.2582,2,    204.7,2,    223.6,2,    21.60,2,    20.50,2,     0.00,2,     1.38,2,    0.399,2,    0.205,2,   0.0888,2,   2185.8,2,   2328.3,2,    772.2,2,       20,   7.7142,2,       25,  -999.00,9,      0.9,2,  -999.00,9,     14.4,2,20230401,0238
33RO20230306  ,A16N       ,75      ,  1,750107     ,207        ,20230401,0120,  28.0105, -24.5038,     5214,   2300.1,   3.5760,  35.0202,2,  35.1402,2,    221.7,2,    240.9,2,    25.80,2,    19.90,2,     0.00,2,     1.36,2,    0.301,2,    0.154,2,   0.0000,3,   2182.2,2,   2327.7,2,    756.6,2,       20,   7.7196,2,       25,  -999.00,9,      1.0,2,  -999.00,9,     13.5,2,20230401,0228
33RO20230306  ,A16N       ,75      ,  1,750106     ,206        ,20230401,0120,  28.0105, -24.5038,     5214,   2800.8,   2.9006,  34.9519,2,  35.0302,2,    223.5,2,    244.3,2,    33.20,2,    20.40,2,     0.00,2,     1.40,2,    0.165,2,    0.089,2,   0.0705,2,   2186.3,2,   2334.2,2,    757.3,2,       20,   7.7209,2,       25,  -999.00,9,      0.9,2,  -999.00,9,     13.4,2,20230401,0218
33RO20230306  ,A16N       ,75      ,  1,750105     ,205        ,20230401,0120,  28.0105, -24.5038,     5214,   3348.5,   2.5695,  34.9180,2,  34.9553,2,    220.5,2,    243.4,2,    40.70,2,    21.40,2,     0.00,2,     1.47,2,    0.049,2,    0.026,2,   0.0000,2,   2195.3,2,   2341.1,2,    760.3,2,       20,   7.7215,2,       25,  -999.00,9,      0.9,2,  -999.00,9,     13.8,2,20230401,0208
33RO20230306  ,A16N       ,75      ,  1,750104     ,204        ,20230401,0120,  28.0105, -24.5038,     5214,   3850.2,   2.4470,  34.9013,2,  34.9154,2,    219.5,2,    243.7,2,    44.50,2,    21.80,2,     0.00,2,     1.50,2,    0.012,2,    0.010,2,   0.1633,3,   2197.4,2,   2344.2,2,    763.5,2,       20,   7.7224,2,       25,  -999.00,9,      1.0,2,  -999.00,9,     14.2,2,20230401,0158
33RO20230306  ,A16N       ,75      ,  1,750103     ,203        ,20230401,0120,  28.0105, -24.5038,     5214,   4348.4,   2.3968,  34.8909,2,  34.9033,2,    218.1,2,     -999,9,     -999,9,     -999,9,     -999,9,     -999,9,     -999,9,     -999,9,     -999,9,     -999,9,     -999,9,   -999.0,9,       20,     -999,9,       25,  -999.00,9,   -999.0,9,  -999.00,9,     -999,9,20230401,0147
33RO20230306  ,A16N       ,75      ,  1,750102     ,202        ,20230401,0120,  28.0105, -24.5038,     5214,   4900.5,   2.4036,  34.8844,2,  34.8829,2,    216.4,2,    244.8,2,    48.20,2,    22.20,2,     0.00,2,     1.52,2,    0.016,2,    0.009,2,   0.0000,3,   2202.8,2,   2346.1,2,    767.2,6,       20,   7.7236,2,       25,  -999.00,9,      0.9,2,  -999.00,9,     14.8,2,20230401,0128
33RO20230306  ,A16N       ,75      ,  1,750101     ,201        ,20230401,0120,  28.0105, -24.5038,     5214,   5300.6,   2.4531,  34.8838,2,  34.8919,6,    215.0,2,    243.5,2,    48.30,2,    22.20,2,     0.00,2,     1.53,2,    0.016,2,    0.011,2,   0.0000,3,   2202.8,6,   2348.3,2,    766.7,2,       20,   7.7225,2,       25,  -999.00,9,      0.9,6,  -999.00,9,     15.5,2,20230401,0120