BOTTLE,20240601CCHHYDRO
EXPOCODE,SECT_ID,STNNBR,CASTNO,SAMPNO,BTLNBR,DATE,TIME,LATITUDE,LONGITUDE,DEPTH,CTDPRS,CTDTMP,CTDSAL,CTDSAL_FLAG_W,SALNTY,SALNTY_FLAG_W,CTDOXY,CTDOXY_FLAG_W,OXYGEN,OXYGEN_FLAG_W,SILCAT,SILCAT_FLAG_W,NITRAT,NITRAT_FLAG_W,NITRIT,NITRIT_FLAG_W,PHSPHT,PHSPHT_FLAG_W,CFC-11,CFC-11_FLAG_W,CFC-12,CFC-12_FLAG_W,SF6,SF6_FLAG_W,TCARBN,TCARBN_FLAG_W,ALKALI,ALKALI_FLAG_W,FCO2,FCO2_FLAG_W,FCO2TMP,PH_TOT,PH_TOT_FLAG_W,PH_TMP,DOC,DOC_FLAG_W,DELC13,DELC13_FLAG_W,TDN,TDN_FLAG_W,N2O,N2O_FLAG_W,BTL_DATE,BTL_TIME
,,,,,,,,,,METERS,DBAR,ITS-90,PSS-78,,PSS-78,,UMOL/KG,,UMOL/KG,,UMOL/KG,,UMOL/KG,,UMOL/KG,,UMOL/KG,,PMOL/KG,,PMOL/KG,,FMOL/KG,,UMOL/KG,,UMOL/KG,,UATM,,DEG C,,,DEG C,UMOL/KG,,/MILLE,,UMOL/KG,,NMOL/KG,,,
33RO20230306  ,A16N       ,32      ,  1,320124     ,224        ,20230318,2137,   6.5006, -26.7518,     4641,      3.5,  28.4005,  35.3774,2,  35.2340,2,    194.2,2,    202.0,2,     1.00,2,     0.00,2,     0.02,2,     0.05,2,    1.398,2,    0.904,2,   1.7304,2,   1971.9,6,   2303.9,2,    282.2,2,       20,   8.0848,2,       25,    69.06,2,      1.2,6,     3.46,2,      5.7,2,20230318,2320
33RO20230306  ,A16N       ,32      ,  1,320123     ,223        ,20230318,2137,   6.5006, -26.7518,     4641,     19.2,  27.5497,  35.7489,2,  35.7516,2,    200.0,2,    205.9,2,     1.10,2,     0.00,2,     0.02,2,     0.04,2,    1.469,2,    0.951,2,   1.8353,2,   1996.7,2,   2336.2,2,    285.9,2,       20,   8.0847,2,       25,    69.72,2,      1.3,2,     4.23,2,      6.0,2,20230318,2319
33RO20230306  ,A16N       ,32      ,  1,320122     ,222        ,20230318,2137,   6.5006, -26.7518,     4641,     40.3,  26.9625,  35.6946,2,  35.7417,2,    202.9,2,    211.1,2,     1.40,2,     0.00,2,     0.02,2,     0.05,2,    1.506,2,    0.961,2,   1.8109,2,   1998.9,2,   2337.2,2,    289.8,2,       20,   8.0809,2,       25,    73.62,2,      1.1,2,     4.12,2,      6.4,2,20230318,2317
33RO20230306  ,A16N       ,32      ,  1,320121     ,221        ,20230318,2137,   6.5006, -26.7518,     4641,     54.6,  22.2606,  36.0930,2,     -999,9,    173.2,2,    174.6,2,     2.40,2,     0.60,2,     0.04,2,     0.13,2,    1.842,2,    1.136,2,   1.6263,2,   2111.7,2,   2366.2,2,    447.2,2,       20,   7.9301,2,       25,  -999.00,9,      0.8,2,  -999.00,9,     13.9,2,20230318,2315
33RO20230306  ,A16N       ,32      ,  1,320120     ,220        ,20230318,2137,   6.5006, -26.7518,     4641,     81.1,  17.0070,  35.7578,2,  35.7637,2,    114.9,2,    117.1,2,     5.40,2,    16.40,2,     0.07,2,     1.10,2,    2.209,6,    1.309,6,   1.3703,6,   2178.8,2,   2343.4,2,    723.4,2,       20,   7.7481,2,       25,    47.66,2,      0.3,2,    18.09,2,     22.1,6,20230318,2313
33RO20230306  ,A16N       ,32      ,  1,320119     ,219        ,20230318,2137,   6.5006, -26.7518,     4641,    106.3,  15.0598,  35.5472,2,  35.5406,2,     98.9,2,    101.5,2,     6.70,2,    20.70,2,     0.04,2,     1.37,2,    2.314,2,    1.382,2,   1.3098,2,   2197.1,2,   2330.7,2,    867.3,2,       20,   7.6768,2,       25,    60.44,3,      0.3,2,    23.09,2,     26.7,2,20230318,2312
33RO20230306  ,A16N       ,32      ,  1,320118     ,218        ,20230318,2137,   6.5006, -26.7518,     4641,    165.7,  13.5456,  35.3660,2,  35.3642,2,     95.2,2,     99.9,2,     8.20,2,    22.70,2,     0.02,2,     1.51,2,    2.310,2,    1.359,2,   1.1285,2,   2198.4,2,   2321.1,2,    942.8,2,       20,   7.6455,2,       25,    44.09,2,      0.3,2,    25.94,2,     27.7,2,20230318,2309
33RO20230306  ,A16N       ,32      ,  1,320117     ,217        ,20230318,2137,   6.5006, -26.7518,     4641,    230.7,  12.4113,  35.2331,2,  35.2330,2,     88.5,2,     93.1,2,     9.80,2,    25.20,2,     0.01,2,     1.65,2,    2.207,2,    1.260,2,   0.8502,2,   2209.6,2,   2313.4,2,   1033.8,2,       20,   7.6074,2,       25,    42.39,2,      0.3,2,    28.73,2,     30.3,2,20230318,2307
33RO20230306  ,A16N       ,32      ,  1,320116     ,216        ,20230318,2137,   6.5006, -26.7518,     4641,    330.8,  10.8330,  35.0578,2,  35.0591,2,     88.0,2,     89.1,2,    12.10,2,    28.50,2,     0.01,2,     1.83,2,    1.983,2,    1.101,2,   0.7153,2,   2218.6,2,   2306.1,2,   1154.8,2,       20,   7.5630,2,       25,    42.67,2,      0.3,2,    30.26,2,     32.6,2,20230318,2304
33RO20230306  ,A16N       ,32      ,  1,320115     ,215        ,20230318,2137,   6.5006, -26.7518,     4641,    402.3,   9.7530,  34.9908,2,  34.9908,2,     48.7,2,     44.7,2,    15.60,2,    34.80,2,     0.01,2,     2.18,2,    1.215,2,    0.658,2,   0.4333,2,   2245.4,6,   2300.9,2,   1469.2,2,       20,   7.4667,2,       25,    42.74,2,      0.2,2,    37.74,2,     37.9,2,20230318,2302
33RO20230306  ,A16N       ,32      ,  1,320114     ,214        ,20230318,2137,   6.5006, -26.7518,     4641,    525.7,   7.9670,  34.8042,2,  34.8040,2,     64.9,2,     69.1,2,    19.80,2,    36.50,2,     0.01,2,     2.33,2,    0.701,2,    0.372,2,   0.1581,2,   2239.7,2,   2296.5,2,   1463.0,2,       20,   7.4687,2,       25,    42.56,2,      0.3,2,    38.47,2,     33.3,2,20230318,2259
33RO20230306  ,A16N       ,32      ,  1,320113     ,213        ,20230318,2137,   6.5006, -26.7518,     4641,    676.3,   6.3834,  34.6708,2,  34.6704,2,     91.0,2,     97.3,2,    24.60,2,    36.50,2,     0.01,2,     2.42,2,    0.344,2,    0.179,2,   0.0878,2,   2235.0,2,   2296.1,2,   1383.4,2,       20,   7.4894,2,       25,    40.17,2,      0.5,2,    38.21,2,     29.1,2,20230318,2255
33RO20230306  ,A16N       ,32      ,  1,320112     ,212        ,20230318,2137,   6.5006, -26.7518,     4641,    825.8,   5.4561,  34.6370,2,  34.6383,2,    114.2,2,    120.5,2,    28.00,2,    35.30,2,     0.01,2,     2.39,2,    0.158,2,    0.085,2,   0.0761,2,   2228.4,2,   2298.6,2,   1289.6,2,       20,   7.5177,2,       25,    40.85,2,      0.6,2,    37.35,2,     26.4,2,20230318,2252
33RO20230306  ,A16N       ,32      ,  1,320111     ,211        ,20230318,2137,   6.5006, -26.7518,     4641,    950.5,   5.0061,  34.6750,2,  34.6855,2,    131.9,2,    138.0,2,    29.00,2,    33.60,2,     0.01,2,     2.30,2,    0.079,2,    0.045,2,   0.1234,2,   2223.7,2,   2302.6,2,   1198.1,6,       20,   7.5468,2,       25,    40.33,2,      0.7,2,    36.29,2,     24.4,2,20230318,2249
33RO20230306  ,A16N       ,32      ,  1,320110     ,210        ,20230318,2137,   6.5006, -26.7518,     4641,   1102.8,   4.8554,  34.7757,2,  34.7971,2,    148.3,2,    157.4,2,    26.90,2,    30.60,2,     0.01,2,     2.10,2,    0.094,2,    0.052,2,   0.0238,2,   2210.4,2,   2306.7,2,   1077.3,2,       20,   7.5864,2,       25,    40.24,2,      0.7,2,    31.42,2,     22.0,2,20230318,2245
33RO20230306  ,A16N       ,32      ,  1,320109     ,209        ,20230318,2137,   6.5006, -26.7518,     4641,   1351.7,   4.5314,  34.9090,2,  34.9109,2,    182.0,2,    194.2,2,    22.50,2,    25.30,2,     0.01,2,     1.75,2,    0.181,2,    0.092,2,   0.0339,2,   2189.6,2,   2310.0,2,    909.4,2,       20,   7.6514,2,       25,    40.04,2,      0.9,2,    27.79,2,     18.2,2,20230318,2240
33RO20230306  ,A16N       ,32      ,  1,320108     ,208        ,20230318,2137,   6.5006, -26.7518,     4641,   1726.5,   4.0014,  34.9743,2,  34.9869,2,    225.5,2,    239.9,2,    18.30,2,    20.20,2,     0.02,2,     1.40,2,    0.574,2,    0.289,2,   0.1250,3,   2171.7,2,   2311.2,2,    779.9,2,       20,   7.7111,2,       25,    40.16,2,      1.0,2,    22.46,2,     14.8,2,20230318,2233
33RO20230306  ,A16N       ,32      ,  1,320107     ,207        ,20230318,2137,   6.5006, -26.7518,     4641,   2102.5,   3.3956,  34.9532,2,  34.9561,2,    227.7,2,    244.0,2,    24.30,2,    20.50,2,     0.01,2,     1.43,2,    0.137,2,    0.069,2,   0.0000,3,   2172.7,2,   2317.2,2,    766.7,2,       20,   7.7171,2,       25,    40.90,2,      1.0,2,    20.68,2,     14.3,2,20230318,2225
33RO20230306  ,A16N       ,32      ,  1,320106     ,206        ,20230318,2137,   6.5006, -26.7518,     4641,   2499.2,   2.9921,  34.9342,2,  34.9354,2,    227.1,2,    245.4,2,    30.80,2,    21.00,2,     0.01,2,     1.46,2,    0.037,2,    0.021,2,   0.0000,3,   2178.7,2,   2322.1,2,    766.0,2,       20,   7.7181,2,       25,    40.94,2,      0.9,2,    20.29,2,     14.3,2,20230318,2218
33RO20230306  ,A16N       ,32      ,  1,320105     ,205        ,20230318,2137,   6.5006, -26.7518,     4641,   2902.7,   2.7243,  34.9176,2,  34.9193,2,    226.8,2,    246.4,2,    35.70,2,    21.20,2,     0.01,2,     1.47,2,    0.040,2,    0.024,2,   0.0000,3,   2182.4,2,   2329.2,2,    768.7,2,       20,   7.7189,2,       25,    41.16,2,      1.0,2,    21.28,2,     14.5,2,20230318,2210
33RO20230306  ,A16N       ,32      ,  1,320104     ,204        ,20230318,2137,   6.5006, -26.7518,     4641,   3303.5,   2.5448,  34.9042,2,  34.9053,2,    226.5,2,    247.0,2,    39.40,2,    21.30,2,     0.01,2,     1.48,2,    0.065,2,    0.039,2,   0.0000,3,   2186.1,2,   2330.7,2,    771.0,2,       20,   7.7190,2,       25,    40.16,2,      1.0,2,    22.29,2,     14.7,2,20230318,2203
33RO20230306  ,A16N       ,32      ,  1,320103     ,203        ,20230318,2137,   6.5006, -26.7518,     4641,   3701.3,   2.3952,  34.8918,2,  34.9026,2,    226.5,2,    248.6,2,    42.50,2,    21.40,2,     0.01,2,     1.50,2,    0.099,2,    0.055,2,   0.0000,3,   2190.4,2,   2335.3,2,   -999.0,9,       20,   7.7167,2,       25,    42.33,3,      1.0,2,    23.48,3,     14.7,2,20230318,2155
33RO20230306  ,A16N       ,32      ,  1,320102     ,202        ,20230318,2137,   6.5006, -26.7518,     4641,   4250.4,   2.3331,  34.8827,2,  34.8851,6,    223.0,2,    246.8,2,    45.80,2,    21.70,2,     0.01,2,     1.51,2,    0.122,2,    0.065,2,   0.0000,3,   2195.5,6,   2340.2,2,    779.6,2,       20,   7.7156,2,       25,    40.27,2,      0.9,2,    22.10,2,     15.0,2,20230318,2145
33RO20230306  ,A16N       ,32      ,  1,320101     ,201        ,20230318,2137,   6.5006, -26.7518,     4641,   4712.0,   2.3497,  34.8793,2,  34.8853,2,    220.2,2,    244.6,2,    47.80,2,    22.10,2,     0.01,2,     1.53,2,    0.104,2,    0.060,2,   0.0000,3,   2204.4,2,   2344.9,2,    780.9,2,       20,   7.7162,2,       25,    43.35,2,      0.9,6,    23.12,2,     15.3,2,20230318,2137
33RO20230306  ,A16N       ,33      ,  1,330124     ,224        ,20230319,0412,   6.9690, -26.9860,     4377,      3.5,  28.2069,  35.3913,2,     -999,9,    192.2,2,    200.2,2,     0.90,2,     0.00,2,     0.01,2,     0.04,2,    1.407,2,    0.910,2,   1.6649,2,   1980.9,6,   2313.6,2,    282.7,2,       20,   8.0820,2,       25,    74.51,2,      1.2,2,     5.20,2,      5.8,2,20230319,0555
33RO20230306  ,A16N       ,33      ,  1,330123     ,223        ,20230319,0412,   6.9690, -26.9860,     4377,     24.8,  28.2081,  35.3895,2,     -999,9,    192.2,2,    201.8,2,     1.00,2,     0.00,2,     0.01,2,     0.05,2,    1.414,2,    0.912,2,   1.7068,2,   1982.4,2,   2317.9,2,    285.0,2,       20,   8.0833,2,       25,  -999.00,9,      1.2,2,  -999.00,9,      5.9,2,20230319,0553
33RO20230306  ,A16N       ,33      ,  1,330122     ,222        ,20230319,0412,   6.9690, -26.9860,     4377,     53.5,  22.0245,  36.0855,2,     -999,9,    176.7,2,    169.2,2,     2.60,2,     0.90,2,     0.06,2,     0.15,2,    1.943,2,    1.174,2,   1.5619,2,   2131.2,2,   2365.9,2,    484.3,2,       20,   7.8980,2,       25,  -999.00,9,      0.7,2,  -999.00,9,     16.4,2,20230319,0551
33RO20230306  ,A16N       ,33      ,  1,330121     ,221        ,20230319,0412,   6.9690, -26.9860,     4377,     74.0,  17.6788,  35.7844,2,     -999,9,    110.8,2,    110.9,2,     4.80,2,    15.60,2,     0.31,2,     1.02,2,    2.168,2,    1.278,2,   1.4072,2,   2183.7,2,   2342.2,2,    730.3,2,       20,   7.7416,2,       25,  -999.00,9,      0.2,2,  -999.00,9,     23.0,2,20230319,0549
33RO20230306  ,A16N       ,33      ,  1,330120     ,220        ,20230319,0412,   6.9690, -26.9860,     4377,     97.5,  15.6741,  35.6032,2,     -999,9,     98.0,2,    102.3,2,     6.10,2,    19.70,2,     0.08,2,     1.30,2,    2.289,2,    1.332,2,   1.2561,2,   2196.0,2,   2331.5,2,    838.9,2,       20,   7.6875,2,       25,  -999.00,9,      0.2,2,  -999.00,9,     25.6,2,20230319,0548
33RO20230306  ,A16N       ,33      ,  1,330119     ,219        ,20230319,0412,   6.9690, -26.9860,     4377,    113.4,  14.7994,  35.5179,2,     -999,9,     97.3,2,    101.7,2,     6.70,2,    20.80,2,     0.04,2,     1.37,2,    2.349,2,    1.368,2,   1.3323,2,   2197.9,2,   2327.2,2,    872.9,2,       20,   7.6719,2,       25,  -999.00,9,      0.2,2,  -999.00,9,     27.7,2,20230319,0546
33RO20230306  ,A16N       ,33      ,  1,330118     ,218        ,20230319,0412,   6.9690, -26.9860,     4377,    150.7,  13.7800,  35.3989,2,     -999,9,    118.8,2,    123.9,2,     7.20,2,    19.80,2,     0.03,2,     1.34,2,    2.377,2,    1.367,2,   1.2250,2,   2188.0,2,   2325.6,2,    826.9,2,       20,   7.6924,2,       25,  -999.00,9,      0.3,2,  -999.00,9,     23.8,2,20230319,0544
33RO20230306  ,A16N       ,33      ,  1,330117     ,217        ,20230319,0412,   6.9690, -26.9860,     4377,    207.3,  12.9684,  35.2857,2,     -999,9,    107.7,2,    115.4,2,     8.30,2,    22.00,2,     0.02,2,     1.48,2,    2.335,2,    1.336,2,   1.1053,2,   2196.5,2,   2316.9,2,    906.9,2,       20,   7.6567,2,       25,  -999.00,9,      0.3,2,  -999.00,9,     26.0,2,20230319,0542
33RO20230306  ,A16N       ,33      ,  1,330116     ,216        ,20230319,0412,   6.9690, -26.9860,     4377,    268.4,  12.1877,  35.2091,2,     -999,9,     98.4,2,     92.2,2,    10.00,2,    25.60,2,     0.02,2,     1.65,2,    2.185,2,    1.228,2,   0.7948,2,   2213.6,2,   2312.8,2,   1047.1,6,       20,   7.5986,2,       25,  -999.00,9,      0.1,2,  -999.00,9,     30.4,2,20230319,0540
33RO20230306  ,A16N       ,33      ,  1,330115     ,215        ,20230319,0412,   6.9690, -26.9860,     4377,    315.1,  11.6457,  35.1922,2,     -999,9,     62.1,2,     64.6,2,    11.50,2,    29.70,2,     0.02,2,     1.86,2,    1.889,2,    1.067,2,   0.7278,2,   2231.4,2,   2310.1,2,   -999.0,9,       20,   7.5343,2,       25,  -999.00,9,      0.1,2,  -999.00,9,     34.8,2,20230319,0539
33RO20230306  ,A16N       ,33      ,  1,330114     ,214        ,20230319,0412,   6.9690, -26.9860,     4377,    382.4,  10.6508,  35.1160,2,     -999,9,     39.6,2,     43.1,2,    14.10,2,    34.10,2,     0.02,2,     2.09,2,    1.397,2,    0.782,2,   0.4253,2,   2251.3,6,   2302.8,2,   1458.1,2,       20,   7.4692,2,       25,  -999.00,9,     -0.0,6,  -999.00,9,     38.8,2,20230319,0536
33RO20230306  ,A16N       ,33      ,  1,330113     ,213        ,20230319,0412,   6.9690, -26.9860,     4377,    500.5,   8.6884,  34.9360,2,     -999,9,     46.7,2,     52.8,2,    18.50,2,    36.90,2,     0.01,2,     2.32,2,    0.748,2,    0.423,2,   0.2559,2,   2253.7,2,   2302.7,2,   1530.5,2,       20,   7.4511,2,       25,  -999.00,9,      0.2,2,  -999.00,9,     35.0,2,20230319,0533
33RO20230306  ,A16N       ,33      ,  1,330112     ,212        ,20230319,0412,   6.9690, -26.9860,     4377,    646.5,   6.7869,  34.7349,2,     -999,9,     81.6,2,     89.9,2,    23.30,2,    36.70,2,     0.01,2,     2.39,2,    0.359,2,    0.202,2,   0.1296,3,   2239.3,2,   2298.4,2,   1404.7,2,       20,   7.4818,2,       25,  -999.00,9,      0.3,2,  -999.00,9,     29.7,2,20230319,0530
33RO20230306  ,A16N       ,33      ,  1,330111     ,211        ,20230319,0412,   6.9690, -26.9860,     4377,    802.1,   5.5578,  34.6467,2,     -999,9,    111.0,2,    117.7,2,    27.50,2,    35.40,2,     0.02,2,     2.38,2,    0.158,2,    0.085,2,   0.0194,2,   2232.6,2,   2299.4,2,   1296.5,2,       20,   7.5141,2,       25,  -999.00,9,      0.5,2,  -999.00,9,     26.0,2,20230319,0526
33RO20230306  ,A16N       ,33      ,  1,330110     ,210        ,20230319,0412,   6.9690, -26.9860,     4377,    923.9,   5.1231,  34.6707,2,     -999,9,    127.3,2,    134.3,2,    28.40,2,    33.80,2,     0.01,2,     2.29,2,    0.097,2,    0.055,2,   0.0000,3,   2225.3,2,   2302.5,2,   1208.0,2,       20,   7.5414,2,       25,  -999.00,9,      0.6,2,  -999.00,9,     24.2,2,20230319,0523
33RO20230306  ,A16N       ,33      ,  1,330109     ,209        ,20230319,0412,   6.9690, -26.9860,     4377,   1051.4,   4.9577,  34.7551,2,     -999,9,    140.8,2,    151.9,2,    27.30,2,    31.70,2,     0.02,2,     2.16,2,    0.073,2,    0.041,2,   0.0000,3,   2218.7,2,   2305.4,2,   1123.3,2,       20,   7.5691,2,       25,  -999.00,9,      0.6,2,  -999.00,9,     22.7,2,20230319,0519
33RO20230306  ,A16N       ,33      ,  1,330108     ,208        ,20230319,0412,   6.9690, -26.9860,     4377,   1301.1,   4.7047,  34.9211,2,     -999,9,    181.5,2,    187.8,2,    21.60,2,    25.20,2,     0.02,2,     1.73,2,    0.286,2,    0.155,2,   0.0000,3,   2191.5,2,   2310.2,2,    910.0,2,       20,   7.6507,2,       25,  -999.00,9,      0.8,2,  -999.00,9,     18.3,2,20230319,0514
33RO20230306  ,A16N       ,33      ,  1,330107     ,207        ,20230319,0412,   6.9690, -26.9860,     4377,   1602.3,   4.1834,  34.9777,2,     -999,9,    221.7,2,    235.5,2,    17.60,2,    20.50,2,     0.02,2,     1.40,2,    0.694,2,    0.359,2,   0.0000,3,   2174.2,2,   2310.8,2,    791.5,2,       20,   7.7018,2,       25,  -999.00,9,      0.9,2,  -999.00,9,     14.9,2,20230319,0508
33RO20230306  ,A16N       ,33      ,  1,330106     ,206        ,20230319,0412,   6.9690, -26.9860,     4377,   1990.6,   3.5338,  34.9593,2,     -999,9,    228.7,2,    244.4,2,    22.10,2,    20.30,2,     0.02,2,     1.39,2,    0.249,2,    0.129,2,   0.0000,3,   2171.6,2,   2314.4,2,    765.4,2,       20,   7.7165,2,       25,  -999.00,9,      1.0,2,  -999.00,9,     14.1,2,20230319,0500
33RO20230306  ,A16N       ,33      ,  1,330105     ,205        ,20230319,0412,   6.9690, -26.9860,     4377,   2399.7,   3.0628,  34.9388,2,     -999,9,    229.0,2,    246.4,2,    28.70,2,    20.60,2,     0.02,2,     1.41,2,    0.091,2,    0.049,2,   0.0000,3,   2176.2,2,   2322.8,2,    761.7,2,       20,   7.7205,2,       25,  -999.00,9,      0.8,2,  -999.00,9,     14.0,2,20230319,0451
33RO20230306  ,A16N       ,33      ,  1,330104     ,204        ,20230319,0412,   6.9690, -26.9860,     4377,   2898.3,   2.7454,  34.9188,2,     -999,9,    226.8,2,    246.2,2,    34.90,2,    21.00,2,     0.02,2,     1.45,2,    0.053,6,    0.033,6,   0.0000,3,   2183.2,2,   2328.6,2,    775.6,2,       20,   7.7193,2,       25,  -999.00,9,      1.0,2,  -999.00,9,     14.4,6,20230319,0442
33RO20230306  ,A16N       ,33      ,  1,330103     ,203        ,20230319,0412,   6.9690, -26.9860,     4377,   3500.0,   2.5021,  34.9006,2,     -999,9,    227.4,2,    248.2,2,    39.40,2,    21.20,2,     0.01,2,     1.46,2,    0.096,2,    0.052,2,   0.0000,3,   2185.6,2,   2332.3,2,    768.7,2,       20,   7.7192,2,       25,  -999.00,9,      1.0,2,  -999.00,9,     14.3,2,20230319,0430
33RO20230306  ,A16N       ,33      ,  1,330102     ,202        ,20230319,0412,   6.9690, -26.9860,     4377,   4001.6,   2.3330,  34.8844,2,     -999,9,    226.4,2,    247.9,2,    43.80,2,    21.40,2,     0.02,2,     1.48,2,    0.174,2,    0.091,2,   0.0000,3,   2193.2,2,   2337.1,2,    776.1,2,       20,   7.7155,2,       25,  -999.00,9,      0.9,2,  -999.00,9,     14.7,2,20230319,0420
33RO20230306  ,A16N       ,33      ,  1,330101     ,201        ,20230319,0412,   6.9690, -26.9860,     4377,   4434.6,   2.3248,  34.8799,2,     -999,9,    221.6,2,    246.5,2,    46.40,2,    21.90,2,     0.01,2,     1.50,2,    0.134,2,    0.073,2,   0.0000,3,   2198.5,6,   2342.9,2,    778.4,2,       20,   7.7170,2,       25,  -999.00,9,      0.8,6,  -999.00,9,     15.2,2,20230319,0412