BOTTLE,20240601CCHHYDRO
EXPOCODE,SECT_ID,STNNBR,CASTNO,SAMPNO,BTLNBR,DATE,TIME,LATITUDE,LONGITUDE,DEPTH,CTDPRS,CTDTMP,CTDSAL,CTDSAL_FLAG_W,SALNTY,SALNTY_FLAG_W,CTDOXY,CTDOXY_FLAG_W,OXYGEN,OXYGEN_FLAG_W,SILCAT,SILCAT_FLAG_W,NITRAT,NITRAT_FLAG_W,NITRIT,NITRIT_FLAG_W,PHSPHT,PHSPHT_FLAG_W,CFC-11,CFC-11_FLAG_W,CFC-12,CFC-12_FLAG_W,SF6,SF6_FLAG_W,TCARBN,TCARBN_FLAG_W,ALKALI,ALKALI_FLAG_W,FCO2,FCO2_FLAG_W,FCO2TMP,PH_TOT,PH_TOT_FLAG_W,PH_TMP,DOC,DOC_FLAG_W,DELC13,DELC13_FLAG_W,TDN,TDN_FLAG_W,N2O,N2O_FLAG_W,BTL_DATE,BTL_TIME
,,,,,,,,,,METERS,DBAR,ITS-90,PSS-78,,PSS-78,,UMOL/KG,,UMOL/KG,,UMOL/KG,,UMOL/KG,,UMOL/KG,,UMOL/KG,,PMOL/KG,,PMOL/KG,,FMOL/KG,,UMOL/KG,,UMOL/KG,,UATM,,DEG C,,,DEG C,UMOL/KG,,/MILLE,,UMOL/KG,,NMOL/KG,,,
33RO20230306  ,A16N       ,54      ,  2,540224     ,224        ,20230325,1429,  17.5031, -29.0027,     4592,      3.0,  23.2656,  36.5429,2,  36.5459,2,    200.1,2,    215.0,2,     0.60,2,     0.00,2,     0.01,2,     0.07,2,    1.747,2,    1.114,2,   1.9418,2,   2086.0,2,   2390.0,2,    349.9,2,       20,   8.0189,2,       25,    68.24,2,      1.1,2,     4.56,2,      6.9,2,20230325,1611
33RO20230306  ,A16N       ,54      ,  2,540223     ,223        ,20230325,1429,  17.5031, -29.0027,     4592,     15.4,  23.0349,  36.5716,2,  36.5916,2,    200.7,2,    213.5,2,     0.60,2,     0.00,2,     0.01,2,     0.07,2,    1.757,2,    1.099,2,   2.0190,2,   2089.6,6,   2394.6,2,    351.1,2,       20,   8.0168,2,       25,    68.60,2,      1.3,2,     3.97,2,      6.6,2,20230325,1610
33RO20230306  ,A16N       ,54      ,  2,540222     ,222        ,20230325,1429,  17.5031, -29.0027,     4592,     35.8,  22.3563,  36.7142,2,  36.7300,2,    205.3,2,    234.1,2,     0.50,2,     0.00,2,     0.01,2,     0.12,2,    1.797,2,    1.141,2,   2.0020,2,   2099.2,2,   2400.7,2,    360.8,2,       20,   8.0078,2,       25,    67.10,2,      1.1,2,     4.25,2,      7.2,2,20230325,1608
33RO20230306  ,A16N       ,54      ,  2,540221     ,221        ,20230325,1429,  17.5031, -29.0027,     4592,     64.5,  21.3075,  36.6589,2,  36.6681,2,    182.0,2,    183.0,2,     0.90,2,     3.20,2,     0.25,2,     0.35,2,    1.864,2,    1.160,2,   1.9291,2,   2131.9,2,   2393.9,2,    430.1,2,       20,   7.9424,2,       25,    59.97,2,      0.9,2,     6.68,2,      9.8,2,20230325,1606
33RO20230306  ,A16N       ,54      ,  2,540220     ,220        ,20230325,1429,  17.5031, -29.0027,     4592,     87.0,  19.7203,  36.7914,2,  36.8096,2,    160.2,2,    171.1,2,     1.60,2,     6.10,2,     0.05,2,     0.42,2,    2.012,2,    1.238,2,   1.9964,2,   2169.4,2,   2400.4,2,    505.0,2,       20,   7.8866,2,       25,    49.43,2,      0.3,2,    10.39,2,     11.1,2,20230325,1605
33RO20230306  ,A16N       ,54      ,  2,540219     ,219        ,20230325,1429,  17.5031, -29.0027,     4592,    111.4,  18.9540,  36.6850,2,  36.6834,2,    157.2,2,    165.4,2,     2.00,2,     7.40,2,     0.04,2,     0.51,2,    2.082,2,    1.272,2,   1.8972,2,   2172.1,2,   2393.8,2,    528.5,2,       20,   7.8709,2,       25,    52.79,2,      0.5,2,    10.23,2,     12.1,2,20230325,1603
33RO20230306  ,A16N       ,54      ,  2,540218     ,218        ,20230325,1429,  17.5031, -29.0027,     4592,    185.5,  15.8924,  36.0431,2,  36.0398,2,    102.5,2,    109.0,2,     5.20,2,    17.70,2,     0.02,2,     1.11,2,    2.200,2,    1.304,2,   1.5100,2,   2208.4,2,   2354.2,2,    786.1,2,       20,   7.7183,2,       25,    46.89,2,      0.2,6,    20.47,2,     22.3,2,20230325,1600
33RO20230306  ,A16N       ,54      ,  2,540217     ,217        ,20230325,1429,  17.5031, -29.0027,     4592,    265.8,  13.1195,  35.5484,2,  35.5587,2,     62.9,2,     66.3,2,     9.20,2,    26.50,2,     0.02,2,     1.62,2,     -999,9,     -999,9,     -999,9,   2233.7,2,   2325.7,2,   1107.2,2,       20,   7.5817,2,       25,    46.52,2,     -0.1,2,    29.43,2,     -999,9,20230325,1558
33RO20230306  ,A16N       ,54      ,  2,540216     ,216        ,20230325,1429,  17.5031, -29.0027,     4592,    369.4,  11.9000,  35.4709,2,  35.4742,2,     65.0,2,     69.2,2,    10.90,2,    28.30,2,     0.02,2,     1.71,2,    1.707,2,    0.964,2,   0.7644,2,   2235.8,6,   2323.4,2,   1138.0,2,       20,   7.5701,2,       25,    43.23,2,      0.1,2,    30.28,2,     29.8,2,20230325,1556
33RO20230306  ,A16N       ,54      ,  2,540215     ,215        ,20230325,1429,  17.5031, -29.0027,     4592,    449.5,  10.2763,  35.2613,2,  35.2583,2,     74.6,2,     76.1,2,    14.10,2,    30.60,2,     0.01,2,     1.90,2,    1.216,2,    0.682,2,   0.3226,2,   2236.7,2,   2314.2,2,   1181.3,2,       20,   7.5545,2,       25,    42.84,2,      0.3,2,    33.46,2,     29.2,2,20230325,1553
33RO20230306  ,A16N       ,54      ,  2,540214     ,214        ,20230325,1429,  17.5031, -29.0027,     4592,    574.6,   8.3870,  34.9993,2,  34.9996,2,     79.9,2,     86.0,2,    18.70,2,    33.30,2,     0.01,2,     2.13,2,    0.667,2,    0.364,2,   0.2002,2,   2235.4,2,   2306.2,2,   1249.2,2,       20,   7.5312,2,       25,    41.69,2,      0.4,2,    37.52,2,     27.8,2,20230325,1550
33RO20230306  ,A16N       ,54      ,  2,540213     ,213        ,20230325,1429,  17.5031, -29.0027,     4592,    727.5,   7.2589,  34.9143,2,  34.9208,2,     90.5,2,     98.0,2,    21.80,2,    33.80,2,     0.01,2,     2.21,2,    0.302,6,    0.169,6,   0.0902,6,   2231.6,2,   2305.4,2,   1239.8,2,       20,   7.5323,2,       25,    40.95,2,      0.4,2,    37.50,2,     26.5,6,20230325,1547
33RO20230306  ,A16N       ,54      ,  2,540212     ,212        ,20230325,1429,  17.5031, -29.0027,     4592,    901.5,   6.5154,  34.9058,2,  34.9062,2,    103.1,2,    111.3,2,    23.40,2,    32.90,2,     0.01,2,     2.19,2,    0.132,2,    0.074,2,   0.1085,2,   2231.8,2,   2307.3,2,   1193.5,2,       20,   7.5475,2,       25,    41.00,2,      0.7,2,    36.30,2,     25.3,2,20230325,1543
33RO20230306  ,A16N       ,54      ,  2,540211     ,211        ,20230325,1429,  17.5031, -29.0027,     4592,   1049.4,   5.9573,  34.9320,2,  34.9396,6,    125.7,2,    136.0,2,    23.50,2,    30.60,2,     0.01,2,     2.06,2,    0.079,2,    0.045,2,   0.0619,2,   2219.7,2,   2310.9,2,   1083.0,2,       20,   7.5848,2,       25,    40.87,2,      0.5,2,    33.36,2,     21.9,2,20230325,1539
33RO20230306  ,A16N       ,54      ,  2,540210     ,210        ,20230325,1429,  17.5031, -29.0027,     4592,   1232.5,   5.3894,  34.9908,2,  34.9944,2,    153.8,2,    166.2,2,    22.90,2,    27.20,2,     0.01,2,     1.84,2,    0.065,2,    0.037,2,   0.0567,2,   2208.5,2,   2314.1,2,    959.5,2,       20,   7.6320,2,       25,    40.77,2,      0.8,2,    29.13,2,     19.0,2,20230325,1536
33RO20230306  ,A16N       ,54      ,  2,540209     ,209        ,20230325,1429,  17.5031, -29.0027,     4592,   1499.2,   4.5746,  35.0032,2,  35.0070,2,    184.2,2,    197.5,2,    22.70,2,    24.10,2,     0.01,2,     1.65,2,    0.034,2,    0.019,2,   0.0000,2,   2195.0,2,   2315.6,6,    863.0,2,       20,   7.6714,6,       25,    41.19,2,      0.7,2,    25.29,2,     16.7,2,20230325,1530
33RO20230306  ,A16N       ,54      ,  2,540208     ,208        ,20230325,1429,  17.5031, -29.0027,     4592,   1849.8,   3.9276,  34.9897,2,  35.0012,2,    207.0,2,    224.6,2,    23.10,2,    22.00,2,     0.01,2,     1.52,2,    0.030,2,    0.019,2,   0.0812,3,   2183.4,2,   2315.3,2,    798.0,6,       20,   7.7028,2,       25,    41.28,2,      1.0,2,    22.95,2,     14.6,2,20230325,1523
33RO20230306  ,A16N       ,54      ,  2,540207     ,207        ,20230325,1429,  17.5031, -29.0027,     4592,   2221.9,   3.4301,  34.9686,2,  34.9855,2,    217.9,2,    237.5,2,    26.10,2,    21.10,2,     0.01,2,     1.47,2,    0.023,2,    0.013,2,   0.0000,2,   2181.8,2,   2321.0,2,    769.8,2,       20,   7.7163,2,       25,    40.49,2,      1.0,2,    20.45,2,     13.9,2,20230325,1516
33RO20230306  ,A16N       ,54      ,  2,540206     ,206        ,20230325,1429,  17.5031, -29.0027,     4592,   2600.1,   3.0636,  34.9499,2,  34.9383,2,    221.8,2,    243.1,2,    30.50,2,    20.90,2,     0.01,2,     1.46,2,    0.014,2,    0.009,2,   0.0802,2,   2181.8,2,   2324.1,2,    759.2,2,       20,   7.7225,2,       25,    40.86,2,      1.1,2,    18.34,2,     13.9,2,20230325,1509
33RO20230306  ,A16N       ,54      ,  2,540205     ,205        ,20230325,1429,  17.5031, -29.0027,     4592,   3099.0,   2.7288,  34.9293,2,  34.9314,2,    221.6,2,    243.9,2,    36.70,2,    21.20,2,     0.01,2,     1.49,2,    0.011,2,    0.006,2,   0.0694,2,   2188.7,2,   2332.7,6,    757.7,2,       20,   7.7212,6,       25,    41.00,2,      0.9,2,    18.70,2,     13.8,2,20230325,1459
33RO20230306  ,A16N       ,54      ,  2,540204     ,204        ,20230325,1429,  17.5031, -29.0027,     4592,   3649.3,   2.4821,  34.9065,2,  34.9134,2,    216.8,2,    241.0,2,    43.70,2,    22.00,2,     0.00,2,     1.51,2,    0.010,2,    0.006,2,   0.0000,2,   2202.0,2,   2344.7,2,    767.0,2,       20,   7.7220,2,       25,    40.55,2,      0.9,2,    21.43,2,     13.9,2,20230325,1449
33RO20230306  ,A16N       ,54      ,  2,540203     ,203        ,20230325,1429,  17.5031, -29.0027,     4592,   4000.5,   2.3704,  34.8925,2,     -999,9,    216.1,2,     -999,9,     -999,9,     -999,9,     -999,9,     -999,9,     -999,9,     -999,9,     -999,9,     -999,9,     -999,9,   -999.0,9,       20,     -999,9,       25,  -999.00,9,   -999.0,9,  -999.00,9,     -999,9,20230325,1442
33RO20230306  ,A16N       ,54      ,  2,540202     ,202        ,20230325,1429,  17.5031, -29.0027,     4592,   4447.8,   2.3683,  34.8868,2,  34.8919,2,    215.2,2,    240.8,2,    48.10,2,    22.40,2,     0.01,2,     1.55,2,    0.012,2,    0.008,2,   0.0000,2,   2210.1,2,   2348.2,2,    769.7,2,       20,   7.7205,2,       25,    41.91,2,      0.9,2,    19.37,2,     14.7,2,20230325,1434
33RO20230306  ,A16N       ,54      ,  2,540201     ,201        ,20230325,1429,  17.5031, -29.0027,     4592,   4657.9,   2.3480,  34.8814,2,  34.8891,2,    212.7,2,    238.7,2,    49.90,2,    22.80,2,     0.01,2,     1.56,2,    0.026,2,    0.013,2,   0.0322,2,   2213.0,2,   2335.3,4,    780.3,2,       20,   7.7183,2,       25,    41.68,2,      0.9,6,    18.50,2,     15.4,2,20230325,1429
33RO20230306  ,A16N       ,55      ,  1,550124     ,224        ,20230325,2036,  18.0036, -29.0019,     4574,      3.2,  23.1526,  36.4026,2,  36.4113,2,    200.3,2,    214.5,2,     0.60,2,     0.00,2,     0.00,2,     0.07,2,    1.752,2,    1.102,2,   1.9271,2,   2075.3,6,   2382.5,2,    347.8,2,       20,   8.0221,2,       25,    73.25,2,      1.1,6,     4.96,2,      6.7,2,20230325,2219
33RO20230306  ,A16N       ,55      ,  1,550123     ,223        ,20230325,2036,  18.0036, -29.0019,     4574,     30.3,  22.8959,  36.7440,2,  36.7461,2,    201.2,2,    215.6,2,     0.50,2,     0.00,2,     0.00,2,     0.08,2,    1.762,2,    1.109,2,   2.0059,2,   2094.4,2,   2403.4,2,    355.3,2,       20,   8.0164,2,       25,  -999.00,9,      1.2,2,  -999.00,9,      6.7,2,20230325,2218
33RO20230306  ,A16N       ,55      ,  1,550122     ,222        ,20230325,2036,  18.0036, -29.0019,     4574,     55.6,  22.6534,  36.8042,2,  36.8159,2,    201.1,2,    215.4,2,     0.50,2,     0.00,2,     0.00,2,     0.08,2,    1.773,2,    1.113,2,   1.8656,2,   2096.2,2,   2405.6,2,    358.3,2,       20,   8.0144,2,       25,  -999.00,9,      1.2,2,  -999.00,9,      6.9,2,20230325,2216
33RO20230306  ,A16N       ,55      ,  1,550121     ,221        ,20230325,2036,  18.0036, -29.0019,     4574,     96.2,  21.3056,  36.9045,2,  36.9023,2,    175.0,2,    186.2,2,     1.00,2,     2.10,2,     0.14,2,     0.28,2,    1.911,2,    1.187,2,   2.0147,2,   2145.9,2,   2409.4,2,    440.7,2,       20,   7.9393,2,       25,  -999.00,9,      0.7,2,  -999.00,9,      9.3,2,20230325,2214
33RO20230306  ,A16N       ,55      ,  1,550120     ,220        ,20230325,2036,  18.0036, -29.0019,     4574,    120.6,  19.1072,  36.6511,2,  36.6458,2,    150.0,2,    158.2,2,     2.10,2,     7.90,2,     0.03,2,     0.57,2,    2.086,2,    1.252,2,   1.8585,2,   2176.7,2,   2390.4,2,    555.7,2,       20,   7.8521,2,       25,  -999.00,9,      0.2,2,  -999.00,9,     13.0,2,20230325,2212
33RO20230306  ,A16N       ,55      ,  1,550119     ,219        ,20230325,2036,  18.0036, -29.0019,     4574,    145.5,  17.5732,  36.3874,2,  36.3736,6,    130.3,2,    137.0,2,     3.20,2,    11.70,2,     0.01,2,     0.77,2,    2.165,2,    1.293,2,   1.7307,2,   2183.8,2,   2372.0,2,    632.4,6,       20,   7.8017,2,       25,  -999.00,9,      0.2,2,  -999.00,9,     17.6,2,20230325,2211
33RO20230306  ,A16N       ,55      ,  1,550118     ,218        ,20230325,2036,  18.0036, -29.0019,     4574,    200.0,  15.5400,  36.0208,2,  36.0196,2,    104.9,2,    112.9,2,     5.20,2,    16.90,2,     0.01,2,     1.06,2,    2.225,2,    1.296,2,   1.1700,2,   2202.9,2,   2352.3,2,    769.9,2,       20,   7.7261,2,       25,  -999.00,9,      0.1,2,  -999.00,9,     23.3,2,20230325,2209
33RO20230306  ,A16N       ,55      ,  1,550117     ,217        ,20230325,2036,  18.0036, -29.0019,     4574,    289.1,  13.6098,  35.7025,2,  35.7120,2,     78.6,2,     86.6,2,     7.90,2,    22.70,2,     0.00,2,     1.39,2,     -999,9,     -999,9,     -999,9,   2216.8,2,   2333.0,6,    958.3,2,       20,   7.6397,6,       25,  -999.00,9,      0.0,2,  -999.00,9,     -999,9,20230325,2206
33RO20230306  ,A16N       ,55      ,  1,550116     ,216        ,20230325,2036,  18.0036, -29.0019,     4574,    360.6,  12.1769,  35.5047,2,  35.5025,2,     67.8,2,     71.8,2,    10.30,2,    27.00,2,     0.00,2,     1.64,2,    1.779,2,    1.011,2,   0.6891,2,   2229.2,2,   2323.5,2,   1102.2,2,       20,   7.5824,2,       25,  -999.00,9,      0.0,2,  -999.00,9,     30.3,2,20230325,2204
33RO20230306  ,A16N       ,55      ,  1,550115     ,215        ,20230325,2036,  18.0036, -29.0019,     4574,    459.6,  10.3697,  35.2587,2,  35.2492,2,     62.0,2,     69.6,2,    14.40,2,    31.00,2,     0.00,2,     1.91,2,    1.210,2,    0.681,2,   0.4023,2,   2235.9,6,   2313.4,2,   1223.9,2,       20,   7.5407,2,       25,  -999.00,9,      0.1,2,  -999.00,9,     31.0,2,20230325,2201
33RO20230306  ,A16N       ,55      ,  1,550114     ,214        ,20230325,2036,  18.0036, -29.0019,     4574,    550.2,   8.8983,  35.0611,2,  35.0595,2,     72.6,2,     77.4,2,    17.70,2,    32.80,2,     0.00,2,     2.08,2,    0.774,2,    0.428,2,   0.2241,2,   2235.1,2,   2308.7,2,   1263.6,2,       20,   7.5263,2,       25,  -999.00,9,      0.2,2,  -999.00,9,     28.9,2,20230325,2159
33RO20230306  ,A16N       ,55      ,  1,550113     ,213        ,20230325,2036,  18.0036, -29.0019,     4574,    711.7,   7.6946,  34.9473,2,  34.9554,2,     87.3,2,     88.5,2,    20.90,2,    33.80,2,     0.00,2,     2.18,2,    0.395,2,    0.220,2,   0.1364,2,   2233.7,2,   2304.2,2,   1274.2,2,       20,   7.5237,2,       25,  -999.00,9,      0.3,2,  -999.00,9,     28.4,2,20230325,2155
33RO20230306  ,A16N       ,55      ,  1,550112     ,212        ,20230325,2036,  18.0036, -29.0019,     4574,    876.7,   6.7642,  34.8989,2,  34.9007,2,     97.5,2,    106.2,2,    23.20,2,    33.20,2,     0.00,2,     2.19,2,    0.169,2,    0.094,2,   0.1045,2,   2230.7,2,   2305.8,2,   1222.3,2,       20,   7.5400,2,       25,  -999.00,9,      0.4,2,  -999.00,9,     25.9,2,20230325,2151
33RO20230306  ,A16N       ,55      ,  1,550111     ,211        ,20230325,2036,  18.0036, -29.0019,     4574,   1009.9,   6.1854,  34.9217,2,  34.9260,2,    117.0,2,    123.9,2,    23.70,2,    31.20,2,     0.00,2,     2.08,2,    0.094,2,    0.051,2,   0.0000,2,   2223.1,2,   2308.6,2,   1124.1,2,       20,   7.5699,2,       25,  -999.00,9,      0.5,2,  -999.00,9,     24.6,2,20230325,2148
33RO20230306  ,A16N       ,55      ,  1,550110     ,210        ,20230325,2036,  18.0036, -29.0019,     4574,   1175.4,   5.5870,  34.9777,2,  34.9899,2,    144.4,2,    156.7,2,    23.00,2,    27.80,2,     0.00,2,     1.88,2,    0.066,2,    0.037,2,   0.0811,2,   2210.2,2,   2306.2,2,    995.6,2,       20,   7.6187,2,       25,  -999.00,9,      0.7,2,  -999.00,9,     20.8,2,20230325,2144
33RO20230306  ,A16N       ,55      ,  1,550109     ,209        ,20230325,2036,  18.0036, -29.0019,     4574,   1399.9,   4.8482,  35.0058,2,  35.0136,2,    174.1,2,    189.1,2,    22.70,2,    24.50,2,     0.00,2,     1.69,2,    0.038,2,    0.020,2,   0.0000,2,   2196.0,2,   2316.1,2,    891.1,2,       20,   7.6619,2,       25,  -999.00,9,      0.8,2,  -999.00,9,     18.1,2,20230325,2139
33RO20230306  ,A16N       ,55      ,  1,550108     ,208        ,20230325,2036,  18.0036, -29.0019,     4574,   1741.1,   4.0769,  34.9943,2,  35.0025,2,    201.7,2,    219.6,2,    23.00,2,    21.90,2,     0.00,2,     1.53,2,    0.028,2,    0.014,2,   0.0000,2,   2184.3,2,   2318.4,2,    810.6,2,       20,   7.6960,2,       25,  -999.00,9,      0.9,2,  -999.00,9,     15.6,2,20230325,2132
33RO20230306  ,A16N       ,55      ,  1,550107     ,207        ,20230325,2036,  18.0036, -29.0019,     4574,   2001.0,   3.7093,  34.9811,2,  34.9825,6,    211.6,2,    231.3,2,    24.00,2,    20.90,2,     0.00,2,     1.45,2,    0.027,2,    0.016,2,   0.0000,2,   2180.0,2,   2317.3,6,    783.4,2,       20,   7.7109,6,       25,  -999.00,9,      1.1,2,  -999.00,9,     14.9,2,20230325,2126
33RO20230306  ,A16N       ,55      ,  1,550106     ,206        ,20230325,2036,  18.0036, -29.0019,     4574,   2517.5,   3.1775,  34.9569,2,  34.9684,2,    220.5,2,    242.4,2,    29.40,2,    20.30,2,     0.00,2,     1.43,2,    0.017,2,    0.008,2,   0.0445,2,   2177.5,2,   2324.4,2,    762.8,2,       20,   7.7212,2,       25,  -999.00,9,      0.9,2,  -999.00,9,     13.8,2,20230325,2116
33RO20230306  ,A16N       ,55      ,  1,550105     ,205        ,20230325,2036,  18.0036, -29.0019,     4574,   2997.6,   2.8301,  34.9363,2,  34.9373,2,    220.9,2,    242.8,2,    35.20,2,    20.60,2,     0.00,2,     1.46,2,    0.008,6,    0.005,6,   0.0000,6,   2185.2,2,   2330.9,2,    759.3,2,       20,   7.7239,2,       25,  -999.00,9,      1.0,2,  -999.00,9,     14.4,6,20230325,2107
33RO20230306  ,A16N       ,55      ,  1,550104     ,204        ,20230325,2036,  18.0036, -29.0019,     4574,   3448.9,   2.5539,  34.9144,2,  34.9224,2,    217.6,2,    241.2,2,    41.70,6,    21.30,6,     0.00,6,     1.49,6,    0.009,2,    0.006,2,   0.0496,2,   2195.2,2,   2344.7,2,   -999.0,9,       20,   7.7221,2,       25,  -999.00,9,      0.9,2,  -999.00,9,     14.2,2,20230325,2059
33RO20230306  ,A16N       ,55      ,  1,550103     ,203        ,20230325,2036,  18.0036, -29.0019,     4574,   3851.4,   2.3953,  34.8967,2,  34.9004,2,    216.4,2,    241.3,2,    46.00,6,    21.80,6,     0.00,6,     1.52,6,    0.013,2,    0.008,2,   0.0000,2,   2201.8,2,   2347.7,2,    766.8,2,       20,   7.7223,2,       25,  -999.00,9,      0.9,2,  -999.00,9,     15.0,2,20230325,2051
33RO20230306  ,A16N       ,55      ,  1,550102     ,202        ,20230325,2036,  18.0036, -29.0019,     4574,   4249.5,   2.3612,  34.8887,2,  34.8916,2,    215.6,2,    240.8,2,    47.70,6,    21.90,6,     0.00,6,     1.52,6,    0.010,2,    0.007,2,   0.0000,2,   2204.2,6,   2348.5,2,    769.2,2,       20,   7.7221,2,       25,  -999.00,9,      0.9,2,  -999.00,9,     14.9,2,20230325,2043
33RO20230306  ,A16N       ,55      ,  1,550101     ,201        ,20230325,2036,  18.0036, -29.0019,     4574,   4627.4,   2.3773,  34.8854,2,  34.8885,2,    214.6,2,    241.4,2,    48.30,6,    21.90,6,     0.00,6,     1.55,6,    0.011,2,    0.006,2,   0.0000,2,   2207.9,2,   2350.7,2,    767.7,2,       20,   7.7259,2,       25,  -999.00,9,      0.9,6,  -999.00,9,     14.8,2,20230325,2036