BOTTLE,20240601CCHHYDRO
EXPOCODE,SECT_ID,STNNBR,CASTNO,SAMPNO,BTLNBR,DATE,TIME,LATITUDE,LONGITUDE,DEPTH,CTDPRS,CTDTMP,CTDSAL,CTDSAL_FLAG_W,SALNTY,SALNTY_FLAG_W,CTDOXY,CTDOXY_FLAG_W,OXYGEN,OXYGEN_FLAG_W,SILCAT,SILCAT_FLAG_W,NITRAT,NITRAT_FLAG_W,NITRIT,NITRIT_FLAG_W,PHSPHT,PHSPHT_FLAG_W,CFC-11,CFC-11_FLAG_W,CFC-12,CFC-12_FLAG_W,SF6,SF6_FLAG_W,TCARBN,TCARBN_FLAG_W,ALKALI,ALKALI_FLAG_W,FCO2,FCO2_FLAG_W,FCO2TMP,PH_TOT,PH_TOT_FLAG_W,PH_TMP,DOC,DOC_FLAG_W,DELC13,DELC13_FLAG_W,TDN,TDN_FLAG_W,N2O,N2O_FLAG_W,BTL_DATE,BTL_TIME
,,,,,,,,,,METERS,DBAR,ITS-90,PSS-78,,PSS-78,,UMOL/KG,,UMOL/KG,,UMOL/KG,,UMOL/KG,,UMOL/KG,,UMOL/KG,,PMOL/KG,,PMOL/KG,,FMOL/KG,,UMOL/KG,,UMOL/KG,,UATM,,DEG C,,,DEG C,UMOL/KG,,/MILLE,,UMOL/KG,,NMOL/KG,,,
33RO20230306  ,A16N       ,12      ,  1,120124     ,124        ,20230312,2241,  -1.3286, -24.9968,     4715,      3.4,  28.4202,  35.6487,2,  35.6490,2,    191.2,2,    199.2,2,     1.10,2,     0.00,2,     0.02,2,     0.06,2,    1.402,6,    0.924,6,   1.7707,6,   2016.6,6,   2331.1,2,    311.2,2,       20,   8.0500,2,       25,    69.77,2,      1.1,2,     4.52,2,      5.7,6,20230313,0032
33RO20230306  ,A16N       ,12      ,  1,120123     ,123        ,20230312,2241,  -1.3286, -24.9968,     4715,     19.0,  28.2882,  35.8215,2,  35.8593,2,    193.8,2,    203.0,2,     1.10,2,     0.00,2,     0.01,2,     0.07,2,    1.426,2,    0.932,2,   1.7853,2,   2033.1,2,   2347.6,2,    318.2,2,       20,   8.0451,2,       25,  -999.00,9,      1.1,2,  -999.00,9,      5.9,2,20230313,0030
33RO20230306  ,A16N       ,12      ,  1,120122     ,122        ,20230312,2241,  -1.3286, -24.9968,     4715,     50.7,  24.3957,  36.2553,2,  36.2633,2,    178.2,2,    182.3,2,     1.80,2,     0.10,2,     0.03,2,     0.26,2,    1.683,2,    1.074,2,   1.7178,2,   2104.3,2,   2377.1,2,    404.3,2,       20,   7.9643,2,       25,  -999.00,9,      0.8,2,  -999.00,9,      9.8,2,20230313,0028
33RO20230306  ,A16N       ,12      ,  1,120121     ,121        ,20230312,2241,  -1.3286, -24.9968,     4715,     74.6,  20.1530,  36.2405,2,  36.2152,2,    163.6,2,    165.8,2,     3.00,2,     6.30,2,     0.21,2,     0.63,2,    2.008,2,    1.243,2,   1.7029,2,   2147.6,2,   2372.5,2,    507.7,2,       20,   7.8816,2,       25,  -999.00,9,      0.7,2,  -999.00,9,     12.7,2,20230313,0026
33RO20230306  ,A16N       ,12      ,  1,120120     ,120        ,20230312,2241,  -1.3286, -24.9968,     4715,    101.0,  14.3759,  35.4521,2,  35.4498,2,    145.6,2,    149.2,2,     6.30,2,    15.60,2,     0.03,2,     1.12,2,    2.399,2,    1.410,2,   1.8183,2,   2168.6,2,   2326.7,2,    714.3,2,       20,   7.7487,2,       25,  -999.00,9,      0.5,2,  -999.00,9,     19.2,2,20230313,0025
33RO20230306  ,A16N       ,12      ,  1,120119     ,119        ,20230312,2241,  -1.3286, -24.9968,     4715,    126.5,  13.8412,  35.3806,2,  35.3626,2,    131.9,2,    132.5,2,     7.30,2,    18.30,2,     0.02,2,     1.27,2,    2.378,2,    1.403,2,   1.3164,2,   2180.7,2,   2322.4,2,    792.3,2,       20,   7.7085,2,       25,  -999.00,9,      0.4,2,  -999.00,9,     22.4,2,20230313,0023
33RO20230306  ,A16N       ,12      ,  1,120118     ,118        ,20230312,2241,  -1.3286, -24.9968,     4715,    173.5,  13.7030,  35.3609,2,  35.3618,2,    126.0,2,    130.0,2,     7.60,2,    18.80,2,     0.02,2,     1.30,2,    2.372,2,    1.404,2,   1.3563,2,   2182.3,2,   2320.6,2,    809.3,2,       20,   7.7018,2,       25,  -999.00,9,      0.4,2,  -999.00,9,     23.1,2,20230313,0021
33RO20230306  ,A16N       ,12      ,  1,120117     ,117        ,20230312,2241,  -1.3286, -24.9968,     4715,    250.7,  12.4792,  35.2100,2,  35.2133,2,     85.3,2,     88.7,2,    10.20,2,    25.60,2,     0.01,2,     1.66,2,    2.203,2,    1.273,2,   0.9698,2,   2213.2,2,   2311.5,2,   1062.3,2,       20,   7.5968,2,       25,  -999.00,9,      0.2,2,  -999.00,9,     30.0,2,20230313,0019
33RO20230306  ,A16N       ,12      ,  1,120116     ,116        ,20230312,2241,  -1.3286, -24.9968,     4715,    325.9,  10.5305,  34.9765,2,  34.9843,2,     79.8,2,     85.2,2,    13.30,2,    29.80,2,     0.01,2,     1.89,2,    1.957,2,    1.097,2,   0.7129,2,   2223.1,6,   2301.1,2,   1220.5,2,       20,   7.5399,2,       25,  -999.00,9,      0.3,6,  -999.00,9,     32.0,2,20230313,0016
33RO20230306  ,A16N       ,12      ,  1,120115     ,115        ,20230312,2241,  -1.3286, -24.9968,     4715,    399.9,   8.1870,  34.7092,2,  34.7140,2,    120.7,2,    121.6,2,    17.40,2,    30.60,2,     0.01,2,     2.00,2,    1.866,2,    0.999,2,   0.5123,2,   2212.3,2,   2293.1,2,   1162.7,6,       20,   7.5550,2,       25,  -999.00,9,      0.4,2,  -999.00,9,     26.8,2,20230313,0013
33RO20230306  ,A16N       ,12      ,  1,120114     ,114        ,20230312,2241,  -1.3286, -24.9968,     4715,    500.8,   7.3861,  34.6372,2,  34.6418,2,    120.2,2,    126.1,2,    19.60,2,    31.80,2,     0.01,2,     2.10,2,    1.657,2,    0.873,2,   0.5024,2,   2213.4,2,   2290.3,2,   1188.9,2,       20,   7.5470,2,       25,  -999.00,9,      0.5,2,  -999.00,9,     26.1,2,20230313,0011
33RO20230306  ,A16N       ,12      ,  1,120113     ,113        ,20230312,2241,  -1.3286, -24.9968,     4715,    651.8,   5.7912,  34.5157,2,  34.5166,2,    138.4,2,    142.9,2,    25.90,2,    33.40,2,     0.01,2,     2.25,2,    1.134,2,    0.585,2,   0.3652,2,   2213.9,2,   2291.4,2,   1192.8,2,       20,   7.5457,2,       25,  -999.00,9,      0.7,2,  -999.00,9,     24.1,2,20230313,0007
33RO20230306  ,A16N       ,12      ,  1,120112     ,112        ,20230312,2241,  -1.3286, -24.9968,     4715,    799.8,   5.1526,  34.5099,2,  34.5017,2,    136.8,2,    143.2,2,    29.70,2,    34.30,2,     0.01,2,     2.33,2,    0.624,2,    0.322,2,   0.0835,2,   2221.0,2,   2293.4,2,   1212.7,2,       20,   7.5424,2,       25,  -999.00,9,      0.6,2,  -999.00,9,     24.0,2,20230313,0003
33RO20230306  ,A16N       ,12      ,  1,120111     ,111        ,20230312,2241,  -1.3286, -24.9968,     4715,    949.9,   4.7412,  34.5435,2,  34.5487,2,    143.1,2,    150.3,2,    31.80,2,    33.70,2,     0.01,2,     2.30,2,    0.365,2,    0.189,2,   0.1172,2,   2219.1,2,   2298.1,2,   1175.1,2,       20,   7.5491,2,       25,  -999.00,9,      0.7,2,  -999.00,9,     23.1,2,20230312,2359
33RO20230306  ,A16N       ,12      ,  1,120110     ,110        ,20230312,2241,  -1.3286, -24.9968,     4715,   1253.0,   4.5940,  34.8935,2,  34.8868,2,    187.7,2,    199.3,2,    22.50,2,    24.70,2,     0.01,2,     1.68,2,    0.456,2,    0.236,2,   0.1580,2,   2191.8,2,   2309.1,2,    902.5,2,       20,   7.6536,2,       25,  -999.00,9,      0.8,2,  -999.00,9,     17.3,2,20230312,2352
33RO20230306  ,A16N       ,12      ,  1,120109     ,109        ,20230312,2241,  -1.3286, -24.9968,     4715,   1551.9,   4.3723,  34.9549,2,  34.9568,2,    210.1,2,    224.6,2,    19.20,2,    21.60,2,     0.01,2,     1.48,2,    0.655,2,    0.333,2,   0.1709,2,   2179.5,2,   2311.3,2,    822.9,2,       20,   7.6874,2,       25,  -999.00,9,      0.9,2,  -999.00,9,     15.4,2,20230312,2346
33RO20230306  ,A16N       ,12      ,  1,120108     ,108        ,20230312,2241,  -1.3286, -24.9968,     4715,   1953.3,   3.5781,  34.9598,2,  34.9692,2,    232.4,2,    248.6,2,    21.10,2,    19.30,2,     0.01,2,     1.33,2,    0.552,2,    0.278,2,   0.1582,2,   2161.8,2,   2311.4,2,    760.3,2,       20,   7.7185,2,       25,  -999.00,9,      0.9,2,  -999.00,9,     13.6,2,20230312,2338
33RO20230306  ,A16N       ,12      ,  1,120107     ,107        ,20230312,2241,  -1.3286, -24.9968,     4715,   2352.5,   3.1413,  34.9391,2,  34.9229,2,    232.1,2,    249.6,2,    27.20,2,    19.70,2,     0.01,2,     1.36,2,    0.333,2,    0.172,2,   0.0906,2,   2174.8,2,   2317.3,2,    757.9,2,       20,   7.7193,2,       25,  -999.00,9,      1.1,2,  -999.00,9,     13.5,2,20230312,2330
33RO20230306  ,A16N       ,12      ,  1,120106     ,106        ,20230312,2241,  -1.3286, -24.9968,     4715,   2753.5,   2.7807,  34.9151,2,  34.9171,2,    226.9,2,    245.4,2,    35.60,2,    21.00,2,     0.01,2,     1.43,2,    0.141,2,    0.075,2,   0.0000,3,   2184.4,2,   2325.5,2,    770.4,2,       20,   7.7180,2,       25,  -999.00,9,      1.0,2,  -999.00,9,     13.8,2,20230312,2322
33RO20230306  ,A16N       ,12      ,  1,120105     ,105        ,20230312,2241,  -1.3286, -24.9968,     4715,   3200.5,   2.5637,  34.9016,2,  34.9051,2,    226.9,2,    250.1,2,    38.70,2,    20.90,2,     0.01,2,     1.45,2,    0.150,2,    0.080,2,   0.0000,3,   2184.3,2,   2330.2,2,    768.1,2,       20,   7.7169,2,       25,  -999.00,9,      1.0,2,  -999.00,9,     13.8,2,20230312,2313
33RO20230306  ,A16N       ,12      ,  1,120104     ,104        ,20230312,2241,  -1.3286, -24.9968,     4715,   3551.1,   2.4573,  34.9000,2,  34.9250,2,    234.9,2,    258.1,2,    33.60,6,    19.40,6,     0.01,6,     1.35,6,    0.460,2,    0.234,2,   0.1008,2,   2177.1,2,   2322.7,2,    755.7,2,       20,   7.7243,2,       25,  -999.00,9,      1.0,2,  -999.00,9,     13.5,2,20230312,2306
33RO20230306  ,A16N       ,12      ,  1,120103     ,103        ,20230312,2241,  -1.3286, -24.9968,     4715,   4000.3,   1.9895,  34.8510,2,  34.8591,6,    227.6,2,    251.2,2,    52.40,6,    21.90,6,     0.01,6,     1.52,6,    0.423,2,    0.223,2,   0.1037,2,   2195.8,2,   2334.0,2,   -999.0,9,       20,   7.7023,2,       25,  -999.00,9,      0.9,2,  -999.00,9,     14.4,2,20230312,2257
33RO20230306  ,A16N       ,12      ,  1,120102     ,102        ,20230312,2241,  -1.3286, -24.9968,     4715,   4350.6,   1.2156,  34.7643,2,  34.7365,2,    209.0,2,    234.1,2,    90.60,6,    27.50,6,     0.01,6,     1.92,6,    0.184,2,    0.104,2,   0.3200,3,   2235.8,2,   2357.0,2,    916.4,2,       20,   7.6543,2,       25,  -999.00,9,      0.7,2,  -999.00,9,     16.1,2,20230312,2250
33RO20230306  ,A16N       ,12      ,  1,120101     ,101        ,20230312,2241,  -1.3286, -24.9968,     4715,   4784.7,   0.8522,  34.7191,2,  34.6937,2,    199.2,2,    206.2,2,   109.40,6,    30.20,6,     0.01,6,     2.11,6,    0.168,2,    0.080,2,   0.1232,2,   2256.6,6,   2366.8,2,    973.8,2,       20,   7.6301,2,       25,  -999.00,9,      0.6,6,  -999.00,9,     17.1,2,20230312,2241
33RO20230306  ,A16N       ,13      ,  1,130124     ,124        ,20230313,0440,  -0.9979, -24.9976,     3060,      3.8,  28.2854,  35.7419,2,  35.7414,2,    190.5,2,    198.6,2,     1.10,2,     0.00,2,     0.01,2,     0.06,2,    1.407,2,    0.913,2,   1.6421,2,   2024.0,6,   2337.5,2,    313.9,2,       20,   8.0469,2,       25,    69.71,2,      1.2,6,     3.81,2,      5.8,2,20230313,0606
33RO20230306  ,A16N       ,13      ,  1,130123     ,123        ,20230313,0440,  -0.9979, -24.9976,     3060,     14.5,  28.2863,  35.7534,2,  35.7781,6,    190.7,2,    197.1,2,     1.10,2,     0.00,2,     0.01,2,     0.07,2,    1.415,2,    0.916,2,   1.6725,2,   2024.5,2,   2339.5,2,    315.3,2,       20,   8.0482,2,       25,    68.10,2,      1.2,2,     3.06,2,      5.9,2,20230313,0604
33RO20230306  ,A16N       ,13      ,  1,130122     ,122        ,20230313,0440,  -0.9979, -24.9976,     3060,     30.2,  27.0244,  36.2147,2,  36.1785,2,    195.5,2,    201.8,2,     1.10,2,     0.00,2,     0.02,2,     0.12,2,    1.208,2,    0.798,2,   1.4105,2,   2059.9,2,   2370.2,2,    338.6,2,       20,   8.0231,2,       25,    67.65,2,      1.3,2,     3.21,2,      5.0,2,20230313,0603
33RO20230306  ,A16N       ,13      ,  1,130121     ,121        ,20230313,0440,  -0.9979, -24.9976,     3060,     61.4,  24.1346,  36.5313,2,  36.4914,2,    178.5,2,    187.8,2,     1.50,2,     0.00,2,     0.02,2,     0.26,2,    1.689,2,    1.065,2,   1.7122,2,   2111.7,2,   2391.9,2,    393.1,2,       20,   7.9752,2,       25,    65.65,2,      1.0,2,     3.65,2,      9.1,2,20230313,0600
33RO20230306  ,A16N       ,13      ,  1,130120     ,120        ,20230313,0440,  -0.9979, -24.9976,     3060,     90.0,  18.6958,  36.0411,2,  36.0276,2,    157.8,2,    163.1,2,     3.50,2,     8.50,2,     0.15,2,     0.74,2,    2.125,6,    1.286,6,   1.5825,6,   2151.1,2,   2360.2,2,    545.0,2,       20,   7.8538,2,       25,    55.25,2,      0.7,2,    10.47,2,     14.0,6,20230313,0558
33RO20230306  ,A16N       ,13      ,  1,130119     ,119        ,20230313,0440,  -0.9979, -24.9976,     3060,    110.0,  14.6630,  35.4926,2,  35.4950,2,    147.5,2,    153.3,2,     6.10,2,    14.90,2,     0.04,2,     1.09,2,    2.399,2,    1.409,2,   1.6416,2,   2168.4,2,   2329.2,2,    692.3,2,       20,   7.7605,2,       25,    50.21,2,      0.5,2,    17.09,2,     18.7,2,20230313,0557
33RO20230306  ,A16N       ,13      ,  1,130118     ,118        ,20230313,0440,  -0.9979, -24.9976,     3060,    141.5,  13.9703,  35.3973,2,  35.3996,2,    134.9,2,    138.5,2,     7.00,2,    17.50,2,     0.02,2,     1.23,2,    2.379,2,    1.397,2,   1.5201,2,   2180.0,2,   2323.7,2,    766.6,2,       20,   7.7220,2,       25,    49.67,2,      0.4,2,    20.16,2,     21.2,2,20230313,0554
33RO20230306  ,A16N       ,13      ,  1,130117     ,117        ,20230313,0440,  -0.9979, -24.9976,     3060,    170.9,  13.7167,  35.3629,2,  35.3663,2,    125.5,2,    130.0,2,     7.50,2,    18.90,2,     0.02,2,     1.30,2,    2.361,2,    1.375,2,   1.3258,2,   2184.2,2,   2320.3,2,    810.5,2,       20,   7.7005,2,       25,    50.13,2,      0.4,2,    23.12,2,     23.0,2,20230313,0552
33RO20230306  ,A16N       ,13      ,  1,130116     ,116        ,20230313,0440,  -0.9979, -24.9976,     3060,    241.9,  12.8942,  35.2618,2,  35.2679,2,     94.6,2,     97.1,2,     9.50,2,    24.00,2,     0.02,2,     1.59,2,    2.249,2,    1.297,2,   1.0584,2,   2210.7,2,   2312.2,2,    998.7,2,       20,   7.6183,2,       25,    46.05,2,      0.2,2,    25.20,2,     28.8,2,20230313,0550
33RO20230306  ,A16N       ,13      ,  1,130115     ,115        ,20230313,0440,  -0.9979, -24.9976,     3060,    305.0,  11.2501,  35.0611,2,  35.0563,2,     81.2,2,     85.1,2,    12.00,2,    28.30,2,     0.02,2,     1.83,2,    2.064,2,    1.155,2,   0.8524,2,   2223.1,2,   2302.1,2,   1164.7,2,       20,   7.5560,2,       25,    42.67,2,      0.3,2,    30.83,2,     32.1,2,20230313,0547
33RO20230306  ,A16N       ,13      ,  1,130114     ,114        ,20230313,0440,  -0.9979, -24.9976,     3060,    380.6,   8.8989,  34.7942,2,  34.7966,2,     94.2,2,    102.1,2,    16.20,2,    31.00,2,     0.01,2,     2.02,2,    1.850,2,    1.000,2,   0.5226,2,   2221.5,2,   2293.8,2,   1229.0,2,       20,   7.5360,2,       25,    43.80,2,      0.4,2,    35.43,2,     30.3,2,20230313,0545
33RO20230306  ,A16N       ,13      ,  1,130113     ,113        ,20230313,0440,  -0.9979, -24.9976,     3060,    460.3,   7.9776,  34.6930,2,  34.6963,2,    114.0,2,    124.2,2,    18.20,2,    31.40,2,     0.01,2,     2.06,2,    1.756,2,    0.932,2,   0.5273,2,   2219.1,2,   2292.4,2,   1195.9,2,       20,   7.5449,2,       25,    43.07,2,      0.5,2,    36.43,2,     27.4,2,20230313,0542
33RO20230306  ,A16N       ,13      ,  1,130112     ,112        ,20230313,0440,  -0.9979, -24.9976,     3060,    549.3,   6.5232,  34.5517,2,  34.5556,2,    139.1,2,    143.2,2,    22.30,2,    31.90,2,     0.01,2,     2.14,2,    1.583,2,    0.828,2,   0.4185,2,   2211.6,2,   2291.4,2,   1160.3,2,       20,   7.5581,2,       25,    49.86,3,      0.6,2,    35.85,2,     24.1,2,20230313,0540
33RO20230306  ,A16N       ,13      ,  1,130111     ,111        ,20230313,0440,  -0.9979, -24.9976,     3060,    671.8,   5.5704,  34.5127,2,  34.5171,2,    135.9,2,    141.9,2,    27.20,2,    33.80,2,     0.01,2,     2.29,2,    0.941,2,    0.488,2,   0.1792,2,   2219.4,2,   2293.2,2,   1208.7,2,       20,   7.5407,2,       25,    41.18,2,      0.7,2,    36.94,2,     23.6,2,20230313,0536
33RO20230306  ,A16N       ,13      ,  1,130110     ,110        ,20230313,0440,  -0.9979, -24.9976,     3060,    822.6,   4.9689,  34.5082,2,  34.5171,2,    140.1,2,    147.2,2,    30.70,2,    34.10,2,     0.01,2,     2.32,2,    0.555,2,    0.287,2,   0.1271,2,   2222.6,2,   2294.3,2,   1205.5,2,       20,   7.5439,2,       25,    40.31,2,      0.7,2,    37.85,2,     23.3,2,20230313,0532
33RO20230306  ,A16N       ,13      ,  1,130109     ,109        ,20230313,0440,  -0.9979, -24.9976,     3060,    973.3,   4.6914,  34.5629,2,  34.5678,2,    143.9,2,    152.6,2,    31.90,2,    33.40,2,     0.01,2,     2.28,2,    0.303,2,    0.161,2,   0.0787,2,     -999,9,     -999,9,   1169.5,2,       20,     -999,9,       25,    40.68,2,      0.7,2,    36.70,2,     22.6,2,20230313,0528
33RO20230306  ,A16N       ,13      ,  1,130108     ,108        ,20230313,0440,  -0.9979, -24.9976,     3060,   1122.5,   4.6112,  34.7920,2,  34.8007,2,    166.9,2,    176.7,2,    26.50,2,    28.10,2,     0.01,2,     1.93,2,    0.234,2,    0.124,2,   0.0026,2,   2205.6,2,   2304.7,2,    996.0,2,       20,   7.6156,2,       25,    40.56,2,      0.7,2,    31.94,2,     19.7,2,20230313,0524
33RO20230306  ,A16N       ,13      ,  1,130107     ,107        ,20230313,0440,  -0.9979, -24.9976,     3060,   1300.4,   4.5447,  34.8980,2,  34.9069,2,    189.1,2,    200.8,2,    22.40,2,    24.60,2,     0.01,2,     1.68,2,    0.376,2,    0.199,2,   0.0864,2,     -999,9,     -999,9,    896.3,2,       20,     -999,9,       25,    40.27,2,      0.8,2,    26.61,2,     17.5,2,20230313,0519
33RO20230306  ,A16N       ,13      ,  1,130106     ,106        ,20230313,0440,  -0.9979, -24.9976,     3060,   1502.1,   4.3524,  34.9581,2,  34.9653,6,    211.6,2,    224.9,2,    18.90,2,    21.40,2,     0.01,2,     1.47,2,    0.687,2,    0.352,2,   0.2803,2,   2179.2,2,   2308.0,2,    819.0,6,       20,   7.6916,2,       25,    43.09,3,      0.9,2,    24.48,2,     15.3,2,20230313,0515
33RO20230306  ,A16N       ,13      ,  1,130105     ,105        ,20230313,0440,  -0.9979, -24.9976,     3060,   1644.6,   4.0706,  34.9721,2,  34.9877,2,    225.7,2,    240.9,2,    17.80,2,    19.70,2,     0.01,2,     1.36,2,    0.850,2,    0.432,2,   0.2459,2,     -999,9,     -999,9,    779.8,2,       20,     -999,9,       25,    41.16,2,      0.9,2,    20.96,2,     14.3,2,20230313,0511
33RO20230306  ,A16N       ,13      ,  1,130104     ,104        ,20230313,0440,  -0.9979, -24.9976,     3060,   2050.7,   3.4994,  34.9565,2,  34.9623,2,    232.5,2,    249.9,2,    21.90,2,    19.40,2,     0.01,2,     1.33,2,    0.515,2,    0.263,2,   0.1320,2,   2169.9,2,   2312.4,2,    758.5,2,       20,   7.7166,2,       25,    40.25,2,      1.0,2,    20.24,2,     13.7,2,20230313,0503
33RO20230306  ,A16N       ,13      ,  1,130103     ,103        ,20230313,0440,  -0.9979, -24.9976,     3060,   2420.9,   3.1282,  34.9370,2,  34.9442,2,    231.0,2,    249.7,2,    28.10,2,    19.90,2,     0.01,2,     1.36,2,    0.319,2,    0.164,2,   0.0768,2,     -999,9,     -999,9,   -999.0,9,       20,     -999,9,       25,    40.56,2,      0.9,2,    21.83,2,     13.9,2,20230313,0455
33RO20230306  ,A16N       ,13      ,  1,130102     ,102        ,20230313,0440,  -0.9979, -24.9976,     3060,   2850.5,   2.7313,  34.9126,2,  34.9289,2,    227.7,2,    248.1,2,    35.50,2,    20.60,2,     0.01,2,     1.42,2,    0.170,2,    0.090,2,   0.1493,2,   2183.7,2,   2323.6,2,    767.0,2,       20,   7.7174,2,       25,    40.31,2,      1.0,2,    21.41,2,     13.9,2,20230313,0446
33RO20230306  ,A16N       ,13      ,  1,130101     ,101        ,20230313,0440,  -0.9979, -24.9976,     3060,   3125.2,   2.6280,  34.9056,2,  34.9128,2,    226.9,2,    249.0,2,    37.00,2,    20.60,2,     0.01,2,     1.41,2,    0.277,2,    0.173,2,   0.3005,2,   2186.7,2,   2326.1,2,    765.1,2,       20,   7.7179,2,       25,    40.52,2,      0.9,6,    21.39,2,     14.0,2,20230313,0440