BOTTLE,20240601CCHHYDRO
EXPOCODE,SECT_ID,STNNBR,CASTNO,SAMPNO,BTLNBR,DATE,TIME,LATITUDE,LONGITUDE,DEPTH,CTDPRS,CTDTMP,CTDSAL,CTDSAL_FLAG_W,SALNTY,SALNTY_FLAG_W,CTDOXY,CTDOXY_FLAG_W,OXYGEN,OXYGEN_FLAG_W,SILCAT,SILCAT_FLAG_W,NITRAT,NITRAT_FLAG_W,NITRIT,NITRIT_FLAG_W,PHSPHT,PHSPHT_FLAG_W,CFC-11,CFC-11_FLAG_W,CFC-12,CFC-12_FLAG_W,SF6,SF6_FLAG_W,TCARBN,TCARBN_FLAG_W,ALKALI,ALKALI_FLAG_W,FCO2,FCO2_FLAG_W,FCO2TMP,PH_TOT,PH_TOT_FLAG_W,PH_TMP,DOC,DOC_FLAG_W,DELC13,DELC13_FLAG_W,TDN,TDN_FLAG_W,N2O,N2O_FLAG_W,BTL_DATE,BTL_TIME
,,,,,,,,,,METERS,DBAR,ITS-90,PSS-78,,PSS-78,,UMOL/KG,,UMOL/KG,,UMOL/KG,,UMOL/KG,,UMOL/KG,,UMOL/KG,,PMOL/KG,,PMOL/KG,,FMOL/KG,,UMOL/KG,,UMOL/KG,,UATM,,DEG C,,,DEG C,UMOL/KG,,/MILLE,,UMOL/KG,,NMOL/KG,,,
33RO20230306  ,A16N       ,50      ,  1,500124     ,224        ,20230324,1024,  15.5033, -29.0028,     5256,      3.5,  23.9037,  36.0131,2,  36.0140,2,    200.5,2,    210.5,2,     0.80,2,     0.00,2,     0.00,2,     0.05,2,    1.697,2,    1.055,2,   1.8868,2,   2048.3,6,   2356.8,2,    327.7,2,       20,   8.0364,2,       25,    74.74,2,      1.1,2,     4.36,2,      6.6,2,20230324,1227
33RO20230306  ,A16N       ,50      ,  1,500123     ,223        ,20230324,1024,  15.5033, -29.0028,     5256,     19.4,  23.8960,  36.0122,2,  36.0163,2,    200.5,2,    212.2,2,     0.80,2,     0.00,2,     0.00,2,     0.06,2,    1.690,2,    1.049,2,   2.0122,2,   2045.8,2,   2356.4,2,    328.2,2,       20,   8.0375,2,       25,    77.04,2,      1.1,2,     4.44,2,      6.6,2,20230324,1225
33RO20230306  ,A16N       ,50      ,  1,500122     ,222        ,20230324,1024,  15.5033, -29.0028,     5256,     42.0,  23.2445,  36.4188,2,  36.3888,2,    205.3,2,    216.6,2,     0.80,2,     0.00,2,     0.00,2,     0.06,2,    1.737,2,    1.078,2,   1.9987,2,   2066.7,2,   2377.3,2,    332.7,6,       20,   8.0345,2,       25,    74.51,2,      1.1,2,     4.13,2,      6.9,2,20230324,1223
33RO20230306  ,A16N       ,50      ,  1,500121     ,221        ,20230324,1024,  15.5033, -29.0028,     5256,     80.4,  21.4622,  36.7063,2,  36.7138,2,    187.7,2,    191.0,2,     1.10,2,     0.90,2,     0.09,2,     0.23,2,    1.893,2,    1.156,2,   1.8977,2,   2135.5,2,   2401.2,6,    427.6,2,       20,   7.9508,6,       25,    64.53,2,      0.9,2,     4.83,2,     11.1,2,20230324,1220
33RO20230306  ,A16N       ,50      ,  1,500120     ,220        ,20230324,1024,  15.5033, -29.0028,     5256,    122.1,  18.5611,  36.5329,2,  36.5358,2,    141.9,2,    138.9,2,     2.40,2,    10.70,2,     0.07,2,     0.70,2,    2.090,2,    1.245,2,   1.7218,2,   2187.1,2,   2383.8,2,    596.4,2,       20,   7.8234,2,       25,    51.41,2,      0.3,2,    14.14,2,     16.7,2,20230324,1218
33RO20230306  ,A16N       ,50      ,  1,500119     ,219        ,20230324,1024,  15.5033, -29.0028,     5256,    160.5,  16.7594,  36.2084,2,  36.2075,2,    114.6,2,    120.9,2,     4.10,2,    15.00,2,     0.01,2,     0.95,2,    2.201,2,    1.295,2,   1.6316,2,   2200.8,2,   2364.1,2,    706.3,2,       20,   7.7583,2,       25,    47.82,2,      0.2,2,    18.15,2,     20.6,2,20230324,1216
33RO20230306  ,A16N       ,50      ,  1,500118     ,218        ,20230324,1024,  15.5033, -29.0028,     5256,    225.8,  14.3323,  35.7896,2,  35.7965,2,     85.8,2,     90.1,2,     6.90,2,    21.70,2,     0.01,2,     1.35,2,    2.169,2,    1.248,2,   1.1993,2,   2218.4,2,   2339.7,2,    912.2,2,       20,   7.6577,2,       25,    49.06,2,      0.1,2,    25.04,2,     27.7,2,20230324,1214
33RO20230306  ,A16N       ,50      ,  1,500117     ,217        ,20230324,1024,  15.5033, -29.0028,     5256,    301.9,  11.7014,  35.3345,2,  35.3404,2,     66.2,2,     71.3,2,    10.90,2,    28.20,2,     0.00,2,     1.77,2,    1.850,2,    1.018,2,   0.7176,2,   2237.0,2,   2316.7,2,   1155.9,2,       20,   7.5635,2,       25,    47.72,2,      0.2,2,    30.39,2,     34.9,2,20230324,1211
33RO20230306  ,A16N       ,50      ,  1,500116     ,216        ,20230324,1024,  15.5033, -29.0028,     5256,    402.4,  10.5497,  35.2163,2,  35.2187,2,     58.8,2,     65.9,2,    13.20,2,    31.00,2,     0.00,2,     1.92,2,    1.361,6,    0.739,6,   0.4522,6,   2239.6,6,   2311.2,2,   1243.5,2,       20,   7.5328,2,       25,    44.68,2,      0.1,6,    35.96,2,     33.3,6,20230324,1208
33RO20230306  ,A16N       ,50      ,  1,500115     ,215        ,20230324,1024,  15.5033, -29.0028,     5256,    470.6,   9.8183,  35.1228,2,  35.1255,2,     54.1,2,     57.9,2,    15.20,2,    33.40,2,     0.00,2,     2.09,2,    1.053,2,    0.571,2,   0.3492,2,   2247.1,2,   2306.8,2,   1348.8,2,       20,   7.5011,2,       25,    44.93,2,      0.2,2,    38.45,2,     33.8,2,20230324,1206
33RO20230306  ,A16N       ,50      ,  1,500114     ,214        ,20230324,1024,  15.5033, -29.0028,     5256,    651.4,   8.2492,  34.9691,2,  34.9736,2,     78.1,2,     83.9,2,    18.90,2,    33.50,2,     0.00,2,     2.17,2,    0.618,2,    0.338,2,   0.2201,2,   2237.4,2,   2305.7,2,   1273.9,2,       20,   7.5213,2,       25,    43.08,2,      0.4,2,    39.17,2,     28.7,2,20230324,1201
33RO20230306  ,A16N       ,50      ,  1,500113     ,213        ,20230324,1024,  15.5033, -29.0028,     5256,    851.4,   6.8589,  34.8940,2,  34.8962,6,     94.5,2,    101.4,2,    22.80,2,    33.50,2,     0.00,2,     2.22,2,    0.192,2,    0.106,2,   0.0568,2,   2236.8,2,   2305.7,2,   1240.8,2,       20,   7.5314,2,       25,    40.31,2,      0.6,2,    36.55,2,     26.3,2,20230324,1157
33RO20230306  ,A16N       ,50      ,  1,500112     ,212        ,20230324,1024,  15.5033, -29.0028,     5256,   1150.9,   5.6870,  34.9462,2,  34.9484,2,    133.6,2,    144.5,2,    23.50,2,    29.40,2,     0.00,2,     2.01,2,    0.064,2,    0.036,2,   0.0000,2,   2220.4,2,   2311.4,2,   1054.3,2,       20,   7.5951,2,       25,    40.74,2,      0.7,2,    32.61,2,     21.7,2,20230324,1150
33RO20230306  ,A16N       ,50      ,  1,500111     ,211        ,20230324,1024,  15.5033, -29.0028,     5256,   1451.7,   4.8047,  34.9970,2,  35.0067,2,    175.1,2,    189.2,2,    22.50,2,    24.80,2,     0.00,2,     1.71,2,    0.037,2,    0.022,2,   0.0433,2,   2200.6,2,   2318.4,2,    893.8,2,       20,   7.6600,2,       25,    40.11,2,      0.9,2,    26.30,2,     17.5,2,20230324,1144
33RO20230306  ,A16N       ,50      ,  1,500110     ,210        ,20230324,1024,  15.5033, -29.0028,     5256,   1752.0,   4.0397,  34.9910,2,  34.9986,2,    205.5,2,    221.0,2,    22.10,2,    21.90,2,     0.00,2,     1.51,2,    0.040,2,    0.023,2,   0.0000,2,   2187.5,2,   2315.5,2,    803.7,2,       20,   7.6988,2,       25,    40.85,2,      1.0,2,    21.77,2,     14.9,2,20230324,1137
33RO20230306  ,A16N       ,50      ,  1,500109     ,209        ,20230324,1024,  15.5033, -29.0028,     5256,   2099.7,   3.5091,  34.9720,2,  34.9893,2,    220.2,2,    237.4,2,    24.20,2,    20.70,2,     0.00,2,     1.44,2,    0.039,2,    0.021,2,   0.0374,2,   2180.7,2,   2317.7,2,    765.2,2,       20,   7.7170,2,       25,    40.80,2,      1.0,2,    21.94,2,     13.9,2,20230324,1130
33RO20230306  ,A16N       ,50      ,  1,500108     ,208        ,20230324,1024,  15.5033, -29.0028,     5256,   2498.6,   3.1120,  34.9525,2,  34.9571,2,    224.2,2,    244.7,2,    29.10,2,    20.50,2,     0.00,2,     1.43,2,    0.025,2,    0.013,2,   0.0380,3,   2185.0,2,   2324.2,2,   -999.0,9,       20,   7.7243,2,       25,    41.40,2,      1.1,2,    21.96,2,     13.5,2,20230324,1122
33RO20230306  ,A16N       ,50      ,  1,500107     ,207        ,20230324,1024,  15.5033, -29.0028,     5256,   2901.0,   2.8544,  34.9375,2,  34.9498,2,    224.5,2,    245.8,2,    33.40,2,    20.70,2,     0.00,2,     1.43,2,    0.017,2,    0.011,2,   0.0478,2,   2187.4,2,   2328.5,2,    752.8,2,       20,   7.7260,2,       25,    43.12,2,      1.0,2,    22.82,2,     13.6,2,20230324,1114
33RO20230306  ,A16N       ,50      ,  1,500106     ,206        ,20230324,1024,  15.5033, -29.0028,     5256,   3395.3,   2.5641,  34.9139,2,  34.9453,2,    222.9,2,    245.7,2,    39.30,2,    21.20,2,     0.00,2,     1.47,2,    0.013,2,    0.008,2,   0.0000,3,   2192.8,2,   2336.1,2,    758.8,2,       20,   7.7248,2,       25,    41.16,2,      0.9,2,    20.35,2,     13.5,2,20230324,1104
33RO20230306  ,A16N       ,50      ,  1,500105     ,205        ,20230324,1024,  15.5033, -29.0028,     5256,   3849.0,   2.4272,  34.8995,2,  34.9017,2,    217.4,2,    247.0,2,    44.60,2,    22.00,2,     0.00,2,     1.52,2,    0.011,2,    0.007,2,   0.0000,2,   2203.2,2,   2345.3,2,    769.0,2,       20,   7.7195,2,       25,    41.00,2,      0.9,2,    20.92,2,     13.7,2,20230324,1055
33RO20230306  ,A16N       ,50      ,  1,500104     ,204        ,20230324,1024,  15.5033, -29.0028,     5256,   4252.3,   2.3468,  34.8869,2,  34.8885,2,    212.5,2,    236.6,2,    49.00,2,    22.60,2,     0.00,2,     1.56,2,    0.012,2,    0.006,2,   0.0655,2,   2207.7,2,   2350.1,2,    783.1,2,       20,   7.7140,2,       25,    43.86,2,      0.9,2,    22.60,2,     13.7,2,20230324,1047
33RO20230306  ,A16N       ,50      ,  1,500103     ,203        ,20230324,1024,  15.5033, -29.0028,     5256,   4643.2,   2.3144,  34.8783,2,  34.8864,2,    210.1,2,    235.6,2,    51.80,2,    22.90,2,     0.00,2,     1.58,2,    0.020,2,    0.012,2,   0.0000,2,   2215.5,2,   2354.9,6,    792.9,2,       20,   7.7079,6,       25,    42.62,2,      1.0,2,    22.62,2,     14.2,2,20230324,1039
33RO20230306  ,A16N       ,50      ,  1,500102     ,202        ,20230324,1024,  15.5033, -29.0028,     5256,   5000.5,   2.3091,  34.8740,2,  34.8835,2,    214.4,2,    241.5,2,    50.60,2,    22.40,2,     0.00,2,     1.56,2,    0.056,2,    0.032,2,   0.0555,2,   2207.0,2,   2348.7,2,    782.9,2,       20,   7.7128,2,       25,    40.11,2,      0.8,2,    20.76,2,     14.4,2,20230324,1031
33RO20230306  ,A16N       ,50      ,  1,500101     ,201        ,20230324,1024,  15.5033, -29.0028,     5256,   5340.2,   2.3143,  34.8698,2,  34.8778,6,    216.1,2,    243.2,2,    50.80,2,    22.40,2,     0.00,2,     1.56,2,    0.097,2,    0.052,2,   0.0639,2,   2210.4,6,   2350.8,2,    779.6,2,       20,   7.7150,2,       25,    40.28,2,      0.9,6,    20.26,2,     14.5,2,20230324,1024
33RO20230306  ,A16N       ,51      ,  2,510224     ,224        ,20230324,1803,  16.0003, -28.9991,     4487,      3.0,  23.8922,  36.0917,2,  36.0906,2,    199.4,2,    211.8,2,     1.20,2,     0.00,2,     0.00,2,     0.04,2,    1.713,2,    1.050,2,   1.8679,2,   2045.3,2,   2363.6,2,    326.2,2,       20,   8.0392,2,       25,    76.29,2,      1.0,2,     5.74,2,      6.5,2,20230324,1945
33RO20230306  ,A16N       ,51      ,  2,510223     ,223        ,20230324,1803,  16.0003, -28.9991,     4487,     15.4,  23.7745,  36.0990,2,  36.1210,2,    199.9,2,    212.4,2,     1.00,2,     0.00,2,     0.00,2,     0.04,2,    1.705,2,    1.053,2,   1.9063,2,   2046.4,6,   2364.3,2,    327.5,2,       20,   8.0395,2,       25,  -999.00,9,      1.1,2,  -999.00,9,      6.6,2,20230324,1943
33RO20230306  ,A16N       ,51      ,  2,510222     ,222        ,20230324,1803,  16.0003, -28.9991,     4487,     36.0,  23.2950,  36.3930,2,  36.3894,2,    203.8,2,    215.2,2,     0.80,2,     0.00,2,     0.00,2,     0.06,2,    1.753,2,    1.076,2,   1.9714,2,   2065.5,2,   2382.5,2,    338.8,2,       20,   8.0279,2,       25,  -999.00,9,      1.1,2,  -999.00,9,      6.7,2,20230324,1942
33RO20230306  ,A16N       ,51      ,  2,510221     ,221        ,20230324,1803,  16.0003, -28.9991,     4487,     61.5,  22.7081,  36.8539,2,  36.8625,2,    204.1,2,    213.0,2,     0.70,2,     0.00,2,     0.00,2,     0.10,2,    1.776,2,    1.091,2,   1.9328,2,   2101.0,2,   2411.1,2,    358.6,2,       20,   8.0124,2,       25,  -999.00,9,      1.0,2,  -999.00,9,      7.3,2,20230324,1940
33RO20230306  ,A16N       ,51      ,  2,510220     ,220        ,20230324,1803,  16.0003, -28.9991,     4487,     84.9,  21.3694,  36.8852,2,  36.9040,2,    182.6,2,    187.9,2,     1.10,2,     2.40,2,     0.17,2,     0.27,2,    1.912,2,    1.157,2,   2.0262,2,   2142.2,2,   2410.2,6,    438.9,2,       20,   7.9420,6,       25,  -999.00,9,      0.7,2,  -999.00,9,      9.6,2,20230324,1938
33RO20230306  ,A16N       ,51      ,  2,510219     ,219        ,20230324,1803,  16.0003, -28.9991,     4487,    130.2,  18.2219,  36.4876,2,  36.4751,2,    133.1,2,    137.8,2,     2.90,2,    11.50,2,     0.03,2,     0.73,2,    2.114,2,    1.255,2,   1.6929,2,   2181.7,2,   2380.8,2,    612.0,2,       20,   7.8150,2,       25,  -999.00,9,      0.2,2,  -999.00,9,     16.7,2,20230324,1937
33RO20230306  ,A16N       ,51      ,  2,510218     ,218        ,20230324,1803,  16.0003, -28.9991,     4487,    185.0,  15.4840,  35.9843,2,  35.9713,2,     97.1,2,    103.6,2,     5.70,2,    18.70,2,     0.01,2,     1.14,2,    2.211,6,    1.277,6,   1.3905,6,   2202.1,2,   2351.0,2,    807.9,2,       20,   7.7063,2,       25,  -999.00,9,      0.0,2,  -999.00,9,     24.2,6,20230324,1935
33RO20230306  ,A16N       ,51      ,  2,510217     ,217        ,20230324,1803,  16.0003, -28.9991,     4487,    260.5,  13.7894,  35.7116,2,  35.7137,2,     83.0,2,     85.9,2,     7.70,2,    23.00,2,     0.01,2,     1.42,2,    2.132,2,    1.206,2,   1.0359,2,   2217.2,2,   2336.0,2,    954.0,2,       20,   7.6407,2,       25,  -999.00,9,      0.1,2,  -999.00,9,     28.1,2,20230324,1933
33RO20230306  ,A16N       ,51      ,  2,510216     ,216        ,20230324,1803,  16.0003, -28.9991,     4487,    368.8,  11.6047,  35.3999,2,  35.4170,2,     69.9,2,     74.6,2,    11.20,2,    28.10,2,     0.00,2,     1.72,2,    1.684,2,    0.924,2,   0.6332,2,   2225.7,2,   2319.6,2,   1116.3,2,       20,   7.5775,2,       25,  -999.00,9,      0.1,2,  -999.00,9,     30.5,2,20230324,1930
33RO20230306  ,A16N       ,51      ,  2,510215     ,215        ,20230324,1803,  16.0003, -28.9991,     4487,    455.2,  10.2033,  35.2056,2,  35.2233,2,     73.6,2,     77.7,2,    14.10,2,    30.50,2,     0.00,2,     1.89,2,    1.292,2,    0.703,2,   0.4345,2,   2229.4,2,   2312.3,2,   1183.1,2,       20,   7.5532,2,       25,  -999.00,9,      0.4,6,  -999.00,9,     29.5,2,20230324,1928
33RO20230306  ,A16N       ,51      ,  2,510214     ,214        ,20230324,1803,  16.0003, -28.9991,     4487,    575.9,   8.7456,  35.0138,2,  35.0165,6,     78.5,2,     85.7,2,    17.70,2,    32.50,2,     0.00,2,     2.07,2,    0.841,2,    0.456,2,   0.2746,2,   2229.4,6,   2306.7,2,   1236.9,2,       20,   7.5362,2,       25,  -999.00,9,      0.3,2,  -999.00,9,     28.2,2,20230324,1925
33RO20230306  ,A16N       ,51      ,  2,510213     ,213        ,20230324,1803,  16.0003, -28.9991,     4487,    726.1,   7.4737,  34.9094,2,  34.8931,2,     95.2,2,    102.1,2,    21.50,2,    33.00,2,     0.00,2,     2.16,2,    0.426,2,    0.230,2,   0.1885,2,   2227.1,2,   2305.5,2,   1211.7,2,       20,   7.5423,2,       25,  -999.00,9,      0.5,2,  -999.00,9,     26.4,2,20230324,1921
33RO20230306  ,A16N       ,51      ,  2,510212     ,212        ,20230324,1803,  16.0003, -28.9991,     4487,    881.2,   6.5788,  34.8690,2,  34.9004,2,    109.0,2,    116.3,2,    23.30,2,    32.50,2,     0.00,2,     2.16,2,    0.202,2,    0.112,2,   0.0481,2,   2224.1,2,   2306.5,2,   1169.5,2,       20,   7.5570,2,       25,  -999.00,9,      0.6,2,  -999.00,9,     24.4,2,20230324,1917
33RO20230306  ,A16N       ,51      ,  2,510211     ,211        ,20230324,1803,  16.0003, -28.9991,     4487,   1040.0,   5.9490,  34.9147,2,  34.9191,2,    129.1,2,    139.1,2,    23.40,2,    30.20,2,     0.00,2,     2.03,2,    0.087,2,    0.048,2,   0.0453,2,   2215.4,2,   2310.5,2,   1073.8,2,       20,   7.5894,2,       25,  -999.00,9,      0.7,2,  -999.00,9,     22.5,2,20230324,1913
33RO20230306  ,A16N       ,51      ,  2,510210     ,210        ,20230324,1803,  16.0003, -28.9991,     4487,   1220.8,   5.5650,  35.0012,2,  35.0076,2,    152.7,2,    164.9,2,    22.10,2,    27.00,2,     0.00,2,     1.82,2,    0.078,2,    0.045,2,   0.0573,2,   2201.0,2,   2315.6,2,    958.1,2,       20,   7.6329,2,       25,  -999.00,9,      0.7,2,  -999.00,9,     18.6,2,20230324,1907
33RO20230306  ,A16N       ,51      ,  2,510209     ,209        ,20230324,1803,  16.0003, -28.9991,     4487,   1425.3,   4.8494,  35.0115,2,  35.0123,2,    181.0,2,    178.8,2,    21.90,2,    25.70,2,     0.00,2,     1.74,2,    0.057,2,    0.032,2,   0.0605,2,   2197.1,2,   2314.4,2,    914.9,2,       20,   7.6501,2,       25,  -999.00,9,      1.0,2,  -999.00,9,     19.1,2,20230324,1902
33RO20230306  ,A16N       ,51      ,  2,510208     ,208        ,20230324,1803,  16.0003, -28.9991,     4487,   1651.2,   4.2732,  34.9950,2,  35.0105,2,    194.0,2,    219.3,2,    23.00,2,    23.10,2,     0.00,2,     1.58,2,    0.024,2,    0.013,2,   0.0000,2,   2186.3,2,   2316.8,2,    836.7,2,       20,   7.6844,2,       25,  -999.00,9,      0.9,2,  -999.00,9,     14.5,2,20230324,1858
33RO20230306  ,A16N       ,51      ,  2,510207     ,207        ,20230324,1803,  16.0003, -28.9991,     4487,   1900.1,   3.8151,  34.9850,2,  34.9873,2,    209.2,2,    227.5,2,    23.80,2,    21.80,2,     0.00,2,     1.50,2,    0.032,2,    0.034,2,     -999,9,   2181.4,2,   2317.7,2,    795.5,2,       20,   7.7040,2,       25,  -999.00,9,      1.0,2,  -999.00,9,     16.0,2,20230324,1853
33RO20230306  ,A16N       ,51      ,  2,510206     ,206        ,20230324,1803,  16.0003, -28.9991,     4487,   2225.6,   3.3817,  34.9666,2,  34.9735,2,    220.0,2,    237.8,2,    26.20,2,    20.90,2,     0.00,2,     1.44,2,    0.021,2,    0.013,2,   0.0000,2,   2177.2,2,   2320.3,2,    765.4,6,       20,   7.7183,2,       25,  -999.00,9,      1.0,2,  -999.00,9,     14.5,2,20230324,1846
33RO20230306  ,A16N       ,51      ,  2,510205     ,205        ,20230324,1803,  16.0003, -28.9991,     4487,   2652.1,   3.0422,  34.9486,2,  34.9492,2,    223.0,2,    238.7,2,    30.60,2,    20.80,2,     0.00,2,     1.44,2,    0.011,2,    0.009,2,   0.0000,2,   2177.6,2,   2325.3,2,   -999.0,9,       20,   7.7238,2,       25,  -999.00,9,      1.0,2,  -999.00,9,     13.8,2,20230324,1838
33RO20230306  ,A16N       ,51      ,  2,510204     ,204        ,20230324,1803,  16.0003, -28.9991,     4487,   3148.0,   2.6950,  34.9263,2,  34.9345,6,    222.4,2,    243.9,2,    37.10,2,    21.10,2,     0.00,2,     1.46,2,    0.005,2,    0.004,2,   0.0661,3,   2185.3,2,   2334.8,2,    757.6,2,       20,   7.7243,2,       25,  -999.00,9,      1.1,2,  -999.00,9,     14.0,2,20230324,1829
33RO20230306  ,A16N       ,51      ,  2,510203     ,203        ,20230324,1803,  16.0003, -28.9991,     4487,   3649.0,   2.4464,  34.9030,2,  34.9126,2,    216.3,2,    243.7,2,    44.50,2,    22.00,2,     0.00,2,     1.53,2,    0.007,2,    0.005,2,   0.0925,3,   2200.1,2,   2346.9,2,    770.9,2,       20,   7.7204,2,       25,  -999.00,9,      1.0,2,  -999.00,9,     14.1,2,20230324,1820
33RO20230306  ,A16N       ,51      ,  2,510202     ,202        ,20230324,1803,  16.0003, -28.9991,     4487,   3998.8,   2.3458,  34.8894,2,  34.8998,2,    214.4,2,    237.6,2,    48.10,2,    22.40,2,     0.00,2,     1.55,2,    0.011,2,    0.007,2,   0.0000,2,   2206.2,6,   2350.8,2,    775.9,2,       20,   7.7175,2,       25,  -999.00,9,      0.8,2,  -999.00,9,     15.0,2,20230324,1813
33RO20230306  ,A16N       ,51      ,  2,510201     ,201        ,20230324,1803,  16.0003, -28.9991,     4487,   4530.9,   2.3096,  34.8786,2,  34.8823,2,    210.7,2,    235.8,2,    51.50,2,    22.90,2,     0.00,2,     1.57,2,    0.024,2,    0.015,2,   0.0418,2,   2213.6,2,   2353.8,6,    788.3,2,       20,   7.7113,6,       25,  -999.00,9,      1.0,6,  -999.00,9,     15.8,2,20230324,1803