BOTTLE,20240601CCHHYDRO
EXPOCODE,SECT_ID,STNNBR,CASTNO,SAMPNO,BTLNBR,DATE,TIME,LATITUDE,LONGITUDE,DEPTH,CTDPRS,CTDTMP,CTDSAL,CTDSAL_FLAG_W,SALNTY,SALNTY_FLAG_W,CTDOXY,CTDOXY_FLAG_W,OXYGEN,OXYGEN_FLAG_W,SILCAT,SILCAT_FLAG_W,NITRAT,NITRAT_FLAG_W,NITRIT,NITRIT_FLAG_W,PHSPHT,PHSPHT_FLAG_W,CFC-11,CFC-11_FLAG_W,CFC-12,CFC-12_FLAG_W,SF6,SF6_FLAG_W,TCARBN,TCARBN_FLAG_W,ALKALI,ALKALI_FLAG_W,FCO2,FCO2_FLAG_W,FCO2TMP,PH_TOT,PH_TOT_FLAG_W,PH_TMP,DOC,DOC_FLAG_W,DELC13,DELC13_FLAG_W,TDN,TDN_FLAG_W,N2O,N2O_FLAG_W,BTL_DATE,BTL_TIME
,,,,,,,,,,METERS,DBAR,ITS-90,PSS-78,,PSS-78,,UMOL/KG,,UMOL/KG,,UMOL/KG,,UMOL/KG,,UMOL/KG,,UMOL/KG,,PMOL/KG,,PMOL/KG,,FMOL/KG,,UMOL/KG,,UMOL/KG,,UATM,,DEG C,,,DEG C,UMOL/KG,,/MILLE,,UMOL/KG,,NMOL/KG,,,
33RO20230306  ,A16N       ,72      ,  1,720124     ,224        ,20230330,2324,  26.5034, -25.3475,     5246,      4.5,  22.1564,  37.1612,2,  37.1707,2,    157.1,2,    217.1,2,     0.60,2,     0.00,2,     0.00,2,     0.07,2,    1.832,2,    1.159,2,   2.1101,2,   2127.5,6,   2428.8,2,    374.1,2,       20,   7.9993,2,       25,    63.77,2,      0.9,2,     3.64,2,      6.8,2,20230331,0130
33RO20230306  ,A16N       ,72      ,  1,720123     ,223        ,20230330,2324,  26.5034, -25.3475,     5246,     22.0,  21.9927,  37.1516,2,  37.1532,2,    159.4,2,    217.5,2,     0.50,2,     0.00,2,     0.00,2,     0.07,2,    1.832,2,    1.155,2,   1.9956,2,   2125.4,2,   2429.4,2,    374.3,2,       20,   8.0017,2,       25,    64.18,2,      0.9,2,     4.35,2,      6.8,2,20230331,0128
33RO20230306  ,A16N       ,72      ,  1,720122     ,222        ,20230330,2324,  26.5034, -25.3475,     5246,     46.0,  21.6937,  37.2044,2,  37.2019,2,    205.9,2,    218.1,2,     0.60,2,     0.00,2,     0.00,2,     0.05,2,    1.855,2,    1.172,2,   2.0922,2,   2126.4,2,   2430.5,2,    374.0,2,       20,   7.9992,2,       25,    64.49,2,      0.9,2,     4.16,2,      6.9,2,20230331,0125
33RO20230306  ,A16N       ,72      ,  1,720121     ,221        ,20230330,2324,  26.5034, -25.3475,     5246,     75.2,  21.2377,  37.2066,2,  37.2076,2,    200.8,2,    217.6,2,     0.50,2,     0.00,2,     0.00,2,     0.04,2,    1.878,2,    1.176,2,   2.3667,2,   2131.8,2,   2430.9,2,    380.2,2,       20,   7.9942,2,       25,    61.24,2,      0.6,2,     3.56,2,      6.9,2,20230331,0123
33RO20230306  ,A16N       ,72      ,  1,720120     ,220        ,20230330,2324,  26.5034, -25.3475,     5246,    104.1,  20.8532,  37.1537,2,  37.1642,6,    195.8,2,    212.6,2,     0.60,2,     0.40,2,     0.09,2,     0.06,2,    1.912,2,    1.185,2,   2.1373,2,   2139.0,2,   2427.9,2,    393.2,2,       20,   7.9827,2,       25,    59.51,2,      0.8,2,     3.89,2,      7.3,2,20230331,0120
33RO20230306  ,A16N       ,72      ,  1,720119     ,219        ,20230330,2324,  26.5034, -25.3475,     5246,    151.5,  19.7283,  36.8933,2,  36.8966,2,    197.5,2,    194.8,2,     1.10,2,     2.70,2,     0.04,2,     0.20,2,    2.015,2,    1.219,2,   2.0755,2,   2151.1,2,   2410.7,2,    446.4,2,       20,   7.9339,2,       25,    53.29,2,      0.5,2,     5.08,2,      8.8,2,20230331,0118
33RO20230306  ,A16N       ,72      ,  1,720118     ,218        ,20230330,2324,  26.5034, -25.3475,     5246,    221.9,  17.8684,  36.5220,2,  36.5319,2,    186.9,2,    192.9,2,     1.50,2,     4.30,2,     0.01,2,     0.27,2,    2.211,2,    1.367,2,   1.9101,2,   2142.7,2,   2386.2,2,    468.9,2,       20,   7.9135,2,       25,    49.20,2,      0.3,2,     6.68,2,      9.1,2,20230331,0115
33RO20230306  ,A16N       ,72      ,  1,720117     ,217        ,20230330,2324,  26.5034, -25.3475,     5246,    303.5,  15.7650,  36.1341,2,  36.1473,2,    173.3,2,    184.2,2,     2.80,2,     8.80,2,     0.01,2,     0.55,2,    2.429,2,    1.479,2,   1.9005,2,   2156.8,2,   2364.6,6,    550.1,2,       20,   7.8525,6,       25,    46.92,2,      0.4,2,    11.33,2,     11.4,2,20230331,0112
33RO20230306  ,A16N       ,72      ,  1,720116     ,216        ,20230330,2324,  26.5034, -25.3475,     5246,    400.4,  14.1322,  35.8908,2,  35.8956,2,    172.2,2,    183.0,2,     4.00,2,    11.60,2,     0.01,2,     0.72,2,    2.568,2,    1.515,2,   1.6758,2,   2164.4,2,   2350.6,2,    612.5,2,       20,   7.8103,2,       25,    46.23,2,      0.4,2,    13.01,2,     12.9,2,20230331,0109
33RO20230306  ,A16N       ,72      ,  1,720115     ,215        ,20230330,2324,  26.5034, -25.3475,     5246,    504.4,  12.6187,  35.7003,2,  35.7032,2,    163.2,2,    170.9,2,     6.00,2,    15.40,2,     0.00,2,     0.95,2,    2.534,2,    1.463,2,   1.4776,2,   2174.8,2,   2338.6,2,    698.2,2,       20,   7.7591,2,       25,    46.01,2,      0.3,2,    16.65,2,     15.1,2,20230331,0106
33RO20230306  ,A16N       ,72      ,  1,720114     ,214        ,20230330,2324,  26.5034, -25.3475,     5246,    602.0,  11.6248,  35.5914,2,  35.6143,2,    152.5,2,    161.9,2,     7.80,2,    18.00,2,     0.00,2,     1.12,2,    2.281,2,    1.294,2,   1.0265,2,   2185.2,2,   2334.2,2,    750.4,6,       20,   7.7308,2,       25,    43.06,2,      0.4,2,    18.78,2,     16.4,2,20230331,0103
33RO20230306  ,A16N       ,72      ,  1,720113     ,213        ,20230330,2324,  26.5034, -25.3475,     5246,    703.0,  10.3179,  35.4546,2,  35.4580,2,    137.7,2,    145.1,2,    11.40,2,    22.00,2,     0.00,2,     1.40,2,    1.616,2,    0.899,2,   0.5968,2,   2200.4,2,   2329.6,2,    838.3,2,       20,   7.6876,2,       25,    42.84,2,      0.5,2,    23.97,2,     18.9,2,20230331,0100
33RO20230306  ,A16N       ,72      ,  1,720112     ,212        ,20230330,2324,  26.5034, -25.3475,     5246,    808.7,   9.1982,  35.3418,2,  35.3449,2,    130.3,2,    138.1,2,    14.50,2,    24.60,2,     0.00,2,     1.58,2,    1.071,2,    0.581,2,   0.3334,2,   2205.7,6,   2326.7,2,    897.4,2,       20,   7.6615,2,       25,    43.17,2,      0.6,6,    26.47,2,     20.1,2,20230331,0056
33RO20230306  ,A16N       ,72      ,  1,720111     ,211        ,20230330,2324,  26.5034, -25.3475,     5246,    980.5,   7.5525,  35.2084,2,  35.2153,2,    141.5,2,    150.6,2,    18.10,2,    25.70,2,     0.00,2,     1.69,2,    0.505,2,    0.282,2,   0.2337,2,   2207.3,2,   2323.2,2,    910.6,2,       20,   7.6561,2,       25,    40.86,2,      0.8,2,    28.19,2,     19.6,2,20230331,0052
33RO20230306  ,A16N       ,72      ,  1,720110     ,210        ,20230330,2324,  26.5034, -25.3475,     5246,   1222.4,   6.7199,  35.2574,2,  35.2618,2,    166.2,2,    186.4,2,    17.90,2,    23.10,2,     0.00,2,     1.53,2,    0.488,2,    0.269,2,   0.1419,2,   2199.8,2,   2329.0,2,    836.3,2,       20,   7.6870,2,       25,    41.72,2,      0.6,2,    24.24,2,     17.0,2,20230331,0046
33RO20230306  ,A16N       ,72      ,  1,720109     ,209        ,20230330,2324,  26.5034, -25.3475,     5246,   1554.2,   5.5408,  35.2109,2,  35.2226,2,    190.0,2,    204.4,2,    19.70,2,    21.40,2,     0.00,2,     1.44,2,    0.423,2,    0.228,2,   0.0797,3,   2192.6,2,   2327.9,2,    792.5,2,       20,   7.7079,2,       25,    41.65,2,      0.9,2,    22.68,2,     15.0,2,20230331,0039
33RO20230306  ,A16N       ,72      ,  1,720108     ,208        ,20230330,2324,  26.5034, -25.3475,     5246,   1951.8,   4.3138,  35.0972,2,  35.1005,6,    210.4,2,    227.3,2,    22.80,2,    20.50,2,     0.00,2,     1.39,2,    0.325,6,    0.177,6,   0.1427,6,   2185.5,2,   2328.7,2,    769.4,2,       20,   7.7197,2,       25,    42.06,2,      1.1,2,    21.57,2,     14.1,6,20230331,0030
33RO20230306  ,A16N       ,72      ,  1,720107     ,207        ,20230330,2324,  26.5034, -25.3475,     5246,   2391.8,   3.4214,  35.0041,2,  35.0147,2,    221.1,2,    240.7,2,    27.40,2,    20.20,2,     0.00,2,     1.39,2,    0.192,2,    0.108,2,   0.0801,2,   2181.6,2,   2328.8,6,    757.7,2,       20,   7.7220,6,       25,    40.95,2,      0.9,2,    21.34,2,     13.7,2,20230331,0021
33RO20230306  ,A16N       ,72      ,  1,720106     ,206        ,20230330,2324,  26.5034, -25.3475,     5246,   2800.0,   2.9091,  34.9518,2,  34.9539,2,    224.2,2,    245.0,2,    32.80,2,    20.50,2,     0.00,2,     1.42,2,     -999,9,     -999,9,     -999,9,   2184.8,2,   2332.9,2,   -999.0,9,       20,   7.7251,2,       25,    41.51,2,      0.9,2,    21.47,2,     -999,9,20230331,0012
33RO20230306  ,A16N       ,72      ,  1,720105     ,205        ,20230330,2324,  26.5034, -25.3475,     5246,   3399.8,   2.5859,  34.9184,2,  34.9209,2,    221.1,2,    243.9,2,    40.10,2,    21.50,2,     0.00,2,     1.48,2,    0.056,2,    0.032,2,   0.0387,2,   2194.8,2,   2338.3,2,    762.0,2,       20,   7.7261,2,       25,    40.46,2,      1.0,2,    23.24,2,     13.8,2,20230331,0001
33RO20230306  ,A16N       ,72      ,  1,720104     ,204        ,20230330,2324,  26.5034, -25.3475,     5246,   3803.1,   2.4844,  34.9052,2,  34.9080,2,    219.7,2,    242.8,2,    43.40,6,    21.80,6,     0.00,6,     1.50,6,    0.022,2,    0.015,2,   0.0459,2,   2198.6,2,   2342.5,2,    764.2,2,       20,   7.7246,2,       25,    40.89,2,      1.0,2,    22.78,2,     14.1,2,20230330,2353
33RO20230306  ,A16N       ,72      ,  1,720103     ,203        ,20230330,2324,  26.5034, -25.3475,     5246,   4299.8,   2.4247,  34.8943,2,  34.8952,2,    218.3,2,    242.4,2,    45.80,6,    22.10,6,     0.00,6,     1.53,6,    0.012,2,    0.008,2,   0.0744,3,   2198.9,2,   2343.5,2,    766.5,2,       20,   7.7226,2,       25,    40.65,2,      1.1,2,    24.29,2,     14.3,2,20230330,2343
33RO20230306  ,A16N       ,72      ,  1,720102     ,202        ,20230330,2324,  26.5034, -25.3475,     5246,   4794.9,   2.3997,  34.8856,2,  34.8872,2,    217.0,2,    243.1,2,    47.80,6,    22.20,6,     0.00,6,     1.53,6,    0.016,2,    0.011,2,   0.0000,2,   2201.7,2,   2345.7,2,    770.0,2,       20,   7.7221,2,       25,    40.09,2,      0.9,2,    23.85,2,     14.8,2,20230330,2334
33RO20230306  ,A16N       ,72      ,  1,720101     ,201        ,20230330,2324,  26.5034, -25.3475,     5246,   5328.3,   2.4561,  34.8841,2,  34.8938,2,    215.1,2,    243.2,2,    48.20,6,    22.30,6,     0.00,6,     1.54,6,    0.021,2,    0.017,2,   0.2221,3,   2203.7,6,   2345.2,2,    768.2,2,       20,   7.7221,2,       25,    41.11,2,      0.9,6,    24.34,2,     15.8,2,20230330,2324
33RO20230306  ,A16N       ,73      ,  1,730124     ,224        ,20230331,0638,  27.0051, -25.0710,     5237,      4.7,  21.8892,  37.2695,2,  37.2834,2,    205.5,2,    217.1,2,     0.50,2,     0.00,2,     0.00,2,     0.04,2,    1.863,2,    1.184,2,   1.9703,2,   2133.2,6,   2434.9,2,    373.6,2,       20,   7.9985,2,       25,    62.22,2,      0.7,2,     5.35,2,      7.0,2,20230331,0838
33RO20230306  ,A16N       ,73      ,  1,730123     ,223        ,20230331,0638,  27.0051, -25.0710,     5237,     30.2,  21.5939,  37.2692,2,  37.2854,2,    207.2,2,    218.8,2,     0.40,2,     0.00,2,     0.00,2,     0.04,2,    1.876,2,    1.196,2,   2.0037,2,   2133.7,2,   2434.7,6,    370.9,2,       20,   8.0031,6,       25,  -999.00,9,      0.7,2,  -999.00,9,      7.0,2,20230331,0835
33RO20230306  ,A16N       ,73      ,  1,730122     ,222        ,20230331,0638,  27.0051, -25.0710,     5237,     59.9,  21.4972,  37.2627,2,  37.2572,2,    206.8,2,    218.5,2,     0.40,2,     0.00,2,     0.00,2,     0.04,2,    1.877,2,    1.193,2,   2.0457,2,   2133.9,2,   2434.9,2,    372.6,2,       20,   8.0006,2,       25,  -999.00,9,      0.8,2,  -999.00,9,      6.9,2,20230331,0833
33RO20230306  ,A16N       ,73      ,  1,730121     ,221        ,20230331,0638,  27.0051, -25.0710,     5237,     75.7,  21.2052,  37.2168,2,  37.2205,6,    207.4,2,    217.2,2,     0.40,2,     0.00,2,     0.00,2,     0.04,2,    1.903,2,    1.234,2,   1.9663,2,   2130.6,2,   2430.9,2,    375.8,2,       20,   7.9981,2,       25,  -999.00,9,      0.7,2,  -999.00,9,      7.0,2,20230331,0831
33RO20230306  ,A16N       ,73      ,  1,730120     ,220        ,20230331,0638,  27.0051, -25.0710,     5237,    116.5,  20.6944,  37.1504,2,  37.1534,2,    204.9,2,    218.2,2,     0.40,2,     0.00,2,     0.00,2,     0.06,2,    1.937,2,    1.248,2,   2.0182,2,   2135.5,2,   2428.7,2,    385.7,2,       20,   7.9892,2,       25,  -999.00,9,      0.6,2,  -999.00,9,      7.1,2,20230331,0829
33RO20230306  ,A16N       ,73      ,  1,730119     ,219        ,20230331,0638,  27.0051, -25.0710,     5237,    171.3,  18.7851,  36.7283,2,  36.7442,2,    190.3,2,    205.4,2,     0.80,2,     1.80,2,     0.03,2,     0.14,2,    2.144,2,    1.346,2,   2.0394,2,   2142.2,2,   2399.6,2,    438.3,2,       20,   7.9389,2,       25,  -999.00,9,      0.5,2,  -999.00,9,      8.2,2,20230331,0826
33RO20230306  ,A16N       ,73      ,  1,730118     ,218        ,20230331,0638,  27.0051, -25.0710,     5237,    261.6,  16.7337,  36.3251,2,  36.3257,2,    186.4,2,    198.5,2,     1.80,2,     5.60,2,     0.01,2,     0.36,2,    2.364,2,    1.442,2,   1.8590,2,   2145.3,2,   2375.5,2,    494.9,2,       20,   7.8918,2,       25,  -999.00,9,   -999.0,9,  -999.00,9,      9.6,2,20230331,0823
33RO20230306  ,A16N       ,73      ,  1,730117     ,217        ,20230331,0638,  27.0051, -25.0710,     5237,    341.4,  15.1136,  36.0292,2,  36.0266,2,    183.7,2,    195.6,2,     2.90,2,     8.60,2,     0.00,2,     0.55,2,    2.545,2,    1.518,2,   2.1028,2,   2152.7,2,   2358.0,2,    552.5,2,       20,   7.8496,2,       25,  -999.00,9,      0.3,2,  -999.00,9,     11.0,2,20230331,0821
33RO20230306  ,A16N       ,73      ,  1,730116     ,216        ,20230331,0638,  27.0051, -25.0710,     5237,    451.3,  13.4577,  35.7857,2,  35.7931,2,    179.5,2,    191.5,2,     4.20,2,    11.80,2,     0.00,2,     0.75,2,    2.642,2,    1.537,2,   1.7224,2,   2164.1,2,   2343.4,2,    621.6,2,       20,   7.8019,2,       25,  -999.00,9,      0.4,2,  -999.00,9,     12.5,2,20230331,0818
33RO20230306  ,A16N       ,73      ,  1,730115     ,215        ,20230331,0638,  27.0051, -25.0710,     5237,    543.8,  12.5108,  35.6817,2,  35.7004,2,    170.7,2,    181.1,2,     5.50,2,    14.60,2,     0.00,2,     0.91,2,    2.560,6,    1.469,6,   1.3980,6,   2174.2,2,   2338.2,2,    677.4,2,       20,   7.7708,2,       25,  -999.00,9,      0.4,2,  -999.00,9,     14.3,6,20230331,0815
33RO20230306  ,A16N       ,73      ,  1,730114     ,214        ,20230331,0638,  27.0051, -25.0710,     5237,    651.5,  11.2938,  35.5582,2,  35.5593,2,    158.8,2,    169.4,2,     7.90,2,    17.80,2,     0.00,2,     1.12,2,    2.271,2,    1.270,2,   1.2195,2,   2184.7,2,   2332.7,2,    740.2,2,       20,   7.7348,2,       25,  -999.00,9,      0.6,2,  -999.00,9,     15.9,2,20230331,0812
33RO20230306  ,A16N       ,73      ,  1,730113     ,213        ,20230331,0638,  27.0051, -25.0710,     5237,    793.3,   9.7197,  35.4248,2,  35.4280,2,    143.9,2,    152.9,2,    12.20,2,    22.00,2,     0.00,2,     1.42,2,    1.452,2,    0.796,2,   0.4434,2,   2197.6,6,   2328.9,2,    825.5,2,       20,   7.6934,2,       25,  -999.00,9,      0.6,6,  -999.00,9,     18.4,2,20230331,0808
33RO20230306  ,A16N       ,73      ,  1,730112     ,212        ,20230331,0638,  27.0051, -25.0710,     5237,   1102.4,   7.2993,  35.2854,2,  35.2985,2,    158.8,2,    170.6,2,    16.80,2,    23.40,2,     0.00,2,     1.56,2,    0.641,2,    0.352,2,   0.1616,2,   2202.8,2,   2330.1,2,    846.0,2,       20,   7.6830,2,       25,  -999.00,9,      0.8,2,  -999.00,9,     17.7,2,20230331,0802
33RO20230306  ,A16N       ,73      ,  1,730111     ,211        ,20230331,0638,  27.0051, -25.0710,     5237,   1300.1,   6.7967,  35.3155,2,  35.3243,2,    172.7,2,    186.4,2,    16.90,2,    22.00,2,     0.00,2,     1.47,2,    0.655,2,    0.356,2,   0.2104,2,   2197.9,2,   2333.9,6,    810.3,2,       20,   7.6989,6,       25,  -999.00,9,      0.8,2,  -999.00,9,     16.5,2,20230331,0757
33RO20230306  ,A16N       ,73      ,  1,730110     ,210        ,20230331,0638,  27.0051, -25.0710,     5237,   1478.6,   5.8265,  35.2561,2,  35.2637,2,    194.6,2,    208.6,2,    17.50,2,    20.50,2,     0.00,2,     1.39,2,    0.752,2,    0.402,2,   0.3044,2,   2189.5,2,   2330.3,2,    778.7,2,       20,   7.7156,2,       25,  -999.00,9,      0.9,2,  -999.00,9,     15.1,2,20230331,0752
33RO20230306  ,A16N       ,73      ,  1,730109     ,209        ,20230331,0638,  27.0051, -25.0710,     5237,   1851.7,   4.6107,  35.1321,2,  35.1437,6,    212.0,2,    228.6,2,    20.00,2,    19.90,2,     0.00,2,     1.36,2,    0.605,2,    0.310,2,   0.1342,2,   2181.7,2,   2324.7,2,    762.3,2,       20,   7.7224,2,       25,  -999.00,9,      1.0,2,  -999.00,9,     13.8,2,20230331,0745
33RO20230306  ,A16N       ,73      ,  1,730108     ,208        ,20230331,0638,  27.0051, -25.0710,     5237,   2101.4,   3.9587,  35.0605,2,  35.0748,2,    219.1,2,    237.3,2,    22.90,2,    19.80,2,     0.00,2,     1.37,2,    0.408,2,    0.212,2,   0.2611,2,   2180.1,2,   2325.1,2,    757.2,2,       20,   7.7239,2,       25,  -999.00,9,      1.0,2,  -999.00,9,     13.6,2,20230331,0739
33RO20230306  ,A16N       ,73      ,  1,730107     ,207        ,20230331,0638,  27.0051, -25.0710,     5237,   2501.7,   3.1832,  34.9790,2,  34.9834,2,    225.1,2,    245.4,2,    28.70,2,    20.00,2,     0.00,2,     1.39,2,    0.260,2,    0.146,2,   0.3217,2,   2181.8,2,   2329.5,2,    753.9,2,       20,   7.7249,2,       25,  -999.00,9,      1.0,2,  -999.00,9,     13.5,2,20230331,0731
33RO20230306  ,A16N       ,73      ,  1,730106     ,206        ,20230331,0638,  27.0051, -25.0710,     5237,   2904.7,   2.7937,  34.9402,2,  34.9538,2,    224.4,2,    245.5,2,    34.50,2,    20.70,2,     0.00,2,     1.45,2,    0.189,2,    0.107,2,   0.0598,3,   2190.2,2,   2332.7,2,    757.1,6,       20,   7.7257,2,       25,  -999.00,9,      1.0,2,  -999.00,9,     13.5,2,20230331,0723
33RO20230306  ,A16N       ,73      ,  1,730105     ,205        ,20230331,0638,  27.0051, -25.0710,     5237,   3502.2,   2.5336,  34.9124,2,  34.9165,2,    220.9,2,    243.6,2,    41.50,2,    21.60,2,     0.00,2,     1.50,2,    0.049,2,    0.022,2,   0.0383,3,   2193.8,2,   2339.4,2,    761.0,2,       20,   7.7238,2,       25,  -999.00,9,      1.0,2,  -999.00,9,     13.8,2,20230331,0712
33RO20230306  ,A16N       ,73      ,  1,730104     ,204        ,20230331,0638,  27.0051, -25.0710,     5237,   3902.9,   2.4489,  34.9007,2,  34.9041,2,    219.4,2,    243.1,2,    44.20,2,    21.90,2,     0.00,2,     1.52,2,    0.017,2,    0.012,2,   0.1862,3,   2198.1,2,   2342.3,2,   -999.0,9,       20,   7.7231,2,       25,  -999.00,9,      1.0,2,  -999.00,9,     14.0,2,20230331,0704
33RO20230306  ,A16N       ,73      ,  1,730103     ,203        ,20230331,0638,  27.0051, -25.0710,     5237,   4403.3,   2.3988,  34.8903,2,  34.8916,2,    218.1,2,    243.5,2,    46.60,2,    22.20,2,     0.00,2,     1.54,2,    0.015,2,    0.010,2,   0.1515,3,   2200.4,2,   2343.6,2,    768.0,2,       20,   7.7217,2,       25,  -999.00,9,      1.0,2,  -999.00,9,     14.2,2,20230331,0655
33RO20230306  ,A16N       ,73      ,  1,730102     ,202        ,20230331,0638,  27.0051, -25.0710,     5237,   4905.6,   2.3980,  34.8837,2,  34.8930,2,    216.8,2,    252.4,2,    48.00,2,    22.20,2,     0.00,2,     1.55,2,    0.025,2,    0.021,2,   0.1031,2,   2200.7,2,   2346.1,2,    770.7,2,       20,   7.7200,2,       25,  -999.00,9,      0.9,2,  -999.00,9,     14.6,2,20230331,0646
33RO20230306  ,A16N       ,73      ,  1,730101     ,201        ,20230331,0638,  27.0051, -25.0710,     5237,   5324.3,   2.4450,  34.8827,2,  34.8842,2,    216.3,2,    243.4,2,    48.10,2,    22.30,2,     0.00,2,     1.55,2,    0.028,2,    0.015,2,   0.0668,3,   2203.8,6,   2347.7,2,    770.4,2,       20,   7.7219,2,       25,  -999.00,9,      1.0,6,  -999.00,9,     14.8,2,20230331,0638