BOTTLE,20240601CCHHYDRO
EXPOCODE,SECT_ID,STNNBR,CASTNO,SAMPNO,BTLNBR,DATE,TIME,LATITUDE,LONGITUDE,DEPTH,CTDPRS,CTDTMP,CTDSAL,CTDSAL_FLAG_W,SALNTY,SALNTY_FLAG_W,CTDOXY,CTDOXY_FLAG_W,OXYGEN,OXYGEN_FLAG_W,SILCAT,SILCAT_FLAG_W,NITRAT,NITRAT_FLAG_W,NITRIT,NITRIT_FLAG_W,PHSPHT,PHSPHT_FLAG_W,CFC-11,CFC-11_FLAG_W,CFC-12,CFC-12_FLAG_W,SF6,SF6_FLAG_W,TCARBN,TCARBN_FLAG_W,ALKALI,ALKALI_FLAG_W,FCO2,FCO2_FLAG_W,FCO2TMP,PH_TOT,PH_TOT_FLAG_W,PH_TMP,DOC,DOC_FLAG_W,DELC13,DELC13_FLAG_W,TDN,TDN_FLAG_W,N2O,N2O_FLAG_W,BTL_DATE,BTL_TIME
,,,,,,,,,,METERS,DBAR,ITS-90,PSS-78,,PSS-78,,UMOL/KG,,UMOL/KG,,UMOL/KG,,UMOL/KG,,UMOL/KG,,UMOL/KG,,PMOL/KG,,PMOL/KG,,FMOL/KG,,UMOL/KG,,UMOL/KG,,UATM,,DEG C,,,DEG C,UMOL/KG,,/MILLE,,UMOL/KG,,NMOL/KG,,,
33RO20230306  ,A16N       ,52      ,  1,520124     ,224        ,20230325,0016,  16.5069, -29.0055,     4816,      3.4,  23.6910,  36.1245,2,  36.1245,2,    200.5,2,    211.8,2,     1.00,2,     0.00,2,     0.00,2,     0.05,2,    1.694,2,    1.059,2,   1.9079,2,   2054.6,6,   2364.8,2,    329.9,2,       20,   8.0364,2,       25,    68.29,2,      1.1,2,     5.05,2,      6.4,2,20230325,0213
33RO20230306  ,A16N       ,52      ,  1,520123     ,223        ,20230325,0016,  16.5069, -29.0055,     4816,     19.9,  23.6827,  36.1308,2,  36.1322,2,    200.6,2,    211.4,2,     1.00,2,     0.00,2,     0.00,2,     0.05,2,    1.692,2,    1.072,2,   1.9264,2,   2055.2,2,   2364.8,2,    330.8,2,       20,   8.0367,2,       25,    68.37,2,      1.1,2,     5.44,2,      6.5,2,20230325,0210
33RO20230306  ,A16N       ,52      ,  1,520122     ,222        ,20230325,0016,  16.5069, -29.0055,     4816,     45.0,  22.7260,  36.7239,2,  36.7140,2,    205.8,2,    217.2,2,     0.60,2,     0.00,2,     0.00,2,     0.10,2,    1.782,2,    1.101,2,   1.9578,2,   2098.2,2,   2399.4,2,    358.9,2,       20,   8.0118,2,       25,    61.18,2,      1.2,2,     4.33,2,      6.8,2,20230325,0208
33RO20230306  ,A16N       ,52      ,  1,520121     ,221        ,20230325,0016,  16.5069, -29.0055,     4816,     74.5,  22.1822,  36.8720,2,  36.8627,2,    200.7,2,    209.3,2,     0.80,2,     0.10,2,     0.02,2,     0.13,2,    1.795,2,    1.126,2,   1.9661,2,   2114.1,2,   2409.6,2,    373.8,2,       20,   7.9991,2,       25,    59.99,2,      1.1,2,     3.74,2,      7.5,2,20230325,0205
33RO20230306  ,A16N       ,52      ,  1,520120     ,220        ,20230325,0016,  16.5069, -29.0055,     4816,    103.3,  18.4231,  36.4211,2,  36.1256,2,    122.4,2,    211.4,2,     1.10,2,     0.00,2,     0.00,2,     0.07,2,    1.694,6,    1.059,6,   1.8651,6,   2058.1,2,   2362.8,2,    335.3,2,       20,   8.0353,2,       25,  -999.00,9,      1.1,2,  -999.00,9,      6.5,6,20230325,0203
33RO20230306  ,A16N       ,52      ,  1,520119     ,219        ,20230325,0016,  16.5069, -29.0055,     4816,    150.0,  16.3858,  36.1302,2,  36.1331,2,    101.3,2,    109.2,2,     4.80,2,    17.00,2,     0.01,2,     1.05,2,    2.174,2,    1.300,2,   1.5233,2,   2210.7,2,   2356.7,2,    759.5,2,       20,   7.7326,2,       25,    43.88,2,      0.1,2,    20.74,2,     22.9,2,20230325,0200
33RO20230306  ,A16N       ,52      ,  1,520118     ,218        ,20230325,0016,  16.5069, -29.0055,     4816,    223.4,  14.1652,  35.7489,2,  35.7539,2,     78.7,2,     85.1,2,     7.60,2,    22.70,2,     0.01,2,     1.40,2,    2.173,2,    1.260,2,   1.2140,2,   2226.4,2,   2332.8,2,    956.1,2,       20,   7.6393,2,       25,    43.17,2,      0.0,2,    25.96,2,     28.1,2,20230325,0157
33RO20230306  ,A16N       ,52      ,  1,520117     ,217        ,20230325,0016,  16.5069, -29.0055,     4816,    300.8,  13.2710,  35.6634,2,  35.6659,2,     73.7,2,     85.1,2,     8.40,2,    23.90,2,     0.00,2,     1.47,2,    2.071,2,    1.210,2,   1.0181,2,   2228.2,2,   2331.2,2,    985.8,6,       20,   7.6277,2,       25,    41.75,2,      0.1,2,    25.13,2,     29.0,2,20230325,0155
33RO20230306  ,A16N       ,52      ,  1,520116     ,216        ,20230325,0016,  16.5069, -29.0055,     4816,    372.6,  12.0566,  35.4822,2,  35.4879,2,     54.3,2,     56.1,2,    11.50,2,    29.40,2,     0.00,2,     1.78,2,    1.724,2,    0.989,2,   0.7292,2,   2247.4,6,   2320.4,2,   1219.5,2,       20,   7.5430,2,       25,    41.65,2,     -0.1,6,    31.44,2,     33.5,2,20230325,0152
33RO20230306  ,A16N       ,52      ,  1,520115     ,215        ,20230325,0016,  16.5069, -29.0055,     4816,    500.0,  10.3123,  35.2724,2,  35.2759,6,     79.2,2,     85.8,2,    13.90,2,    29.40,2,     0.00,2,     1.83,2,    1.261,2,    0.705,2,   0.4116,2,   2233.0,2,   2313.1,2,   1114.8,2,       20,   7.5767,2,       25,    41.33,2,      0.3,2,    31.88,2,     28.6,2,20230325,0148
33RO20230306  ,A16N       ,52      ,  1,520114     ,214        ,20230325,0016,  16.5069, -29.0055,     4816,    646.4,   8.0184,  34.9962,2,  35.0007,2,     93.3,2,    100.6,2,    19.50,2,    32.10,2,     0.00,2,     2.07,2,    0.562,2,    0.309,2,   0.1461,2,   2234.2,2,   2305.7,2,   1168.9,2,       20,   7.5557,2,       25,    41.25,2,      0.4,2,    33.20,2,     26.8,2,20230325,0144
33RO20230306  ,A16N       ,52      ,  1,520113     ,213        ,20230325,0016,  16.5069, -29.0055,     4816,    797.6,   6.7387,  34.8981,2,  34.9022,2,    108.3,2,    115.8,2,    23.00,2,    32.40,2,     0.00,2,     2.13,2,    0.217,2,    0.121,2,   0.0000,2,   2225.6,2,   2305.1,2,   1157.3,2,       20,   7.5608,2,       25,    41.37,2,      0.5,2,    33.52,2,     25.6,2,20230325,0140
33RO20230306  ,A16N       ,52      ,  1,520112     ,212        ,20230325,0016,  16.5069, -29.0055,     4816,    948.9,   5.9564,  34.8866,2,  34.8899,2,    125.2,2,    134.8,2,    24.10,2,    31.10,2,     0.00,2,     2.08,2,    0.091,2,    0.049,2,   0.0000,2,   2223.5,2,   2307.9,6,   1097.5,2,       20,   7.5829,6,       25,    40.79,2,      0.6,2,    31.27,2,     23.4,2,20230325,0136
33RO20230306  ,A16N       ,52      ,  1,520111     ,211        ,20230325,0016,  16.5069, -29.0055,     4816,   1099.0,   5.7339,  34.9731,2,  34.9831,2,    145.5,2,    155.8,2,    22.60,2,    28.20,2,     0.00,2,     1.90,2,    0.087,2,    0.047,2,   0.0548,2,   2212.6,2,   2310.7,2,    990.4,2,       20,   7.6220,2,       25,    41.22,2,      0.7,2,    29.35,2,     21.0,2,20230325,0132
33RO20230306  ,A16N       ,52      ,  1,520110     ,210        ,20230325,0016,  16.5069, -29.0055,     4816,   1309.7,   5.0525,  35.0046,2,  35.0123,2,    167.7,2,    180.2,2,    22.90,2,    25.80,2,     0.00,2,     1.76,2,    0.045,2,    0.024,2,   0.0510,3,   2202.6,2,   2316.6,2,    913.2,2,       20,   7.6522,2,       25,    42.62,2,      0.8,2,    26.32,2,     18.9,2,20230325,0128
33RO20230306  ,A16N       ,52      ,  1,520109     ,209        ,20230325,0016,  16.5069, -29.0055,     4816,   1585.7,   4.3362,  34.9993,2,  35.0131,2,    193.2,2,    208.5,2,    23.00,2,    23.30,2,     0.00,2,     1.60,2,    0.025,2,    0.011,2,   0.0000,2,   2192.3,2,   2315.5,2,    837.3,2,       20,   7.6843,2,       25,    41.69,2,      0.9,2,    23.68,2,     16.9,2,20230325,0122
33RO20230306  ,A16N       ,52      ,  1,520108     ,208        ,20230325,0016,  16.5069, -29.0055,     4816,   1998.1,   3.6255,  34.9770,2,  34.9818,2,    216.3,2,    234.3,2,    24.40,2,    21.30,2,     0.00,2,     1.46,2,    0.030,2,    0.015,2,   0.0000,2,   2182.1,2,   2317.8,2,    775.5,2,       20,   7.7138,2,       25,    40.39,2,      0.9,2,    22.62,2,     14.7,2,20230325,0114
33RO20230306  ,A16N       ,52      ,  1,520107     ,207        ,20230325,0016,  16.5069, -29.0055,     4816,   2375.5,   3.2240,  34.9579,2,  34.9614,2,    221.0,2,    240.8,2,    28.40,2,    21.10,2,     0.00,2,     1.45,2,     -999,9,     -999,9,     -999,9,   2180.9,2,   2322.3,2,    763.3,2,       20,   7.7200,2,       25,    41.35,2,      1.0,2,    21.71,2,     -999,9,20230325,0107
33RO20230306  ,A16N       ,52      ,  1,520106     ,206        ,20230325,0016,  16.5069, -29.0055,     4816,   2801.7,   2.9092,  34.9408,2,  34.9430,2,    223.8,2,    244.4,2,    32.90,2,    21.00,2,     0.00,2,     1.44,2,     -999,9,     -999,9,   0.0000,9,   2186.9,2,   2327.3,2,    754.7,2,       20,   7.7253,2,       25,    41.46,2,      1.1,2,    20.59,2,     -999,9,20230325,0059
33RO20230306  ,A16N       ,52      ,  1,520105     ,205        ,20230325,0016,  16.5069, -29.0055,     4816,   3215.5,   2.6897,  34.9254,2,  34.9266,2,    222.5,2,    248.7,2,    37.80,2,    21.30,2,     0.00,2,     1.48,2,    0.016,2,    0.010,2,   0.0560,2,   2192.6,2,   2333.2,2,    757.3,2,       20,   7.7245,2,       25,    40.96,2,      1.0,2,    20.75,2,     -999,9,20230325,0050
33RO20230306  ,A16N       ,52      ,  1,520104     ,204        ,20230325,0016,  16.5069, -29.0055,     4816,   3580.5,   2.5000,  34.9085,2,  34.9109,2,    218.0,2,    240.9,2,    43.10,6,    22.00,6,     0.00,6,     1.52,6,     -999,9,     -999,9,   0.0000,9,   2201.6,2,   2343.4,2,    766.5,2,       20,   7.7214,2,       25,    41.45,2,      0.9,2,    21.32,2,     -999,9,20230325,0043
33RO20230306  ,A16N       ,52      ,  1,520103     ,203        ,20230325,0016,  16.5069, -29.0055,     4816,   4048.3,   2.3813,  34.8930,2,  34.8968,6,    215.7,2,    240.1,2,    47.30,6,    22.50,6,     0.00,6,     1.55,6,    0.011,2,    0.007,2,   0.0485,2,   2208.6,2,   2347.1,2,    770.6,2,       20,   7.7213,2,       25,    40.53,2,      0.9,2,    20.54,2,     14.0,2,20230325,0034
33RO20230306  ,A16N       ,52      ,  1,520102     ,202        ,20230325,0016,  16.5069, -29.0055,     4816,   4400.4,   2.3615,  34.8866,2,  34.8894,2,    214.7,2,    239.3,2,    48.70,6,    22.60,6,     0.00,6,     1.56,6,    0.012,2,    0.006,2,   0.0000,3,   2210.9,2,   2350.7,6,   -999.0,9,       20,   7.7197,6,       25,    42.20,2,      0.9,2,    19.85,2,     14.5,2,20230325,0027
33RO20230306  ,A16N       ,52      ,  1,520101     ,201        ,20230325,0016,  16.5069, -29.0055,     4816,   4885.9,   2.3370,  34.8774,2,  34.8780,2,    212.0,2,    238.7,2,    51.20,6,    22.90,6,     0.00,6,     1.57,6,    0.037,2,    0.019,2,   0.0000,2,   2214.3,6,   2350.5,2,    785.5,2,       20,   7.7137,2,       25,    41.60,2,      0.8,6,    21.71,2,     14.9,2,20230325,0016
33RO20230306  ,A16N       ,53      ,  1,530124     ,224        ,20230325,0637,  17.0010, -29.0038,     4876,      3.7,  23.5270,  36.1692,2,  36.1711,2,    200.2,2,    211.4,2,     1.00,2,     0.00,2,     0.00,2,     0.04,2,    1.707,2,    1.087,2,   1.9821,2,   2058.8,6,   2367.4,2,    333.1,2,       20,   8.0336,2,       25,    76.24,2,      1.1,6,     5.12,2,      6.7,2,20230325,0838
33RO20230306  ,A16N       ,53      ,  1,530123     ,223        ,20230325,0637,  17.0010, -29.0038,     4876,     24.6,  23.3442,  36.3669,2,  36.3951,2,    201.7,2,    213.9,2,     0.70,2,     0.00,2,     0.00,2,     0.07,2,    1.740,2,    1.108,2,   1.9672,2,   2071.9,2,   2382.9,2,    342.9,2,       20,   8.0247,2,       25,  -999.00,9,      1.1,2,  -999.00,9,      6.8,2,20230325,0834
33RO20230306  ,A16N       ,53      ,  1,530122     ,222        ,20230325,0637,  17.0010, -29.0038,     4876,     50.0,  22.3692,  36.8062,2,  36.8123,2,    202.8,2,    214.6,2,     0.60,2,     0.00,2,     0.00,2,     0.11,2,    1.790,2,    1.121,2,   1.9455,2,   2102.6,2,   2407.1,2,    363.4,2,       20,   8.0083,2,       25,  -999.00,9,      1.0,2,  -999.00,9,      7.1,2,20230325,0832
33RO20230306  ,A16N       ,53      ,  1,530121     ,221        ,20230325,0637,  17.0010, -29.0038,     4876,     71.3,  20.0328,  36.6070,2,  36.6047,2,    150.7,2,    149.8,2,     2.10,2,     8.10,2,     0.15,2,     0.60,2,    2.000,2,    1.215,2,   1.7831,2,   2175.2,2,   2388.7,6,    549.1,2,       20,   7.8576,6,       25,  -999.00,9,      0.4,2,  -999.00,9,     15.0,2,20230325,0830
33RO20230306  ,A16N       ,53      ,  1,530120     ,220        ,20230325,0637,  17.0010, -29.0038,     4876,     92.3,  18.6680,  36.4882,2,  36.4781,2,    124.5,2,    136.3,2,     2.90,2,    12.10,2,     0.05,2,     0.80,2,    2.083,2,    1.246,2,   1.6706,2,   2191.4,2,   2378.2,2,    630.6,2,       20,   7.8033,2,       25,  -999.00,9,      0.2,2,  -999.00,9,     17.5,2,20230325,0828
33RO20230306  ,A16N       ,53      ,  1,530119     ,219        ,20230325,0637,  17.0010, -29.0038,     4876,    135.7,  16.3871,  36.1485,2,  36.1645,2,    112.4,2,    119.5,2,     4.50,2,    15.80,2,     0.01,2,     1.00,2,    2.195,2,    1.292,2,   1.5371,2,   2198.6,2,   2357.0,2,    721.0,2,       20,   7.7501,2,       25,  -999.00,9,      0.1,2,  -999.00,9,     20.9,2,20230325,0825
33RO20230306  ,A16N       ,53      ,  1,530118     ,218        ,20230325,0637,  17.0010, -29.0038,     4876,    211.4,  14.7280,  35.9087,2,  35.9091,2,    107.3,2,    119.6,2,     5.80,2,    17.80,2,     0.01,2,     1.12,2,    2.271,2,    1.312,2,   1.3194,2,   2203.4,2,   2345.6,2,    779.7,2,       20,   7.7191,2,       25,  -999.00,9,      0.1,2,  -999.00,9,     21.4,2,20230325,0821
33RO20230306  ,A16N       ,53      ,  1,530117     ,217        ,20230325,0637,  17.0010, -29.0038,     4876,    331.8,  12.3954,  35.5403,2,  35.5670,2,     60.9,2,     66.2,2,    10.70,2,    27.50,2,     0.00,2,     1.70,2,    1.861,2,    1.055,2,   0.8150,2,   2238.9,6,   2326.5,2,   1138.5,2,       20,   7.5712,2,       25,  -999.00,9,      0.0,6,  -999.00,9,     30.9,2,20230325,0818
33RO20230306  ,A16N       ,53      ,  1,530116     ,216        ,20230325,0637,  17.0010, -29.0038,     4876,    423.3,  10.9389,  35.3726,2,  35.3898,2,     62.5,2,     67.3,2,    13.20,2,    30.20,2,     0.00,2,     1.90,2,    1.410,2,    0.794,2,   0.5006,2,   2242.3,2,   2316.8,2,   1208.2,2,       20,   7.5464,2,       25,  -999.00,9,      0.2,2,  -999.00,9,     30.6,2,20230325,0815
33RO20230306  ,A16N       ,53      ,  1,530115     ,215        ,20230325,0637,  17.0010, -29.0038,     4876,    523.0,   9.3931,  35.1515,2,  35.1524,2,     78.8,2,     88.4,2,    16.10,2,    31.00,2,     0.00,2,     1.98,2,    0.975,2,    0.529,2,   0.2627,2,   2231.5,2,   2309.5,2,   1168.7,2,       20,   7.5581,2,       25,  -999.00,9,      0.4,2,  -999.00,9,     27.1,2,20230325,0811
33RO20230306  ,A16N       ,53      ,  1,530114     ,214        ,20230325,0637,  17.0010, -29.0038,     4876,    670.7,   7.7578,  34.9482,2,  34.9623,2,     92.8,2,     98.8,2,    20.30,2,    32.80,2,     0.00,2,     2.15,2,    0.514,2,    0.276,2,   0.1824,2,   2233.6,2,   2305.9,2,   1207.5,2,       20,   7.5451,2,       25,  -999.00,9,      0.4,2,  -999.00,9,     26.4,2,20230325,0807
33RO20230306  ,A16N       ,53      ,  1,530113     ,213        ,20230325,0637,  17.0010, -29.0038,     4876,    850.4,   6.4401,  34.8573,2,  34.8665,2,    108.7,2,    117.0,2,    23.90,2,    32.90,2,     0.00,2,     2.21,2,    0.167,2,    0.091,2,   0.0602,2,   2229.5,2,   2304.3,2,   1180.8,2,       20,   7.5516,2,       25,  -999.00,9,      0.5,2,  -999.00,9,     24.9,2,20230325,0802
33RO20230306  ,A16N       ,53      ,  1,530112     ,212        ,20230325,0637,  17.0010, -29.0038,     4876,    954.8,   6.1151,  34.8853,2,  34.8872,2,    120.3,2,    129.1,2,    24.00,2,    31.50,2,     0.00,2,     2.15,2,    0.103,2,    0.054,2,   0.0000,2,   2223.3,2,   2306.8,2,   1120.9,2,       20,   7.5714,2,       25,  -999.00,9,      0.7,2,  -999.00,9,     22.8,2,20230325,0759
33RO20230306  ,A16N       ,53      ,  1,530111     ,211        ,20230325,0637,  17.0010, -29.0038,     4876,   1150.3,   5.7281,  34.9808,2,  34.9844,2,    146.3,2,    157.9,2,    22.40,2,    27.90,2,     0.00,2,     1.92,2,    0.087,6,    0.047,6,   0.0250,3,   2210.2,2,   2313.9,2,    985.1,2,       20,   7.6216,2,       25,  -999.00,9,      0.8,2,  -999.00,9,     19.7,6,20230325,0754
33RO20230306  ,A16N       ,53      ,  1,530110     ,210        ,20230325,0637,  17.0010, -29.0038,     4876,   1349.7,   4.9272,  35.0001,2,  35.0094,2,    171.3,2,    183.7,2,    22.80,2,    25.50,2,     0.00,2,     1.75,2,    0.044,2,    0.025,2,   0.0364,2,   2198.7,2,   2314.9,2,    905.6,6,       20,   7.6532,2,       25,  -999.00,9,      0.8,2,  -999.00,9,     17.7,2,20230325,0749
33RO20230306  ,A16N       ,53      ,  1,530109     ,209        ,20230325,0637,  17.0010, -29.0038,     4876,   1749.6,   4.0000,  34.9913,2,  34.9947,2,    203.8,2,    220.1,2,    23.30,2,    22.30,2,     0.00,2,     1.55,2,    0.023,2,    0.011,2,   0.0000,2,   2186.2,2,   2316.7,2,    808.7,2,       20,   7.6963,2,       25,  -999.00,9,      0.9,2,  -999.00,9,     14.6,2,20230325,0741
33RO20230306  ,A16N       ,53      ,  1,530108     ,208        ,20230325,0637,  17.0010, -29.0038,     4876,   2100.8,   3.5049,  34.9723,2,  34.9772,2,    217.8,2,    234.7,2,    25.40,2,    21.20,2,     0.00,2,     1.48,2,    0.021,2,    0.010,2,   0.0000,2,   2181.1,2,   2318.3,2,    773.2,2,       20,   7.7131,2,       25,  -999.00,9,      1.0,2,  -999.00,9,     13.9,2,20230325,0734
33RO20230306  ,A16N       ,53      ,  1,530107     ,207        ,20230325,0637,  17.0010, -29.0038,     4876,   2503.2,   3.1126,  34.9526,2,  34.9621,2,    222.5,2,    243.3,2,    29.70,2,    20.90,2,     0.00,2,     1.48,2,    0.011,2,    0.005,2,   0.0000,2,   2183.0,2,   2323.4,2,    761.6,2,       20,   7.7193,2,       25,  -999.00,9,      1.0,2,  -999.00,9,     13.0,2,20230325,0726
33RO20230306  ,A16N       ,53      ,  1,530106     ,206        ,20230325,0637,  17.0010, -29.0038,     4876,   2902.0,   2.8305,  34.9368,2,  34.9383,2,    223.8,2,    244.9,2,    34.60,2,    21.10,2,     0.00,2,     1.48,2,    0.011,2,    0.006,2,   0.0000,2,   2185.4,2,   2327.8,2,    756.4,2,       20,   7.7219,2,       25,  -999.00,9,      1.0,2,  -999.00,9,     13.2,2,20230325,0718
33RO20230306  ,A16N       ,53      ,  1,530105     ,205        ,20230325,0637,  17.0010, -29.0038,     4876,   3303.2,   2.6126,  34.9196,2,  34.9272,6,    221.4,2,    243.4,2,    39.50,2,    21.50,2,     0.00,2,     1.52,2,    0.006,2,    0.004,2,   0.0000,2,   2193.0,2,   2337.0,2,    760.0,2,       20,   7.7222,2,       25,  -999.00,9,      0.9,2,  -999.00,9,     13.2,2,20230325,0710
33RO20230306  ,A16N       ,53      ,  1,530104     ,204        ,20230325,0637,  17.0010, -29.0038,     4876,   3751.2,   2.4613,  34.9035,2,  35.3581,2,    216.3,2,     -999,9,    21.90,2,    20.40,2,     0.01,2,     1.39,2,     -999,9,     -999,9,     -999,9,     -999,9,     -999,9,   -999.0,9,       20,     -999,9,       25,  -999.00,9,   -999.0,9,  -999.00,9,     -999,9,20230325,0701
33RO20230306  ,A16N       ,53      ,  1,530103     ,203        ,20230325,0637,  17.0010, -29.0038,     4876,   4151.8,   2.3705,  34.8906,2,  34.9014,2,    215.3,2,    239.8,2,    47.90,2,    22.50,2,     0.00,2,     1.58,2,    0.014,2,    0.008,2,   0.0000,2,   2207.8,2,   2347.4,2,    772.9,2,       20,   7.7202,2,       25,  -999.00,9,      0.9,2,  -999.00,9,     13.3,2,20230325,0653
33RO20230306  ,A16N       ,53      ,  1,530102     ,202        ,20230325,0637,  17.0010, -29.0038,     4876,   4502.2,   2.3666,  34.8859,2,  34.8864,2,    214.3,2,    239.2,2,    49.00,2,    22.60,2,     0.00,2,     1.57,2,    0.012,2,    0.006,2,   0.0390,3,   2208.7,2,   2350.4,2,    775.6,2,       20,   7.7194,2,       25,  -999.00,9,      0.9,2,  -999.00,9,     13.7,2,20230325,0646
33RO20230306  ,A16N       ,53      ,  1,530101     ,201        ,20230325,0637,  17.0010, -29.0038,     4876,   4949.1,   2.3477,  34.8777,2,  34.8807,2,    212.0,2,    238.7,2,    51.00,2,    22.80,2,     0.00,2,     1.58,2,    0.040,2,    0.022,2,   0.0571,3,   2211.8,6,   2354.0,2,    784.2,2,       20,   7.7156,2,       25,  -999.00,9,      0.9,6,  -999.00,9,     15.0,2,20230325,0637