BOTTLE,20240601CCHHYDRO
EXPOCODE,SECT_ID,STNNBR,CASTNO,SAMPNO,BTLNBR,DATE,TIME,LATITUDE,LONGITUDE,DEPTH,CTDPRS,CTDTMP,CTDSAL,CTDSAL_FLAG_W,SALNTY,SALNTY_FLAG_W,CTDOXY,CTDOXY_FLAG_W,OXYGEN,OXYGEN_FLAG_W,SILCAT,SILCAT_FLAG_W,NITRAT,NITRAT_FLAG_W,NITRIT,NITRIT_FLAG_W,PHSPHT,PHSPHT_FLAG_W,CFC-11,CFC-11_FLAG_W,CFC-12,CFC-12_FLAG_W,SF6,SF6_FLAG_W,TCARBN,TCARBN_FLAG_W,ALKALI,ALKALI_FLAG_W,FCO2,FCO2_FLAG_W,FCO2TMP,PH_TOT,PH_TOT_FLAG_W,PH_TMP,DOC,DOC_FLAG_W,DELC13,DELC13_FLAG_W,TDN,TDN_FLAG_W,N2O,N2O_FLAG_W,BTL_DATE,BTL_TIME
,,,,,,,,,,METERS,DBAR,ITS-90,PSS-78,,PSS-78,,UMOL/KG,,UMOL/KG,,UMOL/KG,,UMOL/KG,,UMOL/KG,,UMOL/KG,,PMOL/KG,,PMOL/KG,,FMOL/KG,,UMOL/KG,,UMOL/KG,,UATM,,DEG C,,,DEG C,UMOL/KG,,/MILLE,,UMOL/KG,,NMOL/KG,,,
33RO20230306  ,A16N       ,66      ,  1,660124     ,224        ,20230329,0225,  23.5012, -27.0335,     5504,      3.4,  22.8131,  37.1685,2,  37.1710,2,    202.3,2,    214.3,2,     0.50,2,     0.00,2,     0.00,2,     0.05,2,    1.763,2,    1.116,2,   2.2712,2,   2123.3,6,   2432.0,2,    360.6,2,       20,   8.0114,2,       25,    65.89,2,      1.1,6,     4.53,2,      6.7,2,20230329,0431
33RO20230306  ,A16N       ,66      ,  1,660123     ,223        ,20230329,0225,  23.5012, -27.0335,     5504,     29.6,  22.7301,  37.1718,2,  37.1750,2,    202.3,2,    215.0,2,     0.50,2,     0.00,2,     0.00,2,     0.05,2,    1.771,2,    1.124,2,   2.1527,2,   2119.9,2,   2431.8,6,    360.5,2,       20,   8.0134,6,       25,    66.73,2,      1.0,2,     3.63,2,      6.7,2,20230329,0428
33RO20230306  ,A16N       ,66      ,  1,660122     ,222        ,20230329,0225,  23.5012, -27.0335,     5504,     53.5,  22.5139,  37.1473,2,  37.1494,2,    202.9,2,    215.4,2,     0.60,2,     0.00,2,     0.00,2,     0.06,2,    1.773,2,    1.123,2,   2.1133,2,   2119.5,2,   2430.8,2,    361.9,2,       20,   8.0119,2,       25,    66.27,2,      0.9,2,     3.50,2,      6.7,2,20230329,0426
33RO20230306  ,A16N       ,66      ,  1,660121     ,221        ,20230329,0225,  23.5012, -27.0335,     5504,     79.4,  22.4157,  37.2079,2,  37.2081,2,    202.2,2,    209.6,2,     0.60,2,     0.00,2,     0.00,2,     0.06,2,    1.751,2,    1.105,2,   2.1812,2,   2124.6,2,   2433.9,2,    363.0,2,       20,   8.0117,2,       25,    66.18,2,      1.0,2,     5.35,2,      6.6,2,20230329,0425
33RO20230306  ,A16N       ,66      ,  1,660120     ,220        ,20230329,0225,  23.5012, -27.0335,     5504,    111.0,  21.8307,  37.0756,2,  37.0767,2,    197.2,2,    208.1,2,     0.60,2,     0.20,2,     0.22,2,     0.11,2,    1.815,2,    1.152,2,   2.0729,2,   2131.1,2,   2425.6,2,    383.5,2,       20,   7.9904,2,       25,    62.15,2,      0.8,2,     4.18,2,      7.2,2,20230329,0422
33RO20230306  ,A16N       ,66      ,  1,660119     ,219        ,20230329,0225,  23.5012, -27.0335,     5504,    142.0,  20.3847,  37.0034,2,  37.0035,2,    184.0,2,    195.3,2,     0.90,2,     2.00,2,     0.03,2,     0.17,2,    1.960,2,    1.248,2,   2.0568,2,   2152.3,2,   2419.7,2,    434.9,2,       20,   7.9445,2,       25,    52.56,2,      0.4,2,     4.91,2,      7.7,2,20230329,0421
33RO20230306  ,A16N       ,66      ,  1,660118     ,218        ,20230329,0225,  23.5012, -27.0335,     5504,    174.6,  19.6345,  36.8660,2,  36.8693,2,    178.1,2,    189.9,2,     1.10,2,     3.40,2,     0.02,2,     0.23,2,    2.020,2,    1.268,2,   2.0546,2,   2157.2,2,   2410.0,2,    456.6,2,       20,   7.9264,2,       25,    54.66,2,      0.4,2,     6.66,2,      8.5,2,20230329,0419
33RO20230306  ,A16N       ,66      ,  1,660117     ,217        ,20230329,0225,  23.5012, -27.0335,     5504,    245.7,  16.8957,  36.3318,2,  36.3279,2,    164.8,2,    180.7,2,     2.30,2,     7.60,2,     0.01,2,     0.47,2,    2.282,2,    1.379,2,   1.8812,2,   2160.9,2,   2376.8,2,    529.1,2,       20,   7.8676,2,       25,    46.35,2,      0.4,2,    10.92,2,     10.8,2,20230329,0416
33RO20230306  ,A16N       ,66      ,  1,660116     ,216        ,20230329,0225,  23.5012, -27.0335,     5504,    352.7,  14.4999,  35.9248,2,  35.9259,6,    141.1,2,    158.5,2,     4.60,2,    13.70,2,     0.00,2,     0.84,2,    2.413,2,    1.433,2,   1.5889,2,   2181.2,2,   2353.7,2,    663.2,2,       20,   7.7811,2,       25,    43.94,2,      0.3,2,    15.65,2,     15.1,2,20230329,0413
33RO20230306  ,A16N       ,66      ,  1,660115     ,215        ,20230329,0225,  23.5012, -27.0335,     5504,    453.6,  13.0481,  35.7452,2,  35.7472,2,    132.7,2,    148.5,2,     6.20,2,    17.10,2,     0.00,2,     1.04,2,    2.364,2,    1.391,2,   1.2853,2,   2189.1,2,   2340.6,2,    746.1,2,       20,   7.7354,2,       25,    42.92,2,      0.3,2,    19.28,2,     16.7,2,20230329,0410
33RO20230306  ,A16N       ,66      ,  1,660114     ,214        ,20230329,0225,  23.5012, -27.0335,     5504,    603.1,  11.0492,  35.4730,2,  35.4763,2,    115.4,2,    117.3,2,    10.80,2,    24.10,2,     0.00,2,     1.49,2,    1.689,2,    0.966,2,   0.6987,2,   2213.6,2,   2328.8,2,    928.6,2,       20,   7.6493,2,       25,    42.34,2,      0.3,2,    26.44,2,     21.4,2,20230329,0406
33RO20230306  ,A16N       ,66      ,  1,660113     ,213        ,20230329,0225,  23.5012, -27.0335,     5504,    750.5,   9.0582,  35.2551,2,  35.2573,2,    106.5,2,    114.5,2,    15.80,2,    27.70,2,     0.00,2,     1.78,2,    0.857,2,    0.482,2,   0.2910,2,   2220.9,6,   2321.7,6,   1015.0,2,       20,   7.6142,6,       25,    42.37,2,      0.5,6,    31.27,2,     22.1,2,20230329,0403
33RO20230306  ,A16N       ,66      ,  1,660112     ,212        ,20230329,0225,  23.5012, -27.0335,     5504,    900.2,   7.3847,  35.1020,2,  35.1048,2,    122.7,2,    131.5,2,    19.70,2,    28.50,2,     0.00,2,     1.88,2,    0.360,2,    0.201,2,   0.1259,2,   2216.9,2,   2317.4,2,   1009.4,2,       20,   7.6152,2,       25,    40.11,2,      0.6,2,    32.04,2,     20.9,2,20230329,0359
33RO20230306  ,A16N       ,66      ,  1,660111     ,211        ,20230329,0225,  23.5012, -27.0335,     5504,   1152.4,   6.3819,  35.1348,2,  35.1430,2,    157.3,2,    169.0,2,    19.40,2,    25.10,2,     0.00,2,     1.68,2,    0.280,2,    0.158,2,   0.0350,2,   2203.6,2,   2323.3,2,    895.6,2,       20,   7.6610,2,       25,    40.64,2,      0.8,2,    27.44,2,     17.7,2,20230329,0354
33RO20230306  ,A16N       ,66      ,  1,660110     ,210        ,20230329,0225,  23.5012, -27.0335,     5504,   1349.5,   5.7378,  35.1553,2,  35.1652,2,    179.1,2,    192.2,2,    18.80,2,    22.80,2,     0.00,2,     1.53,2,    0.251,2,    0.141,2,   0.2742,2,   2194.2,2,   2325.2,2,    827.4,2,       20,   7.6911,2,       25,    40.26,2,      0.9,2,    24.26,2,     15.5,2,20230329,0349
33RO20230306  ,A16N       ,66      ,  1,660109     ,209        ,20230329,0225,  23.5012, -27.0335,     5504,   1601.5,   4.9635,  35.1188,2,  35.1212,2,    196.5,2,    212.2,2,    19.80,2,    21.50,2,     0.00,2,     1.46,2,    0.167,6,    0.091,6,   0.0898,6,   2189.0,2,   2324.9,2,    791.1,2,       20,   7.7070,2,       25,    40.89,2,      0.9,2,    23.51,2,     14.3,6,20230329,0344
33RO20230306  ,A16N       ,66      ,  1,660108     ,208        ,20230329,0225,  23.5012, -27.0335,     5504,   2002.2,   3.9087,  35.0316,2,     -999,9,    212.7,2,     -999,9,     -999,9,     -999,9,     -999,9,     -999,9,     -999,9,     -999,9,     -999,9,     -999,9,     -999,9,   -999.0,9,       20,     -999,9,       25,  -999.00,9,   -999.0,9,  -999.00,9,     -999,9,20230329,0336
33RO20230306  ,A16N       ,66      ,  1,660107     ,207        ,20230329,0225,  23.5012, -27.0335,     5504,   2402.9,   3.3490,  34.9939,2,  34.9967,2,    219.3,2,    238.7,2,    28.10,2,    20.60,2,     0.00,2,     1.42,2,    0.039,2,    0.022,2,   0.1184,2,   2185.3,2,   2326.2,2,    757.7,2,       20,   7.7235,2,       25,    40.02,2,      1.0,2,    22.55,2,     13.1,2,20230329,0328
33RO20230306  ,A16N       ,66      ,  1,660106     ,206        ,20230329,0225,  23.5012, -27.0335,     5504,   2902.6,   2.8068,  34.9430,2,  34.9447,2,    220.6,2,    241.8,2,    35.50,2,    21.00,2,     0.00,2,     1.45,2,    0.051,2,    0.026,2,   0.0000,3,   2193.8,2,   2336.4,2,    760.6,6,       20,   7.7247,2,       25,    40.46,2,      1.0,2,    22.33,2,     12.9,2,20230329,0317
33RO20230306  ,A16N       ,66      ,  1,660105     ,205        ,20230329,0225,  23.5012, -27.0335,     5504,   3399.4,   2.5242,  34.9138,2,  34.9164,2,    220.1,2,    242.2,2,    41.50,2,    21.70,2,     0.00,2,     1.49,2,    0.021,2,    0.018,2,   0.0000,3,   2197.9,2,   2343.5,2,    762.5,2,       20,   7.7240,2,       25,    40.14,2,      1.0,2,    22.34,2,     13.0,2,20230329,0307
33RO20230306  ,A16N       ,66      ,  1,660104     ,204        ,20230329,0225,  23.5012, -27.0335,     5504,   3901.5,   2.3954,  34.8968,2,  34.8989,6,    219.0,2,    243.4,2,    45.20,6,    22.00,6,     0.00,6,     1.52,6,    0.004,2,    0.000,2,   0.0000,3,   2198.8,2,   2345.3,2,    764.1,2,       20,   7.7237,2,       25,    40.00,2,      1.0,2,    23.11,2,     13.2,2,20230329,0257
33RO20230306  ,A16N       ,66      ,  1,660103     ,203        ,20230329,0225,  23.5012, -27.0335,     5504,   4392.3,   2.3631,  34.8881,2,  34.9088,2,    217.2,2,    242.7,2,    47.40,6,    22.30,6,     0.00,6,     1.53,6,    0.007,2,    0.005,2,   0.0000,2,   2202.4,2,   2348.6,2,    766.5,2,       20,   7.7237,2,       25,    40.34,2,      1.0,2,    23.77,2,     13.5,2,20230329,0247
33RO20230306  ,A16N       ,66      ,  1,660102     ,202        ,20230329,0225,  23.5012, -27.0335,     5504,   5096.1,   2.4159,  34.8836,2,  34.8884,2,    214.7,2,    242.8,2,    48.30,6,    22.30,6,     0.00,6,     1.54,6,    0.009,2,    0.009,2,   0.0448,3,   2206.9,2,   2353.1,2,    764.9,2,       20,   7.7243,2,       25,    40.47,2,      0.9,2,    23.48,2,     14.3,2,20230329,0234
33RO20230306  ,A16N       ,66      ,  1,660101     ,201        ,20230329,0225,  23.5012, -27.0335,     5504,   5592.6,   2.4746,  34.8821,2,  34.8896,2,    213.1,2,    244.3,2,    48.60,6,    22.30,6,     0.00,6,     1.53,6,    0.019,2,    0.011,2,   0.0000,3,   2209.7,6,   2351.6,2,    765.4,2,       20,   7.7239,2,       25,    40.25,2,      0.9,6,    23.77,2,     14.8,2,20230329,0225
33RO20230306  ,A16N       ,67      ,  1,670124     ,224        ,20230329,0933,  24.0179, -26.7646,     5459,      4.3,  22.7519,  37.2069,2,  37.2069,2,    202.1,2,    214.7,2,     0.30,2,     0.00,2,     0.00,2,     0.08,2,    1.763,2,    1.116,2,   1.9283,2,   2120.0,6,   2434.1,2,    358.3,2,       20,   8.0146,2,       25,    65.33,2,      1.1,2,     5.01,2,      6.6,2,20230329,1141
33RO20230306  ,A16N       ,67      ,  1,670123     ,223        ,20230329,0933,  24.0179, -26.7646,     5459,     20.8,  22.7528,  37.2083,2,  37.2100,2,    202.1,2,    215.1,2,     0.60,2,     0.00,2,     0.00,2,     0.07,2,    1.766,2,    1.088,2,   1.8913,2,   2119.3,2,   2433.2,2,    358.2,2,       20,   8.0135,2,       25,  -999.00,9,      1.0,2,  -999.00,9,      6.6,2,20230329,1138
33RO20230306  ,A16N       ,67      ,  1,670122     ,222        ,20230329,0933,  24.0179, -26.7646,     5459,     40.7,  22.7479,  37.2081,2,  37.2090,2,    202.1,2,    214.7,2,     0.30,2,     0.00,2,     0.00,2,     0.06,2,    1.766,2,    1.096,2,   1.9959,2,   2116.6,2,   2432.3,2,    358.7,2,       20,   8.0142,2,       25,  -999.00,9,      1.1,2,  -999.00,9,      6.6,2,20230329,1136
33RO20230306  ,A16N       ,67      ,  1,670121     ,221        ,20230329,0933,  24.0179, -26.7646,     5459,     69.8,  22.2411,  37.2260,2,  37.2306,2,    204.1,2,    212.4,2,     0.40,2,     0.00,2,     0.00,2,     0.07,2,    1.764,2,    1.124,2,   1.9564,2,   2121.8,2,   2434.0,2,    364.6,2,       20,   8.0074,2,       25,  -999.00,9,      1.0,2,  -999.00,9,      6.7,2,20230329,1134
33RO20230306  ,A16N       ,67      ,  1,670120     ,220        ,20230329,0933,  24.0179, -26.7646,     5459,    120.3,  20.1152,  36.9119,2,  36.9477,2,    173.5,2,    186.7,2,     1.00,2,     3.60,2,     0.05,2,     0.27,2,    1.994,2,    1.247,2,   1.9290,2,   2154.6,2,   2411.1,6,    457.0,2,       20,   7.9272,6,       25,  -999.00,9,      0.5,2,  -999.00,9,      9.2,2,20230329,1132
33RO20230306  ,A16N       ,67      ,  1,670119     ,219        ,20230329,0933,  24.0179, -26.7646,     5459,    171.2,  18.6115,  36.6466,2,  36.6431,2,    157.1,2,    178.4,2,     1.60,2,     5.80,2,     0.02,2,     0.39,2,    2.124,2,    1.312,2,   1.8986,2,   2159.6,2,   2393.7,2,    498.2,6,       20,   7.8911,2,       25,  -999.00,9,      0.3,2,  -999.00,9,     11.0,2,20230329,1130
33RO20230306  ,A16N       ,67      ,  1,670118     ,218        ,20230329,0933,  24.0179, -26.7646,     5459,    214.2,  17.3788,  36.4272,2,  36.4248,2,    148.4,2,    187.3,2,     1.70,2,     6.20,2,     0.01,2,     0.39,2,    2.259,2,    1.380,2,   1.9059,2,   2149.0,2,   2380.2,2,    500.3,2,       20,   7.8880,2,       25,  -999.00,9,      0.4,2,  -999.00,9,     10.3,2,20230329,1128
33RO20230306  ,A16N       ,67      ,  1,670117     ,217        ,20230329,0933,  24.0179, -26.7646,     5459,    330.3,  15.3189,  36.0592,2,  36.0580,2,    166.0,2,    179.0,2,     3.10,2,    10.20,2,     0.01,2,     0.65,2,    2.447,2,    1.460,2,   1.7660,2,   2160.6,2,   2359.7,2,    579.4,2,       20,   7.8307,2,       25,  -999.00,9,      0.4,2,  -999.00,9,     12.5,2,20230329,1124
33RO20230306  ,A16N       ,67      ,  1,670116     ,216        ,20230329,0933,  24.0179, -26.7646,     5459,    475.2,  12.8691,  35.7282,2,  35.7259,2,    168.6,2,    176.4,2,     5.10,2,    14.40,2,     0.00,2,     0.91,2,    2.552,2,    1.463,2,   1.4839,2,   2172.2,2,   2340.8,2,    674.5,2,       20,   7.7712,2,       25,  -999.00,9,      0.3,2,  -999.00,9,     14.3,2,20230329,1121
33RO20230306  ,A16N       ,67      ,  1,670115     ,215        ,20230329,0933,  24.0179, -26.7646,     5459,    552.1,  12.1074,  35.6446,2,  35.6430,2,    163.3,2,    172.1,2,     6.20,2,    16.10,2,     0.00,2,     1.01,2,    2.471,6,    1.418,6,   1.2700,6,   2179.9,2,   2337.2,2,    713.5,2,       20,   7.7495,2,       25,  -999.00,9,      0.4,2,  -999.00,9,     15.2,6,20230329,1118
33RO20230306  ,A16N       ,67      ,  1,670114     ,214        ,20230329,0933,  24.0179, -26.7646,     5459,    701.6,  10.1137,  35.4205,2,  35.4288,2,    136.2,2,    139.5,2,    12.00,2,    23.10,2,     0.00,2,     1.48,2,    1.419,2,    0.795,2,   0.4502,2,   2200.7,6,   2327.2,2,    861.8,2,       20,   7.6762,2,       25,  -999.00,9,      0.5,6,  -999.00,9,     19.5,2,20230329,1114
33RO20230306  ,A16N       ,67      ,  1,670113     ,213        ,20230329,0933,  24.0179, -26.7646,     5459,   1003.1,   7.3337,  35.2014,2,  35.2176,2,    144.3,2,    156.9,2,    17.80,2,    25.30,2,     0.00,2,     1.69,2,    0.492,2,    0.279,2,   0.1477,2,   2205.7,2,   2323.9,2,    899.3,2,       20,   7.6588,2,       25,  -999.00,9,      0.7,2,  -999.00,9,     19.2,2,20230329,1108
33RO20230306  ,A16N       ,67      ,  1,670112     ,212        ,20230329,0933,  24.0179, -26.7646,     5459,   1252.0,   6.4380,  35.2260,2,  35.2373,2,    173.3,2,    186.5,2,    17.30,2,    22.70,2,     0.00,2,     1.52,2,    0.497,2,    0.276,2,   0.1541,2,   2197.2,2,   2326.9,2,    827.2,2,       20,   7.6919,2,       25,  -999.00,9,      0.9,2,  -999.00,9,     16.8,2,20230329,1102
33RO20230306  ,A16N       ,67      ,  1,670111     ,211        ,20230329,0933,  24.0179, -26.7646,     5459,   1499.8,   5.5582,  35.2018,2,  35.2031,2,    194.4,2,    209.9,2,    17.70,2,    20.90,2,     0.00,2,     1.41,2,    0.512,2,    0.278,2,   0.1556,2,   2187.4,2,   2328.5,2,    782.6,2,       20,   7.7108,2,       25,  -999.00,9,      1.0,2,  -999.00,9,     15.3,2,20230329,1056
33RO20230306  ,A16N       ,67      ,  1,670110     ,210        ,20230329,0933,  24.0179, -26.7646,     5459,   1801.7,   4.5730,  35.1194,2,  35.1206,2,    209.3,2,    225.9,2,    20.40,2,    20.30,2,     0.00,2,     1.40,2,    0.382,2,    0.201,2,   0.0685,2,   2183.4,2,   2325.9,6,    766.2,2,       20,   7.7189,6,       25,  -999.00,9,      0.9,2,  -999.00,9,     14.3,2,20230329,1050
33RO20230306  ,A16N       ,67      ,  1,670109     ,209        ,20230329,0933,  24.0179, -26.7646,     5459,   2203.2,   3.6449,  35.0253,2,  35.0273,2,    221.3,2,    240.3,2,    24.50,2,    20.00,2,     0.00,2,     1.39,2,    0.252,2,    0.137,2,   0.1467,2,   2180.9,2,   2325.8,2,    754.4,2,       20,   7.7246,2,       25,  -999.00,9,      0.9,2,  -999.00,9,     13.5,2,20230329,1042
33RO20230306  ,A16N       ,67      ,  1,670108     ,208        ,20230329,0933,  24.0179, -26.7646,     5459,   2651.0,   2.9748,  34.9595,2,  34.9622,2,    224.0,2,    243.1,2,    31.70,2,    20.50,2,     0.00,2,     1.42,2,    0.116,2,    0.064,2,   0.0000,2,   2186.8,2,   2333.2,2,    755.3,2,       20,   7.7259,2,       25,  -999.00,9,      1.1,2,  -999.00,9,     13.3,2,20230329,1032
33RO20230306  ,A16N       ,67      ,  1,670107     ,207        ,20230329,0933,  24.0179, -26.7646,     5459,   3105.2,   2.6426,  34.9271,2,  34.9283,2,    221.3,2,    243.1,2,    38.50,2,    21.40,2,     0.00,2,     1.49,2,    0.039,2,    0.026,2,   0.0732,2,   2193.3,2,   2339.3,2,    760.0,2,       20,   7.7241,2,       25,  -999.00,9,      1.0,2,  -999.00,9,     13.5,2,20230329,1023
33RO20230306  ,A16N       ,67      ,  1,670106     ,206        ,20230329,0933,  24.0179, -26.7646,     5459,   3500.3,   2.4972,  34.9103,2,  34.9135,2,    220.4,2,    238.7,2,    42.20,2,    21.90,2,     0.00,2,     1.51,2,    0.012,2,    0.010,2,   0.0000,2,   2195.1,2,   2340.7,2,    760.9,2,       20,   7.7232,2,       25,  -999.00,9,      0.9,2,  -999.00,9,     13.5,2,20230329,1014
33RO20230306  ,A16N       ,67      ,  1,670105     ,205        ,20230329,0933,  24.0179, -26.7646,     5459,   3999.5,   2.3982,  34.8962,2,  34.9079,6,    218.8,2,    243.6,2,    45.40,2,    22.20,2,     0.00,2,     1.54,2,    0.003,2,    0.003,2,   0.0000,3,   2197.8,2,   2344.1,2,    765.0,2,       20,   7.7264,2,       25,  -999.00,9,      1.0,2,  -999.00,9,     13.8,2,20230329,1005
33RO20230306  ,A16N       ,67      ,  1,670104     ,204        ,20230329,0933,  24.0179, -26.7646,     5459,   4498.1,   2.3669,  34.8870,2,  34.8876,2,    217.2,2,    242.8,2,    47.70,2,    22.40,2,     0.00,2,     1.55,2,    0.006,2,    0.007,2,   0.0000,2,   2200.7,2,   2348.4,2,    767.0,2,       20,   7.7226,2,       25,  -999.00,9,      0.9,2,  -999.00,9,     14.1,2,20230329,0955
33RO20230306  ,A16N       ,67      ,  1,670103     ,203        ,20230329,0933,  24.0179, -26.7646,     5459,   4897.4,   2.3924,  34.8839,2,  34.8841,2,    216.1,2,    242.7,2,    48.20,2,    22.40,2,     0.00,2,     1.56,2,    0.012,2,    0.011,2,   0.0000,3,   2201.9,2,   2349.3,2,   -999.0,9,       20,   7.7230,2,       25,  -999.00,9,      1.0,2,  -999.00,9,     14.3,2,20230329,0947
33RO20230306  ,A16N       ,67      ,  1,670102     ,202        ,20230329,0933,  24.0179, -26.7646,     5459,   5191.1,   2.4243,  34.8831,2,  34.8833,2,    215.4,2,    245.4,2,    48.40,2,    22.40,2,     0.00,2,     1.55,2,    0.030,2,    0.042,2,     -999,9,   2201.6,2,   2348.4,2,    767.6,2,       20,   7.7229,2,       25,  -999.00,9,      0.9,2,  -999.00,9,     15.8,2,20230329,0941
33RO20230306  ,A16N       ,67      ,  1,670101     ,201        ,20230329,0933,  24.0179, -26.7646,     5459,   5548.3,   2.4694,  34.8824,2,  34.8835,2,    214.0,2,    242.8,2,    48.40,2,    22.40,2,     0.00,2,     1.55,2,    0.015,2,    0.011,2,   0.0000,3,   2204.0,6,   2352.7,2,    767.3,2,       20,   7.7239,2,       25,  -999.00,9,      0.9,6,  -999.00,9,     15.1,2,20230329,0933