BOTTLE,20240601CCHHYDRO
EXPOCODE,SECT_ID,STNNBR,CASTNO,SAMPNO,BTLNBR,DATE,TIME,LATITUDE,LONGITUDE,DEPTH,CTDPRS,CTDTMP,CTDSAL,CTDSAL_FLAG_W,SALNTY,SALNTY_FLAG_W,CTDOXY,CTDOXY_FLAG_W,OXYGEN,OXYGEN_FLAG_W,SILCAT,SILCAT_FLAG_W,NITRAT,NITRAT_FLAG_W,NITRIT,NITRIT_FLAG_W,PHSPHT,PHSPHT_FLAG_W,CFC-11,CFC-11_FLAG_W,CFC-12,CFC-12_FLAG_W,SF6,SF6_FLAG_W,TCARBN,TCARBN_FLAG_W,ALKALI,ALKALI_FLAG_W,FCO2,FCO2_FLAG_W,FCO2TMP,PH_TOT,PH_TOT_FLAG_W,PH_TMP,DOC,DOC_FLAG_W,DELC13,DELC13_FLAG_W,TDN,TDN_FLAG_W,N2O,N2O_FLAG_W,BTL_DATE,BTL_TIME
,,,,,,,,,,METERS,DBAR,ITS-90,PSS-78,,PSS-78,,UMOL/KG,,UMOL/KG,,UMOL/KG,,UMOL/KG,,UMOL/KG,,UMOL/KG,,PMOL/KG,,PMOL/KG,,FMOL/KG,,UMOL/KG,,UMOL/KG,,UATM,,DEG C,,,DEG C,UMOL/KG,,/MILLE,,UMOL/KG,,NMOL/KG,,,
33RO20230306  ,A16N       ,36      ,  1,360124     ,224        ,20230320,0150,   8.5013, -27.7514,     4932,      3.6,  26.6477,  35.8250,2,  35.8240,2,    198.1,2,    206.5,2,     1.30,2,     0.00,2,     0.03,2,     0.04,2,    1.512,2,    0.967,2,   1.6933,2,   2009.4,6,   2343.5,2,    293.6,2,       20,   8.0738,2,       25,    76.08,2,      1.2,2,     3.29,2,      6.0,2,20230320,0348
33RO20230306  ,A16N       ,36      ,  1,360123     ,223        ,20230320,0150,   8.5013, -27.7514,     4932,     23.4,  26.6515,  35.8242,2,  35.8263,2,    198.1,2,    206.5,2,     1.20,2,     0.00,2,     0.02,2,     0.04,2,    1.516,2,    0.968,2,   1.8417,2,   2006.6,2,   2342.0,2,    294.4,2,       20,   8.0727,2,       25,    73.32,2,      1.2,2,     4.34,2,      6.0,2,20230320,0345
33RO20230306  ,A16N       ,36      ,  1,360122     ,222        ,20230320,0150,   8.5013, -27.7514,     4932,     48.5,  25.9347,  35.8022,2,  35.8300,2,    202.4,2,    204.2,2,     1.40,2,     0.10,2,     0.03,2,     0.06,2,    1.620,2,    1.007,2,   1.6328,2,   2027.4,2,   2345.0,2,    323.4,2,       20,   8.0405,2,       25,    66.09,2,      1.1,2,     3.94,2,      8.8,2,20230320,0343
33RO20230306  ,A16N       ,36      ,  1,360121     ,221        ,20230320,0150,   8.5013, -27.7514,     4932,     80.4,  17.4800,  35.8286,2,     -999,9,    118.4,2,     -999,9,     -999,9,     -999,9,     -999,9,     -999,9,     -999,9,     -999,9,     -999,9,     -999,9,     -999,9,   -999.0,9,       20,     -999,9,       25,  -999.00,9,   -999.0,9,  -999.00,9,     -999,9,20230320,0340
33RO20230306  ,A16N       ,36      ,  1,360120     ,220        ,20230320,0150,   8.5013, -27.7514,     4932,    102.1,  15.2952,  35.6327,2,  35.6315,2,    125.5,2,    128.7,2,     6.40,2,    17.40,2,     0.06,2,     1.16,2,    2.302,2,    1.324,2,   1.3276,2,   2181.0,2,   2335.4,2,    743.2,2,       20,   7.7336,2,       25,  -999.00,9,      0.3,2,  -999.00,9,     21.7,2,20230320,0338
33RO20230306  ,A16N       ,36      ,  1,360119     ,219        ,20230320,0150,   8.5013, -27.7514,     4932,    151.6,  12.8696,  35.2916,2,  35.2928,2,    127.8,2,    133.0,2,     8.10,2,    20.10,2,     0.03,2,     1.35,2,    2.421,2,    1.362,2,   1.2610,2,   2186.2,2,   2318.7,2,    828.9,2,       20,   7.6890,2,       25,    42.50,2,      0.4,2,    25.01,2,     23.4,2,20230320,0335
33RO20230306  ,A16N       ,36      ,  1,360118     ,218        ,20230320,0150,   8.5013, -27.7514,     4932,    223.9,  11.9108,  35.1533,2,  35.1601,2,    118.6,2,    120.3,2,     9.70,2,    23.20,2,     0.03,2,     1.54,2,    2.327,2,    1.295,2,   0.9668,2,   2195.8,2,   2313.6,2,    941.3,2,       20,   7.6422,2,       25,    41.68,2,      0.4,2,    26.95,2,     26.7,2,20230320,0333
33RO20230306  ,A16N       ,36      ,  1,360117     ,217        ,20230320,0150,   8.5013, -27.7514,     4932,    332.9,  10.7144,  35.0351,2,  35.0382,6,     87.3,2,     97.8,2,    12.20,2,    27.80,2,     0.01,2,     1.78,2,    2.048,2,    1.120,2,   0.7245,2,   2213.4,2,   2305.7,2,   1116.5,2,       20,   7.5749,2,       25,    42.46,2,      0.3,2,    29.73,2,     31.5,2,20230320,0330
33RO20230306  ,A16N       ,36      ,  1,360116     ,216        ,20230320,0150,   8.5013, -27.7514,     4932,    409.3,  10.0025,  34.9841,2,  35.0020,2,     70.7,2,     73.0,2,    14.30,2,    31.80,2,     0.03,2,     2.00,2,    1.633,2,    0.888,2,   0.4475,2,   2232.8,2,   2301.7,2,   1308.8,2,       20,   7.5139,2,       25,    40.72,2,      0.1,2,    34.75,2,     34.6,2,20230320,0327
33RO20230306  ,A16N       ,36      ,  1,360115     ,215        ,20230320,0150,   8.5013, -27.7514,     4932,    506.7,   9.5299,  35.0369,2,  35.0340,2,     43.7,2,     45.0,2,    16.40,2,    35.60,2,     0.01,2,     2.20,2,    0.954,2,    0.526,2,   0.2573,2,   2250.4,6,   2303.0,2,   1495.0,2,       20,   7.4616,2,       25,    40.22,2,      0.1,6,    39.70,2,     36.9,2,20230320,0324
33RO20230306  ,A16N       ,36      ,  1,360114     ,214        ,20230320,0150,   8.5013, -27.7514,     4932,    648.8,   7.6721,  34.8574,2,  34.8675,2,     57.1,2,     61.3,2,    21.30,2,    37.60,2,     0.01,2,     2.40,2,    0.356,2,    0.196,2,   0.1102,2,   2250.9,2,   2298.3,2,   1502.1,6,       20,   7.4557,2,       25,    42.19,2,      0.2,2,    40.15,2,     32.4,2,20230320,0320
33RO20230306  ,A16N       ,36      ,  1,360113     ,213        ,20230320,0150,   8.5013, -27.7514,     4932,    803.6,   6.1337,  34.7257,2,  34.7453,2,     92.2,2,     98.8,2,    25.80,2,    36.20,2,     0.01,2,     2.39,2,    0.117,2,    0.067,2,   0.0000,3,   2236.9,2,   2300.8,2,   1362.6,2,       20,   7.4950,2,       25,    40.76,2,      0.5,2,    40.19,2,     27.3,2,20230320,0316
33RO20230306  ,A16N       ,36      ,  1,360112     ,212        ,20230320,0150,   8.5013, -27.7514,     4932,    948.9,   5.4964,  34.7345,2,  34.7403,2,    113.1,2,    120.4,2,    27.30,2,    34.40,2,     0.01,2,     2.30,2,    0.045,2,    0.029,2,   0.0000,2,   2229.9,2,   2303.7,2,   1249.1,2,       20,   7.5277,2,       25,    42.00,2,      0.7,2,    38.62,2,     24.1,2,20230320,0313
33RO20230306  ,A16N       ,36      ,  1,360111     ,211        ,20230320,0150,   8.5013, -27.7514,     4932,   1073.3,   5.2323,  34.8162,2,  34.8205,2,    131.8,2,    140.7,2,    26.40,2,    31.70,2,     0.01,2,     2.13,2,    0.034,2,    0.020,2,   0.0000,2,   2220.4,2,   2306.2,2,   1132.6,2,       20,   7.5672,2,       25,    40.77,2,      0.7,2,    32.97,2,     23.0,2,20230320,0309
33RO20230306  ,A16N       ,36      ,  1,360110     ,210        ,20230320,0150,   8.5013, -27.7514,     4932,   1351.4,   4.5702,  34.9410,2,  34.9618,2,    189.5,2,    203.1,2,    20.90,2,    24.10,2,     0.05,2,     1.63,2,    0.289,2,    0.153,2,   0.0464,2,   2187.7,2,   2310.3,2,    878.1,2,       20,   7.6647,2,       25,    40.62,2,      0.8,2,    26.07,2,     17.4,2,20230320,0303
33RO20230306  ,A16N       ,36      ,  1,360109     ,209        ,20230320,0150,   8.5013, -27.7514,     4932,   1648.5,   3.9974,  34.9701,2,  34.9725,2,    218.6,2,    242.1,2,    19.50,2,    21.00,2,     0.01,2,     1.43,2,    0.300,2,    0.153,2,   0.1095,3,   2173.3,2,   2311.4,2,    791.4,2,       20,   7.7032,2,       25,    40.42,2,      0.9,2,    19.34,2,     14.8,2,20230320,0257
33RO20230306  ,A16N       ,36      ,  1,360108     ,208        ,20230320,0150,   8.5013, -27.7514,     4932,   2049.9,   3.4663,  34.9582,2,  34.9602,2,    227.8,2,    246.1,2,    22.90,2,    20.30,2,     0.04,2,     1.38,2,    0.171,2,    0.091,2,   0.0000,3,   2171.1,2,   2314.7,2,    762.5,2,       20,   7.7195,2,       25,    40.69,2,      1.1,2,    20.68,2,     14.1,2,20230320,0249
33RO20230306  ,A16N       ,36      ,  1,360107     ,207        ,20230320,0150,   8.5013, -27.7514,     4932,   2447.1,   3.0772,  34.9416,2,  34.9545,2,    230.1,2,    248.1,2,    27.90,2,    20.40,2,     0.01,2,     1.39,2,    0.082,2,    0.046,2,   0.0000,3,   2174.1,2,   2319.4,2,    755.4,2,       20,   7.7210,2,       25,    40.23,2,      1.1,2,    21.41,2,     13.9,2,20230320,0241
33RO20230306  ,A16N       ,36      ,  1,360106     ,206        ,20230320,0150,   8.5013, -27.7514,     4932,   2799.8,   2.8312,  34.9258,2,  34.9260,2,    227.8,2,    246.7,2,    33.00,2,    20.90,2,     0.02,2,     1.43,2,    0.033,2,    0.022,2,   0.0103,2,   2177.4,2,   2326.1,2,    761.8,2,       20,   7.7199,2,       25,    41.19,2,      1.0,2,    18.06,2,     14.2,2,20230320,0234
33RO20230306  ,A16N       ,36      ,  1,360105     ,205        ,20230320,0150,   8.5013, -27.7514,     4932,   3001.9,   2.7221,  34.9177,2,  34.9296,6,    226.6,2,    247.2,2,    35.50,2,    21.10,2,     0.06,2,     1.44,2,    0.030,2,    0.021,2,   0.0618,3,   2179.4,2,   2327.8,2,    765.4,2,       20,   7.7193,2,       25,    41.27,2,      0.8,2,    19.46,2,     14.5,2,20230320,0229
33RO20230306  ,A16N       ,36      ,  1,360104     ,204        ,20230320,0150,   8.5013, -27.7514,     4932,   3500.6,   2.5187,  34.9018,2,  34.9027,2,    226.0,2,    247.9,2,    39.90,2,    21.30,2,     0.04,2,     1.46,2,    0.057,2,    0.030,2,   0.0000,3,   2187.8,2,   2330.9,2,    770.3,2,       20,   7.7184,2,       25,    42.44,2,      1.0,2,    19.48,2,     14.4,2,20230320,0220
33RO20230306  ,A16N       ,36      ,  1,360103     ,203        ,20230320,0150,   8.5013, -27.7514,     4932,   4098.5,   2.3334,  34.8843,2,  34.8840,2,    226.7,2,    251.0,2,    44.20,2,    21.40,2,     0.02,2,     1.47,2,    0.169,2,    0.094,2,   0.0022,2,   2191.3,2,   2334.6,2,    778.2,2,       20,   7.7152,2,       25,    42.00,2,      1.0,2,    17.82,2,     14.8,2,20230320,0208
33RO20230306  ,A16N       ,36      ,  1,360102     ,202        ,20230320,0150,   8.5013, -27.7514,     4932,   4450.9,   2.2998,  34.8779,2,  34.8814,2,    222.7,2,    248.5,2,    47.10,2,    21.80,2,     0.03,2,     1.50,2,    0.148,6,    0.079,6,   0.0000,3,   2198.7,2,   2338.8,2,    780.3,2,       20,   7.7146,2,       25,    42.83,2,      1.0,2,    18.65,2,     15.0,6,20230320,0200
33RO20230306  ,A16N       ,36      ,  1,360101     ,201        ,20230320,0150,   8.5013, -27.7514,     4932,   5003.7,   2.3159,  34.8740,2,  34.8768,2,    215.4,2,    241.9,2,    50.80,2,    22.60,2,     0.03,2,     1.54,2,    0.067,2,    0.042,2,   0.0000,2,   2200.8,2,   2351.8,2,    783.1,2,       20,   7.7131,2,       25,    42.43,2,      0.9,6,    17.34,2,     15.4,2,20230320,0150
33RO20230306  ,A16N       ,37      ,  1,370124     ,224        ,20230320,0857,   9.0001, -28.0007,     4219,      4.2,  26.5260,  35.7737,2,  35.7715,2,    195.8,2,    205.3,2,     1.20,2,     0.00,2,     0.02,2,     0.05,2,    1.513,2,    0.963,2,   1.7197,2,   2013.2,6,   2340.3,2,    296.6,2,       20,   8.0704,2,       25,    73.55,2,      1.1,2,     4.68,2,      6.2,2,20230320,1056
33RO20230306  ,A16N       ,37      ,  1,370123     ,223        ,20230320,0857,   9.0001, -28.0007,     4219,     11.3,  26.5293,  35.7731,2,  35.7712,2,    195.8,2,    205.6,2,     1.20,2,     0.00,2,     0.02,2,     0.04,2,    1.508,2,    0.955,2,   1.7172,2,   2012.5,2,   2341.5,2,    297.5,2,       20,   8.0693,2,       25,  -999.00,9,      1.1,2,  -999.00,9,      6.1,2,20230320,1054
33RO20230306  ,A16N       ,37      ,  1,370122     ,222        ,20230320,0857,   9.0001, -28.0007,     4219,     31.1,  26.5114,  35.7714,2,  35.7736,2,    196.1,2,    205.4,2,     1.20,2,     0.00,2,     0.01,2,     0.06,2,    1.507,2,    0.960,2,   1.7891,2,   2010.7,2,   2341.3,2,    299.6,2,       20,   8.0697,2,       25,  -999.00,9,      1.2,2,  -999.00,9,      6.2,2,20230320,1052
33RO20230306  ,A16N       ,37      ,  1,370121     ,221        ,20230320,0857,   9.0001, -28.0007,     4219,     68.7,  20.8921,  36.0672,2,  36.0465,2,    146.6,2,    161.7,2,     2.80,2,     3.50,2,     0.16,2,     0.30,2,    1.894,2,    1.145,2,   1.5507,2,   2136.4,2,   2364.8,2,    493.3,2,       20,   7.8944,2,       25,  -999.00,9,      0.6,2,  -999.00,9,     17.4,2,20230320,1049
33RO20230306  ,A16N       ,37      ,  1,370120     ,220        ,20230320,0857,   9.0001, -28.0007,     4219,    117.1,  15.1392,  35.6080,2,  35.6143,2,    122.5,2,    125.7,2,     6.40,2,    17.90,2,     0.06,2,     1.21,2,    2.307,2,    1.331,2,   1.2425,2,   2190.0,2,   2336.2,2,    766.1,2,       20,   7.7246,2,       25,  -999.00,9,      0.3,2,  -999.00,9,     23.0,2,20230320,1047
33RO20230306  ,A16N       ,37      ,  1,370119     ,219        ,20230320,0857,   9.0001, -28.0007,     4219,    190.9,  12.5439,  35.2504,2,  35.2478,2,    104.1,2,    108.8,2,     9.10,2,    23.20,2,     0.02,2,     1.53,2,    2.327,2,    1.309,2,   0.9949,2,   2209.4,2,   2316.7,2,    956.5,2,       20,   7.6370,2,       25,  -999.00,9,      0.2,2,  -999.00,9,     28.3,2,20230320,1045
33RO20230306  ,A16N       ,37      ,  1,370118     ,218        ,20230320,0857,   9.0001, -28.0007,     4219,    267.7,  11.5365,  35.1388,2,  35.1394,2,     90.4,2,     91.0,2,    10.80,2,    26.80,2,     0.02,2,     1.73,2,    2.141,2,    1.191,2,   0.8217,2,   2222.0,2,   2310.0,2,   1095.6,2,       20,   7.5837,2,       25,  -999.00,9,      0.3,2,  -999.00,9,     31.8,2,20230320,1042
33RO20230306  ,A16N       ,37      ,  1,370117     ,217        ,20230320,0857,   9.0001, -28.0007,     4219,    347.4,  10.8393,  35.1071,2,  35.1068,2,     61.0,2,     62.2,2,    12.80,2,    31.30,2,     0.01,2,     1.96,2,    1.739,2,    0.954,2,   0.5832,2,   2244.9,2,   2308.3,2,   1313.6,2,       20,   7.5134,2,       25,  -999.00,9,      0.2,2,  -999.00,9,     36.6,2,20230320,1040
33RO20230306  ,A16N       ,37      ,  1,370116     ,216        ,20230320,0857,   9.0001, -28.0007,     4219,    448.8,   9.8307,  35.0518,2,  35.0527,2,     42.8,2,     29.7,2,    15.40,2,    35.10,2,     0.01,2,     2.16,2,    1.132,6,    0.622,6,   0.3142,6,   2255.3,6,   2305.1,2,   1482.9,2,       20,   7.4645,2,       25,  -999.00,9,      0.0,6,  -999.00,9,     37.4,6,20230320,1037
33RO20230306  ,A16N       ,37      ,  1,370115     ,215        ,20230320,0857,   9.0001, -28.0007,     4219,    568.5,   8.3227,  34.9117,2,  34.9108,2,     55.2,2,     58.6,2,    19.20,2,    36.80,2,     0.01,2,     2.34,2,    0.551,2,    0.303,2,   0.1392,2,   2254.1,2,   2301.8,2,   1486.2,2,       20,   7.4627,2,       25,  -999.00,9,      0.2,2,  -999.00,9,     33.0,2,20230320,1034
33RO20230306  ,A16N       ,37      ,  1,370114     ,214        ,20230320,0857,   9.0001, -28.0007,     4219,    718.4,   6.7046,  34.7601,2,  34.7650,2,     75.6,2,     81.7,2,    23.90,2,    37.30,2,     0.01,2,     2.43,2,    0.195,2,    0.110,2,   0.0566,2,   2249.6,2,   2299.4,2,   1443.6,2,       20,   7.4731,2,       25,  -999.00,9,      0.4,2,  -999.00,9,     29.5,2,20230320,1030
33RO20230306  ,A16N       ,37      ,  1,370113     ,213        ,20230320,0857,   9.0001, -28.0007,     4219,    866.3,   5.7251,  34.7013,2,  34.7064,2,    101.9,2,    108.7,2,    27.10,2,    35.90,2,     0.01,2,     2.40,2,    0.075,2,    0.045,2,   0.0609,2,   2239.5,2,   2302.8,2,   1323.0,2,       20,   7.5060,2,       25,  -999.00,9,      0.5,2,  -999.00,9,     26.4,2,20230320,1026
33RO20230306  ,A16N       ,37      ,  1,370112     ,212        ,20230320,0857,   9.0001, -28.0007,     4219,   1019.3,   5.3457,  34.7627,2,  34.7654,2,    121.1,2,    128.5,2,    27.10,2,    33.40,2,     0.03,2,     2.27,2,    0.036,2,    0.024,2,   0.0513,2,   2231.1,2,   2307.0,2,   1201.1,2,       20,   7.5435,2,       25,  -999.00,9,      0.6,2,  -999.00,9,     24.0,2,20230320,1022
33RO20230306  ,A16N       ,37      ,  1,370111     ,211        ,20230320,0857,   9.0001, -28.0007,     4219,   1170.4,   4.9864,  34.8666,2,  34.8728,2,    149.3,2,    159.3,2,    24.90,2,    29.40,2,     0.01,2,     1.99,2,    0.047,2,    0.027,2,   0.0384,2,   2216.6,2,   2310.7,2,   1042.9,2,       20,   7.5978,2,       25,  -999.00,9,      0.7,2,  -999.00,9,     20.9,2,20230320,1019
33RO20230306  ,A16N       ,37      ,  1,370110     ,210        ,20230320,0857,   9.0001, -28.0007,     4219,   1300.2,   4.6460,  34.9126,2,  34.9124,2,    172.1,2,    184.1,2,    23.10,2,    26.50,2,     0.01,2,     1.81,2,    0.070,2,    0.043,2,   0.1096,2,   2203.2,2,   2311.4,2,    945.3,2,       20,   7.6365,2,       25,  -999.00,9,      0.8,2,  -999.00,9,     18.7,2,20230320,1015
33RO20230306  ,A16N       ,37      ,  1,370109     ,209        ,20230320,0857,   9.0001, -28.0007,     4219,   1551.4,   4.1536,  34.9630,2,  34.9673,2,    208.1,2,    228.3,2,    19.80,2,    22.00,2,     0.01,2,     1.50,2,    0.233,2,    0.122,2,   0.2487,2,   2181.7,2,   2312.7,2,    816.3,2,       20,   7.6919,2,       25,  -999.00,9,      0.9,2,  -999.00,9,     15.7,2,20230320,1010
33RO20230306  ,A16N       ,37      ,  1,370108     ,208        ,20230320,0857,   9.0001, -28.0007,     4219,   1849.7,   3.7175,  34.9673,2,  34.9811,2,    225.7,2,    243.4,2,    20.30,2,    20.30,2,     0.01,2,     1.39,2,    0.224,2,    0.116,2,   0.0416,2,   2173.5,2,     -999,9,    770.2,2,       20,   7.7201,2,       25,  -999.00,9,      1.0,2,  -999.00,9,     14.4,2,20230320,1004
33RO20230306  ,A16N       ,37      ,  1,370107     ,207        ,20230320,0857,   9.0001, -28.0007,     4219,   2299.8,   3.1928,  34.9492,2,  34.9568,2,    229.2,2,    246.6,2,    26.10,2,    20.30,2,     0.01,2,     1.41,2,    0.058,2,    0.035,2,   0.0102,2,   2176.9,2,   2319.7,2,    756.4,2,       20,   7.7229,2,       25,  -999.00,9,      1.0,2,  -999.00,9,     13.9,2,20230320,0955
33RO20230306  ,A16N       ,37      ,  1,370106     ,206        ,20230320,0857,   9.0001, -28.0007,     4219,   2700.7,   2.8639,  34.9299,2,  34.9326,6,    229.6,2,    248.6,2,    31.30,2,    20.50,2,     0.02,2,     1.42,2,    0.059,2,    0.034,2,   0.0679,2,   2178.7,2,   2326.1,2,   -999.0,9,       20,   7.7230,2,       25,  -999.00,9,      0.9,2,  -999.00,9,     14.1,2,20230320,0947
33RO20230306  ,A16N       ,37      ,  1,370105     ,205        ,20230320,0857,   9.0001, -28.0007,     4219,   3200.5,   2.6090,  34.9103,2,  34.9175,2,    227.3,2,    250.1,2,    37.10,2,    21.10,2,     0.02,2,     1.46,2,    0.051,2,    0.032,2,   0.0911,2,   2189.0,2,   2331.2,2,    765.8,2,       20,   7.7184,2,       25,  -999.00,9,      1.0,2,  -999.00,9,     14.3,2,20230320,0937
33RO20230306  ,A16N       ,37      ,  1,370104     ,204        ,20230320,0857,   9.0001, -28.0007,     4219,   3701.0,   2.4428,  34.8965,2,  34.8969,2,    226.7,2,    250.5,2,    40.90,2,    21.20,2,     0.02,2,     1.47,2,    0.071,2,    0.044,2,   0.0482,2,   2190.7,2,   2335.0,2,    770.1,2,       20,   7.7176,2,       25,  -999.00,9,      0.9,2,  -999.00,9,     14.5,2,20230320,0927
33RO20230306  ,A16N       ,37      ,  1,370103     ,203        ,20230320,0857,   9.0001, -28.0007,     4219,   4200.5,   2.3275,  34.8831,2,  34.8885,2,    225.6,2,    249.7,2,    44.60,2,    21.50,2,     0.01,2,     1.49,2,    0.153,2,    0.087,2,   0.0884,2,   2197.8,2,   2339.2,2,    776.5,2,       20,   7.7149,2,       25,  -999.00,9,      0.9,2,  -999.00,9,     14.7,2,20230320,0918
33RO20230306  ,A16N       ,37      ,  1,370102     ,202        ,20230320,0857,   9.0001, -28.0007,     4219,   4696.9,   2.2885,  34.8753,2,  34.8761,2,    219.6,2,    245.4,2,    49.20,2,    22.30,2,     0.03,2,     1.53,2,    0.083,2,    0.048,2,   0.0132,2,   2205.6,2,   2348.1,2,    784.3,6,       20,   7.7143,2,       25,  -999.00,9,      0.9,2,  -999.00,9,     15.0,2,20230320,0908
33RO20230306  ,A16N       ,37      ,  1,370101     ,201        ,20230320,0857,   9.0001, -28.0007,     4219,   5291.9,   2.3080,  34.8701,2,  34.8727,2,    214.9,2,    242.8,2,    51.70,2,    22.60,2,     0.02,2,     1.56,2,    0.077,2,    0.049,2,   0.0882,2,   2211.7,6,   2350.8,2,    788.1,2,       20,   7.7122,2,       25,  -999.00,9,      0.8,6,  -999.00,9,     15.3,2,20230320,0857