BOTTLE,20240601CCHHYDRO
EXPOCODE,SECT_ID,STNNBR,CASTNO,SAMPNO,BTLNBR,DATE,TIME,LATITUDE,LONGITUDE,DEPTH,CTDPRS,CTDTMP,CTDSAL,CTDSAL_FLAG_W,SALNTY,SALNTY_FLAG_W,CTDOXY,CTDOXY_FLAG_W,OXYGEN,OXYGEN_FLAG_W,SILCAT,SILCAT_FLAG_W,NITRAT,NITRAT_FLAG_W,NITRIT,NITRIT_FLAG_W,PHSPHT,PHSPHT_FLAG_W,CFC-11,CFC-11_FLAG_W,CFC-12,CFC-12_FLAG_W,SF6,SF6_FLAG_W,TCARBN,TCARBN_FLAG_W,ALKALI,ALKALI_FLAG_W,FCO2,FCO2_FLAG_W,FCO2TMP,PH_TOT,PH_TOT_FLAG_W,PH_TMP,DOC,DOC_FLAG_W,DELC13,DELC13_FLAG_W,TDN,TDN_FLAG_W,N2O,N2O_FLAG_W,BTL_DATE,BTL_TIME
,,,,,,,,,,METERS,DBAR,ITS-90,PSS-78,,PSS-78,,UMOL/KG,,UMOL/KG,,UMOL/KG,,UMOL/KG,,UMOL/KG,,UMOL/KG,,PMOL/KG,,PMOL/KG,,FMOL/KG,,UMOL/KG,,UMOL/KG,,UATM,,DEG C,,,DEG C,UMOL/KG,,/MILLE,,UMOL/KG,,NMOL/KG,,,
33RO20230306  ,A16N       ,20      ,  1,200124     ,124        ,20230314,2054,   1.3351, -24.9999,     3630,      2.7,  28.9837,  35.3682,2,  35.3739,2,    192.0,2,    198.4,2,     1.10,2,     0.00,2,     0.01,2,     0.06,2,    1.400,2,    0.911,2,   1.7286,2,   2209.7,6,   2314.1,2,    304.9,2,       20,   8.0585,2,       25,    68.67,2,      1.2,6,     5.80,2,      5.7,2,20230314,2228
33RO20230306  ,A16N       ,20      ,  1,200123     ,123        ,20230314,2054,   1.3351, -24.9999,     3630,     23.9,  28.2805,  35.6555,2,  35.6681,2,    194.8,2,    200.8,2,     1.20,2,     0.00,2,     0.01,2,     0.06,2,    1.421,2,    0.917,2,   1.8917,2,   2015.9,2,   2334.4,2,    312.5,2,       20,   8.0550,2,       25,    66.57,2,      1.2,2,     6.10,2,      5.9,2,20230314,2226
33RO20230306  ,A16N       ,20      ,  1,200122     ,122        ,20230314,2054,   1.3351, -24.9999,     3630,     55.3,  22.0462,  35.9753,2,  35.9407,2,    143.1,2,    136.9,2,     3.40,2,     8.20,2,     0.25,2,     0.65,2,     -999,9,     -999,9,     -999,9,   2139.7,2,   2353.9,2,    541.2,2,       20,   7.8611,2,       25,    56.09,2,      0.5,2,    13.10,2,     -999,9,20230314,2224
33RO20230306  ,A16N       ,20      ,  1,200121     ,121        ,20230314,2054,   1.3351, -24.9999,     3630,     91.6,  15.0974,  35.5417,2,  35.5347,2,    129.0,2,    137.2,2,     6.40,2,    16.50,2,     0.03,2,     1.16,2,    2.338,2,    1.362,2,   1.3701,2,   2177.5,2,   2334.1,2,    728.4,2,       20,   7.7432,2,       25,    46.27,2,      0.5,2,    21.92,2,     21.2,2,20230314,2222
33RO20230306  ,A16N       ,20      ,  1,200120     ,120        ,20230314,2054,   1.3351, -24.9999,     3630,    110.8,  14.0574,  35.4103,2,  35.4136,6,    132.8,2,    136.5,2,     7.10,2,    17.60,2,     0.02,2,     1.24,2,    2.381,2,    1.389,2,   1.4502,2,   2176.0,2,   2326.9,2,    767.0,2,       20,   7.7230,2,       25,    47.21,2,      0.4,2,    21.77,2,     21.9,2,20230314,2221
33RO20230306  ,A16N       ,20      ,  1,200119     ,119        ,20230314,2054,   1.3351, -24.9999,     3630,    142.2,  13.9658,  35.3971,2,  35.3978,2,    129.7,2,    135.5,2,     7.20,2,    17.80,2,     0.02,2,     1.25,2,    2.385,2,    1.384,2,   1.2858,2,   2179.6,2,   2325.3,2,    775.1,2,       20,   7.7188,2,       25,    46.85,2,      0.5,2,    22.79,2,     22.1,2,20230314,2219
33RO20230306  ,A16N       ,20      ,  1,200118     ,118        ,20230314,2054,   1.3351, -24.9999,     3630,    165.6,  13.7933,  35.3758,2,  35.4067,2,    121.6,2,    123.4,2,     7.80,2,    19.60,2,     0.02,2,     1.34,2,    2.347,2,    1.353,2,   1.3210,2,   2188.4,2,   2323.2,2,    829.2,2,       20,   7.6924,2,       25,    46.29,2,      0.3,2,    23.32,2,     24.4,2,20230314,2218
33RO20230306  ,A16N       ,20      ,  1,200117     ,117        ,20230314,2054,   1.3351, -24.9999,     3630,    227.1,  13.2538,  35.3004,2,  35.2997,2,    125.0,2,    129.0,2,     8.20,2,    19.80,2,     0.01,2,     1.35,2,    2.382,2,    1.383,2,   1.2242,2,   2182.4,2,   2319.9,2,    834.0,6,       20,   7.6890,2,       25,    45.58,2,      0.4,2,    19.45,2,     24.2,2,20230314,2215
33RO20230306  ,A16N       ,20      ,  1,200116     ,116        ,20230314,2054,   1.3351, -24.9999,     3630,    315.1,  10.9947,  35.0399,2,  35.0569,2,    101.3,2,    109.2,2,    11.80,2,    25.90,2,     0.01,2,     1.71,2,    2.170,2,    1.209,2,   0.7741,2,   2205.1,2,   2306.1,2,   1037.8,2,       20,   7.6042,2,       25,    40.96,2,      0.5,2,    27.43,2,     28.8,2,20230314,2212
33RO20230306  ,A16N       ,20      ,  1,200115     ,115        ,20230314,2054,   1.3351, -24.9999,     3630,    380.8,   9.3703,  34.8450,2,  34.8395,2,    106.1,2,    114.4,2,    15.10,2,    28.90,2,     0.01,2,     1.89,2,    2.012,2,    1.083,2,   0.6755,2,   2208.8,6,   2299.2,2,   1126.9,2,       20,   7.5700,2,       25,    43.04,2,      0.4,2,    29.99,2,     29.0,2,20230314,2210
33RO20230306  ,A16N       ,20      ,  1,200114     ,114        ,20230314,2054,   1.3351, -24.9999,     3630,    466.1,   8.1761,  34.7172,2,  34.7261,2,    108.6,2,    114.0,2,    18.00,2,    31.20,2,     0.01,2,     2.04,2,    1.777,2,    0.931,2,   0.5117,2,   2215.2,2,   2293.4,2,   1202.3,2,       20,   7.5437,2,       25,    41.32,2,      0.5,2,    32.61,2,     29.1,2,20230314,2207
33RO20230306  ,A16N       ,20      ,  1,200113     ,113        ,20230314,2054,   1.3351, -24.9999,     3630,    572.2,   6.9275,  34.6094,2,  34.6111,2,    125.5,2,    130.2,2,    21.70,2,    32.20,2,     0.01,2,     2.14,2,    1.440,2,    0.747,2,   0.3873,2,   2216.2,2,   2295.0,2,   1190.2,2,       20,   7.5480,2,       25,    40.52,2,      0.6,2,    35.12,2,     26.8,2,20230314,2204
33RO20230306  ,A16N       ,20      ,  1,200112     ,112        ,20230314,2054,   1.3351, -24.9999,     3630,    652.3,   5.7889,  34.5332,2,  34.5369,2,    133.2,2,    139.4,2,    26.50,2,    33.50,2,     0.01,2,     2.27,2,    0.999,2,    0.517,2,   0.2432,2,   2214.9,2,   2294.4,2,   1206.0,2,       20,   7.5436,2,       25,    40.60,2,      0.6,2,    34.77,2,     25.6,2,20230314,2201
33RO20230306  ,A16N       ,20      ,  1,200111     ,111        ,20230314,2054,   1.3351, -24.9999,     3630,    801.0,   4.9936,  34.5241,2,  34.5318,2,    139.4,2,    145.9,2,    30.70,2,    33.90,2,     0.01,2,     2.32,2,    0.524,2,    0.269,2,   0.1120,3,   2220.6,2,   2294.3,2,   1200.4,2,       20,   7.5448,2,       25,    40.66,2,      0.6,2,    31.65,2,     25.1,2,20230314,2157
33RO20230306  ,A16N       ,20      ,  1,200110     ,110        ,20230314,2054,   1.3351, -24.9999,     3630,    950.9,   4.7244,  34.6024,2,  34.6135,2,    143.7,2,    151.9,2,    31.40,2,    32.80,2,     0.01,2,     2.25,2,    0.248,2,    0.134,2,   0.0108,3,   2218.4,2,   2303.0,2,   1153.9,2,       20,   7.5588,2,       25,    40.20,2,      0.7,2,    34.07,2,     24.0,2,20230314,2154
33RO20230306  ,A16N       ,20      ,  1,200109     ,109        ,20230314,2054,   1.3351, -24.9999,     3630,   1001.9,   4.7106,  34.6311,2,  34.6334,2,    146.1,2,    154.4,2,    30.90,2,    32.30,2,     0.01,2,     2.21,2,    0.209,2,    0.112,2,   0.0806,3,   2218.2,2,   2303.5,2,   1136.9,2,       20,   7.5663,2,       25,    40.67,2,      0.7,2,    29.34,2,     23.2,2,20230314,2151
33RO20230306  ,A16N       ,20      ,  1,200108     ,108        ,20230314,2054,   1.3351, -24.9999,     3630,   1201.7,   4.6483,  34.8470,2,  34.8544,2,    174.1,2,    184.9,2,    24.70,2,    26.60,2,     0.01,2,     1.83,2,    0.284,2,    0.148,2,   0.0856,2,   2198.4,2,   2308.8,2,    954.6,2,       20,   7.6342,2,       25,    41.28,2,      0.8,2,    26.10,2,     20.0,2,20230314,2146
33RO20230306  ,A16N       ,20      ,  1,200107     ,107        ,20230314,2054,   1.3351, -24.9999,     3630,   1403.6,   4.3952,  34.9457,2,  34.9547,2,    206.4,2,    218.7,2,    19.90,2,    22.20,2,     0.01,2,     1.51,2,    0.574,2,    0.291,2,   0.1245,2,   2182.7,2,   2305.8,2,    834.8,2,       20,   7.6846,2,       25,    40.29,2,      0.9,2,    20.78,2,     17.3,2,20230314,2141
33RO20230306  ,A16N       ,20      ,  1,200106     ,106        ,20230314,2054,   1.3351, -24.9999,     3630,   1699.4,   3.9835,  34.9707,2,  34.9756,2,    226.8,2,    241.8,2,    18.40,2,    19.80,2,     0.01,2,     1.35,2,    0.736,2,    0.372,2,   0.3054,3,   2172.5,2,   2300.0,3,    776.4,2,       20,   7.7105,2,       25,    40.11,2,      1.0,2,    14.62,2,     15.9,2,20230314,2135
33RO20230306  ,A16N       ,20      ,  1,200105     ,105        ,20230314,2054,   1.3351, -24.9999,     3630,   2102.7,   3.4273,  34.9541,2,  34.9597,2,    233.7,2,    251.1,2,    22.50,2,    19.30,2,     0.01,2,     1.33,2,    0.529,2,    0.266,2,   0.1445,2,   2170.1,2,   2315.1,2,    754.8,2,       20,   7.7240,2,       25,    41.44,2,      1.0,2,    13.07,2,     14.9,2,20230314,2127
33RO20230306  ,A16N       ,20      ,  1,200104     ,104        ,20230314,2054,   1.3351, -24.9999,     3630,   2501.0,   3.0193,  34.9295,2,  34.9469,2,    228.2,2,    246.8,2,    31.20,2,    20.50,2,     0.01,2,     1.41,2,    0.190,2,    0.108,2,   0.0000,3,   2178.6,2,   2322.6,2,    765.3,2,       20,   7.7188,2,       25,    40.87,2,      1.0,2,    14.57,2,     14.3,2,20230314,2119
33RO20230306  ,A16N       ,20      ,  1,200103     ,103        ,20230314,2054,   1.3351, -24.9999,     3630,   2801.4,   2.7929,  34.9164,2,  34.9240,6,    226.5,2,    246.0,2,    35.50,2,    20.90,2,     0.01,2,     1.44,2,    0.119,6,    0.067,6,   0.0000,3,   2182.8,2,   2326.4,2,   -999.0,9,       20,   7.7178,2,       25,    40.32,2,      1.0,2,    14.64,2,     14.4,6,20230314,2112
33RO20230306  ,A16N       ,20      ,  1,200102     ,102        ,20230314,2054,   1.3351, -24.9999,     3630,   3202.0,   2.5760,  34.9016,2,  34.9064,2,    224.7,2,    244.6,2,    40.10,2,    21.20,2,     0.01,2,     1.46,2,    0.097,2,    0.054,2,   0.0000,3,   2190.1,2,   2331.8,2,    773.3,2,       20,   7.7163,2,       25,    40.55,2,      1.0,2,    14.08,2,     14.6,2,20230314,2104
33RO20230306  ,A16N       ,20      ,  1,200101     ,101        ,20230314,2054,   1.3351, -24.9999,     3630,   3681.8,   2.3958,  34.8870,2,  34.8924,2,    222.4,2,    244.6,2,    44.90,2,    21.60,2,     0.01,2,     1.50,2,    0.083,2,    0.048,2,   0.0000,3,   2195.4,6,   2337.0,2,    776.1,2,       20,   7.7132,2,       25,    40.41,2,      1.0,6,    12.90,2,     14.6,2,20230314,2054
33RO20230306  ,A16N       ,21      ,  1,210124     ,124        ,20230315,0221,   1.6751, -24.9957,     3822,      3.7,  29.0620,  35.1161,2,  35.1208,2,    191.0,2,    198.1,2,     1.20,2,     0.00,2,     0.01,2,     0.04,2,    1.393,2,    0.910,2,   1.8384,2,   1979.7,6,   2298.1,2,    295.6,2,       20,   8.0668,2,       25,    64.95,2,      1.3,2,     4.42,2,      5.7,2,20230315,0405
33RO20230306  ,A16N       ,21      ,  1,210123     ,123        ,20230315,0221,   1.6751, -24.9957,     3822,     19.1,  28.4767,  35.2358,2,  35.2749,2,    196.2,2,    205.2,2,     1.20,2,     0.00,2,     0.01,2,     0.04,2,    1.434,2,    0.928,2,   1.7542,2,   1989.1,2,   2308.3,2,    300.3,2,       20,   8.0675,2,       25,  -999.00,9,      1.3,2,  -999.00,9,      6.0,2,20230315,0402
33RO20230306  ,A16N       ,21      ,  1,210122     ,122        ,20230315,0221,   1.6751, -24.9957,     3822,     40.2,  25.7668,  35.9959,2,  35.9773,2,    190.7,2,    183.6,2,     2.00,2,     0.10,2,     0.03,2,     0.10,2,    1.630,2,    1.036,2,   1.8357,2,   2071.9,2,   2355.4,2,    378.6,2,       20,   7.9887,2,       25,  -999.00,9,      1.0,2,  -999.00,9,      9.4,2,20230315,0400
33RO20230306  ,A16N       ,21      ,  1,210121     ,121        ,20230315,0221,   1.6751, -24.9957,     3822,     71.0,  16.2758,  35.6280,2,  35.6257,2,    100.4,2,    107.4,2,     6.40,2,    18.60,2,     0.09,2,     1.26,2,    2.275,2,    1.342,2,   1.3294,2,   2191.9,2,   2333.6,2,    808.7,2,       20,   7.7031,2,       25,  -999.00,9,      0.3,2,  -999.00,9,     24.4,2,20230315,0357
33RO20230306  ,A16N       ,21      ,  1,210120     ,120        ,20230315,0221,   1.6751, -24.9957,     3822,     99.9,  14.1281,  35.4239,2,  35.4296,2,    120.7,2,    127.1,2,     7.20,2,    18.60,2,     0.03,2,     1.29,2,    2.377,2,    1.385,2,   1.4663,2,   2185.3,2,   2325.4,2,    799.1,2,       20,   7.7060,2,       25,  -999.00,9,      0.4,2,  -999.00,9,     23.5,2,20230315,0354
33RO20230306  ,A16N       ,21      ,  1,210119     ,119        ,20230315,0221,   1.6751, -24.9957,     3822,    124.4,  13.8866,  35.3909,2,  35.3925,6,    121.2,2,    125.1,2,     7.60,2,    19.20,2,     0.02,2,     1.32,2,    2.383,2,    1.377,2,   1.4022,2,   2187.5,2,   2324.2,2,    818.7,2,       20,   7.6972,2,       25,  -999.00,9,      0.3,2,  -999.00,9,     24.0,2,20230315,0352
33RO20230306  ,A16N       ,21      ,  1,210118     ,118        ,20230315,0221,   1.6751, -24.9957,     3822,    148.3,  13.6580,  35.3608,2,  35.3805,2,    117.7,2,    121.7,2,     7.90,2,    20.00,2,     0.02,2,     1.36,2,    2.358,2,    1.364,2,   1.2631,2,   2190.6,2,   2321.6,2,    842.1,2,       20,   7.6849,2,       25,  -999.00,9,      0.4,2,  -999.00,9,     24.6,2,20230315,0349
33RO20230306  ,A16N       ,21      ,  1,210117     ,117        ,20230315,0221,   1.6751, -24.9957,     3822,    199.2,  13.4194,  35.3274,2,  35.3320,2,    112.8,2,    119.5,2,     8.20,2,    20.70,2,     0.01,2,     1.40,2,    2.349,2,    1.363,2,   1.2052,2,   2191.1,2,   2320.6,2,    865.7,2,       20,   7.6749,2,       25,  -999.00,9,      0.3,2,  -999.00,9,     25.1,2,20230315,0347
33RO20230306  ,A16N       ,21      ,  1,210116     ,116        ,20230315,0221,   1.6751, -24.9957,     3822,    271.6,  12.9401,  35.2605,2,  35.2670,2,    118.6,2,    124.3,2,     8.70,2,    20.90,2,     0.01,2,     1.41,2,    2.363,2,    1.364,2,   1.2639,2,   2189.8,2,   2317.6,2,    870.8,2,       20,   7.6746,2,       25,  -999.00,9,      0.3,2,  -999.00,9,     25.0,2,20230315,0344
33RO20230306  ,A16N       ,21      ,  1,210115     ,115        ,20230315,0221,   1.6751, -24.9957,     3822,    349.9,  10.5106,  34.9816,2,  34.9736,2,    100.6,2,    107.2,2,    13.00,2,    27.50,2,     0.01,2,     1.79,2,    2.115,2,    1.169,2,   0.9736,2,   2212.2,2,   2300.7,2,   1095.0,2,       20,   7.5840,2,       25,  -999.00,9,      0.4,6,  -999.00,9,     30.3,2,20230315,0341
33RO20230306  ,A16N       ,21      ,  1,210114     ,114        ,20230315,0221,   1.6751, -24.9957,     3822,    421.4,   8.9137,  34.7937,2,  34.7968,2,    108.5,2,    111.1,2,    16.10,2,    30.20,2,     0.01,2,     1.97,2,    1.935,2,    1.042,2,   0.6430,2,   2214.4,2,   2296.8,2,   1174.4,2,       20,   7.5541,2,       25,  -999.00,9,      0.6,2,  -999.00,9,     29.6,2,20230315,0338
33RO20230306  ,A16N       ,21      ,  1,210113     ,113        ,20230315,0221,   1.6751, -24.9957,     3822,    501.7,   7.7397,  34.6703,2,  34.6747,2,    117.4,2,    124.6,2,    18.80,2,    31.20,2,     0.01,2,     2.06,2,    1.758,2,    0.930,2,   0.4384,2,   2214.3,2,   2292.9,2,   1177.2,2,       20,   7.5525,2,       25,  -999.00,9,      0.6,2,  -999.00,9,     27.4,2,20230315,0336
33RO20230306  ,A16N       ,21      ,  1,210112     ,112        ,20230315,0221,   1.6751, -24.9957,     3822,    600.5,   6.6384,  34.5875,2,  34.5936,2,    127.1,2,    132.1,2,    22.80,2,    32.60,2,     0.01,2,     2.19,2,    1.340,2,    0.705,2,   0.5537,2,   2217.4,2,   2293.8,2,   1198.9,2,       20,   7.5453,2,       25,  -999.00,9,      0.5,2,  -999.00,9,     25.9,2,20230315,0333
33RO20230306  ,A16N       ,21      ,  1,210111     ,111        ,20230315,0221,   1.6751, -24.9957,     3822,    750.3,   5.0610,  34.5215,2,  34.5427,2,    138.4,2,    145.6,2,    30.30,2,    34.10,2,     0.01,2,     2.31,2,    0.573,2,    0.296,2,   0.0948,2,   2221.6,2,   2297.9,2,   1204.0,2,       20,   7.5435,2,       25,  -999.00,9,      0.7,2,  -999.00,9,     24.0,2,20230315,0328
33RO20230306  ,A16N       ,21      ,  1,210110     ,110        ,20230315,0221,   1.6751, -24.9957,     3822,    873.6,   4.9065,  34.5708,2,  34.5769,2,    139.2,2,    147.1,2,    31.10,2,    33.70,2,     0.01,2,     2.30,2,    0.350,2,    0.185,2,   0.0907,3,   2224.4,2,   2301.3,2,   1188.6,2,       20,   7.5492,2,       25,  -999.00,9,      0.6,2,  -999.00,9,     23.7,2,20230315,0325
33RO20230306  ,A16N       ,21      ,  1,210109     ,109        ,20230315,0221,   1.6751, -24.9957,     3822,   1030.4,   4.8057,  34.6693,2,  34.6803,2,    144.1,2,    154.3,2,    29.90,2,    31.90,2,     0.01,2,     2.18,2,     -999,9,     -999,9,     -999,9,     -999,9,     -999,9,   1122.6,2,       20,     -999,9,       25,  -999.00,9,      0.7,2,  -999.00,9,     -999,9,20230315,0321
33RO20230306  ,A16N       ,21      ,  1,210108     ,108        ,20230315,0221,   1.6751, -24.9957,     3822,   1300.9,   4.6337,  34.9409,2,  34.9481,6,    196.8,2,    210.0,2,    20.30,2,    23.00,2,     0.01,2,     1.57,2,    0.666,2,    0.347,2,   0.1554,3,   2188.0,2,   2310.8,2,    862.8,2,       20,   7.6718,2,       25,  -999.00,9,      1.0,2,  -999.00,9,     16.8,2,20230315,0315
33RO20230306  ,A16N       ,21      ,  1,210107     ,107        ,20230315,0221,   1.6751, -24.9957,     3822,   1501.4,   4.3607,  34.9563,2,  34.9625,2,    210.7,2,    223.3,2,    19.20,2,    21.60,2,     0.01,2,     1.47,2,     -999,9,     -999,9,     -999,9,     -999,9,     -999,9,    822.3,2,       20,     -999,9,       25,  -999.00,9,      0.9,2,  -999.00,9,     -999,9,20230315,0310
33RO20230306  ,A16N       ,21      ,  1,210106     ,106        ,20230315,0221,   1.6751, -24.9957,     3822,   1903.3,   3.7332,  34.9655,2,  34.9704,2,    231.1,2,    247.8,2,    19.80,2,    19.40,2,     0.01,2,     1.33,2,     -999,9,     -999,9,     -999,9,   2169.1,2,   2314.3,2,    766.8,2,       20,   7.7171,2,       25,  -999.00,9,      1.0,2,  -999.00,9,     -999,9,20230315,0301
33RO20230306  ,A16N       ,21      ,  1,210105     ,105        ,20230315,0221,   1.6751, -24.9957,     3822,   2303.0,   3.1975,  34.9419,2,  34.9480,2,    230.6,2,    248.3,2,    27.10,2,    20.00,2,     0.01,2,     1.37,2,     -999,9,     -999,9,     -999,9,     -999,9,     -999,9,    759.8,2,       20,     -999,9,       25,  -999.00,9,      1.0,2,  -999.00,9,     -999,9,20230315,0253
33RO20230306  ,A16N       ,21      ,  1,210104     ,104        ,20230315,0221,   1.6751, -24.9957,     3822,   2699.2,   2.8941,  34.9219,2,  34.9260,2,    227.4,2,    246.4,2,    33.70,2,    20.70,2,     0.01,2,     1.41,2,    0.168,2,    0.094,2,   0.0000,2,   2180.5,2,   2325.0,2,    768.1,2,       20,   7.7182,2,       25,  -999.00,9,      1.1,2,  -999.00,9,     14.1,2,20230315,0245
33RO20230306  ,A16N       ,21      ,  1,210103     ,103        ,20230315,0221,   1.6751, -24.9957,     3822,   3102.1,   2.6079,  34.9039,2,  34.9121,2,    224.8,2,    243.9,2,    39.70,2,    21.20,2,     0.01,2,     1.46,2,     -999,9,     -999,9,     -999,9,     -999,9,     -999,9,   -999.0,9,       20,     -999,9,       25,  -999.00,9,      1.0,2,  -999.00,9,     -999,9,20230315,0237
33RO20230306  ,A16N       ,21      ,  1,210102     ,102        ,20230315,0221,   1.6751, -24.9957,     3822,   3500.9,   2.4727,  34.8935,2,  34.8979,2,    224.1,2,    245.5,2,    42.60,2,    21.40,2,     0.01,2,     1.48,2,    0.099,2,    0.055,2,   0.0000,2,   2193.7,2,   2333.8,2,    776.3,6,       20,   7.7167,2,       25,  -999.00,9,      0.9,2,  -999.00,9,     14.2,2,20230315,0229
33RO20230306  ,A16N       ,21      ,  1,210101     ,101        ,20230315,0221,   1.6751, -24.9957,     3822,   3874.2,   2.3909,  34.8852,2,  34.8905,2,    220.8,2,    239.8,2,    45.80,2,    21.70,2,     0.01,2,     1.50,2,    0.084,2,    0.049,2,   0.0000,2,   2199.0,2,   2341.8,2,    779.0,2,       20,   7.7139,2,       25,  -999.00,9,      0.9,6,  -999.00,9,     14.0,2,20230315,0221