BOTTLE,20240601CCHHYDRO
EXPOCODE,SECT_ID,STNNBR,CASTNO,SAMPNO,BTLNBR,DATE,TIME,LATITUDE,LONGITUDE,DEPTH,CTDPRS,CTDTMP,CTDSAL,CTDSAL_FLAG_W,SALNTY,SALNTY_FLAG_W,CTDOXY,CTDOXY_FLAG_W,OXYGEN,OXYGEN_FLAG_W,SILCAT,SILCAT_FLAG_W,NITRAT,NITRAT_FLAG_W,NITRIT,NITRIT_FLAG_W,PHSPHT,PHSPHT_FLAG_W,CFC-11,CFC-11_FLAG_W,CFC-12,CFC-12_FLAG_W,SF6,SF6_FLAG_W,TCARBN,TCARBN_FLAG_W,ALKALI,ALKALI_FLAG_W,FCO2,FCO2_FLAG_W,FCO2TMP,PH_TOT,PH_TOT_FLAG_W,PH_TMP,DOC,DOC_FLAG_W,DELC13,DELC13_FLAG_W,TDN,TDN_FLAG_W,N2O,N2O_FLAG_W,BTL_DATE,BTL_TIME
,,,,,,,,,,METERS,DBAR,ITS-90,PSS-78,,PSS-78,,UMOL/KG,,UMOL/KG,,UMOL/KG,,UMOL/KG,,UMOL/KG,,UMOL/KG,,PMOL/KG,,PMOL/KG,,FMOL/KG,,UMOL/KG,,UMOL/KG,,UATM,,DEG C,,,DEG C,UMOL/KG,,/MILLE,,UMOL/KG,,NMOL/KG,,,
33RO20230306  ,A16N       ,16      ,  1,160124     ,124        ,20230313,2134,   0.0030, -24.9966,     3285,      3.6,  28.1363,  35.9325,2,  35.9350,2,    191.3,2,    199.7,2,     1.30,2,     0.00,2,     0.01,2,     0.07,2,    1.422,2,    0.930,2,   1.7773,2,   2034.3,6,   2353.8,2,    316.1,2,       20,   8.0487,2,       25,    68.97,2,      1.1,6,     3.83,2,      5.8,2,20230313,2300
33RO20230306  ,A16N       ,16      ,  1,160123     ,123        ,20230313,2134,   0.0030, -24.9966,     3285,     13.6,  28.0356,  35.9745,2,     -999,9,    191.8,2,    200.0,2,     1.40,2,     0.00,2,     0.01,2,     0.06,2,     -999,9,     -999,9,     -999,9,   2036.5,2,   2356.8,2,    318.4,2,       20,   8.0472,2,       25,  -999.00,9,      1.2,2,  -999.00,9,     -999,9,20230313,2258
33RO20230306  ,A16N       ,16      ,  1,160122     ,122        ,20230313,2134,   0.0030, -24.9966,     3285,     37.3,  26.3896,  36.4954,2,  36.4744,2,    192.4,2,    199.1,2,     1.30,2,     0.00,2,     0.01,2,     0.12,2,    1.521,2,    0.976,2,   1.7275,2,   2073.3,2,   2389.5,2,    339.1,2,       20,   8.0302,2,       25,    63.96,2,      1.1,2,     4.43,2,      6.5,2,20230313,2257
33RO20230306  ,A16N       ,16      ,  1,160121     ,121        ,20230313,2134,   0.0030, -24.9966,     3285,     60.6,  23.9722,  36.4922,2,  36.4923,2,    182.8,2,    186.1,2,     2.10,2,     1.20,2,     0.09,2,     0.26,2,    1.700,2,    1.083,2,   1.8150,2,   2107.1,2,   2390.4,2,    391.3,2,       20,   7.9801,2,       25,    59.41,2,      0.9,2,     6.00,2,      8.3,2,20230313,2254
33RO20230306  ,A16N       ,16      ,  1,160120     ,120        ,20230313,2134,   0.0030, -24.9966,     3285,     91.3,  16.9307,  35.8236,2,  35.8499,2,    154.9,2,    160.3,2,     -999,9,     -999,9,     -999,9,     -999,9,    2.231,2,    1.344,2,   2.0804,2,   2158.3,2,   2352.3,2,    586.8,2,       20,   7.8256,2,       25,    48.98,2,      0.6,2,    12.08,2,     15.0,2,20230313,2252
33RO20230306  ,A16N       ,16      ,  1,160119     ,119        ,20230313,2134,   0.0030, -24.9966,     3285,    110.4,  15.4312,  35.5977,2,  35.5822,2,    139.8,2,    146.0,2,     6.00,2,    15.10,2,     0.04,2,     1.07,2,    2.342,2,    1.393,2,   1.7502,2,   2171.8,2,   2336.9,2,    687.1,2,       20,   7.7642,2,       25,    45.49,2,      0.6,2,    18.14,2,     19.1,2,20230313,2251
33RO20230306  ,A16N       ,16      ,  1,160118     ,118        ,20230313,2134,   0.0030, -24.9966,     3285,    141.3,  14.4093,  35.4571,2,  35.4586,6,    142.2,2,    148.4,2,     6.40,2,    16.00,2,     0.01,2,     1.14,2,    2.406,2,    1.417,2,   1.6326,2,   2171.0,2,   2327.6,2,    713.7,2,       20,   7.7482,2,       25,    44.79,2,      0.6,2,    17.66,2,     19.2,2,20230313,2249
33RO20230306  ,A16N       ,16      ,  1,160117     ,117        ,20230313,2134,   0.0030, -24.9966,     3285,    172.1,  14.2258,  35.4297,2,  35.4349,2,    142.0,2,    148.7,2,     6.50,2,    16.20,2,     0.02,2,     1.13,2,    2.416,2,    1.423,2,   1.5067,2,   2171.9,2,   2326.2,2,    722.0,2,       20,   7.7462,2,       25,    45.42,2,      0.5,2,    18.75,2,     19.5,2,20230313,2247
33RO20230306  ,A16N       ,16      ,  1,160116     ,116        ,20230313,2134,   0.0030, -24.9966,     3285,    252.7,  12.7503,  35.2444,2,  35.2587,2,     94.7,2,     98.9,2,     9.80,2,    24.30,2,     0.01,2,     1.59,2,    2.232,2,    1.298,2,   1.0761,2,   2209.9,2,   2311.6,2,    990.7,2,       20,   7.6218,2,       25,    42.25,2,      0.3,2,    26.61,2,     28.0,2,20230313,2245
33RO20230306  ,A16N       ,16      ,  1,160115     ,115        ,20230313,2134,   0.0030, -24.9966,     3285,    330.4,  10.0202,  34.9240,2,  34.9532,2,     90.8,2,     96.0,2,    14.20,2,    29.80,2,     0.01,2,     1.92,2,    1.977,2,    1.090,2,   0.6886,2,   2221.1,2,   2300.9,2,   1177.3,2,       20,   7.5521,2,       25,    40.49,2,      0.3,2,    29.96,2,     31.0,2,20230313,2242
33RO20230306  ,A16N       ,16      ,  1,160114     ,114        ,20230313,2134,   0.0030, -24.9966,     3285,    391.0,   9.0803,  34.8141,2,  34.8192,2,     98.5,2,    106.7,2,    15.80,2,    30.60,2,     0.01,2,     1.98,2,    1.906,2,    1.035,2,   0.7371,2,   2217.6,2,   2291.8,2,   1181.6,2,       20,   7.5498,2,       25,    41.95,2,      0.4,2,    35.34,2,     29.1,2,20230313,2240
33RO20230306  ,A16N       ,16      ,  1,160113     ,113        ,20230313,2134,   0.0030, -24.9966,     3285,    461.2,   8.3556,  34.7357,2,  34.7485,2,    102.6,2,    108.4,2,    17.60,2,    32.00,2,     0.01,2,     2.07,2,    1.738,2,    0.946,2,   0.6486,2,   2218.1,2,   2296.1,2,   1230.3,2,       20,   7.5344,2,       25,    41.41,2,      0.5,2,    34.93,2,     27.8,2,20230313,2238
33RO20230306  ,A16N       ,16      ,  1,160112     ,112        ,20230313,2134,   0.0030, -24.9966,     3285,    540.9,   7.0648,  34.6054,2,  34.6403,2,    126.6,2,    133.9,2,    20.80,2,    32.10,2,     0.01,2,     2.13,2,    1.629,2,    0.859,2,   0.5668,2,   2211.5,2,   2291.2,2,   1173.6,2,       20,   7.5523,2,       25,    41.36,2,      0.6,2,    35.43,2,     24.8,2,20230313,2235
33RO20230306  ,A16N       ,16      ,  1,160111     ,111        ,20230313,2134,   0.0030, -24.9966,     3285,    674.6,   5.8204,  34.5168,2,  34.5195,2,    136.5,2,    143.0,2,    26.00,2,    33.70,2,     0.01,2,     2.25,2,    1.158,2,    0.616,2,   0.3096,2,   2214.2,2,   2295.2,2,   1191.8,6,       20,   7.5462,2,       25,    40.04,2,      0.7,2,    36.54,2,     23.8,2,20230313,2232
33RO20230306  ,A16N       ,16      ,  1,160110     ,110        ,20230313,2134,   0.0030, -24.9966,     3285,    821.4,   5.1612,  34.5095,2,  34.5176,2,    136.7,2,    143.7,2,    30.00,2,    34.70,2,     0.01,2,     2.33,2,    0.629,2,    0.326,2,   0.0000,3,   2221.6,2,   2297.2,2,   1215.3,2,       20,   7.5383,2,       25,    40.44,2,      0.6,2,    39.10,2,     23.5,2,20230313,2228
33RO20230306  ,A16N       ,16      ,  1,160109     ,109        ,20230313,2134,   0.0030, -24.9966,     3285,    975.1,   4.6794,  34.5767,2,  34.5899,2,    144.0,2,    152.2,2,    32.30,2,    33.70,2,     0.00,2,     2.29,2,    0.256,2,    0.134,2,   0.0000,3,   2220.7,2,   2301.3,2,   1167.6,2,       20,   7.5555,2,       25,    40.51,2,      0.7,2,    34.38,2,     22.4,2,20230313,2224
33RO20230306  ,A16N       ,16      ,  1,160108     ,108        ,20230313,2134,   0.0030, -24.9966,     3285,   1120.9,   4.6401,  34.7646,2,  34.7870,2,    160.5,2,    170.3,2,    28.00,2,    29.70,2,     0.01,2,     2.01,2,    0.180,2,    0.099,2,   0.0000,3,   2204.3,2,   2307.3,2,   1035.9,2,       20,   7.6026,2,       25,    40.02,2,      0.7,2,    32.26,2,     20.2,2,20230313,2221
33RO20230306  ,A16N       ,16      ,  1,160107     ,107        ,20230313,2134,   0.0030, -24.9966,     3285,   1250.9,   4.6289,  34.8802,2,  34.8834,2,    181.5,2,    198.0,2,    23.40,2,    25.90,2,     0.01,2,     1.76,2,    0.414,2,    0.310,2,     -999,9,   2204.6,2,   2311.9,2,    919.7,2,       20,   7.6469,2,       25,    41.04,2,      0.8,2,    26.84,2,     18.1,2,20230313,2217
33RO20230306  ,A16N       ,16      ,  1,160106     ,106        ,20230313,2134,   0.0030, -24.9966,     3285,   1501.3,   4.3070,  34.9616,2,     -999,9,    213.8,2,     -999,9,     -999,9,     -999,9,     -999,9,     -999,9,     -999,9,     -999,9,     -999,9,     -999,9,     -999,9,   -999.0,9,       20,     -999,9,       25,  -999.00,9,   -999.0,9,  -999.00,9,     -999,9,20230313,2210
33RO20230306  ,A16N       ,16      ,  1,160105     ,105        ,20230313,2134,   0.0030, -24.9966,     3285,   1802.0,   3.8366,  34.9691,2,  34.9761,2,    231.4,2,    247.6,2,    18.80,2,    19.60,2,     0.01,2,     1.32,2,    0.787,2,    0.402,2,   0.0000,3,   2171.0,2,   2314.6,2,    765.1,2,       20,   7.7167,2,       25,    41.34,2,      1.0,2,    19.55,2,     14.3,2,20230313,2204
33RO20230306  ,A16N       ,16      ,  1,160104     ,104        ,20230313,2134,   0.0030, -24.9966,     3285,   2202.4,   3.3197,  34.9486,2,  34.9520,2,    233.1,2,    251.0,2,    24.60,2,    19.80,2,     0.01,2,     1.36,2,    0.446,2,    0.230,2,   0.0000,3,   2172.9,2,   2317.5,2,    757.0,2,       20,   7.7231,2,       25,    41.74,2,      1.1,2,    21.28,2,     13.5,2,20230313,2156
33RO20230306  ,A16N       ,16      ,  1,160103     ,103        ,20230313,2134,   0.0030, -24.9966,     3285,   2600.7,   2.8848,  34.9218,2,  34.9261,2,    228.1,2,    245.8,2,    33.90,2,    20.90,2,     0.01,2,     1.43,2,    0.178,2,    0.095,2,   0.0000,3,   2182.4,2,   2325.0,2,   -999.0,9,       20,   7.7195,2,       25,    41.00,2,      1.0,2,    20.36,2,     13.8,2,20230313,2148
33RO20230306  ,A16N       ,16      ,  1,160102     ,102        ,20230313,2134,   0.0030, -24.9966,     3285,   2902.4,   2.7278,  34.9114,2,  34.9180,2,    227.4,2,    247.9,2,    36.80,2,    21.00,2,     0.00,2,     1.44,2,    0.179,2,    0.099,2,   0.0000,3,   2185.7,2,   2328.6,2,    768.3,2,       20,   7.7176,2,       25,    41.90,2,      1.0,2,    20.73,2,     13.8,2,20230313,2142
33RO20230306  ,A16N       ,16      ,  1,160101     ,101        ,20230313,2134,   0.0030, -24.9966,     3285,   3268.0,   2.5391,  34.8984,2,  34.9034,2,    226.2,2,    227.3,2,    40.30,2,    21.10,2,     0.01,2,     1.45,2,    0.206,2,    0.110,2,   0.0000,3,   2188.9,6,   2328.8,2,    767.4,2,       20,   7.7166,2,       25,    40.55,2,      1.0,6,    18.91,2,     13.7,2,20230313,2134
33RO20230306  ,A16N       ,17      ,  1,170124     ,124        ,20230314,0252,   0.3363, -24.9935,     3789,      3.7,  28.2945,  35.9214,2,  35.9224,2,    190.8,2,    199.0,2,     1.20,2,     0.00,2,     0.01,2,     0.07,2,    1.418,6,    0.920,6,   1.7217,6,   2030.9,6,   2352.9,2,    315.7,2,       20,   8.0497,2,       25,    66.80,2,      1.2,6,     4.57,2,      5.8,6,20230314,0427
33RO20230306  ,A16N       ,17      ,  1,170123     ,123        ,20230314,0252,   0.3363, -24.9935,     3789,     30.9,  27.7890,  36.0804,2,  36.0776,2,    191.3,2,    199.1,2,     1.60,2,     0.00,2,     0.01,2,     0.08,2,    1.444,2,    0.941,2,   1.7118,2,   2040.1,2,   2361.3,2,    322.5,2,       20,   8.0432,2,       25,  -999.00,9,      1.2,2,  -999.00,9,      6.0,2,20230314,0425
33RO20230306  ,A16N       ,17      ,  1,170122     ,122        ,20230314,0252,   0.3363, -24.9935,     3789,     63.7,  23.2911,  36.3694,2,  36.3686,6,    162.2,2,    162.9,2,     2.60,2,     3.40,2,     0.26,2,     0.36,2,    1.765,2,    1.105,2,   1.6823,2,   2119.8,2,   2381.9,2,    436.6,2,       20,   7.9379,2,       25,  -999.00,9,      0.7,2,  -999.00,9,     10.0,2,20230314,0422
33RO20230306  ,A16N       ,17      ,  1,170121     ,121        ,20230314,0252,   0.3363, -24.9935,     3789,     88.4,  17.5452,  35.9070,2,  35.8980,2,    155.3,2,    160.5,2,     4.30,2,    10.50,2,     0.07,2,     0.80,2,    2.215,2,    1.331,2,   1.7295,2,   2153.3,2,   2354.9,2,    577.1,2,       20,   7.8324,2,       25,  -999.00,9,      0.6,2,  -999.00,9,     14.7,2,20230314,0420
33RO20230306  ,A16N       ,17      ,  1,170120     ,120        ,20230314,0252,   0.3363, -24.9935,     3789,    114.9,  15.5121,  35.6116,2,  35.5788,2,    143.9,2,    147.5,2,     5.80,2,    14.90,2,     0.04,2,     1.06,2,    2.343,2,    1.382,2,   1.5192,2,   2167.8,2,   2337.5,2,    685.6,2,       20,   7.7651,2,       25,  -999.00,9,      0.5,2,  -999.00,9,     18.7,2,20230314,0418
33RO20230306  ,A16N       ,17      ,  1,170119     ,119        ,20230314,0252,   0.3363, -24.9935,     3789,    141.5,  14.1627,  35.4242,2,  35.4257,2,    135.8,2,    142.0,2,     6.80,2,    17.00,2,     0.02,2,     1.19,2,    2.396,2,    1.401,2,   1.4941,2,   2171.5,2,   2326.9,2,    744.7,2,       20,   7.7330,2,       25,  -999.00,9,      0.5,2,  -999.00,9,     20.7,2,20230314,0416
33RO20230306  ,A16N       ,17      ,  1,170118     ,118        ,20230314,0252,   0.3363, -24.9935,     3789,    162.8,  14.0850,  35.4098,2,  35.4129,2,    138.6,2,    147.5,2,     6.60,2,    16.50,2,     0.01,2,     1.16,2,    2.427,2,    1.420,2,   1.4179,2,   2169.4,2,   2302.2,3,    731.6,2,       20,   7.7405,2,       25,  -999.00,9,      0.5,2,  -999.00,9,     19.9,2,20230314,0415
33RO20230306  ,A16N       ,17      ,  1,170117     ,117        ,20230314,0252,   0.3363, -24.9935,     3789,    212.0,  13.0911,  35.2864,2,  35.2899,2,    104.2,2,    108.0,2,     8.80,2,    22.50,2,     0.01,2,     1.49,2,    2.284,2,    1.316,2,   1.1980,2,   2200.5,2,   2316.1,2,    931.4,2,       20,   7.6467,2,       25,  -999.00,9,      0.4,2,  -999.00,9,     27.0,2,20230314,0413
33RO20230306  ,A16N       ,17      ,  1,170116     ,116        ,20230314,0252,   0.3363, -24.9935,     3789,    315.0,  10.5668,  34.9878,2,  34.9899,2,     92.2,2,     98.2,2,    12.90,2,    28.30,2,     0.01,2,     1.82,2,    2.063,2,    1.143,2,   0.8104,2,   2214.1,2,   2304.8,2,   1132.3,2,       20,   7.5685,2,       25,  -999.00,9,      0.3,2,  -999.00,9,     31.3,2,20230314,0410
33RO20230306  ,A16N       ,17      ,  1,170115     ,115        ,20230314,0252,   0.3363, -24.9935,     3789,    388.8,   9.7309,  34.8904,2,  34.8927,2,     89.9,2,     95.5,2,    14.60,2,    30.30,2,     0.01,2,     1.94,2,    1.932,2,    1.061,2,   0.7198,2,   2220.0,2,   2300.1,2,   1207.2,2,       20,   7.5437,2,       25,  -999.00,9,      0.4,2,  -999.00,9,     32.0,2,20230314,0407
33RO20230306  ,A16N       ,17      ,  1,170114     ,114        ,20230314,0252,   0.3363, -24.9935,     3789,    460.8,   8.3165,  34.7307,2,  34.7332,2,    104.1,2,    112.3,2,    17.50,2,    31.50,2,     0.01,2,     2.05,2,     -999,9,     -999,9,     -999,9,     -999,9,     -999,9,   1210.2,2,       20,     -999,9,       25,  -999.00,9,      0.6,2,  -999.00,9,     -999,9,20230314,0404
33RO20230306  ,A16N       ,17      ,  1,170113     ,113        ,20230314,0252,   0.3363, -24.9935,     3789,    540.6,   6.8162,  34.5828,2,  34.5867,2,    129.9,2,    136.7,2,    21.30,2,    32.10,2,     0.00,2,     2.14,2,    1.557,2,    0.818,2,   0.5088,2,   2210.8,2,   2292.5,2,   1171.4,2,       20,   7.5498,2,       25,  -999.00,9,      0.7,2,  -999.00,9,     25.6,2,20230314,0402
33RO20230306  ,A16N       ,17      ,  1,170112     ,112        ,20230314,0252,   0.3363, -24.9935,     3789,    648.5,   5.9355,  34.5261,2,  34.5309,2,    134.6,2,    140.6,2,    25.10,2,    33.40,2,     0.01,2,     2.24,2,     -999,9,     -999,9,     -999,9,     -999,9,     -999,9,   1196.3,2,       20,     -999,9,       25,  -999.00,9,      0.7,2,  -999.00,9,     -999,9,20230314,0358
33RO20230306  ,A16N       ,17      ,  1,170111     ,111        ,20230314,0252,   0.3363, -24.9935,     3789,    816.4,   5.0935,  34.5092,2,  34.5131,2,    137.6,2,    144.6,2,    29.90,2,    34.40,2,     0.00,2,     2.34,2,    0.606,2,    0.318,2,   0.1713,2,   2218.9,2,   2295.1,2,   1211.5,2,       20,   7.5386,2,       25,  -999.00,9,      0.8,2,  -999.00,9,     24.9,2,20230314,0354
33RO20230306  ,A16N       ,17      ,  1,170110     ,110        ,20230314,0252,   0.3363, -24.9935,     3789,    976.0,   4.6315,  34.5800,2,  34.5917,2,    145.9,2,    154.9,2,    31.90,2,    33.10,2,     0.00,2,     2.26,2,     -999,9,     -999,9,     -999,9,     -999,9,     -999,9,   1157.2,2,       20,     -999,9,       25,  -999.00,9,      0.6,2,  -999.00,9,     -999,9,20230314,0350
33RO20230306  ,A16N       ,17      ,  1,170109     ,109        ,20230314,0252,   0.3363, -24.9935,     3789,   1124.2,   4.6428,  34.7654,2,  34.7688,2,    161.1,2,    171.9,2,    27.50,2,    29.30,2,     0.01,2,     2.00,2,     -999,9,    0.107,2,   0.0000,3,   2205.3,2,   2307.9,2,   1028.9,2,       20,   7.6047,2,       25,  -999.00,9,      0.8,2,  -999.00,9,     20.4,2,20230314,0347
33RO20230306  ,A16N       ,17      ,  1,170108     ,108        ,20230314,0252,   0.3363, -24.9935,     3789,   1275.0,   4.6171,  34.9097,2,  34.9189,2,    189.8,2,    204.3,2,    21.80,2,    24.40,2,     0.01,2,     1.66,2,     -999,9,     -999,9,     -999,9,     -999,9,     -999,9,    891.0,2,       20,     -999,9,       25,  -999.00,9,      0.9,2,  -999.00,9,     -999,9,20230314,0343
33RO20230306  ,A16N       ,17      ,  1,170107     ,107        ,20230314,0252,   0.3363, -24.9935,     3789,   1499.2,   4.2956,  34.9606,2,  34.9734,6,    213.6,2,    227.7,2,    18.80,2,    21.40,2,     0.00,2,     1.45,2,     -999,9,    0.329,2,   0.0000,3,   2176.8,2,   2312.3,2,    811.9,6,       20,   7.6910,2,       25,  -999.00,9,      1.0,2,  -999.00,9,     15.3,2,20230314,0338
33RO20230306  ,A16N       ,17      ,  1,170106     ,106        ,20230314,0252,   0.3363, -24.9935,     3789,   1751.1,   3.9211,  34.9706,2,  34.9748,2,    228.9,2,    245.6,2,    18.30,2,    19.60,2,     0.00,2,     1.33,2,     -999,9,     -999,9,     -999,9,     -999,9,     -999,9,   -999.0,9,       20,     -999,9,       25,  -999.00,9,      0.9,2,  -999.00,9,     -999,9,20230314,0332
33RO20230306  ,A16N       ,17      ,  1,170105     ,105        ,20230314,0252,   0.3363, -24.9935,     3789,   2145.0,   3.4853,  34.9557,2,  34.9626,2,    232.7,2,    250.6,2,    22.10,2,    19.50,2,     0.00,2,     1.34,2,    0.503,2,    0.260,2,   0.2441,3,   2170.1,2,   2315.9,2,    756.8,2,       20,   7.7219,2,       25,  -999.00,9,      1.0,2,  -999.00,9,     13.9,2,20230314,0324
33RO20230306  ,A16N       ,17      ,  1,170104     ,104        ,20230314,0252,   0.3363, -24.9935,     3789,   2601.8,   2.9332,  34.9239,2,  34.9377,2,    227.3,2,    246.2,2,    32.90,2,    20.80,2,     0.00,2,     1.43,2,     -999,9,     -999,9,     -999,9,     -999,9,     -999,9,    768.4,2,       20,     -999,9,       25,  -999.00,9,      1.0,2,  -999.00,9,     -999,9,20230314,0315
33RO20230306  ,A16N       ,17      ,  1,170103     ,103        ,20230314,0252,   0.3363, -24.9935,     3789,   2998.7,   2.6775,  34.9078,2,  34.9145,2,    226.3,2,    246.9,2,    37.50,2,    21.00,2,     0.00,2,     1.44,2,    0.147,2,    0.079,2,   0.1843,3,   2186.2,2,   2328.5,2,    770.9,2,       20,   7.7162,2,       25,  -999.00,9,      0.9,2,  -999.00,9,     14.1,2,20230314,0307
33RO20230306  ,A16N       ,17      ,  1,170102     ,102        ,20230314,0252,   0.3363, -24.9935,     3789,   3375.9,   2.5166,  34.8965,2,  34.9029,2,    226.0,2,    248.5,2,    40.10,2,    21.00,2,     0.01,2,     1.45,2,     -999,9,     -999,9,     -999,9,     -999,9,     -999,9,    771.9,2,       20,     -999,9,       25,  -999.00,9,      1.0,2,  -999.00,9,     -999,9,20230314,0259
33RO20230306  ,A16N       ,17      ,  1,170101     ,101        ,20230314,0252,   0.3363, -24.9935,     3789,   3679.8,   2.4292,  34.8891,2,  34.8951,2,    226.3,2,    249.7,2,    41.50,2,    20.90,2,     0.01,2,     1.45,2,    0.255,2,    0.133,2,   0.2492,3,   2191.9,2,   2333.9,2,    771.2,2,       20,   7.7144,2,       25,  -999.00,9,      1.0,6,  -999.00,9,     14.2,2,20230314,0252