BOTTLE,20240601CCHHYDRO
EXPOCODE,SECT_ID,STNNBR,CASTNO,SAMPNO,BTLNBR,DATE,TIME,LATITUDE,LONGITUDE,DEPTH,CTDPRS,CTDTMP,CTDSAL,CTDSAL_FLAG_W,SALNTY,SALNTY_FLAG_W,CTDOXY,CTDOXY_FLAG_W,OXYGEN,OXYGEN_FLAG_W,SILCAT,SILCAT_FLAG_W,NITRAT,NITRAT_FLAG_W,NITRIT,NITRIT_FLAG_W,PHSPHT,PHSPHT_FLAG_W,CFC-11,CFC-11_FLAG_W,CFC-12,CFC-12_FLAG_W,SF6,SF6_FLAG_W,TCARBN,TCARBN_FLAG_W,ALKALI,ALKALI_FLAG_W,FCO2,FCO2_FLAG_W,FCO2TMP,PH_TOT,PH_TOT_FLAG_W,PH_TMP,DOC,DOC_FLAG_W,DELC13,DELC13_FLAG_W,TDN,TDN_FLAG_W,N2O,N2O_FLAG_W,BTL_DATE,BTL_TIME
,,,,,,,,,,METERS,DBAR,ITS-90,PSS-78,,PSS-78,,UMOL/KG,,UMOL/KG,,UMOL/KG,,UMOL/KG,,UMOL/KG,,UMOL/KG,,PMOL/KG,,PMOL/KG,,FMOL/KG,,UMOL/KG,,UMOL/KG,,UATM,,DEG C,,,DEG C,UMOL/KG,,/MILLE,,UMOL/KG,,NMOL/KG,,,
33RO20230306  ,A16N       ,18      ,  1,180124     ,124        ,20230314,0837,   0.6678, -24.9983,     4506,      3.6,  28.4728,  35.7573,2,  35.7533,6,    190.3,2,    198.5,2,     1.40,2,     0.00,2,     0.01,2,     0.06,2,    1.402,2,    0.923,2,   1.8564,2,   2020.9,6,   2340.0,2,    312.8,2,       20,   8.0506,2,       25,    66.46,2,      1.1,6,     4.15,2,      5.8,2,20230314,1026
33RO20230306  ,A16N       ,18      ,  1,180123     ,123        ,20230314,0837,   0.6678, -24.9983,     4506,     24.3,  28.0452,  35.9522,2,  35.9513,2,    191.6,2,    199.6,2,     1.10,2,     0.00,2,     0.01,2,     0.08,2,    1.431,2,    0.933,2,   1.8164,2,   2035.5,2,   2353.3,2,    317.9,2,       20,   8.0472,2,       25,    67.29,2,      1.1,2,     3.71,2,      5.9,2,20230314,1023
33RO20230306  ,A16N       ,18      ,  1,180122     ,122        ,20230314,0837,   0.6678, -24.9983,     4506,     45.0,  27.0759,  36.0633,2,  36.0115,2,    188.5,2,    194.9,2,     1.40,2,     0.00,2,     0.01,2,     0.09,2,     -999,9,     -999,9,     -999,9,   2048.4,2,   2356.9,2,    334.6,2,       20,   8.0318,2,       25,    64.42,2,      1.0,2,     4.30,2,     -999,9,20230314,1021
33RO20230306  ,A16N       ,18      ,  1,180121     ,121        ,20230314,0837,   0.6678, -24.9983,     4506,     77.7,  18.5030,  35.9396,2,  35.9367,2,    137.3,2,    141.8,2,     4.50,2,    11.90,2,     0.19,2,     0.88,2,    1.805,2,    1.115,2,   1.6678,2,   2161.5,2,   2353.5,2,    598.9,2,       20,   7.8175,2,       25,    51.10,2,      0.5,2,    13.68,2,     11.8,2,20230314,1019
33RO20230306  ,A16N       ,18      ,  1,180120     ,120        ,20230314,0837,   0.6678, -24.9983,     4506,    102.4,  15.6670,  35.6346,2,  35.6643,2,    145.0,2,    149.3,2,     5.50,2,    14.10,2,     0.05,2,     1.03,2,    2.326,2,    1.370,2,   1.5954,2,   2166.7,2,   2338.6,2,    664.9,2,       20,   7.7774,2,       25,    47.51,2,      0.5,2,    17.08,2,     18.5,2,20230314,1017
33RO20230306  ,A16N       ,18      ,  1,180119     ,119        ,20230314,0837,   0.6678, -24.9983,     4506,    149.4,  13.9837,  35.3971,2,  35.3980,2,    139.2,2,    144.4,2,     6.70,2,    16.90,2,     0.01,2,     1.20,2,    2.437,2,    1.418,2,   1.4879,2,   2173.5,2,   2325.7,2,    744.1,2,       20,   7.7325,2,       25,    44.67,2,      0.5,2,    18.02,2,     20.8,2,20230314,1014
33RO20230306  ,A16N       ,18      ,  1,180118     ,118        ,20230314,0837,   0.6678, -24.9983,     4506,    233.4,  13.2290,  35.3032,2,  35.3059,2,    108.1,2,    113.0,2,     8.50,2,    21.70,2,     0.01,2,     1.45,2,    2.321,2,    1.336,2,   1.2198,2,   2196.7,2,   2318.2,2,    898.2,2,       20,   7.6606,2,       25,    44.53,2,      0.3,2,    24.65,2,     26.2,2,20230314,1011
33RO20230306  ,A16N       ,18      ,  1,180117     ,117        ,20230314,0837,   0.6678, -24.9983,     4506,    314.5,  10.5014,  34.9829,2,     -999,9,     99.4,2,     -999,9,    12.80,2,    27.70,2,     0.01,2,     1.80,2,     -999,9,     -999,9,     -999,9,     -999,9,     -999,9,   -999.0,9,       20,     -999,9,       25,  -999.00,2,   -999.0,9,  -999.00,2,     -999,9,20230314,1009
33RO20230306  ,A16N       ,18      ,  1,180116     ,116        ,20230314,0837,   0.6678, -24.9983,     4506,    316.0,  10.4956,  34.9820,2,  34.9800,2,     99.6,2,    104.1,2,    12.80,2,    27.70,2,     0.01,2,     1.79,2,    2.093,6,    1.154,6,   0.8809,6,   2211.1,2,   2304.4,2,   1097.5,6,       20,   7.5807,2,       25,    43.29,2,      0.3,6,    30.44,2,     30.1,6,20230314,1008
33RO20230306  ,A16N       ,18      ,  1,180115     ,115        ,20230314,0837,   0.6678, -24.9983,     4506,    403.4,   8.6877,  34.7715,2,  34.7733,2,    103.5,2,    110.2,2,    16.50,2,    30.80,2,     0.01,2,     2.00,2,    1.867,2,    1.005,2,   0.6078,2,   2214.7,6,   2296.2,2,   1194.2,2,       20,   7.5460,2,       25,    41.47,2,      0.4,2,    32.64,2,     29.5,2,20230314,1006
33RO20230306  ,A16N       ,18      ,  1,180114     ,114        ,20230314,0837,   0.6678, -24.9983,     4506,    490.4,   7.7281,  34.6728,2,  34.6764,2,    111.9,2,    117.9,2,    19.00,2,    32.00,2,     0.01,2,     2.11,2,    1.677,2,    0.883,2,   0.4287,2,   2216.4,2,   2294.1,2,   1213.5,2,       20,   7.5394,2,       25,    41.50,2,      0.5,2,    34.07,2,     27.9,2,20230314,1003
33RO20230306  ,A16N       ,18      ,  1,180113     ,113        ,20230314,0837,   0.6678, -24.9983,     4506,    557.0,   6.6717,  34.5819,2,  34.5849,2,    128.2,2,    134.2,2,    22.30,2,    32.60,2,     0.01,2,     2.17,2,    1.420,2,    0.736,2,   0.3745,2,   2213.6,2,   2294.5,2,   1189.4,2,       20,   7.5480,2,       25,    40.13,2,      0.6,2,    35.35,2,     25.5,2,20230314,1001
33RO20230306  ,A16N       ,18      ,  1,180112     ,112        ,20230314,0837,   0.6678, -24.9983,     4506,    649.7,   5.8927,  34.5262,2,  34.5291,2,    134.0,2,    140.0,2,    25.60,2,    33.60,2,     0.01,2,     2.26,2,    1.119,2,    0.578,2,   0.2321,3,   2216.6,2,   2294.8,2,   1201.1,2,       20,   7.5420,2,       25,    41.41,2,      0.7,2,    36.66,2,     24.7,2,20230314,0958
33RO20230306  ,A16N       ,18      ,  1,180111     ,111        ,20230314,0837,   0.6678, -24.9983,     4506,    785.6,   5.0626,  34.5205,2,  34.5270,2,    138.3,2,    145.9,2,    30.20,2,    34.30,2,     0.01,2,     2.33,2,    0.574,2,    0.298,2,   0.1412,3,   2220.2,2,   2297.2,2,   1200.9,2,       20,   7.5434,2,       25,    40.31,2,      0.7,2,    35.33,2,     24.0,2,20230314,0955
33RO20230306  ,A16N       ,18      ,  1,180110     ,110        ,20230314,0837,   0.6678, -24.9983,     4506,    948.8,   4.6404,  34.5887,2,  34.5935,6,    146.2,2,    154.5,2,    31.80,2,    33.10,2,     0.01,2,     2.26,2,    0.260,2,    0.141,2,   0.0641,3,   2219.9,2,   2302.2,2,   1149.9,2,       20,   7.5597,2,       25,    40.73,2,      0.7,2,    35.78,2,     22.8,2,20230314,0951
33RO20230306  ,A16N       ,18      ,  1,180109     ,109        ,20230314,0837,   0.6678, -24.9983,     4506,   1199.5,   4.6719,  34.8235,2,  34.8275,2,    169.9,2,    180.9,2,    25.70,2,    27.70,2,     0.01,2,     1.89,2,    0.249,2,    0.131,2,   0.0000,3,   2203.6,2,   2304.9,2,    977.5,2,       20,   7.6245,2,       25,    40.70,2,      0.7,2,    29.40,2,     19.3,2,20230314,0945
33RO20230306  ,A16N       ,18      ,  1,180108     ,108        ,20230314,0837,   0.6678, -24.9983,     4506,   1598.3,   4.1205,  34.9729,2,  34.9795,2,    224.0,2,    239.2,2,    17.90,2,    20.10,2,     0.01,2,     1.37,2,    0.834,2,    0.428,2,   0.2437,2,   2172.5,2,   2311.2,2,    785.0,2,       20,   7.7076,2,       25,    40.67,2,      1.0,2,    21.95,2,     14.4,2,20230314,0937
33RO20230306  ,A16N       ,18      ,  1,180107     ,107        ,20230314,0837,   0.6678, -24.9983,     4506,   2001.5,   3.5846,  34.9598,2,  34.9726,2,    232.5,2,    248.7,2,    21.10,2,    19.50,2,     0.01,2,     1.34,2,    0.562,2,    0.288,2,   0.0689,2,   2169.6,2,   2314.0,2,    758.5,2,       20,   7.7202,2,       25,    41.70,2,      1.0,2,    19.85,2,     13.8,2,20230314,0928
33RO20230306  ,A16N       ,18      ,  1,180106     ,106        ,20230314,0837,   0.6678, -24.9983,     4506,   2400.2,   3.1686,  34.9396,2,  34.9465,2,    230.8,2,    248.7,2,    27.50,2,    20.10,2,     0.01,2,     1.38,2,    0.296,2,    0.155,2,   0.0000,3,   2173.3,2,   2321.0,2,    759.6,2,       20,   7.7203,2,       25,    41.52,2,      1.0,2,    21.04,2,     13.8,2,20230314,0920
33RO20230306  ,A16N       ,18      ,  1,180105     ,105        ,20230314,0837,   0.6678, -24.9983,     4506,   2798.8,   2.8005,  34.9161,2,  34.9223,2,    227.2,2,    246.8,2,    35.30,2,    20.90,2,     0.01,2,     1.43,2,    0.162,2,    0.089,2,   0.0000,3,   2183.7,2,   2327.0,2,    767.4,2,       20,   7.7182,2,       25,    41.21,2,      0.9,2,    22.24,2,     13.8,2,20230314,0912
33RO20230306  ,A16N       ,18      ,  1,180104     ,104        ,20230314,0837,   0.6678, -24.9983,     4506,   3201.1,   2.5710,  34.9011,2,  34.9078,2,    225.5,2,    245.9,2,    40.10,2,    21.20,2,     0.01,2,     1.46,2,    0.122,2,    0.068,2,   0.0000,3,   2188.6,2,   2332.6,2,    772.9,2,       20,   7.7165,2,       25,    41.45,2,      0.9,2,    21.58,2,     14.0,2,20230314,0904
33RO20230306  ,A16N       ,18      ,  1,180103     ,103        ,20230314,0837,   0.6678, -24.9983,     4506,   3649.4,   2.4122,  34.8886,2,  34.9153,2,    225.8,2,    248.6,2,    42.70,2,    21.20,2,     0.01,2,     1.46,2,    0.214,2,    0.114,2,   0.0000,3,   2191.9,2,   2333.2,2,   -999.0,9,       20,   7.7138,2,       25,    41.33,2,      0.9,2,    23.43,2,     14.2,2,20230314,0855
33RO20230306  ,A16N       ,18      ,  1,180102     ,102        ,20230314,0837,   0.6678, -24.9983,     4506,   4110.0,   2.3684,  34.8811,2,  34.8920,2,    223.2,2,    247.7,2,    45.70,2,    21.60,2,     0.01,2,     1.49,2,    0.202,2,    0.109,2,   0.0000,3,   2194.7,2,   2336.2,2,    782.5,2,       20,   7.7120,2,       25,    40.23,2,      0.8,2,    22.23,2,     14.3,2,20230314,0846
33RO20230306  ,A16N       ,18      ,  1,180101     ,101        ,20230314,0837,   0.6678, -24.9983,     4506,   4572.5,   2.4130,  34.8800,2,  34.8896,2,    220.4,2,    247.0,2,    46.20,2,    21.70,2,     0.01,2,     1.49,2,    0.188,2,    0.100,2,   0.0000,3,   2193.8,6,   2339.3,2,    778.6,2,       20,   7.7142,2,       25,    40.60,2,      0.9,6,    22.05,2,     14.2,2,20230314,0837
33RO20230306  ,A16N       ,19      ,  2,190224     ,124        ,20230314,1526,   1.0025, -25.0002,     3331,      3.3,  29.0258,  35.5627,2,  35.5675,2,    191.5,2,    199.2,2,     1.10,2,     0.00,2,     0.02,2,     0.07,2,    1.401,2,    0.919,2,   1.8067,2,   2008.6,6,   2326.5,2,    307.4,2,       20,   8.0566,2,       25,    66.27,2,      1.1,6,     4.60,2,      5.9,2,20230314,1700
33RO20230306  ,A16N       ,19      ,  2,190223     ,123        ,20230314,1526,   1.0025, -25.0002,     3331,     13.5,  28.4844,  35.6198,2,  35.6488,2,    192.2,2,    200.1,2,     1.10,2,     0.00,2,     0.02,2,     0.06,2,    1.414,2,    0.921,2,   1.7207,2,   2016.8,2,   2332.0,2,    311.1,2,       20,   8.0534,2,       25,  -999.00,9,      1.1,2,  -999.00,9,      5.7,2,20230314,1658
33RO20230306  ,A16N       ,19      ,  2,190222     ,122        ,20230314,1526,   1.0025, -25.0002,     3331,     30.9,  27.9706,  35.7792,2,  35.7934,2,    193.8,2,    199.9,2,     1.20,2,     0.00,2,     0.02,2,     0.07,2,    1.459,2,    0.950,2,   1.7811,2,   2026.9,2,   2341.9,2,    319.9,2,       20,   8.0463,2,       25,  -999.00,9,      1.1,2,  -999.00,9,      6.3,2,20230314,1656
33RO20230306  ,A16N       ,19      ,  2,190221     ,121        ,20230314,1526,   1.0025, -25.0002,     3331,     61.0,  23.7864,  36.1835,2,  36.1276,2,    159.9,2,    156.3,2,     3.40,2,     4.80,2,     0.27,2,     0.46,2,    1.791,2,    1.118,2,   1.6243,2,   2120.7,2,   2364.4,2,    465.7,2,       20,   7.9135,2,       25,  -999.00,9,      0.6,2,  -999.00,9,     12.2,2,20230314,1653
33RO20230306  ,A16N       ,19      ,  2,190220     ,120        ,20230314,1526,   1.0025, -25.0002,     3331,     85.5,  15.8610,  35.6613,2,  35.6505,6,    137.6,2,    143.4,2,     5.70,2,    14.70,2,     0.07,2,     1.06,2,    2.296,2,    1.359,2,   1.4417,2,   2166.3,2,   2338.2,2,    678.1,2,       20,   7.7704,2,       25,  -999.00,9,      0.4,2,  -999.00,9,     18.9,2,20230314,1651
33RO20230306  ,A16N       ,19      ,  2,190219     ,119        ,20230314,1526,   1.0025, -25.0002,     3331,    110.9,  14.2789,  35.4426,2,  35.4589,2,    135.1,2,    140.1,2,     6.60,2,    17.00,2,     0.03,2,     1.19,2,     -999,9,     -999,9,     -999,9,   2173.2,2,   2326.2,2,    743.5,2,       20,   7.7337,2,       25,  -999.00,9,      0.3,2,  -999.00,9,     -999,9,20230314,1649
33RO20230306  ,A16N       ,19      ,  2,190218     ,118        ,20230314,1526,   1.0025, -25.0002,     3331,    129.9,  14.1224,  35.4170,2,  35.4204,2,    136.3,2,    143.8,2,     6.70,2,    16.80,2,     0.02,2,     1.18,2,    2.408,2,    1.415,2,   1.5658,2,   2171.3,2,   2325.9,2,    741.5,2,       20,   7.7336,2,       25,  -999.00,9,      0.4,2,  -999.00,9,     20.9,2,20230314,1647
33RO20230306  ,A16N       ,19      ,  2,190217     ,117        ,20230314,1526,   1.0025, -25.0002,     3331,    175.2,  13.8300,  35.3785,2,  35.3933,2,    129.3,2,    133.0,2,     7.30,2,    18.50,2,     0.02,2,     1.28,2,    2.375,2,    1.387,2,   1.3743,2,   2179.6,2,   2323.4,2,    792.9,2,       20,   7.7094,2,       25,  -999.00,9,      0.3,2,  -999.00,9,     22.6,2,20230314,1645
33RO20230306  ,A16N       ,19      ,  2,190216     ,116        ,20230314,1526,   1.0025, -25.0002,     3331,    246.2,  13.0620,  35.2826,2,  35.3101,2,     98.5,2,    105.1,2,     9.10,2,    22.90,2,     0.02,2,     1.52,2,    2.270,2,    1.321,2,   1.1998,2,   2200.1,2,   2314.5,2,    945.5,2,       20,   7.6409,2,       25,  -999.00,9,      0.2,2,  -999.00,9,     27.5,2,20230314,1642
33RO20230306  ,A16N       ,19      ,  2,190215     ,115        ,20230314,1526,   1.0025, -25.0002,     3331,    350.9,   9.9077,  34.9103,2,  34.9102,2,     94.2,2,     99.1,2,    14.20,2,    29.60,2,     0.01,2,     1.90,2,    1.974,2,    1.081,2,   0.7268,2,   2218.5,2,   2300.9,2,   1172.4,2,       20,   7.5550,2,       25,  -999.00,9,      0.2,2,  -999.00,9,     31.1,2,20230314,1638
33RO20230306  ,A16N       ,19      ,  2,190214     ,114        ,20230314,1526,   1.0025, -25.0002,     3331,    390.5,   9.1006,  34.8173,2,  34.8310,2,    105.5,2,    112.9,2,    15.30,2,    29.70,2,     0.02,2,     1.92,2,    1.974,2,    1.064,2,   0.7969,2,   2212.0,2,   2297.8,2,   1147.6,2,       20,   7.5627,2,       25,  -999.00,9,      0.3,2,  -999.00,9,     28.9,2,20230314,1636
33RO20230306  ,A16N       ,19      ,  2,190213     ,113        ,20230314,1526,   1.0025, -25.0002,     3331,    451.4,   8.3636,  34.7372,2,  34.7716,2,    107.6,2,    110.9,2,    17.30,2,    31.40,2,     0.01,2,     2.04,2,    1.798,2,    0.954,2,   0.6285,2,   2217.2,2,   2295.9,2,   1209.1,2,       20,   7.5405,2,       25,  -999.00,9,      0.3,2,  -999.00,9,     29.2,2,20230314,1633
33RO20230306  ,A16N       ,19      ,  2,190212     ,112        ,20230314,1526,   1.0025, -25.0002,     3331,    540.5,   7.3881,  34.6407,2,  34.6456,2,    118.8,2,    125.3,2,    19.80,2,    32.00,2,     0.01,2,     2.12,2,    1.640,2,    0.856,2,   0.3637,2,   2215.2,2,   2373.8,4,   1195.9,2,       20,   7.5446,2,       25,  -999.00,9,      0.5,2,  -999.00,9,     27.4,2,20230314,1630
33RO20230306  ,A16N       ,19      ,  2,190211     ,111        ,20230314,1526,   1.0025, -25.0002,     3331,    676.3,   5.9544,  34.5351,2,  34.5399,6,    130.8,2,    137.8,2,    25.40,2,    33.70,2,     0.01,2,     2.26,2,    1.091,2,    0.560,2,   0.3058,2,   2218.2,2,   2293.8,2,   1206.5,2,       20,   7.5429,2,       25,  -999.00,9,      0.6,2,  -999.00,9,     26.1,2,20230314,1626
33RO20230306  ,A16N       ,19      ,  2,190210     ,110        ,20230314,1526,   1.0025, -25.0002,     3331,    820.4,   4.9795,  34.5255,2,  34.5311,2,    141.3,2,    147.5,2,    30.60,2,    34.10,2,     0.01,2,     2.31,2,    0.538,2,    0.284,2,   0.4025,2,   2218.7,2,   2298.2,2,   1194.3,2,       20,   7.5439,2,       25,  -999.00,9,      0.7,2,  -999.00,9,     25.5,2,20230314,1622
33RO20230306  ,A16N       ,19      ,  2,190209     ,109        ,20230314,1526,   1.0025, -25.0002,     3331,    976.1,   4.6788,  34.5999,2,  34.6239,2,    145.2,2,    153.5,2,    31.60,2,    33.00,2,     0.01,2,     2.26,2,     -999,9,     -999,9,     -999,9,     -999,9,     -999,9,   1150.5,2,       20,     -999,9,       25,  -999.00,9,      0.6,2,  -999.00,9,     -999,9,20230314,1618
33RO20230306  ,A16N       ,19      ,  2,190208     ,108        ,20230314,1526,   1.0025, -25.0002,     3331,   1120.3,   4.6798,  34.7811,2,  34.7862,2,    162.6,2,    172.3,2,    27.10,2,    29.00,2,     0.01,2,     1.98,2,    0.205,2,    0.113,2,   0.0000,3,   2205.8,2,   2307.7,2,   1018.9,2,       20,   7.6069,2,       25,  -999.00,9,      0.6,2,  -999.00,9,     20.6,2,20230314,1614
33RO20230306  ,A16N       ,19      ,  2,190207     ,107        ,20230314,1526,   1.0025, -25.0002,     3331,   1301.6,   4.5260,  34.9233,2,  34.9658,2,    196.0,2,    207.6,2,    21.10,2,    23.70,2,     0.01,2,     1.61,2,     -999,9,     -999,9,     -999,9,     -999,9,     -999,9,    869.6,2,       20,     -999,9,       25,  -999.00,9,      0.9,2,  -999.00,9,     -999,9,20230314,1609
33RO20230306  ,A16N       ,19      ,  2,190206     ,106        ,20230314,1526,   1.0025, -25.0002,     3331,   1500.5,   4.3422,  34.9541,2,  34.9585,2,    210.1,2,    223.6,2,    19.30,2,    21.90,2,     0.01,2,     1.48,2,    0.598,2,    0.315,2,   0.1540,3,   2175.6,2,   2310.0,2,    821.8,6,       20,   7.6888,2,       25,  -999.00,9,      0.9,2,  -999.00,9,     15.5,2,20230314,1604
33RO20230306  ,A16N       ,19      ,  2,190205     ,105        ,20230314,1526,   1.0025, -25.0002,     3331,   1797.7,   3.8249,  34.9679,2,  34.9806,2,    229.7,2,    245.8,2,    19.00,2,    19.70,2,     0.01,2,     1.34,2,     -999,9,     -999,9,     -999,9,     -999,9,     -999,9,    765.6,2,       20,     -999,9,       25,  -999.00,9,      0.9,2,  -999.00,9,     -999,9,20230314,1558
33RO20230306  ,A16N       ,19      ,  2,190204     ,104        ,20230314,1526,   1.0025, -25.0002,     3331,   2200.9,   3.3822,  34.9516,2,  34.9582,2,    232.9,2,     -999,9,    23.40,2,    19.60,2,     0.01,2,     1.34,2,    0.472,2,    0.240,2,   0.1552,3,   2167.7,2,   2315.4,2,    755.8,2,       20,   7.7206,2,       25,  -999.00,9,      1.0,2,  -999.00,9,     13.7,2,20230314,1550
33RO20230306  ,A16N       ,19      ,  2,190203     ,103        ,20230314,1526,   1.0025, -25.0002,     3331,   2601.7,   2.9434,  34.9252,2,  34.9463,2,    227.6,2,    246.5,2,    32.70,2,    20.70,2,     0.01,2,     1.42,2,     -999,9,     -999,9,     -999,9,     -999,9,     -999,9,   -999.0,9,       20,     -999,9,       25,  -999.00,9,      0.9,2,  -999.00,9,     -999,9,20230314,1542
33RO20230306  ,A16N       ,19      ,  2,190202     ,102        ,20230314,1526,   1.0025, -25.0002,     3331,   2900.0,   2.7831,  34.9144,2,  34.9204,2,    226.5,2,    246.6,2,    35.80,2,    20.90,2,     0.01,2,     1.43,2,    0.142,2,    0.079,2,   0.0678,3,   2181.1,2,   2327.2,2,    768.0,2,       20,   7.7156,2,       25,  -999.00,9,      1.0,2,  -999.00,9,     14.2,2,20230314,1535
33RO20230306  ,A16N       ,19      ,  2,190201     ,101        ,20230314,1526,   1.0025, -25.0002,     3331,   3373.0,   2.5185,  34.8970,2,  34.9037,2,    224.6,2,    245.9,2,    41.00,2,    21.30,2,     0.01,2,     1.46,2,    0.127,2,    0.070,2,   0.0923,3,   2190.1,2,   2333.0,2,    769.9,2,       20,   7.7157,2,       25,  -999.00,9,      1.0,6,  -999.00,9,     14.1,2,20230314,1526