BOTTLE,20240601CCHHYDRO
EXPOCODE,SECT_ID,STNNBR,CASTNO,SAMPNO,BTLNBR,DATE,TIME,LATITUDE,LONGITUDE,DEPTH,CTDPRS,CTDTMP,CTDSAL,CTDSAL_FLAG_W,SALNTY,SALNTY_FLAG_W,CTDOXY,CTDOXY_FLAG_W,OXYGEN,OXYGEN_FLAG_W,SILCAT,SILCAT_FLAG_W,NITRAT,NITRAT_FLAG_W,NITRIT,NITRIT_FLAG_W,PHSPHT,PHSPHT_FLAG_W,CFC-11,CFC-11_FLAG_W,CFC-12,CFC-12_FLAG_W,SF6,SF6_FLAG_W,TCARBN,TCARBN_FLAG_W,ALKALI,ALKALI_FLAG_W,FCO2,FCO2_FLAG_W,FCO2TMP,PH_TOT,PH_TOT_FLAG_W,PH_TMP,DOC,DOC_FLAG_W,DELC13,DELC13_FLAG_W,TDN,TDN_FLAG_W,N2O,N2O_FLAG_W,BTL_DATE,BTL_TIME
,,,,,,,,,,METERS,DBAR,ITS-90,PSS-78,,PSS-78,,UMOL/KG,,UMOL/KG,,UMOL/KG,,UMOL/KG,,UMOL/KG,,UMOL/KG,,PMOL/KG,,PMOL/KG,,FMOL/KG,,UMOL/KG,,UMOL/KG,,UATM,,DEG C,,,DEG C,UMOL/KG,,/MILLE,,UMOL/KG,,NMOL/KG,,,
33RO20230306  ,A16N       ,46      ,  1,460124     ,224        ,20230323,0611,  13.5027, -29.0050,     5544,      4.2,  24.3133,  35.8913,2,  35.8947,2,    199.7,2,    210.4,2,     1.00,2,     0.00,2,     0.01,2,     0.06,2,    1.650,2,    1.040,2,   1.9903,2,   2034.8,6,   2351.2,2,    321.5,2,       20,   8.0419,2,       25,    74.27,2,      1.1,2,     6.02,2,      6.7,2,20230323,0820
33RO20230306  ,A16N       ,46      ,  1,460123     ,223        ,20230323,0611,  13.5027, -29.0050,     5544,     25.2,  23.9550,  35.9767,2,  35.9911,2,    201.6,2,    214.9,2,     0.90,2,     0.00,2,     0.01,2,     0.07,2,    1.720,2,    1.070,2,   1.9265,2,   2048.6,2,   2364.3,2,    331.4,2,       20,   8.0314,2,       25,    74.08,2,      1.3,2,     5.24,2,      7.1,2,20230323,0817
33RO20230306  ,A16N       ,46      ,  1,460122     ,222        ,20230323,0611,  13.5027, -29.0050,     5544,     50.7,  22.2909,  36.3639,2,  36.3538,2,    192.3,2,    204.3,2,     1.10,2,     0.10,2,     0.05,2,     0.16,2,    1.784,2,    1.104,2,   1.8348,2,   2093.3,2,   2380.2,6,    378.7,2,       20,   7.9870,6,       25,    69.47,2,      1.0,2,     5.69,2,      9.4,2,20230323,0815
33RO20230306  ,A16N       ,46      ,  1,460121     ,221        ,20230323,0611,  13.5027, -29.0050,     5544,     74.9,  19.1367,  36.4414,2,  36.4433,2,    123.6,2,    131.4,2,     3.00,2,    11.50,2,     0.06,2,     0.78,2,    2.027,2,    1.216,2,   1.6904,2,   2186.4,2,   2379.1,2,    615.0,2,       20,   7.8105,2,       25,    55.40,2,      0.2,2,    15.45,2,     17.4,2,20230323,0813
33RO20230306  ,A16N       ,46      ,  1,460120     ,220        ,20230323,0611,  13.5027, -29.0050,     5544,    103.4,  17.0748,  36.1496,2,  36.1321,2,    100.3,2,    101.2,2,     4.60,2,    17.30,2,     0.05,2,     1.10,2,    2.150,2,    1.259,2,   1.5133,2,   2211.8,2,   2361.3,2,    771.8,2,       20,   7.7238,2,       25,    53.06,2,      0.1,2,    19.90,2,     24.0,2,20230323,0811
33RO20230306  ,A16N       ,46      ,  1,460119     ,219        ,20230323,0611,  13.5027, -29.0050,     5544,    151.1,  14.4742,  35.7739,2,  35.7572,2,     84.7,2,     88.5,2,     7.20,2,    22.20,2,     0.01,2,     1.40,2,    2.166,2,    1.245,2,   1.1174,2,   2218.9,2,   2339.1,2,    923.1,2,       20,   7.6532,2,       25,    47.89,2,      0.0,2,    23.52,2,     28.4,2,20230323,0809
33RO20230306  ,A16N       ,46      ,  1,460118     ,218        ,20230323,0611,  13.5027, -29.0050,     5544,    224.2,  11.8750,  35.2679,2,  35.2717,2,     75.9,2,     81.3,2,    10.70,2,    27.10,2,     0.01,2,     1.73,2,    2.077,2,    1.162,2,   0.8496,2,   2225.9,2,   2313.7,2,   1111.2,2,       20,   7.5788,2,       25,    45.34,2,      0.2,2,    32.16,2,     33.6,2,20230323,0806
33RO20230306  ,A16N       ,46      ,  1,460117     ,217        ,20230323,0611,  13.5027, -29.0050,     5544,    301.6,  11.0075,  35.1823,2,  35.1865,2,     50.8,2,     53.3,2,    12.90,2,    31.80,2,     0.01,2,     1.97,2,    1.653,6,    0.913,6,   0.4998,6,   2245.7,2,   2310.8,2,   1335.8,2,       20,   7.5053,2,       25,    46.34,2,      0.2,2,    32.78,2,     36.6,6,20230323,0804
33RO20230306  ,A16N       ,46      ,  1,460116     ,216        ,20230323,0611,  13.5027, -29.0050,     5544,    402.6,  10.2083,  35.1454,2,  35.1826,2,     41.6,2,     44.5,2,    15.00,2,    34.40,2,     0.01,2,     2.13,2,    1.139,2,    0.635,2,   0.3823,2,   2250.8,6,   2310.2,2,   1434.6,2,       20,   7.4781,2,       25,    46.47,2,      0.2,6,    39.86,2,     36.6,2,20230323,0801
33RO20230306  ,A16N       ,46      ,  1,460115     ,215        ,20230323,0611,  13.5027, -29.0050,     5544,    502.1,   9.2994,  35.0677,2,  35.0731,2,     51.1,2,     56.1,2,    17.10,2,    34.80,2,     0.01,2,     2.19,2,    0.802,2,    0.444,2,   0.2374,2,   2247.5,2,   2306.3,2,   1398.8,2,       20,   7.4866,2,       25,    42.76,2,      0.3,2,    39.65,2,     33.2,2,20230323,0758
33RO20230306  ,A16N       ,46      ,  1,460114     ,214        ,20230323,0611,  13.5027, -29.0050,     5544,    649.6,   7.8148,  34.9300,2,  34.9328,2,     70.2,2,     75.7,2,    20.80,2,    35.40,2,     0.01,2,     2.29,2,    0.378,2,    0.209,2,   0.0983,2,   2241.9,2,   2303.6,2,   1357.8,2,       20,   7.4971,2,       25,    42.15,2,      0.4,2,    39.88,2,     29.8,2,20230323,0754
33RO20230306  ,A16N       ,46      ,  1,460113     ,213        ,20230323,0611,  13.5027, -29.0050,     5544,    722.1,   7.2732,  34.8870,2,  34.8892,2,     79.5,2,     85.5,2,    22.40,2,    35.30,2,     0.01,2,     2.30,2,    0.255,2,    0.142,2,   0.0942,2,   2240.8,2,   2302.2,2,   1329.9,2,       20,   7.5043,2,       25,    41.53,2,      0.4,2,    38.52,2,     28.3,2,20230323,0752
33RO20230306  ,A16N       ,46      ,  1,460112     ,212        ,20230323,0611,  13.5027, -29.0050,     5544,    800.2,   6.9490,  34.8804,2,  34.8851,2,     89.8,2,     97.2,2,    23.00,2,    34.30,2,     0.01,2,     2.26,2,    0.209,2,    0.116,2,   0.0643,2,   2233.6,2,   2304.8,2,   1265.7,2,       20,   7.5230,2,       25,    40.48,2,      0.5,2,    38.77,2,     26.1,2,20230323,0749
33RO20230306  ,A16N       ,46      ,  1,460111     ,211        ,20230323,0611,  13.5027, -29.0050,     5544,   1000.3,   5.9199,  34.8792,2,  34.8827,6,    116.8,2,    125.1,2,    24.80,2,    32.10,2,     0.00,2,     2.17,2,    0.064,2,    0.038,2,   0.0659,2,   2225.0,2,   2308.3,2,   1150.2,2,       20,   7.5608,2,       25,    42.36,2,      0.6,2,    35.81,2,     23.1,2,20230323,0744
33RO20230306  ,A16N       ,46      ,  1,460110     ,210        ,20230323,0611,  13.5027, -29.0050,     5544,   1450.5,   4.5996,  34.9771,2,  34.9919,2,    187.9,2,    201.5,2,    21.10,2,    23.80,2,     0.00,2,     1.65,2,    0.143,2,    0.077,2,   0.0866,2,   2188.3,2,   2313.9,2,    862.7,2,       20,   7.6708,2,       25,    42.48,2,      0.9,2,    26.60,2,     16.2,2,20230323,0734
33RO20230306  ,A16N       ,46      ,  1,460109     ,209        ,20230323,0611,  13.5027, -29.0050,     5544,   1699.7,   4.0569,  34.9841,2,  34.9936,2,    214.8,2,    230.2,2,    19.80,2,    21.10,2,     0.00,2,     1.47,2,    0.219,2,    0.115,2,   0.0000,2,   2176.0,2,   2312.5,2,    788.1,6,       20,   7.7049,2,       25,    41.67,2,      0.9,2,    23.59,2,     14.6,2,20230323,0728
33RO20230306  ,A16N       ,46      ,  1,460108     ,208        ,20230323,0611,  13.5027, -29.0050,     5544,   2100.1,   3.5018,  34.9681,2,  34.9742,2,    223.1,2,    242.9,2,    23.50,2,    20.60,2,     0.00,2,     1.44,2,    0.081,2,    0.042,2,   0.0000,2,   2174.5,2,   2318.4,2,    763.2,2,       20,   7.7178,2,       25,    43.33,3,      1.0,2,    24.98,3,     13.5,2,20230323,0720
33RO20230306  ,A16N       ,46      ,  1,460107     ,207        ,20230323,0611,  13.5027, -29.0050,     5544,   2501.6,   3.1049,  34.9505,2,  34.9622,2,    218.4,2,    237.6,2,    30.80,2,    21.30,2,     0.01,2,     1.48,2,    0.008,2,    0.004,2,   0.0000,2,   2182.3,2,   2326.2,2,    770.0,2,       20,   7.7155,2,       25,    40.73,2,      1.0,2,    23.49,2,     13.8,2,20230323,0712
33RO20230306  ,A16N       ,46      ,  1,460106     ,206        ,20230323,0611,  13.5027, -29.0050,     5544,   2999.6,   2.7652,  34.9289,2,  34.9325,2,    223.9,2,    243.1,2,    34.90,2,    21.00,2,     0.01,2,     1.47,2,    0.010,2,    0.005,2,   0.0000,2,   2183.2,2,   2328.4,2,    757.7,2,       20,   7.7222,2,       25,    40.19,2,      1.0,2,    22.37,2,     13.7,2,20230323,0702
33RO20230306  ,A16N       ,46      ,  1,460105     ,205        ,20230323,0611,  13.5027, -29.0050,     5544,   3501.5,   2.5446,  34.9112,2,  34.9134,2,    222.7,2,    246.2,2,    40.20,2,    21.50,2,     0.00,2,     1.50,2,    0.010,2,    0.009,2,   0.0903,2,   2189.4,2,   2334.1,2,   -999.0,9,       20,   7.7224,2,       25,    40.55,2,      0.9,2,    22.93,2,     13.5,2,20230323,0653
33RO20230306  ,A16N       ,46      ,  1,460104     ,204        ,20230323,0611,  13.5027, -29.0050,     5544,   4001.1,   2.3943,  34.8943,2,  34.8958,2,    215.0,2,    239.6,2,    46.80,6,    22.40,6,     0.00,6,     1.55,6,    0.009,2,    0.007,2,   0.0556,2,   2204.1,2,   2346.1,2,    779.4,2,       20,   7.7151,2,       25,    41.25,2,      0.9,2,    23.95,2,     14.0,2,20230323,0642
33RO20230306  ,A16N       ,46      ,  1,460103     ,203        ,20230323,0611,  13.5027, -29.0050,     5544,   4503.2,   2.3171,  34.8800,2,  34.8816,2,    209.9,2,    235.0,2,    52.10,6,    23.10,6,     0.00,6,     1.60,6,    0.015,2,    0.007,2,   0.0000,2,   2215.6,2,   2353.2,2,    794.8,2,       20,   7.7077,2,       25,    40.58,2,      0.7,2,    25.68,2,     14.5,2,20230323,0632
33RO20230306  ,A16N       ,46      ,  1,460102     ,202        ,20230323,0611,  13.5027, -29.0050,     5544,   5003.8,   2.2957,  34.8730,2,  34.8742,2,    215.3,2,    242.9,2,    51.40,6,    22.60,6,     0.01,6,     1.56,6,    0.061,2,    0.031,2,   0.0401,2,   2205.4,2,   2347.1,2,    785.3,2,       20,   7.7115,2,       25,    41.19,2,      0.9,2,    26.34,2,     15.1,2,20230323,0622
33RO20230306  ,A16N       ,46      ,  1,460101     ,201        ,20230323,0611,  13.5027, -29.0050,     5544,   5629.7,   2.3314,  34.8678,2,  34.8698,2,    216.5,2,    244.5,2,    51.70,6,    22.50,6,     0.01,6,     1.56,6,    0.112,2,    0.060,2,   0.0628,2,   2206.2,6,   2345.0,2,    783.6,2,       20,   7.7117,2,       25,    40.79,2,      0.9,6,    24.00,2,     16.6,2,20230323,0611
33RO20230306  ,A16N       ,47      ,  2,470224     ,224        ,20230323,1424,  14.0015, -29.0057,     5442,      3.3,  24.4260,  35.9200,2,  35.9206,2,    199.0,2,    210.2,2,     1.00,2,     0.00,2,     0.01,2,     0.09,2,    1.470,2,    1.021,2,   1.8453,2,   2037.7,6,   2353.5,2,    323.3,2,       20,   8.0405,2,       25,    76.64,2,      1.2,2,     5.15,2,      5.0,2,20230323,1624
33RO20230306  ,A16N       ,47      ,  2,470223     ,223        ,20230323,1424,  14.0015, -29.0057,     5442,     15.5,  24.3079,  35.9151,2,  35.9232,2,    199.1,2,    210.4,2,     1.00,2,     0.00,2,     0.01,2,     0.07,2,    1.485,2,    1.019,2,   1.8289,2,   2036.1,2,   2351.6,2,    324.4,2,       20,   8.0395,2,       25,  -999.00,9,      1.1,2,  -999.00,9,      5.1,2,20230323,1622
33RO20230306  ,A16N       ,47      ,  2,470222     ,222        ,20230323,1424,  14.0015, -29.0057,     5442,     40.3,  22.9543,  36.2135,2,  36.2293,6,    204.6,2,    212.4,2,     0.80,2,     0.00,2,     0.02,2,     0.10,2,    1.590,2,    1.066,2,   1.8823,2,   2063.9,2,   2371.4,2,    345.2,2,       20,   8.0208,2,       25,  -999.00,9,      1.3,2,  -999.00,9,      6.1,2,20230323,1620
33RO20230306  ,A16N       ,47      ,  2,470221     ,221        ,20230323,1424,  14.0015, -29.0057,     5442,     80.1,  18.2094,  36.2926,2,  36.3155,2,    114.1,2,    114.4,2,     3.40,2,    14.20,2,     0.08,2,     0.92,2,    1.887,2,    1.226,2,   1.5475,2,   2198.6,2,   2372.2,2,    691.3,6,       20,   7.7659,2,       25,  -999.00,9,      0.2,2,  -999.00,9,     16.6,2,20230323,1618
33RO20230306  ,A16N       ,47      ,  2,470220     ,220        ,20230323,1424,  14.0015, -29.0057,     5442,    130.7,  14.5799,  35.7627,2,  35.7204,2,     96.7,2,     98.0,2,     7.10,2,    21.40,2,     0.02,2,     1.36,2,    2.095,2,    1.268,2,   1.2952,2,   2210.4,2,   2338.2,2,    889.9,2,       20,   7.6661,2,       25,  -999.00,9,      0.2,2,  -999.00,9,     23.8,2,20230323,1616
33RO20230306  ,A16N       ,47      ,  2,470219     ,219        ,20230323,1424,  14.0015, -29.0057,     5442,    180.5,  12.0145,  35.2238,2,  35.2236,2,     84.8,2,     88.7,2,    10.30,2,    26.30,2,     0.01,2,     1.71,2,    2.125,2,    1.210,2,   0.8552,2,   2219.6,2,   2314.0,2,   1079.5,2,       20,   7.5897,2,       25,  -999.00,9,      0.2,2,  -999.00,9,     29.0,2,20230323,1614
33RO20230306  ,A16N       ,47      ,  2,470218     ,218        ,20230323,1424,  14.0015, -29.0057,     5442,    240.5,  11.3153,  35.1344,2,  35.1345,2,     78.4,2,     86.3,2,    11.50,2,    27.90,2,     0.01,2,     1.81,2,    2.032,2,    1.146,2,   0.7473,2,   2220.4,2,   2310.8,6,   1138.2,2,       20,   7.5669,6,       25,  -999.00,9,      0.3,2,  -999.00,9,     31.2,2,20230323,1612
33RO20230306  ,A16N       ,47      ,  2,470217     ,217        ,20230323,1424,  14.0015, -29.0057,     5442,    333.6,  11.1783,  35.2251,2,  35.2249,2,     64.7,2,     68.8,2,    12.10,2,    29.90,2,     0.01,2,     1.87,2,    1.732,2,    0.960,2,   0.6090,2,   2233.1,2,   2313.0,2,   1217.1,2,       20,   7.5427,2,       25,  -999.00,9,      0.2,2,  -999.00,9,     32.4,2,20230323,1610
33RO20230306  ,A16N       ,47      ,  2,470216     ,216        ,20230323,1424,  14.0015, -29.0057,     5442,    450.9,  10.2178,  35.1442,2,  35.1416,2,     42.2,2,     44.3,2,    14.90,2,    34.60,2,     0.01,2,     2.12,2,    1.138,2,    0.635,2,   0.3424,2,   2252.1,2,   2305.1,2,   1431.5,2,       20,   7.4776,2,       25,  -999.00,9,      0.2,6,  -999.00,9,     35.2,2,20230323,1607
33RO20230306  ,A16N       ,47      ,  2,470215     ,215        ,20230323,1424,  14.0015, -29.0057,     5442,    550.2,   9.2356,  35.0474,2,  35.0473,2,     46.9,2,     50.7,2,    17.80,2,    35.60,2,     0.01,2,     2.25,2,    0.762,2,    0.427,2,   0.2558,2,   2250.7,6,   2302.6,2,   1442.3,2,       20,   7.4743,2,       25,  -999.00,9,      0.2,2,  -999.00,9,     33.0,2,20230323,1604
33RO20230306  ,A16N       ,47      ,  2,470214     ,214        ,20230323,1424,  14.0015, -29.0057,     5442,    750.7,   7.4300,  34.9008,2,  35.2040,2,     79.8,2,     69.7,2,    13.10,2,    30.60,2,     0.01,2,     1.90,2,    1.533,9,     -999,9,     -999,9,   2236.0,2,   2310.4,2,   1208.5,2,       20,   7.5425,2,       25,  -999.00,9,      0.2,2,  -999.00,9,     31.6,9,20230323,1559
33RO20230306  ,A16N       ,47      ,  2,470213     ,213        ,20230323,1424,  14.0015, -29.0057,     5442,    900.8,   6.4522,  34.8601,2,  34.8637,2,     97.8,2,    105.0,2,    24.10,2,    34.20,2,     0.01,2,     2.26,2,    0.106,6,    0.059,6,   0.0600,6,   2233.1,2,   2299.8,2,   1242.0,2,       20,   7.5292,2,       25,  -999.00,9,      0.6,2,  -999.00,9,     25.5,6,20230323,1556
33RO20230306  ,A16N       ,47      ,  2,470212     ,212        ,20230323,1424,  14.0015, -29.0057,     5442,   1299.2,   5.0999,  34.9626,2,  34.9788,2,    161.9,2,    179.4,2,    22.60,2,    26.70,2,     0.01,2,     1.81,2,    0.095,2,    0.051,2,   0.0622,2,   2202.0,2,   2312.7,2,    943.2,2,       20,   7.6364,2,       25,  -999.00,9,      0.7,2,  -999.00,9,     18.6,2,20230323,1548
33RO20230306  ,A16N       ,47      ,  2,470211     ,211        ,20230323,1424,  14.0015, -29.0057,     5442,   1649.4,   4.2722,  34.9859,2,  34.9883,2,    206.3,2,    220.7,2,    19.70,2,    22.00,2,     0.01,2,     1.52,2,    0.197,2,    0.104,2,   0.0000,3,   2179.4,2,   2312.9,2,    808.4,2,       20,   7.6938,2,       25,  -999.00,9,      1.0,2,  -999.00,9,     14.9,2,20230323,1541
33RO20230306  ,A16N       ,47      ,  2,470210     ,210        ,20230323,1424,  14.0015, -29.0057,     5442,   2000.2,   3.6669,  34.9748,2,  34.9940,2,    216.6,2,    234.4,2,    23.40,2,    21.30,2,     0.01,2,     1.48,2,    0.046,2,    0.023,2,   0.0000,2,   2175.4,2,   2318.6,2,    776.3,2,       20,   7.7099,2,       25,  -999.00,9,      1.0,2,  -999.00,9,     14.4,2,20230323,1534
33RO20230306  ,A16N       ,47      ,  2,470209     ,209        ,20230323,1424,  14.0015, -29.0057,     5442,   2349.5,   3.2471,  34.9577,2,  34.9596,2,    217.6,2,    235.6,2,    28.90,2,    21.50,2,     0.01,2,     1.48,2,    0.010,2,    0.005,2,   0.0658,2,   2182.2,2,   2324.7,2,    771.6,2,       20,   7.7135,2,       25,  -999.00,9,      1.0,2,  -999.00,9,     14.6,2,20230323,1527
33RO20230306  ,A16N       ,47      ,  2,470208     ,208        ,20230323,1424,  14.0015, -29.0057,     5442,   2650.9,   3.0005,  34.9451,2,  34.9480,2,    219.2,2,    239.5,2,    32.30,2,    21.40,2,     0.01,2,     1.50,2,    0.005,2,    0.004,2,   0.0000,2,   2184.4,2,   2327.7,6,    765.0,2,       20,   7.7144,6,       25,  -999.00,9,      1.0,2,  -999.00,9,     13.8,2,20230323,1521
33RO20230306  ,A16N       ,47      ,  2,470207     ,207        ,20230323,1424,  14.0015, -29.0057,     5442,   2900.8,   2.8329,  34.9341,2,  34.9510,2,    222.6,2,    243.2,2,    34.00,2,    21.20,2,     0.01,2,     1.48,2,    0.008,2,    0.004,2,   0.0000,3,   2183.8,2,   2329.4,2,    757.8,2,       20,   7.7202,2,       25,  -999.00,9,      0.9,2,  -999.00,9,     13.9,2,20230323,1514
33RO20230306  ,A16N       ,47      ,  2,470206     ,206        ,20230323,1424,  14.0015, -29.0057,     5442,   3400.9,   2.5888,  34.9155,2,  34.9193,2,    223.0,2,    244.6,2,    39.20,2,    21.50,2,     0.01,2,     1.51,2,    0.007,2,    0.005,2,   0.0000,2,   2189.2,2,   2334.9,2,    759.4,2,       20,   7.7211,2,       25,  -999.00,9,      0.9,2,  -999.00,9,     14.0,2,20230323,1505
33RO20230306  ,A16N       ,47      ,  2,470205     ,205        ,20230323,1424,  14.0015, -29.0057,     5442,   3801.0,   2.4623,  34.9029,2,  34.9109,2,    217.0,2,    239.5,2,    44.20,2,    22.20,2,     0.01,2,     1.56,2,    0.007,2,    0.004,2,   0.0000,2,   2199.9,2,   2344.5,2,    772.6,2,       20,   7.7168,2,       25,  -999.00,9,      0.9,2,  -999.00,9,     13.8,2,20230323,1457
33RO20230306  ,A16N       ,47      ,  2,470204     ,204        ,20230323,1424,  14.0015, -29.0057,     5442,   4100.6,   2.3766,  34.8916,2,  34.8988,2,    212.4,2,    236.3,2,    48.50,2,    22.70,2,     0.01,2,     1.58,2,    0.011,2,    0.007,2,   0.0000,2,   2205.3,2,   2352.0,2,   -999.0,9,       20,   7.7122,2,       25,  -999.00,9,      0.8,2,  -999.00,9,     14.2,2,20230323,1451
33RO20230306  ,A16N       ,47      ,  2,470203     ,203        ,20230323,1424,  14.0015, -29.0057,     5442,   4590.9,   2.3128,  34.8782,2,  34.8930,2,    209.0,2,    233.0,2,    52.60,2,    23.20,2,     0.01,2,     1.60,2,    0.020,2,    0.012,2,   0.0000,2,   2214.7,2,   2355.1,2,    796.5,2,       20,   7.7067,2,       25,  -999.00,9,      0.8,2,  -999.00,9,     14.6,2,20230323,1442
33RO20230306  ,A16N       ,47      ,  2,470202     ,202        ,20230323,1424,  14.0015, -29.0057,     5442,   5099.7,   2.3105,  34.8734,2,  34.8898,2,    215.3,2,    244.5,2,    50.90,2,    22.60,2,     0.01,2,     1.57,2,    0.058,2,    0.031,2,   0.0494,2,   2204.8,6,   2349.4,2,    782.4,2,       20,   7.7121,2,       25,  -999.00,9,      0.9,2,  -999.00,9,     14.3,2,20230323,1432
33RO20230306  ,A16N       ,47      ,  2,470201     ,201        ,20230323,1424,  14.0015, -29.0057,     5442,   5524.3,   2.3133,  34.8671,2,  34.8689,2,    215.6,2,    245.8,2,    51.90,2,    22.60,2,     0.01,2,     1.58,2,    0.126,2,    0.065,2,   0.0372,2,   2207.0,2,   2346.7,2,    782.8,2,       20,   7.7117,2,       25,  -999.00,9,      0.9,6,  -999.00,9,     14.5,2,20230323,1424