BOTTLE,20240601CCHHYDRO
EXPOCODE,SECT_ID,STNNBR,CASTNO,SAMPNO,BTLNBR,DATE,TIME,LATITUDE,LONGITUDE,DEPTH,CTDPRS,CTDTMP,CTDSAL,CTDSAL_FLAG_W,SALNTY,SALNTY_FLAG_W,CTDOXY,CTDOXY_FLAG_W,OXYGEN,OXYGEN_FLAG_W,SILCAT,SILCAT_FLAG_W,NITRAT,NITRAT_FLAG_W,NITRIT,NITRIT_FLAG_W,PHSPHT,PHSPHT_FLAG_W,CFC-11,CFC-11_FLAG_W,CFC-12,CFC-12_FLAG_W,SF6,SF6_FLAG_W,TCARBN,TCARBN_FLAG_W,ALKALI,ALKALI_FLAG_W,FCO2,FCO2_FLAG_W,FCO2TMP,PH_TOT,PH_TOT_FLAG_W,PH_TMP,DOC,DOC_FLAG_W,DELC13,DELC13_FLAG_W,TDN,TDN_FLAG_W,N2O,N2O_FLAG_W,BTL_DATE,BTL_TIME
,,,,,,,,,,METERS,DBAR,ITS-90,PSS-78,,PSS-78,,UMOL/KG,,UMOL/KG,,UMOL/KG,,UMOL/KG,,UMOL/KG,,UMOL/KG,,PMOL/KG,,PMOL/KG,,FMOL/KG,,UMOL/KG,,UMOL/KG,,UATM,,DEG C,,,DEG C,UMOL/KG,,/MILLE,,UMOL/KG,,NMOL/KG,,,
33RO20230306  ,A16N       ,26      ,  3,260324     ,224        ,20230316,2055,   3.5026, -25.2466,     4184,      3.3,  29.0406,  34.5055,2,  34.5223,2,    192.6,2,    200.0,2,     1.10,2,     0.00,2,     0.01,2,     0.04,2,    1.379,2,    0.900,2,   1.6417,2,   1930.5,6,   2260.5,2,    272.3,2,       20,   8.0910,2,       25,    69.23,2,      1.2,6,     4.57,2,      5.7,2,20230316,2235
33RO20230306  ,A16N       ,26      ,  3,260323     ,223        ,20230316,2055,   3.5026, -25.2466,     4184,     25.9,  28.2231,  35.6400,2,  35.6645,2,    204.2,2,    210.1,2,     1.30,2,     0.00,2,     0.02,2,     0.04,2,    1.443,2,    0.939,2,   1.6365,2,   1992.3,2,   2333.5,2,    283.8,2,       20,   8.0850,2,       25,    70.51,2,      1.3,2,     5.15,2,      6.3,2,20230316,2232
33RO20230306  ,A16N       ,26      ,  3,260322     ,222        ,20230316,2055,   3.5026, -25.2466,     4184,     35.8,  26.2034,  36.0472,2,  36.0022,2,    199.5,2,    191.2,2,     1.60,2,     0.00,2,     0.02,2,     0.05,2,    1.627,2,    1.026,2,   1.6133,2,   2056.5,2,   2361.4,2,    354.1,2,       20,   8.0090,2,       25,    67.27,2,      1.1,2,     4.91,2,      9.3,2,20230316,2231
33RO20230306  ,A16N       ,26      ,  3,260321     ,221        ,20230316,2055,   3.5026, -25.2466,     4184,     45.8,  22.7943,  36.0973,2,  36.0917,2,    160.8,2,    158.2,2,     2.40,2,     0.50,2,     0.07,2,     0.16,2,    1.827,2,    1.124,2,   1.5768,2,   2128.2,2,   2368.3,2,    472.1,2,       20,   7.9091,2,       25,    61.12,2,      0.6,2,     4.99,2,     13.7,2,20230316,2229
33RO20230306  ,A16N       ,26      ,  3,260320     ,220        ,20230316,2055,   3.5026, -25.2466,     4184,     66.2,  18.4630,  35.7794,2,  35.7611,6,    104.3,2,     99.6,2,     4.60,2,    16.60,2,     0.18,2,     1.17,2,    2.167,2,    1.294,2,   1.3740,2,   2189.0,2,   2343.8,2,    768.7,2,       20,   7.7224,2,       25,    52.88,2,      0.2,2,    19.89,2,     24.8,2,20230316,2227
33RO20230306  ,A16N       ,26      ,  3,260319     ,219        ,20230316,2055,   3.5026, -25.2466,     4184,     95.7,  15.7985,  35.6310,2,  35.6160,2,     86.0,2,     89.5,2,     6.50,2,    21.10,2,     0.03,2,     1.47,2,    2.273,2,    1.336,2,   1.2314,2,   2206.7,2,   2332.2,2,    884.3,2,       20,   7.6666,2,       25,    49.42,2,      0.2,2,    23.22,2,     25.7,2,20230316,2226
33RO20230306  ,A16N       ,26      ,  3,260318     ,218        ,20230316,2055,   3.5026, -25.2466,     4184,    165.1,  13.7684,  35.3740,2,  35.3760,2,    138.4,2,    140.0,2,     6.80,2,    17.80,2,     0.02,2,     1.29,2,    2.435,2,    1.415,2,   1.4432,2,   2177.2,2,   2324.8,2,    766.4,2,       20,   7.7190,2,       25,    45.37,2,      0.4,2,    16.75,2,     22.1,2,20230316,2224
33RO20230306  ,A16N       ,26      ,  3,260317     ,217        ,20230316,2055,   3.5026, -25.2466,     4184,    191.0,  13.4119,  35.3340,2,  35.3250,2,    125.6,2,    133.9,2,     7.50,2,    19.30,2,     0.02,2,     1.37,2,    2.413,2,    1.405,2,   1.3275,2,   2182.4,2,   2322.7,2,    807.8,2,       20,   7.7011,2,       25,    46.55,2,      0.4,2,    21.95,2,     23.0,2,20230316,2222
33RO20230306  ,A16N       ,26      ,  3,260316     ,216        ,20230316,2055,   3.5026, -25.2466,     4184,    261.8,  12.1624,  35.1649,2,  35.1745,2,    135.0,2,    136.0,2,     8.90,2,    21.10,2,     0.02,2,     1.49,2,    2.408,2,    1.376,2,   1.2021,2,   2183.8,2,   2314.5,2,    859.0,2,       20,   7.6751,2,       25,    46.27,2,      0.5,2,    24.15,2,     23.8,2,20230316,2220
33RO20230306  ,A16N       ,26      ,  3,260315     ,215        ,20230316,2055,   3.5026, -25.2466,     4184,    302.2,  11.6287,  35.1085,2,  35.1223,2,    127.8,2,    129.2,2,     9.90,2,    22.80,2,     0.02,2,     1.58,2,    2.339,2,    1.334,2,   0.9875,2,   2192.2,2,   2311.9,2,    915.6,2,       20,   7.6520,2,       25,    43.59,2,      0.4,2,    24.06,2,     25.6,2,20230316,2218
33RO20230306  ,A16N       ,26      ,  3,260314     ,214        ,20230316,2055,   3.5026, -25.2466,     4184,    378.8,  10.1384,  34.9655,2,  34.9611,2,     75.4,2,     79.2,2,    14.10,2,    31.20,2,     0.01,2,     2.05,2,    1.743,2,    0.964,2,   0.6039,2,   2229.6,2,   2304.1,2,   1261.5,2,       20,   7.5384,2,       25,    43.29,2,      0.2,2,    31.03,2,     33.4,2,20230316,2216
33RO20230306  ,A16N       ,26      ,  3,260313     ,213        ,20230316,2055,   3.5026, -25.2466,     4184,    453.1,   8.5486,  34.7911,2,  34.7991,2,     94.1,2,     98.5,2,    17.00,2,    32.40,2,     0.01,2,     2.15,2,    1.502,2,    0.804,2,   0.4485,3,   2222.0,6,   2298.0,2,   1249.2,2,       20,   7.5276,2,       25,    41.95,2,      0.5,2,    35.16,2,     30.4,2,20230316,2214
33RO20230306  ,A16N       ,26      ,  3,260312     ,212        ,20230316,2055,   3.5026, -25.2466,     4184,    523.1,   7.4657,  34.6868,2,  34.6869,2,    101.4,2,    104.8,2,    20.00,2,    34.00,2,     0.01,2,     2.28,2,    1.162,2,    0.619,2,   0.2539,3,   2226.9,2,   2298.1,2,   1290.3,6,       20,   7.5149,2,       25,    42.09,2,      0.4,2,    34.70,2,     29.0,2,20230316,2211
33RO20230306  ,A16N       ,26      ,  3,260311     ,211        ,20230316,2055,   3.5026, -25.2466,     4184,    722.0,   5.7816,  34.5605,2,  34.5653,2,    124.6,2,    129.4,2,    26.10,2,    34.70,2,     0.01,2,     2.39,2,    0.712,2,    0.371,2,   0.1595,3,   2223.4,2,   2297.4,2,   1245.0,2,       20,   7.5283,2,       25,    42.53,2,      0.7,2,    36.59,2,     26.1,2,20230316,2207
33RO20230306  ,A16N       ,26      ,  3,260310     ,210        ,20230316,2055,   3.5026, -25.2466,     4184,    874.2,   4.9526,  34.5733,2,  34.5781,2,    136.3,2,    141.7,2,    30.10,2,    34.30,2,     0.01,2,     2.40,2,    0.290,2,    0.154,2,   0.0000,3,   2222.0,2,   2301.6,2,   1206.4,2,       20,   7.5412,2,       25,    40.00,2,      0.7,2,    35.39,2,     24.7,2,20230316,2203
33RO20230306  ,A16N       ,26      ,  3,260309     ,209        ,20230316,2055,   3.5026, -25.2466,     4184,   1024.9,   4.6699,  34.6631,2,  34.6646,2,    145.3,2,    151.4,2,    30.10,2,    32.50,2,     0.01,2,     2.29,2,    0.100,2,    0.053,2,   0.0000,3,   2217.8,2,   2304.9,2,   1140.8,2,       20,   7.5643,2,       25,    40.22,2,      0.7,2,    33.82,2,     22.7,2,20230316,2159
33RO20230306  ,A16N       ,26      ,  3,260308     ,208        ,20230316,2055,   3.5026, -25.2466,     4184,   1172.4,   4.6217,  34.7720,2,  34.7882,2,    156.5,2,    164.9,2,    27.50,2,    30.10,2,     0.02,2,     2.13,2,    0.061,2,    0.035,2,   0.0000,3,   2211.1,2,   2309.1,2,   1052.3,2,       20,   7.5931,2,       25,    40.77,2,      0.7,2,    31.96,2,     21.0,2,20230316,2155
33RO20230306  ,A16N       ,26      ,  3,260307     ,207        ,20230316,2055,   3.5026, -25.2466,     4184,   1403.9,   4.4540,  34.9347,2,  34.9365,2,    197.5,2,    208.3,2,    20.80,2,    23.80,2,     0.02,2,     1.67,2,    0.306,2,    0.157,2,   0.0679,2,   2185.5,2,   2314.5,2,    863.8,2,       20,   7.6693,2,       25,    41.05,2,      0.8,2,    25.64,2,     16.8,2,20230316,2151
33RO20230306  ,A16N       ,26      ,  3,260306     ,206        ,20230316,2055,   3.5026, -25.2466,     4184,   1705.1,   4.0258,  34.9776,2,  34.9833,2,    229.5,2,    242.5,2,    17.30,2,    19.90,2,     0.02,2,     1.39,2,    0.835,2,    0.422,2,   0.1880,2,   2169.7,2,   2309.8,2,    777.1,2,       20,   7.7088,2,       25,    41.62,2,      0.9,2,    17.78,2,     14.5,2,20230316,2144
33RO20230306  ,A16N       ,26      ,  3,260305     ,205        ,20230316,2055,   3.5026, -25.2466,     4184,   2107.0,   3.4322,  34.9568,2,  34.9630,2,    231.4,2,    246.5,2,    23.30,2,    20.10,2,     0.02,2,     1.42,2,    0.259,2,    0.132,2,   0.0739,3,   2172.8,2,   2316.6,2,    760.0,2,       20,   7.7172,2,       25,    42.68,2,      1.0,2,    20.05,2,     14.0,2,20230316,2136
33RO20230306  ,A16N       ,26      ,  3,260304     ,204        ,20230316,2055,   3.5026, -25.2466,     4184,   2504.8,   3.0293,  34.9352,2,  34.9431,2,    229.9,2,    246.0,2,    30.00,2,    20.70,2,     0.02,2,     1.47,2,    0.134,2,    0.071,2,   0.0000,3,   2180.1,2,   2322.7,2,   -999.0,9,       20,   7.7171,2,       25,    40.68,2,      0.9,2,    19.33,2,     14.2,2,20230316,2128
33RO20230306  ,A16N       ,26      ,  3,260303     ,203        ,20230316,2055,   3.5026, -25.2466,     4184,   3202.6,   2.6006,  34.9069,2,  34.9129,6,    225.8,2,    243.8,2,    39.30,2,    21.60,2,     0.02,2,     1.53,2,    0.061,2,    0.034,2,   0.0000,3,   2188.1,2,   2332.9,2,    773.6,2,       20,   7.7124,2,       25,    45.38,3,      1.0,2,    19.97,2,     14.2,2,20230316,2115
33RO20230306  ,A16N       ,26      ,  3,260302     ,202        ,20230316,2055,   3.5026, -25.2466,     4184,   3701.6,   2.4413,  34.8945,2,  34.9006,2,    226.1,2,    246.6,2,    42.40,2,    21.70,2,     0.02,2,     1.53,2,    0.089,2,    0.049,2,   0.0000,3,   2193.7,2,   2336.0,2,    774.0,2,       20,   7.7137,2,       25,    44.69,3,      1.0,2,    21.14,2,     14.3,2,20230316,2105
33RO20230306  ,A16N       ,26      ,  3,260301     ,201        ,20230316,2055,   3.5026, -25.2466,     4184,   4231.1,   2.3507,  34.8819,2,  34.8832,2,    220.7,2,    242.1,2,    47.20,2,    22.30,2,     0.02,2,     1.59,2,    0.079,6,    0.043,6,   0.0069,6,   2201.4,6,   2331.9,2,    782.7,2,       20,   7.7091,2,       25,    42.04,2,      1.0,6,    22.86,2,     14.6,6,20230316,2055
33RO20230306  ,A16N       ,27      ,  6,270624     ,224        ,20230317,1003,   4.0035, -25.5001,     4037,      3.2,  28.7739,  35.1452,2,  35.1828,2,    197.7,2,    199.6,2,     1.10,2,     0.00,2,     0.02,2,     0.04,2,    1.387,2,    0.898,2,   1.7663,2,   1964.3,6,   2300.6,2,    274.4,2,       20,   8.0936,2,       25,    74.42,2,      1.2,2,     5.01,2,      5.9,2,20230317,1143
33RO20230306  ,A16N       ,27      ,  6,270623     ,223        ,20230317,1003,   4.0035, -25.5001,     4037,     19.1,  28.5240,  35.5769,2,  35.5761,2,    197.0,2,    204.2,2,     1.20,2,     0.00,2,     0.02,2,     0.04,2,    1.417,2,    0.904,2,   1.7012,2,   1983.5,2,   2326.0,2,    279.0,2,       20,   8.0947,2,       25,  -999.00,9,      1.3,2,  -999.00,9,      6.2,2,20230317,1140
33RO20230306  ,A16N       ,27      ,  6,270622     ,222        ,20230317,1003,   4.0035, -25.5001,     4037,     53.6,  21.0742,  35.9778,2,  35.9590,2,    129.6,2,    126.5,2,     3.30,2,     7.30,2,     0.34,2,     0.56,2,    1.975,2,    1.187,2,   1.5696,2,   2155.9,2,   2356.4,2,    584.2,2,       20,   7.8300,2,       25,  -999.00,9,      0.4,2,  -999.00,9,     18.6,2,20230317,1138
33RO20230306  ,A16N       ,27      ,  6,270621     ,221        ,20230317,1003,   4.0035, -25.5001,     4037,     79.4,  16.4911,  35.6819,2,  35.6856,2,     88.1,2,     89.8,2,     5.90,2,    20.00,2,     0.08,2,     1.34,2,    2.272,2,    1.334,2,   1.3718,2,   2204.7,2,   2334.7,2,    858.5,6,       20,   7.6798,2,       25,  -999.00,9,      0.3,2,  -999.00,9,     26.2,2,20230317,1136
33RO20230306  ,A16N       ,27      ,  6,270620     ,220        ,20230317,1003,   4.0035, -25.5001,     4037,    109.6,  15.3778,  35.5724,2,  35.5820,2,     95.9,2,     99.1,2,     6.50,2,    20.30,2,     0.03,2,     1.37,2,    2.322,2,    1.352,2,   1.3009,2,   2199.2,2,   2333.3,2,    856.7,2,       20,   7.6801,2,       25,  -999.00,9,      0.2,2,  -999.00,9,     26.1,2,20230317,1133
33RO20230306  ,A16N       ,27      ,  6,270619     ,219        ,20230317,1003,   4.0035, -25.5001,     4037,    130.5,  14.7683,  35.5053,2,  35.5025,2,    106.1,2,    115.7,2,     6.80,2,    19.80,2,     0.03,2,     1.33,2,     -999,9,     -999,9,     -999,9,   2194.7,2,   2329.9,2,    833.3,2,       20,   7.6903,2,       25,  -999.00,9,      0.4,2,  -999.00,9,     -999,9,20230317,1131
33RO20230306  ,A16N       ,27      ,  6,270618     ,218        ,20230317,1003,   4.0035, -25.5001,     4037,    150.8,  14.3434,  35.4612,2,  35.4891,2,    107.2,2,    107.0,2,     7.30,2,    20.80,2,     0.02,2,     1.40,2,    2.340,2,    1.348,2,   1.3423,2,   2198.5,2,   2325.8,2,    867.1,2,       20,   7.6746,2,       25,  -999.00,9,      0.4,2,  -999.00,9,     26.2,2,20230317,1130
33RO20230306  ,A16N       ,27      ,  6,270617     ,217        ,20230317,1003,   4.0035, -25.5001,     4037,    202.1,  13.8215,  35.3943,2,  35.4032,2,    104.3,2,    102.8,2,     7.90,2,    21.90,2,     0.02,2,     1.46,2,    2.322,2,    1.323,2,   1.2200,2,   2203.1,2,   2323.3,2,    909.0,2,       20,   7.6560,2,       25,  -999.00,9,      0.3,2,  -999.00,9,     27.8,2,20230317,1128
33RO20230306  ,A16N       ,27      ,  6,270616     ,216        ,20230317,1003,   4.0035, -25.5001,     4037,    271.4,  12.5964,  35.2403,2,  35.2421,2,    119.0,2,    113.7,2,     8.90,2,    22.70,2,     0.02,2,     1.50,2,    2.332,2,    1.318,2,   1.0560,2,   2200.4,2,   2318.0,2,    925.5,2,       20,   7.6507,2,       25,  -999.00,9,      0.4,2,  -999.00,9,     28.0,2,20230317,1125
33RO20230306  ,A16N       ,27      ,  6,270615     ,215        ,20230317,1003,   4.0035, -25.5001,     4037,    341.9,  10.8057,  35.0480,2,  35.0470,2,     74.6,2,     76.1,2,    12.80,2,    30.20,2,     0.01,2,     1.91,2,    1.851,2,    1.013,2,   0.6840,2,   2229.1,6,   2305.3,2,   1225.2,2,       20,   7.5376,2,       25,  -999.00,9,      0.2,6,  -999.00,9,     35.4,2,20230317,1123
33RO20230306  ,A16N       ,27      ,  6,270614     ,214        ,20230317,1003,   4.0035, -25.5001,     4037,    421.5,   8.9386,  34.8324,2,  34.8500,2,     90.5,2,     95.3,2,    16.10,2,    31.90,2,     0.01,2,     2.05,2,    1.597,2,    0.849,2,   0.5381,2,   2226.6,2,   2299.4,2,   1246.0,2,       20,   7.5290,2,       25,  -999.00,9,      0.4,2,  -999.00,9,     32.1,2,20230317,1120
33RO20230306  ,A16N       ,27      ,  6,270613     ,213        ,20230317,1003,   4.0035, -25.5001,     4037,    503.4,   7.5599,  34.6964,2,  34.6968,6,     98.1,2,    101.5,2,    19.80,2,    34.20,2,     0.01,2,     2.21,2,    1.167,2,    0.614,2,   0.3902,2,   2231.8,2,   2297.1,2,   1304.9,2,       20,   7.5120,2,       25,  -999.00,9,      0.4,2,  -999.00,9,     30.5,2,20230317,1118
33RO20230306  ,A16N       ,27      ,  6,270612     ,212        ,20230317,1003,   4.0035, -25.5001,     4037,    622.0,   6.2313,  34.5745,2,  34.5798,2,    120.7,2,    125.4,2,    24.00,2,    34.40,2,     0.02,2,     2.30,2,    0.934,2,    0.485,2,   0.2417,2,   2223.9,2,   2294.8,2,   1252.6,2,       20,   7.5270,2,       25,  -999.00,9,      0.6,2,  -999.00,9,     27.0,2,20230317,1115
33RO20230306  ,A16N       ,27      ,  6,270611     ,211        ,20230317,1003,   4.0035, -25.5001,     4037,    801.4,   5.1554,  34.5509,2,  34.5532,2,    134.6,2,    140.6,2,    29.00,2,    34.40,2,     0.01,2,     2.32,2,    0.489,2,    0.254,2,   0.1994,3,   2223.7,2,   2299.2,2,   1215.0,2,       20,   7.5400,2,       25,  -999.00,9,      0.7,2,  -999.00,9,     25.4,2,20230317,1110
33RO20230306  ,A16N       ,27      ,  6,270610     ,210        ,20230317,1003,   4.0035, -25.5001,     4037,    948.6,   4.8529,  34.6144,2,  34.6219,2,    137.7,2,    142.5,2,    30.10,2,    33.80,2,     0.02,2,     2.29,2,    0.180,2,    0.097,2,   0.0742,2,   2226.6,2,   2302.5,2,   1187.5,2,       20,   7.5486,2,       25,  -999.00,9,      0.7,2,  -999.00,9,     24.7,2,20230317,1106
33RO20230306  ,A16N       ,27      ,  6,270609     ,209        ,20230317,1003,   4.0035, -25.5001,     4037,   1050.0,   4.7253,  34.6740,2,  34.6911,2,    143.2,2,    151.0,2,    29.60,2,    32.40,2,     0.03,2,     2.22,2,    0.104,2,    0.054,2,   0.0420,2,   2221.5,2,   2305.7,2,   1139.1,2,       20,   7.5639,2,       25,  -999.00,9,      0.7,2,  -999.00,9,     23.6,2,20230317,1103
33RO20230306  ,A16N       ,27      ,  6,270608     ,208        ,20230317,1003,   4.0035, -25.5001,     4037,   1292.8,   4.5994,  34.8747,2,  34.8781,2,    176.6,2,    187.5,2,    23.60,2,    26.50,2,     0.02,2,     1.81,2,    0.164,2,    0.086,2,   0.0313,2,   2199.5,2,   2310.8,2,    943.3,2,       20,   7.6363,2,       25,  -999.00,9,      0.8,2,  -999.00,9,     19.6,2,20230317,1058
33RO20230306  ,A16N       ,27      ,  6,270607     ,207        ,20230317,1003,   4.0035, -25.5001,     4037,   1598.2,   4.1904,  34.9765,2,  34.9914,2,    222.9,2,    235.8,2,    17.40,2,    20.40,2,     0.02,2,     1.39,2,    0.788,6,    0.399,6,   0.2006,6,   2174.3,2,   2311.4,2,    790.4,2,       20,   7.7038,2,       25,  -999.00,9,      0.9,2,  -999.00,9,     15.4,6,20230317,1052
33RO20230306  ,A16N       ,27      ,  6,270606     ,206        ,20230317,1003,   4.0035, -25.5001,     4037,   1999.8,   3.6416,  34.9661,2,  34.9696,2,    234.4,2,    248.3,2,    19.50,2,    19.40,2,     0.01,2,     1.33,2,    0.637,2,    0.322,2,   0.1635,3,   2166.9,2,   2313.6,2,    760.0,2,       20,   7.7179,2,       25,  -999.00,9,      0.9,2,  -999.00,9,     14.6,2,20230317,1044
33RO20230306  ,A16N       ,27      ,  6,270605     ,205        ,20230317,1003,   4.0035, -25.5001,     4037,   2402.6,   3.0717,  34.9378,2,  34.9414,2,    227.5,2,    242.9,2,    29.70,2,    21.00,2,     0.01,2,     1.43,2,    0.061,2,    0.039,2,   0.2006,3,   2178.6,2,   2322.1,2,   -999.0,9,       20,   7.7165,2,       25,  -999.00,9,      1.0,2,  -999.00,9,     14.7,2,20230317,1036
33RO20230306  ,A16N       ,27      ,  6,270604     ,204        ,20230317,1003,   4.0035, -25.5001,     4037,   2801.4,   2.7856,  34.9197,2,  34.9222,2,    226.8,2,    244.3,2,    35.30,2,    21.20,2,     0.01,2,     1.45,2,    0.058,2,    0.034,2,   0.0608,2,   2183.5,2,   2328.7,2,    769.4,2,       20,   7.7162,2,       25,  -999.00,9,      1.0,2,  -999.00,9,     14.7,2,20230317,1028
33RO20230306  ,A16N       ,27      ,  6,270603     ,203        ,20230317,1003,   4.0035, -25.5001,     4037,   3101.0,   2.6703,  34.9118,2,  34.9133,2,    225.9,2,    244.6,2,    37.60,2,    21.40,2,     0.01,2,     1.47,2,    0.049,2,    0.029,2,   0.0000,3,   2186.1,2,   2331.9,2,    771.0,2,       20,   7.7155,2,       25,  -999.00,9,      1.0,2,  -999.00,9,     14.7,2,20230317,1021
33RO20230306  ,A16N       ,27      ,  6,270602     ,202        ,20230317,1003,   4.0035, -25.5001,     4037,   3603.7,   2.5042,  34.8988,2,  34.8998,2,    225.9,2,    244.4,2,    41.00,2,    21.50,2,     0.01,2,     1.47,2,    0.077,2,    0.043,2,   0.0000,2,   2190.2,2,   2334.7,2,    773.1,2,       20,   7.7156,2,       25,  -999.00,9,      1.0,2,  -999.00,9,     14.7,2,20230317,1012
33RO20230306  ,A16N       ,27      ,  6,270601     ,201        ,20230317,1003,   4.0035, -25.5001,     4037,   4063.1,   2.3603,  34.8851,2,  34.8868,2,    221.7,2,    243.6,2,    46.00,2,    22.10,2,     0.01,2,     1.51,2,    0.078,2,    0.044,2,   0.0097,2,   2199.8,6,   2339.9,2,    779.6,2,       20,   7.7132,2,       25,  -999.00,9,      0.8,6,  -999.00,9,     14.8,2,20230317,1003