BOTTLE,20240601CCHHYDRO
EXPOCODE,SECT_ID,STNNBR,CASTNO,SAMPNO,BTLNBR,DATE,TIME,LATITUDE,LONGITUDE,DEPTH,CTDPRS,CTDTMP,CTDSAL,CTDSAL_FLAG_W,SALNTY,SALNTY_FLAG_W,CTDOXY,CTDOXY_FLAG_W,OXYGEN,OXYGEN_FLAG_W,SILCAT,SILCAT_FLAG_W,NITRAT,NITRAT_FLAG_W,NITRIT,NITRIT_FLAG_W,PHSPHT,PHSPHT_FLAG_W,CFC-11,CFC-11_FLAG_W,CFC-12,CFC-12_FLAG_W,SF6,SF6_FLAG_W,TCARBN,TCARBN_FLAG_W,ALKALI,ALKALI_FLAG_W,FCO2,FCO2_FLAG_W,FCO2TMP,PH_TOT,PH_TOT_FLAG_W,PH_TMP,DOC,DOC_FLAG_W,DELC13,DELC13_FLAG_W,TDN,TDN_FLAG_W,N2O,N2O_FLAG_W,BTL_DATE,BTL_TIME
,,,,,,,,,,METERS,DBAR,ITS-90,PSS-78,,PSS-78,,UMOL/KG,,UMOL/KG,,UMOL/KG,,UMOL/KG,,UMOL/KG,,UMOL/KG,,PMOL/KG,,PMOL/KG,,FMOL/KG,,UMOL/KG,,UMOL/KG,,UATM,,DEG C,,,DEG C,UMOL/KG,,/MILLE,,UMOL/KG,,NMOL/KG,,,
33RO20230306  ,A16N       ,70      ,  1,700124     ,224        ,20230330,0831,  25.5027, -25.9089,     5350,      4.7,  22.5847,  37.1831,2,  37.1861,2,    202.7,2,    215.2,2,     0.40,2,     0.00,2,     0.00,2,     0.07,2,    1.795,2,    1.169,2,   1.9026,2,   2127.2,6,   2430.2,2,    368.4,2,       20,   8.0040,2,       25,    69.81,2,      1.1,6,     4.30,2,      6.7,2,20230330,1039
33RO20230306  ,A16N       ,70      ,  1,700123     ,223        ,20230330,0831,  25.5027, -25.9089,     5350,     31.6,  22.0440,  37.1331,2,  37.1370,2,    204.7,2,    217.3,2,     0.50,2,     0.00,2,     0.00,2,     0.08,2,    1.817,2,    1.162,2,   2.0192,2,   2126.9,2,   2427.2,2,    373.4,2,       20,   8.0001,2,       25,    67.67,2,      0.9,2,     4.39,2,      6.8,2,20230330,1036
33RO20230306  ,A16N       ,70      ,  1,700122     ,222        ,20230330,0831,  25.5027, -25.9089,     5350,     66.0,  21.8209,  37.1123,2,  37.1053,2,    204.6,2,    215.2,2,     0.50,2,     0.00,2,     0.01,2,     0.08,2,    1.822,2,    1.160,2,   2.0556,2,   2129.4,2,   2425.3,2,    378.6,2,       20,   7.9939,2,       25,    69.13,2,      1.0,2,     4.41,2,      6.8,2,20230330,1033
33RO20230306  ,A16N       ,70      ,  1,700121     ,221        ,20230330,0831,  25.5027, -25.9089,     5350,     85.9,  21.3501,  37.0907,2,  37.0946,2,    203.0,2,    215.5,2,     0.50,2,     0.00,2,     0.05,2,     0.09,2,    1.847,2,    1.199,2,   2.0382,2,   2134.6,2,   2424.8,2,    386.0,2,       20,   7.9856,2,       25,    63.81,2,      0.9,2,     3.74,2,      7.1,2,20230330,1032
33RO20230306  ,A16N       ,70      ,  1,700120     ,220        ,20230330,0831,  25.5027, -25.9089,     5350,    116.8,  20.8780,  37.0697,2,  37.0751,2,    192.2,2,    203.0,2,     0.70,2,     1.30,2,     0.10,2,     0.17,2,    1.909,2,    1.220,2,   1.9967,2,   2148.6,2,   2422.3,2,    413.9,6,       20,   7.9619,2,       25,    63.08,2,      0.7,2,     4.85,2,      7.7,2,20230330,1030
33RO20230306  ,A16N       ,70      ,  1,700119     ,219        ,20230330,0831,  25.5027, -25.9089,     5350,    184.0,  18.3442,  36.6329,2,  36.6347,6,    174.3,2,    186.4,2,     1.50,2,     5.10,2,     0.01,2,     0.36,2,    2.160,2,    1.347,2,   2.0639,2,   2163.6,2,   2394.2,2,    495.7,2,       20,   7.8939,2,       25,    57.70,2,      0.5,2,     6.78,2,     10.0,2,20230330,1027
33RO20230306  ,A16N       ,70      ,  1,700118     ,218        ,20230330,0831,  25.5027, -25.9089,     5350,    286.6,  15.3984,  36.0149,2,  36.0176,2,    124.7,2,    133.9,2,     4.90,2,    15.00,2,     0.01,2,     0.95,2,    2.298,2,    1.378,2,   1.6561,2,   2194.1,2,   2354.9,2,    707.4,2,       20,   7.7560,2,       25,    47.85,2,      0.1,2,    17.44,2,     18.8,2,20230330,1024
33RO20230306  ,A16N       ,70      ,  1,700117     ,217        ,20230330,0831,  25.5027, -25.9089,     5350,    352.7,  14.4723,  35.9264,2,  35.9260,2,    141.7,2,    156.9,2,     4.60,2,    13.80,2,     0.01,2,     0.87,2,    2.428,2,    1.432,2,   1.5791,2,   2182.5,2,   2349.7,2,    668.7,2,       20,   7.7766,2,       25,    50.42,2,      0.3,2,    14.12,2,     15.7,2,20230330,1021
33RO20230306  ,A16N       ,70      ,  1,700116     ,216        ,20230330,0831,  25.5027, -25.9089,     5350,    473.1,  12.7779,  35.7186,2,  35.7188,2,    146.7,2,    156.8,2,     6.30,2,    16.70,2,     0.01,2,     1.04,2,    2.397,2,    1.376,2,   1.2016,2,   2188.8,2,   2338.1,2,    730.8,2,       20,   7.7415,2,       25,    44.97,2,      0.3,2,    18.43,2,     16.1,2,20230330,1018
33RO20230306  ,A16N       ,70      ,  1,700115     ,215        ,20230330,0831,  25.5027, -25.9089,     5350,    603.3,  11.1867,  35.5136,2,  35.5156,2,    127.6,2,    132.7,2,    10.00,2,    22.10,2,     0.00,2,     1.38,2,    1.854,2,    1.044,2,   0.7014,2,   2204.0,2,   2328.7,2,    860.4,2,       20,   7.6781,2,       25,    45.76,2,      0.3,2,    23.95,2,     19.8,2,20230330,1014
33RO20230306  ,A16N       ,70      ,  1,700114     ,214        ,20230330,0831,  25.5027, -25.9089,     5350,    752.0,   9.4028,  35.3112,2,  35.3149,2,    114.2,2,    122.1,2,    14.60,2,    26.20,2,     0.00,2,     1.69,2,    1.023,2,    0.574,2,   0.4640,2,   2216.1,2,   2324.1,2,    960.2,2,       20,   7.6345,2,       25,    44.91,2,      0.4,6,    28.41,2,     21.9,2,20230330,1011
33RO20230306  ,A16N       ,70      ,  1,700113     ,213        ,20230330,0831,  25.5027, -25.9089,     5350,    852.2,   8.3314,  35.2106,2,  35.2152,2,    120.4,2,    129.0,2,    17.10,2,    27.00,2,     0.00,2,     1.78,2,    0.630,2,    0.352,2,   0.2074,2,   2216.9,2,   2318.8,2,    971.0,2,       20,   7.6302,2,       25,    45.22,2,      0.5,2,    29.17,2,     21.4,2,20230330,1008
33RO20230306  ,A16N       ,70      ,  1,700112     ,212        ,20230330,0831,  25.5027, -25.9089,     5350,   1008.0,   7.0658,  35.1228,2,  35.1279,2,    137.7,2,    148.2,2,    19.30,2,    26.80,2,     0.00,2,     1.78,2,    0.348,2,    0.195,2,   0.0916,2,   2211.5,2,   2321.2,6,    949.4,2,       20,   7.6391,6,       25,    43.58,2,      0.7,2,    27.28,2,     19.9,2,20230330,1004
33RO20230306  ,A16N       ,70      ,  1,700111     ,211        ,20230330,0831,  25.5027, -25.9089,     5350,   1150.9,   6.6671,  35.1620,2,  35.1676,2,    156.1,2,    167.7,2,    18.70,2,    24.70,2,     0.00,2,     1.67,2,    0.374,2,    0.208,2,   0.1248,2,   2205.5,2,   2323.9,2,    885.5,2,       20,   7.6653,2,       25,    42.08,2,      0.8,2,    26.32,2,     18.2,2,20230330,1000
33RO20230306  ,A16N       ,70      ,  1,700110     ,210        ,20230330,0831,  25.5027, -25.9089,     5350,   1351.2,   5.9974,  35.1777,2,  35.1798,2,    178.6,2,    192.6,2,    18.10,2,    22.50,2,     0.00,2,     1.52,2,    0.377,2,    0.207,2,   0.1530,2,   2196.7,2,   2324.9,2,    822.8,2,       20,   7.6924,2,       25,    43.27,2,      0.9,2,    25.42,2,     16.2,2,20230330,0956
33RO20230306  ,A16N       ,70      ,  1,700109     ,209        ,20230330,0831,  25.5027, -25.9089,     5350,   1503.9,   5.6742,  35.2013,2,  35.2055,2,    190.9,2,    207.4,2,    17.80,2,    21.00,2,     0.00,2,     1.43,2,    0.476,2,    0.252,2,   0.0000,3,   2190.5,2,   2326.8,2,    790.2,2,       20,   7.7083,2,       25,    43.49,2,      0.8,2,    23.34,2,     15.3,2,20230330,0952
33RO20230306  ,A16N       ,70      ,  1,700108     ,208        ,20230330,0831,  25.5027, -25.9089,     5350,   1750.6,   4.7243,  35.1201,2,  35.1243,2,    199.3,2,    215.9,2,    21.80,2,    21.20,2,     0.00,2,     1.46,2,    0.191,2,    0.102,2,   0.0873,2,   2189.8,2,   2326.5,2,    786.2,2,       20,   7.7089,2,       25,    42.72,2,      1.0,2,    23.89,2,     14.6,2,20230330,0945
33RO20230306  ,A16N       ,70      ,  1,700107     ,207        ,20230330,0831,  25.5027, -25.9089,     5350,   2498.1,   3.3187,  34.9919,2,  34.9993,6,    221.0,2,    241.3,2,    28.10,2,    20.30,2,     0.00,2,     1.41,2,    0.094,2,    0.055,2,   0.0415,2,   2185.8,2,   2328.9,2,    756.2,2,       20,   7.7251,2,       25,    43.40,2,      0.9,2,    21.14,2,     13.6,2,20230330,0929
33RO20230306  ,A16N       ,70      ,  1,700106     ,206        ,20230330,0831,  25.5027, -25.9089,     5350,   3001.7,   2.7753,  34.9390,2,  34.9421,2,    222.5,2,    243.8,2,    35.50,2,    20.70,2,     0.00,2,     1.45,2,    0.094,2,    0.050,2,   0.0000,3,   2191.9,2,   2335.8,2,    758.8,2,       20,   7.7251,2,       25,    42.46,2,      1.0,2,    22.26,2,     13.6,2,20230330,0919
33RO20230306  ,A16N       ,70      ,  1,700105     ,205        ,20230330,0831,  25.5027, -25.9089,     5350,   3498.5,   2.5605,  34.9157,2,  34.9268,2,    220.7,2,    243.1,2,    40.60,2,    21.40,2,     0.00,2,     1.49,2,    0.031,2,    0.021,2,   0.0634,2,   2198.0,2,   2341.8,2,    761.2,2,       20,   7.7235,2,       25,    41.08,2,      1.0,2,    22.63,2,     13.8,2,20230330,0910
33RO20230306  ,A16N       ,70      ,  1,700104     ,204        ,20230330,0831,  25.5027, -25.9089,     5350,   3997.1,   2.4541,  34.9009,2,  34.9042,2,    219.0,2,    243.2,2,    44.20,2,    21.80,2,     0.00,2,     1.51,2,    0.011,6,    0.008,6,   0.0597,3,   2199.3,2,   2343.3,2,   -999.0,9,       20,   7.7229,2,       25,    41.35,2,      1.0,2,    23.55,2,     14.1,6,20230330,0900
33RO20230306  ,A16N       ,70      ,  1,700103     ,203        ,20230330,0831,  25.5027, -25.9089,     5350,   4502.4,   2.3936,  34.8892,2,  34.9029,2,    217.5,2,    243.2,2,    46.80,2,    22.10,2,     0.00,2,     1.54,2,    0.011,2,    0.008,2,   0.0000,3,   2203.2,2,   2347.2,2,    766.6,2,       20,   7.7226,2,       25,    42.43,2,      1.0,2,    23.09,2,     14.4,2,20230330,0850
33RO20230306  ,A16N       ,70      ,  1,700102     ,202        ,20230330,0831,  25.5027, -25.9089,     5350,   4988.8,   2.4168,  34.8851,2,  34.8894,2,    216.2,2,    243.9,2,    47.80,2,    22.20,2,     0.00,2,     1.53,2,    0.015,2,    0.014,2,   0.0000,3,   2205.0,2,   2348.0,6,    767.8,2,       20,   7.7216,6,       25,    41.07,2,      0.9,2,    23.62,2,     15.1,2,20230330,0840
33RO20230306  ,A16N       ,70      ,  1,700101     ,201        ,20230330,0831,  25.5027, -25.9089,     5350,   5437.8,   2.4652,  34.8836,2,  34.8868,2,    214.5,2,    242.8,2,    48.00,2,    22.20,2,     0.00,2,     1.54,2,    0.017,2,    0.008,2,   0.0000,3,   2207.0,6,   2350.8,2,    766.1,2,       20,   7.7230,2,       25,    40.14,2,      0.9,6,    24.84,2,     15.4,2,20230330,0831
33RO20230306  ,A16N       ,71      ,  2,710224     ,224        ,20230330,1645,  26.0036, -25.6284,     4366,      4.0,  22.4725,  37.1019,2,  37.1016,2,    152.5,2,    217.2,2,     0.70,2,     0.00,2,     0.00,2,     0.09,2,    1.825,2,    1.201,2,   1.9505,2,   2127.4,2,   2425.5,2,    374.2,2,       20,   7.9990,2,       25,    64.49,2,      1.0,2,     4.78,2,      6.6,2,20230330,1827
33RO20230306  ,A16N       ,71      ,  2,710223     ,223        ,20230330,1645,  26.0036, -25.6284,     4366,     25.6,  22.2464,  37.0821,2,  37.0802,2,    205.8,2,    217.8,2,     0.80,2,     0.00,2,     0.00,2,     0.10,2,    1.824,2,    1.174,2,   2.0499,2,   2120.9,6,   2424.6,2,    374.4,2,       20,   7.9988,2,       25,  -999.00,9,      1.0,2,  -999.00,9,      6.7,2,20230330,1826
33RO20230306  ,A16N       ,71      ,  2,710222     ,222        ,20230330,1645,  26.0036, -25.6284,     4366,     55.8,  21.7848,  37.0561,2,  37.0570,2,    207.1,2,    216.6,2,     0.80,2,     0.00,2,     0.01,2,     0.09,2,    1.836,2,    1.171,2,   1.9935,2,   2123.0,2,   2422.2,2,    379.0,2,       20,   7.9947,2,       25,  -999.00,9,      0.9,2,  -999.00,9,      7.0,2,20230330,1824
33RO20230306  ,A16N       ,71      ,  2,710221     ,221        ,20230330,1645,  26.0036, -25.6284,     4366,     80.9,  21.1284,  37.0224,2,  37.0415,2,    193.0,2,    202.6,2,     1.00,2,     1.40,2,     0.26,2,     0.21,2,    1.872,2,    1.175,2,   1.9599,2,   2138.8,2,   2417.9,2,    415.4,2,       20,   7.9646,2,       25,  -999.00,9,      0.8,2,  -999.00,9,      8.6,2,20230330,1822
33RO20230306  ,A16N       ,71      ,  2,710220     ,220        ,20230330,1645,  26.0036, -25.6284,     4366,    110.2,  18.8314,  36.5442,2,  36.5441,2,    134.5,2,    136.6,2,     3.00,2,    11.40,2,     0.06,2,     0.77,2,    2.040,2,    1.213,2,   1.9367,2,   2187.0,2,   2384.8,2,    610.4,2,       20,   7.8162,2,       25,  -999.00,9,      0.2,2,  -999.00,9,     16.1,2,20230330,1821
33RO20230306  ,A16N       ,71      ,  2,710219     ,219        ,20230330,1645,  26.0036, -25.6284,     4366,    140.7,  17.0505,  36.1725,2,  36.1857,2,     94.0,2,    101.3,2,     4.80,2,    17.20,2,     0.02,2,     1.10,2,    2.158,2,    1.274,2,   1.6282,2,   2212.5,2,   2362.0,6,    781.6,2,       20,   7.7203,6,       25,  -999.00,9,     -0.0,2,  -999.00,9,     22.2,2,20230330,1819
33RO20230306  ,A16N       ,71      ,  2,710218     ,218        ,20230330,1645,  26.0036, -25.6284,     4366,    185.7,  15.5546,  35.8809,2,  35.9082,2,     72.1,2,     77.5,2,     6.60,2,    21.90,2,     0.01,2,     1.37,2,    2.203,2,    1.278,2,   1.3577,2,   2225.1,2,   2343.5,2,    947.0,2,       20,   7.6438,2,       25,  -999.00,9,     -0.1,2,  -999.00,9,     27.2,2,20230330,1817
33RO20230306  ,A16N       ,71      ,  2,710217     ,217        ,20230330,1645,  26.0036, -25.6284,     4366,    270.7,  13.4646,  35.5721,2,  35.5778,2,     88.6,2,     70.3,2,     9.10,2,    25.50,2,     0.01,2,     1.58,2,    2.113,2,    1.221,2,   1.0445,2,   2228.2,2,   2327.6,2,   1073.3,2,       20,   7.5931,2,       25,  -999.00,9,      0.0,2,  -999.00,9,     30.4,2,20230330,1815
33RO20230306  ,A16N       ,71      ,  2,710216     ,216        ,20230330,1645,  26.0036, -25.6284,     4366,    361.6,  13.2812,  35.7328,2,  35.7501,2,    155.2,2,    145.5,2,     6.20,2,    17.00,2,     0.01,2,     1.05,2,    2.357,2,    1.366,2,   1.3345,2,   2186.0,6,   2339.2,2,    746.5,2,       20,   7.7339,2,       25,  -999.00,9,      0.0,2,  -999.00,9,     18.9,2,20230330,1812
33RO20230306  ,A16N       ,71      ,  2,710215     ,215        ,20230330,1645,  26.0036, -25.6284,     4366,    440.0,  12.5978,  35.6775,2,  35.6849,6,    161.9,2,    158.5,2,     6.50,2,    16.70,2,     0.01,2,     1.04,2,    2.407,2,    1.404,2,   1.3320,2,   2182.1,2,   2337.8,2,    733.3,2,       20,   7.7387,2,       25,  -999.00,9,      0.3,6,  -999.00,9,     16.8,2,20230330,1810
33RO20230306  ,A16N       ,71      ,  2,710214     ,214        ,20230330,1645,  26.0036, -25.6284,     4366,    550.4,  11.4523,  35.5749,2,  35.5783,2,    151.5,2,    160.1,2,     8.10,2,    18.40,2,     0.00,2,     1.16,2,    2.194,2,    1.250,2,   0.9507,2,   2184.7,2,   2333.9,2,    759.9,2,       20,   7.7254,2,       25,  -999.00,9,      0.5,2,  -999.00,9,     16.2,2,20230330,1807
33RO20230306  ,A16N       ,71      ,  2,710213     ,213        ,20230330,1645,  26.0036, -25.6284,     4366,    690.4,   9.9430,  35.4181,2,  35.4199,2,    138.0,2,    142.8,2,    12.40,2,    22.80,2,     0.00,2,     1.46,2,    1.413,2,    0.787,2,   0.4353,2,   2198.6,2,   2328.4,2,    856.2,2,       20,   7.6793,2,       25,  -999.00,9,      0.4,2,  -999.00,9,     18.8,2,20230330,1803
33RO20230306  ,A16N       ,71      ,  2,710212     ,212        ,20230330,1645,  26.0036, -25.6284,     4366,    830.2,   8.2353,  35.2272,2,  35.2264,2,    126.6,2,    133.9,2,    17.10,2,    26.60,2,     0.00,2,     1.75,2,    0.626,2,    0.354,2,   0.1285,2,   2211.6,2,   2322.7,2,    949.9,2,       20,   7.6377,2,       25,  -999.00,9,      0.6,2,  -999.00,9,     20.6,2,20230330,1800
33RO20230306  ,A16N       ,71      ,  2,710211     ,211        ,20230330,1645,  26.0036, -25.6284,     4366,    995.6,   7.1885,  35.1683,2,  35.1744,2,    140.5,2,    149.5,2,    18.90,2,    26.40,2,     0.00,2,     1.77,2,    0.382,2,    0.217,2,   0.1726,2,   2210.1,2,   2322.9,2,    935.0,2,       20,   7.6441,2,       25,  -999.00,9,      0.6,2,  -999.00,9,     19.9,2,20230330,1756
33RO20230306  ,A16N       ,71      ,  2,710210     ,210        ,20230330,1645,  26.0036, -25.6284,     4366,   1129.3,   6.7143,  35.1989,2,  35.2051,2,    155.4,2,    166.8,2,    18.70,2,    24.70,2,     0.00,2,     1.67,2,    0.351,2,    0.197,2,   0.1207,2,   2203.6,2,   2326.2,2,    881.9,2,       20,   7.6669,2,       25,  -999.00,9,   -999.0,9,  -999.00,9,     18.2,2,20230330,1752
33RO20230306  ,A16N       ,71      ,  2,710209     ,209        ,20230330,1645,  26.0036, -25.6284,     4366,   1401.6,   5.9547,  35.2078,2,  35.4539,2,    175.8,2,    177.7,2,    15.50,2,    20.60,2,     0.01,2,     1.39,2,     -999,9,     -999,9,     -999,9,   2190.4,2,   2339.0,2,    770.3,2,       20,   7.7185,2,       25,  -999.00,9,      0.7,2,  -999.00,9,     -999,9,20230330,1743
33RO20230306  ,A16N       ,71      ,  2,710208     ,208        ,20230330,1645,  26.0036, -25.6284,     4366,   1770.2,   4.7311,  35.1269,2,  35.1372,2,    199.5,2,    216.4,2,    22.20,2,    21.30,2,     0.00,2,     1.46,2,    0.220,2,    0.117,2,   0.0000,3,   2187.4,2,   2328.3,2,    785.8,6,       20,   7.7107,2,       25,  -999.00,9,      0.9,2,  -999.00,9,     14.5,2,20230330,1736
33RO20230306  ,A16N       ,71      ,  2,710207     ,207        ,20230330,1645,  26.0036, -25.6284,     4366,   2200.0,   3.8171,  35.0404,2,  35.0469,2,    214.8,2,    233.0,2,    25.30,2,    20.50,2,     0.00,2,     1.42,2,    0.158,2,    0.087,2,   0.1938,3,   2183.8,2,   2327.6,2,    765.0,2,       20,   7.7205,2,       25,  -999.00,9,      1.0,2,  -999.00,9,     13.7,2,20230330,1729
33RO20230306  ,A16N       ,71      ,  2,710206     ,206        ,20230330,1645,  26.0036, -25.6284,     4366,   2624.5,   3.1476,  34.9756,2,  34.9780,2,    222.5,2,    242.6,2,    30.30,2,    20.40,2,     0.00,2,     1.42,2,    0.141,6,    0.071,6,   0.0000,3,   2184.0,2,   2330.0,2,    757.3,2,       20,   7.7249,2,       25,  -999.00,9,      0.9,2,  -999.00,9,     13.6,6,20230330,1720
33RO20230306  ,A16N       ,71      ,  2,710205     ,205        ,20230330,1645,  26.0036, -25.6284,     4366,   3050.0,   2.7577,  34.9368,2,  34.9403,2,    222.6,2,    243.5,2,    36.00,2,    20.90,2,     0.00,2,     1.45,2,    0.094,2,    0.055,2,   0.2392,3,   2187.0,2,   2336.2,6,    758.3,2,       20,   7.7230,6,       25,  -999.00,9,      0.8,2,  -999.00,9,     13.7,2,20230330,1712
33RO20230306  ,A16N       ,71      ,  2,710204     ,204        ,20230330,1645,  26.0036, -25.6284,     4366,   3351.0,   2.5959,  34.9198,2,  34.9374,2,    221.3,2,    243.4,2,    39.75,2,    21.30,2,     0.00,2,     1.48,2,    0.055,2,    0.032,2,   0.1217,3,   2193.9,2,   2338.9,2,    761.2,2,       20,   7.7241,2,       25,  -999.00,9,      0.8,2,  -999.00,9,     13.7,2,20230330,1706
33RO20230306  ,A16N       ,71      ,  2,710203     ,203        ,20230330,1645,  26.0036, -25.6284,     4366,   3700.3,   2.5059,  34.9082,2,  34.9327,2,    220.0,2,    243.1,2,    42.45,2,    21.65,2,     0.00,2,     1.50,2,    0.027,2,    0.013,2,   0.0000,3,   2195.1,2,   2341.5,2,   -999.0,9,       20,   7.7228,2,       25,  -999.00,9,      0.9,2,  -999.00,9,     14.1,2,20230330,1659
33RO20230306  ,A16N       ,71      ,  2,710202     ,202        ,20230330,1645,  26.0036, -25.6284,     4366,   4101.0,   2.4148,  34.8955,2,  34.9056,2,    218.7,2,    244.8,2,    45.45,2,    21.95,2,     0.00,2,     1.52,2,    0.013,2,    0.008,2,   0.0000,3,   2198.6,6,   2344.2,2,    766.2,2,       20,   7.7220,2,       25,  -999.00,9,      0.9,2,  -999.00,9,     14.4,2,20230330,1651
33RO20230306  ,A16N       ,71      ,  2,710201     ,201        ,20230330,1645,  26.0036, -25.6284,     4366,   4407.1,   2.4232,  34.8926,2,  34.9117,2,    217.9,2,    242.9,2,    46.15,2,    22.00,2,     0.00,2,     1.52,2,    0.013,2,    0.010,2,   0.0000,3,   2200.7,2,   2346.4,2,    766.5,2,       20,   7.7229,2,       25,  -999.00,9,      0.9,6,  -999.00,9,     14.3,2,20230330,1645