BOTTLE,20240601CCHHYDRO
EXPOCODE,SECT_ID,STNNBR,CASTNO,SAMPNO,BTLNBR,DATE,TIME,LATITUDE,LONGITUDE,DEPTH,CTDPRS,CTDTMP,CTDSAL,CTDSAL_FLAG_W,SALNTY,SALNTY_FLAG_W,CTDOXY,CTDOXY_FLAG_W,OXYGEN,OXYGEN_FLAG_W,SILCAT,SILCAT_FLAG_W,NITRAT,NITRAT_FLAG_W,NITRIT,NITRIT_FLAG_W,PHSPHT,PHSPHT_FLAG_W,CFC-11,CFC-11_FLAG_W,CFC-12,CFC-12_FLAG_W,SF6,SF6_FLAG_W,TCARBN,TCARBN_FLAG_W,ALKALI,ALKALI_FLAG_W,FCO2,FCO2_FLAG_W,FCO2TMP,PH_TOT,PH_TOT_FLAG_W,PH_TMP,DOC,DOC_FLAG_W,DELC13,DELC13_FLAG_W,TDN,TDN_FLAG_W,N2O,N2O_FLAG_W,BTL_DATE,BTL_TIME
,,,,,,,,,,METERS,DBAR,ITS-90,PSS-78,,PSS-78,,UMOL/KG,,UMOL/KG,,UMOL/KG,,UMOL/KG,,UMOL/KG,,UMOL/KG,,PMOL/KG,,PMOL/KG,,FMOL/KG,,UMOL/KG,,UMOL/KG,,UATM,,DEG C,,,DEG C,UMOL/KG,,/MILLE,,UMOL/KG,,NMOL/KG,,,
33RO20230306  ,A16N       ,64      ,  1,640124     ,224        ,20230328,1028,  22.5046, -27.5971,     5484,      3.4,  22.7305,  37.1241,2,     -999,9,    201.2,2,     -999,9,     -999,9,     -999,9,     -999,9,     -999,9,     -999,9,     -999,9,     -999,9,     -999,9,     -999,9,   -999.0,9,       20,     -999,9,       25,  -999.00,9,   -999.0,9,  -999.00,9,     -999,9,20230328,1234
33RO20230306  ,A16N       ,64      ,  1,640123     ,223        ,20230328,1028,  22.5046, -27.5971,     5484,      3.5,  22.7203,  37.1243,2,  37.1350,2,    201.2,2,    215.0,2,     0.70,2,     0.00,2,     0.00,2,     0.07,2,    1.771,2,    1.169,2,   1.9139,2,   2125.4,6,   2425.3,2,    364.4,2,       20,   8.0078,2,       25,    72.66,2,      1.0,6,     4.58,2,      6.6,2,20230328,1234
33RO20230306  ,A16N       ,64      ,  1,640122     ,222        ,20230328,1028,  22.5046, -27.5971,     5484,     30.4,  22.7563,  37.1827,2,  37.1879,2,    201.7,2,    214.6,2,     0.40,2,     0.00,2,     0.00,2,     0.07,2,    1.759,2,    1.153,2,   1.8623,2,   2125.7,2,   2429.6,6,    360.7,2,       20,   8.0153,6,       25,    69.85,2,      1.1,2,     3.96,2,      6.5,2,20230328,1232
33RO20230306  ,A16N       ,64      ,  1,640121     ,221        ,20230328,1028,  22.5046, -27.5971,     5484,     84.9,  22.4723,  37.2593,2,  37.2668,2,    198.9,2,    212.1,2,     0.60,2,     0.00,2,     0.00,2,     0.07,2,    1.750,2,    1.151,2,   1.9765,2,   2132.5,2,   2434.5,2,    362.9,2,       20,   8.0124,2,       25,    69.89,2,      0.9,2,     3.78,2,      6.6,2,20230328,1227
33RO20230306  ,A16N       ,64      ,  1,640120     ,220        ,20230328,1028,  22.5046, -27.5971,     5484,    114.3,  22.0940,  37.2787,2,  37.2846,6,    195.2,2,    208.7,2,     0.50,2,     0.00,2,     0.10,2,     0.08,2,    1.774,2,    1.150,2,   2.0294,2,   2135.0,2,   2436.0,2,    375.0,2,       20,   8.0005,2,       25,    63.31,2,      0.9,2,     4.19,2,      6.7,2,20230328,1226
33RO20230306  ,A16N       ,64      ,  1,640119     ,219        ,20230328,1028,  22.5046, -27.5971,     5484,    239.9,  17.3139,  36.3917,2,  36.4287,2,    157.9,2,    167.6,2,     2.40,2,     8.40,2,     0.01,2,     0.56,2,     -999,9,     -999,9,     -999,9,   2168.3,2,   2376.5,2,    549.0,2,       20,   7.8543,2,       25,    48.61,2,      0.4,2,    10.31,2,     -999,9,20230328,1221
33RO20230306  ,A16N       ,64      ,  1,640118     ,218        ,20230328,1028,  22.5046, -27.5971,     5484,    348.5,  14.7914,  35.9781,2,  36.0039,2,    146.5,2,    157.5,2,     4.30,2,    13.20,2,     0.00,2,     0.83,2,    2.416,2,    1.454,2,   1.4930,2,   2180.1,2,   2351.5,2,    650.1,2,       20,   7.7882,2,       25,    48.97,2,      0.4,2,    15.16,2,     14.7,2,20230328,1218
33RO20230306  ,A16N       ,64      ,  1,640117     ,217        ,20230328,1028,  22.5046, -27.5971,     5484,    458.4,  13.0412,  35.7493,2,  35.7760,2,    146.6,2,    157.3,2,     6.00,2,    16.00,2,     0.00,2,     1.01,2,    2.413,2,    1.425,2,   1.3434,2,   2186.7,2,   2340.5,2,    717.0,2,       20,   7.7487,2,       25,    44.74,2,      0.3,2,    17.18,2,     15.8,2,20230328,1215
33RO20230306  ,A16N       ,64      ,  1,640116     ,216        ,20230328,1028,  22.5046, -27.5971,     5484,    518.3,  12.0857,  35.6152,2,  35.6647,2,    125.5,2,    133.8,2,     8.20,2,    20.40,2,     0.00,2,     1.27,2,    2.157,6,    1.242,6,   1.0387,6,   2204.2,2,   2333.4,2,    833.4,2,       20,   7.6908,2,       25,    44.44,2,      0.3,2,    23.37,2,     19.1,6,20230328,1213
33RO20230306  ,A16N       ,64      ,  1,640115     ,215        ,20230328,1028,  22.5046, -27.5971,     5484,    615.4,  10.5508,  35.4226,2,  35.4271,2,    108.9,2,    116.8,2,    12.10,2,    24.80,2,     0.00,2,     1.58,2,    1.523,2,    0.855,2,   0.6118,2,   2216.5,6,   2322.9,2,    949.0,2,       20,   7.6405,2,       25,    44.67,2,      0.4,6,    26.05,2,     21.3,2,20230328,1209
33RO20230306  ,A16N       ,64      ,  1,640114     ,214        ,20230328,1028,  22.5046, -27.5971,     5484,    790.4,   8.4304,  35.1930,2,  35.2092,2,    112.0,2,    121.5,2,    17.30,2,    27.90,2,     0.00,2,     1.84,2,    0.652,2,    0.360,2,   0.1564,2,   2226.0,2,   2317.8,2,   1007.4,2,       20,   7.6159,2,       25,    40.29,2,      0.6,2,    29.01,2,     21.5,2,20230328,1205
33RO20230306  ,A16N       ,64      ,  1,640113     ,213        ,20230328,1028,  22.5046, -27.5971,     5484,    924.5,   7.2515,  35.1037,2,  35.1218,2,    127.4,2,    137.2,2,    19.80,2,    27.90,2,     0.00,2,     1.88,2,    0.353,2,    0.197,2,   0.1113,2,   2219.1,2,   2317.0,2,    989.3,2,       20,   7.6231,2,       25,    41.90,2,      0.6,2,    30.19,2,     19.9,2,20230328,1202
33RO20230306  ,A16N       ,64      ,  1,640112     ,212        ,20230328,1028,  22.5046, -27.5971,     5484,   1050.4,   6.4442,  35.0656,2,  35.0778,2,    143.8,2,    152.6,2,    20.60,2,    27.10,2,     0.00,2,     1.82,2,    0.241,2,    0.133,2,   0.0588,3,   2214.2,2,   2317.8,2,    957.3,2,       20,   7.6340,2,       25,    40.24,2,      0.8,2,    29.64,2,     19.1,2,20230328,1158
33RO20230306  ,A16N       ,64      ,  1,640111     ,211        ,20230328,1028,  22.5046, -27.5971,     5484,   1251.4,   5.8362,  35.1054,2,  35.1100,2,    172.2,2,    191.8,2,    18.90,2,    23.60,2,     0.00,2,     1.61,2,    0.300,2,    0.165,2,   0.0934,3,   2199.4,2,   2319.2,2,    856.2,2,       20,   7.6755,2,       25,    41.41,2,      0.8,2,    25.69,2,     16.3,2,20230328,1153
33RO20230306  ,A16N       ,64      ,  1,640110     ,210        ,20230328,1028,  22.5046, -27.5971,     5484,   1498.4,   5.0676,  35.0978,2,  35.1341,2,    189.5,2,    211.9,2,    20.10,2,    22.40,2,     0.00,2,     1.54,2,    0.129,2,    0.072,2,   0.0735,3,   2195.4,2,   2319.9,2,    815.6,6,       20,   7.6953,2,       25,    40.07,2,      1.0,2,    24.35,2,     15.0,2,20230328,1148
33RO20230306  ,A16N       ,64      ,  1,640109     ,209        ,20230328,1028,  22.5046, -27.5971,     5484,   1796.6,   4.1904,  35.0354,2,  35.0655,2,    206.3,2,    223.9,2,    22.30,2,    21.40,2,     0.00,2,     1.49,2,    0.046,2,    0.027,2,   0.0459,3,   2186.4,2,   2318.7,6,    785.0,2,       20,   7.7091,6,       25,    40.44,2,      1.0,2,    22.81,2,     14.0,2,20230328,1141
33RO20230306  ,A16N       ,64      ,  1,640108     ,208        ,20230328,1028,  22.5046, -27.5971,     5484,   2198.9,   3.5819,  35.0012,2,  35.0057,2,    214.8,2,    234.8,2,    26.40,2,    20.90,2,     0.00,2,     1.48,2,    0.016,2,    0.008,2,   0.0321,2,   2186.7,2,   2323.1,2,    767.2,2,       20,   7.7195,2,       25,    40.83,2,      1.1,2,    19.54,2,     13.2,2,20230328,1134
33RO20230306  ,A16N       ,64      ,  1,640107     ,207        ,20230328,1028,  22.5046, -27.5971,     5484,   2701.4,   3.0307,  34.9613,2,  35.0024,2,    218.0,2,    238.3,2,    32.80,2,    21.00,2,     0.00,2,     1.49,2,    0.015,2,    0.008,2,   0.0000,2,   2197.9,2,   2332.1,2,    764.0,2,       20,   7.7213,2,       25,    40.35,2,      1.1,2,    22.71,2,     13.0,2,20230328,1124
33RO20230306  ,A16N       ,64      ,  1,640106     ,206        ,20230328,1028,  22.5046, -27.5971,     5484,   3200.7,   2.6400,  34.9257,2,  34.9282,6,    218.7,2,    241.0,2,    39.50,2,    21.40,2,     0.00,2,     1.51,2,    0.020,2,    0.011,2,   0.0421,2,   2197.1,2,   2340.0,2,   -999.0,9,       20,   7.7230,2,       25,    41.47,2,      0.8,2,    22.73,2,     13.2,2,20230328,1114
33RO20230306  ,A16N       ,64      ,  1,640105     ,205        ,20230328,1028,  22.5046, -27.5971,     5484,   3701.7,   2.4607,  34.9049,2,  34.9166,2,    218.7,2,    242.8,2,    43.80,2,    21.80,2,     0.00,2,     1.55,2,    0.011,2,    0.007,2,   0.0000,3,   2201.5,2,   2341.9,2,    762.8,2,       20,   7.7222,2,       25,    41.56,2,      1.1,2,    23.04,2,     13.6,2,20230328,1104
33RO20230306  ,A16N       ,64      ,  1,640104     ,204        ,20230328,1028,  22.5046, -27.5971,     5484,   4197.0,   2.3903,  34.8930,2,  34.8946,2,    217.3,2,    242.5,2,    46.50,2,    22.00,2,     0.00,2,     1.56,2,    0.006,2,    0.004,2,   0.0000,2,   2205.0,2,   2346.9,2,    765.4,2,       20,   7.7232,2,       25,    42.11,2,      0.9,2,    24.15,2,     13.4,2,20230328,1055
33RO20230306  ,A16N       ,64      ,  1,640103     ,203        ,20230328,1028,  22.5046, -27.5971,     5484,   4693.9,   2.3805,  34.8857,2,  34.9198,2,    215.8,2,    242.6,2,    48.20,2,    22.20,2,     0.00,2,     1.56,2,    0.009,2,    0.006,2,   0.0000,3,   2208.6,2,   2347.2,2,    767.3,2,       20,   7.7229,2,       25,    41.10,2,      1.0,2,    23.79,2,     13.8,2,20230328,1045
33RO20230306  ,A16N       ,64      ,  1,640102     ,202        ,20230328,1028,  22.5046, -27.5971,     5484,   5201.7,   2.4260,  34.8830,2,  34.8849,2,    214.8,2,    241.7,2,    48.80,2,    22.20,2,     0.00,2,     1.57,2,    0.015,2,    0.010,2,   0.0000,2,   2210.0,2,   2347.9,2,    769.4,2,       20,   7.7252,2,       25,    42.28,2,      0.8,2,    22.72,2,     14.2,2,20230328,1035
33RO20230306  ,A16N       ,64      ,  1,640101     ,201        ,20230328,1028,  22.5046, -27.5971,     5484,   5577.4,   2.4713,  34.8820,2,  34.8998,2,    214.2,2,    242.4,2,    48.80,2,    22.20,2,     0.00,2,     1.56,2,    0.022,2,    0.017,2,   0.0000,3,   2210.2,6,   2350.0,2,    768.6,2,       20,   7.7273,2,       25,    41.97,2,      0.9,6,    20.60,2,     14.5,2,20230328,1028
33RO20230306  ,A16N       ,65      ,  2,650224     ,224        ,20230328,1857,  23.0075, -27.3434,     5525,      3.9,  22.9907,  37.1887,2,  37.2179,2,    201.6,2,    214.3,2,     0.30,2,     0.10,2,     0.00,2,     0.06,2,    1.745,2,    1.112,2,   1.9174,2,   2119.0,6,   2429.7,2,    359.0,2,       20,   8.0128,2,       25,    63.48,2,      1.0,6,     4.98,2,      6.6,2,20230328,2106
33RO20230306  ,A16N       ,65      ,  2,650223     ,223        ,20230328,1857,  23.0075, -27.3434,     5525,     23.0,  22.7686,  37.1866,2,  37.1995,2,    202.2,2,    215.3,2,     0.30,2,     0.00,2,     0.00,2,     0.05,2,    1.741,2,    1.116,2,   1.9558,2,   2117.1,2,   2426.3,2,    359.4,2,       20,   8.0124,2,       25,  -999.00,9,      1.1,2,  -999.00,9,      6.5,2,20230328,2105
33RO20230306  ,A16N       ,65      ,  2,650222     ,222        ,20230328,1857,  23.0075, -27.3434,     5525,     50.7,  22.6559,  37.1763,2,  37.1762,2,    202.4,2,    215.1,2,     0.40,2,     0.10,2,     0.00,2,     0.05,2,    1.740,6,    1.116,6,   1.9082,6,   2117.5,2,   2428.7,2,    359.0,2,       20,   8.0099,2,       25,  -999.00,9,      1.1,2,  -999.00,9,      6.5,6,20230328,2103
33RO20230306  ,A16N       ,65      ,  2,650221     ,221        ,20230328,1857,  23.0075, -27.3434,     5525,     73.3,  22.4238,  37.1828,2,  37.1832,2,    200.6,2,    211.5,2,     0.30,2,     0.10,2,     0.00,2,     0.07,2,    1.732,2,    1.114,2,   1.8939,2,   2118.1,2,   2428.7,2,    362.7,2,       20,   7.9968,2,       25,  -999.00,9,      1.0,2,  -999.00,9,      6.4,2,20230328,2101
33RO20230306  ,A16N       ,65      ,  2,650220     ,220        ,20230328,1857,  23.0075, -27.3434,     5525,    101.3,  22.1225,  37.1426,2,  37.1377,2,    199.6,2,    216.3,2,     0.30,2,     0.10,2,     0.17,2,     0.10,2,    1.779,2,    1.143,2,   1.9507,2,   2126.1,2,   2426.7,2,    377.6,2,       20,   7.9965,2,       25,  -999.00,9,      1.0,2,  -999.00,9,      6.7,2,20230328,2059
33RO20230306  ,A16N       ,65      ,  2,650219     ,219        ,20230328,1857,  23.0075, -27.3434,     5525,    151.1,  20.2613,  36.9622,2,  36.9657,2,    182.2,2,    189.2,2,     0.80,2,     3.00,2,     0.03,2,     0.23,2,    1.987,2,    1.246,2,   1.8977,2,   2154.7,2,   2409.8,6,    448.3,2,       20,   7.9323,6,       25,  -999.00,9,      0.6,2,  -999.00,9,      8.3,2,20230328,2057
33RO20230306  ,A16N       ,65      ,  2,650218     ,218        ,20230328,1857,  23.0075, -27.3434,     5525,    221.8,  17.8479,  36.4743,2,  36.4722,2,    142.5,2,    161.1,2,     2.20,2,     9.00,2,     0.01,2,     0.56,2,    2.157,2,    1.325,2,   1.8669,2,   2169.4,2,   2377.9,2,    554.7,2,       20,   7.8494,2,       25,  -999.00,9,      0.3,2,  -999.00,9,     12.7,2,20230328,2055
33RO20230306  ,A16N       ,65      ,  2,650217     ,217        ,20230328,1857,  23.0075, -27.3434,     5525,    300.7,  15.8909,  36.1438,2,  36.1385,2,    167.9,2,    175.4,2,     2.90,2,     9.70,2,     0.01,2,     0.61,2,    2.349,2,    1.415,2,   1.6894,2,   2160.0,2,   2361.8,2,    568.5,2,       20,   7.8383,2,       25,  -999.00,9,      0.4,2,  -999.00,9,     12.0,2,20230328,2052
33RO20230306  ,A16N       ,65      ,  2,650216     ,216        ,20230328,1857,  23.0075, -27.3434,     5525,    485.9,  12.5757,  35.6768,2,  35.6909,2,    132.8,2,    137.8,2,     7.10,2,    19.10,2,     0.00,2,     1.17,2,    2.258,2,    1.325,2,   1.1482,2,   2195.9,2,   2334.9,2,    799.0,2,       20,   7.7069,2,       25,  -999.00,9,      0.3,2,  -999.00,9,     18.3,2,20230328,2038
33RO20230306  ,A16N       ,65      ,  2,650215     ,215        ,20230328,1857,  23.0075, -27.3434,     5525,    630.5,  10.6427,  35.4411,2,  35.4461,6,    114.8,2,    122.5,2,    11.40,2,    24.20,2,     0.00,2,     1.51,2,    1.575,2,    0.893,2,   0.6198,2,   2208.0,6,   2323.8,2,    916.0,2,       20,   7.6536,2,       25,  -999.00,9,      0.5,2,  -999.00,9,     20.5,2,20230328,2034
33RO20230306  ,A16N       ,65      ,  2,650214     ,214        ,20230328,1857,  23.0075, -27.3434,     5525,    730.5,   9.5451,  35.3193,2,  35.3216,2,    113.2,2,    121.5,2,    14.40,2,    26.30,2,     0.00,2,     1.67,2,    1.065,2,    0.599,2,   0.3424,2,   2212.6,2,   2321.9,2,    959.7,2,       20,   7.6349,2,       25,  -999.00,9,      0.6,2,  -999.00,9,     21.0,2,20230328,2032
33RO20230306  ,A16N       ,65      ,  2,650213     ,213        ,20230328,1857,  23.0075, -27.3434,     5525,    811.0,   8.4690,  35.2099,2,  35.2117,2,    119.1,2,    133.9,2,    16.90,2,    27.50,2,     0.00,2,     1.78,2,    0.683,2,    0.388,2,   0.3095,2,   2209.9,2,   2319.4,2,    981.9,2,       20,   7.6259,2,       25,  -999.00,9,      0.6,2,  -999.00,9,     21.0,2,20230328,2030
33RO20230306  ,A16N       ,65      ,  2,650212     ,212        ,20230328,1857,  23.0075, -27.3434,     5525,    951.2,   7.1201,  35.1077,2,  35.1188,2,    133.6,2,    142.1,2,    19.60,2,    27.60,2,     0.00,2,     1.84,2,    0.338,2,    0.195,2,   0.1176,2,   2209.1,2,   2314.9,2,    971.2,2,       20,   7.6301,2,       25,  -999.00,9,      0.7,2,  -999.00,9,     19.9,2,20230328,2026
33RO20230306  ,A16N       ,65      ,  2,650211     ,211        ,20230328,1857,  23.0075, -27.3434,     5525,   1101.0,   6.3752,  35.1040,2,  35.1052,2,    152.2,2,    163.2,2,    19.90,2,    26.00,2,     0.00,2,     1.74,2,    0.250,2,    0.142,2,   0.1032,2,   2204.6,2,   2320.2,2,    919.3,2,       20,   7.6505,2,       25,  -999.00,9,      0.8,2,  -999.00,9,     18.4,2,20230328,2023
33RO20230306  ,A16N       ,65      ,  2,650210     ,210        ,20230328,1857,  23.0075, -27.3434,     5525,   1401.3,   5.3354,  35.1074,2,  35.1198,2,    183.2,2,    195.5,2,    20.00,2,    23.20,2,     0.00,2,     1.57,2,    0.133,2,    0.075,2,   0.0770,2,   2192.2,2,   2322.0,2,    836.9,2,       20,   7.6862,2,       25,  -999.00,9,      0.9,2,  -999.00,9,     15.7,2,20230328,2017
33RO20230306  ,A16N       ,65      ,  2,650209     ,209        ,20230328,1857,  23.0075, -27.3434,     5525,   1701.6,   4.4611,  35.0618,2,  35.0661,2,    201.0,2,    217.4,2,    21.70,2,    21.80,2,     0.00,2,     1.49,2,    0.059,2,    0.037,2,   0.0000,3,   2185.4,2,   2321.4,2,    794.0,2,       20,   7.7047,2,       25,  -999.00,9,      1.0,2,  -999.00,9,     14.2,2,20230328,2011
33RO20230306  ,A16N       ,65      ,  2,650208     ,208        ,20230328,1857,  23.0075, -27.3434,     5525,   2100.6,   3.6612,  35.0013,2,  35.0247,2,    214.0,2,    232.8,2,    25.40,2,    21.20,2,     0.00,2,     1.45,2,    0.013,2,    0.005,2,   0.0000,3,   2181.6,2,   2323.8,2,    772.0,2,       20,   7.7173,2,       25,  -999.00,9,      1.0,2,  -999.00,9,     13.5,2,20230328,2002
33RO20230306  ,A16N       ,65      ,  2,650207     ,207        ,20230328,1857,  23.0075, -27.3434,     5525,   2559.7,   3.1550,  34.9721,2,  34.9800,6,    219.0,2,    238.2,2,    30.90,2,    21.00,2,     0.00,2,     1.45,2,    0.012,2,    0.012,2,   0.0000,2,   2186.1,2,   2328.1,6,    761.3,2,       20,   7.7209,6,       25,  -999.00,9,      0.9,2,  -999.00,9,     13.0,2,20230328,1953
33RO20230306  ,A16N       ,65      ,  2,650206     ,206        ,20230328,1857,  23.0075, -27.3434,     5525,   3062.3,   2.7176,  34.9335,2,  34.9337,2,    218.7,2,    239.5,2,    38.00,2,    21.40,2,     0.00,2,     1.48,2,    0.031,2,    0.018,2,   0.0381,2,   2194.2,2,   2338.0,2,    765.3,6,       20,   7.7212,2,       25,  -999.00,9,      1.0,2,  -999.00,9,     13.0,2,20230328,1944
33RO20230306  ,A16N       ,65      ,  2,650205     ,205        ,20230328,1857,  23.0075, -27.3434,     5525,   3560.9,   2.4822,  34.9083,2,  34.9114,2,    219.8,2,    242.3,2,    43.00,2,    21.80,2,     0.00,2,     1.51,2,    0.011,2,    0.009,2,   0.0000,3,   2196.6,2,   2342.4,2,   -999.0,9,       20,   7.7233,2,       25,  -999.00,9,      0.9,2,  -999.00,9,     13.2,2,20230328,1934
33RO20230306  ,A16N       ,65      ,  2,650204     ,204        ,20230328,1857,  23.0075, -27.3434,     5525,   4061.0,   2.3881,  34.8945,2,  34.9068,2,    218.2,2,    242.8,2,    46.10,6,    22.10,6,     0.00,6,     1.53,6,    0.004,2,    0.003,2,   0.0000,3,   2197.4,2,   2345.2,2,    765.7,2,       20,   7.7232,2,       25,  -999.00,9,      1.0,2,  -999.00,9,     13.4,2,20230328,1925
33RO20230306  ,A16N       ,65      ,  2,650203     ,203        ,20230328,1857,  23.0075, -27.3434,     5525,   4560.3,   2.3695,  34.8866,2,  34.8877,2,    216.6,2,    242.2,2,    48.00,6,    22.30,6,     0.00,6,     1.54,6,    0.008,2,    0.009,2,   0.0000,3,   2201.7,2,   2345.6,2,    768.1,2,       20,   7.7218,2,       25,  -999.00,9,      0.9,2,  -999.00,9,     13.9,2,20230328,1916
33RO20230306  ,A16N       ,65      ,  2,650202     ,202        ,20230328,1857,  23.0075, -27.3434,     5525,   5061.1,   2.4067,  34.8832,2,  34.8881,2,    215.4,2,    243.2,2,    48.80,6,    22.30,6,     0.00,6,     1.55,6,    0.012,2,    0.008,2,   0.0000,2,   2204.2,6,   2346.1,2,    768.8,2,       20,   7.7221,2,       25,  -999.00,9,      1.0,2,  -999.00,9,     14.2,2,20230328,1907
33RO20230306  ,A16N       ,65      ,  2,650201     ,201        ,20230328,1857,  23.0075, -27.3434,     5525,   5612.8,   2.4714,  34.8816,2,  34.8841,2,    214.3,2,    242.5,2,    48.90,6,    22.40,6,     0.00,6,     1.54,6,    0.022,2,    0.016,2,   0.0000,2,   2205.6,2,   2348.2,2,    769.6,2,       20,   7.7211,2,       25,  -999.00,9,      0.9,6,  -999.00,9,     14.7,2,20230328,1857