BOTTLE,20240601CCHHYDRO
EXPOCODE,SECT_ID,STNNBR,CASTNO,SAMPNO,BTLNBR,DATE,TIME,LATITUDE,LONGITUDE,DEPTH,CTDPRS,CTDTMP,CTDSAL,CTDSAL_FLAG_W,SALNTY,SALNTY_FLAG_W,CTDOXY,CTDOXY_FLAG_W,OXYGEN,OXYGEN_FLAG_W,SILCAT,SILCAT_FLAG_W,NITRAT,NITRAT_FLAG_W,NITRIT,NITRIT_FLAG_W,PHSPHT,PHSPHT_FLAG_W,CFC-11,CFC-11_FLAG_W,CFC-12,CFC-12_FLAG_W,SF6,SF6_FLAG_W,TCARBN,TCARBN_FLAG_W,ALKALI,ALKALI_FLAG_W,FCO2,FCO2_FLAG_W,FCO2TMP,PH_TOT,PH_TOT_FLAG_W,PH_TMP,DOC,DOC_FLAG_W,DELC13,DELC13_FLAG_W,TDN,TDN_FLAG_W,N2O,N2O_FLAG_W,BTL_DATE,BTL_TIME
,,,,,,,,,,METERS,DBAR,ITS-90,PSS-78,,PSS-78,,UMOL/KG,,UMOL/KG,,UMOL/KG,,UMOL/KG,,UMOL/KG,,UMOL/KG,,PMOL/KG,,PMOL/KG,,FMOL/KG,,UMOL/KG,,UMOL/KG,,UATM,,DEG C,,,DEG C,UMOL/KG,,/MILLE,,UMOL/KG,,NMOL/KG,,,
33RO20230306  ,A16N       ,34      ,  2,340224     ,224        ,20230319,1223,   7.5008, -27.2552,     4664,      2.9,  27.6841,  35.6818,2,  35.6819,2,    194.8,2,    203.4,2,     1.10,2,     0.00,2,     0.01,2,     0.05,2,    1.445,2,    0.931,2,   1.6757,2,   1996.8,6,   2329.1,2,    286.1,2,       20,   8.0806,2,       25,    70.40,2,      1.2,2,     5.57,2,      5.9,2,20230319,1408
33RO20230306  ,A16N       ,34      ,  2,340223     ,223        ,20230319,1223,   7.5008, -27.2552,     4664,     15.0,  27.5834,  35.6754,2,  35.6781,2,    194.8,2,    204.7,2,     1.10,2,     0.00,2,     0.02,2,     0.06,2,    1.449,2,    0.929,2,   1.7707,2,   1992.3,2,   2327.8,2,    287.4,2,       20,   8.0805,2,       25,    71.98,2,      1.3,2,     4.37,2,      6.0,2,20230319,1407
33RO20230306  ,A16N       ,34      ,  2,340222     ,222        ,20230319,1223,   7.5008, -27.2552,     4664,     35.1,  25.3403,  35.7967,2,  35.8186,2,    198.4,2,    194.6,2,     1.80,2,     0.30,2,     0.04,2,     0.08,2,    1.706,2,    1.074,2,   1.7123,2,   2055.3,2,   2348.8,2,    362.4,2,       20,   7.9995,2,       25,    68.26,2,      1.1,2,     4.86,2,     12.2,2,20230319,1406
33RO20230306  ,A16N       ,34      ,  2,340221     ,221        ,20230319,1223,   7.5008, -27.2552,     4664,     55.9,  18.6457,  35.8906,2,  35.8705,6,    127.4,2,    125.1,2,     4.60,2,    13.20,2,     0.37,2,     0.90,2,    2.111,2,    1.246,2,   1.3914,2,   2173.1,2,   2347.3,2,    659.6,2,       20,   7.7832,2,       25,    51.71,2,      0.5,2,    16.35,2,     20.3,2,20230319,1404
33RO20230306  ,A16N       ,34      ,  2,340220     ,220        ,20230319,1223,   7.5008, -27.2552,     4664,     84.9,  14.6411,  35.5068,2,  35.5048,2,    107.4,2,    106.9,2,     6.90,2,    20.10,2,     0.06,2,     1.35,2,    2.337,2,    1.349,2,   1.2154,2,   2194.5,2,   2328.6,2,    849.6,2,       20,   7.6823,2,       25,    48.63,2,      0.3,2,    23.38,2,     25.5,2,20230319,1403
33RO20230306  ,A16N       ,34      ,  2,340219     ,219        ,20230319,1223,   7.5008, -27.2552,     4664,    134.7,  13.7592,  35.3914,2,  35.3926,2,    109.6,2,    118.3,2,     7.50,2,    20.70,2,     0.03,2,     1.39,2,    2.370,2,    1.377,2,   1.2566,2,   2193.2,2,   2321.8,2,    869.0,2,       20,   7.6751,2,       25,    46.89,2,      0.4,2,    23.49,2,     25.6,2,20230319,1401
33RO20230306  ,A16N       ,34      ,  2,340218     ,218        ,20230319,1223,   7.5008, -27.2552,     4664,    192.8,  12.9818,  35.2886,2,  35.2891,2,    111.8,2,    113.0,2,     8.50,2,    22.00,2,     0.02,2,     1.48,2,    2.341,2,    1.329,2,   1.0048,2,   2196.1,2,   2315.0,2,    911.6,2,       20,   7.6541,2,       25,    44.53,2,      0.4,2,    25.51,2,     26.3,2,20230319,1359
33RO20230306  ,A16N       ,34      ,  2,340217     ,217        ,20230319,1223,   7.5008, -27.2552,     4664,    261.4,  11.9994,  35.1769,2,  35.1830,2,     93.3,2,     99.3,2,    10.10,2,    25.10,2,     0.02,2,     1.64,2,    2.213,2,    1.239,2,   0.9677,2,   2208.1,2,   2310.2,2,   1024.3,2,       20,   7.6092,2,       25,    47.58,2,      0.4,2,    28.69,2,     29.3,2,20230319,1356
33RO20230306  ,A16N       ,34      ,  2,340216     ,216        ,20230319,1223,   7.5008, -27.2552,     4664,    351.7,  10.8238,  35.0768,2,  35.0801,2,     67.6,2,     63.9,2,    13.10,2,    31.20,2,     0.02,2,     1.97,2,    1.721,2,    0.949,2,   0.4985,2,   2235.9,2,   2303.9,2,   1303.3,2,       20,   7.5147,2,       25,    44.44,2,      0.2,2,    34.26,2,     35.7,2,20230319,1354
33RO20230306  ,A16N       ,34      ,  2,340215     ,215        ,20230319,1223,   7.5008, -27.2552,     4664,    420.0,   9.7857,  34.9677,2,  34.9686,2,     69.2,2,     68.8,2,    14.80,2,    32.80,2,     0.02,2,     2.07,2,    1.486,2,    0.808,2,   0.4847,2,   2239.1,2,   2300.3,2,   1350.6,2,       20,   7.4994,2,       25,    42.76,2,      0.2,2,    35.30,2,     35.1,2,20230319,1351
33RO20230306  ,A16N       ,34      ,  2,340214     ,214        ,20230319,1223,   7.5008, -27.2552,     4664,    520.9,   9.0037,  34.9670,2,  34.9684,2,     46.2,2,     47.9,2,    17.80,2,    36.40,2,     0.01,2,     2.29,2,    0.781,2,    0.430,2,   0.2348,2,   2252.1,6,   2300.6,2,   1516.8,2,       20,   7.4530,2,       25,    42.58,2,      0.2,6,    41.26,2,     36.2,2,20230319,1348
33RO20230306  ,A16N       ,34      ,  2,340213     ,213        ,20230319,1223,   7.5008, -27.2552,     4664,    630.8,   7.4291,  34.8150,2,  34.8176,2,     61.8,2,     65.9,2,    22.00,2,    37.60,2,     0.02,2,     2.43,2,    0.342,2,    0.189,2,   0.1036,2,   2249.1,2,   2297.7,2,   1496.5,2,       20,   7.4563,2,       25,    42.07,2,      0.4,2,    41.43,2,     32.3,2,20230319,1346
33RO20230306  ,A16N       ,34      ,  2,340212     ,212        ,20230319,1223,   7.5008, -27.2552,     4664,    711.0,   6.3392,  34.6992,2,  34.7123,2,     87.4,2,     93.2,2,    24.90,2,    36.70,2,     0.02,2,     2.41,2,    0.237,6,    0.129,6,   0.0000,3,   2240.7,2,   2296.4,2,   1396.0,2,       20,   7.4845,2,       25,    41.74,2,      0.5,2,    41.04,2,     28.9,6,20230319,1343
33RO20230306  ,A16N       ,34      ,  2,340211     ,211        ,20230319,1223,   7.5008, -27.2552,     4664,    873.5,   5.3095,  34.6524,2,  34.6700,2,    116.9,2,    126.3,2,    28.40,2,    34.70,2,     0.02,2,     2.34,2,    0.122,2,    0.068,2,   0.0000,3,   2231.7,2,   2299.0,2,   1253.2,2,       20,   7.5268,2,       25,    40.11,2,      0.7,2,    35.69,2,     25.5,2,20230319,1339
33RO20230306  ,A16N       ,34      ,  2,340210     ,210        ,20230319,1223,   7.5008, -27.2552,     4664,   1023.2,   5.0262,  34.7369,2,  34.7421,6,    136.5,2,    144.1,2,    27.70,2,    32.10,2,     0.03,2,     2.20,2,    0.071,2,    0.039,2,   0.0000,3,   2222.2,2,   2304.3,2,   1141.0,2,       20,   7.5638,2,       25,    40.54,2,      0.7,2,    33.46,2,     23.1,2,20230319,1336
33RO20230306  ,A16N       ,34      ,  2,340209     ,209        ,20230319,1223,   7.5008, -27.2552,     4664,   1202.7,   4.8180,  34.8786,2,  34.8828,2,    164.7,2,    182.3,2,    23.90,2,    27.50,2,     0.02,2,     1.89,2,    0.128,2,    0.069,2,   0.0808,3,   2207.5,2,   2306.8,2,    982.0,2,       20,   7.6207,2,       25,    40.60,2,      0.7,2,    29.79,2,     19.8,2,20230319,1331
33RO20230306  ,A16N       ,34      ,  2,340208     ,208        ,20230319,1223,   7.5008, -27.2552,     4664,   1652.5,   4.0613,  34.9680,2,  34.9714,2,    216.9,2,    230.1,2,    19.40,2,    21.20,2,     0.02,2,     1.46,2,    0.331,2,    0.173,2,   0.1839,3,   2178.2,2,   2309.9,2,    796.8,2,       20,   7.7182,2,       25,    40.60,2,      0.9,2,    22.17,2,     15.4,2,20230319,1322
33RO20230306  ,A16N       ,34      ,  2,340207     ,207        ,20230319,1223,   7.5008, -27.2552,     4664,   1903.7,   3.7151,  34.9651,2,  34.9680,2,    225.9,2,    165.9,2,    20.80,2,    20.40,2,     0.02,2,     1.40,2,    0.264,2,    0.136,2,   0.1068,3,   2173.9,2,   2313.5,2,    771.9,2,       20,   7.7196,2,       25,    41.13,2,      1.0,2,    23.45,2,     14.7,2,20230319,1317
33RO20230306  ,A16N       ,34      ,  2,340206     ,206        ,20230319,1223,   7.5008, -27.2552,     4664,   2300.6,   3.2335,  34.9485,2,  34.9541,2,    230.2,2,    235.9,2,    25.90,2,    20.30,2,     0.01,2,     1.40,2,    0.127,2,    0.069,2,   0.0000,3,   2175.6,2,   2317.8,2,    758.7,2,       20,   7.7193,2,       25,    41.02,2,      1.0,2,    19.01,2,     14.2,2,20230319,1309
33RO20230306  ,A16N       ,34      ,  2,340205     ,205        ,20230319,1223,   7.5008, -27.2552,     4664,   2704.0,   2.8765,  34.9276,2,  34.9327,2,    227.9,2,    247.1,2,    32.20,2,    20.80,2,     0.01,2,     1.43,2,    0.053,2,    0.032,2,   0.0000,3,   2184.7,2,   2322.9,2,    763.6,6,       20,   7.7174,2,       25,    40.59,2,      1.0,2,    20.88,2,     14.4,2,20230319,1301
33RO20230306  ,A16N       ,34      ,  2,340204     ,204        ,20230319,1223,   7.5008, -27.2552,     4664,   3151.0,   2.6551,  34.9125,2,  34.9181,2,    226.4,2,    246.5,2,    37.10,2,    21.10,2,     0.01,2,     1.48,2,    0.044,2,    0.025,2,   0.0000,3,   2189.5,2,   2327.9,2,   -999.0,9,       20,   7.7168,2,       25,    40.92,2,      1.0,2,    19.58,2,     14.6,2,20230319,1252
33RO20230306  ,A16N       ,34      ,  2,340203     ,203        ,20230319,1223,   7.5008, -27.2552,     4664,   3600.1,   2.4554,  34.8974,2,  34.9003,2,    227.5,2,    249.3,2,    40.60,2,    21.20,2,     0.01,2,     1.46,2,    0.099,2,    0.055,2,   0.0000,3,   2190.9,2,   2331.3,2,    769.8,2,       20,   7.7161,2,       25,    41.35,2,      1.0,2,    20.53,2,     14.7,2,20230319,1244
33RO20230306  ,A16N       ,34      ,  2,340202     ,202        ,20230319,1223,   7.5008, -27.2552,     4664,   4149.9,   2.3125,  34.8818,2,  34.8877,2,    225.7,2,    242.7,2,    45.00,2,    21.50,2,     0.01,2,     1.50,2,    0.185,2,    0.096,2,   0.0000,3,   2196.9,6,   2336.0,2,    779.9,2,       20,   7.7123,2,       25,    41.06,2,      1.0,2,    21.00,2,     15.2,2,20230319,1233
33RO20230306  ,A16N       ,34      ,  2,340201     ,201        ,20230319,1223,   7.5008, -27.2552,     4664,   4711.2,   2.3061,  34.8764,2,  34.8762,2,    217.1,2,    242.5,2,    49.70,2,    22.40,2,     0.02,2,     1.54,2,    0.074,2,    0.044,2,   0.1049,3,   2204.3,2,   2343.1,2,    783.9,2,       20,   7.7141,2,       25,    41.26,2,      0.9,6,    21.23,2,     15.4,2,20230319,1223
33RO20230306  ,A16N       ,35      ,  1,350124     ,224        ,20230319,1904,   8.0004, -27.5027,     5077,      3.3,  26.7841,  35.8484,2,  35.8495,2,    197.4,2,    206.5,2,     1.10,2,     0.00,2,     0.02,2,     0.05,2,    1.507,2,    0.957,2,   1.7027,2,   2009.0,6,   2345.1,2,    293.7,2,       20,   8.0728,2,       25,    75.44,2,      1.2,2,     5.19,2,      6.1,2,20230319,2057
33RO20230306  ,A16N       ,35      ,  1,350123     ,223        ,20230319,1904,   8.0004, -27.5027,     5077,     18.3,  26.7597,  35.8475,2,  35.8507,6,    197.8,2,    206.2,2,     1.00,2,     0.00,2,     0.01,2,     0.04,2,    1.508,2,    0.965,2,   1.7679,2,   2010.3,2,   2344.5,2,    294.6,2,       20,   8.0734,2,       25,  -999.00,9,      1.1,2,  -999.00,9,      6.1,2,20230319,2055
33RO20230306  ,A16N       ,35      ,  1,350122     ,222        ,20230319,1904,   8.0004, -27.5027,     5077,     30.2,  26.6353,  35.8500,2,  35.8584,2,    197.9,2,    206.7,2,     1.10,2,     0.00,2,     0.01,2,     0.05,2,    1.515,2,    0.963,2,   1.8099,2,   2009.1,2,   2344.3,2,    296.1,2,       20,   8.0737,2,       25,  -999.00,9,      1.2,2,  -999.00,9,      6.2,2,20230319,2053
33RO20230306  ,A16N       ,35      ,  1,350121     ,221        ,20230319,1904,   8.0004, -27.5027,     5077,     54.8,  20.4289,  35.9811,2,  35.9757,2,    152.8,2,    146.3,2,     3.30,2,     5.80,2,     0.33,2,     0.45,2,    1.992,2,    1.194,2,   1.3793,2,   2144.6,2,   2358.9,2,    546.3,2,       20,   7.8525,2,       25,  -999.00,9,      0.6,2,  -999.00,9,     18.2,2,20230319,2051
33RO20230306  ,A16N       ,35      ,  1,350120     ,220        ,20230319,1904,   8.0004, -27.5027,     5077,     75.9,  15.9950,  35.6437,2,  35.6608,2,    110.3,2,    112.2,2,     5.90,2,    18.10,2,     0.13,2,     1.20,2,    2.271,2,    1.340,2,   1.2650,2,   2188.7,2,   2334.7,2,    784.8,2,       20,   7.7131,2,       25,  -999.00,9,      0.3,6,  -999.00,9,     24.2,2,20230319,2050
33RO20230306  ,A16N       ,35      ,  1,350119     ,219        ,20230319,1904,   8.0004, -27.5027,     5077,    110.8,  14.2187,  35.4643,2,  35.4658,2,    116.6,2,    122.9,2,     7.00,2,    19.20,2,     0.03,2,     1.30,2,    1.531,2,    0.869,2,   0.7088,2,   2186.2,2,   2326.4,2,    811.9,2,       20,   7.7003,2,       25,  -999.00,9,      0.3,2,  -999.00,9,     29.2,2,20230319,2048
33RO20230306  ,A16N       ,35      ,  1,350118     ,218        ,20230319,1904,   8.0004, -27.5027,     5077,    171.7,  12.9796,  35.2947,2,  35.2927,2,    105.5,2,    108.8,2,     8.50,2,    22.20,2,     0.02,2,     1.48,2,    2.334,2,    1.317,2,   1.1795,2,   2195.6,2,   2317.6,2,    913.5,2,       20,   7.6537,2,       25,  -999.00,9,      0.4,2,  -999.00,9,     27.1,2,20230319,2046
33RO20230306  ,A16N       ,35      ,  1,350117     ,217        ,20230319,1904,   8.0004, -27.5027,     5077,    234.9,  12.1517,  35.1893,2,  35.1879,2,    127.8,2,    123.8,2,     9.20,2,    22.30,2,     0.03,2,     1.49,2,    2.355,2,    1.327,2,   1.0989,2,   2192.7,2,   2313.6,2,    908.0,2,       20,   7.6552,2,       25,  -999.00,9,      0.5,2,  -999.00,9,     25.6,2,20230319,2044
33RO20230306  ,A16N       ,35      ,  1,350116     ,216        ,20230319,1904,   8.0004, -27.5027,     5077,    309.5,  10.9735,  35.0540,2,  35.0549,2,    104.6,2,    109.5,2,    11.30,2,    26.00,2,     0.02,2,     1.70,2,    2.170,2,    1.202,2,   0.9402,2,   2204.8,2,   2305.5,2,   1043.7,2,       20,   7.6003,2,       25,  -999.00,9,      0.3,2,  -999.00,9,     29.6,2,20230319,2041
33RO20230306  ,A16N       ,35      ,  1,350115     ,215        ,20230319,1904,   8.0004, -27.5027,     5077,    441.2,   9.6327,  34.9499,2,  34.9509,2,     69.4,2,     60.9,2,    15.00,2,    32.70,2,     0.01,2,     2.06,2,    1.485,2,    0.812,2,   0.4441,3,   2233.7,2,   2301.4,2,   1332.8,2,       20,   7.5043,2,       25,  -999.00,9,      0.2,2,  -999.00,9,     34.8,2,20230319,2038
33RO20230306  ,A16N       ,35      ,  1,350114     ,214        ,20230319,1904,   8.0004, -27.5027,     5077,    551.3,   8.4202,  34.8879,2,  34.8951,2,     56.9,2,     60.3,2,    18.80,2,    36.30,2,     0.02,2,     2.31,2,     -999,9,     -999,9,     -999,9,   2246.4,6,   2298.9,2,   1473.3,2,       20,   7.4630,2,       25,  -999.00,9,      0.3,2,  -999.00,9,     -999,9,20230319,2035
33RO20230306  ,A16N       ,35      ,  1,350113     ,213        ,20230319,1904,   8.0004, -27.5027,     5077,    692.0,   6.7611,  34.7314,2,  34.7320,2,     76.6,2,     82.2,2,    23.60,2,    37.20,2,     0.01,2,     2.42,2,    0.284,2,    0.163,2,   0.1196,3,   2243.2,2,   2295.1,2,   1445.7,2,       20,   7.4703,2,       25,  -999.00,9,      0.4,2,  -999.00,9,     31.0,2,20230319,2032
33RO20230306  ,A16N       ,35      ,  1,350112     ,212        ,20230319,1904,   8.0004, -27.5027,     5077,    972.0,   5.2263,  34.7211,2,  34.7234,2,    125.7,2,    133.8,2,    27.80,2,    33.30,2,     0.01,2,     2.26,2,    0.067,2,    0.040,2,   0.0000,3,   2223.4,2,   2303.2,2,   1194.0,2,       20,   7.5467,2,       25,  -999.00,9,      0.6,2,  -999.00,9,     24.1,2,20230319,2025
33RO20230306  ,A16N       ,35      ,  1,350111     ,211        ,20230319,1904,   8.0004, -27.5027,     5077,   1099.7,   4.9384,  34.7899,2,  34.7905,2,    147.6,2,    156.3,2,    26.50,2,    30.40,2,     0.01,2,     2.07,2,    0.094,2,    0.050,2,   0.0000,3,   2214.4,2,   2308.6,2,   1074.1,2,       20,   7.5867,2,       25,  -999.00,9,      0.7,2,  -999.00,9,     22.1,2,20230319,2022
33RO20230306  ,A16N       ,35      ,  1,350110     ,210        ,20230319,1904,   8.0004, -27.5027,     5077,   1275.6,   4.7340,  34.9132,2,  34.9285,2,    178.9,2,    190.6,2,    22.10,2,    25.60,2,     0.01,2,     1.76,2,    0.262,2,    0.136,2,   0.0918,3,   2195.1,2,     -999,9,    920.4,2,       20,   7.6457,2,       25,  -999.00,9,      0.8,2,  -999.00,9,     18.9,2,20230319,2018
33RO20230306  ,A16N       ,35      ,  1,350109     ,209        ,20230319,1904,   8.0004, -27.5027,     5077,   1452.0,   4.4004,  34.9545,2,  34.9557,2,    200.8,2,    214.5,2,    20.10,2,    22.90,2,     0.01,2,     1.57,2,    0.312,2,    0.167,2,   0.0890,3,   2182.6,2,   2309.7,2,    847.6,6,       20,   7.6779,2,       25,  -999.00,9,      0.8,2,  -999.00,9,     17.1,2,20230319,2014
33RO20230306  ,A16N       ,35      ,  1,350108     ,208        ,20230319,1904,   8.0004, -27.5027,     5077,   1752.1,   3.8519,  34.9653,2,  34.9603,6,    221.6,2,    236.7,2,    20.60,2,    20.90,2,     0.01,2,     1.44,2,    0.240,2,    0.125,2,   0.0000,3,   2172.7,2,   2311.5,2,    785.9,2,       20,   7.7055,2,       25,  -999.00,9,      1.0,2,  -999.00,9,     15.1,2,20230319,2008
33RO20230306  ,A16N       ,35      ,  1,350107     ,207        ,20230319,1904,   8.0004, -27.5027,     5077,   2201.8,   3.3412,  34.9528,2,  34.9528,2,    229.0,2,    246.1,2,    24.80,2,    20.30,2,     0.01,2,     1.39,2,    0.143,2,    0.079,2,   0.0000,3,   2173.3,2,   2315.4,2,    761.2,2,       20,   7.7172,2,       25,  -999.00,9,      1.1,2,  -999.00,9,     14.6,2,20230319,2000
33RO20230306  ,A16N       ,35      ,  1,350106     ,206        ,20230319,1904,   8.0004, -27.5027,     5077,   2601.0,   2.9607,  34.9347,2,  34.9378,2,    229.7,2,    247.5,2,    30.30,2,    20.60,2,     0.01,2,     1.42,2,    0.060,4,    0.035,4,   0.1087,3,   2176.9,2,   2322.4,2,    759.2,2,       20,   7.7203,2,       25,  -999.00,9,      1.1,2,  -999.00,9,     14.1,4,20230319,1952
33RO20230306  ,A16N       ,35      ,  1,350105     ,205        ,20230319,1904,   8.0004, -27.5027,     5077,   3001.4,   2.7034,  34.9170,2,  34.9446,2,    227.0,2,    247.7,2,    35.80,2,    21.10,2,     0.01,2,     1.45,2,     -999,9,     -999,9,     -999,9,   2183.8,2,   2326.5,2,    766.4,2,       20,   7.7171,2,       25,  -999.00,9,      1.0,6,  -999.00,9,     -999,9,20230319,1945
33RO20230306  ,A16N       ,35      ,  1,350104     ,204        ,20230319,1904,   8.0004, -27.5027,     5077,   3497.2,   2.5120,  34.9018,2,  34.9038,2,    225.9,2,    246.6,2,    40.00,2,    21.30,2,     0.01,2,     1.46,2,    0.051,2,    0.032,2,   0.0000,3,   2186.2,2,   2331.0,2,    770.0,2,       20,   7.7163,2,       25,  -999.00,9,      0.9,2,  -999.00,9,     14.5,2,20230319,1936
33RO20230306  ,A16N       ,35      ,  1,350103     ,203        ,20230319,1904,   8.0004, -27.5027,     5077,   4000.0,   2.3438,  34.8862,2,  34.8878,2,    227.3,2,    252.2,2,    43.40,2,    21.30,2,     0.01,2,     1.48,2,    0.167,2,    0.090,2,   0.0000,3,   2190.3,6,   2331.7,2,    773.4,2,       20,   7.7160,2,       25,  -999.00,9,      1.0,2,  -999.00,9,     14.8,2,20230319,1926
33RO20230306  ,A16N       ,35      ,  1,350102     ,202        ,20230319,1904,   8.0004, -27.5027,     5077,   4603.1,   2.3003,  34.8771,2,  34.8816,2,    220.2,2,    244.8,2,    48.60,2,    22.10,2,     0.01,2,     1.53,2,    0.102,2,    0.059,2,   0.0000,3,   2200.7,2,   2344.0,2,   -999.0,9,       20,   7.7116,2,       25,  -999.00,9,      0.9,2,  -999.00,9,     15.5,2,20230319,1915
33RO20230306  ,A16N       ,35      ,  1,350101     ,201        ,20230319,1904,   8.0004, -27.5027,     5077,   5149.0,   2.3316,  34.8738,2,  34.8803,2,    214.8,2,    239.3,2,    51.10,2,    22.60,2,     0.01,2,     1.56,2,    0.058,2,    0.037,2,   0.0000,3,   2209.2,2,   2350.8,2,    784.0,2,       20,   7.7116,2,       25,  -999.00,9,      1.0,2,  -999.00,9,     15.5,2,20230319,1904