BOTTLE,20240601CCHHYDRO
EXPOCODE,SECT_ID,STNNBR,CASTNO,SAMPNO,BTLNBR,DATE,TIME,LATITUDE,LONGITUDE,DEPTH,CTDPRS,CTDTMP,CTDSAL,CTDSAL_FLAG_W,SALNTY,SALNTY_FLAG_W,CTDOXY,CTDOXY_FLAG_W,OXYGEN,OXYGEN_FLAG_W,SILCAT,SILCAT_FLAG_W,NITRAT,NITRAT_FLAG_W,NITRIT,NITRIT_FLAG_W,PHSPHT,PHSPHT_FLAG_W,CFC-11,CFC-11_FLAG_W,CFC-12,CFC-12_FLAG_W,SF6,SF6_FLAG_W,TCARBN,TCARBN_FLAG_W,ALKALI,ALKALI_FLAG_W,FCO2,FCO2_FLAG_W,FCO2TMP,PH_TOT,PH_TOT_FLAG_W,PH_TMP,DOC,DOC_FLAG_W,DELC13,DELC13_FLAG_W,TDN,TDN_FLAG_W,N2O,N2O_FLAG_W,BTL_DATE,BTL_TIME
,,,,,,,,,,METERS,DBAR,ITS-90,PSS-78,,PSS-78,,UMOL/KG,,UMOL/KG,,UMOL/KG,,UMOL/KG,,UMOL/KG,,UMOL/KG,,PMOL/KG,,PMOL/KG,,FMOL/KG,,UMOL/KG,,UMOL/KG,,UATM,,DEG C,,,DEG C,UMOL/KG,,/MILLE,,UMOL/KG,,NMOL/KG,,,
33RO20230306  ,A16N       ,28      ,  2,280224     ,224        ,20230317,1756,   4.4996, -25.7528,     4091,      3.2,  28.8234,  35.4504,2,  35.4646,2,    197.3,2,    205.2,2,     1.10,2,     0.00,2,     0.02,2,     0.06,2,    1.405,2,    0.901,2,   1.6799,2,   1973.5,6,   2321.8,2,    276.6,2,       20,   8.0921,2,       25,    72.62,2,      1.3,6,     4.47,2,      5.9,2,20230317,1934
33RO20230306  ,A16N       ,28      ,  2,280223     ,223        ,20230317,1756,   4.4996, -25.7528,     4091,     14.8,  28.4845,  35.5647,2,  35.5693,2,    198.3,2,    205.7,2,     1.20,2,     0.00,2,     0.02,2,     0.03,2,    1.413,2,    0.903,2,   1.6596,2,   1973.8,2,   2326.5,2,    276.5,2,       20,   8.0942,2,       25,    72.91,2,      1.3,2,     4.34,2,      6.0,2,20230317,1932
33RO20230306  ,A16N       ,28      ,  2,280222     ,222        ,20230317,1756,   4.4996, -25.7528,     4091,     36.2,  26.9016,  35.8950,2,  35.7724,2,    202.8,2,    196.8,2,     1.30,2,     0.00,2,     0.02,2,     0.05,2,    1.632,2,    1.031,2,   1.6637,2,   2023.2,2,   2357.9,3,    337.6,2,       20,   8.0211,2,       25,    68.84,2,      1.2,2,     4.25,2,      9.3,2,20230317,1930
33RO20230306  ,A16N       ,28      ,  2,280221     ,221        ,20230317,1756,   4.4996, -25.7528,     4091,     64.9,  18.2492,  35.8186,2,  35.8118,2,    108.8,2,    107.9,2,     5.00,2,    15.90,2,     0.11,2,     1.08,2,    2.155,2,    1.280,2,   1.3655,2,   2176.7,2,   2343.9,2,    721.7,2,       20,   7.7464,2,       25,    53.00,2,      0.3,2,    16.49,2,     22.4,2,20230317,1928
33RO20230306  ,A16N       ,28      ,  2,280220     ,220        ,20230317,1756,   4.4996, -25.7528,     4091,     89.9,  15.8145,  35.6362,2,  35.6321,2,    102.9,2,    106.3,2,     6.30,2,    19.10,2,     0.04,2,     1.30,2,    2.268,2,    1.303,2,   1.2236,2,   2188.4,2,   2334.6,2,    809.9,2,       20,   7.7010,2,       25,    48.24,2,      0.2,2,    20.55,2,     25.3,2,20230317,1926
33RO20230306  ,A16N       ,28      ,  2,280219     ,219        ,20230317,1756,   4.4996, -25.7528,     4091,    116.3,  14.9182,  35.5369,2,  35.5343,2,    100.9,2,    102.5,2,     7.00,2,    20.50,2,     0.02,2,     1.40,2,    2.320,2,    1.351,2,   1.2243,2,   2192.8,2,   2330.4,2,    859.7,2,       20,   7.6785,2,       25,    47.23,2,      0.2,2,    21.80,2,     25.5,2,20230317,1925
33RO20230306  ,A16N       ,28      ,  2,280218     ,218        ,20230317,1756,   4.4996, -25.7528,     4091,    140.9,  14.5595,  35.4905,2,  35.4853,2,     99.9,2,    104.0,2,     7.20,2,    20.80,2,     0.02,2,     1.40,2,    2.335,2,    1.356,2,   1.2698,2,   2193.7,2,   2328.8,2,    870.5,2,       20,   7.6738,2,       25,    47.87,2,      0.3,2,    21.75,2,     25.5,2,20230317,1923
33RO20230306  ,A16N       ,28      ,  2,280217     ,217        ,20230317,1756,   4.4996, -25.7528,     4091,    210.5,  13.2195,  35.3174,2,  35.3126,2,    111.9,2,    116.1,2,     8.20,2,    21.40,2,     0.02,2,     1.43,2,    2.356,2,    1.337,2,   1.1594,2,   2197.5,2,   2320.0,2,    881.3,2,       20,   7.6664,2,       25,    45.68,2,      0.3,2,    22.18,2,     25.8,2,20230317,1921
33RO20230306  ,A16N       ,28      ,  2,280216     ,216        ,20230317,1756,   4.4996, -25.7528,     4091,    248.8,  12.5686,  35.2307,2,  35.2307,2,    117.8,2,    127.0,2,     8.60,2,    21.20,2,     0.02,2,     1.43,2,    2.392,2,    1.359,2,   1.0857,2,   2185.5,6,   2316.9,2,    874.1,2,       20,   7.6707,2,       25,    47.30,2,      0.5,2,    23.01,2,     25.2,2,20230317,1919
33RO20230306  ,A16N       ,28      ,  2,280215     ,215        ,20230317,1756,   4.4996, -25.7528,     4091,    305.5,  11.6462,  35.1390,2,  35.1341,6,     63.6,2,     66.1,2,    12.10,2,    29.80,2,     0.01,2,     1.91,2,    1.885,2,    1.048,2,   0.6401,2,   2225.9,2,   2307.7,2,   1236.1,6,       20,   7.5353,2,       25,    45.46,2,      0.1,2,    31.28,2,     34.6,2,20230317,1917
33RO20230306  ,A16N       ,28      ,  2,280214     ,214        ,20230317,1756,   4.4996, -25.7528,     4091,    411.0,   9.1040,  34.8494,2,  34.8455,2,     89.3,2,     94.0,2,    15.80,2,    31.70,2,     0.02,2,     2.05,2,    1.631,2,    0.865,2,   0.4231,2,   2220.6,2,   2297.9,2,   1242.7,2,       20,   7.5298,2,       25,    43.74,2,      0.5,2,    32.78,2,     31.9,2,20230317,1914
33RO20230306  ,A16N       ,28      ,  2,280213     ,213        ,20230317,1756,   4.4996, -25.7528,     4091,    550.4,   7.1412,  34.6510,2,  34.6503,2,    111.6,2,    115.7,2,    20.80,2,    33.40,2,     0.01,2,     2.22,2,    1.212,6,    0.637,6,   0.2751,6,   2219.2,2,   2294.1,2,   1251.9,2,       20,   7.5282,2,       25,    40.84,2,      0.6,2,    34.05,2,     28.2,6,20230317,1910
33RO20230306  ,A16N       ,28      ,  2,280212     ,212        ,20230317,1756,   4.4996, -25.7528,     4091,    650.4,   6.1830,  34.5812,2,  34.5845,2,    121.6,2,    125.7,2,    24.50,2,    34.30,2,     0.01,2,     2.30,2,    0.872,2,    0.457,2,   0.2335,3,   2223.0,2,   2293.8,2,   1248.6,2,       20,   7.5285,2,       25,    40.59,2,      0.7,2,    35.47,2,     26.6,2,20230317,1907
33RO20230306  ,A16N       ,28      ,  2,280211     ,211        ,20230317,1756,   4.4996, -25.7528,     4091,    720.5,   5.7334,  34.5588,2,  34.5566,2,    121.6,2,    129.9,2,    26.60,2,    34.80,2,     0.01,2,     2.35,2,    0.667,2,    0.344,2,   0.1980,3,   2219.9,2,   2295.9,2,   1252.3,2,       20,   7.5279,2,       25,    40.16,2,      0.7,2,    35.77,2,     26.4,2,20230317,1905
33RO20230306  ,A16N       ,28      ,  2,280210     ,210        ,20230317,1756,   4.4996, -25.7528,     4091,    875.7,   5.1590,  34.5831,2,  34.5941,2,    129.5,2,    133.3,2,    29.20,2,    34.70,2,     0.01,2,     2.36,2,    0.270,2,    0.136,2,   0.0000,3,   2221.4,2,   2299.6,2,   1235.9,2,       20,   7.5333,2,       25,    40.60,2,      0.5,2,    35.80,2,     26.1,2,20230317,1901
33RO20230306  ,A16N       ,28      ,  2,280209     ,209        ,20230317,1756,   4.4996, -25.7528,     4091,   1002.7,   4.9265,  34.6585,2,  34.6619,2,    137.1,2,    143.3,2,    29.30,2,    33.10,2,     0.01,2,     2.27,2,    0.134,2,    0.073,2,   0.0000,3,   2221.0,2,   2303.0,2,   1173.2,2,       20,   7.5530,2,       25,    40.91,2,      0.6,2,    33.94,2,     24.6,2,20230317,1858
33RO20230306  ,A16N       ,28      ,  2,280208     ,208        ,20230317,1756,   4.4996, -25.7528,     4091,   1201.8,   4.7474,  34.8106,2,  34.8115,2,    157.4,2,    165.2,2,    26.10,2,    29.40,2,     0.01,2,     2.02,2,    0.081,2,    0.044,2,   0.0000,3,   2206.2,2,   2308.0,2,   1038.0,2,       20,   7.6007,2,       25,    40.55,2,      0.7,2,    31.41,2,     21.7,2,20230317,1853
33RO20230306  ,A16N       ,28      ,  2,280207     ,207        ,20230317,1756,   4.4996, -25.7528,     4091,   1505.1,   4.3120,  34.9559,2,  34.9604,2,    209.2,2,    219.9,2,    19.70,2,    22.40,2,     0.01,2,     1.53,2,    0.387,2,    0.200,2,   0.1295,3,   2179.3,2,   2311.5,2,    831.4,2,       20,   7.6854,2,       25,    41.01,2,      0.8,2,    22.45,2,     16.8,2,20230317,1847
33RO20230306  ,A16N       ,28      ,  2,280206     ,206        ,20230317,1756,   4.4996, -25.7528,     4091,   1903.1,   3.7134,  34.9631,2,  34.9746,2,    225.2,2,    238.7,2,    21.20,2,    20.60,2,     0.01,2,     1.42,2,    0.210,2,    0.110,2,   0.0248,2,   2171.4,2,   2313.4,2,    775.9,2,       20,   7.7116,2,       25,    42.71,2,      1.0,2,    21.47,2,     15.3,2,20230317,1839
33RO20230306  ,A16N       ,28      ,  2,280205     ,205        ,20230317,1756,   4.4996, -25.7528,     4091,   2201.1,   3.3664,  34.9527,2,  34.9550,6,    230.1,2,    244.2,2,    24.40,2,    20.30,2,     0.01,2,     1.39,2,    0.201,2,    0.103,2,   0.0000,3,   2169.9,2,   2316.2,2,    763.2,2,       20,   7.7166,2,       25,    40.81,2,      1.0,2,    21.54,2,     16.2,2,20230317,1833
33RO20230306  ,A16N       ,28      ,  2,280204     ,204        ,20230317,1756,   4.4996, -25.7528,     4091,   2703.5,   2.8678,  34.9266,2,  34.9285,2,    228.2,2,    245.2,2,    32.90,2,    20.90,2,     0.01,2,     1.45,2,    0.062,2,    0.033,2,   0.0000,3,   2176.0,2,   2325.8,2,    766.4,2,       20,   7.7194,2,       25,    40.94,2,      0.9,2,    21.46,2,     15.7,2,20230317,1824
33RO20230306  ,A16N       ,28      ,  2,280203     ,203        ,20230317,1756,   4.4996, -25.7528,     4091,   3002.8,   2.6990,  34.9150,2,  34.9219,2,    226.2,2,    244.0,2,    36.70,2,    21.30,2,     0.01,2,     1.47,2,    0.037,2,    0.023,2,   0.0000,3,   2182.3,2,   2331.1,2,    770.4,2,       20,   7.7155,2,       25,    42.52,2,      1.0,2,    21.95,2,     14.6,2,20230317,1817
33RO20230306  ,A16N       ,28      ,  2,280202     ,202        ,20230317,1756,   4.4996, -25.7528,     4091,   3501.5,   2.5237,  34.9009,2,  34.9072,2,    225.1,2,    244.6,2,    40.80,2,    21.50,2,     0.01,2,     1.49,2,    0.056,2,    0.031,2,   0.0000,3,   2196.9,2,   2332.4,2,   -999.0,9,       20,   7.7156,2,       25,    40.92,2,      0.9,2,    21.79,2,     14.9,2,20230317,1807
33RO20230306  ,A16N       ,28      ,  2,280201     ,201        ,20230317,1756,   4.4996, -25.7528,     4091,   4121.4,   2.3531,  34.8841,2,  34.8908,2,    221.3,2,    243.4,2,    46.30,2,    22.00,2,     0.01,2,     1.52,2,    0.081,2,    0.048,2,   0.0000,3,   2197.4,6,   2341.5,2,    782.6,2,       20,   7.7117,2,       25,    42.40,2,      0.9,6,    22.24,2,     15.0,2,20230317,1756
33RO20230306  ,A16N       ,29      ,  1,290124     ,224        ,20230318,0030,   5.0014, -26.0072,     4495,      3.3,  28.6329,  35.5804,2,  35.5797,2,    195.5,2,    201.4,2,     1.40,2,     0.00,2,     0.02,2,     0.05,2,    1.404,2,    0.902,2,   1.6286,2,   1986.7,6,   2327.8,2,    282.1,2,       20,   8.0867,2,       25,    72.84,2,      1.3,2,     4.04,2,      5.9,2,20230318,0217
33RO20230306  ,A16N       ,29      ,  1,290123     ,223        ,20230318,0030,   5.0014, -26.0072,     4495,     24.9,  28.4337,  35.6363,2,  35.6378,6,    197.0,2,    203.8,2,     1.60,2,     0.00,2,     0.01,2,     0.04,2,    1.420,2,    0.938,2,   1.7557,2,   1988.0,2,   2331.8,2,    283.7,2,       20,   8.0880,2,       25,  -999.00,9,      1.2,2,  -999.00,9,      6.0,2,20230318,0214
33RO20230306  ,A16N       ,29      ,  1,290122     ,222        ,20230318,0030,   5.0014, -26.0072,     4495,     54.7,  23.1789,  36.2194,2,  36.2220,2,    174.4,2,    171.0,2,     2.50,2,     1.30,2,     0.10,2,     0.16,2,    1.835,2,    1.113,2,   1.5675,2,   2117.8,2,   2369.2,2,    443.6,2,       20,   7.9330,2,       25,  -999.00,9,      0.7,2,  -999.00,9,     13.3,2,20230318,0211
33RO20230306  ,A16N       ,29      ,  1,290121     ,221        ,20230318,0030,   5.0014, -26.0072,     4495,     79.8,  16.4112,  35.6972,2,  35.6862,2,    105.5,2,    103.4,2,     5.90,2,    18.60,2,     0.11,2,     1.25,2,    2.263,2,    1.316,2,   1.3411,2,   2189.9,2,   2335.3,2,    800.0,2,       20,   7.7071,2,       25,  -999.00,9,      0.3,2,  -999.00,9,     24.3,2,20230318,0209
33RO20230306  ,A16N       ,29      ,  1,290120     ,220        ,20230318,0030,   5.0014, -26.0072,     4495,    105.5,  14.8184,  35.5233,2,  35.5223,2,     98.8,2,    103.1,2,     7.00,2,    20.60,2,     0.02,2,     1.38,2,    2.328,2,    1.365,2,   1.2540,2,   2194.5,2,   2327.2,2,    862.8,2,       20,   7.6773,2,       25,  -999.00,9,      0.3,2,  -999.00,9,     25.5,2,20230318,0207
33RO20230306  ,A16N       ,29      ,  1,290119     ,219        ,20230318,0030,   5.0014, -26.0072,     4495,    131.9,  14.2583,  35.4527,2,  35.4632,2,    104.7,2,    109.3,2,     7.30,2,    20.70,2,     0.02,2,     1.39,2,    2.342,2,    1.355,2,   1.2311,2,   2193.0,2,   2324.8,2,    863.2,2,       20,   7.6781,2,       25,  -999.00,9,      0.3,2,  -999.00,9,     25.5,2,20230318,0205
33RO20230306  ,A16N       ,29      ,  1,290118     ,218        ,20230318,0030,   5.0014, -26.0072,     4495,    191.7,  13.0223,  35.2929,2,  35.2940,2,    108.7,2,    114.2,2,     8.50,2,    21.80,2,     0.02,2,     1.46,2,    2.352,2,    1.325,2,   1.0469,2,   2194.1,2,   2317.5,2,    902.5,2,       20,   7.6591,2,       25,  -999.00,9,      0.4,2,  -999.00,9,     27.1,2,20230318,0203
33RO20230306  ,A16N       ,29      ,  1,290117     ,217        ,20230318,0030,   5.0014, -26.0072,     4495,    258.9,  11.6757,  35.1205,2,  35.1286,2,    118.2,2,    123.0,2,     9.90,2,    23.20,2,     0.01,2,     1.54,2,    2.345,2,    1.309,2,   1.0270,2,   2191.8,2,   2307.5,2,    936.9,2,       20,   7.6439,2,       25,  -999.00,9,      0.5,2,  -999.00,9,     27.0,2,20230318,0200
33RO20230306  ,A16N       ,29      ,  1,290116     ,216        ,20230318,0030,   5.0014, -26.0072,     4495,    359.3,   9.4081,  34.9040,2,  34.9032,2,     74.4,2,     80.0,2,    15.50,2,    32.60,2,     0.02,2,     2.07,2,    1.529,2,    0.812,2,   0.4731,2,   2229.7,2,   2298.1,2,   1313.6,2,       20,   7.5113,2,       25,  -999.00,9,      0.4,6,  -999.00,9,     34.4,2,20230318,0158
33RO20230306  ,A16N       ,29      ,  1,290115     ,215        ,20230318,0030,   5.0014, -26.0072,     4495,    441.0,   8.0716,  34.7403,2,  34.7409,2,     96.8,2,    101.2,2,    18.40,2,    33.10,2,     0.01,2,     2.14,2,    1.395,2,    0.734,2,   0.3841,2,   2224.8,6,   2296.6,2,   1279.6,2,       20,   7.5204,2,       25,  -999.00,9,      0.5,2,  -999.00,9,     30.7,2,20230318,0155
33RO20230306  ,A16N       ,29      ,  1,290114     ,214        ,20230318,0030,   5.0014, -26.0072,     4495,    572.0,   6.9344,  34.6413,2,  34.6433,2,    105.6,2,    112.1,2,    21.80,2,    34.30,2,     0.01,2,     2.25,2,    1.034,2,    0.542,2,   0.2414,2,   2222.4,2,   2294.0,2,   1284.4,2,       20,   7.5185,2,       25,  -999.00,9,      0.6,2,  -999.00,9,     28.4,2,20230318,0151
33RO20230306  ,A16N       ,29      ,  1,290113     ,213        ,20230318,0030,   5.0014, -26.0072,     4495,    674.8,   5.9071,  34.5687,2,  34.5837,2,    119.8,2,    125.9,2,    25.70,2,    34.90,2,     0.01,2,     2.32,2,    0.689,2,    0.353,2,   0.1128,2,   2222.9,2,   2296.3,2,   1280.9,2,       20,   7.5242,2,       25,  -999.00,9,      0.6,2,  -999.00,9,     26.4,2,20230318,0149
33RO20230306  ,A16N       ,29      ,  1,290112     ,212        ,20230318,0030,   5.0014, -26.0072,     4495,    851.4,   5.3762,  34.6021,2,  34.6059,2,    124.7,2,    123.4,2,    28.50,2,    35.40,2,     0.01,2,     2.39,2,    0.219,2,    0.114,2,   0.0833,3,   2227.0,2,   2298.7,2,   1285.5,2,       20,   7.5181,2,       25,  -999.00,9,      0.6,2,  -999.00,9,     26.5,2,20230318,0144
33RO20230306  ,A16N       ,29      ,  1,290111     ,211        ,20230318,0030,   5.0014, -26.0072,     4495,    974.7,   5.0192,  34.6390,2,  34.6415,2,    131.1,2,    133.8,2,    29.40,2,    34.00,2,     0.01,2,     2.30,2,    0.138,2,    0.075,2,   0.0087,2,   2222.1,2,   2303.3,2,   1202.7,2,       20,   7.5420,2,       25,  -999.00,9,      0.6,2,  -999.00,9,     25.1,2,20230318,0141
33RO20230306  ,A16N       ,29      ,  1,290110     ,210        ,20230318,0030,   5.0014, -26.0072,     4495,   1147.8,   4.7975,  34.7776,2,  34.7942,2,    149.2,2,    157.5,2,    28.10,2,    30.50,2,     0.02,2,     2.08,2,    0.061,2,    0.035,2,   0.2309,3,   2211.9,2,   2305.9,2,   1076.5,2,       20,   7.5862,2,       25,  -999.00,9,      0.7,2,  -999.00,9,     22.3,2,20230318,0137
33RO20230306  ,A16N       ,29      ,  1,290109     ,209        ,20230318,0030,   5.0014, -26.0072,     4495,   1398.4,   4.5788,  34.9221,2,  34.9266,2,    188.6,2,    188.3,2,    21.50,2,    24.60,2,     0.01,2,     1.68,2,    0.297,2,    0.155,2,   0.1234,3,   2189.4,2,   2308.8,2,    891.2,2,       20,   7.6588,2,       25,  -999.00,9,      0.8,2,  -999.00,9,     18.0,2,20230318,0131
33RO20230306  ,A16N       ,29      ,  1,290108     ,208        ,20230318,0030,   5.0014, -26.0072,     4495,   1752.9,   3.9539,  34.9688,2,  34.9768,6,    223.2,2,    239.2,2,    19.20,2,    20.70,2,     0.01,2,     1.42,2,    0.428,6,    0.220,6,   0.1544,3,   2169.9,2,   2312.7,2,    784.4,6,       20,   7.7086,2,       25,  -999.00,9,      1.0,2,  -999.00,9,     15.2,6,20230318,0125
33RO20230306  ,A16N       ,29      ,  1,290107     ,207        ,20230318,0030,   5.0014, -26.0072,     4495,   2101.0,   3.4969,  34.9591,2,  34.9611,2,    231.1,2,    248.8,2,    22.10,2,    19.90,2,     0.01,2,     1.36,2,    0.382,2,    0.193,2,   0.0798,3,   2169.7,2,   2315.1,2,    761.0,2,       20,   7.7186,2,       25,  -999.00,9,      1.0,2,  -999.00,9,     14.1,2,20230318,0118
33RO20230306  ,A16N       ,29      ,  1,290106     ,206        ,20230318,0030,   5.0014, -26.0072,     4495,   2602.6,   2.9112,  34.9293,2,  34.9308,2,    228.8,2,    245.7,2,    31.90,2,    20.90,2,     0.01,2,     1.43,2,    0.076,2,    0.044,2,   0.0000,3,   2176.0,2,   2324.8,2,    764.3,2,       20,   7.7186,2,       25,  -999.00,9,      1.0,2,  -999.00,9,     14.2,2,20230318,0109
33RO20230306  ,A16N       ,29      ,  1,290105     ,205        ,20230318,0030,   5.0014, -26.0072,     4495,   2902.1,   2.7243,  34.9172,2,  34.9189,2,    227.4,2,    242.8,2,    35.90,2,    21.20,2,     0.01,2,     1.45,2,    0.053,2,    0.029,2,   0.0000,3,   2182.3,2,   2328.9,2,    769.4,2,       20,   7.7177,2,       25,  -999.00,9,      0.9,2,  -999.00,9,     14.2,2,20230318,0103
33RO20230306  ,A16N       ,29      ,  1,290104     ,204        ,20230318,0030,   5.0014, -26.0072,     4495,   3401.2,   2.5201,  34.9016,2,  34.9099,2,    226.4,2,    245.7,2,    40.30,2,    21.40,2,     0.01,2,     1.47,2,    0.072,2,    0.040,2,   0.0414,3,   2181.5,2,   2333.9,2,    772.1,2,       20,   7.7203,2,       25,  -999.00,9,      0.9,2,  -999.00,9,     14.4,2,20230318,0052
33RO20230306  ,A16N       ,29      ,  1,290103     ,203        ,20230318,0030,   5.0014, -26.0072,     4495,   3803.2,   2.3649,  34.8884,2,  34.8892,2,    224.5,2,    246.1,2,    44.50,2,    21.80,2,     0.01,2,     1.50,2,    0.082,2,    0.045,2,   0.0000,3,   2192.2,2,   2339.0,2,   -999.0,9,       20,   7.7117,2,       25,  -999.00,9,      1.0,2,  -999.00,9,     14.4,2,20230318,0044
33RO20230306  ,A16N       ,29      ,  1,290102     ,202        ,20230318,0030,   5.0014, -26.0072,     4495,   4202.8,   2.3670,  34.8848,2,  34.8889,2,    222.6,2,    245.1,2,    45.70,2,    21.90,2,     0.01,2,     1.50,2,    0.088,2,    0.052,2,   0.0000,3,   2196.8,6,   2341.8,2,    780.9,2,       20,   7.7135,2,       25,  -999.00,9,      0.9,2,  -999.00,9,     14.6,2,20230318,0036
33RO20230306  ,A16N       ,29      ,  1,290101     ,201        ,20230318,0030,   5.0014, -26.0072,     4495,   4545.3,   2.3827,  34.8813,2,  34.8830,2,    218.6,2,    242.1,2,    47.70,2,    22.30,2,     0.01,2,     1.53,2,    0.076,2,    0.042,2,   0.0016,2,   2202.0,2,   2344.9,2,    785.0,2,       20,   7.7101,2,       25,  -999.00,9,      0.9,6,  -999.00,9,     15.1,2,20230318,0030