BOTTLE,20240601CCHHYDRO
EXPOCODE,SECT_ID,STNNBR,CASTNO,SAMPNO,BTLNBR,DATE,TIME,LATITUDE,LONGITUDE,DEPTH,CTDPRS,CTDTMP,CTDSAL,CTDSAL_FLAG_W,SALNTY,SALNTY_FLAG_W,CTDOXY,CTDOXY_FLAG_W,OXYGEN,OXYGEN_FLAG_W,SILCAT,SILCAT_FLAG_W,NITRAT,NITRAT_FLAG_W,NITRIT,NITRIT_FLAG_W,PHSPHT,PHSPHT_FLAG_W,CFC-11,CFC-11_FLAG_W,CFC-12,CFC-12_FLAG_W,SF6,SF6_FLAG_W,TCARBN,TCARBN_FLAG_W,ALKALI,ALKALI_FLAG_W,FCO2,FCO2_FLAG_W,FCO2TMP,PH_TOT,PH_TOT_FLAG_W,PH_TMP,DOC,DOC_FLAG_W,DELC13,DELC13_FLAG_W,TDN,TDN_FLAG_W,N2O,N2O_FLAG_W,BTL_DATE,BTL_TIME
,,,,,,,,,,METERS,DBAR,ITS-90,PSS-78,,PSS-78,,UMOL/KG,,UMOL/KG,,UMOL/KG,,UMOL/KG,,UMOL/KG,,UMOL/KG,,PMOL/KG,,PMOL/KG,,FMOL/KG,,UMOL/KG,,UMOL/KG,,UATM,,DEG C,,,DEG C,UMOL/KG,,/MILLE,,UMOL/KG,,NMOL/KG,,,
33RO20230306  ,A16N       ,10      ,  1,100124     ,124        ,20230312,0929,  -1.9958, -24.9977,     4947,      4.1,  28.3327,  35.6517,2,  35.6553,2,    176.5,2,    200.0,2,     1.10,2,     0.00,2,     0.02,2,     0.13,2,    1.406,2,    0.917,2,   1.9463,2,   2019.5,6,   2332.7,2,    312.2,2,       20,   8.0512,2,       25,    70.06,2,      1.3,2,     4.33,2,      5.9,2,20230312,1126
33RO20230306  ,A16N       ,10      ,  1,100123     ,123        ,20230312,0929,  -1.9958, -24.9977,     4947,     12.1,  28.2765,  35.7400,2,  35.7241,2,    192.1,2,    200.0,2,     1.20,2,     0.00,2,     0.02,2,     0.12,2,    1.415,2,    0.909,2,   1.9512,2,   2023.7,2,   2335.5,2,    313.0,2,       20,   8.0535,2,       25,  -999.00,9,      1.2,2,  -999.00,9,      5.9,2,20230312,1124
33RO20230306  ,A16N       ,10      ,  1,100122     ,122        ,20230312,0929,  -1.9958, -24.9977,     4947,     25.3,  28.1718,  35.7825,2,  35.8404,6,    193.7,2,    201.7,2,     1.10,2,     0.00,2,     0.02,2,     0.13,2,    1.447,2,    0.933,2,   1.8110,2,   2034.3,2,   2347.1,2,    323.0,6,       20,   8.0433,2,       25,  -999.00,9,      1.2,2,  -999.00,9,      6.2,2,20230312,1122
33RO20230306  ,A16N       ,10      ,  1,100121     ,121        ,20230312,0929,  -1.9958, -24.9977,     4947,     51.4,  22.4863,  36.0595,2,  36.0626,2,    163.2,2,    165.1,2,     2.50,2,     2.90,2,     0.27,2,     0.55,2,    1.831,2,    1.132,2,   1.5671,2,   2127.1,2,   2362.8,2,    478.0,2,       20,   7.9022,2,       25,  -999.00,9,      0.7,2,  -999.00,9,     14.2,2,20230312,1120
33RO20230306  ,A16N       ,10      ,  1,100120     ,120        ,20230312,0929,  -1.9958, -24.9977,     4947,     83.1,  14.4231,  35.4542,2,  35.4370,2,    122.1,2,    143.3,2,     6.20,2,    16.50,2,     0.07,2,     1.22,2,    2.425,2,    1.432,2,   1.5923,2,   2174.6,2,   2323.8,2,    736.7,2,       20,   7.7362,2,       25,  -999.00,9,      0.5,2,  -999.00,9,     21.3,2,20230312,1117
33RO20230306  ,A16N       ,10      ,  1,100119     ,119        ,20230312,0929,  -1.9958, -24.9977,     4947,    119.3,  13.7975,  35.3746,2,  35.3747,2,    131.0,2,    132.9,2,     7.30,2,    18.50,2,     0.02,2,     1.31,2,    2.377,2,    1.382,2,   1.2207,2,   2181.6,2,   2323.0,2,    791.7,2,       20,   7.7089,2,       25,  -999.00,9,      0.5,2,  -999.00,9,     22.7,2,20230312,1115
33RO20230306  ,A16N       ,10      ,  1,100118     ,118        ,20230312,0929,  -1.9958, -24.9977,     4947,    178.8,  13.5927,  35.3484,2,  35.3765,2,    119.9,2,    123.2,2,     7.80,2,    20.10,2,     0.02,2,     1.40,2,    2.353,2,    1.365,2,   1.1488,2,   2189.2,2,   2319.8,2,    840.0,2,       20,   7.6868,2,       25,  -999.00,9,      0.4,2,  -999.00,9,     24.4,2,20230312,1113
33RO20230306  ,A16N       ,10      ,  1,100117     ,117        ,20230312,0929,  -1.9958, -24.9977,     4947,    272.7,  12.8765,  35.2579,2,  35.2569,2,     94.0,2,     95.7,2,     9.50,2,    24.50,2,     0.01,2,     1.64,2,    2.246,6,    1.287,6,   0.9816,6,   2210.0,2,   2312.8,2,   1006.0,2,       20,   7.6167,2,       25,  -999.00,9,      0.3,2,  -999.00,9,     29.4,6,20230312,1110
33RO20230306  ,A16N       ,10      ,  1,100116     ,116        ,20230312,0929,  -1.9958, -24.9977,     4947,    371.9,   9.4884,  34.8534,2,  34.8625,2,     79.0,2,     84.9,2,    15.10,2,    32.00,2,     0.02,2,     2.09,2,    1.763,2,    0.958,2,   0.5091,2,   2229.7,6,   2294.6,2,   1285.9,2,       20,   7.5155,2,       25,  -999.00,9,      0.3,6,  -999.00,9,     33.2,2,20230312,1107
33RO20230306  ,A16N       ,10      ,  1,100115     ,115        ,20230312,0929,  -1.9958, -24.9977,     4947,    492.5,   7.3363,  34.6160,2,  34.6174,2,    131.9,2,    142.2,2,    19.10,2,    30.50,2,     0.01,2,     2.06,2,    1.932,2,    1.020,2,   0.5841,3,   2210.6,2,   2289.6,2,   1119.3,2,       20,   7.5708,2,       25,  -999.00,9,      0.6,2,  -999.00,9,     24.6,2,20230312,1104
33RO20230306  ,A16N       ,10      ,  1,100114     ,114        ,20230312,0929,  -1.9958, -24.9977,     4947,    621.4,   5.9095,  34.5171,2,  34.5196,2,    141.3,2,    144.8,2,    25.10,2,    33.10,2,     0.01,2,     2.27,2,    1.259,2,    0.652,2,   0.2990,2,   2217.0,2,   2290.8,2,   1177.9,2,       20,   7.5500,2,       25,  -999.00,9,      0.7,2,  -999.00,9,     23.8,2,20230312,1100
33RO20230306  ,A16N       ,10      ,  1,100113     ,113        ,20230312,0929,  -1.9958, -24.9977,     4947,    770.7,   5.1458,  34.5032,2,  34.5060,2,    139.4,2,    146.6,2,    29.70,2,    34.30,2,     0.01,2,     2.35,2,    0.698,2,    0.358,2,   0.1851,2,   2221.6,2,   2295.0,2,   1202.9,2,       20,   7.5438,2,       25,  -999.00,9,      0.7,2,  -999.00,9,     23.5,2,20230312,1057
33RO20230306  ,A16N       ,10      ,  1,100112     ,112        ,20230312,0929,  -1.9958, -24.9977,     4947,    941.0,   4.5001,  34.5538,2,  34.5567,2,    144.5,2,    152.2,2,    33.40,2,    33.80,2,     0.02,2,     2.34,2,    0.228,2,    0.120,2,   0.1352,2,   2222.9,2,   2299.6,2,   1176.3,2,       20,   7.5518,2,       25,  -999.00,9,      0.8,2,  -999.00,9,     22.5,2,20230312,1052
33RO20230306  ,A16N       ,10      ,  1,100111     ,111        ,20230312,0929,  -1.9958, -24.9977,     4947,   1103.5,   4.5603,  34.7444,2,  34.7497,2,    162.3,2,    171.5,2,    28.50,2,    29.70,2,     0.01,2,     2.05,2,    0.199,2,    0.104,2,   0.0885,2,   2212.0,2,   2305.9,2,   1033.8,2,       20,   7.6020,2,       25,  -999.00,9,      0.8,2,  -999.00,9,     20.1,2,20230312,1048
33RO20230306  ,A16N       ,10      ,  1,100110     ,110        ,20230312,0929,  -1.9958, -24.9977,     4947,   1251.2,   4.5777,  34.8962,2,  34.9114,2,    188.6,2,    200.1,2,    22.40,2,    24.80,2,     0.01,2,     1.72,2,    0.452,2,    0.238,2,   0.3225,3,   2193.2,2,   2307.8,2,    899.5,2,       20,   7.6566,2,       25,  -999.00,9,      0.9,2,  -999.00,9,     17.4,2,20230312,1044
33RO20230306  ,A16N       ,10      ,  1,100109     ,109        ,20230312,0929,  -1.9958, -24.9977,     4947,   1410.9,   4.4960,  34.9332,2,  34.9370,2,    200.0,2,    214.1,2,    20.40,2,    23.00,2,     0.01,2,     1.59,2,    0.584,2,    0.302,2,   0.2635,2,   2188.6,2,   2308.7,2,    855.2,2,       20,   7.6751,2,       25,  -999.00,9,      0.9,2,  -999.00,9,     16.3,2,20230312,1040
33RO20230306  ,A16N       ,10      ,  1,100108     ,108        ,20230312,0929,  -1.9958, -24.9977,     4947,   1651.2,   4.0041,  34.9703,2,  34.9699,6,    226.5,2,    242.8,2,    18.20,2,    19.90,2,     0.02,2,     1.39,2,    0.812,2,    0.411,2,   0.4196,2,   2173.1,2,   2309.1,2,    779.0,2,       20,   7.7123,2,       25,  -999.00,9,      0.9,2,  -999.00,9,     14.1,2,20230312,1035
33RO20230306  ,A16N       ,10      ,  1,100107     ,107        ,20230312,0929,  -1.9958, -24.9977,     4947,   2001.4,   3.5019,  34.9597,2,  34.9695,2,    237.5,2,    254.7,2,    19.80,2,    18.90,2,     0.01,2,     1.33,2,    0.824,2,    0.410,2,   0.1224,2,   2168.8,2,   2310.5,2,    752.1,2,       20,   7.7230,2,       25,  -999.00,9,      1.0,2,  -999.00,9,     13.4,2,20230312,1027
33RO20230306  ,A16N       ,10      ,  1,100106     ,106        ,20230312,0929,  -1.9958, -24.9977,     4947,   2450.6,   3.0775,  34.9337,2,  34.9390,2,    230.6,2,    248.8,2,    29.10,2,    20.30,2,     0.01,2,     1.42,2,    0.279,2,    0.142,2,   0.0000,3,   2178.7,2,   2319.8,2,    762.2,2,       20,   7.7213,2,       25,  -999.00,9,      1.0,2,  -999.00,9,     13.7,2,20230312,1018
33RO20230306  ,A16N       ,10      ,  1,100105     ,105        ,20230312,0929,  -1.9958, -24.9977,     4947,   2950.4,   2.6794,  34.9053,2,  34.9099,2,    224.1,2,    243.4,2,    39.50,2,    21.70,2,     0.01,2,     1.52,2,    0.072,2,    0.044,2,   0.1037,3,   2188.8,2,   2328.6,2,   -999.0,9,       20,   7.7168,2,       25,  -999.00,9,      1.1,2,  -999.00,9,     14.0,2,20230312,1009
33RO20230306  ,A16N       ,10      ,  1,100104     ,104        ,20230312,0929,  -1.9958, -24.9977,     4947,   3450.5,   2.5051,  34.9013,2,  34.9070,2,    231.1,2,    253.9,2,    36.10,2,    20.40,2,     0.01,2,     1.44,2,    0.262,2,    0.137,2,   0.0352,3,   2181.7,2,   2325.0,2,    759.9,2,       20,   7.7251,2,       25,  -999.00,9,      1.1,2,  -999.00,9,     13.6,2,20230312,0959
33RO20230306  ,A16N       ,10      ,  1,100103     ,103        ,20230312,0929,  -1.9958, -24.9977,     4947,   3950.8,   2.1345,  34.8673,2,  34.8684,2,    232.0,2,    257.8,2,    45.30,2,    21.00,2,     0.02,2,     1.50,2,    0.472,2,    0.243,2,   0.0992,3,   2191.5,2,   2329.4,2,    784.9,2,       20,   7.7086,2,       25,  -999.00,9,      0.9,2,  -999.00,9,     13.9,2,20230312,0949
33RO20230306  ,A16N       ,10      ,  1,100102     ,102        ,20230312,0929,  -1.9958, -24.9977,     4947,   4451.2,   0.9982,  34.7399,2,  34.7438,2,    204.6,2,    227.8,2,   101.60,2,    29.20,2,     0.01,2,     2.07,2,    0.152,2,    0.076,2,   0.0000,3,   2247.7,2,   2361.1,2,    950.7,2,       20,   7.6439,2,       25,  -999.00,9,      0.5,2,  -999.00,9,     16.6,2,20230312,0939
33RO20230306  ,A16N       ,10      ,  1,100101     ,101        ,20230312,0929,  -1.9958, -24.9977,     4947,   5016.6,   0.7912,  34.7101,2,  34.7160,2,    197.7,2,    222.3,2,   113.40,2,    30.90,2,     0.01,2,     2.18,2,    0.180,2,    0.090,2,   0.0678,2,   2260.5,6,   2365.7,2,    991.0,2,       20,   7.6254,2,       25,  -999.00,9,      0.5,6,  -999.00,9,     17.1,2,20230312,0929
33RO20230306  ,A16N       ,11      ,  2,110224     ,124        ,20230312,1649,  -1.6667, -24.9969,     4905,      3.1,  28.6194,  35.7706,2,  35.7733,2,    191.3,2,    200.0,2,     1.10,2,     0.00,2,     0.02,2,     0.05,2,    1.391,2,    0.914,2,   2.0621,2,   2019.9,6,   2338.6,2,    312.4,2,       20,   8.0527,2,       25,    69.73,2,      1.2,6,     4.41,2,      5.7,2,20230312,1839
33RO20230306  ,A16N       ,11      ,  2,110223     ,123        ,20230312,1649,  -1.6667, -24.9969,     4905,     18.4,  28.4982,  35.7844,2,  35.7922,2,    191.7,2,    200.4,2,     1.20,2,     0.00,2,     0.02,2,     0.07,2,    1.397,2,    0.914,2,   1.6627,2,   2019.7,2,   2339.4,2,    314.2,2,       20,   8.0579,2,       25,    72.32,2,      1.2,2,     3.39,2,      5.8,2,20230312,1837
33RO20230306  ,A16N       ,11      ,  2,110222     ,122        ,20230312,1649,  -1.6667, -24.9969,     4905,     42.7,  26.7455,  36.1679,2,  36.1552,2,    200.1,2,    202.4,2,     1.40,2,     0.00,2,     0.02,2,     0.14,2,    1.556,2,    0.998,2,   1.7944,2,   2063.2,2,   2366.1,2,    354.7,2,       20,   8.0141,2,       25,    71.16,2,      1.2,2,     4.14,2,      7.3,2,20230312,1835
33RO20230306  ,A16N       ,11      ,  2,110221     ,121        ,20230312,1649,  -1.6667, -24.9969,     4905,     76.3,  18.1054,  35.8584,2,  35.8288,2,    132.2,2,    125.4,2,     4.60,2,    13.60,2,     0.20,2,     1.04,2,    2.142,2,    1.292,2,   1.4834,2,   2178.5,2,   2346.2,2,    680.4,2,       20,   7.7690,2,       25,    56.13,2,      0.4,2,    14.97,2,     20.1,2,20230312,1834
33RO20230306  ,A16N       ,11      ,  2,110220     ,120        ,20230312,1649,  -1.6667, -24.9969,     4905,    112.3,  13.8583,  35.3823,2,  35.3830,2,    142.1,2,    130.5,2,     7.20,2,    17.90,2,     0.02,2,     1.26,2,    2.373,2,    1.378,2,   1.3297,2,   2177.9,2,   2322.7,2,    780.6,2,       20,   7.7137,2,       25,    50.82,2,      0.5,2,    23.42,2,     21.9,2,20230312,1832
33RO20230306  ,A16N       ,11      ,  2,110219     ,119        ,20230312,1649,  -1.6667, -24.9969,     4905,    176.7,  13.6756,  35.3583,2,  35.4021,2,    121.0,2,    124.0,2,     7.80,2,    19.60,2,     0.02,2,     1.35,2,    2.329,2,    1.345,2,   1.6203,2,   2183.7,2,   2320.0,2,    835.8,2,       20,   7.6889,2,       25,    48.96,2,      0.5,2,    22.91,2,     23.5,2,20230312,1829
33RO20230306  ,A16N       ,11      ,  2,110218     ,118        ,20230312,1649,  -1.6667, -24.9969,     4905,    262.0,  12.5374,  35.2189,2,  35.2439,2,     89.3,2,     90.6,2,    10.00,2,    25.10,2,     0.02,2,     1.66,2,    2.192,2,    1.235,2,   0.9667,2,   2211.1,2,   2311.4,2,   1043.4,2,       20,   7.6032,2,       25,    48.75,2,      0.2,2,    23.26,2,     29.9,2,20230312,1827
33RO20230306  ,A16N       ,11      ,  2,110217     ,117        ,20230312,1649,  -1.6667, -24.9969,     4905,    328.0,  10.3843,  34.9586,2,  34.9560,2,     78.1,2,     81.3,2,    13.50,2,    30.30,2,     0.02,2,     1.95,2,    1.899,2,    1.034,2,   0.7478,2,   2224.9,2,   2299.6,2,   1246.0,2,       20,   7.5304,2,       25,    43.60,2,      0.2,2,    30.76,2,     33.2,2,20230312,1825
33RO20230306  ,A16N       ,11      ,  2,110216     ,116        ,20230312,1649,  -1.6667, -24.9969,     4905,    476.6,   7.6453,  34.6602,2,  34.6576,6,    118.2,2,    125.6,2,    18.80,2,    31.20,2,     0.01,2,     2.08,2,    1.744,2,    0.905,2,   0.4539,2,   2212.6,2,   2290.8,2,   1180.9,2,       20,   7.5508,2,       25,    43.85,2,      0.6,2,    34.18,2,     26.3,2,20230312,1821
33RO20230306  ,A16N       ,11      ,  2,110215     ,115        ,20230312,1649,  -1.6667, -24.9969,     4905,    549.8,   7.2376,  34.6187,2,  34.6233,2,    123.2,2,    131.0,2,    20.20,2,    31.70,2,     0.02,2,     2.11,2,    1.642,2,    0.848,2,   0.4888,2,   2209.5,2,   2290.1,2,   1180.9,2,       20,   7.5503,2,       25,    43.13,2,      0.6,2,    32.36,2,     25.5,2,20230312,1819
33RO20230306  ,A16N       ,11      ,  2,110214     ,114        ,20230312,1649,  -1.6667, -24.9969,     4905,    720.9,   5.2850,  34.5005,2,  34.5170,2,    138.8,2,    145.5,2,    28.70,2,    33.90,2,     0.01,2,     2.33,2,    0.805,2,    0.410,2,   0.2266,2,   2218.0,2,   2294.6,2,   1201.3,2,       20,   7.5429,2,       25,    41.28,2,      0.7,2,    35.10,2,     23.5,2,20230312,1815
33RO20230306  ,A16N       ,11      ,  2,110213     ,113        ,20230312,1649,  -1.6667, -24.9969,     4905,    874.5,   4.8194,  34.5175,2,  34.5528,2,    143.1,2,    150.9,2,    31.40,2,    33.80,2,     0.01,2,     2.32,2,    0.510,2,    0.258,2,   0.1901,2,   2219.1,2,   2296.2,2,   1179.6,2,       20,   7.5506,2,       25,    40.45,3,      0.8,2,    35.21,2,     22.9,2,20230312,1811
33RO20230306  ,A16N       ,11      ,  2,110212     ,112        ,20230312,1649,  -1.6667, -24.9969,     4905,   1001.5,   4.4835,  34.5634,2,  34.5581,2,    150.8,2,    159.3,2,    33.00,2,    32.80,2,     0.01,2,     2.27,2,    0.329,2,    0.163,2,   0.0431,2,   2211.8,2,   2300.2,2,   1133.0,2,       20,   7.5638,2,       25,    40.28,3,      0.7,2,    33.06,2,     22.2,2,20230312,1808
33RO20230306  ,A16N       ,11      ,  2,110211     ,111        ,20230312,1649,  -1.6667, -24.9969,     4905,   1176.2,   4.6094,  34.8497,2,  34.8678,2,    177.2,2,    187.5,2,    24.30,2,    26.40,2,     0.02,2,     1.82,2,    0.299,2,    0.156,2,   0.1270,2,   2196.1,2,   2308.2,2,    945.1,2,       20,   7.6349,2,       25,    41.56,2,      0.8,2,    27.15,2,     18.5,2,20230312,1804
33RO20230306  ,A16N       ,11      ,  2,110210     ,110        ,20230312,1649,  -1.6667, -24.9969,     4905,   1499.3,   4.4397,  34.9525,2,  34.9581,2,    208.4,2,    221.8,2,    19.10,2,    21.80,2,     0.02,2,     1.52,2,    0.732,2,    0.374,2,   0.2333,2,   2174.7,2,   2308.2,2,    828.8,2,       20,   7.6850,2,       25,    45.70,3,      0.9,2,    20.37,2,     15.5,2,20230312,1757
33RO20230306  ,A16N       ,11      ,  2,110209     ,109        ,20230312,1649,  -1.6667, -24.9969,     4905,   1750.0,   3.9160,  34.9727,2,  34.9783,6,    231.7,2,    248.3,2,    17.50,2,    19.00,2,     0.02,2,     1.32,2,    0.986,2,    0.499,2,   0.4009,2,     -999,9,     -999,9,    768.1,2,       20,     -999,9,       25,    43.71,3,      1.0,2,    14.50,3,     13.8,2,20230312,1752
33RO20230306  ,A16N       ,11      ,  2,110208     ,108        ,20230312,1649,  -1.6667, -24.9969,     4905,   2199.7,   3.3161,  34.9505,2,  34.9559,2,    235.8,2,    253.4,2,    22.70,2,    19.00,2,     0.02,2,     1.33,2,    0.556,2,    0.285,2,   0.1281,2,   2167.9,2,   2313.2,2,    752.7,2,       20,   7.7241,2,       25,    44.51,3,      1.0,2,    16.12,2,     13.4,2,20230312,1743
33RO20230306  ,A16N       ,11      ,  2,110207     ,107        ,20230312,1649,  -1.6667, -24.9969,     4905,   2599.5,   2.9114,  34.9229,2,  34.9361,2,    227.4,2,    245.1,2,    33.20,2,    20.60,2,     0.01,2,     1.44,2,    0.156,2,    0.081,2,   0.0000,3,     -999,9,     -999,9,    768.2,2,       20,     -999,9,       25,    43.44,3,      1.0,2,    16.12,2,     13.6,2,20230312,1735
33RO20230306  ,A16N       ,11      ,  2,110206     ,106        ,20230312,1649,  -1.6667, -24.9969,     4905,   3000.8,   2.6673,  34.9062,2,  34.9044,2,    225.1,2,    245.3,2,    38.60,2,    21.10,2,     0.02,2,     1.47,2,    0.093,2,    0.051,2,   0.0000,3,   2184.3,2,   2326.1,2,    774.4,2,       20,   7.7145,2,       25,    40.58,2,      1.0,2,    16.21,2,     13.9,2,20230312,1727
33RO20230306  ,A16N       ,11      ,  2,110205     ,105        ,20230312,1649,  -1.6667, -24.9969,     4905,   3301.7,   2.5436,  34.9023,2,  34.9085,2,    228.9,2,    251.5,2,    37.00,2,    20.40,2,     0.02,2,     1.43,2,    0.212,2,    0.112,2,   0.0729,3,     -999,9,     -999,9,    763.3,2,       20,     -999,9,       25,    40.85,2,      1.0,2,    16.61,2,     13.6,2,20230312,1721
33RO20230306  ,A16N       ,11      ,  2,110204     ,104        ,20230312,1649,  -1.6667, -24.9969,     4905,   3802.1,   2.3388,  34.8900,2,  34.8958,2,    236.0,2,    259.6,2,    35.30,2,    19.30,2,     0.02,2,     1.39,2,    0.590,2,    0.306,2,   0.1776,3,   2177.1,2,   2322.3,2,    761.6,2,       20,   7.7247,2,       25,    41.31,2,      1.0,2,    16.10,2,     13.5,2,20230312,1712
33RO20230306  ,A16N       ,11      ,  2,110203     ,103        ,20230312,1649,  -1.6667, -24.9969,     4905,   4201.2,   1.4940,  34.7956,2,  34.8260,2,    215.9,2,    238.1,2,    77.50,2,    25.60,2,     0.02,2,     1.80,2,    0.229,6,    0.122,6,   0.0000,3,     -999,9,     -999,9,   -999.0,9,       20,     -999,9,       25,    41.25,2,      0.8,2,    18.15,2,     15.6,6,20230312,1704
33RO20230306  ,A16N       ,11      ,  2,110202     ,102        ,20230312,1649,  -1.6667, -24.9969,     4905,   4603.2,   0.8784,  34.7247,2,  34.7277,2,    202.0,2,    223.9,2,   107.40,2,    29.90,2,     0.02,2,     2.10,2,    0.168,2,    0.086,2,   0.2729,3,   2249.2,2,   2365.1,2,    975.4,6,       20,   7.6323,2,       25,    40.61,2,      0.6,2,    19.71,2,     17.1,2,20230312,1657
33RO20230306  ,A16N       ,11      ,  2,110201     ,101        ,20230312,1649,  -1.6667, -24.9969,     4905,   4991.0,   0.8332,  34.7148,2,  34.7204,2,    198.2,2,    206.1,2,   111.00,2,    30.40,2,     0.02,2,     2.13,2,    0.177,2,    0.090,2,   0.0000,3,   2254.8,2,   2363.8,2,    982.7,2,       20,   7.6275,2,       25,    40.81,2,      0.6,6,    16.75,2,     16.9,2,20230312,1649