BOTTLE,20240601CCHHYDRO
EXPOCODE,SECT_ID,STNNBR,CASTNO,SAMPNO,BTLNBR,DATE,TIME,LATITUDE,LONGITUDE,DEPTH,CTDPRS,CTDTMP,CTDSAL,CTDSAL_FLAG_W,SALNTY,SALNTY_FLAG_W,CTDOXY,CTDOXY_FLAG_W,OXYGEN,OXYGEN_FLAG_W,SILCAT,SILCAT_FLAG_W,NITRAT,NITRAT_FLAG_W,NITRIT,NITRIT_FLAG_W,PHSPHT,PHSPHT_FLAG_W,CFC-11,CFC-11_FLAG_W,CFC-12,CFC-12_FLAG_W,SF6,SF6_FLAG_W,TCARBN,TCARBN_FLAG_W,ALKALI,ALKALI_FLAG_W,FCO2,FCO2_FLAG_W,FCO2TMP,PH_TOT,PH_TOT_FLAG_W,PH_TMP,DOC,DOC_FLAG_W,DELC13,DELC13_FLAG_W,TDN,TDN_FLAG_W,N2O,N2O_FLAG_W,BTL_DATE,BTL_TIME
,,,,,,,,,,METERS,DBAR,ITS-90,PSS-78,,PSS-78,,UMOL/KG,,UMOL/KG,,UMOL/KG,,UMOL/KG,,UMOL/KG,,UMOL/KG,,PMOL/KG,,PMOL/KG,,FMOL/KG,,UMOL/KG,,UMOL/KG,,UATM,,DEG C,,,DEG C,UMOL/KG,,/MILLE,,UMOL/KG,,NMOL/KG,,,
33RO20230306  ,A16N       ,30      ,  1,300124     ,224        ,20230318,0703,   5.4995, -26.2501,     4258,      3.7,  28.5164,  35.1670,2,  35.1647,2,    194.3,2,    200.6,2,     1.10,2,     0.00,2,     0.02,2,     0.04,2,    1.399,2,    0.901,2,   1.8197,2,   1967.3,6,   2300.6,2,    278.0,2,       20,   8.0894,2,       25,    73.05,2,      1.3,2,     4.63,2,      5.7,2,20230318,0850
33RO20230306  ,A16N       ,30      ,  1,300123     ,223        ,20230318,0703,   5.4995, -26.2501,     4258,     19.7,  28.5327,  35.1688,2,  35.1707,2,    193.6,2,    201.0,2,     1.20,2,     0.00,2,     0.02,2,     0.03,2,    1.404,2,    0.900,2,   1.6946,2,   1967.8,2,   2299.9,2,    278.0,2,       20,   8.0886,2,       25,    71.55,2,      1.3,2,     4.24,2,      5.8,2,20230318,0847
33RO20230306  ,A16N       ,30      ,  1,300122     ,222        ,20230318,0703,   5.4995, -26.2501,     4258,     43.6,  27.0515,  35.6948,2,  35.7452,2,    204.4,2,    208.5,2,     1.50,2,     0.00,2,     0.02,2,     0.04,2,    1.521,2,    0.962,2,   1.7038,2,   2006.7,2,   2333.9,2,    296.0,2,       20,   8.0736,2,       25,    70.53,2,      1.2,2,     4.91,2,      7.1,2,20230318,0844
33RO20230306  ,A16N       ,30      ,  1,300121     ,221        ,20230318,0703,   5.4995, -26.2501,     4258,     74.7,  20.2150,  36.2401,2,  36.2446,2,    136.2,2,    136.6,2,     3.80,2,     9.20,2,     0.38,2,     0.65,2,    1.996,2,    1.193,2,   1.4687,2,   2163.5,2,   2370.3,2,    560.5,2,       20,   7.8457,2,       25,    53.16,2,      0.5,2,    12.34,2,     16.6,2,20230318,0841
33RO20230306  ,A16N       ,30      ,  1,300120     ,220        ,20230318,0703,   5.4995, -26.2501,     4258,    101.9,  15.9390,  35.7430,2,  35.7332,2,    125.5,2,    128.8,2,     6.00,2,    16.30,2,     0.06,2,     1.10,2,    2.268,2,    1.311,2,   1.3264,2,   2184.4,2,   2342.4,2,    716.9,2,       20,   7.7496,2,       25,    48.35,2,      0.4,2,    18.27,2,     21.3,2,20230318,0839
33RO20230306  ,A16N       ,30      ,  1,300119     ,219        ,20230318,0703,   5.4995, -26.2501,     4258,    119.1,  14.3138,  35.4768,2,  35.4765,2,    125.0,2,    130.8,2,     7.00,2,    18.20,2,     0.03,2,     1.24,2,    2.375,2,    1.357,2,   1.2373,2,   2185.9,2,   2331.6,2,    775.0,2,       20,   7.7177,2,       25,    47.07,2,      0.4,2,    21.31,2,     23.0,2,20230318,0837
33RO20230306  ,A16N       ,30      ,  1,300118     ,218        ,20230318,0703,   5.4995, -26.2501,     4258,    150.4,  13.3201,  35.3329,2,  35.3305,2,    135.5,2,    138.6,2,     7.50,2,    18.70,2,     0.02,2,     1.28,2,    2.443,2,    1.383,2,   1.1980,2,   2181.5,2,   2321.9,2,    792.0,2,       20,   7.7095,2,       25,    45.96,2,      0.4,2,    20.82,2,     23.0,2,20230318,0835
33RO20230306  ,A16N       ,30      ,  1,300117     ,217        ,20230318,0703,   5.4995, -26.2501,     4258,    189.3,  12.5091,  35.2293,2,  35.2269,2,    110.0,2,    114.4,2,     9.10,2,    22.70,2,     0.02,2,     1.51,2,    2.346,2,    1.317,2,   1.1218,2,   2201.0,2,   2316.2,2,    924.8,2,       20,   7.6482,2,       25,    45.23,2,      0.3,2,    25.62,2,     27.7,2,20230318,0833
33RO20230306  ,A16N       ,30      ,  1,300116     ,216        ,20230318,0703,   5.4995, -26.2501,     4258,    275.6,  11.2076,  35.0763,2,  35.0753,2,    101.9,2,    105.8,2,    11.30,2,    26.20,2,     0.01,2,     1.71,2,    2.172,2,    1.192,2,   0.7970,2,   2211.3,2,   2306.6,2,   1043.7,6,       20,   7.6008,2,       25,    43.16,2,      0.2,2,    28.33,2,     30.5,2,20230318,0830
33RO20230306  ,A16N       ,30      ,  1,300115     ,215        ,20230318,0703,   5.4995, -26.2501,     4258,    350.8,   9.9393,  34.9459,2,  34.9568,2,     87.2,2,     85.4,2,    14.40,2,    30.90,2,     0.02,2,     1.97,2,    1.759,2,    0.942,2,   0.5192,2,   2224.0,6,   2301.9,2,   1236.7,2,       20,   7.5338,2,       25,    42.29,2,      0.2,6,    33.53,2,     33.8,2,20230318,0827
33RO20230306  ,A16N       ,30      ,  1,300114     ,214        ,20230318,0703,   5.4995, -26.2501,     4258,    420.2,   8.7343,  34.8266,2,  34.8253,2,     86.4,2,     87.9,2,    17.10,2,    33.20,2,     0.01,2,     2.12,2,    1.394,2,    0.738,2,   0.3465,2,   2231.6,2,   2297.2,2,   1301.9,2,       20,   7.5121,2,       25,    41.53,2,      0.3,2,    35.58,2,     32.6,2,20230318,0825
33RO20230306  ,A16N       ,30      ,  1,300113     ,213        ,20230318,0703,   5.4995, -26.2501,     4258,    502.1,   7.4937,  34.6982,2,  34.6995,2,     99.9,2,    103.7,2,    20.20,2,    34.00,2,     0.01,2,     2.20,2,    1.138,2,    0.596,2,   0.2831,2,   2227.1,2,   2294.9,2,   1294.5,2,       20,   7.5152,2,       25,    42.18,2,      0.4,2,    36.93,2,     29.4,2,20230318,0822
33RO20230306  ,A16N       ,30      ,  1,300112     ,212        ,20230318,0703,   5.4995, -26.2501,     4258,    606.8,   6.3752,  34.5986,2,  34.6129,2,    114.6,2,    120.5,2,    23.80,2,    34.50,2,     0.01,2,     2.29,2,    0.868,2,    0.452,2,   0.2299,3,   2225.4,2,   2297.3,2,   1272.3,2,       20,   7.5241,2,       25,    40.85,2,      0.5,2,    37.08,2,     27.5,2,20230318,0819
33RO20230306  ,A16N       ,30      ,  1,300111     ,211        ,20230318,0703,   5.4995, -26.2501,     4258,    800.0,   5.3274,  34.5607,2,  34.5693,2,    124.4,2,    132.0,2,    28.60,2,    35.00,2,     0.01,2,     2.36,2,    0.397,2,    0.206,2,   0.1072,3,   2226.5,2,   2298.3,2,   1253.0,2,       20,   7.5285,2,       25,    40.48,2,      0.6,2,    36.31,2,     25.8,2,20230318,0815
33RO20230306  ,A16N       ,30      ,  1,300110     ,210        ,20230318,0703,   5.4995, -26.2501,     4258,    948.6,   4.9607,  34.5932,2,  34.6083,2,    133.7,2,    141.4,2,    30.20,2,    34.10,2,     0.01,2,     2.33,2,    0.235,2,    0.122,2,   0.0000,3,   2222.8,2,   2300.2,2,   1203.6,2,       20,   7.5424,2,       25,    40.45,2,      0.6,2,    36.46,2,     25.0,2,20230318,0811
33RO20230306  ,A16N       ,30      ,  1,300109     ,209        ,20230318,0703,   5.4995, -26.2501,     4258,   1100.5,   4.8850,  34.7130,2,  34.7184,2,    142.3,2,    150.6,2,    28.40,2,    31.90,2,     0.02,2,     2.18,2,    0.107,2,    0.055,2,   0.0000,3,   2219.5,2,   2303.6,2,   1124.9,2,       20,   7.5697,2,       25,    40.15,2,      0.7,2,    33.76,2,     23.7,2,20230318,0807
33RO20230306  ,A16N       ,30      ,  1,300108     ,208        ,20230318,0703,   5.4995, -26.2501,     4258,   1300.8,   4.6877,  34.8675,2,  34.8695,2,    172.0,2,    189.0,2,    23.90,2,    27.00,2,     0.02,2,     1.84,2,    0.176,2,    0.094,2,   0.0434,2,   2201.8,2,   2308.4,2,    960.9,2,       20,   7.6306,2,       25,    40.37,2,      0.7,2,    27.73,2,     19.8,2,20230318,0802
33RO20230306  ,A16N       ,30      ,  1,300107     ,207        ,20230318,0703,   5.4995, -26.2501,     4258,   1601.5,   4.2813,  34.9680,2,  34.9691,2,    213.2,2,    226.9,2,    18.70,2,    21.50,2,     0.01,2,     1.46,2,    0.536,2,    0.276,2,   0.2354,3,   2177.7,2,   2310.3,2,    811.0,2,       20,   7.6936,2,       25,    41.96,2,      0.9,2,    22.63,2,     16.1,2,20230318,0756
33RO20230306  ,A16N       ,30      ,  1,300106     ,206        ,20230318,0703,   5.4995, -26.2501,     4258,   1997.1,   3.5421,  34.9576,2,  34.9715,2,    227.0,2,    243.7,2,    22.80,2,    20.60,2,     0.01,2,     1.40,2,    0.194,2,    0.102,2,   0.0000,3,   2172.8,2,   2314.0,2,    770.2,2,       20,   7.7149,2,       25,    40.51,2,      1.0,2,    21.16,2,     14.6,2,20230318,0748
33RO20230306  ,A16N       ,30      ,  1,300105     ,205        ,20230318,0703,   5.4995, -26.2501,     4258,   2397.2,   3.1096,  34.9400,2,  34.9424,2,    227.8,2,    243.5,2,    28.80,2,    20.80,2,     0.01,2,     1.42,2,    0.068,2,    0.037,2,   0.0000,3,   2178.6,2,   2319.2,2,    764.2,2,       20,   7.7181,2,       25,    40.73,2,      0.9,2,    21.71,2,     14.5,2,20230318,0741
33RO20230306  ,A16N       ,30      ,  1,300104     ,204        ,20230318,0703,   5.4995, -26.2501,     4258,   2799.4,   2.7610,  34.9194,2,  34.9208,6,    227.9,2,    245.4,2,    35.10,2,    21.00,2,     0.01,2,     1.45,2,    0.067,2,    0.041,2,   0.0000,3,   2185.1,2,   2326.3,2,    767.5,2,       20,   7.7177,2,       25,    41.34,2,      1.0,2,    22.77,2,     14.6,2,20230318,0732
33RO20230306  ,A16N       ,30      ,  1,300103     ,203        ,20230318,0703,   5.4995, -26.2501,     4258,   3300.1,   2.5366,  34.9033,2,  34.9043,2,    227.4,2,    247.9,2,    39.40,2,    21.20,2,     0.01,2,     1.47,2,    0.091,2,    0.050,2,   0.0000,3,   2189.8,2,   2332.3,2,   -999.0,9,       20,   7.7171,2,       25,    40.73,2,      0.9,2,    21.13,2,     14.7,2,20230318,0723
33RO20230306  ,A16N       ,30      ,  1,300102     ,202        ,20230318,0703,   5.4995, -26.2501,     4258,   3750.8,   2.3551,  34.8880,2,  34.8909,2,    225.3,2,    247.2,2,    44.20,2,    21.60,2,     0.01,2,     1.48,2,    0.100,6,    0.055,6,   0.0804,3,   2197.0,2,   2337.8,2,    777.3,2,       20,   7.7150,2,       25,    40.77,2,      0.9,2,    22.08,2,     15.0,6,20230318,0714
33RO20230306  ,A16N       ,30      ,  1,300101     ,201        ,20230318,0703,   5.4995, -26.2501,     4258,   4319.6,   2.3645,  34.8838,2,  34.8865,2,    221.3,2,    245.3,2,    45.90,2,    21.90,2,     0.01,2,     1.50,2,    0.105,2,    0.055,2,   0.0000,2,   2198.9,6,   2340.9,2,    781.0,2,       20,   7.7135,2,       25,    40.54,2,      0.9,6,    23.00,2,     15.4,2,20230318,0703
33RO20230306  ,A16N       ,31      ,  2,310224     ,224        ,20230318,1511,   6.0017, -26.5024,     4293,      3.5,  28.7140,  35.2369,2,  35.2376,2,    179.7,2,    199.4,2,     1.20,2,     0.00,2,     0.01,2,     0.05,2,    1.390,2,    0.898,2,   1.7564,2,   1973.9,6,   2306.6,2,    284.5,2,       20,   8.0819,2,       25,    75.10,2,      1.2,6,     4.01,2,      5.7,2,20230318,1651
33RO20230306  ,A16N       ,31      ,  2,310223     ,223        ,20230318,1511,   6.0017, -26.5024,     4293,     15.1,  28.6467,  35.2486,2,  35.3004,2,    191.8,2,    199.8,2,     1.00,2,     0.00,2,     0.01,2,     0.05,2,    1.401,2,    0.903,2,   1.8858,2,   1973.9,2,   2309.0,2,    284.2,2,       20,   8.0833,2,       25,  -999.00,9,      1.1,2,  -999.00,9,      5.8,2,20230318,1650
33RO20230306  ,A16N       ,31      ,  2,310222     ,222        ,20230318,1511,   6.0017, -26.5024,     4293,     35.7,  27.4437,  35.7174,2,  35.7201,2,    202.0,2,    209.9,2,     1.20,2,     0.00,2,     0.01,2,     0.12,2,    1.468,2,    0.938,2,   1.9087,2,   1993.7,2,   2333.1,2,    284.6,2,       20,   8.0905,2,       25,  -999.00,9,      1.1,2,  -999.00,9,      6.1,2,20230318,1648
33RO20230306  ,A16N       ,31      ,  2,310221     ,221        ,20230318,1511,   6.0017, -26.5024,     4293,     60.7,  21.5114,  36.1956,2,  36.1836,2,    153.6,2,    147.5,2,     3.20,2,     5.80,2,     0.20,2,     0.46,2,    1.948,2,    1.201,2,   1.5365,2,   2145.8,2,   2367.9,2,    528.0,2,       20,   7.8690,2,       25,  -999.00,9,      0.5,2,  -999.00,9,     15.3,2,20230318,1646
33RO20230306  ,A16N       ,31      ,  2,310220     ,220        ,20230318,1511,   6.0017, -26.5024,     4293,     91.4,  15.4494,  35.6155,2,  35.6288,6,    117.0,2,    121.9,2,     6.30,2,    17.90,2,     0.05,2,     1.19,2,    2.287,2,    1.321,2,   1.4144,2,   2184.1,2,   2333.3,2,    765.5,2,       20,   7.7260,2,       25,  -999.00,9,      0.3,2,  -999.00,9,     22.6,2,20230318,1645
33RO20230306  ,A16N       ,31      ,  2,310219     ,219        ,20230318,1511,   6.0017, -26.5024,     4293,    111.1,  14.0055,  35.4255,2,  35.4460,2,    113.2,2,    103.5,2,     7.60,2,    21.60,2,     0.02,2,     1.44,2,    2.322,2,    1.362,2,   1.1642,2,   2198.2,2,   2322.2,2,    902.6,2,       20,   7.6614,2,       25,  -999.00,9,      0.2,2,  -999.00,9,     25.8,2,20230318,1643
33RO20230306  ,A16N       ,31      ,  2,310218     ,218        ,20230318,1511,   6.0017, -26.5024,     4293,    180.0,  12.7769,  35.2666,2,  35.2664,2,    102.0,2,    109.9,2,     8.80,2,    22.80,2,     0.02,2,     1.52,2,    2.307,2,    1.310,2,   1.1424,2,   2199.5,2,   2298.1,3,    941.2,2,       20,   7.6451,2,       25,  -999.00,9,      0.2,2,  -999.00,9,     26.5,2,20230318,1641
33RO20230306  ,A16N       ,31      ,  2,310217     ,217        ,20230318,1511,   6.0017, -26.5024,     4293,    252.5,  11.4383,  35.1238,2,  35.1393,2,     89.5,2,     93.3,2,    11.00,2,    26.90,2,     0.02,2,     1.73,2,    2.104,6,    1.185,6,   0.8279,6,   2211.8,2,   2308.1,2,   1094.6,2,       20,   7.5850,2,       25,  -999.00,9,      0.3,2,  -999.00,9,     30.5,6,20230318,1639
33RO20230306  ,A16N       ,31      ,  2,310216     ,216        ,20230318,1511,   6.0017, -26.5024,     4293,    365.5,   9.7084,  34.9424,2,  34.9616,2,     80.3,2,     81.8,2,    14.80,2,    31.60,2,     0.01,2,     2.02,2,    1.613,2,    0.899,2,   0.4934,2,   2226.5,2,   2299.4,2,   1281.2,2,       20,   7.5234,2,       25,  -999.00,9,      0.3,2,  -999.00,9,     32.9,2,20230318,1636
33RO20230306  ,A16N       ,31      ,  2,310215     ,215        ,20230318,1511,   6.0017, -26.5024,     4293,    425.8,   9.0833,  34.9131,2,  34.9231,2,     52.6,2,     56.4,2,    17.00,2,    35.70,2,     0.01,2,     2.23,2,    1.042,2,    0.566,2,   0.3415,2,   2247.3,6,   2299.2,2,   1487.5,2,       20,   7.4633,2,       25,  -999.00,9,      0.2,2,  -999.00,9,     35.3,2,20230318,1634
33RO20230306  ,A16N       ,31      ,  2,310214     ,214        ,20230318,1511,   6.0017, -26.5024,     4293,    550.4,   7.4264,  34.7343,2,  34.7649,2,     83.3,2,     86.5,2,    20.90,2,    35.60,2,     0.01,2,     2.32,2,    0.740,2,    0.389,2,   0.2296,2,   2235.5,2,   2295.5,2,   1391.1,2,       20,   7.4893,2,       25,  -999.00,9,      0.3,2,  -999.00,9,     30.1,2,20230318,1630
33RO20230306  ,A16N       ,31      ,  2,310213     ,213        ,20230318,1511,   6.0017, -26.5024,     4293,    631.0,   6.5503,  34.6509,2,  34.6583,2,     98.9,2,    104.2,2,    23.50,2,    35.60,2,     0.01,2,     2.35,2,    0.592,2,    0.318,2,   0.1265,2,   2230.1,2,   2293.8,2,   1340.2,2,       20,   7.5027,2,       25,  -999.00,9,      0.5,2,  -999.00,9,     27.9,2,20230318,1628
33RO20230306  ,A16N       ,31      ,  2,310212     ,212        ,20230318,1511,   6.0017, -26.5024,     4293,    720.6,   5.9630,  34.6191,2,  34.6209,2,    109.3,2,    115.3,2,    25.90,2,    35.50,2,     0.01,2,     2.37,2,    0.432,2,    0.230,2,   0.1225,3,   2228.1,2,   2294.7,2,   1307.5,2,       20,   7.5125,2,       25,  -999.00,9,      0.5,2,  -999.00,9,     25.6,2,20230318,1625
33RO20230306  ,A16N       ,31      ,  2,310211     ,211        ,20230318,1511,   6.0017, -26.5024,     4293,    877.2,   5.0935,  34.6002,2,  34.6034,2,    131.5,2,    138.5,2,    29.40,2,    34.20,2,     0.01,2,     2.33,2,    0.252,2,    0.134,2,   0.0802,3,   2224.3,2,   2301.9,2,   1216.1,2,       20,   7.5411,2,       25,  -999.00,9,      0.6,2,  -999.00,9,     24.1,2,20230318,1621
33RO20230306  ,A16N       ,31      ,  2,310210     ,210        ,20230318,1511,   6.0017, -26.5024,     4293,   1020.8,   4.9472,  34.7022,2,  34.7060,2,    136.6,2,    144.2,2,    28.50,2,    32.60,2,     0.01,2,     2.24,2,    0.082,2,    0.043,2,   0.0000,3,   2220.5,2,   2304.1,2,   1158.4,2,       20,   7.5596,2,       25,  -999.00,9,      0.6,2,  -999.00,9,     23.1,2,20230318,1618
33RO20230306  ,A16N       ,31      ,  2,310209     ,209        ,20230318,1511,   6.0017, -26.5024,     4293,   1201.9,   4.8129,  34.8211,2,  34.8339,6,    158.2,2,    168.2,2,    25.40,2,    28.90,2,     0.01,2,     1.98,2,    0.127,2,    0.076,2,   0.0896,3,   2208.4,2,   2308.4,2,   1022.4,2,       20,   7.6075,2,       25,  -999.00,9,      0.6,2,  -999.00,9,     20.5,2,20230318,1613
33RO20230306  ,A16N       ,31      ,  2,310208     ,208        ,20230318,1511,   6.0017, -26.5024,     4293,   1453.1,   4.4609,  34.9337,2,  34.9419,2,    194.0,2,    206.7,2,    21.00,2,    23.90,2,     0.01,2,     1.63,2,    0.308,2,    0.162,2,   0.1170,3,   2186.1,2,   2310.0,2,    871.4,2,       20,   7.6697,2,       25,  -999.00,9,      0.7,2,  -999.00,9,     17.1,2,20230318,1608
33RO20230306  ,A16N       ,31      ,  2,310207     ,207        ,20230318,1511,   6.0017, -26.5024,     4293,   1803.1,   3.9153,  34.9709,2,  35.0144,2,    225.0,2,    240.4,2,    19.00,2,    20.40,2,     0.01,2,     1.39,2,    0.449,2,    0.226,2,   0.1139,3,   2169.4,2,   2309.9,2,    778.5,2,       20,   7.7113,2,       25,  -999.00,9,      0.9,2,  -999.00,9,     14.7,2,20230318,1601
33RO20230306  ,A16N       ,31      ,  2,310206     ,206        ,20230318,1511,   6.0017, -26.5024,     4293,   2198.5,   3.3472,  34.9499,2,  34.9514,2,    225.9,2,    241.8,2,    25.70,2,    20.90,2,     0.01,2,     1.43,2,    0.085,2,    0.046,2,   0.0000,3,   2173.9,2,   2321.3,2,    768.2,2,       20,   7.7167,2,       25,  -999.00,9,      0.9,2,  -999.00,9,     14.2,2,20230318,1553
33RO20230306  ,A16N       ,31      ,  2,310205     ,205        ,20230318,1511,   6.0017, -26.5024,     4293,   2601.4,   2.9161,  34.9296,2,  34.9337,2,    227.0,2,    244.9,2,    32.20,2,    21.10,2,     0.01,2,     1.45,2,    0.038,2,    0.024,2,   0.0000,3,   2178.6,2,   2321.8,2,    766.0,6,       20,   7.7194,2,       25,  -999.00,9,      1.0,2,  -999.00,9,     14.5,2,20230318,1545
33RO20230306  ,A16N       ,31      ,  2,310204     ,204        ,20230318,1511,   6.0017, -26.5024,     4293,   3004.7,   2.6607,  34.9130,2,  34.9142,2,    226.8,2,    246.1,2,    37.10,2,    21.30,2,     0.01,2,     1.47,2,    0.051,2,    0.031,2,   0.0000,3,   2183.3,2,   2325.4,2,    768.2,2,       20,   7.7178,2,       25,  -999.00,9,      0.9,2,  -999.00,9,     14.7,2,20230318,1537
33RO20230306  ,A16N       ,31      ,  2,310203     ,203        ,20230318,1511,   6.0017, -26.5024,     4293,   3392.9,   2.4837,  34.9001,2,  34.9025,2,    226.5,2,    246.7,2,    40.60,2,    21.50,2,     0.01,2,     1.48,2,    0.067,2,    0.040,2,   0.0000,3,   2188.1,2,   2327.1,2,    771.4,2,       20,   7.7166,2,       25,  -999.00,9,      0.9,2,  -999.00,9,     14.7,2,20230318,1529
33RO20230306  ,A16N       ,31      ,  2,310202     ,202        ,20230318,1511,   6.0017, -26.5024,     4293,   3852.3,   2.3552,  34.8876,2,  34.8930,2,    225.4,2,    248.5,2,    44.10,2,    21.60,2,     0.01,2,     1.50,2,    0.115,2,    0.064,2,   0.0000,3,   2194.1,6,   2322.2,2,   -999.0,9,       20,   7.7163,2,       25,  -999.00,9,      0.9,2,  -999.00,9,     15.1,2,20230318,1520
33RO20230306  ,A16N       ,31      ,  2,310201     ,201        ,20230318,1511,   6.0017, -26.5024,     4293,   4355.9,   2.3517,  34.8829,2,  34.8848,2,    221.7,2,    246.2,2,    46.20,2,    21.80,2,     0.02,2,     1.51,2,    0.117,2,    0.063,2,   0.1108,3,   2199.3,2,   2337.8,2,    779.1,2,       20,   7.7134,2,       25,  -999.00,9,      0.9,6,  -999.00,9,     15.7,2,20230318,1511