BOTTLE,20240601CCHHYDRO
EXPOCODE,SECT_ID,STNNBR,CASTNO,SAMPNO,BTLNBR,DATE,TIME,LATITUDE,LONGITUDE,DEPTH,CTDPRS,CTDTMP,CTDSAL,CTDSAL_FLAG_W,SALNTY,SALNTY_FLAG_W,CTDOXY,CTDOXY_FLAG_W,OXYGEN,OXYGEN_FLAG_W,SILCAT,SILCAT_FLAG_W,NITRAT,NITRAT_FLAG_W,NITRIT,NITRIT_FLAG_W,PHSPHT,PHSPHT_FLAG_W,CFC-11,CFC-11_FLAG_W,CFC-12,CFC-12_FLAG_W,SF6,SF6_FLAG_W,TCARBN,TCARBN_FLAG_W,ALKALI,ALKALI_FLAG_W,FCO2,FCO2_FLAG_W,FCO2TMP,PH_TOT,PH_TOT_FLAG_W,PH_TMP,DOC,DOC_FLAG_W,DELC13,DELC13_FLAG_W,TDN,TDN_FLAG_W,N2O,N2O_FLAG_W,BTL_DATE,BTL_TIME
,,,,,,,,,,METERS,DBAR,ITS-90,PSS-78,,PSS-78,,UMOL/KG,,UMOL/KG,,UMOL/KG,,UMOL/KG,,UMOL/KG,,UMOL/KG,,PMOL/KG,,PMOL/KG,,FMOL/KG,,UMOL/KG,,UMOL/KG,,UATM,,DEG C,,,DEG C,UMOL/KG,,/MILLE,,UMOL/KG,,NMOL/KG,,,
33RO20230306  ,A16N       ,2       ,  2,20224      ,124        ,20230309,2025,  -5.4970, -24.9994,     5665,      3.4,  28.6163,  35.8073,2,  35.8034,2,    189.9,2,    197.4,2,     0.90,2,     0.00,2,     0.01,2,     0.10,2,    1.304,2,    0.875,2,   1.7150,2,   2024.7,6,   2349.5,2,    312.8,2,       20,   8.0518,2,       25,    72.36,2,      1.2,6,     4.17,2,      5.2,2,20230309,2245
33RO20230306  ,A16N       ,2       ,  2,20223      ,123        ,20230309,2025,  -5.4970, -24.9994,     5665,     25.7,  28.6226,  35.8072,2,  35.8066,2,    189.9,2,    197.2,2,     0.90,2,     0.10,2,     0.01,2,     0.23,2,    1.307,2,    0.867,2,   1.7474,2,   2025.7,2,   2350.2,2,    314.9,2,       20,   8.0515,2,       25,  -999.00,9,      1.2,2,  -999.00,9,      5.3,2,20230309,2243
33RO20230306  ,A16N       ,2       ,  2,20222      ,122        ,20230309,2025,  -5.4970, -24.9994,     5665,     65.5,  27.2900,  36.4028,2,  36.4110,2,    197.8,2,    203.6,2,     1.10,2,     0.00,2,     0.01,2,     0.27,2,    1.423,2,    0.934,2,   1.6607,2,   2065.9,2,   2390.4,2,    333.8,2,       20,   8.0375,2,       25,  -999.00,9,      1.2,2,  -999.00,9,      5.7,2,20230309,2239
33RO20230306  ,A16N       ,2       ,  2,20221      ,121        ,20230309,2025,  -5.4970, -24.9994,     5665,    101.5,  22.5986,  36.3976,2,  36.4137,2,    174.6,2,    175.3,2,     1.90,2,     2.10,2,     0.12,2,     0.53,2,    1.741,2,    1.108,2,   1.7911,2,   2127.7,2,   2389.5,2,    446.6,2,       20,   7.9385,2,       25,  -999.00,9,      0.8,2,  -999.00,9,     10.8,2,20230309,2237
33RO20230306  ,A16N       ,2       ,  2,20220      ,120        ,20230309,2025,  -5.4970, -24.9994,     5665,    176.1,  12.3926,  35.2178,2,  35.2308,2,     87.1,2,     89.6,2,     9.70,2,    25.90,2,     0.01,2,     1.75,2,    2.120,2,    1.218,2,   0.9505,2,   2212.1,2,   2317.7,2,   1053.4,2,       20,   7.6014,2,       25,  -999.00,9,      0.3,2,  -999.00,9,     30.2,2,20230309,2234
33RO20230306  ,A16N       ,2       ,  2,20219      ,119        ,20230309,2025,  -5.4970, -24.9994,     5665,    265.4,  10.0579,  34.9233,2,  34.9208,2,     83.5,2,     84.5,2,    13.80,2,    30.70,2,     0.01,2,     2.02,2,    1.813,2,    0.991,2,   0.7780,2,   2225.1,2,   2303.5,2,   1232.5,2,       20,   7.5347,2,       25,  -999.00,9,      0.3,2,  -999.00,9,     32.8,2,20230309,2231
33RO20230306  ,A16N       ,2       ,  2,20218      ,118        ,20230309,2025,  -5.4970, -24.9994,     5665,    325.8,   9.2590,  34.8320,2,  34.8344,2,     76.1,2,     81.6,2,    15.50,2,    32.70,2,     0.01,2,     2.13,2,    1.578,2,    0.836,2,   0.5903,2,   2229.1,6,   2298.4,2,   1314.3,2,       20,   7.5105,2,       25,  -999.00,9,      0.4,2,  -999.00,9,     33.5,2,20230309,2228
33RO20230306  ,A16N       ,2       ,  2,20217      ,117        ,20230309,2025,  -5.4970, -24.9994,     5665,    450.7,   7.7013,  34.6778,2,  34.6811,2,     82.3,2,     86.8,2,    19.70,2,    35.60,2,     0.00,2,     2.33,2,    1.074,2,    0.558,2,   0.2947,2,   2234.5,2,   2298.3,2,   1396.0,2,       20,   7.4845,2,       25,  -999.00,9,      0.5,2,  -999.00,9,     31.1,2,20230309,2224
33RO20230306  ,A16N       ,2       ,  2,20216      ,116        ,20230309,2025,  -5.4970, -24.9994,     5665,    611.2,   6.0617,  34.5375,2,  34.5404,2,    108.8,2,    117.8,2,    25.00,2,    35.70,2,     0.00,2,     2.42,2,    0.739,2,    0.375,2,   0.1405,2,   2224.8,2,   2295.7,2,   1315.8,2,       20,   7.5068,2,       25,  -999.00,9,      0.7,2,  -999.00,9,     26.7,2,20230309,2219
33RO20230306  ,A16N       ,2       ,  2,20215      ,115        ,20230309,2025,  -5.4970, -24.9994,     5665,    775.5,   4.7866,  34.4688,2,  34.4748,2,    141.8,2,    150.6,2,    31.60,2,    34.70,2,     0.00,2,     2.39,2,    0.559,2,    0.281,2,   0.0607,2,   2219.8,2,   2299.5,2,   1200.2,2,       20,   7.5437,2,       25,  -999.00,9,      0.7,2,  -999.00,9,     23.7,2,20230309,2215
33RO20230306  ,A16N       ,2       ,  2,20214      ,114        ,20230309,2025,  -5.4970, -24.9994,     5665,    919.5,   4.3921,  34.5304,2,  34.5321,6,    146.1,2,    153.0,2,    34.50,2,    34.30,2,     0.00,2,     2.38,2,    0.188,2,    0.096,2,   0.0000,2,   2219.2,2,   2304.2,2,   -999.0,9,       20,   7.5488,2,       25,  -999.00,9,      0.7,2,  -999.00,9,     23.0,2,20230309,2210
33RO20230306  ,A16N       ,2       ,  2,20213      ,113        ,20230309,2025,  -5.4970, -24.9994,     5665,   1109.5,   4.2976,  34.7109,2,  34.7155,2,    163.7,2,    176.0,2,    30.70,2,    30.30,2,     0.02,2,     2.12,2,    0.088,2,    0.057,2,   0.0000,3,   2213.3,2,   2311.0,2,   1042.8,2,       20,   7.5975,2,       25,  -999.00,9,      0.8,2,  -999.00,9,     20.5,2,20230309,2205
33RO20230306  ,A16N       ,2       ,  2,20212      ,112        ,20230309,2025,  -5.4970, -24.9994,     5665,   1251.2,   4.3742,  34.8319,2,  34.8373,2,    179.8,2,    190.3,2,    25.90,2,    26.90,2,     0.01,2,     1.88,2,     -999,9,     -999,9,     -999,9,   2196.6,2,   2313.1,2,   -999.0,9,       20,   7.6381,2,       25,  -999.00,9,      0.8,2,  -999.00,9,     -999,9,20230309,2201
33RO20230306  ,A16N       ,2       ,  2,20211      ,111        ,20230309,2025,  -5.4970, -24.9994,     5665,   1400.8,   4.3234,  34.9243,2,  34.9268,2,    202.8,2,    214.4,2,    21.40,2,    23.20,2,     0.00,2,     1.63,2,    0.359,2,    0.184,2,   0.0000,3,   2185.4,2,   2314.7,2,    851.9,2,       20,   7.6777,2,       25,  -999.00,9,      0.8,2,  -999.00,9,     16.4,2,20230309,2157
33RO20230306  ,A16N       ,2       ,  2,20210      ,110        ,20230309,2025,  -5.4970, -24.9994,     5665,   1602.0,   4.1443,  34.9621,2,  34.9661,2,    219.4,2,    233.0,2,    19.10,2,    21.00,2,     0.02,2,     1.49,2,    0.549,2,    0.268,2,   0.1343,3,   2174.7,2,   2317.2,2,   -999.0,9,       20,   7.7024,2,       25,  -999.00,9,      0.9,2,  -999.00,9,     14.8,2,20230309,2152
33RO20230306  ,A16N       ,2       ,  2,20209      ,109        ,20230309,2025,  -5.4970, -24.9994,     5665,   2000.5,   3.5163,  34.9583,2,  34.9607,2,    235.6,2,    250.8,2,    21.40,2,    19.40,2,     0.01,2,     1.37,2,    0.574,2,    0.276,2,   0.0959,3,   2168.3,2,   2319.0,2,    758.2,2,       20,   7.7220,2,       25,  -999.00,9,      1.0,2,  -999.00,9,     13.5,2,20230309,2143
33RO20230306  ,A16N       ,2       ,  2,20208      ,108        ,20230309,2025,  -5.4970, -24.9994,     5665,   2401.6,   3.0560,  34.9327,2,  34.9383,2,    232.7,2,    250.3,2,    29.40,2,    20.30,2,     0.00,2,     1.44,2,    0.251,6,    0.125,6,   0.0000,3,   2175.8,2,   2326.0,2,   -999.0,9,       20,   7.7229,2,       25,  -999.00,9,      1.0,2,  -999.00,9,     13.6,6,20230309,2135
33RO20230306  ,A16N       ,2       ,  2,20207      ,107        ,20230309,2025,  -5.4970, -24.9994,     5665,   2950.3,   2.7052,  34.9126,2,  34.9168,2,    230.3,2,    247.0,2,    35.70,2,    20.80,2,     0.01,2,     1.48,2,    0.109,2,    0.061,2,   0.0000,3,   2180.7,2,   2332.9,2,    763.5,2,       20,   7.7212,2,       25,  -999.00,9,      1.0,2,  -999.00,9,     13.5,2,20230309,2124
33RO20230306  ,A16N       ,2       ,  2,20206      ,106        ,20230309,2025,  -5.4970, -24.9994,     5665,   3501.0,   2.5272,  34.9054,2,  34.9053,2,    235.4,2,    256.5,2,    34.10,2,    19.80,2,     0.01,2,     1.40,2,    0.295,2,    0.147,2,   0.0443,2,   2175.4,2,   2329.2,2,   -999.0,9,       20,   7.7257,2,       25,  -999.00,9,      1.0,2,  -999.00,9,     13.4,2,20230309,2112
33RO20230306  ,A16N       ,2       ,  2,20205      ,105        ,20230309,2025,  -5.4970, -24.9994,     5665,   3950.3,   2.1861,  34.8722,2,  34.8789,6,    231.4,2,    248.9,2,    45.90,2,    21.30,2,     0.02,2,     1.52,2,    0.250,2,    0.123,2,   0.0505,2,   2186.2,2,   2335.7,2,    779.1,6,       20,   7.7154,2,       25,  -999.00,9,      0.9,2,  -999.00,9,     13.8,2,20230309,2103
33RO20230306  ,A16N       ,2       ,  2,20204      ,104        ,20230309,2025,  -5.4970, -24.9994,     5665,   4453.7,   1.1493,  34.7578,2,  34.7610,2,    209.3,2,    228.9,2,    94.50,2,    28.30,2,     0.01,2,     2.02,2,    0.083,2,    0.047,2,   0.0686,2,   2236.2,2,   2361.4,2,   -999.0,9,       20,   7.6545,2,       25,  -999.00,9,      0.7,2,  -999.00,9,     16.2,2,20230309,2053
33RO20230306  ,A16N       ,2       ,  2,20203      ,103        ,20230309,2025,  -5.4970, -24.9994,     5665,   4950.3,   0.8368,  34.7179,2,  34.7268,2,    200.8,2,    223.5,2,   110.30,2,    30.50,2,     0.00,2,     2.17,2,    0.141,2,    0.072,2,   0.2730,3,   2252.1,2,   2369.5,2,    984.9,2,       20,   7.6302,2,       25,  -999.00,9,      0.6,2,  -999.00,9,     17.1,2,20230309,2043
33RO20230306  ,A16N       ,2       ,  2,20202      ,102        ,20230309,2025,  -5.4970, -24.9994,     5665,   5453.3,   0.7650,  34.7034,2,  34.7050,2,    197.6,2,    221.9,2,   115.70,2,    31.20,2,     0.00,2,     2.22,2,    0.190,2,    0.091,2,   0.0547,2,   2256.4,2,   2371.6,2,   -999.0,9,       20,   7.6178,2,       25,  -999.00,9,      0.5,2,  -999.00,9,     17.4,2,20230309,2032
33RO20230306  ,A16N       ,2       ,  2,20201      ,101        ,20230309,2025,  -5.4970, -24.9994,     5665,   5714.7,   0.7856,  34.7021,2,  34.7063,2,    194.4,2,    212.1,2,   116.30,2,    31.20,2,     0.01,2,     2.21,2,    0.196,2,    0.109,2,   0.1988,2,   2258.9,6,   2367.8,2,   1006.8,2,       20,   7.6175,2,       25,  -999.00,9,      0.6,6,  -999.00,9,     17.2,2,20230309,2025
33RO20230306  ,A16N       ,3       ,  1,30124      ,124        ,20230310,0636,  -4.9975, -24.9998,     5677,      4.2,  28.5353,  35.7842,2,  35.7838,2,    190.0,2,    197.2,2,     0.90,2,     0.00,2,     0.00,2,     0.10,2,    1.373,2,    0.900,2,   1.7347,2,   2026.6,6,   2345.0,2,    313.2,2,       20,   8.0533,2,       25,    70.93,2,      1.2,2,     5.48,2,      6.0,2,20230310,0853
33RO20230306  ,A16N       ,3       ,  1,30123      ,123        ,20230310,0636,  -4.9975, -24.9998,     5677,     15.0,  28.5418,  35.7834,2,  35.7872,6,    189.8,2,    196.8,2,     0.90,2,     0.00,2,     0.00,2,     0.11,2,    1.374,2,    0.892,2,   1.7760,2,   2025.2,2,   2345.6,2,    314.0,6,       20,   8.0529,2,       25,    66.90,2,      1.1,2,     3.67,2,      6.0,2,20230310,0850
33RO20230306  ,A16N       ,3       ,  1,30122      ,122        ,20230310,0636,  -4.9975, -24.9998,     5677,     40.4,  28.5471,  35.7866,2,  35.7894,2,    189.9,2,    196.1,2,     0.90,2,     0.00,2,     0.02,2,     0.11,2,    1.374,2,    0.889,2,   1.5864,2,   2025.6,2,   2346.2,2,    316.3,2,       20,   8.0527,2,       25,    68.62,2,      1.2,2,     4.50,2,      6.0,2,20230310,0848
33RO20230306  ,A16N       ,3       ,  1,30121      ,121        ,20230310,0636,  -4.9975, -24.9998,     5677,     70.1,  26.7685,  36.3919,2,  36.3921,2,    196.5,2,    203.4,2,     1.10,2,     0.00,2,     0.02,2,     0.18,2,    1.507,2,    0.971,2,   1.7756,2,   2069.3,2,   2389.4,2,    342.6,2,       20,   8.0311,2,       25,    69.43,2,      1.2,2,     4.39,2,      6.6,2,20230310,0845
33RO20230306  ,A16N       ,3       ,  1,30120      ,120        ,20230310,0636,  -4.9975, -24.9998,     5677,    120.3,  16.7837,  35.7463,2,  35.7252,2,    104.9,2,    105.3,2,     6.30,2,    18.40,2,     0.05,2,     1.30,2,    2.116,2,    1.265,2,   1.3235,2,   2193.4,2,   2343.2,2,    785.8,2,       20,   7.7172,2,       25,    48.84,2,      0.3,2,    20.82,2,     24.8,2,20230310,0842
33RO20230306  ,A16N       ,3       ,  1,30119      ,119        ,20230310,0636,  -4.9975, -24.9998,     5677,    200.5,  11.0493,  35.0256,2,  35.0801,2,    110.3,2,    115.7,2,    10.40,2,    25.10,2,     0.01,2,     1.69,2,    2.208,2,    1.260,2,   0.9115,2,   2203.9,2,   2306.0,2,   1010.0,2,       20,   7.6178,2,       25,    43.64,2,      0.4,2,    27.20,2,     26.9,2,20230310,0840
33RO20230306  ,A16N       ,3       ,  1,30118      ,118        ,20230310,0636,  -4.9975, -24.9998,     5677,    299.5,   9.3105,  34.8344,2,  34.8362,2,     92.5,2,     89.4,2,    15.20,2,    31.80,2,     0.01,2,     2.06,2,    1.733,2,    0.927,2,   0.5222,2,   2226.0,6,   2300.1,2,   1253.4,2,       20,   7.5247,2,       25,    43.37,2,      0.3,6,    35.28,2,     33.1,2,20230310,0836
33RO20230306  ,A16N       ,3       ,  1,30117      ,117        ,20230310,0636,  -4.9975, -24.9998,     5677,    401.0,   8.2014,  34.7239,2,  34.7278,2,     93.0,2,     83.3,2,    18.50,2,    35.20,2,     0.00,2,     2.28,2,    1.240,6,    0.650,6,   0.2875,6,   2235.8,2,   2294.7,2,   1389.1,2,       20,   7.4862,2,       25,    42.22,2,      0.3,2,    37.16,2,     32.9,6,20230310,0833
33RO20230306  ,A16N       ,3       ,  1,30116      ,116        ,20230310,0636,  -4.9975, -24.9998,     5677,    520.3,   6.7445,  34.5773,2,  34.5893,2,    119.0,2,    125.2,2,    21.80,2,    33.70,2,     0.00,2,     2.25,2,    1.420,2,    0.732,2,   0.3864,2,   2219.7,2,   2293.2,2,   1244.2,2,       20,   7.5306,2,       25,    41.72,2,      0.5,2,    37.71,2,     27.1,2,20230310,0829
33RO20230306  ,A16N       ,3       ,  1,30115      ,115        ,20230310,0636,  -4.9975, -24.9998,     5677,    669.9,   5.3626,  34.4851,2,  34.4900,2,    137.8,2,    144.4,2,    28.10,2,    34.50,2,     0.00,2,     2.35,2,    0.941,2,    0.479,2,   0.2280,3,   2219.7,2,   2296.6,2,   1216.0,2,       20,   7.5399,2,       25,    40.32,2,      0.6,2,    37.42,2,     24.5,2,20230310,0826
33RO20230306  ,A16N       ,3       ,  1,30114      ,114        ,20230310,0636,  -4.9975, -24.9998,     5677,    819.7,   4.7158,  34.4823,2,  34.5157,2,    145.9,2,    153.1,2,    32.40,2,    34.60,2,     0.00,2,     2.37,2,    0.560,2,    0.278,2,   0.1368,3,   2221.0,2,   2298.9,2,   1192.4,2,       20,   7.5463,2,       25,    40.37,2,      0.7,2,    36.43,2,     24.1,2,20230310,0821
33RO20230306  ,A16N       ,3       ,  1,30113      ,113        ,20230310,0636,  -4.9975, -24.9998,     5677,   1000.0,   4.2771,  34.5943,2,  34.6072,2,    155.2,2,    162.6,2,    34.20,2,    32.70,2,     0.01,2,     2.27,2,    0.140,2,    0.076,2,   0.0000,3,   2218.2,2,   2306.6,2,   1128.8,2,       20,   7.5718,2,       25,    41.17,2,      0.7,2,    34.69,2,     -999,9,20230310,0817
33RO20230306  ,A16N       ,3       ,  1,30112      ,112        ,20230310,0636,  -4.9975, -24.9998,     5677,   1149.8,   4.4209,  34.7460,2,  34.7592,2,    165.8,2,    175.3,2,    29.20,2,    29.50,2,     0.02,2,     2.04,2,    0.105,2,    0.061,2,   0.0000,3,   2209.3,2,   2311.8,2,   1027.0,2,       20,   7.6074,2,       25,    41.97,2,      0.8,2,    32.33,2,     -999,9,20230310,0813
33RO20230306  ,A16N       ,3       ,  1,30111      ,111        ,20230310,0636,  -4.9975, -24.9998,     5677,   1300.1,   4.4394,  34.8614,2,  34.8632,2,    183.6,2,    194.7,2,    24.60,2,    26.10,2,     0.02,2,     1.81,2,    0.194,2,    0.112,2,   0.0678,3,   2197.6,2,   2315.4,2,    928.0,2,       20,   7.6465,2,       25,    41.07,2,      0.8,2,    26.55,2,     -999,9,20230310,0809
33RO20230306  ,A16N       ,3       ,  1,30110      ,110        ,20230310,0636,  -4.9975, -24.9998,     5677,   1600.2,   4.1303,  34.9630,2,  34.9702,2,    220.9,2,    235.1,2,    19.00,2,    20.80,2,     0.01,2,     1.46,2,    0.511,2,    0.292,2,   0.2688,3,   2173.9,2,   2314.8,2,    795.4,2,       20,   7.7029,2,       25,    41.72,2,      1.0,2,    21.71,2,     -999,9,20230310,0803
33RO20230306  ,A16N       ,3       ,  1,30109      ,109        ,20230310,0636,  -4.9975, -24.9998,     5677,   1950.8,   3.6207,  34.9622,2,  34.9663,2,    234.2,2,    250.4,2,    20.60,2,    19.50,2,     0.01,2,     1.37,2,    0.487,2,    0.272,2,   0.1707,3,   2169.9,2,   2317.9,2,    761.3,2,       20,   7.7181,2,       25,    41.82,2,      1.0,2,    20.48,2,     -999,9,20230310,0755
33RO20230306  ,A16N       ,3       ,  1,30108      ,108        ,20230310,0636,  -4.9975, -24.9998,     5677,   2350.7,   3.1324,  34.9366,2,  34.9413,2,    232.8,2,    251.0,2,    28.00,2,    20.10,2,     0.02,2,     1.41,2,    0.263,2,    0.149,2,   0.0000,3,   2175.3,2,   2324.2,2,    757.8,2,       20,   7.7234,2,       25,    41.24,2,      1.0,2,    18.84,2,     -999,9,20230310,0746
33RO20230306  ,A16N       ,3       ,  1,30107      ,107        ,20230310,0636,  -4.9975, -24.9998,     5677,   2746.6,   2.8112,  34.9163,2,  34.9260,6,    227.9,2,    246.3,2,    35.90,2,    21.10,2,     0.02,2,     1.48,2,    0.089,2,    0.055,2,   0.0961,3,   2184.8,2,   2327.7,2,    768.0,2,       20,   7.7192,2,       25,    41.15,2,      1.0,2,    21.26,2,     -999,9,20230310,0738
33RO20230306  ,A16N       ,3       ,  1,30106      ,106        ,20230310,0636,  -4.9975, -24.9998,     5677,   3250.1,   2.6249,  34.9109,2,  34.9107,2,    232.3,2,    256.4,2,    34.90,2,    20.30,2,     0.02,2,     1.44,2,    0.134,2,    0.077,2,   0.0000,3,   2179.2,2,   2327.3,2,    755.0,2,       20,   7.7252,2,       25,    40.83,2,      1.0,2,    18.07,2,     -999,9,20230310,0728
33RO20230306  ,A16N       ,3       ,  1,30105      ,105        ,20230310,0636,  -4.9975, -24.9998,     5677,   3751.8,   2.4062,  34.8953,2,  34.9099,2,    235.2,2,    258.4,2,    36.90,2,    20.10,2,     0.02,2,     1.41,2,    0.265,2,    0.144,2,   0.2235,3,   2181.5,2,   2328.5,2,    757.5,2,       20,   7.7248,2,       25,    40.77,2,      1.0,2,    20.73,2,     -999,9,20230310,0718
33RO20230306  ,A16N       ,3       ,  1,30104      ,104        ,20230310,0636,  -4.9975, -24.9998,     5677,   4250.7,   1.5109,  34.7979,2,  34.7992,2,    216.1,2,    238.9,2,    78.10,2,    26.00,2,     0.02,2,     1.82,2,    0.136,2,    0.075,2,   0.3547,3,   2222.1,2,   2353.9,2,    871.8,2,       20,   7.6749,2,       25,    40.95,2,      0.8,2,    26.76,2,     -999,9,20230310,0708
33RO20230306  ,A16N       ,3       ,  1,30103      ,103        ,20230310,0636,  -4.9975, -24.9998,     5677,   4751.1,   0.9275,  34.7308,2,  34.7386,2,    203.1,2,    225.9,2,   105.40,2,    29.90,2,     0.00,2,     2.10,2,    0.088,2,    0.047,2,   0.0000,3,   2249.7,2,   2366.6,2,   -999.0,9,       20,   7.6389,2,       25,    40.10,2,      0.6,2,    28.15,2,     -999,9,20230310,0658
33RO20230306  ,A16N       ,3       ,  1,30102      ,102        ,20230310,0636,  -4.9975, -24.9998,     5677,   5250.8,   0.7930,  34.7091,2,  34.7122,2,    198.4,2,    222.7,2,   114.00,2,    31.00,2,     0.00,2,     2.18,2,    0.165,2,    0.082,2,   0.0000,3,   2255.9,2,   2368.8,2,   1003.1,2,       20,   7.6226,2,       25,    40.14,2,      0.6,2,    30.97,2,     -999,9,20230310,0647
33RO20230306  ,A16N       ,3       ,  1,30101      ,101        ,20230310,0636,  -4.9975, -24.9998,     5677,   5767.2,   0.8215,  34.7049,2,  34.7090,2,    195.8,2,    220.2,2,   115.60,2,    31.10,2,     0.00,2,     2.22,2,    0.231,2,    0.207,2,     -999,9,   2256.9,6,   2369.3,2,   1004.8,2,       20,   7.6213,2,       25,    40.78,2,      0.6,6,    29.03,2,     -999,9,20230310,0636