BOTTLE,20240601CCHHYDRO
EXPOCODE,SECT_ID,STNNBR,CASTNO,SAMPNO,BTLNBR,DATE,TIME,LATITUDE,LONGITUDE,DEPTH,CTDPRS,CTDTMP,CTDSAL,CTDSAL_FLAG_W,SALNTY,SALNTY_FLAG_W,CTDOXY,CTDOXY_FLAG_W,OXYGEN,OXYGEN_FLAG_W,SILCAT,SILCAT_FLAG_W,NITRAT,NITRAT_FLAG_W,NITRIT,NITRIT_FLAG_W,PHSPHT,PHSPHT_FLAG_W,CFC-11,CFC-11_FLAG_W,CFC-12,CFC-12_FLAG_W,SF6,SF6_FLAG_W,TCARBN,TCARBN_FLAG_W,ALKALI,ALKALI_FLAG_W,FCO2,FCO2_FLAG_W,FCO2TMP,PH_TOT,PH_TOT_FLAG_W,PH_TMP,DOC,DOC_FLAG_W,DELC13,DELC13_FLAG_W,TDN,TDN_FLAG_W,N2O,N2O_FLAG_W,BTL_DATE,BTL_TIME
,,,,,,,,,,METERS,DBAR,ITS-90,PSS-78,,PSS-78,,UMOL/KG,,UMOL/KG,,UMOL/KG,,UMOL/KG,,UMOL/KG,,UMOL/KG,,PMOL/KG,,PMOL/KG,,FMOL/KG,,UMOL/KG,,UMOL/KG,,UATM,,DEG C,,,DEG C,UMOL/KG,,/MILLE,,UMOL/KG,,NMOL/KG,,,
33RO20230306  ,A16N       ,38      ,  2,380224     ,224        ,20230320,1815,   9.5003, -28.2516,     5392,      3.0,  26.0719,  35.8030,2,  35.8065,2,    198.2,2,    207.2,2,     0.90,2,     0.00,2,     0.01,2,     0.04,2,    1.949,2,    0.974,2,   1.6876,2,   2020.9,6,   2345.1,2,    310.0,2,       20,   8.0552,2,       25,    73.07,2,      1.1,6,     4.68,2,      6.5,2,20230320,2015
33RO20230306  ,A16N       ,38      ,  2,380223     ,223        ,20230320,1815,   9.5003, -28.2516,     5392,     13.7,  26.0528,  35.8010,2,  35.8075,2,    198.3,2,    207.4,2,     1.00,2,     0.00,2,     0.01,2,     0.04,2,    1.901,2,    0.997,2,   1.7816,2,   2020.4,2,   2345.3,2,    310.9,2,       20,   8.0559,2,       25,    70.19,2,      1.2,2,     4.20,2,      6.5,2,20230320,2013
33RO20230306  ,A16N       ,38      ,  2,380222     ,222        ,20230320,1815,   9.5003, -28.2516,     5392,     51.3,  25.0014,  35.8441,2,  35.8454,2,    204.7,2,    213.0,2,     1.10,2,     0.00,2,     0.01,2,     0.04,2,    1.903,2,    1.001,2,   1.8150,2,   2020.9,2,   2347.2,2,    313.9,2,       20,   8.0576,2,       25,    72.34,2,      1.1,2,     5.01,2,      7.1,2,20230320,2010
33RO20230306  ,A16N       ,38      ,  2,380221     ,221        ,20230320,1815,   9.5003, -28.2516,     5392,     81.5,  16.5837,  35.6664,2,  35.6678,2,     95.6,2,     94.3,2,     5.50,2,    18.80,2,     0.29,2,     1.21,2,    2.523,2,    1.263,2,   1.1982,2,   2196.3,2,   2337.1,2,    840.7,2,       20,   7.6889,2,       25,    54.77,2,      0.3,2,    21.90,2,     28.2,2,20230320,2008
33RO20230306  ,A16N       ,38      ,  2,380220     ,220        ,20230320,1815,   9.5003, -28.2516,     5392,    109.8,  14.7244,  35.5043,2,  35.5117,2,     83.5,2,     87.4,2,     7.20,2,    22.80,2,     0.05,2,     1.46,2,    2.551,2,    1.310,2,   1.2300,2,   2208.6,2,   2326.0,2,    955.3,2,       20,   7.6390,2,       25,    48.86,2,      0.1,2,    23.66,2,     30.5,2,20230320,2007
33RO20230306  ,A16N       ,38      ,  2,380219     ,219        ,20230320,1815,   9.5003, -28.2516,     5392,    170.8,  12.4675,  35.2405,2,  35.2434,2,    106.2,2,    111.8,2,     9.00,2,    23.10,2,     0.01,2,     1.52,2,    2.543,2,    1.310,2,   1.0252,2,   2198.8,2,   2316.4,2,    944.6,2,       20,   7.6408,2,       25,    49.66,2,      0.4,2,    26.29,2,     28.0,2,20230320,2005
33RO20230306  ,A16N       ,38      ,  2,380218     ,218        ,20230320,1815,   9.5003, -28.2516,     5392,    250.5,  11.5029,  35.1373,2,  35.1398,2,     88.6,2,     88.3,2,    10.90,2,    27.10,2,     0.01,2,     1.73,2,    2.233,2,    1.185,2,   0.7015,2,   2216.4,2,   2311.2,2,   1103.8,2,       20,   7.5802,2,       25,    46.46,2,      0.3,2,    29.57,2,     32.2,2,20230320,2002
33RO20230306  ,A16N       ,38      ,  2,380217     ,217        ,20230320,1815,   9.5003, -28.2516,     5392,    334.5,  10.6150,  35.0608,2,  35.0618,2,     67.2,2,     70.2,2,    13.00,2,    31.00,2,     0.01,2,     1.93,2,    1.813,2,    0.961,2,   0.5617,2,   2230.3,2,   2306.6,2,   1280.5,2,       20,   7.5221,2,       25,    47.06,2,      0.1,2,    33.14,2,     35.0,2,20230320,2000
33RO20230306  ,A16N       ,38      ,  2,380216     ,216        ,20230320,1815,   9.5003, -28.2516,     5392,    406.1,  10.2391,  35.1034,2,  35.1040,2,     41.6,2,     42.4,2,    14.60,2,    34.50,2,     0.01,2,     2.12,2,    1.259,2,    0.695,2,   0.4558,2,   2248.8,6,   2306.4,2,   1466.2,2,       20,   7.4679,2,       25,    47.68,2,      0.1,2,    37.17,2,     37.9,2,20230320,1958
33RO20230306  ,A16N       ,38      ,  2,380215     ,215        ,20230320,1815,   9.5003, -28.2516,     5392,    590.3,   7.8906,  34.8675,2,  34.8676,2,     56.4,2,     60.0,2,    20.50,2,    37.30,2,     0.01,2,     2.38,2,    0.430,2,    0.236,2,   0.1171,2,   2248.1,2,   2300.2,2,   1502.0,2,       20,   7.4573,2,       25,    45.49,2,      0.3,2,    40.20,2,     33.0,2,20230320,1953
33RO20230306  ,A16N       ,38      ,  2,380214     ,214        ,20230320,1815,   9.5003, -28.2516,     5392,    749.4,   6.3631,  34.7222,2,  34.7292,2,     85.2,2,     91.6,2,    25.00,2,    36.90,2,     0.01,2,     2.41,2,    0.170,2,    0.094,2,   0.0463,3,   2238.7,2,   2298.9,2,   1400.7,2,       20,   7.4847,2,       25,    43.17,2,      0.4,2,    39.34,2,     28.4,2,20230320,1949
33RO20230306  ,A16N       ,38      ,  2,380213     ,213        ,20230320,1815,   9.5003, -28.2516,     5392,    919.9,   5.5255,  34.7221,2,  34.7238,6,    110.4,2,    117.1,2,    27.40,2,    34.90,2,     0.01,2,     2.33,2,    0.049,2,    0.029,2,   0.0000,3,   2229.0,2,   2304.0,2,   1266.7,2,       20,   7.5218,2,       25,    42.58,2,      0.5,2,    36.14,2,     25.2,2,20230320,1946
33RO20230306  ,A16N       ,38      ,  2,380212     ,212        ,20230320,1815,   9.5003, -28.2516,     5392,   1110.1,   5.1657,  34.8391,2,  34.8459,2,    136.6,2,    145.4,2,    25.80,2,    30.80,2,     0.01,2,     2.08,2,    0.037,2,    0.022,2,   0.0517,2,   2216.0,2,   2309.4,2,   1102.6,2,       20,   7.5775,2,       25,    44.12,2,      0.7,2,    31.71,2,     22.2,2,20230320,1941
33RO20230306  ,A16N       ,38      ,  2,380211     ,211        ,20230320,1815,   9.5003, -28.2516,     5392,   1251.5,   4.8250,  34.8933,2,  34.9000,2,    160.8,2,    171.1,2,    23.90,2,    27.80,2,     0.01,2,     1.89,2,    0.061,2,    0.035,2,   0.0919,2,   2204.5,2,   2312.5,2,    989.7,2,       20,   7.6188,2,       25,    44.25,2,      0.9,2,    29.79,2,     19.6,2,20230320,1938
33RO20230306  ,A16N       ,38      ,  2,380210     ,210        ,20230320,1815,   9.5003, -28.2516,     5392,   1400.8,   4.4702,  34.9307,2,  34.9337,2,    184.6,2,    197.3,2,    22.30,2,    24.90,2,     0.01,2,     1.70,2,    0.092,2,    0.050,2,   0.0214,2,   2190.2,2,   2312.3,2,    895.7,2,       20,   7.6578,2,       25,    42.75,2,      0.9,2,    25.23,2,     17.8,2,20230320,1934
33RO20230306  ,A16N       ,38      ,  2,380209     ,209        ,20230320,1815,   9.5003, -28.2516,     5392,   1601.6,   4.1591,  34.9725,2,  34.9805,2,    212.6,2,    227.7,2,    19.20,2,    21.50,2,     0.01,2,     1.47,2,    0.274,2,    0.149,2,   0.1661,2,   2173.8,2,   2313.0,2,    804.7,2,       20,   7.6969,2,       25,    44.10,3,      1.0,2,    21.83,2,     15.5,2,20230320,1930
33RO20230306  ,A16N       ,38      ,  2,380208     ,208        ,20230320,1815,   9.5003, -28.2516,     5392,   1949.8,   3.6205,  34.9650,2,  34.9675,2,    226.2,2,    243.8,2,    21.30,2,    20.30,2,     0.01,2,     1.40,2,    0.158,2,    0.086,2,   0.0600,3,   2169.7,2,   2315.7,2,    764.6,2,       20,   7.7171,2,       25,    46.43,3,      0.9,2,    21.12,2,     14.4,2,20230320,1922
33RO20230306  ,A16N       ,38      ,  2,380207     ,207        ,20230320,1815,   9.5003, -28.2516,     5392,   2450.3,   3.1104,  34.9467,2,  34.9486,2,    230.3,2,    248.1,2,    26.90,2,    20.20,2,     0.01,2,     1.39,2,    0.065,2,    0.041,2,   0.0000,2,   2172.0,2,   2321.3,2,    751.9,2,       20,   7.7229,2,       25,    43.47,3,      0.9,2,    21.47,2,     14.2,2,20230320,1912
33RO20230306  ,A16N       ,38      ,  2,380206     ,206        ,20230320,1815,   9.5003, -28.2516,     5392,   2900.8,   2.7900,  34.9268,2,  34.9292,2,    229.4,2,    249.1,2,    32.60,2,    20.60,2,     0.01,2,     1.42,2,    0.046,2,    0.027,2,   0.0220,2,   2179.0,2,   2326.2,2,    754.7,2,       20,   7.7234,2,       25,    44.35,3,      0.9,2,    22.09,2,     14.1,2,20230320,1902
33RO20230306  ,A16N       ,38      ,  2,380205     ,205        ,20230320,1815,   9.5003, -28.2516,     5392,   3401.1,   2.5520,  34.9059,2,  34.9079,2,    226.6,2,    235.1,2,    38.70,2,    21.20,2,     0.01,2,     1.47,2,    0.044,2,    0.028,2,   0.0229,3,   2183.8,2,   2332.8,2,    766.2,6,       20,   7.7194,2,       25,    41.81,2,      1.1,2,    23.33,2,     14.3,2,20230320,1853
33RO20230306  ,A16N       ,38      ,  2,380204     ,204        ,20230320,1815,   9.5003, -28.2516,     5392,   3897.4,   2.3935,  34.8912,2,  34.8932,6,    227.4,2,    239.0,2,    41.80,2,    21.10,2,     0.01,2,     1.46,2,    0.152,6,    0.083,6,   0.0677,3,   2187.7,2,   2333.4,2,    771.6,2,       20,   7.7176,2,       25,    43.48,3,      0.9,2,    22.52,2,     14.5,6,20230320,1843
33RO20230306  ,A16N       ,38      ,  2,380203     ,203        ,20230320,1815,   9.5003, -28.2516,     5392,   4400.3,   2.3080,  34.8799,2,  34.8838,2,    223.2,2,    248.6,2,    46.70,2,    21.80,2,     0.01,2,     1.51,2,    0.117,2,    0.070,2,   0.0905,3,   2195.0,2,   2339.7,2,    777.4,2,       20,   7.7147,2,       25,    41.77,2,      1.0,2,    21.70,2,     15.0,2,20230320,1834
33RO20230306  ,A16N       ,38      ,  2,380202     ,202        ,20230320,1815,   9.5003, -28.2516,     5392,   4900.6,   2.2670,  34.8715,2,  34.8765,2,    217.8,2,    244.5,2,    51.10,2,    22.40,2,     0.01,2,     1.54,2,    0.072,2,    0.046,2,   0.0840,2,   2203.0,2,   2349.4,2,   -999.0,9,       20,   7.7131,2,       25,    42.66,2,      1.0,2,    24.48,2,     15.6,2,20230320,1825
33RO20230306  ,A16N       ,38      ,  2,380201     ,201        ,20230320,1815,   9.5003, -28.2516,     5392,   5476.8,   2.3100,  34.8677,2,  34.8793,2,    217.0,2,    244.5,2,    51.70,2,    22.50,2,     0.01,2,     1.54,2,    0.119,2,    0.066,2,   0.0411,2,   2204.1,6,   2350.5,2,    785.7,2,       20,   7.7108,2,       25,    41.96,2,      0.9,6,    22.67,2,     15.7,2,20230320,1815
33RO20230306  ,A16N       ,39      ,  1,390124     ,224        ,20230321,0116,  10.0008, -28.5060,     5315,      3.2,  25.6418,  35.7256,2,  35.7241,2,    199.5,2,    208.5,2,     0.90,2,     0.00,2,     0.01,2,     0.04,2,     -999,9,     -999,9,     -999,9,   2018.1,6,   2340.2,2,    310.0,2,       20,   8.0545,2,       25,    75.01,2,      1.2,2,     5.04,2,     -999,9,20230321,0322
33RO20230306  ,A16N       ,39      ,  1,390123     ,223        ,20230321,0116,  10.0008, -28.5060,     5315,     20.5,  25.6529,  35.7244,2,  35.7240,2,    199.6,2,    207.8,2,     1.00,2,     0.00,2,     0.01,2,     0.03,2,    1.591,2,    0.992,2,   1.7577,2,   2017.7,2,   2341.2,6,    311.2,2,       20,   8.0567,6,       25,  -999.00,9,      1.2,2,  -999.00,9,      6.3,2,20230321,0319
33RO20230306  ,A16N       ,39      ,  1,390122     ,222        ,20230321,0116,  10.0008, -28.5060,     5315,     39.3,  25.5683,  35.7279,2,  35.7315,2,    200.1,2,    207.5,2,     1.10,2,     0.00,2,     0.01,2,     0.05,2,    1.609,2,    0.997,2,   1.9433,2,   2021.8,2,   2341.7,2,    318.7,2,       20,   8.0498,2,       25,  -999.00,9,      1.2,2,  -999.00,9,      7.1,2,20230321,0316
33RO20230306  ,A16N       ,39      ,  1,390121     ,221        ,20230321,0116,  10.0008, -28.5060,     5315,     74.5,  16.7824,  35.6921,2,  35.7159,2,     95.9,2,     96.0,2,     5.40,2,    18.50,2,     0.28,2,     1.19,2,    2.189,2,    1.268,2,   1.3093,2,   2199.3,2,   2338.4,2,    838.5,2,       20,   7.6900,2,       25,  -999.00,9,      0.2,2,  -999.00,9,     28.7,2,20230321,0313
33RO20230306  ,A16N       ,39      ,  1,390120     ,220        ,20230321,0116,  10.0008, -28.5060,     5315,    101.0,  14.2949,  35.4705,2,  35.4868,2,     91.3,2,     96.2,2,     7.50,2,    22.20,2,     0.05,2,     1.45,2,    2.317,2,    1.330,2,   1.2034,2,   2204.1,2,   2325.3,2,    927.5,2,       20,   7.6501,2,       25,  -999.00,9,      0.3,2,  -999.00,9,     28.9,2,20230321,0310
33RO20230306  ,A16N       ,39      ,  1,390119     ,219        ,20230321,0116,  10.0008, -28.5060,     5315,    147.0,  12.7489,  35.2739,2,  35.2751,2,    101.7,2,    103.3,2,     8.90,2,    23.40,2,     0.02,2,     1.54,2,    2.322,6,    1.304,6,   1.0023,6,   2203.7,2,   2316.1,2,    971.0,2,       20,   7.6319,2,       25,  -999.00,9,      0.4,2,  -999.00,9,     29.0,6,20230321,0308
33RO20230306  ,A16N       ,39      ,  1,390118     ,218        ,20230321,0116,  10.0008, -28.5060,     5315,    223.7,  11.7405,  35.1752,2,  35.1767,2,     78.8,2,     83.2,2,    10.80,2,    27.40,2,     0.01,2,     1.75,2,    2.102,2,    1.165,2,   0.7226,2,   2220.0,2,   2312.1,2,   1133.8,2,       20,   7.5708,2,       25,  -999.00,9,      0.2,2,  -999.00,9,     33.9,2,20230321,0305
33RO20230306  ,A16N       ,39      ,  1,390117     ,217        ,20230321,0116,  10.0008, -28.5060,     5315,    302.0,  10.9014,  35.0890,2,  35.0936,2,     65.8,2,     71.4,2,    12.60,2,    30.40,2,     0.01,2,     1.90,2,    1.846,2,    1.013,2,   0.5358,2,   2230.8,2,   2306.6,2,   1256.4,6,       20,   7.5305,2,       25,  -999.00,9,      0.3,2,  -999.00,9,     36.1,2,20230321,0303
33RO20230306  ,A16N       ,39      ,  1,390116     ,216        ,20230321,0116,  10.0008, -28.5060,     5315,    403.6,  10.0049,  35.0700,2,  35.0704,2,     41.3,2,     43.6,2,    15.10,2,    34.80,2,     0.02,2,     2.15,2,    1.191,2,    0.652,2,   0.3039,2,   2251.7,6,   2306.8,2,   1484.6,2,       20,   7.4639,2,       25,  -999.00,9,      0.2,6,  -999.00,9,     39.2,2,20230321,0300
33RO20230306  ,A16N       ,39      ,  1,390115     ,215        ,20230321,0116,  10.0008, -28.5060,     5315,    500.0,   8.8556,  34.9639,2,  34.9657,2,     45.0,2,     47.4,2,    18.00,2,    36.60,2,     0.01,2,     2.29,2,    0.720,2,    0.393,2,   0.1670,2,   2254.4,2,   2301.5,2,   1522.3,2,       20,   7.4533,2,       25,  -999.00,9,      0.3,2,  -999.00,9,     37.0,2,20230321,0257
33RO20230306  ,A16N       ,39      ,  1,390114     ,214        ,20230321,0116,  10.0008, -28.5060,     5315,    650.3,   7.1426,  34.7982,2,  34.7980,2,     65.5,2,     72.6,2,    22.60,2,    37.40,2,     0.01,2,     2.41,2,    0.276,2,    0.151,2,   0.0575,2,   2247.7,2,   2299.9,2,   1471.2,2,       20,   7.4649,2,       25,  -999.00,9,      0.4,2,  -999.00,9,     32.3,2,20230321,0253
33RO20230306  ,A16N       ,39      ,  1,390113     ,213        ,20230321,0116,  10.0008, -28.5060,     5315,    801.4,   6.0486,  34.7130,2,  34.7116,2,     93.0,2,    100.1,2,    26.00,2,    36.30,2,     0.01,2,     2.40,2,    0.119,2,    0.066,2,   0.0000,3,   2237.9,2,   2301.1,6,   1363.3,2,       20,   7.4956,6,       25,  -999.00,9,      0.5,2,  -999.00,9,     28.7,2,20230321,0249
33RO20230306  ,A16N       ,39      ,  1,390112     ,212        ,20230321,0116,  10.0008, -28.5060,     5315,    975.3,   5.3694,  34.7491,2,  34.7659,2,    118.2,2,    121.3,2,    27.20,2,    33.50,2,     0.01,2,     2.26,2,    0.040,2,    0.020,2,   0.0000,2,   2227.2,2,   2305.1,2,   1214.6,2,       20,   7.5398,2,       25,  -999.00,9,      0.6,2,  -999.00,9,     25.7,2,20230321,0244
33RO20230306  ,A16N       ,39      ,  1,390111     ,211        ,20230321,0116,  10.0008, -28.5060,     5315,   1147.7,   5.0524,  34.8471,2,  34.8493,2,    143.9,2,    154.3,2,    25.30,2,    30.00,2,     0.01,2,     2.02,2,    0.051,2,    0.028,2,   0.0000,2,   2213.1,2,   2311.6,2,   1064.7,2,       20,   7.5914,2,       25,  -999.00,9,      0.6,2,  -999.00,9,     24.0,2,20230321,0240
33RO20230306  ,A16N       ,39      ,  1,390110     ,210        ,20230321,0116,  10.0008, -28.5060,     5315,   1298.9,   4.7998,  34.9323,2,  34.9420,2,    174.2,2,    185.7,2,    22.10,2,    25.90,2,     0.01,2,     1.76,2,    0.161,2,    0.081,2,   0.0911,3,   2196.2,2,   2313.0,2,    926.9,2,       20,   7.6448,2,       25,  -999.00,9,      0.8,2,  -999.00,9,     18.4,2,20230321,0235
33RO20230306  ,A16N       ,39      ,  1,390109     ,209        ,20230321,0116,  10.0008, -28.5060,     5315,   1525.5,   4.4010,  34.9732,2,  34.9729,2,    204.1,2,    218.5,2,    19.10,2,    22.20,2,     0.01,2,     1.52,2,    0.335,2,    0.170,2,   0.0000,2,   2180.5,2,   2315.2,2,    825.5,2,       20,   7.6875,2,       25,  -999.00,9,      0.9,2,  -999.00,9,     16.1,2,20230321,0230
33RO20230306  ,A16N       ,39      ,  1,390108     ,208        ,20230321,0116,  10.0008, -28.5060,     5315,   2046.9,   3.5344,  34.9644,2,  34.9657,2,    229.2,2,    246.7,2,    21.40,2,    20.00,2,     0.01,2,     1.37,2,    0.172,2,    0.089,2,   0.0489,3,   2169.5,2,   2317.4,2,    756.8,2,       20,   7.7215,2,       25,  -999.00,9,      1.0,2,  -999.00,9,     14.1,2,20230321,0220
33RO20230306  ,A16N       ,39      ,  1,390107     ,207        ,20230321,0116,  10.0008, -28.5060,     5315,   2374.8,   3.2063,  34.9511,2,  34.9574,2,    230.6,2,    249.2,2,    25.40,2,    20.00,2,     0.01,2,     1.39,2,    0.113,2,    0.059,2,   0.1156,3,   2172.0,2,   2320.7,2,    750.9,2,       20,   7.7249,2,       25,  -999.00,9,      1.0,2,  -999.00,9,     13.9,2,20230321,0213
33RO20230306  ,A16N       ,39      ,  1,390106     ,206        ,20230321,0116,  10.0008, -28.5060,     5315,   2801.2,   2.8462,  34.9313,2,  34.9331,2,    229.2,2,    248.9,2,    31.20,2,    20.50,2,     0.01,2,     1.40,2,    0.057,2,    0.028,2,   0.0000,2,   2177.0,2,   2326.2,2,    754.5,2,       20,   7.7230,2,       25,  -999.00,9,      1.0,2,  -999.00,9,     14.0,2,20230321,0205
33RO20230306  ,A16N       ,39      ,  1,390105     ,205        ,20230321,0116,  10.0008, -28.5060,     5315,   3299.4,   2.5694,  34.9082,2,  34.9182,2,    227.2,2,    248.7,2,    37.60,2,    21.10,2,     0.01,2,     1.46,2,    0.048,2,    0.024,2,   0.0568,2,   2183.5,2,   2331.5,2,   -999.0,9,       20,   7.7215,2,       25,  -999.00,9,      0.9,2,  -999.00,9,     14.1,2,20230321,0155
33RO20230306  ,A16N       ,39      ,  1,390104     ,204        ,20230321,0116,  10.0008, -28.5060,     5315,   3800.9,   2.4314,  34.8959,2,  34.8984,2,    224.3,2,    249.4,2,    41.90,2,    21.40,2,     0.01,2,     1.48,2,    0.043,2,    0.024,2,   0.0078,3,   2189.5,2,   2337.0,2,    769.7,2,       20,   7.7181,2,       25,  -999.00,9,      0.9,2,  -999.00,9,     14.4,2,20230321,0146
33RO20230306  ,A16N       ,39      ,  1,390103     ,203        ,20230321,0116,  10.0008, -28.5060,     5315,   4298.9,   2.3395,  34.8843,2,  34.8856,6,    223.1,2,    246.4,2,    45.40,2,    21.60,2,     0.01,2,     1.50,2,    0.075,2,    0.038,2,   0.0000,2,   2193.4,2,   2341.3,2,    774.1,2,       20,   7.7164,2,       25,  -999.00,9,      0.8,2,  -999.00,9,     14.7,2,20230321,0136
33RO20230306  ,A16N       ,39      ,  1,390102     ,202        ,20230321,0116,  10.0008, -28.5060,     5315,   4802.4,   2.2805,  34.8739,2,  34.8776,2,    218.6,2,    245.2,2,    50.00,2,    22.30,2,     0.01,2,     1.53,2,    0.068,2,    0.038,2,   0.0000,3,   2201.4,2,   2349.2,2,    780.9,2,       20,   7.7138,2,       25,  -999.00,9,      0.8,2,  -999.00,9,     15.3,2,20230321,0126
33RO20230306  ,A16N       ,39      ,  1,390101     ,201        ,20230321,0116,  10.0008, -28.5060,     5315,   5397.2,   2.2819,  34.8659,2,  34.8792,2,    217.3,2,    244.1,2,    51.50,2,    22.40,2,     0.01,2,     1.54,2,    0.155,2,    0.083,2,   0.0653,2,   2204.4,6,   2346.3,2,    787.3,2,       20,   7.7098,2,       25,  -999.00,9,      0.9,6,  -999.00,9,     15.2,2,20230321,0116