BOTTLE,20240601CCHHYDRO
EXPOCODE,SECT_ID,STNNBR,CASTNO,SAMPNO,BTLNBR,DATE,TIME,LATITUDE,LONGITUDE,DEPTH,CTDPRS,CTDTMP,CTDSAL,CTDSAL_FLAG_W,SALNTY,SALNTY_FLAG_W,CTDOXY,CTDOXY_FLAG_W,OXYGEN,OXYGEN_FLAG_W,SILCAT,SILCAT_FLAG_W,NITRAT,NITRAT_FLAG_W,NITRIT,NITRIT_FLAG_W,PHSPHT,PHSPHT_FLAG_W,CFC-11,CFC-11_FLAG_W,CFC-12,CFC-12_FLAG_W,SF6,SF6_FLAG_W,TCARBN,TCARBN_FLAG_W,ALKALI,ALKALI_FLAG_W,FCO2,FCO2_FLAG_W,FCO2TMP,PH_TOT,PH_TOT_FLAG_W,PH_TMP,DOC,DOC_FLAG_W,DELC13,DELC13_FLAG_W,TDN,TDN_FLAG_W,N2O,N2O_FLAG_W,BTL_DATE,BTL_TIME
,,,,,,,,,,METERS,DBAR,ITS-90,PSS-78,,PSS-78,,UMOL/KG,,UMOL/KG,,UMOL/KG,,UMOL/KG,,UMOL/KG,,UMOL/KG,,PMOL/KG,,PMOL/KG,,FMOL/KG,,UMOL/KG,,UMOL/KG,,UATM,,DEG C,,,DEG C,UMOL/KG,,/MILLE,,UMOL/KG,,NMOL/KG,,,
33RO20230306  ,A16N       ,48      ,  1,480124     ,224        ,20230323,2108,  14.5010, -29.0024,     5378,      3.4,  24.1749,  35.9476,2,  35.9522,2,    200.1,2,    216.0,2,     1.00,2,     0.00,2,     0.01,2,     0.08,2,    1.688,2,    1.052,2,   2.0274,2,   2037.3,6,   2354.4,2,    326.5,2,       20,   8.0387,2,       25,    70.69,2,      1.2,2,     5.00,2,      6.6,2,20230323,2304
33RO20230306  ,A16N       ,48      ,  1,480123     ,223        ,20230323,2108,  14.5010, -29.0024,     5378,     24.5,  24.1610,  35.9504,2,  35.9587,2,    200.2,2,    211.7,2,     1.00,2,     0.00,2,     0.01,2,     0.07,2,    1.688,2,    1.047,2,   1.9672,2,   2042.2,2,   2353.9,6,    327.4,2,       20,   8.0395,6,       25,    71.54,2,      1.1,2,     3.77,2,      6.5,2,20230323,2303
33RO20230306  ,A16N       ,48      ,  1,480122     ,222        ,20230323,2108,  14.5010, -29.0024,     5378,     60.4,  22.6143,  36.2761,2,  36.2905,2,    200.7,2,    210.5,2,     0.80,2,     0.00,2,     0.01,2,     0.12,2,    1.801,2,    1.109,2,   1.9999,2,   2074.8,2,   2375.2,2,    362.9,2,       20,   8.0076,2,       25,    67.11,2,      1.1,2,     4.29,2,      8.3,2,20230323,2301
33RO20230306  ,A16N       ,48      ,  1,480121     ,221        ,20230323,2108,  14.5010, -29.0024,     5378,    111.4,  16.8164,  36.1393,2,  36.1805,2,     99.0,2,    104.9,2,     4.70,2,    17.20,2,     0.06,2,     1.09,2,    2.175,2,    1.272,2,   1.4748,2,   2204.9,2,   2358.7,2,    768.2,2,       20,   7.7268,2,       25,    48.36,2,      0.0,2,    20.64,2,     23.5,2,20230323,2259
33RO20230306  ,A16N       ,48      ,  1,480120     ,220        ,20230323,2108,  14.5010, -29.0024,     5378,    191.2,  12.0199,  35.2171,2,  35.2200,2,     89.9,2,     93.9,2,    10.20,2,    25.70,2,     0.02,2,     1.69,2,    2.238,2,    1.245,2,   0.9328,2,   2216.0,2,   2315.1,2,   1054.4,2,       20,   7.5989,2,       25,    44.75,2,      0.2,2,    25.88,2,     31.8,2,20230323,2257
33RO20230306  ,A16N       ,48      ,  1,480119     ,219        ,20230323,2108,  14.5010, -29.0024,     5378,    259.7,  11.3835,  35.1499,2,  35.1501,2,     80.3,2,     82.9,2,    11.50,2,    28.10,2,     0.01,2,     1.81,2,    2.055,6,    1.125,6,   0.7303,6,   2223.9,2,   2307.7,2,   1153.5,2,       20,   7.5640,2,       25,    43.10,2,      0.1,2,    31.07,2,     34.4,6,20230323,2254
33RO20230306  ,A16N       ,48      ,  1,480118     ,218        ,20230323,2108,  14.5010, -29.0024,     5378,    351.1,  10.9748,  35.1897,2,  35.1921,2,     53.6,2,     55.7,2,    12.70,2,    31.40,2,     0.01,2,     1.96,2,    1.650,2,    0.894,2,   0.5721,2,   2242.0,2,   2311.7,2,   1311.6,2,       20,   7.5140,2,       25,    43.18,2,      0.1,2,    34.45,2,     36.0,2,20230323,2252
33RO20230306  ,A16N       ,48      ,  1,480117     ,217        ,20230323,2108,  14.5010, -29.0024,     5378,    438.5,  10.3971,  35.1656,2,  35.1687,6,     63.3,2,     66.4,2,    13.70,2,    31.40,2,     0.01,2,     1.96,2,    1.426,2,    0.769,2,   0.3965,2,   2236.3,2,   2311.3,2,   1260.6,2,       20,   7.5298,2,       25,    43.15,2,      0.2,2,    34.17,2,     32.6,2,20230323,2249
33RO20230306  ,A16N       ,48      ,  1,480116     ,216        ,20230323,2108,  14.5010, -29.0024,     5378,    574.9,   9.2635,  35.0696,2,  35.0886,2,     70.0,2,     74.7,2,    16.40,2,    32.70,2,     0.01,2,     2.07,2,    0.947,2,    0.512,2,   0.2903,2,   2235.1,6,   2308.3,2,   1267.6,2,       20,   7.5260,2,       25,    40.18,2,      0.4,2,    35.39,2,     29.1,2,20230323,2246
33RO20230306  ,A16N       ,48      ,  1,480115     ,215        ,20230323,2108,  14.5010, -29.0024,     5378,    720.9,   7.6029,  34.9051,2,  34.9037,2,     74.4,2,     80.4,2,    21.30,2,    35.40,2,     0.01,2,     2.29,2,    0.342,2,    0.187,2,   0.0978,2,   2236.3,2,   2302.1,2,   1347.0,2,       20,   7.5011,2,       25,    41.32,2,      0.4,6,    37.45,2,     29.5,2,20230323,2242
33RO20230306  ,A16N       ,48      ,  1,480114     ,214        ,20230323,2108,  14.5010, -29.0024,     5378,    876.0,   6.5351,  34.8553,2,  34.8865,2,     94.6,2,    101.4,2,    24.00,2,    34.40,2,     0.01,2,     2.28,2,    0.117,2,    0.063,2,   0.0377,2,   2233.2,2,   2302.8,2,   1265.3,2,       20,   7.5243,2,       25,    40.83,2,      0.5,2,    36.28,2,     25.4,2,20230323,2238
33RO20230306  ,A16N       ,48      ,  1,480113     ,213        ,20230323,2108,  14.5010, -29.0024,     5378,   1039.6,   5.8129,  34.8943,2,  34.9046,2,    121.8,2,    131.5,2,    24.50,2,    31.30,2,     0.01,2,     2.12,2,    0.058,2,    0.032,2,   0.0000,2,   2221.6,2,   2309.0,2,   1123.3,2,       20,   7.5719,2,       25,    40.06,2,      0.6,2,    32.19,2,     22.6,2,20230323,2234
33RO20230306  ,A16N       ,48      ,  1,480112     ,212        ,20230323,2108,  14.5010, -29.0024,     5378,   1193.8,   5.3787,  34.9420,2,  34.9459,2,    146.7,2,    158.5,2,    23.30,2,    28.40,2,     0.01,2,     1.94,2,    0.075,2,    0.042,2,   0.0000,2,   2207.5,2,   2313.4,2,   1005.6,2,       20,   7.6137,2,       25,    40.15,2,      0.8,2,    30.02,2,     20.0,2,20230323,2231
33RO20230306  ,A16N       ,48      ,  1,480111     ,211        ,20230323,2108,  14.5010, -29.0024,     5378,   1400.2,   4.8724,  34.9994,2,  35.0033,2,    172.3,2,    185.7,2,    22.50,2,    25.30,2,     0.01,2,     1.74,2,    0.037,2,    0.020,2,   0.0000,2,   2199.9,2,   2317.0,2,    900.4,2,       20,   7.6560,2,       25,    41.64,2,      0.8,2,    24.82,2,     17.5,2,20230323,2226
33RO20230306  ,A16N       ,48      ,  1,480110     ,210        ,20230323,2108,  14.5010, -29.0024,     5378,   1700.7,   4.1192,  34.9877,2,  34.9958,2,    200.2,2,    215.9,2,    22.50,2,    22.50,2,     0.01,2,     1.57,2,    0.041,2,    0.022,2,   0.0000,2,   2181.0,2,   2314.8,6,    818.9,2,       20,   7.6901,6,       25,    42.31,2,      0.8,2,    24.90,2,     15.1,2,20230323,2220
33RO20230306  ,A16N       ,48      ,  1,480109     ,209        ,20230323,2108,  14.5010, -29.0024,     5378,   2200.3,   3.3974,  34.9645,2,  34.9734,2,    217.1,2,    235.8,2,    26.50,2,    21.30,2,     0.01,2,     1.49,2,    0.012,2,    0.006,2,   0.0000,2,   2176.0,2,   2321.4,2,    774.7,6,       20,   7.7121,2,       25,    40.34,2,      1.0,2,    22.89,2,     13.6,2,20230323,2210
33RO20230306  ,A16N       ,48      ,  1,480108     ,208        ,20230323,2108,  14.5010, -29.0024,     5378,   2416.3,   3.1988,  34.9555,2,  34.9638,6,    216.6,2,    234.3,2,    29.70,2,    21.40,2,     0.01,2,     1.50,2,    0.005,2,    0.002,2,   0.0000,2,   2182.6,2,   2326.7,2,    775.8,2,       20,   7.7141,2,       25,    40.86,2,      0.9,2,    22.06,2,     13.4,2,20230323,2206
33RO20230306  ,A16N       ,48      ,  1,480107     ,207        ,20230323,2108,  14.5010, -29.0024,     5378,   2825.4,   2.8952,  34.9384,2,  34.9454,2,    219.7,2,    239.8,2,    33.60,2,    21.30,2,     0.01,2,     1.48,2,    0.004,2,    0.003,2,   0.0000,2,   2186.3,2,   2328.1,2,    764.4,2,       20,   7.7185,2,       25,    41.69,2,      0.9,2,    22.24,2,     13.4,2,20230323,2158
33RO20230306  ,A16N       ,48      ,  1,480106     ,206        ,20230323,2108,  14.5010, -29.0024,     5378,   3324.4,   2.6154,  34.9186,2,  34.9237,2,    223.1,2,    245.1,2,    38.30,2,    21.30,2,     0.01,2,     1.49,2,    0.006,2,    0.005,2,   0.0000,2,   2186.2,2,   2334.0,2,    756.5,2,       20,   7.7238,2,       25,    42.12,2,      0.9,2,    23.30,2,     13.2,2,20230323,2149
33RO20230306  ,A16N       ,48      ,  1,480105     ,205        ,20230323,2108,  14.5010, -29.0024,     5378,   3872.4,   2.4219,  34.8991,2,  34.9118,2,    215.7,2,    238.8,2,    45.50,2,    22.40,2,     0.01,2,     1.55,2,    0.004,2,    0.001,2,   0.0688,2,   2201.4,2,   2344.3,2,    773.0,2,       20,   7.7187,2,       25,    40.93,2,      0.8,2,    23.94,2,      5.7,9,20230323,2139
33RO20230306  ,A16N       ,48      ,  1,480104     ,204        ,20230323,2108,  14.5010, -29.0024,     5378,   4348.0,   2.3366,  34.8842,2,  34.8856,2,    210.9,2,    234.5,2,    50.60,6,    23.00,6,     0.01,6,     1.59,6,    0.010,2,    0.004,2,   0.0592,2,   2208.4,2,   2347.7,2,    787.5,2,       20,   7.7099,2,       25,    41.20,2,      0.9,2,    25.06,2,      6.7,9,20230323,2130
33RO20230306  ,A16N       ,48      ,  1,480103     ,203        ,20230323,2108,  14.5010, -29.0024,     5378,   4849.9,   2.3107,  34.8760,2,  34.8812,2,    212.3,2,    238.7,2,    51.50,6,    22.90,6,     0.01,6,     1.59,6,    0.027,2,    0.017,2,   0.0000,2,   2208.3,2,   2350.7,2,    785.9,2,       20,   7.7126,2,       25,    41.48,2,      0.8,2,    25.02,2,      7.8,9,20230323,2120
33RO20230306  ,A16N       ,48      ,  1,480102     ,202        ,20230323,2108,  14.5010, -29.0024,     5378,   5101.0,   2.3093,  34.8732,2,  34.8744,2,    215.3,2,    243.7,2,    50.70,6,    22.50,6,     0.01,6,     1.57,6,    0.051,2,    0.032,2,   0.0000,2,   2205.7,6,   2346.3,2,   -999.0,9,       20,   7.7129,2,       25,    42.40,2,      0.9,2,    22.41,2,      9.0,9,20230323,2115
33RO20230306  ,A16N       ,48      ,  1,480101     ,201        ,20230323,2108,  14.5010, -29.0024,     5378,   5461.1,   2.3189,  34.8688,2,  34.8770,2,    215.8,2,    244.2,2,    51.20,6,    22.50,6,     0.01,6,     1.56,6,    0.086,2,    0.051,2,   0.0000,3,   2204.4,2,   2347.4,2,    783.2,2,       20,   7.7130,2,       25,    40.88,2,      0.9,6,    21.73,2,      9.2,9,20230323,2108
33RO20230306  ,A16N       ,49      ,  1,490124     ,224        ,20230324,0343,  15.0025, -29.0035,     5292,      3.8,  24.0096,  35.9966,2,  36.0212,6,    200.0,2,    210.8,2,     1.00,2,     0.00,2,     0.00,2,     0.06,2,    1.685,2,    1.050,2,   1.8902,2,   2046.9,6,   2358.0,2,    326.9,2,       20,   8.0389,2,       25,    76.47,2,      1.1,2,     5.14,2,      6.5,2,20230324,0542
33RO20230306  ,A16N       ,49      ,  1,490123     ,223        ,20230324,0343,  15.0025, -29.0035,     5292,     33.6,  23.9805,  36.0153,2,  36.0138,2,    200.3,2,    211.8,2,     0.90,2,     0.00,2,     0.00,2,     0.06,2,    1.680,2,    1.046,2,   1.9588,2,   2047.6,2,   2356.5,2,    328.6,2,       20,   8.0364,2,       25,  -999.00,9,      1.2,2,  -999.00,9,      6.6,2,20230324,0540
33RO20230306  ,A16N       ,49      ,  1,490122     ,222        ,20230324,0343,  15.0025, -29.0035,     5292,     74.9,  20.3251,  36.6276,2,  36.6006,2,    147.0,2,    149.9,2,     1.80,2,     6.70,2,     0.34,2,     0.53,2,    2.006,2,    1.196,2,   1.6995,2,   2174.5,2,   2390.5,2,    547.3,2,       20,   7.8555,2,       25,  -999.00,9,      0.4,2,  -999.00,9,     16.2,2,20230324,0537
33RO20230306  ,A16N       ,49      ,  1,490121     ,221        ,20230324,0343,  15.0025, -29.0035,     5292,    101.5,  18.2554,  36.4502,2,  36.4618,2,    130.3,2,    128.2,2,     2.70,2,    12.20,2,     0.05,2,     0.79,2,    2.116,2,    1.256,2,   1.8204,2,   2192.2,2,   2379.9,2,    633.8,2,       20,   7.8004,2,       25,  -999.00,9,      0.2,2,  -999.00,9,     17.5,2,20230324,0535
33RO20230306  ,A16N       ,49      ,  1,490120     ,220        ,20230324,0343,  15.0025, -29.0035,     5292,    151.4,  16.1622,  36.1134,2,  36.2254,2,    105.6,2,    125.4,2,     3.90,2,    14.30,2,     0.01,2,     0.91,2,    2.192,2,    1.286,2,   1.5294,2,   2194.3,2,   2363.6,2,    685.3,2,       20,   7.7693,2,       25,  -999.00,9,      0.1,2,  -999.00,9,     19.6,2,20230324,0533
33RO20230306  ,A16N       ,49      ,  1,490119     ,219        ,20230324,0343,  15.0025, -29.0035,     5292,    213.9,  14.0384,  35.7722,2,  35.7725,2,     89.4,2,     95.8,2,     7.00,2,    21.60,2,     0.00,2,     1.34,2,    2.150,2,    1.227,2,   1.1022,2,   2213.0,2,   2339.2,2,    894.7,2,       20,   7.6649,2,       25,  -999.00,9,      0.2,2,  -999.00,9,     26.1,2,20230324,0531
33RO20230306  ,A16N       ,49      ,  1,490118     ,218        ,20230324,0343,  15.0025, -29.0035,     5292,    288.6,  12.4239,  35.5026,2,  35.5046,2,     75.9,2,     80.3,2,     9.60,2,    25.80,2,     0.00,2,     1.61,2,    1.913,2,    1.061,2,   0.8439,2,   2225.0,2,   2325.8,2,   1042.2,2,       20,   7.6040,2,       25,  -999.00,9,      0.1,2,  -999.00,9,     29.6,2,20230324,0529
33RO20230306  ,A16N       ,49      ,  1,490117     ,217        ,20230324,0343,  15.0025, -29.0035,     5292,    466.5,   9.8466,  35.1219,2,  35.1231,2,     64.8,2,     69.1,2,    14.90,2,    32.10,2,     0.00,2,     2.04,2,    1.186,2,    0.648,2,   0.3928,2,   2239.3,6,   2309.4,2,   1273.5,2,       20,   7.5238,2,       25,  -999.00,9,      0.2,6,  -999.00,9,     31.9,2,20230324,0524
33RO20230306  ,A16N       ,49      ,  1,490116     ,216        ,20230324,0343,  15.0025, -29.0035,     5292,    532.5,   9.1512,  35.0377,2,  35.0406,2,     76.3,2,     83.0,2,    16.30,2,    32.00,2,     0.00,2,     2.06,2,    1.060,2,    0.575,2,   0.2790,2,   2233.4,2,   2304.9,2,   1231.0,2,       20,   7.5367,2,       25,  -999.00,9,      0.4,2,  -999.00,9,     29.5,2,20230324,0522
33RO20230306  ,A16N       ,49      ,  1,490115     ,215        ,20230324,0343,  15.0025, -29.0035,     5292,    610.5,   8.6070,  34.9968,2,  34.9987,2,     70.6,2,     73.9,2,    18.30,2,    34.10,2,     0.00,2,     2.20,2,    0.688,2,    0.377,2,   0.2486,2,   2239.2,2,   2303.6,6,   1313.0,2,       20,   7.5120,6,       25,  -999.00,9,      0.4,2,  -999.00,9,     29.7,2,20230324,0520
33RO20230306  ,A16N       ,49      ,  1,490114     ,214        ,20230324,0343,  15.0025, -29.0035,     5292,    798.9,   7.0206,  34.8776,2,  34.8779,2,     93.3,2,    104.4,2,    22.60,2,    33.90,2,     0.00,2,     2.23,2,    0.262,2,    0.143,2,   0.1219,2,   2233.9,2,   2303.8,2,   1242.7,2,       20,   7.5311,2,       25,  -999.00,9,      0.4,2,  -999.00,9,     26.2,2,20230324,0515
33RO20230306  ,A16N       ,49      ,  1,490113     ,213        ,20230324,0343,  15.0025, -29.0035,     5292,    952.5,   6.2530,  34.8624,2,  34.8689,2,    106.1,2,    113.9,2,    24.30,2,    33.20,2,     0.00,2,     2.23,2,    0.090,2,    0.050,2,   0.0000,3,   2231.0,2,   2308.1,2,   1201.8,2,       20,   7.5441,2,       25,  -999.00,9,      0.5,2,  -999.00,9,     24.6,2,20230324,0512
33RO20230306  ,A16N       ,49      ,  1,490112     ,212        ,20230324,0343,  15.0025, -29.0035,     5292,   1102.6,   5.7202,  34.9120,2,  34.9119,6,    128.4,2,    138.6,2,    24.10,2,    30.60,2,     0.00,2,     2.09,2,    0.056,2,    0.032,2,   0.0478,2,   2220.1,2,   2308.2,2,   1089.3,6,       20,   7.5827,2,       25,  -999.00,9,      0.7,2,  -999.00,9,     22.4,2,20230324,0508
33RO20230306  ,A16N       ,49      ,  1,490111     ,211        ,20230324,0343,  15.0025, -29.0035,     5292,   1249.2,   5.4596,  34.9797,2,  34.9853,2,    148.6,2,    159.7,2,    22.90,2,    27.80,2,     0.00,2,     1.91,2,    0.056,6,    0.030,6,   0.0000,6,   2209.5,2,   2315.5,2,   -999.0,9,       20,   7.6211,2,       25,  -999.00,9,      0.8,2,  -999.00,9,     20.0,6,20230324,0505
33RO20230306  ,A16N       ,49      ,  1,490110     ,210        ,20230324,0343,  15.0025, -29.0035,     5292,   1500.5,   4.5908,  34.9942,2,  35.0025,2,    184.3,2,    198.7,2,    22.00,2,    24.10,2,     0.00,2,     1.66,2,    0.049,2,    0.027,2,   0.0000,2,   2194.9,2,   2314.8,2,    866.6,2,       20,   7.6725,2,       25,  -999.00,9,      0.9,2,  -999.00,9,     17.0,2,20230324,0459
33RO20230306  ,A16N       ,49      ,  1,490109     ,209        ,20230324,0343,  15.0025, -29.0035,     5292,   1801.7,   3.9064,  34.9828,2,  34.9992,2,    206.1,2,    221.5,2,    23.50,2,    22.20,2,     0.00,2,     1.55,2,    0.023,2,    0.013,2,   0.0398,2,   2185.1,2,   2317.5,2,    806.3,2,       20,   7.6967,2,       25,  -999.00,9,      1.0,2,  -999.00,9,     15.2,2,20230324,0453
33RO20230306  ,A16N       ,49      ,  1,490108     ,208        ,20230324,0343,  15.0025, -29.0035,     5292,   2052.8,   3.5831,  34.9733,2,  34.9794,2,    214.7,2,    232.8,2,    24.90,2,    21.40,2,     0.00,2,     1.50,2,    0.016,2,    0.009,2,   0.0000,2,   2181.5,2,   2319.9,2,    782.0,2,       20,   7.7068,2,       25,  -999.00,9,      1.0,2,  -999.00,9,     14.3,2,20230324,0448
33RO20230306  ,A16N       ,49      ,  1,490107     ,207        ,20230324,0343,  15.0025, -29.0035,     5292,   2549.5,   3.0976,  34.9506,2,  34.9521,2,    220.8,2,    240.8,2,    30.00,2,    21.00,2,     0.00,2,     1.48,2,    0.010,2,    0.005,2,   0.0000,2,   2183.0,2,   2327.2,2,    763.5,2,       20,   7.7167,2,       25,  -999.00,9,      1.0,2,  -999.00,9,     13.7,2,20230324,0438
33RO20230306  ,A16N       ,49      ,  1,490106     ,206        ,20230324,0343,  15.0025, -29.0035,     5292,   3000.0,   2.7836,  34.9319,2,  34.9329,2,    224.6,2,    245.7,2,    34.80,2,    20.90,2,     0.00,2,     1.47,2,    0.012,2,    0.007,2,   0.0407,2,   2184.9,2,   2331.3,2,    754.9,2,       20,   7.7218,2,       25,  -999.00,9,      0.9,2,  -999.00,9,     13.7,2,20230324,0429
33RO20230306  ,A16N       ,49      ,  1,490105     ,205        ,20230324,0343,  15.0025, -29.0035,     5292,   3500.1,   2.5359,  34.9116,2,  34.9117,2,    221.7,2,    244.4,2,    40.60,2,    21.50,2,     0.00,2,     1.52,2,    0.007,2,    0.003,2,   0.0000,2,   2196.3,2,   2337.4,2,    760.2,2,       20,   7.7235,2,       25,  -999.00,9,      0.9,2,  -999.00,9,     13.7,2,20230324,0419
33RO20230306  ,A16N       ,49      ,  1,490104     ,204        ,20230324,0343,  15.0025, -29.0035,     5292,   3950.7,   2.4027,  34.8962,2,  34.9010,2,    216.1,2,    238.9,2,    46.10,2,    22.30,2,     0.00,2,     1.56,2,    0.010,2,    0.006,2,   0.0000,2,   2203.1,2,   2346.6,2,    772.6,2,       20,   7.7177,2,       25,  -999.00,9,      0.9,2,  -999.00,9,     -999,9,20230324,0410
33RO20230306  ,A16N       ,49      ,  1,490103     ,203        ,20230324,0343,  15.0025, -29.0035,     5292,   4447.9,   2.3219,  34.8813,2,  34.8825,2,    210.0,2,    234.9,2,    51.40,2,    23.00,2,     0.00,2,     1.60,2,    0.015,2,    0.008,2,   0.0000,2,   2213.7,2,   2354.3,2,    792.5,2,       20,   7.7109,2,       25,  -999.00,9,      0.9,2,  -999.00,9,     14.2,2,20230324,0401
33RO20230306  ,A16N       ,49      ,  1,490102     ,202        ,20230324,0343,  15.0025, -29.0035,     5292,   4901.2,   2.3120,  34.8757,2,  34.8786,2,    214.2,2,    241.3,2,    50.50,2,    22.60,2,     0.00,2,     1.58,2,    0.046,2,    0.024,2,   0.0000,2,   2207.4,2,   2347.8,2,    784.7,2,       20,   7.7140,2,       25,  -999.00,9,      0.9,2,  -999.00,9,     14.3,2,20230324,0352
33RO20230306  ,A16N       ,49      ,  1,490101     ,201        ,20230324,0343,  15.0025, -29.0035,     5292,   5373.9,   2.3141,  34.8695,2,  34.8716,2,    215.6,2,    244.7,2,    50.80,2,    22.50,2,     0.00,2,     1.56,2,     -999,9,     -999,9,     -999,9,   2206.9,6,   2344.5,2,    782.1,2,       20,   7.7182,2,       25,  -999.00,9,      0.9,6,  -999.00,9,     -999,9,20230324,0343