BOTTLE,20240601CCHHYDRO
EXPOCODE,SECT_ID,STNNBR,CASTNO,SAMPNO,BTLNBR,DATE,TIME,LATITUDE,LONGITUDE,DEPTH,CTDPRS,CTDTMP,CTDSAL,CTDSAL_FLAG_W,SALNTY,SALNTY_FLAG_W,CTDOXY,CTDOXY_FLAG_W,OXYGEN,OXYGEN_FLAG_W,SILCAT,SILCAT_FLAG_W,NITRAT,NITRAT_FLAG_W,NITRIT,NITRIT_FLAG_W,PHSPHT,PHSPHT_FLAG_W,CFC-11,CFC-11_FLAG_W,CFC-12,CFC-12_FLAG_W,SF6,SF6_FLAG_W,TCARBN,TCARBN_FLAG_W,ALKALI,ALKALI_FLAG_W,FCO2,FCO2_FLAG_W,FCO2TMP,PH_TOT,PH_TOT_FLAG_W,PH_TMP,DOC,DOC_FLAG_W,DELC13,DELC13_FLAG_W,TDN,TDN_FLAG_W,N2O,N2O_FLAG_W,BTL_DATE,BTL_TIME
,,,,,,,,,,METERS,DBAR,ITS-90,PSS-78,,PSS-78,,UMOL/KG,,UMOL/KG,,UMOL/KG,,UMOL/KG,,UMOL/KG,,UMOL/KG,,PMOL/KG,,PMOL/KG,,FMOL/KG,,UMOL/KG,,UMOL/KG,,UATM,,DEG C,,,DEG C,UMOL/KG,,/MILLE,,UMOL/KG,,NMOL/KG,,,
33RO20230306  ,A16N       ,14      ,  2,140224     ,124        ,20230313,1122,  -0.6638, -24.9979,     3230,      4.3,  28.3240,  35.5627,2,  35.6187,2,    189.2,2,    198.9,2,     1.20,2,     0.00,2,     0.01,2,     0.06,2,    1.410,2,    0.918,2,   1.8798,2,   2019.6,6,   2329.8,2,    312.8,2,       20,   8.0502,2,       25,    68.54,2,      1.1,2,     4.64,2,      5.9,2,20230313,1249
33RO20230306  ,A16N       ,14      ,  2,140223     ,123        ,20230313,1122,  -0.6638, -24.9979,     3230,     24.5,  28.1230,  35.9028,2,  35.9045,2,    190.4,2,    199.4,2,     1.20,2,     0.00,2,     0.01,2,     0.07,2,    1.416,2,    0.917,2,   1.7097,2,   2040.7,2,   2348.5,2,    318.3,2,       20,   8.0456,2,       25,  -999.00,9,      1.1,2,  -999.00,9,      5.8,2,20230313,1246
33RO20230306  ,A16N       ,14      ,  2,140222     ,122        ,20230313,1122,  -0.6638, -24.9979,     3230,     40.3,  27.4599,  36.2086,2,  36.2171,2,    194.1,2,    199.6,2,     2.10,2,     0.00,2,     0.02,2,     0.11,2,    1.477,2,    0.954,2,   1.7815,2,   2066.4,2,   2369.2,2,    336.1,2,       20,   8.0310,2,       25,  -999.00,9,      1.1,2,  -999.00,9,      6.3,2,20230313,1245
33RO20230306  ,A16N       ,14      ,  2,140221     ,121        ,20230313,1122,  -0.6638, -24.9979,     3230,     79.2,  20.8963,  36.3019,2,  36.2898,2,    167.2,2,    171.2,2,     2.90,2,     5.80,2,     0.18,2,     0.55,2,    1.953,2,    1.208,2,   1.8514,2,   2146.4,2,   2376.3,2,    477.2,2,       20,   7.9053,2,       25,  -999.00,9,      0.8,2,  -999.00,9,     11.4,2,20230313,1243
33RO20230306  ,A16N       ,14      ,  2,140220     ,120        ,20230313,1122,  -0.6638, -24.9979,     3230,    115.0,  15.5971,  35.6277,2,  35.6346,2,    147.1,2,    154.0,2,     5.40,2,    13.60,2,     0.06,2,     1.01,2,    2.341,2,    1.393,2,   1.8471,2,   2171.9,2,   2336.6,2,    653.0,2,       20,   7.7836,2,       25,  -999.00,9,      0.5,2,  -999.00,9,     17.4,2,20230313,1241
33RO20230306  ,A16N       ,14      ,  2,140219     ,119        ,20230313,1122,  -0.6638, -24.9979,     3230,    132.1,  14.8604,  35.5211,2,  35.5171,6,    145.2,2,    151.4,2,     6.00,2,    15.00,2,     0.03,2,     1.09,2,    2.383,2,    1.412,2,   1.7111,2,   2172.5,2,   2332.0,2,    688.9,2,       20,   7.7639,2,       25,  -999.00,9,      0.5,2,  -999.00,9,     18.4,2,20230313,1239
33RO20230306  ,A16N       ,14      ,  2,140218     ,118        ,20230313,1122,  -0.6638, -24.9979,     3230,    163.1,  14.1550,  35.4212,2,  35.4382,2,    140.9,2,    145.4,2,     6.70,2,    16.70,2,     0.02,2,     1.19,2,    2.408,2,    1.425,2,   1.3792,2,   2179.0,2,   2323.5,2,    735.1,2,       20,   7.7388,2,       25,  -999.00,9,      0.5,2,  -999.00,9,     20.0,2,20230313,1237
33RO20230306  ,A16N       ,14      ,  2,140217     ,117        ,20230313,1122,  -0.6638, -24.9979,     3230,    227.6,  13.1202,  35.2900,2,  35.2903,2,    101.8,2,    103.7,2,     9.00,2,    23.10,2,     0.02,2,     1.53,2,    2.286,2,    1.326,2,   0.9833,2,   2207.4,2,   2313.6,2,    947.8,2,       20,   7.6403,2,       25,  -999.00,9,      0.3,2,  -999.00,9,     27.3,2,20230313,1235
33RO20230306  ,A16N       ,14      ,  2,140216     ,116        ,20230313,1122,  -0.6638, -24.9979,     3230,    270.6,  12.5475,  35.2189,2,  35.2176,2,     91.7,2,     95.4,2,    10.10,2,    25.10,2,     0.02,2,     1.64,2,    2.211,6,    1.266,6,   1.1155,6,   2217.1,2,   2310.4,2,   1022.4,2,       20,   7.6102,2,       25,  -999.00,9,      0.3,2,  -999.00,9,     28.8,6,20230313,1233
33RO20230306  ,A16N       ,14      ,  2,140215     ,115        ,20230313,1122,  -0.6638, -24.9979,     3230,    358.6,  10.1013,  34.9294,2,  34.9210,2,     83.5,2,     90.0,2,    14.30,2,    30.40,2,     0.02,2,     1.94,2,    1.939,2,    1.070,2,   0.7808,2,   2227.7,6,   2297.9,2,   1215.2,2,       20,   7.5397,2,       25,  -999.00,9,      0.3,6,  -999.00,9,     31.8,2,20230313,1230
33RO20230306  ,A16N       ,14      ,  2,140214     ,114        ,20230313,1122,  -0.6638, -24.9979,     3230,    441.4,   8.4681,  34.7457,2,  34.7456,2,     99.6,2,    109.0,2,    17.30,2,    31.70,2,     0.01,2,     2.06,2,    1.807,2,    0.972,2,   0.6481,2,   2224.1,2,   2291.4,2,   1218.1,2,       20,   7.5380,2,       25,  -999.00,9,      0.4,2,  -999.00,9,     28.8,2,20230313,1227
33RO20230306  ,A16N       ,14      ,  2,140213     ,113        ,20230313,1122,  -0.6638, -24.9979,     3230,    510.2,   7.3258,  34.6272,2,  34.6297,2,    125.9,2,    131.4,2,    19.90,2,    31.80,2,     0.02,2,     2.12,2,    1.720,2,    0.925,2,   0.5965,2,   2216.6,2,   2290.3,2,   1165.4,2,       20,   7.5540,2,       25,  -999.00,9,      0.6,2,  -999.00,9,     25.5,2,20230313,1225
33RO20230306  ,A16N       ,14      ,  2,140212     ,112        ,20230313,1122,  -0.6638, -24.9979,     3230,    590.3,   6.6318,  34.5698,2,  34.5712,2,    131.8,2,    137.5,2,    22.50,2,    32.70,2,     0.02,2,     2.17,2,    1.491,2,    0.782,2,   0.5129,2,   2214.8,2,   2289.3,2,   1176.8,2,       20,   7.5524,2,       25,  -999.00,9,      0.6,2,  -999.00,9,     24.7,2,20230313,1222
33RO20230306  ,A16N       ,14      ,  2,140211     ,111        ,20230313,1122,  -0.6638, -24.9979,     3230,    699.6,   5.7242,  34.5210,2,  34.5252,2,    134.3,2,    140.2,2,    26.80,2,    34.20,2,     0.01,2,     2.31,2,    1.007,2,    0.523,2,   0.2903,2,   2220.1,2,   2291.8,2,   1208.4,2,       20,   7.5427,2,       25,  -999.00,9,      0.7,2,  -999.00,9,     24.3,2,20230313,1219
33RO20230306  ,A16N       ,14      ,  2,140210     ,110        ,20230313,1122,  -0.6638, -24.9979,     3230,    802.7,   5.1745,  34.5053,2,  34.5070,2,    137.6,2,    145.4,2,    29.80,2,    34.60,2,     0.01,2,     2.34,2,    0.685,2,    0.353,2,   0.1961,3,   2223.8,2,   2294.5,2,   1208.4,2,       20,   7.5414,2,       25,  -999.00,9,      0.6,2,  -999.00,9,     23.9,2,20230313,1216
33RO20230306  ,A16N       ,14      ,  2,140209     ,109        ,20230313,1122,  -0.6638, -24.9979,     3230,    975.2,   4.6445,  34.5713,2,  34.5785,2,    145.4,2,    153.7,2,    32.40,2,    33.60,2,     0.02,2,     2.30,2,    0.287,2,    0.155,2,   0.0000,2,   2224.6,2,   2299.2,2,   1158.9,2,       20,   7.5562,2,       25,  -999.00,9,      0.8,2,  -999.00,9,     22.4,2,20230313,1212
33RO20230306  ,A16N       ,14      ,  2,140208     ,108        ,20230313,1122,  -0.6638, -24.9979,     3230,   1125.0,   4.6040,  34.7858,2,  34.7878,2,    166.3,2,    176.2,2,    27.20,2,    28.80,2,     0.03,2,     1.97,2,    0.206,2,    0.114,2,   0.0000,3,   2211.0,2,   2305.7,2,   1007.2,2,       20,   7.6116,2,       25,  -999.00,9,      0.9,2,  -999.00,9,     20.1,2,20230313,1208
33RO20230306  ,A16N       ,14      ,  2,140207     ,107        ,20230313,1122,  -0.6638, -24.9979,     3230,   1275.6,   4.5630,  34.8997,2,  34.9072,2,    188.8,2,    200.3,2,    22.60,2,    24.90,2,     0.01,2,     1.70,2,    0.398,2,    0.209,2,   0.1958,3,   2191.3,2,   2308.7,2,    897.9,2,       20,   7.6559,2,       25,  -999.00,9,      0.8,2,  -999.00,9,     17.7,2,20230313,1204
33RO20230306  ,A16N       ,14      ,  2,140206     ,106        ,20230313,1122,  -0.6638, -24.9979,     3230,   1423.1,   4.4723,  34.9247,2,  34.9344,2,    197.4,2,    209.7,2,    21.40,2,    23.60,2,     0.01,2,     1.61,2,    0.447,2,    0.230,2,   0.0628,2,   2191.2,2,   2308.5,2,    863.6,2,       20,   7.6695,2,       25,  -999.00,9,      0.9,2,  -999.00,9,     16.8,2,20230313,1200
33RO20230306  ,A16N       ,14      ,  2,140205     ,105        ,20230313,1122,  -0.6638, -24.9979,     3230,   1726.7,   3.9315,  34.9726,2,  34.9765,2,    230.2,2,    246.3,2,    18.00,2,    19.50,2,     0.02,2,     1.33,2,    0.916,2,    0.463,2,   0.2189,2,   2173.1,2,   2308.5,2,    770.0,2,       20,   7.7141,2,       25,  -999.00,9,      1.0,2,  -999.00,9,     14.0,2,20230313,1154
33RO20230306  ,A16N       ,14      ,  2,140204     ,104        ,20230313,1122,  -0.6638, -24.9979,     3230,   2200.0,   3.3533,  34.9509,2,  34.9604,2,    233.4,2,    251.0,2,    23.80,2,    19.60,2,     0.01,2,     1.34,2,    0.483,2,    0.245,2,   0.1236,2,   2176.9,2,   2312.2,2,   -999.0,9,       20,   7.7227,2,       25,  -999.00,9,      0.9,2,  -999.00,9,     13.5,2,20230313,1144
33RO20230306  ,A16N       ,14      ,  2,140203     ,103        ,20230313,1122,  -0.6638, -24.9979,     3230,   2600.0,   2.8697,  34.9220,2,  34.9253,2,    228.5,2,    247.6,2,    33.60,2,    20.80,2,     0.02,2,     1.42,2,    0.218,2,    0.115,2,   0.0165,2,   2183.7,2,   2324.8,2,    765.2,6,       20,   7.7175,2,       25,  -999.00,9,      1.0,2,  -999.00,9,     15.1,2,20230313,1136
33RO20230306  ,A16N       ,14      ,  2,140202     ,102        ,20230313,1122,  -0.6638, -24.9979,     3230,   2999.9,   2.6727,  34.9095,2,  34.9119,6,    228.2,2,    239.8,2,    36.50,2,    20.90,2,     0.01,2,     1.44,2,     -999,9,     -999,9,     -999,9,   2186.3,2,   2324.8,2,    766.1,2,       20,   7.7197,2,       25,  -999.00,9,      0.9,2,  -999.00,9,     -999,9,20230313,1128
33RO20230306  ,A16N       ,14      ,  2,140201     ,101        ,20230313,1122,  -0.6638, -24.9979,     3230,   3241.0,   2.6512,  34.9073,2,  34.9098,2,    227.3,2,    248.7,2,    36.90,2,    20.80,2,     0.01,2,     1.42,2,    0.214,2,    0.114,2,   0.0645,2,   2187.8,6,   2325.6,2,    763.5,2,       20,   7.7165,2,       25,  -999.00,9,      0.9,6,  -999.00,9,     13.7,2,20230313,1122
33RO20230306  ,A16N       ,15      ,  1,150124     ,124        ,20230313,1628,  -0.3310, -24.9973,     3304,      3.3,  28.2035,  35.8067,2,  35.8164,2,    192.0,2,    200.5,2,     1.10,2,     0.00,2,     0.01,2,     0.06,2,    1.418,2,    0.929,2,   1.9003,2,   2027.5,6,   2343.7,2,    313.3,2,       20,   8.0490,2,       25,    68.34,2,      1.2,6,     4.41,2,      5.7,2,20230313,1753
33RO20230306  ,A16N       ,15      ,  1,150123     ,123        ,20230313,1628,  -0.3310, -24.9973,     3304,     20.7,  27.9958,  35.9536,2,  36.0209,2,    192.8,2,    201.2,2,     1.10,2,     0.00,2,     0.01,2,     0.07,2,    1.436,2,    0.938,2,   1.8631,2,   2042.2,2,   2356.3,2,    320.5,2,       20,   8.0480,2,       25,  -999.00,9,      1.2,2,  -999.00,9,      5.8,2,20230313,1751
33RO20230306  ,A16N       ,15      ,  1,150122     ,122        ,20230313,1628,  -0.3310, -24.9973,     3304,     51.3,  25.9437,  36.6164,2,  36.5796,2,    190.7,2,    197.1,2,     1.20,2,     0.00,2,     0.01,2,     0.13,2,    1.559,2,    1.011,2,   1.9072,2,   2085.2,2,   2393.7,2,    346.8,2,       20,   8.0218,2,       25,  -999.00,9,      1.1,2,  -999.00,9,      6.6,2,20230313,1748
33RO20230306  ,A16N       ,15      ,  1,150121     ,121        ,20230313,1628,  -0.3310, -24.9973,     3304,     70.1,  22.6083,  36.4621,2,  36.4633,2,    173.3,2,    178.5,2,     2.10,2,     3.10,2,     0.20,2,     0.40,2,    1.808,2,    1.131,2,   1.8391,2,   2125.2,2,   2387.2,2,    425.4,2,       20,   7.9493,2,       25,  -999.00,9,      1.0,2,  -999.00,9,      9.5,2,20230313,1747
33RO20230306  ,A16N       ,15      ,  1,150120     ,120        ,20230313,1628,  -0.3310, -24.9973,     3304,     92.6,  18.5948,  36.0331,2,  35.9787,2,    156.3,2,    161.5,2,     3.90,2,     9.70,2,     0.11,2,     0.77,2,    2.161,2,    1.315,2,   1.7974,2,   2152.6,2,   2357.3,2,    558.1,2,       20,   7.8462,2,       25,  -999.00,9,      0.7,2,  -999.00,9,     14.1,2,20230313,1745
33RO20230306  ,A16N       ,15      ,  1,150119     ,119        ,20230313,1628,  -0.3310, -24.9973,     3304,    125.8,  15.6757,  35.6319,2,  35.6309,2,    142.0,2,    145.8,2,     5.70,2,    14.70,2,     0.05,2,     1.05,2,    2.309,2,    1.370,2,   1.6615,2,   2170.4,2,   2335.8,2,    676.1,2,       20,   7.7705,2,       25,  -999.00,9,      0.5,2,  -999.00,9,     18.8,2,20230313,1744
33RO20230306  ,A16N       ,15      ,  1,150118     ,118        ,20230313,1628,  -0.3310, -24.9973,     3304,    162.2,  14.4213,  35.4573,2,  35.4599,2,    144.5,2,    150.3,2,     6.30,2,    15.70,2,     0.02,2,     1.12,2,    2.413,2,    1.418,2,   1.5803,2,   2169.6,2,   2327.3,2,    707.3,2,       20,   7.7525,2,       25,  -999.00,9,      0.6,2,  -999.00,9,     19.0,2,20230313,1742
33RO20230306  ,A16N       ,15      ,  1,150117     ,117        ,20230313,1628,  -0.3310, -24.9973,     3304,    184.8,  14.0222,  35.4026,2,  35.4124,2,    137.2,2,    140.0,2,     6.90,2,    17.50,2,     0.02,2,     1.22,2,    2.395,2,    1.395,2,   1.3858,2,   2176.6,2,   2323.2,2,    758.4,2,       20,   7.7261,2,       25,  -999.00,9,      0.4,2,  -999.00,9,     21.1,2,20230313,1740
33RO20230306  ,A16N       ,15      ,  1,150116     ,116        ,20230313,1628,  -0.3310, -24.9973,     3304,    222.0,  13.2550,  35.3046,2,  35.3072,2,    115.8,2,    117.8,2,     8.50,2,    21.30,2,     0.02,2,     1.42,2,    2.329,2,    1.347,2,   1.1634,2,   2193.6,2,   2317.2,2,    880.1,2,       20,   7.6688,2,       25,  -999.00,9,      0.4,2,  -999.00,9,     25.4,2,20230313,1738
33RO20230306  ,A16N       ,15      ,  1,150115     ,115        ,20230313,1628,  -0.3310, -24.9973,     3304,    271.3,  12.5987,  35.2241,2,  35.2205,2,     92.4,2,     97.1,2,    10.10,2,    25.00,2,     0.01,2,     1.62,2,    2.109,6,    1.185,6,   0.8938,6,   2210.0,2,   2311.0,2,   1012.5,2,       20,   7.6146,2,       25,  -999.00,9,      0.3,2,  -999.00,9,     31.4,6,20230313,1736
33RO20230306  ,A16N       ,15      ,  1,150114     ,114        ,20230313,1628,  -0.3310, -24.9973,     3304,    350.3,  10.2533,  34.9488,2,  34.9500,2,     87.4,2,     91.8,2,    13.80,2,    29.90,2,     0.02,2,     1.91,2,    1.990,2,    1.100,2,   0.8591,2,     -999,9,     -999,9,   1190.9,6,       20,     -999,9,       25,  -999.00,9,      0.2,2,  -999.00,9,     32.1,2,20230313,1733
33RO20230306  ,A16N       ,15      ,  1,150113     ,113        ,20230313,1628,  -0.3310, -24.9973,     3304,    450.7,   8.7451,  34.7803,2,  34.7832,6,     95.3,2,     98.4,2,    16.80,2,    32.20,2,     0.01,2,     2.06,2,    1.772,2,    0.951,2,   0.4166,3,   2224.1,2,   2293.4,2,   1259.7,2,       20,   7.5264,2,       25,  -999.00,9,      0.4,2,  -999.00,9,     30.6,2,20230313,1731
33RO20230306  ,A16N       ,15      ,  1,150112     ,112        ,20230313,1628,  -0.3310, -24.9973,     3304,    551.7,   6.7448,  34.5776,2,  34.5787,2,    130.0,2,    137.3,2,    21.90,2,    32.40,2,     0.01,2,     2.16,2,    1.554,2,    0.817,2,   0.6839,3,     -999,9,     -999,9,   1177.0,2,       20,     -999,9,       25,  -999.00,9,      0.6,2,  -999.00,9,     25.0,2,20230313,1728
33RO20230306  ,A16N       ,15      ,  1,150111     ,111        ,20230313,1628,  -0.3310, -24.9973,     3304,    651.5,   5.7996,  34.5176,2,  34.5240,2,    136.2,2,    142.2,2,    26.10,2,    33.80,2,     0.01,2,     2.26,2,    1.124,2,    0.582,2,   0.2318,3,   2215.0,2,   2290.9,2,   1197.7,2,       20,   7.5446,2,       25,  -999.00,9,      0.6,2,  -999.00,9,     24.7,2,20230313,1725
33RO20230306  ,A16N       ,15      ,  1,150110     ,110        ,20230313,1628,  -0.3310, -24.9973,     3304,    750.5,   5.4945,  34.5131,2,  34.5323,2,    135.0,2,    142.0,2,    27.80,2,    34.40,2,     0.01,2,     2.31,2,    0.868,2,    0.454,2,   0.2008,3,     -999,9,     -999,9,   1211.5,2,       20,     -999,9,       25,  -999.00,9,      0.6,2,  -999.00,9,     24.5,2,20230313,1722
33RO20230306  ,A16N       ,15      ,  1,150109     ,109        ,20230313,1628,  -0.3310, -24.9973,     3304,    900.6,   4.7619,  34.5549,2,  34.5682,2,    141.9,2,    150.5,2,    31.90,2,    34.10,2,     0.01,2,     2.31,2,    0.326,2,    0.173,2,   0.0000,3,   2221.4,2,   2298.9,2,   1183.8,2,       20,   7.5501,2,       25,  -999.00,9,      0.6,2,  -999.00,9,     23.1,2,20230313,1718
33RO20230306  ,A16N       ,15      ,  1,150108     ,108        ,20230313,1628,  -0.3310, -24.9973,     3304,   1049.8,   4.5470,  34.6756,2,  34.6887,2,    155.1,2,    163.6,2,    30.70,2,    31.50,2,     0.02,2,     2.17,2,    0.188,2,    0.102,2,   0.0000,3,     -999,9,     -999,9,   1086.7,2,       20,     -999,9,       25,  -999.00,9,      0.6,2,  -999.00,9,     21.4,2,20230313,1715
33RO20230306  ,A16N       ,15      ,  1,150107     ,107        ,20230313,1628,  -0.3310, -24.9973,     3304,   1301.2,   4.5553,  34.9021,2,  34.9311,2,    189.6,2,    201.1,2,    22.40,2,    24.90,2,     0.02,2,     1.68,2,    0.400,2,    0.211,2,   0.1673,3,   2190.8,2,   2308.4,2,    893.3,2,       20,   7.6568,2,       25,  -999.00,9,      0.8,2,  -999.00,9,     17.5,2,20230313,1709
33RO20230306  ,A16N       ,15      ,  1,150106     ,106        ,20230313,1628,  -0.3310, -24.9973,     3304,   1600.8,   4.1930,  34.9666,2,  34.9698,2,    219.1,2,    232.8,2,    18.60,2,    20.90,2,     0.01,2,     1.41,2,    0.680,2,    0.352,2,   0.1897,3,     -999,9,     -999,9,    797.8,2,       20,     -999,9,       25,  -999.00,9,      0.9,2,  -999.00,9,     14.8,2,20230313,1703
33RO20230306  ,A16N       ,15      ,  1,150105     ,105        ,20230313,1628,  -0.3310, -24.9973,     3304,   1950.3,   3.6245,  34.9614,2,  34.9686,2,    232.1,2,    248.8,2,    20.90,2,    19.70,2,     0.02,2,     1.33,2,    0.570,2,    0.297,2,   0.1028,3,   2168.5,2,   2311.6,2,    761.3,2,       20,   7.7194,2,       25,  -999.00,9,      0.9,2,  -999.00,9,     14.0,2,20230313,1656
33RO20230306  ,A16N       ,15      ,  1,150104     ,104        ,20230313,1628,  -0.3310, -24.9973,     3304,   2100.1,   3.5347,  34.9577,2,  34.9675,2,    232.3,2,    249.1,2,    21.90,2,    19.70,2,     0.01,2,     1.34,2,    0.512,2,    0.267,2,   0.2066,3,     -999,9,     -999,9,    760.0,2,       20,     -999,9,       25,  -999.00,9,      1.0,2,  -999.00,9,     13.6,2,20230313,1652
33RO20230306  ,A16N       ,15      ,  1,150103     ,103        ,20230313,1628,  -0.3310, -24.9973,     3304,   2501.1,   2.9408,  34.9256,2,  34.9311,2,    229.0,2,    247.4,2,    32.50,2,    20.70,2,     0.01,2,     1.41,2,    0.204,2,    0.109,2,   0.0000,3,   2180.1,2,   2321.9,2,    765.7,2,       20,   7.7178,2,       25,  -999.00,9,      1.0,2,  -999.00,9,     13.7,2,20230313,1644
33RO20230306  ,A16N       ,15      ,  1,150102     ,102        ,20230313,1628,  -0.3310, -24.9973,     3304,   3050.2,   2.7082,  34.9108,2,  34.9135,2,    228.2,2,    249.0,2,    36.10,2,    20.80,2,     0.01,2,     1.41,2,     -999,9,     -999,9,     -999,9,     -999,9,     -999,9,   -999.0,9,       20,     -999,9,       25,  -999.00,9,      1.0,2,  -999.00,9,     -999,9,20230313,1633
33RO20230306  ,A16N       ,15      ,  1,150101     ,101        ,20230313,1628,  -0.3310, -24.9973,     3304,   3293.8,   2.7234,  34.9102,2,  34.9145,2,    226.7,2,    248.4,2,    36.10,2,    20.80,2,     0.02,2,     1.43,2,    0.202,2,    0.106,2,   0.0000,3,   2183.8,2,   2326.0,2,    763.6,2,       20,   7.7189,2,       25,  -999.00,9,      0.9,6,  -999.00,9,     14.0,2,20230313,1628