BOTTLE,20240601CCHHYDRO
EXPOCODE,SECT_ID,STNNBR,CASTNO,SAMPNO,BTLNBR,DATE,TIME,LATITUDE,LONGITUDE,DEPTH,CTDPRS,CTDTMP,CTDSAL,CTDSAL_FLAG_W,SALNTY,SALNTY_FLAG_W,CTDOXY,CTDOXY_FLAG_W,OXYGEN,OXYGEN_FLAG_W,SILCAT,SILCAT_FLAG_W,NITRAT,NITRAT_FLAG_W,NITRIT,NITRIT_FLAG_W,PHSPHT,PHSPHT_FLAG_W,CFC-11,CFC-11_FLAG_W,CFC-12,CFC-12_FLAG_W,SF6,SF6_FLAG_W,TCARBN,TCARBN_FLAG_W,ALKALI,ALKALI_FLAG_W,FCO2,FCO2_FLAG_W,FCO2TMP,PH_TOT,PH_TOT_FLAG_W,PH_TMP,DOC,DOC_FLAG_W,DELC13,DELC13_FLAG_W,TDN,TDN_FLAG_W,N2O,N2O_FLAG_W,BTL_DATE,BTL_TIME
,,,,,,,,,,METERS,DBAR,ITS-90,PSS-78,,PSS-78,,UMOL/KG,,UMOL/KG,,UMOL/KG,,UMOL/KG,,UMOL/KG,,UMOL/KG,,PMOL/KG,,PMOL/KG,,FMOL/KG,,UMOL/KG,,UMOL/KG,,UATM,,DEG C,,,DEG C,UMOL/KG,,/MILLE,,UMOL/KG,,NMOL/KG,,,
33RO20230306  ,A16N       ,22      ,  1,220124     ,124        ,20230315,0755,   2.0003, -24.9996,     3880,      3.7,  29.0056,  34.8551,2,  34.8568,2,    193.6,2,    202.0,2,     1.00,2,     0.00,2,     0.01,2,     0.05,2,    1.392,2,    0.907,2,   1.6874,2,   1958.7,6,   2281.9,2,    284.3,2,       20,   8.0795,2,       25,    71.85,2,      1.2,2,     3.97,2,      5.7,2,20230315,0938
33RO20230306  ,A16N       ,22      ,  1,220123     ,123        ,20230315,0755,   2.0003, -24.9996,     3880,     14.5,  28.8330,  34.9572,2,  35.0005,2,    197.3,2,    205.3,2,     1.00,2,     0.00,2,     0.01,2,     0.05,2,    1.410,2,    0.920,2,   1.6321,2,   1966.5,2,   2292.4,2,    286.2,2,       20,   8.0793,2,       25,    72.21,2,      1.2,2,     4.42,2,      5.8,2,20230315,0936
33RO20230306  ,A16N       ,22      ,  1,220122     ,122        ,20230315,0755,   2.0003, -24.9996,     3880,     28.2,  28.2282,  35.3627,2,  35.3706,2,    202.7,2,    207.8,2,     1.00,2,     0.00,2,     0.01,2,     0.06,2,    1.450,2,    0.933,2,   1.6239,2,   1992.7,2,   2319.1,2,    300.3,2,       20,   8.0692,2,       25,    69.91,2,      1.3,2,     4.19,2,      6.3,2,20230315,0934
33RO20230306  ,A16N       ,22      ,  1,220121     ,121        ,20230315,0755,   2.0003, -24.9996,     3880,     58.3,  18.9106,  35.7937,2,  35.7751,2,    112.4,2,    108.8,2,     4.30,2,    14.70,2,     0.19,2,     1.03,2,    2.129,2,    1.287,2,   1.5250,2,   2181.1,2,   2343.3,2,    721.5,2,       20,   7.7483,2,       25,    52.88,2,      0.3,2,    18.33,2,     23.0,2,20230315,0932
33RO20230306  ,A16N       ,22      ,  1,220120     ,120        ,20230315,0755,   2.0003, -24.9996,     3880,     76.0,  15.2786,  35.5426,2,  35.5215,2,    103.7,2,    111.6,2,     6.70,2,    19.60,2,     0.05,2,     1.33,2,    2.328,2,    1.370,2,   1.3944,2,   2192.7,2,   2330.3,2,    829.3,2,       20,   7.6929,2,       25,    50.17,2,      0.3,2,    19.49,2,     24.9,2,20230315,0930
33RO20230306  ,A16N       ,22      ,  1,220119     ,119        ,20230315,0755,   2.0003, -24.9996,     3880,    120.7,  13.7064,  35.3673,2,  35.3657,2,    117.5,2,    121.2,2,     7.60,2,    20.00,2,     0.01,2,     1.37,2,    2.370,2,    1.358,2,   1.2946,2,   2189.3,2,   2323.3,2,    838.3,2,       20,   7.6880,2,       25,    47.13,2,      0.4,2,    20.55,2,     25.1,2,20230315,0926
33RO20230306  ,A16N       ,22      ,  1,220118     ,118        ,20230315,0755,   2.0003, -24.9996,     3880,    176.9,  13.4006,  35.3272,2,  35.3309,2,    110.4,2,    114.6,2,     8.20,2,    21.40,2,     0.01,2,     1.45,2,    2.329,2,    1.342,2,   1.2349,2,   2195.5,2,   2322.9,2,    883.2,2,       20,   7.6690,2,       25,    46.67,2,      0.3,2,    24.07,2,     27.0,2,20230315,0923
33RO20230306  ,A16N       ,22      ,  1,220117     ,117        ,20230315,0755,   2.0003, -24.9996,     3880,    209.4,  13.2302,  35.3015,2,  35.3020,2,    116.7,2,    123.6,2,     8.00,2,    20.60,2,     0.01,2,     1.40,2,    2.369,2,    1.371,2,   1.2831,2,   2188.8,2,   2322.5,2,    855.9,2,       20,   7.6749,2,       25,    46.02,2,      0.4,2,    22.69,2,     24.9,2,20230315,0921
33RO20230306  ,A16N       ,22      ,  1,220116     ,116        ,20230315,0755,   2.0003, -24.9996,     3880,    303.4,  12.5065,  35.2104,2,  35.2128,2,    103.3,2,    108.2,2,     9.50,2,    23.80,2,     0.01,2,     1.58,2,    2.271,2,    1.291,2,   1.0145,2,   2203.9,6,   2316.3,2,    967.1,2,       20,   7.6322,2,       25,    44.62,2,      0.3,6,    25.26,2,     28.7,2,20230315,0918
33RO20230306  ,A16N       ,22      ,  1,220115     ,115        ,20230315,0755,   2.0003, -24.9996,     3880,    374.4,   9.5503,  34.8622,2,  34.8692,6,    119.2,2,    121.3,2,    13.80,2,    27.50,2,     0.01,2,     1.83,2,    2.147,2,    1.166,2,   0.9032,2,   2204.3,2,   2302.3,2,   1063.5,2,       20,   7.5927,2,       25,    44.29,2,      0.5,2,    30.97,2,     28.0,2,20230315,0915
33RO20230306  ,A16N       ,22      ,  1,220114     ,114        ,20230315,0755,   2.0003, -24.9996,     3880,    450.8,   8.5093,  34.7529,2,  34.7543,2,    103.1,2,    108.8,2,    16.60,2,    31.40,2,     0.01,2,     2.06,2,    1.837,2,    1.024,2,     -999,9,   2218.5,2,   2297.6,2,   1215.1,6,       20,   7.5391,2,       25,    42.04,2,      0.4,2,    34.42,2,     30.5,2,20230315,0912
33RO20230306  ,A16N       ,22      ,  1,220113     ,113        ,20230315,0755,   2.0003, -24.9996,     3880,    581.6,   7.1587,  34.6396,2,  34.6439,2,    119.5,2,    121.5,2,    20.80,2,    33.10,2,     0.01,2,     2.19,2,    1.297,2,    0.695,2,   0.4239,2,   2217.0,2,   2296.8,2,   1225.4,2,       20,   7.5365,2,       25,    40.83,2,      0.6,2,    35.66,2,     27.6,2,20230315,0908
33RO20230306  ,A16N       ,22      ,  1,220112     ,112        ,20230315,0755,   2.0003, -24.9996,     3880,    701.6,   5.6414,  34.5482,2,  34.5675,2,    128.5,2,    132.8,2,    26.90,2,    34.30,2,     0.01,2,     2.32,2,    0.677,2,    0.358,2,   0.1169,3,   2219.7,2,   2297.2,2,   1225.0,2,       20,   7.5365,2,       25,    40.30,2,      0.5,2,    35.35,2,     23.2,2,20230315,0905
33RO20230306  ,A16N       ,22      ,  1,220111     ,111        ,20230315,0755,   2.0003, -24.9996,     3880,    869.2,   4.9648,  34.5808,2,  34.5959,2,    137.1,2,    142.7,2,    30.10,2,    34.10,2,     0.01,2,     2.33,2,    0.289,2,    0.157,2,   0.0000,3,   2221.7,2,   2303.7,2,   1195.6,2,       20,   7.5445,2,       25,    40.38,2,      0.6,2,    37.46,2,     24.6,2,20230315,0901
33RO20230306  ,A16N       ,22      ,  1,220110     ,110        ,20230315,0755,   2.0003, -24.9996,     3880,   1015.0,   4.7967,  34.7299,2,  34.7370,2,    150.9,2,    160.6,2,    27.90,2,    30.90,2,     0.01,2,     2.12,2,    0.170,6,    0.093,6,   0.0870,3,   2217.0,2,   2307.2,2,   1077.0,2,       20,   7.5864,2,       25,    42.78,3,      0.7,2,    32.39,2,     22.6,6,20230315,0857
33RO20230306  ,A16N       ,22      ,  1,220109     ,109        ,20230315,0755,   2.0003, -24.9996,     3880,   1151.5,   4.6797,  34.8512,2,  34.8564,6,    174.7,2,    187.3,2,    23.80,2,    26.70,2,     0.01,2,     1.84,2,    0.322,2,    0.175,2,   0.2838,3,   2201.3,2,   2311.8,2,    951.7,2,       20,   7.6347,2,       25,    40.33,2,      0.8,2,    25.97,2,     19.3,2,20230315,0853
33RO20230306  ,A16N       ,22      ,  1,220108     ,108        ,20230315,0755,   2.0003, -24.9996,     3880,   1450.3,   4.4323,  34.9503,2,  34.9750,2,    206.8,2,    220.1,2,    19.10,2,    22.30,2,     0.01,2,     1.52,2,    0.651,2,    0.339,2,   0.1954,3,   2180.3,2,   2314.2,2,    833.9,2,       20,   7.6846,2,       25,    40.55,2,      0.9,2,    23.38,2,     16.4,2,20230315,0846
33RO20230306  ,A16N       ,22      ,  1,220107     ,107        ,20230315,0755,   2.0003, -24.9996,     3880,   1800.0,   3.8629,  34.9683,2,  34.9715,2,    228.2,2,    243.5,2,    18.70,2,    19.80,2,     0.01,2,     1.36,2,    0.589,2,    0.300,2,   0.2809,3,   2169.2,2,   2313.7,2,    769.3,2,       20,   7.7145,2,       25,    41.13,2,      0.9,2,    20.61,2,     14.5,2,20230315,0839
33RO20230306  ,A16N       ,22      ,  1,220106     ,106        ,20230315,0755,   2.0003, -24.9996,     3880,   2201.6,   3.3396,  34.9495,2,  34.9648,2,    231.2,2,    254.0,2,    24.00,2,    19.90,2,     0.01,2,     1.37,2,    0.333,2,    0.175,2,   0.0000,3,   2172.9,2,   2319.7,2,    757.1,2,       20,   7.7195,2,       25,    41.27,2,      1.1,2,    18.53,2,     14.1,2,20230315,0831
33RO20230306  ,A16N       ,22      ,  1,220105     ,105        ,20230315,0755,   2.0003, -24.9996,     3880,   2599.7,   2.9313,  34.9258,2,  34.9326,2,    227.7,2,    246.4,2,    31.90,2,    20.70,2,     0.01,2,     1.44,2,    0.140,2,    0.079,2,   0.0000,3,   2177.0,2,   2325.2,2,   -999.0,9,       20,   7.7191,2,       25,    40.90,2,      0.9,2,    19.92,2,     14.3,2,20230315,0823
33RO20230306  ,A16N       ,22      ,  1,220104     ,104        ,20230315,0755,   2.0003, -24.9996,     3880,   3000.0,   2.6669,  34.9082,2,  34.9114,2,    225.1,2,    245.0,2,    37.60,2,    21.30,2,     0.01,2,     1.47,2,    0.084,2,    0.045,2,   0.0000,3,   2187.4,2,   2326.3,2,    772.2,2,       20,   7.7169,2,       25,    41.61,2,      0.9,2,    18.36,2,     14.4,2,20230315,0815
33RO20230306  ,A16N       ,22      ,  1,220103     ,103        ,20230315,0755,   2.0003, -24.9996,     3880,   3349.5,   2.5193,  34.8973,2,  34.9030,2,    224.5,2,    240.7,2,    40.50,2,    21.40,2,     0.01,2,     1.49,2,    0.107,2,    0.062,2,   0.1317,3,   2189.4,2,   2331.6,2,    775.5,2,       20,   7.7166,2,       25,    40.62,2,      1.0,2,    17.45,2,     14.6,2,20230315,0808
33RO20230306  ,A16N       ,22      ,  1,220102     ,102        ,20230315,0755,   2.0003, -24.9996,     3880,   3699.1,   2.3894,  34.8867,2,  34.8908,2,    222.4,2,    244.5,2,    44.40,2,    21.80,2,     0.01,2,     1.51,2,    0.079,2,    0.050,2,   0.0576,3,   2197.2,2,   2344.6,2,    780.0,2,       20,   7.7146,2,       25,    40.58,2,      0.9,2,    17.39,2,     12.0,2,20230315,0800
33RO20230306  ,A16N       ,22      ,  1,220101     ,101        ,20230315,0755,   2.0003, -24.9996,     3880,   3934.1,   2.3834,  34.8840,2,  34.8889,2,    220.6,2,    243.6,2,    45.40,2,    21.90,2,     0.01,2,     1.51,2,    0.086,2,    0.053,2,   0.0771,3,   2197.5,6,   2344.9,2,    779.9,2,       20,   7.7131,2,       25,    40.16,2,      0.9,6,    18.30,2,     14.3,2,20230315,0755
33RO20230306  ,A16N       ,23      ,  2,230224     ,124        ,20230315,1457,   2.3333, -24.9996,     3763,      3.2,  29.5202,  34.6972,2,  34.6978,2,    194.0,2,    208.0,2,     1.20,2,     0.00,2,     0.01,2,     0.06,2,    1.376,2,    0.894,2,   1.7931,2,   1944.1,6,   2273.3,2,    278.7,2,       20,   8.0855,2,       25,    72.78,2,      1.3,6,     4.92,2,      5.5,2,20230315,1634
33RO20230306  ,A16N       ,23      ,  2,230223     ,123        ,20230315,1457,   2.3333, -24.9996,     3763,     25.7,  28.5150,  35.1625,2,  35.1442,2,    204.7,2,    211.6,2,     1.00,2,     0.00,2,     0.01,2,     0.09,2,    1.421,2,    0.915,2,   1.8049,2,   1963.2,2,   2301.3,2,    282.0,2,       20,   8.0890,2,       25,  -999.00,9,      1.4,2,  -999.00,9,      6.0,2,20230315,1632
33RO20230306  ,A16N       ,23      ,  2,230222     ,122        ,20230315,1457,   2.3333, -24.9996,     3763,     50.5,  22.6164,  35.9571,2,  35.9228,2,    154.6,2,    146.4,2,     2.70,2,     3.00,2,     0.16,2,     0.39,2,    1.849,2,    1.132,2,   1.4874,2,   2131.5,2,   2358.8,2,    519.8,2,       20,   7.8726,2,       25,  -999.00,9,      0.6,2,  -999.00,9,     15.6,2,20230315,1630
33RO20230306  ,A16N       ,23      ,  2,230221     ,121        ,20230315,1457,   2.3333, -24.9996,     3763,     71.3,  17.2382,  35.7081,2,  35.6978,2,    101.1,2,    105.5,2,     5.00,2,    17.50,2,     0.10,2,     1.22,2,    2.239,2,    1.326,2,   1.4026,2,   2187.3,2,   2339.5,2,    781.4,2,       20,   7.7158,2,       25,  -999.00,9,      0.3,2,  -999.00,9,     23.8,2,20230315,1628
33RO20230306  ,A16N       ,23      ,  2,230220     ,120        ,20230315,1457,   2.3333, -24.9996,     3763,    110.6,  14.1593,  35.4265,2,  35.4242,2,    117.6,2,    128.4,2,     7.00,2,    19.00,2,     0.02,2,     1.32,2,    2.379,2,    1.368,2,   1.3346,2,   2183.0,2,   2328.8,2,    804.8,2,       20,   7.7032,2,       25,  -999.00,9,      0.3,2,  -999.00,9,     24.3,2,20230315,1626
33RO20230306  ,A16N       ,23      ,  2,230219     ,119        ,20230315,1457,   2.3333, -24.9996,     3763,    130.5,  13.8998,  35.3921,2,  35.3939,2,    122.2,2,    126.2,2,     7.20,2,    19.20,2,     0.02,2,     1.33,2,    2.386,2,    1.374,2,   1.3461,2,   2183.8,2,   2325.3,2,    811.6,2,       20,   7.6996,2,       25,  -999.00,9,      0.4,2,  -999.00,9,     24.6,2,20230315,1624
33RO20230306  ,A16N       ,23      ,  2,230218     ,118        ,20230315,1457,   2.3333, -24.9996,     3763,    166.6,  13.3482,  35.3214,2,  35.3233,2,    105.0,2,    109.6,2,     8.30,2,    21.90,2,     0.01,2,     1.48,2,    2.320,2,    1.334,2,   1.2350,2,   2195.0,2,   2320.3,2,    899.1,2,       20,   7.6593,2,       25,  -999.00,9,      0.4,2,  -999.00,9,     26.9,2,20230315,1623
33RO20230306  ,A16N       ,23      ,  2,230217     ,117        ,20230315,1457,   2.3333, -24.9996,     3763,    221.6,  13.0873,  35.2796,2,  35.2861,2,    126.5,2,    129.1,2,     8.00,2,    20.10,2,     0.01,2,     1.39,2,    2.391,2,    1.359,2,   1.2558,2,   2187.2,2,   2319.2,2,    836.6,2,       20,   7.6867,2,       25,  -999.00,9,      0.5,2,  -999.00,9,     24.7,2,20230315,1621
33RO20230306  ,A16N       ,23      ,  2,230216     ,116        ,20230315,1457,   2.3333, -24.9996,     3763,    332.5,  11.2295,  35.0600,2,  35.0650,2,    101.8,2,    107.5,2,    11.20,2,    26.00,2,     0.01,2,     1.71,2,    2.205,2,    1.228,2,   0.9477,2,   2205.2,2,   2307.7,2,   1034.1,2,       20,   7.6040,2,       25,  -999.00,9,      0.4,2,  -999.00,9,     29.4,2,20230315,1618
33RO20230306  ,A16N       ,23      ,  2,230215     ,115        ,20230315,1457,   2.3333, -24.9996,     3763,    393.1,   9.9494,  34.9126,2,  34.9168,2,    101.1,2,    105.3,2,    13.40,2,    28.70,2,     0.01,2,     1.89,2,    2.050,2,    1.115,2,   0.7611,2,   2211.9,2,   2301.6,2,   1127.1,2,       20,   7.5697,2,       25,  -999.00,9,      0.4,2,  -999.00,9,     30.5,2,20230315,1616
33RO20230306  ,A16N       ,23      ,  2,230214     ,114        ,20230315,1457,   2.3333, -24.9996,     3763,    472.7,   8.3903,  34.7349,2,  34.7382,6,    118.1,2,    123.8,2,    16.40,2,    30.20,2,     0.01,2,     2.01,2,    1.924,2,    1.019,2,   0.5970,2,   2209.0,2,   2296.9,2,   1141.6,2,       20,   7.5626,2,       25,  -999.00,9,      0.5,2,  -999.00,9,     27.6,2,20230315,1613
33RO20230306  ,A16N       ,23      ,  2,230213     ,113        ,20230315,1457,   2.3333, -24.9996,     3763,    532.8,   7.5746,  34.6720,2,  34.6780,2,    119.8,2,    124.2,2,    18.80,2,    31.70,2,     0.01,2,     2.11,2,    1.585,2,    0.833,2,   0.5271,2,   2212.3,2,   2296.9,2,   1175.7,2,       20,   7.5505,2,       25,  -999.00,9,      0.6,2,  -999.00,9,     26.9,2,20230315,1611
33RO20230306  ,A16N       ,23      ,  2,230212     ,112        ,20230315,1457,   2.3333, -24.9996,     3763,    652.8,   6.0509,  34.5787,2,  34.5959,2,    118.7,2,    124.8,2,    25.10,2,    34.70,2,     0.01,2,     2.34,2,    0.741,2,    0.390,2,   0.2383,3,   2223.0,2,   2296.9,2,   1259.3,2,       20,   7.5252,2,       25,  -999.00,9,      0.5,2,  -999.00,9,     25.8,2,20230315,1607
33RO20230306  ,A16N       ,23      ,  2,230211     ,111        ,20230315,1457,   2.3333, -24.9996,     3763,    821.9,   4.9373,  34.5537,2,  34.5628,2,    139.3,2,    146.3,2,    30.20,2,    34.00,2,     0.01,2,     2.35,2,    0.430,2,    0.225,2,   0.1491,3,   2217.3,2,   2300.3,2,   1190.5,2,       20,   7.5469,2,       25,  -999.00,9,      0.6,2,  -999.00,9,     23.6,2,20230315,1603
33RO20230306  ,A16N       ,23      ,  2,230210     ,110        ,20230315,1457,   2.3333, -24.9996,     3763,    976.5,   4.7262,  34.6524,2,  34.6591,2,    141.7,2,    150.1,2,    30.40,2,    32.80,2,     0.01,2,     2.27,2,    0.112,6,    0.063,6,   0.0000,3,   2219.1,2,   2304.7,2,   1147.7,2,       20,   7.5618,2,       25,  -999.00,9,      0.7,2,  -999.00,9,     22.6,6,20230315,1600
33RO20230306  ,A16N       ,23      ,  2,230209     ,109        ,20230315,1457,   2.3333, -24.9996,     3763,   1107.3,   4.7355,  34.8033,2,  34.8105,2,    164.3,2,    177.6,2,    25.70,2,    28.50,2,     0.01,2,     1.96,2,    0.233,2,    0.124,2,   0.0000,3,     -999,9,     -999,9,   1003.8,2,       20,     -999,9,       25,  -999.00,9,      0.7,2,  -999.00,9,     19.9,2,20230315,1556
33RO20230306  ,A16N       ,23      ,  2,230208     ,108        ,20230315,1457,   2.3333, -24.9996,     3763,   1275.3,   4.7322,  34.9212,2,  34.9379,2,    189.2,2,    201.5,2,    20.70,2,    24.30,2,     0.01,2,     1.68,2,    0.585,2,    0.302,2,   0.1985,2,   2186.8,2,   2314.0,2,    889.5,2,       20,   7.6598,2,       25,  -999.00,9,      0.9,2,  -999.00,9,     17.9,2,20230315,1551
33RO20230306  ,A16N       ,23      ,  2,230207     ,107        ,20230315,1457,   2.3333, -24.9996,     3763,   1551.9,   4.2827,  34.9667,2,  34.9697,2,    215.7,2,    230.1,2,    18.10,2,    21.10,2,     0.01,2,     1.46,2,    0.733,2,    0.377,2,   0.2464,2,     -999,9,     -999,9,    805.5,2,       20,     -999,9,       25,  -999.00,9,      0.9,2,  -999.00,9,     15.3,2,20230315,1544
33RO20230306  ,A16N       ,23      ,  2,230206     ,106        ,20230315,1457,   2.3333, -24.9996,     3763,   1703.7,   4.0043,  34.9709,2,  34.9705,2,    225.3,2,    241.0,2,    18.00,2,    20.00,2,     0.01,2,     1.38,2,    0.716,2,    0.362,2,   0.1583,2,   2168.1,2,   2310.7,2,    778.2,6,       20,   7.7106,2,       25,  -999.00,9,      0.9,2,  -999.00,9,     14.8,2,20230315,1541
33RO20230306  ,A16N       ,23      ,  2,230205     ,105        ,20230315,1457,   2.3333, -24.9996,     3763,   2102.3,   3.4844,  34.9557,2,  34.9607,6,    229.1,2,    244.9,2,    22.80,2,    20.10,2,     0.01,2,     1.39,2,    0.245,2,    0.130,2,   0.1132,3,     -999,9,     -999,9,    759.5,2,       20,     -999,9,       25,  -999.00,9,      1.0,2,  -999.00,9,     14.5,2,20230315,1532
33RO20230306  ,A16N       ,23      ,  2,230204     ,104        ,20230315,1457,   2.3333, -24.9996,     3763,   2504.4,   3.0354,  34.9325,2,  34.9383,2,    227.4,2,    246.3,2,    30.00,2,    20.70,2,     0.01,2,     1.44,2,    0.119,2,    0.063,2,   0.0000,3,   2176.4,2,   2325.3,2,    764.1,2,       20,   7.7186,2,       25,  -999.00,9,      1.0,2,  -999.00,9,     14.3,2,20230315,1524
33RO20230306  ,A16N       ,23      ,  2,230203     ,103        ,20230315,1457,   2.3333, -24.9996,     3763,   2900.0,   2.7421,  34.9128,2,  34.9161,2,    224.0,2,    243.9,2,    36.80,2,    21.40,2,     0.01,2,     1.48,2,    0.058,2,    0.035,2,   0.0000,3,     -999,9,     -999,9,   -999.0,9,       20,     -999,9,       25,  -999.00,9,      1.0,2,  -999.00,9,     14.4,2,20230315,1515
33RO20230306  ,A16N       ,23      ,  2,230202     ,102        ,20230315,1457,   2.3333, -24.9996,     3763,   3405.0,   2.4929,  34.8963,2,  34.9014,2,    222.8,2,    244.8,2,    41.60,2,    21.60,2,     0.01,2,     1.51,2,    0.053,2,    0.032,2,   0.0000,3,   2189.6,2,   2336.9,2,    774.8,2,       20,   7.7148,2,       25,  -999.00,9,      0.9,2,  -999.00,9,     14.6,2,20230315,1505
33RO20230306  ,A16N       ,23      ,  2,230201     ,101        ,20230315,1457,   2.3333, -24.9996,     3763,   3801.5,   2.3684,  34.8840,2,  34.8921,2,    221.0,2,    244.2,2,    45.20,2,    21.90,2,     0.01,2,     1.53,2,    0.090,2,    0.050,2,   0.0303,2,   2198.1,2,   2341.0,2,    777.7,2,       20,   7.7160,2,       25,  -999.00,9,      0.9,6,  -999.00,9,     14.8,2,20230315,1457