BOTTLE,20240601CCHHYDRO
EXPOCODE,SECT_ID,STNNBR,CASTNO,SAMPNO,BTLNBR,DATE,TIME,LATITUDE,LONGITUDE,DEPTH,CTDPRS,CTDTMP,CTDSAL,CTDSAL_FLAG_W,SALNTY,SALNTY_FLAG_W,CTDOXY,CTDOXY_FLAG_W,OXYGEN,OXYGEN_FLAG_W,SILCAT,SILCAT_FLAG_W,NITRAT,NITRAT_FLAG_W,NITRIT,NITRIT_FLAG_W,PHSPHT,PHSPHT_FLAG_W,CFC-11,CFC-11_FLAG_W,CFC-12,CFC-12_FLAG_W,SF6,SF6_FLAG_W,TCARBN,TCARBN_FLAG_W,ALKALI,ALKALI_FLAG_W,FCO2,FCO2_FLAG_W,FCO2TMP,PH_TOT,PH_TOT_FLAG_W,PH_TMP,DOC,DOC_FLAG_W,DELC13,DELC13_FLAG_W,TDN,TDN_FLAG_W,N2O,N2O_FLAG_W,BTL_DATE,BTL_TIME
,,,,,,,,,,METERS,DBAR,ITS-90,PSS-78,,PSS-78,,UMOL/KG,,UMOL/KG,,UMOL/KG,,UMOL/KG,,UMOL/KG,,UMOL/KG,,PMOL/KG,,PMOL/KG,,FMOL/KG,,UMOL/KG,,UMOL/KG,,UATM,,DEG C,,,DEG C,UMOL/KG,,/MILLE,,UMOL/KG,,NMOL/KG,,,
33RO20230306  ,A16N       ,8       ,  2,80224      ,124        ,20230311,2050,  -2.6636, -24.9988,     5371,      2.9,  28.5708,  35.7634,2,  35.7633,2,    192.1,2,    201.6,2,     1.10,2,     0.00,2,     0.00,2,     0.10,2,    1.406,2,    0.913,2,   1.8359,2,   2024.1,6,   2344.3,2,    316.0,2,       20,   8.0511,2,       25,    71.19,2,      1.1,6,     5.99,2,      5.9,2,20230311,2248
33RO20230306  ,A16N       ,8       ,  2,80223      ,123        ,20230311,2050,  -2.6636, -24.9988,     5371,     16.8,  28.5275,  35.7635,2,  35.7652,2,    191.9,2,    200.0,2,     0.90,2,     0.00,2,     0.00,2,     0.12,2,    1.406,2,    0.913,2,   1.7030,2,   2022.7,2,   2341.9,2,    318.2,2,       20,   8.0502,2,       25,  -999.00,9,      1.0,2,  -999.00,9,      6.0,2,20230311,2246
33RO20230306  ,A16N       ,8       ,  2,80222      ,122        ,20230311,2050,  -2.6636, -24.9988,     5371,     53.1,  24.3264,  36.0969,2,  36.0591,2,    192.2,2,    181.4,2,     2.00,2,     2.20,2,     0.08,2,     0.42,2,    1.754,2,    1.097,2,   1.7989,2,   2101.9,2,   2367.5,2,    427.6,2,       20,   7.9477,2,       25,  -999.00,9,      1.0,2,  -999.00,9,     12.0,2,20230311,2244
33RO20230306  ,A16N       ,8       ,  2,80221      ,121        ,20230311,2050,  -2.6636, -24.9988,     5371,     81.1,  16.6347,  35.6670,2,  35.6479,2,    114.1,2,    106.6,2,     5.80,2,    18.30,2,     0.12,2,     1.32,2,    2.257,2,    1.393,2,     -999,9,   2188.5,2,   2338.8,2,    799.0,6,       20,   7.7087,2,       25,  -999.00,9,      0.2,2,  -999.00,9,     24.6,2,20230311,2242
33RO20230306  ,A16N       ,8       ,  2,80220      ,120        ,20230311,2050,  -2.6636, -24.9988,     5371,    101.1,  14.6251,  35.4862,2,  35.4725,2,    106.8,2,    102.1,2,     7.20,2,    21.30,2,     0.04,2,     1.48,2,     -999,9,     -999,9,     -999,9,   2200.7,2,   2329.4,2,    896.6,2,       20,   7.6626,2,       25,  -999.00,9,      0.1,2,  -999.00,9,     -999,9,20230311,2241
33RO20230306  ,A16N       ,8       ,  2,80219      ,119        ,20230311,2050,  -2.6636, -24.9988,     5371,    127.9,  13.7889,  35.3709,2,  35.3720,2,    132.5,2,    141.7,2,     7.00,2,    17.70,2,     0.01,2,     1.28,2,    2.435,2,    1.418,2,   1.4144,2,   2172.9,2,   2326.0,2,    766.2,2,       20,   7.7242,2,       25,  -999.00,9,      0.5,2,  -999.00,9,     21.6,2,20230311,2239
33RO20230306  ,A16N       ,8       ,  2,80218      ,118        ,20230311,2050,  -2.6636, -24.9988,     5371,    204.3,  13.2902,  35.3094,2,  35.3110,2,    115.0,2,    120.5,2,     8.20,2,    21.00,2,     0.00,2,     1.46,2,    2.353,2,    1.361,2,   1.1693,2,   2190.6,2,   2321.5,2,    869.4,2,       20,   7.6751,2,       25,  -999.00,9,      0.4,2,  -999.00,9,     25.5,2,20230311,2237
33RO20230306  ,A16N       ,8       ,  2,80217      ,117        ,20230311,2050,  -2.6636, -24.9988,     5371,    303.8,  12.2649,  35.1812,2,  35.1830,2,     85.4,2,     88.7,2,    10.40,2,    26.20,2,     0.03,2,     1.75,2,    2.203,2,    1.271,2,   0.9660,2,   2212.7,2,   2314.1,2,   1078.1,2,       20,   7.5908,2,       25,  -999.00,9,      0.3,2,  -999.00,9,     31.2,2,20230311,2234
33RO20230306  ,A16N       ,8       ,  2,80216      ,116        ,20230311,2050,  -2.6636, -24.9988,     5371,    404.0,  10.0080,  34.9167,2,  34.9170,2,     74.7,2,     71.3,2,    14.60,2,    32.50,2,     0.01,2,     2.11,2,     -999,9,     -999,9,     -999,9,   2232.8,6,   2300.3,2,   1338.8,2,       20,   7.5024,2,       25,  -999.00,9,      0.1,2,  -999.00,9,     -999,9,20230311,2231
33RO20230306  ,A16N       ,8       ,  2,80215      ,115        ,20230311,2050,  -2.6636, -24.9988,     5371,    604.9,   5.9344,  34.5106,2,  34.5120,2,    127.0,2,    140.0,2,    25.10,2,    33.80,2,     0.00,2,     2.32,2,     -999,5,     -999,5,     -999,5,   2216.7,2,   2295.4,2,   1215.1,2,       20,   7.5391,2,       25,  -999.00,9,      0.7,2,  -999.00,9,     -999,5,20230311,2227
33RO20230306  ,A16N       ,8       ,  2,80214      ,114        ,20230311,2050,  -2.6636, -24.9988,     5371,    779.8,   4.7904,  34.4840,2,  34.5012,2,    146.0,2,    153.9,2,    31.80,2,    34.20,2,     0.00,2,     2.38,2,     -999,9,     -999,9,     -999,9,   2218.7,2,   2302.3,2,   1184.6,2,       20,   7.5491,2,       25,  -999.00,9,      0.7,2,  -999.00,9,     -999,9,20230311,2223
33RO20230306  ,A16N       ,8       ,  2,80213      ,113        ,20230311,2050,  -2.6636, -24.9988,     5371,    928.7,   4.4991,  34.5449,2,  34.5473,2,    144.2,2,    147.7,2,    33.50,2,    34.10,2,     0.00,2,     2.36,2,    0.233,2,    0.119,2,   0.1517,2,   2220.7,2,   2305.4,2,   1183.4,2,       20,   7.5495,2,       25,  -999.00,9,      0.6,2,  -999.00,9,     22.8,2,20230311,2220
33RO20230306  ,A16N       ,8       ,  2,80212      ,112        ,20230311,2050,  -2.6636, -24.9988,     5371,   1130.6,   4.5689,  34.7659,2,  34.7668,2,    164.0,2,    175.1,2,    27.60,2,    29.10,2,     0.02,2,     2.03,2,    0.207,2,    0.107,2,   0.0000,3,   2207.1,2,   2313.3,2,   1016.0,2,       20,   7.6098,2,       25,  -999.00,9,      0.8,2,  -999.00,9,     19.7,2,20230311,2215
33RO20230306  ,A16N       ,8       ,  2,80211      ,111        ,20230311,2050,  -2.6636, -24.9988,     5371,   1305.1,   4.5802,  34.8727,2,  34.8764,2,    183.0,2,    193.7,2,    23.50,2,    25.80,2,     0.01,2,     1.79,2,    0.404,2,    0.210,2,   0.1482,2,   2194.3,2,   2314.5,2,    923.6,2,       20,   7.6452,2,       25,  -999.00,9,      1.0,2,  -999.00,9,     17.7,2,20230311,2211
33RO20230306  ,A16N       ,8       ,  2,80210      ,110        ,20230311,2050,  -2.6636, -24.9988,     5371,   1453.0,   4.3987,  34.9505,2,  34.9584,2,    208.3,2,    222.8,2,    19.30,2,    22.00,2,     0.00,2,     1.53,2,    0.736,2,    0.371,2,   0.1935,2,   2179.7,2,   2313.6,2,    830.6,2,       20,   7.6873,2,       25,  -999.00,9,      1.0,2,  -999.00,9,     15.3,2,20230311,2207
33RO20230306  ,A16N       ,8       ,  2,80209      ,109        ,20230311,2050,  -2.6636, -24.9988,     5371,   1578.0,   4.1933,  34.9624,2,  34.9556,2,    217.7,2,    233.0,2,    18.80,2,    21.00,2,     0.01,2,     1.46,2,    0.675,2,    0.338,2,   0.1596,3,   2176.9,2,   2314.2,2,    801.7,2,       20,   7.6989,2,       25,  -999.00,9,      1.0,2,  -999.00,9,     14.7,2,20230311,2204
33RO20230306  ,A16N       ,8       ,  2,80208      ,108        ,20230311,2050,  -2.6636, -24.9988,     5371,   1953.8,   3.5683,  34.9589,2,  34.9606,2,    232.9,2,    249.9,2,    21.40,2,    19.60,2,     0.02,2,     1.38,2,    0.583,2,    0.286,2,   0.1192,3,   2168.1,2,   2317.1,2,    761.2,2,       20,   7.7201,2,       25,  -999.00,9,      1.0,2,  -999.00,9,     13.4,2,20230311,2157
33RO20230306  ,A16N       ,8       ,  2,80207      ,107        ,20230311,2050,  -2.6636, -24.9988,     5371,   2405.1,   3.1050,  34.9363,2,  34.9580,2,    231.1,2,    249.8,2,    28.40,2,    20.10,2,     0.00,2,     1.42,2,    0.301,2,    0.153,2,   0.0000,3,   2176.7,2,   2321.7,2,    760.5,2,       20,   7.7219,2,       25,  -999.00,9,      0.9,2,  -999.00,9,     13.5,2,20230311,2147
33RO20230306  ,A16N       ,8       ,  2,80206      ,106        ,20230311,2050,  -2.6636, -24.9988,     5371,   2804.8,   2.7459,  34.9100,2,  34.9094,2,    224.5,2,    244.3,2,    38.10,2,    21.40,2,     0.01,2,     1.51,2,    0.085,2,    0.048,2,   0.0000,3,   2188.0,2,   2331.2,2,    777.8,2,       20,   7.7146,2,       25,  -999.00,9,      1.0,2,  -999.00,9,     13.4,2,20230311,2140
33RO20230306  ,A16N       ,8       ,  2,80205      ,105        ,20230311,2050,  -2.6636, -24.9988,     5371,   3404.3,   2.5128,  34.9012,2,  34.8863,2,    230.7,2,    253.6,2,    36.60,2,    20.40,2,     0.00,2,     1.44,2,    0.244,2,    0.122,2,   0.0845,2,   2181.4,2,   2332.1,2,    762.0,2,       20,   7.7220,2,       25,  -999.00,9,      0.9,2,  -999.00,9,     13.1,2,20230311,2129
33RO20230306  ,A16N       ,8       ,  2,80204      ,104        ,20230311,2050,  -2.6636, -24.9988,     5371,   3805.1,   2.3177,  34.8881,2,  34.8895,2,    235.9,2,    259.2,2,    36.20,2,    19.70,2,     0.00,2,     1.42,2,    0.598,2,    0.299,2,   0.2009,3,   2179.8,2,   2326.2,2,   -999.0,9,       20,   7.7200,2,       25,  -999.00,9,      0.9,2,  -999.00,9,     13.2,2,20230311,2121
33RO20230306  ,A16N       ,8       ,  2,80203      ,103        ,20230311,2050,  -2.6636, -24.9988,     5371,   4303.9,   1.4100,  34.7859,2,  34.7906,2,    213.6,2,    236.2,2,    82.00,2,    26.50,2,     0.00,2,     1.89,2,    0.146,2,    0.073,2,   0.0000,2,   2226.0,2,   2356.2,2,    887.3,2,       20,   7.6687,2,       25,  -999.00,9,      0.7,2,  -999.00,9,     15.4,2,20230311,2111
33RO20230306  ,A16N       ,8       ,  2,80202      ,102        ,20230311,2050,  -2.6636, -24.9988,     5371,   4902.3,   0.8185,  34.7149,2,  34.7107,2,    199.4,2,    221.3,2,   111.40,2,    30.60,2,     0.01,2,     2.18,2,    0.174,2,    0.081,2,   0.0000,2,   2255.6,2,   2368.3,2,    993.7,2,       20,   7.6260,2,       25,  -999.00,9,      0.5,6,  -999.00,9,     16.7,2,20230311,2100
33RO20230306  ,A16N       ,8       ,  2,80201      ,101        ,20230311,2050,  -2.6636, -24.9988,     5371,   5434.6,   0.7852,  34.7042,2,  34.7084,2,    195.6,2,    212.7,2,   115.40,2,    31.10,2,     0.00,2,     2.21,2,    0.212,6,    0.103,6,   0.0000,3,   2256.1,6,   2370.7,2,   1002.3,2,       20,   7.6204,2,       25,  -999.00,9,      0.5,2,  -999.00,9,     17.0,6,20230311,2050
33RO20230306  ,A16N       ,9       ,  1,90124      ,124        ,20230312,0315,  -2.3280, -24.9991,     5104,      3.0,  28.2958,  35.7147,2,  35.7150,2,    191.5,2,    200.2,2,     0.90,2,     0.00,2,     0.00,2,     0.09,2,    1.404,2,    0.910,2,   1.7614,2,   2020.4,6,   2338.3,2,    313.9,2,       20,   8.0500,2,       25,    71.68,2,      1.2,2,     4.23,2,      5.9,2,20230312,0512
33RO20230306  ,A16N       ,9       ,  1,90123      ,123        ,20230312,0315,  -2.3280, -24.9991,     5104,     26.7,  28.2676,  35.7579,2,  35.7620,2,    192.2,2,    201.3,2,     1.10,2,     0.00,2,     0.00,2,     0.10,2,    1.414,2,    0.926,2,   2.0227,2,   2023.4,2,   2339.7,2,    317.3,2,       20,   8.0500,2,       25,    67.70,2,      1.2,2,     3.60,2,      6.0,2,20230312,0510
33RO20230306  ,A16N       ,9       ,  1,90122      ,122        ,20230312,0315,  -2.3280, -24.9991,     5104,     51.7,  24.7491,  36.0696,2,  36.0474,2,    191.5,2,    180.5,2,     2.30,2,     1.90,2,     0.16,2,     0.39,2,    1.740,2,    1.089,2,   1.7186,2,   2103.0,2,   2362.4,2,    425.8,2,       20,   7.9466,2,       25,    67.65,2,      0.9,2,     6.40,2,     12.3,2,20230312,0508
33RO20230306  ,A16N       ,9       ,  1,90121      ,121        ,20230312,0315,  -2.3280, -24.9991,     5104,     72.5,  17.0527,  35.6945,2,  35.7180,2,    106.5,2,    103.1,2,     5.90,2,    18.10,2,     0.16,2,     1.29,2,    2.195,2,    1.309,2,   1.5843,2,   2192.2,2,   2337.2,2,    793.4,2,       20,   7.7095,2,       25,    54.04,2,      0.2,2,    21.45,2,     24.9,2,20230312,0506
33RO20230306  ,A16N       ,9       ,  1,90120      ,120        ,20230312,0315,  -2.3280, -24.9991,     5104,    101.2,  13.7975,  35.3708,2,  35.3720,6,    142.1,2,    143.0,2,     6.90,2,    17.30,2,     0.02,2,     1.24,2,    2.425,2,    1.411,2,   1.6251,2,   2174.8,2,   2319.5,2,    754.3,2,       20,   7.7269,2,       25,    49.34,2,      0.5,2,    21.60,2,     21.2,2,20230312,0505
33RO20230306  ,A16N       ,9       ,  1,90119      ,119        ,20230312,0315,  -2.3280, -24.9991,     5104,    150.8,  13.5816,  35.3464,2,  35.3464,2,    124.4,2,    125.7,2,     7.80,2,    19.90,2,     0.01,2,     1.38,2,    2.350,2,    1.367,2,   1.4836,2,   2189.6,2,   2321.7,2,    835.3,2,       20,   7.6873,2,       25,    47.42,2,      0.4,2,    22.42,2,     24.1,2,20230312,0503
33RO20230306  ,A16N       ,9       ,  1,90118      ,118        ,20230312,0315,  -2.3280, -24.9991,     5104,    224.6,  13.2871,  35.3104,2,  35.3133,2,    104.7,2,    110.3,2,     8.60,2,    22.10,2,     0.01,2,     1.49,2,    2.311,2,    1.344,2,   1.4899,2,   2197.2,2,   2316.9,2,    915.6,2,       20,   7.6539,2,       25,    48.14,2,      0.3,2,    25.80,2,     26.8,2,20230312,0500
33RO20230306  ,A16N       ,9       ,  1,90117      ,117        ,20230312,0315,  -2.3280, -24.9991,     5104,    303.1,  11.6112,  35.1040,2,  35.1060,2,     79.8,2,     83.5,2,    11.50,2,    28.00,2,     0.01,2,     1.81,2,    2.114,2,    1.192,2,   0.8614,2,   2220.0,2,   2307.4,2,   1151.8,2,       20,   7.5653,2,       25,    45.49,2,      0.2,2,    32.00,2,     32.7,2,20230312,0458
33RO20230306  ,A16N       ,9       ,  1,90116      ,116        ,20230312,0315,  -2.3280, -24.9991,     5104,    400.6,   9.5843,  34.8699,2,  34.8685,2,     64.5,2,     70.1,2,    15.70,2,    33.50,2,     0.01,2,     2.14,2,    1.622,2,    0.877,2,   0.5370,2,   2237.7,2,   2296.1,2,   1387.4,2,       20,   7.4872,2,       25,    44.88,2,      0.3,6,    37.11,2,     36.0,2,20230312,0455
33RO20230306  ,A16N       ,9       ,  1,90115      ,115        ,20230312,0315,  -2.3280, -24.9991,     5104,    553.7,   6.8245,  34.5780,2,  34.5831,2,    125.9,2,    125.9,2,    21.60,2,    33.30,2,     0.00,2,     2.22,2,    1.449,2,    0.756,2,   0.5418,2,   2214.7,2,   2291.8,2,   1235.6,2,       20,   7.5315,2,       25,    44.60,2,      0.6,2,    39.32,2,     26.7,2,20230312,0451
33RO20230306  ,A16N       ,9       ,  1,90114      ,114        ,20230312,0315,  -2.3280, -24.9991,     5104,    665.8,   5.5037,  34.4811,2,  34.4874,2,    136.7,2,    150.0,2,    27.00,2,    33.50,2,     0.00,2,     2.29,2,    1.205,2,    0.616,2,   0.3155,2,   2212.4,2,   2292.3,2,   1185.5,2,       20,   7.5472,2,       25,    42.09,2,      0.8,2,    34.33,2,     23.7,2,20230312,0448
33RO20230306  ,A16N       ,9       ,  1,90113      ,113        ,20230312,0315,  -2.3280, -24.9991,     5104,    827.5,   4.5929,  34.4696,2,  34.4792,2,    155.2,2,    165.4,2,    33.10,2,    33.70,2,     0.00,2,     2.31,2,    0.737,2,    0.371,2,   0.2758,2,   2216.4,2,   2297.0,2,   1161.3,2,       20,   7.5543,2,       25,    42.62,2,      0.8,2,    38.22,2,     22.4,2,20230312,0444
33RO20230306  ,A16N       ,9       ,  1,90112      ,112        ,20230312,0315,  -2.3280, -24.9991,     5104,    976.8,   4.4663,  34.5697,2,  34.5794,2,    147.5,2,    156.8,2,    33.40,2,    33.30,2,     0.01,2,     2.30,2,    0.237,6,    0.124,6,   0.0368,6,   2216.5,2,   2301.3,2,   1153.0,2,       20,   7.5584,2,       25,    42.17,2,      0.9,2,    36.33,2,     22.2,6,20230312,0440
33RO20230306  ,A16N       ,9       ,  1,90111      ,111        ,20230312,0315,  -2.3280, -24.9991,     5104,   1123.2,   4.5849,  34.7487,2,  34.7531,2,    161.6,2,    171.1,2,    28.50,2,    29.70,2,     0.01,2,     2.04,2,    0.188,2,    0.107,2,   0.0300,2,   2210.2,2,   2303.5,2,   1034.1,2,       20,   7.5991,2,       25,    43.33,2,      0.8,2,    34.53,2,     20.3,2,20230312,0437
33RO20230306  ,A16N       ,9       ,  1,90110      ,110        ,20230312,0315,  -2.3280, -24.9991,     5104,   1325.2,   4.5540,  34.8811,2,  34.8851,2,    184.3,2,    198.5,2,    23.20,2,    25.30,2,     0.00,2,     1.74,2,    0.399,2,    0.208,2,   0.2129,2,   2193.6,2,   2307.3,2,    911.8,2,       20,   7.6489,2,       25,    41.35,2,      0.9,2,    26.10,2,     17.8,2,20230312,0432
33RO20230306  ,A16N       ,9       ,  1,90109      ,109        ,20230312,0315,  -2.3280, -24.9991,     5104,   1654.4,   4.1102,  34.9720,2,  34.9774,2,    225.3,2,    241.1,2,    17.90,2,    20.00,2,     0.00,2,     1.39,2,    0.939,2,    0.471,2,   0.2927,2,     -999,9,     -999,9,   -999.0,9,       20,     -999,9,       25,    42.05,2,      1.1,2,    20.86,2,     14.4,2,20230312,0425
33RO20230306  ,A16N       ,9       ,  1,90108      ,108        ,20230312,0315,  -2.3280, -24.9991,     5104,   2050.8,   3.4914,  34.9561,2,  34.9629,2,    233.6,2,    250.1,2,    22.00,2,    19.50,2,     0.01,2,     1.35,2,    0.541,2,    0.268,2,   0.1900,2,   2168.8,2,   2313.3,2,    758.4,2,       20,   7.7173,2,       25,    43.04,2,      1.2,2,    20.83,2,     13.7,2,20230312,0417
33RO20230306  ,A16N       ,9       ,  1,90107      ,107        ,20230312,0315,  -2.3280, -24.9991,     5104,   2451.6,   3.0483,  34.9314,2,  34.9378,2,    230.0,2,    247.2,2,    30.40,2,    20.50,2,     0.01,2,     1.42,2,    0.230,2,    0.113,2,   0.0599,3,     -999,9,     -999,9,    762.6,2,       20,     -999,9,       25,    42.29,2,      1.1,2,    22.28,2,     13.2,2,20230312,0409
33RO20230306  ,A16N       ,9       ,  1,90106      ,106        ,20230312,0315,  -2.3280, -24.9991,     5104,   2852.5,   2.7504,  34.9087,2,  34.9129,2,    223.6,2,    242.9,2,    38.80,2,    21.60,2,     0.00,2,     1.50,2,    0.061,2,    0.037,2,   0.0000,3,   2185.1,2,   2328.9,2,    777.7,2,       20,   7.7129,2,       25,    41.34,2,      1.0,2,    20.99,2,     13.8,2,20230312,0400
33RO20230306  ,A16N       ,9       ,  1,90105      ,105        ,20230312,0315,  -2.3280, -24.9991,     5104,   3254.1,   2.5460,  34.9023,2,  34.9117,6,    228.9,2,    293.0,2,    37.80,2,    20.70,2,     0.01,2,     1.46,2,    0.174,2,    0.099,2,   0.0000,3,     -999,9,     -999,9,    764.0,2,       20,     -999,9,       25,    40.01,2,      0.9,2,    18.19,2,     13.7,2,20230312,0352
33RO20230306  ,A16N       ,9       ,  1,90104      ,104        ,20230312,0315,  -2.3280, -24.9991,     5104,   3652.8,   2.4503,  34.8989,2,  34.9034,2,    235.3,2,    259.0,2,    33.80,2,    19.50,2,     0.00,2,     1.38,2,    0.499,2,    0.253,2,   0.2636,3,   2178.0,2,   2327.6,2,    756.1,6,       20,   7.7246,2,       25,    41.36,2,      0.9,2,    16.43,2,     13.3,2,20230312,0344
33RO20230306  ,A16N       ,9       ,  1,90103      ,103        ,20230312,0315,  -2.3280, -24.9991,     5104,   4049.9,   1.9771,  34.8493,2,  34.8595,2,    227.0,2,    252.8,2,    53.70,2,    22.30,2,     0.00,2,     1.57,2,    0.410,2,    0.208,2,   0.1556,2,     -999,9,     -999,9,    804.1,2,       20,     -999,9,       25,    41.31,2,      0.9,2,    19.80,2,     14.3,2,20230312,0336
33RO20230306  ,A16N       ,9       ,  1,90102      ,102        ,20230312,0315,  -2.3280, -24.9991,     5104,   4523.0,   0.9621,  34.7351,2,  34.7592,2,    203.7,2,    226.4,2,   103.40,2,    29.50,2,     0.00,2,     2.07,2,    0.153,2,    0.077,2,   0.1414,3,   2247.2,2,   2361.6,2,    958.5,2,       20,   7.6398,2,       25,    40.35,2,      0.7,2,    18.25,2,     16.8,2,20230312,0326
33RO20230306  ,A16N       ,9       ,  1,90101      ,101        ,20230312,0315,  -2.3280, -24.9991,     5104,   5093.0,   0.8418,  34.7141,2,  34.7194,2,    198.0,2,    215.1,2,   111.70,2,    30.70,2,     0.00,2,     2.15,2,    0.192,2,    0.099,2,   0.2143,2,   2256.2,2,   2360.9,2,    985.6,2,       20,   7.6298,2,       25,    40.07,2,      0.6,6,    18.35,2,     16.9,2,20230312,0315