BOTTLE,20240601CCHHYDRO
EXPOCODE,SECT_ID,STNNBR,CASTNO,SAMPNO,BTLNBR,DATE,TIME,LATITUDE,LONGITUDE,DEPTH,CTDPRS,CTDTMP,CTDSAL,CTDSAL_FLAG_W,SALNTY,SALNTY_FLAG_W,CTDOXY,CTDOXY_FLAG_W,OXYGEN,OXYGEN_FLAG_W,SILCAT,SILCAT_FLAG_W,NITRAT,NITRAT_FLAG_W,NITRIT,NITRIT_FLAG_W,PHSPHT,PHSPHT_FLAG_W,CFC-11,CFC-11_FLAG_W,CFC-12,CFC-12_FLAG_W,SF6,SF6_FLAG_W,TCARBN,TCARBN_FLAG_W,ALKALI,ALKALI_FLAG_W,FCO2,FCO2_FLAG_W,FCO2TMP,PH_TOT,PH_TOT_FLAG_W,PH_TMP,DOC,DOC_FLAG_W,DELC13,DELC13_FLAG_W,TDN,TDN_FLAG_W,N2O,N2O_FLAG_W,BTL_DATE,BTL_TIME
,,,,,,,,,,METERS,DBAR,ITS-90,PSS-78,,PSS-78,,UMOL/KG,,UMOL/KG,,UMOL/KG,,UMOL/KG,,UMOL/KG,,UMOL/KG,,PMOL/KG,,PMOL/KG,,FMOL/KG,,UMOL/KG,,UMOL/KG,,UATM,,DEG C,,,DEG C,UMOL/KG,,/MILLE,,UMOL/KG,,NMOL/KG,,,
33RO20230306  ,A16N       ,60      ,  1,600124     ,224        ,20230327,0535,  20.5002, -28.7206,     5142,      3.6,  22.7253,  36.9624,2,  36.9639,2,    200.1,2,    215.1,2,     0.50,2,     0.00,2,     0.00,2,     0.11,2,    1.779,6,    1.146,6,   1.9138,6,   2114.9,6,   2416.0,2,    366.8,2,       20,   8.0052,2,       25,    71.65,2,      1.0,2,     4.87,2,      6.6,6,20230327,0735
33RO20230306  ,A16N       ,60      ,  1,600123     ,223        ,20230327,0535,  20.5002, -28.7206,     5142,     30.2,  22.6114,  36.9435,2,  36.9482,6,    200.8,2,    216.5,2,     0.40,2,     0.00,2,     0.00,2,     0.10,2,    1.783,2,    1.154,2,   1.9357,2,   2113.2,2,   2416.3,2,    365.8,2,       20,   8.0067,2,       25,    72.37,2,      1.0,2,     3.93,2,      6.6,2,20230327,0732
33RO20230306  ,A16N       ,60      ,  1,600122     ,222        ,20230327,0535,  20.5002, -28.7206,     5142,     56.6,  22.4640,  36.9615,2,  36.9697,2,    201.3,2,    216.2,2,     0.40,2,     0.00,2,     0.00,2,     0.11,2,    1.799,2,    1.154,2,   1.8950,2,   2115.7,2,   2417.9,2,    367.8,2,       20,   8.0040,2,       25,    67.67,2,      1.1,2,     4.92,2,      6.7,2,20230327,0730
33RO20230306  ,A16N       ,60      ,  1,600121     ,221        ,20230327,0535,  20.5002, -28.7206,     5142,     81.3,  21.7753,  37.0472,2,  37.0530,2,    200.2,2,    213.4,2,     0.50,2,     0.00,2,     0.00,2,     0.12,2,    1.814,2,    1.159,2,   1.9603,2,   2126.9,2,   2420.4,2,    378.2,2,       20,   7.9964,2,       25,    63.66,2,      0.9,2,     4.35,2,      6.9,2,20230327,0728
33RO20230306  ,A16N       ,60      ,  1,600120     ,220        ,20230327,0535,  20.5002, -28.7206,     5142,    100.8,  21.2827,  37.0164,2,  37.0035,2,    190.9,2,    201.5,2,     0.80,2,     1.10,2,     0.17,2,     0.20,2,    1.893,2,    1.202,2,   1.9897,2,   2145.3,2,   2417.0,2,    414.1,2,       20,   7.9626,2,       25,    57.97,2,      0.8,2,     5.37,2,      7.9,2,20230327,0726
33RO20230306  ,A16N       ,60      ,  1,600119     ,219        ,20230327,0535,  20.5002, -28.7206,     5142,    124.3,  19.4573,  36.7081,2,  36.7107,2,    147.9,2,    162.3,2,     1.90,2,     7.40,2,     0.04,2,     0.54,2,    2.050,2,    1.280,2,   1.9109,2,   2180.0,2,   2395.6,2,    535.1,2,       20,   7.8664,2,       25,    53.73,2,      0.3,2,    10.25,2,     11.9,2,20230327,0724
33RO20230306  ,A16N       ,60      ,  1,600118     ,218        ,20230327,0535,  20.5002, -28.7206,     5142,    186.8,  16.5703,  36.1736,2,  36.1773,2,    113.1,2,    119.8,2,     4.40,2,    15.30,2,     0.01,2,     0.98,2,    2.202,2,    1.332,2,   1.6400,2,   2202.8,2,   2362.4,2,    722.3,2,       20,   7.7494,2,       25,    52.01,2,      0.2,2,    16.73,2,     19.5,2,20230327,0722
33RO20230306  ,A16N       ,60      ,  1,600117     ,217        ,20230327,0535,  20.5002, -28.7206,     5142,    251.2,  14.4417,  35.8034,2,  35.8050,2,     81.6,2,     96.6,2,     6.90,2,    20.80,2,     0.01,2,     1.29,2,    2.227,2,    1.316,2,   1.3228,2,   2217.3,2,   2341.7,2,    887.2,2,       20,   7.6680,2,       25,    48.64,2,      0.1,6,    20.26,2,     24.7,2,20230327,0717
33RO20230306  ,A16N       ,60      ,  1,600116     ,216        ,20230327,0535,  20.5002, -28.7206,     5142,    374.7,  13.3411,  35.7766,2,  35.7806,2,    136.2,2,    144.8,2,     6.10,2,    17.00,2,     0.00,2,     1.06,2,    2.381,2,    1.391,2,   1.3705,2,   2193.6,2,   2342.2,2,    748.5,2,       20,   7.7327,2,       25,    44.99,2,      0.2,2,    18.54,2,     17.6,2,20230327,0714
33RO20230306  ,A16N       ,60      ,  1,600115     ,215        ,20230327,0535,  20.5002, -28.7206,     5142,    473.0,  11.8368,  35.5799,2,  35.5932,2,    119.3,2,    128.6,2,     8.90,2,    21.50,2,     0.00,2,     1.33,2,    2.042,2,    1.152,2,   0.8750,2,   2204.5,2,   2331.0,2,    856.5,2,       20,   7.6799,2,       25,    45.63,2,      0.2,2,    23.39,2,     19.9,2,20230327,0711
33RO20230306  ,A16N       ,60      ,  1,600114     ,214        ,20230327,0535,  20.5002, -28.7206,     5142,    574.0,  10.6018,  35.4330,2,  35.4333,2,    115.7,2,    127.5,2,    11.80,2,    24.20,2,     0.00,2,     1.54,2,    1.548,2,    0.866,2,   0.6029,2,   2211.8,2,   2325.8,2,    921.0,2,       20,   7.6516,2,       25,    45.42,2,      0.4,2,    26.80,2,     20.7,2,20230327,0709
33RO20230306  ,A16N       ,60      ,  1,600113     ,213        ,20230327,0535,  20.5002, -28.7206,     5142,    751.7,   7.9752,  35.0799,2,  35.0797,2,    102.4,2,    111.2,2,    19.20,2,    30.30,2,     0.00,2,     1.98,2,    0.486,2,    0.260,2,   0.1186,2,   2224.2,2,   2314.4,2,   1091.1,2,       20,   7.5836,2,       25,    42.96,2,      0.6,2,    32.99,2,     23.6,2,20230327,0704
33RO20230306  ,A16N       ,60      ,  1,600112     ,212        ,20230327,0535,  20.5002, -28.7206,     5142,    898.9,   6.9121,  35.0014,2,  35.0224,2,    117.5,2,    127.0,2,    21.50,2,    30.10,2,     0.00,2,     2.00,2,    0.243,2,    0.135,2,   0.0854,2,   2219.5,2,   2310.2,2,   1068.8,2,       20,   7.5917,2,       25,    43.24,2,      0.6,2,    30.93,2,     22.0,2,20230327,0701
33RO20230306  ,A16N       ,60      ,  1,600111     ,211        ,20230327,0535,  20.5002, -28.7206,     5142,   1095.6,   6.1989,  35.0201,2,  35.0238,6,    140.1,2,    146.5,2,    21.70,2,    28.00,2,     0.00,2,     1.88,2,    0.162,2,    0.090,2,   0.0801,2,   2215.4,2,   2314.3,2,    989.7,2,       20,   7.6215,2,       25,    41.71,2,      0.7,2,    30.02,2,     20.1,2,20230327,0656
33RO20230306  ,A16N       ,60      ,  1,600110     ,210        ,20230327,0535,  20.5002, -28.7206,     5142,   1246.2,   5.8405,  35.0694,2,  35.0785,2,    157.6,2,    168.9,2,    21.00,2,    25.70,2,     0.00,2,     1.75,2,    0.138,2,    0.078,2,   0.0403,2,   2206.0,2,   2318.7,2,    919.5,2,       20,   7.6503,2,       25,    42.91,2,      0.7,2,    25.21,2,     18.1,2,20230327,0652
33RO20230306  ,A16N       ,60      ,  1,600109     ,209        ,20230327,0535,  20.5002, -28.7206,     5142,   1495.5,   5.0407,  35.0667,2,  35.0760,2,    182.9,2,    198.2,2,    20.60,2,    23.10,2,     0.00,2,     1.59,2,    0.085,2,    0.049,2,   0.0823,2,   2191.0,2,   2321.8,2,    842.7,2,       20,   7.6835,2,       25,    41.11,2,      1.0,2,    23.99,2,     15.8,2,20230327,0647
33RO20230306  ,A16N       ,60      ,  1,600108     ,208        ,20230327,0535,  20.5002, -28.7206,     5142,   1841.3,   4.1378,  35.0220,2,  35.0262,2,    201.1,2,    219.8,2,    23.30,2,    22.00,2,     0.00,2,     1.52,2,    0.018,2,    0.011,2,   0.0000,2,   2187.7,2,   2321.0,2,    802.5,2,       20,   7.7006,2,       25,    41.69,2,      0.9,2,    24.80,2,     14.5,2,20230327,0640
33RO20230306  ,A16N       ,60      ,  1,600107     ,207        ,20230327,0535,  20.5002, -28.7206,     5142,   2347.9,   3.3893,  34.9830,2,  34.9900,2,    216.5,2,    236.8,2,    27.70,2,    20.90,2,     0.00,2,     1.46,2,    0.017,2,    0.010,2,   0.0000,2,   2182.1,2,   2324.2,2,    766.3,2,       20,   7.7194,2,       25,    40.79,2,      1.1,2,    20.59,2,     13.2,2,20230327,0630
33RO20230306  ,A16N       ,60      ,  1,600106     ,206        ,20230327,0535,  20.5002, -28.7206,     5142,   2801.5,   2.9442,  34.9545,2,  34.9603,2,    218.3,2,    239.7,2,    33.90,2,    21.00,2,     0.00,2,     1.46,2,    0.022,2,    0.013,2,   0.0000,2,   2190.7,2,   2334.3,2,    763.2,2,       20,   7.7231,2,       25,    40.81,2,      0.9,2,    19.88,2,     13.0,2,20230327,0621
33RO20230306  ,A16N       ,60      ,  1,600105     ,205        ,20230327,0535,  20.5002, -28.7206,     5142,   3237.5,   2.6295,  34.9246,2,  34.9283,2,    218.5,2,    241.2,2,    39.80,2,    21.40,2,     0.00,2,     1.49,2,    0.023,2,    0.015,2,   0.1368,3,   2194.8,2,   2340.1,2,    764.1,2,       20,   7.7238,2,       25,    42.01,2,      1.0,2,    19.58,2,     13.1,2,20230327,0612
33RO20230306  ,A16N       ,60      ,  1,600104     ,204        ,20230327,0535,  20.5002, -28.7206,     5142,   3750.0,   2.4441,  34.9032,2,  34.9084,2,    218.5,2,    244.2,2,    44.10,6,    21.80,6,     0.00,6,     1.51,6,    0.010,2,    0.009,2,   0.0956,2,   2200.2,2,   2343.9,2,   -999.0,9,       20,   7.7229,2,       25,    40.16,2,      0.9,2,    20.47,2,     13.4,2,20230327,0603
33RO20230306  ,A16N       ,60      ,  1,600103     ,203        ,20230327,0535,  20.5002, -28.7206,     5142,   4301.7,   2.3705,  34.8896,2,  34.8917,2,    216.4,2,    242.6,2,    47.40,6,    22.20,6,     0.00,6,     1.54,6,    0.009,2,    0.005,2,   0.0631,3,   2204.2,2,   2347.7,2,    768.6,6,       20,   7.7219,2,       25,    40.33,2,      0.9,2,    19.98,2,     13.5,2,20230327,0552
33RO20230306  ,A16N       ,60      ,  1,600102     ,202        ,20230327,0535,  20.5002, -28.7206,     5142,   4803.9,   2.3851,  34.8844,2,  34.8889,2,    215.3,2,    246.0,2,    48.50,6,    22.20,6,     0.00,6,     1.54,6,    0.015,2,    0.011,2,   0.0757,3,   2206.1,2,   2349.0,6,    769.8,2,       20,   7.7214,6,       25,    41.90,2,      1.1,2,    18.75,2,     13.9,2,20230327,0543
33RO20230306  ,A16N       ,60      ,  1,600101     ,201        ,20230327,0535,  20.5002, -28.7206,     5142,   5219.2,   2.4325,  34.8833,2,  34.8885,2,    213.9,2,    242.7,2,    48.60,6,    22.20,6,     0.00,6,     1.54,6,    0.022,2,    0.014,2,   0.0000,2,   2207.1,6,   2346.6,2,    769.0,2,       20,   7.7236,2,       25,    40.73,2,      0.8,6,    20.35,2,     14.5,2,20230327,0535
33RO20230306  ,A16N       ,61      ,  2,610224     ,224        ,20230327,1349,  21.0017, -28.4392,     5025,      3.1,  22.9908,  36.9093,2,     -999,9,    199.6,2,     -999,9,     -999,9,     -999,9,     -999,9,     -999,9,     -999,9,     -999,9,     -999,9,     -999,9,     -999,9,   -999.0,9,       20,     -999,9,       25,  -999.00,9,   -999.0,9,  -999.00,9,     -999,9,20230327,1539
33RO20230306  ,A16N       ,61      ,  2,610223     ,223        ,20230327,1349,  21.0017, -28.4392,     5025,     15.4,  22.6748,  36.9066,2,  36.9083,2,    200.4,2,    216.6,2,     0.50,2,     0.00,2,     0.00,2,     0.11,2,    1.779,2,    1.161,2,   2.0466,2,   2104.4,6,   2412.2,2,    363.1,2,       20,   8.0084,2,       25,  -999.00,9,      1.0,2,  -999.00,9,      6.5,2,20230327,1538
33RO20230306  ,A16N       ,61      ,  2,610222     ,222        ,20230327,1349,  21.0017, -28.4392,     5025,     40.8,  22.5421,  36.8952,2,  36.8960,2,    201.7,2,    216.5,2,     0.40,2,     0.00,2,     0.00,2,     0.10,2,    1.784,2,    1.156,2,   1.9530,2,   2105.1,2,   2412.5,2,    364.7,2,       20,   8.0057,2,       25,  -999.00,9,      1.1,2,  -999.00,9,      6.5,2,20230327,1536
33RO20230306  ,A16N       ,61      ,  2,610221     ,221        ,20230327,1349,  21.0017, -28.4392,     5025,     59.6,  22.0322,  36.8924,2,  36.9018,2,    201.2,2,    213.7,2,     0.50,2,     0.00,2,     0.00,2,     0.11,2,    1.802,2,    1.155,2,   1.9545,2,   2108.8,2,   2413.1,2,    372.3,2,       20,   7.9985,2,       25,  -999.00,9,      1.0,2,  -999.00,9,      6.9,2,20230327,1535
33RO20230306  ,A16N       ,61      ,  2,610220     ,220        ,20230327,1349,  21.0017, -28.4392,     5025,     94.2,  19.9968,  36.7310,2,  36.7272,2,    168.9,2,    162.6,2,     1.70,2,     7.00,2,     0.17,2,     0.54,2,    1.984,2,    1.223,2,   1.9616,2,   2167.5,2,   2396.9,2,    522.0,6,       20,   7.8751,2,       25,  -999.00,9,      0.4,2,  -999.00,9,     11.9,2,20230327,1532
33RO20230306  ,A16N       ,61      ,  2,610219     ,219        ,20230327,1349,  21.0017, -28.4392,     5025,    121.6,  19.2384,  36.7294,2,  36.7276,2,    159.7,2,    169.4,2,     1.60,2,     6.60,2,     0.05,2,     0.46,2,    2.043,2,    1.267,2,   1.9592,2,   2163.2,2,   2397.5,2,    519.2,2,       20,   7.8782,2,       25,  -999.00,9,      0.4,2,  -999.00,9,     10.7,2,20230327,1531
33RO20230306  ,A16N       ,61      ,  2,610218     ,218        ,20230327,1349,  21.0017, -28.4392,     5025,    161.0,  17.7380,  36.4346,2,  36.4251,2,    138.3,2,    149.2,2,     2.80,2,    10.60,2,     0.02,2,     0.71,2,    2.148,2,    1.314,2,   1.8194,2,   2177.3,2,   2379.3,2,    600.6,2,       20,   7.8222,2,       25,  -999.00,9,      0.2,2,  -999.00,9,     14.4,6,20230327,1529
33RO20230306  ,A16N       ,61      ,  2,610217     ,217        ,20230327,1349,  21.0017, -28.4392,     5025,    212.4,  15.7781,  36.0507,2,  36.0588,2,    108.1,2,    121.5,2,     4.80,2,    16.10,2,     0.01,2,     1.02,2,    2.255,2,    1.343,2,   1.5734,2,   2192.4,2,   2356.0,2,    736.2,2,       20,   7.7410,2,       25,  -999.00,9,      0.2,2,  -999.00,9,     19.8,2,20230327,1527
33RO20230306  ,A16N       ,61      ,  2,610216     ,216        ,20230327,1349,  21.0017, -28.4392,     5025,    280.9,  14.4475,  35.8643,2,  35.8477,2,    114.8,2,    117.8,2,     6.10,2,    18.50,2,     0.00,2,     1.16,2,    2.252,2,    1.341,2,   1.3595,2,   2198.1,2,   2343.3,2,    800.3,2,       20,   7.7076,2,       25,  -999.00,9,      0.1,6,  -999.00,9,     21.6,2,20230327,1525
33RO20230306  ,A16N       ,61      ,  2,610215     ,215        ,20230327,1349,  21.0017, -28.4392,     5025,    351.6,  13.9116,  35.8577,2,  35.8614,2,    143.9,2,    156.2,2,     5.00,2,    14.60,2,     0.00,2,     0.92,2,     -999,9,     -999,9,   1.4862,9,   2176.0,2,   2345.8,2,    688.5,2,       20,   7.7657,2,       25,  -999.00,9,      0.3,2,  -999.00,9,     -999,9,20230327,1523
33RO20230306  ,A16N       ,61      ,  2,610214     ,214        ,20230327,1349,  21.0017, -28.4392,     5025,    506.3,  11.5700,  35.5312,2,  35.5329,6,    113.4,2,    115.7,2,     9.70,2,    23.40,2,     0.00,2,     1.46,2,    1.864,2,    1.051,2,   0.7837,2,   2206.7,2,   2326.8,2,    917.9,2,       20,   7.6545,2,       25,  -999.00,9,      0.2,2,  -999.00,9,     21.8,2,20230327,1519
33RO20230306  ,A16N       ,61      ,  2,610213     ,213        ,20230327,1349,  21.0017, -28.4392,     5025,    707.3,   8.6514,  35.1412,2,  35.1408,2,     92.8,2,    100.9,2,    17.50,2,    30.40,2,     0.00,2,     1.98,2,    0.673,2,    0.373,2,   0.2564,2,   2221.2,6,   2313.7,2,   1111.2,2,       20,   7.5777,2,       25,  -999.00,9,      0.4,2,  -999.00,9,     24.5,2,20230327,1515
33RO20230306  ,A16N       ,61      ,  2,610212     ,212        ,20230327,1349,  21.0017, -28.4392,     5025,    998.6,   6.3890,  34.9935,2,  34.9983,2,    126.2,2,    137.0,2,    22.30,2,    29.60,2,     0.00,2,     1.99,2,    0.147,2,    0.083,2,   0.0806,2,   2213.6,2,   2313.4,6,   1048.0,2,       20,   7.5987,6,       25,  -999.00,9,      0.6,2,  -999.00,9,     21.2,2,20230327,1509
33RO20230306  ,A16N       ,61      ,  2,610211     ,211        ,20230327,1349,  21.0017, -28.4392,     5025,   1218.4,   5.9990,  35.0846,2,  35.1022,2,    152.6,2,    165.6,2,    20.90,2,    26.10,2,     0.00,2,     1.78,2,    0.151,2,    0.084,2,   0.0714,2,   2200.4,2,   2307.1,2,    928.7,2,       20,   7.6464,2,       25,  -999.00,9,      0.7,2,  -999.00,9,     17.8,2,20230327,1504
33RO20230306  ,A16N       ,61      ,  2,610210     ,210        ,20230327,1349,  21.0017, -28.4392,     5025,   1414.6,   5.2769,  35.0793,2,  35.0906,6,    175.9,2,    190.4,2,    20.60,2,    23.90,2,     0.00,2,     1.64,2,    0.089,2,    0.051,2,   0.0483,2,   2192.3,2,   2321.6,2,    858.6,2,       20,   7.6757,2,       25,  -999.00,9,      0.8,2,  -999.00,9,     16.1,2,20230327,1500
33RO20230306  ,A16N       ,61      ,  2,610209     ,209        ,20230327,1349,  21.0017, -28.4392,     5025,   1702.0,   4.4327,  35.0414,2,  35.0509,2,    195.0,2,    211.9,2,    22.40,2,    22.50,2,     0.00,2,     1.57,2,    0.029,2,    0.016,2,   0.0469,2,   2183.5,2,   2318.7,2,    815.9,2,       20,   7.6949,2,       25,  -999.00,9,      0.9,2,  -999.00,9,     14.8,2,20230327,1454
33RO20230306  ,A16N       ,61      ,  2,610208     ,208        ,20230327,1349,  21.0017, -28.4392,     5025,   2023.1,   3.8257,  35.0031,2,  35.0063,2,    209.3,2,    228.6,2,    24.20,2,    21.50,2,     0.00,2,     1.51,2,    0.015,2,    0.009,2,   0.0644,3,   2180.3,2,   2318.6,2,    783.8,2,       20,   7.7104,2,       25,  -999.00,9,      1.1,2,  -999.00,9,     14.0,2,20230327,1447
33RO20230306  ,A16N       ,61      ,  2,610207     ,207        ,20230327,1349,  21.0017, -28.4392,     5025,   2400.3,   3.3261,  34.9732,2,  34.9760,2,    213.1,2,    233.2,2,    29.20,2,    21.40,2,     0.00,2,     1.50,2,    0.005,3,    0.002,2,   0.0000,2,   2181.1,2,   2324.5,2,    777.5,2,       20,   7.7144,2,       25,  -999.00,9,      1.1,2,  -999.00,9,     13.5,2,20230327,1439
33RO20230306  ,A16N       ,61      ,  2,610206     ,206        ,20230327,1349,  21.0017, -28.4392,     5025,   2697.4,   3.0872,  34.9603,2,  34.9493,2,    215.4,2,    236.5,2,    32.30,2,    21.30,2,     0.00,2,     1.50,2,    0.009,3,    0.007,2,   0.0998,3,   2184.5,2,   2331.0,2,    771.0,2,       20,   7.7187,2,       25,  -999.00,9,      0.9,2,  -999.00,9,     13.4,2,20230327,1433
33RO20230306  ,A16N       ,61      ,  2,610205     ,205        ,20230327,1349,  21.0017, -28.4392,     5025,   3304.6,   2.6313,  34.9240,2,  34.9209,2,    216.7,2,    239.8,2,    40.20,2,    21.60,2,     0.00,2,     1.52,2,    0.024,2,    0.016,2,   0.0000,2,   2194.9,2,   2340.2,2,    767.6,2,       20,   7.7213,2,       25,  -999.00,9,      0.9,2,  -999.00,9,     13.2,2,20230327,1422
33RO20230306  ,A16N       ,61      ,  2,610204     ,204        ,20230327,1349,  21.0017, -28.4392,     5025,   3784.8,   2.4449,  34.9029,2,  34.9054,2,    218.4,2,    247.2,2,    44.00,2,    21.90,2,     0.00,2,     1.54,2,    0.006,3,    0.004,2,   0.0280,3,   2195.7,2,   2342.1,6,    764.6,2,       20,   7.7199,6,       25,  -999.00,9,      1.0,2,  -999.00,9,     13.8,2,20230327,1413
33RO20230306  ,A16N       ,61      ,  2,610203     ,203        ,20230327,1349,  21.0017, -28.4392,     5025,   4204.6,   2.3814,  34.8919,2,     -999,9,    216.9,2,     -999,9,     -999,9,     -999,9,     -999,9,     -999,9,     -999,9,     -999,9,     -999,9,     -999,9,     -999,9,   -999.0,9,       20,     -999,9,       25,  -999.00,9,   -999.0,9,  -999.00,9,     -999,9,20230327,1405
33RO20230306  ,A16N       ,61      ,  2,610202     ,202        ,20230327,1349,  21.0017, -28.4392,     5025,   4702.8,   2.3808,  34.8852,2,  34.8973,2,    215.5,2,    243.1,2,    48.30,2,    22.30,2,     0.00,2,     1.56,2,    0.015,2,    0.008,2,   0.0000,2,   2200.7,6,   2349.3,2,    769.8,2,       20,   7.7244,2,       25,  -999.00,9,      1.0,2,  -999.00,9,     14.5,2,20230327,1356
33RO20230306  ,A16N       ,61      ,  2,610201     ,201        ,20230327,1349,  21.0017, -28.4392,     5025,   5098.5,   2.4131,  34.8828,2,  34.8933,2,    214.6,2,    242.3,2,    48.60,2,    22.30,2,     0.00,2,     1.57,2,    0.021,2,    0.012,2,   0.0295,3,   2203.8,2,   2350.1,2,    769.3,2,       20,   7.7257,2,       25,  -999.00,9,      0.9,6,  -999.00,9,     14.8,2,20230327,1349