BOTTLE,20240601CCHHYDRO
EXPOCODE,SECT_ID,STNNBR,CASTNO,SAMPNO,BTLNBR,DATE,TIME,LATITUDE,LONGITUDE,DEPTH,CTDPRS,CTDTMP,CTDSAL,CTDSAL_FLAG_W,SALNTY,SALNTY_FLAG_W,CTDOXY,CTDOXY_FLAG_W,OXYGEN,OXYGEN_FLAG_W,SILCAT,SILCAT_FLAG_W,NITRAT,NITRAT_FLAG_W,NITRIT,NITRIT_FLAG_W,PHSPHT,PHSPHT_FLAG_W,CFC-11,CFC-11_FLAG_W,CFC-12,CFC-12_FLAG_W,SF6,SF6_FLAG_W,TCARBN,TCARBN_FLAG_W,ALKALI,ALKALI_FLAG_W,FCO2,FCO2_FLAG_W,FCO2TMP,PH_TOT,PH_TOT_FLAG_W,PH_TMP,DOC,DOC_FLAG_W,DELC13,DELC13_FLAG_W,TDN,TDN_FLAG_W,N2O,N2O_FLAG_W,BTL_DATE,BTL_TIME
,,,,,,,,,,METERS,DBAR,ITS-90,PSS-78,,PSS-78,,UMOL/KG,,UMOL/KG,,UMOL/KG,,UMOL/KG,,UMOL/KG,,UMOL/KG,,PMOL/KG,,PMOL/KG,,FMOL/KG,,UMOL/KG,,UMOL/KG,,UATM,,DEG C,,,DEG C,UMOL/KG,,/MILLE,,UMOL/KG,,NMOL/KG,,,
33RO20230306  ,A16N       ,6       ,  1,60124      ,124        ,20230311,0558,  -3.4977, -24.9997,     5553,      3.6,  28.4581,  35.5655,2,  35.5674,2,    190.5,2,    197.8,2,     0.90,2,     0.00,2,     0.00,2,     0.10,2,    1.393,2,    0.893,2,   1.7001,2,   2017.1,2,   2331.9,2,    314.0,2,       20,   8.0509,2,       25,    69.05,2,      1.1,2,     4.64,2,      6.0,2,20230311,0812
33RO20230306  ,A16N       ,6       ,  1,60123      ,123        ,20230311,0558,  -3.4977, -24.9997,     5553,     26.2,  28.5004,  35.6084,2,  35.6059,2,    190.4,2,    198.7,2,     0.90,2,     0.00,2,     0.00,2,     0.10,2,    1.395,2,    0.902,2,   1.7228,2,   2019.6,2,   2335.1,2,    315.9,2,       20,   8.0511,2,       25,  -999.00,9,      1.3,2,  -999.00,9,      6.0,2,20230311,0809
33RO20230306  ,A16N       ,6       ,  1,60122      ,122        ,20230311,0558,  -3.4977, -24.9997,     5553,     45.4,  28.4788,  35.6462,2,  35.6517,6,    190.9,2,    198.2,2,     0.90,2,     0.00,2,     0.00,2,     0.11,2,    1.403,6,    0.909,6,   1.8077,6,   2023.7,2,   2335.6,2,    319.0,2,       20,   8.0486,2,       25,  -999.00,9,      1.2,2,  -999.00,9,      6.0,6,20230311,0807
33RO20230306  ,A16N       ,6       ,  1,60121      ,121        ,20230311,0558,  -3.4977, -24.9997,     5553,     75.9,  22.9089,  36.4140,2,  36.4300,2,    181.8,2,    178.2,2,     1.80,2,     1.80,2,     0.12,2,     0.44,2,    1.369,2,    0.874,2,   1.3755,2,   2125.8,2,   2390.3,2,    430.7,2,       20,   7.9479,2,       25,  -999.00,9,      0.8,2,  -999.00,9,      8.9,2,20230311,0805
33RO20230306  ,A16N       ,6       ,  1,60120      ,120        ,20230311,0558,  -3.4977, -24.9997,     5553,    100.7,  16.5249,  35.7025,2,  35.7017,2,    109.4,2,    112.5,2,     5.60,2,    17.40,2,     0.04,2,     1.25,2,    2.220,2,    1.316,2,   1.4221,2,   2192.7,2,   2341.4,2,    777.6,2,       20,   7.7214,2,       25,  -999.00,9,      0.3,2,  -999.00,9,     24.2,2,20230311,0802
33RO20230306  ,A16N       ,6       ,  1,60119      ,119        ,20230311,0558,  -3.4977, -24.9997,     5553,    151.0,  14.1403,  35.4307,2,  35.4300,2,     85.9,2,     89.6,2,     8.00,2,    23.00,2,     0.01,2,     1.55,2,    2.304,2,    1.338,2,   1.2670,2,   2213.1,2,   2328.5,2,    969.3,2,       20,   7.6339,2,       25,  -999.00,9,      0.1,2,  -999.00,9,     29.4,2,20230311,0800
33RO20230306  ,A16N       ,6       ,  1,60118      ,118        ,20230311,0558,  -3.4977, -24.9997,     5553,    251.7,  11.9670,  35.1482,2,  35.1506,2,     80.1,2,     84.2,2,    10.70,2,    27.10,2,     0.00,2,     1.77,2,    2.172,2,    1.217,2,   1.0002,2,   2220.5,2,   2313.8,2,   1119.0,2,       20,   7.5757,2,       25,  -999.00,9,      0.3,2,  -999.00,9,     32.7,2,20230311,0757
33RO20230306  ,A16N       ,6       ,  1,60117      ,117        ,20230311,0558,  -3.4977, -24.9997,     5553,    351.6,  10.5637,  34.9697,2,  34.9617,2,    106.5,2,    112.4,2,    12.50,2,    27.90,2,     0.00,2,     1.85,2,    2.141,2,    1.177,2,   0.9061,2,   2214.4,2,     -999,9,   1123.7,2,       20,     -999,9,       25,  -999.00,9,      0.4,2,  -999.00,9,     30.8,2,20230311,0754
33RO20230306  ,A16N       ,6       ,  1,60116      ,116        ,20230311,0558,  -3.4977, -24.9997,     5553,    410.9,   9.6381,  34.8755,2,  34.8852,2,     72.0,2,     76.5,2,    15.10,2,    32.50,2,     0.00,2,     2.09,2,    1.719,2,    0.933,2,   0.7313,2,   2235.2,6,   2299.7,2,   1336.6,2,       20,   7.5053,2,       25,  -999.00,9,      0.3,6,  -999.00,9,     34.8,2,20230311,0751
33RO20230306  ,A16N       ,6       ,  1,60115      ,115        ,20230311,0558,  -3.4977, -24.9997,     5553,    500.7,   7.7231,  34.6779,2,  34.6780,2,     95.3,2,     91.4,2,    19.70,2,    35.10,2,     0.00,2,     2.30,2,    1.289,2,    0.674,2,   0.3620,2,   2234.6,2,     -999,9,   1385.7,2,       20,     -999,9,       25,  -999.00,9,      0.4,2,  -999.00,9,     31.0,2,20230311,0748
33RO20230306  ,A16N       ,6       ,  1,60114      ,114        ,20230311,0558,  -3.4977, -24.9997,     5553,    651.3,   5.7223,  34.5125,2,  34.5231,2,    123.3,2,    127.8,2,    26.50,2,    35.30,2,     0.00,2,     2.41,2,    0.850,2,    0.435,2,   0.2888,2,   2226.3,2,   2295.6,2,   1291.8,2,       20,   7.5166,2,       25,  -999.00,9,      0.6,2,  -999.00,9,     25.3,2,20230311,0744
33RO20230306  ,A16N       ,6       ,  1,60113      ,113        ,20230311,0558,  -3.4977, -24.9997,     5553,    800.6,   4.7783,  34.5012,2,  34.5054,2,    138.6,2,    143.9,2,    32.00,2,    35.10,2,     0.00,2,     2.42,2,    0.397,2,    0.200,2,   0.0307,3,   2225.5,2,     -999,9,   1232.6,2,       20,     -999,9,       25,  -999.00,9,      0.6,2,  -999.00,9,     23.5,2,20230311,0740
33RO20230306  ,A16N       ,6       ,  1,60112      ,112        ,20230311,0558,  -3.4977, -24.9997,     5553,    951.8,   4.4719,  34.5718,2,  34.5760,2,    146.6,2,    152.6,2,    33.10,2,    33.60,2,     0.00,2,     2.34,2,    0.188,2,    0.095,2,   0.1177,3,   2222.2,2,   2306.4,2,   1169.2,2,       20,   7.5549,2,       25,  -999.00,9,      0.8,2,  -999.00,9,     22.1,2,20230311,0736
33RO20230306  ,A16N       ,6       ,  1,60111      ,111        ,20230311,0558,  -3.4977, -24.9997,     5553,   1101.0,   4.4811,  34.7087,2,  34.7120,2,    158.5,2,    168.2,2,    29.90,2,    30.70,2,     0.00,2,     2.12,2,    0.140,2,    0.075,2,   0.0000,3,   2214.8,2,     -999,9,   1065.5,2,       20,     -999,9,       25,  -999.00,9,      0.7,2,  -999.00,9,     20.7,2,20230311,0732
33RO20230306  ,A16N       ,6       ,  1,60110      ,110        ,20230311,0558,  -3.4977, -24.9997,     5553,   1400.6,   4.3885,  34.9232,2,  34.9319,2,    200.2,2,    212.4,2,    21.20,2,    23.40,2,     0.00,2,     1.62,2,    0.432,2,    0.218,2,   0.0728,2,   2186.6,2,   2314.7,2,    861.5,2,       20,   7.6738,2,       25,  -999.00,9,      0.9,2,  -999.00,9,     16.3,2,20230311,0725
33RO20230306  ,A16N       ,6       ,  1,60109      ,109        ,20230311,0558,  -3.4977, -24.9997,     5553,   1700.2,   3.9609,  34.9671,2,  34.9738,6,    226.3,2,    242.4,2,    18.80,2,    20.10,2,     0.00,2,     1.40,2,    0.666,2,    0.331,2,   0.1611,2,   2172.3,2,     -999,9,    781.3,2,       20,     -999,9,       25,  -999.00,9,      1.0,2,  -999.00,9,     14.2,2,20230311,0718
33RO20230306  ,A16N       ,6       ,  1,60108      ,108        ,20230311,0558,  -3.4977, -24.9997,     5553,   2150.8,   3.3092,  34.9474,2,  34.9509,2,    232.8,2,    251.3,2,    25.10,2,    19.90,2,     0.00,2,     1.40,2,    1.105,2,    0.727,2,     -999,9,   2173.9,2,   2319.8,2,   -999.0,9,       20,   7.7220,2,       25,  -999.00,9,      1.0,2,  -999.00,9,     15.5,2,20230311,0709
33RO20230306  ,A16N       ,6       ,  1,60107      ,107        ,20230311,0558,  -3.4977, -24.9997,     5553,   2700.7,   2.8109,  34.9143,2,  34.9212,2,    225.6,2,    244.8,2,    36.50,2,    21.40,2,     0.00,2,     1.51,2,    0.070,2,    0.039,2,     -999,9,   2184.6,2,     -999,9,    774.5,2,       20,     -999,9,       25,  -999.00,9,      1.0,2,  -999.00,9,     13.7,2,20230311,0658
33RO20230306  ,A16N       ,6       ,  1,60106      ,106        ,20230311,0558,  -3.4977, -24.9997,     5553,   3101.3,   2.6240,  34.9081,2,  34.9122,2,    228.4,2,    250.7,2,    36.60,2,    20.80,2,     0.00,2,     1.47,2,    0.119,2,    0.064,2,   0.0000,3,   2183.2,2,   2333.4,2,    764.6,2,       20,   7.7214,2,       25,  -999.00,9,      1.1,2,  -999.00,9,     13.4,2,20230311,0650
33RO20230306  ,A16N       ,6       ,  1,60105      ,105        ,20230311,0558,  -3.4977, -24.9997,     5553,   3601.6,   2.4741,  34.9022,2,  34.9091,2,    236.8,2,    261.7,2,    32.30,2,    19.30,2,     0.00,2,     1.36,2,    0.564,2,    0.284,2,   0.1548,2,   2178.7,2,     -999,9,    754.5,2,       20,     -999,9,       25,  -999.00,9,      1.1,2,  -999.00,9,     13.2,2,20230311,0639
33RO20230306  ,A16N       ,6       ,  1,60104      ,104        ,20230311,0558,  -3.4977, -24.9997,     5553,   4101.7,   1.8338,  34.8335,2,  34.8373,2,    223.2,2,    247.1,2,    61.80,2,    23.50,2,     0.00,2,     1.67,2,    0.214,2,    0.117,2,   0.0000,3,   2205.8,2,   2346.2,2,    828.2,2,       20,   7.6948,2,       25,  -999.00,9,      0.9,2,  -999.00,9,     14.6,2,20230311,0629
33RO20230306  ,A16N       ,6       ,  1,60103      ,103        ,20230311,0558,  -3.4977, -24.9997,     5553,   4600.5,   0.9181,  34.7311,2,  34.7337,2,    202.9,2,    226.9,2,   104.70,2,    29.70,2,     0.00,2,     2.10,2,    0.106,2,    0.055,2,   0.0000,3,   2250.6,2,     -999,9,    965.0,2,       20,     -999,9,       25,  -999.00,9,      0.7,2,  -999.00,9,     16.7,2,20230311,0619
33RO20230306  ,A16N       ,6       ,  1,60102      ,102        ,20230311,0558,  -3.4977, -24.9997,     5553,   5100.7,   0.7985,  34.7117,2,  34.7157,2,    198.5,2,    223.2,2,   112.40,2,    30.80,2,     0.00,2,     2.18,2,    0.151,2,    0.075,2,   0.0746,2,   2258.0,2,   2370.2,2,    998.8,6,       20,   7.6261,2,       25,  -999.00,9,      0.7,2,  -999.00,9,     17.3,2,20230311,0609
33RO20230306  ,A16N       ,6       ,  1,60101      ,101        ,20230311,0558,  -3.4977, -24.9997,     5553,   5645.6,   0.7994,  34.7035,2,  34.7059,2,    195.3,2,    212.5,2,   115.60,2,    31.10,2,     0.00,2,     2.20,2,    0.257,2,    0.206,2,     -999,9,   2260.6,6,   2356.2,3,   1008.3,2,       20,   7.6195,2,       25,  -999.00,9,      0.6,6,  -999.00,9,     17.4,2,20230311,0558
33RO20230306  ,A16N       ,7       ,  1,70124      ,124        ,20230311,1255,  -3.0004, -24.9989,     5362,      3.4,  28.6558,  35.7717,2,  35.7714,2,    189.6,2,    199.0,2,     1.20,2,     0.00,2,     0.00,2,     0.12,2,    1.396,2,    0.903,2,   1.7412,2,   2026.0,6,   2345.2,2,    318.4,2,       20,   8.0502,2,       25,    68.80,2,      1.2,6,     4.45,2,      5.9,2,20230311,1458
33RO20230306  ,A16N       ,7       ,  1,70123      ,123        ,20230311,1255,  -3.0004, -24.9989,     5362,     35.8,  28.5115,  35.8238,2,  35.8296,2,    190.2,2,    199.3,2,     0.90,2,     0.00,2,     0.00,2,     0.11,2,    1.403,2,    0.911,2,   1.7321,2,   2032.4,2,   2348.0,2,    324.9,2,       20,   8.0513,2,       25,  -999.00,9,      1.3,2,  -999.00,9,      6.1,2,20230311,1455
33RO20230306  ,A16N       ,7       ,  1,70122      ,122        ,20230311,1255,  -3.0004, -24.9989,     5362,     69.4,  17.6602,  35.7921,2,  35.8042,2,    114.1,2,    113.6,2,     5.20,2,    15.20,2,     0.26,2,     1.16,2,    2.133,2,    1.279,2,   1.4635,2,   2183.1,2,   2347.8,2,    718.8,2,       20,   7.7523,2,       25,    56.55,2,      0.3,2,    19.69,2,     22.4,2,20230311,1453
33RO20230306  ,A16N       ,7       ,  1,70121      ,121        ,20230311,1255,  -3.0004, -24.9989,     5362,    121.2,  14.0860,  35.4240,2,  35.4214,2,     86.9,2,     93.8,2,     8.20,2,    22.50,2,     0.01,2,     1.53,2,    2.317,2,    1.354,2,   1.1706,2,   2209.2,2,   2324.5,2,    947.2,2,       20,   7.6418,2,       25,    52.50,2,      0.3,2,    26.09,2,     28.1,2,20230311,1451
33RO20230306  ,A16N       ,7       ,  1,70120      ,120        ,20230311,1255,  -3.0004, -24.9989,     5362,    193.8,  13.0520,  35.2834,2,  35.2838,2,     98.2,2,    102.2,2,     8.90,2,    23.20,2,     0.00,2,     1.56,2,    2.295,2,    1.328,2,   0.9828,2,   2206.7,2,   2318.7,2,    960.2,2,       20,   7.6381,2,       25,    47.74,2,      0.2,2,    25.04,2,     27.3,2,20230311,1448
33RO20230306  ,A16N       ,7       ,  1,70119      ,119        ,20230311,1255,  -3.0004, -24.9989,     5362,    264.1,  12.4193,  35.2049,2,  35.2031,2,     83.0,2,     86.8,2,    10.20,2,    26.10,2,     0.00,2,     1.71,2,    2.212,2,    1.264,2,   1.0261,2,   2215.9,2,   2315.4,2,   1075.1,2,       20,   7.5926,2,       25,    45.37,2,      0.2,2,    28.68,2,     30.5,2,20230311,1446
33RO20230306  ,A16N       ,7       ,  1,70118      ,118        ,20230311,1255,  -3.0004, -24.9989,     5362,    354.2,  10.9093,  35.0206,2,  35.0205,2,     81.7,2,     85.5,2,    12.30,2,    29.00,2,     0.00,2,     1.88,2,    2.057,6,    1.152,6,   0.7532,6,   2222.9,2,   2306.7,2,   1184.3,2,       20,   7.5549,2,       25,    41.48,2,      0.3,2,    28.80,2,     32.0,6,20230311,1443
33RO20230306  ,A16N       ,7       ,  1,70117      ,117        ,20230311,1255,  -3.0004, -24.9989,     5362,    455.1,   8.9081,  34.7996,2,  34.8066,6,     69.2,2,     72.6,2,    17.60,2,    34.50,2,     0.00,2,     2.23,2,    1.475,2,    0.789,2,   0.5561,2,   2239.8,6,   2298.5,2,   1414.7,2,       20,   7.4801,2,       25,    43.43,2,      0.4,2,    36.00,2,     34.3,2,20230311,1440
33RO20230306  ,A16N       ,7       ,  1,70116      ,116        ,20230311,1255,  -3.0004, -24.9989,     5362,    572.9,   6.6909,  34.5827,2,  34.5833,2,    105.6,2,    111.3,2,    22.60,2,    35.10,2,     0.00,2,     2.34,2,    1.141,2,    0.590,2,   0.3196,2,   2228.4,2,   2299.1,2,   1327.0,2,       20,   7.5047,2,       25,    41.16,2,      0.5,2,    36.47,2,     27.4,2,20230311,1437
33RO20230306  ,A16N       ,7       ,  1,70115      ,115        ,20230311,1255,  -3.0004, -24.9989,     5362,    724.7,   5.1168,  34.4953,2,  34.4973,2,    127.6,2,    134.1,2,    30.10,2,    35.60,2,     0.00,2,     2.44,2,    0.509,2,    0.263,2,   0.0620,3,   2229.5,2,   2298.5,2,   1279.2,2,       20,   7.5195,2,       25,    41.88,2,      0.6,2,    38.32,2,     24.2,2,20230311,1433
33RO20230306  ,A16N       ,7       ,  1,70114      ,114        ,20230311,1255,  -3.0004, -24.9989,     5362,    875.2,   4.5662,  34.5289,2,  34.5314,2,    142.3,2,    150.6,2,    33.20,2,    34.20,2,     0.00,2,     2.38,2,    0.287,2,    0.147,2,   0.0000,3,   2225.9,2,   2302.4,2,   1194.8,6,       20,   7.5463,2,       25,    42.18,2,      0.7,2,    36.63,2,     22.5,2,20230311,1429
33RO20230306  ,A16N       ,7       ,  1,70113      ,113        ,20230311,1255,  -3.0004, -24.9989,     5362,   1024.7,   4.4491,  34.6247,2,  34.6284,2,    151.9,2,    160.1,2,    32.10,2,    32.20,2,     0.00,2,     2.25,2,    0.180,2,    0.093,2,   0.0000,3,   2218.7,2,   2308.4,2,   1120.3,2,       20,   7.5723,2,       25,    42.80,2,      0.6,2,    37.17,2,     21.5,2,20230311,1425
33RO20230306  ,A16N       ,7       ,  1,70112      ,112        ,20230311,1255,  -3.0004, -24.9989,     5362,   1202.9,   4.4547,  34.7846,2,  34.7873,2,    167.8,2,    178.3,2,    27.50,2,    28.50,2,     0.00,2,     1.97,2,    0.146,2,    0.073,2,   0.0000,3,   2208.0,2,   2310.5,2,    999.5,2,       20,   7.6148,2,       25,    44.30,2,      0.7,2,    30.19,2,     19.3,2,20230311,1421
33RO20230306  ,A16N       ,7       ,  1,70111      ,111        ,20230311,1255,  -3.0004, -24.9989,     5362,   1403.4,   4.5308,  34.9314,2,  34.9364,2,    199.3,2,    212.4,2,    20.40,2,    23.00,2,     0.00,2,     1.60,2,    0.684,2,    0.343,2,   0.2105,2,   2186.5,2,   2313.4,2,    859.7,2,       20,   7.6743,2,       25,    43.16,2,      0.8,2,    23.83,2,     16.2,2,20230311,1416
33RO20230306  ,A16N       ,7       ,  1,70110      ,110        ,20230311,1255,  -3.0004, -24.9989,     5362,   1604.2,   4.1589,  34.9719,2,  34.9764,2,    223.2,2,    237.8,2,    18.00,2,    20.10,2,     0.00,2,     1.41,2,    0.895,2,    0.451,2,   0.3044,2,   2173.8,2,   2314.8,2,    791.9,2,       20,   7.7047,2,       25,    41.32,2,      0.9,2,    23.94,2,     14.3,2,20230311,1412
33RO20230306  ,A16N       ,7       ,  1,70109      ,109        ,20230311,1255,  -3.0004, -24.9989,     5362,   1904.0,   3.5992,  34.9608,2,  34.9638,2,    232.8,2,    249.3,2,    20.90,2,    19.50,2,     0.00,2,     1.34,2,    0.551,2,    0.289,2,   0.2400,3,   2171.4,2,   2316.5,2,    763.6,2,       20,   7.7194,2,       25,    43.78,2,      1.2,2,    21.52,2,     11.8,2,20230311,1405
33RO20230306  ,A16N       ,7       ,  1,70108      ,108        ,20230311,1255,  -3.0004, -24.9989,     5362,   2303.8,   3.1276,  34.9370,2,  34.9408,2,    230.5,2,    249.4,2,    28.50,2,    20.20,2,     0.00,2,     1.42,2,    0.275,2,    0.135,2,   0.1415,3,   2181.5,2,   2323.4,2,    762.9,2,       20,   7.7214,2,       25,    44.16,2,      1.0,2,    23.00,2,     13.5,2,20230311,1358
33RO20230306  ,A16N       ,7       ,  1,70107      ,107        ,20230311,1255,  -3.0004, -24.9989,     5362,   2754.2,   2.7979,  34.9133,2,  34.9168,2,    224.5,2,    243.2,2,    37.40,2,    21.40,2,     0.00,2,     1.51,2,    0.074,2,    0.042,2,   0.0000,3,   2190.5,2,   2333.9,2,   -999.0,9,       20,   7.7163,2,       25,    41.74,2,      1.0,2,    24.41,2,     13.7,2,20230311,1349
33RO20230306  ,A16N       ,7       ,  1,70106      ,106        ,20230311,1255,  -3.0004, -24.9989,     5362,   3255.6,   2.5844,  34.9076,2,  34.9099,2,    230.8,2,    252.6,2,    35.50,2,    20.40,2,     0.00,2,     1.44,2,    0.197,2,    0.102,2,   0.0729,2,   2183.7,2,   2330.0,2,    760.0,2,       20,   7.7241,2,       25,    43.78,2,      1.2,2,    21.53,2,     13.5,2,20230311,1339
33RO20230306  ,A16N       ,7       ,  1,70105      ,105        ,20230311,1255,  -3.0004, -24.9989,     5362,   3756.6,   2.4056,  34.8967,2,  34.9003,2,    236.4,2,    260.9,2,    33.40,2,    19.30,2,     0.00,2,     1.38,2,    0.602,2,    0.298,2,   0.0947,3,   2182.8,2,   2319.4,2,    756.3,2,       20,   7.7254,2,       25,    40.97,2,      1.1,2,    19.92,2,     13.3,2,20230311,1330
33RO20230306  ,A16N       ,7       ,  1,70104      ,104        ,20230311,1255,  -3.0004, -24.9989,     5362,   4251.3,   1.4424,  34.7905,2,  34.7978,6,    214.5,2,    236.1,2,    80.30,2,    26.30,2,     0.00,2,     1.86,2,    0.137,2,    0.067,2,   0.0000,3,   2225.8,2,   2355.1,2,    880.9,2,       20,   7.6713,2,       25,    40.58,2,      0.8,2,    26.07,2,     15.6,2,20230311,1320
33RO20230306  ,A16N       ,7       ,  1,70103      ,103        ,20230311,1255,  -3.0004, -24.9989,     5362,   4749.1,   0.8677,  34.7239,2,  34.7257,2,    201.2,2,    224.0,2,   108.10,2,    30.20,2,     0.00,2,     2.13,2,    0.122,2,    0.068,2,   0.1131,3,   2256.0,2,   2367.3,2,    976.8,2,       20,   7.6336,2,       25,    41.93,2,      0.6,2,    29.56,2,     17.0,2,20230311,1310
33RO20230306  ,A16N       ,7       ,  1,70102      ,102        ,20230311,1255,  -3.0004, -24.9989,     5362,   5250.5,   0.7635,  34.7056,2,  34.7135,2,    197.1,2,    221.8,2,   115.40,2,    31.10,2,     0.01,2,     2.21,2,    0.192,2,    0.090,2,   0.0000,3,   2259.2,2,   2368.9,2,   1010.0,2,       20,   7.6205,2,       25,    40.89,2,      0.5,2,    32.44,2,     17.4,2,20230311,1300
33RO20230306  ,A16N       ,7       ,  1,70101      ,101        ,20230311,1255,  -3.0004, -24.9989,     5362,   5443.4,   0.7644,  34.7028,2,  34.7053,2,    195.6,2,    220.5,2,   116.30,2,    31.20,2,     0.00,2,     2.23,2,    0.221,2,    0.109,2,   0.0000,3,   2259.6,6,   2369.2,2,   1009.7,2,       20,   7.6188,2,       25,    40.53,2,      0.5,6,    30.61,2,     17.2,2,20230311,1255