BOTTLE,20240601CCHHYDRO
EXPOCODE,SECT_ID,STNNBR,CASTNO,SAMPNO,BTLNBR,DATE,TIME,LATITUDE,LONGITUDE,DEPTH,CTDPRS,CTDTMP,CTDSAL,CTDSAL_FLAG_W,SALNTY,SALNTY_FLAG_W,CTDOXY,CTDOXY_FLAG_W,OXYGEN,OXYGEN_FLAG_W,SILCAT,SILCAT_FLAG_W,NITRAT,NITRAT_FLAG_W,NITRIT,NITRIT_FLAG_W,PHSPHT,PHSPHT_FLAG_W,CFC-11,CFC-11_FLAG_W,CFC-12,CFC-12_FLAG_W,SF6,SF6_FLAG_W,TCARBN,TCARBN_FLAG_W,ALKALI,ALKALI_FLAG_W,FCO2,FCO2_FLAG_W,FCO2TMP,PH_TOT,PH_TOT_FLAG_W,PH_TMP,DOC,DOC_FLAG_W,DELC13,DELC13_FLAG_W,TDN,TDN_FLAG_W,N2O,N2O_FLAG_W,BTL_DATE,BTL_TIME
,,,,,,,,,,METERS,DBAR,ITS-90,PSS-78,,PSS-78,,UMOL/KG,,UMOL/KG,,UMOL/KG,,UMOL/KG,,UMOL/KG,,UMOL/KG,,PMOL/KG,,PMOL/KG,,FMOL/KG,,UMOL/KG,,UMOL/KG,,UATM,,DEG C,,,DEG C,UMOL/KG,,/MILLE,,UMOL/KG,,NMOL/KG,,,
33RO20230306  ,A16N       ,68      ,  2,680224     ,224        ,20230329,1813,  24.5257, -26.4847,     5419,      4.1,  22.4410,  37.0585,2,  37.0635,6,    204.3,2,    216.7,2,     0.50,2,     0.00,2,     0.00,2,     0.08,2,    1.806,2,    1.151,2,   1.9375,2,   2122.2,6,   2422.9,2,    369.3,2,       20,   8.0020,2,       25,    65.20,2,      1.0,2,     4.45,2,      6.9,2,20230329,2010
33RO20230306  ,A16N       ,68      ,  2,680223     ,223        ,20230329,1813,  24.5257, -26.4847,     5419,     24.6,  22.3589,  37.0606,2,  37.0797,2,    204.5,2,    216.6,2,     0.50,2,     0.00,2,     0.00,2,     0.08,2,    1.808,2,    1.145,2,   1.9544,2,   2120.7,2,   2424.7,2,    369.4,6,       20,   8.0026,2,       25,    58.77,2,      1.0,2,     4.08,2,      6.8,2,20230329,2008
33RO20230306  ,A16N       ,68      ,  2,680222     ,222        ,20230329,1813,  24.5257, -26.4847,     5419,     50.6,  22.2142,  37.1007,2,  37.1038,2,    205.3,2,    215.4,2,     0.40,2,     0.00,2,     0.00,2,     0.08,2,    1.799,2,    1.132,2,   1.9609,2,   2121.5,2,   2426.5,2,    367.7,2,       20,   8.0048,2,       25,    62.17,2,      1.0,2,     3.78,2,      6.8,2,20230329,2007
33RO20230306  ,A16N       ,68      ,  2,680221     ,221        ,20230329,1813,  24.5257, -26.4847,     5419,     74.9,  21.7531,  37.0821,2,  37.0829,2,    202.5,2,    214.4,2,     0.50,2,     0.10,2,     0.02,2,     0.09,2,    1.831,2,    1.138,2,   1.9643,2,   2124.3,2,   2425.5,2,    378.3,2,       20,   7.9948,2,       25,    60.54,2,      0.9,2,     3.21,2,      6.9,2,20230329,2005
33RO20230306  ,A16N       ,68      ,  2,680220     ,220        ,20230329,1813,  24.5257, -26.4847,     5419,     99.8,  21.6031,  37.0990,2,  37.1007,2,    198.6,2,    209.8,2,     0.50,2,     0.20,2,     0.20,2,     0.11,2,    1.833,2,    1.142,2,   1.9847,2,   2132.9,2,   2425.8,2,    388.8,2,       20,   7.9848,2,       25,    60.25,2,      0.9,2,     4.45,2,      7.2,2,20230329,2003
33RO20230306  ,A16N       ,68      ,  2,680219     ,219        ,20230329,1813,  24.5257, -26.4847,     5419,    150.5,  19.5607,  36.8159,2,  36.8144,2,    173.5,2,    177.4,2,     1.30,2,     5.20,2,     0.02,2,     0.36,2,    2.054,2,    1.255,2,   1.9204,2,   2164.5,2,   2405.0,2,    488.2,2,       20,   7.9003,2,       25,    52.60,2,      0.4,2,     8.52,2,     10.3,2,20230329,2001
33RO20230306  ,A16N       ,68      ,  2,680218     ,218        ,20230329,1813,  24.5257, -26.4847,     5419,    220.5,  17.3133,  36.3525,2,  36.3337,2,    137.7,2,    144.5,2,     3.10,2,    11.60,2,     0.01,2,     0.74,2,    2.210,2,    1.320,2,   1.7045,2,   2184.8,2,   2372.8,2,    618.9,2,       20,   7.8083,2,       25,    49.00,2,      0.1,2,    13.77,2,     16.4,2,20230329,1959
33RO20230306  ,A16N       ,68      ,  2,680217     ,217        ,20230329,1813,  24.5257, -26.4847,     5419,    282.4,  15.5477,  35.9916,2,  35.9852,2,    100.6,2,    106.8,2,     5.40,2,    18.20,2,     0.01,2,     1.12,2,    2.246,2,    1.319,2,   1.4464,2,   2210.0,2,   2352.2,6,    799.5,2,       20,   7.7106,6,       25,    50.94,2,     -0.1,2,    14.87,2,     23.4,2,20230329,1957
33RO20230306  ,A16N       ,68      ,  2,680216     ,216        ,20230329,1813,  24.5257, -26.4847,     5419,    391.3,  14.2347,  35.9013,2,  35.9050,2,    150.3,2,    171.1,2,     4.20,2,    12.80,2,     0.00,2,     0.79,2,    2.507,2,    1.454,2,   1.5633,2,   2173.6,6,   2349.3,2,    640.0,2,       20,   7.7915,2,       25,    44.73,2,      0.3,2,    15.79,2,     14.5,2,20230329,1954
33RO20230306  ,A16N       ,68      ,  2,680215     ,215        ,20230329,1813,  24.5257, -26.4847,     5419,    500.4,  12.7117,  35.7098,2,  35.7078,2,    148.1,2,    164.2,2,     6.10,2,    16.80,2,     0.00,2,     1.02,2,    2.415,2,    1.381,2,   1.2254,2,   2186.8,2,   2338.3,2,    732.2,2,       20,   7.7399,2,       25,    45.13,2,      0.4,6,    18.27,2,     16.8,2,20230329,1952
33RO20230306  ,A16N       ,68      ,  2,680214     ,214        ,20230329,1813,  24.5257, -26.4847,     5419,    650.9,  10.7380,  35.4712,2,  35.4815,2,    125.5,2,    133.0,2,    10.80,2,    22.70,2,     0.00,2,     1.42,2,    1.682,2,    0.928,2,   0.5825,2,   2204.1,2,   2328.7,2,    870.0,2,       20,   7.6726,2,       25,    46.04,2,      0.3,2,    20.23,2,     20.2,2,20230329,1948
33RO20230306  ,A16N       ,68      ,  2,680213     ,213        ,20230329,1813,  24.5257, -26.4847,     5419,    736.9,   9.5293,  35.3329,2,  35.3337,2,    117.5,2,    125.4,2,    14.00,2,    25.60,2,     0.00,2,     1.63,2,    1.100,2,    0.608,2,   0.3127,2,   2210.8,2,   2323.7,2,    938.4,2,       20,   7.6441,2,       25,    44.69,2,      0.5,2,    20.90,2,     21.6,2,20230329,1946
33RO20230306  ,A16N       ,68      ,  2,680212     ,212        ,20230329,1813,  24.5257, -26.4847,     5419,    880.9,   7.9340,  35.1878,2,  35.2034,2,    127.4,2,    136.5,2,    17.70,2,    26.90,2,     0.00,2,     1.75,2,    0.535,2,    0.296,2,   0.0979,2,   2211.6,2,   2321.5,2,    955.4,2,       20,   7.6363,2,       25,    43.25,2,      0.5,2,    22.84,2,     21.4,2,20230329,1942
33RO20230306  ,A16N       ,68      ,  2,680211     ,211        ,20230329,1813,  24.5257, -26.4847,     5419,   1049.8,   7.0754,  35.1827,2,  35.1887,6,    147.3,2,    158.6,2,    18.40,2,    25.40,2,     0.00,2,     1.68,2,    0.413,2,    0.233,2,   0.1240,2,   2206.6,2,   2324.3,6,    901.8,2,       20,   7.6536,6,       25,    44.74,2,      0.6,2,    24.13,2,     19.3,2,20230329,1938
33RO20230306  ,A16N       ,68      ,  2,680210     ,210        ,20230329,1813,  24.5257, -26.4847,     5419,   1325.6,   6.1720,  35.2077,2,  35.2150,2,    173.2,2,    186.9,2,    18.30,2,    22.90,2,     0.00,2,     1.53,2,    0.333,6,    0.184,6,   0.1099,6,   2196.2,2,   2327.0,2,    829.4,2,       20,   7.6904,2,       25,    41.20,2,      0.8,2,    26.97,2,     17.0,6,20230329,1932
33RO20230306  ,A16N       ,68      ,  2,680209     ,209        ,20230329,1813,  24.5257, -26.4847,     5419,   1600.9,   5.3006,  35.1710,2,  35.1802,2,    194.7,2,    211.0,2,    18.90,2,    21.30,2,     0.00,2,     1.43,2,    0.337,2,    0.183,2,   0.1038,2,   2188.0,2,   2326.6,2,    786.7,2,       20,   7.7094,2,       25,    40.83,2,      0.9,2,    23.20,2,     15.3,2,20230329,1926
33RO20230306  ,A16N       ,68      ,  2,680208     ,208        ,20230329,1813,  24.5257, -26.4847,     5419,   2001.4,   4.0966,  35.0662,2,  35.0798,2,    213.7,2,    231.6,2,    22.50,2,    20.40,2,     0.00,2,     1.39,2,    0.182,2,    0.097,2,   0.0275,2,   2183.5,2,   2324.9,2,    761.3,2,       20,   7.7218,2,       25,    41.02,2,      0.9,2,    22.55,2,     14.1,2,20230329,1918
33RO20230306  ,A16N       ,68      ,  2,680207     ,207        ,20230329,1813,  24.5257, -26.4847,     5419,   2600.8,   3.1122,  34.9721,2,  34.9757,2,    221.8,2,    240.6,2,    30.90,2,    20.60,2,     0.00,2,     1.43,2,    0.062,2,    0.036,2,   0.0674,2,   2188.2,2,   2330.9,2,    758.0,2,       20,   7.7246,2,       25,    40.04,2,      1.0,2,    21.33,2,     13.6,2,20230329,1907
33RO20230306  ,A16N       ,68      ,  2,680206     ,206        ,20230329,1813,  24.5257, -26.4847,     5419,   3280.2,   2.5748,  34.9195,2,  34.9258,2,    220.9,2,    242.9,2,    40.00,2,    21.40,2,     0.00,2,     1.47,2,    0.029,2,    0.021,2,   0.0000,3,   2195.5,2,   2339.5,2,    759.5,2,       20,   7.7244,2,       25,    40.07,2,      1.0,2,    22.97,2,     13.9,2,20230329,1855
33RO20230306  ,A16N       ,68      ,  2,680204     ,204        ,20230329,1813,  24.5257, -26.4847,     5419,   3897.5,   2.4140,  34.8989,2,  34.9010,2,    219.1,2,    242.7,2,    44.70,2,    22.00,2,     0.00,2,     1.51,2,    0.003,2,    0.006,2,   0.0000,3,   2201.0,2,   2344.2,2,    763.0,2,       20,   7.7228,2,       25,    40.83,2,      1.0,2,    22.78,2,     14.5,2,20230329,1843
33RO20230306  ,A16N       ,68      ,  2,680205     ,205        ,20230329,1813,  24.5257, -26.4847,     5419,   3898.5,   2.4142,  34.8989,2,     -999,9,    219.1,2,     -999,9,     -999,9,     -999,9,     -999,9,     -999,9,     -999,9,     -999,9,     -999,9,     -999,9,     -999,9,   -999.0,9,       20,     -999,9,       25,  -999.00,9,   -999.0,9,  -999.00,9,     -999,9,20230329,1844
33RO20230306  ,A16N       ,68      ,  2,680203     ,203        ,20230329,1813,  24.5257, -26.4847,     5419,   4152.0,   2.3912,  34.8938,2,  34.8970,2,    218.3,2,    242.8,2,    46.10,2,    22.10,2,     0.00,2,     1.52,2,    0.004,2,    0.004,2,   0.0000,3,   2203.0,2,   2346.8,2,    764.6,2,       20,   7.7236,2,       25,    40.85,2,      0.9,2,    22.61,2,     14.3,2,20230329,1838
33RO20230306  ,A16N       ,68      ,  2,680202     ,202        ,20230329,1813,  24.5257, -26.4847,     5419,   4400.4,   2.3745,  34.8890,2,  34.8927,2,    217.6,2,    242.4,2,    47.10,2,    22.10,2,     0.00,2,     1.52,2,    0.005,2,    0.005,2,   0.1047,2,   2206.9,6,   2348.8,2,    765.0,2,       20,   7.7232,2,       25,    40.37,2,      1.0,2,    21.49,2,     14.7,2,20230329,1833
33RO20230306  ,A16N       ,68      ,  2,680201     ,201        ,20230329,1813,  24.5257, -26.4847,     5419,   5507.1,   2.4650,  34.8826,2,  34.8864,2,    214.3,2,    242.6,2,    48.30,2,    22.30,2,     0.00,2,     1.54,2,    0.017,2,    0.015,2,   0.0000,3,   2208.3,2,   2352.7,2,    766.4,2,       20,   7.7222,2,       25,    40.56,2,      1.0,6,    22.45,2,     14.7,2,20230329,1813
33RO20230306  ,A16N       ,69      ,  1,690124     ,224        ,20230330,0117,  25.0008, -26.1902,     5396,      4.3,  22.5500,  37.1184,2,  37.1228,2,    203.8,2,    215.6,2,     -999,9,     -999,9,     -999,9,     -999,9,    1.792,2,    1.127,2,   1.7934,2,   2121.2,6,   2428.5,2,    366.9,2,       20,   8.0051,2,       25,    66.77,2,      0.9,6,     5.40,2,      6.8,2,20230330,0329
33RO20230306  ,A16N       ,69      ,  1,690123     ,223        ,20230330,0117,  25.0008, -26.1902,     5396,     18.4,  22.4776,  37.1930,2,  37.1971,2,    204.3,2,    213.9,2,     0.60,2,     0.00,2,     0.00,2,     0.06,2,    1.786,2,    1.133,2,   1.8145,2,   2119.5,2,   2432.7,2,    363.7,2,       20,   8.0086,2,       25,  -999.00,9,      1.0,2,  -999.00,9,      6.8,2,20230330,0327
33RO20230306  ,A16N       ,69      ,  1,690122     ,222        ,20230330,0117,  25.0008, -26.1902,     5396,     40.5,  22.3666,  37.1995,2,  37.1997,2,    204.6,2,    215.5,2,     0.50,2,     0.00,2,     0.00,2,     0.06,2,    1.783,2,    1.122,2,   1.7812,2,   2121.0,2,   2433.9,2,    364.4,2,       20,   8.0086,2,       25,  -999.00,9,      0.9,2,  -999.00,9,      6.7,2,20230330,0324
33RO20230306  ,A16N       ,69      ,  1,690121     ,221        ,20230330,0117,  25.0008, -26.1902,     5396,     60.4,  22.2782,  37.1982,2,  37.1981,2,    204.9,2,    216.4,2,     0.40,2,     0.00,2,     0.00,2,     0.05,2,    1.799,2,    1.144,2,   1.9224,2,   2120.2,2,   2432.9,2,    363.6,2,       20,   8.0087,2,       25,  -999.00,9,      1.0,2,  -999.00,9,      6.8,2,20230330,0322
33RO20230306  ,A16N       ,69      ,  1,690120     ,220        ,20230330,0117,  25.0008, -26.1902,     5396,     96.2,  21.9176,  37.1768,2,  37.1807,2,    202.2,2,    214.6,2,     0.50,2,     0.00,2,     0.00,2,     0.06,2,    1.809,2,    1.152,2,   1.9503,2,   2124.9,2,   2432.2,2,    371.5,2,       20,   8.0010,2,       25,  -999.00,9,      0.9,2,  -999.00,9,      7.0,2,20230330,0320
33RO20230306  ,A16N       ,69      ,  1,690119     ,219        ,20230330,0117,  25.0008, -26.1902,     5396,    122.5,  21.4628,  37.1886,2,  37.1729,2,    195.4,2,    205.3,2,     0.60,2,     0.70,2,     0.20,2,     0.12,2,    1.862,2,    1.175,2,   1.9224,2,   2137.8,2,   2428.6,2,    397.3,2,       20,   7.9791,2,       25,  -999.00,9,      0.7,2,  -999.00,9,      7.5,2,20230330,0317
33RO20230306  ,A16N       ,69      ,  1,690118     ,218        ,20230330,0117,  25.0008, -26.1902,     5396,    204.6,  17.7425,  36.4548,2,  36.4625,6,    149.9,2,    156.3,2,     2.50,2,     9.40,2,     0.01,2,     0.60,2,    2.178,2,    1.329,2,   1.9442,2,   2172.1,2,   2383.1,2,    567.7,2,       20,   7.8420,2,       25,  -999.00,9,      0.2,2,  -999.00,9,     13.9,2,20230330,0315
33RO20230306  ,A16N       ,69      ,  1,690117     ,217        ,20230330,0117,  25.0008, -26.1902,     5396,    251.5,  16.5698,  36.2421,2,  36.2418,2,    146.4,2,    154.5,2,     3.30,2,    11.00,2,     0.01,2,     0.70,2,    2.271,6,    1.367,6,   1.6960,6,   2172.8,2,   2369.4,6,    603.2,2,       20,   7.8179,6,       25,  -999.00,9,      0.2,2,  -999.00,9,     14.9,6,20230330,0313
33RO20230306  ,A16N       ,69      ,  1,690116     ,216        ,20230330,0117,  25.0008, -26.1902,     5396,    331.3,  15.1598,  36.0338,2,  36.0408,2,    158.8,2,    168.9,2,     3.70,2,    11.40,2,     0.00,2,     0.71,2,    2.432,2,    1.445,2,   1.7530,2,   2165.6,2,   2358.3,2,    609.7,2,       20,   7.8122,2,       25,  -999.00,9,      0.2,2,  -999.00,9,     13.7,2,20230330,0310
33RO20230306  ,A16N       ,69      ,  1,690115     ,215        ,20230330,0117,  25.0008, -26.1902,     5396,    442.4,  13.3531,  35.7816,2,  35.7828,2,    132.9,2,    149.2,2,     5.90,2,    16.40,2,     0.00,2,     1.00,2,    2.397,2,    1.398,2,   1.4092,2,   2183.4,2,   2344.2,2,    731.2,2,       20,   7.7411,2,       25,  -999.00,9,      0.3,2,  -999.00,9,     17.7,2,20230330,0306
33RO20230306  ,A16N       ,69      ,  1,690114     ,214        ,20230330,0117,  25.0008, -26.1902,     5396,    550.5,  11.9730,  35.6170,2,  35.6523,2,    136.5,2,    145.3,2,     7.80,2,    19.20,2,     0.00,2,     1.20,2,    2.206,2,    1.242,2,   1.0763,2,   2191.6,2,   2335.1,2,    788.2,2,       20,   7.7128,2,       25,  -999.00,9,      0.3,2,  -999.00,9,     18.2,2,20230330,0303
33RO20230306  ,A16N       ,69      ,  1,690113     ,213        ,20230330,0117,  25.0008, -26.1902,     5396,    622.3,  10.9550,  35.4864,2,  35.4970,2,    123.5,2,    130.8,2,    10.40,2,    22.60,2,     0.00,2,     1.41,2,    1.750,2,    0.974,2,   0.7040,2,   2203.0,2,   2328.1,2,    875.3,2,       20,   7.6715,2,       25,  -999.00,9,      0.4,2,  -999.00,9,     20.4,2,20230330,0300
33RO20230306  ,A16N       ,69      ,  1,690112     ,212        ,20230330,0117,  25.0008, -26.1902,     5396,    747.1,   9.0930,  35.2506,2,  35.2485,2,    101.0,2,    111.8,2,    16.00,2,    28.00,2,     0.00,2,     1.80,2,    0.875,2,    0.484,2,   0.2556,2,   2217.0,6,   2320.9,2,   1028.8,2,       20,   7.6082,2,       25,  -999.00,9,      0.4,6,  -999.00,9,     23.7,2,20230330,0257
33RO20230306  ,A16N       ,69      ,  1,690111     ,211        ,20230330,0117,  25.0008, -26.1902,     5396,    920.1,   7.4593,  35.1142,2,  35.1142,2,    120.8,2,    129.3,2,    19.80,2,    28.60,2,     0.00,2,     1.88,2,    0.358,2,    0.201,2,   0.0824,2,   2214.7,2,   2318.5,2,   1019.1,2,       20,   7.6113,2,       25,  -999.00,9,      0.6,2,  -999.00,9,     20.8,2,20230330,0252
33RO20230306  ,A16N       ,69      ,  1,690110     ,210        ,20230330,0117,  25.0008, -26.1902,     5396,   1150.1,   6.1999,  35.0553,2,  35.0743,2,    144.5,2,    155.1,2,    21.40,2,    27.20,2,     0.00,2,     1.84,2,    0.159,2,    0.087,2,   0.0549,2,   2207.8,2,   2318.5,2,    964.1,2,       20,   7.6320,2,       25,  -999.00,9,      0.6,2,  -999.00,9,     20.2,2,20230330,0246
33RO20230306  ,A16N       ,69      ,  1,690109     ,209        ,20230330,0117,  25.0008, -26.1902,     5396,   1452.0,   5.3732,  35.1094,2,  35.1143,2,    179.3,2,    193.9,2,    20.30,2,    23.30,2,     0.00,2,     1.59,2,    0.130,2,    0.072,2,   0.0605,2,   2193.0,2,   2324.2,2,    842.2,2,       20,   7.6827,2,       25,  -999.00,9,      0.9,2,  -999.00,9,     16.8,2,20230330,0239
33RO20230306  ,A16N       ,69      ,  1,690108     ,208        ,20230330,0117,  25.0008, -26.1902,     5396,   1902.5,   4.4286,  35.1001,2,  35.1021,2,    209.9,2,    227.7,2,    21.40,2,    20.40,2,     0.00,2,     1.41,2,    0.250,2,    0.138,2,   0.0000,3,   2181.4,2,   2325.5,2,    765.6,2,       20,   7.7192,2,       25,  -999.00,9,      1.0,2,  -999.00,9,     14.4,2,20230330,0230
33RO20230306  ,A16N       ,69      ,  1,690107     ,207        ,20230330,0117,  25.0008, -26.1902,     5396,   2602.6,   3.1195,  34.9731,2,  34.9953,2,    221.5,2,    241.8,2,    30.90,2,    20.50,2,     0.00,2,     1.42,2,    0.071,2,    0.041,2,   0.0000,2,   2184.5,2,   2332.3,2,    758.0,2,       20,   7.7237,2,       25,  -999.00,9,      1.0,2,  -999.00,9,     13.7,2,20230330,0216
33RO20230306  ,A16N       ,69      ,  1,690106     ,206        ,20230330,0117,  25.0008, -26.1902,     5396,   3302.4,   2.6008,  34.9214,2,  34.9243,6,    221.2,2,    242.3,2,    39.80,2,    21.30,2,     0.00,2,     1.48,2,    0.033,2,    0.019,2,   0.0000,2,   2193.1,2,   2340.4,2,    759.7,2,       20,   7.7260,2,       25,  -999.00,9,      0.9,2,  -999.00,9,     13.8,2,20230330,0203
33RO20230306  ,A16N       ,69      ,  1,690105     ,205        ,20230330,0117,  25.0008, -26.1902,     5396,   3748.1,   2.4630,  34.9045,2,  34.9093,2,    219.7,2,    243.4,2,    43.70,2,    21.80,2,     0.00,2,     1.51,2,    0.009,2,    0.008,2,   0.0000,3,   2195.1,2,   2342.9,2,    763.2,2,       20,   7.7248,2,       25,  -999.00,9,      0.9,2,  -999.00,9,     14.1,2,20230330,0154
33RO20230306  ,A16N       ,69      ,  1,690104     ,204        ,20230330,0117,  25.0008, -26.1902,     5396,   4253.3,   2.3948,  34.8927,2,  34.8929,2,    218.2,2,    243.1,2,    46.30,6,    22.00,6,     0.00,6,     1.53,6,    0.005,2,    0.006,2,   0.0000,3,   2199.5,2,   2344.5,2,    764.6,6,       20,   7.7232,2,       25,  -999.00,9,      0.9,2,  -999.00,9,     14.2,2,20230330,0144
33RO20230306  ,A16N       ,69      ,  1,690103     ,203        ,20230330,0117,  25.0008, -26.1902,     5396,   4748.7,   2.3861,  34.8855,2,  34.8969,2,    216.7,2,    242.8,2,    48.10,6,    22.20,6,     0.00,6,     1.54,6,    0.007,2,    0.006,2,   0.0000,2,     -999,9,     -999,9,   -999.0,9,       20,     -999,9,       25,  -999.00,9,   -999.0,9,  -999.00,9,     14.6,2,20230330,0131
33RO20230306  ,A16N       ,69      ,  1,690102     ,202        ,20230330,0117,  25.0008, -26.1902,     5396,   4748.7,   2.3861,  34.8855,2,  34.8869,2,    216.7,2,    243.8,2,    48.10,6,    22.20,6,     0.00,6,     1.54,6,    0.008,2,    0.005,2,   0.0527,2,   2201.0,2,   2348.7,2,    766.8,2,       20,   7.7230,2,       25,  -999.00,9,      0.9,2,  -999.00,9,     14.8,2,20230330,0131
33RO20230306  ,A16N       ,69      ,  1,690101     ,201        ,20230330,0117,  25.0008, -26.1902,     5396,   5485.6,   2.4624,  34.8826,2,  34.8859,2,    214.2,2,    242.8,2,    48.60,6,    22.20,6,     0.00,6,     1.54,6,    0.019,2,    0.015,2,   0.0000,3,   2205.1,2,   2348.0,2,    766.7,2,       20,   7.7220,2,       25,  -999.00,9,      0.9,6,  -999.00,9,     13.9,2,20230330,0117