BOTTLE,20240601CCHHYDRO
EXPOCODE,SECT_ID,STNNBR,CASTNO,SAMPNO,BTLNBR,DATE,TIME,LATITUDE,LONGITUDE,DEPTH,CTDPRS,CTDTMP,CTDSAL,CTDSAL_FLAG_W,SALNTY,SALNTY_FLAG_W,CTDOXY,CTDOXY_FLAG_W,OXYGEN,OXYGEN_FLAG_W,SILCAT,SILCAT_FLAG_W,NITRAT,NITRAT_FLAG_W,NITRIT,NITRIT_FLAG_W,PHSPHT,PHSPHT_FLAG_W,CFC-11,CFC-11_FLAG_W,CFC-12,CFC-12_FLAG_W,SF6,SF6_FLAG_W,TCARBN,TCARBN_FLAG_W,ALKALI,ALKALI_FLAG_W,FCO2,FCO2_FLAG_W,FCO2TMP,PH_TOT,PH_TOT_FLAG_W,PH_TMP,DOC,DOC_FLAG_W,DELC13,DELC13_FLAG_W,TDN,TDN_FLAG_W,N2O,N2O_FLAG_W,BTL_DATE,BTL_TIME
,,,,,,,,,,METERS,DBAR,ITS-90,PSS-78,,PSS-78,,UMOL/KG,,UMOL/KG,,UMOL/KG,,UMOL/KG,,UMOL/KG,,UMOL/KG,,PMOL/KG,,PMOL/KG,,FMOL/KG,,UMOL/KG,,UMOL/KG,,UATM,,DEG C,,,DEG C,UMOL/KG,,/MILLE,,UMOL/KG,,NMOL/KG,,,
33RO20230306  ,A16N       ,62      ,  1,620124     ,224        ,20230327,2034,  21.5065, -28.1595,     5356,      3.3,  23.1314,  36.8895,2,  36.8866,2,    198.5,2,    214.3,2,     0.60,2,     0.00,2,     0.00,2,     0.07,2,    1.733,2,    1.116,2,   1.8938,2,   2106.1,6,   2410.9,2,    355.8,2,       20,   8.0151,2,       25,    71.77,2,      1.1,2,     3.96,2,      6.3,2,20230327,2229
33RO20230306  ,A16N       ,62      ,  1,620123     ,223        ,20230327,2034,  21.5065, -28.1595,     5356,     21.0,  22.9479,  36.8760,2,  36.8789,2,    199.0,2,    215.3,2,     0.60,2,     0.00,2,     0.00,2,     0.06,2,    1.737,2,    1.122,2,   1.8358,2,   2101.4,2,   2412.8,2,    355.5,2,       20,   8.0154,2,       25,    71.32,2,      1.1,2,     3.80,2,      6.4,2,20230327,2227
33RO20230306  ,A16N       ,62      ,  1,620122     ,222        ,20230327,2034,  21.5065, -28.1595,     5356,     50.6,  22.6791,  37.1308,2,  37.1345,2,    202.7,2,    217.6,2,     0.90,2,     0.00,2,     0.00,2,     0.07,2,    1.747,2,    1.123,2,   1.7305,2,   2118.3,2,   2426.7,2,    358.5,2,       20,   8.0157,2,       25,    67.71,2,      1.0,2,     3.47,2,      6.5,2,20230327,2226
33RO20230306  ,A16N       ,62      ,  1,620121     ,221        ,20230327,2034,  21.5065, -28.1595,     5356,     75.9,  22.3806,  37.1950,2,  37.1815,6,    199.9,2,    212.3,2,     0.60,2,     0.00,2,     0.00,2,     0.08,2,    1.764,2,    1.138,2,   1.8932,2,   2123.1,2,   2430.3,2,    368.4,2,       20,   8.0063,2,       25,    65.20,2,      1.1,2,     4.20,2,      6.7,2,20230327,2224
33RO20230306  ,A16N       ,62      ,  1,620120     ,220        ,20230327,2034,  21.5065, -28.1595,     5356,    102.0,  20.8178,  36.8930,2,  36.8897,2,    176.0,2,    183.9,2,     1.40,2,     3.50,2,     0.22,2,     0.33,2,    1.911,2,    1.213,2,   1.9465,2,   2154.6,2,   2406.5,2,    456.3,2,       20,   7.9280,2,       25,    61.11,2,      0.7,2,     8.27,2,      9.8,2,20230327,2223
33RO20230306  ,A16N       ,62      ,  1,620119     ,219        ,20230327,2034,  21.5065, -28.1595,     5356,    146.0,  18.0452,  36.4629,2,  36.4629,2,    137.7,2,    140.8,2,     2.90,2,    11.20,2,     0.02,2,     0.74,2,    2.118,2,    1.292,2,   1.7772,2,   2188.8,2,   2378.1,2,    617.7,2,       20,   7.8118,2,       25,    50.65,2,      0.2,2,    12.19,2,     15.6,2,20230327,2221
33RO20230306  ,A16N       ,62      ,  1,620118     ,218        ,20230327,2034,  21.5065, -28.1595,     5356,    223.7,  15.3760,  35.9839,2,  35.9869,2,    106.5,2,    112.8,2,     5.50,2,    17.60,2,     0.01,2,     1.10,2,    2.240,2,    1.332,2,   1.4844,2,   2208.0,2,   2349.6,6,    784.5,2,       20,   7.7200,6,       25,    46.66,2,      0.1,2,    18.96,2,     22.2,2,20230327,2219
33RO20230306  ,A16N       ,62      ,  1,620117     ,217        ,20230327,2034,  21.5065, -28.1595,     5356,    306.4,  13.5031,  35.6535,2,  35.6549,2,     71.4,2,     74.3,2,     8.70,2,    24.80,2,     0.00,2,     1.52,2,    2.078,2,    1.204,2,   1.0367,2,   2232.1,2,   2330.8,2,   1042.1,2,       20,   7.6074,2,       25,    44.83,2,     -0.0,2,    26.14,2,     29.5,2,20230327,2217
33RO20230306  ,A16N       ,62      ,  1,620116     ,216        ,20230327,2034,  21.5065, -28.1595,     5356,    392.4,  12.4646,  35.5530,2,  35.5577,2,     65.1,2,     72.5,2,    10.00,2,    26.60,2,     0.00,2,     1.62,2,    1.874,2,    1.093,2,   0.8452,2,   2233.9,2,   2326.4,2,   1092.8,2,       20,   7.5881,2,       25,    45.62,2,      0.1,6,    28.85,2,     28.2,2,20230327,2215
33RO20230306  ,A16N       ,62      ,  1,620115     ,215        ,20230327,2034,  21.5065, -28.1595,     5356,    515.3,  11.0882,  35.4202,2,  35.4213,2,     76.3,2,     83.5,2,    12.30,2,    28.00,2,     0.00,2,     1.72,2,    1.532,2,    0.878,2,   0.6625,2,   2231.1,2,   2321.6,2,   1102.1,2,       20,   7.5835,2,       25,    45.77,2,      0.3,2,    30.47,2,     26.4,2,20230327,2211
33RO20230306  ,A16N       ,62      ,  1,620114     ,214        ,20230327,2034,  21.5065, -28.1595,     5356,    649.4,   9.1686,  35.1652,2,  35.1676,2,     74.3,2,     83.2,2,    16.90,2,    31.50,2,     0.00,2,     2.00,2,    0.804,2,    0.455,2,   0.3032,2,   2235.5,6,   2314.2,2,   1196.5,2,       20,   7.5494,2,       25,    41.45,2,      0.4,2,    33.13,2,     26.5,2,20230327,2208
33RO20230306  ,A16N       ,62      ,  1,620113     ,213        ,20230327,2034,  21.5065, -28.1595,     5356,    802.3,   7.7780,  35.0369,2,  35.0452,2,     92.0,2,     99.3,2,    20.50,2,    32.00,2,     0.00,2,     2.08,2,    0.383,2,    0.216,2,   0.0553,2,   2233.7,2,   2310.1,6,   1175.9,2,       20,   7.5543,6,       25,    41.13,2,      0.5,2,    32.14,2,     24.5,2,20230327,2205
33RO20230306  ,A16N       ,62      ,  1,620112     ,212        ,20230327,2034,  21.5065, -28.1595,     5356,    950.6,   6.8288,  34.9813,2,  34.9864,2,    111.7,2,    123.8,2,    22.30,2,    30.70,2,     0.00,2,     2.04,2,    0.209,2,    0.118,2,   0.0860,3,   2223.8,2,   2310.9,2,   1093.9,2,       20,   7.5843,2,       25,    40.54,2,      0.7,2,    31.01,2,     22.4,2,20230327,2201
33RO20230306  ,A16N       ,62      ,  1,620111     ,211        ,20230327,2034,  21.5065, -28.1595,     5356,   1112.1,   6.2843,  35.0116,2,  35.0138,2,    132.0,2,    140.6,2,    22.70,2,    29.00,2,     0.00,2,     1.94,2,    0.128,2,    0.074,2,   0.0000,2,   2220.2,2,   2313.0,2,   1033.4,2,       20,   7.6053,2,       25,    41.76,2,      0.8,2,    30.82,2,     20.3,2,20230327,2157
33RO20230306  ,A16N       ,62      ,  1,620110     ,210        ,20230327,2034,  21.5065, -28.1595,     5356,   1391.0,   5.4774,  35.0816,2,  35.0885,2,    169.9,2,    187.3,2,    20.90,2,    24.40,2,     0.00,2,     1.66,2,    0.108,6,    0.061,6,   0.0352,3,   2200.4,2,   2322.5,2,    874.5,6,       20,   7.6693,2,       25,    40.33,2,      0.9,2,    24.88,2,     16.4,6,20230327,2151
33RO20230306  ,A16N       ,62      ,  1,620109     ,209        ,20230327,2034,  21.5065, -28.1595,     5356,   1640.0,   4.6709,  35.0578,2,  35.0706,2,    190.3,2,     41.0,2,    21.00,2,    26.00,2,     0.00,2,     1.77,2,    0.166,2,    0.091,2,   0.0343,3,   2205.6,2,   2319.0,2,    924.0,2,       20,   7.6482,2,       25,    40.86,2,      0.7,2,    26.54,2,     18.0,2,20230327,2146
33RO20230306  ,A16N       ,62      ,  1,620108     ,208        ,20230327,2034,  21.5065, -28.1595,     5356,   1944.5,   3.9810,  35.0169,2,  35.0230,2,    205.8,2,    225.3,2,    23.90,2,    21.60,2,     0.00,2,     1.48,2,    0.016,2,    0.012,2,   0.0744,2,   2185.0,2,   2321.6,2,    789.8,2,       20,   7.7076,2,       25,    40.47,2,      1.0,2,    22.96,2,     14.0,2,20230327,2139
33RO20230306  ,A16N       ,62      ,  1,620107     ,207        ,20230327,2034,  21.5065, -28.1595,     5356,   2502.3,   3.2919,  34.9712,2,  34.9740,2,    213.0,2,    233.6,2,    30.20,2,    21.30,2,     0.00,2,     1.48,2,    0.006,3,    0.005,2,   0.0000,2,   2187.7,2,   2327.7,2,    776.8,2,       20,   7.7149,2,       25,    41.05,2,      1.1,2,    22.40,2,     13.4,2,20230327,2129
33RO20230306  ,A16N       ,62      ,  1,620106     ,206        ,20230327,2034,  21.5065, -28.1595,     5356,   3101.1,   2.7635,  34.9375,2,  34.9375,2,    218.8,2,    241.6,2,    37.20,2,    21.20,2,     0.00,2,     1.46,2,    0.034,2,    0.021,2,   0.0000,2,   2198.0,2,   2336.8,2,    761.9,2,       20,   7.7246,2,       25,    42.11,2,      1.0,2,    20.99,2,     13.0,2,20230327,2118
33RO20230306  ,A16N       ,62      ,  1,620105     ,205        ,20230327,2034,  21.5065, -28.1595,     5356,   3601.0,   2.5145,  34.9111,2,  34.9133,2,    218.7,2,    242.9,2,    42.60,2,    21.70,2,     0.00,2,     1.51,2,    0.008,3,    0.005,2,   0.0660,2,   2201.2,2,   2341.4,2,    761.9,2,       20,   7.7242,2,       25,    40.77,2,      1.0,2,    20.83,2,     13.2,2,20230327,2109
33RO20230306  ,A16N       ,62      ,  1,620104     ,204        ,20230327,2034,  21.5065, -28.1595,     5356,   4050.8,   2.4043,  34.8960,2,  34.9018,2,    217.6,2,    243.0,2,    45.90,6,    22.00,6,     0.00,6,     1.52,6,    0.006,3,    0.005,2,   0.0336,3,   2202.7,2,   2344.3,2,   -999.0,9,       20,   7.7235,2,       25,    40.41,2,      1.0,2,    21.93,2,     13.4,2,20230327,2100
33RO20230306  ,A16N       ,62      ,  1,620103     ,203        ,20230327,2034,  21.5065, -28.1595,     5356,   4550.8,   2.3731,  34.8867,2,  34.8877,2,    215.8,2,    242.6,2,    48.00,6,    22.20,6,     0.00,6,     1.54,6,    0.011,2,    0.007,2,   0.0000,2,   2206.9,2,   2346.7,2,    768.8,2,       20,   7.7220,2,       25,    40.55,2,      1.0,2,    23.42,2,     13.8,2,20230327,2051
33RO20230306  ,A16N       ,62      ,  1,620102     ,202        ,20230327,2034,  21.5065, -28.1595,     5356,   5026.0,   2.4032,  34.8831,2,  34.8938,6,    214.9,2,    243.4,2,    49.00,6,    22.20,6,     0.00,6,     1.54,6,    0.017,2,    0.011,2,   0.0000,2,   2207.9,6,   2347.4,2,    769.8,2,       20,   7.7204,2,       25,    40.93,2,      0.9,2,    24.07,2,     14.1,2,20230327,2042
33RO20230306  ,A16N       ,62      ,  1,620101     ,201        ,20230327,2034,  21.5065, -28.1595,     5356,   5437.9,   2.4514,  34.8821,2,  34.8854,2,    213.6,2,    242.7,2,    49.00,6,    22.20,6,     0.00,6,     1.54,6,    0.021,2,    0.014,2,   0.0561,3,   2212.1,2,   2349.1,2,    768.1,2,       20,   7.7486,4,       25,    40.30,2,      1.0,6,    21.20,2,     14.5,2,20230327,2034
33RO20230306  ,A16N       ,63      ,  1,630124     ,224        ,20230328,0327,  22.0038, -27.8769,     5437,      3.7,  22.7414,  37.1194,2,  37.1222,2,    198.6,2,    214.8,2,     0.60,2,     0.00,2,     0.00,2,     0.08,2,    1.771,2,    1.127,2,   1.9493,2,   2119.1,6,   2426.4,2,    361.9,2,       20,   8.0104,2,       25,    67.39,2,      1.0,6,     5.34,2,      6.3,2,20230328,0528
33RO20230306  ,A16N       ,63      ,  1,630123     ,223        ,20230328,0327,  22.0038, -27.8769,     5437,     25.2,  22.7331,  37.1168,2,  37.1222,2,    198.6,2,    215.5,2,     0.60,2,     0.00,2,     0.00,2,     0.08,2,    0.108,6,    0.061,6,   0.0352,6,   2118.6,2,   2427.2,2,    362.6,2,       20,   8.0115,2,       25,  -999.00,9,      1.0,2,  -999.00,9,     16.4,6,20230328,0526
33RO20230306  ,A16N       ,63      ,  1,630122     ,222        ,20230328,0327,  22.0038, -27.8769,     5437,     41.7,  22.6899,  37.1089,2,  37.1157,2,    199.8,2,    215.4,2,     0.60,2,     0.00,2,     0.00,2,     0.08,2,    1.766,2,    1.116,2,   1.9416,2,   2119.3,2,   2427.8,2,    362.6,2,       20,   8.0092,2,       25,  -999.00,9,      1.1,2,  -999.00,9,      6.3,2,20230328,0524
33RO20230306  ,A16N       ,63      ,  1,630121     ,221        ,20230328,0327,  22.0038, -27.8769,     5437,     70.1,  22.5666,  37.2393,2,  37.2681,2,    199.5,2,    213.3,2,     0.90,2,     0.00,2,     0.00,2,     0.06,2,    1.749,2,    1.117,2,   1.9837,2,   2122.7,2,   2433.8,6,    360.2,2,       20,   8.0157,6,       25,  -999.00,9,      1.1,2,  -999.00,9,      6.3,2,20230328,0522
33RO20230306  ,A16N       ,63      ,  1,630120     ,220        ,20230328,0327,  22.0038, -27.8769,     5437,     91.9,  22.3186,  37.2433,2,  37.2677,2,    196.0,2,    209.5,2,     0.60,2,     0.00,2,     0.01,2,     0.08,2,    1.768,2,    1.117,2,   1.9458,2,   2128.5,2,   2434.0,2,    370.5,2,       20,   8.0047,2,       25,  -999.00,9,      1.0,2,  -999.00,9,      6.4,2,20230328,0521
33RO20230306  ,A16N       ,63      ,  1,630119     ,219        ,20230328,0327,  22.0038, -27.8769,     5437,    123.1,  21.2587,  37.0979,2,  37.1187,2,    186.8,2,    200.5,2,     0.80,2,     1.00,2,     0.06,2,     0.15,2,    1.870,2,    1.173,2,   1.9976,2,   2143.4,2,   2423.0,2,    412.1,2,       20,   7.9647,2,       25,  -999.00,9,      0.7,2,  -999.00,9,      7.0,2,20230328,0519
33RO20230306  ,A16N       ,63      ,  1,630118     ,218        ,20230328,0327,  22.0038, -27.8769,     5437,    174.5,  19.6822,  36.8811,2,  36.8745,2,    178.8,2,    190.9,2,     1.20,2,     3.30,2,     0.02,2,     0.25,2,    2.039,2,    1.262,2,   2.0776,2,   2155.6,2,   2408.1,2,    457.0,6,       20,   7.9255,2,       25,  -999.00,9,      0.5,2,  -999.00,9,      8.4,2,20230328,0517
33RO20230306  ,A16N       ,63      ,  1,630117     ,217        ,20230328,0327,  22.0038, -27.8769,     5437,    251.6,  15.8920,  36.0734,2,  36.0690,2,    114.5,2,    120.1,2,     5.00,2,    16.10,2,     0.01,2,     1.02,2,    2.234,2,    1.327,2,   1.5471,2,   2199.3,2,   2358.2,2,    742.5,2,       20,   7.7378,2,       25,  -999.00,9,      0.2,2,  -999.00,9,     19.1,2,20230328,0515
33RO20230306  ,A16N       ,63      ,  1,630116     ,216        ,20230328,0327,  22.0038, -27.8769,     5437,    313.9,  13.9930,  35.7721,2,  35.7710,2,     88.7,2,    100.1,2,     7.20,2,    21.10,2,     0.00,2,     1.30,2,    2.190,2,    1.279,2,   1.2727,2,   2215.6,6,   2341.4,2,    889.9,2,       20,   7.6673,2,       25,  -999.00,9,      0.1,6,  -999.00,9,     23.4,2,20230328,0512
33RO20230306  ,A16N       ,63      ,  1,630115     ,215        ,20230328,0327,  22.0038, -27.8769,     5437,    371.3,  13.4196,  35.7556,2,  35.7520,2,    107.9,2,    121.5,2,     6.90,2,    19.60,2,     0.00,2,     1.20,2,    2.239,2,    1.313,2,   1.1821,2,   2204.7,2,   2340.4,2,    832.1,2,       20,   7.6926,2,       25,  -999.00,9,      0.2,2,  -999.00,9,     20.8,2,20230328,0509
33RO20230306  ,A16N       ,63      ,  1,630114     ,214        ,20230328,0327,  22.0038, -27.8769,     5437,    563.1,  10.4706,  35.3472,2,  35.3460,2,     83.1,2,     86.7,2,    13.40,2,    28.70,2,     0.00,2,     1.80,2,    1.306,2,    0.735,2,   0.5440,2,   2229.9,2,   2319.9,2,   1105.1,2,       20,   7.5811,2,       25,  -999.00,9,      0.3,2,  -999.00,9,     25.7,2,20230328,0504
33RO20230306  ,A16N       ,63      ,  1,630113     ,213        ,20230328,0327,  22.0038, -27.8769,     5437,    753.7,   8.0684,  35.0662,2,  35.0767,6,     99.6,2,    104.1,2,    19.20,2,    31.10,2,     0.00,2,     2.02,2,    0.494,2,    0.276,2,   0.2452,2,   2227.8,2,   2312.4,2,   1133.3,2,       20,   7.5705,2,       25,  -999.00,9,      0.5,2,  -999.00,9,     23.9,2,20230328,0459
33RO20230306  ,A16N       ,63      ,  1,630112     ,212        ,20230328,0327,  22.0038, -27.8769,     5437,    898.4,   7.1008,  35.0140,2,  35.0253,2,    114.6,2,    123.7,2,    21.30,2,    30.10,2,     0.00,2,     2.01,2,    0.268,2,    0.148,2,   0.0445,2,   2221.2,2,   2313.4,2,   1075.1,2,       20,   7.5899,2,       25,  -999.00,9,      0.6,2,  -999.00,9,     21.8,2,20230328,0456
33RO20230306  ,A16N       ,63      ,  1,630111     ,211        ,20230328,0327,  22.0038, -27.8769,     5437,   1151.4,   6.1411,  35.0374,2,  35.0403,2,    145.4,2,    157.6,2,    21.30,2,    27.10,2,     0.00,2,     1.84,2,    0.166,2,    0.092,2,   0.0000,3,   2208.4,2,   2315.7,2,    961.2,2,       20,   7.6329,2,       25,  -999.00,9,      0.8,2,  -999.00,9,     18.8,2,20230328,0451
33RO20230306  ,A16N       ,63      ,  1,630110     ,210        ,20230328,0327,  22.0038, -27.8769,     5437,   1338.3,   5.6343,  35.0884,2,  35.0899,2,    169.0,2,    183.9,2,    20.20,2,    24.20,2,     0.00,2,     1.66,2,    0.158,2,    0.084,2,   0.0680,2,   2199.5,2,   2320.4,2,    874.7,2,       20,   7.6677,2,       25,  -999.00,9,      0.8,2,  -999.00,9,     16.4,2,20230328,0446
33RO20230306  ,A16N       ,63      ,  1,630109     ,209        ,20230328,0327,  22.0038, -27.8769,     5437,   1549.3,   4.8116,  35.0385,2,  35.0462,2,    185.4,2,    119.1,2,    20.20,2,    30.00,2,     0.00,2,     1.99,2,    0.380,2,    0.209,2,   0.0878,2,   2220.3,2,   2312.1,2,   1074.8,2,       20,   7.5890,2,       25,  -999.00,9,      0.5,2,  -999.00,9,     22.4,2,20230328,0442
33RO20230306  ,A16N       ,63      ,  1,630108     ,208        ,20230328,0327,  22.0038, -27.8769,     5437,   1898.6,   4.0287,  35.0108,2,  35.0160,2,    204.4,2,    165.6,2,    23.30,2,    21.70,2,     0.00,2,     1.50,2,    0.024,2,    0.014,2,   0.1741,2,   2184.3,2,   2318.6,2,    795.0,2,       20,   7.7043,2,       25,  -999.00,9,      1.0,2,  -999.00,9,     13.8,2,20230328,0435
33RO20230306  ,A16N       ,63      ,  1,630107     ,207        ,20230328,0327,  22.0038, -27.8769,     5437,   2300.5,   3.5252,  34.9962,2,  35.0099,2,    215.5,2,    234.9,2,    26.90,2,    20.90,2,     0.00,2,     1.46,2,    0.015,2,    0.010,2,   0.0000,2,   2182.2,2,   2323.9,2,    765.4,2,       20,   7.7166,2,       25,  -999.00,9,      1.0,2,  -999.00,9,     13.1,2,20230328,0427
33RO20230306  ,A16N       ,63      ,  1,630106     ,206        ,20230328,0327,  22.0038, -27.8769,     5437,   2803.9,   2.9833,  34.9580,2,  34.9588,2,    217.8,2,    239.2,2,    33.70,2,    20.90,2,     0.00,2,     1.46,2,    0.028,2,    0.015,2,   0.0322,2,   2189.9,2,   2334.1,2,    763.2,2,       20,   7.7198,2,       25,  -999.00,9,      0.9,2,  -999.00,9,     12.8,2,20230328,0418
33RO20230306  ,A16N       ,63      ,  1,630105     ,205        ,20230328,0327,  22.0038, -27.8769,     5437,   3400.2,   2.5675,  34.9179,2,  34.8960,2,    219.2,2,    242.9,2,    40.90,2,    21.50,2,     0.00,2,     1.49,2,    0.021,2,    0.012,2,   0.0000,2,   2196.1,2,   2340.1,2,    761.8,2,       20,   7.7238,2,       25,  -999.00,9,      1.0,2,  -999.00,9,     13.0,2,20230328,0407
33RO20230306  ,A16N       ,63      ,  1,630104     ,204        ,20230328,0327,  22.0038, -27.8769,     5437,   3888.6,   2.4203,  34.8995,2,  34.8857,2,    218.1,2,    243.0,2,    45.10,6,    21.90,6,     0.00,6,     1.53,6,    0.004,2,    0.002,2,   0.0000,3,   2200.4,2,   2343.2,2,    763.8,2,       20,   7.7231,2,       25,  -999.00,9,      0.9,2,  -999.00,9,     13.2,2,20230328,0358
33RO20230306  ,A16N       ,63      ,  1,630103     ,203        ,20230328,0327,  22.0038, -27.8769,     5437,   4400.1,   2.3737,  34.8887,2,  34.8937,2,    216.3,2,    243.0,2,    47.60,6,    22.10,6,     0.00,6,     1.55,6,    0.007,2,    0.004,2,   0.0000,2,   2202.4,2,   2345.7,2,   -999.0,9,       20,   7.7227,2,       25,  -999.00,9,      0.9,2,  -999.00,9,     13.4,2,20230328,0348
33RO20230306  ,A16N       ,63      ,  1,630102     ,202        ,20230328,0327,  22.0038, -27.8769,     5437,   5100.6,   2.4117,  34.8830,2,  34.9028,2,    214.7,2,    243.8,2,    48.70,6,    22.20,6,     0.00,6,     1.55,6,    0.017,2,    0.010,2,   0.0000,2,   2205.3,2,   2349.6,2,    769.9,2,       20,   7.7218,2,       25,  -999.00,9,      0.9,2,  -999.00,9,     13.6,2,20230328,0335
33RO20230306  ,A16N       ,63      ,  1,630101     ,201        ,20230328,0327,  22.0038, -27.8769,     5437,   5526.2,   2.4607,  34.8817,2,  34.8836,2,    213.5,2,    243.8,2,    49.10,6,    22.20,6,     0.00,6,     1.55,6,    0.025,2,    0.013,2,   0.0000,3,   2206.7,6,   2346.0,2,    768.6,2,       20,   7.7225,2,       25,  -999.00,9,      0.9,6,  -999.00,9,     13.8,2,20230328,0327