BOTTLE,20240601CCHHYDRO
EXPOCODE,SECT_ID,STNNBR,CASTNO,SAMPNO,BTLNBR,DATE,TIME,LATITUDE,LONGITUDE,DEPTH,CTDPRS,CTDTMP,CTDSAL,CTDSAL_FLAG_W,SALNTY,SALNTY_FLAG_W,CTDOXY,CTDOXY_FLAG_W,OXYGEN,OXYGEN_FLAG_W,SILCAT,SILCAT_FLAG_W,NITRAT,NITRAT_FLAG_W,NITRIT,NITRIT_FLAG_W,PHSPHT,PHSPHT_FLAG_W,CFC-11,CFC-11_FLAG_W,CFC-12,CFC-12_FLAG_W,SF6,SF6_FLAG_W,TCARBN,TCARBN_FLAG_W,ALKALI,ALKALI_FLAG_W,FCO2,FCO2_FLAG_W,FCO2TMP,PH_TOT,PH_TOT_FLAG_W,PH_TMP,DOC,DOC_FLAG_W,DELC13,DELC13_FLAG_W,TDN,TDN_FLAG_W,N2O,N2O_FLAG_W,BTL_DATE,BTL_TIME
,,,,,,,,,,METERS,DBAR,ITS-90,PSS-78,,PSS-78,,UMOL/KG,,UMOL/KG,,UMOL/KG,,UMOL/KG,,UMOL/KG,,UMOL/KG,,PMOL/KG,,PMOL/KG,,FMOL/KG,,UMOL/KG,,UMOL/KG,,UATM,,DEG C,,,DEG C,UMOL/KG,,/MILLE,,UMOL/KG,,NMOL/KG,,,
33RO20230306  ,A16N       ,42      ,  1,420124     ,224        ,20230322,0037,  11.4985, -29.0094,     5951,      3.6,  25.2687,  35.8404,2,  35.8430,2,    198.0,2,    208.1,2,     1.50,2,     0.00,2,     0.00,2,     0.07,2,    1.458,2,    0.923,2,   1.6842,2,   2026.9,6,   2347.5,2,    315.7,2,       20,   8.0506,2,       25,    69.02,2,      1.1,2,     4.06,2,      5.5,2,20230322,0303
33RO20230306  ,A16N       ,42      ,  1,420123     ,223        ,20230322,0037,  11.4985, -29.0094,     5951,     24.0,  25.2770,  35.8387,2,  35.8393,2,    198.0,2,    208.0,2,     1.60,2,     0.00,2,     0.00,2,     0.08,2,    1.589,2,    1.006,2,   1.7846,2,   2026.3,2,   2349.3,2,    319.8,2,       20,   8.0496,2,       25,    68.64,2,      1.2,2,     4.68,2,      6.2,2,20230322,0300
33RO20230306  ,A16N       ,42      ,  1,420122     ,222        ,20230322,0037,  11.4985, -29.0094,     5951,     68.2,  16.7000,  35.6923,2,  35.6808,2,     94.9,2,     96.4,2,     5.90,2,    18.60,2,     0.29,2,     1.21,2,    2.177,2,    1.269,2,   1.2762,2,   2204.5,2,   2337.8,2,    845.9,2,       20,   7.6871,2,       25,    52.40,2,      0.3,2,    20.88,2,     28.8,2,20230322,0257
33RO20230306  ,A16N       ,42      ,  1,420121     ,221        ,20230322,0037,  11.4985, -29.0094,     5951,    111.7,  13.1921,  35.3448,2,  35.3412,2,     81.0,2,     88.2,2,     9.30,2,    24.90,2,     0.02,2,     1.63,2,    2.289,2,    1.293,2,   1.0093,2,   2213.8,2,   2320.8,6,   1033.4,2,       20,   7.6095,6,       25,    46.68,2,      0.3,2,    27.45,2,     31.5,2,20230322,0255
33RO20230306  ,A16N       ,42      ,  1,420120     ,220        ,20230322,0037,  11.4985, -29.0094,     5951,    212.3,  11.5996,  35.1766,2,  35.1770,2,     74.4,2,     76.7,2,    11.60,2,    28.40,2,     0.01,2,     1.81,2,    2.028,2,    1.116,2,   0.7290,2,   2224.5,2,   2311.9,2,   1174.0,2,       20,   7.5570,2,       25,    44.91,2,      0.2,2,    30.51,2,     34.2,2,20230322,0252
33RO20230306  ,A16N       ,42      ,  1,420119     ,219        ,20230322,0037,  11.4985, -29.0094,     5951,    340.9,  10.4089,  35.0790,2,  35.0822,2,     55.6,2,     61.5,2,    14.20,2,    32.30,2,     0.01,2,     2.02,2,    1.584,2,    0.873,2,   0.4735,2,   2242.3,2,   2312.3,2,   1336.2,2,       20,   7.5055,2,       25,    44.38,2,      0.3,2,    25.00,2,     36.9,2,20230322,0249
33RO20230306  ,A16N       ,42      ,  1,420118     ,218        ,20230322,0037,  11.4985, -29.0094,     5951,    492.1,   9.1693,  35.0087,2,  35.0106,2,     48.1,2,     52.2,2,    17.60,2,    35.80,2,     0.00,2,     2.24,2,    0.817,2,    0.452,2,   0.2259,2,   2250.0,2,   2304.5,2,   1459.9,2,       20,   7.4701,2,       25,    43.21,2,      0.2,6,    34.55,2,     34.7,2,20230322,0245
33RO20230306  ,A16N       ,42      ,  1,420117     ,217        ,20230322,0037,  11.4985, -29.0094,     5951,    570.4,   8.3768,  34.9371,2,  34.9419,2,     58.6,2,     62.2,2,    19.60,2,    36.20,2,     0.00,2,     2.31,2,    0.558,2,    0.315,2,   0.1692,2,   2244.8,6,   2303.2,2,   1438.4,2,       20,   7.4756,2,       25,    43.29,2,      0.3,2,    38.92,2,     32.1,2,20230322,0242
33RO20230306  ,A16N       ,42      ,  1,420116     ,216        ,20230322,0037,  11.4985, -29.0094,     5951,    698.3,   7.0950,  34.8184,2,  34.8199,2,     75.1,2,     78.8,2,    23.30,2,    36.70,2,     0.00,2,     2.40,2,    0.248,2,    0.140,2,   0.0833,2,   2242.2,2,   2301.7,2,   1420.2,2,       20,   7.4794,2,       25,    42.95,2,      0.4,2,    27.90,2,     28.7,2,20230322,0239
33RO20230306  ,A16N       ,42      ,  1,420115     ,215        ,20230322,0037,  11.4985, -29.0094,     5951,    799.4,   6.3614,  34.7681,2,  34.7698,2,     91.3,2,     98.7,2,    25.50,2,    35.70,2,     0.00,2,     2.38,2,    0.142,2,    0.081,2,   0.0000,3,   2238.3,2,   2302.2,2,   1330.5,2,       20,   7.5052,2,       25,    41.47,2,      0.6,2,    37.55,2,     26.4,2,20230322,0236
33RO20230306  ,A16N       ,42      ,  1,420114     ,214        ,20230322,0037,  11.4985, -29.0094,     5951,    921.4,   5.7757,  34.7984,2,  34.8019,2,    113.2,2,    119.2,2,    26.60,2,    33.80,2,     0.00,2,     2.27,2,    0.056,2,    0.038,2,   0.0720,3,   2230.2,2,   2306.4,6,   1219.4,2,       20,   7.5391,6,       25,    41.68,2,      0.7,2,    36.08,2,     24.6,2,20230322,0218
33RO20230306  ,A16N       ,42      ,  1,420113     ,213        ,20230322,0037,  11.4985, -29.0094,     5951,   1121.9,   5.3168,  34.8783,2,  34.8912,2,    135.5,2,    146.1,2,    25.60,2,    30.60,2,     0.00,2,     2.07,2,    0.035,2,    0.022,2,   0.0000,2,   2216.0,2,   2311.8,2,   1084.8,2,       20,   7.5831,2,       25,    41.11,2,      0.7,2,    24.24,2,     21.3,2,20230322,0213
33RO20230306  ,A16N       ,42      ,  1,420112     ,212        ,20230322,0037,  11.4985, -29.0094,     5951,   1272.0,   4.8839,  34.9317,2,  34.9358,2,    166.7,2,    178.7,2,    23.50,2,    26.70,2,     0.00,2,     1.83,2,    0.090,2,    0.052,2,   0.0000,3,   2203.0,2,   2312.9,2,    949.9,2,       20,   7.6340,2,       25,    40.79,2,      0.8,2,    27.95,2,     18.6,2,20230322,0209
33RO20230306  ,A16N       ,42      ,  1,420111     ,211        ,20230322,0037,  11.4985, -29.0094,     5951,   1419.3,   4.5283,  34.9643,2,  34.9701,2,    190.1,2,    204.5,2,    21.30,2,    23.90,2,     0.00,2,     1.64,2,    0.141,2,    0.077,2,   0.0932,2,   2189.5,2,   2314.7,2,    864.1,6,       20,   7.6704,2,       25,    44.31,2,      1.0,2,    25.34,2,     16.7,2,20230322,0205
33RO20230306  ,A16N       ,42      ,  1,420110     ,210        ,20230322,0037,  11.4985, -29.0094,     5951,   1650.3,   4.0618,  34.9720,2,  34.9745,2,    212.8,2,    228.1,2,    20.20,2,    21.60,2,     0.00,2,     1.49,2,    0.182,2,    0.098,2,   0.0678,2,   2175.7,2,   2314.0,2,    800.0,2,       20,   7.6986,2,       25,    40.88,2,      1.0,2,    20.01,2,     15.2,2,20230322,0200
33RO20230306  ,A16N       ,42      ,  1,420109     ,209        ,20230322,0037,  11.4985, -29.0094,     5951,   1949.3,   3.6396,  34.9680,2,  34.9687,2,    225.4,2,    242.9,2,    21.50,2,    20.40,2,     0.00,2,     1.41,2,    0.121,2,    0.066,2,   0.0000,2,   2169.5,2,   2317.2,2,    763.3,2,       20,   7.7173,2,       25,    40.64,2,      1.1,2,    18.56,2,     14.0,2,20230322,0154
33RO20230306  ,A16N       ,42      ,  1,420108     ,208        ,20230322,0037,  11.4985, -29.0094,     5951,   2350.9,   3.2080,  34.9536,2,  34.9613,6,    227.1,2,    247.3,2,    26.70,2,    20.50,2,     0.00,2,     1.42,2,    0.063,2,    0.035,2,   0.0434,2,   2173.3,2,   2323.0,2,    754.9,2,       20,   7.7213,2,       25,    40.42,2,      1.1,2,    19.69,2,     13.1,2,20230322,0145
33RO20230306  ,A16N       ,42      ,  1,420107     ,207        ,20230322,0037,  11.4985, -29.0094,     5951,   2822.7,   2.8216,  34.9308,2,  34.9322,2,    227.9,2,    248.7,2,    32.70,2,    20.70,2,     0.00,2,     1.46,2,    0.041,2,    0.023,2,   0.0000,2,   2177.9,2,   2327.0,2,    753.6,2,       20,   7.7231,2,       25,    40.57,2,      1.0,2,    22.58,2,     13.5,2,20230322,0136
33RO20230306  ,A16N       ,42      ,  1,420106     ,206        ,20230322,0037,  11.4985, -29.0094,     5951,   3602.6,   2.4739,  34.9034,2,  34.9039,2,    223.1,2,    245.9,2,    41.90,2,    21.70,2,     0.00,2,     1.51,2,    0.012,2,    0.009,2,   0.0000,2,   2191.7,2,   2337.1,2,    764.5,2,       20,   7.7201,2,       25,    40.73,2,      1.0,2,    23.06,2,     13.3,2,20230322,0122
33RO20230306  ,A16N       ,42      ,  1,420105     ,205        ,20230322,0037,  11.4985, -29.0094,     5951,   4324.8,   2.3239,  34.8834,2,  34.8844,2,    217.4,2,    242.3,2,    48.70,2,    22.50,2,     0.00,2,     1.56,2,    0.021,2,    0.015,2,   0.0000,2,   2199.9,2,   2346.6,2,    781.0,2,       20,   7.7138,2,       25,    41.40,2,      1.0,2,    23.69,2,     14.1,2,20230322,0109
33RO20230306  ,A16N       ,42      ,  1,420104     ,204        ,20230322,0037,  11.4985, -29.0094,     5951,   4800.8,   2.2784,  34.8736,2,  34.8829,2,    218.3,2,    245.1,2,    50.30,6,    22.40,6,     0.00,6,     1.57,6,    0.075,2,    0.044,2,   0.0469,2,   2202.3,2,   2347.1,2,   -999.0,9,       20,   7.7115,2,       25,    41.01,2,      1.0,2,    23.16,2,     13.9,2,20230322,0100
33RO20230306  ,A16N       ,42      ,  1,420103     ,203        ,20230322,0037,  11.4985, -29.0094,     5951,   5351.7,   2.2808,  34.8667,2,  34.8665,2,    217.6,2,    246.4,2,    52.10,6,    22.50,6,     0.00,6,     1.58,6,    0.136,2,    0.077,2,   0.1303,2,   2204.0,2,   2347.2,2,    787.2,2,       20,   7.7092,2,       25,    40.15,2,      1.0,2,    22.76,2,     14.2,2,20230322,0050
33RO20230306  ,A16N       ,42      ,  1,420102     ,202        ,20230322,0037,  11.4985, -29.0094,     5951,   5674.8,   2.3145,  34.8655,2,  34.8708,2,    216.8,2,    247.7,2,    52.30,6,    22.40,6,     0.00,6,     1.57,6,    0.161,6,    0.089,6,   0.0615,6,   2202.6,6,   2347.5,2,    789.1,2,       20,   7.7087,2,       25,    41.59,2,      0.9,2,    22.87,2,     14.7,6,20230322,0043
33RO20230306  ,A16N       ,42      ,  1,420101     ,201        ,20230322,0037,  11.4985, -29.0094,     5951,   6020.5,   2.3539,  34.8639,2,  34.8669,2,    215.5,2,    247.0,2,    52.70,6,    22.50,6,     0.01,6,     1.57,6,    0.192,2,    0.105,2,   0.0623,2,   2202.3,2,   2344.6,2,    790.8,2,       20,   7.7077,2,       25,    41.01,2,      1.0,6,    23.14,2,     15.0,2,20230322,0037
33RO20230306  ,A16N       ,43      ,  1,430124     ,224        ,20230322,0805,  12.0007, -29.0036,     5698,      3.9,  25.2578,  35.8410,2,  35.8389,2,    198.0,2,    207.5,2,     1.20,2,     0.00,2,     0.01,2,     0.05,2,    1.583,2,    1.007,2,   1.8308,2,   2026.2,6,   2347.6,2,    312.6,2,       20,   8.0512,2,       25,    74.54,2,      1.1,6,     5.17,2,      5.9,2,20230322,1019
33RO20230306  ,A16N       ,43      ,  1,430123     ,223        ,20230322,0805,  12.0007, -29.0036,     5698,     25.6,  25.2531,  35.8386,2,  35.8379,2,    197.9,2,    207.4,2,     1.10,2,     0.00,2,     0.01,2,     0.04,2,    1.585,2,    1.001,2,   1.8310,2,   2026.5,2,   2348.1,6,    313.9,2,       20,   8.0521,6,       25,  -999.00,9,      1.1,2,  -999.00,9,      6.0,2,20230322,1015
33RO20230306  ,A16N       ,43      ,  1,430122     ,222        ,20230322,0805,  12.0007, -29.0036,     5698,     43.8,  24.2015,  35.7833,2,  35.7970,6,    200.5,2,    205.3,2,     1.40,2,     0.10,2,     0.01,2,     0.09,2,    1.658,2,    1.038,2,   1.8308,2,   2037.2,2,   2346.6,2,    334.9,2,       20,   8.0318,2,       25,  -999.00,9,      1.0,2,  -999.00,9,      8.4,2,20230322,1013
33RO20230306  ,A16N       ,43      ,  1,430121     ,221        ,20230322,0805,  12.0007, -29.0036,     5698,     72.1,  15.8199,  35.5819,2,  35.6195,2,     82.4,2,     85.7,2,     5.50,2,    20.60,2,     0.29,2,     1.35,2,    2.212,2,    1.280,2,   1.0870,2,   2212.3,2,   2332.1,2,    927.0,2,       20,   7.6505,2,       25,  -999.00,9,      0.1,2,  -999.00,9,     31.1,2,20230322,1011
33RO20230306  ,A16N       ,43      ,  1,430120     ,220        ,20230322,0805,  12.0007, -29.0036,     5698,     91.8,  14.5477,  35.4931,2,  35.4989,2,     64.4,2,     68.1,2,     7.60,2,    25.10,2,     0.11,2,     1.61,2,    2.252,2,    1.310,2,   1.0894,2,   2223.9,2,   2324.0,2,   1065.5,2,       20,   7.5960,2,       25,  -999.00,9,     -0.0,2,  -999.00,9,     32.5,2,20230322,1009
33RO20230306  ,A16N       ,43      ,  1,430119     ,219        ,20230322,0805,  12.0007, -29.0036,     5698,    147.6,  12.9808,  35.3137,2,  35.3105,2,     84.6,2,     88.8,2,     9.10,2,    24.90,2,     0.02,2,     1.61,2,    2.281,2,    1.285,2,   0.9940,2,   2216.3,2,   2317.4,2,   1030.2,2,       20,   7.6089,2,       25,  -999.00,9,      0.1,2,  -999.00,9,     29.6,2,20230322,1006
33RO20230306  ,A16N       ,43      ,  1,430118     ,218        ,20230322,0805,  12.0007, -29.0036,     5698,    224.1,  11.9857,  35.2297,2,  35.2311,2,     77.7,2,     81.0,2,    10.50,2,    27.30,2,     0.01,2,     1.75,2,    2.107,2,    1.173,2,   0.7894,2,   2222.6,2,   2313.2,2,   1124.5,2,       20,   7.5733,2,       25,  -999.00,9,      0.2,2,  -999.00,9,     31.9,2,20230322,1004
33RO20230306  ,A16N       ,43      ,  1,430117     ,217        ,20230322,0805,  12.0007, -29.0036,     5698,    299.8,  11.2705,  35.1663,2,  35.1666,2,     61.5,2,     65.8,2,    12.00,2,    30.30,2,     0.01,2,     1.89,2,    1.863,6,    1.030,6,   0.5893,6,   2236.5,2,   2310.2,2,   1253.7,2,       20,   7.5303,2,       25,  -999.00,9,      0.1,2,  -999.00,9,     34.9,6,20230322,1001
33RO20230306  ,A16N       ,43      ,  1,430116     ,216        ,20230322,0805,  12.0007, -29.0036,     5698,    418.8,  10.5304,  35.1802,2,  35.1804,2,     37.6,2,     43.6,2,    14.30,2,    34.20,2,     0.01,2,     2.10,2,    1.247,2,    0.698,2,   0.3848,3,   2251.6,6,   2311.1,2,   1438.3,2,       20,   7.4760,2,       25,  -999.00,9,      0.0,6,  -999.00,9,     37.3,2,20230322,0958
33RO20230306  ,A16N       ,43      ,  1,430115     ,215        ,20230322,0805,  12.0007, -29.0036,     5698,    549.9,   9.0236,  35.0454,2,  35.0442,2,     63.0,2,     68.0,2,    17.40,2,    34.20,2,     0.01,2,     2.17,2,    0.763,2,    0.421,2,   0.2356,2,   2242.6,2,   2308.7,6,   1329.3,2,       20,   7.5080,6,       25,  -999.00,9,      0.2,2,  -999.00,9,     30.6,2,20230322,0955
33RO20230306  ,A16N       ,43      ,  1,430114     ,214        ,20230322,0805,  12.0007, -29.0036,     5698,    752.1,   6.5602,  34.7904,2,  34.7920,2,     88.8,2,     95.8,2,    24.40,2,    35.60,2,     0.01,2,     2.35,2,    0.168,2,    0.096,2,   0.0000,2,   2238.7,2,   2305.4,2,   1328.5,2,       20,   7.5053,2,       25,  -999.00,9,      0.4,2,  -999.00,9,     27.4,2,20230322,0950
33RO20230306  ,A16N       ,43      ,  1,430113     ,213        ,20230322,0805,  12.0007, -29.0036,     5698,    995.8,   5.4887,  34.8354,2,  34.8442,2,    122.4,2,    130.7,2,    25.90,2,    32.30,2,     0.01,2,     2.20,2,    0.034,2,    0.020,2,   0.0000,3,   2226.5,2,   2307.9,2,   1157.6,2,       20,   7.5581,2,       25,  -999.00,9,      0.5,2,  -999.00,9,     23.0,2,20230322,0944
33RO20230306  ,A16N       ,43      ,  1,430112     ,212        ,20230322,0805,  12.0007, -29.0036,     5698,   1302.0,   4.7706,  34.9537,2,  34.9633,2,    176.6,2,    187.9,2,    21.80,2,    25.50,2,     0.01,2,     1.74,2,    0.115,2,    0.063,2,   0.0814,2,   2197.1,2,   2313.4,2,    908.6,2,       20,   7.6507,2,       25,  -999.00,9,      0.8,2,  -999.00,9,     17.1,2,20230322,0938
33RO20230306  ,A16N       ,43      ,  1,430111     ,211        ,20230322,0805,  12.0007, -29.0036,     5698,   1750.3,   3.9374,  34.9765,2,  34.9794,2,    219.5,2,    235.1,2,    19.40,2,    20.80,2,     0.01,2,     1.43,2,    0.234,2,    0.126,2,   0.0825,2,   2172.0,2,   2312.3,2,    780.3,2,       20,   7.7090,2,       25,  -999.00,9,      1.0,2,  -999.00,9,     13.8,2,20230322,0929
33RO20230306  ,A16N       ,43      ,  1,430110     ,210        ,20230322,0805,  12.0007, -29.0036,     5698,   2201.6,   3.3653,  34.9608,2,  34.9652,6,    226.7,2,    239.9,2,    24.00,2,    20.40,2,     0.01,2,     1.42,2,    0.081,2,    0.048,2,   0.0000,2,   2171.7,2,   2319.0,2,    756.1,2,       20,   7.7210,2,       25,  -999.00,9,      1.1,2,  -999.00,9,     13.4,2,20230322,0920
33RO20230306  ,A16N       ,43      ,  1,430109     ,209        ,20230322,0805,  12.0007, -29.0036,     5698,   2701.1,   2.9330,  34.9397,2,  34.9408,2,    224.0,2,    244.5,2,    31.50,2,    21.00,2,     0.01,2,     1.45,2,    0.014,2,    0.011,2,   0.0000,2,   2182.5,2,   2327.8,2,    759.2,2,       20,   7.7216,2,       25,  -999.00,9,      1.0,2,  -999.00,9,     13.3,2,20230322,0910
33RO20230306  ,A16N       ,43      ,  1,430108     ,208        ,20230322,0805,  12.0007, -29.0036,     5698,   3203.5,   2.6322,  34.9185,2,  34.9191,2,    224.5,2,    246.8,2,    37.20,2,    21.20,2,     0.01,2,     1.48,2,    0.007,2,    0.007,2,   0.0855,2,   2185.4,2,   2332.8,2,    758.5,2,       20,   7.7221,2,       25,  -999.00,9,      1.1,2,  -999.00,9,     13.4,2,20230322,0901
33RO20230306  ,A16N       ,43      ,  1,430107     ,207        ,20230322,0805,  12.0007, -29.0036,     5698,   3703.4,   2.4470,  34.9012,2,  34.9089,2,    221.4,2,    243.5,2,    42.70,2,    21.90,2,     0.01,2,     1.52,2,    0.008,2,    0.009,2,   0.0000,3,   2190.3,2,   2340.6,2,    767.1,2,       20,   7.7178,2,       25,  -999.00,9,      0.9,2,  -999.00,9,     13.6,2,20230322,0851
33RO20230306  ,A16N       ,43      ,  1,430106     ,206        ,20230322,0805,  12.0007, -29.0036,     5698,   4101.5,   2.3606,  34.8898,2,  34.8898,2,    217.1,2,    238.1,2,    47.20,2,    22.30,2,     0.01,2,     1.55,2,    0.006,2,    0.009,2,   0.0738,2,   2200.2,2,   2348.2,2,    778.8,2,       20,   7.7152,2,       25,  -999.00,9,      0.9,2,  -999.00,9,     13.8,2,20230322,0843
33RO20230306  ,A16N       ,43      ,  1,430105     ,205        ,20230322,0805,  12.0007, -29.0036,     5698,   4602.4,   2.2952,  34.8767,2,     -999,9,    210.9,2,     -999,9,     -999,9,     -999,9,     -999,9,     -999,9,     -999,9,     -999,9,     -999,9,     -999,9,     -999,9,   -999.0,9,       20,     -999,9,       25,  -999.00,9,   -999.0,9,  -999.00,9,     -999,9,20230322,0834
33RO20230306  ,A16N       ,43      ,  1,430104     ,204        ,20230322,0805,  12.0007, -29.0036,     5698,   4603.0,   2.2948,  34.8769,2,  34.8795,2,    210.8,2,    235.6,2,    52.50,2,    23.10,2,     0.01,2,     1.59,2,    0.014,2,    0.011,2,   0.0000,2,   2211.1,2,   2357.4,2,    793.2,6,       20,   7.7103,2,       25,  -999.00,9,      0.9,2,  -999.00,9,     14.6,2,20230322,0834
33RO20230306  ,A16N       ,43      ,  1,430103     ,203        ,20230322,0805,  12.0007, -29.0036,     5698,   5001.3,   2.2861,  34.8725,2,  34.8727,2,    216.2,2,    242.4,2,    51.20,2,    22.60,2,     0.01,2,     1.56,2,    0.055,2,    0.036,2,   0.0000,2,   2199.7,2,   2349.7,2,   -999.0,5,       20,   7.7125,2,       25,  -999.00,9,      0.8,2,  -999.00,9,     14.3,2,20230322,0826
33RO20230306  ,A16N       ,43      ,  1,430102     ,202        ,20230322,0805,  12.0007, -29.0036,     5698,   5403.9,   2.2950,  34.8675,2,  34.8670,2,    216.9,2,    245.0,2,    51.80,2,    22.50,2,     0.01,2,     1.57,2,    0.109,2,    0.061,2,   0.0493,2,   2202.9,2,   2348.4,2,    786.8,2,       20,   7.7107,2,       25,  -999.00,9,      0.8,2,  -999.00,9,     14.9,2,20230322,0818
33RO20230306  ,A16N       ,43      ,  1,430101     ,201        ,20230322,0805,  12.0007, -29.0036,     5698,   5792.4,   2.3302,  34.8652,2,  34.8724,2,    216.4,2,    244.6,2,    51.90,2,    22.50,2,     0.01,2,     1.55,2,    0.162,2,    0.089,2,   0.0952,2,   2204.1,6,   2349.0,2,    788.5,2,       20,   7.7089,2,       25,  -999.00,9,      0.9,6,  -999.00,9,     15.7,2,20230322,0805