BOTTLE,20240601CCHHYDRO
EXPOCODE,SECT_ID,STNNBR,CASTNO,SAMPNO,BTLNBR,DATE,TIME,LATITUDE,LONGITUDE,DEPTH,CTDPRS,CTDTMP,CTDSAL,CTDSAL_FLAG_W,SALNTY,SALNTY_FLAG_W,CTDOXY,CTDOXY_FLAG_W,OXYGEN,OXYGEN_FLAG_W,SILCAT,SILCAT_FLAG_W,NITRAT,NITRAT_FLAG_W,NITRIT,NITRIT_FLAG_W,PHSPHT,PHSPHT_FLAG_W,CFC-11,CFC-11_FLAG_W,CFC-12,CFC-12_FLAG_W,SF6,SF6_FLAG_W,TCARBN,TCARBN_FLAG_W,ALKALI,ALKALI_FLAG_W,FCO2,FCO2_FLAG_W,FCO2TMP,PH_TOT,PH_TOT_FLAG_W,PH_TMP,DOC,DOC_FLAG_W,DELC13,DELC13_FLAG_W,TDN,TDN_FLAG_W,N2O,N2O_FLAG_W,BTL_DATE,BTL_TIME
,,,,,,,,,,METERS,DBAR,ITS-90,PSS-78,,PSS-78,,UMOL/KG,,UMOL/KG,,UMOL/KG,,UMOL/KG,,UMOL/KG,,UMOL/KG,,PMOL/KG,,PMOL/KG,,FMOL/KG,,UMOL/KG,,UMOL/KG,,UATM,,DEG C,,,DEG C,UMOL/KG,,/MILLE,,UMOL/KG,,NMOL/KG,,,
33RO20230306  ,A16N       ,40      ,  1,400124     ,224        ,20230321,0839,  10.5025, -28.7543,     5376,      3.3,  25.5823,  35.7701,2,  35.7718,2,    197.7,2,    208.4,2,     1.00,2,     0.00,2,     0.01,2,     0.04,2,    1.575,2,    0.995,2,   1.7873,2,   2017.7,6,   2343.2,2,    310.3,2,       20,   8.0519,2,       25,    72.84,2,      1.2,6,     3.07,2,      6.2,2,20230321,1041
33RO20230306  ,A16N       ,40      ,  1,400123     ,223        ,20230321,0839,  10.5025, -28.7543,     5376,     24.6,  25.5666,  35.7696,2,  35.7707,2,    197.8,2,    207.1,2,     1.10,2,     0.00,2,     0.01,2,     0.04,2,    1.580,2,    0.997,2,   1.7698,2,   2016.1,2,   2342.6,2,    312.2,2,       20,   8.0528,2,       25,    69.16,2,      1.2,2,     3.11,2,      6.2,2,20230321,1039
33RO20230306  ,A16N       ,40      ,  1,400122     ,222        ,20230321,0839,  10.5025, -28.7543,     5376,     45.1,  24.7463,  35.8530,2,  35.8539,2,    202.3,2,    212.8,2,     1.20,2,     0.00,2,     0.01,2,     0.05,2,    1.619,2,    1.014,2,   1.7852,2,   2022.6,2,   2347.8,2,    316.0,2,       20,   8.0519,2,       25,    71.11,2,      1.1,2,     4.20,2,      6.5,2,20230321,1036
33RO20230306  ,A16N       ,40      ,  1,400121     ,221        ,20230321,0839,  10.5025, -28.7543,     5376,     86.8,  15.2136,  35.5562,2,  35.5520,6,     88.2,2,     90.9,2,     6.90,2,    21.90,2,     0.09,2,     1.39,2,    2.256,2,    1.291,2,   1.2470,2,   2201.5,2,   2330.2,2,    914.7,2,       20,   7.6545,2,       25,    47.75,2,      0.2,2,    22.83,2,     28.8,2,20230321,1034
33RO20230306  ,A16N       ,40      ,  1,400120     ,220        ,20230321,0839,  10.5025, -28.7543,     5376,    181.8,  11.6054,  35.1350,2,  35.1352,2,    108.8,2,    113.9,2,    10.20,2,    24.50,2,     0.01,2,     1.60,2,    2.304,2,    1.267,2,   0.8606,2,   2198.2,2,   2312.3,2,    987.6,2,       20,   7.6241,2,       25,    45.73,2,      0.4,2,    25.03,2,     28.6,2,20230321,1031
33RO20230306  ,A16N       ,40      ,  1,400119     ,219        ,20230321,0839,  10.5025, -28.7543,     5376,    260.6,  10.7970,  35.0496,2,  35.0524,2,     90.8,2,     94.4,2,    12.10,2,    28.10,2,     0.01,2,     1.80,2,    2.039,2,    1.104,2,   0.6953,2,   2213.4,2,   2307.4,2,   1132.5,2,       20,   7.5692,2,       25,    45.40,2,      0.3,2,    27.84,2,     32.2,2,20230321,1028
33RO20230306  ,A16N       ,40      ,  1,400118     ,218        ,20230321,0839,  10.5025, -28.7543,     5376,    357.6,  10.3703,  35.0886,2,  35.0931,2,     57.4,2,     55.1,2,    14.00,2,    33.00,2,     0.01,2,     2.01,2,    1.509,2,    0.820,2,   0.4112,2,   2240.5,2,   2307.9,2,   1367.6,2,       20,   7.4959,2,       25,    44.89,2,      0.1,2,    35.88,2,     37.1,2,20230321,1026
33RO20230306  ,A16N       ,40      ,  1,400117     ,217        ,20230321,0839,  10.5025, -28.7543,     5376,    478.6,   9.4328,  35.0303,2,  35.0287,2,     46.3,2,     49.4,2,    16.60,2,    35.70,2,     0.01,2,     2.20,2,    0.909,2,    0.497,2,   0.1783,2,   2249.2,6,   2304.9,2,   1472.5,2,       20,   7.4674,2,       25,    42.57,2,      0.2,6,    37.39,2,     35.8,2,20230321,1022
33RO20230306  ,A16N       ,40      ,  1,400116     ,216        ,20230321,0839,  10.5025, -28.7543,     5376,    558.4,   8.6339,  34.9551,2,  34.9567,2,     50.5,2,     53.0,2,    18.70,2,    36.80,2,     0.01,2,     2.31,2,    0.605,2,    0.330,2,   0.0683,2,   2248.0,2,   2304.6,2,   1494.6,2,       20,   7.4597,2,       25,    41.07,2,      0.2,2,    40.51,2,     34.2,2,20230321,1020
33RO20230306  ,A16N       ,40      ,  1,400115     ,215        ,20230321,0839,  10.5025, -28.7543,     5376,    720.4,   6.7010,  34.7466,2,  34.7482,2,     78.1,2,     83.6,2,    23.90,2,    37.30,2,     0.01,2,     2.42,2,    0.239,2,    0.131,2,   0.0877,2,   2239.6,2,   2300.0,2,   1431.9,2,       20,   7.4748,2,       25,    41.83,2,      0.5,2,    41.65,2,     29.4,2,20230321,1016
33RO20230306  ,A16N       ,40      ,  1,400114     ,214        ,20230321,0839,  10.5025, -28.7543,     5376,    869.3,   5.8073,  34.7273,2,  34.7305,2,    101.3,2,    109.6,2,    26.90,2,    35.50,2,     0.01,2,     2.35,2,    0.079,2,    0.046,2,   0.1003,3,   2230.6,2,   2303.1,6,   1304.0,2,       20,   7.5112,6,       25,    40.48,2,      0.6,2,    36.90,2,     25.9,2,20230321,1012
33RO20230306  ,A16N       ,40      ,  1,400113     ,213        ,20230321,0839,  10.5025, -28.7543,     5376,   1001.1,   5.3816,  34.7624,2,  34.7634,2,    120.5,2,    127.7,2,    27.20,2,    33.50,2,     0.01,2,     2.24,2,    0.043,2,    0.022,2,   0.0199,2,   2222.2,2,   2306.5,2,   1197.7,2,       20,   7.5426,2,       25,    40.74,2,      0.6,2,    36.77,2,     23.7,2,20230321,1009
33RO20230306  ,A16N       ,40      ,  1,400112     ,212        ,20230321,0839,  10.5025, -28.7543,     5376,   1148.5,   5.1935,  34.8546,2,  34.8570,2,    140.7,2,    150.4,2,    25.40,2,    30.40,2,     0.01,2,     2.05,2,    0.054,2,    0.029,2,   0.0000,2,   2211.9,2,   2311.7,2,   1071.3,2,       20,   7.5870,2,       25,    40.79,2,      0.6,2,    30.96,2,     21.5,2,20230321,1005
33RO20230306  ,A16N       ,40      ,  1,400111     ,211        ,20230321,0839,  10.5025, -28.7543,     5376,   1400.0,   4.6337,  34.9593,2,  34.9652,2,    188.7,2,    188.0,2,    20.60,2,    24.10,2,     0.01,2,     1.63,2,    0.244,6,    0.126,6,   0.0539,6,   2184.4,2,   2312.4,2,    870.6,2,       20,   7.6653,2,       25,    40.61,2,      0.8,2,    26.52,2,     16.8,6,20230321,1000
33RO20230306  ,A16N       ,40      ,  1,400110     ,210        ,20230321,0839,  10.5025, -28.7543,     5376,   1750.7,   3.9156,  34.9749,2,  34.9816,2,    223.2,2,    239.3,2,    19.00,2,    20.60,2,     0.01,2,     1.40,2,    0.309,2,    0.157,2,   0.0236,2,   2168.2,2,   2312.9,2,    774.7,6,       20,   7.7105,2,       25,    40.12,2,      1.0,2,    21.71,2,     14.3,2,20230321,0952
33RO20230306  ,A16N       ,40      ,  1,400109     ,209        ,20230321,0839,  10.5025, -28.7543,     5376,   2148.5,   3.3800,  34.9595,2,  34.9649,6,    228.4,2,    254.4,2,    23.50,2,    20.30,2,     0.01,2,     1.40,2,    0.079,2,    0.045,2,   0.0000,2,   2168.3,2,   2318.4,2,    754.3,2,       20,   7.7191,2,       25,    40.12,2,      1.0,2,    22.88,2,     13.8,2,20230321,0944
33RO20230306  ,A16N       ,40      ,  1,400108     ,208        ,20230321,0839,  10.5025, -28.7543,     5376,   2600.8,   2.9488,  34.9388,2,  34.9410,2,    226.8,2,    246.0,2,    30.50,2,    20.90,2,     0.01,2,     1.42,2,     -999,9,     -999,9,     -999,9,   2174.0,2,   2324.3,2,    757.4,2,       20,   7.7202,2,       25,    42.82,2,      1.0,2,    21.05,2,     -999,9,20230321,0935
33RO20230306  ,A16N       ,40      ,  1,400107     ,207        ,20230321,0839,  10.5025, -28.7543,     5376,   2901.3,   2.7454,  34.9247,2,  34.9273,2,    228.0,2,    247.0,2,    33.80,2,    20.90,2,     0.01,2,     1.42,2,    0.032,2,    0.018,2,   0.0000,2,   2177.7,2,   2327.8,2,    756.2,2,       20,   7.7205,2,       25,    40.17,2,      1.0,2,    21.26,2,     13.5,2,20230321,0929
33RO20230306  ,A16N       ,40      ,  1,400106     ,206        ,20230321,0839,  10.5025, -28.7543,     5376,   3201.3,   2.5919,  34.9126,2,  34.9141,2,    225.8,2,    247.0,2,    37.80,2,    21.40,2,     0.01,2,     1.46,2,    0.017,2,    0.012,2,   0.0000,2,   2184.1,2,   2332.2,2,    757.3,2,       20,   7.7174,2,       25,    40.26,2,      1.0,2,    21.85,2,     13.9,2,20230321,0923
33RO20230306  ,A16N       ,40      ,  1,400105     ,205        ,20230321,0839,  10.5025, -28.7543,     5376,   3701.4,   2.4317,  34.8970,2,  34.8974,2,    223.9,2,    246.5,2,    42.50,2,    21.70,2,     0.01,2,     1.49,2,    0.027,2,    0.017,2,   0.0622,2,   2191.6,2,   2334.8,2,   -999.0,9,       20,   7.7152,2,       25,    40.46,2,      1.0,2,    21.01,2,     14.1,2,20230321,0913
33RO20230306  ,A16N       ,40      ,  1,400104     ,204        ,20230321,0839,  10.5025, -28.7543,     5376,   4101.5,   2.3604,  34.8879,2,  34.8888,2,    224.3,2,    249.4,2,    44.10,2,    21.60,2,     0.01,2,     1.49,2,    0.065,2,    0.040,2,   0.0000,2,   2193.6,2,   2338.7,2,    773.1,2,       20,   7.7118,2,       25,    40.53,2,      0.9,2,    22.04,2,     14.4,2,20230321,0905
33RO20230306  ,A16N       ,40      ,  1,400103     ,203        ,20230321,0839,  10.5025, -28.7543,     5376,   4501.2,   2.3032,  34.8790,2,  34.8809,2,    221.4,2,    246.3,2,    47.80,2,    22.10,2,     0.01,2,     1.52,2,    0.077,2,    0.041,2,   0.0000,2,   2201.7,2,   2342.7,6,    778.8,2,       20,   7.7139,6,       25,    41.37,2,      0.9,2,    22.06,2,     14.8,2,20230321,0858
33RO20230306  ,A16N       ,40      ,  1,400102     ,202        ,20230321,0839,  10.5025, -28.7543,     5376,   5000.3,   2.2681,  34.8701,2,  34.8723,2,    218.6,2,    246.8,2,    51.00,2,    22.50,2,     0.01,2,     1.54,2,    0.105,2,    0.056,2,   0.0000,2,   2206.1,2,   2348.9,2,    785.3,2,       20,   7.7114,2,       25,    42.75,2,      0.9,2,    22.62,2,     15.2,2,20230321,0848
33RO20230306  ,A16N       ,40      ,  1,400101     ,201        ,20230321,0839,  10.5025, -28.7543,     5376,   5451.3,   2.2900,  34.8658,2,  34.8682,2,    217.7,2,    246.1,2,    51.70,2,    22.50,2,     0.01,2,     1.54,2,    0.161,2,    0.087,2,   0.0000,2,   2203.6,6,   2347.6,2,    788.4,2,       20,   7.7112,2,       25,    41.58,2,      0.9,6,    23.77,2,     15.1,2,20230321,0839
33RO20230306  ,A16N       ,41      ,  2,410224     ,224        ,20230321,1721,  11.0001, -29.0015,     5969,      3.1,  25.5636,  35.8293,2,  35.8296,2,    198.1,2,    209.4,2,     0.90,2,     0.00,2,     0.01,2,     0.05,2,    1.576,2,    1.005,2,   1.8169,2,   2021.7,6,   2347.6,2,    313.6,2,       20,   8.0521,2,       25,    74.00,2,      1.0,6,     4.54,2,      6.2,2,20230321,1939
33RO20230306  ,A16N       ,41      ,  2,410223     ,223        ,20230321,1721,  11.0001, -29.0015,     5969,     30.1,  25.4054,  35.8236,2,  35.8291,2,    198.6,2,    208.4,2,     0.90,2,     0.00,2,     0.01,2,     0.05,2,    1.575,2,    1.012,2,   1.8438,2,   2021.5,2,   2346.7,2,    316.7,2,       20,   8.0501,2,       25,  -999.00,9,      1.1,2,  -999.00,9,      6.2,2,20230321,1937
33RO20230306  ,A16N       ,41      ,  2,410222     ,222        ,20230321,1721,  11.0001, -29.0015,     5969,     63.8,  18.3401,  35.8305,2,  35.8224,2,    130.1,2,    114.1,2,     3.80,2,    13.00,2,     0.28,2,     0.86,2,    2.094,2,    1.224,2,   1.3377,2,   2181.4,2,   2349.1,6,    721.0,2,       20,   7.7483,6,       25,  -999.00,9,      0.3,2,  -999.00,9,     27.5,2,20230321,1935
33RO20230306  ,A16N       ,41      ,  2,410221     ,221        ,20230321,1721,  11.0001, -29.0015,     5969,     99.0,  14.3379,  35.4871,2,  35.4922,2,     88.4,2,     91.9,2,     7.50,2,    22.80,2,     0.05,2,     1.45,2,    2.260,2,    1.288,2,   1.1145,2,   2204.0,2,   2327.7,2,    945.2,2,       20,   7.6418,2,       25,  -999.00,9,      0.2,2,  -999.00,9,     30.5,2,20230321,1933
33RO20230306  ,A16N       ,41      ,  2,410220     ,220        ,20230321,1721,  11.0001, -29.0015,     5969,    200.8,  11.5307,  35.1539,2,  35.1573,2,     90.2,2,     87.0,2,    10.80,2,    27.40,2,     0.01,2,     1.75,2,    2.105,2,    1.176,2,   0.8033,2,   2214.7,2,   2311.6,2,   1113.9,2,       20,   7.5771,2,       25,  -999.00,9,      0.3,2,  -999.00,9,     33.2,2,20230321,1930
33RO20230306  ,A16N       ,41      ,  2,410219     ,219        ,20230321,1721,  11.0001, -29.0015,     5969,    250.4,  10.9857,  35.0899,2,  35.0922,2,     80.5,2,     86.4,2,    11.80,2,    28.40,2,     0.01,2,     1.80,2,    2.025,2,    1.121,2,   0.7000,2,   2212.6,2,   2307.7,2,   1147.4,2,       20,   7.5643,2,       25,  -999.00,9,      0.3,2,  -999.00,9,     34.2,2,20230321,1928
33RO20230306  ,A16N       ,41      ,  2,410218     ,218        ,20230321,1721,  11.0001, -29.0015,     5969,    333.4,  10.4717,  35.0760,2,  35.0762,2,     65.1,2,     63.3,2,    13.40,2,    31.60,2,     0.01,2,     1.96,2,    1.663,2,    0.913,2,   0.5094,2,   2232.5,2,   2307.0,2,   1294.1,2,       20,   7.5174,2,       25,  -999.00,9,      0.3,2,  -999.00,9,     36.0,2,20230321,1925
33RO20230306  ,A16N       ,41      ,  2,410217     ,217        ,20230321,1721,  11.0001, -29.0015,     5969,    399.8,   9.8991,  35.0320,2,  35.0402,6,     58.6,2,     60.9,2,    14.70,2,    33.50,2,     0.01,2,     2.07,2,    1.388,6,    0.759,6,   0.3875,6,   2238.7,2,   2305.4,2,   1369.1,2,       20,   7.4946,2,       25,  -999.00,9,      0.2,2,  -999.00,9,     35.9,6,20230321,1923
33RO20230306  ,A16N       ,41      ,  2,410216     ,216        ,20230321,1721,  11.0001, -29.0015,     5969,    492.0,   9.2769,  35.0228,2,  35.0538,2,     47.6,2,     50.7,2,    16.80,2,    35.70,2,     0.01,2,     2.21,2,    0.842,2,    0.466,2,   0.2090,2,   2246.1,6,   2304.7,2,   1455.7,2,       20,   7.4708,2,       25,  -999.00,9,      0.2,2,  -999.00,9,     34.7,2,20230321,1921
33RO20230306  ,A16N       ,41      ,  2,410215     ,215        ,20230321,1721,  11.0001, -29.0015,     5969,    675.4,   7.2838,  34.8183,2,  34.8197,2,     72.6,2,     81.2,2,    22.30,2,    36.80,2,     0.01,2,     2.37,2,    0.325,2,    0.184,2,   0.0465,2,   2241.7,2,   2300.9,2,   1422.0,2,       20,   7.4784,2,       25,  -999.00,9,      0.4,2,  -999.00,9,     30.2,2,20230321,1916
33RO20230306  ,A16N       ,41      ,  2,410214     ,214        ,20230321,1721,  11.0001, -29.0015,     5969,    850.5,   5.9547,  34.7381,2,  34.7454,2,    101.7,2,    107.7,2,    26.20,2,    35.40,2,     0.01,2,     2.35,2,    0.102,2,    0.061,2,   0.0742,2,   2231.2,2,   2303.6,2,   1296.0,2,       20,   7.5124,2,       25,  -999.00,9,      0.6,2,  -999.00,9,     25.6,2,20230321,1911
33RO20230306  ,A16N       ,41      ,  2,410213     ,213        ,20230321,1721,  11.0001, -29.0015,     5969,   1050.1,   5.3831,  34.8013,2,  34.8180,2,    124.7,2,    134.4,2,    26.50,2,    32.50,2,     0.01,2,     2.19,2,    0.041,2,    0.028,2,   0.0721,2,   2222.9,2,   2308.4,2,   1158.8,2,       20,   7.5570,2,       25,  -999.00,9,      0.6,2,  -999.00,9,     23.3,2,20230321,1906
33RO20230306  ,A16N       ,41      ,  2,410212     ,212        ,20230321,1721,  11.0001, -29.0015,     5969,   1190.4,   5.0963,  34.9096,2,  34.9106,2,    151.4,2,    162.4,2,    24.00,2,    28.60,2,     0.01,2,     1.94,2,    0.053,2,    0.030,2,   0.0000,2,   2207.3,2,   2311.5,2,   1014.3,2,       20,   7.6090,2,       25,  -999.00,9,      0.7,2,  -999.00,9,     19.9,2,20230321,1903
33RO20230306  ,A16N       ,41      ,  2,410211     ,211        ,20230321,1721,  11.0001, -29.0015,     5969,   1351.8,   4.6295,  34.9574,2,  34.9724,2,    186.1,2,    199.5,2,    21.10,2,    24.50,2,     0.01,2,     1.66,2,    0.183,2,    0.100,2,   0.0000,3,   2187.7,2,   2311.8,6,    883.3,2,       20,   7.6610,6,       25,  -999.00,9,      1.0,2,  -999.00,9,     17.0,2,20230321,1859
33RO20230306  ,A16N       ,41      ,  2,410210     ,210        ,20230321,1721,  11.0001, -29.0015,     5969,   1689.9,   3.8999,  34.9679,2,  34.9685,2,    215.4,2,    231.0,2,    20.70,2,    21.50,2,     0.01,2,     1.47,2,    0.094,2,    0.053,2,   0.0000,2,   2173.7,2,   2313.3,2,    793.7,2,       20,   7.7021,2,       25,  -999.00,9,      1.1,2,  -999.00,9,     14.4,2,20230321,1851
33RO20230306  ,A16N       ,41      ,  2,410209     ,209        ,20230321,1721,  11.0001, -29.0015,     5969,   2051.0,   3.4617,  34.9630,2,  34.9677,2,    227.5,2,    246.0,2,    22.50,2,    20.30,2,     0.01,2,     1.40,2,    0.083,2,    0.046,2,   0.0000,2,   2169.5,2,   2316.2,2,    757.0,2,       20,   7.7192,2,       25,  -999.00,9,      1.1,2,  -999.00,9,     13.5,2,20230321,1845
33RO20230306  ,A16N       ,41      ,  2,410208     ,208        ,20230321,1721,  11.0001, -29.0015,     5969,   2500.2,   3.0706,  34.9461,2,  34.9499,2,    227.6,2,    247.2,2,    28.40,2,    20.60,2,     0.01,2,     1.41,2,    0.040,2,    0.024,2,   0.0000,2,   2173.1,2,   2323.9,2,    755.2,6,       20,   7.7215,2,       25,  -999.00,9,      1.1,2,  -999.00,9,     13.0,2,20230321,1836
33RO20230306  ,A16N       ,41      ,  2,410207     ,207        ,20230321,1721,  11.0001, -29.0015,     5969,   2950.6,   2.7543,  34.9259,2,  34.9276,2,    227.7,2,    247.1,2,    33.80,2,    20.80,2,     0.01,2,     1.43,2,    0.031,2,    0.018,2,   0.0437,2,   2176.4,2,   2327.4,2,    756.0,2,       20,   7.7218,2,       25,  -999.00,9,      1.1,2,  -999.00,9,     13.3,2,20230321,1827
33RO20230306  ,A16N       ,41      ,  2,410206     ,206        ,20230321,1721,  11.0001, -29.0015,     5969,   3449.7,   2.5318,  34.9076,2,  34.9088,2,    224.6,2,    247.6,2,    39.80,2,    21.50,2,     0.01,2,     1.48,2,    0.012,2,    0.010,2,   0.0000,2,   2186.7,2,   2334.2,2,    762.1,2,       20,   7.7177,2,       25,  -999.00,9,      1.1,2,  -999.00,9,     14.1,2,20230321,1818
33RO20230306  ,A16N       ,41      ,  2,410205     ,205        ,20230321,1721,  11.0001, -29.0015,     5969,   3950.6,   2.3954,  34.8934,2,  34.8950,2,    222.2,2,    248.0,2,    44.00,2,    21.90,2,     0.01,2,     1.50,2,    0.020,2,    0.016,2,   0.0000,2,   2190.4,2,   2338.6,2,    769.2,2,       20,   7.7163,2,       25,  -999.00,9,      1.0,2,  -999.00,9,     14.0,2,20230321,1809
33RO20230306  ,A16N       ,41      ,  2,410204     ,204        ,20230321,1721,  11.0001, -29.0015,     5969,   4401.3,   2.3161,  34.8815,2,  34.8780,2,    219.8,2,    213.6,2,    47.70,2,    22.20,2,     0.01,2,     1.53,2,    0.042,2,    0.026,2,   0.0000,2,   2197.7,2,   2342.6,2,    775.7,2,       20,   7.7133,2,       25,  -999.00,9,      0.9,2,  -999.00,9,     15.0,2,20230321,1800
33RO20230306  ,A16N       ,41      ,  2,410203     ,203        ,20230321,1721,  11.0001, -29.0015,     5969,   4902.6,   2.2644,  34.8711,2,  34.8693,2,    218.8,2,    245.5,2,    50.80,2,    22.50,2,     0.01,2,     1.55,2,    0.099,2,    0.055,2,   0.0678,2,   2199.1,2,   2347.5,2,   -999.0,9,       20,   7.7106,2,       25,  -999.00,9,      0.9,2,  -999.00,9,     15.2,2,20230321,1751
33RO20230306  ,A16N       ,41      ,  2,410202     ,202        ,20230321,1721,  11.0001, -29.0015,     5969,   5476.1,   2.2940,  34.8662,2,  34.8665,6,    217.8,2,    246.6,2,    51.70,2,    22.50,2,     0.01,2,     1.54,2,    0.144,2,    0.079,2,   0.0000,3,   2199.5,6,   2345.8,2,    785.7,2,       20,   7.7078,2,       25,  -999.00,9,      0.9,2,  -999.00,9,     13.8,2,20230321,1740
33RO20230306  ,A16N       ,41      ,  2,410201     ,201        ,20230321,1721,  11.0001, -29.0015,     5969,   6064.7,   2.3605,  34.8640,2,  34.8697,2,    217.1,2,    246.9,2,    51.80,2,    22.40,2,     0.01,2,     1.55,2,    0.200,2,    0.107,2,   0.0741,2,   2200.9,2,   2346.0,2,    786.3,2,       20,   7.7068,2,       25,  -999.00,9,      0.9,6,  -999.00,9,     14.1,2,20230321,1721