BOTTLE,20240515CCHHYDRO
EXPOCODE,SECT_ID,STNNBR,CASTNO,SAMPNO,BTLNBR,BTLNBR_FLAG_W,DATE,TIME,LATITUDE,LONGITUDE,DEPTH,CTDPRS,CTDTMP,CTDSAL,CTDSAL_FLAG_W,SALNTY,SALNTY_FLAG_W,CTDOXY,CTDOXY_FLAG_W,CTDOPTOXY,CTDOPTOXY_FLAG_W,OXYGEN,OXYGEN_FLAG_W,SILCAT,SILCAT_FLAG_W,NITRAT,NITRAT_FLAG_W,NITRIT,NITRIT_FLAG_W,PHSPHT,PHSPHT_FLAG_W,CFC-11,CFC-11_FLAG_W,CFC-12,CFC-12_FLAG_W,SF6,SF6_FLAG_W,TCARBN,TCARBN_FLAG_W,ALKALI,ALKALI_FLAG_W,PH_TOT,PH_TOT_FLAG_W,PH_TMP,DOC,DOC_FLAG_W,HELIUM,HELIUM_FLAG_W,REFTMP,REFTMP_FLAG_W,DELC13,DELC13_FLAG_W,DELC14,DELC14_FLAG_W,C14ERR,POC,POC_FLAG_W,TDN,TDN_FLAG_W,TON,TON_FLAG_W,NEON,NEON_FLAG_W,CTDFLUOR,CTDFLUOR_FLAG_W,CTDXMISS,CTDXMISS_FLAG_W,CTDBETA700,CTDBETA700_FLAG_W,N2O,N2O_FLAG_W,ARGON,ARGON_FLAG_W,BTL_DATE,BTL_TIME,BTL_LAT,BTL_LON,KRYPTON,KRYPTON_FLAG_W,XENON,XENON_FLAG_W,HPLC,HPLC_FLAG_W,HE3_HE4_RATIO,HE3_HE4_RATIO_FLAG_W,Nd_143_144_D_EPSILON_BOTTLE,Nd_143_144_D_EPSILON_BOTTLE_FLAG_W,Nd_143_144_D_EPSILON_BOTTLE_ERROR,Nd_143_144_D_RATIO_BOTTLE,Nd_143_144_D_RATIO_BOTTLE_FLAG_W,Nd_143_144_D_RATIO_BOTTLE_ERROR,Nd_D_CONC,Nd_D_CONC_FLAG_W,La_D_CONC_BOTTLE,La_D_CONC_BOTTLE_FLAG_W,Ce_D_CONC_BOTTLE,Ce_D_CONC_BOTTLE_FLAG_W,Pr_D_CONC_BOTTLE,Pr_D_CONC_BOTTLE_FLAG_W,Sm_D_CONC_BOTTLE,Sm_D_CONC_BOTTLE_FLAG_W,Eu_D_CONC_BOTTLE,Eu_D_CONC_BOTTLE_FLAG_W,Gd_D_CONC_BOTTLE,Gd_D_CONC_BOTTLE_FLAG_W,Tb_D_CONC_BOTTLE,Tb_D_CONC_BOTTLE_FLAG_W,Dy_D_CONC_BOTTLE,Dy_D_CONC_BOTTLE_FLAG_W,Ho_D_CONC_BOTTLE,Ho_D_CONC_BOTTLE_FLAG_W,Er_D_CONC_BOTTLE,Er_D_CONC_BOTTLE_FLAG_W,Tm_D_CONC_BOTTLE,Tm_D_CONC_BOTTLE_FLAG_W,Yb_D_CONC_BOTTLE,Yb_D_CONC_BOTTLE_FLAG_W,Lu_D_CONC_BOTTLE,Lu_D_CONC_BOTTLE_FLAG_W
,,,,,,,,,,,METERS,DBAR,ITS-90,PSS-78,,PSS-78,,UMOL/KG,,UMOL/KG,,UMOL/KG,,UMOL/KG,,UMOL/KG,,UMOL/KG,,UMOL/KG,,PMOL/KG,,PMOL/KG,,FMOL/KG,,UMOL/KG,,UMOL/KG,,,,DEG C,UMOL/KG,,NMOL/L,,DEG C,,/MILLE,,/MILLE,,/MILLE,UG/KG,,UMOL/KG,,UMOL/KG,,NMOL/L,,VOLTS,,VOLTS,,VOLTS,,NMOL/KG,,UMOL/L,,,,,,NMOL/L,,NMOL/L,,,,,,10000,,10000,,,,PMOL/KG,,PMOL/L,,PMOL/L,,PMOL/L,,PMOL/L,,PMOL/L,,PMOL/L,,PMOL/L,,PMOL/L,,PMOL/L,,PMOL/L,,PMOL/L,,PMOL/L,,PMOL/L,
320620180309  ,S04P       ,114     ,  1,36         ,36         ,2,20180505,1713, -67.0013, -87.9988,     4386,      7.3,-1.5615719144353639170,33.704841571878234,2,  33.7026,2,345.66114220273255,3, 348.6022,2,    350.0,2,     28.3,2,    25.23,2,     0.20,2,     1.74,2,    6.081,2,    3.259,2,   3.5600,2,   2162.5,6,  2277.58,2,   7.6647,2,    24.97,     44.6,2,     -999,9,  -1.5607,2,     -999,9,     -999,9,     -999,     -999,9,    27.90,2,     -999,1,     -999,9,    0.172,1,    4.563,1,    0.189,1,  15.7900,2,     -999,9,20180505,1913, -67.0029, -87.9987,     -999,9,     -999,9,-999          ,9,     -999,9,     -999,9,     -999,     -999,9,     -999,     -999,9,     -999,9,     -999,9,     -999,9,     -999,9,     -999,9,     -999,9,     -999,9,     -999,9,     -999,9,     -999,9,     -999,9,     -999,9,     -999,9
320620180309  ,S04P       ,114     ,  1,35         ,35         ,2,20180505,1713, -67.0013, -87.9988,     4386,     19.8,-1.5627027116854805833,33.704742607320100,2,  33.7028,2,346.38944153795723,2, 348.5966,2,    348.4,2,     28.2,2,    25.25,2,     0.20,2,     1.77,2,     -999,9,     -999,9,     -999,9,   2162.8,2,  2279.80,2,   7.6641,6,    24.97,     46.4,2,     -999,9,  -1.5591,2,     -999,9,     -999,9,     -999,     -999,9,    27.80,2,     -999,1,     -999,9,    0.178,1,    4.562,1,    0.191,1,     -999,9,     -999,9,20180505,1913, -67.0030, -87.9987,     -999,9,     -999,9,-999          ,9,     -999,9,     -999,9,     -999,     -999,9,     -999,     -999,9,     -999,9,     -999,9,     -999,9,     -999,9,     -999,9,     -999,9,     -999,9,     -999,9,     -999,9,     -999,9,     -999,9,     -999,9,     -999,9
320620180309  ,S04P       ,114     ,  1,34         ,34         ,2,20180505,1713, -67.0013, -87.9988,     4386,     38.9,-1.5505210500278261421,33.704753553965013,2,  33.7032,2,347.58399456767410,2, 348.6026,2,    348.8,2,     28.3,2,    25.25,2,     0.20,2,     1.75,2,    6.191,2,    3.296,2,   4.0200,2,   2162.2,2,  2279.96,2,   7.6641,2,    24.98,     46.0,2,     -999,9,  -1.5484,2,     -999,9,     -999,9,     -999,     -999,9,    29.00,2,     -999,1,     -999,9,    0.168,1,    4.563,1,    0.192,1,  15.9500,2,     -999,9,20180505,1911, -67.0029, -87.9987,     -999,9,     -999,9,-999          ,9,     -999,9,     -999,9,     -999,     -999,9,     -999,     -999,9,     -999,9,     -999,9,     -999,9,     -999,9,     -999,9,     -999,9,     -999,9,     -999,9,     -999,9,     -999,9,     -999,9,     -999,9,     -999,9
320620180309  ,S04P       ,114     ,  1,33         ,33         ,2,20180505,1713, -67.0013, -87.9988,     4386,     64.9,-1.5419602706390707070,33.706209409194116,2,  33.7040,2,348.64609437089979,2, 348.6053,2,    348.3,2,     28.4,2,    25.25,2,     0.20,2,     1.77,2,    6.165,2,    3.303,2,   3.8700,2,   2164.4,2,  2278.71,2,   7.6660,2,    24.94,     43.7,2,     -999,9,  -1.5351,2,     -999,9,     -999,9,     -999,     -999,9,    28.00,2,     -999,1,     -999,9,    0.170,1,    4.564,1,    0.198,1,  15.6800,2,     -999,9,20180505,1909, -67.0029, -87.9987,     -999,9,     -999,9,-999          ,9,     -999,9,     -999,9,     -999,     -999,9,     -999,     -999,9,     -999,9,     -999,9,     -999,9,     -999,9,     -999,9,     -999,9,     -999,9,     -999,9,     -999,9,     -999,9,     -999,9,     -999,9,     -999,9
320620180309  ,S04P       ,114     ,  1,32         ,32         ,2,20180505,1713, -67.0013, -87.9988,     4386,     92.0,-0.8475409500158347376,33.998576009344831,2,  33.9943,2,321.71179305586764,2, 317.6975,2,    318.9,2,     40.8,2,    30.36,2,     0.11,2,     2.07,2,     -999,9,     -999,9,     -999,9,   2190.9,2,  2292.60,2,   7.6174,2,    24.93,     42.7,2,     -999,9,  -0.8574,2,     -999,9,     -999,9,     -999,     -999,9,    32.10,2,     -999,1,     -999,9,    0.075,1,    4.620,1,    0.158,1,     -999,9,     -999,9,20180505,1908, -67.0029, -87.9988,     -999,9,     -999,9,-999          ,9,     -999,9,     -999,9,     -999,     -999,9,     -999,     -999,9,     -999,9,     -999,9,     -999,9,     -999,9,     -999,9,     -999,9,     -999,9,     -999,9,     -999,9,     -999,9,     -999,9,     -999,9,     -999,9
320620180309  ,S04P       ,114     ,  1,31         ,31         ,2,20180505,1713, -67.0013, -87.9988,     4386,    115.7,-0.2716890351262691849,34.076764068719299,2,  34.0819,2,313.87110259241416,3, 309.6995,2,    308.4,2,     44.0,2,    31.20,2,     0.02,2,     2.13,2,    5.018,2,    2.745,2,   2.8200,2,   2197.2,2,  2296.88,2,   7.6097,2,    24.95,     41.9,2,     -999,9,  -0.2789,2,     -999,9,     -999,9,     -999,     -999,9,    33.10,2,     -999,1,     -999,9,    0.070,1,    4.625,1,    0.155,1,  17.5500,2,     -999,9,20180505,1906, -67.0029, -87.9987,     -999,9,     -999,9,-999          ,9,     -999,9,     -999,9,     -999,     -999,9,     -999,     -999,9,     -999,9,     -999,9,     -999,9,     -999,9,     -999,9,     -999,9,     -999,9,     -999,9,     -999,9,     -999,9,     -999,9,     -999,9,     -999,9
320620180309  ,S04P       ,114     ,  1,30         ,30         ,2,20180505,1713, -67.0013, -87.9988,     4386,    139.3,0.2578684033846291301,34.156825742138452,2,  34.1623,2,299.13720536212861,3, 292.5976,3,    285.8,2,     49.7,2,    32.12,2,     0.00,2,     2.19,2,     -999,9,     -999,9,     -999,9,   2209.9,2,  2304.11,2,   7.5952,2,    24.93,     40.8,2,     -999,9,   0.2635,2,     -999,9,     -999,9,     -999,     -999,9,    34.20,2,     -999,1,     -999,9,    0.068,1,    4.626,1,    0.152,1,     -999,9,     -999,9,20180505,1904, -67.0029, -87.9987,     -999,9,     -999,9,-999          ,9,     -999,9,     -999,9,     -999,     -999,9,     -999,     -999,9,     -999,9,     -999,9,     -999,9,     -999,9,     -999,9,     -999,9,     -999,9,     -999,9,     -999,9,     -999,9,     -999,9,     -999,9,     -999,9
320620180309  ,S04P       ,114     ,  1,29         ,29         ,2,20180505,1713, -67.0013, -87.9988,     4386,    187.8,1.3465445422504915829,34.336176777166131,2,  34.3355,2,232.05154216223212,3, 227.1981,2,    226.4,2,     61.1,2,    34.30,2,     0.00,2,     2.33,2,    2.792,6,    1.489,6,   1.5000,6,   2233.6,2,  2315.98,2,   7.5556,2,    24.94,     42.8,2,     -999,9,   1.3404,2,     -999,9,     -999,9,     -999,     -999,9,    35.70,2,     -999,1,     -999,9,    0.064,1,    4.635,1,    0.147,1,  22.1300,6,     -999,9,20180505,1902, -67.0028, -87.9987,     -999,9,     -999,9,-999          ,9,     -999,9,     -999,9,     -999,     -999,9,     -999,     -999,9,     -999,9,     -999,9,     -999,9,     -999,9,     -999,9,     -999,9,     -999,9,     -999,9,     -999,9,     -999,9,     -999,9,     -999,9,     -999,9
320620180309  ,S04P       ,114     ,  1,28         ,28         ,2,20180505,1713, -67.0013, -87.9988,     4386,    235.8,1.7931871238304888383,34.449102723516852,2,  34.4491,2,201.42468356302786,3, 199.4999,2,    197.9,2,     69.0,2,    34.91,2,     0.00,2,     2.37,2,    1.843,2,    0.987,2,   0.7500,2,   2245.8,2,  2325.01,2,   7.5425,2,    24.93,     39.6,2,     -999,9,   1.7932,2,     -999,9,     -999,9,     -999,     -999,9,    37.20,2,     -999,1,     -999,9,    0.063,1,    4.638,1,    0.145,1,  22.7500,2,     -999,9,20180505,1900, -67.0028, -87.9987,     -999,9,     -999,9,-999          ,9,     -999,9,     -999,9,     -999,     -999,9,     -999,     -999,9,     -999,9,     -999,9,     -999,9,     -999,9,     -999,9,     -999,9,     -999,9,     -999,9,     -999,9,     -999,9,     -999,9,     -999,9,     -999,9
320620180309  ,S04P       ,114     ,  1,27         ,27         ,2,20180505,1713, -67.0013, -87.9988,     4386,    288.0,1.9323553541294180569,34.501787116874816,2,  34.5028,2,190.98750914565252,3, 189.9000,2,    187.9,2,     72.7,2,    34.94,2,     0.00,2,     2.39,2,    1.423,2,    0.752,2,   0.7100,2,   2251.5,2,  2331.25,2,   7.5423,2,    24.93,     42.4,2,     -999,9,   1.9304,2,     -999,9,     -999,9,     -999,     -999,9,     -999,9,     -999,1,     -999,9,    0.062,1,    4.640,1,    0.144,1,  22.9200,2,     -999,9,20180505,1858, -67.0027, -87.9987,     -999,9,     -999,9,-999          ,9,     -999,9,     -999,9,     -999,     -999,9,     -999,     -999,9,     -999,9,     -999,9,     -999,9,     -999,9,     -999,9,     -999,9,     -999,9,     -999,9,     -999,9,     -999,9,     -999,9,     -999,9,     -999,9
320620180309  ,S04P       ,114     ,  1,26         ,38         ,2,20180505,1713, -67.0013, -87.9988,     4386,    338.9,2.0066371029069829390,34.545442552837450,2,  34.5473,2,183.36026485661228,2, 182.7979,2,    182.4,2,     75.5,2,    34.75,2,     0.00,2,     2.36,2,    1.103,2,    0.581,2,   0.5300,2,   2255.4,2,  2333.93,2,   7.5441,2,    24.92,     40.6,2,     -999,9,   2.0064,2,     -999,9,     -999,9,     -999,     -999,9,     -999,9,     -999,1,     -999,9,    0.062,1,    4.642,1,    0.140,1,  22.9700,2,     -999,9,20180505,1856, -67.0025, -87.9987,     -999,9,     -999,9,-999          ,9,     -999,9,     -999,9,     -999,     -999,9,     -999,     -999,9,     -999,9,     -999,9,     -999,9,     -999,9,     -999,9,     -999,9,     -999,9,     -999,9,     -999,9,     -999,9,     -999,9,     -999,9,     -999,9
320620180309  ,S04P       ,114     ,  1,25         ,25         ,2,20180505,1713, -67.0013, -87.9988,     4386,    388.0,2.0592767152268258712,34.579506125538678,2,  34.5803,2,179.95596509907722,2, 180.6010,2,    178.9,2,     77.4,2,    34.54,2,     0.00,2,     2.36,2,    0.895,2,    0.474,2,   0.4000,2,   2255.5,2,  2335.69,2,   7.5479,2,    24.95,     43.7,2,     -999,9,   2.0594,2,     -999,9,     -999,9,     -999,     -999,9,     -999,9,     -999,1,     -999,9,    0.061,1,    4.643,1,    0.140,1,  22.4200,2,     -999,9,20180505,1854, -67.0023, -87.9985,     -999,9,     -999,9,-999          ,9,     -999,9,     -999,9,     -999,     -999,9,     -999,     -999,9,     -999,9,     -999,9,     -999,9,     -999,9,     -999,9,     -999,9,     -999,9,     -999,9,     -999,9,     -999,9,     -999,9,     -999,9,     -999,9
320620180309  ,S04P       ,114     ,  1,24         ,24         ,2,20180505,1713, -67.0013, -87.9988,     4386,    438.9,2.1354998454480154102,34.617266113817152,2,  34.6183,2,175.77755185264235,2, 177.7985,2,    175.4,2,     79.5,2,    34.20,2,     0.00,2,     2.34,2,    0.632,2,    0.336,2,   0.1200,2,   2256.7,2,  2339.37,2,   7.5548,2,    24.94,     41.3,2,     -999,9,   2.1356,2,     -999,9,     -999,9,     -999,     -999,9,     -999,9,     -999,1,     -999,9,    0.062,1,    4.643,1,    0.137,1,  22.3800,2,     -999,9,20180505,1852, -67.0021, -87.9986,     -999,9,     -999,9,-999          ,9,     -999,9,     -999,9,     -999,     -999,9,     -999,     -999,9,     -999,9,     -999,9,     -999,9,     -999,9,     -999,9,     -999,9,     -999,9,     -999,9,     -999,9,     -999,9,     -999,9,     -999,9,     -999,9
320620180309  ,S04P       ,114     ,  1,23         ,23         ,2,20180505,1713, -67.0013, -87.9988,     4386,    489.7,2.0983117098481471885,34.634406356999875,2,  34.6352,2,175.49630445155833,2, 177.3003,2,    175.5,2,     80.7,2,    34.07,2,     0.00,2,     2.32,2,    0.580,2,    0.309,2,   0.1300,2,   2257.7,6,  2340.82,2,   7.5538,2,    24.93,     41.8,2,     -999,9,   2.0985,2,     -999,9,     -999,9,     -999,     -999,9,     -999,9,     -999,1,     -999,9,    0.061,1,    4.644,1,    0.136,1,  22.1300,2,     -999,9,20180505,1850, -67.0019, -87.9986,     -999,9,     -999,9,-999          ,9,     -999,9,     -999,9,     -999,     -999,9,     -999,     -999,9,     -999,9,     -999,9,     -999,9,     -999,9,     -999,9,     -999,9,     -999,9,     -999,9,     -999,9,     -999,9,     -999,9,     -999,9,     -999,9
320620180309  ,S04P       ,114     ,  1,22         ,37         ,2,20180505,1713, -67.0013, -87.9988,     4386,    571.7,2.0945121866904679031,34.665898793170669,2,  34.6678,2,175.96810390251918,2, 177.0020,2,    176.1,2,     83.2,2,    33.55,2,     0.00,2,     2.28,2,     -999,9,     -999,9,     -999,9,   2257.5,2,  2345.59,2,   7.5636,2,    24.93,     39.3,2,     -999,9,   2.0947,2,     -999,9,     -999,9,     -999,     -999,9,     -999,9,     -999,1,     -999,9,    0.061,1,    4.643,1,    0.136,1,     -999,9,     -999,9,20180505,1847, -67.0016, -87.9987,     -999,9,     -999,9,-999          ,9,     -999,9,     -999,9,     -999,     -999,9,     -999,     -999,9,     -999,9,     -999,9,     -999,9,     -999,9,     -999,9,     -999,9,     -999,9,     -999,9,     -999,9,     -999,9,     -999,9,     -999,9,     -999,9
320620180309  ,S04P       ,114     ,  1,21         ,21         ,2,20180505,1713, -67.0013, -87.9988,     4386,    673.1,2.0593877808565075327,34.689200116937776,2,  34.6899,2,178.58008306493818,2, 178.7046,2,    178.3,2,     84.8,2,    33.08,2,     0.00,2,     2.26,2,    0.314,2,    0.165,2,   0.2300,2,   2256.6,2,  2347.10,2,   7.5712,2,    24.93,     38.0,2,     -999,9,   2.0595,2,     -999,9,     -999,9,     -999,     -999,9,     -999,9,     -999,1,     -999,9,    0.060,1,    4.645,1,    0.135,1,  21.2800,2,     -999,9,20180505,1844, -67.0014, -87.9988,     -999,9,     -999,9,-999          ,9,     -999,9,     -999,9,     -999,     -999,9,     -999,     -999,9,     -999,9,     -999,9,     -999,9,     -999,9,     -999,9,     -999,9,     -999,9,     -999,9,     -999,9,     -999,9,     -999,9,     -999,9,     -999,9
320620180309  ,S04P       ,114     ,  1,20         ,20         ,2,20180505,1713, -67.0013, -87.9988,     4386,    775.0,1.9930073440719076050,34.705763244240245,2,  34.7066,2,181.54749994760266,2, 180.9040,2,    181.5,2,     86.7,2,    32.68,2,     0.00,2,     2.22,2,    0.265,2,    0.146,2,   0.0500,2,   2257.4,2,  2350.08,2,   7.5777,2,    24.92,     40.3,2,     -999,9,   1.9932,2,     -999,9,     -999,9,     -999,     -999,9,     -999,9,     -999,1,     -999,9,    0.061,1,    4.645,1,    0.136,1,  21.0900,2,     -999,9,20180505,1841, -67.0014, -87.9988,     -999,9,     -999,9,-999          ,9,     -999,9,     -999,9,     -999,     -999,9,     -999,     -999,9,     -999,9,     -999,9,     -999,9,     -999,9,     -999,9,     -999,9,     -999,9,     -999,9,     -999,9,     -999,9,     -999,9,     -999,9,     -999,9
320620180309  ,S04P       ,114     ,  1,19         ,19         ,2,20180505,1713, -67.0013, -87.9988,     4386,    874.5,1.9165092950495217217,34.716288737067181,2,  34.7176,2,184.23592862869097,2, 183.2011,2,    184.0,2,     88.4,2,    32.37,2,     0.00,2,     2.19,2,     -999,9,     -999,9,     -999,9,   2254.3,2,  2349.84,2,   7.5840,2,    24.96,     38.7,2,     -999,9,   1.9163,2,     -999,9,     -999,9,     -999,     -999,9,     -999,9,     -999,1,     -999,9,    0.061,1,    4.645,1,    0.133,1,     -999,9,     -999,9,20180505,1839, -67.0012, -87.9989,     -999,9,     -999,9,-999          ,9,     -999,9,     -999,9,     -999,     -999,9,     -999,     -999,9,     -999,9,     -999,9,     -999,9,     -999,9,     -999,9,     -999,9,     -999,9,     -999,9,     -999,9,     -999,9,     -999,9,     -999,9,     -999,9
320620180309  ,S04P       ,114     ,  1,18         ,18         ,2,20180505,1713, -67.0013, -87.9988,     4386,    976.9,1.8403694645986086176,34.724070609936618,2,  34.7251,2,186.98651942865902,2, 185.5036,2,    186.4,2,     90.9,2,    32.13,2,     0.00,2,     2.18,2,    0.203,2,    0.100,2,   0.0700,2,   2255.0,2,  2353.57,2,   7.5875,2,    24.95,     41.1,2,     -999,9,   1.8404,2,     -999,9,     -999,9,     -999,     -999,9,     -999,9,     -999,1,     -999,9,    0.062,1,    4.646,1,    0.132,1,  20.0800,2,     -999,9,20180505,1836, -67.0012, -87.9989,     -999,9,     -999,9,-999          ,9,     -999,9,     -999,9,     -999,     -999,9,     -999,     -999,9,     -999,9,     -999,9,     -999,9,     -999,9,     -999,9,     -999,9,     -999,9,     -999,9,     -999,9,     -999,9,     -999,9,     -999,9,     -999,9
320620180309  ,S04P       ,114     ,  1,17         ,17         ,2,20180505,1713, -67.0013, -87.9988,     4386,   1077.7,1.7591566223121390955,34.728347135643951,2,  34.7294,2,189.09785965438485,2, 187.4966,2,    188.3,2,     92.8,2,    31.95,2,     0.00,2,     2.17,2,     -999,9,     -999,9,     -999,9,   2256.1,2,  2355.07,2,   7.5934,2,    24.92,     41.3,2,     -999,9,   1.7590,2,     -999,9,     -999,9,     -999,     -999,9,     -999,9,     -999,1,     -999,9,    0.062,1,    4.646,1,    0.131,1,     -999,9,     -999,9,20180505,1833, -67.0014, -87.9988,     -999,9,     -999,9,-999          ,9,     -999,9,     -999,9,     -999,     -999,9,     -999,     -999,9,     -999,9,     -999,9,     -999,9,     -999,9,     -999,9,     -999,9,     -999,9,     -999,9,     -999,9,     -999,9,     -999,9,     -999,9,     -999,9
320620180309  ,S04P       ,114     ,  1,16         ,16         ,2,20180505,1713, -67.0013, -87.9988,     4386,   1180.4,1.6563129248965355877,34.730728349402987,2,  34.7321,2,191.16426822273570,2, 189.5011,2,    190.4,2,     95.7,2,    31.93,2,     0.00,2,     2.15,2,    0.179,2,    0.085,2,   0.0500,2,   2255.2,2,  2356.03,2,   7.5940,2,    24.93,     39.6,2,     -999,9,   1.6565,2,     -999,9,     -999,9,     -999,     -999,9,     -999,9,     -999,1,     -999,9,    0.061,1,    4.647,1,    0.131,1,  19.5400,2,     -999,9,20180505,1830, -67.0013, -87.9989,     -999,9,     -999,9,-999          ,9,     -999,9,     -999,9,     -999,     -999,9,     -999,     -999,9,     -999,9,     -999,9,     -999,9,     -999,9,     -999,9,     -999,9,     -999,9,     -999,9,     -999,9,     -999,9,     -999,9,     -999,9,     -999,9