BOTTLE,20240515CCHHYDRO
EXPOCODE,SECT_ID,STNNBR,CASTNO,SAMPNO,BTLNBR,BTLNBR_FLAG_W,DATE,TIME,LATITUDE,LONGITUDE,DEPTH,CTDPRS,CTDTMP,CTDSAL,CTDSAL_FLAG_W,SALNTY,SALNTY_FLAG_W,CTDOXY,CTDOXY_FLAG_W,CTDOPTOXY,CTDOPTOXY_FLAG_W,OXYGEN,OXYGEN_FLAG_W,SILCAT,SILCAT_FLAG_W,NITRAT,NITRAT_FLAG_W,NITRIT,NITRIT_FLAG_W,PHSPHT,PHSPHT_FLAG_W,CFC-11,CFC-11_FLAG_W,CFC-12,CFC-12_FLAG_W,SF6,SF6_FLAG_W,TCARBN,TCARBN_FLAG_W,ALKALI,ALKALI_FLAG_W,PH_TOT,PH_TOT_FLAG_W,PH_TMP,DOC,DOC_FLAG_W,HELIUM,HELIUM_FLAG_W,REFTMP,REFTMP_FLAG_W,DELC13,DELC13_FLAG_W,DELC14,DELC14_FLAG_W,C14ERR,POC,POC_FLAG_W,TDN,TDN_FLAG_W,TON,TON_FLAG_W,NEON,NEON_FLAG_W,CTDFLUOR,CTDFLUOR_FLAG_W,CTDXMISS,CTDXMISS_FLAG_W,CTDBETA700,CTDBETA700_FLAG_W,N2O,N2O_FLAG_W,ARGON,ARGON_FLAG_W,BTL_DATE,BTL_TIME,BTL_LAT,BTL_LON,KRYPTON,KRYPTON_FLAG_W,XENON,XENON_FLAG_W,HPLC,HPLC_FLAG_W,HE3_HE4_RATIO,HE3_HE4_RATIO_FLAG_W,Nd_143_144_D_EPSILON_BOTTLE,Nd_143_144_D_EPSILON_BOTTLE_FLAG_W,Nd_143_144_D_EPSILON_BOTTLE_ERROR,Nd_143_144_D_RATIO_BOTTLE,Nd_143_144_D_RATIO_BOTTLE_FLAG_W,Nd_143_144_D_RATIO_BOTTLE_ERROR,Nd_D_CONC,Nd_D_CONC_FLAG_W,La_D_CONC_BOTTLE,La_D_CONC_BOTTLE_FLAG_W,Ce_D_CONC_BOTTLE,Ce_D_CONC_BOTTLE_FLAG_W,Pr_D_CONC_BOTTLE,Pr_D_CONC_BOTTLE_FLAG_W,Sm_D_CONC_BOTTLE,Sm_D_CONC_BOTTLE_FLAG_W,Eu_D_CONC_BOTTLE,Eu_D_CONC_BOTTLE_FLAG_W,Gd_D_CONC_BOTTLE,Gd_D_CONC_BOTTLE_FLAG_W,Tb_D_CONC_BOTTLE,Tb_D_CONC_BOTTLE_FLAG_W,Dy_D_CONC_BOTTLE,Dy_D_CONC_BOTTLE_FLAG_W,Ho_D_CONC_BOTTLE,Ho_D_CONC_BOTTLE_FLAG_W,Er_D_CONC_BOTTLE,Er_D_CONC_BOTTLE_FLAG_W,Tm_D_CONC_BOTTLE,Tm_D_CONC_BOTTLE_FLAG_W,Yb_D_CONC_BOTTLE,Yb_D_CONC_BOTTLE_FLAG_W,Lu_D_CONC_BOTTLE,Lu_D_CONC_BOTTLE_FLAG_W
,,,,,,,,,,,METERS,DBAR,ITS-90,PSS-78,,PSS-78,,UMOL/KG,,UMOL/KG,,UMOL/KG,,UMOL/KG,,UMOL/KG,,UMOL/KG,,UMOL/KG,,PMOL/KG,,PMOL/KG,,FMOL/KG,,UMOL/KG,,UMOL/KG,,,,DEG C,UMOL/KG,,NMOL/L,,DEG C,,/MILLE,,/MILLE,,/MILLE,UG/KG,,UMOL/KG,,UMOL/KG,,NMOL/L,,VOLTS,,VOLTS,,VOLTS,,NMOL/KG,,UMOL/L,,,,,,NMOL/L,,NMOL/L,,,,,,10000,,10000,,,,PMOL/KG,,PMOL/L,,PMOL/L,,PMOL/L,,PMOL/L,,PMOL/L,,PMOL/L,,PMOL/L,,PMOL/L,,PMOL/L,,PMOL/L,,PMOL/L,,PMOL/L,,PMOL/L,
320620180309  ,P16        ,51      ,  1,15         ,15         ,2,20180407,2248, -68.5013,-149.9977,     4358,   1316.9,1.0115027777777778617,34.719497657705347,2,  34.7198,2,200.61838300897594,2, 199.1974,2,    199.3,2,    115.2,2,    32.31,2,     0.00,2,     2.17,2,    0.107,2,    0.054,2,   0.0800,2,   2263.3,2,  2365.86,2,   7.5990,2,    24.91,     -999,9,     -999,9,   1.0115,2,     -999,9,     -999,9,     -999,     -999,9,     -999,9,     -999,9,     -999,9,    0.061,1,    4.665,1,    0.127,1,  20.7400,2,     -999,9,20180407,2358, -68.5005,-149.9981,     -999,9,     -999,9,-999          ,9,     -999,9,     -999,9,     -999,     -999,9,     -999,     -999,9,     -999,1,     -999,1,     -999,1,     -999,1,     -999,1,     -999,1,     -999,1,     -999,1,     -999,1,     -999,1,     -999,1,     -999,1,     -999,1
320620180309  ,P16        ,51      ,  1,14         ,14         ,2,20180407,2248, -68.5013,-149.9977,     4358,   1417.9,0.9684027777777779455,34.717681024652890,2,  34.7182,2,200.42864337030187,2, 200.0044,2,    200.2,2,    116.6,2,    32.34,2,     0.00,2,     2.17,2,     -999,9,     -999,9,     -999,9,     -999,9,     -999,9,     -999,9,     -999,     -999,9,     -999,9,   0.9676,2,     -999,9,     -999,9,     -999,     -999,9,     -999,9,     -999,9,     -999,9,    0.060,1,    4.665,1,    0.128,1,     -999,9,     -999,9,20180407,2355, -68.5006,-149.9980,     -999,9,     -999,9,-999          ,9,     -999,9,     -999,9,     -999,     -999,9,     -999,     -999,9,     -999,9,     -999,9,     -999,9,     -999,9,     -999,9,     -999,9,     -999,9,     -999,9,     -999,9,     -999,9,     -999,9,     -999,9,     -999,9
320620180309  ,P16        ,51      ,  1,13         ,13         ,2,20180407,2248, -68.5013,-149.9977,     4358,   1519.2,0.9379499999999999504,34.716198349530288,2,  34.7164,2,200.48181408059716,2, 200.8030,2,    200.4,2,    117.8,2,    32.40,2,     0.00,2,     2.19,2,     -999,9,     -999,9,     -999,9,   2264.2,2,  2363.90,3,   7.5998,2,    24.91,     -999,9,     -999,9,   0.9371,2,     -999,9,     -999,9,     -999,     -999,9,     -999,9,     -999,9,     -999,9,    0.061,1,    4.665,1,    0.127,1,     -999,9,     -999,9,20180407,2353, -68.5006,-149.9980,     -999,9,     -999,9,-999          ,9,     -999,9,     -999,9,     -999,     -999,9,     -999,     -999,9,     -999,1,     -999,1,     -999,1,     -999,1,     -999,1,     -999,1,     -999,1,     -999,1,     -999,1,     -999,1,     -999,1,     -999,1,     -999,1
320620180309  ,P16        ,51      ,  1,12         ,12         ,2,20180407,2248, -68.5013,-149.9977,     4358,   1621.9,0.8965305555555556083,34.714289651345325,2,  34.7145,2,200.67864731137718,2, 201.0971,2,    200.5,2,    119.8,2,    32.50,2,     0.00,2,     2.19,2,     -999,9,     -999,9,     -999,9,     -999,9,     -999,9,     -999,9,     -999,     -999,9,     -999,1,   0.8958,2,     -999,9,     -999,9,     -999,     -999,9,     -999,9,     -999,9,     -999,1,    0.061,1,    4.665,1,    0.127,1,     -999,9,     -999,1,20180407,2350, -68.5004,-149.9982,     -999,1,     -999,1,-999          ,9,     -999,1,     -999,9,     -999,     -999,9,     -999,     -999,9,     -999,1,     -999,1,     -999,1,     -999,1,     -999,1,     -999,1,     -999,1,     -999,1,     -999,1,     -999,1,     -999,1,     -999,1,     -999,1
320620180309  ,P16        ,51      ,  1,11         ,11         ,2,20180407,2248, -68.5013,-149.9977,     4358,   1826.3,0.7766833333333331701,34.709507055496623,2,  34.7092,2,201.94534154143344,2, 202.3987,2,    202.6,2,    124.2,2,    32.65,2,     0.00,2,     2.21,2,    0.118,2,    0.065,2,  -0.0100,2,   2265.8,2,  2363.60,2,   7.5943,2,    24.92,     -999,9,     -999,1,   0.7760,2,     -999,9,     -999,9,     -999,     -999,9,     -999,9,     -999,9,     -999,1,    0.060,1,    4.665,1,    0.127,1,  20.1600,2,     -999,1,20180407,2345, -68.5002,-149.9986,     -999,1,     -999,1,-999          ,9,     -999,1,     -999,9,     -999,     -999,9,     -999,     -999,9,     -999,1,     -999,1,     -999,1,     -999,1,     -999,1,     -999,1,     -999,1,     -999,1,     -999,1,     -999,1,     -999,1,     -999,1,     -999,1
320620180309  ,P16        ,51      ,  1,10         ,10         ,2,20180407,2248, -68.5013,-149.9977,     4358,   2027.7,0.6594250000000000389,34.705642083374279,2,  34.7054,2,204.64530726331705,2, 204.7999,2,    204.8,2,    127.0,2,    32.72,2,     0.00,2,     2.21,2,     -999,9,     -999,9,     -999,9,   2264.5,2,  2363.58,2,   7.5943,2,    24.92,     -999,9,     -999,9,   0.6587,2,     -999,9,     -999,9,     -999,     -999,9,     -999,9,     -999,9,     -999,9,    0.061,1,    4.665,1,    0.127,1,     -999,9,     -999,9,20180407,2340, -68.5003,-149.9985,     -999,9,     -999,9,-999          ,9,     -999,9,     -999,9,     -999,     -999,9,     -999,     -999,9,     -999,9,     -999,9,     -999,9,     -999,9,     -999,9,     -999,9,     -999,9,     -999,9,     -999,9,     -999,9,     -999,9,     -999,9,     -999,9
320620180309  ,P16        ,51      ,  1,9          ,9          ,2,20180407,2248, -68.5013,-149.9977,     4358,   2284.3,0.5485111111111111715,34.703067489121523,2,  34.7031,2,207.75592623913917,2, 207.4029,2,    207.3,2,    128.7,2,    32.77,2,     0.00,2,     2.21,2,     -999,9,     -999,9,     -999,9,     -999,9,     -999,9,     -999,9,     -999,     -999,9,     -999,9,   0.5479,2,     -999,9,     -999,9,     -999,     -999,9,     -999,9,     -999,9,     -999,9,    0.061,1,    4.665,1,    0.126,1,     -999,9,     -999,9,20180407,2335, -68.5005,-149.9982,     -999,9,     -999,9,-999          ,9,     -999,9,     -999,9,     -999,     -999,9,     -999,     -999,9,     -999,1,     -999,1,     -999,1,     -999,1,     -999,1,     -999,1,     -999,1,     -999,1,     -999,1,     -999,1,     -999,1,     -999,1,     -999,1
320620180309  ,P16        ,51      ,  1,8          ,8          ,2,20180407,2248, -68.5013,-149.9977,     4358,   2539.4,0.4515305555555556016,34.701750498717132,2,  34.7023,2,208.99204340005616,2, 209.8020,2,    209.8,2,    130.6,2,    32.82,2,     0.00,2,     2.24,2,    0.170,2,    0.093,2,  -0.0100,2,   2262.7,2,  2362.64,2,   7.5962,6,    24.92,     -999,9,     -999,9,   0.4513,2,     -999,9,     -999,9,     -999,     -999,9,     -999,9,     -999,9,     -999,9,    0.061,1,    4.664,1,    0.125,1,  19.7400,2,     -999,9,20180407,2330, -68.5007,-149.9980,     -999,9,     -999,9,-999          ,9,     -999,9,     -999,9,     -999,     -999,9,     -999,     -999,9,     -999,9,     -999,9,     -999,9,     -999,9,     -999,9,     -999,9,     -999,9,     -999,9,     -999,9,     -999,9,     -999,9,     -999,9,     -999,9
320620180309  ,P16        ,51      ,  1,7          ,7          ,2,20180407,2248, -68.5013,-149.9977,     4358,   2795.5,0.3718472222222222734,34.700706199635583,2,  34.7013,2,211.57553605183409,2, 211.7995,2,    211.9,2,    132.9,2,    32.95,2,     0.00,2,     2.24,2,     -999,9,     -999,9,     -999,9,     -999,9,     -999,9,     -999,9,     -999,     -999,9,     -999,9,   0.3710,2,     -999,9,     -999,9,     -999,     -999,9,     -999,9,     -999,9,     -999,9,    0.061,1,    4.665,1,    0.125,1,     -999,9,     -999,9,20180407,2324, -68.5006,-149.9981,     -999,9,     -999,9,-999          ,9,     -999,9,     -999,9,     -999,     -999,9,     -999,     -999,9,     -999,1,     -999,1,     -999,1,     -999,1,     -999,1,     -999,1,     -999,1,     -999,1,     -999,1,     -999,1,     -999,1,     -999,1,     -999,1
320620180309  ,P16        ,51      ,  1,6          ,6          ,2,20180407,2248, -68.5013,-149.9977,     4358,   3051.4,0.3226222222222221991,34.699325559824246,2,  34.6996,2,213.72499399376900,2, 213.7970,2,    213.8,2,    133.5,2,    32.93,2,     0.00,2,     2.24,2,    0.264,2,    0.141,2,   0.0700,2,   2263.3,2,  2363.62,2,   7.5947,6,    24.93,     -999,9,     -999,9,   0.3222,2,     -999,9,     -999,9,     -999,     -999,9,     -999,9,     -999,9,     -999,9,    0.061,1,    4.665,1,    0.124,1,  19.5100,2,     -999,9,20180407,2318, -68.5003,-149.9984,     -999,9,     -999,9,-999          ,9,     -999,9,     -999,9,     -999,     -999,9,     -999,     -999,9,     -999,9,     -999,9,     -999,9,     -999,9,     -999,9,     -999,9,     -999,9,     -999,9,     -999,9,     -999,9,     -999,9,     -999,9,     -999,9
320620180309  ,P16        ,51      ,  1,5          ,5          ,2,20180407,2248, -68.5013,-149.9977,     4358,   3360.2,0.2554083333333332928,34.695930714179049,2,  34.6960,2,217.03720886515927,2, 217.3072,2,    217.5,2,    131.8,2,    32.86,2,     0.00,2,     2.24,2,    0.491,2,    0.258,2,   0.1400,2,   2263.3,2,  2362.06,2,   7.5946,2,    24.91,     -999,9,     -999,1,   0.2547,2,     -999,9,     -999,9,     -999,     -999,9,     -999,9,     -999,9,     -999,1,    0.061,1,    4.664,1,    0.124,1,  20.0900,2,     -999,1,20180407,2312, -68.4998,-149.9991,     -999,1,     -999,1,-999          ,9,     -999,1,     -999,9,     -999,     -999,9,     -999,     -999,9,     -999,1,     -999,1,     -999,1,     -999,1,     -999,1,     -999,1,     -999,1,     -999,1,     -999,1,     -999,1,     -999,1,     -999,1,     -999,1
320620180309  ,P16        ,51      ,  1,4          ,4          ,2,20180407,2248, -68.5013,-149.9977,     4358,   3668.7,0.2226638888888888834,34.693609670116004,2,  34.6935,2,218.70588604787403,2, 218.8980,2,    218.9,2,    128.6,2,    32.79,2,     0.00,2,     2.23,2,     -999,9,     -999,9,     -999,9,   2264.1,2,  2361.99,2,   7.5923,2,    24.93,     -999,9,     -999,9,   0.2219,2,     -999,9,     -999,9,     -999,     -999,9,     -999,9,     -999,9,     -999,9,    0.060,1,    4.663,1,    0.125,1,     -999,9,     -999,9,20180407,2305, -68.4997,-149.9994,     -999,9,     -999,9,-999          ,9,     -999,9,     -999,9,     -999,     -999,9,     -999,     -999,9,     -999,9,     -999,9,     -999,9,     -999,9,     -999,9,     -999,9,     -999,9,     -999,9,     -999,9,     -999,9,     -999,9,     -999,9,     -999,9
320620180309  ,P16        ,51      ,  1,3          ,3          ,2,20180407,2248, -68.5013,-149.9977,     4358,   3975.7,0.2348277777777778019,34.694123973592617,3,  34.6917,2,219.41930255842587,2, 219.2002,2,    219.2,2,    128.4,2,    32.83,2,     0.00,2,     2.23,2,    0.704,2,    0.354,2,   0.1900,2,   2265.4,2,  2360.82,2,   7.5927,2,    24.93,     -999,9,     -999,9,   0.2341,2,     -999,9,     -999,9,     -999,     -999,9,     -999,9,     -999,9,     -999,9,    0.061,1,    4.663,1,    0.126,1,  19.2500,2,     -999,9,20180407,2258, -68.5002,-149.9986,     -999,9,     -999,9,-999          ,9,     -999,9,     -999,9,     -999,     -999,9,     -999,     -999,9,     -999,1,     -999,1,     -999,1,     -999,1,     -999,1,     -999,1,     -999,1,     -999,1,     -999,1,     -999,1,     -999,1,     -999,1,     -999,1
320620180309  ,P16        ,51      ,  1,2          ,2          ,2,20180407,2248, -68.5013,-149.9977,     4358,   4207.2,0.2466222222222222982,34.694848264916111,2,  34.6945,2,219.66661091988010,2, 219.0987,2,    219.3,2,    129.0,2,    32.91,2,     0.00,2,     2.24,2,    0.707,2,    0.354,2,   0.1200,2,   2264.1,2,  2361.61,2,   7.5915,2,    24.93,     -999,9,     -999,9,   0.2461,2,     -999,9,     -999,9,     -999,     -999,9,     -999,9,     -999,9,     -999,9,    0.061,1,    4.660,1,    0.128,1,  19.4400,2,     -999,9,20180407,2253, -68.5011,-149.9979,     -999,9,     -999,9,-999          ,9,     -999,9,     -999,9,     -999,     -999,9,     -999,     -999,9,     -999,1,     -999,1,     -999,1,     -999,1,     -999,1,     -999,1,     -999,1,     -999,1,     -999,1,     -999,1,     -999,1,     -999,1,     -999,1
320620180309  ,P16        ,51      ,  1,1          ,1          ,2,20180407,2248, -68.5013,-149.9977,     4358,   4439.8,0.2677750000000000408,34.695151934783063,2,  34.6966,2,221.16928960779495,2, 219.0988,2,    219.0,2,    129.9,2,    32.96,2,     0.00,2,     2.24,2,    0.708,2,    0.349,2,   0.2700,2,   2264.6,6,  2360.75,2,   7.5899,2,    24.94,     -999,9,     -999,1,   0.2673,2,     -999,9,     -999,9,     -999,     -999,9,     -999,9,     -999,9,     -999,1,    0.061,1,    4.657,1,    0.136,1,  19.3900,2,     -999,1,20180407,2248, -68.5013,-149.9977,     -999,1,     -999,1,-999          ,9,     -999,1,     -999,9,     -999,     -999,9,     -999,     -999,9,     -999,1,     -999,1,     -999,1,     -999,1,     -999,1,     -999,1,     -999,1,     -999,1,     -999,1,     -999,1,     -999,1,     -999,1,     -999,1