BOTTLE,20240515CCHHYDRO
EXPOCODE,SECT_ID,STNNBR,CASTNO,SAMPNO,BTLNBR,BTLNBR_FLAG_W,DATE,TIME,LATITUDE,LONGITUDE,DEPTH,CTDPRS,CTDTMP,CTDSAL,CTDSAL_FLAG_W,SALNTY,SALNTY_FLAG_W,CTDOXY,CTDOXY_FLAG_W,CTDOPTOXY,CTDOPTOXY_FLAG_W,OXYGEN,OXYGEN_FLAG_W,SILCAT,SILCAT_FLAG_W,NITRAT,NITRAT_FLAG_W,NITRIT,NITRIT_FLAG_W,PHSPHT,PHSPHT_FLAG_W,CFC-11,CFC-11_FLAG_W,CFC-12,CFC-12_FLAG_W,SF6,SF6_FLAG_W,TCARBN,TCARBN_FLAG_W,ALKALI,ALKALI_FLAG_W,PH_TOT,PH_TOT_FLAG_W,PH_TMP,DOC,DOC_FLAG_W,HELIUM,HELIUM_FLAG_W,REFTMP,REFTMP_FLAG_W,DELC13,DELC13_FLAG_W,DELC14,DELC14_FLAG_W,C14ERR,POC,POC_FLAG_W,TDN,TDN_FLAG_W,TON,TON_FLAG_W,NEON,NEON_FLAG_W,CTDFLUOR,CTDFLUOR_FLAG_W,CTDXMISS,CTDXMISS_FLAG_W,CTDBETA700,CTDBETA700_FLAG_W,N2O,N2O_FLAG_W,ARGON,ARGON_FLAG_W,BTL_DATE,BTL_TIME,BTL_LAT,BTL_LON,KRYPTON,KRYPTON_FLAG_W,XENON,XENON_FLAG_W,HPLC,HPLC_FLAG_W,HE3_HE4_RATIO,HE3_HE4_RATIO_FLAG_W,Nd_143_144_D_EPSILON_BOTTLE,Nd_143_144_D_EPSILON_BOTTLE_FLAG_W,Nd_143_144_D_EPSILON_BOTTLE_ERROR,Nd_143_144_D_RATIO_BOTTLE,Nd_143_144_D_RATIO_BOTTLE_FLAG_W,Nd_143_144_D_RATIO_BOTTLE_ERROR,Nd_D_CONC,Nd_D_CONC_FLAG_W,La_D_CONC_BOTTLE,La_D_CONC_BOTTLE_FLAG_W,Ce_D_CONC_BOTTLE,Ce_D_CONC_BOTTLE_FLAG_W,Pr_D_CONC_BOTTLE,Pr_D_CONC_BOTTLE_FLAG_W,Sm_D_CONC_BOTTLE,Sm_D_CONC_BOTTLE_FLAG_W,Eu_D_CONC_BOTTLE,Eu_D_CONC_BOTTLE_FLAG_W,Gd_D_CONC_BOTTLE,Gd_D_CONC_BOTTLE_FLAG_W,Tb_D_CONC_BOTTLE,Tb_D_CONC_BOTTLE_FLAG_W,Dy_D_CONC_BOTTLE,Dy_D_CONC_BOTTLE_FLAG_W,Ho_D_CONC_BOTTLE,Ho_D_CONC_BOTTLE_FLAG_W,Er_D_CONC_BOTTLE,Er_D_CONC_BOTTLE_FLAG_W,Tm_D_CONC_BOTTLE,Tm_D_CONC_BOTTLE_FLAG_W,Yb_D_CONC_BOTTLE,Yb_D_CONC_BOTTLE_FLAG_W,Lu_D_CONC_BOTTLE,Lu_D_CONC_BOTTLE_FLAG_W
,,,,,,,,,,,METERS,DBAR,ITS-90,PSS-78,,PSS-78,,UMOL/KG,,UMOL/KG,,UMOL/KG,,UMOL/KG,,UMOL/KG,,UMOL/KG,,UMOL/KG,,PMOL/KG,,PMOL/KG,,FMOL/KG,,UMOL/KG,,UMOL/KG,,,,DEG C,UMOL/KG,,NMOL/L,,DEG C,,/MILLE,,/MILLE,,/MILLE,UG/KG,,UMOL/KG,,UMOL/KG,,NMOL/L,,VOLTS,,VOLTS,,VOLTS,,NMOL/KG,,UMOL/L,,,,,,NMOL/L,,NMOL/L,,,,,,10000,,10000,,,,PMOL/KG,,PMOL/L,,PMOL/L,,PMOL/L,,PMOL/L,,PMOL/L,,PMOL/L,,PMOL/L,,PMOL/L,,PMOL/L,,PMOL/L,,PMOL/L,,PMOL/L,,PMOL/L,
320620180309  ,P15        ,17      ,  1,15         ,15         ,2,20180323,1934, -67.4991,-169.9981,     4241,   1347.2,0.7812611111111110729,34.709342182850818,2,  34.7082,2,202.30747759320397,2, 203.1974,2,    203.5,2,    119.1,2,    32.08,2,     0.00,2,     2.17,2,     -999,9,     -999,9,     -999,9,   2262.9,2,  2362.02,2,   7.5971,2,    24.95,     -999,9,     -999,9,   0.7806,2,     -999,9,     -999,9,     -999,     -999,9,     -999,9,     -999,9,     -999,9,    0.062,1,    4.679,1,    0.131,1,     -999,9,     -999,9,20180323,2059, -67.4989,-169.9981,     -999,9,     -999,9,-999          ,9,     -999,9,     -999,9,     -999,     -999,9,     -999,     -999,9,     -999,9,     -999,9,     -999,9,     -999,9,     -999,9,     -999,9,     -999,9,     -999,9,     -999,9,     -999,9,     -999,9,     -999,9,     -999,9
320620180309  ,P15        ,17      ,  1,14         ,14         ,2,20180323,1934, -67.4991,-169.9981,     4241,   1454.1,0.7368777777777779647,34.707734819600418,2,  34.7068,2,203.09262083616917,2, 204.6020,2,    204.0,2,    121.8,2,    32.20,2,     0.00,2,     2.18,2,    0.186,2,    0.103,2,   0.0600,2,   2263.4,2,  2362.85,2,   7.5935,2,    24.96,     -999,9,     -999,9,   0.7354,2,     -999,9,     -999,9,     -999,     -999,9,     -999,9,     -999,9,     -999,9,    0.061,1,    4.680,1,    0.130,1,  19.2600,2,     -999,9,20180323,2056, -67.4989,-169.9981,     -999,9,     -999,9,-999          ,9,     -999,9,     -999,9,     -999,     -999,9,     -999,     -999,9,     -999,9,     -999,9,     -999,9,     -999,9,     -999,9,     -999,9,     -999,9,     -999,9,     -999,9,     -999,9,     -999,9,     -999,9,     -999,9
320620180309  ,P15        ,17      ,  1,13         ,13         ,2,20180323,1934, -67.4991,-169.9981,     4241,   1555.5,0.6939972222222220433,34.706039456824968,2,  34.7051,2,205.35493135959345,2, 205.2970,2,    205.0,2,    122.8,2,    32.19,2,     0.00,2,     2.20,2,     -999,9,     -999,9,     -999,9,   2262.1,2,  2362.02,2,   7.5946,2,    24.95,     -999,9,     -999,9,   0.6934,2,     -999,9,     -999,9,     -999,     -999,9,     -999,9,     -999,9,     -999,9,    0.061,1,    4.680,1,    0.130,1,     -999,9,     -999,9,20180323,2053, -67.4988,-169.9983,     -999,9,     -999,9,-999          ,9,     -999,9,     -999,9,     -999,     -999,9,     -999,     -999,9,     -999,9,     -999,9,     -999,9,     -999,9,     -999,9,     -999,9,     -999,9,     -999,9,     -999,9,     -999,9,     -999,9,     -999,9,     -999,9
320620180309  ,P15        ,17      ,  1,12         ,12         ,2,20180323,1934, -67.4991,-169.9981,     4241,   1658.4,0.6532138888888889827,34.704063600771512,2,  34.7035,2,205.79408076367022,2, 206.2965,2,    206.1,2,    123.0,2,    32.20,2,     0.00,2,     2.21,2,     -999,9,     -999,9,     -999,9,   2264.6,2,  2362.07,2,   7.5940,2,    24.95,     -999,9,     -999,9,   0.6525,2,     -999,9,     -999,9,     -999,     -999,9,     -999,9,     -999,9,     -999,9,    0.061,1,    4.680,1,    0.130,1,     -999,9,     -999,9,20180323,2049, -67.4987,-169.9984,     -999,9,     -999,9,-999          ,9,     -999,9,     -999,9,     -999,     -999,9,     -999,     -999,9,     -999,9,     -999,9,     -999,9,     -999,9,     -999,9,     -999,9,     -999,9,     -999,9,     -999,9,     -999,9,     -999,9,     -999,9,     -999,9
320620180309  ,P15        ,17      ,  1,11         ,11         ,2,20180323,1934, -67.4991,-169.9981,     4241,   1758.9,0.6121416666666666950,34.702578745825178,2,  34.7025,2,206.71911296089567,2, 207.3975,2,    207.2,2,    123.9,2,    32.27,2,     0.00,2,     2.23,2,    0.254,2,    0.144,2,  -0.1300,3,   2264.1,2,  2361.69,2,   7.5944,2,    24.95,     -999,9,     -999,9,   0.6114,2,     -999,9,     -999,9,     -999,     -999,9,     -999,9,     -999,9,     -999,9,    0.061,1,    4.680,1,    0.130,1,  19.2000,2,     -999,9,20180323,2046, -67.4988,-169.9984,     -999,9,     -999,9,-999          ,9,     -999,9,     -999,9,     -999,     -999,9,     -999,     -999,9,     -999,9,     -999,9,     -999,9,     -999,9,     -999,9,     -999,9,     -999,9,     -999,9,     -999,9,     -999,9,     -999,9,     -999,9,     -999,9
320620180309  ,P15        ,17      ,  1,10         ,10         ,2,20180323,1934, -67.4991,-169.9981,     4241,   1893.4,0.5522888888888888292,34.700683774360172,2,  34.7000,2,207.48461534036352,2, 208.0988,2,    208.3,2,    124.9,2,    32.30,2,     0.00,2,     2.24,2,     -999,9,     -999,9,     -999,9,   2265.2,2,  2362.44,2,   7.5931,2,    24.96,     -999,9,     -999,9,   0.5517,2,     -999,9,     -999,9,     -999,     -999,9,     -999,9,     -999,9,     -999,9,    0.061,1,    4.681,1,    0.129,1,     -999,9,     -999,9,20180323,2042, -67.4986,-169.9986,     -999,9,     -999,9,-999          ,9,     -999,9,     -999,9,     -999,     -999,9,     -999,     -999,9,     -999,9,     -999,9,     -999,9,     -999,9,     -999,9,     -999,9,     -999,9,     -999,9,     -999,9,     -999,9,     -999,9,     -999,9,     -999,9
320620180309  ,P15        ,17      ,  1,9          ,9          ,2,20180323,1934, -67.4991,-169.9981,     4241,   2118.5,0.4775944444444444326,34.698613960125378,2,  34.6972,2,209.79294319140865,2, 210.5995,2,    210.5,2,    126.2,2,    32.39,2,     0.00,2,     2.23,2,     -999,9,     -999,9,     -999,9,   2264.1,6,  2361.75,2,   7.5925,2,    24.95,     -999,9,     -999,9,   0.4770,2,     -999,9,     -999,9,     -999,     -999,9,     -999,9,     -999,9,     -999,9,    0.061,1,    4.680,1,    0.128,1,     -999,9,     -999,9,20180323,2035, -67.4986,-169.9986,     -999,9,     -999,9,-999          ,9,     -999,9,     -999,9,     -999,     -999,9,     -999,     -999,9,     -999,9,     -999,9,     -999,9,     -999,9,     -999,9,     -999,9,     -999,9,     -999,9,     -999,9,     -999,9,     -999,9,     -999,9,     -999,9
320620180309  ,P15        ,17      ,  1,8          ,8          ,2,20180323,1934, -67.4991,-169.9981,     4241,   2368.3,0.3974055555555555674,34.695694899701820,2,  34.6947,2,212.80815663403962,2, 212.9019,2,    212.8,2,    126.9,2,    32.41,2,     0.00,2,     2.23,2,    0.414,2,    0.231,2,   0.1200,2,   2262.0,2,  2361.88,2,   7.5914,2,    24.95,     -999,9,     -999,9,   0.3969,2,     -999,9,     -999,9,     -999,     -999,9,     -999,9,     -999,9,     -999,9,    0.061,1,    4.681,1,    0.127,1,  19.2800,2,     -999,9,20180323,2028, -67.4985,-169.9988,     -999,9,     -999,9,-999          ,9,     -999,9,     -999,9,     -999,     -999,9,     -999,     -999,9,     -999,9,     -999,9,     -999,9,     -999,9,     -999,9,     -999,9,     -999,9,     -999,9,     -999,9,     -999,9,     -999,9,     -999,9,     -999,9
320620180309  ,P15        ,17      ,  1,7          ,7          ,2,20180323,1934, -67.4991,-169.9981,     4241,   2624.6,0.3260111111111111404,34.693336778607694,3,  34.6909,2,214.73072619655306,2, 220.7065,3,    215.6,2,    127.1,2,    32.47,2,     0.00,2,     2.22,2,     -999,9,     -999,9,     -999,9,   2264.4,2,  2361.45,2,   7.5920,2,    24.94,     -999,9,     -999,9,   0.3252,2,     -999,9,     -999,9,     -999,     -999,9,     -999,9,     -999,9,     -999,9,    0.061,1,    4.681,1,    0.128,1,     -999,9,     -999,9,20180323,2021, -67.4987,-169.9985,     -999,9,     -999,9,-999          ,9,     -999,9,     -999,9,     -999,     -999,9,     -999,     -999,9,     -999,9,     -999,9,     -999,9,     -999,9,     -999,9,     -999,9,     -999,9,     -999,9,     -999,9,     -999,9,     -999,9,     -999,9,     -999,9
320620180309  ,P15        ,17      ,  1,6          ,6          ,2,20180323,1934, -67.4991,-169.9981,     4241,   2879.1,0.2626638888888889189,34.689889864934450,3,  34.6850,2,219.01753747209227,2, 221.4975,3,    218.0,2,    125.6,2,    32.45,2,     0.00,2,     2.24,2,     -999,9,     -999,9,     -999,9,   2264.9,2,  2360.68,2,   7.5915,2,    24.95,     -999,9,     -999,9,   0.2623,2,     -999,9,     -999,9,     -999,     -999,9,     -999,9,     -999,9,     -999,9,    0.060,1,    4.680,1,    0.127,1,     -999,9,     -999,9,20180323,2014, -67.4985,-169.9988,     -999,9,     -999,9,-999          ,9,     -999,9,     -999,9,     -999,     -999,9,     -999,     -999,9,     -999,9,     -999,9,     -999,9,     -999,9,     -999,9,     -999,9,     -999,9,     -999,9,     -999,9,     -999,9,     -999,9,     -999,9,     -999,9
320620180309  ,P15        ,17      ,  1,5          ,5          ,2,20180323,1934, -67.4991,-169.9981,     4241,   3155.5,0.2042583333333333195,34.685055811448805,2,  34.6831,2,221.96730445242676,2, 222.2030,2,    222.1,2,    122.2,2,    32.40,2,     0.00,2,     2.24,2,    0.985,2,    0.515,2,   0.7800,2,   2262.4,2,  2360.04,2,   7.5888,2,    24.93,     -999,9,     -999,9,   0.2039,2,     -999,9,     -999,9,     -999,     -999,9,     -999,9,     -999,9,     -999,9,    0.061,1,    4.679,1,    0.128,1,  19.7600,2,     -999,9,20180323,2006, -67.4983,-169.9992,     -999,9,     -999,9,-999          ,9,     -999,9,     -999,9,     -999,     -999,9,     -999,     -999,9,     -999,9,     -999,9,     -999,9,     -999,9,     -999,9,     -999,9,     -999,9,     -999,9,     -999,9,     -999,9,     -999,9,     -999,9,     -999,9
320620180309  ,P15        ,17      ,  1,4          ,4          ,2,20180323,1934, -67.4991,-169.9981,     4241,   3459.5,0.2043500000000000316,34.683963425888777,3,  34.6809,2,223.04775184096437,2, 222.2036,2,    222.0,2,    120.9,2,    32.38,2,     0.00,2,     2.24,2,     -999,9,     -999,9,     -999,9,   2261.4,2,  2359.30,2,   7.5891,2,    24.92,     -999,9,     -999,9,   0.2040,2,     -999,9,     -999,9,     -999,     -999,9,     -999,9,     -999,9,     -999,9,    0.061,1,    4.678,1,    0.129,1,     -999,9,     -999,9,20180323,1958, -67.4982,-169.9994,     -999,9,     -999,9,-999          ,9,     -999,9,     -999,9,     -999,     -999,9,     -999,     -999,9,     -999,9,     -999,9,     -999,9,     -999,9,     -999,9,     -999,9,     -999,9,     -999,9,     -999,9,     -999,9,     -999,9,     -999,9,     -999,9
320620180309  ,P15        ,17      ,  1,3          ,3          ,2,20180323,1934, -67.4991,-169.9981,     4241,   3769.3,0.2274611111111110862,34.684069625053354,2,  34.6827,2,222.37214370944085,2, 222.2046,2,    222.6,2,    120.6,2,    32.35,2,     0.00,2,     2.23,2,    1.085,2,    0.582,2,   0.4200,2,   2262.2,2,  2358.78,2,   7.5888,2,    24.93,     -999,9,     -999,9,   0.2269,2,     -999,9,     -999,9,     -999,     -999,9,     -999,9,     -999,9,     -999,9,    0.061,1,    4.677,1,    0.129,1,  19.1400,2,     -999,9,20180323,1950, -67.4989,-169.9984,     -999,9,     -999,9,-999          ,9,     -999,9,     -999,9,     -999,     -999,9,     -999,     -999,9,     -999,9,     -999,9,     -999,9,     -999,9,     -999,9,     -999,9,     -999,9,     -999,9,     -999,9,     -999,9,     -999,9,     -999,9,     -999,9
320620180309  ,P15        ,17      ,  1,2          ,2          ,2,20180323,1934, -67.4991,-169.9981,     4241,   4039.5,0.2511638888888888532,34.684178374876204,2,  34.6829,2,223.41578958142571,2, 222.1993,2,    222.4,2,    120.7,2,    32.36,2,     0.00,2,     2.22,2,    1.095,2,    0.593,2,   0.5900,2,   2261.6,2,  2358.75,2,   7.5893,6,    24.94,     -999,9,     -999,9,   0.2506,2,     -999,9,     -999,9,     -999,     -999,9,     -999,9,     -999,9,     -999,9,    0.061,1,    4.676,1,    0.130,1,  18.9000,2,     -999,9,20180323,1942, -67.4990,-169.9982,     -999,9,     -999,9,-999          ,9,     -999,9,     -999,9,     -999,     -999,9,     -999,     -999,9,     -999,9,     -999,9,     -999,9,     -999,9,     -999,9,     -999,9,     -999,9,     -999,9,     -999,9,     -999,9,     -999,9,     -999,9,     -999,9
320620180309  ,P15        ,17      ,  1,1          ,1          ,2,20180323,1934, -67.4991,-169.9981,     4241,   4314.7,0.2738499999999999823,34.684457498343313,2,  34.6846,2,222.89183346313004,2, 222.1983,2,    222.4,2,    120.4,2,    32.38,2,     0.00,2,     2.23,2,    1.108,2,    0.595,2,   0.5400,2,   2263.1,6,  2359.17,2,   7.5876,2,    24.94,     -999,9,     -999,9,   0.2732,2,     -999,9,     -999,9,     -999,     -999,9,     -999,9,     -999,9,     -999,9,    0.061,1,    4.675,1,    0.132,1,  19.2800,2,     -999,9,20180323,1934, -67.4991,-169.9981,     -999,9,     -999,9,-999          ,9,     -999,9,     -999,9,     -999,     -999,9,     -999,     -999,9,     -999,9,     -999,9,     -999,9,     -999,9,     -999,9,     -999,9,     -999,9,     -999,9,     -999,9,     -999,9,     -999,9,     -999,9,     -999,9