BOTTLE,20240515CCHHYDRO
EXPOCODE,SECT_ID,STNNBR,CASTNO,SAMPNO,BTLNBR,BTLNBR_FLAG_W,DATE,TIME,LATITUDE,LONGITUDE,DEPTH,CTDPRS,CTDTMP,CTDSAL,CTDSAL_FLAG_W,SALNTY,SALNTY_FLAG_W,CTDOXY,CTDOXY_FLAG_W,CTDOPTOXY,CTDOPTOXY_FLAG_W,OXYGEN,OXYGEN_FLAG_W,SILCAT,SILCAT_FLAG_W,NITRAT,NITRAT_FLAG_W,NITRIT,NITRIT_FLAG_W,PHSPHT,PHSPHT_FLAG_W,CFC-11,CFC-11_FLAG_W,CFC-12,CFC-12_FLAG_W,SF6,SF6_FLAG_W,TCARBN,TCARBN_FLAG_W,ALKALI,ALKALI_FLAG_W,PH_TOT,PH_TOT_FLAG_W,PH_TMP,DOC,DOC_FLAG_W,HELIUM,HELIUM_FLAG_W,REFTMP,REFTMP_FLAG_W,DELC13,DELC13_FLAG_W,DELC14,DELC14_FLAG_W,C14ERR,POC,POC_FLAG_W,TDN,TDN_FLAG_W,TON,TON_FLAG_W,NEON,NEON_FLAG_W,CTDFLUOR,CTDFLUOR_FLAG_W,CTDXMISS,CTDXMISS_FLAG_W,CTDBETA700,CTDBETA700_FLAG_W,N2O,N2O_FLAG_W,ARGON,ARGON_FLAG_W,BTL_DATE,BTL_TIME,BTL_LAT,BTL_LON,KRYPTON,KRYPTON_FLAG_W,XENON,XENON_FLAG_W,HPLC,HPLC_FLAG_W,HE3_HE4_RATIO,HE3_HE4_RATIO_FLAG_W,Nd_143_144_D_EPSILON_BOTTLE,Nd_143_144_D_EPSILON_BOTTLE_FLAG_W,Nd_143_144_D_EPSILON_BOTTLE_ERROR,Nd_143_144_D_RATIO_BOTTLE,Nd_143_144_D_RATIO_BOTTLE_FLAG_W,Nd_143_144_D_RATIO_BOTTLE_ERROR,Nd_D_CONC,Nd_D_CONC_FLAG_W,La_D_CONC_BOTTLE,La_D_CONC_BOTTLE_FLAG_W,Ce_D_CONC_BOTTLE,Ce_D_CONC_BOTTLE_FLAG_W,Pr_D_CONC_BOTTLE,Pr_D_CONC_BOTTLE_FLAG_W,Sm_D_CONC_BOTTLE,Sm_D_CONC_BOTTLE_FLAG_W,Eu_D_CONC_BOTTLE,Eu_D_CONC_BOTTLE_FLAG_W,Gd_D_CONC_BOTTLE,Gd_D_CONC_BOTTLE_FLAG_W,Tb_D_CONC_BOTTLE,Tb_D_CONC_BOTTLE_FLAG_W,Dy_D_CONC_BOTTLE,Dy_D_CONC_BOTTLE_FLAG_W,Ho_D_CONC_BOTTLE,Ho_D_CONC_BOTTLE_FLAG_W,Er_D_CONC_BOTTLE,Er_D_CONC_BOTTLE_FLAG_W,Tm_D_CONC_BOTTLE,Tm_D_CONC_BOTTLE_FLAG_W,Yb_D_CONC_BOTTLE,Yb_D_CONC_BOTTLE_FLAG_W,Lu_D_CONC_BOTTLE,Lu_D_CONC_BOTTLE_FLAG_W
,,,,,,,,,,,METERS,DBAR,ITS-90,PSS-78,,PSS-78,,UMOL/KG,,UMOL/KG,,UMOL/KG,,UMOL/KG,,UMOL/KG,,UMOL/KG,,UMOL/KG,,PMOL/KG,,PMOL/KG,,FMOL/KG,,UMOL/KG,,UMOL/KG,,,,DEG C,UMOL/KG,,NMOL/L,,DEG C,,/MILLE,,/MILLE,,/MILLE,UG/KG,,UMOL/KG,,UMOL/KG,,NMOL/L,,VOLTS,,VOLTS,,VOLTS,,NMOL/KG,,UMOL/L,,,,,,NMOL/L,,NMOL/L,,,,,,10000,,10000,,,,PMOL/KG,,PMOL/L,,PMOL/L,,PMOL/L,,PMOL/L,,PMOL/L,,PMOL/L,,PMOL/L,,PMOL/L,,PMOL/L,,PMOL/L,,PMOL/L,,PMOL/L,,PMOL/L,
320620180309  ,S04P       ,80      ,  1,36         ,36         ,2,20180421,0912, -67.0004,-133.0010,     4582,      7.9,-1.5415972222222222854,33.651066807023717,2,  33.6483,2,355.18515497179106,2, 352.9979,2,    353.2,2,     28.3,2,    24.95,2,     0.27,2,     1.71,2,    6.225,2,    3.328,2,   3.7700,2,   2159.5,6,  2276.81,2,   7.6627,2,    24.89,     48.0,2,     -999,9,  -1.5428,2,     -999,9,     -999,9,     -999,     -999,9,    27.10,2,     -999,1,     -999,9,    0.354,1,    4.532,1,    0.252,1,  17.3400,2,     -999,9,20180421,1128, -67.0010,-133.0072,     -999,9,     -999,9,-999          ,9,     -999,9,     -999,9,     -999,     -999,9,     -999,     -999,9,     -999,9,     -999,9,     -999,9,     -999,9,     -999,9,     -999,9,     -999,9,     -999,9,     -999,9,     -999,9,     -999,9,     -999,9,     -999,9
320620180309  ,S04P       ,80      ,  1,35         ,35         ,2,20180421,0912, -67.0004,-133.0010,     4582,     34.8,-1.5457833333333335091,33.651853370187887,2,  33.6499,2,354.65906090938455,2, 352.9999,2,    353.1,2,     28.6,2,    24.98,2,     0.27,2,     1.71,2,    6.165,2,    3.288,2,   4.2200,2,   2155.7,2,  2276.32,2,   7.6633,2,    24.89,     45.9,2,     -999,9,  -1.5458,2,     -999,9,     -999,9,     -999,     -999,9,    27.70,2,     -999,1,     -999,9,    0.329,1,    4.535,1,    0.287,1,  17.4100,2,     -999,9,20180421,1126, -67.0010,-133.0069,     -999,9,     -999,9,-999          ,9,     -999,9,     -999,9,     -999,     -999,9,     -999,     -999,9,     -999,9,     -999,9,     -999,9,     -999,9,     -999,9,     -999,9,     -999,9,     -999,9,     -999,9,     -999,9,     -999,9,     -999,9,     -999,9
320620180309  ,S04P       ,80      ,  1,34         ,34         ,2,20180421,0912, -67.0004,-133.0010,     4582,     60.0,-1.5474361111111110123,33.652376329588868,2,  33.6493,2,353.29186346620406,2, 353.0071,2,    353.3,2,     28.6,2,    25.00,2,     0.27,2,     1.72,2,     -999,9,     -999,9,     -999,9,   2159.2,2,  2278.07,2,   7.6621,2,    24.88,     46.0,2,     -999,9,  -1.5479,2,     -999,9,     -999,9,     -999,     -999,9,    27.60,2,     -999,1,     -999,9,    0.376,1,    4.532,1,    0.280,1,     -999,9,     -999,9,20180421,1124, -67.0010,-133.0068,     -999,9,     -999,9,-999          ,9,     -999,9,     -999,9,     -999,     -999,9,     -999,     -999,9,     -999,9,     -999,9,     -999,9,     -999,9,     -999,9,     -999,9,     -999,9,     -999,9,     -999,9,     -999,9,     -999,9,     -999,9,     -999,9
320620180309  ,S04P       ,80      ,  1,33         ,33         ,2,20180421,0912, -67.0004,-133.0010,     4582,     84.5,-1.5438944444444442361,33.653623604976246,2,  33.6559,2,353.92746632387025,2, 352.9986,2,    352.3,2,     28.8,2,    25.04,2,     0.27,2,     1.72,2,    6.203,2,    3.327,2,   4.0200,2,   2160.2,2,  2277.07,2,   7.6634,2,    24.88,     47.4,2,     -999,9,  -1.5430,2,     -999,9,     -999,9,     -999,     -999,9,    27.20,2,     -999,1,     -999,9,    0.348,1,    4.534,1,    0.309,1,  17.3600,2,     -999,9,20180421,1122, -67.0010,-133.0066,     -999,9,     -999,9,-999          ,9,     -999,9,     -999,9,     -999,     -999,9,     -999,     -999,9,     -999,9,     -999,9,     -999,9,     -999,9,     -999,9,     -999,9,     -999,9,     -999,9,     -999,9,     -999,9,     -999,9,     -999,9,     -999,9
320620180309  ,S04P       ,80      ,  1,32         ,32         ,2,20180421,0912, -67.0004,-133.0010,     4582,    115.6,-0.9297388888888890035,34.026800332157087,2,  34.0197,2,319.77237396291213,2, 313.9004,3,    318.3,2,     46.4,2,    29.58,2,     0.12,2,     2.03,2,    5.329,2,    2.885,2,   3.3900,2,   2194.4,2,  2298.60,2,   7.6151,2,    24.89,     46.0,2,     -999,9,  -0.9399,2,     -999,9,     -999,9,     -999,     -999,9,     -999,9,     -999,1,     -999,9,    0.074,1,    4.638,1,    0.161,1,  18.6900,2,     -999,9,20180421,1120, -67.0010,-133.0064,     -999,9,     -999,9,-999          ,9,     -999,9,     -999,9,     -999,     -999,9,     -999,     -999,9,     -999,9,     -999,9,     -999,9,     -999,9,     -999,9,     -999,9,     -999,9,     -999,9,     -999,9,     -999,9,     -999,9,     -999,9,     -999,9
320620180309  ,S04P       ,80      ,  1,31         ,31         ,2,20180421,0912, -67.0004,-133.0010,     4582,    164.7,1.1995416666666669503,34.403002964214039,2,  34.4072,2,228.04824393791569,3, 224.1025,3,    219.3,2,     68.3,2,    34.15,2,     0.02,2,     2.32,2,     -999,9,     -999,9,     -999,9,   2240.0,2,  2323.04,2,   7.5521,2,    24.89,     43.9,2,     -999,9,   1.2032,2,     -999,9,     -999,9,     -999,     -999,9,    35.70,2,     -999,1,     -999,9,    0.075,1,    4.644,1,    0.151,1,     -999,9,     -999,9,20180421,1118, -67.0010,-133.0062,     -999,9,     -999,9,-999          ,9,     -999,9,     -999,9,     -999,     -999,9,     -999,     -999,9,     -999,9,     -999,9,     -999,9,     -999,9,     -999,9,     -999,9,     -999,9,     -999,9,     -999,9,     -999,9,     -999,9,     -999,9,     -999,9
320620180309  ,S04P       ,80      ,  1,30         ,30         ,2,20180421,0912, -67.0004,-133.0010,     4582,    216.8,1.6310277777777777430,34.512469632480808,2,  34.5117,2,201.09820223353495,3, 199.3996,3,    198.0,2,     74.6,2,    34.36,2,     0.02,2,     2.32,2,    1.615,6,    0.858,6,   0.8400,6,   2248.6,2,  2331.63,2,   7.5455,2,    24.89,     41.3,2,     -999,9,   1.6302,2,     -999,9,     -999,9,     -999,     -999,9,    36.70,2,     -999,1,     -999,9,    0.073,1,    4.646,1,    0.151,1,  24.4100,6,     -999,9,20180421,1115, -67.0010,-133.0061,     -999,9,     -999,9,-999          ,9,     -999,9,     -999,9,     -999,     -999,9,     -999,     -999,9,     -999,9,     -999,9,     -999,9,     -999,9,     -999,9,     -999,9,     -999,9,     -999,9,     -999,9,     -999,9,     -999,9,     -999,9,     -999,9
320620180309  ,S04P       ,80      ,  1,29         ,29         ,2,20180421,0912, -67.0004,-133.0010,     4582,    267.0,1.7938444444444445747,34.570831486815379,2,  34.5697,2,190.64471020957569,3, 188.8948,3,    187.5,2,     77.5,2,    34.09,2,     0.00,2,     2.30,2,    1.164,2,    0.619,2,   0.4900,2,   2251.6,2,  2336.42,2,   7.5543,2,    24.89,     43.6,2,     -999,9,   1.7919,2,     -999,9,     -999,9,     -999,     -999,9,     -999,9,     -999,1,     -999,9,    0.075,1,    4.644,1,    0.152,1,  23.8500,2,     -999,9,20180421,1110, -67.0010,-133.0058,     -999,9,     -999,9,-999          ,9,     -999,9,     -999,9,     -999,     -999,9,     -999,     -999,9,     -999,9,     -999,9,     -999,9,     -999,9,     -999,9,     -999,9,     -999,9,     -999,9,     -999,9,     -999,9,     -999,9,     -999,9,     -999,9
320620180309  ,S04P       ,80      ,  1,28         ,28         ,2,20180421,0912, -67.0004,-133.0010,     4582,    317.0,1.8641499999999997517,34.604609619982433,2,  34.6034,2,186.16672777580487,3, 184.7990,2,    184.1,2,     79.3,2,    33.76,2,     0.00,2,     2.29,2,     -999,9,     -999,9,     -999,9,   2253.5,2,  2338.86,2,   7.5487,2,    24.90,     42.7,2,     -999,9,   1.8644,2,     -999,9,     -999,9,     -999,     -999,9,     -999,9,     -999,1,     -999,9,    0.069,1,    4.651,1,    0.148,1,     -999,9,     -999,9,20180421,1107, -67.0010,-133.0057,     -999,9,     -999,9,-999          ,9,     -999,9,     -999,9,     -999,     -999,9,     -999,     -999,9,     -999,9,     -999,9,     -999,9,     -999,9,     -999,9,     -999,9,     -999,9,     -999,9,     -999,9,     -999,9,     -999,9,     -999,9,     -999,9
320620180309  ,S04P       ,80      ,  1,27         ,27         ,2,20180421,0912, -67.0004,-133.0010,     4582,    368.5,1.9272527777777779256,34.636256174684739,2,  34.6358,2,183.45083666696218,2, 182.0033,2,    181.7,2,     81.0,2,    33.40,2,     0.00,2,     2.26,2,    0.715,2,    0.383,2,   0.4600,2,   2254.2,2,  2341.35,2,   7.5591,2,    24.89,     41.6,2,     -999,9,   1.9264,2,     -999,9,     -999,9,     -999,     -999,9,     -999,9,     -999,1,     -999,9,    0.069,1,    4.649,1,    0.154,1,  22.9300,2,     -999,9,20180421,1105, -67.0010,-133.0056,     -999,9,     -999,9,-999          ,9,     -999,9,     -999,9,     -999,     -999,9,     -999,     -999,9,     -999,9,     -999,9,     -999,9,     -999,9,     -999,9,     -999,9,     -999,9,     -999,9,     -999,9,     -999,9,     -999,9,     -999,9,     -999,9
320620180309  ,S04P       ,80      ,  1,26         ,38         ,2,20180421,0912, -67.0004,-133.0010,     4582,    418.5,1.9646749999999997272,34.661891931244568,2,  34.6607,2,182.38133456060544,3, 180.3931,2,    180.0,2,     82.6,2,    33.07,2,     0.00,2,     2.25,2,    0.554,2,    0.296,2,   0.1600,2,   2255.6,6,  2344.56,2,   7.5620,6,    24.89,     -999,9,     -999,9,   1.9637,2,     -999,9,     -999,9,     -999,     -999,9,     -999,9,     -999,9,     -999,9,    0.067,1,    4.648,1,    0.143,1,  22.5300,2,     -999,9,20180421,1102, -67.0010,-133.0055,     -999,9,     -999,9,-999          ,9,     -999,9,     -999,9,     -999,     -999,9,     -999,     -999,9,     -999,9,     -999,9,     -999,9,     -999,9,     -999,9,     -999,9,     -999,9,     -999,9,     -999,9,     -999,9,     -999,9,     -999,9,     -999,9
320620180309  ,S04P       ,80      ,  1,25         ,25         ,2,20180421,0912, -67.0004,-133.0010,     4582,    469.0,1.9770694444444447679,34.681454534730200,2,  34.6803,2,182.19913702906942,3, 180.2972,2,    179.9,2,     84.2,2,    32.80,2,     0.00,2,     2.23,2,     -999,9,     -999,9,     -999,9,   2256.4,2,  2345.80,2,   7.5669,2,    24.89,     44.3,2,     -999,9,   1.9758,2,     -999,9,     -999,9,     -999,     -999,9,     -999,9,     -999,1,     -999,9,    0.065,1,    4.652,1,    0.143,1,     -999,9,     -999,9,20180421,1100, -67.0010,-133.0054,     -999,9,     -999,9,-999          ,9,     -999,9,     -999,9,     -999,     -999,9,     -999,     -999,9,     -999,9,     -999,9,     -999,9,     -999,9,     -999,9,     -999,9,     -999,9,     -999,9,     -999,9,     -999,9,     -999,9,     -999,9,     -999,9
320620180309  ,S04P       ,80      ,  1,24         ,24         ,2,20180421,0912, -67.0004,-133.0010,     4582,    540.7,1.9387361111111109935,34.698257055840777,2,  34.6980,2,183.82644185549100,3, 181.5002,2,    181.4,2,     85.9,2,    32.42,2,     0.00,2,     2.19,2,    0.363,2,    0.199,2,   0.1900,2,   2256.7,2,  2348.18,2,   7.5758,2,    24.87,     43.6,2,     -999,9,   1.9388,2,     -999,9,     -999,9,     -999,     -999,9,     -999,9,     -999,1,     -999,9,    0.064,1,    4.650,1,    0.143,1,  22.2400,2,     -999,9,20180421,1056, -67.0010,-133.0053,     -999,9,     -999,9,-999          ,9,     -999,9,     -999,9,     -999,     -999,9,     -999,     -999,9,     -999,9,     -999,9,     -999,9,     -999,9,     -999,9,     -999,9,     -999,9,     -999,9,     -999,9,     -999,9,     -999,9,     -999,9,     -999,9
320620180309  ,S04P       ,80      ,  1,23         ,23         ,2,20180421,0912, -67.0004,-133.0010,     4582,    641.5,1.8633472222222222658,34.715975288034386,2,  34.7153,2,186.37369635009722,2, 184.6016,2,    185.2,2,     88.3,2,    31.98,2,     0.00,2,     2.18,2,    0.291,2,    0.157,2,   0.0900,2,   2254.7,2,  2350.27,2,   7.5841,2,    24.97,     43.0,2,     -999,9,   1.8622,2,     -999,9,     -999,9,     -999,     -999,9,     -999,9,     -999,1,     -999,9,    0.063,1,    4.653,1,    0.137,1,  21.6000,2,     -999,9,20180421,1049, -67.0010,-133.0049,     -999,9,     -999,9,-999          ,9,     -999,9,     -999,9,     -999,     -999,9,     -999,     -999,9,     -999,9,     -999,9,     -999,9,     -999,9,     -999,9,     -999,9,     -999,9,     -999,9,     -999,9,     -999,9,     -999,9,     -999,9,     -999,9
320620180309  ,S04P       ,80      ,  1,22         ,37         ,2,20180421,0912, -67.0004,-133.0010,     4582,    742.8,1.7760833333333332362,34.725797229999721,2,  34.7255,2,189.00039525271433,2, 188.1979,2,    188.5,2,     90.9,2,    31.70,2,     0.00,2,     2.17,2,     -999,9,     -999,9,     -999,9,   2253.0,2,  2352.93,2,   7.5913,2,    24.89,     42.1,2,     -999,9,   1.7767,2,     -999,9,     -999,9,     -999,     -999,9,     -999,9,     -999,1,     -999,9,    0.063,1,    4.656,1,    0.136,1,     -999,9,     -999,9,20180421,1046, -67.0009,-133.0048,     -999,9,     -999,9,-999          ,9,     -999,9,     -999,9,     -999,     -999,9,     -999,     -999,9,     -999,9,     -999,9,     -999,9,     -999,9,     -999,9,     -999,9,     -999,9,     -999,9,     -999,9,     -999,9,     -999,9,     -999,9,     -999,9
320620180309  ,S04P       ,80      ,  1,21         ,21         ,2,20180421,0912, -67.0004,-133.0010,     4582,    844.1,1.6811749999999996419,34.729955771701810,2,  34.7298,2,191.35134438981450,2, 189.8013,2,    189.8,2,     93.6,2,    31.57,2,     0.00,2,     2.16,2,    0.226,2,    0.124,2,   0.0000,2,   2254.9,2,  2354.34,2,   7.5927,2,    24.88,     41.5,2,     -999,9,   1.6802,2,     -999,9,     -999,9,     -999,     -999,9,     -999,9,     -999,1,     -999,9,    0.065,1,    4.657,1,    0.138,1,  20.8200,2,     -999,9,20180421,1043, -67.0009,-133.0047,     -999,9,     -999,9,-999          ,9,     -999,9,     -999,9,     -999,     -999,9,     -999,     -999,9,     -999,9,     -999,9,     -999,9,     -999,9,     -999,9,     -999,9,     -999,9,     -999,9,     -999,9,     -999,9,     -999,9,     -999,9,     -999,9
320620180309  ,S04P       ,80      ,  1,20         ,20         ,2,20180421,0912, -67.0004,-133.0010,     4582,    945.7,1.5969999999999997531,34.731633989828993,2,  34.7317,2,192.93882148342266,2, 192.1003,2,    191.6,2,     96.3,2,    31.57,2,     0.00,2,     2.15,2,    0.206,2,    0.113,2,   0.1200,2,   2257.6,2,  2355.73,2,   7.5934,2,    24.88,     39.7,2,     -999,9,   1.5971,2,     -999,9,     -999,9,     -999,     -999,9,     -999,9,     -999,1,     -999,9,    0.062,1,    4.657,1,    0.131,1,  20.6400,2,     -999,9,20180421,1040, -67.0009,-133.0046,     -999,9,     -999,9,-999          ,9,     -999,9,     -999,9,     -999,     -999,9,     -999,     -999,9,     -999,9,     -999,9,     -999,9,     -999,9,     -999,9,     -999,9,     -999,9,     -999,9,     -999,9,     -999,9,     -999,9,     -999,9,     -999,9
320620180309  ,S04P       ,80      ,  1,19         ,19         ,2,20180421,0912, -67.0004,-133.0010,     4582,   1047.9,1.5014666666666667272,34.731899211437806,2,  34.7319,2,192.41266284583344,2, 193.3024,2,    192.7,2,     99.2,2,    31.63,2,     0.00,2,     2.15,2,     -999,9,     -999,9,     -999,9,   2257.2,2,  2357.82,2,   7.5951,2,    24.88,     44.8,2,     -999,9,   1.5018,2,     -999,9,     -999,9,     -999,     -999,9,     -999,9,     -999,1,     -999,9,    0.062,1,    4.658,1,    0.131,1,     -999,9,     -999,9,20180421,1037, -67.0009,-133.0044,     -999,9,     -999,9,-999          ,9,     -999,9,     -999,9,     -999,     -999,9,     -999,     -999,9,     -999,9,     -999,9,     -999,9,     -999,9,     -999,9,     -999,9,     -999,9,     -999,9,     -999,9,     -999,9,     -999,9,     -999,9,     -999,9
320620180309  ,S04P       ,80      ,  1,18         ,18         ,2,20180421,0912, -67.0004,-133.0010,     4582,   1148.3,1.4259749999999999925,34.731000935966449,2,  34.7308,2,193.47393925688769,2, 193.9994,2,    194.2,2,    101.8,2,    31.69,2,     0.00,2,     2.18,2,    0.179,2,    0.088,2,   0.0300,2,   2262.2,2,  2358.11,2,   7.5953,2,    24.89,     40.3,2,     -999,9,   1.4250,2,     -999,9,     -999,9,     -999,     -999,9,     -999,9,     -999,1,     -999,9,    0.062,1,    4.656,1,    0.130,1,  20.5100,2,     -999,9,20180421,1034, -67.0009,-133.0043,     -999,9,     -999,9,-999          ,9,     -999,9,     -999,9,     -999,     -999,9,     -999,     -999,9,     -999,9,     -999,9,     -999,9,     -999,9,     -999,9,     -999,9,     -999,9,     -999,9,     -999,9,     -999,9,     -999,9,     -999,9,     -999,9
320620180309  ,S04P       ,80      ,  1,17         ,17         ,2,20180421,0912, -67.0004,-133.0010,     4582,   1250.2,1.3442000000000000615,34.729362110542382,2,  34.7292,2,194.91572214411519,2, 194.9952,2,    194.5,2,    104.4,2,    31.77,2,     0.00,2,     2.19,2,     -999,9,     -999,9,     -999,9,   2260.1,2,  2359.94,2,   7.5949,2,    24.88,     45.3,2,     -999,9,   1.3438,2,     -999,9,     -999,9,     -999,     -999,9,     -999,9,     -999,1,     -999,9,    0.062,1,    4.656,1,    0.130,1,     -999,9,     -999,9,20180421,1031, -67.0009,-133.0042,     -999,9,     -999,9,-999          ,9,     -999,9,     -999,9,     -999,     -999,9,     -999,     -999,9,     -999,9,     -999,9,     -999,9,     -999,9,     -999,9,     -999,9,     -999,9,     -999,9,     -999,9,     -999,9,     -999,9,     -999,9,     -999,9
320620180309  ,S04P       ,80      ,  1,16         ,16         ,2,20180421,0912, -67.0004,-133.0010,     4582,   1352.4,1.2728666666666665908,34.727194538314791,2,  34.7274,2,196.35531074644254,2, 196.1041,2,    195.9,2,    107.0,2,    31.86,2,     0.00,2,     2.21,2,    0.157,2,    0.081,2,   0.0200,2,   2261.5,2,  2360.44,2,   7.5954,2,    24.89,     -999,9,     -999,9,   1.2704,2,     -999,9,     -999,9,     -999,     -999,9,     -999,9,     -999,9,     -999,9,    0.062,1,    4.657,1,    0.130,1,  21.1600,2,     -999,9,20180421,1028, -67.0009,-133.0040,     -999,9,     -999,9,-999          ,9,     -999,9,     -999,9,     -999,     -999,9,     -999,     -999,9,     -999,9,     -999,9,     -999,9,     -999,9,     -999,9,     -999,9,     -999,9,     -999,9,     -999,9,     -999,9,     -999,9,     -999,9,     -999,9