BOTTLE,20240515CCHHYDRO
EXPOCODE,SECT_ID,STNNBR,CASTNO,SAMPNO,BTLNBR,BTLNBR_FLAG_W,DATE,TIME,LATITUDE,LONGITUDE,DEPTH,CTDPRS,CTDTMP,CTDSAL,CTDSAL_FLAG_W,SALNTY,SALNTY_FLAG_W,CTDOXY,CTDOXY_FLAG_W,CTDOPTOXY,CTDOPTOXY_FLAG_W,OXYGEN,OXYGEN_FLAG_W,SILCAT,SILCAT_FLAG_W,NITRAT,NITRAT_FLAG_W,NITRIT,NITRIT_FLAG_W,PHSPHT,PHSPHT_FLAG_W,CFC-11,CFC-11_FLAG_W,CFC-12,CFC-12_FLAG_W,SF6,SF6_FLAG_W,TCARBN,TCARBN_FLAG_W,ALKALI,ALKALI_FLAG_W,PH_TOT,PH_TOT_FLAG_W,PH_TMP,DOC,DOC_FLAG_W,HELIUM,HELIUM_FLAG_W,REFTMP,REFTMP_FLAG_W,DELC13,DELC13_FLAG_W,DELC14,DELC14_FLAG_W,C14ERR,POC,POC_FLAG_W,TDN,TDN_FLAG_W,TON,TON_FLAG_W,NEON,NEON_FLAG_W,CTDFLUOR,CTDFLUOR_FLAG_W,CTDXMISS,CTDXMISS_FLAG_W,CTDBETA700,CTDBETA700_FLAG_W,N2O,N2O_FLAG_W,ARGON,ARGON_FLAG_W,BTL_DATE,BTL_TIME,BTL_LAT,BTL_LON,KRYPTON,KRYPTON_FLAG_W,XENON,XENON_FLAG_W,HPLC,HPLC_FLAG_W,HE3_HE4_RATIO,HE3_HE4_RATIO_FLAG_W,Nd_143_144_D_EPSILON_BOTTLE,Nd_143_144_D_EPSILON_BOTTLE_FLAG_W,Nd_143_144_D_EPSILON_BOTTLE_ERROR,Nd_143_144_D_RATIO_BOTTLE,Nd_143_144_D_RATIO_BOTTLE_FLAG_W,Nd_143_144_D_RATIO_BOTTLE_ERROR,Nd_D_CONC,Nd_D_CONC_FLAG_W,La_D_CONC_BOTTLE,La_D_CONC_BOTTLE_FLAG_W,Ce_D_CONC_BOTTLE,Ce_D_CONC_BOTTLE_FLAG_W,Pr_D_CONC_BOTTLE,Pr_D_CONC_BOTTLE_FLAG_W,Sm_D_CONC_BOTTLE,Sm_D_CONC_BOTTLE_FLAG_W,Eu_D_CONC_BOTTLE,Eu_D_CONC_BOTTLE_FLAG_W,Gd_D_CONC_BOTTLE,Gd_D_CONC_BOTTLE_FLAG_W,Tb_D_CONC_BOTTLE,Tb_D_CONC_BOTTLE_FLAG_W,Dy_D_CONC_BOTTLE,Dy_D_CONC_BOTTLE_FLAG_W,Ho_D_CONC_BOTTLE,Ho_D_CONC_BOTTLE_FLAG_W,Er_D_CONC_BOTTLE,Er_D_CONC_BOTTLE_FLAG_W,Tm_D_CONC_BOTTLE,Tm_D_CONC_BOTTLE_FLAG_W,Yb_D_CONC_BOTTLE,Yb_D_CONC_BOTTLE_FLAG_W,Lu_D_CONC_BOTTLE,Lu_D_CONC_BOTTLE_FLAG_W
,,,,,,,,,,,METERS,DBAR,ITS-90,PSS-78,,PSS-78,,UMOL/KG,,UMOL/KG,,UMOL/KG,,UMOL/KG,,UMOL/KG,,UMOL/KG,,UMOL/KG,,PMOL/KG,,PMOL/KG,,FMOL/KG,,UMOL/KG,,UMOL/KG,,,,DEG C,UMOL/KG,,NMOL/L,,DEG C,,/MILLE,,/MILLE,,/MILLE,UG/KG,,UMOL/KG,,UMOL/KG,,NMOL/L,,VOLTS,,VOLTS,,VOLTS,,NMOL/KG,,UMOL/L,,,,,,NMOL/L,,NMOL/L,,,,,,10000,,10000,,,,PMOL/KG,,PMOL/L,,PMOL/L,,PMOL/L,,PMOL/L,,PMOL/L,,PMOL/L,,PMOL/L,,PMOL/L,,PMOL/L,,PMOL/L,,PMOL/L,,PMOL/L,,PMOL/L,
320620180309  ,S04P       ,61      ,  1,36         ,36         ,2,20180412,1959, -67.0005,-159.2660,     4283,      9.8,-1.3900555555555558218,34.014248196792359,2,  34.0101,2,348.05389324326973,2, 347.8986,2,    348.1,2,     58.1,2,    26.85,2,     0.21,2,     1.88,2,    5.796,2,    3.223,2,   3.9500,2,   2190.2,6,  2303.78,2,   7.6441,2,    24.92,     -999,9,     -999,9,  -1.3898,2,     -999,9,     -999,9,     -999,     -999,9,     -999,9,     -999,9,     -999,9,    0.148,1,    4.623,1,    0.164,1,  16.9300,2,     -999,9,20180412,2201, -66.9995,-159.2655,     -999,9,     -999,9,-999          ,9,     -999,9,     -999,9,     -999,     -999,9,     -999,     -999,9,     -999,1,     -999,1,     -999,1,     -999,1,     -999,1,     -999,1,     -999,1,     -999,1,     -999,1,     -999,1,     -999,1,     -999,1,     -999,1
320620180309  ,S04P       ,61      ,  1,35         ,35         ,2,20180412,1959, -67.0005,-159.2660,     4283,     23.9,-1.3919527777777775945,34.013771655189018,2,  34.0095,2,348.81927040360972,2, 347.8974,2,    348.0,2,     58.1,2,    26.81,2,     0.21,2,     1.87,2,     -999,9,     -999,9,     -999,9,   2189.6,2,  2302.32,2,   7.6442,6,    24.90,     -999,9,     -999,1,  -1.3927,2,     -999,9,     -999,9,     -999,     -999,9,     -999,9,     -999,9,     -999,1,    0.151,1,    4.623,1,    0.171,1,     -999,9,     -999,1,20180412,2159, -66.9995,-159.2654,     -999,1,     -999,1,-999          ,9,     -999,1,     -999,9,     -999,     -999,9,     -999,     -999,9,     -999,1,     -999,1,     -999,1,     -999,1,     -999,1,     -999,1,     -999,1,     -999,1,     -999,1,     -999,1,     -999,1,     -999,1,     -999,1
320620180309  ,S04P       ,61      ,  1,34         ,34         ,2,20180412,1959, -67.0005,-159.2660,     4283,     50.9,-1.3856722222222224161,34.015262563758796,2,  34.0107,2,350.33610341042640,2, 347.9016,2,    348.0,2,     57.9,2,    26.81,2,     0.21,2,     1.88,2,     -999,9,     -999,9,     -999,9,   2189.5,2,  2303.96,2,   7.6464,2,    24.91,     -999,9,     -999,9,  -1.3861,2,     -999,9,     -999,9,     -999,     -999,9,     -999,9,     -999,9,     -999,9,    0.149,1,    4.624,1,    0.168,1,     -999,9,     -999,9,20180412,2157, -66.9996,-159.2654,     -999,9,     -999,9,-999          ,9,     -999,9,     -999,9,     -999,     -999,9,     -999,     -999,9,     -999,9,     -999,9,     -999,9,     -999,9,     -999,9,     -999,9,     -999,9,     -999,9,     -999,9,     -999,9,     -999,9,     -999,9,     -999,9
320620180309  ,S04P       ,61      ,  1,33         ,33         ,2,20180412,1959, -67.0005,-159.2660,     4283,     75.7,-1.3648444444444445267,34.022840972960736,2,  34.0416,2,345.01112100119110,3, 344.7962,3,    339.0,2,     58.7,2,    27.09,2,     0.21,2,     1.89,2,     -999,9,     -999,9,     -999,9,     -999,9,     -999,9,     -999,9,     -999,     -999,9,     -999,1,  -1.3651,2,     -999,9,     -999,9,     -999,     -999,9,     -999,9,     -999,9,     -999,1,    0.147,1,    4.623,1,    0.166,1,     -999,9,     -999,1,20180412,2156, -66.9997,-159.2654,     -999,1,     -999,1,-999          ,9,     -999,1,     -999,9,     -999,     -999,9,     -999,     -999,9,     -999,1,     -999,1,     -999,1,     -999,1,     -999,1,     -999,1,     -999,1,     -999,1,     -999,1,     -999,1,     -999,1,     -999,1,     -999,1
320620180309  ,S04P       ,61      ,  1,32         ,32         ,2,20180412,1959, -67.0005,-159.2660,     4283,     99.5,-0.9177166666666666250,34.353335469147247,2,  34.3502,2,262.90945019479676,2, 261.0036,2,    261.3,2,     71.3,2,    30.69,2,     0.12,2,     2.11,2,    3.410,2,    1.890,2,   2.1000,2,   2225.4,2,  2323.06,2,   7.5853,2,    24.90,     -999,9,     -999,9,  -0.8704,2,     -999,9,     -999,9,     -999,     -999,9,     -999,9,     -999,9,     -999,9,    0.110,1,    4.636,1,    0.164,1,  21.0400,2,     -999,9,20180412,2154, -66.9999,-159.2655,     -999,9,     -999,9,-999          ,9,     -999,9,     -999,9,     -999,     -999,9,     -999,     -999,9,     -999,9,     -999,9,     -999,9,     -999,9,     -999,9,     -999,9,     -999,9,     -999,9,     -999,9,     -999,9,     -999,9,     -999,9,     -999,9
320620180309  ,S04P       ,61      ,  1,31         ,31         ,2,20180412,1959, -67.0005,-159.2660,     4283,    124.1,0.1780222222222222483,34.516598212080417,2,  34.5140,2,221.70856437860229,2, 223.1025,3,    220.7,2,     83.0,2,    32.40,2,     0.02,2,     2.21,2,     -999,9,     -999,9,     -999,9,     -999,9,     -999,9,     -999,9,     -999,     -999,9,     -999,1,   0.1945,2,     -999,9,     -999,9,     -999,     -999,9,     -999,9,     -999,9,     -999,1,    0.074,1,    4.658,1,    0.144,1,     -999,9,     -999,1,20180412,2153, -67.0001,-159.2657,     -999,1,     -999,1,-999          ,9,     -999,1,     -999,9,     -999,     -999,9,     -999,     -999,9,     -999,1,     -999,1,     -999,1,     -999,1,     -999,1,     -999,1,     -999,1,     -999,1,     -999,1,     -999,1,     -999,1,     -999,1,     -999,1
320620180309  ,S04P       ,61      ,  1,30         ,30         ,2,20180412,1959, -67.0005,-159.2660,     4283,    150.9,1.1792027777777778219,34.661729104708783,2,  34.6627,2,188.07597942260301,3, 189.9020,3,    184.4,2,     92.8,2,    33.40,2,     0.00,2,     2.26,2,     -999,9,     -999,9,     -999,9,   2255.7,2,  2344.87,2,   7.5524,2,    24.89,     -999,9,     -999,9,   1.2147,2,     -999,9,     -999,9,     -999,     -999,9,     -999,9,     -999,9,     -999,9,    0.066,1,    4.661,1,    0.141,1,     -999,9,     -999,9,20180412,2151, -67.0002,-159.2659,     -999,9,     -999,9,-999          ,9,     -999,9,     -999,9,     -999,     -999,9,     -999,     -999,9,     -999,1,     -999,1,     -999,1,     -999,1,     -999,1,     -999,1,     -999,1,     -999,1,     -999,1,     -999,1,     -999,1,     -999,1,     -999,1
320620180309  ,S04P       ,61      ,  1,29         ,29         ,2,20180412,1959, -67.0005,-159.2660,     4283,    201.8,1.4727749999999999453,34.716120979668851,3,     -999,9,178.14416538587707,2, 179.8026,3,    177.9,2,     97.8,2,    33.34,2,     0.00,2,     2.26,2,    0.350,2,    0.185,2,   0.2100,2,   2262.8,6,  2349.51,2,   7.5593,2,    24.91,     -999,9,     -999,1,   1.4706,2,     -999,9,     -999,9,     -999,     -999,9,     -999,9,     -999,9,     -999,1,    0.064,1,    4.660,1,    0.145,1,  22.8100,2,     -999,1,20180412,2149, -67.0002,-159.2659,     -999,1,     -999,1,-999          ,9,     -999,1,     -999,9,     -999,     -999,9,     -999,     -999,9,     -999,1,     -999,1,     -999,1,     -999,1,     -999,1,     -999,1,     -999,1,     -999,1,     -999,1,     -999,1,     -999,1,     -999,1,     -999,1
320620180309  ,S04P       ,61      ,  1,28         ,28         ,2,20180412,1959, -67.0005,-159.2660,     4283,    252.0,1.4838861111111110169,34.727664534329065,2,  34.7249,2,180.44267842803453,2, 180.1992,2,    179.9,2,     99.7,2,    32.93,2,     0.00,2,     2.24,2,     -999,9,     -999,9,     -999,9,   2262.4,2,  2350.05,2,   7.5670,2,    24.90,     -999,9,     -999,9,   1.4824,2,     -999,9,     -999,9,     -999,     -999,9,     -999,9,     -999,9,     -999,9,    0.062,1,    4.658,1,    0.145,1,     -999,9,     -999,9,20180412,2147, -67.0003,-159.2659,     -999,9,     -999,9,-999          ,9,     -999,9,     -999,9,     -999,     -999,9,     -999,     -999,9,     -999,9,     -999,9,     -999,9,     -999,9,     -999,9,     -999,9,     -999,9,     -999,9,     -999,9,     -999,9,     -999,9,     -999,9,     -999,9
320620180309  ,S04P       ,61      ,  1,27         ,27         ,2,20180412,1959, -67.0005,-159.2660,     4283,    302.2,1.4446472222222221937,34.730204528452070,2,  34.7263,2,181.32725472646311,2, 181.9988,2,    180.5,2,    101.4,2,    32.88,2,     0.00,2,     2.24,2,     -999,9,     -999,9,     -999,9,     -999,9,     -999,9,     -999,9,     -999,     -999,9,     -999,1,   1.4438,2,     -999,9,     -999,9,     -999,     -999,9,     -999,9,     -999,9,     -999,1,    0.064,1,    4.659,1,    0.146,1,     -999,9,     -999,1,20180412,2145, -67.0003,-159.2660,     -999,1,     -999,1,-999          ,9,     -999,1,     -999,9,     -999,     -999,9,     -999,     -999,9,     -999,1,     -999,1,     -999,1,     -999,1,     -999,1,     -999,1,     -999,1,     -999,1,     -999,1,     -999,1,     -999,1,     -999,1,     -999,1
320620180309  ,S04P       ,61      ,  1,26         ,26         ,2,20180412,1959, -67.0005,-159.2660,     4283,    353.0,1.3992611111111112887,34.731548356025527,2,  34.7282,2,181.81652930614894,2, 182.7973,2,    181.3,2,    103.6,2,    32.85,2,     0.00,2,     2.24,2,    0.201,2,    0.094,2,   0.0800,2,   2260.6,3,  2354.90,2,   7.5685,2,    24.93,     -999,9,     -999,9,   1.3998,2,     -999,9,     -999,9,     -999,     -999,9,     -999,9,     -999,9,     -999,9,    0.063,1,    4.661,1,    0.144,1,  21.9300,2,     -999,9,20180412,2143, -67.0003,-159.2659,     -999,9,     -999,9,-999          ,9,     -999,9,     -999,9,     -999,     -999,9,     -999,     -999,9,     -999,9,     -999,9,     -999,9,     -999,9,     -999,9,     -999,9,     -999,9,     -999,9,     -999,9,     -999,9,     -999,9,     -999,9,     -999,9
320620180309  ,S04P       ,61      ,  1,25         ,25         ,2,20180412,1959, -67.0005,-159.2660,     4283,    403.3,1.3585083333333332067,34.731606129864566,2,  34.7286,2,182.84264931385883,2, 183.4995,2,    182.3,2,    105.2,2,    32.85,2,     0.00,2,     2.24,2,     -999,9,     -999,9,     -999,9,   2264.6,2,  2355.06,2,   7.5682,2,    24.93,     -999,9,     -999,1,   1.3583,2,     -999,9,     -999,9,     -999,     -999,9,     -999,9,     -999,9,     -999,1,    0.062,1,    4.663,1,    0.139,1,     -999,9,     -999,1,20180412,2141, -67.0002,-159.2658,     -999,1,     -999,1,-999          ,9,     -999,1,     -999,9,     -999,     -999,9,     -999,     -999,9,     -999,1,     -999,1,     -999,1,     -999,1,     -999,1,     -999,1,     -999,1,     -999,1,     -999,1,     -999,1,     -999,1,     -999,1,     -999,1
320620180309  ,S04P       ,61      ,  1,24         ,24         ,2,20180412,1959, -67.0005,-159.2660,     4283,    454.8,1.3214583333333334014,34.731439823231860,2,  34.7290,2,183.74459038375917,2, 184.0000,2,    183.2,2,    106.2,2,    32.82,2,     0.00,2,     2.24,2,     -999,9,     -999,9,     -999,9,     -999,9,     -999,9,     -999,9,     -999,     -999,9,     -999,9,   1.3205,2,     -999,9,     -999,9,     -999,     -999,9,     -999,9,     -999,9,     -999,9,    0.062,1,    4.664,1,    0.135,1,     -999,9,     -999,9,20180412,2139, -67.0001,-159.2658,     -999,9,     -999,9,-999          ,9,     -999,9,     -999,9,     -999,     -999,9,     -999,     -999,9,     -999,9,     -999,9,     -999,9,     -999,9,     -999,9,     -999,9,     -999,9,     -999,9,     -999,9,     -999,9,     -999,9,     -999,9,     -999,9
320620180309  ,S04P       ,61      ,  1,23         ,23         ,2,20180412,1959, -67.0005,-159.2660,     4283,    505.1,1.2786500000000000643,34.730697839441369,2,  34.7282,2,184.73498777650741,2, 184.7990,2,    184.7,2,    107.6,2,    32.84,2,     0.00,2,     2.24,2,    0.156,2,    0.079,2,   0.0700,2,   2266.8,2,  2356.38,2,   7.5698,2,    24.94,     -999,9,     -999,1,   1.2808,2,     -999,9,     -999,9,     -999,     -999,9,     -999,9,     -999,9,     -999,1,    0.062,1,    4.664,1,    0.137,1,  21.5200,2,     -999,1,20180412,2137, -67.0001,-159.2658,     -999,1,     -999,1,-999          ,9,     -999,1,     -999,9,     -999,     -999,9,     -999,     -999,9,     -999,1,     -999,1,     -999,1,     -999,1,     -999,1,     -999,1,     -999,1,     -999,1,     -999,1,     -999,1,     -999,1,     -999,1,     -999,1
320620180309  ,S04P       ,61      ,  1,22         ,37         ,2,20180412,1959, -67.0005,-159.2660,     4283,    608.2,1.1982305555555552434,34.728745078117505,2,  34.7263,2,187.45552175491002,2, 186.8023,2,    187.6,2,    110.0,2,    32.84,2,     0.00,2,     2.24,2,     -999,9,     -999,9,     -999,9,     -999,9,     -999,9,     -999,9,     -999,     -999,9,     -999,9,   1.1982,2,     -999,9,     -999,9,     -999,     -999,9,     -999,9,     -999,9,     -999,9,    0.062,1,    4.664,1,    0.142,1,     -999,9,     -999,9,20180412,2134, -67.0002,-159.2658,     -999,9,     -999,9,-999          ,9,     -999,9,     -999,9,     -999,     -999,9,     -999,     -999,9,     -999,9,     -999,9,     -999,9,     -999,9,     -999,9,     -999,9,     -999,9,     -999,9,     -999,9,     -999,9,     -999,9,     -999,9,     -999,9
320620180309  ,S04P       ,61      ,  1,21         ,21         ,2,20180412,1959, -67.0005,-159.2660,     4283,    706.9,1.1251777777777776102,34.726489658286830,2,  34.7235,2,189.73396767272286,2, 189.1964,2,    190.2,2,    112.4,2,    32.70,2,     0.00,2,     2.23,2,     -999,9,     -999,9,     -999,9,   2265.3,2,  2360.62,2,   7.5793,2,    24.93,     -999,9,     -999,1,   1.1250,2,     -999,9,     -999,9,     -999,     -999,9,     -999,9,     -999,9,     -999,1,    0.061,1,    4.664,1,    0.138,1,     -999,9,     -999,1,20180412,2131, -67.0001,-159.2658,     -999,1,     -999,1,-999          ,9,     -999,1,     -999,9,     -999,     -999,9,     -999,     -999,9,     -999,1,     -999,1,     -999,1,     -999,1,     -999,1,     -999,1,     -999,1,     -999,1,     -999,1,     -999,1,     -999,1,     -999,1,     -999,1
320620180309  ,S04P       ,61      ,  1,20         ,20         ,2,20180412,1959, -67.0005,-159.2660,     4283,    808.6,1.0634833333333333361,34.724117152394072,2,  34.7223,2,192.47025924180360,2, 191.4068,2,    192.5,2,    113.7,2,    32.64,2,     0.00,2,     2.22,2,    0.114,2,    0.061,2,   0.0400,2,   2263.1,2,  2358.64,2,   7.5818,2,    24.93,     -999,9,     -999,9,   1.0609,2,     -999,9,     -999,9,     -999,     -999,9,     -999,9,     -999,9,     -999,9,    0.061,1,    4.664,1,    0.138,1,  21.1900,2,     -999,9,20180412,2128, -67.0001,-159.2658,     -999,9,     -999,9,-999          ,9,     -999,9,     -999,9,     -999,     -999,9,     -999,     -999,9,     -999,9,     -999,9,     -999,9,     -999,9,     -999,9,     -999,9,     -999,9,     -999,9,     -999,9,     -999,9,     -999,9,     -999,9,     -999,9
320620180309  ,S04P       ,61      ,  1,19         ,19         ,2,20180412,1959, -67.0005,-159.2660,     4283,    910.6,1.0023666666666664060,34.721734132072918,2,  34.7198,2,195.13104135873698,2, 193.9989,2,    195.0,2,    115.4,2,    32.51,2,     0.00,2,     2.22,2,     -999,9,     -999,9,     -999,9,     -999,9,     -999,9,     -999,9,     -999,     -999,9,     -999,9,   1.0026,2,     -999,9,     -999,9,     -999,     -999,9,     -999,9,     -999,9,     -999,9,    0.061,1,    4.664,1,    0.134,1,     -999,9,     -999,9,20180412,2125, -67.0001,-159.2658,     -999,9,     -999,9,-999          ,9,     -999,9,     -999,9,     -999,     -999,9,     -999,     -999,9,     -999,1,     -999,1,     -999,1,     -999,1,     -999,1,     -999,1,     -999,1,     -999,1,     -999,1,     -999,1,     -999,1,     -999,1,     -999,1
320620180309  ,S04P       ,61      ,  1,18         ,18         ,2,20180412,1959, -67.0005,-159.2660,     4283,   1012.8,0.9463416666666666366,34.719537435068531,2,  34.7174,2,196.98323457217720,2, 196.2956,2,    196.8,2,    117.6,2,    32.55,2,     0.00,2,     2.22,2,    0.104,2,    0.053,2,   0.0300,2,   2257.8,3,  2361.68,2,   7.5901,2,    24.93,     -999,9,     -999,1,   0.9457,2,     -999,9,     -999,9,     -999,     -999,9,     -999,9,     -999,9,     -999,1,    0.061,1,    4.665,1,    0.133,1,  21.2100,2,     -999,1,20180412,2122, -67.0001,-159.2658,     -999,1,     -999,1,-999          ,9,     -999,1,     -999,9,     -999,     -999,9,     -999,     -999,9,     -999,9,     -999,9,     -999,9,     -999,9,     -999,9,     -999,9,     -999,9,     -999,9,     -999,9,     -999,9,     -999,9,     -999,9,     -999,9
320620180309  ,S04P       ,61      ,  1,17         ,17         ,2,20180412,1959, -67.0005,-159.2660,     4283,   1113.1,0.8932305555555556387,34.717229224437062,2,  34.7153,2,198.73739382922363,2, 197.8981,2,    198.2,2,    119.1,2,    32.54,2,     0.00,2,     2.25,2,     -999,9,     -999,9,     -999,9,     -999,9,     -999,9,     -999,9,     -999,     -999,9,     -999,9,   0.8926,2,     -999,9,     -999,9,     -999,     -999,9,     -999,9,     -999,9,     -999,9,    0.061,1,    4.665,1,    0.132,1,     -999,9,     -999,9,20180412,2119, -67.0000,-159.2657,     -999,9,     -999,9,-999          ,9,     -999,9,     -999,9,     -999,     -999,9,     -999,     -999,9,     -999,1,     -999,1,     -999,1,     -999,1,     -999,1,     -999,1,     -999,1,     -999,1,     -999,1,     -999,1,     -999,1,     -999,1,     -999,1
320620180309  ,S04P       ,61      ,  1,16         ,16         ,2,20180412,1959, -67.0005,-159.2660,     4283,   1214.7,0.8417277777777777414,34.715029576872432,2,  34.7133,2,199.97685965132447,2, 199.5962,2,    199.5,2,    120.6,2,    32.59,2,     0.00,2,     2.24,2,    0.105,2,    0.053,2,   0.1400,2,   2260.9,3,  2365.83,2,   7.5874,2,    24.92,     -999,9,     -999,9,   0.8409,2,     -999,9,     -999,9,     -999,     -999,9,     -999,9,     -999,9,     -999,9,    0.062,1,    4.665,1,    0.131,1,  20.4100,2,     -999,9,20180412,2116, -67.0000,-159.2657,     -999,9,     -999,9,-999          ,9,     -999,9,     -999,9,     -999,     -999,9,     -999,     -999,9,     -999,9,     -999,9,     -999,9,     -999,9,     -999,9,     -999,9,     -999,9,     -999,9,     -999,9,     -999,9,     -999,9,     -999,9,     -999,9