BOTTLE,20240515CCHHYDRO
EXPOCODE,SECT_ID,STNNBR,CASTNO,SAMPNO,BTLNBR,BTLNBR_FLAG_W,DATE,TIME,LATITUDE,LONGITUDE,DEPTH,CTDPRS,CTDTMP,CTDSAL,CTDSAL_FLAG_W,SALNTY,SALNTY_FLAG_W,CTDOXY,CTDOXY_FLAG_W,CTDOPTOXY,CTDOPTOXY_FLAG_W,OXYGEN,OXYGEN_FLAG_W,SILCAT,SILCAT_FLAG_W,NITRAT,NITRAT_FLAG_W,NITRIT,NITRIT_FLAG_W,PHSPHT,PHSPHT_FLAG_W,CFC-11,CFC-11_FLAG_W,CFC-12,CFC-12_FLAG_W,SF6,SF6_FLAG_W,TCARBN,TCARBN_FLAG_W,ALKALI,ALKALI_FLAG_W,PH_TOT,PH_TOT_FLAG_W,PH_TMP,DOC,DOC_FLAG_W,HELIUM,HELIUM_FLAG_W,REFTMP,REFTMP_FLAG_W,DELC13,DELC13_FLAG_W,DELC14,DELC14_FLAG_W,C14ERR,POC,POC_FLAG_W,TDN,TDN_FLAG_W,TON,TON_FLAG_W,NEON,NEON_FLAG_W,CTDFLUOR,CTDFLUOR_FLAG_W,CTDXMISS,CTDXMISS_FLAG_W,CTDBETA700,CTDBETA700_FLAG_W,N2O,N2O_FLAG_W,ARGON,ARGON_FLAG_W,BTL_DATE,BTL_TIME,BTL_LAT,BTL_LON,KRYPTON,KRYPTON_FLAG_W,XENON,XENON_FLAG_W,HPLC,HPLC_FLAG_W,HE3_HE4_RATIO,HE3_HE4_RATIO_FLAG_W,Nd_143_144_D_EPSILON_BOTTLE,Nd_143_144_D_EPSILON_BOTTLE_FLAG_W,Nd_143_144_D_EPSILON_BOTTLE_ERROR,Nd_143_144_D_RATIO_BOTTLE,Nd_143_144_D_RATIO_BOTTLE_FLAG_W,Nd_143_144_D_RATIO_BOTTLE_ERROR,Nd_D_CONC,Nd_D_CONC_FLAG_W,La_D_CONC_BOTTLE,La_D_CONC_BOTTLE_FLAG_W,Ce_D_CONC_BOTTLE,Ce_D_CONC_BOTTLE_FLAG_W,Pr_D_CONC_BOTTLE,Pr_D_CONC_BOTTLE_FLAG_W,Sm_D_CONC_BOTTLE,Sm_D_CONC_BOTTLE_FLAG_W,Eu_D_CONC_BOTTLE,Eu_D_CONC_BOTTLE_FLAG_W,Gd_D_CONC_BOTTLE,Gd_D_CONC_BOTTLE_FLAG_W,Tb_D_CONC_BOTTLE,Tb_D_CONC_BOTTLE_FLAG_W,Dy_D_CONC_BOTTLE,Dy_D_CONC_BOTTLE_FLAG_W,Ho_D_CONC_BOTTLE,Ho_D_CONC_BOTTLE_FLAG_W,Er_D_CONC_BOTTLE,Er_D_CONC_BOTTLE_FLAG_W,Tm_D_CONC_BOTTLE,Tm_D_CONC_BOTTLE_FLAG_W,Yb_D_CONC_BOTTLE,Yb_D_CONC_BOTTLE_FLAG_W,Lu_D_CONC_BOTTLE,Lu_D_CONC_BOTTLE_FLAG_W
,,,,,,,,,,,METERS,DBAR,ITS-90,PSS-78,,PSS-78,,UMOL/KG,,UMOL/KG,,UMOL/KG,,UMOL/KG,,UMOL/KG,,UMOL/KG,,UMOL/KG,,PMOL/KG,,PMOL/KG,,FMOL/KG,,UMOL/KG,,UMOL/KG,,,,DEG C,UMOL/KG,,NMOL/L,,DEG C,,/MILLE,,/MILLE,,/MILLE,UG/KG,,UMOL/KG,,UMOL/KG,,NMOL/L,,VOLTS,,VOLTS,,VOLTS,,NMOL/KG,,UMOL/L,,,,,,NMOL/L,,NMOL/L,,,,,,10000,,10000,,,,PMOL/KG,,PMOL/L,,PMOL/L,,PMOL/L,,PMOL/L,,PMOL/L,,PMOL/L,,PMOL/L,,PMOL/L,,PMOL/L,,PMOL/L,,PMOL/L,,PMOL/L,,PMOL/L,
320620180309  ,S04P       ,118     ,  1,36         ,36         ,2,20180508,0714, -66.7992, -78.4812,     3942,      7.5,-1.0517357609590882728,33.784641912488887,2,  33.7815,2,337.87643600370183,2, 337.1009,2,    338.8,2,     39.2,2,    26.12,2,     0.21,2,     1.86,2,    5.770,2,    3.034,2,   3.7200,2,   2171.7,6,  2286.26,2,   7.6518,2,    24.96,     42.5,2,     -999,9,  -1.0509,2,     -999,9,     -999,9,     -999,     -999,9,     -999,9,     -999,1,     -999,9,    0.116,1,    4.598,1,    0.172,1,  16.8000,2,     -999,9,20180508,0905, -66.7993, -78.4844,     -999,9,     -999,9,-999          ,9,     -999,9,     -999,9,     -999,     -999,9,     -999,     -999,9,     -999,9,     -999,9,     -999,9,     -999,9,     -999,9,     -999,9,     -999,9,     -999,9,     -999,9,     -999,9,     -999,9,     -999,9,     -999,9
320620180309  ,S04P       ,118     ,  1,35         ,35         ,2,20180508,0714, -66.7992, -78.4812,     3942,     22.5,-1.0441438207488826784,33.785527985332251,2,  33.7837,2,336.57674024086475,2, 337.1013,2,    336.8,2,     39.4,2,    26.25,2,     0.21,2,     1.86,2,     -999,9,     -999,9,     -999,9,   2171.5,2,  2286.44,2,   7.6518,2,    24.97,     44.7,2,     -999,9,  -1.0489,2,     -999,9,     -999,9,     -999,     -999,9,     -999,9,     -999,1,     -999,9,    0.114,1,    4.597,1,    0.172,1,     -999,9,     -999,9,20180508,0905, -66.7993, -78.4844,     -999,9,     -999,9,-999          ,9,     -999,9,     -999,9,     -999,     -999,9,     -999,     -999,9,     -999,9,     -999,9,     -999,9,     -999,9,     -999,9,     -999,9,     -999,9,     -999,9,     -999,9,     -999,9,     -999,9,     -999,9,     -999,9
320620180309  ,S04P       ,118     ,  1,34         ,34         ,2,20180508,0714, -66.7992, -78.4812,     3942,     50.2,-1.0465215464640396092,33.785743273760360,2,  33.7831,2,336.71659615448806,2, 337.0960,2,    337.5,2,     39.5,2,    26.29,2,     0.21,2,     1.88,2,    5.673,2,    3.049,2,   3.6100,2,   2170.4,2,  2285.57,2,   7.6510,2,    24.97,     44.4,2,     -999,9,  -1.0474,2,     -999,9,     -999,9,     -999,     -999,9,     -999,9,     -999,1,     -999,9,    0.119,1,    4.598,1,    0.174,1,  17.0300,2,     -999,9,20180508,0903, -66.7993, -78.4843,     -999,9,     -999,9,-999          ,9,     -999,9,     -999,9,     -999,     -999,9,     -999,     -999,9,     -999,9,     -999,9,     -999,9,     -999,9,     -999,9,     -999,9,     -999,9,     -999,9,     -999,9,     -999,9,     -999,9,     -999,9,     -999,9
320620180309  ,S04P       ,118     ,  1,33         ,33         ,2,20180508,0714, -66.7992, -78.4812,     3942,     74.3,-1.0506472708892879986,33.787862548739866,2,  33.7862,2,337.36850121647996,2, 337.0964,2,    337.2,2,     39.9,2,    26.38,2,     0.21,2,     1.87,2,     -999,9,     -999,9,     -999,9,   2173.2,2,  2287.28,2,   7.6512,2,    24.96,     42.4,2,     -999,9,  -1.0512,2,     -999,9,     -999,9,     -999,     -999,9,     -999,9,     -999,1,     -999,9,    0.104,1,    4.601,1,    0.173,1,     -999,9,     -999,9,20180508,0902, -66.7993, -78.4843,     -999,9,     -999,9,-999          ,9,     -999,9,     -999,9,     -999,     -999,9,     -999,     -999,9,     -999,9,     -999,9,     -999,9,     -999,9,     -999,9,     -999,9,     -999,9,     -999,9,     -999,9,     -999,9,     -999,9,     -999,9,     -999,9
320620180309  ,S04P       ,118     ,  1,32         ,32         ,2,20180508,0714, -66.7992, -78.4812,     3942,    100.1,-0.4410893383168160709,34.115683567557625,2,  34.1210,2,273.81198048863530,2, 275.1024,2,    274.3,2,     53.7,2,    31.98,2,     0.04,2,     2.21,2,    4.232,2,    2.272,2,   2.4800,2,   2213.0,2,  2304.07,2,   7.5792,2,    24.95,     39.8,2,     -999,9,  -0.4386,2,     -999,9,     -999,9,     -999,     -999,9,     -999,9,     -999,1,     -999,9,    0.070,1,    4.625,1,    0.155,1,  19.6800,2,     -999,9,20180508,0900, -66.7993, -78.4844,     -999,9,     -999,9,-999          ,9,     -999,9,     -999,9,     -999,     -999,9,     -999,     -999,9,     -999,9,     -999,9,     -999,9,     -999,9,     -999,9,     -999,9,     -999,9,     -999,9,     -999,9,     -999,9,     -999,9,     -999,9,     -999,9
320620180309  ,S04P       ,118     ,  1,31         ,31         ,2,20180508,0714, -66.7992, -78.4812,     3942,    124.4,0.3668654727857296183,34.230500502781233,2,  34.2487,2,249.47194170117254,3, 245.5036,3,    241.9,2,     60.9,2,    33.31,2,     0.02,2,     2.28,2,     -999,9,     -999,9,     -999,9,   2227.8,2,  2313.44,2,   7.5584,2,    24.94,     42.7,2,     -999,9,   0.3698,2,     -999,9,     -999,9,     -999,     -999,9,     -999,9,     -999,1,     -999,9,    0.068,1,    4.630,1,    0.149,1,     -999,9,     -999,9,20180508,0859, -66.7993, -78.4845,     -999,9,     -999,9,-999          ,9,     -999,9,     -999,9,     -999,     -999,9,     -999,     -999,9,     -999,9,     -999,9,     -999,9,     -999,9,     -999,9,     -999,9,     -999,9,     -999,9,     -999,9,     -999,9,     -999,9,     -999,9,     -999,9
320620180309  ,S04P       ,118     ,  1,30         ,30         ,2,20180508,0714, -66.7992, -78.4812,     3942,    152.0,1.2426625537898206009,34.365761315717251,2,  34.3688,2,212.88943425439462,2, 215.9014,3,    212.5,2,     66.6,2,    34.35,2,     0.00,2,     2.34,2,    2.356,2,    1.244,2,   1.2300,2,   2239.8,2,  2322.15,2,   7.5478,2,    24.96,     40.9,2,     -999,9,   1.2012,2,     -999,9,     -999,9,     -999,     -999,9,     -999,9,     -999,1,     -999,9,    0.065,1,    4.635,1,    0.144,1,  22.5500,2,     -999,9,20180508,0857, -66.7993, -78.4846,     -999,9,     -999,9,-999          ,9,     -999,9,     -999,9,     -999,     -999,9,     -999,     -999,9,     -999,9,     -999,9,     -999,9,     -999,9,     -999,9,     -999,9,     -999,9,     -999,9,     -999,9,     -999,9,     -999,9,     -999,9,     -999,9
320620180309  ,S04P       ,118     ,  1,29         ,29         ,2,20180508,0714, -66.7992, -78.4812,     3942,    200.9,1.6633276213289944767,34.468283107217665,2,  34.4670,2,193.38571166281895,2, 194.6984,3,    192.2,2,     72.9,2,    34.85,2,     0.00,2,     2.38,2,    1.637,2,    0.860,2,   0.5800,2,   2249.8,2,  2328.17,2,   7.5378,2,    24.96,     39.8,2,     -999,9,   1.6675,2,     -999,9,     -999,9,     -999,     -999,9,     -999,9,     -999,1,     -999,9,    0.062,1,    4.638,1,    0.141,1,  23.1400,2,     -999,9,20180508,0855, -66.7993, -78.4848,     -999,9,     -999,9,-999          ,9,     -999,9,     -999,9,     -999,     -999,9,     -999,     -999,9,     -999,9,     -999,9,     -999,9,     -999,9,     -999,9,     -999,9,     -999,9,     -999,9,     -999,9,     -999,9,     -999,9,     -999,9,     -999,9
320620180309  ,S04P       ,118     ,  1,28         ,28         ,2,20180508,0714, -66.7992, -78.4812,     3942,    252.3,1.9707208242049720770,34.553782344771427,2,  34.5513,2,180.53427611533562,2, 181.3995,2,    180.1,2,     77.0,2,    34.76,2,     0.00,2,     2.38,2,     -999,9,     -999,9,     -999,9,   2257.1,2,  2333.43,2,   7.5397,2,    24.95,     39.6,2,     -999,9,   1.9698,2,     -999,9,     -999,9,     -999,     -999,9,     -999,9,     -999,1,     -999,9,    0.062,1,    4.641,1,    0.141,1,     -999,9,     -999,9,20180508,0853, -66.7993, -78.4849,     -999,9,     -999,9,-999          ,9,     -999,9,     -999,9,     -999,     -999,9,     -999,     -999,9,     -999,9,     -999,9,     -999,9,     -999,9,     -999,9,     -999,9,     -999,9,     -999,9,     -999,9,     -999,9,     -999,9,     -999,9,     -999,9
320620180309  ,S04P       ,118     ,  1,27         ,27         ,2,20180508,0714, -66.7992, -78.4812,     3942,    302.0,1.9975941018841532060,34.591919182914133,2,  34.5915,2,176.36566226667273,2, 178.4972,3,    176.4,2,     79.6,2,    34.44,2,     0.00,2,     2.33,2,    0.811,2,    0.419,2,   0.5200,2,   2258.1,2,  2338.63,2,   7.5446,6,    24.96,     40.5,2,     -999,9,   2.0001,2,     -999,9,     -999,9,     -999,     -999,9,     -999,9,     -999,1,     -999,9,    0.062,1,    4.640,1,    0.142,1,  24.3700,2,     -999,9,20180508,0851, -66.7993, -78.4850,     -999,9,     -999,9,-999          ,9,     -999,9,     -999,9,     -999,     -999,9,     -999,     -999,9,     -999,9,     -999,9,     -999,9,     -999,9,     -999,9,     -999,9,     -999,9,     -999,9,     -999,9,     -999,9,     -999,9,     -999,9,     -999,9
320620180309  ,S04P       ,118     ,  1,26         ,38         ,2,20180508,0714, -66.7992, -78.4812,     3942,    353.1,2.0465786333117952367,34.629254218916564,2,  34.6283,2,174.46821732433750,2, 175.9024,2,    174.5,2,     81.6,2,    34.07,2,     0.00,2,     2.30,2,    0.617,2,    0.321,2,   0.2300,2,   2260.2,6,  2341.12,2,   7.5479,2,    24.97,     42.1,2,     -999,9,   2.0450,2,     -999,9,     -999,9,     -999,     -999,9,     -999,9,     -999,1,     -999,9,    0.062,1,    4.642,1,    0.137,1,  22.8700,2,     -999,9,20180508,0849, -66.7993, -78.4849,     -999,9,     -999,9,-999          ,9,     -999,9,     -999,9,     -999,     -999,9,     -999,     -999,9,     -999,9,     -999,9,     -999,9,     -999,9,     -999,9,     -999,9,     -999,9,     -999,9,     -999,9,     -999,9,     -999,9,     -999,9,     -999,9
320620180309  ,S04P       ,118     ,  1,25         ,25         ,2,20180508,0714, -66.7992, -78.4812,     3942,    404.4,2.0801352597725561999,34.651367193759718,2,  34.6507,2,175.50152885926042,2, 175.6974,2,    175.1,2,     82.4,2,    33.61,2,     0.00,2,     2.29,2,    0.492,2,    0.261,2,   0.2400,2,   2257.9,2,  2342.40,2,   7.5558,2,    24.95,     40.4,2,     -999,9,   2.0804,2,     -999,9,     -999,9,     -999,     -999,9,     -999,9,     -999,1,     -999,9,    0.061,1,    4.644,1,    0.138,1,  23.2800,2,     -999,9,20180508,0847, -66.7993, -78.4849,     -999,9,     -999,9,-999          ,9,     -999,9,     -999,9,     -999,     -999,9,     -999,     -999,9,     -999,9,     -999,9,     -999,9,     -999,9,     -999,9,     -999,9,     -999,9,     -999,9,     -999,9,     -999,9,     -999,9,     -999,9,     -999,9
320620180309  ,S04P       ,118     ,  1,24         ,24         ,2,20180508,0714, -66.7992, -78.4812,     3942,    455.2,2.0607749927210048391,34.668544603768808,2,  34.6699,2,176.68162033760808,2, 176.1993,2,    176.3,2,     83.6,2,    33.21,2,     0.00,2,     2.23,2,    0.408,2,    0.216,2,   0.0900,2,   2257.0,2,  2345.56,2,   7.5626,2,    24.95,     40.7,2,     -999,9,   2.0610,2,     -999,9,     -999,9,     -999,     -999,9,     -999,9,     -999,1,     -999,9,    0.061,1,    4.643,1,    0.135,1,  22.0100,2,     -999,9,20180508,0845, -66.7993, -78.4848,     -999,9,     -999,9,-999          ,9,     -999,9,     -999,9,     -999,     -999,9,     -999,     -999,9,     -999,9,     -999,9,     -999,9,     -999,9,     -999,9,     -999,9,     -999,9,     -999,9,     -999,9,     -999,9,     -999,9,     -999,9,     -999,9
320620180309  ,S04P       ,118     ,  1,23         ,23         ,2,20180508,0714, -66.7992, -78.4812,     3942,    504.0,2.0358003580815302591,34.684475019404452,2,  34.6837,2,177.98002227742609,2, 177.7980,2,    177.8,2,     84.5,2,    32.87,2,     0.00,2,     2.22,2,    0.363,6,    0.185,6,   0.1800,6,   2256.6,2,  2347.97,2,   7.5679,2,    24.96,     38.5,2,     -999,9,   2.0358,2,     -999,9,     -999,9,     -999,     -999,9,     -999,9,     -999,1,     -999,9,    0.061,1,    4.644,1,    0.135,1,  22.0700,6,     -999,9,20180508,0843, -66.7993, -78.4849,     -999,9,     -999,9,-999          ,9,     -999,9,     -999,9,     -999,     -999,9,     -999,     -999,9,     -999,9,     -999,9,     -999,9,     -999,9,     -999,9,     -999,9,     -999,9,     -999,9,     -999,9,     -999,9,     -999,9,     -999,9,     -999,9
320620180309  ,S04P       ,118     ,  1,22         ,37         ,2,20180508,0714, -66.7992, -78.4812,     3942,    606.2,1.9680847888227526177,34.705279226549209,2,  34.7047,2,181.18187414960855,2, 180.4006,2,    180.8,2,     86.6,2,    32.37,2,     0.00,2,     2.21,2,     -999,9,     -999,9,     -999,9,   2256.1,2,  2345.29,3,   7.5762,2,    24.97,     40.6,2,     -999,9,   1.9687,2,     -999,9,     -999,9,     -999,     -999,9,     -999,9,     -999,1,     -999,9,    0.061,1,    4.644,1,    0.135,1,     -999,9,     -999,9,20180508,0840, -66.7993, -78.4847,     -999,9,     -999,9,-999          ,9,     -999,9,     -999,9,     -999,     -999,9,     -999,     -999,9,     -999,9,     -999,9,     -999,9,     -999,9,     -999,9,     -999,9,     -999,9,     -999,9,     -999,9,     -999,9,     -999,9,     -999,9,     -999,9
320620180309  ,S04P       ,118     ,  1,21         ,21         ,2,20180508,0714, -66.7992, -78.4812,     3942,    709.1,1.8764882197446082213,34.718411584323356,2,  34.7176,2,181.81618921654345,2, 182.1024,2,    183.6,2,     89.4,2,    32.06,2,     0.00,2,     2.19,2,    0.239,2,    0.122,2,   0.0700,2,   2255.4,2,  2350.18,2,   7.5820,2,    24.96,     38.8,2,     -999,9,   1.8779,2,     -999,9,     -999,9,     -999,     -999,9,     -999,9,     -999,1,     -999,9,    0.061,1,    4.643,1,    0.136,1,  21.5900,2,     -999,9,20180508,0837, -66.7993, -78.4843,     -999,9,     -999,9,-999          ,9,     -999,9,     -999,9,     -999,     -999,9,     -999,     -999,9,     -999,9,     -999,9,     -999,9,     -999,9,     -999,9,     -999,9,     -999,9,     -999,9,     -999,9,     -999,9,     -999,9,     -999,9,     -999,9
320620180309  ,S04P       ,118     ,  1,20         ,20         ,2,20180508,0714, -66.7992, -78.4812,     3942,    809.1,1.8047517189070862997,34.725478675367007,2,  34.7257,2,187.42201265395374,2, 185.5023,2,    186.7,2,     91.4,2,    31.78,2,     0.00,2,     2.18,2,    0.205,2,    0.104,2,   0.0500,2,   2255.8,2,  2353.80,2,   7.5896,2,    24.95,     38.2,2,     -999,9,   1.8048,2,     -999,9,     -999,9,     -999,     -999,9,     -999,9,     -999,1,     -999,9,    0.062,1,    4.644,1,    0.135,1,  19.9800,2,     -999,9,20180508,0834, -66.7993, -78.4840,     -999,9,     -999,9,-999          ,9,     -999,9,     -999,9,     -999,     -999,9,     -999,     -999,9,     -999,9,     -999,9,     -999,9,     -999,9,     -999,9,     -999,9,     -999,9,     -999,9,     -999,9,     -999,9,     -999,9,     -999,9,     -999,9
320620180309  ,S04P       ,118     ,  1,19         ,19         ,2,20180508,0714, -66.7992, -78.4812,     3942,    911.3,1.7120566826925143200,34.729299354260753,2,  34.7296,2,189.26912684800095,2, 189.0997,2,    189.4,2,     94.3,2,    31.58,2,     0.00,2,     2.16,2,    0.179,2,    0.100,2,   0.0400,2,   2257.1,2,  2355.35,2,   7.5941,2,    24.95,     38.6,2,     -999,9,   1.7126,2,     -999,9,     -999,9,     -999,     -999,9,     -999,9,     -999,1,     -999,9,    0.061,1,    4.645,1,    0.134,1,  20.1900,2,     -999,9,20180508,0831, -66.7993, -78.4841,     -999,9,     -999,9,-999          ,9,     -999,9,     -999,9,     -999,     -999,9,     -999,     -999,9,     -999,9,     -999,9,     -999,9,     -999,9,     -999,9,     -999,9,     -999,9,     -999,9,     -999,9,     -999,9,     -999,9,     -999,9,     -999,9
320620180309  ,S04P       ,118     ,  1,18         ,18         ,2,20180508,0714, -66.7992, -78.4812,     3942,   1012.7,1.6185164999669023889,34.730849078624374,2,  34.7312,2,190.99504560140727,2, 190.9003,2,    191.1,2,     97.1,2,    31.56,2,     0.00,2,     2.15,2,     -999,9,     -999,9,     -999,9,   2257.3,2,  2358.81,2,   7.5964,2,    24.95,     38.6,2,     -999,9,   1.6186,2,     -999,9,     -999,9,     -999,     -999,9,     -999,9,     -999,1,     -999,9,    0.061,1,    4.644,1,    0.133,1,     -999,9,     -999,9,20180508,0828, -66.7993, -78.4840,     -999,9,     -999,9,-999          ,9,     -999,9,     -999,9,     -999,     -999,9,     -999,     -999,9,     -999,9,     -999,9,     -999,9,     -999,9,     -999,9,     -999,9,     -999,9,     -999,9,     -999,9,     -999,9,     -999,9,     -999,9,     -999,9
320620180309  ,S04P       ,118     ,  1,17         ,17         ,2,20180508,0714, -66.7992, -78.4812,     3942,   1113.5,1.5328479055501429418,34.731091456128617,2,  34.7314,2,192.05335934681239,2, 192.3017,2,    192.0,2,     99.5,2,    31.63,2,     0.00,2,     2.15,2,    0.170,2,    0.082,2,   0.3000,2,   2258.7,2,  2359.42,2,   7.5963,2,    24.95,     39.0,2,     -999,9,   1.5347,2,     -999,9,     -999,9,     -999,     -999,9,     -999,9,     -999,1,     -999,9,    0.061,1,    4.644,1,    0.131,1,  20.4700,2,     -999,9,20180508,0825, -66.7993, -78.4844,     -999,9,     -999,9,-999          ,9,     -999,9,     -999,9,     -999,     -999,9,     -999,     -999,9,     -999,9,     -999,9,     -999,9,     -999,9,     -999,9,     -999,9,     -999,9,     -999,9,     -999,9,     -999,9,     -999,9,     -999,9,     -999,9
320620180309  ,S04P       ,118     ,  1,16         ,16         ,2,20180508,0714, -66.7992, -78.4812,     3942,   1214.2,1.4660176243640330451,34.730394646107968,2,  34.7310,2,193.52069896132650,2, 193.3031,2,    193.4,2,    101.7,2,    31.69,2,     0.00,2,     2.15,2,     -999,9,     -999,9,     -999,9,   2258.6,2,  2359.43,2,   7.5975,2,    24.94,     37.9,2,     -999,9,   1.4676,2,     -999,9,     -999,9,     -999,     -999,9,     -999,9,     -999,1,     -999,9,    0.061,1,    4.646,1,    0.130,1,     -999,9,     -999,9,20180508,0822, -66.7993, -78.4847,     -999,9,     -999,9,-999          ,9,     -999,9,     -999,9,     -999,     -999,9,     -999,     -999,9,     -999,9,     -999,9,     -999,9,     -999,9,     -999,9,     -999,9,     -999,9,     -999,9,     -999,9,     -999,9,     -999,9,     -999,9,     -999,9