BOTTLE,20240515CCHHYDRO
EXPOCODE,SECT_ID,STNNBR,CASTNO,SAMPNO,BTLNBR,BTLNBR_FLAG_W,DATE,TIME,LATITUDE,LONGITUDE,DEPTH,CTDPRS,CTDTMP,CTDSAL,CTDSAL_FLAG_W,SALNTY,SALNTY_FLAG_W,CTDOXY,CTDOXY_FLAG_W,CTDOPTOXY,CTDOPTOXY_FLAG_W,OXYGEN,OXYGEN_FLAG_W,SILCAT,SILCAT_FLAG_W,NITRAT,NITRAT_FLAG_W,NITRIT,NITRIT_FLAG_W,PHSPHT,PHSPHT_FLAG_W,CFC-11,CFC-11_FLAG_W,CFC-12,CFC-12_FLAG_W,SF6,SF6_FLAG_W,TCARBN,TCARBN_FLAG_W,ALKALI,ALKALI_FLAG_W,PH_TOT,PH_TOT_FLAG_W,PH_TMP,DOC,DOC_FLAG_W,HELIUM,HELIUM_FLAG_W,REFTMP,REFTMP_FLAG_W,DELC13,DELC13_FLAG_W,DELC14,DELC14_FLAG_W,C14ERR,POC,POC_FLAG_W,TDN,TDN_FLAG_W,TON,TON_FLAG_W,NEON,NEON_FLAG_W,CTDFLUOR,CTDFLUOR_FLAG_W,CTDXMISS,CTDXMISS_FLAG_W,CTDBETA700,CTDBETA700_FLAG_W,N2O,N2O_FLAG_W,ARGON,ARGON_FLAG_W,BTL_DATE,BTL_TIME,BTL_LAT,BTL_LON,KRYPTON,KRYPTON_FLAG_W,XENON,XENON_FLAG_W,HPLC,HPLC_FLAG_W,HE3_HE4_RATIO,HE3_HE4_RATIO_FLAG_W,Nd_143_144_D_EPSILON_BOTTLE,Nd_143_144_D_EPSILON_BOTTLE_FLAG_W,Nd_143_144_D_EPSILON_BOTTLE_ERROR,Nd_143_144_D_RATIO_BOTTLE,Nd_143_144_D_RATIO_BOTTLE_FLAG_W,Nd_143_144_D_RATIO_BOTTLE_ERROR,Nd_D_CONC,Nd_D_CONC_FLAG_W,La_D_CONC_BOTTLE,La_D_CONC_BOTTLE_FLAG_W,Ce_D_CONC_BOTTLE,Ce_D_CONC_BOTTLE_FLAG_W,Pr_D_CONC_BOTTLE,Pr_D_CONC_BOTTLE_FLAG_W,Sm_D_CONC_BOTTLE,Sm_D_CONC_BOTTLE_FLAG_W,Eu_D_CONC_BOTTLE,Eu_D_CONC_BOTTLE_FLAG_W,Gd_D_CONC_BOTTLE,Gd_D_CONC_BOTTLE_FLAG_W,Tb_D_CONC_BOTTLE,Tb_D_CONC_BOTTLE_FLAG_W,Dy_D_CONC_BOTTLE,Dy_D_CONC_BOTTLE_FLAG_W,Ho_D_CONC_BOTTLE,Ho_D_CONC_BOTTLE_FLAG_W,Er_D_CONC_BOTTLE,Er_D_CONC_BOTTLE_FLAG_W,Tm_D_CONC_BOTTLE,Tm_D_CONC_BOTTLE_FLAG_W,Yb_D_CONC_BOTTLE,Yb_D_CONC_BOTTLE_FLAG_W,Lu_D_CONC_BOTTLE,Lu_D_CONC_BOTTLE_FLAG_W
,,,,,,,,,,,METERS,DBAR,ITS-90,PSS-78,,PSS-78,,UMOL/KG,,UMOL/KG,,UMOL/KG,,UMOL/KG,,UMOL/KG,,UMOL/KG,,UMOL/KG,,PMOL/KG,,PMOL/KG,,FMOL/KG,,UMOL/KG,,UMOL/KG,,,,DEG C,UMOL/KG,,NMOL/L,,DEG C,,/MILLE,,/MILLE,,/MILLE,UG/KG,,UMOL/KG,,UMOL/KG,,NMOL/L,,VOLTS,,VOLTS,,VOLTS,,NMOL/KG,,UMOL/L,,,,,,NMOL/L,,NMOL/L,,,,,,10000,,10000,,,,PMOL/KG,,PMOL/L,,PMOL/L,,PMOL/L,,PMOL/L,,PMOL/L,,PMOL/L,,PMOL/L,,PMOL/L,,PMOL/L,,PMOL/L,,PMOL/L,,PMOL/L,,PMOL/L,
320620180309  ,S04P       ,62      ,  1,15         ,15         ,2,20180413,0249, -66.9993,-157.8910,     3729,   1352.4,0.8030500000000001526,34.712928235806316,2,  34.7119,2,201.78410782171025,2, 200.0010,2,    201.2,2,    121.4,2,    32.84,2,     0.00,2,     2.24,2,    0.115,2,    0.057,2,   0.2000,2,   2263.2,2,  2362.78,2,   7.5873,2,    24.91,     41.6,2,     -999,9,   0.8020,2,     -999,9,     -999,9,     -999,     -999,9,     -999,9,     -999,1,     -999,9,    0.061,1,    4.666,1,    0.128,1,  20.1600,2,     -999,9,20180413,0357, -66.9997,-157.8914,     -999,9,     -999,9,-999          ,9,     -999,9,     -999,9,     -999,     -999,9,     -999,     -999,9,     -999,9,     -999,9,     -999,9,     -999,9,     -999,9,     -999,9,     -999,9,     -999,9,     -999,9,     -999,9,     -999,9,     -999,9,     -999,9
320620180309  ,S04P       ,62      ,  1,14         ,14         ,2,20180413,0249, -66.9993,-157.8910,     3729,   1454.1,0.7611833333333333229,34.711261051401223,2,  34.7096,2,203.40776076516261,2, 201.1009,2,    202.1,2,    122.9,2,    32.77,2,     0.00,2,     2.24,2,     -999,9,     -999,9,     -999,9,   2262.3,2,  2363.11,2,   7.5884,2,    24.92,     41.0,2,     -999,9,   0.7605,2,     -999,9,     -999,9,     -999,     -999,9,     -999,9,     -999,1,     -999,9,    0.061,1,    4.667,1,    0.128,1,     -999,9,     -999,9,20180413,0353, -66.9995,-157.8912,     -999,9,     -999,9,-999          ,9,     -999,9,     -999,9,     -999,     -999,9,     -999,     -999,9,     -999,9,     -999,9,     -999,9,     -999,9,     -999,9,     -999,9,     -999,9,     -999,9,     -999,9,     -999,9,     -999,9,     -999,9,     -999,9
320620180309  ,S04P       ,62      ,  1,13         ,13         ,2,20180413,0249, -66.9993,-157.8910,     3729,   1554.5,0.7146416666666667306,34.709446812147100,2,  34.7102,2,203.85068642831055,2, 202.2995,2,    203.4,2,    124.4,2,    32.77,2,     0.00,2,     2.23,2,    0.128,2,    0.064,2,   0.0600,2,   2263.5,6,  2363.21,2,   7.5906,2,    24.92,     40.9,2,     -999,9,   0.7140,2,     -999,9,     -999,9,     -999,     -999,9,     -999,9,     -999,1,     -999,9,    0.061,1,    4.667,1,    0.128,1,  20.3600,2,     -999,9,20180413,0350, -66.9995,-157.8911,     -999,9,     -999,9,-999          ,9,     -999,9,     -999,9,     -999,     -999,9,     -999,     -999,9,     -999,9,     -999,9,     -999,9,     -999,9,     -999,9,     -999,9,     -999,9,     -999,9,     -999,9,     -999,9,     -999,9,     -999,9,     -999,9
320620180309  ,S04P       ,62      ,  1,12         ,12         ,2,20180413,0249, -66.9993,-157.8910,     3729,   1658.2,0.6797972222222221639,34.708225200166794,2,  34.7066,2,205.08118965799602,2, 203.3978,2,    204.5,2,    125.6,2,    32.77,2,     0.00,2,     2.23,2,     -999,9,     -999,9,     -999,9,   2263.9,2,  2363.16,2,   7.5930,2,    24.92,     41.8,2,     -999,9,   0.6789,2,     -999,9,     -999,9,     -999,     -999,9,     -999,9,     -999,1,     -999,9,    0.060,1,    4.667,1,    0.126,1,     -999,9,     -999,9,20180413,0347, -66.9996,-157.8913,     -999,9,     -999,9,-999          ,9,     -999,9,     -999,9,     -999,     -999,9,     -999,     -999,9,     -999,9,     -999,9,     -999,9,     -999,9,     -999,9,     -999,9,     -999,9,     -999,9,     -999,9,     -999,9,     -999,9,     -999,9,     -999,9
320620180309  ,S04P       ,62      ,  1,11         ,11         ,2,20180413,0249, -66.9993,-157.8910,     3729,   1758.7,0.6403666666666666396,34.706881468941397,2,  34.7051,2,205.79777672539964,2, 204.4980,2,    205.3,2,    126.2,2,    32.77,2,     0.00,2,     2.23,2,    0.146,2,    0.083,2,   0.0400,2,   2263.1,2,  2364.07,2,   7.5918,2,    24.92,     40.8,2,     -999,9,   0.6397,2,     -999,9,     -999,9,     -999,     -999,9,     -999,9,     -999,1,     -999,9,    0.061,1,    4.667,1,    0.136,1,  19.9100,2,     -999,9,20180413,0343, -66.9998,-157.8914,     -999,9,     -999,9,-999          ,9,     -999,9,     -999,9,     -999,     -999,9,     -999,     -999,9,     -999,9,     -999,9,     -999,9,     -999,9,     -999,9,     -999,9,     -999,9,     -999,9,     -999,9,     -999,9,     -999,9,     -999,9,     -999,9
320620180309  ,S04P       ,62      ,  1,10         ,10         ,2,20180413,0249, -66.9993,-157.8910,     3729,   1892.6,0.5886888888888887061,34.705489572146988,2,  34.7043,2,206.49799279684092,2, 206.1977,2,    207.4,2,    127.3,2,    32.79,2,     0.00,2,     2.23,2,     -999,9,     -999,9,     -999,9,   2264.3,2,  2363.31,2,   7.5915,2,    24.92,     40.4,2,     -999,9,   0.5881,2,     -999,9,     -999,9,     -999,     -999,9,     -999,9,     -999,1,     -999,9,    0.061,1,    4.667,1,    0.125,1,     -999,9,     -999,9,20180413,0340, -66.9999,-157.8916,     -999,9,     -999,9,-999          ,9,     -999,9,     -999,9,     -999,     -999,9,     -999,     -999,9,     -999,9,     -999,9,     -999,9,     -999,9,     -999,9,     -999,9,     -999,9,     -999,9,     -999,9,     -999,9,     -999,9,     -999,9,     -999,9
320620180309  ,S04P       ,62      ,  1,9          ,9          ,2,20180413,0249, -66.9993,-157.8910,     3729,   2094.2,0.5127111111111110064,34.703748690491324,2,  34.7021,2,208.40946429869973,2, 208.2999,2,    208.4,2,    128.3,2,    32.81,2,     0.00,2,     2.23,2,    0.189,2,    0.110,2,   0.3600,2,   2262.6,2,  2364.07,2,   7.5841,2,    24.92,     41.2,2,     -999,9,   0.5118,2,     -999,9,     -999,9,     -999,     -999,9,     -999,9,     -999,1,     -999,9,    0.060,1,    4.667,1,    0.126,1,  20.4300,2,     -999,9,20180413,0334, -66.9998,-157.8916,     -999,9,     -999,9,-999          ,9,     -999,9,     -999,9,     -999,     -999,9,     -999,     -999,9,     -999,9,     -999,9,     -999,9,     -999,9,     -999,9,     -999,9,     -999,9,     -999,9,     -999,9,     -999,9,     -999,9,     -999,9,     -999,9
320620180309  ,S04P       ,62      ,  1,8          ,8          ,2,20180413,0249, -66.9993,-157.8910,     3729,   2298.9,0.4492194444444444490,34.702546034199926,2,  34.7011,2,209.75300596178090,2, 210.3054,2,    209.9,2,    130.0,2,    32.80,2,     0.00,2,     2.24,2,     -999,9,     -999,9,     -999,9,   2263.4,2,  2363.18,2,   7.5826,2,    24.89,     -999,9,     -999,9,   0.4487,2,     -999,9,     -999,9,     -999,     -999,9,     -999,9,     -999,9,     -999,9,    0.061,1,    4.667,1,    0.126,1,     -999,9,     -999,9,20180413,0329, -66.9999,-157.8917,     -999,9,     -999,9,-999          ,9,     -999,9,     -999,9,     -999,     -999,9,     -999,     -999,9,     -999,9,     -999,9,     -999,9,     -999,9,     -999,9,     -999,9,     -999,9,     -999,9,     -999,9,     -999,9,     -999,9,     -999,9,     -999,9
320620180309  ,S04P       ,62      ,  1,7          ,7          ,2,20180413,0249, -66.9993,-157.8910,     3729,   2503.9,0.3894444444444444264,34.701290404094955,2,  34.7003,2,211.56790793558233,2, 212.0027,2,    211.7,2,    131.1,2,    32.93,2,     0.00,2,     2.25,2,    0.227,6,    0.124,6,   0.1100,6,   2262.8,2,  2362.86,2,   7.5884,2,    24.93,     40.4,2,     -999,9,   0.3894,2,     -999,9,     -999,9,     -999,     -999,9,     -999,9,     -999,1,     -999,9,    0.060,1,    4.667,1,    0.125,1,  19.7100,6,     -999,9,20180413,0324, -66.9999,-157.8917,     -999,9,     -999,9,-999          ,9,     -999,9,     -999,9,     -999,     -999,9,     -999,     -999,9,     -999,9,     -999,9,     -999,9,     -999,9,     -999,9,     -999,9,     -999,9,     -999,9,     -999,9,     -999,9,     -999,9,     -999,9,     -999,9
320620180309  ,S04P       ,62      ,  1,6          ,6          ,2,20180413,0249, -66.9993,-157.8910,     3729,   2708.9,0.3342111111111110699,34.700157268498373,2,  34.6988,2,213.40593956582725,2, 213.5006,2,    213.5,2,    132.0,2,    32.93,2,     0.00,2,     2.24,2,     -999,9,     -999,9,     -999,9,   2263.4,2,  2364.19,2,   7.5869,2,    24.96,     -999,9,     -999,9,   0.3339,2,     -999,9,     -999,9,     -999,     -999,9,     -999,9,     -999,9,     -999,9,    0.061,1,    4.667,1,    0.124,1,     -999,9,     -999,9,20180413,0318, -66.9999,-157.8916,     -999,9,     -999,9,-999          ,9,     -999,9,     -999,9,     -999,     -999,9,     -999,     -999,9,     -999,9,     -999,9,     -999,9,     -999,9,     -999,9,     -999,9,     -999,9,     -999,9,     -999,9,     -999,9,     -999,9,     -999,9,     -999,9
320620180309  ,S04P       ,62      ,  1,5          ,5          ,2,20180413,0249, -66.9993,-157.8910,     3729,   2913.0,0.2866361111111110915,34.697924449968319,2,  34.6962,2,214.97098446979058,2, 215.4045,2,    215.0,2,    131.7,2,    32.94,2,     0.00,2,     2.23,2,    0.393,2,    0.209,2,   0.2000,2,   2263.1,2,  2363.57,2,   7.5943,2,    24.88,     41.6,2,     -999,9,   0.2859,2,     -999,9,     -999,9,     -999,     -999,9,     -999,9,     -999,1,     -999,9,    0.061,1,    4.666,1,    0.125,1,  20.2400,2,     -999,9,20180413,0313, -66.9997,-157.8914,     -999,9,     -999,9,-999          ,9,     -999,9,     -999,9,     -999,     -999,9,     -999,     -999,9,     -999,9,     -999,9,     -999,9,     -999,9,     -999,9,     -999,9,     -999,9,     -999,9,     -999,9,     -999,9,     -999,9,     -999,9,     -999,9
320620180309  ,S04P       ,62      ,  1,4          ,4          ,2,20180413,0249, -66.9993,-157.8910,     3729,   3153.9,0.2343111111111111089,34.693681590633027,2,  34.6919,2,217.71593088327003,2, 218.2009,2,    218.1,2,    129.0,2,    32.86,2,     0.00,2,     2.23,2,    0.625,2,    0.328,2,   0.3500,2,   2261.2,2,  2362.12,2,   7.5914,2,    24.96,     41.2,2,     -999,9,   0.2333,2,     -999,9,     -999,9,     -999,     -999,9,     -999,9,     -999,1,     -999,9,    0.061,1,    4.666,1,    0.125,1,  19.6100,2,     -999,9,20180413,0307, -66.9995,-157.8912,     -999,9,     -999,9,-999          ,9,     -999,9,     -999,9,     -999,     -999,9,     -999,     -999,9,     -999,9,     -999,9,     -999,9,     -999,9,     -999,9,     -999,9,     -999,9,     -999,9,     -999,9,     -999,9,     -999,9,     -999,9,     -999,9
320620180309  ,S04P       ,62      ,  1,3          ,3          ,2,20180413,0249, -66.9993,-157.8910,     3729,   3426.4,0.2074305555555555625,34.691275157185075,3,  34.6890,2,219.93197257524912,2, 218.6951,2,    219.3,2,    126.6,2,    32.81,2,     0.00,2,     2.23,2,    0.807,2,    0.420,2,   0.2400,2,   2261.6,2,  2363.20,2,   7.5923,2,    24.92,     41.2,2,     -999,9,   0.2066,2,     -999,9,     -999,9,     -999,     -999,9,     -999,9,     -999,1,     -999,9,    0.061,1,    4.665,1,    0.125,1,  20.0100,2,     -999,9,20180413,0300, -66.9994,-157.8911,     -999,9,     -999,9,-999          ,9,     -999,9,     -999,9,     -999,     -999,9,     -999,     -999,9,     -999,9,     -999,9,     -999,9,     -999,9,     -999,9,     -999,9,     -999,9,     -999,9,     -999,9,     -999,9,     -999,9,     -999,9,     -999,9
320620180309  ,S04P       ,62      ,  1,2          ,2          ,2,20180413,0249, -66.9993,-157.8910,     3729,   3610.0,0.2123722222222222122,34.691448109273026,2,  34.6903,2,220.11852876122029,2, 219.3063,2,    219.7,2,    127.4,2,    32.80,2,     0.00,2,     2.24,2,    0.819,2,    0.424,2,   0.3700,2,   2262.4,2,  2361.12,2,   7.5903,2,    24.90,     -999,9,     -999,9,   0.2116,2,     -999,9,     -999,9,     -999,     -999,9,     -999,9,     -999,9,     -999,9,    0.061,1,    4.665,1,    0.126,1,  20.2400,2,     -999,9,20180413,0255, -66.9992,-157.8909,     -999,9,     -999,9,-999          ,9,     -999,9,     -999,9,     -999,     -999,9,     -999,     -999,9,     -999,9,     -999,9,     -999,9,     -999,9,     -999,9,     -999,9,     -999,9,     -999,9,     -999,9,     -999,9,     -999,9,     -999,9,     -999,9
320620180309  ,S04P       ,62      ,  1,1          ,1          ,2,20180413,0249, -66.9993,-157.8910,     3729,   3790.8,0.2256166666666666598,34.691990064003882,2,  34.6913,2,219.26562934461160,2, 219.6006,2,    219.4,2,    128.0,2,    32.86,2,     0.00,2,     2.24,2,    0.809,2,    0.422,2,   0.3100,2,   2263.6,6,  2361.91,2,   7.5923,2,    24.91,     41.7,2,     -999,9,   0.2249,2,     -999,9,     -999,9,     -999,     -999,9,     -999,9,     -999,1,     -999,9,    0.061,1,    4.664,1,    0.127,1,  20.8500,2,     -999,9,20180413,0249, -66.9993,-157.8910,     -999,9,     -999,9,-999          ,9,     -999,9,     -999,9,     -999,     -999,9,     -999,     -999,9,     -999,9,     -999,9,     -999,9,     -999,9,     -999,9,     -999,9,     -999,9,     -999,9,     -999,9,     -999,9,     -999,9,     -999,9,     -999,9