BOTTLE,20240515CCHHYDRO
EXPOCODE,SECT_ID,STNNBR,CASTNO,SAMPNO,BTLNBR,BTLNBR_FLAG_W,DATE,TIME,LATITUDE,LONGITUDE,DEPTH,CTDPRS,CTDTMP,CTDSAL,CTDSAL_FLAG_W,SALNTY,SALNTY_FLAG_W,CTDOXY,CTDOXY_FLAG_W,CTDOPTOXY,CTDOPTOXY_FLAG_W,OXYGEN,OXYGEN_FLAG_W,SILCAT,SILCAT_FLAG_W,NITRAT,NITRAT_FLAG_W,NITRIT,NITRIT_FLAG_W,PHSPHT,PHSPHT_FLAG_W,CFC-11,CFC-11_FLAG_W,CFC-12,CFC-12_FLAG_W,SF6,SF6_FLAG_W,TCARBN,TCARBN_FLAG_W,ALKALI,ALKALI_FLAG_W,PH_TOT,PH_TOT_FLAG_W,PH_TMP,DOC,DOC_FLAG_W,HELIUM,HELIUM_FLAG_W,REFTMP,REFTMP_FLAG_W,DELC13,DELC13_FLAG_W,DELC14,DELC14_FLAG_W,C14ERR,POC,POC_FLAG_W,TDN,TDN_FLAG_W,TON,TON_FLAG_W,NEON,NEON_FLAG_W,CTDFLUOR,CTDFLUOR_FLAG_W,CTDXMISS,CTDXMISS_FLAG_W,CTDBETA700,CTDBETA700_FLAG_W,N2O,N2O_FLAG_W,ARGON,ARGON_FLAG_W,BTL_DATE,BTL_TIME,BTL_LAT,BTL_LON,KRYPTON,KRYPTON_FLAG_W,XENON,XENON_FLAG_W,HPLC,HPLC_FLAG_W,HE3_HE4_RATIO,HE3_HE4_RATIO_FLAG_W,Nd_143_144_D_EPSILON_BOTTLE,Nd_143_144_D_EPSILON_BOTTLE_FLAG_W,Nd_143_144_D_EPSILON_BOTTLE_ERROR,Nd_143_144_D_RATIO_BOTTLE,Nd_143_144_D_RATIO_BOTTLE_FLAG_W,Nd_143_144_D_RATIO_BOTTLE_ERROR,Nd_D_CONC,Nd_D_CONC_FLAG_W,La_D_CONC_BOTTLE,La_D_CONC_BOTTLE_FLAG_W,Ce_D_CONC_BOTTLE,Ce_D_CONC_BOTTLE_FLAG_W,Pr_D_CONC_BOTTLE,Pr_D_CONC_BOTTLE_FLAG_W,Sm_D_CONC_BOTTLE,Sm_D_CONC_BOTTLE_FLAG_W,Eu_D_CONC_BOTTLE,Eu_D_CONC_BOTTLE_FLAG_W,Gd_D_CONC_BOTTLE,Gd_D_CONC_BOTTLE_FLAG_W,Tb_D_CONC_BOTTLE,Tb_D_CONC_BOTTLE_FLAG_W,Dy_D_CONC_BOTTLE,Dy_D_CONC_BOTTLE_FLAG_W,Ho_D_CONC_BOTTLE,Ho_D_CONC_BOTTLE_FLAG_W,Er_D_CONC_BOTTLE,Er_D_CONC_BOTTLE_FLAG_W,Tm_D_CONC_BOTTLE,Tm_D_CONC_BOTTLE_FLAG_W,Yb_D_CONC_BOTTLE,Yb_D_CONC_BOTTLE_FLAG_W,Lu_D_CONC_BOTTLE,Lu_D_CONC_BOTTLE_FLAG_W
,,,,,,,,,,,METERS,DBAR,ITS-90,PSS-78,,PSS-78,,UMOL/KG,,UMOL/KG,,UMOL/KG,,UMOL/KG,,UMOL/KG,,UMOL/KG,,UMOL/KG,,PMOL/KG,,PMOL/KG,,FMOL/KG,,UMOL/KG,,UMOL/KG,,,,DEG C,UMOL/KG,,NMOL/L,,DEG C,,/MILLE,,/MILLE,,/MILLE,UG/KG,,UMOL/KG,,UMOL/KG,,NMOL/L,,VOLTS,,VOLTS,,VOLTS,,NMOL/KG,,UMOL/L,,,,,,NMOL/L,,NMOL/L,,,,,,10000,,10000,,,,PMOL/KG,,PMOL/L,,PMOL/L,,PMOL/L,,PMOL/L,,PMOL/L,,PMOL/L,,PMOL/L,,PMOL/L,,PMOL/L,,PMOL/L,,PMOL/L,,PMOL/L,,PMOL/L,
320620180309  ,P18        ,99      ,  1,15         ,15         ,2,20180430,0029, -69.4968,-102.9734,     4081,   1352.7,1.1436639764880109915,34.723642575437630,2,  34.7229,2,197.43723747283045,2, 197.3052,2,    197.1,2,    111.6,2,    32.39,2,     0.00,2,     2.20,2,    0.107,2,    0.048,2,   0.0400,3,     -999,9,     -999,9,     -999,9,     -999,     -999,9,     -999,9,   1.1435,2,     -999,9,     -999,9,     -999,     -999,9,     -999,9,     -999,9,     -999,9,    0.061,1,    4.653,1,    0.131,1,  19.1100,2,     -999,9,20180430,0144, -69.4967,-102.9473,     -999,9,     -999,9,-999          ,9,     -999,9,     -999,9,     -999,     -999,9,     -999,     -999,9,     -999,9,     -999,9,     -999,9,     -999,9,     -999,9,     -999,9,     -999,9,     -999,9,     -999,9,     -999,9,     -999,9,     -999,9,     -999,9
320620180309  ,P18        ,99      ,  1,14         ,14         ,2,20180430,0029, -69.4968,-102.9734,     4081,   1453.9,1.0836352249644456425,34.721358464668143,2,  34.7210,2,198.73797601144287,2, 198.4007,2,    199.0,2,    113.7,2,    32.44,2,     0.00,2,     2.20,2,     -999,9,     -999,9,     -999,9,   2262.2,2,  2363.18,2,   7.5959,2,    24.92,     -999,9,     -999,9,   1.0833,2,     -999,9,     -999,9,     -999,     -999,9,     -999,9,     -999,9,     -999,9,    0.062,1,    4.653,1,    0.129,1,     -999,9,     -999,9,20180430,0140, -69.4967,-102.9488,     -999,9,     -999,9,-999          ,9,     -999,9,     -999,9,     -999,     -999,9,     -999,     -999,9,     -999,9,     -999,9,     -999,9,     -999,9,     -999,9,     -999,9,     -999,9,     -999,9,     -999,9,     -999,9,     -999,9,     -999,9,     -999,9
320620180309  ,P18        ,99      ,  1,13         ,13         ,2,20180430,0029, -69.4968,-102.9734,     4081,   1555.2,1.0208725906713469467,34.719186659445100,2,  34.7190,2,199.34075741637878,2, 199.8956,2,    199.7,2,    115.8,2,    32.43,2,     0.00,2,     2.21,2,    0.109,2,    0.057,2,   0.0000,3,     -999,9,     -999,9,     -999,9,     -999,     -999,9,     -999,9,   1.0208,2,     -999,9,     -999,9,     -999,     -999,9,     -999,9,     -999,9,     -999,9,    0.061,1,    4.653,1,    0.129,1,  19.3800,2,     -999,9,20180430,0137, -69.4968,-102.9501,     -999,9,     -999,9,-999          ,9,     -999,9,     -999,9,     -999,     -999,9,     -999,     -999,9,     -999,9,     -999,9,     -999,9,     -999,9,     -999,9,     -999,9,     -999,9,     -999,9,     -999,9,     -999,9,     -999,9,     -999,9,     -999,9
320620180309  ,P18        ,99      ,  1,12         ,12         ,2,20180430,0029, -69.4968,-102.9734,     4081,   1657.2,0.9708400259511215102,34.717183456524566,2,  34.7170,2,200.72218913973597,2, 200.7013,2,    200.6,2,    117.3,2,    32.42,2,     0.00,2,     2.20,2,     -999,9,     -999,9,     -999,9,   2261.4,2,  2365.12,2,   7.5964,2,    24.92,     -999,9,     -999,9,   0.9707,2,     -999,9,     -999,9,     -999,     -999,9,     -999,9,     -999,9,     -999,9,    0.061,1,    4.653,1,    0.128,1,     -999,9,     -999,9,20180430,0134, -69.4968,-102.9513,     -999,9,     -999,9,-999          ,9,     -999,9,     -999,9,     -999,     -999,9,     -999,     -999,9,     -999,9,     -999,9,     -999,9,     -999,9,     -999,9,     -999,9,     -999,9,     -999,9,     -999,9,     -999,9,     -999,9,     -999,9,     -999,9
320620180309  ,P18        ,99      ,  1,11         ,11         ,2,20180430,0029, -69.4968,-102.9734,     4081,   1759.5,0.9277541514489815455,34.715513104178576,2,  34.7151,2,201.44354238822288,2, 201.8014,2,    201.6,2,    119.4,2,    32.50,2,     0.00,2,     2.21,2,    0.114,2,    0.084,2,   0.0000,3,     -999,9,     -999,9,     -999,9,     -999,     -999,9,     -999,9,   0.9278,2,     -999,9,     -999,9,     -999,     -999,9,     -999,9,     -999,9,     -999,9,    0.060,1,    4.653,1,    0.128,1,  19.0600,2,     -999,9,20180430,0131, -69.4969,-102.9527,     -999,9,     -999,9,-999          ,9,     -999,9,     -999,9,     -999,     -999,9,     -999,     -999,9,     -999,9,     -999,9,     -999,9,     -999,9,     -999,9,     -999,9,     -999,9,     -999,9,     -999,9,     -999,9,     -999,9,     -999,9,     -999,9
320620180309  ,P18        ,99      ,  1,10         ,10         ,2,20180430,0029, -69.4968,-102.9734,     4081,   1891.8,0.8692013187036717881,34.713238532259780,2,  34.7131,2,202.27292731722730,2, 202.8978,2,    202.9,2,    121.0,2,    32.53,2,     0.00,2,     2.22,2,     -999,9,     -999,9,     -999,9,   2263.5,2,  2365.30,2,   7.5995,2,    24.90,     -999,9,     -999,9,   0.8687,2,     -999,9,     -999,9,     -999,     -999,9,     -999,9,     -999,9,     -999,9,    0.061,1,    4.653,1,    0.128,1,     -999,9,     -999,9,20180430,0127, -69.4969,-102.9542,     -999,9,     -999,9,-999          ,9,     -999,9,     -999,9,     -999,     -999,9,     -999,     -999,9,     -999,9,     -999,9,     -999,9,     -999,9,     -999,9,     -999,9,     -999,9,     -999,9,     -999,9,     -999,9,     -999,9,     -999,9,     -999,9
320620180309  ,P18        ,99      ,  1,9          ,9          ,2,20180430,0029, -69.4968,-102.9734,     4081,   2115.9,0.7761447925135513959,34.709782917501691,2,  34.7096,2,204.44542774208719,2, 204.6016,2,    204.5,2,    124.3,2,    32.58,2,     0.00,2,     2.22,2,    0.137,2,    0.077,2,   0.1100,3,   2263.9,2,  2363.35,2,   7.5984,2,    24.91,     -999,9,     -999,9,   0.7759,2,     -999,9,     -999,9,     -999,     -999,9,     -999,9,     -999,9,     -999,9,    0.061,1,    4.653,1,    0.128,1,  18.9500,2,     -999,9,20180430,0121, -69.4969,-102.9564,     -999,9,     -999,9,-999          ,9,     -999,9,     -999,9,     -999,     -999,9,     -999,     -999,9,     -999,9,     -999,9,     -999,9,     -999,9,     -999,9,     -999,9,     -999,9,     -999,9,     -999,9,     -999,9,     -999,9,     -999,9,     -999,9
320620180309  ,P18        ,99      ,  1,8          ,8          ,2,20180430,0029, -69.4968,-102.9734,     4081,   2371.2,0.6885156618430595676,34.707076966228499,2,  34.7070,2,206.17743927317113,2, 206.3033,2,    206.5,2,    127.1,2,    32.70,2,     0.00,2,     2.21,2,     -999,9,     -999,9,     -999,9,     -999,9,     -999,9,     -999,9,     -999,     -999,9,     -999,9,   0.6883,2,     -999,9,     -999,9,     -999,     -999,9,     -999,9,     -999,9,     -999,9,    0.061,1,    4.654,1,    0.126,1,     -999,9,     -999,9,20180430,0116, -69.4970,-102.9586,     -999,9,     -999,9,-999          ,9,     -999,9,     -999,9,     -999,     -999,9,     -999,     -999,9,     -999,9,     -999,9,     -999,9,     -999,9,     -999,9,     -999,9,     -999,9,     -999,9,     -999,9,     -999,9,     -999,9,     -999,9,     -999,9
320620180309  ,P18        ,99      ,  1,7          ,7          ,2,20180430,0029, -69.4968,-102.9734,     4081,   2627.0,0.5944913320875927498,34.704815168503536,2,  34.7053,2,208.58424331823755,2, 208.0980,2,    208.4,2,    129.9,2,    32.78,2,     0.00,2,     2.24,2,    0.170,2,    0.111,2,  -0.0300,3,   2262.9,2,  2365.08,2,   7.5957,2,    24.89,     -999,9,     -999,9,   0.5944,2,     -999,9,     -999,9,     -999,     -999,9,     -999,9,     -999,9,     -999,9,    0.061,1,    4.654,1,    0.126,1,  19.2700,2,     -999,9,20180430,0110, -69.4970,-102.9607,     -999,9,     -999,9,-999          ,9,     -999,9,     -999,9,     -999,     -999,9,     -999,     -999,9,     -999,9,     -999,9,     -999,9,     -999,9,     -999,9,     -999,9,     -999,9,     -999,9,     -999,9,     -999,9,     -999,9,     -999,9,     -999,9
320620180309  ,P18        ,99      ,  1,6          ,6          ,2,20180430,0029, -69.4968,-102.9734,     4081,   2882.8,0.5204189871749519414,34.703397988026815,2,  34.7031,2,209.85624492899703,2, 209.4943,2,    209.9,2,    132.2,2,    32.88,2,     0.00,2,     2.23,2,     -999,9,     -999,9,     -999,9,     -999,9,     -999,9,     -999,9,     -999,     -999,9,     -999,9,   0.5203,2,     -999,9,     -999,9,     -999,     -999,9,     -999,9,     -999,9,     -999,9,    0.061,1,    4.653,1,    0.127,1,     -999,9,     -999,9,20180430,0104, -69.4970,-102.9627,     -999,9,     -999,9,-999          ,9,     -999,9,     -999,9,     -999,     -999,9,     -999,     -999,9,     -999,9,     -999,9,     -999,9,     -999,9,     -999,9,     -999,9,     -999,9,     -999,9,     -999,9,     -999,9,     -999,9,     -999,9,     -999,9
320620180309  ,P18        ,99      ,  1,5          ,5          ,2,20180430,0029, -69.4968,-102.9734,     4081,   3138.6,0.4686152961765414626,34.702569805589548,2,  34.7019,2,211.30075933533840,2, 210.4985,2,    210.9,2,    135.2,2,    33.00,2,     0.00,2,     2.24,2,    0.189,2,    0.111,2,   0.0000,3,   2264.6,2,  2367.35,2,   7.5957,2,    24.92,     -999,9,     -999,9,   0.4686,2,     -999,9,     -999,9,     -999,     -999,9,     -999,9,     -999,9,     -999,9,    0.060,1,    4.652,1,    0.129,1,  18.8200,2,     -999,9,20180430,0058, -69.4970,-102.9647,     -999,9,     -999,9,-999          ,9,     -999,9,     -999,9,     -999,     -999,9,     -999,     -999,9,     -999,9,     -999,9,     -999,9,     -999,9,     -999,9,     -999,9,     -999,9,     -999,9,     -999,9,     -999,9,     -999,9,     -999,9,     -999,9
320620180309  ,P18        ,99      ,  1,4          ,4          ,2,20180430,0029, -69.4968,-102.9734,     4081,   3394.7,0.4396024831749677508,34.701946226821121,2,  34.7025,2,211.71224681237700,2, 211.4985,2,    212.0,2,    137.2,2,    33.00,2,     0.00,2,     2.24,2,     -999,9,     -999,9,     -999,9,     -999,9,     -999,9,     -999,9,     -999,     -999,9,     -999,9,   0.4395,2,     -999,9,     -999,9,     -999,     -999,9,     -999,9,     -999,9,     -999,9,    0.061,1,    4.651,1,    0.129,1,     -999,9,     -999,9,20180430,0052, -69.4970,-102.9667,     -999,9,     -999,9,-999          ,9,     -999,9,     -999,9,     -999,     -999,9,     -999,     -999,9,     -999,9,     -999,9,     -999,9,     -999,9,     -999,9,     -999,9,     -999,9,     -999,9,     -999,9,     -999,9,     -999,9,     -999,9,     -999,9
320620180309  ,P18        ,99      ,  1,3          ,3          ,2,20180430,0029, -69.4968,-102.9734,     4081,   3651.5,0.4184083169725487106,34.701625695323557,2,  34.7009,2,212.11500731309357,2, 212.2988,2,    212.2,2,    139.5,2,    32.98,2,     0.00,2,     2.23,2,    0.228,2,    0.117,2,   0.0000,3,   2266.6,2,  2365.88,2,   7.5948,6,    24.92,     -999,9,     -999,9,   0.4182,2,     -999,9,     -999,9,     -999,     -999,9,     -999,9,     -999,9,     -999,9,    0.061,1,    4.650,1,    0.129,1,  18.7600,2,     -999,9,20180430,0046, -69.4969,-102.9685,     -999,9,     -999,9,-999          ,9,     -999,9,     -999,9,     -999,     -999,9,     -999,     -999,9,     -999,9,     -999,9,     -999,9,     -999,9,     -999,9,     -999,9,     -999,9,     -999,9,     -999,9,     -999,9,     -999,9,     -999,9,     -999,9
320620180309  ,P18        ,99      ,  1,2          ,2          ,2,20180430,0029, -69.4968,-102.9734,     4081,   3857.3,0.3991748342524261139,34.700921672963503,2,  34.7007,2,213.01911222805469,2, 212.6023,2,    212.4,2,    142.0,2,    33.02,2,     0.00,2,     2.25,2,    0.266,2,    0.150,2,   0.0100,3,   2265.3,2,  2364.86,2,   7.5925,2,    24.90,     -999,9,     -999,9,   0.3992,2,     -999,9,     -999,9,     -999,     -999,9,     -999,9,     -999,9,     -999,9,    0.061,1,    4.649,1,    0.131,1,  19.2500,2,     -999,9,20180430,0040, -69.4969,-102.9703,     -999,9,     -999,9,-999          ,9,     -999,9,     -999,9,     -999,     -999,9,     -999,     -999,9,     -999,9,     -999,9,     -999,9,     -999,9,     -999,9,     -999,9,     -999,9,     -999,9,     -999,9,     -999,9,     -999,9,     -999,9,     -999,9
320620180309  ,P18        ,99      ,  1,1          ,1          ,2,20180430,0029, -69.4968,-102.9734,     4081,   4151.6,0.3602567151649352373,34.699291414135402,2,  34.6992,2,213.13067545116905,2, 213.5013,2,    213.1,2,    148.4,2,    33.15,2,     0.00,2,     2.25,2,    0.384,2,    0.190,2,   0.0400,3,   2267.1,6,  2366.01,2,   7.5889,2,    24.91,     -999,9,     -999,9,   0.3604,2,     -999,9,     -999,9,     -999,     -999,9,     -999,9,     -999,9,     -999,9,    0.061,1,    4.644,1,    0.135,1,  19.2700,2,     -999,9,20180430,0029, -69.4968,-102.9734,     -999,9,     -999,9,-999          ,9,     -999,9,     -999,9,     -999,     -999,9,     -999,     -999,9,     -999,9,     -999,9,     -999,9,     -999,9,     -999,9,     -999,9,     -999,9,     -999,9,     -999,9,     -999,9,     -999,9,     -999,9,     -999,9