BOTTLE,20240515CCHHYDRO
EXPOCODE,SECT_ID,STNNBR,CASTNO,SAMPNO,BTLNBR,BTLNBR_FLAG_W,DATE,TIME,LATITUDE,LONGITUDE,DEPTH,CTDPRS,CTDTMP,CTDSAL,CTDSAL_FLAG_W,SALNTY,SALNTY_FLAG_W,CTDOXY,CTDOXY_FLAG_W,CTDOPTOXY,CTDOPTOXY_FLAG_W,OXYGEN,OXYGEN_FLAG_W,SILCAT,SILCAT_FLAG_W,NITRAT,NITRAT_FLAG_W,NITRIT,NITRIT_FLAG_W,PHSPHT,PHSPHT_FLAG_W,CFC-11,CFC-11_FLAG_W,CFC-12,CFC-12_FLAG_W,SF6,SF6_FLAG_W,TCARBN,TCARBN_FLAG_W,ALKALI,ALKALI_FLAG_W,PH_TOT,PH_TOT_FLAG_W,PH_TMP,DOC,DOC_FLAG_W,HELIUM,HELIUM_FLAG_W,REFTMP,REFTMP_FLAG_W,DELC13,DELC13_FLAG_W,DELC14,DELC14_FLAG_W,C14ERR,POC,POC_FLAG_W,TDN,TDN_FLAG_W,TON,TON_FLAG_W,NEON,NEON_FLAG_W,CTDFLUOR,CTDFLUOR_FLAG_W,CTDXMISS,CTDXMISS_FLAG_W,CTDBETA700,CTDBETA700_FLAG_W,N2O,N2O_FLAG_W,ARGON,ARGON_FLAG_W,BTL_DATE,BTL_TIME,BTL_LAT,BTL_LON,KRYPTON,KRYPTON_FLAG_W,XENON,XENON_FLAG_W,HPLC,HPLC_FLAG_W,HE3_HE4_RATIO,HE3_HE4_RATIO_FLAG_W,Nd_143_144_D_EPSILON_BOTTLE,Nd_143_144_D_EPSILON_BOTTLE_FLAG_W,Nd_143_144_D_EPSILON_BOTTLE_ERROR,Nd_143_144_D_RATIO_BOTTLE,Nd_143_144_D_RATIO_BOTTLE_FLAG_W,Nd_143_144_D_RATIO_BOTTLE_ERROR,Nd_D_CONC,Nd_D_CONC_FLAG_W,La_D_CONC_BOTTLE,La_D_CONC_BOTTLE_FLAG_W,Ce_D_CONC_BOTTLE,Ce_D_CONC_BOTTLE_FLAG_W,Pr_D_CONC_BOTTLE,Pr_D_CONC_BOTTLE_FLAG_W,Sm_D_CONC_BOTTLE,Sm_D_CONC_BOTTLE_FLAG_W,Eu_D_CONC_BOTTLE,Eu_D_CONC_BOTTLE_FLAG_W,Gd_D_CONC_BOTTLE,Gd_D_CONC_BOTTLE_FLAG_W,Tb_D_CONC_BOTTLE,Tb_D_CONC_BOTTLE_FLAG_W,Dy_D_CONC_BOTTLE,Dy_D_CONC_BOTTLE_FLAG_W,Ho_D_CONC_BOTTLE,Ho_D_CONC_BOTTLE_FLAG_W,Er_D_CONC_BOTTLE,Er_D_CONC_BOTTLE_FLAG_W,Tm_D_CONC_BOTTLE,Tm_D_CONC_BOTTLE_FLAG_W,Yb_D_CONC_BOTTLE,Yb_D_CONC_BOTTLE_FLAG_W,Lu_D_CONC_BOTTLE,Lu_D_CONC_BOTTLE_FLAG_W
,,,,,,,,,,,METERS,DBAR,ITS-90,PSS-78,,PSS-78,,UMOL/KG,,UMOL/KG,,UMOL/KG,,UMOL/KG,,UMOL/KG,,UMOL/KG,,UMOL/KG,,PMOL/KG,,PMOL/KG,,FMOL/KG,,UMOL/KG,,UMOL/KG,,,,DEG C,UMOL/KG,,NMOL/L,,DEG C,,/MILLE,,/MILLE,,/MILLE,UG/KG,,UMOL/KG,,UMOL/KG,,NMOL/L,,VOLTS,,VOLTS,,VOLTS,,NMOL/KG,,UMOL/L,,,,,,NMOL/L,,NMOL/L,,,,,,10000,,10000,,,,PMOL/KG,,PMOL/L,,PMOL/L,,PMOL/L,,PMOL/L,,PMOL/L,,PMOL/L,,PMOL/L,,PMOL/L,,PMOL/L,,PMOL/L,,PMOL/L,,PMOL/L,,PMOL/L,
320620180309  ,S04P       ,71      ,  1,36         ,36         ,2,20180418,1835, -66.9996,-144.6990,     3798,     14.2,-1.3936250000000001137,33.824930101212111,2,  33.8212,2,349.97497044635548,2, 351.8951,2,    351.8,2,     39.9,2,    24.94,2,     0.28,2,     1.74,2,    5.804,2,    3.220,2,   3.8800,2,   2174.9,2,  2292.27,2,   7.6547,6,    24.91,     -999,9,     -999,9,  -1.3939,2,     -999,9,     -999,9,     -999,     -999,9,     -999,9,     -999,9,     -999,9,    0.197,1,    4.602,1,    0.195,1,  16.7500,2,     -999,9,20180418,2023, -66.9995,-144.6988,     -999,9,     -999,9,-999          ,9,     -999,9,     -999,9,     -999,     -999,9,     -999,     -999,9,     -999,9,     -999,9,     -999,9,     -999,9,     -999,9,     -999,9,     -999,9,     -999,9,     -999,9,     -999,9,     -999,9,     -999,9,     -999,9
320620180309  ,S04P       ,71      ,  1,35         ,35         ,2,20180418,1835, -66.9996,-144.6990,     3798,     34.5,-1.3953694444444446621,33.824922987782067,2,  33.8222,2,352.76490804274613,2, 351.8944,2,    351.8,2,     40.1,2,    24.94,2,     0.28,2,     1.74,2,     -999,9,     -999,9,     -999,9,   2174.7,6,  2290.92,2,   7.6555,2,    24.91,     -999,9,     -999,9,  -1.3956,2,     -999,9,     -999,9,     -999,     -999,9,     -999,9,     -999,9,     -999,9,    0.204,1,    4.603,1,    0.193,1,     -999,9,     -999,9,20180418,2022, -66.9996,-144.6988,     -999,9,     -999,9,-999          ,9,     -999,9,     -999,9,     -999,     -999,9,     -999,     -999,9,     -999,9,     -999,9,     -999,9,     -999,9,     -999,9,     -999,9,     -999,9,     -999,9,     -999,9,     -999,9,     -999,9,     -999,9,     -999,9
320620180309  ,S04P       ,71      ,  1,34         ,34         ,2,20180418,1835, -66.9996,-144.6990,     3798,     61.2,-1.3963944444444447157,33.825018268942962,2,  33.8214,2,352.14154350342380,2, 351.9055,2,    352.0,2,     40.1,2,    24.96,2,     0.28,2,     1.73,2,     -999,9,     -999,9,     -999,9,   2175.7,2,  2294.72,2,   7.6543,2,    24.91,     -999,9,     -999,9,  -1.3963,2,     -999,9,     -999,9,     -999,     -999,9,     -999,9,     -999,9,     -999,9,    0.200,1,    4.603,1,    0.192,1,     -999,9,     -999,9,20180418,2020, -66.9997,-144.6987,     -999,9,     -999,9,-999          ,9,     -999,9,     -999,9,     -999,     -999,9,     -999,     -999,9,     -999,9,     -999,9,     -999,9,     -999,9,     -999,9,     -999,9,     -999,9,     -999,9,     -999,9,     -999,9,     -999,9,     -999,9,     -999,9
320620180309  ,S04P       ,71      ,  1,33         ,33         ,2,20180418,1835, -66.9996,-144.6990,     3798,     85.2,-1.3961611111111111860,33.824988186494963,2,  33.8212,2,351.73081849862774,2, 351.8967,2,    351.8,2,     40.2,2,    24.96,2,     0.28,2,     1.74,2,     -999,9,     -999,9,     -999,9,     -999,9,     -999,9,     -999,9,     -999,     -999,9,     -999,9,  -1.3966,2,     -999,9,     -999,9,     -999,     -999,9,     -999,9,     -999,9,     -999,9,    0.192,1,    4.603,1,    0.197,1,     -999,9,     -999,9,20180418,2019, -66.9997,-144.6987,     -999,9,     -999,9,-999          ,9,     -999,9,     -999,9,     -999,     -999,9,     -999,     -999,9,     -999,9,     -999,9,     -999,9,     -999,9,     -999,9,     -999,9,     -999,9,     -999,9,     -999,9,     -999,9,     -999,9,     -999,9,     -999,9
320620180309  ,S04P       ,71      ,  1,32         ,32         ,2,20180418,1835, -66.9996,-144.6990,     3798,    110.2,-1.3738361111111112578,33.911367312164067,2,  33.9051,2,342.69344422023056,2, 340.3971,2,    341.6,2,     44.0,2,    25.65,2,     0.26,2,     1.82,2,    5.591,2,    3.128,2,   3.7100,2,   2186.1,2,  2300.21,2,   7.6461,2,    24.90,     -999,9,     -999,9,  -1.3741,2,     -999,9,     -999,9,     -999,     -999,9,     -999,9,     -999,9,     -999,9,    0.152,1,    4.618,1,    0.180,1,  17.5500,2,     -999,9,20180418,2017, -66.9998,-144.6986,     -999,9,     -999,9,-999          ,9,     -999,9,     -999,9,     -999,     -999,9,     -999,     -999,9,     -999,9,     -999,9,     -999,9,     -999,9,     -999,9,     -999,9,     -999,9,     -999,9,     -999,9,     -999,9,     -999,9,     -999,9,     -999,9
320620180309  ,S04P       ,71      ,  1,31         ,31         ,2,20180418,1835, -66.9996,-144.6990,     3798,    135.3,-0.6723333333333332273,34.253973473387475,2,  34.2532,2,284.73275624429141,3, 281.2014,2,    279.0,2,     64.5,2,    29.78,2,     0.13,2,     2.10,2,     -999,9,     -999,9,     -999,9,     -999,9,     -999,9,     -999,9,     -999,     -999,9,     -999,9,  -0.6628,2,     -999,9,     -999,9,     -999,     -999,9,     -999,9,     -999,9,     -999,9,    0.085,1,    4.644,1,    0.150,1,     -999,9,     -999,9,20180418,2015, -66.9999,-144.6986,     -999,9,     -999,9,-999          ,9,     -999,9,     -999,9,     -999,     -999,9,     -999,     -999,9,     -999,9,     -999,9,     -999,9,     -999,9,     -999,9,     -999,9,     -999,9,     -999,9,     -999,9,     -999,9,     -999,9,     -999,9,     -999,9
320620180309  ,S04P       ,71      ,  1,30         ,30         ,2,20180418,1835, -66.9996,-144.6990,     3798,    165.8,0.9691555555555555479,34.614335491013286,2,  34.6060,2,196.39599319934544,2, 199.0952,2,    195.3,2,     90.0,2,    33.43,2,     0.02,2,     2.28,2,     -999,9,     -999,9,     -999,9,   2256.5,2,  2340.47,2,   7.5452,2,    24.91,     -999,9,     -999,9,   0.9374,2,     -999,9,     -999,9,     -999,     -999,9,     -999,9,     -999,9,     -999,9,    0.064,1,    4.654,1,    0.144,1,     -999,9,     -999,9,20180418,2013, -67.0000,-144.6986,     -999,9,     -999,9,-999          ,9,     -999,9,     -999,9,     -999,     -999,9,     -999,     -999,9,     -999,9,     -999,9,     -999,9,     -999,9,     -999,9,     -999,9,     -999,9,     -999,9,     -999,9,     -999,9,     -999,9,     -999,9,     -999,9
320620180309  ,S04P       ,71      ,  1,29         ,29         ,2,20180418,1835, -66.9996,-144.6990,     3798,    217.0,1.3768555555555554992,34.699492305381902,2,  34.7002,2,179.43042827717437,2, 183.0993,3,    178.0,2,     97.1,2,    33.59,2,     0.01,2,     2.28,2,    0.480,2,    0.258,2,   0.1600,2,   2263.9,2,  2349.95,2,   7.5502,2,    24.91,     -999,9,     -999,9,   1.3757,2,     -999,9,     -999,9,     -999,     -999,9,     -999,9,     -999,9,     -999,9,    0.062,1,    4.655,1,    0.142,1,  22.8700,2,     -999,9,20180418,2011, -67.0000,-144.6985,     -999,9,     -999,9,-999          ,9,     -999,9,     -999,9,     -999,     -999,9,     -999,     -999,9,     -999,9,     -999,9,     -999,9,     -999,9,     -999,9,     -999,9,     -999,9,     -999,9,     -999,9,     -999,9,     -999,9,     -999,9,     -999,9
320620180309  ,S04P       ,71      ,  1,28         ,28         ,2,20180418,1835, -66.9996,-144.6990,     3798,    267.5,1.4368194444444444269,34.723634032608437,2,  34.7211,2,177.37123805202722,2, 180.8982,3,    176.1,2,    100.9,2,    33.44,2,     0.00,2,     2.24,2,     -999,9,     -999,9,     -999,9,   2265.9,6,  2352.07,2,   7.5570,2,    24.91,     -999,9,     -999,9,   1.4360,2,     -999,9,     -999,9,     -999,     -999,9,     -999,9,     -999,9,     -999,9,    0.062,1,    4.655,1,    0.142,1,     -999,9,     -999,9,20180418,2009, -67.0000,-144.6986,     -999,9,     -999,9,-999          ,9,     -999,9,     -999,9,     -999,     -999,9,     -999,     -999,9,     -999,9,     -999,9,     -999,9,     -999,9,     -999,9,     -999,9,     -999,9,     -999,9,     -999,9,     -999,9,     -999,9,     -999,9,     -999,9
320620180309  ,S04P       ,71      ,  1,27         ,27         ,2,20180418,1835, -66.9996,-144.6990,     3798,    318.0,1.4043277777777776194,34.728779476557470,2,  34.7257,2,178.45932490451787,2, 181.2033,2,    177.5,2,    103.4,2,    33.34,2,     0.00,2,     2.24,2,     -999,9,     -999,9,     -999,9,   2267.1,2,  2352.33,2,   7.5576,2,    24.91,     -999,9,     -999,9,   1.4037,2,     -999,9,     -999,9,     -999,     -999,9,     -999,9,     -999,9,     -999,9,    0.062,1,    4.659,1,    0.144,1,     -999,9,     -999,9,20180418,2007, -66.9998,-144.6986,     -999,9,     -999,9,-999          ,9,     -999,9,     -999,9,     -999,     -999,9,     -999,     -999,9,     -999,9,     -999,9,     -999,9,     -999,9,     -999,9,     -999,9,     -999,9,     -999,9,     -999,9,     -999,9,     -999,9,     -999,9,     -999,9
320620180309  ,S04P       ,71      ,  1,26         ,26         ,2,20180418,1835, -66.9996,-144.6990,     3798,    368.7,1.3515749999999999709,34.730302147605549,2,  34.7284,2,178.95098289841377,2, 182.0015,2,    179.2,2,    105.6,2,    33.31,2,     0.00,2,     2.25,2,    0.198,2,    0.100,2,   0.0800,2,   2266.4,2,  2354.87,2,   7.5578,2,    24.91,     -999,9,     -999,9,   1.3525,2,     -999,9,     -999,9,     -999,     -999,9,     -999,9,     -999,9,     -999,9,    0.063,1,    4.660,1,    0.137,1,  21.8000,2,     -999,9,20180418,2005, -66.9997,-144.6988,     -999,9,     -999,9,-999          ,9,     -999,9,     -999,9,     -999,     -999,9,     -999,     -999,9,     -999,9,     -999,9,     -999,9,     -999,9,     -999,9,     -999,9,     -999,9,     -999,9,     -999,9,     -999,9,     -999,9,     -999,9,     -999,9
320620180309  ,S04P       ,71      ,  1,25         ,25         ,2,20180418,1835, -66.9996,-144.6990,     3798,    439.6,1.2965166666666665396,34.730103709822707,2,  34.7278,2,180.50670718520925,2, 182.9967,2,    180.6,2,    107.8,2,    33.21,2,     0.00,2,     2.24,2,     -999,9,     -999,9,     -999,9,   2269.5,2,  2355.99,2,   7.5620,2,    24.91,     -999,9,     -999,9,   1.2948,2,     -999,9,     -999,9,     -999,     -999,9,     -999,9,     -999,9,     -999,9,    0.061,1,    4.660,1,    0.137,1,     -999,9,     -999,9,20180418,2003, -66.9996,-144.6989,     -999,9,     -999,9,-999          ,9,     -999,9,     -999,9,     -999,     -999,9,     -999,     -999,9,     -999,9,     -999,9,     -999,9,     -999,9,     -999,9,     -999,9,     -999,9,     -999,9,     -999,9,     -999,9,     -999,9,     -999,9,     -999,9
320620180309  ,S04P       ,71      ,  1,24         ,24         ,2,20180418,1835, -66.9996,-144.6990,     3798,    469.7,1.2695555555555551042,34.729806737043837,2,  34.7272,2,181.30822388237576,2, 183.4990,2,    182.0,2,    108.2,2,    33.15,2,     0.00,2,     2.24,2,     -999,9,     -999,9,     -999,9,     -999,9,     -999,9,     -999,9,     -999,     -999,9,     -999,9,   1.2691,2,     -999,9,     -999,9,     -999,     -999,9,     -999,9,     -999,9,     -999,9,    0.062,1,    4.661,1,    0.136,1,     -999,9,     -999,9,20180418,2001, -66.9995,-144.6990,     -999,9,     -999,9,-999          ,9,     -999,9,     -999,9,     -999,     -999,9,     -999,     -999,9,     -999,9,     -999,9,     -999,9,     -999,9,     -999,9,     -999,9,     -999,9,     -999,9,     -999,9,     -999,9,     -999,9,     -999,9,     -999,9
320620180309  ,S04P       ,71      ,  1,23         ,23         ,2,20180418,1835, -66.9996,-144.6990,     3798,    539.8,1.2190500000000001890,34.728594773114033,2,  34.7268,2,183.03191433489346,2, 184.8980,2,    183.9,2,    110.0,2,    33.04,2,     0.00,2,     2.23,2,    0.150,2,    0.073,2,   0.0000,2,   2266.2,2,  2357.21,2,   7.5668,2,    24.91,     -999,9,     -999,9,   1.2183,2,     -999,9,     -999,9,     -999,     -999,9,     -999,9,     -999,9,     -999,9,    0.062,1,    4.661,1,    0.134,1,  21.3200,2,     -999,9,20180418,1958, -66.9995,-144.6990,     -999,9,     -999,9,-999          ,9,     -999,9,     -999,9,     -999,     -999,9,     -999,     -999,9,     -999,9,     -999,9,     -999,9,     -999,9,     -999,9,     -999,9,     -999,9,     -999,9,     -999,9,     -999,9,     -999,9,     -999,9,     -999,9
320620180309  ,S04P       ,71      ,  1,22         ,37         ,2,20180418,1835, -66.9996,-144.6990,     3798,    641.2,1.1473999999999999755,34.726529861823948,2,  34.7247,2,187.22289616863850,2, 187.1017,2,    187.4,2,    112.3,2,    32.86,2,     0.00,2,     2.23,2,     -999,9,     -999,9,     -999,9,     -999,9,     -999,9,     -999,9,     -999,     -999,9,     -999,9,   1.1469,2,     -999,9,     -999,9,     -999,     -999,9,     -999,9,     -999,9,     -999,9,    0.062,1,    4.660,1,    0.136,1,     -999,9,     -999,9,20180418,1955, -66.9996,-144.6989,     -999,9,     -999,9,-999          ,9,     -999,9,     -999,9,     -999,     -999,9,     -999,     -999,9,     -999,9,     -999,9,     -999,9,     -999,9,     -999,9,     -999,9,     -999,9,     -999,9,     -999,9,     -999,9,     -999,9,     -999,9,     -999,9
320620180309  ,S04P       ,71      ,  1,21         ,21         ,2,20180418,1835, -66.9996,-144.6990,     3798,    742.6,1.0879777777777777104,34.724289721265720,2,  34.7227,2,189.92074586963625,2, 189.3973,2,    190.0,2,    114.0,2,    32.84,2,     0.00,2,     2.22,2,     -999,9,     -999,9,     -999,9,     -999,9,     -999,9,     -999,9,     -999,     -999,9,     -999,9,   1.0875,2,     -999,9,     -999,9,     -999,     -999,9,     -999,9,     -999,9,     -999,9,    0.061,1,    4.661,1,    0.134,1,     -999,9,     -999,9,20180418,1952, -66.9996,-144.6988,     -999,9,     -999,9,-999          ,9,     -999,9,     -999,9,     -999,     -999,9,     -999,     -999,9,     -999,9,     -999,9,     -999,9,     -999,9,     -999,9,     -999,9,     -999,9,     -999,9,     -999,9,     -999,9,     -999,9,     -999,9,     -999,9
320620180309  ,S04P       ,71      ,  1,20         ,20         ,2,20180418,1835, -66.9996,-144.6990,     3798,    843.7,1.0264027777777775530,34.721781606414915,2,  34.7200,2,193.50694213990545,2, 191.2000,2,    193.7,2,    115.5,2,    32.65,2,     0.00,2,     2.21,2,    0.126,2,    0.065,2,   0.0000,2,   2264.4,2,  2360.28,2,   7.5848,2,    24.91,     -999,9,     -999,9,   1.0246,2,     -999,9,     -999,9,     -999,     -999,9,     -999,9,     -999,9,     -999,9,    0.061,1,    4.662,1,    0.133,1,  20.2400,2,     -999,9,20180418,1950, -66.9997,-144.6988,     -999,9,     -999,9,-999          ,9,     -999,9,     -999,9,     -999,     -999,9,     -999,     -999,9,     -999,9,     -999,9,     -999,9,     -999,9,     -999,9,     -999,9,     -999,9,     -999,9,     -999,9,     -999,9,     -999,9,     -999,9,     -999,9
320620180309  ,S04P       ,71      ,  1,19         ,19         ,2,20180418,1835, -66.9996,-144.6990,     3798,    945.9,0.9748444444444444024,34.719633847105307,2,  34.7192,2,196.04178654060593,2, 193.6017,2,    195.7,2,    116.8,2,    32.60,2,     0.00,2,     2.21,2,     -999,9,     -999,9,     -999,9,     -999,9,     -999,9,     -999,9,     -999,     -999,9,     -999,9,   0.9740,2,     -999,9,     -999,9,     -999,     -999,9,     -999,9,     -999,9,     -999,9,    0.061,1,    4.662,1,    0.131,1,     -999,9,     -999,9,20180418,1947, -66.9997,-144.6988,     -999,9,     -999,9,-999          ,9,     -999,9,     -999,9,     -999,     -999,9,     -999,     -999,9,     -999,9,     -999,9,     -999,9,     -999,9,     -999,9,     -999,9,     -999,9,     -999,9,     -999,9,     -999,9,     -999,9,     -999,9,     -999,9
320620180309  ,S04P       ,71      ,  1,18         ,18         ,2,20180418,1835, -66.9996,-144.6990,     3798,   1047.3,0.9255111111111111732,34.717559350941606,2,  34.7172,2,196.98472528721982,2, 196.1988,2,    196.0,2,    118.7,2,    32.64,2,     0.00,2,     2.21,2,     -999,9,     -999,9,     -999,9,     -999,9,     -999,9,     -999,9,     -999,     -999,9,     -999,9,   0.9249,2,     -999,9,     -999,9,     -999,     -999,9,     -999,9,     -999,9,     -999,9,    0.061,1,    4.662,1,    0.129,1,     -999,9,     -999,9,20180418,1944, -66.9997,-144.6988,     -999,9,     -999,9,-999          ,9,     -999,9,     -999,9,     -999,     -999,9,     -999,     -999,9,     -999,9,     -999,9,     -999,9,     -999,9,     -999,9,     -999,9,     -999,9,     -999,9,     -999,9,     -999,9,     -999,9,     -999,9,     -999,9
320620180309  ,S04P       ,71      ,  1,17         ,17         ,2,20180418,1835, -66.9996,-144.6990,     3798,   1148.6,0.8748222222222223898,34.715288995163036,2,  34.7147,2,198.72776453956007,2, 197.5959,2,    198.0,2,    120.2,2,    32.64,2,     0.00,2,     2.20,2,    0.116,2,    0.055,2,   0.0600,2,   2267.5,2,  2362.72,2,   7.5874,2,    24.91,     -999,9,     -999,9,   0.8723,2,     -999,9,     -999,9,     -999,     -999,9,     -999,9,     -999,9,     -999,9,    0.062,1,    4.663,1,    0.130,1,  20.1400,2,     -999,9,20180418,1941, -66.9998,-144.6987,     -999,9,     -999,9,-999          ,9,     -999,9,     -999,9,     -999,     -999,9,     -999,     -999,9,     -999,9,     -999,9,     -999,9,     -999,9,     -999,9,     -999,9,     -999,9,     -999,9,     -999,9,     -999,9,     -999,9,     -999,9,     -999,9
320620180309  ,S04P       ,71      ,  1,16         ,16         ,2,20180418,1835, -66.9996,-144.6990,     3798,   1250.4,0.8185555555555557028,34.712920570496543,2,  34.7123,2,201.83336586391968,2, 198.9009,2,    200.5,2,    121.5,2,    32.45,2,     0.00,2,     2.22,2,     -999,9,     -999,9,     -999,9,     -999,9,     -999,9,     -999,9,     -999,     -999,9,     -999,9,   0.8173,2,     -999,9,     -999,9,     -999,     -999,9,     -999,9,     -999,9,     -999,9,    0.061,1,    4.663,1,    0.129,1,     -999,9,     -999,9,20180418,1938, -66.9998,-144.6986,     -999,9,     -999,9,-999          ,9,     -999,9,     -999,9,     -999,     -999,9,     -999,     -999,9,     -999,9,     -999,9,     -999,9,     -999,9,     -999,9,     -999,9,     -999,9,     -999,9,     -999,9,     -999,9,     -999,9,     -999,9,     -999,9