BOTTLE,20240515CCHHYDRO
EXPOCODE,SECT_ID,STNNBR,CASTNO,SAMPNO,BTLNBR,BTLNBR_FLAG_W,DATE,TIME,LATITUDE,LONGITUDE,DEPTH,CTDPRS,CTDTMP,CTDSAL,CTDSAL_FLAG_W,SALNTY,SALNTY_FLAG_W,CTDOXY,CTDOXY_FLAG_W,CTDOPTOXY,CTDOPTOXY_FLAG_W,OXYGEN,OXYGEN_FLAG_W,SILCAT,SILCAT_FLAG_W,NITRAT,NITRAT_FLAG_W,NITRIT,NITRIT_FLAG_W,PHSPHT,PHSPHT_FLAG_W,CFC-11,CFC-11_FLAG_W,CFC-12,CFC-12_FLAG_W,SF6,SF6_FLAG_W,TCARBN,TCARBN_FLAG_W,ALKALI,ALKALI_FLAG_W,PH_TOT,PH_TOT_FLAG_W,PH_TMP,DOC,DOC_FLAG_W,HELIUM,HELIUM_FLAG_W,REFTMP,REFTMP_FLAG_W,DELC13,DELC13_FLAG_W,DELC14,DELC14_FLAG_W,C14ERR,POC,POC_FLAG_W,TDN,TDN_FLAG_W,TON,TON_FLAG_W,NEON,NEON_FLAG_W,CTDFLUOR,CTDFLUOR_FLAG_W,CTDXMISS,CTDXMISS_FLAG_W,CTDBETA700,CTDBETA700_FLAG_W,N2O,N2O_FLAG_W,ARGON,ARGON_FLAG_W,BTL_DATE,BTL_TIME,BTL_LAT,BTL_LON,KRYPTON,KRYPTON_FLAG_W,XENON,XENON_FLAG_W,HPLC,HPLC_FLAG_W,HE3_HE4_RATIO,HE3_HE4_RATIO_FLAG_W,Nd_143_144_D_EPSILON_BOTTLE,Nd_143_144_D_EPSILON_BOTTLE_FLAG_W,Nd_143_144_D_EPSILON_BOTTLE_ERROR,Nd_143_144_D_RATIO_BOTTLE,Nd_143_144_D_RATIO_BOTTLE_FLAG_W,Nd_143_144_D_RATIO_BOTTLE_ERROR,Nd_D_CONC,Nd_D_CONC_FLAG_W,La_D_CONC_BOTTLE,La_D_CONC_BOTTLE_FLAG_W,Ce_D_CONC_BOTTLE,Ce_D_CONC_BOTTLE_FLAG_W,Pr_D_CONC_BOTTLE,Pr_D_CONC_BOTTLE_FLAG_W,Sm_D_CONC_BOTTLE,Sm_D_CONC_BOTTLE_FLAG_W,Eu_D_CONC_BOTTLE,Eu_D_CONC_BOTTLE_FLAG_W,Gd_D_CONC_BOTTLE,Gd_D_CONC_BOTTLE_FLAG_W,Tb_D_CONC_BOTTLE,Tb_D_CONC_BOTTLE_FLAG_W,Dy_D_CONC_BOTTLE,Dy_D_CONC_BOTTLE_FLAG_W,Ho_D_CONC_BOTTLE,Ho_D_CONC_BOTTLE_FLAG_W,Er_D_CONC_BOTTLE,Er_D_CONC_BOTTLE_FLAG_W,Tm_D_CONC_BOTTLE,Tm_D_CONC_BOTTLE_FLAG_W,Yb_D_CONC_BOTTLE,Yb_D_CONC_BOTTLE_FLAG_W,Lu_D_CONC_BOTTLE,Lu_D_CONC_BOTTLE_FLAG_W
,,,,,,,,,,,METERS,DBAR,ITS-90,PSS-78,,PSS-78,,UMOL/KG,,UMOL/KG,,UMOL/KG,,UMOL/KG,,UMOL/KG,,UMOL/KG,,UMOL/KG,,PMOL/KG,,PMOL/KG,,FMOL/KG,,UMOL/KG,,UMOL/KG,,,,DEG C,UMOL/KG,,NMOL/L,,DEG C,,/MILLE,,/MILLE,,/MILLE,UG/KG,,UMOL/KG,,UMOL/KG,,NMOL/L,,VOLTS,,VOLTS,,VOLTS,,NMOL/KG,,UMOL/L,,,,,,NMOL/L,,NMOL/L,,,,,,10000,,10000,,,,PMOL/KG,,PMOL/L,,PMOL/L,,PMOL/L,,PMOL/L,,PMOL/L,,PMOL/L,,PMOL/L,,PMOL/L,,PMOL/L,,PMOL/L,,PMOL/L,,PMOL/L,,PMOL/L,
320620180309  ,P16        ,52      ,  1,36         ,36         ,2,20180408,0518, -67.9999,-150.0001,     4229,      9.1,-1.4141777777777779779,33.819199015622665,2,  33.8171,2,362.61547052914085,3, 330.6972,2,    349.0,2,     43.8,2,    24.74,2,     0.20,2,     1.78,2,    5.849,2,    3.129,2,   3.5800,2,   2175.1,6,  2290.13,2,   7.6597,2,    24.92,     45.0,3,     -999,9,  -1.4163,2,     -999,9,     -999,9,     -999,     -999,9,    28.20,2,     -999,1,     -999,9,    0.106,1,    4.635,1,    0.154,1,  17.2500,2,     -999,9,20180408,0718, -68.0003,-149.9996,     -999,9,     -999,9,-999          ,9,     -999,9,     -999,9,     -999,     -999,9,     -999,     -999,9,     -999,9,     -999,9,     -999,9,     -999,9,     -999,9,     -999,9,     -999,9,     -999,9,     -999,9,     -999,9,     -999,9,     -999,9,     -999,9
320620180309  ,P16        ,52      ,  1,35         ,35         ,2,20180408,0518, -67.9999,-150.0001,     4229,     35.1,-1.4170555555555557348,33.819256259000454,2,  33.8173,2,363.91150126726501,3, 330.6989,2,    347.2,2,     43.8,2,    24.71,2,     0.20,2,     1.78,2,    5.983,2,    3.236,2,   3.6600,2,   2175.8,2,  2292.31,2,   7.6609,2,    24.91,     -999,5,     -999,9,  -1.4173,2,     -999,9,     -999,9,     -999,     -999,9,     -999,5,     -999,1,     -999,9,    0.103,1,    4.636,1,    0.157,1,  17.0700,2,     -999,9,20180408,0715, -68.0002,-149.9997,     -999,9,     -999,9,-999          ,9,     -999,9,     -999,9,     -999,     -999,9,     -999,     -999,9,     -999,9,     -999,9,     -999,9,     -999,9,     -999,9,     -999,9,     -999,9,     -999,9,     -999,9,     -999,9,     -999,9,     -999,9,     -999,9
320620180309  ,P16        ,52      ,  1,34         ,34         ,2,20180408,0518, -67.9999,-150.0001,     4229,     60.2,-1.4109194444444446148,33.819826255694046,2,  33.8181,2,365.10328079344879,3, 330.7006,2,    347.5,2,     43.8,2,    24.68,2,     0.20,2,     1.78,2,     -999,9,     -999,9,     -999,9,   2176.2,2,  2290.02,2,   7.6618,6,    24.91,     42.9,2,     -999,9,  -1.4121,2,     -999,9,     -999,9,     -999,     -999,9,    28.70,2,     -999,1,     -999,9,    0.108,1,    4.635,1,    0.160,1,     -999,9,     -999,9,20180408,0714, -68.0000,-150.0000,     -999,9,     -999,9,-999          ,9,     -999,9,     -999,9,     -999,     -999,9,     -999,     -999,9,     -999,9,     -999,9,     -999,9,     -999,9,     -999,9,     -999,9,     -999,9,     -999,9,     -999,9,     -999,9,     -999,9,     -999,9,     -999,9
320620180309  ,P16        ,52      ,  1,33         ,33         ,2,20180408,0518, -67.9999,-150.0001,     4229,     86.4,-1.3651916666666668032,33.865179112240199,2,  33.8593,2,360.58543312739846,3, 357.5986,2,    340.6,2,     45.1,2,    25.17,2,     0.20,2,     1.81,2,    5.617,2,    3.003,2,   3.4100,2,   2179.9,2,  2292.87,2,   7.6541,6,    24.92,     43.5,2,     -999,9,  -1.3677,2,     -999,9,     -999,9,     -999,     -999,9,    28.20,2,     -999,1,     -999,9,    0.108,1,    4.634,1,    0.159,1,  18.0600,2,     -999,9,20180408,0712, -67.9998,-150.0004,     -999,9,     -999,9,-999          ,9,     -999,9,     -999,9,     -999,     -999,9,     -999,     -999,9,     -999,9,     -999,9,     -999,9,     -999,9,     -999,9,     -999,9,     -999,9,     -999,9,     -999,9,     -999,9,     -999,9,     -999,9,     -999,9
320620180309  ,P16        ,52      ,  1,32         ,32         ,2,20180408,0518, -67.9999,-150.0001,     4229,    109.6,-0.9654472222222223454,34.169010859999013,2,  34.1592,2,304.46701069756989,3, 303.0017,2,    287.6,2,     56.9,2,    28.66,2,     0.13,2,     2.02,2,     -999,9,     -999,9,     -999,9,   2214.0,2,  2311.90,2,   7.6046,2,    24.92,     42.4,2,     -999,9,  -0.9536,2,     -999,9,     -999,9,     -999,     -999,9,    31.80,2,     -999,1,     -999,9,    0.091,1,    4.642,1,    0.152,1,     -999,9,     -999,9,20180408,0710, -67.9996,-150.0006,     -999,9,     -999,9,-999          ,9,     -999,9,     -999,9,     -999,     -999,9,     -999,     -999,9,     -999,9,     -999,9,     -999,9,     -999,9,     -999,9,     -999,9,     -999,9,     -999,9,     -999,9,     -999,9,     -999,9,     -999,9,     -999,9
320620180309  ,P16        ,52      ,  1,31         ,31         ,2,20180408,0518, -67.9999,-150.0001,     4229,    136.0,0.0479250000000000023,34.383990153661564,2,  34.3837,2,254.89956088686981,3, 229.8934,2,    238.3,2,     72.0,2,    31.43,2,     0.05,2,     2.17,2,    2.782,2,    1.506,2,   1.6700,2,   2236.5,2,  2325.53,2,   7.5735,2,    24.92,     -999,9,     -999,9,   0.0130,2,     -999,9,     -999,9,     -999,     -999,9,     -999,9,     -999,9,     -999,9,    0.078,1,    4.649,1,    0.145,1,  23.4500,2,     -999,9,20180408,0708, -67.9995,-150.0007,     -999,9,     -999,9,-999          ,9,     -999,9,     -999,9,     -999,     -999,9,     -999,     -999,9,     -999,9,     -999,9,     -999,9,     -999,9,     -999,9,     -999,9,     -999,9,     -999,9,     -999,9,     -999,9,     -999,9,     -999,9,     -999,9
320620180309  ,P16        ,52      ,  1,30         ,30         ,2,20180408,0518, -67.9999,-150.0001,     4229,    165.8,0.7900472222222222340,34.539035040546636,2,  34.5391,2,216.03430362766969,3, 204.4963,2,    208.6,2,     82.6,2,    32.94,2,     0.00,2,     2.25,2,    1.777,2,    0.954,2,   0.8400,2,   2251.6,2,  2333.78,2,   7.5565,2,    24.92,     43.6,2,     -999,9,   0.7873,2,     -999,9,     -999,9,     -999,     -999,9,    34.80,2,     -999,1,     -999,9,    0.076,1,    4.654,1,    0.143,1,  23.4200,2,     -999,9,20180408,0706, -67.9996,-150.0005,     -999,9,     -999,9,-999          ,9,     -999,9,     -999,9,     -999,     -999,9,     -999,     -999,9,     -999,9,     -999,9,     -999,9,     -999,9,     -999,9,     -999,9,     -999,9,     -999,9,     -999,9,     -999,9,     -999,9,     -999,9,     -999,9
320620180309  ,P16        ,52      ,  1,29         ,29         ,2,20180408,0518, -67.9999,-150.0001,     4229,    216.1,1.5112805555555555159,34.686582686348906,2,  34.6852,2,182.81279884516715,2, 185.7013,2,    181.8,2,     91.7,2,    33.13,2,     0.00,2,     2.26,2,    0.558,2,    0.298,2,   0.2100,2,   2263.2,2,  2348.05,2,   7.5593,2,    24.92,     41.8,2,     -999,9,   1.5069,2,     -999,9,     -999,9,     -999,     -999,9,    35.20,2,     -999,1,     -999,9,    0.063,1,    4.660,1,    0.140,1,  23.4000,2,     -999,9,20180408,0704, -67.9997,-150.0001,     -999,9,     -999,9,-999          ,9,     -999,9,     -999,9,     -999,     -999,9,     -999,     -999,9,     -999,9,     -999,9,     -999,9,     -999,9,     -999,9,     -999,9,     -999,9,     -999,9,     -999,9,     -999,9,     -999,9,     -999,9,     -999,9
320620180309  ,P16        ,52      ,  1,28         ,28         ,2,20180408,0518, -67.9999,-150.0001,     4229,    267.5,1.5620111111111110169,34.716335364241424,2,  34.7157,2,180.73601289135974,2, 183.7977,2,    181.2,2,     95.6,2,    32.93,2,     0.00,2,     2.24,2,    0.346,2,    0.191,2,   0.1400,2,   2263.0,6,  2350.25,2,   7.5655,2,    24.92,     43.4,2,     -999,9,   1.5610,2,     -999,9,     -999,9,     -999,     -999,9,    35.70,2,     -999,1,     -999,9,    0.063,1,    4.663,1,    0.136,1,  22.5800,2,     -999,9,20180408,0702, -68.0000,-149.9999,     -999,9,     -999,9,-999          ,9,     -999,9,     -999,9,     -999,     -999,9,     -999,     -999,9,     -999,9,     -999,9,     -999,9,     -999,9,     -999,9,     -999,9,     -999,9,     -999,9,     -999,9,     -999,9,     -999,9,     -999,9,     -999,9
320620180309  ,P16        ,52      ,  1,27         ,27         ,2,20180408,0518, -67.9999,-150.0001,     4229,    318.1,1.5184750000000002412,34.726118591619993,2,  34.7253,2,181.76722464283253,2, 184.2999,2,    181.9,2,     98.4,2,    32.79,2,     0.00,2,     2.23,2,    0.266,2,    0.138,2,   0.0400,2,   2265.0,2,  2352.65,2,   7.5708,2,    24.91,     42.0,2,     -999,9,   1.5175,2,     -999,9,     -999,9,     -999,     -999,9,     -999,9,     -999,1,     -999,9,    0.062,1,    4.665,1,    0.135,1,  23.0600,2,     -999,9,20180408,0659, -68.0001,-149.9999,     -999,9,     -999,9,-999          ,9,     -999,9,     -999,9,     -999,     -999,9,     -999,     -999,9,     -999,9,     -999,9,     -999,9,     -999,9,     -999,9,     -999,9,     -999,9,     -999,9,     -999,9,     -999,9,     -999,9,     -999,9,     -999,9
320620180309  ,P16        ,52      ,  1,26         ,26         ,2,20180408,0518, -67.9999,-150.0001,     4229,    367.7,1.4746888888888889380,34.728930719705900,2,  34.7278,2,182.51765869119879,2, 185.0030,2,    182.3,2,    100.1,2,    32.78,2,     0.00,2,     2.24,2,    0.234,2,    0.124,2,   0.1700,2,   2263.8,2,  2353.01,2,   7.5700,2,    24.93,     -999,5,     -999,9,   1.4756,2,     -999,9,     -999,9,     -999,     -999,9,     -999,9,     -999,1,     -999,9,    0.062,1,    4.666,1,    0.132,1,  23.1900,2,     -999,9,20180408,0657, -68.0002,-149.9998,     -999,9,     -999,9,-999          ,9,     -999,9,     -999,9,     -999,     -999,9,     -999,     -999,9,     -999,9,     -999,9,     -999,9,     -999,9,     -999,9,     -999,9,     -999,9,     -999,9,     -999,9,     -999,9,     -999,9,     -999,9,     -999,9
320620180309  ,P16        ,52      ,  1,25         ,25         ,2,20180408,0518, -67.9999,-150.0001,     4229,    419.7,1.4217916666666665648,34.730306573646992,2,  34.7292,2,183.12948352817997,2, 185.9028,2,    183.4,2,    102.4,2,    32.77,2,     0.00,2,     2.23,2,    0.211,2,    0.109,2,   0.0500,2,   2262.6,2,  2355.56,2,   7.5716,2,    24.91,     42.2,2,     -999,9,   1.4202,2,     -999,9,     -999,9,     -999,     -999,9,     -999,9,     -999,1,     -999,9,    0.062,1,    4.666,1,    0.134,1,  22.2700,2,     -999,9,20180408,0655, -68.0004,-149.9997,     -999,9,     -999,9,-999          ,9,     -999,9,     -999,9,     -999,     -999,9,     -999,     -999,9,     -999,9,     -999,9,     -999,9,     -999,9,     -999,9,     -999,9,     -999,9,     -999,9,     -999,9,     -999,9,     -999,9,     -999,9,     -999,9
320620180309  ,P16        ,52      ,  1,24         ,24         ,2,20180408,0518, -67.9999,-150.0001,     4229,    469.7,1.3772138888888889596,34.730751331750049,2,  34.7296,2,183.40440577417229,2, 186.6996,2,    183.4,2,    104.5,2,    32.78,2,     0.00,2,     2.23,2,    0.187,2,    0.099,2,   0.1000,2,   2264.7,2,  2356.14,2,   7.5723,2,    24.93,     42.5,2,     -999,9,   1.3779,2,     -999,9,     -999,9,     -999,     -999,9,     -999,9,     -999,1,     -999,9,    0.061,1,    4.665,1,    0.131,1,  21.9500,2,     -999,9,20180408,0653, -68.0004,-149.9997,     -999,9,     -999,9,-999          ,9,     -999,9,     -999,9,     -999,     -999,9,     -999,     -999,9,     -999,9,     -999,9,     -999,9,     -999,9,     -999,9,     -999,9,     -999,9,     -999,9,     -999,9,     -999,9,     -999,9,     -999,9,     -999,9
320620180309  ,P16        ,52      ,  1,23         ,23         ,2,20180408,0518, -67.9999,-150.0001,     4229,    540.1,1.3177222222222222392,34.730324174982094,2,  34.7294,2,184.52653459039530,2, 187.7028,2,    184.6,2,    106.7,2,    32.85,2,     0.00,2,     2.23,2,    0.166,2,    0.086,2,   0.0700,2,   2265.6,2,  2357.26,2,   7.5752,2,    24.92,     42.3,2,     -999,9,   1.3172,2,     -999,9,     -999,9,     -999,     -999,9,     -999,9,     -999,1,     -999,9,    0.061,1,    4.665,1,    0.132,1,  21.4300,2,     -999,9,20180408,0650, -68.0005,-149.9996,     -999,9,     -999,9,-999          ,9,     -999,9,     -999,9,     -999,     -999,9,     -999,     -999,9,     -999,9,     -999,9,     -999,9,     -999,9,     -999,9,     -999,9,     -999,9,     -999,9,     -999,9,     -999,9,     -999,9,     -999,9,     -999,9
320620180309  ,P16        ,52      ,  1,22         ,37         ,2,20180408,0518, -67.9999,-150.0001,     4229,    642.8,1.2471416666666668149,34.728793800437131,2,  34.7280,2,186.06346122504962,2, 189.0979,2,    186.4,2,    108.9,2,    32.87,2,     0.00,2,     2.22,2,     -999,9,     -999,9,     -999,9,   2266.4,2,  2356.45,2,   7.5765,2,    24.92,     42.4,2,     -999,9,   1.2463,2,     -999,9,     -999,9,     -999,     -999,9,     -999,9,     -999,1,     -999,9,    0.061,1,    4.665,1,    0.131,1,     -999,9,     -999,9,20180408,0647, -68.0005,-149.9995,     -999,9,     -999,9,-999          ,9,     -999,9,     -999,9,     -999,     -999,9,     -999,     -999,9,     -999,9,     -999,9,     -999,9,     -999,9,     -999,9,     -999,9,     -999,9,     -999,9,     -999,9,     -999,9,     -999,9,     -999,9,     -999,9
320620180309  ,P16        ,52      ,  1,21         ,21         ,2,20180408,0518, -67.9999,-150.0001,     4229,    744.2,1.1711444444444445434,34.726609863741196,2,  34.7263,2,188.43510809681106,2, 190.7038,2,    189.0,2,    111.5,2,    32.77,2,     0.00,2,     2.21,2,    0.135,2,    0.072,2,   0.0500,2,   2265.7,2,  2359.57,2,   7.5773,2,    24.93,     -999,5,     -999,9,   1.1705,2,     -999,9,     -999,9,     -999,     -999,9,     -999,9,     -999,1,     -999,9,    0.062,1,    4.666,1,    0.131,1,  21.4000,2,     -999,9,20180408,0644, -68.0002,-149.9997,     -999,9,     -999,9,-999          ,9,     -999,9,     -999,9,     -999,     -999,9,     -999,     -999,9,     -999,9,     -999,9,     -999,9,     -999,9,     -999,9,     -999,9,     -999,9,     -999,9,     -999,9,     -999,9,     -999,9,     -999,9,     -999,9
320620180309  ,P16        ,52      ,  1,20         ,20         ,2,20180408,0518, -67.9999,-150.0001,     4229,    844.3,1.1106527777777779331,34.724434031584323,2,  34.7241,2,190.94277893690196,2, 192.0961,2,    191.1,2,    113.2,2,    32.69,2,     0.00,2,     2.21,2,     -999,9,     -999,9,     -999,9,   2264.7,2,  2359.96,2,   7.5803,2,    24.91,     38.7,2,     -999,9,   1.1102,2,     -999,9,     -999,9,     -999,     -999,9,     -999,9,     -999,1,     -999,9,    0.061,1,    4.666,1,    0.130,1,     -999,9,     -999,9,20180408,0641, -68.0001,-149.9998,     -999,9,     -999,9,-999          ,9,     -999,9,     -999,9,     -999,     -999,9,     -999,     -999,9,     -999,9,     -999,9,     -999,9,     -999,9,     -999,9,     -999,9,     -999,9,     -999,9,     -999,9,     -999,9,     -999,9,     -999,9,     -999,9
320620180309  ,P16        ,52      ,  1,19         ,19         ,2,20180408,0518, -67.9999,-150.0001,     4229,    946.1,1.0431638888888885575,34.721707794330499,2,  34.7217,2,193.30890997614227,2, 193.2958,2,    193.9,2,    115.1,2,    32.61,2,     0.00,2,     2.21,2,    0.114,2,    0.068,2,   0.1000,2,   2264.7,2,  2360.42,2,   7.5875,2,    24.92,     41.0,2,     -999,9,   1.0421,2,     -999,9,     -999,9,     -999,     -999,9,     -999,9,     -999,1,     -999,9,    0.060,1,    4.666,1,    0.131,1,  21.3000,2,     -999,9,20180408,0638, -68.0001,-149.9999,     -999,9,     -999,9,-999          ,9,     -999,9,     -999,9,     -999,     -999,9,     -999,     -999,9,     -999,9,     -999,9,     -999,9,     -999,9,     -999,9,     -999,9,     -999,9,     -999,9,     -999,9,     -999,9,     -999,9,     -999,9,     -999,9
320620180309  ,P16        ,52      ,  1,18         ,18         ,2,20180408,0518, -67.9999,-150.0001,     4229,   1047.7,0.9825944444444443260,34.719406189289664,2,  34.7188,2,195.24706234213258,2, 194.8977,2,    195.6,2,    116.9,2,    32.60,2,     0.00,2,     2.21,2,     -999,9,     -999,9,     -999,9,   2264.0,2,  2361.87,2,   7.5884,2,    24.92,     -999,5,     -999,9,   0.9818,2,     -999,9,     -999,9,     -999,     -999,9,     -999,9,     -999,1,     -999,9,    0.061,1,    4.667,1,    0.130,1,     -999,9,     -999,9,20180408,0635, -67.9998,-150.0003,     -999,9,     -999,9,-999          ,9,     -999,9,     -999,9,     -999,     -999,9,     -999,     -999,9,     -999,9,     -999,9,     -999,9,     -999,9,     -999,9,     -999,9,     -999,9,     -999,9,     -999,9,     -999,9,     -999,9,     -999,9,     -999,9
320620180309  ,P16        ,52      ,  1,17         ,17         ,2,20180408,0518, -67.9999,-150.0001,     4229,   1149.6,0.9299500000000000544,34.717210653412153,2,  34.7170,2,196.63986419181805,2, 196.2023,2,    197.3,2,    118.4,2,    32.60,2,     0.00,2,     2.21,2,    0.112,2,    0.060,2,  -0.0300,2,   2264.0,2,  2363.62,2,   7.5879,2,    24.92,     40.5,2,     -999,9,   0.9292,2,     -999,9,     -999,9,     -999,     -999,9,     -999,9,     -999,1,     -999,9,    0.061,1,    4.667,1,    0.129,1,  20.6500,2,     -999,9,20180408,0632, -67.9996,-150.0007,     -999,9,     -999,9,-999          ,9,     -999,9,     -999,9,     -999,     -999,9,     -999,     -999,9,     -999,9,     -999,9,     -999,9,     -999,9,     -999,9,     -999,9,     -999,9,     -999,9,     -999,9,     -999,9,     -999,9,     -999,9,     -999,9
320620180309  ,P16        ,52      ,  1,16         ,16         ,2,20180408,0518, -67.9999,-150.0001,     4229,   1250.3,0.8747666666666668034,34.714891191406508,2,  34.7149,2,198.44967774230136,2, 197.5913,2,    199.0,2,    120.3,2,    32.62,2,     0.00,2,     2.21,2,     -999,9,     -999,9,     -999,9,   2264.0,6,  2361.84,2,   7.5951,6,    24.91,     41.7,2,     -999,9,   0.8738,2,     -999,9,     -999,9,     -999,     -999,9,     -999,9,     -999,1,     -999,9,    0.061,1,    4.667,1,    0.128,1,     -999,9,     -999,9,20180408,0629, -68.0003,-149.9996,     -999,9,     -999,9,-999          ,9,     -999,9,     -999,9,     -999,     -999,9,     -999,     -999,9,     -999,9,     -999,9,     -999,9,     -999,9,     -999,9,     -999,9,     -999,9,     -999,9,     -999,9,     -999,9,     -999,9,     -999,9,     -999,9