BOTTLE,20240515CCHHYDRO
EXPOCODE,SECT_ID,STNNBR,CASTNO,SAMPNO,BTLNBR,BTLNBR_FLAG_W,DATE,TIME,LATITUDE,LONGITUDE,DEPTH,CTDPRS,CTDTMP,CTDSAL,CTDSAL_FLAG_W,SALNTY,SALNTY_FLAG_W,CTDOXY,CTDOXY_FLAG_W,CTDOPTOXY,CTDOPTOXY_FLAG_W,OXYGEN,OXYGEN_FLAG_W,SILCAT,SILCAT_FLAG_W,NITRAT,NITRAT_FLAG_W,NITRIT,NITRIT_FLAG_W,PHSPHT,PHSPHT_FLAG_W,CFC-11,CFC-11_FLAG_W,CFC-12,CFC-12_FLAG_W,SF6,SF6_FLAG_W,TCARBN,TCARBN_FLAG_W,ALKALI,ALKALI_FLAG_W,PH_TOT,PH_TOT_FLAG_W,PH_TMP,DOC,DOC_FLAG_W,HELIUM,HELIUM_FLAG_W,REFTMP,REFTMP_FLAG_W,DELC13,DELC13_FLAG_W,DELC14,DELC14_FLAG_W,C14ERR,POC,POC_FLAG_W,TDN,TDN_FLAG_W,TON,TON_FLAG_W,NEON,NEON_FLAG_W,CTDFLUOR,CTDFLUOR_FLAG_W,CTDXMISS,CTDXMISS_FLAG_W,CTDBETA700,CTDBETA700_FLAG_W,N2O,N2O_FLAG_W,ARGON,ARGON_FLAG_W,BTL_DATE,BTL_TIME,BTL_LAT,BTL_LON,KRYPTON,KRYPTON_FLAG_W,XENON,XENON_FLAG_W,HPLC,HPLC_FLAG_W,HE3_HE4_RATIO,HE3_HE4_RATIO_FLAG_W,Nd_143_144_D_EPSILON_BOTTLE,Nd_143_144_D_EPSILON_BOTTLE_FLAG_W,Nd_143_144_D_EPSILON_BOTTLE_ERROR,Nd_143_144_D_RATIO_BOTTLE,Nd_143_144_D_RATIO_BOTTLE_FLAG_W,Nd_143_144_D_RATIO_BOTTLE_ERROR,Nd_D_CONC,Nd_D_CONC_FLAG_W,La_D_CONC_BOTTLE,La_D_CONC_BOTTLE_FLAG_W,Ce_D_CONC_BOTTLE,Ce_D_CONC_BOTTLE_FLAG_W,Pr_D_CONC_BOTTLE,Pr_D_CONC_BOTTLE_FLAG_W,Sm_D_CONC_BOTTLE,Sm_D_CONC_BOTTLE_FLAG_W,Eu_D_CONC_BOTTLE,Eu_D_CONC_BOTTLE_FLAG_W,Gd_D_CONC_BOTTLE,Gd_D_CONC_BOTTLE_FLAG_W,Tb_D_CONC_BOTTLE,Tb_D_CONC_BOTTLE_FLAG_W,Dy_D_CONC_BOTTLE,Dy_D_CONC_BOTTLE_FLAG_W,Ho_D_CONC_BOTTLE,Ho_D_CONC_BOTTLE_FLAG_W,Er_D_CONC_BOTTLE,Er_D_CONC_BOTTLE_FLAG_W,Tm_D_CONC_BOTTLE,Tm_D_CONC_BOTTLE_FLAG_W,Yb_D_CONC_BOTTLE,Yb_D_CONC_BOTTLE_FLAG_W,Lu_D_CONC_BOTTLE,Lu_D_CONC_BOTTLE_FLAG_W
,,,,,,,,,,,METERS,DBAR,ITS-90,PSS-78,,PSS-78,,UMOL/KG,,UMOL/KG,,UMOL/KG,,UMOL/KG,,UMOL/KG,,UMOL/KG,,UMOL/KG,,PMOL/KG,,PMOL/KG,,FMOL/KG,,UMOL/KG,,UMOL/KG,,,,DEG C,UMOL/KG,,NMOL/L,,DEG C,,/MILLE,,/MILLE,,/MILLE,UG/KG,,UMOL/KG,,UMOL/KG,,NMOL/L,,VOLTS,,VOLTS,,VOLTS,,NMOL/KG,,UMOL/L,,,,,,NMOL/L,,NMOL/L,,,,,,10000,,10000,,,,PMOL/KG,,PMOL/L,,PMOL/L,,PMOL/L,,PMOL/L,,PMOL/L,,PMOL/L,,PMOL/L,,PMOL/L,,PMOL/L,,PMOL/L,,PMOL/L,,PMOL/L,,PMOL/L,
320620180309  ,P16        ,37      ,  1,15         ,15         ,2,20180403,0902, -75.1135,-149.0690,     3626,   1352.6,0.9709055555555554662,34.718234840563063,2,  34.7178,2,199.02680186347928,2, 199.0033,2,    199.1,2,    118.3,2,    32.23,2,     0.00,2,     2.21,2,     -999,9,     -999,9,     -999,9,     -999,9,     -999,9,     -999,9,     -999,     -999,9,     -999,9,   0.9696,2,     -999,9,     -999,9,     -999,     -999,9,     -999,9,     -999,1,     -999,9,    0.061,1,    4.671,1,    0.135,1,     -999,9,     -999,9,20180403,1005, -75.1152,-149.0868,     -999,9,     -999,9,-999          ,9,     -999,9,     -999,9,     -999,     -999,9,     -999,     -999,9,     -999,1,     -999,1,     -999,1,     -999,1,     -999,1,     -999,1,     -999,1,     -999,1,     -999,1,     -999,1,     -999,1,     -999,1,     -999,1
320620180309  ,P16        ,37      ,  1,14         ,14         ,2,20180403,0902, -75.1135,-149.0690,     3626,   1454.7,0.9213499999999998913,34.716313833843550,2,  34.7159,2,200.34104940819788,2, 200.1967,2,    200.6,2,    119.8,2,    32.24,2,     0.00,2,     2.21,2,     -999,9,     -999,9,     -999,9,   2261.7,2,  2360.42,2,   7.5952,2,    24.91,     -999,9,     -999,9,   0.9206,2,     -999,9,     -999,9,     -999,     -999,9,     -999,9,     -999,1,     -999,9,    0.061,1,    4.671,1,    0.133,1,     -999,9,     -999,9,20180403,1002, -75.1151,-149.0859,     -999,9,     -999,9,-999          ,9,     -999,9,     -999,9,     -999,     -999,9,     -999,     -999,9,     -999,9,     -999,9,     -999,9,     -999,9,     -999,9,     -999,9,     -999,9,     -999,9,     -999,9,     -999,9,     -999,9,     -999,9,     -999,9
320620180309  ,P16        ,37      ,  1,13         ,13         ,2,20180403,0902, -75.1135,-149.0690,     3626,   1556.8,0.8791750000000001508,34.714684173647470,2,  34.7135,2,200.83714430481052,2, 201.1993,2,    201.3,2,    121.4,2,    32.36,2,     0.00,2,     2.23,2,     -999,9,     -999,9,     -999,9,     -999,9,     -999,9,     -999,9,     -999,     -999,9,     -999,9,   0.8785,2,     -999,9,     -999,9,     -999,     -999,9,     -999,9,     -999,1,     -999,9,    0.061,1,    4.672,1,    0.132,1,     -999,9,     -999,9,20180403,0959, -75.1150,-149.0850,     -999,9,     -999,9,-999          ,9,     -999,9,     -999,9,     -999,     -999,9,     -999,     -999,9,     -999,1,     -999,1,     -999,1,     -999,1,     -999,1,     -999,1,     -999,1,     -999,1,     -999,1,     -999,1,     -999,1,     -999,1,     -999,1
320620180309  ,P16        ,37      ,  1,12         ,12         ,2,20180403,0902, -75.1135,-149.0690,     3626,   1658.4,0.8351472222222222630,34.713011103715516,2,  34.7106,2,202.08955652992350,2, 202.1967,2,    202.0,2,    123.1,2,    32.35,2,     0.00,2,     2.23,2,     -999,9,     -999,9,     -999,9,     -999,9,  2358.90,3,   7.5944,2,    24.93,     -999,9,     -999,9,   0.8344,2,     -999,9,     -999,9,     -999,     -999,9,     -999,9,     -999,1,     -999,9,    0.060,1,    4.671,1,    0.134,1,     -999,9,     -999,9,20180403,0956, -75.1149,-149.0841,     -999,9,     -999,9,-999          ,9,     -999,9,     -999,9,     -999,     -999,9,     -999,     -999,9,     -999,9,     -999,9,     -999,9,     -999,9,     -999,9,     -999,9,     -999,9,     -999,9,     -999,9,     -999,9,     -999,9,     -999,9,     -999,9
320620180309  ,P16        ,37      ,  1,11         ,11         ,2,20180403,0902, -75.1135,-149.0690,     3626,   1760.6,0.7950166666666667048,34.711540594292472,2,  34.7119,2,203.06312020018044,2, 203.1004,2,    204.2,2,    124.4,2,    32.37,2,     0.00,2,     2.23,2,    0.117,2,    0.070,2,   0.1100,2,     -999,9,     -999,9,     -999,9,     -999,     -999,9,     -999,1,   0.7943,2,     -999,9,     -999,9,     -999,     -999,9,     -999,9,     -999,1,     -999,1,    0.061,1,    4.672,1,    0.145,1,  21.4600,2,     -999,1,20180403,0953, -75.1148,-149.0832,     -999,1,     -999,1,-999          ,9,     -999,1,     -999,9,     -999,     -999,9,     -999,     -999,9,     -999,1,     -999,1,     -999,1,     -999,1,     -999,1,     -999,1,     -999,1,     -999,1,     -999,1,     -999,1,     -999,1,     -999,1,     -999,1
320620180309  ,P16        ,37      ,  1,10         ,10         ,2,20180403,0902, -75.1135,-149.0690,     3626,   1892.6,0.7455166666666666053,34.709748001197852,2,  34.7080,2,204.52170760968556,2, 204.3036,2,    204.6,2,    125.8,2,    32.38,2,     0.00,2,     2.23,2,     -999,9,     -999,9,     -999,9,   2265.1,2,  2362.99,2,   7.5953,2,    24.92,     -999,9,     -999,9,   0.7448,2,     -999,9,     -999,9,     -999,     -999,9,     -999,9,     -999,1,     -999,9,    0.061,1,    4.673,1,    0.155,1,     -999,9,     -999,9,20180403,0949, -75.1147,-149.0821,     -999,9,     -999,9,-999          ,9,     -999,9,     -999,9,     -999,     -999,9,     -999,     -999,9,     -999,9,     -999,9,     -999,9,     -999,9,     -999,9,     -999,9,     -999,9,     -999,9,     -999,9,     -999,9,     -999,9,     -999,9,     -999,9
320620180309  ,P16        ,37      ,  1,9          ,9          ,2,20180403,0902, -75.1135,-149.0690,     3626,   2096.6,0.6783527777777778045,34.707428083080181,2,  34.7072,2,206.28734995541333,2, 206.0042,2,    206.0,2,    128.0,2,    32.47,2,     0.00,2,     2.23,2,     -999,9,     -999,9,     -999,9,     -999,9,     -999,9,     -999,9,     -999,     -999,9,     -999,9,   0.6778,2,     -999,9,     -999,9,     -999,     -999,9,     -999,9,     -999,1,     -999,9,    0.061,1,    4.673,1,    0.128,1,     -999,9,     -999,9,20180403,0943, -75.1146,-149.0806,     -999,9,     -999,9,-999          ,9,     -999,9,     -999,9,     -999,     -999,9,     -999,     -999,9,     -999,1,     -999,1,     -999,1,     -999,1,     -999,1,     -999,1,     -999,1,     -999,1,     -999,1,     -999,1,     -999,1,     -999,1,     -999,1
320620180309  ,P16        ,37      ,  1,8          ,8          ,2,20180403,0902, -75.1135,-149.0690,     3626,   2301.4,0.6132583333333332387,34.705896588706850,2,  34.7049,2,207.51458112481629,2, 207.4997,2,    207.5,2,    129.9,2,    32.57,2,     0.00,2,     2.23,2,     -999,9,     -999,9,     -999,9,   2264.8,2,  2362.08,2,   7.5955,2,    24.91,     -999,9,     -999,9,   0.6125,2,     -999,9,     -999,9,     -999,     -999,9,     -999,9,     -999,1,     -999,9,    0.061,1,    4.673,1,    0.129,1,     -999,9,     -999,9,20180403,0938, -75.1145,-149.0792,     -999,9,     -999,9,-999          ,9,     -999,9,     -999,9,     -999,     -999,9,     -999,     -999,9,     -999,9,     -999,9,     -999,9,     -999,9,     -999,9,     -999,9,     -999,9,     -999,9,     -999,9,     -999,9,     -999,9,     -999,9,     -999,9
320620180309  ,P16        ,37      ,  1,7          ,7          ,2,20180403,0902, -75.1135,-149.0690,     3626,   2505.1,0.5715888888888889241,34.705475185461864,2,  34.7060,2,208.31463391721309,2, 208.5014,2,    208.6,2,    132.6,2,    32.67,2,     0.00,2,     2.23,2,    0.141,2,    0.086,2,   0.0000,2,     -999,9,     -999,9,     -999,9,     -999,     -999,9,     -999,1,   0.5709,2,     -999,9,     -999,9,     -999,     -999,9,     -999,9,     -999,1,     -999,1,    0.060,1,    4.673,1,    0.132,1,  20.6000,2,     -999,1,20180403,0933, -75.1143,-149.0777,     -999,1,     -999,1,-999          ,9,     -999,1,     -999,9,     -999,     -999,9,     -999,     -999,9,     -999,1,     -999,1,     -999,1,     -999,1,     -999,1,     -999,1,     -999,1,     -999,1,     -999,1,     -999,1,     -999,1,     -999,1,     -999,1
320620180309  ,P16        ,37      ,  1,6          ,6          ,2,20180403,0902, -75.1135,-149.0690,     3626,   2710.2,0.5392861111111112438,34.704716260539222,2,  34.7033,2,208.79716700467409,2, 209.0987,2,    208.9,2,    134.3,2,    32.73,2,     0.00,2,     2.23,2,     -999,9,     -999,9,     -999,9,   2263.3,2,  2363.25,2,   7.5938,2,    24.93,     -999,9,     -999,9,   0.5387,2,     -999,9,     -999,9,     -999,     -999,9,     -999,9,     -999,1,     -999,9,    0.060,1,    4.672,1,    0.130,1,     -999,9,     -999,9,20180403,0927, -75.1142,-149.0762,     -999,9,     -999,9,-999          ,9,     -999,9,     -999,9,     -999,     -999,9,     -999,     -999,9,     -999,9,     -999,9,     -999,9,     -999,9,     -999,9,     -999,9,     -999,9,     -999,9,     -999,9,     -999,9,     -999,9,     -999,9,     -999,9
320620180309  ,P16        ,37      ,  1,5          ,5          ,2,20180403,0902, -75.1135,-149.0690,     3626,   2915.4,0.5132194444444445613,34.703975842282127,2,  34.7035,2,209.94198926192706,2, 209.7012,2,    209.4,2,    136.1,2,    32.81,2,     0.00,2,     2.23,2,     -999,9,     -999,9,     -999,9,   2266.7,2,  2366.94,2,   7.5945,6,    24.92,     -999,9,     -999,9,   0.5124,2,     -999,9,     -999,9,     -999,     -999,9,     -999,9,     -999,1,     -999,9,    0.061,1,    4.672,1,    0.132,1,     -999,9,     -999,9,20180403,0922, -75.1141,-149.0746,     -999,9,     -999,9,-999          ,9,     -999,9,     -999,9,     -999,     -999,9,     -999,     -999,9,     -999,1,     -999,1,     -999,1,     -999,1,     -999,1,     -999,1,     -999,1,     -999,1,     -999,1,     -999,1,     -999,1,     -999,1,     -999,1
320620180309  ,P16        ,37      ,  1,4          ,4          ,2,20180403,0902, -75.1135,-149.0690,     3626,   3155.9,0.4799527777777778392,34.703255178138818,2,  34.7035,2,210.97597958745101,2, 210.3951,2,    210.6,2,    137.0,2,    32.85,2,     0.00,2,     2.23,2,    0.159,2,    0.093,2,   0.1200,2,   2265.8,2,  2365.03,2,   7.5947,2,    24.94,     -999,9,     -999,1,   0.4793,2,     -999,9,     -999,9,     -999,     -999,9,     -999,9,     -999,1,     -999,1,    0.061,1,    4.673,1,    0.127,1,  20.5600,2,     -999,1,20180403,0916, -75.1139,-149.0729,     -999,1,     -999,1,-999          ,9,     -999,1,     -999,9,     -999,     -999,9,     -999,     -999,9,     -999,1,     -999,1,     -999,1,     -999,1,     -999,1,     -999,1,     -999,1,     -999,1,     -999,1,     -999,1,     -999,1,     -999,1,     -999,1
320620180309  ,P16        ,37      ,  1,3          ,3          ,2,20180403,0902, -75.1135,-149.0690,     3626,   3411.8,0.4386361111111110600,34.702470646850600,2,  34.7011,2,212.34645637953443,2, 211.3995,2,    211.2,2,    139.4,2,    32.91,2,     0.00,2,     2.25,2,     -999,9,     -999,9,     -999,9,   2263.9,2,  2366.32,2,   7.5950,2,    24.93,     -999,9,     -999,9,   0.4376,2,     -999,9,     -999,9,     -999,     -999,9,     -999,9,     -999,1,     -999,9,    0.061,1,    4.671,1,    0.130,1,     -999,9,     -999,9,20180403,0909, -75.1137,-149.0711,     -999,9,     -999,9,-999          ,9,     -999,9,     -999,9,     -999,     -999,9,     -999,     -999,9,     -999,1,     -999,1,     -999,1,     -999,1,     -999,1,     -999,1,     -999,1,     -999,1,     -999,1,     -999,1,     -999,1,     -999,1,     -999,1
320620180309  ,P16        ,37      ,  1,2          ,2          ,2,20180403,0902, -75.1135,-149.0690,     3626,   3688.2,0.3112083333333333091,34.699574946633291,2,  34.6998,2,213.97871687256077,2, 213.9980,2,    214.3,2,    143.7,2,    33.03,2,     0.00,2,     2.25,2,    0.377,2,    0.200,2,   0.1400,2,   2264.4,6,  2364.01,2,   7.5903,2,    24.93,     -999,9,     -999,1,     -999,9,     -999,9,     -999,9,     -999,     -999,9,     -999,9,     -999,1,     -999,1,    0.061,1,    4.661,1,    0.143,1,  20.8800,2,     -999,1,20180403,0902, -75.1135,-149.0690,     -999,1,     -999,1,-999          ,9,     -999,1,     -999,9,     -999,     -999,9,     -999,     -999,9,     -999,9,     -999,9,     -999,9,     -999,9,     -999,9,     -999,9,     -999,9,     -999,9,     -999,9,     -999,9,     -999,9,     -999,9,     -999,9
320620180309  ,P16        ,37      ,  1,1          ,1          ,2,20180403,0902, -75.1135,-149.0690,     3626,   3688.3,0.3110166666666666635,34.699407167093987,3,     -999,9,214.06251899127571,2, 188.0895,2,     -999,9,    143.8,2,    33.02,2,     0.00,2,     2.25,2,     -999,9,     -999,9,     -999,9,     -999,9,     -999,9,     -999,9,     -999,     -999,9,     -999,9,   0.3106,2,     -999,9,     -999,9,     -999,     -999,9,     -999,9,     -999,9,     -999,9,    0.061,1,    4.661,1,    0.143,1,     -999,9,     -999,9,20180403,0902, -75.1135,-149.0690,     -999,9,     -999,9,-999          ,9,     -999,9,    -6.57,2,     0.23, 0.512301,2, 0.000006,    29.57,2,     -999,1,     -999,1,     -999,1,     -999,1,     -999,1,     -999,1,     -999,1,     -999,1,     -999,1,     -999,1,     -999,1,     -999,1,     -999,1