BOTTLE,20240515CCHHYDRO
EXPOCODE,SECT_ID,STNNBR,CASTNO,SAMPNO,BTLNBR,BTLNBR_FLAG_W,DATE,TIME,LATITUDE,LONGITUDE,DEPTH,CTDPRS,CTDTMP,CTDSAL,CTDSAL_FLAG_W,SALNTY,SALNTY_FLAG_W,CTDOXY,CTDOXY_FLAG_W,CTDOPTOXY,CTDOPTOXY_FLAG_W,OXYGEN,OXYGEN_FLAG_W,SILCAT,SILCAT_FLAG_W,NITRAT,NITRAT_FLAG_W,NITRIT,NITRIT_FLAG_W,PHSPHT,PHSPHT_FLAG_W,CFC-11,CFC-11_FLAG_W,CFC-12,CFC-12_FLAG_W,SF6,SF6_FLAG_W,TCARBN,TCARBN_FLAG_W,ALKALI,ALKALI_FLAG_W,PH_TOT,PH_TOT_FLAG_W,PH_TMP,DOC,DOC_FLAG_W,HELIUM,HELIUM_FLAG_W,REFTMP,REFTMP_FLAG_W,DELC13,DELC13_FLAG_W,DELC14,DELC14_FLAG_W,C14ERR,POC,POC_FLAG_W,TDN,TDN_FLAG_W,TON,TON_FLAG_W,NEON,NEON_FLAG_W,CTDFLUOR,CTDFLUOR_FLAG_W,CTDXMISS,CTDXMISS_FLAG_W,CTDBETA700,CTDBETA700_FLAG_W,N2O,N2O_FLAG_W,ARGON,ARGON_FLAG_W,BTL_DATE,BTL_TIME,BTL_LAT,BTL_LON,KRYPTON,KRYPTON_FLAG_W,XENON,XENON_FLAG_W,HPLC,HPLC_FLAG_W,HE3_HE4_RATIO,HE3_HE4_RATIO_FLAG_W,Nd_143_144_D_EPSILON_BOTTLE,Nd_143_144_D_EPSILON_BOTTLE_FLAG_W,Nd_143_144_D_EPSILON_BOTTLE_ERROR,Nd_143_144_D_RATIO_BOTTLE,Nd_143_144_D_RATIO_BOTTLE_FLAG_W,Nd_143_144_D_RATIO_BOTTLE_ERROR,Nd_D_CONC,Nd_D_CONC_FLAG_W,La_D_CONC_BOTTLE,La_D_CONC_BOTTLE_FLAG_W,Ce_D_CONC_BOTTLE,Ce_D_CONC_BOTTLE_FLAG_W,Pr_D_CONC_BOTTLE,Pr_D_CONC_BOTTLE_FLAG_W,Sm_D_CONC_BOTTLE,Sm_D_CONC_BOTTLE_FLAG_W,Eu_D_CONC_BOTTLE,Eu_D_CONC_BOTTLE_FLAG_W,Gd_D_CONC_BOTTLE,Gd_D_CONC_BOTTLE_FLAG_W,Tb_D_CONC_BOTTLE,Tb_D_CONC_BOTTLE_FLAG_W,Dy_D_CONC_BOTTLE,Dy_D_CONC_BOTTLE_FLAG_W,Ho_D_CONC_BOTTLE,Ho_D_CONC_BOTTLE_FLAG_W,Er_D_CONC_BOTTLE,Er_D_CONC_BOTTLE_FLAG_W,Tm_D_CONC_BOTTLE,Tm_D_CONC_BOTTLE_FLAG_W,Yb_D_CONC_BOTTLE,Yb_D_CONC_BOTTLE_FLAG_W,Lu_D_CONC_BOTTLE,Lu_D_CONC_BOTTLE_FLAG_W
,,,,,,,,,,,METERS,DBAR,ITS-90,PSS-78,,PSS-78,,UMOL/KG,,UMOL/KG,,UMOL/KG,,UMOL/KG,,UMOL/KG,,UMOL/KG,,UMOL/KG,,PMOL/KG,,PMOL/KG,,FMOL/KG,,UMOL/KG,,UMOL/KG,,,,DEG C,UMOL/KG,,NMOL/L,,DEG C,,/MILLE,,/MILLE,,/MILLE,UG/KG,,UMOL/KG,,UMOL/KG,,NMOL/L,,VOLTS,,VOLTS,,VOLTS,,NMOL/KG,,UMOL/L,,,,,,NMOL/L,,NMOL/L,,,,,,10000,,10000,,,,PMOL/KG,,PMOL/L,,PMOL/L,,PMOL/L,,PMOL/L,,PMOL/L,,PMOL/L,,PMOL/L,,PMOL/L,,PMOL/L,,PMOL/L,,PMOL/L,,PMOL/L,,PMOL/L,
320620180309  ,P16        ,39      ,  1,36         ,36         ,2,20180403,2342, -74.4864,-149.9982,     3873,      2.2,-1.8236583333333333812,33.813404362353488,2,  33.8114,2,333.68552340979346,2, 333.7021,2,    334.0,2,     55.2,2,    25.59,2,     0.16,2,     1.82,2,    5.727,2,    3.025,2,   3.4000,2,   2182.2,6,  2292.34,2,   7.6442,2,    24.96,     -999,9,     -999,9,  -1.8263,2,     -999,9,     -999,9,     -999,     -999,9,     -999,9,     -999,9,     -999,9,    0.152,1,    4.585,1,    0.163,1,  19.1700,2,     -999,9,20180404,0155, -74.4818,-150.0959,     -999,9,     -999,9,-999          ,9,     -999,9,     -999,9,     -999,     -999,9,     -999,     -999,9,     -999,1,     -999,1,     -999,1,     -999,1,     -999,1,     -999,1,     -999,1,     -999,1,     -999,1,     -999,1,     -999,1,     -999,1,     -999,1
320620180309  ,P16        ,39      ,  1,35         ,35         ,2,20180403,2342, -74.4864,-149.9982,     3873,     23.7,-1.8255999999999998895,33.813617729187285,2,  33.8120,2,334.79562081998853,2, 333.6973,2,    332.3,2,     55.0,2,    25.54,2,     0.16,2,     1.82,2,     -999,9,     -999,9,     -999,9,   2182.2,2,  2292.50,2,   7.6547,2,    24.96,     -999,9,     -999,1,  -1.8261,2,     -999,9,     -999,9,     -999,     -999,9,     -999,9,     -999,9,     -999,1,    0.158,1,    4.589,1,    0.173,1,     -999,9,     -999,1,20180404,0153, -74.4822,-150.0945,     -999,1,     -999,1,-999          ,9,     -999,1,     -999,9,     -999,     -999,9,     -999,     -999,9,     -999,1,     -999,1,     -999,1,     -999,1,     -999,1,     -999,1,     -999,1,     -999,1,     -999,1,     -999,1,     -999,1,     -999,1,     -999,1
320620180309  ,P16        ,39      ,  1,34         ,34         ,2,20180403,2342, -74.4864,-149.9982,     3873,     51.6,-1.7304638888888890236,33.888843029072341,2,  33.8777,2,324.08097992508937,3, 314.3034,2,    316.1,2,     61.8,2,    26.12,2,     0.17,2,     1.87,2,    5.285,2,    2.820,2,   3.0700,2,   2193.9,2,  2297.24,2,   7.6262,2,    24.95,     -999,9,     -999,9,  -1.7309,2,     -999,9,     -999,9,     -999,     -999,9,     -999,9,     -999,9,     -999,9,    0.111,1,    4.630,1,    0.163,1,  19.5700,2,     -999,9,20180404,0151, -74.4824,-150.0927,     -999,9,     -999,9,-999          ,9,     -999,9,     -999,9,     -999,     -999,9,     -999,     -999,9,     -999,9,     -999,9,     -999,9,     -999,9,     -999,9,     -999,9,     -999,9,     -999,9,     -999,9,     -999,9,     -999,9,     -999,9,     -999,9
320620180309  ,P16        ,39      ,  1,33         ,33         ,2,20180403,2342, -74.4864,-149.9982,     3873,     74.6,-1.3505416666666665293,34.124916176077612,2,  34.1232,2,280.71654475665400,3, 278.0990,2,    277.6,2,     70.4,2,    29.73,2,     0.17,2,     2.08,2,     -999,9,     -999,9,     -999,9,   2221.3,2,  2309.12,2,   7.5829,6,    24.94,     -999,9,     -999,1,  -1.3530,2,     -999,9,     -999,9,     -999,     -999,9,     -999,9,     -999,9,     -999,1,    0.074,1,    4.653,1,    0.157,1,     -999,9,     -999,1,20180404,0149, -74.4825,-150.0902,     -999,1,     -999,1,-999          ,9,     -999,1,     -999,9,     -999,     -999,9,     -999,     -999,9,     -999,1,     -999,1,     -999,1,     -999,1,     -999,1,     -999,1,     -999,1,     -999,1,     -999,1,     -999,1,     -999,1,     -999,1,     -999,1
320620180309  ,P16        ,39      ,  1,32         ,32         ,2,20180403,2342, -74.4864,-149.9982,     3873,     99.7,-1.5086527777777780646,34.156013346890056,2,  34.1555,2,277.65780838048101,3, 308.6007,3,    274.7,2,     78.2,2,    30.38,2,     0.14,2,     2.14,2,    3.940,2,    2.135,2,   2.1200,2,     -999,9,     -999,9,     -999,9,     -999,     -999,9,     -999,9,  -1.5224,2,     -999,9,     -999,9,     -999,     -999,9,     -999,9,     -999,9,     -999,9,    0.070,1,    4.658,1,    0.153,1,  21.4800,2,     -999,9,20180404,0147, -74.4827,-150.0880,     -999,9,     -999,9,-999          ,9,     -999,9,     -999,9,     -999,     -999,9,     -999,     -999,9,     -999,9,     -999,9,     -999,9,     -999,9,     -999,9,     -999,9,     -999,9,     -999,9,     -999,9,     -999,9,     -999,9,     -999,9,     -999,9
320620180309  ,P16        ,39      ,  1,31         ,31         ,2,20180403,2342, -74.4864,-149.9982,     3873,    126.5,-1.2974000000000003308,34.197328063431648,2,  34.1980,2,264.20977945173513,2, 280.9982,3,    264.6,2,     80.3,2,    30.95,2,     0.09,2,     2.17,2,     -999,9,     -999,9,     -999,9,   2229.2,2,  2318.02,2,   7.5726,2,    24.95,     -999,9,     -999,1,  -1.3008,2,     -999,9,     -999,9,     -999,     -999,9,     -999,9,     -999,9,     -999,1,    0.070,1,    4.659,1,    0.151,1,     -999,9,     -999,1,20180404,0145, -74.4828,-150.0853,     -999,1,     -999,1,-999          ,9,     -999,1,     -999,9,     -999,     -999,9,     -999,     -999,9,     -999,1,     -999,1,     -999,1,     -999,1,     -999,1,     -999,1,     -999,1,     -999,1,     -999,1,     -999,1,     -999,1,     -999,1,     -999,1
320620180309  ,P16        ,39      ,  1,30         ,30         ,2,20180403,2342, -74.4864,-149.9982,     3873,    151.7,-0.9469777777777778072,34.251107517231695,2,  34.2487,2,251.35582484166582,2, 254.8034,2,    253.4,2,     81.0,2,    31.38,2,     0.04,2,     2.20,2,     -999,9,     -999,9,     -999,9,   2232.9,2,  2318.31,2,   7.5699,2,    24.95,     -999,9,     -999,9,  -0.9478,2,     -999,9,     -999,9,     -999,     -999,9,     -999,9,     -999,9,     -999,9,    0.069,1,    4.660,1,    0.154,1,     -999,9,     -999,9,20180404,0143, -74.4827,-150.0838,     -999,9,     -999,9,-999          ,9,     -999,9,     -999,9,     -999,     -999,9,     -999,     -999,9,     -999,9,     -999,9,     -999,9,     -999,9,     -999,9,     -999,9,     -999,9,     -999,9,     -999,9,     -999,9,     -999,9,     -999,9,     -999,9
320620180309  ,P16        ,39      ,  1,29         ,29         ,2,20180403,2342, -74.4864,-149.9982,     3873,    201.9,-0.2589166666666666838,34.357142946784073,2,  34.3582,2,232.61623244253522,2, 230.7031,2,    232.0,2,     82.9,2,    31.97,2,     0.03,2,     2.20,2,    2.498,2,    1.379,2,   1.3200,2,   2238.5,2,  2325.41,2,   7.5655,2,    24.95,     -999,9,     -999,1,  -0.2426,2,     -999,9,     -999,9,     -999,     -999,9,     -999,9,     -999,9,     -999,1,    0.066,1,    4.662,1,    0.148,1,  24.2400,2,     -999,1,20180404,0141, -74.4828,-150.0812,     -999,1,     -999,1,-999          ,9,     -999,1,     -999,9,     -999,     -999,9,     -999,     -999,9,     -999,1,     -999,1,     -999,1,     -999,1,     -999,1,     -999,1,     -999,1,     -999,1,     -999,1,     -999,1,     -999,1,     -999,1,     -999,1
320620180309  ,P16        ,39      ,  1,28         ,28         ,2,20180403,2342, -74.4864,-149.9982,     3873,    252.4,0.7956055555555556769,34.526263841712684,2,  34.5236,2,201.83167579900143,2, 197.4004,3,    203.5,2,     85.9,2,    32.51,2,     0.00,2,     2.21,2,     -999,9,     -999,9,     -999,9,     -999,9,     -999,9,     -999,9,     -999,     -999,9,     -999,9,   0.7892,2,     -999,9,     -999,9,     -999,     -999,9,     -999,9,     -999,9,     -999,9,    0.064,1,    4.664,1,    0.148,1,     -999,9,     -999,9,20180404,0138, -74.4830,-150.0780,     -999,9,     -999,9,-999          ,9,     -999,9,     -999,9,     -999,     -999,9,     -999,     -999,9,     -999,9,     -999,9,     -999,9,     -999,9,     -999,9,     -999,9,     -999,9,     -999,9,     -999,9,     -999,9,     -999,9,     -999,9,     -999,9
320620180309  ,P16        ,39      ,  1,27         ,27         ,2,20180403,2342, -74.4864,-149.9982,     3873,    302.8,1.4509666666666667378,34.649343980806670,2,  34.6482,2,184.06749604878053,2, 182.4996,3,    185.3,2,     88.8,2,    32.59,2,     0.00,2,     2.23,2,    0.568,2,    0.298,2,   0.3300,2,   2262.3,2,  2342.73,2,   7.5654,2,    24.97,     -999,9,     -999,1,   1.4607,2,     -999,9,     -999,9,     -999,     -999,9,     -999,9,     -999,9,     -999,1,    0.063,1,    4.667,1,    0.144,1,  20.5700,2,     -999,1,20180404,0136, -74.4830,-150.0756,     -999,1,     -999,1,-999          ,9,     -999,1,     -999,9,     -999,     -999,9,     -999,     -999,9,     -999,1,     -999,1,     -999,1,     -999,1,     -999,1,     -999,1,     -999,1,     -999,1,     -999,1,     -999,1,     -999,1,     -999,1,     -999,1
320620180309  ,P16        ,39      ,  1,26         ,26         ,2,20180403,2342, -74.4864,-149.9982,     3873,    353.3,1.7375777777777774435,34.711143575301655,2,  34.7092,2,181.10590145644679,2, 181.4039,2,    180.4,2,     90.6,2,    32.27,2,     0.00,2,     2.24,2,     -999,9,     -999,9,     -999,9,   2259.2,6,  2348.60,2,   7.5706,2,    24.97,     -999,9,     -999,9,   1.7367,2,     -999,9,     -999,9,     -999,     -999,9,     -999,9,     -999,9,     -999,9,    0.063,1,    4.669,1,    0.142,1,     -999,9,     -999,9,20180404,0133, -74.4831,-150.0729,     -999,9,     -999,9,-999          ,9,     -999,9,     -999,9,     -999,     -999,9,     -999,     -999,9,     -999,1,     -999,1,     -999,1,     -999,1,     -999,1,     -999,1,     -999,1,     -999,1,     -999,1,     -999,1,     -999,1,     -999,1,     -999,1
320620180309  ,P16        ,39      ,  1,25         ,25         ,2,20180403,2342, -74.4864,-149.9982,     3873,    407.6,1.7083638888888890150,34.721051782787143,2,  34.7196,2,182.79818959039079,2, 182.5021,2,    182.6,2,     92.5,2,    32.12,2,     0.00,2,     2.25,2,    0.289,2,    0.140,2,   0.1700,2,   2259.8,2,  2349.44,2,   7.5752,2,    24.98,     -999,9,     -999,1,   1.7053,2,     -999,9,     -999,9,     -999,     -999,9,     -999,9,     -999,9,     -999,1,    0.062,1,    4.673,1,    0.139,1,  23.0300,2,     -999,1,20180404,0130, -74.4832,-150.0702,     -999,1,     -999,1,-999          ,9,     -999,1,     -999,9,     -999,     -999,9,     -999,     -999,9,     -999,1,     -999,1,     -999,1,     -999,1,     -999,1,     -999,1,     -999,1,     -999,1,     -999,1,     -999,1,     -999,1,     -999,1,     -999,1
320620180309  ,P16        ,39      ,  1,24         ,24         ,2,20180403,2342, -74.4864,-149.9982,     3873,    454.8,1.6683750000000001634,34.725019735417085,2,  34.7241,2,184.32528367213118,2, 182.8998,2,    183.2,2,     94.1,2,    32.00,2,     0.00,2,     2.24,2,     -999,9,     -999,9,     -999,9,   2258.8,2,  2351.31,2,   7.5794,2,    24.97,     -999,9,     -999,9,   1.6676,2,     -999,9,     -999,9,     -999,     -999,9,     -999,9,     -999,9,     -999,9,    0.062,1,    4.671,1,    0.138,1,     -999,9,     -999,9,20180404,0126, -74.4834,-150.0659,     -999,9,     -999,9,-999          ,9,     -999,9,     -999,9,     -999,     -999,9,     -999,     -999,9,     -999,9,     -999,9,     -999,9,     -999,9,     -999,9,     -999,9,     -999,9,     -999,9,     -999,9,     -999,9,     -999,9,     -999,9,     -999,9
320620180309  ,P16        ,39      ,  1,23         ,23         ,2,20180403,2342, -74.4864,-149.9982,     3873,    506.1,1.6048666666666664415,34.728358489015271,2,  34.7270,2,185.74850418640236,2, 183.9963,2,    185.2,2,     96.0,2,    31.91,2,     0.00,2,     2.23,2,    0.237,2,    0.120,2,   0.2900,2,   2260.0,2,  2352.54,2,   7.5816,2,    24.97,     -999,9,     -999,1,   1.6039,2,     -999,9,     -999,9,     -999,     -999,9,     -999,9,     -999,9,     -999,1,    0.063,1,    4.671,1,    0.140,1,  22.9800,2,     -999,1,20180404,0124, -74.4836,-150.0630,     -999,1,     -999,1,-999          ,9,     -999,1,     -999,9,     -999,     -999,9,     -999,     -999,9,     -999,1,     -999,1,     -999,1,     -999,1,     -999,1,     -999,1,     -999,1,     -999,1,     -999,1,     -999,1,     -999,1,     -999,1,     -999,1
320620180309  ,P16        ,39      ,  1,22         ,37         ,2,20180403,2342, -74.4864,-149.9982,     3873,    606.5,1.5172333333333332117,34.730740928934061,2,  34.7298,2,187.88914649905141,2, 185.6993,2,    186.7,2,     99.0,2,    31.95,2,     0.00,2,     2.23,2,     -999,9,     -999,9,     -999,9,     -999,9,     -999,9,     -999,9,     -999,     -999,9,     -999,9,   1.5162,2,     -999,9,     -999,9,     -999,     -999,9,     -999,9,     -999,9,     -999,9,    0.062,1,    4.671,1,    0.137,1,     -999,9,     -999,9,20180404,0121, -74.4838,-150.0591,     -999,9,     -999,9,-999          ,9,     -999,9,     -999,9,     -999,     -999,9,     -999,     -999,9,     -999,9,     -999,9,     -999,9,     -999,9,     -999,9,     -999,9,     -999,9,     -999,9,     -999,9,     -999,9,     -999,9,     -999,9,     -999,9
320620180309  ,P16        ,39      ,  1,21         ,21         ,2,20180403,2342, -74.4864,-149.9982,     3873,    708.0,1.4073277777777779551,34.730483561925944,2,  34.7302,2,189.06530126223956,2, 188.0022,2,    188.5,2,    103.0,2,    32.07,2,     0.00,2,     2.24,2,     -999,9,     -999,9,     -999,9,   2260.6,2,  2356.52,2,   7.5871,2,    24.97,     -999,9,     -999,9,   1.4065,2,     -999,9,     -999,9,     -999,     -999,9,     -999,9,     -999,9,     -999,9,    0.062,1,    4.670,1,    0.138,1,     -999,9,     -999,9,20180404,0117, -74.4840,-150.0553,     -999,9,     -999,9,-999          ,9,     -999,9,     -999,9,     -999,     -999,9,     -999,     -999,9,     -999,1,     -999,1,     -999,1,     -999,1,     -999,1,     -999,1,     -999,1,     -999,1,     -999,1,     -999,1,     -999,1,     -999,1,     -999,1
320620180309  ,P16        ,39      ,  1,20         ,20         ,2,20180403,2342, -74.4864,-149.9982,     3873,    805.9,1.3173166666666666913,34.729632185248946,2,  34.7294,2,190.11430343725900,2, 190.3970,2,    190.4,2,    106.0,2,    32.13,2,     0.00,2,     2.23,2,    0.152,2,    0.081,2,   0.1300,2,     -999,9,     -999,9,     -999,9,     -999,     -999,9,     -999,9,   1.3170,2,     -999,9,     -999,9,     -999,     -999,9,     -999,9,     -999,9,     -999,9,    0.061,1,    4.670,1,    0.136,1,  22.3900,2,     -999,9,20180404,0114, -74.4843,-150.0517,     -999,9,     -999,9,-999          ,9,     -999,9,     -999,9,     -999,     -999,9,     -999,     -999,9,     -999,9,     -999,9,     -999,9,     -999,9,     -999,9,     -999,9,     -999,9,     -999,9,     -999,9,     -999,9,     -999,9,     -999,9,     -999,9
320620180309  ,P16        ,39      ,  1,19         ,19         ,2,20180403,2342, -74.4864,-149.9982,     3873,    907.7,1.2367499999999997939,34.727354162957866,2,  34.7268,2,192.04022939551351,2, 192.0990,2,    191.7,2,    108.6,2,    32.17,2,     0.00,2,     2.24,2,     -999,9,     -999,9,     -999,9,   2259.4,2,  2360.35,3,   7.5860,2,    24.96,     -999,9,     -999,1,   1.2361,2,     -999,9,     -999,9,     -999,     -999,9,     -999,9,     -999,9,     -999,1,    0.062,1,    4.670,1,    0.143,1,     -999,9,     -999,1,20180404,0110, -74.4844,-150.0481,     -999,1,     -999,1,-999          ,9,     -999,1,     -999,9,     -999,     -999,9,     -999,     -999,9,     -999,1,     -999,1,     -999,1,     -999,1,     -999,1,     -999,1,     -999,1,     -999,1,     -999,1,     -999,1,     -999,1,     -999,1,     -999,1
320620180309  ,P16        ,39      ,  1,18         ,18         ,2,20180403,2342, -74.4864,-149.9982,     3873,   1014.8,1.1548694444444445040,34.724792104004742,2,  34.7241,2,193.27953510854644,2, 194.2019,2,    193.6,2,    111.4,2,    32.20,2,     0.00,2,     2.25,2,     -999,9,     -999,9,     -999,9,     -999,9,     -999,9,     -999,9,     -999,     -999,9,     -999,9,   1.1537,2,     -999,9,     -999,9,     -999,     -999,9,     -999,9,     -999,9,     -999,9,    0.061,1,    4.670,1,    0.137,1,     -999,9,     -999,9,20180404,0106, -74.4845,-150.0447,     -999,9,     -999,9,-999          ,9,     -999,9,     -999,9,     -999,     -999,9,     -999,     -999,9,     -999,9,     -999,9,     -999,9,     -999,9,     -999,9,     -999,9,     -999,9,     -999,9,     -999,9,     -999,9,     -999,9,     -999,9,     -999,9
320620180309  ,P16        ,39      ,  1,17         ,17         ,2,20180403,2342, -74.4864,-149.9982,     3873,   1114.1,1.0950833333333334085,34.722797879910253,2,  34.7221,2,195.35525252996268,2, 195.3983,2,    195.1,2,    113.1,2,    32.24,2,     0.00,2,     2.25,2,    0.117,2,    0.055,2,   0.2000,2,   2261.6,2,  2359.16,3,   7.5916,6,    24.97,     -999,9,     -999,9,   1.0947,2,     -999,9,     -999,9,     -999,     -999,9,     -999,9,     -999,9,     -999,9,    0.062,1,    4.671,1,    0.189,1,  21.6100,2,     -999,9,20180404,0101, -74.4848,-150.0410,     -999,9,     -999,9,-999          ,9,     -999,9,     -999,9,     -999,     -999,9,     -999,     -999,9,     -999,9,     -999,9,     -999,9,     -999,9,     -999,9,     -999,9,     -999,9,     -999,9,     -999,9,     -999,9,     -999,9,     -999,9,     -999,9
320620180309  ,P16        ,39      ,  1,16         ,16         ,2,20180403,2342, -74.4864,-149.9982,     3873,   1212.7,1.0301999999999997826,34.720422128944634,2,  34.7200,2,196.68761722655796,2, 196.7962,2,    196.8,2,    115.0,2,    32.24,2,     0.00,2,     2.25,2,     -999,9,     -999,9,     -999,9,     -999,9,     -999,9,     -999,9,     -999,     -999,9,     -999,9,   1.0294,2,     -999,9,     -999,9,     -999,     -999,9,     -999,9,     -999,9,     -999,9,    0.061,1,    4.670,1,    0.139,1,     -999,9,     -999,9,20180404,0057, -74.4851,-150.0393,     -999,9,     -999,9,-999          ,9,     -999,9,     -999,9,     -999,     -999,9,     -999,     -999,9,     -999,1,     -999,1,     -999,1,     -999,1,     -999,1,     -999,1,     -999,1,     -999,1,     -999,1,     -999,1,     -999,1,     -999,1,     -999,1