BOTTLE,20240515CCHHYDRO
EXPOCODE,SECT_ID,STNNBR,CASTNO,SAMPNO,BTLNBR,BTLNBR_FLAG_W,DATE,TIME,LATITUDE,LONGITUDE,DEPTH,CTDPRS,CTDTMP,CTDSAL,CTDSAL_FLAG_W,SALNTY,SALNTY_FLAG_W,CTDOXY,CTDOXY_FLAG_W,CTDOPTOXY,CTDOPTOXY_FLAG_W,OXYGEN,OXYGEN_FLAG_W,SILCAT,SILCAT_FLAG_W,NITRAT,NITRAT_FLAG_W,NITRIT,NITRIT_FLAG_W,PHSPHT,PHSPHT_FLAG_W,CFC-11,CFC-11_FLAG_W,CFC-12,CFC-12_FLAG_W,SF6,SF6_FLAG_W,TCARBN,TCARBN_FLAG_W,ALKALI,ALKALI_FLAG_W,PH_TOT,PH_TOT_FLAG_W,PH_TMP,DOC,DOC_FLAG_W,HELIUM,HELIUM_FLAG_W,REFTMP,REFTMP_FLAG_W,DELC13,DELC13_FLAG_W,DELC14,DELC14_FLAG_W,C14ERR,POC,POC_FLAG_W,TDN,TDN_FLAG_W,TON,TON_FLAG_W,NEON,NEON_FLAG_W,CTDFLUOR,CTDFLUOR_FLAG_W,CTDXMISS,CTDXMISS_FLAG_W,CTDBETA700,CTDBETA700_FLAG_W,N2O,N2O_FLAG_W,ARGON,ARGON_FLAG_W,BTL_DATE,BTL_TIME,BTL_LAT,BTL_LON,KRYPTON,KRYPTON_FLAG_W,XENON,XENON_FLAG_W,HPLC,HPLC_FLAG_W,HE3_HE4_RATIO,HE3_HE4_RATIO_FLAG_W,Nd_143_144_D_EPSILON_BOTTLE,Nd_143_144_D_EPSILON_BOTTLE_FLAG_W,Nd_143_144_D_EPSILON_BOTTLE_ERROR,Nd_143_144_D_RATIO_BOTTLE,Nd_143_144_D_RATIO_BOTTLE_FLAG_W,Nd_143_144_D_RATIO_BOTTLE_ERROR,Nd_D_CONC,Nd_D_CONC_FLAG_W,La_D_CONC_BOTTLE,La_D_CONC_BOTTLE_FLAG_W,Ce_D_CONC_BOTTLE,Ce_D_CONC_BOTTLE_FLAG_W,Pr_D_CONC_BOTTLE,Pr_D_CONC_BOTTLE_FLAG_W,Sm_D_CONC_BOTTLE,Sm_D_CONC_BOTTLE_FLAG_W,Eu_D_CONC_BOTTLE,Eu_D_CONC_BOTTLE_FLAG_W,Gd_D_CONC_BOTTLE,Gd_D_CONC_BOTTLE_FLAG_W,Tb_D_CONC_BOTTLE,Tb_D_CONC_BOTTLE_FLAG_W,Dy_D_CONC_BOTTLE,Dy_D_CONC_BOTTLE_FLAG_W,Ho_D_CONC_BOTTLE,Ho_D_CONC_BOTTLE_FLAG_W,Er_D_CONC_BOTTLE,Er_D_CONC_BOTTLE_FLAG_W,Tm_D_CONC_BOTTLE,Tm_D_CONC_BOTTLE_FLAG_W,Yb_D_CONC_BOTTLE,Yb_D_CONC_BOTTLE_FLAG_W,Lu_D_CONC_BOTTLE,Lu_D_CONC_BOTTLE_FLAG_W
,,,,,,,,,,,METERS,DBAR,ITS-90,PSS-78,,PSS-78,,UMOL/KG,,UMOL/KG,,UMOL/KG,,UMOL/KG,,UMOL/KG,,UMOL/KG,,UMOL/KG,,PMOL/KG,,PMOL/KG,,FMOL/KG,,UMOL/KG,,UMOL/KG,,,,DEG C,UMOL/KG,,NMOL/L,,DEG C,,/MILLE,,/MILLE,,/MILLE,UG/KG,,UMOL/KG,,UMOL/KG,,NMOL/L,,VOLTS,,VOLTS,,VOLTS,,NMOL/KG,,UMOL/L,,,,,,NMOL/L,,NMOL/L,,,,,,10000,,10000,,,,PMOL/KG,,PMOL/L,,PMOL/L,,PMOL/L,,PMOL/L,,PMOL/L,,PMOL/L,,PMOL/L,,PMOL/L,,PMOL/L,,PMOL/L,,PMOL/L,,PMOL/L,,PMOL/L,
320620180309  ,S04P       ,105     ,  1,36         ,36         ,2,20180502,0008, -67.4996,-101.3306,     4633,      8.1,-0.9653300727034507256,33.641001564155758,2,  33.6380,2,344.99236152475777,2, 346.9994,2,    346.2,2,     19.9,2,    24.75,2,     0.24,2,     1.75,2,    6.320,2,    3.278,2,   3.7200,2,   2153.7,6,  2276.59,2,   7.6743,2,    24.91,     43.0,2,     -999,9,  -0.9546,2,1.63000000,2,  -86.550,2,    0.002,     -999,9,    28.90,2,     -999,1,     -999,9,    0.256,1,    4.536,1,    0.217,1,  16.0100,2,     -999,9,20180502,0220, -67.4996,-101.3294,     -999,9,     -999,9,-999          ,9,     -999,9,     -999,9,     -999,     -999,9,     -999,     -999,9,     -999,1,     -999,1,     -999,1,     -999,1,     -999,1,     -999,1,     -999,1,     -999,1,     -999,1,     -999,1,     -999,1,     -999,1,     -999,1
320620180309  ,S04P       ,105     ,  1,35         ,35         ,2,20180502,0008, -67.4996,-101.3306,     4633,     24.9,-0.9541544504957827355,33.640707510334408,2,  33.6382,2,344.99221145452378,2, 346.9979,2,    344.5,2,     19.8,2,    24.75,2,     0.24,2,     1.74,2,    6.381,2,    3.263,2,   3.7800,2,   2153.7,2,  2275.58,2,   7.6748,2,    24.93,     44.7,2,     -999,1,  -0.9521,2,     -999,9,     -999,9,     -999,     -999,9,    27.70,2,     -999,1,     -999,1,    0.256,1,    4.536,1,    0.217,1,  15.7800,2,     -999,1,20180502,0220, -67.4996,-101.3294,     -999,1,     -999,1,-999          ,9,     -999,1,     -999,9,     -999,     -999,9,     -999,     -999,9,     -999,1,     -999,1,     -999,1,     -999,1,     -999,1,     -999,1,     -999,1,     -999,1,     -999,1,     -999,1,     -999,1,     -999,1,     -999,1
320620180309  ,S04P       ,105     ,  1,34         ,34         ,2,20180502,0008, -67.4996,-101.3306,     4633,     49.6,-0.9415133472579724216,33.640524859661966,2,  33.6376,2,344.68441104316480,2, 346.9986,2,    345.0,2,     19.7,2,    24.73,2,     0.24,2,     1.76,2,     -999,9,     -999,9,     -999,9,   2154.4,2,  2274.53,2,   7.6734,2,    24.92,     45.2,2,     -999,9,  -0.9394,2,     -999,9,     -999,9,     -999,     -999,9,    28.40,2,     -999,1,     -999,9,    0.258,1,    4.536,1,    0.225,1,     -999,9,     -999,9,20180502,0218, -67.4996,-101.3294,     -999,9,     -999,9,-999          ,9,     -999,9,     -999,9,     -999,     -999,9,     -999,     -999,9,     -999,9,     -999,9,     -999,9,     -999,9,     -999,9,     -999,9,     -999,9,     -999,9,     -999,9,     -999,9,     -999,9,     -999,9,     -999,9
320620180309  ,S04P       ,105     ,  1,33         ,33         ,2,20180502,0008, -67.4996,-101.3306,     4633,     75.2,-0.9253915369400715907,33.641606592784974,2,  33.6397,2,344.50694099197011,2, 347.0011,2,    344.7,2,     19.9,2,    24.74,2,     0.24,2,     1.75,2,    6.337,2,    3.276,2,   4.0900,2,   2154.4,2,  2275.29,2,   7.6759,2,    24.94,     44.7,2,     -999,1,  -0.9247,2,1.59000000,2,  -87.140,2,    0.002,     -999,9,    27.50,2,     -999,1,     -999,1,    0.248,1,    4.540,1,    0.226,1,  15.4600,2,     -999,1,20180502,0216, -67.4996,-101.3295,     -999,1,     -999,1,-999          ,9,     -999,1,     -999,9,     -999,     -999,9,     -999,     -999,9,     -999,1,     -999,1,     -999,1,     -999,1,     -999,1,     -999,1,     -999,1,     -999,1,     -999,1,     -999,1,     -999,1,     -999,1,     -999,1
320620180309  ,S04P       ,105     ,  1,32         ,32         ,2,20180502,0008, -67.4996,-101.3306,     4633,    100.0,-0.2347699180917593442,33.996512520777102,2,  33.9921,2,333.38173624272588,3, 329.2001,2,    332.1,2,     38.2,2,    28.11,2,     0.36,2,     2.03,2,    6.037,6,    3.161,6,   3.3800,6,   2187.5,2,  2297.87,2,   7.6399,2,    24.94,     43.9,2,     -999,9,  -0.2189,2,     -999,9,     -999,9,     -999,     -999,9,    30.20,2,     -999,1,     -999,9,    0.087,1,    4.614,1,    0.158,1,  16.1500,6,     -999,9,20180502,0215, -67.4996,-101.3294,     -999,9,     -999,9,-999          ,9,     -999,9,     -999,9,     -999,     -999,9,     -999,     -999,9,     -999,9,     -999,9,     -999,9,     -999,9,     -999,9,     -999,9,     -999,9,     -999,9,     -999,9,     -999,9,     -999,9,     -999,9,     -999,9
320620180309  ,S04P       ,105     ,  1,31         ,31         ,2,20180502,0008, -67.4996,-101.3306,     4633,    150.5,0.0188900509686802005,34.095071611821915,2,  34.0921,2,319.62329315882442,3, 322.1995,2,    319.3,2,     44.0,2,    30.81,2,     0.02,2,     2.11,2,     -999,9,     -999,9,     -999,9,   2197.1,2,  2300.52,2,   7.6198,2,    24.93,     45.0,2,     -999,1,   0.0234,2,0.29000000,4, -113.460,2,    0.002,     -999,9,    33.30,2,     -999,1,     -999,1,    0.066,1,    4.628,1,    0.149,1,     -999,9,     -999,1,20180502,0212, -67.4995,-101.3298,     -999,1,     -999,1,-999          ,9,     -999,1,     -999,9,     -999,     -999,9,     -999,     -999,9,     -999,1,     -999,1,     -999,1,     -999,1,     -999,1,     -999,1,     -999,1,     -999,1,     -999,1,     -999,1,     -999,1,     -999,1,     -999,1
320620180309  ,S04P       ,105     ,  1,30         ,30         ,2,20180502,0008, -67.4996,-101.3306,     4633,    202.5,0.9955057179612322171,34.267893853808417,2,  34.2616,2,249.34671390856300,3, 255.1990,2,    257.2,2,     55.8,2,    33.09,2,     0.01,2,     2.25,2,    3.689,2,    1.960,2,   1.9900,2,   2222.2,2,  2318.49,2,   7.5763,2,    24.91,     45.7,2,     -999,9,   1.0030,2,0.85000000,2, -116.430,2,    0.002,     -999,9,    35.50,2,     -999,1,     -999,9,    0.062,1,    4.632,1,    0.147,1,  20.5000,2,     -999,9,20180502,0210, -67.4994,-101.3299,     -999,9,     -999,9,-999          ,9,     -999,9,     -999,9,     -999,     -999,9,     -999,     -999,9,     -999,9,     -999,9,     -999,9,     -999,9,     -999,9,     -999,9,     -999,9,     -999,9,     -999,9,     -999,9,     -999,9,     -999,9,     -999,9
320620180309  ,S04P       ,105     ,  1,29         ,29         ,2,20180502,0008, -67.4996,-101.3306,     4633,    251.5,1.6912067805258836906,34.396301916198340,2,  34.3970,2,205.64805965775631,2, 207.1031,2,    208.9,2,     64.6,2,    34.57,2,     0.00,2,     2.38,2,     -999,9,     -999,9,     -999,9,   2242.5,2,  2323.00,2,   7.5472,2,    24.94,     45.8,2,     -999,1,   1.6913,2,0.69000000,2, -125.770,2,    0.002,     -999,9,    36.20,2,     -999,1,     -999,1,    0.062,1,    4.635,1,    0.146,1,     -999,9,     -999,1,20180502,0208, -67.4992,-101.3304,     -999,1,     -999,1,-999          ,9,     -999,1,     -999,9,     -999,     -999,9,     -999,     -999,9,     -999,1,     -999,1,     -999,1,     -999,1,     -999,1,     -999,1,     -999,1,     -999,1,     -999,1,     -999,1,     -999,1,     -999,1,     -999,1
320620180309  ,S04P       ,105     ,  1,28         ,28         ,2,20180502,0008, -67.4996,-101.3306,     4633,    302.5,1.9187191986050378123,34.477986091630584,2,  34.4768,2,191.13201722835498,3, 193.3056,2,    191.9,2,     70.3,2,    34.74,2,     0.00,2,     2.38,2,    1.612,2,    0.838,2,   0.6500,2,   2248.3,2,  2329.29,2,   7.5438,2,    24.92,     43.5,2,     -999,9,   1.9199,2,0.66000000,2, -133.030,2,    0.002,     -999,9,     -999,9,     -999,1,     -999,9,    0.063,1,    4.637,1,    0.145,1,  23.5800,2,     -999,9,20180502,0206, -67.4991,-101.3307,     -999,9,     -999,9,-999          ,9,     -999,9,     -999,9,     -999,     -999,9,     -999,     -999,9,     -999,9,     -999,9,     -999,9,     -999,9,     -999,9,     -999,9,     -999,9,     -999,9,     -999,9,     -999,9,     -999,9,     -999,9,     -999,9
320620180309  ,S04P       ,105     ,  1,27         ,27         ,2,20180502,0008, -67.4996,-101.3306,     4633,    354.7,1.9785872621653217696,34.520525926498365,2,  34.5187,2,186.44864782423920,3, 188.3007,2,    186.0,2,     73.2,2,    34.53,2,     0.00,2,     2.36,2,    1.314,2,    0.690,2,   0.5000,2,   2252.6,2,  2333.59,2,   7.5452,2,    24.92,     44.2,2,     -999,1,   1.9792,2,     -999,9,     -999,9,     -999,     -999,9,     -999,9,     -999,1,     -999,1,    0.062,1,    4.639,1,    0.138,1,  22.8400,2,     -999,1,20180502,0203, -67.4990,-101.3309,     -999,1,     -999,1,-999          ,9,     -999,1,     -999,9,     -999,     -999,9,     -999,     -999,9,     -999,1,     -999,1,     -999,1,     -999,1,     -999,1,     -999,1,     -999,1,     -999,1,     -999,1,     -999,1,     -999,1,     -999,1,     -999,1
320620180309  ,S04P       ,105     ,  1,26         ,38         ,2,20180502,0008, -67.4996,-101.3306,     4633,    403.8,2.0423240494750518614,34.562571742383049,2,  34.5615,2,182.32172511779800,2, 182.3003,2,    181.8,2,     75.9,2,    34.26,2,     0.00,2,     2.36,2,    1.020,2,    0.543,2,   0.2500,2,   2254.5,2,  2337.44,2,   7.5468,2,    24.91,     44.1,2,     -999,9,   2.0416,2,0.64000000,2, -144.080,2,    0.002,     -999,9,     -999,9,     -999,1,     -999,9,    0.062,1,    4.641,1,    0.135,1,  23.0400,2,     -999,9,20180502,0201, -67.4989,-101.3314,     -999,9,     -999,9,-999          ,9,     -999,9,     -999,9,     -999,     -999,9,     -999,     -999,9,     -999,9,     -999,9,     -999,9,     -999,9,     -999,9,     -999,9,     -999,9,     -999,9,     -999,9,     -999,9,     -999,9,     -999,9,     -999,9
320620180309  ,S04P       ,105     ,  1,25         ,25         ,2,20180502,0008, -67.4996,-101.3306,     4633,    454.9,2.0249416144185738986,34.586655077860009,2,  34.5858,2,181.86966297064285,2, 181.1047,2,    180.7,2,     77.4,2,    33.99,2,     0.00,2,     2.34,2,     -999,9,     -999,9,     -999,9,   2254.5,2,  2339.05,2,   7.5521,2,    24.92,     44.1,2,     -999,9,   2.0248,2,     -999,9,     -999,9,     -999,     -999,9,     -999,9,     -999,1,     -999,9,    0.061,1,    4.643,1,    0.138,1,     -999,9,     -999,9,20180502,0159, -67.4987,-101.3318,     -999,9,     -999,9,-999          ,9,     -999,9,     -999,9,     -999,     -999,9,     -999,     -999,9,     -999,1,     -999,1,     -999,1,     -999,1,     -999,1,     -999,1,     -999,1,     -999,1,     -999,1,     -999,1,     -999,1,     -999,1,     -999,1
320620180309  ,S04P       ,105     ,  1,24         ,24         ,2,20180502,0008, -67.4996,-101.3306,     4633,    503.7,2.0368086357291623756,34.610351520588175,2,  34.6087,2,180.73648163445193,2, 180.6971,2,    179.7,2,     79.0,2,    33.80,2,     0.00,2,     2.33,2,    0.776,2,    0.414,2,   0.2800,2,   2255.8,2,  2340.76,2,   7.5559,2,    24.93,     45.4,2,     -999,1,   2.0368,2,0.65000000,2, -143.890,2,    0.002,     -999,9,     -999,9,     -999,1,     -999,1,    0.061,1,    4.642,1,    0.137,1,  22.6700,2,     -999,1,20180502,0157, -67.4986,-101.3321,     -999,1,     -999,1,-999          ,9,     -999,1,     -999,9,     -999,     -999,9,     -999,     -999,9,     -999,1,     -999,1,     -999,1,     -999,1,     -999,1,     -999,1,     -999,1,     -999,1,     -999,1,     -999,1,     -999,1,     -999,1,     -999,1
320620180309  ,S04P       ,105     ,  1,23         ,23         ,2,20180502,0008, -67.4996,-101.3306,     4633,    606.8,2.0503904517683868569,34.655815625946246,2,  34.6550,2,179.32275780711927,2, 179.3050,2,    178.0,2,     82.1,2,    33.27,2,     0.00,2,     2.31,2,    0.516,2,    0.285,2,   0.2700,2,   2257.8,6,  2344.98,2,   7.5622,2,    24.99,     42.6,2,     -999,9,   2.0494,2,0.64000000,2, -150.760,2,    0.002,     -999,9,     -999,9,     -999,1,     -999,9,    0.061,1,    4.642,1,    0.136,1,  21.4100,2,     -999,9,20180502,0154, -67.4983,-101.3332,     -999,9,     -999,9,-999          ,9,     -999,9,     -999,9,     -999,     -999,9,     -999,     -999,9,     -999,1,     -999,1,     -999,1,     -999,1,     -999,1,     -999,1,     -999,1,     -999,1,     -999,1,     -999,1,     -999,1,     -999,1,     -999,1
320620180309  ,S04P       ,105     ,  1,22         ,37         ,2,20180502,0008, -67.4996,-101.3306,     4633,    707.6,2.0649546380802998868,34.691092756482121,2,  34.6907,2,180.03944338975501,2, 180.2010,2,    179.6,2,     84.7,2,    32.61,2,     0.00,2,     2.25,2,     -999,9,     -999,9,     -999,9,   2255.7,2,  2348.37,3,   7.5754,2,    24.95,     41.5,2,     -999,9,   2.0648,2,0.64000000,2, -150.070,2,    0.002,     -999,9,     -999,9,     -999,1,     -999,9,    0.062,1,    4.644,1,    0.135,1,     -999,9,     -999,9,20180502,0150, -67.4982,-101.3337,     -999,9,     -999,9,-999          ,9,     -999,9,     -999,9,     -999,     -999,9,     -999,     -999,9,     -999,9,     -999,9,     -999,9,     -999,9,     -999,9,     -999,9,     -999,9,     -999,9,     -999,9,     -999,9,     -999,9,     -999,9,     -999,9
320620180309  ,S04P       ,105     ,  1,21         ,21         ,2,20180502,0008, -67.4996,-101.3306,     4633,    809.7,2.0001879265776754124,34.706164763395201,2,  34.7062,2,182.15623927466939,3, 182.5004,2,    182.3,2,     86.3,2,    32.26,2,     0.00,2,     2.22,2,    0.268,2,    0.142,2,   0.0500,2,   2254.8,2,  2351.00,2,   7.5802,2,    24.94,     40.5,2,     -999,1,   2.0003,2,0.67000000,2, -151.150,2,    0.002,     -999,9,     -999,9,     -999,1,     -999,1,    0.061,1,    4.644,1,    0.133,1,  21.2900,2,     -999,1,20180502,0147, -67.4981,-101.3342,     -999,1,     -999,1,-999          ,9,     -999,1,     -999,9,     -999,     -999,9,     -999,     -999,9,     -999,1,     -999,1,     -999,1,     -999,1,     -999,1,     -999,1,     -999,1,     -999,1,     -999,1,     -999,1,     -999,1,     -999,1,     -999,1
320620180309  ,S04P       ,105     ,  1,20         ,20         ,2,20180502,0008, -67.4996,-101.3306,     4633,    910.1,1.9239703767374451981,34.717458521544884,2,  34.7176,2,184.56909575952287,3, 184.9993,2,    184.7,2,     88.3,2,    31.96,2,     0.00,2,     2.22,2,    0.229,2,    0.129,2,   0.0000,2,   2255.2,2,  2351.63,2,   7.5863,6,    24.99,     41.6,2,     -999,9,   1.9239,2,0.61000000,2, -154.570,2,    0.002,     -999,9,     -999,9,     -999,1,     -999,9,    0.061,1,    4.645,1,    0.132,1,  20.3900,2,     -999,9,20180502,0144, -67.4979,-101.3352,     -999,9,     -999,9,-999          ,9,     -999,9,     -999,9,     -999,     -999,9,     -999,     -999,9,     -999,9,     -999,9,     -999,9,     -999,9,     -999,9,     -999,9,     -999,9,     -999,9,     -999,9,     -999,9,     -999,9,     -999,9,     -999,9
320620180309  ,S04P       ,105     ,  1,19         ,19         ,2,20180502,0008, -67.4996,-101.3306,     4633,   1013.4,1.8524221612869982145,34.724172390440188,2,  34.7237,2,186.40236555134786,2, 186.9965,2,    186.8,2,     90.4,2,    31.81,2,     0.00,2,     2.20,2,     -999,9,     -999,9,     -999,9,   2256.7,2,  2354.63,2,   7.5962,2,    24.95,     43.0,2,     -999,9,   1.8523,2,0.67000000,2, -154.680,2,    0.003,     -999,9,     -999,9,     -999,1,     -999,9,    0.061,1,    4.645,1,    0.131,1,     -999,9,     -999,9,20180502,0141, -67.4977,-101.3365,     -999,9,     -999,9,-999          ,9,     -999,9,     -999,9,     -999,     -999,9,     -999,     -999,9,     -999,1,     -999,1,     -999,1,     -999,1,     -999,1,     -999,1,     -999,1,     -999,1,     -999,1,     -999,1,     -999,1,     -999,1,     -999,1
320620180309  ,S04P       ,105     ,  1,18         ,18         ,2,20180502,0008, -67.4996,-101.3306,     4633,   1113.6,1.7710895833974342750,34.728593058338134,2,  34.7288,2,188.39499443224275,2, 188.7991,2,    188.9,2,     92.4,2,    31.67,2,     0.00,2,     2.18,2,    0.191,2,    0.100,2,   0.0300,2,   2255.3,2,  2354.65,2,   7.5981,2,    24.95,     44.1,2,     -999,1,   1.7710,2,0.64000000,2, -152.470,2,    0.002,     -999,9,     -999,9,     -999,1,     -999,1,    0.061,1,    4.645,1,    0.129,1,  20.4100,2,     -999,1,20180502,0137, -67.4977,-101.3364,     -999,1,     -999,1,-999          ,9,     -999,1,     -999,9,     -999,     -999,9,     -999,     -999,9,     -999,9,     -999,9,     -999,9,     -999,9,     -999,9,     -999,9,     -999,9,     -999,9,     -999,9,     -999,9,     -999,9,     -999,9,     -999,9
320620180309  ,S04P       ,105     ,  1,17         ,17         ,2,20180502,0008, -67.4996,-101.3306,     4633,   1214.9,1.6885065998955983702,34.730912204601019,2,  34.7308,2,190.09896037200295,2, 190.6026,2,    190.5,2,     94.8,2,    31.63,2,     0.00,2,     2.18,2,    0.182,2,    0.098,2,   0.0500,2,   2256.4,2,  2356.41,2,   7.5981,2,    24.96,     43.1,2,     -999,9,   1.6891,2,0.68000000,2, -157.030,2,    0.002,     -999,9,     -999,9,     -999,1,     -999,9,    0.061,1,    4.646,1,    0.130,1,  19.5000,2,     -999,9,20180502,0134, -67.4978,-101.3363,     -999,9,     -999,9,-999          ,9,     -999,9,     -999,9,     -999,     -999,9,     -999,     -999,9,     -999,1,     -999,1,     -999,1,     -999,1,     -999,1,     -999,1,     -999,1,     -999,1,     -999,1,     -999,1,     -999,1,     -999,1,     -999,1
320620180309  ,S04P       ,105     ,  1,16         ,16         ,2,20180502,0008, -67.4996,-101.3306,     4633,   1316.7,1.6062898065666566527,34.731642625979049,2,  34.7319,2,191.53959230927299,2, 191.9049,2,    192.0,2,     97.3,2,    31.67,2,     0.00,2,     2.17,2,     -999,9,     -999,9,     -999,9,   2255.9,2,  2356.34,2,   7.6016,2,    24.95,     44.1,2,     -999,9,   1.6060,2,0.56000000,2, -160.050,2,    0.002,     -999,9,     -999,9,     -999,1,     -999,9,    0.061,1,    4.645,1,    0.129,1,     -999,9,     -999,9,20180502,0131, -67.4979,-101.3356,     -999,9,     -999,9,-999          ,9,     -999,9,     -999,9,     -999,     -999,9,     -999,     -999,9,     -999,9,     -999,9,     -999,9,     -999,9,     -999,9,     -999,9,     -999,9,     -999,9,     -999,9,     -999,9,     -999,9,     -999,9,     -999,9