BOTTLE,20240515CCHHYDRO
EXPOCODE,SECT_ID,STNNBR,CASTNO,SAMPNO,BTLNBR,BTLNBR_FLAG_W,DATE,TIME,LATITUDE,LONGITUDE,DEPTH,CTDPRS,CTDTMP,CTDSAL,CTDSAL_FLAG_W,SALNTY,SALNTY_FLAG_W,CTDOXY,CTDOXY_FLAG_W,CTDOPTOXY,CTDOPTOXY_FLAG_W,OXYGEN,OXYGEN_FLAG_W,SILCAT,SILCAT_FLAG_W,NITRAT,NITRAT_FLAG_W,NITRIT,NITRIT_FLAG_W,PHSPHT,PHSPHT_FLAG_W,CFC-11,CFC-11_FLAG_W,CFC-12,CFC-12_FLAG_W,SF6,SF6_FLAG_W,TCARBN,TCARBN_FLAG_W,ALKALI,ALKALI_FLAG_W,PH_TOT,PH_TOT_FLAG_W,PH_TMP,DOC,DOC_FLAG_W,HELIUM,HELIUM_FLAG_W,REFTMP,REFTMP_FLAG_W,DELC13,DELC13_FLAG_W,DELC14,DELC14_FLAG_W,C14ERR,POC,POC_FLAG_W,TDN,TDN_FLAG_W,TON,TON_FLAG_W,NEON,NEON_FLAG_W,CTDFLUOR,CTDFLUOR_FLAG_W,CTDXMISS,CTDXMISS_FLAG_W,CTDBETA700,CTDBETA700_FLAG_W,N2O,N2O_FLAG_W,ARGON,ARGON_FLAG_W,BTL_DATE,BTL_TIME,BTL_LAT,BTL_LON,KRYPTON,KRYPTON_FLAG_W,XENON,XENON_FLAG_W,HPLC,HPLC_FLAG_W,HE3_HE4_RATIO,HE3_HE4_RATIO_FLAG_W,Nd_143_144_D_EPSILON_BOTTLE,Nd_143_144_D_EPSILON_BOTTLE_FLAG_W,Nd_143_144_D_EPSILON_BOTTLE_ERROR,Nd_143_144_D_RATIO_BOTTLE,Nd_143_144_D_RATIO_BOTTLE_FLAG_W,Nd_143_144_D_RATIO_BOTTLE_ERROR,Nd_D_CONC,Nd_D_CONC_FLAG_W,La_D_CONC_BOTTLE,La_D_CONC_BOTTLE_FLAG_W,Ce_D_CONC_BOTTLE,Ce_D_CONC_BOTTLE_FLAG_W,Pr_D_CONC_BOTTLE,Pr_D_CONC_BOTTLE_FLAG_W,Sm_D_CONC_BOTTLE,Sm_D_CONC_BOTTLE_FLAG_W,Eu_D_CONC_BOTTLE,Eu_D_CONC_BOTTLE_FLAG_W,Gd_D_CONC_BOTTLE,Gd_D_CONC_BOTTLE_FLAG_W,Tb_D_CONC_BOTTLE,Tb_D_CONC_BOTTLE_FLAG_W,Dy_D_CONC_BOTTLE,Dy_D_CONC_BOTTLE_FLAG_W,Ho_D_CONC_BOTTLE,Ho_D_CONC_BOTTLE_FLAG_W,Er_D_CONC_BOTTLE,Er_D_CONC_BOTTLE_FLAG_W,Tm_D_CONC_BOTTLE,Tm_D_CONC_BOTTLE_FLAG_W,Yb_D_CONC_BOTTLE,Yb_D_CONC_BOTTLE_FLAG_W,Lu_D_CONC_BOTTLE,Lu_D_CONC_BOTTLE_FLAG_W
,,,,,,,,,,,METERS,DBAR,ITS-90,PSS-78,,PSS-78,,UMOL/KG,,UMOL/KG,,UMOL/KG,,UMOL/KG,,UMOL/KG,,UMOL/KG,,UMOL/KG,,PMOL/KG,,PMOL/KG,,FMOL/KG,,UMOL/KG,,UMOL/KG,,,,DEG C,UMOL/KG,,NMOL/L,,DEG C,,/MILLE,,/MILLE,,/MILLE,UG/KG,,UMOL/KG,,UMOL/KG,,NMOL/L,,VOLTS,,VOLTS,,VOLTS,,NMOL/KG,,UMOL/L,,,,,,NMOL/L,,NMOL/L,,,,,,10000,,10000,,,,PMOL/KG,,PMOL/L,,PMOL/L,,PMOL/L,,PMOL/L,,PMOL/L,,PMOL/L,,PMOL/L,,PMOL/L,,PMOL/L,,PMOL/L,,PMOL/L,,PMOL/L,,PMOL/L,
320620180309  ,S04P       ,97      ,  1,36         ,36         ,2,20180428,1543, -68.0014,-105.1584,     4524,     11.6,-1.3436626937755931088,33.614547310572590,2,  33.6124,2,348.63123868950396,2, 350.1031,2,    350.8,2,     23.1,2,    24.95,2,     0.24,2,     1.73,2,    0.000,4,    0.000,4,   3.9900,4,   2154.0,6,  2272.48,2,   7.6722,2,    25.06,     -999,9,     -999,9,  -1.3436,2,     -999,9,     -999,9,     -999,     -999,9,     -999,9,     -999,9,     -999,9,    0.328,1,    4.518,1,    0.247,1,   0.0000,4,     -999,9,20180428,1812, -68.0023,-105.1588,     -999,9,     -999,9,-999          ,9,     -999,9,     -999,9,     -999,     -999,9,     -999,     -999,9,     -999,9,     -999,9,     -999,9,     -999,9,     -999,9,     -999,9,     -999,9,     -999,9,     -999,9,     -999,9,     -999,9,     -999,9,     -999,9
320620180309  ,S04P       ,97      ,  1,35         ,35         ,2,20180428,1543, -68.0014,-105.1584,     4524,     23.6,-1.3351852674275861421,33.617024762583426,2,  33.6139,2,348.90817208180994,2, 349.1018,2,    349.1,2,     23.1,2,    24.94,2,     0.24,2,     1.73,2,     -999,9,     -999,9,     -999,9,   2152.5,2,  2276.18,2,   7.6703,2,    25.08,     -999,9,     -999,9,  -1.3322,2,     -999,9,     -999,9,     -999,     -999,9,     -999,9,     -999,9,     -999,9,    0.341,1,    4.517,1,    0.265,1,     -999,9,     -999,9,20180428,1811, -68.0023,-105.1589,     -999,9,     -999,9,-999          ,9,     -999,9,     -999,9,     -999,     -999,9,     -999,     -999,9,     -999,9,     -999,9,     -999,9,     -999,9,     -999,9,     -999,9,     -999,9,     -999,9,     -999,9,     -999,9,     -999,9,     -999,9,     -999,9
320620180309  ,S04P       ,97      ,  1,34         ,34         ,2,20180428,1543, -68.0014,-105.1584,     4524,     48.9,-1.2516634855013470951,33.661765097363265,2,  33.6593,2,349.08084896378278,2, 348.2033,2,    348.4,2,     25.0,2,    25.23,2,     0.23,2,     1.74,2,    7.238,2,    3.496,2,   3.8800,3,   2155.7,2,  2275.88,2,   7.6696,2,    25.03,     -999,9,     -999,9,  -1.2518,2,     -999,9,     -999,9,     -999,     -999,9,     -999,9,     -999,9,     -999,9,    0.334,1,    4.518,1,    0.266,1,  16.1400,2,     -999,9,20180428,1809, -68.0024,-105.1594,     -999,9,     -999,9,-999          ,9,     -999,9,     -999,9,     -999,     -999,9,     -999,     -999,9,     -999,9,     -999,9,     -999,9,     -999,9,     -999,9,     -999,9,     -999,9,     -999,9,     -999,9,     -999,9,     -999,9,     -999,9,     -999,9
320620180309  ,S04P       ,97      ,  1,33         ,33         ,2,20180428,1543, -68.0014,-105.1584,     4524,     74.6,-0.2852749814862867717,33.978578865310965,2,  33.9767,2,335.35437218822483,2, 333.7002,2,    334.3,2,     37.7,2,    27.68,2,     0.31,2,     2.01,2,     -999,9,     -999,9,     -999,9,   2180.3,2,  2294.50,2,   7.6477,2,    25.05,     -999,9,     -999,9,  -0.2883,2,     -999,9,     -999,9,     -999,     -999,9,     -999,9,     -999,9,     -999,9,    0.086,1,    4.612,1,    0.172,1,     -999,9,     -999,9,20180428,1807, -68.0025,-105.1598,     -999,9,     -999,9,-999          ,9,     -999,9,     -999,9,     -999,     -999,9,     -999,     -999,9,     -999,9,     -999,9,     -999,9,     -999,9,     -999,9,     -999,9,     -999,9,     -999,9,     -999,9,     -999,9,     -999,9,     -999,9,     -999,9
320620180309  ,S04P       ,97      ,  1,32         ,32         ,2,20180428,1543, -68.0014,-105.1584,     4524,    100.5,-0.4101670447521637564,34.033210459511579,2,  34.0316,2,333.41202387511817,2, 331.9029,2,    330.5,2,     42.6,2,    29.42,2,     0.27,2,     2.04,2,     -999,9,     -999,9,     -999,9,   2189.6,2,  2297.04,2,   7.6321,2,    25.07,     -999,9,     -999,9,  -0.4123,2,     -999,9,     -999,9,     -999,     -999,9,     -999,9,     -999,9,     -999,9,    0.069,1,    4.630,1,    0.163,1,     -999,9,     -999,9,20180428,1805, -68.0025,-105.1600,     -999,9,     -999,9,-999          ,9,     -999,9,     -999,9,     -999,     -999,9,     -999,     -999,9,     -999,9,     -999,9,     -999,9,     -999,9,     -999,9,     -999,9,     -999,9,     -999,9,     -999,9,     -999,9,     -999,9,     -999,9,     -999,9
320620180309  ,S04P       ,97      ,  1,31         ,31         ,2,20180428,1543, -68.0014,-105.1584,     4524,    150.2,0.0100594217672273882,34.154579948178615,2,  34.1573,2,301.77236705046528,3, 301.1017,3,    297.9,2,     50.4,2,    31.57,2,     0.02,2,     2.13,2,    5.347,2,    2.694,2,   3.0100,3,   2209.4,2,  2303.22,2,   7.6031,2,    25.06,     -999,9,     -999,9,   0.0094,2,     -999,9,     -999,9,     -999,     -999,9,     -999,9,     -999,9,     -999,9,    0.067,1,    4.636,1,    0.151,1,  18.4300,2,     -999,9,20180428,1803, -68.0025,-105.1596,     -999,9,     -999,9,-999          ,9,     -999,9,     -999,9,     -999,     -999,9,     -999,     -999,9,     -999,9,     -999,9,     -999,9,     -999,9,     -999,9,     -999,9,     -999,9,     -999,9,     -999,9,     -999,9,     -999,9,     -999,9,     -999,9
320620180309  ,S04P       ,97      ,  1,30         ,30         ,2,20180428,1543, -68.0014,-105.1584,     4524,    202.4,1.4533834735267718852,34.388437162341447,2,  34.3886,2,219.31226399433305,3, 217.8013,2,    216.0,2,     65.3,2,    34.43,2,     0.00,2,     2.33,2,     -999,9,     -999,9,     -999,9,   2236.9,2,  2319.54,2,   7.5507,2,    25.11,     -999,9,     -999,9,   1.4662,2,     -999,9,     -999,9,     -999,     -999,9,     -999,9,     -999,9,     -999,9,    0.064,1,    4.638,1,    0.151,1,     -999,9,     -999,9,20180428,1800, -68.0023,-105.1592,     -999,9,     -999,9,-999          ,9,     -999,9,     -999,9,     -999,     -999,9,     -999,     -999,9,     -999,9,     -999,9,     -999,9,     -999,9,     -999,9,     -999,9,     -999,9,     -999,9,     -999,9,     -999,9,     -999,9,     -999,9,     -999,9
320620180309  ,S04P       ,97      ,  1,29         ,29         ,2,20180428,1543, -68.0014,-105.1584,     4524,    251.6,1.6986734635892781764,34.470063404006865,2,  34.4742,2,201.80608186062318,3, 200.7954,3,    198.1,2,     71.6,2,    34.68,2,     0.00,2,     2.34,2,    1.804,2,    0.942,2,   0.8500,2,   2248.3,2,  2326.01,2,   7.5428,2,    25.07,     -999,9,     -999,9,   1.6985,2,     -999,9,     -999,9,     -999,     -999,9,     -999,9,     -999,9,     -999,9,    0.063,1,    4.641,1,    0.152,1,  22.7000,2,     -999,9,20180428,1757, -68.0022,-105.1588,     -999,9,     -999,9,-999          ,9,     -999,9,     -999,9,     -999,     -999,9,     -999,     -999,9,     -999,9,     -999,9,     -999,9,     -999,9,     -999,9,     -999,9,     -999,9,     -999,9,     -999,9,     -999,9,     -999,9,     -999,9,     -999,9
320620180309  ,S04P       ,97      ,  1,28         ,28         ,2,20180428,1543, -68.0014,-105.1584,     4524,    302.9,1.9653887228511803809,34.544510229996654,2,  34.5432,2,187.39934977681065,3, 186.9949,3,    184.4,2,     74.8,2,    34.49,2,     0.00,2,     2.32,2,     -999,9,     -999,9,     -999,9,   2254.1,2,  2333.93,2,   7.5476,2,    25.10,     -999,9,     -999,9,   1.9643,2,     -999,9,     -999,9,     -999,     -999,9,     -999,9,     -999,9,     -999,9,    0.062,1,    4.643,1,    0.146,1,     -999,9,     -999,9,20180428,1754, -68.0021,-105.1586,     -999,9,     -999,9,-999          ,9,     -999,9,     -999,9,     -999,     -999,9,     -999,     -999,9,     -999,9,     -999,9,     -999,9,     -999,9,     -999,9,     -999,9,     -999,9,     -999,9,     -999,9,     -999,9,     -999,9,     -999,9,     -999,9
320620180309  ,S04P       ,97      ,  1,27         ,27         ,2,20180428,1543, -68.0014,-105.1584,     4524,    353.2,1.9248453147881907643,34.567869422483504,2,  34.5668,2,182.44563677208336,2, 184.5021,2,    184.1,3,     77.2,2,    34.20,2,     0.00,2,     2.30,2,     -999,9,     -999,9,     -999,9,   2254.9,2,  2334.29,2,   7.5504,2,    25.08,     -999,9,     -999,9,   1.9253,2,     -999,9,     -999,9,     -999,     -999,9,     -999,9,     -999,9,     -999,9,    0.063,1,    4.644,1,    0.143,1,     -999,9,     -999,9,20180428,1751, -68.0021,-105.1585,     -999,9,     -999,9,-999          ,9,     -999,9,     -999,9,     -999,     -999,9,     -999,     -999,9,     -999,9,     -999,9,     -999,9,     -999,9,     -999,9,     -999,9,     -999,9,     -999,9,     -999,9,     -999,9,     -999,9,     -999,9,     -999,9
320620180309  ,S04P       ,97      ,  1,26         ,38         ,2,20180428,1543, -68.0014,-105.1584,     4524,    402.7,2.0367516193901975541,34.611461929909090,2,  34.6101,2,178.34091436397213,3, 177.7985,2,    176.1,2,     80.6,2,    34.07,2,     0.00,2,     2.30,2,    0.745,2,    0.395,2,   0.2400,3,   2258.2,2,  2339.73,2,   7.5496,6,    25.08,     -999,9,     -999,9,   2.0367,2,     -999,9,     -999,9,     -999,     -999,9,     -999,9,     -999,9,     -999,9,    0.062,1,    4.645,1,    0.140,1,  23.0400,2,     -999,9,20180428,1748, -68.0022,-105.1589,     -999,9,     -999,9,-999          ,9,     -999,9,     -999,9,     -999,     -999,9,     -999,     -999,9,     -999,9,     -999,9,     -999,9,     -999,9,     -999,9,     -999,9,     -999,9,     -999,9,     -999,9,     -999,9,     -999,9,     -999,9,     -999,9
320620180309  ,S04P       ,97      ,  1,25         ,25         ,2,20180428,1543, -68.0014,-105.1584,     4524,    452.9,2.0717162524504852961,34.640536759725109,2,  34.6407,2,176.73956871548006,2, 176.6038,2,    177.1,2,     81.8,2,    33.53,2,     0.00,2,     2.26,2,    0.574,2,    0.309,2,   0.0900,3,   2256.3,6,  2340.41,2,   7.5597,2,    25.05,     -999,9,     -999,9,   2.0718,2,     -999,9,     -999,9,     -999,     -999,9,     -999,9,     -999,9,     -999,9,    0.062,1,    4.647,1,    0.140,1,  22.1600,2,     -999,9,20180428,1745, -68.0024,-105.1594,     -999,9,     -999,9,-999          ,9,     -999,9,     -999,9,     -999,     -999,9,     -999,     -999,9,     -999,9,     -999,9,     -999,9,     -999,9,     -999,9,     -999,9,     -999,9,     -999,9,     -999,9,     -999,9,     -999,9,     -999,9,     -999,9
320620180309  ,S04P       ,97      ,  1,24         ,24         ,2,20180428,1543, -68.0014,-105.1584,     4524,    504.4,2.0571393214763658008,34.657943839712196,2,  34.6591,2,177.38943117879498,3, 176.6962,2,    175.3,2,     83.6,2,    33.39,2,     0.00,2,     2.25,2,    0.483,2,    0.258,2,   0.1600,3,   2259.1,2,  2342.08,2,   7.5605,2,    25.17,     -999,9,     -999,9,   2.0569,2,     -999,9,     -999,9,     -999,     -999,9,     -999,9,     -999,9,     -999,9,    0.061,1,    4.647,1,    0.138,1,  22.1700,2,     -999,9,20180428,1742, -68.0025,-105.1599,     -999,9,     -999,9,-999          ,9,     -999,9,     -999,9,     -999,     -999,9,     -999,     -999,9,     -999,9,     -999,9,     -999,9,     -999,9,     -999,9,     -999,9,     -999,9,     -999,9,     -999,9,     -999,9,     -999,9,     -999,9,     -999,9
320620180309  ,S04P       ,97      ,  1,23         ,23         ,2,20180428,1543, -68.0014,-105.1584,     4524,    605.7,2.0351541530501631172,34.689966052150346,2,  34.6901,2,179.79737267599177,2, 179.2007,2,    178.6,3,     85.5,2,    32.71,2,     0.00,2,     2.23,2,     -999,9,     -999,9,     -999,9,   2257.2,2,  2344.28,2,   7.5712,2,    25.16,     -999,9,     -999,9,   2.0350,2,     -999,9,     -999,9,     -999,     -999,9,     -999,9,     -999,9,     -999,9,    0.061,1,    4.647,1,    0.136,1,     -999,9,     -999,9,20180428,1738, -68.0027,-105.1603,     -999,9,     -999,9,-999          ,9,     -999,9,     -999,9,     -999,     -999,9,     -999,     -999,9,     -999,9,     -999,9,     -999,9,     -999,9,     -999,9,     -999,9,     -999,9,     -999,9,     -999,9,     -999,9,     -999,9,     -999,9,     -999,9
320620180309  ,S04P       ,97      ,  1,22         ,37         ,2,20180428,1543, -68.0014,-105.1584,     4524,    706.6,1.9700461438462655295,34.707083509361091,2,  34.7068,2,182.19158048887078,2, 181.6036,2,    181.4,2,     87.3,2,    32.29,2,     0.00,2,     2.20,2,     -999,9,     -999,9,     -999,9,   2257.7,2,  2346.20,2,   7.5817,2,    25.12,     -999,9,     -999,9,   1.9718,2,     -999,9,     -999,9,     -999,     -999,9,     -999,9,     -999,9,     -999,9,    0.061,1,    4.648,1,    0.138,1,     -999,9,     -999,9,20180428,1734, -68.0024,-105.1595,     -999,9,     -999,9,-999          ,9,     -999,9,     -999,9,     -999,     -999,9,     -999,     -999,9,     -999,9,     -999,9,     -999,9,     -999,9,     -999,9,     -999,9,     -999,9,     -999,9,     -999,9,     -999,9,     -999,9,     -999,9,     -999,9
320620180309  ,S04P       ,97      ,  1,21         ,21         ,2,20180428,1543, -68.0014,-105.1584,     4524,    808.9,1.8919711277552460071,34.718745346236503,2,  34.7194,2,184.73690151569201,2, 184.4012,2,    184.1,2,     89.6,2,    32.00,2,     0.00,2,     2.19,2,    0.239,2,    0.127,2,   0.1300,2,   2259.9,2,  2350.96,2,   7.5872,2,    25.18,     -999,9,     -999,9,   1.8924,2,     -999,9,     -999,9,     -999,     -999,9,     -999,9,     -999,9,     -999,9,    0.062,1,    4.649,1,    0.135,1,  20.1500,2,     -999,9,20180428,1731, -68.0021,-105.1589,     -999,9,     -999,9,-999          ,9,     -999,9,     -999,9,     -999,     -999,9,     -999,     -999,9,     -999,9,     -999,9,     -999,9,     -999,9,     -999,9,     -999,9,     -999,9,     -999,9,     -999,9,     -999,9,     -999,9,     -999,9,     -999,9
320620180309  ,S04P       ,97      ,  1,20         ,20         ,2,20180428,1543, -68.0014,-105.1584,     4524,    910.1,1.8097814963330161042,34.725606400030124,2,  34.7266,2,186.66507859692479,2, 186.0029,2,    186.8,2,     92.1,2,    31.84,2,     0.00,2,     2.17,2,     -999,9,     -999,9,     -999,9,   2256.1,2,  2352.69,2,   7.5892,2,    25.17,     -999,9,     -999,9,   1.8097,2,     -999,9,     -999,9,     -999,     -999,9,     -999,9,     -999,9,     -999,9,    0.062,1,    4.649,1,    0.133,1,     -999,9,     -999,9,20180428,1727, -68.0020,-105.1587,     -999,9,     -999,9,-999          ,9,     -999,9,     -999,9,     -999,     -999,9,     -999,     -999,9,     -999,9,     -999,9,     -999,9,     -999,9,     -999,9,     -999,9,     -999,9,     -999,9,     -999,9,     -999,9,     -999,9,     -999,9,     -999,9
320620180309  ,S04P       ,97      ,  1,19         ,19         ,2,20180428,1543, -68.0014,-105.1584,     4524,   1011.9,1.7257969346557024970,34.730027327932497,2,  34.7314,2,188.94851370361775,2, 188.5981,2,    188.5,2,     94.4,2,    31.69,2,     0.00,2,     2.16,2,    0.198,2,    0.116,2,   0.0100,3,   2256.9,2,  2352.32,2,   7.5934,2,    25.18,     -999,9,     -999,9,   1.7260,2,     -999,9,     -999,9,     -999,     -999,9,     -999,9,     -999,9,     -999,9,    0.061,1,    4.649,1,    0.132,1,  20.2600,2,     -999,9,20180428,1723, -68.0021,-105.1589,     -999,9,     -999,9,-999          ,9,     -999,9,     -999,9,     -999,     -999,9,     -999,     -999,9,     -999,9,     -999,9,     -999,9,     -999,9,     -999,9,     -999,9,     -999,9,     -999,9,     -999,9,     -999,9,     -999,9,     -999,9,     -999,9
320620180309  ,S04P       ,97      ,  1,18         ,18         ,2,20180428,1543, -68.0014,-105.1584,     4524,   1112.9,1.6393172576269230412,34.731853701113920,2,  34.7331,2,190.97713798616263,2, 190.5924,2,    191.1,2,     96.9,2,    31.60,2,     0.00,2,     2.15,2,     -999,9,     -999,9,     -999,9,   2253.8,2,  2355.61,2,   7.5957,2,    25.08,     -999,9,     -999,9,   1.6389,2,     -999,9,     -999,9,     -999,     -999,9,     -999,9,     -999,9,     -999,9,    0.061,1,    4.649,1,    0.135,1,     -999,9,     -999,9,20180428,1719, -68.0023,-105.1592,     -999,9,     -999,9,-999          ,9,     -999,9,     -999,9,     -999,     -999,9,     -999,     -999,9,     -999,9,     -999,9,     -999,9,     -999,9,     -999,9,     -999,9,     -999,9,     -999,9,     -999,9,     -999,9,     -999,9,     -999,9,     -999,9
320620180309  ,S04P       ,97      ,  1,17         ,17         ,2,20180428,1543, -68.0014,-105.1584,     4524,   1213.7,1.5652675457306233220,34.732315985306897,2,  34.7323,2,192.49741598287324,2, 191.7006,2,    193.3,3,     99.5,2,    31.63,2,     0.00,2,     2.17,2,    0.169,2,    0.093,2,   0.1700,3,   2255.3,2,  2357.80,2,   7.5970,2,    25.05,     -999,9,     -999,9,   1.5677,2,     -999,9,     -999,9,     -999,     -999,9,     -999,9,     -999,9,     -999,9,    0.062,1,    4.650,1,    0.134,1,  19.4700,2,     -999,9,20180428,1715, -68.0024,-105.1594,     -999,9,     -999,9,-999          ,9,     -999,9,     -999,9,     -999,     -999,9,     -999,     -999,9,     -999,9,     -999,9,     -999,9,     -999,9,     -999,9,     -999,9,     -999,9,     -999,9,     -999,9,     -999,9,     -999,9,     -999,9,     -999,9
320620180309  ,S04P       ,97      ,  1,16         ,16         ,2,20180428,1543, -68.0014,-105.1584,     4524,   1316.1,1.4761952745720372526,34.731474084218071,2,  34.7319,2,193.79739651229366,2, 192.8043,2,    192.8,2,    102.6,2,    31.71,2,     0.00,2,     2.16,2,     -999,9,     -999,9,     -999,9,   2258.1,2,  2357.26,2,   7.5979,2,    25.07,     -999,9,     -999,9,   1.4770,2,     -999,9,     -999,9,     -999,     -999,9,     -999,9,     -999,9,     -999,9,    0.062,1,    4.650,1,    0.130,1,     -999,9,     -999,9,20180428,1711, -68.0023,-105.1593,     -999,9,     -999,9,-999          ,9,     -999,9,     -999,9,     -999,     -999,9,     -999,     -999,9,     -999,9,     -999,9,     -999,9,     -999,9,     -999,9,     -999,9,     -999,9,     -999,9,     -999,9,     -999,9,     -999,9,     -999,9,     -999,9