BOTTLE,20240515CCHHYDRO
EXPOCODE,SECT_ID,STNNBR,CASTNO,SAMPNO,BTLNBR,BTLNBR_FLAG_W,DATE,TIME,LATITUDE,LONGITUDE,DEPTH,CTDPRS,CTDTMP,CTDSAL,CTDSAL_FLAG_W,SALNTY,SALNTY_FLAG_W,CTDOXY,CTDOXY_FLAG_W,CTDOPTOXY,CTDOPTOXY_FLAG_W,OXYGEN,OXYGEN_FLAG_W,SILCAT,SILCAT_FLAG_W,NITRAT,NITRAT_FLAG_W,NITRIT,NITRIT_FLAG_W,PHSPHT,PHSPHT_FLAG_W,CFC-11,CFC-11_FLAG_W,CFC-12,CFC-12_FLAG_W,SF6,SF6_FLAG_W,TCARBN,TCARBN_FLAG_W,ALKALI,ALKALI_FLAG_W,PH_TOT,PH_TOT_FLAG_W,PH_TMP,DOC,DOC_FLAG_W,HELIUM,HELIUM_FLAG_W,REFTMP,REFTMP_FLAG_W,DELC13,DELC13_FLAG_W,DELC14,DELC14_FLAG_W,C14ERR,POC,POC_FLAG_W,TDN,TDN_FLAG_W,TON,TON_FLAG_W,NEON,NEON_FLAG_W,CTDFLUOR,CTDFLUOR_FLAG_W,CTDXMISS,CTDXMISS_FLAG_W,CTDBETA700,CTDBETA700_FLAG_W,N2O,N2O_FLAG_W,ARGON,ARGON_FLAG_W,BTL_DATE,BTL_TIME,BTL_LAT,BTL_LON,KRYPTON,KRYPTON_FLAG_W,XENON,XENON_FLAG_W,HPLC,HPLC_FLAG_W,HE3_HE4_RATIO,HE3_HE4_RATIO_FLAG_W,Nd_143_144_D_EPSILON_BOTTLE,Nd_143_144_D_EPSILON_BOTTLE_FLAG_W,Nd_143_144_D_EPSILON_BOTTLE_ERROR,Nd_143_144_D_RATIO_BOTTLE,Nd_143_144_D_RATIO_BOTTLE_FLAG_W,Nd_143_144_D_RATIO_BOTTLE_ERROR,Nd_D_CONC,Nd_D_CONC_FLAG_W,La_D_CONC_BOTTLE,La_D_CONC_BOTTLE_FLAG_W,Ce_D_CONC_BOTTLE,Ce_D_CONC_BOTTLE_FLAG_W,Pr_D_CONC_BOTTLE,Pr_D_CONC_BOTTLE_FLAG_W,Sm_D_CONC_BOTTLE,Sm_D_CONC_BOTTLE_FLAG_W,Eu_D_CONC_BOTTLE,Eu_D_CONC_BOTTLE_FLAG_W,Gd_D_CONC_BOTTLE,Gd_D_CONC_BOTTLE_FLAG_W,Tb_D_CONC_BOTTLE,Tb_D_CONC_BOTTLE_FLAG_W,Dy_D_CONC_BOTTLE,Dy_D_CONC_BOTTLE_FLAG_W,Ho_D_CONC_BOTTLE,Ho_D_CONC_BOTTLE_FLAG_W,Er_D_CONC_BOTTLE,Er_D_CONC_BOTTLE_FLAG_W,Tm_D_CONC_BOTTLE,Tm_D_CONC_BOTTLE_FLAG_W,Yb_D_CONC_BOTTLE,Yb_D_CONC_BOTTLE_FLAG_W,Lu_D_CONC_BOTTLE,Lu_D_CONC_BOTTLE_FLAG_W
,,,,,,,,,,,METERS,DBAR,ITS-90,PSS-78,,PSS-78,,UMOL/KG,,UMOL/KG,,UMOL/KG,,UMOL/KG,,UMOL/KG,,UMOL/KG,,UMOL/KG,,PMOL/KG,,PMOL/KG,,FMOL/KG,,UMOL/KG,,UMOL/KG,,,,DEG C,UMOL/KG,,NMOL/L,,DEG C,,/MILLE,,/MILLE,,/MILLE,UG/KG,,UMOL/KG,,UMOL/KG,,NMOL/L,,VOLTS,,VOLTS,,VOLTS,,NMOL/KG,,UMOL/L,,,,,,NMOL/L,,NMOL/L,,,,,,10000,,10000,,,,PMOL/KG,,PMOL/L,,PMOL/L,,PMOL/L,,PMOL/L,,PMOL/L,,PMOL/L,,PMOL/L,,PMOL/L,,PMOL/L,,PMOL/L,,PMOL/L,,PMOL/L,,PMOL/L,
320620180309  ,S04P       ,62      ,  1,36         ,36         ,2,20180413,0249, -66.9993,-157.8910,     3729,      9.6,-1.2505638888888890303,33.967800316650042,2,  33.9643,2,347.54546227808294,2, 343.7000,2,    348.3,2,     59.6,2,    26.83,2,     0.22,2,     1.85,2,    5.923,2,    3.187,2,   3.9300,2,   2189.4,6,  2270.09,2,   7.6441,2,    24.92,     44.1,2,     -999,9,  -1.2520,2,     -999,9,     -999,9,     -999,     -999,9,    30.40,2,     -999,1,     -999,9,    0.109,1,    4.639,1,    0.148,1,  17.1600,2,     -999,9,20180413,0450, -67.0000,-157.8921,     -999,9,     -999,9,-999          ,9,     -999,9,     -999,9,     -999,     -999,9,     -999,     -999,9,     -999,9,     -999,9,     -999,9,     -999,9,     -999,9,     -999,9,     -999,9,     -999,9,     -999,9,     -999,9,     -999,9,     -999,9,     -999,9
320620180309  ,S04P       ,62      ,  1,35         ,35         ,2,20180413,0249, -66.9993,-157.8910,     3729,     34.5,-1.2640583333333335059,33.971452015261136,2,  33.9677,2,348.25345560804021,2, 345.7003,2,    348.1,2,     59.5,2,    26.78,2,     0.22,2,     1.86,2,    6.125,2,    3.158,2,   3.5700,2,   2188.5,2,  2297.16,2,   7.6409,2,    24.93,     41.2,2,     -999,9,  -1.2604,2,     -999,9,     -999,9,     -999,     -999,9,    30.50,2,     -999,1,     -999,9,    0.125,1,    4.639,1,    0.158,1,  17.3000,2,     -999,9,20180413,0448, -67.0001,-157.8922,     -999,9,     -999,9,-999          ,9,     -999,9,     -999,9,     -999,     -999,9,     -999,     -999,9,     -999,9,     -999,9,     -999,9,     -999,9,     -999,9,     -999,9,     -999,9,     -999,9,     -999,9,     -999,9,     -999,9,     -999,9,     -999,9
320620180309  ,S04P       ,62      ,  1,34         ,34         ,2,20180413,0249, -66.9993,-157.8910,     3729,     59.4,-1.3611388888888886761,33.986811401446175,2,  33.9835,2,346.94021876094678,2, 347.6035,2,    347.8,2,     58.5,2,    26.81,2,     0.21,2,     1.86,2,    6.078,3,    3.183,3,   3.7500,3,   2188.7,2,  2301.79,2,   7.6399,2,    24.93,     41.1,2,     -999,9,  -1.3617,2,     -999,9,     -999,9,     -999,     -999,9,    31.00,2,     -999,1,     -999,9,    0.145,1,    4.631,1,    0.169,1,  16.9100,3,     -999,9,20180413,0447, -67.0000,-157.8922,     -999,9,     -999,9,-999          ,9,     -999,9,     -999,9,     -999,     -999,9,     -999,     -999,9,     -999,9,     -999,9,     -999,9,     -999,9,     -999,9,     -999,9,     -999,9,     -999,9,     -999,9,     -999,9,     -999,9,     -999,9,     -999,9
320620180309  ,S04P       ,62      ,  1,33         ,33         ,2,20180413,0249, -66.9993,-157.8910,     3729,     85.9,-1.3681888888888891209,33.989007437998744,2,  33.9868,2,347.08665521088000,2, 351.1018,2,    346.9,2,     58.6,2,    26.80,2,     0.21,2,     1.87,2,    6.124,2,    3.132,2,   3.3600,2,   2190.2,2,  2278.56,3,   7.6438,2,    24.93,     42.3,2,     -999,9,  -1.3684,2,     -999,9,     -999,9,     -999,     -999,9,    28.90,2,     -999,1,     -999,9,    0.152,1,    4.630,1,    0.166,1,  17.6900,2,     -999,9,20180413,0445, -67.0000,-157.8921,     -999,9,     -999,9,-999          ,9,     -999,9,     -999,9,     -999,     -999,9,     -999,     -999,9,     -999,9,     -999,9,     -999,9,     -999,9,     -999,9,     -999,9,     -999,9,     -999,9,     -999,9,     -999,9,     -999,9,     -999,9,     -999,9
320620180309  ,S04P       ,62      ,  1,32         ,32         ,4,20180413,0249, -66.9993,-157.8910,     3729,    110.2,-1.3845666666666665012,34.251770844904975,3,  34.6038,3,293.70652394875680,3, 198.7056,3,    195.0,3,    100.5,3,    32.56,3,     0.02,3,     2.24,3,    0.257,3,    0.151,3,   0.0800,3,   2264.3,4,  2350.82,3,   7.5776,3,    24.92,     40.2,2,     -999,9,  -1.3827,2,     -999,9,     -999,9,     -999,     -999,9,    35.10,2,     -999,1,     -999,9,    0.106,1,    4.649,1,    0.157,1,  21.2600,3,     -999,9,20180413,0443, -67.0000,-157.8921,     -999,9,     -999,9,-999          ,9,     -999,9,     -999,9,     -999,     -999,9,     -999,     -999,9,     -999,9,     -999,9,     -999,9,     -999,9,     -999,9,     -999,9,     -999,9,     -999,9,     -999,9,     -999,9,     -999,9,     -999,9,     -999,9
320620180309  ,S04P       ,62      ,  1,31         ,31         ,2,20180413,0249, -66.9993,-157.8910,     3729,    135.9,-0.1553083333333333538,34.450473463379097,2,  34.4517,2,238.21449994678702,3, 218.4007,3,    233.6,2,     78.3,2,    31.79,2,     0.04,2,     2.21,2,    2.573,2,    1.384,2,   1.4700,2,   2243.2,2,  2330.73,2,   7.5701,2,    24.93,     39.4,2,     -999,9,  -0.1857,2,     -999,9,     -999,9,     -999,     -999,9,     -999,9,     -999,9,     -999,9,    0.081,1,    4.656,1,    0.146,1,  21.9400,2,     -999,9,20180413,0441, -67.0000,-157.8922,     -999,9,     -999,9,-999          ,9,     -999,9,     -999,9,     -999,     -999,9,     -999,     -999,9,     -999,9,     -999,9,     -999,9,     -999,9,     -999,9,     -999,9,     -999,9,     -999,9,     -999,9,     -999,9,     -999,9,     -999,9,     -999,9
320620180309  ,S04P       ,62      ,  1,30         ,30         ,2,20180413,0249, -66.9993,-157.8910,     3729,    167.1,0.9272611111111110915,34.614641998285556,2,  34.6070,2,193.82071602065150,2, 195.4994,2,    195.4,2,     87.6,2,    33.15,2,     0.00,2,     2.30,2,    1.228,2,    0.654,2,   0.4800,2,   2257.9,2,  2341.18,2,   7.5518,2,    24.93,     39.7,2,     -999,9,   0.9155,2,     -999,9,     -999,9,     -999,     -999,9,    35.20,2,     -999,1,     -999,9,    0.067,1,    4.661,1,    0.139,1,  23.8200,2,     -999,9,20180413,0440, -67.0001,-157.8923,     -999,9,     -999,9,-999          ,9,     -999,9,     -999,9,     -999,     -999,9,     -999,     -999,9,     -999,9,     -999,9,     -999,9,     -999,9,     -999,9,     -999,9,     -999,9,     -999,9,     -999,9,     -999,9,     -999,9,     -999,9,     -999,9
320620180309  ,S04P       ,62      ,  1,29         ,29         ,2,20180413,0249, -66.9993,-157.8910,     3729,    216.9,1.4206222222222222307,34.695571188171648,2,  34.6913,2,181.11579884911188,2, 187.5941,2,    180.9,2,     93.9,2,    33.37,2,     0.00,2,     2.31,2,    0.525,2,    0.281,2,   0.3000,2,   2262.0,2,  2347.55,2,   7.5555,2,    24.93,     40.3,2,     -999,9,   1.4201,2,     -999,9,     -999,9,     -999,     -999,9,    36.40,2,     -999,1,     -999,9,    0.064,1,    4.660,1,    0.142,1,  23.0700,2,     -999,9,20180413,0437, -67.0001,-157.8924,     -999,9,     -999,9,-999          ,9,     -999,9,     -999,9,     -999,     -999,9,     -999,     -999,9,     -999,9,     -999,9,     -999,9,     -999,9,     -999,9,     -999,9,     -999,9,     -999,9,     -999,9,     -999,9,     -999,9,     -999,9,     -999,9
320620180309  ,S04P       ,62      ,  1,28         ,28         ,2,20180413,0249, -66.9993,-157.8910,     3729,    268.3,1.5111861111111111189,34.719051539137517,2,  34.7155,2,180.49518270393315,2, 185.9004,2,    179.3,2,     96.4,2,    33.13,2,     0.00,2,     2.29,2,    0.328,2,    0.177,2,   0.2500,2,   2265.1,6,  2351.25,2,   7.5603,2,    24.94,     43.3,2,     -999,9,   1.5093,2,     -999,9,     -999,9,     -999,     -999,9,    36.00,2,     -999,1,     -999,9,    0.062,1,    4.661,1,    0.142,1,  22.4300,2,     -999,9,20180413,0435, -67.0002,-157.8926,     -999,9,     -999,9,-999          ,9,     -999,9,     -999,9,     -999,     -999,9,     -999,     -999,9,     -999,9,     -999,9,     -999,9,     -999,9,     -999,9,     -999,9,     -999,9,     -999,9,     -999,9,     -999,9,     -999,9,     -999,9,     -999,9
320620180309  ,S04P       ,62      ,  1,27         ,27         ,2,20180413,0249, -66.9993,-157.8910,     3729,    317.2,1.4850972222222222907,34.728116375677786,2,  34.7251,2,181.52186150352344,2, 185.9048,2,    180.8,2,     99.6,2,    32.95,2,     0.00,2,     2.27,2,    0.245,2,    0.133,2,   0.1000,2,   2264.2,2,  2353.15,2,   7.5505,2,    24.92,     41.0,2,     -999,9,   1.4842,2,     -999,9,     -999,9,     -999,     -999,9,     -999,9,     -999,1,     -999,9,    0.062,1,    4.662,1,    0.139,1,  22.5900,2,     -999,9,20180413,0433, -67.0001,-157.8925,     -999,9,     -999,9,-999          ,9,     -999,9,     -999,9,     -999,     -999,9,     -999,     -999,9,     -999,9,     -999,9,     -999,9,     -999,9,     -999,9,     -999,9,     -999,9,     -999,9,     -999,9,     -999,9,     -999,9,     -999,9,     -999,9
320620180309  ,S04P       ,62      ,  1,26         ,26         ,2,20180413,0249, -66.9993,-157.8910,     3729,    367.6,1.4380888888888889721,34.730729460991945,2,  34.7276,2,183.61145591372505,2, 186.5951,2,    183.2,2,    101.2,2,    32.81,2,     0.00,2,     2.26,2,    0.219,2,    0.109,2,   0.1000,2,   2262.8,2,  2354.31,2,   7.5716,2,    24.93,     40.5,2,     -999,9,   1.4370,2,     -999,9,     -999,9,     -999,     -999,9,     -999,9,     -999,1,     -999,9,    0.061,1,    4.665,1,    0.135,1,  21.4800,2,     -999,9,20180413,0430, -67.0002,-157.8926,     -999,9,     -999,9,-999          ,9,     -999,9,     -999,9,     -999,     -999,9,     -999,     -999,9,     -999,9,     -999,9,     -999,9,     -999,9,     -999,9,     -999,9,     -999,9,     -999,9,     -999,9,     -999,9,     -999,9,     -999,9,     -999,9
320620180309  ,S04P       ,62      ,  1,25         ,25         ,2,20180413,0249, -66.9993,-157.8910,     3729,    418.9,1.3890722222222224858,34.731401643835731,2,  34.7282,2,184.64910707683811,2, 187.3005,2,    184.3,2,    103.1,2,    32.82,2,     0.00,2,     2.27,2,    0.190,2,    0.104,2,   0.0300,2,   2262.9,2,  2354.42,2,   7.5709,6,    24.93,     40.0,2,     -999,9,   1.3877,2,     -999,9,     -999,9,     -999,     -999,9,     -999,9,     -999,1,     -999,9,    0.062,1,    4.667,1,    0.131,1,  21.7800,2,     -999,9,20180413,0428, -67.0002,-157.8928,     -999,9,     -999,9,-999          ,9,     -999,9,     -999,9,     -999,     -999,9,     -999,     -999,9,     -999,9,     -999,9,     -999,9,     -999,9,     -999,9,     -999,9,     -999,9,     -999,9,     -999,9,     -999,9,     -999,9,     -999,9,     -999,9
320620180309  ,S04P       ,62      ,  1,24         ,24         ,2,20180413,0249, -66.9993,-157.8910,     3729,    469.8,1.3443388888888891941,34.731360468166940,2,  34.7288,2,185.28048110624482,2, 188.2019,2,    184.8,2,    104.7,2,    32.87,2,     0.00,2,     2.27,2,     -999,9,     -999,9,     -999,9,   2263.0,2,  2356.49,2,   7.5752,2,    24.94,     -999,9,     -999,9,   1.3441,2,     -999,9,     -999,9,     -999,     -999,9,     -999,9,     -999,9,     -999,9,    0.062,1,    4.666,1,    0.131,1,     -999,9,     -999,9,20180413,0426, -67.0003,-157.8930,     -999,9,     -999,9,-999          ,9,     -999,9,     -999,9,     -999,     -999,9,     -999,     -999,9,     -999,9,     -999,9,     -999,9,     -999,9,     -999,9,     -999,9,     -999,9,     -999,9,     -999,9,     -999,9,     -999,9,     -999,9,     -999,9
320620180309  ,S04P       ,62      ,  1,23         ,23         ,2,20180413,0249, -66.9993,-157.8910,     3729,    539.7,1.2941944444444448692,34.730789473189816,2,  34.7278,2,186.34540447674314,2, 189.1972,2,    186.0,2,    106.4,2,    32.90,2,     0.00,2,     2.28,2,    0.157,2,    0.086,2,   0.2100,2,   2264.6,2,  2357.50,2,   7.5694,2,    24.92,     40.3,2,     -999,9,   1.2928,2,     -999,9,     -999,9,     -999,     -999,9,     -999,9,     -999,1,     -999,9,    0.062,1,    4.666,1,    0.133,1,  21.7100,2,     -999,9,20180413,0423, -67.0002,-157.8930,     -999,9,     -999,9,-999          ,9,     -999,9,     -999,9,     -999,     -999,9,     -999,     -999,9,     -999,9,     -999,9,     -999,9,     -999,9,     -999,9,     -999,9,     -999,9,     -999,9,     -999,9,     -999,9,     -999,9,     -999,9,     -999,9
320620180309  ,S04P       ,62      ,  1,22         ,37         ,2,20180413,0249, -66.9993,-157.8910,     3729,    641.5,1.2104166666666662522,34.728886989711107,2,  34.7278,2,188.43645555364841,2, 190.8009,2,    188.6,2,    109.2,2,    32.91,2,     0.00,2,     2.27,2,     -999,9,     -999,9,     -999,9,   2265.4,2,  2358.53,2,   7.5798,2,    24.93,     42.1,2,     -999,9,   1.2095,2,     -999,9,     -999,9,     -999,     -999,9,     -999,9,     -999,1,     -999,9,    0.062,1,    4.664,1,    0.132,1,     -999,9,     -999,9,20180413,0420, -67.0003,-157.8929,     -999,9,     -999,9,-999          ,9,     -999,9,     -999,9,     -999,     -999,9,     -999,     -999,9,     -999,9,     -999,9,     -999,9,     -999,9,     -999,9,     -999,9,     -999,9,     -999,9,     -999,9,     -999,9,     -999,9,     -999,9,     -999,9
320620180309  ,S04P       ,62      ,  1,21         ,21         ,2,20180413,0249, -66.9993,-157.8910,     3729,    743.2,1.1425861111111115243,34.726782660092603,2,  34.7237,2,190.52290386127754,2, 192.1983,2,    191.0,2,    111.2,2,    32.83,2,     0.00,2,     2.27,2,    0.128,2,    0.064,2,   0.2100,2,   2264.1,2,  2359.16,2,   7.5746,2,    24.93,     40.2,2,     -999,9,   1.1425,2,     -999,9,     -999,9,     -999,     -999,9,     -999,9,     -999,1,     -999,9,    0.061,1,    4.665,1,    0.134,1,  21.2500,2,     -999,9,20180413,0416, -67.0003,-157.8927,     -999,9,     -999,9,-999          ,9,     -999,9,     -999,9,     -999,     -999,9,     -999,     -999,9,     -999,9,     -999,9,     -999,9,     -999,9,     -999,9,     -999,9,     -999,9,     -999,9,     -999,9,     -999,9,     -999,9,     -999,9,     -999,9
320620180309  ,S04P       ,62      ,  1,20         ,20         ,2,20180413,0249, -66.9993,-157.8910,     3729,    845.3,1.0708305555555557298,34.724035126296904,2,  34.7223,2,192.89193164969581,2, 193.6972,2,    193.4,2,    113.2,2,    32.84,2,     0.00,2,     2.27,2,     -999,9,     -999,9,     -999,9,   2264.1,2,  2360.31,2,   7.5856,2,    24.94,     41.4,2,     -999,9,   1.0702,2,     -999,9,     -999,9,     -999,     -999,9,     -999,9,     -999,1,     -999,9,    0.061,1,    4.665,1,    0.132,1,     -999,9,     -999,9,20180413,0413, -67.0002,-157.8926,     -999,9,     -999,9,-999          ,9,     -999,9,     -999,9,     -999,     -999,9,     -999,     -999,9,     -999,9,     -999,9,     -999,9,     -999,9,     -999,9,     -999,9,     -999,9,     -999,9,     -999,9,     -999,9,     -999,9,     -999,9,     -999,9
320620180309  ,S04P       ,62      ,  1,19         ,19         ,2,20180413,0249, -66.9993,-157.8910,     3729,    947.0,1.0108749999999999680,34.721753538796577,2,  34.7198,2,195.03564451166881,2, 195.1028,2,    195.6,2,    114.6,2,    32.85,2,     0.00,2,     2.26,2,    0.111,2,    0.060,2,   0.0400,2,   2265.0,2,  2360.85,2,   7.5838,2,    24.90,     37.7,2,     -999,9,   1.0105,2,     -999,9,     -999,9,     -999,     -999,9,     -999,9,     -999,1,     -999,9,    0.061,1,    4.665,1,    0.131,1,  21.2300,2,     -999,9,20180413,0410, -67.0003,-157.8927,     -999,9,     -999,9,-999          ,9,     -999,9,     -999,9,     -999,     -999,9,     -999,     -999,9,     -999,9,     -999,9,     -999,9,     -999,9,     -999,9,     -999,9,     -999,9,     -999,9,     -999,9,     -999,9,     -999,9,     -999,9,     -999,9
320620180309  ,S04P       ,62      ,  1,18         ,18         ,2,20180413,0249, -66.9993,-157.8910,     3729,   1048.7,0.9515472222222223220,34.719278329796531,2,  34.7172,2,196.96562781513668,2, 196.5028,2,    197.3,2,    116.7,2,    32.82,2,     0.00,2,     2.25,2,     -999,9,     -999,9,     -999,9,   2264.6,2,  2361.88,2,   7.5912,2,    24.91,     40.5,2,     -999,9,   0.9515,2,     -999,9,     -999,9,     -999,     -999,9,     -999,9,     -999,1,     -999,9,    0.061,1,    4.666,1,    0.130,1,     -999,9,     -999,9,20180413,0407, -67.0003,-157.8927,     -999,9,     -999,9,-999          ,9,     -999,9,     -999,9,     -999,     -999,9,     -999,     -999,9,     -999,9,     -999,9,     -999,9,     -999,9,     -999,9,     -999,9,     -999,9,     -999,9,     -999,9,     -999,9,     -999,9,     -999,9,     -999,9
320620180309  ,S04P       ,62      ,  1,17         ,17         ,2,20180413,0249, -66.9993,-157.8910,     3729,   1147.7,0.8976527777777777439,34.716939431492726,2,  34.7149,2,198.28797734241934,2, 197.7958,2,    198.8,2,    118.3,2,    32.81,2,     0.00,2,     2.24,2,    0.112,2,    0.054,2,   0.0800,2,   2263.5,2,  2361.36,2,   7.5906,2,    24.89,     40.9,2,     -999,9,   0.8963,2,     -999,9,     -999,9,     -999,     -999,9,     -999,9,     -999,1,     -999,9,    0.061,1,    4.666,1,    0.128,1,  20.7500,2,     -999,9,20180413,0403, -67.0003,-157.8925,     -999,9,     -999,9,-999          ,9,     -999,9,     -999,9,     -999,     -999,9,     -999,     -999,9,     -999,9,     -999,9,     -999,9,     -999,9,     -999,9,     -999,9,     -999,9,     -999,9,     -999,9,     -999,9,     -999,9,     -999,9,     -999,9
320620180309  ,S04P       ,62      ,  1,16         ,16         ,2,20180413,0249, -66.9993,-157.8910,     3729,   1250.2,0.8417277777777776304,34.714785784640426,2,  34.7127,2,200.16221907543090,2, 199.1037,2,    200.4,2,    120.1,2,    32.81,2,     0.00,2,     2.24,2,     -999,9,     -999,9,     -999,9,   2263.8,2,  2362.78,2,   7.5896,6,    24.89,     43.2,2,     -999,9,   0.8409,2,     -999,9,     -999,9,     -999,     -999,9,     -999,9,     -999,1,     -999,9,    0.061,1,    4.666,1,    0.128,1,     -999,9,     -999,9,20180413,0400, -67.0000,-157.8919,     -999,9,     -999,9,-999          ,9,     -999,9,     -999,9,     -999,     -999,9,     -999,     -999,9,     -999,9,     -999,9,     -999,9,     -999,9,     -999,9,     -999,9,     -999,9,     -999,9,     -999,9,     -999,9,     -999,9,     -999,9,     -999,9