BOTTLE,20240515CCHHYDRO
EXPOCODE,SECT_ID,STNNBR,CASTNO,SAMPNO,BTLNBR,BTLNBR_FLAG_W,DATE,TIME,LATITUDE,LONGITUDE,DEPTH,CTDPRS,CTDTMP,CTDSAL,CTDSAL_FLAG_W,SALNTY,SALNTY_FLAG_W,CTDOXY,CTDOXY_FLAG_W,CTDOPTOXY,CTDOPTOXY_FLAG_W,OXYGEN,OXYGEN_FLAG_W,SILCAT,SILCAT_FLAG_W,NITRAT,NITRAT_FLAG_W,NITRIT,NITRIT_FLAG_W,PHSPHT,PHSPHT_FLAG_W,CFC-11,CFC-11_FLAG_W,CFC-12,CFC-12_FLAG_W,SF6,SF6_FLAG_W,TCARBN,TCARBN_FLAG_W,ALKALI,ALKALI_FLAG_W,PH_TOT,PH_TOT_FLAG_W,PH_TMP,DOC,DOC_FLAG_W,HELIUM,HELIUM_FLAG_W,REFTMP,REFTMP_FLAG_W,DELC13,DELC13_FLAG_W,DELC14,DELC14_FLAG_W,C14ERR,POC,POC_FLAG_W,TDN,TDN_FLAG_W,TON,TON_FLAG_W,NEON,NEON_FLAG_W,CTDFLUOR,CTDFLUOR_FLAG_W,CTDXMISS,CTDXMISS_FLAG_W,CTDBETA700,CTDBETA700_FLAG_W,N2O,N2O_FLAG_W,ARGON,ARGON_FLAG_W,BTL_DATE,BTL_TIME,BTL_LAT,BTL_LON,KRYPTON,KRYPTON_FLAG_W,XENON,XENON_FLAG_W,HPLC,HPLC_FLAG_W,HE3_HE4_RATIO,HE3_HE4_RATIO_FLAG_W,Nd_143_144_D_EPSILON_BOTTLE,Nd_143_144_D_EPSILON_BOTTLE_FLAG_W,Nd_143_144_D_EPSILON_BOTTLE_ERROR,Nd_143_144_D_RATIO_BOTTLE,Nd_143_144_D_RATIO_BOTTLE_FLAG_W,Nd_143_144_D_RATIO_BOTTLE_ERROR,Nd_D_CONC,Nd_D_CONC_FLAG_W,La_D_CONC_BOTTLE,La_D_CONC_BOTTLE_FLAG_W,Ce_D_CONC_BOTTLE,Ce_D_CONC_BOTTLE_FLAG_W,Pr_D_CONC_BOTTLE,Pr_D_CONC_BOTTLE_FLAG_W,Sm_D_CONC_BOTTLE,Sm_D_CONC_BOTTLE_FLAG_W,Eu_D_CONC_BOTTLE,Eu_D_CONC_BOTTLE_FLAG_W,Gd_D_CONC_BOTTLE,Gd_D_CONC_BOTTLE_FLAG_W,Tb_D_CONC_BOTTLE,Tb_D_CONC_BOTTLE_FLAG_W,Dy_D_CONC_BOTTLE,Dy_D_CONC_BOTTLE_FLAG_W,Ho_D_CONC_BOTTLE,Ho_D_CONC_BOTTLE_FLAG_W,Er_D_CONC_BOTTLE,Er_D_CONC_BOTTLE_FLAG_W,Tm_D_CONC_BOTTLE,Tm_D_CONC_BOTTLE_FLAG_W,Yb_D_CONC_BOTTLE,Yb_D_CONC_BOTTLE_FLAG_W,Lu_D_CONC_BOTTLE,Lu_D_CONC_BOTTLE_FLAG_W
,,,,,,,,,,,METERS,DBAR,ITS-90,PSS-78,,PSS-78,,UMOL/KG,,UMOL/KG,,UMOL/KG,,UMOL/KG,,UMOL/KG,,UMOL/KG,,UMOL/KG,,PMOL/KG,,PMOL/KG,,FMOL/KG,,UMOL/KG,,UMOL/KG,,,,DEG C,UMOL/KG,,NMOL/L,,DEG C,,/MILLE,,/MILLE,,/MILLE,UG/KG,,UMOL/KG,,UMOL/KG,,NMOL/L,,VOLTS,,VOLTS,,VOLTS,,NMOL/KG,,UMOL/L,,,,,,NMOL/L,,NMOL/L,,,,,,10000,,10000,,,,PMOL/KG,,PMOL/L,,PMOL/L,,PMOL/L,,PMOL/L,,PMOL/L,,PMOL/L,,PMOL/L,,PMOL/L,,PMOL/L,,PMOL/L,,PMOL/L,,PMOL/L,,PMOL/L,
320620180309  ,P16        ,50      ,  1,15         ,15         ,2,20180407,1540, -69.0006,-149.9994,     4362,   1281.4,0.8634083333333334442,34.714242797981598,2,  34.7141,2,200.15908928878943,2, 198.8990,2,    199.8,2,    120.1,2,    32.59,2,     0.00,2,     2.20,2,     -999,9,     -999,9,     -999,9,   2262.9,2,  2364.31,2,   7.5936,2,    24.95,     -999,5,     -999,9,   0.8628,2,0.51000000,2, -163.720,2,    0.002,     -999,9,     -999,9,     -999,1,     -999,9,    0.061,1,    4.664,1,    0.128,1,     -999,9,     -999,9,20180407,1706, -69.0008,-149.9993,     -999,9,     -999,9,-999          ,9,     -999,9,     -999,9,     -999,     -999,9,     -999,     -999,9,     -999,9,     -999,9,     -999,9,     -999,9,     -999,9,     -999,9,     -999,9,     -999,9,     -999,9,     -999,9,     -999,9,     -999,9,     -999,9
320620180309  ,P16        ,50      ,  1,14         ,14         ,2,20180407,1540, -69.0006,-149.9994,     4362,   1382.8,0.8201388888888888618,34.712251098699028,2,  34.7117,2,201.96542913964771,2, 200.1033,2,    201.2,2,    121.8,2,    32.61,2,     0.00,2,     2.22,2,    0.111,2,    0.066,2,   0.0400,2,   2261.9,2,  2363.63,2,   7.5933,2,    24.95,     -999,5,     -999,9,   0.8188,2,0.52000000,2, -163.390,2,    0.002,     -999,9,     -999,9,     -999,1,     -999,9,    0.062,1,    4.665,1,    0.128,1,  20.2200,2,     -999,9,20180407,1703, -69.0008,-149.9993,     -999,9,     -999,9,-999          ,9,     -999,9,     -999,9,     -999,     -999,9,     -999,     -999,9,     -999,9,     -999,9,     -999,9,     -999,9,     -999,9,     -999,9,     -999,9,     -999,9,     -999,9,     -999,9,     -999,9,     -999,9,     -999,9
320620180309  ,P16        ,50      ,  1,13         ,13         ,2,20180407,1540, -69.0006,-149.9994,     4362,   1483.8,0.7715888888888886576,34.710270633213312,2,  34.7102,2,202.95734424830758,2, 201.5008,2,    202.5,2,    123.5,2,    32.64,2,     0.00,2,     2.21,2,    0.120,2,    0.063,2,  -0.0200,2,   2264.0,2,  2363.70,2,   7.5943,2,    24.95,     -999,5,     -999,9,   0.7709,2,0.49000000,2, -165.940,2,    0.002,     -999,9,     -999,9,     -999,1,     -999,9,    0.061,1,    4.665,1,    0.128,1,  19.9600,2,     -999,9,20180407,1659, -69.0007,-149.9993,     -999,9,     -999,9,-999          ,9,     -999,9,     -999,9,     -999,     -999,9,     -999,     -999,9,     -999,9,     -999,9,     -999,9,     -999,9,     -999,9,     -999,9,     -999,9,     -999,9,     -999,9,     -999,9,     -999,9,     -999,9,     -999,9
320620180309  ,P16        ,50      ,  1,12         ,12         ,2,20180407,1540, -69.0006,-149.9994,     4362,   1587.7,0.7343222222222223206,34.708788969865793,2,  34.7092,2,204.22413990904272,2, 202.5987,2,    203.7,2,    124.9,2,    32.64,2,     0.00,2,     2.21,2,    0.126,2,    0.070,2,   0.0500,2,   2263.4,2,  2366.02,2,   7.5939,2,    24.94,     -999,9,     -999,9,   0.7336,2,0.48000000,2, -162.410,2,    0.002,     -999,9,     -999,9,     -999,9,     -999,9,    0.061,1,    4.665,1,    0.126,1,  20.4200,2,     -999,9,20180407,1656, -69.0007,-149.9992,     -999,9,     -999,9,-999          ,9,     -999,9,     -999,9,     -999,     -999,9,     -999,     -999,9,     -999,9,     -999,9,     -999,9,     -999,9,     -999,9,     -999,9,     -999,9,     -999,9,     -999,9,     -999,9,     -999,9,     -999,9,     -999,9
320620180309  ,P16        ,50      ,  1,11         ,11         ,2,20180407,1540, -69.0006,-149.9994,     4362,   1760.4,0.6726222222222221214,34.706444434015857,2,  34.7068,2,205.54415067315730,2, 204.4033,2,    204.8,2,    126.3,2,    32.71,2,     0.00,2,     2.21,2,     -999,9,     -999,9,     -999,9,   2263.1,2,  2363.98,2,   7.5943,2,    24.94,     -999,5,     -999,9,   0.6721,2,     -999,5,     -999,5,     -999,     -999,9,     -999,9,     -999,1,     -999,9,    0.061,1,    4.665,1,    0.127,1,     -999,9,     -999,9,20180407,1651, -69.0006,-149.9992,     -999,9,     -999,9,-999          ,9,     -999,9,     -999,9,     -999,     -999,9,     -999,     -999,9,     -999,9,     -999,9,     -999,9,     -999,9,     -999,9,     -999,9,     -999,9,     -999,9,     -999,9,     -999,9,     -999,9,     -999,9,     -999,9
320620180309  ,P16        ,50      ,  1,10         ,10         ,2,20180407,1540, -69.0006,-149.9994,     4362,   1963.0,0.5981638888888887173,34.704326144278255,2,  34.7047,2,206.66471144600385,2, 206.5965,2,    206.3,2,    127.2,2,    32.73,2,     0.00,2,     2.22,2,    0.136,2,    0.084,2,   0.0100,2,   2261.8,2,  2363.61,2,   7.5930,2,    24.94,     -999,5,     -999,9,   0.5976,2,0.51000000,2, -162.410,2,    0.002,     -999,9,     -999,9,     -999,1,     -999,9,    0.061,1,    4.665,1,    0.126,1,  20.0300,2,     -999,9,20180407,1646, -69.0007,-149.9992,     -999,9,     -999,9,-999          ,9,     -999,9,     -999,9,     -999,     -999,9,     -999,     -999,9,     -999,9,     -999,9,     -999,9,     -999,9,     -999,9,     -999,9,     -999,9,     -999,9,     -999,9,     -999,9,     -999,9,     -999,9,     -999,9
320620180309  ,P16        ,50      ,  1,9          ,9          ,2,20180407,1540, -69.0006,-149.9994,     4362,   2198.1,0.5229805555555554486,34.702789779449553,2,  34.7031,2,208.64848390414045,2, 209.0013,2,    208.8,2,    128.5,2,    32.74,2,     0.00,2,     2.22,2,    0.157,2,    0.078,2,   0.1000,2,   2263.7,6,  2363.08,2,   7.5937,2,    24.95,     -999,5,     -999,9,   0.5218,2,0.50000000,2, -164.690,2,    0.002,     -999,9,     -999,9,     -999,1,     -999,9,    0.060,1,    4.665,1,    0.126,1,  19.6100,2,     -999,9,20180407,1640, -69.0008,-149.9993,     -999,9,     -999,9,-999          ,9,     -999,9,     -999,9,     -999,     -999,9,     -999,     -999,9,     -999,9,     -999,9,     -999,9,     -999,9,     -999,9,     -999,9,     -999,9,     -999,9,     -999,9,     -999,9,     -999,9,     -999,9,     -999,9
320620180309  ,P16        ,50      ,  1,8          ,8          ,2,20180407,1540, -69.0006,-149.9994,     4362,   2453.7,0.4398749999999999605,34.701635294171929,2,  34.7009,2,210.98399921830722,2, 211.3029,2,    211.0,2,    130.5,2,    32.74,2,     0.00,2,     2.24,2,     -999,9,     -999,9,     -999,9,   2264.2,2,  2362.87,2,   7.5955,2,    24.95,     -999,5,     -999,9,   0.4396,2,0.54000000,2, -163.950,2,    0.002,     -999,9,     -999,9,     -999,1,     -999,9,    0.061,1,    4.665,1,    0.126,1,     -999,9,     -999,9,20180407,1633, -69.0008,-149.9993,     -999,9,     -999,9,-999          ,9,     -999,9,     -999,9,     -999,     -999,9,     -999,     -999,9,     -999,9,     -999,9,     -999,9,     -999,9,     -999,9,     -999,9,     -999,9,     -999,9,     -999,9,     -999,9,     -999,9,     -999,9,     -999,9
320620180309  ,P16        ,50      ,  1,7          ,7          ,2,20180407,1540, -69.0006,-149.9994,     4362,   2711.1,0.3723805555555556035,34.700861734082061,2,  34.7003,2,212.19136745208286,2, 213.4032,2,    212.8,2,    132.2,2,    32.83,2,     0.00,2,     2.23,2,    0.181,2,    0.099,2,   0.0700,2,   2264.9,2,  2363.62,2,   7.5964,2,    24.95,     -999,5,     -999,9,   0.3715,2,0.54000000,4, -162.660,4,    0.002,     -999,9,     -999,9,     -999,1,     -999,9,    0.060,1,    4.665,1,    0.125,1,  19.6700,2,     -999,9,20180407,1627, -69.0007,-149.9993,     -999,9,     -999,9,-999          ,9,     -999,9,     -999,9,     -999,     -999,9,     -999,     -999,9,     -999,9,     -999,9,     -999,9,     -999,9,     -999,9,     -999,9,     -999,9,     -999,9,     -999,9,     -999,9,     -999,9,     -999,9,     -999,9
320620180309  ,P16        ,50      ,  1,6          ,6          ,2,20180407,1540, -69.0006,-149.9994,     4362,   2964.6,0.3189111111111111452,34.699886606959176,2,  34.7000,2,213.63751858331210,2, 215.3008,2,    214.6,2,    133.5,2,    32.87,2,     0.00,2,     2.23,2,    0.236,2,    0.131,2,   0.1700,2,   2262.8,2,  2364.53,2,   7.5951,2,    24.95,     -999,5,     -999,9,   0.3182,2,0.54000000,2, -163.440,2,    0.002,     -999,9,     -999,9,     -999,1,     -999,9,    0.061,1,    4.665,1,    0.124,1,  21.1000,3,     -999,9,20180407,1621, -69.0007,-149.9993,     -999,9,     -999,9,-999          ,9,     -999,9,     -999,9,     -999,     -999,9,     -999,     -999,9,     -999,9,     -999,9,     -999,9,     -999,9,     -999,9,     -999,9,     -999,9,     -999,9,     -999,9,     -999,9,     -999,9,     -999,9,     -999,9
320620180309  ,P16        ,50      ,  1,5          ,5          ,2,20180407,1540, -69.0006,-149.9994,     4362,   3255.4,0.2707499999999999907,34.697647729749711,2,  34.6976,2,216.51403821532483,2, 216.7998,2,    216.3,2,    133.1,2,    32.85,2,     0.00,2,     2.25,2,    0.388,2,    0.205,2,   0.1400,2,   2262.6,2,  2363.45,2,   7.5961,2,    24.95,     -999,5,     -999,9,   0.2701,2,0.54000000,2, -160.160,2,    0.002,     -999,9,     -999,9,     -999,1,     -999,9,    0.060,1,    4.665,1,    0.124,1,  19.3700,2,     -999,9,20180407,1613, -69.0008,-149.9992,     -999,9,     -999,9,-999          ,9,     -999,9,     -999,9,     -999,     -999,9,     -999,     -999,9,     -999,9,     -999,9,     -999,9,     -999,9,     -999,9,     -999,9,     -999,9,     -999,9,     -999,9,     -999,9,     -999,9,     -999,9,     -999,9
320620180309  ,P16        ,50      ,  1,4          ,4          ,2,20180407,1540, -69.0006,-149.9994,     4362,   3565.2,0.2213194444444444853,34.694100176866435,2,  34.6937,2,219.28166831441322,2, 218.6979,2,    219.2,2,    128.8,2,    32.77,2,     0.00,2,     2.25,2,    0.650,2,    0.338,2,   0.2400,2,   2260.9,2,  2362.38,2,   7.5955,6,    24.95,     -999,5,     -999,9,   0.2206,2,0.56000000,2, -162.470,2,    0.002,     -999,9,     -999,9,     -999,1,     -999,9,    0.061,1,    4.664,1,    0.124,1,  19.5800,2,     -999,9,20180407,1606, -69.0009,-149.9992,     -999,9,     -999,9,-999          ,9,     -999,9,     -999,9,     -999,     -999,9,     -999,     -999,9,     -999,9,     -999,9,     -999,9,     -999,9,     -999,9,     -999,9,     -999,9,     -999,9,     -999,9,     -999,9,     -999,9,     -999,9,     -999,9
320620180309  ,P16        ,50      ,  1,3          ,3          ,2,20180407,1540, -69.0006,-149.9994,     4362,   3872.1,0.2215416666666666368,34.693946385692293,2,  34.6933,2,220.29940546886809,2, 219.4001,2,    219.8,2,    127.7,2,    32.80,2,     0.00,2,     2.25,2,    0.710,2,    0.368,2,   0.1500,2,   2260.0,2,  2362.78,2,   7.5917,6,    24.94,     -999,9,     -999,9,   0.2208,2,0.62000000,2, -157.070,2,    0.002,     -999,9,     -999,9,     -999,9,     -999,9,    0.061,1,    4.663,1,    0.125,1,  19.2300,2,     -999,9,20180407,1558, -69.0008,-149.9993,     -999,9,     -999,9,-999          ,9,     -999,9,     -999,9,     -999,     -999,9,     -999,     -999,9,     -999,9,     -999,9,     -999,9,     -999,9,     -999,9,     -999,9,     -999,9,     -999,9,     -999,9,     -999,9,     -999,9,     -999,9,     -999,9
320620180309  ,P16        ,50      ,  1,2          ,2          ,2,20180407,1540, -69.0006,-149.9994,     4362,   4156.6,0.2386694444444444618,34.694858272132066,2,  34.6941,2,220.20042587711751,2, 219.6019,2,    220.2,2,    128.1,2,    32.82,2,     0.00,2,     2.25,2,    0.711,2,    0.365,2,   0.2400,2,   2263.0,2,  2361.54,2,   7.5957,2,    24.95,     -999,5,     -999,9,   0.2380,2,0.61000000,2, -158.420,2,    0.002,     -999,9,     -999,9,     -999,1,     -999,9,    0.060,1,    4.662,1,    0.127,1,  19.4700,2,     -999,9,20180407,1551, -69.0007,-149.9993,     -999,9,     -999,9,-999          ,9,     -999,9,     -999,9,     -999,     -999,9,     -999,     -999,9,     -999,9,     -999,9,     -999,9,     -999,9,     -999,9,     -999,9,     -999,9,     -999,9,     -999,9,     -999,9,     -999,9,     -999,9,     -999,9
320620180309  ,P16        ,50      ,  1,1          ,1          ,2,20180407,1540, -69.0006,-149.9994,     4362,   4441.4,0.2673083333333334255,34.695052783294507,2,  34.6956,2,227.27727631375353,3, 219.6011,2,    219.2,2,    129.2,2,    32.87,2,     0.00,2,     2.25,2,    0.705,2,    0.349,2,   0.2700,2,   2263.1,6,  2362.55,2,   7.5915,2,    24.94,     -999,5,     -999,9,   0.2667,2,0.62000000,2, -156.900,2,    0.003,     -999,9,     -999,9,     -999,1,     -999,9,    0.060,1,    4.658,1,    0.135,1,  19.5000,2,     -999,9,20180407,1540, -69.0006,-149.9994,     -999,9,     -999,9,-999          ,9,     -999,9,     -999,9,     -999,     -999,9,     -999,     -999,9,     -999,9,     -999,9,     -999,9,     -999,9,     -999,9,     -999,9,     -999,9,     -999,9,     -999,9,     -999,9,     -999,9,     -999,9,     -999,9