BOTTLE,20240515CCHHYDRO
EXPOCODE,SECT_ID,STNNBR,CASTNO,SAMPNO,BTLNBR,BTLNBR_FLAG_W,DATE,TIME,LATITUDE,LONGITUDE,DEPTH,CTDPRS,CTDTMP,CTDSAL,CTDSAL_FLAG_W,SALNTY,SALNTY_FLAG_W,CTDOXY,CTDOXY_FLAG_W,CTDOPTOXY,CTDOPTOXY_FLAG_W,OXYGEN,OXYGEN_FLAG_W,SILCAT,SILCAT_FLAG_W,NITRAT,NITRAT_FLAG_W,NITRIT,NITRIT_FLAG_W,PHSPHT,PHSPHT_FLAG_W,CFC-11,CFC-11_FLAG_W,CFC-12,CFC-12_FLAG_W,SF6,SF6_FLAG_W,TCARBN,TCARBN_FLAG_W,ALKALI,ALKALI_FLAG_W,PH_TOT,PH_TOT_FLAG_W,PH_TMP,DOC,DOC_FLAG_W,HELIUM,HELIUM_FLAG_W,REFTMP,REFTMP_FLAG_W,DELC13,DELC13_FLAG_W,DELC14,DELC14_FLAG_W,C14ERR,POC,POC_FLAG_W,TDN,TDN_FLAG_W,TON,TON_FLAG_W,NEON,NEON_FLAG_W,CTDFLUOR,CTDFLUOR_FLAG_W,CTDXMISS,CTDXMISS_FLAG_W,CTDBETA700,CTDBETA700_FLAG_W,N2O,N2O_FLAG_W,ARGON,ARGON_FLAG_W,BTL_DATE,BTL_TIME,BTL_LAT,BTL_LON,KRYPTON,KRYPTON_FLAG_W,XENON,XENON_FLAG_W,HPLC,HPLC_FLAG_W,HE3_HE4_RATIO,HE3_HE4_RATIO_FLAG_W,Nd_143_144_D_EPSILON_BOTTLE,Nd_143_144_D_EPSILON_BOTTLE_FLAG_W,Nd_143_144_D_EPSILON_BOTTLE_ERROR,Nd_143_144_D_RATIO_BOTTLE,Nd_143_144_D_RATIO_BOTTLE_FLAG_W,Nd_143_144_D_RATIO_BOTTLE_ERROR,Nd_D_CONC,Nd_D_CONC_FLAG_W,La_D_CONC_BOTTLE,La_D_CONC_BOTTLE_FLAG_W,Ce_D_CONC_BOTTLE,Ce_D_CONC_BOTTLE_FLAG_W,Pr_D_CONC_BOTTLE,Pr_D_CONC_BOTTLE_FLAG_W,Sm_D_CONC_BOTTLE,Sm_D_CONC_BOTTLE_FLAG_W,Eu_D_CONC_BOTTLE,Eu_D_CONC_BOTTLE_FLAG_W,Gd_D_CONC_BOTTLE,Gd_D_CONC_BOTTLE_FLAG_W,Tb_D_CONC_BOTTLE,Tb_D_CONC_BOTTLE_FLAG_W,Dy_D_CONC_BOTTLE,Dy_D_CONC_BOTTLE_FLAG_W,Ho_D_CONC_BOTTLE,Ho_D_CONC_BOTTLE_FLAG_W,Er_D_CONC_BOTTLE,Er_D_CONC_BOTTLE_FLAG_W,Tm_D_CONC_BOTTLE,Tm_D_CONC_BOTTLE_FLAG_W,Yb_D_CONC_BOTTLE,Yb_D_CONC_BOTTLE_FLAG_W,Lu_D_CONC_BOTTLE,Lu_D_CONC_BOTTLE_FLAG_W
,,,,,,,,,,,METERS,DBAR,ITS-90,PSS-78,,PSS-78,,UMOL/KG,,UMOL/KG,,UMOL/KG,,UMOL/KG,,UMOL/KG,,UMOL/KG,,UMOL/KG,,PMOL/KG,,PMOL/KG,,FMOL/KG,,UMOL/KG,,UMOL/KG,,,,DEG C,UMOL/KG,,NMOL/L,,DEG C,,/MILLE,,/MILLE,,/MILLE,UG/KG,,UMOL/KG,,UMOL/KG,,NMOL/L,,VOLTS,,VOLTS,,VOLTS,,NMOL/KG,,UMOL/L,,,,,,NMOL/L,,NMOL/L,,,,,,10000,,10000,,,,PMOL/KG,,PMOL/L,,PMOL/L,,PMOL/L,,PMOL/L,,PMOL/L,,PMOL/L,,PMOL/L,,PMOL/L,,PMOL/L,,PMOL/L,,PMOL/L,,PMOL/L,,PMOL/L,
320620180309  ,P16        ,32      ,  1,9          ,9          ,2,20180402,1000, -75.2910,-146.9979,      285,      3.6,-1.8272277777777776731,33.728843408942105,2,  33.7261,2,336.27918131807002,2, 337.6979,2,    335.5,2,     71.6,2,    20.66,2,     0.12,2,     1.61,2,    5.313,2,    3.065,2,   3.4400,2,   2168.4,6,  2299.71,2,   7.7044,2,    24.91,     44.6,2,     -999,9,  -1.8277,2,1.18000000,2, -136.110,2,    0.002,     -999,9,    25.00,2,     -999,1,     -999,9,    0.108,1,    4.601,1,    0.206,1,  16.6400,2,     -999,9,20180402,1017, -75.2905,-146.9994,     -999,9,     -999,9,-999          ,9,     -999,9,     -999,9,     -999,     -999,9,     -999,     -999,9,     -999,1,     -999,1,     -999,1,     -999,1,     -999,1,     -999,1,     -999,1,     -999,1,     -999,1,     -999,1,     -999,1,     -999,1,     -999,1
320620180309  ,P16        ,32      ,  1,8          ,8          ,2,20180402,1000, -75.2910,-146.9979,      285,     34.8,-1.8188500000000000778,33.731827991697976,2,  33.7333,2,334.60174684410197,2, 331.7040,2,    334.5,2,     71.4,2,    21.05,2,     0.12,2,     1.60,2,    5.244,2,    2.968,2,   3.4100,2,   2169.0,2,  2299.39,2,   7.6995,6,    24.91,     44.6,2,     -999,9,  -1.8193,2,     -999,9,     -999,9,     -999,     -999,9,    24.60,2,     -999,1,     -999,9,    0.103,1,    4.597,1,    0.204,1,  16.9800,2,     -999,9,20180402,1015, -75.2906,-146.9992,     -999,9,     -999,9,-999          ,9,     -999,9,     -999,9,     -999,     -999,9,     -999,     -999,9,     -999,1,     -999,1,     -999,1,     -999,1,     -999,1,     -999,1,     -999,1,     -999,1,     -999,1,     -999,1,     -999,1,     -999,1,     -999,1
320620180309  ,P16        ,32      ,  1,7          ,7          ,2,20180402,1000, -75.2910,-146.9979,      285,     60.3,-1.7573138888888888420,33.765857859561237,2,  33.7657,2,329.00127201680550,2, 323.5034,2,    331.0,2,     71.9,2,    21.84,2,     0.12,2,     1.65,2,    5.185,2,    2.911,2,   3.2500,2,   2178.7,2,  2301.71,2,   7.6876,2,    24.92,     43.0,2,     -999,9,  -1.7580,2,0.98000000,2, -138.690,2,    0.001,     -999,9,    25.70,2,     -999,1,     -999,9,    0.103,1,    4.598,1,    0.214,1,  16.6600,2,     -999,9,20180402,1013, -75.2906,-146.9990,     -999,9,     -999,9,-999          ,9,     -999,9,     -999,9,     -999,     -999,9,     -999,     -999,9,     -999,1,     -999,1,     -999,1,     -999,1,     -999,1,     -999,1,     -999,1,     -999,1,     -999,1,     -999,1,     -999,1,     -999,1,     -999,1
320620180309  ,P16        ,32      ,  1,6          ,6          ,2,20180402,1000, -75.2910,-146.9979,      285,     85.5,-1.7088027777777776706,33.785004208344361,2,  33.7929,2,326.10009359396628,2, 327.6008,2,    325.2,2,     73.6,2,    22.72,2,     0.12,2,     1.70,2,    5.060,2,    2.893,2,   3.0800,2,   2181.3,2,  2301.77,2,   7.6762,2,    24.91,     42.3,2,     -999,9,  -1.7090,2,1.06000000,2, -135.370,2,    0.001,     -999,9,    26.00,2,     -999,1,     -999,9,    0.104,1,    4.599,1,    0.237,1,  16.6100,2,     -999,9,20180402,1011, -75.2907,-146.9989,     -999,9,     -999,9,-999          ,9,     -999,9,     -999,9,     -999,     -999,9,     -999,     -999,9,     -999,1,     -999,1,     -999,1,     -999,1,     -999,1,     -999,1,     -999,1,     -999,1,     -999,1,     -999,1,     -999,1,     -999,1,     -999,1
320620180309  ,P16        ,32      ,  1,5          ,5          ,2,20180402,1000, -75.2910,-146.9979,      285,    111.2,-1.6224805555555557035,33.846531429355565,2,  33.8486,2,313.96794470711444,2, 309.9010,2,    313.9,2,     76.9,2,    24.01,2,     0.12,2,     1.78,2,    4.700,2,    2.676,2,   3.0400,2,   2189.7,2,  2303.51,2,   7.6599,2,    24.92,     44.1,2,     -999,9,  -1.6234,2,     -999,9,     -999,9,     -999,     -999,9,    27.50,2,     -999,1,     -999,9,    0.089,1,    4.603,1,    0.205,1,  17.4000,2,     -999,9,20180402,1010, -75.2907,-146.9987,     -999,9,     -999,9,-999          ,9,     -999,9,     -999,9,     -999,     -999,9,     -999,     -999,9,     -999,1,     -999,1,     -999,1,     -999,1,     -999,1,     -999,1,     -999,1,     -999,1,     -999,1,     -999,1,     -999,1,     -999,1,     -999,1
320620180309  ,P16        ,32      ,  1,4          ,4          ,2,20180402,1000, -75.2910,-146.9979,      285,    135.9,-1.6157416666666666316,33.992174608803239,2,  33.9941,2,290.71796186287293,2, 298.3029,2,    290.7,2,     82.5,2,    27.86,2,     0.11,2,     2.00,2,    4.112,2,    2.326,2,   2.5200,2,   2215.5,2,  2308.53,2,   7.6119,2,    24.92,     43.0,2,     -999,9,  -1.6163,2,0.71000000,2, -139.390,2,    0.001,     -999,9,    30.20,2,     -999,1,     -999,9,    0.077,1,    4.626,1,    0.192,1,  17.8500,2,     -999,9,20180402,1008, -75.2908,-146.9985,     -999,9,     -999,9,-999          ,9,     -999,9,     -999,9,     -999,     -999,9,     -999,     -999,9,     -999,1,     -999,1,     -999,1,     -999,1,     -999,1,     -999,1,     -999,1,     -999,1,     -999,1,     -999,1,     -999,1,     -999,1,     -999,1
320620180309  ,P16        ,32      ,  1,3          ,3          ,2,20180402,1000, -75.2910,-146.9979,      285,    161.3,-1.6338916666666662980,34.066675393305978,2,  34.0665,2,285.85809370876080,2, 291.6009,2,    286.0,2,     84.4,2,    29.04,2,     0.13,2,     2.08,2,    4.016,2,    2.247,2,   2.3200,2,   2221.2,2,  2312.43,2,   7.5938,2,    24.92,     41.4,2,     -999,9,  -1.6348,2,     -999,9,     -999,9,     -999,     -999,9,    32.30,2,     -999,1,     -999,9,    0.071,1,    4.633,1,    0.189,1,  18.2500,2,     -999,9,20180402,1006, -75.2908,-146.9983,     -999,9,     -999,9,-999          ,9,     -999,9,     -999,9,     -999,     -999,9,     -999,     -999,9,     -999,1,     -999,1,     -999,1,     -999,1,     -999,1,     -999,1,     -999,1,     -999,1,     -999,1,     -999,1,     -999,1,     -999,1,     -999,1
320620180309  ,P16        ,32      ,  1,2          ,2          ,2,20180402,1000, -75.2910,-146.9979,      285,    226.4,-1.5631000000000001560,34.133502832606432,2,  34.1340,2,275.98635547004767,2, 276.8004,2,    276.0,2,     85.4,2,    30.53,2,     0.08,2,     2.13,2,    3.676,2,    2.072,2,   2.2600,2,   2228.7,2,  2314.39,2,   7.5807,6,    24.92,     42.3,2,     -999,9,  -1.5642,2,     -999,5,     -999,5,     -999,     -999,9,    32.30,2,     -999,1,     -999,9,    0.066,1,    4.646,1,    0.181,1,  18.5700,2,     -999,9,20180402,1003, -75.2909,-146.9981,     -999,9,     -999,9,-999          ,9,     -999,9,     -999,9,     -999,     -999,9,     -999,     -999,9,     -999,1,     -999,1,     -999,1,     -999,1,     -999,1,     -999,1,     -999,1,     -999,1,     -999,1,     -999,1,     -999,1,     -999,1,     -999,1
320620180309  ,P16        ,32      ,  1,1          ,1          ,2,20180402,1000, -75.2910,-146.9979,      285,    280.6,-1.3563000000000000611,34.179217875521410,2,  34.1761,2,266.41286521904459,2, 260.5000,2,    266.3,2,     87.0,2,    30.99,2,     0.06,2,     2.15,2,    3.409,2,    1.929,2,   2.0800,2,   2228.6,6,  2317.63,2,   7.5747,2,    24.93,     40.2,2,     -999,9,  -1.3572,2,     -999,5,     -999,5,     -999,     -999,9,    32.90,2,     -999,1,     -999,9,    0.064,1,    4.628,1,    0.232,1,  19.0100,2,     -999,9,20180402,1000, -75.2910,-146.9979,     -999,9,     -999,9,-999          ,9,     -999,9,     -999,9,     -999,     -999,9,     -999,     -999,9,     -999,1,     -999,1,     -999,1,     -999,1,     -999,1,     -999,1,     -999,1,     -999,1,     -999,1,     -999,1,     -999,1,     -999,1,     -999,1