BOTTLE,20240515CCHHYDRO
EXPOCODE,SECT_ID,STNNBR,CASTNO,SAMPNO,BTLNBR,BTLNBR_FLAG_W,DATE,TIME,LATITUDE,LONGITUDE,DEPTH,CTDPRS,CTDTMP,CTDSAL,CTDSAL_FLAG_W,SALNTY,SALNTY_FLAG_W,CTDOXY,CTDOXY_FLAG_W,CTDOPTOXY,CTDOPTOXY_FLAG_W,OXYGEN,OXYGEN_FLAG_W,SILCAT,SILCAT_FLAG_W,NITRAT,NITRAT_FLAG_W,NITRIT,NITRIT_FLAG_W,PHSPHT,PHSPHT_FLAG_W,CFC-11,CFC-11_FLAG_W,CFC-12,CFC-12_FLAG_W,SF6,SF6_FLAG_W,TCARBN,TCARBN_FLAG_W,ALKALI,ALKALI_FLAG_W,PH_TOT,PH_TOT_FLAG_W,PH_TMP,DOC,DOC_FLAG_W,HELIUM,HELIUM_FLAG_W,REFTMP,REFTMP_FLAG_W,DELC13,DELC13_FLAG_W,DELC14,DELC14_FLAG_W,C14ERR,POC,POC_FLAG_W,TDN,TDN_FLAG_W,TON,TON_FLAG_W,NEON,NEON_FLAG_W,CTDFLUOR,CTDFLUOR_FLAG_W,CTDXMISS,CTDXMISS_FLAG_W,CTDBETA700,CTDBETA700_FLAG_W,N2O,N2O_FLAG_W,ARGON,ARGON_FLAG_W,BTL_DATE,BTL_TIME,BTL_LAT,BTL_LON,KRYPTON,KRYPTON_FLAG_W,XENON,XENON_FLAG_W,HPLC,HPLC_FLAG_W,HE3_HE4_RATIO,HE3_HE4_RATIO_FLAG_W,Nd_143_144_D_EPSILON_BOTTLE,Nd_143_144_D_EPSILON_BOTTLE_FLAG_W,Nd_143_144_D_EPSILON_BOTTLE_ERROR,Nd_143_144_D_RATIO_BOTTLE,Nd_143_144_D_RATIO_BOTTLE_FLAG_W,Nd_143_144_D_RATIO_BOTTLE_ERROR,Nd_D_CONC,Nd_D_CONC_FLAG_W,La_D_CONC_BOTTLE,La_D_CONC_BOTTLE_FLAG_W,Ce_D_CONC_BOTTLE,Ce_D_CONC_BOTTLE_FLAG_W,Pr_D_CONC_BOTTLE,Pr_D_CONC_BOTTLE_FLAG_W,Sm_D_CONC_BOTTLE,Sm_D_CONC_BOTTLE_FLAG_W,Eu_D_CONC_BOTTLE,Eu_D_CONC_BOTTLE_FLAG_W,Gd_D_CONC_BOTTLE,Gd_D_CONC_BOTTLE_FLAG_W,Tb_D_CONC_BOTTLE,Tb_D_CONC_BOTTLE_FLAG_W,Dy_D_CONC_BOTTLE,Dy_D_CONC_BOTTLE_FLAG_W,Ho_D_CONC_BOTTLE,Ho_D_CONC_BOTTLE_FLAG_W,Er_D_CONC_BOTTLE,Er_D_CONC_BOTTLE_FLAG_W,Tm_D_CONC_BOTTLE,Tm_D_CONC_BOTTLE_FLAG_W,Yb_D_CONC_BOTTLE,Yb_D_CONC_BOTTLE_FLAG_W,Lu_D_CONC_BOTTLE,Lu_D_CONC_BOTTLE_FLAG_W
,,,,,,,,,,,METERS,DBAR,ITS-90,PSS-78,,PSS-78,,UMOL/KG,,UMOL/KG,,UMOL/KG,,UMOL/KG,,UMOL/KG,,UMOL/KG,,UMOL/KG,,PMOL/KG,,PMOL/KG,,FMOL/KG,,UMOL/KG,,UMOL/KG,,,,DEG C,UMOL/KG,,NMOL/L,,DEG C,,/MILLE,,/MILLE,,/MILLE,UG/KG,,UMOL/KG,,UMOL/KG,,NMOL/L,,VOLTS,,VOLTS,,VOLTS,,NMOL/KG,,UMOL/L,,,,,,NMOL/L,,NMOL/L,,,,,,10000,,10000,,,,PMOL/KG,,PMOL/L,,PMOL/L,,PMOL/L,,PMOL/L,,PMOL/L,,PMOL/L,,PMOL/L,,PMOL/L,,PMOL/L,,PMOL/L,,PMOL/L,,PMOL/L,,PMOL/L,
320620180309  ,P16        ,49      ,  1,15         ,15         ,2,20180407,0511, -69.5009,-149.9918,     4358,   1353.6,0.8595416666666667593,34.713908915211427,2,  34.7145,2,199.47070844604866,2, 198.9036,2,    200.9,2,    120.0,2,    32.69,2,     0.00,2,     2.24,2,     -999,9,     -999,9,     -999,9,     -999,9,     -999,9,     -999,9,     -999,     -999,9,     -999,9,   0.8587,2,     -999,9,     -999,9,     -999,     -999,9,     -999,9,     -999,9,     -999,9,    0.061,1,    4.669,1,    0.127,1,     -999,9,     -999,9,20180407,0622, -69.4972,-149.9851,     -999,9,     -999,9,-999          ,9,     -999,9,     -999,9,     -999,     -999,9,     -999,     -999,9,     -999,1,     -999,1,     -999,1,     -999,1,     -999,1,     -999,1,     -999,1,     -999,1,     -999,1,     -999,1,     -999,1,     -999,1,     -999,1
320620180309  ,P16        ,49      ,  1,14         ,14         ,2,20180407,0511, -69.5009,-149.9918,     4358,   1453.5,0.8233916666666665218,34.712192819750186,2,  34.7133,2,201.20024944432998,2, 199.8996,2,    200.8,2,    121.7,2,    32.68,2,     0.00,2,     2.24,2,     -999,9,     -999,9,     -999,9,   2264.0,2,  2362.60,2,   7.5946,2,    24.94,     -999,9,     -999,9,   0.8225,2,     -999,9,     -999,9,     -999,     -999,9,     -999,9,     -999,9,     -999,9,    0.061,1,    4.669,1,    0.127,1,     -999,9,     -999,9,20180407,0619, -69.4972,-149.9849,     -999,9,     -999,9,-999          ,9,     -999,9,     -999,9,     -999,     -999,9,     -999,     -999,9,     -999,9,     -999,9,     -999,9,     -999,9,     -999,9,     -999,9,     -999,9,     -999,9,     -999,9,     -999,9,     -999,9,     -999,9,     -999,9
320620180309  ,P16        ,49      ,  1,13         ,13         ,2,20180407,0511, -69.5009,-149.9918,     4358,   1556.0,0.7756722222222222074,34.710170530327645,2,  34.7115,2,201.99547983994449,2, 201.1988,2,    202.5,2,    123.0,2,    32.67,2,     0.00,2,     2.24,2,     -999,9,     -999,9,     -999,9,     -999,9,     -999,9,     -999,9,     -999,     -999,9,     -999,9,   0.7748,2,     -999,9,     -999,9,     -999,     -999,9,     -999,9,     -999,9,     -999,9,    0.060,1,    4.670,1,    0.127,1,     -999,9,     -999,9,20180407,0616, -69.4972,-149.9847,     -999,9,     -999,9,-999          ,9,     -999,9,     -999,9,     -999,     -999,9,     -999,     -999,9,     -999,1,     -999,1,     -999,1,     -999,1,     -999,1,     -999,1,     -999,1,     -999,1,     -999,1,     -999,1,     -999,1,     -999,1,     -999,1
320620180309  ,P16        ,49      ,  1,12         ,12         ,2,20180407,0511, -69.5009,-149.9918,     4358,   1687.9,0.7315222222222224069,34.708453050604760,2,  34.7092,2,203.61632550306399,2, 202.7032,2,    202.9,2,    124.7,2,    32.69,2,     0.00,2,     2.23,2,     -999,9,     -999,9,     -999,9,   2263.0,2,  2362.35,2,   7.5931,2,    24.93,     -999,9,     -999,9,   0.7306,2,     -999,9,     -999,9,     -999,     -999,9,     -999,9,     -999,9,     -999,9,    0.061,1,    4.670,1,    0.128,1,     -999,9,     -999,9,20180407,0612, -69.4972,-149.9843,     -999,9,     -999,9,-999          ,9,     -999,9,     -999,9,     -999,     -999,9,     -999,     -999,9,     -999,9,     -999,9,     -999,9,     -999,9,     -999,9,     -999,9,     -999,9,     -999,9,     -999,9,     -999,9,     -999,9,     -999,9,     -999,9
320620180309  ,P16        ,49      ,  1,11         ,11         ,2,20180407,0511, -69.5009,-149.9918,     4358,   1891.6,0.6603361111111110127,34.705962385665238,2,  34.7062,2,204.98671148961660,2, 204.6012,2,    205.0,2,    126.3,2,    32.77,2,     0.00,2,     2.24,2,    0.134,2,    0.084,2,  -0.0400,2,   2263.8,2,  2365.52,2,   7.5933,2,    24.94,     -999,9,     -999,9,   0.6591,2,     -999,9,     -999,9,     -999,     -999,9,     -999,9,     -999,9,     -999,9,    0.061,1,    4.670,1,    0.124,1,  20.9000,2,     -999,9,20180407,0607, -69.4972,-149.9840,     -999,9,     -999,9,-999          ,9,     -999,9,     -999,9,     -999,     -999,9,     -999,     -999,9,     -999,1,     -999,1,     -999,1,     -999,1,     -999,1,     -999,1,     -999,1,     -999,1,     -999,1,     -999,1,     -999,1,     -999,1,     -999,1
320620180309  ,P16        ,49      ,  1,10         ,10         ,2,20180407,0511, -69.5009,-149.9918,     4358,   2117.1,0.5782583333333333186,34.703733234615534,2,  34.7051,2,206.68659672916132,2, 206.9978,2,    207.0,2,    127.3,2,    32.80,2,     0.00,2,     2.25,2,     -999,9,     -999,9,     -999,9,     -999,9,     -999,9,     -999,9,     -999,     -999,9,     -999,9,   0.5773,2,     -999,9,     -999,9,     -999,     -999,9,     -999,9,     -999,9,     -999,9,    0.061,1,    4.669,1,    0.125,1,     -999,9,     -999,9,20180407,0602, -69.4972,-149.9843,     -999,9,     -999,9,-999          ,9,     -999,9,     -999,9,     -999,     -999,9,     -999,     -999,9,     -999,9,     -999,9,     -999,9,     -999,9,     -999,9,     -999,9,     -999,9,     -999,9,     -999,9,     -999,9,     -999,9,     -999,9,     -999,9
320620180309  ,P16        ,49      ,  1,9          ,9          ,2,20180407,0511, -69.5009,-149.9918,     4358,   2372.5,0.4889388888888889229,34.702327951547858,2,  34.7037,2,208.72453815000560,2, 209.4996,2,    208.9,2,    129.1,2,    32.86,2,     0.00,2,     2.24,2,    0.152,2,    0.082,2,   0.1200,2,   2264.5,2,  2363.79,2,   7.5940,2,    24.94,     -999,9,     -999,9,   0.4877,2,     -999,9,     -999,9,     -999,     -999,9,     -999,9,     -999,9,     -999,9,    0.061,1,    4.670,1,    0.125,1,  20.0100,2,     -999,9,20180407,0556, -69.4972,-149.9844,     -999,9,     -999,9,-999          ,9,     -999,9,     -999,9,     -999,     -999,9,     -999,     -999,9,     -999,1,     -999,1,     -999,1,     -999,1,     -999,1,     -999,1,     -999,1,     -999,1,     -999,1,     -999,1,     -999,1,     -999,1,     -999,1
320620180309  ,P16        ,49      ,  1,8          ,8          ,2,20180407,0511, -69.5009,-149.9918,     4358,   2626.0,0.4176499999999999657,34.701335218369955,2,  34.7037,2,211.08272858542762,2, 211.6034,2,    210.7,2,    130.7,2,    32.89,2,     0.00,2,     2.25,2,     -999,9,     -999,9,     -999,9,     -999,9,     -999,9,     -999,9,     -999,     -999,9,     -999,9,   0.4165,2,     -999,9,     -999,9,     -999,     -999,9,     -999,9,     -999,9,     -999,9,    0.061,1,    4.669,1,    0.123,1,     -999,9,     -999,9,20180407,0551, -69.4976,-149.9854,     -999,9,     -999,9,-999          ,9,     -999,9,     -999,9,     -999,     -999,9,     -999,     -999,9,     -999,9,     -999,9,     -999,9,     -999,9,     -999,9,     -999,9,     -999,9,     -999,9,     -999,9,     -999,9,     -999,9,     -999,9,     -999,9
320620180309  ,P16        ,49      ,  1,7          ,7          ,2,20180407,0511, -69.5009,-149.9918,     4358,   2884.1,0.3587666666666666782,34.700860943604617,2,  34.7021,2,213.10355937339858,2, 213.4030,2,    212.7,2,    132.9,2,    32.95,2,     0.00,2,     2.25,2,    0.191,2,    0.112,2,   0.0900,2,   2264.6,2,  2363.71,2,   7.5949,2,    24.93,     -999,9,     -999,9,   0.3582,2,     -999,9,     -999,9,     -999,     -999,9,     -999,9,     -999,9,     -999,9,    0.061,1,    4.669,1,    0.123,1,  20.5800,2,     -999,9,20180407,0545, -69.4980,-149.9862,     -999,9,     -999,9,-999          ,9,     -999,9,     -999,9,     -999,     -999,9,     -999,     -999,9,     -999,1,     -999,1,     -999,1,     -999,1,     -999,1,     -999,1,     -999,1,     -999,1,     -999,1,     -999,1,     -999,1,     -999,1,     -999,1
320620180309  ,P16        ,49      ,  1,6          ,6          ,2,20180407,0511, -69.5009,-149.9918,     4358,   3154.9,0.2954027777777777919,34.698854478444041,2,  34.6996,2,214.89142456054461,2, 215.4996,2,    215.0,2,    133.4,2,    32.92,2,     0.00,2,     2.25,2,     -999,9,     -999,9,     -999,9,     -999,9,     -999,9,     -999,9,     -999,     -999,9,     -999,9,   0.2947,2,     -999,9,     -999,9,     -999,     -999,9,     -999,9,     -999,9,     -999,9,    0.061,1,    4.669,1,    0.124,1,     -999,9,     -999,9,20180407,0539, -69.4986,-149.9870,     -999,9,     -999,9,-999          ,9,     -999,9,     -999,9,     -999,     -999,9,     -999,     -999,9,     -999,9,     -999,9,     -999,9,     -999,9,     -999,9,     -999,9,     -999,9,     -999,9,     -999,9,     -999,9,     -999,9,     -999,9,     -999,9
320620180309  ,P16        ,49      ,  1,5          ,5          ,2,20180407,0511, -69.5009,-149.9918,     4358,   3462.9,0.2395694444444443905,34.695011232160851,2,  34.6952,2,217.66065448668738,2, 217.1995,2,    217.8,2,    130.0,2,    32.83,2,     0.00,2,     2.26,2,    0.562,2,    0.303,2,   0.2700,2,   2263.8,2,  2361.34,2,   7.5941,2,    24.95,     -999,9,     -999,9,   0.2389,2,     -999,9,     -999,9,     -999,     -999,9,     -999,9,     -999,9,     -999,9,    0.060,1,    4.669,1,    0.123,1,  20.8000,2,     -999,9,20180407,0533, -69.4993,-149.9880,     -999,9,     -999,9,-999          ,9,     -999,9,     -999,9,     -999,     -999,9,     -999,     -999,9,     -999,1,     -999,1,     -999,1,     -999,1,     -999,1,     -999,1,     -999,1,     -999,1,     -999,1,     -999,1,     -999,1,     -999,1,     -999,1
320620180309  ,P16        ,49      ,  1,4          ,4          ,2,20180407,0511, -69.5009,-149.9918,     4358,   3769.9,0.2208277777777777617,34.693711708277561,2,  34.6950,2,219.55170976530681,2, 218.7982,2,    219.5,2,    127.5,2,    32.83,2,     0.00,2,     2.26,2,    0.703,2,    0.363,2,   0.1800,2,   2262.5,2,  2360.98,2,   7.5947,6,    24.93,     -999,9,     -999,9,   0.2201,2,     -999,9,     -999,9,     -999,     -999,9,     -999,9,     -999,9,     -999,9,    0.060,1,    4.668,1,    0.124,1,  19.9700,2,     -999,9,20180407,0526, -69.4999,-149.9889,     -999,9,     -999,9,-999          ,9,     -999,9,     -999,9,     -999,     -999,9,     -999,     -999,9,     -999,9,     -999,9,     -999,9,     -999,9,     -999,9,     -999,9,     -999,9,     -999,9,     -999,9,     -999,9,     -999,9,     -999,9,     -999,9
320620180309  ,P16        ,49      ,  1,3          ,3          ,2,20180407,0511, -69.5009,-149.9918,     4358,   4078.2,0.2351444444444444337,34.694597022926295,2,  34.6945,2,219.94383607708511,2, 218.9003,2,    219.2,2,    127.8,2,    32.84,2,     0.00,2,     2.25,2,    0.709,2,    0.359,2,   0.0600,2,   2263.3,2,  2362.99,2,   7.5927,2,    24.95,     -999,9,     -999,9,   0.2345,2,     -999,9,     -999,9,     -999,     -999,9,     -999,9,     -999,9,     -999,9,    0.061,1,    4.667,1,    0.127,1,  19.9800,2,     -999,9,20180407,0520, -69.5004,-149.9904,     -999,9,     -999,9,-999          ,9,     -999,9,     -999,9,     -999,     -999,9,     -999,     -999,9,     -999,1,     -999,1,     -999,1,     -999,1,     -999,1,     -999,1,     -999,1,     -999,1,     -999,1,     -999,1,     -999,1,     -999,1,     -999,1
320620180309  ,P16        ,49      ,  1,2          ,2          ,2,20180407,0511, -69.5009,-149.9918,     4358,   4258.7,0.2480305555555555042,34.695086763252377,2,  34.6960,2,219.13596532231500,2, 219.2049,2,    219.6,2,    128.3,2,    32.89,2,     0.00,2,     2.25,2,    0.705,2,    0.361,2,   0.0900,2,   2262.8,2,  2361.64,2,   7.5914,6,    24.95,     -999,9,     -999,9,   0.2474,2,     -999,9,     -999,9,     -999,     -999,9,     -999,9,     -999,9,     -999,9,    0.061,1,    4.665,1,    0.126,1,  20.1100,2,     -999,9,20180407,0515, -69.5008,-149.9911,     -999,9,     -999,9,-999          ,9,     -999,9,     -999,9,     -999,     -999,9,     -999,     -999,9,     -999,1,     -999,1,     -999,1,     -999,1,     -999,1,     -999,1,     -999,1,     -999,1,     -999,1,     -999,1,     -999,1,     -999,1,     -999,1
320620180309  ,P16        ,49      ,  1,1          ,1          ,2,20180407,0511, -69.5009,-149.9918,     4358,   4437.8,0.2670833333333333948,34.695282189437002,2,  34.6962,2,218.94585921498569,2, 219.1999,2,    218.4,2,    129.4,2,    32.90,2,     0.00,2,     2.25,2,    0.708,2,    0.354,2,   0.1100,2,   2263.2,6,  2362.75,2,   7.5921,2,    24.93,     -999,9,     -999,9,   0.2665,2,     -999,9,     -999,9,     -999,     -999,9,     -999,9,     -999,9,     -999,9,    0.061,1,    4.661,1,    0.133,1,  20.4900,2,     -999,9,20180407,0511, -69.5009,-149.9918,     -999,9,     -999,9,-999          ,9,     -999,9,     -999,9,     -999,     -999,9,     -999,     -999,9,     -999,1,     -999,1,     -999,1,     -999,1,     -999,1,     -999,1,     -999,1,     -999,1,     -999,1,     -999,1,     -999,1,     -999,1,     -999,1