BOTTLE,20240515CCHHYDRO
EXPOCODE,SECT_ID,STNNBR,CASTNO,SAMPNO,BTLNBR,BTLNBR_FLAG_W,DATE,TIME,LATITUDE,LONGITUDE,DEPTH,CTDPRS,CTDTMP,CTDSAL,CTDSAL_FLAG_W,SALNTY,SALNTY_FLAG_W,CTDOXY,CTDOXY_FLAG_W,CTDOPTOXY,CTDOPTOXY_FLAG_W,OXYGEN,OXYGEN_FLAG_W,SILCAT,SILCAT_FLAG_W,NITRAT,NITRAT_FLAG_W,NITRIT,NITRIT_FLAG_W,PHSPHT,PHSPHT_FLAG_W,CFC-11,CFC-11_FLAG_W,CFC-12,CFC-12_FLAG_W,SF6,SF6_FLAG_W,TCARBN,TCARBN_FLAG_W,ALKALI,ALKALI_FLAG_W,PH_TOT,PH_TOT_FLAG_W,PH_TMP,DOC,DOC_FLAG_W,HELIUM,HELIUM_FLAG_W,REFTMP,REFTMP_FLAG_W,DELC13,DELC13_FLAG_W,DELC14,DELC14_FLAG_W,C14ERR,POC,POC_FLAG_W,TDN,TDN_FLAG_W,TON,TON_FLAG_W,NEON,NEON_FLAG_W,CTDFLUOR,CTDFLUOR_FLAG_W,CTDXMISS,CTDXMISS_FLAG_W,CTDBETA700,CTDBETA700_FLAG_W,N2O,N2O_FLAG_W,ARGON,ARGON_FLAG_W,BTL_DATE,BTL_TIME,BTL_LAT,BTL_LON,KRYPTON,KRYPTON_FLAG_W,XENON,XENON_FLAG_W,HPLC,HPLC_FLAG_W,HE3_HE4_RATIO,HE3_HE4_RATIO_FLAG_W,Nd_143_144_D_EPSILON_BOTTLE,Nd_143_144_D_EPSILON_BOTTLE_FLAG_W,Nd_143_144_D_EPSILON_BOTTLE_ERROR,Nd_143_144_D_RATIO_BOTTLE,Nd_143_144_D_RATIO_BOTTLE_FLAG_W,Nd_143_144_D_RATIO_BOTTLE_ERROR,Nd_D_CONC,Nd_D_CONC_FLAG_W,La_D_CONC_BOTTLE,La_D_CONC_BOTTLE_FLAG_W,Ce_D_CONC_BOTTLE,Ce_D_CONC_BOTTLE_FLAG_W,Pr_D_CONC_BOTTLE,Pr_D_CONC_BOTTLE_FLAG_W,Sm_D_CONC_BOTTLE,Sm_D_CONC_BOTTLE_FLAG_W,Eu_D_CONC_BOTTLE,Eu_D_CONC_BOTTLE_FLAG_W,Gd_D_CONC_BOTTLE,Gd_D_CONC_BOTTLE_FLAG_W,Tb_D_CONC_BOTTLE,Tb_D_CONC_BOTTLE_FLAG_W,Dy_D_CONC_BOTTLE,Dy_D_CONC_BOTTLE_FLAG_W,Ho_D_CONC_BOTTLE,Ho_D_CONC_BOTTLE_FLAG_W,Er_D_CONC_BOTTLE,Er_D_CONC_BOTTLE_FLAG_W,Tm_D_CONC_BOTTLE,Tm_D_CONC_BOTTLE_FLAG_W,Yb_D_CONC_BOTTLE,Yb_D_CONC_BOTTLE_FLAG_W,Lu_D_CONC_BOTTLE,Lu_D_CONC_BOTTLE_FLAG_W
,,,,,,,,,,,METERS,DBAR,ITS-90,PSS-78,,PSS-78,,UMOL/KG,,UMOL/KG,,UMOL/KG,,UMOL/KG,,UMOL/KG,,UMOL/KG,,UMOL/KG,,PMOL/KG,,PMOL/KG,,FMOL/KG,,UMOL/KG,,UMOL/KG,,,,DEG C,UMOL/KG,,NMOL/L,,DEG C,,/MILLE,,/MILLE,,/MILLE,UG/KG,,UMOL/KG,,UMOL/KG,,NMOL/L,,VOLTS,,VOLTS,,VOLTS,,NMOL/KG,,UMOL/L,,,,,,NMOL/L,,NMOL/L,,,,,,10000,,10000,,,,PMOL/KG,,PMOL/L,,PMOL/L,,PMOL/L,,PMOL/L,,PMOL/L,,PMOL/L,,PMOL/L,,PMOL/L,,PMOL/L,,PMOL/L,,PMOL/L,,PMOL/L,,PMOL/L,
320620180309  ,S04P       ,3       ,  1,13         ,13         ,2,20180317,1251, -70.0964, 169.1262,     2657,   1150.3,0.4227305555555556094,34.693828255916983,2,  34.6935,2,211.92107380145879,2, 212.6988,2,    211.2,2,    118.2,2,    32.17,2,     0.00,2,     2.23,2,     -999,9,     -999,9,     -999,9,   2261.4,2,  2362.15,2,   7.5897,2,    24.98,     39.8,2,     -999,9,   0.4232,2,     -999,9,     -999,9,     -999,     -999,9,     -999,9,     -999,1,     -999,9,    0.061,1,    4.688,1,    0.131,1,     -999,9,     -999,9,20180317,1348, -70.0960, 169.1266,     -999,9,     -999,9,-999          ,9,     -999,9,     -999,9,     -999,     -999,9,     -999,     -999,9,     -999,9,     -999,9,     -999,9,     -999,9,     -999,9,     -999,9,     -999,9,     -999,9,     -999,9,     -999,9,     -999,9,     -999,9,     -999,9
320620180309  ,S04P       ,3       ,  1,12         ,12         ,2,20180317,1251, -70.0964, 169.1262,     2657,   1249.5,0.3082305555555555632,34.687853481617339,2,  34.6886,2,215.12754236870444,2, 215.1016,2,    215.1,2,    116.0,2,    32.14,2,     0.00,2,     2.23,2,     -999,9,     -999,9,     -999,9,   2262.0,2,  2356.65,3,   7.5895,2,    24.98,     41.0,2,     -999,9,   0.3097,2,     -999,9,     -999,9,     -999,     -999,9,     -999,9,     -999,1,     -999,9,    0.061,1,    4.688,1,    0.132,1,     -999,9,     -999,9,20180317,1345, -70.0960, 169.1265,     -999,9,     -999,9,-999          ,9,     -999,9,     -999,9,     -999,     -999,9,     -999,     -999,9,     -999,1,     -999,1,     -999,1,     -999,1,     -999,1,     -999,1,     -999,1,     -999,1,     -999,1,     -999,1,     -999,1,     -999,1,     -999,1
320620180309  ,S04P       ,3       ,  1,11         ,11         ,2,20180317,1251, -70.0964, 169.1262,     2657,   1351.8,0.2752638888888888080,34.689802616498291,2,  34.6899,2,217.01041662404216,2, 218.1997,2,    216.3,2,    116.0,2,    32.15,2,     0.00,2,     2.24,2,     -999,9,     -999,9,     -999,9,   2261.0,2,  2359.66,2,   7.5902,2,    24.99,     41.9,2,     -999,9,   0.2739,2,     -999,9,     -999,9,     -999,     -999,9,     -999,9,     -999,1,     -999,9,    0.061,1,    4.688,1,    0.132,1,     -999,9,     -999,9,20180317,1341, -70.0963, 169.1264,     -999,9,     -999,9,-999          ,9,     -999,9,     -999,9,     -999,     -999,9,     -999,     -999,9,     -999,9,     -999,9,     -999,9,     -999,9,     -999,9,     -999,9,     -999,9,     -999,9,     -999,9,     -999,9,     -999,9,     -999,9,     -999,9
320620180309  ,S04P       ,3       ,  1,10         ,10         ,2,20180317,1251, -70.0964, 169.1262,     2657,   1453.7,0.1492833333333333234,34.682727966925682,2,  34.6819,2,220.58885517368421,2, 219.0015,2,    221.4,2,    110.9,2,    32.00,2,     0.00,2,     2.22,2,    1.208,2,    0.661,2,   0.6200,2,   2259.1,2,  2361.21,2,   7.5878,2,    24.98,     39.9,2,     -999,9,   0.1508,2,     -999,9,     -999,9,     -999,     -999,9,     -999,9,     -999,1,     -999,9,    0.061,1,    4.686,1,    0.133,1,  20.0900,2,     -999,9,20180317,1337, -70.0965, 169.1262,     -999,9,     -999,9,-999          ,9,     -999,9,     -999,9,     -999,     -999,9,     -999,     -999,9,     -999,1,     -999,1,     -999,1,     -999,1,     -999,1,     -999,1,     -999,1,     -999,1,     -999,1,     -999,1,     -999,1,     -999,1,     -999,1
320620180309  ,S04P       ,3       ,  1,9          ,9          ,2,20180317,1251, -70.0964, 169.1262,     2657,   1554.4,0.1222027777777777852,34.684871253230234,2,  34.6837,2,221.33904924108535,2, 222.8026,2,    222.1,2,    111.2,2,    32.02,2,     0.00,2,     2.22,2,     -999,9,     -999,9,     -999,9,   2260.8,6,  2358.36,2,   7.5882,2,    24.98,     41.2,2,     -999,9,   0.1225,2,     -999,9,     -999,9,     -999,     -999,9,     -999,9,     -999,1,     -999,9,    0.061,1,    4.686,1,    0.132,1,     -999,9,     -999,9,20180317,1334, -70.0967, 169.1259,     -999,9,     -999,9,-999          ,9,     -999,9,     -999,9,     -999,     -999,9,     -999,     -999,9,     -999,9,     -999,9,     -999,9,     -999,9,     -999,9,     -999,9,     -999,9,     -999,9,     -999,9,     -999,9,     -999,9,     -999,9,     -999,9
320620180309  ,S04P       ,3       ,  1,8          ,8          ,2,20180317,1251, -70.0964, 169.1262,     2657,   1657.7,0.0913166666666666710,34.685213460518668,2,  34.6831,2,223.41157210537830,2, 223.4022,2,    222.8,2,    111.3,2,    32.07,2,     0.00,2,     2.22,2,     -999,9,     -999,9,     -999,9,   2258.9,2,  2358.83,2,   7.5900,2,    24.97,     41.0,2,     -999,9,   0.0912,2,     -999,9,     -999,9,     -999,     -999,9,     -999,9,     -999,1,     -999,9,    0.061,1,    4.686,1,    0.133,1,     -999,9,     -999,9,20180317,1330, -70.0967, 169.1257,     -999,9,     -999,9,-999          ,9,     -999,9,     -999,9,     -999,     -999,9,     -999,     -999,9,     -999,1,     -999,1,     -999,1,     -999,1,     -999,1,     -999,1,     -999,1,     -999,1,     -999,1,     -999,1,     -999,1,     -999,1,     -999,1
320620180309  ,S04P       ,3       ,  1,7          ,7          ,2,20180317,1251, -70.0964, 169.1262,     2657,   1758.6,0.0392666666666666719,34.685402558689447,2,  34.6860,2,226.34312910806560,2, 227.2000,2,    225.6,2,    107.6,2,    31.92,2,     0.00,2,     2.21,2,    1.508,2,    0.841,2,   0.8000,2,   2259.4,2,  2357.72,2,   7.5897,6,    24.98,     40.8,2,     -999,9,   0.0390,2,     -999,9,     -999,9,     -999,     -999,9,     -999,9,     -999,1,     -999,9,    0.061,1,    4.684,1,    0.136,1,  19.9400,2,     -999,9,20180317,1326, -70.0970, 169.1254,     -999,9,     -999,9,-999          ,9,     -999,9,     -999,9,     -999,     -999,9,     -999,     -999,9,     -999,9,     -999,9,     -999,9,     -999,9,     -999,9,     -999,9,     -999,9,     -999,9,     -999,9,     -999,9,     -999,9,     -999,9,     -999,9
320620180309  ,S04P       ,3       ,  1,6          ,6          ,2,20180317,1251, -70.0964, 169.1262,     2657,   1861.2,-0.0087138888888888891,34.685947590655509,3,  34.6746,4,229.01930894438027,2, 229.9035,2,    228.1,2,    106.7,2,    31.79,2,     0.00,2,     2.21,2,     -999,9,     -999,9,     -999,9,   2257.6,2,  2356.62,2,   7.5884,2,    24.98,     -999,9,     -999,9,  -0.0093,2,     -999,9,     -999,9,     -999,     -999,9,     -999,9,     -999,9,     -999,9,    0.063,1,    4.679,1,    0.141,1,     -999,9,     -999,9,20180317,1322, -70.0967, 169.1257,     -999,9,     -999,9,-999          ,9,     -999,9,     -999,9,     -999,     -999,9,     -999,     -999,9,     -999,1,     -999,1,     -999,1,     -999,1,     -999,1,     -999,1,     -999,1,     -999,1,     -999,1,     -999,1,     -999,1,     -999,1,     -999,1
320620180309  ,S04P       ,3       ,  1,5          ,5          ,2,20180317,1251, -70.0964, 169.1262,     2657,   1962.5,-0.0920694444444444676,34.690594105410149,2,  34.6892,2,232.12719853289238,2, 232.4014,2,    232.3,2,    103.0,2,    31.70,2,     0.00,2,     2.18,2,     -999,9,     -999,9,     -999,9,   2257.2,2,  2356.01,2,   7.5898,6,    24.96,     41.8,2,     -999,9,  -0.0923,2,     -999,9,     -999,9,     -999,     -999,9,     -999,9,     -999,1,     -999,9,    0.063,1,    4.678,1,    0.142,1,     -999,9,     -999,9,20180317,1318, -70.0965, 169.1260,     -999,9,     -999,9,-999          ,9,     -999,9,     -999,9,     -999,     -999,9,     -999,     -999,9,     -999,9,     -999,9,     -999,9,     -999,9,     -999,9,     -999,9,     -999,9,     -999,9,     -999,9,     -999,9,     -999,9,     -999,9,     -999,9
320620180309  ,S04P       ,3       ,  1,4          ,4          ,2,20180317,1251, -70.0964, 169.1262,     2657,   2096.4,-0.1175972222222222280,34.690312322199361,3,  34.6741,4,233.18789469564584,2, 233.1993,2,    233.6,2,    101.6,2,    31.69,2,     0.00,2,     2.18,2,    1.926,2,    1.072,2,   0.9900,2,   2256.7,2,  2355.80,2,   7.5862,2,    24.97,     44.0,2,     -999,9,  -0.1182,2,     -999,9,     -999,9,     -999,     -999,9,     -999,9,     -999,1,     -999,9,    0.063,1,    4.676,1,    0.146,1,  19.9000,2,     -999,9,20180317,1314, -70.0966, 169.1259,     -999,9,     -999,9,-999          ,9,     -999,9,     -999,9,     -999,     -999,9,     -999,     -999,9,     -999,1,     -999,1,     -999,1,     -999,1,     -999,1,     -999,1,     -999,1,     -999,1,     -999,1,     -999,1,     -999,1,     -999,1,     -999,1
320620180309  ,S04P       ,3       ,  1,3          ,3          ,2,20180317,1251, -70.0964, 169.1262,     2657,   2298.0,-0.2494222222222221841,34.691927491234708,3,  34.6874,3,238.59331019290667,2, 238.0013,2,    238.7,2,     97.9,2,    31.49,2,     0.00,2,     2.17,2,    2.216,2,    1.227,2,   1.2900,2,   2256.2,2,  2355.37,2,   7.5896,2,    24.96,     40.3,2,     -999,9,  -0.2498,2,     -999,9,     -999,9,     -999,     -999,9,     -999,9,     -999,1,     -999,9,    0.065,1,    4.672,1,    0.151,1,  19.6500,2,     -999,9,20180317,1308, -70.0967, 169.1258,     -999,9,     -999,9,-999          ,9,     -999,9,     -999,9,     -999,     -999,9,     -999,     -999,9,     -999,1,     -999,1,     -999,1,     -999,1,     -999,1,     -999,1,     -999,1,     -999,1,     -999,1,     -999,1,     -999,1,     -999,1,     -999,1
320620180309  ,S04P       ,3       ,  1,2          ,2          ,2,20180317,1251, -70.0964, 169.1262,     2657,   2500.2,-0.4001638888888888745,34.699761968611483,3,  34.6976,2,244.31856140361677,2, 245.0028,2,    244.5,2,     95.6,2,    31.39,2,     0.00,2,     2.17,2,    2.515,2,    1.388,2,   1.2300,2,   2255.9,2,  2355.32,2,   7.5924,2,    24.97,     47.0,3,     -999,9,  -0.4005,2,     -999,9,     -999,9,     -999,     -999,9,     -999,9,     -999,1,     -999,9,    0.063,1,    4.671,1,    0.154,1,  20.1200,2,     -999,9,20180317,1301, -70.0966, 169.1260,     -999,9,     -999,9,-999          ,9,     -999,9,     -999,9,     -999,     -999,9,     -999,     -999,9,     -999,1,     -999,1,     -999,1,     -999,1,     -999,1,     -999,1,     -999,1,     -999,1,     -999,1,     -999,1,     -999,1,     -999,1,     -999,1
320620180309  ,S04P       ,3       ,  1,1          ,1          ,2,20180317,1251, -70.0964, 169.1262,     2657,   2701.7,-0.4277249999999999663,34.706080294455980,2,  34.7047,2,246.21681763212175,2, 245.6991,2,    246.2,2,     95.1,2,    31.31,2,     0.00,2,     2.16,2,    2.598,2,    1.426,2,   1.6000,2,   2257.8,6,  2356.65,2,   7.5931,2,    24.97,     43.8,2,     -999,9,  -0.4282,2,     -999,9,     -999,9,     -999,     -999,9,     -999,9,     -999,1,     -999,9,    0.065,1,    4.663,1,    0.214,1,  19.6700,2,     -999,9,20180317,1251, -70.0964, 169.1262,     -999,9,     -999,9,-999          ,9,     -999,9,     -999,9,     -999,     -999,9,     -999,     -999,9,     -999,1,     -999,1,     -999,1,     -999,1,     -999,1,     -999,1,     -999,1,     -999,1,     -999,1,     -999,1,     -999,1,     -999,1,     -999,1