BOTTLE,20240515CCHHYDRO
EXPOCODE,SECT_ID,STNNBR,CASTNO,SAMPNO,BTLNBR,BTLNBR_FLAG_W,DATE,TIME,LATITUDE,LONGITUDE,DEPTH,CTDPRS,CTDTMP,CTDSAL,CTDSAL_FLAG_W,SALNTY,SALNTY_FLAG_W,CTDOXY,CTDOXY_FLAG_W,CTDOPTOXY,CTDOPTOXY_FLAG_W,OXYGEN,OXYGEN_FLAG_W,SILCAT,SILCAT_FLAG_W,NITRAT,NITRAT_FLAG_W,NITRIT,NITRIT_FLAG_W,PHSPHT,PHSPHT_FLAG_W,CFC-11,CFC-11_FLAG_W,CFC-12,CFC-12_FLAG_W,SF6,SF6_FLAG_W,TCARBN,TCARBN_FLAG_W,ALKALI,ALKALI_FLAG_W,PH_TOT,PH_TOT_FLAG_W,PH_TMP,DOC,DOC_FLAG_W,HELIUM,HELIUM_FLAG_W,REFTMP,REFTMP_FLAG_W,DELC13,DELC13_FLAG_W,DELC14,DELC14_FLAG_W,C14ERR,POC,POC_FLAG_W,TDN,TDN_FLAG_W,TON,TON_FLAG_W,NEON,NEON_FLAG_W,CTDFLUOR,CTDFLUOR_FLAG_W,CTDXMISS,CTDXMISS_FLAG_W,CTDBETA700,CTDBETA700_FLAG_W,N2O,N2O_FLAG_W,ARGON,ARGON_FLAG_W,BTL_DATE,BTL_TIME,BTL_LAT,BTL_LON,KRYPTON,KRYPTON_FLAG_W,XENON,XENON_FLAG_W,HPLC,HPLC_FLAG_W,HE3_HE4_RATIO,HE3_HE4_RATIO_FLAG_W,Nd_143_144_D_EPSILON_BOTTLE,Nd_143_144_D_EPSILON_BOTTLE_FLAG_W,Nd_143_144_D_EPSILON_BOTTLE_ERROR,Nd_143_144_D_RATIO_BOTTLE,Nd_143_144_D_RATIO_BOTTLE_FLAG_W,Nd_143_144_D_RATIO_BOTTLE_ERROR,Nd_D_CONC,Nd_D_CONC_FLAG_W,La_D_CONC_BOTTLE,La_D_CONC_BOTTLE_FLAG_W,Ce_D_CONC_BOTTLE,Ce_D_CONC_BOTTLE_FLAG_W,Pr_D_CONC_BOTTLE,Pr_D_CONC_BOTTLE_FLAG_W,Sm_D_CONC_BOTTLE,Sm_D_CONC_BOTTLE_FLAG_W,Eu_D_CONC_BOTTLE,Eu_D_CONC_BOTTLE_FLAG_W,Gd_D_CONC_BOTTLE,Gd_D_CONC_BOTTLE_FLAG_W,Tb_D_CONC_BOTTLE,Tb_D_CONC_BOTTLE_FLAG_W,Dy_D_CONC_BOTTLE,Dy_D_CONC_BOTTLE_FLAG_W,Ho_D_CONC_BOTTLE,Ho_D_CONC_BOTTLE_FLAG_W,Er_D_CONC_BOTTLE,Er_D_CONC_BOTTLE_FLAG_W,Tm_D_CONC_BOTTLE,Tm_D_CONC_BOTTLE_FLAG_W,Yb_D_CONC_BOTTLE,Yb_D_CONC_BOTTLE_FLAG_W,Lu_D_CONC_BOTTLE,Lu_D_CONC_BOTTLE_FLAG_W
,,,,,,,,,,,METERS,DBAR,ITS-90,PSS-78,,PSS-78,,UMOL/KG,,UMOL/KG,,UMOL/KG,,UMOL/KG,,UMOL/KG,,UMOL/KG,,UMOL/KG,,PMOL/KG,,PMOL/KG,,FMOL/KG,,UMOL/KG,,UMOL/KG,,,,DEG C,UMOL/KG,,NMOL/L,,DEG C,,/MILLE,,/MILLE,,/MILLE,UG/KG,,UMOL/KG,,UMOL/KG,,NMOL/L,,VOLTS,,VOLTS,,VOLTS,,NMOL/KG,,UMOL/L,,,,,,NMOL/L,,NMOL/L,,,,,,10000,,10000,,,,PMOL/KG,,PMOL/L,,PMOL/L,,PMOL/L,,PMOL/L,,PMOL/L,,PMOL/L,,PMOL/L,,PMOL/L,,PMOL/L,,PMOL/L,,PMOL/L,,PMOL/L,,PMOL/L,
320620180309  ,S04P       ,56      ,  1,36         ,36         ,2,20180411,0343, -66.9993,-166.1348,     3680,      9.3,-1.2864777777777776091,34.085648893752165,2,  34.0839,2,345.56451115702401,2, 344.8997,2,    346.8,2,     62.2,2,    27.45,2,     0.19,2,     1.88,2,    5.651,2,    3.104,2,   3.8200,2,   2195.5,6,  2308.95,2,   7.6437,2,    24.92,     41.2,2,     -999,9,  -1.2876,2,     -999,9,     -999,9,     -999,     -999,9,    29.70,2,     -999,1,     -999,9,    0.203,1,    4.584,1,    0.225,1,  17.3500,2,     -999,9,20180411,0534, -67.0002,-166.1342,     -999,9,     -999,9,-999          ,9,     -999,9,     -999,9,     -999,     -999,9,     -999,     -999,9,     -999,9,     -999,9,     -999,9,     -999,9,     -999,9,     -999,9,     -999,9,     -999,9,     -999,9,     -999,9,     -999,9,     -999,9,     -999,9
320620180309  ,S04P       ,56      ,  1,35         ,35         ,2,20180411,0343, -66.9993,-166.1348,     3680,     34.0,-1.2785527777777778713,34.085661971479709,2,  34.0825,2,346.37214243817027,2, 344.9016,2,    344.4,2,     62.1,2,    27.44,2,     0.19,2,     1.90,2,    5.722,2,    3.127,2,   4.2400,2,   2196.7,2,  2309.22,2,   7.6395,2,    24.93,     42.7,2,     -999,9,  -1.2781,2,     -999,9,     -999,9,     -999,     -999,9,    29.60,2,     -999,1,     -999,9,    0.218,1,    4.584,1,    0.226,1,  16.7900,2,     -999,9,20180411,0533, -67.0003,-166.1341,     -999,9,     -999,9,-999          ,9,     -999,9,     -999,9,     -999,     -999,9,     -999,     -999,9,     -999,9,     -999,9,     -999,9,     -999,9,     -999,9,     -999,9,     -999,9,     -999,9,     -999,9,     -999,9,     -999,9,     -999,9,     -999,9
320620180309  ,S04P       ,56      ,  1,34         ,34         ,2,20180411,0343, -66.9993,-166.1348,     3680,     58.4,-1.2785805555555556090,34.085650423883123,2,  34.0819,2,347.26175967654501,2, 344.8994,2,    345.2,2,     62.1,2,    27.35,2,     0.19,2,     1.88,2,     -999,9,     -999,9,     -999,9,   2197.9,2,  2310.08,2,   7.6419,2,    24.91,     42.4,2,     -999,9,  -1.2777,2,     -999,9,     -999,9,     -999,     -999,9,    29.80,2,     -999,1,     -999,9,    0.221,1,    4.584,1,    0.210,1,     -999,9,     -999,9,20180411,0531, -67.0003,-166.1341,     -999,9,     -999,9,-999          ,9,     -999,9,     -999,9,     -999,     -999,9,     -999,     -999,9,     -999,9,     -999,9,     -999,9,     -999,9,     -999,9,     -999,9,     -999,9,     -999,9,     -999,9,     -999,9,     -999,9,     -999,9,     -999,9
320620180309  ,S04P       ,56      ,  1,33         ,33         ,2,20180411,0343, -66.9993,-166.1348,     3680,     85.4,-1.2630972222222220935,34.088559374157491,2,  34.0843,2,344.17694736188832,2, 344.9007,2,    344.4,2,     62.1,2,    27.41,2,     0.19,2,     1.88,2,    5.634,2,    3.118,2,   3.6900,2,   2197.3,2,  2310.42,2,   7.6416,2,    24.91,     42.6,2,     -999,9,  -1.2640,2,     -999,9,     -999,9,     -999,     -999,9,    29.80,2,     -999,1,     -999,9,    0.248,1,    4.588,1,    0.228,1,  16.5800,2,     -999,9,20180411,0529, -67.0003,-166.1341,     -999,9,     -999,9,-999          ,9,     -999,9,     -999,9,     -999,     -999,9,     -999,     -999,9,     -999,9,     -999,9,     -999,9,     -999,9,     -999,9,     -999,9,     -999,9,     -999,9,     -999,9,     -999,9,     -999,9,     -999,9,     -999,9
320620180309  ,S04P       ,56      ,  1,32         ,32         ,2,20180411,0343, -66.9993,-166.1348,     3680,    111.0,-0.8806249999999998801,34.378174007490493,3,  34.3547,2,280.13416730249935,3, 262.8998,2,    263.3,2,     74.6,2,    30.95,2,     0.13,2,     2.13,2,     -999,9,     -999,9,     -999,9,   2231.2,2,  2325.39,2,   7.5854,2,    24.91,     40.0,2,     -999,9,  -0.8883,2,     -999,9,     -999,9,     -999,     -999,9,    33.60,2,     -999,1,     -999,9,    0.099,1,    4.640,1,    0.158,1,     -999,9,     -999,9,20180411,0527, -67.0004,-166.1341,     -999,9,     -999,9,-999          ,9,     -999,9,     -999,9,     -999,     -999,9,     -999,     -999,9,     -999,9,     -999,9,     -999,9,     -999,9,     -999,9,     -999,9,     -999,9,     -999,9,     -999,9,     -999,9,     -999,9,     -999,9,     -999,9
320620180309  ,S04P       ,56      ,  1,31         ,31         ,2,20180411,0343, -66.9993,-166.1348,     3680,    135.5,0.5155305555555554919,34.578804212887007,2,  34.5738,2,212.07700109496031,2, 211.2992,2,    210.5,2,     86.3,2,    32.67,2,     0.03,2,     2.22,2,    1.617,2,    0.877,2,   0.9600,2,   2253.5,2,  2339.90,2,   7.5627,2,    24.91,     -999,9,     -999,9,   0.5631,2,     -999,9,     -999,9,     -999,     -999,9,     -999,9,     -999,9,     -999,9,    0.082,1,    4.652,1,    0.151,1,  22.7900,2,     -999,9,20180411,0526, -67.0004,-166.1341,     -999,9,     -999,9,-999          ,9,     -999,9,     -999,9,     -999,     -999,9,     -999,     -999,9,     -999,9,     -999,9,     -999,9,     -999,9,     -999,9,     -999,9,     -999,9,     -999,9,     -999,9,     -999,9,     -999,9,     -999,9,     -999,9
320620180309  ,S04P       ,56      ,  1,30         ,30         ,2,20180411,0343, -66.9993,-166.1348,     3680,    165.7,1.2502694444444444333,34.675470559041131,2,  34.6727,2,188.50562921982586,3, 189.7033,3,    186.4,2,     92.9,2,    33.06,2,     0.02,2,     2.24,2,    0.722,2,    0.389,2,   0.3100,2,   2260.6,2,  2347.31,2,   7.5569,2,    24.89,     42.8,2,     -999,9,   1.2452,2,     -999,9,     -999,9,     -999,     -999,9,    34.70,2,     -999,1,     -999,9,    0.073,1,    4.650,1,    0.159,1,  21.8000,2,     -999,9,20180411,0524, -67.0004,-166.1341,     -999,9,     -999,9,-999          ,9,     -999,9,     -999,9,     -999,     -999,9,     -999,     -999,9,     -999,9,     -999,9,     -999,9,     -999,9,     -999,9,     -999,9,     -999,9,     -999,9,     -999,9,     -999,9,     -999,9,     -999,9,     -999,9
320620180309  ,S04P       ,56      ,  1,29         ,29         ,2,20180411,0343, -66.9993,-166.1348,     3680,    217.7,1.4825055555555557429,34.718014767870194,2,  34.7135,2,181.83540077999817,2, 182.7972,2,    181.4,2,     96.5,2,    32.92,2,     0.00,2,     2.24,2,    0.376,2,    0.199,2,   0.0900,2,   2263.7,6,  2351.64,2,   7.5682,2,    24.86,     41.4,2,     -999,9,   1.4803,2,     -999,9,     -999,9,     -999,     -999,9,    34.20,2,     -999,1,     -999,9,    0.068,1,    4.652,1,    0.151,1,  22.0400,2,     -999,9,20180411,0521, -67.0006,-166.1341,     -999,9,     -999,9,-999          ,9,     -999,9,     -999,9,     -999,     -999,9,     -999,     -999,9,     -999,9,     -999,9,     -999,9,     -999,9,     -999,9,     -999,9,     -999,9,     -999,9,     -999,9,     -999,9,     -999,9,     -999,9,     -999,9
320620180309  ,S04P       ,56      ,  1,28         ,28         ,2,20180411,0343, -66.9993,-166.1348,     3680,    267.6,1.4728083333333334970,34.726879978238806,2,  34.7235,2,182.20621087238732,2, 182.7993,2,    182.1,2,     99.3,2,    32.78,2,     0.00,2,     2.23,2,    0.282,2,    0.151,2,   0.1400,2,   2264.7,2,  2353.60,2,   7.5664,6,    24.91,     40.3,2,     -999,9,   1.4719,2,     -999,9,     -999,9,     -999,     -999,9,    34.70,2,     -999,1,     -999,9,    0.063,1,    4.660,1,    0.142,1,  22.0300,2,     -999,9,20180411,0519, -67.0007,-166.1340,     -999,9,     -999,9,-999          ,9,     -999,9,     -999,9,     -999,     -999,9,     -999,     -999,9,     -999,9,     -999,9,     -999,9,     -999,9,     -999,9,     -999,9,     -999,9,     -999,9,     -999,9,     -999,9,     -999,9,     -999,9,     -999,9
320620180309  ,S04P       ,56      ,  1,27         ,27         ,2,20180411,0343, -66.9993,-166.1348,     3680,    317.1,1.4454972222222222111,34.729768924172411,2,  34.7268,2,183.64988611248572,2, 183.3017,2,    183.5,2,    100.6,2,    32.66,2,     0.00,2,     2.23,2,    0.244,2,    0.131,2,   0.0600,2,   2264.7,2,  2353.71,2,   7.5693,2,    24.90,     39.0,2,     -999,9,   1.4443,2,     -999,9,     -999,9,     -999,     -999,9,     -999,9,     -999,1,     -999,9,    0.062,1,    4.662,1,    0.140,1,  21.7500,2,     -999,9,20180411,0517, -67.0006,-166.1340,     -999,9,     -999,9,-999          ,9,     -999,9,     -999,9,     -999,     -999,9,     -999,     -999,9,     -999,9,     -999,9,     -999,9,     -999,9,     -999,9,     -999,9,     -999,9,     -999,9,     -999,9,     -999,9,     -999,9,     -999,9,     -999,9
320620180309  ,S04P       ,56      ,  1,26         ,26         ,2,20180411,0343, -66.9993,-166.1348,     3680,    369.7,1.3834833333333333982,34.731499965849387,2,  34.7284,2,184.70027626587051,2, 184.7993,2,    184.7,2,    103.3,2,    32.62,2,     0.00,2,     2.23,2,    0.210,2,    0.110,2,   0.0900,2,   2263.6,2,  2353.84,2,   7.5727,2,    24.91,     39.3,2,     -999,9,   1.3824,2,     -999,9,     -999,9,     -999,     -999,9,     -999,9,     -999,1,     -999,9,    0.062,1,    4.665,1,    0.137,1,  21.3900,2,     -999,9,20180411,0514, -67.0006,-166.1341,     -999,9,     -999,9,-999          ,9,     -999,9,     -999,9,     -999,     -999,9,     -999,     -999,9,     -999,9,     -999,9,     -999,9,     -999,9,     -999,9,     -999,9,     -999,9,     -999,9,     -999,9,     -999,9,     -999,9,     -999,9,     -999,9
320620180309  ,S04P       ,56      ,  1,25         ,25         ,2,20180411,0343, -66.9993,-166.1348,     3680,    419.7,1.3393694444444446123,34.731388981473096,2,  34.7312,2,185.37004989088896,2, 185.7965,2,    186.1,2,    104.4,2,    32.57,2,     0.00,2,     2.23,2,    0.197,2,    0.097,2,   0.0600,2,   2264.9,2,  2356.97,2,   7.5743,2,    24.90,     40.0,2,     -999,9,   1.3391,2,     -999,9,     -999,9,     -999,     -999,9,     -999,9,     -999,1,     -999,9,    0.061,1,    4.667,1,    0.135,1,  21.6600,2,     -999,9,20180411,0512, -67.0004,-166.1340,     -999,9,     -999,9,-999          ,9,     -999,9,     -999,9,     -999,     -999,9,     -999,     -999,9,     -999,9,     -999,9,     -999,9,     -999,9,     -999,9,     -999,9,     -999,9,     -999,9,     -999,9,     -999,9,     -999,9,     -999,9,     -999,9
320620180309  ,S04P       ,56      ,  1,24         ,24         ,2,20180411,0343, -66.9993,-166.1348,     3680,    471.0,1.3057833333333332959,34.731157437194405,2,  34.7288,2,186.17704390785818,2, 186.4052,2,    185.8,2,    106.1,2,    32.61,2,     0.00,2,     2.23,2,    0.181,2,    0.097,2,  -0.0700,2,   2264.8,2,  2355.06,2,   7.5731,2,    24.91,     -999,9,     -999,9,   1.3045,2,     -999,9,     -999,9,     -999,     -999,9,     -999,9,     -999,9,     -999,9,    0.062,1,    4.667,1,    0.141,1,  21.4600,2,     -999,9,20180411,0509, -67.0002,-166.1341,     -999,9,     -999,9,-999          ,9,     -999,9,     -999,9,     -999,     -999,9,     -999,     -999,9,     -999,9,     -999,9,     -999,9,     -999,9,     -999,9,     -999,9,     -999,9,     -999,9,     -999,9,     -999,9,     -999,9,     -999,9,     -999,9
320620180309  ,S04P       ,56      ,  1,23         ,23         ,2,20180411,0343, -66.9993,-166.1348,     3680,    541.2,1.2564777777777780265,34.730156203947409,2,  34.7276,2,188.19557658126550,2, 187.4997,2,    188.2,2,    107.2,2,    32.52,2,     0.00,2,     2.23,2,    0.171,2,    0.086,2,  -0.0100,2,   2262.3,2,  2358.36,2,   7.5779,2,    24.91,     39.0,2,     -999,9,   1.2557,2,     -999,9,     -999,9,     -999,     -999,9,     -999,9,     -999,1,     -999,9,    0.062,1,    4.667,1,    0.142,1,  21.3700,2,     -999,9,20180411,0507, -67.0001,-166.1341,     -999,9,     -999,9,-999          ,9,     -999,9,     -999,9,     -999,     -999,9,     -999,     -999,9,     -999,9,     -999,9,     -999,9,     -999,9,     -999,9,     -999,9,     -999,9,     -999,9,     -999,9,     -999,9,     -999,9,     -999,9,     -999,9
320620180309  ,S04P       ,56      ,  1,22         ,37         ,2,20180411,0343, -66.9993,-166.1348,     3680,    641.4,1.1823527777777775860,34.728380082394068,2,  34.7259,2,190.00020630069861,2, 189.6033,2,    190.8,2,    110.2,2,    32.54,2,     0.00,2,     2.22,2,     -999,9,     -999,9,     -999,9,   2264.1,2,  2359.65,2,   7.5785,2,    24.91,     40.2,2,     -999,9,   1.1820,2,     -999,9,     -999,9,     -999,     -999,9,     -999,9,     -999,1,     -999,9,    0.061,1,    4.666,1,    0.140,1,     -999,9,     -999,9,20180411,0504, -67.0002,-166.1341,     -999,9,     -999,9,-999          ,9,     -999,9,     -999,9,     -999,     -999,9,     -999,     -999,9,     -999,9,     -999,9,     -999,9,     -999,9,     -999,9,     -999,9,     -999,9,     -999,9,     -999,9,     -999,9,     -999,9,     -999,9,     -999,9
320620180309  ,S04P       ,56      ,  1,21         ,21         ,2,20180411,0343, -66.9993,-166.1348,     3680,    744.6,1.1195944444444441146,34.726066924737914,2,  34.7235,2,192.77696613296905,2, 191.6011,2,    193.2,2,    111.4,2,    32.42,2,     0.00,2,     2.23,2,    0.146,2,    0.069,2,   0.0100,2,   2263.7,2,  2361.50,2,   7.5849,2,    24.91,     40.4,2,     -999,9,   1.1188,2,     -999,9,     -999,9,     -999,     -999,9,     -999,9,     -999,1,     -999,9,    0.061,1,    4.666,1,    0.132,1,  20.2400,2,     -999,9,20180411,0501, -67.0002,-166.1340,     -999,9,     -999,9,-999          ,9,     -999,9,     -999,9,     -999,     -999,9,     -999,     -999,9,     -999,9,     -999,9,     -999,9,     -999,9,     -999,9,     -999,9,     -999,9,     -999,9,     -999,9,     -999,9,     -999,9,     -999,9,     -999,9
320620180309  ,S04P       ,56      ,  1,20         ,20         ,2,20180411,0343, -66.9993,-166.1348,     3680,    844.7,1.0647861111111109889,34.724284010110146,2,  34.7215,2,194.82971017494469,2, 193.9071,2,    194.6,2,    113.5,2,    32.43,2,     0.00,2,     2.23,2,     -999,9,     -999,9,     -999,9,   2263.7,2,  2361.97,2,   7.5846,2,    24.91,     40.1,2,     -999,9,   1.0640,2,     -999,9,     -999,9,     -999,     -999,9,     -999,9,     -999,1,     -999,9,    0.061,1,    4.668,1,    0.131,1,     -999,9,     -999,9,20180411,0458, -67.0001,-166.1341,     -999,9,     -999,9,-999          ,9,     -999,9,     -999,9,     -999,     -999,9,     -999,     -999,9,     -999,9,     -999,9,     -999,9,     -999,9,     -999,9,     -999,9,     -999,9,     -999,9,     -999,9,     -999,9,     -999,9,     -999,9,     -999,9
320620180309  ,S04P       ,56      ,  1,19         ,19         ,2,20180411,0343, -66.9993,-166.1348,     3680,    945.1,1.0030138888888890936,34.721757670269426,2,  34.7198,2,196.63010147102651,2, 196.0980,2,    196.4,2,    115.3,2,    32.42,2,     0.00,2,     2.24,2,    0.132,2,    0.074,2,  -0.0500,2,   2262.3,2,  2361.53,2,   7.5885,2,    24.90,     40.1,2,     -999,9,   1.0007,2,     -999,9,     -999,9,     -999,     -999,9,     -999,9,     -999,1,     -999,9,    0.061,1,    4.668,1,    0.131,1,  19.9600,2,     -999,9,20180411,0454, -66.9999,-166.1341,     -999,9,     -999,9,-999          ,9,     -999,9,     -999,9,     -999,     -999,9,     -999,     -999,9,     -999,9,     -999,9,     -999,9,     -999,9,     -999,9,     -999,9,     -999,9,     -999,9,     -999,9,     -999,9,     -999,9,     -999,9,     -999,9
320620180309  ,S04P       ,56      ,  1,18         ,18         ,2,20180411,0343, -66.9993,-166.1348,     3680,   1046.4,0.9314472222222224262,34.718863632439088,2,  34.7178,2,198.91446482035241,2, 198.0007,2,    198.5,2,    117.1,2,    32.45,2,     0.00,2,     2.24,2,     -999,9,     -999,9,     -999,9,   2262.7,2,  2362.46,2,   7.5897,2,    24.92,     41.7,2,     -999,9,   0.9300,2,     -999,9,     -999,9,     -999,     -999,9,     -999,9,     -999,1,     -999,9,    0.062,1,    4.668,1,    0.130,1,     -999,9,     -999,9,20180411,0451, -66.9997,-166.1342,     -999,9,     -999,9,-999          ,9,     -999,9,     -999,9,     -999,     -999,9,     -999,     -999,9,     -999,9,     -999,9,     -999,9,     -999,9,     -999,9,     -999,9,     -999,9,     -999,9,     -999,9,     -999,9,     -999,9,     -999,9,     -999,9
320620180309  ,S04P       ,56      ,  1,17         ,17         ,2,20180411,0343, -66.9993,-166.1348,     3680,   1148.8,0.8716416666666666480,34.716138986462951,2,  34.7141,2,200.77366825610207,2, 199.2987,2,    200.7,2,    117.9,2,    32.41,2,     0.00,2,     2.24,2,    0.158,2,    0.082,2,   0.0800,2,   2262.2,2,  2362.93,2,   7.5887,2,    24.91,     40.8,2,     -999,9,   0.8711,2,     -999,9,     -999,9,     -999,     -999,9,     -999,9,     -999,1,     -999,9,    0.061,1,    4.669,1,    0.131,1,  20.5600,2,     -999,9,20180411,0448, -66.9993,-166.1344,     -999,9,     -999,9,-999          ,9,     -999,9,     -999,9,     -999,     -999,9,     -999,     -999,9,     -999,9,     -999,9,     -999,9,     -999,9,     -999,9,     -999,9,     -999,9,     -999,9,     -999,9,     -999,9,     -999,9,     -999,9,     -999,9
320620180309  ,S04P       ,56      ,  1,16         ,16         ,2,20180411,0343, -66.9993,-166.1348,     3680,   1251.6,0.8233027777777778278,34.713942729853748,2,  34.7121,2,201.96230938988225,2, 201.5010,2,    201.9,2,    119.9,2,    32.47,2,     0.00,2,     2.24,2,     -999,9,     -999,9,     -999,9,   2261.4,2,  2363.04,2,   7.5920,2,    24.91,     39.6,2,     -999,9,   0.8222,2,     -999,9,     -999,9,     -999,     -999,9,     -999,9,     -999,1,     -999,9,    0.061,1,    4.669,1,    0.129,1,     -999,9,     -999,9,20180411,0445, -66.9989,-166.1346,     -999,9,     -999,9,-999          ,9,     -999,9,     -999,9,     -999,     -999,9,     -999,     -999,9,     -999,9,     -999,9,     -999,9,     -999,9,     -999,9,     -999,9,     -999,9,     -999,9,     -999,9,     -999,9,     -999,9,     -999,9,     -999,9