BOTTLE,20240515CCHHYDRO
EXPOCODE,SECT_ID,STNNBR,CASTNO,SAMPNO,BTLNBR,BTLNBR_FLAG_W,DATE,TIME,LATITUDE,LONGITUDE,DEPTH,CTDPRS,CTDTMP,CTDSAL,CTDSAL_FLAG_W,SALNTY,SALNTY_FLAG_W,CTDOXY,CTDOXY_FLAG_W,CTDOPTOXY,CTDOPTOXY_FLAG_W,OXYGEN,OXYGEN_FLAG_W,SILCAT,SILCAT_FLAG_W,NITRAT,NITRAT_FLAG_W,NITRIT,NITRIT_FLAG_W,PHSPHT,PHSPHT_FLAG_W,CFC-11,CFC-11_FLAG_W,CFC-12,CFC-12_FLAG_W,SF6,SF6_FLAG_W,TCARBN,TCARBN_FLAG_W,ALKALI,ALKALI_FLAG_W,PH_TOT,PH_TOT_FLAG_W,PH_TMP,DOC,DOC_FLAG_W,HELIUM,HELIUM_FLAG_W,REFTMP,REFTMP_FLAG_W,DELC13,DELC13_FLAG_W,DELC14,DELC14_FLAG_W,C14ERR,POC,POC_FLAG_W,TDN,TDN_FLAG_W,TON,TON_FLAG_W,NEON,NEON_FLAG_W,CTDFLUOR,CTDFLUOR_FLAG_W,CTDXMISS,CTDXMISS_FLAG_W,CTDBETA700,CTDBETA700_FLAG_W,N2O,N2O_FLAG_W,ARGON,ARGON_FLAG_W,BTL_DATE,BTL_TIME,BTL_LAT,BTL_LON,KRYPTON,KRYPTON_FLAG_W,XENON,XENON_FLAG_W,HPLC,HPLC_FLAG_W,HE3_HE4_RATIO,HE3_HE4_RATIO_FLAG_W,Nd_143_144_D_EPSILON_BOTTLE,Nd_143_144_D_EPSILON_BOTTLE_FLAG_W,Nd_143_144_D_EPSILON_BOTTLE_ERROR,Nd_143_144_D_RATIO_BOTTLE,Nd_143_144_D_RATIO_BOTTLE_FLAG_W,Nd_143_144_D_RATIO_BOTTLE_ERROR,Nd_D_CONC,Nd_D_CONC_FLAG_W,La_D_CONC_BOTTLE,La_D_CONC_BOTTLE_FLAG_W,Ce_D_CONC_BOTTLE,Ce_D_CONC_BOTTLE_FLAG_W,Pr_D_CONC_BOTTLE,Pr_D_CONC_BOTTLE_FLAG_W,Sm_D_CONC_BOTTLE,Sm_D_CONC_BOTTLE_FLAG_W,Eu_D_CONC_BOTTLE,Eu_D_CONC_BOTTLE_FLAG_W,Gd_D_CONC_BOTTLE,Gd_D_CONC_BOTTLE_FLAG_W,Tb_D_CONC_BOTTLE,Tb_D_CONC_BOTTLE_FLAG_W,Dy_D_CONC_BOTTLE,Dy_D_CONC_BOTTLE_FLAG_W,Ho_D_CONC_BOTTLE,Ho_D_CONC_BOTTLE_FLAG_W,Er_D_CONC_BOTTLE,Er_D_CONC_BOTTLE_FLAG_W,Tm_D_CONC_BOTTLE,Tm_D_CONC_BOTTLE_FLAG_W,Yb_D_CONC_BOTTLE,Yb_D_CONC_BOTTLE_FLAG_W,Lu_D_CONC_BOTTLE,Lu_D_CONC_BOTTLE_FLAG_W
,,,,,,,,,,,METERS,DBAR,ITS-90,PSS-78,,PSS-78,,UMOL/KG,,UMOL/KG,,UMOL/KG,,UMOL/KG,,UMOL/KG,,UMOL/KG,,UMOL/KG,,PMOL/KG,,PMOL/KG,,FMOL/KG,,UMOL/KG,,UMOL/KG,,,,DEG C,UMOL/KG,,NMOL/L,,DEG C,,/MILLE,,/MILLE,,/MILLE,UG/KG,,UMOL/KG,,UMOL/KG,,NMOL/L,,VOLTS,,VOLTS,,VOLTS,,NMOL/KG,,UMOL/L,,,,,,NMOL/L,,NMOL/L,,,,,,10000,,10000,,,,PMOL/KG,,PMOL/L,,PMOL/L,,PMOL/L,,PMOL/L,,PMOL/L,,PMOL/L,,PMOL/L,,PMOL/L,,PMOL/L,,PMOL/L,,PMOL/L,,PMOL/L,,PMOL/L,
320620180309  ,S04P       ,75      ,  1,36         ,36         ,2,20180419,2150, -67.0000,-139.4958,     4329,      6.6,-1.3792916666666663605,33.729745338193098,2,  33.7257,2,353.25669259034913,3, 353.3999,2,    354.3,2,     30.4,2,    24.40,2,     0.29,2,     1.69,2,    5.858,2,    3.265,2,   4.1400,2,   2168.1,6,  2282.93,2,   7.6627,2,    24.92,     -999,9,     -999,9,  -1.3798,2,     -999,9,     -999,9,     -999,     -999,9,     -999,9,     -999,9,     -999,9,    0.274,1,    4.551,1,    0.242,1,  16.6400,2,     -999,9,20180419,2358, -67.0015,-139.4989,     -999,9,     -999,9,-999          ,9,     -999,9,     -999,9,     -999,     -999,9,     -999,     -999,9,     -999,9,     -999,9,     -999,9,     -999,9,     -999,9,     -999,9,     -999,9,     -999,9,     -999,9,     -999,9,     -999,9,     -999,9,     -999,9
320620180309  ,S04P       ,75      ,  1,35         ,35         ,2,20180419,2150, -67.0000,-139.4958,     4329,     18.8,-1.3797027777777777224,33.729827702853832,2,  33.7257,2,353.29167085857085,3, 353.4003,2,    352.6,2,     30.4,2,    24.32,2,     0.29,2,     1.68,2,     -999,9,     -999,9,     -999,9,   2170.0,2,  2286.30,2,   7.6630,2,    24.91,     -999,9,     -999,9,  -1.3802,2,     -999,9,     -999,9,     -999,     -999,9,     -999,9,     -999,9,     -999,9,    0.297,1,    4.552,1,    0.261,1,     -999,9,     -999,9,20180419,2357, -67.0015,-139.4988,     -999,9,     -999,9,-999          ,9,     -999,9,     -999,9,     -999,     -999,9,     -999,     -999,9,     -999,9,     -999,9,     -999,9,     -999,9,     -999,9,     -999,9,     -999,9,     -999,9,     -999,9,     -999,9,     -999,9,     -999,9,     -999,9
320620180309  ,S04P       ,75      ,  1,34         ,34         ,2,20180419,2150, -67.0000,-139.4958,     4329,     39.4,-1.3800083333333335034,33.729747449446442,2,  33.7257,2,353.31160782760332,3, 353.3982,2,    353.2,2,     30.3,2,    24.32,2,     0.29,2,     1.68,2,     -999,9,     -999,9,     -999,9,   2165.0,2,  2283.07,2,   7.6632,2,    24.91,     -999,9,     -999,9,  -1.3801,2,     -999,9,     -999,9,     -999,     -999,9,     -999,9,     -999,9,     -999,9,    0.304,1,    4.554,1,    0.255,1,     -999,9,     -999,9,20180419,2355, -67.0014,-139.4987,     -999,9,     -999,9,-999          ,9,     -999,9,     -999,9,     -999,     -999,9,     -999,     -999,9,     -999,9,     -999,9,     -999,9,     -999,9,     -999,9,     -999,9,     -999,9,     -999,9,     -999,9,     -999,9,     -999,9,     -999,9,     -999,9
320620180309  ,S04P       ,75      ,  1,33         ,33         ,2,20180419,2150, -67.0000,-139.4958,     4329,     64.4,-1.3833194444444443238,33.730189253227003,2,  33.7259,2,353.16985741008983,3, 353.3979,2,    352.8,2,     30.2,2,    24.33,2,     0.29,2,     1.70,2,     -999,9,     -999,9,     -999,9,     -999,9,     -999,9,     -999,9,     -999,     -999,9,     -999,9,  -1.3840,2,     -999,9,     -999,9,     -999,     -999,9,     -999,9,     -999,9,     -999,9,    0.322,1,    4.554,1,    0.250,1,     -999,9,     -999,9,20180419,2353, -67.0014,-139.4986,     -999,9,     -999,9,-999          ,9,     -999,9,     -999,9,     -999,     -999,9,     -999,     -999,9,     -999,9,     -999,9,     -999,9,     -999,9,     -999,9,     -999,9,     -999,9,     -999,9,     -999,9,     -999,9,     -999,9,     -999,9,     -999,9
320620180309  ,S04P       ,75      ,  1,32         ,32         ,2,20180419,2150, -67.0000,-139.4958,     4329,     90.2,-1.3536111111111110983,33.762803560887896,2,  33.7470,2,349.89619931047554,3, 347.3993,2,    350.1,2,     31.8,2,    24.60,2,     0.28,2,     1.71,2,     -999,9,     -999,9,     -999,9,   2169.4,2,  2286.10,2,   7.6608,6,    24.92,     -999,9,     -999,9,  -1.3555,2,     -999,9,     -999,9,     -999,     -999,9,     -999,9,     -999,9,     -999,9,    0.306,1,    4.554,1,    0.261,1,     -999,9,     -999,9,20180419,2351, -67.0014,-139.4985,     -999,9,     -999,9,-999          ,9,     -999,9,     -999,9,     -999,     -999,9,     -999,     -999,9,     -999,9,     -999,9,     -999,9,     -999,9,     -999,9,     -999,9,     -999,9,     -999,9,     -999,9,     -999,9,     -999,9,     -999,9,     -999,9
320620180309  ,S04P       ,75      ,  1,31         ,31         ,2,20180419,2150, -67.0000,-139.4958,     4329,    114.5,-1.2601861111111112290,34.061379944902292,2,  34.0479,2,322.26538717213816,3, 325.1953,2,    322.1,2,     49.5,2,    27.94,2,     0.21,2,     1.98,2,    5.192,2,    2.885,2,   3.4300,2,   2199.8,2,  2304.29,2,   7.6197,2,    24.92,     -999,9,     -999,9,  -1.2803,2,     -999,9,     -999,9,     -999,     -999,9,     -999,9,     -999,9,     -999,9,    0.254,1,    4.564,1,    0.247,1,  18.3900,2,     -999,9,20180419,2349, -67.0014,-139.4985,     -999,9,     -999,9,-999          ,9,     -999,9,     -999,9,     -999,     -999,9,     -999,     -999,9,     -999,9,     -999,9,     -999,9,     -999,9,     -999,9,     -999,9,     -999,9,     -999,9,     -999,9,     -999,9,     -999,9,     -999,9,     -999,9
320620180309  ,S04P       ,75      ,  1,30         ,30         ,2,20180419,2150, -67.0000,-139.4958,     4329,    140.8,0.2503638888888889413,34.345450777004984,2,  34.3502,2,242.67716875733112,3, 247.4978,2,    249.5,2,     68.1,2,    32.65,2,     0.02,2,     2.27,2,     -999,9,     -999,9,     -999,9,     -999,9,     -999,9,     -999,9,     -999,     -999,9,     -999,9,   0.2464,2,     -999,9,     -999,9,     -999,     -999,9,     -999,9,     -999,9,     -999,9,    0.085,1,    4.635,1,    0.162,1,     -999,9,     -999,9,20180419,2347, -67.0014,-139.4985,     -999,9,     -999,9,-999          ,9,     -999,9,     -999,9,     -999,     -999,9,     -999,     -999,9,     -999,9,     -999,9,     -999,9,     -999,9,     -999,9,     -999,9,     -999,9,     -999,9,     -999,9,     -999,9,     -999,9,     -999,9,     -999,9
320620180309  ,S04P       ,75      ,  1,29         ,29         ,2,20180419,2150, -67.0000,-139.4958,     4329,    185.8,1.4817861111111110262,34.578705374353660,2,  34.5738,2,192.83163429959964,3, 194.9009,2,    192.9,2,     80.0,2,    33.97,2,     0.01,2,     2.33,2,    1.348,2,    0.727,2,   0.7000,2,   2257.4,2,  2334.90,2,   7.5482,2,    24.92,     -999,9,     -999,9,   1.4567,2,     -999,9,     -999,9,     -999,     -999,9,     -999,9,     -999,9,     -999,9,    0.072,1,    4.643,1,    0.158,1,  22.7900,2,     -999,9,20180419,2345, -67.0013,-139.4984,     -999,9,     -999,9,-999          ,9,     -999,9,     -999,9,     -999,     -999,9,     -999,     -999,9,     -999,9,     -999,9,     -999,9,     -999,9,     -999,9,     -999,9,     -999,9,     -999,9,     -999,9,     -999,9,     -999,9,     -999,9,     -999,9
320620180309  ,S04P       ,75      ,  1,28         ,28         ,2,20180419,2150, -67.0000,-139.4958,     4329,    236.2,1.7321861111111109821,34.641218133232357,2,  34.6452,2,183.22341192766456,2, 185.0972,2,    182.0,2,     83.6,2,    33.47,2,     0.00,2,     2.30,2,    0.772,2,    0.417,2,   0.3600,2,   2258.0,6,  2341.50,2,   7.5568,2,    24.92,     -999,9,     -999,9,   1.7311,2,     -999,9,     -999,9,     -999,     -999,9,     -999,9,     -999,9,     -999,9,    0.072,1,    4.646,1,    0.152,1,  22.5900,2,     -999,9,20180419,2342, -67.0013,-139.4982,     -999,9,     -999,9,-999          ,9,     -999,9,     -999,9,     -999,     -999,9,     -999,     -999,9,     -999,9,     -999,9,     -999,9,     -999,9,     -999,9,     -999,9,     -999,9,     -999,9,     -999,9,     -999,9,     -999,9,     -999,9,     -999,9
320620180309  ,S04P       ,75      ,  1,27         ,27         ,2,20180419,2150, -67.0000,-139.4958,     4329,    286.9,1.8089194444444443022,34.677964529191087,2,  34.6758,2,182.25311312316083,3, 182.8970,2,    181.3,2,     85.3,2,    33.01,2,     0.00,2,     2.27,2,     -999,9,     -999,9,     -999,9,   2257.7,2,  2345.93,2,   7.5622,2,    24.92,     -999,9,     -999,9,   1.8085,2,     -999,9,     -999,9,     -999,     -999,9,     -999,9,     -999,9,     -999,9,    0.071,1,    4.649,1,    0.149,1,     -999,9,     -999,9,20180419,2340, -67.0013,-139.4982,     -999,9,     -999,9,-999          ,9,     -999,9,     -999,9,     -999,     -999,9,     -999,     -999,9,     -999,9,     -999,9,     -999,9,     -999,9,     -999,9,     -999,9,     -999,9,     -999,9,     -999,9,     -999,9,     -999,9,     -999,9,     -999,9
320620180309  ,S04P       ,75      ,  1,26         ,26         ,2,20180419,2150, -67.0000,-139.4958,     4329,    338.5,1.8113250000000005180,34.695398828912140,2,  34.6896,2,183.35697331420735,3, 183.0996,2,    183.3,2,     86.3,2,    32.57,2,     0.00,2,     2.23,2,     -999,9,     -999,9,     -999,9,   2255.2,2,  2346.39,2,   7.5713,2,    24.93,     -999,9,     -999,9,   1.8105,2,     -999,9,     -999,9,     -999,     -999,9,     -999,9,     -999,9,     -999,9,    0.069,1,    4.649,1,    0.145,1,     -999,9,     -999,9,20180419,2338, -67.0013,-139.4983,     -999,9,     -999,9,-999          ,9,     -999,9,     -999,9,     -999,     -999,9,     -999,     -999,9,     -999,9,     -999,9,     -999,9,     -999,9,     -999,9,     -999,9,     -999,9,     -999,9,     -999,9,     -999,9,     -999,9,     -999,9,     -999,9
320620180309  ,S04P       ,75      ,  1,25         ,25         ,2,20180419,2150, -67.0000,-139.4958,     4329,    388.1,1.8026416666666662536,34.710214727298442,2,  34.7092,2,184.45094102231917,3, 184.4062,2,    184.6,2,     88.2,2,    32.19,2,     0.00,2,     2.20,2,     -999,9,     -999,9,     -999,9,   2257.0,2,  2347.78,2,   7.5792,2,    24.92,     -999,9,     -999,9,   1.8019,2,     -999,9,     -999,9,     -999,     -999,9,     -999,9,     -999,9,     -999,9,    0.069,1,    4.651,1,    0.148,1,     -999,9,     -999,9,20180419,2335, -67.0013,-139.4983,     -999,9,     -999,9,-999          ,9,     -999,9,     -999,9,     -999,     -999,9,     -999,     -999,9,     -999,9,     -999,9,     -999,9,     -999,9,     -999,9,     -999,9,     -999,9,     -999,9,     -999,9,     -999,9,     -999,9,     -999,9,     -999,9
320620180309  ,S04P       ,75      ,  1,24         ,24         ,2,20180419,2150, -67.0000,-139.4958,     4329,    439.0,1.7851222222222220548,34.717094016102585,2,  34.7151,2,185.10719415449765,3, 184.9005,2,    185.3,2,     89.2,2,    32.05,2,     0.00,2,     2.19,2,     -999,9,     -999,9,     -999,9,   2256.0,2,  2350.03,2,   7.5827,2,    24.92,     -999,9,     -999,9,   1.7844,2,     -999,9,     -999,9,     -999,     -999,9,     -999,9,     -999,9,     -999,9,    0.067,1,    4.653,1,    0.142,1,     -999,9,     -999,9,20180419,2333, -67.0013,-139.4984,     -999,9,     -999,9,-999          ,9,     -999,9,     -999,9,     -999,     -999,9,     -999,     -999,9,     -999,9,     -999,9,     -999,9,     -999,9,     -999,9,     -999,9,     -999,9,     -999,9,     -999,9,     -999,9,     -999,9,     -999,9,     -999,9
320620180309  ,S04P       ,75      ,  1,23         ,23         ,2,20180419,2150, -67.0000,-139.4958,     4329,    489.9,1.7374416666666665510,34.723027325416759,2,  34.7210,2,186.08646513984763,3, 185.8019,2,    186.7,2,     90.9,2,    31.95,2,     0.00,2,     2.18,2,     -999,9,     -999,9,     -999,9,     -999,9,     -999,9,     -999,9,     -999,     -999,9,     -999,9,   1.7369,2,     -999,9,     -999,9,     -999,     -999,9,     -999,9,     -999,9,     -999,9,    0.067,1,    4.651,1,    0.144,1,     -999,9,     -999,9,20180419,2331, -67.0013,-139.4984,     -999,9,     -999,9,-999          ,9,     -999,9,     -999,9,     -999,     -999,9,     -999,     -999,9,     -999,9,     -999,9,     -999,9,     -999,9,     -999,9,     -999,9,     -999,9,     -999,9,     -999,9,     -999,9,     -999,9,     -999,9,     -999,9
320620180309  ,S04P       ,75      ,  1,22         ,37         ,2,20180419,2150, -67.0000,-139.4958,     4329,    570.9,1.6506611111111109125,34.728821106429933,2,  34.7268,2,187.76807465156782,3, 187.3021,2,    188.3,2,     94.0,2,    31.89,2,     0.00,2,     2.18,2,    0.278,2,    0.147,2,   0.1700,2,   2257.9,2,  2353.84,2,   7.5872,2,    24.92,     -999,9,     -999,9,   1.6501,2,     -999,9,     -999,9,     -999,     -999,9,     -999,9,     -999,9,     -999,9,    0.064,1,    4.652,1,    0.142,1,  20.7100,2,     -999,9,20180419,2327, -67.0014,-139.4986,     -999,9,     -999,9,-999          ,9,     -999,9,     -999,9,     -999,     -999,9,     -999,     -999,9,     -999,9,     -999,9,     -999,9,     -999,9,     -999,9,     -999,9,     -999,9,     -999,9,     -999,9,     -999,9,     -999,9,     -999,9,     -999,9
320620180309  ,S04P       ,75      ,  1,21         ,21         ,2,20180419,2150, -67.0000,-139.4958,     4329,    671.6,1.5521722222222225085,34.732918508704877,2,  34.7308,2,189.36116049580238,3, 189.0977,2,    189.9,2,     97.6,2,    31.86,2,     0.00,2,     2.19,2,     -999,9,     -999,9,     -999,9,     -999,9,     -999,9,     -999,9,     -999,     -999,9,     -999,9,   1.5514,2,     -999,9,     -999,9,     -999,     -999,9,     -999,9,     -999,9,     -999,9,    0.070,1,    4.652,1,    0.146,1,     -999,9,     -999,9,20180419,2324, -67.0014,-139.4985,     -999,9,     -999,9,-999          ,9,     -999,9,     -999,9,     -999,     -999,9,     -999,     -999,9,     -999,9,     -999,9,     -999,9,     -999,9,     -999,9,     -999,9,     -999,9,     -999,9,     -999,9,     -999,9,     -999,9,     -999,9,     -999,9
320620180309  ,S04P       ,75      ,  1,20         ,20         ,2,20180419,2150, -67.0000,-139.4958,     4329,    773.6,1.4538055555555557952,34.733100624185816,2,  34.7316,2,190.31480846934747,3, 190.4000,2,    190.4,2,    100.4,2,    31.97,2,     0.00,2,     2.19,2,     -999,9,     -999,9,     -999,9,   2258.4,2,  2359.39,2,   7.5889,2,    24.93,     -999,9,     -999,9,   1.4533,2,     -999,9,     -999,9,     -999,     -999,9,     -999,9,     -999,9,     -999,9,    0.063,1,    4.653,1,    0.138,1,     -999,9,     -999,9,20180419,2321, -67.0013,-139.4982,     -999,9,     -999,9,-999          ,9,     -999,9,     -999,9,     -999,     -999,9,     -999,     -999,9,     -999,9,     -999,9,     -999,9,     -999,9,     -999,9,     -999,9,     -999,9,     -999,9,     -999,9,     -999,9,     -999,9,     -999,9,     -999,9
320620180309  ,S04P       ,75      ,  1,19         ,19         ,2,20180419,2150, -67.0000,-139.4958,     4329,    875.1,1.3744638888888891515,34.732197841300156,2,  34.7306,2,191.15301919452119,2, 191.0977,2,    191.0,2,    103.3,2,    32.11,2,     0.00,2,     2.19,2,     -999,9,     -999,9,     -999,9,     -999,9,     -999,9,     -999,9,     -999,     -999,9,     -999,9,   1.3742,2,     -999,9,     -999,9,     -999,     -999,9,     -999,9,     -999,9,     -999,9,    0.063,1,    4.656,1,    0.136,1,     -999,9,     -999,9,20180419,2318, -67.0011,-139.4979,     -999,9,     -999,9,-999          ,9,     -999,9,     -999,9,     -999,     -999,9,     -999,     -999,9,     -999,9,     -999,9,     -999,9,     -999,9,     -999,9,     -999,9,     -999,9,     -999,9,     -999,9,     -999,9,     -999,9,     -999,9,     -999,9
320620180309  ,S04P       ,75      ,  1,18         ,18         ,2,20180419,2150, -67.0000,-139.4958,     4329,    975.7,1.2976694444444445420,34.730357221872318,2,  34.7296,2,192.28471296728750,2, 192.0980,2,    191.9,2,    105.6,2,    32.15,2,     0.00,2,     2.18,2,     -999,9,     -999,9,     -999,9,     -999,9,     -999,9,     -999,9,     -999,     -999,9,     -999,9,   1.2980,2,     -999,9,     -999,9,     -999,     -999,9,     -999,9,     -999,9,     -999,9,    0.062,1,    4.656,1,    0.134,1,     -999,9,     -999,9,20180419,2315, -67.0010,-139.4976,     -999,9,     -999,9,-999          ,9,     -999,9,     -999,9,     -999,     -999,9,     -999,     -999,9,     -999,9,     -999,9,     -999,9,     -999,9,     -999,9,     -999,9,     -999,9,     -999,9,     -999,9,     -999,9,     -999,9,     -999,9,     -999,9
320620180309  ,S04P       ,75      ,  1,17         ,17         ,2,20180419,2150, -67.0000,-139.4958,     4329,   1076.4,1.2300722222222222335,34.728452831839263,2,  34.7270,2,193.71100028811819,2, 193.6043,2,    193.4,2,    108.5,2,    32.22,2,     0.00,2,     2.20,2,    0.165,2,    0.084,2,   0.0600,2,   2262.8,2,  2359.39,2,   7.5898,2,    24.93,     -999,9,     -999,9,   1.2303,2,     -999,9,     -999,9,     -999,     -999,9,     -999,9,     -999,9,     -999,9,    0.062,1,    4.655,1,    0.132,1,  20.0700,2,     -999,9,20180419,2311, -67.0008,-139.4972,     -999,9,     -999,9,-999          ,9,     -999,9,     -999,9,     -999,     -999,9,     -999,     -999,9,     -999,9,     -999,9,     -999,9,     -999,9,     -999,9,     -999,9,     -999,9,     -999,9,     -999,9,     -999,9,     -999,9,     -999,9,     -999,9
320620180309  ,S04P       ,75      ,  1,16         ,16         ,2,20180419,2150, -67.0000,-139.4958,     4329,   1178.4,1.1642777777777775228,34.726228076829521,2,  34.7257,2,195.19512238772580,2, 194.7007,2,    194.9,2,    110.8,2,    32.26,2,     0.00,2,     2.22,2,     -999,9,     -999,9,     -999,9,     -999,9,     -999,9,     -999,9,     -999,     -999,9,     -999,9,   1.1644,2,     -999,9,     -999,9,     -999,     -999,9,     -999,9,     -999,9,     -999,9,    0.062,1,    4.655,1,    0.132,1,     -999,9,     -999,9,20180419,2308, -67.0006,-139.4970,     -999,9,     -999,9,-999          ,9,     -999,9,     -999,9,     -999,     -999,9,     -999,     -999,9,     -999,9,     -999,9,     -999,9,     -999,9,     -999,9,     -999,9,     -999,9,     -999,9,     -999,9,     -999,9,     -999,9,     -999,9,     -999,9