BOTTLE,20240515CCHHYDRO
EXPOCODE,SECT_ID,STNNBR,CASTNO,SAMPNO,BTLNBR,BTLNBR_FLAG_W,DATE,TIME,LATITUDE,LONGITUDE,DEPTH,CTDPRS,CTDTMP,CTDSAL,CTDSAL_FLAG_W,SALNTY,SALNTY_FLAG_W,CTDOXY,CTDOXY_FLAG_W,CTDOPTOXY,CTDOPTOXY_FLAG_W,OXYGEN,OXYGEN_FLAG_W,SILCAT,SILCAT_FLAG_W,NITRAT,NITRAT_FLAG_W,NITRIT,NITRIT_FLAG_W,PHSPHT,PHSPHT_FLAG_W,CFC-11,CFC-11_FLAG_W,CFC-12,CFC-12_FLAG_W,SF6,SF6_FLAG_W,TCARBN,TCARBN_FLAG_W,ALKALI,ALKALI_FLAG_W,PH_TOT,PH_TOT_FLAG_W,PH_TMP,DOC,DOC_FLAG_W,HELIUM,HELIUM_FLAG_W,REFTMP,REFTMP_FLAG_W,DELC13,DELC13_FLAG_W,DELC14,DELC14_FLAG_W,C14ERR,POC,POC_FLAG_W,TDN,TDN_FLAG_W,TON,TON_FLAG_W,NEON,NEON_FLAG_W,CTDFLUOR,CTDFLUOR_FLAG_W,CTDXMISS,CTDXMISS_FLAG_W,CTDBETA700,CTDBETA700_FLAG_W,N2O,N2O_FLAG_W,ARGON,ARGON_FLAG_W,BTL_DATE,BTL_TIME,BTL_LAT,BTL_LON,KRYPTON,KRYPTON_FLAG_W,XENON,XENON_FLAG_W,HPLC,HPLC_FLAG_W,HE3_HE4_RATIO,HE3_HE4_RATIO_FLAG_W,Nd_143_144_D_EPSILON_BOTTLE,Nd_143_144_D_EPSILON_BOTTLE_FLAG_W,Nd_143_144_D_EPSILON_BOTTLE_ERROR,Nd_143_144_D_RATIO_BOTTLE,Nd_143_144_D_RATIO_BOTTLE_FLAG_W,Nd_143_144_D_RATIO_BOTTLE_ERROR,Nd_D_CONC,Nd_D_CONC_FLAG_W,La_D_CONC_BOTTLE,La_D_CONC_BOTTLE_FLAG_W,Ce_D_CONC_BOTTLE,Ce_D_CONC_BOTTLE_FLAG_W,Pr_D_CONC_BOTTLE,Pr_D_CONC_BOTTLE_FLAG_W,Sm_D_CONC_BOTTLE,Sm_D_CONC_BOTTLE_FLAG_W,Eu_D_CONC_BOTTLE,Eu_D_CONC_BOTTLE_FLAG_W,Gd_D_CONC_BOTTLE,Gd_D_CONC_BOTTLE_FLAG_W,Tb_D_CONC_BOTTLE,Tb_D_CONC_BOTTLE_FLAG_W,Dy_D_CONC_BOTTLE,Dy_D_CONC_BOTTLE_FLAG_W,Ho_D_CONC_BOTTLE,Ho_D_CONC_BOTTLE_FLAG_W,Er_D_CONC_BOTTLE,Er_D_CONC_BOTTLE_FLAG_W,Tm_D_CONC_BOTTLE,Tm_D_CONC_BOTTLE_FLAG_W,Yb_D_CONC_BOTTLE,Yb_D_CONC_BOTTLE_FLAG_W,Lu_D_CONC_BOTTLE,Lu_D_CONC_BOTTLE_FLAG_W
,,,,,,,,,,,METERS,DBAR,ITS-90,PSS-78,,PSS-78,,UMOL/KG,,UMOL/KG,,UMOL/KG,,UMOL/KG,,UMOL/KG,,UMOL/KG,,UMOL/KG,,PMOL/KG,,PMOL/KG,,FMOL/KG,,UMOL/KG,,UMOL/KG,,,,DEG C,UMOL/KG,,NMOL/L,,DEG C,,/MILLE,,/MILLE,,/MILLE,UG/KG,,UMOL/KG,,UMOL/KG,,NMOL/L,,VOLTS,,VOLTS,,VOLTS,,NMOL/KG,,UMOL/L,,,,,,NMOL/L,,NMOL/L,,,,,,10000,,10000,,,,PMOL/KG,,PMOL/L,,PMOL/L,,PMOL/L,,PMOL/L,,PMOL/L,,PMOL/L,,PMOL/L,,PMOL/L,,PMOL/L,,PMOL/L,,PMOL/L,,PMOL/L,,PMOL/L,
320620180309  ,P16        ,42      ,  1,36         ,36         ,2,20180405,0005, -73.0129,-149.9712,     4141,      1.7,-1.8152416666666664202,33.837538297369356,2,  33.8347,2,341.57105997190263,2, 340.9992,2,    341.3,2,     46.2,2,    26.66,2,     0.18,2,     1.88,2,    6.485,2,    3.231,2,   3.9400,3,   2181.8,6,  2291.35,2,   7.6440,2,    24.95,     41.4,2,     -999,9,  -1.8158,2,     -999,9,     -999,9,     -999,     -999,9,    28.60,2,     -999,1,     -999,9,    0.153,1,    4.628,1,    0.156,1,  18.0800,2,     -999,9,20180405,0218, -73.0194,-150.0455,     -999,9,     -999,9,-999          ,9,     -999,9,     -999,9,     -999,     -999,9,     -999,     -999,9,     -999,9,     -999,9,     -999,9,     -999,9,     -999,9,     -999,9,     -999,9,     -999,9,     -999,9,     -999,9,     -999,9,     -999,9,     -999,9
320620180309  ,P16        ,42      ,  1,35         ,35         ,2,20180405,0005, -73.0129,-149.9712,     4141,     24.3,-1.8120750000000001023,33.839734674128657,2,  33.8374,2,342.63650717645351,2, 341.0057,2,    341.3,2,     46.2,2,    26.59,2,     0.18,2,     1.89,2,     -999,9,     -999,9,     -999,9,   2179.9,2,  2289.58,2,   7.6448,2,    24.95,     41.9,2,     -999,9,  -1.8128,2,     -999,9,     -999,9,     -999,     -999,9,    29.10,2,     -999,1,     -999,9,    0.151,1,    4.627,1,    0.166,1,     -999,9,     -999,9,20180405,0216, -73.0191,-150.0436,     -999,9,     -999,9,-999          ,9,     -999,9,     -999,9,     -999,     -999,9,     -999,     -999,9,     -999,9,     -999,9,     -999,9,     -999,9,     -999,9,     -999,9,     -999,9,     -999,9,     -999,9,     -999,9,     -999,9,     -999,9,     -999,9
320620180309  ,P16        ,42      ,  1,34         ,34         ,2,20180405,0005, -73.0129,-149.9712,     4141,     49.5,-1.8043861111111110240,33.844450190677598,2,  33.8451,2,341.60673697686110,2, 340.9959,2,    340.4,2,     46.3,2,    26.62,2,     0.18,2,     1.89,2,    6.416,2,    3.231,2,   3.7600,3,   2180.4,2,  2292.54,2,   7.6440,2,    24.95,     42.9,2,     -999,9,  -1.8052,2,     -999,9,     -999,9,     -999,     -999,9,    28.50,2,     -999,1,     -999,9,    0.151,1,    4.629,1,    0.166,1,  18.5900,2,     -999,9,20180405,0214, -73.0188,-150.0414,     -999,9,     -999,9,-999          ,9,     -999,9,     -999,9,     -999,     -999,9,     -999,     -999,9,     -999,9,     -999,9,     -999,9,     -999,9,     -999,9,     -999,9,     -999,9,     -999,9,     -999,9,     -999,9,     -999,9,     -999,9,     -999,9
320620180309  ,P16        ,42      ,  1,33         ,33         ,2,20180405,0005, -73.0129,-149.9712,     4141,     75.0,-1.1146750000000000824,34.088031584434482,2,  34.0931,2,301.30659046994998,3, 288.8975,3,    293.8,2,     54.1,2,    28.87,2,     0.15,2,     2.03,2,     -999,9,     -999,9,     -999,9,   2203.5,2,  2306.10,2,   7.6112,2,    24.95,     42.2,2,     -999,9,  -1.1120,2,     -999,9,     -999,9,     -999,     -999,9,    30.80,2,     -999,1,     -999,9,    0.127,1,    4.641,1,    0.159,1,     -999,9,     -999,9,20180405,0212, -73.0185,-150.0394,     -999,9,     -999,9,-999          ,9,     -999,9,     -999,9,     -999,     -999,9,     -999,     -999,9,     -999,9,     -999,9,     -999,9,     -999,9,     -999,9,     -999,9,     -999,9,     -999,9,     -999,9,     -999,9,     -999,9,     -999,9,     -999,9
320620180309  ,P16        ,42      ,  1,32         ,32         ,2,20180405,0005, -73.0129,-149.9712,     4141,     99.9,-0.4793388888888888699,34.237132999973937,2,  34.2381,2,266.42098808007370,3, 258.7989,2,    261.1,2,     62.7,2,    30.80,2,     0.08,2,     2.12,2,    3.719,6,    1.947,6,   2.5600,3,   2223.3,2,  2313.03,2,   7.5880,2,    24.95,     41.3,2,     -999,9,  -0.4801,2,     -999,9,     -999,9,     -999,     -999,9,     -999,9,     -999,1,     -999,9,    0.091,1,    4.657,1,    0.153,1,  22.0200,6,     -999,9,20180405,0210, -73.0183,-150.0375,     -999,9,     -999,9,-999          ,9,     -999,9,     -999,9,     -999,     -999,9,     -999,     -999,9,     -999,9,     -999,9,     -999,9,     -999,9,     -999,9,     -999,9,     -999,9,     -999,9,     -999,9,     -999,9,     -999,9,     -999,9,     -999,9
320620180309  ,P16        ,42      ,  1,31         ,31         ,2,20180405,0005, -73.0129,-149.9712,     4141,    125.4,-0.0077638888888888879,34.327918126400462,2,  34.3319,2,246.91724486473976,3, 239.5998,2,    240.6,2,     68.4,2,    31.72,2,     0.02,2,     2.18,2,     -999,9,     -999,9,     -999,9,   2233.0,2,  2321.56,2,   7.5794,2,    24.95,     -999,5,     -999,9,  -0.0075,2,     -999,9,     -999,9,     -999,     -999,9,     -999,5,     -999,1,     -999,9,    0.082,1,    4.661,1,    0.167,1,     -999,9,     -999,9,20180405,0208, -73.0181,-150.0360,     -999,9,     -999,9,-999          ,9,     -999,9,     -999,9,     -999,     -999,9,     -999,     -999,9,     -999,9,     -999,9,     -999,9,     -999,9,     -999,9,     -999,9,     -999,9,     -999,9,     -999,9,     -999,9,     -999,9,     -999,9,     -999,9
320620180309  ,P16        ,42      ,  1,30         ,30         ,2,20180405,0005, -73.0129,-149.9712,     4141,    150.5,0.7870138888888889017,34.469239381474225,2,  34.4675,2,218.78050579241636,3, 215.0062,2,    212.5,2,     76.4,2,    32.82,2,     0.00,2,     2.25,2,    2.011,2,    1.074,2,   1.1700,3,   2244.5,2,  2328.54,2,   7.5619,2,    24.96,     42.3,2,     -999,9,   0.7889,2,     -999,9,     -999,9,     -999,     -999,9,    34.50,2,     -999,1,     -999,9,    0.074,1,    4.661,1,    0.151,1,  23.3900,2,     -999,9,20180405,0206, -73.0180,-150.0348,     -999,9,     -999,9,-999          ,9,     -999,9,     -999,9,     -999,     -999,9,     -999,     -999,9,     -999,9,     -999,9,     -999,9,     -999,9,     -999,9,     -999,9,     -999,9,     -999,9,     -999,9,     -999,9,     -999,9,     -999,9,     -999,9
320620180309  ,P16        ,42      ,  1,29         ,29         ,2,20180405,0005, -73.0129,-149.9712,     4141,    201.5,1.5737722222222221280,34.637354339486983,2,  34.6389,2,186.50501292313643,3, 187.8989,3,    183.6,2,     85.8,2,    33.29,2,     0.00,2,     2.28,2,    0.805,2,    0.433,2,   0.5100,3,   2257.4,2,  2342.23,2,   7.5574,6,    24.96,     40.5,2,     -999,9,   1.5728,2,     -999,9,     -999,9,     -999,     -999,9,    34.70,2,     -999,1,     -999,9,    0.067,1,    4.664,1,    0.146,1,  24.3100,2,     -999,9,20180405,0204, -73.0178,-150.0335,     -999,9,     -999,9,-999          ,9,     -999,9,     -999,9,     -999,     -999,9,     -999,     -999,9,     -999,9,     -999,9,     -999,9,     -999,9,     -999,9,     -999,9,     -999,9,     -999,9,     -999,9,     -999,9,     -999,9,     -999,9,     -999,9
320620180309  ,P16        ,42      ,  1,28         ,28         ,2,20180405,0005, -73.0129,-149.9712,     4141,    252.0,1.7502555555555556754,34.696264955303270,2,  34.6950,2,180.63670208965698,2, 181.8937,2,    179.9,2,     89.1,2,    32.83,2,     0.00,2,     2.25,2,    0.445,2,    0.243,2,   0.2300,3,   2258.0,6,  2346.72,2,   7.5649,2,    24.96,     38.4,2,     -999,9,   1.7492,2,     -999,9,     -999,9,     -999,     -999,9,     -999,9,     -999,1,     -999,9,    0.065,1,    4.669,1,    0.141,1,  23.1400,2,     -999,9,20180405,0202, -73.0178,-150.0325,     -999,9,     -999,9,-999          ,9,     -999,9,     -999,9,     -999,     -999,9,     -999,     -999,9,     -999,9,     -999,9,     -999,9,     -999,9,     -999,9,     -999,9,     -999,9,     -999,9,     -999,9,     -999,9,     -999,9,     -999,9,     -999,9
320620180309  ,P16        ,42      ,  1,27         ,27         ,2,20180405,0005, -73.0129,-149.9712,     4141,    301.9,1.7654472222222221678,34.714868305920390,2,  34.7147,2,182.40597177540494,2, 181.7954,2,    181.3,2,     90.8,2,    32.41,2,     0.00,2,     2.22,2,    0.325,2,    0.173,2,   0.0600,3,   2258.6,2,  2348.99,2,   7.5748,2,    24.96,     38.4,2,     -999,9,   1.7645,2,     -999,9,     -999,9,     -999,     -999,9,     -999,9,     -999,1,     -999,9,    0.062,1,    4.673,1,    0.136,1,  22.7900,2,     -999,9,20180405,0159, -73.0177,-150.0315,     -999,9,     -999,9,-999          ,9,     -999,9,     -999,9,     -999,     -999,9,     -999,     -999,9,     -999,9,     -999,9,     -999,9,     -999,9,     -999,9,     -999,9,     -999,9,     -999,9,     -999,9,     -999,9,     -999,9,     -999,9,     -999,9
320620180309  ,P16        ,42      ,  1,26         ,26         ,2,20180405,0005, -73.0129,-149.9712,     4141,    353.1,1.7112083333333332202,34.721084006131179,2,  34.7196,2,183.79104299176441,2, 182.4970,2,    182.7,2,     92.5,2,    32.28,2,     0.00,2,     2.20,2,    0.293,2,    0.152,2,   0.0700,3,   2258.1,2,  2351.42,2,   7.5784,2,    24.96,     40.5,2,     -999,9,   1.7102,2,     -999,9,     -999,9,     -999,     -999,9,    33.50,2,     -999,1,     -999,9,    0.062,1,    4.673,1,    0.134,1,  23.8200,2,     -999,9,20180405,0157, -73.0177,-150.0307,     -999,9,     -999,9,-999          ,9,     -999,9,     -999,9,     -999,     -999,9,     -999,     -999,9,     -999,9,     -999,9,     -999,9,     -999,9,     -999,9,     -999,9,     -999,9,     -999,9,     -999,9,     -999,9,     -999,9,     -999,9,     -999,9
320620180309  ,P16        ,42      ,  1,25         ,25         ,2,20180405,0005, -73.0129,-149.9712,     4141,    403.6,1.6659944444444441114,34.725131361351480,2,  34.7253,2,185.33925578612198,2, 183.4013,2,    184.7,2,     94.2,2,    32.16,2,     0.00,2,     2.19,2,     -999,9,     -999,9,     -999,9,   2257.6,2,  2350.44,2,   7.5804,2,    24.97,     41.0,2,     -999,9,   1.6653,2,     -999,9,     -999,9,     -999,     -999,9,     -999,9,     -999,1,     -999,9,    0.061,1,    4.674,1,    0.136,1,     -999,9,     -999,9,20180405,0154, -73.0177,-150.0299,     -999,9,     -999,9,-999          ,9,     -999,9,     -999,9,     -999,     -999,9,     -999,     -999,9,     -999,9,     -999,9,     -999,9,     -999,9,     -999,9,     -999,9,     -999,9,     -999,9,     -999,9,     -999,9,     -999,9,     -999,9,     -999,9
320620180309  ,P16        ,42      ,  1,24         ,24         ,2,20180405,0005, -73.0129,-149.9712,     4141,    454.1,1.6206555555555557380,34.728132961102737,2,  34.7270,2,186.73056900710532,2, 183.8999,2,    185.1,2,     95.7,2,    32.07,2,     0.00,2,     2.16,2,    0.245,2,    0.138,2,   0.1400,3,   2257.4,2,  2353.00,2,   7.5827,2,    24.96,     -999,9,     -999,9,   1.6198,2,     -999,9,     -999,9,     -999,     -999,9,     -999,9,     -999,9,     -999,9,    0.063,1,    4.674,1,    0.133,1,  22.0400,2,     -999,9,20180405,0152, -73.0177,-150.0290,     -999,9,     -999,9,-999          ,9,     -999,9,     -999,9,     -999,     -999,9,     -999,     -999,9,     -999,9,     -999,9,     -999,9,     -999,9,     -999,9,     -999,9,     -999,9,     -999,9,     -999,9,     -999,9,     -999,9,     -999,9,     -999,9
320620180309  ,P16        ,42      ,  1,23         ,23         ,2,20180405,0005, -73.0129,-149.9712,     4141,    505.5,1.5770805555555555966,34.729686294565184,2,  34.7282,2,186.36942341824235,2, 184.9007,2,    186.5,2,     97.3,2,    32.08,2,     0.00,2,     2.17,2,     -999,9,     -999,9,     -999,9,   2257.9,2,  2356.14,2,   7.5835,2,    24.96,     39.8,2,     -999,9,   1.5761,2,     -999,9,     -999,9,     -999,     -999,9,     -999,9,     -999,1,     -999,9,    0.062,1,    4.674,1,    0.133,1,     -999,9,     -999,9,20180405,0147, -73.0177,-150.0275,     -999,9,     -999,9,-999          ,9,     -999,9,     -999,9,     -999,     -999,9,     -999,     -999,9,     -999,9,     -999,9,     -999,9,     -999,9,     -999,9,     -999,9,     -999,9,     -999,9,     -999,9,     -999,9,     -999,9,     -999,9,     -999,9
320620180309  ,P16        ,42      ,  1,22         ,37         ,2,20180405,0005, -73.0129,-149.9712,     4141,    606.6,1.4802333333333330678,34.731478789259320,2,  34.7306,2,187.58582683116779,2, 186.6958,2,    187.7,2,    100.7,2,    32.13,2,     0.00,2,     2.18,2,    0.196,2,    0.104,2,   0.0400,3,   2261.0,2,  2355.39,2,   7.5855,2,    24.95,     39.4,2,     -999,9,   1.4794,2,     -999,9,     -999,9,     -999,     -999,9,     -999,9,     -999,1,     -999,9,    0.062,1,    4.672,1,    0.136,1,  21.3400,2,     -999,9,20180405,0144, -73.0176,-150.0263,     -999,9,     -999,9,-999          ,9,     -999,9,     -999,9,     -999,     -999,9,     -999,     -999,9,     -999,9,     -999,9,     -999,9,     -999,9,     -999,9,     -999,9,     -999,9,     -999,9,     -999,9,     -999,9,     -999,9,     -999,9,     -999,9
320620180309  ,P16        ,42      ,  1,21         ,21         ,2,20180405,0005, -73.0129,-149.9712,     4141,    708.3,1.3913222222222221269,34.731108259171819,2,  34.7343,2,188.49063895788260,2, 188.1951,2,    187.7,2,    103.8,2,    32.23,2,     0.00,2,     2.18,2,     -999,9,     -999,9,     -999,9,   2259.5,2,  2355.55,2,   7.5841,2,    24.96,     39.2,2,     -999,9,   1.3904,2,     -999,9,     -999,9,     -999,     -999,9,     -999,9,     -999,1,     -999,9,    0.061,1,    4.673,1,    0.131,1,     -999,9,     -999,9,20180405,0140, -73.0175,-150.0249,     -999,9,     -999,9,-999          ,9,     -999,9,     -999,9,     -999,     -999,9,     -999,     -999,9,     -999,9,     -999,9,     -999,9,     -999,9,     -999,9,     -999,9,     -999,9,     -999,9,     -999,9,     -999,9,     -999,9,     -999,9,     -999,9
320620180309  ,P16        ,42      ,  1,20         ,20         ,2,20180405,0005, -73.0129,-149.9712,     4141,    809.9,1.3159916666666668927,34.729625743763933,2,  34.7294,2,189.28673240394789,2, 189.6987,2,    188.4,2,    106.6,2,    32.33,2,     0.00,2,     2.18,2,    0.157,2,    0.084,2,   0.0300,3,   2261.6,2,  2357.90,2,   7.5837,2,    24.96,     40.8,2,     -999,9,   1.3150,2,     -999,9,     -999,9,     -999,     -999,9,     -999,9,     -999,1,     -999,9,    0.061,1,    4.673,1,    0.132,1,  21.4600,2,     -999,9,20180405,0137, -73.0174,-150.0235,     -999,9,     -999,9,-999          ,9,     -999,9,     -999,9,     -999,     -999,9,     -999,     -999,9,     -999,9,     -999,9,     -999,9,     -999,9,     -999,9,     -999,9,     -999,9,     -999,9,     -999,9,     -999,9,     -999,9,     -999,9,     -999,9
320620180309  ,P16        ,42      ,  1,19         ,19         ,2,20180405,0005, -73.0129,-149.9712,     4141,    911.9,1.2481583333333334807,34.728022834783637,2,  34.7280,2,190.97302306654967,2, 191.0026,2,    190.0,2,    108.9,2,    32.36,2,     0.00,2,     2.21,2,    0.141,2,    0.081,2,   0.0200,3,   2262.0,2,  2360.51,2,   7.5843,6,    24.97,     41.4,2,     -999,9,   1.2469,2,     -999,9,     -999,9,     -999,     -999,9,     -999,9,     -999,1,     -999,9,    0.061,1,    4.673,1,    0.130,1,  21.3200,2,     -999,9,20180405,0134, -73.0173,-150.0220,     -999,9,     -999,9,-999          ,9,     -999,9,     -999,9,     -999,     -999,9,     -999,     -999,9,     -999,9,     -999,9,     -999,9,     -999,9,     -999,9,     -999,9,     -999,9,     -999,9,     -999,9,     -999,9,     -999,9,     -999,9,     -999,9
320620180309  ,P16        ,42      ,  1,18         ,18         ,2,20180405,0005, -73.0129,-149.9712,     4141,   1013.3,1.1875055555555555920,34.726150723837087,2,  34.7257,2,193.01238502655033,2, 192.3017,2,    191.7,2,    111.0,2,    32.34,2,     0.00,2,     2.19,2,     -999,9,     -999,9,     -999,9,   2263.8,2,  2359.88,2,   7.5821,2,    24.96,     39.4,2,     -999,9,   1.1865,2,     -999,9,     -999,9,     -999,     -999,9,     -999,9,     -999,1,     -999,9,    0.061,1,    4.673,1,    0.131,1,     -999,9,     -999,9,20180405,0130, -73.0172,-150.0203,     -999,9,     -999,9,-999          ,9,     -999,9,     -999,9,     -999,     -999,9,     -999,     -999,9,     -999,9,     -999,9,     -999,9,     -999,9,     -999,9,     -999,9,     -999,9,     -999,9,     -999,9,     -999,9,     -999,9,     -999,9,     -999,9
320620180309  ,P16        ,42      ,  1,17         ,17         ,2,20180405,0005, -73.0129,-149.9712,     4141,   1115.7,1.1183916666666666728,34.723675722102570,2,  34.7237,2,194.03155507870315,2, 193.6999,2,    193.2,2,    113.2,2,    32.32,2,     0.00,2,     2.19,2,    0.125,2,    0.061,2,   0.0000,3,   2262.0,2,  2360.45,2,   7.5886,2,    24.97,     40.0,2,     -999,9,   1.1176,2,     -999,9,     -999,9,     -999,     -999,9,    33.50,2,     -999,1,     -999,9,    0.062,1,    4.673,1,    0.130,1,  21.4500,2,     -999,9,20180405,0126, -73.0171,-150.0183,     -999,9,     -999,9,-999          ,9,     -999,9,     -999,9,     -999,     -999,9,     -999,     -999,9,     -999,9,     -999,9,     -999,9,     -999,9,     -999,9,     -999,9,     -999,9,     -999,9,     -999,9,     -999,9,     -999,9,     -999,9,     -999,9
320620180309  ,P16        ,42      ,  1,16         ,16         ,2,20180405,0005, -73.0129,-149.9712,     4141,   1217.6,1.0605194444444445701,34.721453601261778,2,  34.7206,2,196.64196443883242,2, 195.0983,2,    195.7,2,    114.8,2,    32.26,2,     0.00,2,     2.19,2,    0.121,2,    0.060,2,   0.0600,3,   2261.7,2,  2360.80,2,   7.5930,2,    24.96,     38.8,2,     -999,9,   1.0598,2,     -999,9,     -999,9,     -999,     -999,9,     -999,9,     -999,1,     -999,9,    0.061,1,    4.674,1,    0.128,1,  20.8600,2,     -999,9,20180405,0123, -73.0170,-150.0164,     -999,9,     -999,9,-999          ,9,     -999,9,     -999,9,     -999,     -999,9,     -999,     -999,9,     -999,9,     -999,9,     -999,9,     -999,9,     -999,9,     -999,9,     -999,9,     -999,9,     -999,9,     -999,9,     -999,9,     -999,9,     -999,9