BOTTLE,20240515CCHHYDRO
EXPOCODE,SECT_ID,STNNBR,CASTNO,SAMPNO,BTLNBR,BTLNBR_FLAG_W,DATE,TIME,LATITUDE,LONGITUDE,DEPTH,CTDPRS,CTDTMP,CTDSAL,CTDSAL_FLAG_W,SALNTY,SALNTY_FLAG_W,CTDOXY,CTDOXY_FLAG_W,CTDOPTOXY,CTDOPTOXY_FLAG_W,OXYGEN,OXYGEN_FLAG_W,SILCAT,SILCAT_FLAG_W,NITRAT,NITRAT_FLAG_W,NITRIT,NITRIT_FLAG_W,PHSPHT,PHSPHT_FLAG_W,CFC-11,CFC-11_FLAG_W,CFC-12,CFC-12_FLAG_W,SF6,SF6_FLAG_W,TCARBN,TCARBN_FLAG_W,ALKALI,ALKALI_FLAG_W,PH_TOT,PH_TOT_FLAG_W,PH_TMP,DOC,DOC_FLAG_W,HELIUM,HELIUM_FLAG_W,REFTMP,REFTMP_FLAG_W,DELC13,DELC13_FLAG_W,DELC14,DELC14_FLAG_W,C14ERR,POC,POC_FLAG_W,TDN,TDN_FLAG_W,TON,TON_FLAG_W,NEON,NEON_FLAG_W,CTDFLUOR,CTDFLUOR_FLAG_W,CTDXMISS,CTDXMISS_FLAG_W,CTDBETA700,CTDBETA700_FLAG_W,N2O,N2O_FLAG_W,ARGON,ARGON_FLAG_W,BTL_DATE,BTL_TIME,BTL_LAT,BTL_LON,KRYPTON,KRYPTON_FLAG_W,XENON,XENON_FLAG_W,HPLC,HPLC_FLAG_W,HE3_HE4_RATIO,HE3_HE4_RATIO_FLAG_W,Nd_143_144_D_EPSILON_BOTTLE,Nd_143_144_D_EPSILON_BOTTLE_FLAG_W,Nd_143_144_D_EPSILON_BOTTLE_ERROR,Nd_143_144_D_RATIO_BOTTLE,Nd_143_144_D_RATIO_BOTTLE_FLAG_W,Nd_143_144_D_RATIO_BOTTLE_ERROR,Nd_D_CONC,Nd_D_CONC_FLAG_W,La_D_CONC_BOTTLE,La_D_CONC_BOTTLE_FLAG_W,Ce_D_CONC_BOTTLE,Ce_D_CONC_BOTTLE_FLAG_W,Pr_D_CONC_BOTTLE,Pr_D_CONC_BOTTLE_FLAG_W,Sm_D_CONC_BOTTLE,Sm_D_CONC_BOTTLE_FLAG_W,Eu_D_CONC_BOTTLE,Eu_D_CONC_BOTTLE_FLAG_W,Gd_D_CONC_BOTTLE,Gd_D_CONC_BOTTLE_FLAG_W,Tb_D_CONC_BOTTLE,Tb_D_CONC_BOTTLE_FLAG_W,Dy_D_CONC_BOTTLE,Dy_D_CONC_BOTTLE_FLAG_W,Ho_D_CONC_BOTTLE,Ho_D_CONC_BOTTLE_FLAG_W,Er_D_CONC_BOTTLE,Er_D_CONC_BOTTLE_FLAG_W,Tm_D_CONC_BOTTLE,Tm_D_CONC_BOTTLE_FLAG_W,Yb_D_CONC_BOTTLE,Yb_D_CONC_BOTTLE_FLAG_W,Lu_D_CONC_BOTTLE,Lu_D_CONC_BOTTLE_FLAG_W
,,,,,,,,,,,METERS,DBAR,ITS-90,PSS-78,,PSS-78,,UMOL/KG,,UMOL/KG,,UMOL/KG,,UMOL/KG,,UMOL/KG,,UMOL/KG,,UMOL/KG,,PMOL/KG,,PMOL/KG,,FMOL/KG,,UMOL/KG,,UMOL/KG,,,,DEG C,UMOL/KG,,NMOL/L,,DEG C,,/MILLE,,/MILLE,,/MILLE,UG/KG,,UMOL/KG,,UMOL/KG,,NMOL/L,,VOLTS,,VOLTS,,VOLTS,,NMOL/KG,,UMOL/L,,,,,,NMOL/L,,NMOL/L,,,,,,10000,,10000,,,,PMOL/KG,,PMOL/L,,PMOL/L,,PMOL/L,,PMOL/L,,PMOL/L,,PMOL/L,,PMOL/L,,PMOL/L,,PMOL/L,,PMOL/L,,PMOL/L,,PMOL/L,,PMOL/L,
320620180309  ,S04P       ,83      ,  1,36         ,36         ,2,20180422,1032, -66.9999,-127.7489,     4473,     13.2,-1.6152833333333331822,33.651119629098211,2,  33.6487,2,352.01123180502253,2, 349.8996,2,    351.8,2,     35.7,2,    25.79,2,     0.23,2,     1.77,2,    6.033,2,    3.297,2,   3.8100,2,   2164.0,6,  2276.13,2,   7.6607,2,    24.89,     -999,9,     -999,9,  -1.6158,2,     -999,9,     -999,9,     -999,     -999,9,     -999,9,     -999,9,     -999,9,    0.294,1,    4.555,1,    0.253,1,  17.1300,2,     -999,9,20180422,1247, -67.0004,-127.7500,     -999,9,     -999,9,-999          ,9,     -999,9,     -999,9,     -999,     -999,9,     -999,     -999,9,     -999,9,     -999,9,     -999,9,     -999,9,     -999,9,     -999,9,     -999,9,     -999,9,     -999,9,     -999,9,     -999,9,     -999,9,     -999,9
320620180309  ,S04P       ,83      ,  1,35         ,35         ,2,20180422,1032, -66.9999,-127.7489,     4473,     34.4,-1.5880249999999997979,33.662833750312544,2,  33.6575,2,350.02920107959966,2, 348.0004,2,    351.2,2,     37.4,2,    26.01,2,     0.23,2,     1.79,2,     -999,9,     -999,9,     -999,9,   2168.3,2,  2279.55,2,   7.6572,2,    24.89,     -999,9,     -999,9,  -1.5954,2,     -999,9,     -999,9,     -999,     -999,9,     -999,9,     -999,9,     -999,9,    0.315,1,    4.555,1,    0.270,1,     -999,9,     -999,9,20180422,1245, -67.0003,-127.7499,     -999,9,     -999,9,-999          ,9,     -999,9,     -999,9,     -999,     -999,9,     -999,     -999,9,     -999,9,     -999,9,     -999,9,     -999,9,     -999,9,     -999,9,     -999,9,     -999,9,     -999,9,     -999,9,     -999,9,     -999,9,     -999,9
320620180309  ,S04P       ,83      ,  1,34         ,34         ,2,20180422,1032, -66.9999,-127.7489,     4473,     59.4,-1.5908194444444445637,33.670609292328386,2,  33.6704,2,349.68427906285871,2, 346.5034,2,    350.7,2,     38.6,2,    26.19,2,     0.22,2,     1.81,2,     -999,9,     -999,9,     -999,9,     -999,9,     -999,9,     -999,9,     -999,     -999,9,     -999,9,  -1.5917,2,     -999,9,     -999,9,     -999,     -999,9,     -999,9,     -999,9,     -999,9,    0.367,1,    4.558,1,    0.330,1,     -999,9,     -999,9,20180422,1243, -67.0002,-127.7499,     -999,9,     -999,9,-999          ,9,     -999,9,     -999,9,     -999,     -999,9,     -999,     -999,9,     -999,9,     -999,9,     -999,9,     -999,9,     -999,9,     -999,9,     -999,9,     -999,9,     -999,9,     -999,9,     -999,9,     -999,9,     -999,9
320620180309  ,S04P       ,83      ,  1,33         ,33         ,2,20180422,1032, -66.9999,-127.7489,     4473,     84.6,-1.4568111111111112788,33.923331512725589,2,  33.8977,2,326.11043069461334,2, 327.8024,2,    323.6,2,     44.0,2,    28.19,2,     0.21,2,     1.96,2,    5.343,2,    2.913,2,   3.2500,2,   2187.4,2,  2292.67,2,   7.6315,2,    24.90,     -999,9,     -999,9,  -1.4636,2,     -999,9,     -999,9,     -999,     -999,9,     -999,9,     -999,9,     -999,9,    0.247,1,    4.563,1,    0.266,1,  18.3600,2,     -999,9,20180422,1241, -67.0002,-127.7499,     -999,9,     -999,9,-999          ,9,     -999,9,     -999,9,     -999,     -999,9,     -999,     -999,9,     -999,9,     -999,9,     -999,9,     -999,9,     -999,9,     -999,9,     -999,9,     -999,9,     -999,9,     -999,9,     -999,9,     -999,9,     -999,9
320620180309  ,S04P       ,83      ,  1,32         ,32         ,2,20180422,1032, -66.9999,-127.7489,     4473,    110.2,-1.0433888888888889213,34.026955479141932,2,  34.0326,2,314.92134129067392,3, 310.6994,2,    308.4,2,     48.2,2,    29.99,2,     0.12,2,     2.06,2,     -999,9,     -999,9,     -999,9,     -999,9,     -999,9,     -999,9,     -999,     -999,9,     -999,9,  -1.0441,2,     -999,9,     -999,9,     -999,     -999,9,     -999,9,     -999,9,     -999,9,    0.082,1,    4.637,1,    0.159,1,     -999,9,     -999,9,20180422,1239, -67.0003,-127.7500,     -999,9,     -999,9,-999          ,9,     -999,9,     -999,9,     -999,     -999,9,     -999,     -999,9,     -999,9,     -999,9,     -999,9,     -999,9,     -999,9,     -999,9,     -999,9,     -999,9,     -999,9,     -999,9,     -999,9,     -999,9,     -999,9
320620180309  ,S04P       ,83      ,  1,31         ,31         ,2,20180422,1032, -66.9999,-127.7489,     4473,    135.5,-0.4211083333333333623,34.142992956826497,2,  34.1375,2,297.59981396389816,3, 285.2009,2,    285.7,2,     54.0,2,    31.30,2,     0.06,2,     2.12,2,     -999,9,     -999,9,     -999,9,   2205.9,2,  2306.24,2,   7.5965,2,    24.88,     -999,9,     -999,9,  -0.3984,2,     -999,9,     -999,9,     -999,     -999,9,     -999,9,     -999,9,     -999,9,    0.076,1,    4.640,1,    0.151,1,     -999,9,     -999,9,20180422,1237, -67.0004,-127.7500,     -999,9,     -999,9,-999          ,9,     -999,9,     -999,9,     -999,     -999,9,     -999,     -999,9,     -999,9,     -999,9,     -999,9,     -999,9,     -999,9,     -999,9,     -999,9,     -999,9,     -999,9,     -999,9,     -999,9,     -999,9,     -999,9
320620180309  ,S04P       ,83      ,  1,30         ,30         ,2,20180422,1032, -66.9999,-127.7489,     4473,    165.5,0.5625583333333333824,34.314074251668423,2,  34.3221,2,254.96060471066014,3, 244.8030,2,    241.1,2,     64.5,2,    33.41,2,     0.03,2,     2.27,2,    3.123,2,    1.709,2,   1.8900,2,   2233.3,2,  2317.53,2,   7.5682,2,    24.88,     -999,9,     -999,9,   0.5636,2,     -999,9,     -999,9,     -999,     -999,9,     -999,9,     -999,9,     -999,9,    0.078,1,    4.642,1,    0.154,1,  22.0700,2,     -999,9,20180422,1235, -67.0004,-127.7501,     -999,9,     -999,9,-999          ,9,     -999,9,     -999,9,     -999,     -999,9,     -999,     -999,9,     -999,9,     -999,9,     -999,9,     -999,9,     -999,9,     -999,9,     -999,9,     -999,9,     -999,9,     -999,9,     -999,9,     -999,9,     -999,9
320620180309  ,S04P       ,83      ,  1,29         ,29         ,2,20180422,1032, -66.9999,-127.7489,     4473,    216.2,1.5506500000000000838,34.528288511004298,2,  34.5279,2,191.51286937647308,3, 195.6015,2,    196.4,2,     75.7,2,    34.47,2,     0.02,2,     2.34,2,     -999,9,     -999,9,     -999,9,   2253.8,2,  2346.42,3,   7.5522,2,    24.88,     -999,9,     -999,9,   1.5529,2,     -999,9,     -999,9,     -999,     -999,9,     -999,9,     -999,9,     -999,9,    0.068,1,    4.649,1,    0.146,1,     -999,9,     -999,9,20180422,1233, -67.0004,-127.7500,     -999,9,     -999,9,-999          ,9,     -999,9,     -999,9,     -999,     -999,9,     -999,     -999,9,     -999,9,     -999,9,     -999,9,     -999,9,     -999,9,     -999,9,     -999,9,     -999,9,     -999,9,     -999,9,     -999,9,     -999,9,     -999,9
320620180309  ,S04P       ,83      ,  1,28         ,28         ,2,20180422,1032, -66.9999,-127.7489,     4473,    266.6,1.9053611111111112830,34.604812696187892,2,  34.6036,2,180.72194104669029,2, 184.0017,2,    180.2,2,     80.1,2,    34.25,2,     0.00,2,     2.32,2,    0.888,2,    0.473,2,   0.4500,2,   2257.1,2,  2340.97,3,   7.5529,2,    24.88,     -999,9,     -999,9,   1.9065,2,     -999,9,     -999,9,     -999,     -999,9,     -999,9,     -999,9,     -999,9,    0.069,1,    4.649,1,    0.145,1,  23.6200,2,     -999,9,20180422,1230, -67.0002,-127.7499,     -999,9,     -999,9,-999          ,9,     -999,9,     -999,9,     -999,     -999,9,     -999,     -999,9,     -999,9,     -999,9,     -999,9,     -999,9,     -999,9,     -999,9,     -999,9,     -999,9,     -999,9,     -999,9,     -999,9,     -999,9,     -999,9
320620180309  ,S04P       ,83      ,  1,27         ,27         ,2,20180422,1032, -66.9999,-127.7489,     4473,    317.3,1.9772750000000003379,34.644206254504091,2,  34.6438,2,176.94539203888212,2, 179.9978,2,    177.1,2,     82.1,2,    33.77,2,     0.00,2,     2.25,2,     -999,9,     -999,9,     -999,9,   2258.9,2,  2342.14,2,   7.5632,2,    24.87,     -999,9,     -999,9,   1.9763,2,     -999,9,     -999,9,     -999,     -999,9,     -999,9,     -999,9,     -999,9,    0.069,1,    4.651,1,    0.142,1,     -999,9,     -999,9,20180422,1228, -67.0000,-127.7497,     -999,9,     -999,9,-999          ,9,     -999,9,     -999,9,     -999,     -999,9,     -999,     -999,9,     -999,9,     -999,9,     -999,9,     -999,9,     -999,9,     -999,9,     -999,9,     -999,9,     -999,9,     -999,9,     -999,9,     -999,9,     -999,9
320620180309  ,S04P       ,83      ,  1,26         ,38         ,2,20180422,1032, -66.9999,-127.7489,     4473,    367.8,1.9664777777777777690,34.665324372833759,2,  34.6654,2,176.73039606380709,2, 179.5972,2,    177.9,2,     83.7,2,    33.41,2,     0.00,2,     2.25,2,    0.514,2,    0.275,2,   0.2300,2,   2258.9,6,  2344.44,2,   7.5619,2,    24.90,     -999,9,     -999,9,   1.9655,2,     -999,9,     -999,9,     -999,     -999,9,     -999,9,     -999,9,     -999,9,    0.066,1,    4.653,1,    0.139,1,  22.1000,2,     -999,9,20180422,1226, -66.9997,-127.7495,     -999,9,     -999,9,-999          ,9,     -999,9,     -999,9,     -999,     -999,9,     -999,     -999,9,     -999,9,     -999,9,     -999,9,     -999,9,     -999,9,     -999,9,     -999,9,     -999,9,     -999,9,     -999,9,     -999,9,     -999,9,     -999,9
320620180309  ,S04P       ,83      ,  1,25         ,25         ,2,20180422,1032, -66.9999,-127.7489,     4473,    419.3,1.9650750000000003492,34.683694254896920,2,  34.6835,2,178.04094569369641,2, 179.8005,2,    178.8,2,     84.8,2,    33.08,2,     0.00,2,     2.23,2,     -999,9,     -999,9,     -999,9,   2257.9,2,  2345.55,2,   7.5687,6,    24.88,     -999,9,     -999,9,   1.9641,2,     -999,9,     -999,9,     -999,     -999,9,     -999,9,     -999,9,     -999,9,    0.067,1,    4.653,1,    0.143,1,     -999,9,     -999,9,20180422,1223, -66.9997,-127.7495,     -999,9,     -999,9,-999          ,9,     -999,9,     -999,9,     -999,     -999,9,     -999,     -999,9,     -999,9,     -999,9,     -999,9,     -999,9,     -999,9,     -999,9,     -999,9,     -999,9,     -999,9,     -999,9,     -999,9,     -999,9,     -999,9
320620180309  ,S04P       ,83      ,  1,24         ,24         ,2,20180422,1032, -66.9999,-127.7489,     4473,    469.4,1.9500833333333338349,34.696328014127957,2,  34.6954,2,179.88980821090385,2, 180.8988,2,    180.5,2,     85.8,2,    32.77,2,     0.00,2,     2.22,2,     -999,9,     -999,9,     -999,9,     -999,9,     -999,9,     -999,9,     -999,     -999,9,     -999,9,   1.9492,2,     -999,9,     -999,9,     -999,     -999,9,     -999,9,     -999,9,     -999,9,    0.064,1,    4.654,1,    0.139,1,     -999,9,     -999,9,20180422,1221, -66.9998,-127.7496,     -999,9,     -999,9,-999          ,9,     -999,9,     -999,9,     -999,     -999,9,     -999,     -999,9,     -999,9,     -999,9,     -999,9,     -999,9,     -999,9,     -999,9,     -999,9,     -999,9,     -999,9,     -999,9,     -999,9,     -999,9,     -999,9
320620180309  ,S04P       ,83      ,  1,23         ,23         ,2,20180422,1032, -66.9999,-127.7489,     4473,    539.4,1.9063111111111115115,34.707636532826939,2,  34.7070,2,183.15475601793972,2, 182.6964,2,    182.4,2,     87.0,2,    32.44,2,     0.00,2,     2.19,2,    0.326,2,    0.171,2,   0.0700,2,   2255.4,2,  2354.36,3,   7.5807,2,    24.90,     -999,9,     -999,9,   1.9053,2,     -999,9,     -999,9,     -999,     -999,9,     -999,9,     -999,9,     -999,9,    0.065,1,    4.654,1,    0.139,1,  21.4900,2,     -999,9,20180422,1218, -67.0002,-127.7498,     -999,9,     -999,9,-999          ,9,     -999,9,     -999,9,     -999,     -999,9,     -999,     -999,9,     -999,9,     -999,9,     -999,9,     -999,9,     -999,9,     -999,9,     -999,9,     -999,9,     -999,9,     -999,9,     -999,9,     -999,9,     -999,9
320620180309  ,S04P       ,83      ,  1,22         ,37         ,2,20180422,1032, -66.9999,-127.7489,     4473,    640.6,1.8248083333333333655,34.720368218926275,2,  34.7202,2,185.48144256955737,2, 185.1999,2,    185.4,2,     89.5,2,    32.12,2,     0.00,2,     2.17,2,     -999,9,     -999,9,     -999,9,     -999,9,     -999,9,     -999,9,     -999,     -999,9,     -999,9,   1.8239,2,     -999,9,     -999,9,     -999,     -999,9,     -999,9,     -999,9,     -999,9,    0.064,1,    4.657,1,    0.137,1,     -999,9,     -999,9,20180422,1215, -67.0006,-127.7499,     -999,9,     -999,9,-999          ,9,     -999,9,     -999,9,     -999,     -999,9,     -999,     -999,9,     -999,9,     -999,9,     -999,9,     -999,9,     -999,9,     -999,9,     -999,9,     -999,9,     -999,9,     -999,9,     -999,9,     -999,9,     -999,9
320620180309  ,S04P       ,83      ,  1,21         ,21         ,2,20180422,1032, -66.9999,-127.7489,     4473,    742.6,1.7277166666666667894,34.727949129604490,2,  34.7280,2,187.88912116321535,2, 187.5986,2,    188.2,2,     92.5,2,    31.92,2,     0.00,2,     2.17,2,    0.236,2,    0.120,2,   0.1200,2,   2256.7,2,  2353.65,2,   7.5929,2,    24.89,     -999,9,     -999,9,   1.7268,2,     -999,9,     -999,9,     -999,     -999,9,     -999,9,     -999,9,     -999,9,    0.062,1,    4.658,1,    0.135,1,  20.7300,2,     -999,9,20180422,1212, -67.0010,-127.7498,     -999,9,     -999,9,-999          ,9,     -999,9,     -999,9,     -999,     -999,9,     -999,     -999,9,     -999,9,     -999,9,     -999,9,     -999,9,     -999,9,     -999,9,     -999,9,     -999,9,     -999,9,     -999,9,     -999,9,     -999,9,     -999,9
320620180309  ,S04P       ,83      ,  1,20         ,20         ,2,20180422,1032, -66.9999,-127.7489,     4473,    844.0,1.6256972222222223490,34.731310150018416,2,  34.7316,2,189.15893795607644,2, 189.3014,2,    190.2,2,     95.8,2,    31.90,2,     0.00,2,     2.18,2,     -999,9,     -999,9,     -999,9,     -999,9,     -999,9,     -999,9,     -999,     -999,9,     -999,9,   1.6251,2,     -999,9,     -999,9,     -999,     -999,9,     -999,9,     -999,9,     -999,9,    0.061,1,    4.657,1,    0.133,1,     -999,9,     -999,9,20180422,1209, -67.0012,-127.7498,     -999,9,     -999,9,-999          ,9,     -999,9,     -999,9,     -999,     -999,9,     -999,     -999,9,     -999,9,     -999,9,     -999,9,     -999,9,     -999,9,     -999,9,     -999,9,     -999,9,     -999,9,     -999,9,     -999,9,     -999,9,     -999,9
320620180309  ,S04P       ,83      ,  1,19         ,19         ,2,20180422,1032, -66.9999,-127.7489,     4473,    946.3,1.5469222222222223095,34.732075558038616,2,  34.7323,2,190.81686712705093,2, 190.8997,2,    191.3,2,     98.4,2,    31.91,2,     0.00,2,     2.17,2,    0.189,2,    0.106,2,   0.0100,2,   2257.1,2,  2357.97,2,   7.5956,2,    24.90,     -999,9,     -999,9,   1.5461,2,     -999,9,     -999,9,     -999,     -999,9,     -999,9,     -999,9,     -999,9,    0.061,1,    4.658,1,    0.131,1,  20.3100,2,     -999,9,20180422,1205, -67.0011,-127.7499,     -999,9,     -999,9,-999          ,9,     -999,9,     -999,9,     -999,     -999,9,     -999,     -999,9,     -999,9,     -999,9,     -999,9,     -999,9,     -999,9,     -999,9,     -999,9,     -999,9,     -999,9,     -999,9,     -999,9,     -999,9,     -999,9
320620180309  ,S04P       ,83      ,  1,18         ,18         ,2,20180422,1032, -66.9999,-127.7489,     4473,   1046.6,1.4641277777777774727,34.731502291707834,2,  34.7319,2,192.87177356359371,2, 192.2057,2,    193.3,2,    100.6,2,    31.91,2,     0.00,2,     2.17,2,     -999,9,     -999,9,     -999,9,     -999,9,     -999,9,     -999,9,     -999,     -999,9,     -999,9,   1.4632,2,     -999,9,     -999,9,     -999,     -999,9,     -999,9,     -999,9,     -999,9,    0.063,1,    4.658,1,    0.141,1,     -999,9,     -999,9,20180422,1202, -67.0010,-127.7498,     -999,9,     -999,9,-999          ,9,     -999,9,     -999,9,     -999,     -999,9,     -999,     -999,9,     -999,9,     -999,9,     -999,9,     -999,9,     -999,9,     -999,9,     -999,9,     -999,9,     -999,9,     -999,9,     -999,9,     -999,9,     -999,9
320620180309  ,S04P       ,83      ,  1,17         ,17         ,2,20180422,1032, -66.9999,-127.7489,     4473,   1148.4,1.3864166666666664085,34.730227010130683,2,  34.7304,2,194.02866378424068,2, 193.7975,2,    193.9,2,    102.9,2,    31.96,2,     0.00,2,     2.18,2,     -999,9,     -999,9,     -999,9,   2258.4,2,  2359.83,2,   7.6010,6,    24.89,     -999,9,     -999,9,   1.3856,2,     -999,9,     -999,9,     -999,     -999,9,     -999,9,     -999,9,     -999,9,    0.062,1,    4.659,1,    0.129,1,     -999,9,     -999,9,20180422,1159, -67.0009,-127.7498,     -999,9,     -999,9,-999          ,9,     -999,9,     -999,9,     -999,     -999,9,     -999,     -999,9,     -999,9,     -999,9,     -999,9,     -999,9,     -999,9,     -999,9,     -999,9,     -999,9,     -999,9,     -999,9,     -999,9,     -999,9,     -999,9
320620180309  ,S04P       ,83      ,  1,16         ,16         ,2,20180422,1032, -66.9999,-127.7489,     4473,   1250.5,1.3082750000000002988,34.728304464475308,2,  34.7288,2,195.26453856062153,2, 194.9983,2,    195.6,2,    105.6,2,    32.01,2,     0.00,2,     2.19,2,    0.150,2,    0.072,2,   0.0400,2,     -999,9,     -999,9,     -999,9,     -999,     -999,9,     -999,9,   1.3072,2,     -999,9,     -999,9,     -999,     -999,9,     -999,9,     -999,9,     -999,9,    0.061,1,    4.659,1,    0.129,1,  19.6300,2,     -999,9,20180422,1156, -67.0008,-127.7497,     -999,9,     -999,9,-999          ,9,     -999,9,     -999,9,     -999,     -999,9,     -999,     -999,9,     -999,9,     -999,9,     -999,9,     -999,9,     -999,9,     -999,9,     -999,9,     -999,9,     -999,9,     -999,9,     -999,9,     -999,9,     -999,9