BOTTLE,20240515CCHHYDRO
EXPOCODE,SECT_ID,STNNBR,CASTNO,SAMPNO,BTLNBR,BTLNBR_FLAG_W,DATE,TIME,LATITUDE,LONGITUDE,DEPTH,CTDPRS,CTDTMP,CTDSAL,CTDSAL_FLAG_W,SALNTY,SALNTY_FLAG_W,CTDOXY,CTDOXY_FLAG_W,CTDOPTOXY,CTDOPTOXY_FLAG_W,OXYGEN,OXYGEN_FLAG_W,SILCAT,SILCAT_FLAG_W,NITRAT,NITRAT_FLAG_W,NITRIT,NITRIT_FLAG_W,PHSPHT,PHSPHT_FLAG_W,CFC-11,CFC-11_FLAG_W,CFC-12,CFC-12_FLAG_W,SF6,SF6_FLAG_W,TCARBN,TCARBN_FLAG_W,ALKALI,ALKALI_FLAG_W,PH_TOT,PH_TOT_FLAG_W,PH_TMP,DOC,DOC_FLAG_W,HELIUM,HELIUM_FLAG_W,REFTMP,REFTMP_FLAG_W,DELC13,DELC13_FLAG_W,DELC14,DELC14_FLAG_W,C14ERR,POC,POC_FLAG_W,TDN,TDN_FLAG_W,TON,TON_FLAG_W,NEON,NEON_FLAG_W,CTDFLUOR,CTDFLUOR_FLAG_W,CTDXMISS,CTDXMISS_FLAG_W,CTDBETA700,CTDBETA700_FLAG_W,N2O,N2O_FLAG_W,ARGON,ARGON_FLAG_W,BTL_DATE,BTL_TIME,BTL_LAT,BTL_LON,KRYPTON,KRYPTON_FLAG_W,XENON,XENON_FLAG_W,HPLC,HPLC_FLAG_W,HE3_HE4_RATIO,HE3_HE4_RATIO_FLAG_W,Nd_143_144_D_EPSILON_BOTTLE,Nd_143_144_D_EPSILON_BOTTLE_FLAG_W,Nd_143_144_D_EPSILON_BOTTLE_ERROR,Nd_143_144_D_RATIO_BOTTLE,Nd_143_144_D_RATIO_BOTTLE_FLAG_W,Nd_143_144_D_RATIO_BOTTLE_ERROR,Nd_D_CONC,Nd_D_CONC_FLAG_W,La_D_CONC_BOTTLE,La_D_CONC_BOTTLE_FLAG_W,Ce_D_CONC_BOTTLE,Ce_D_CONC_BOTTLE_FLAG_W,Pr_D_CONC_BOTTLE,Pr_D_CONC_BOTTLE_FLAG_W,Sm_D_CONC_BOTTLE,Sm_D_CONC_BOTTLE_FLAG_W,Eu_D_CONC_BOTTLE,Eu_D_CONC_BOTTLE_FLAG_W,Gd_D_CONC_BOTTLE,Gd_D_CONC_BOTTLE_FLAG_W,Tb_D_CONC_BOTTLE,Tb_D_CONC_BOTTLE_FLAG_W,Dy_D_CONC_BOTTLE,Dy_D_CONC_BOTTLE_FLAG_W,Ho_D_CONC_BOTTLE,Ho_D_CONC_BOTTLE_FLAG_W,Er_D_CONC_BOTTLE,Er_D_CONC_BOTTLE_FLAG_W,Tm_D_CONC_BOTTLE,Tm_D_CONC_BOTTLE_FLAG_W,Yb_D_CONC_BOTTLE,Yb_D_CONC_BOTTLE_FLAG_W,Lu_D_CONC_BOTTLE,Lu_D_CONC_BOTTLE_FLAG_W
,,,,,,,,,,,METERS,DBAR,ITS-90,PSS-78,,PSS-78,,UMOL/KG,,UMOL/KG,,UMOL/KG,,UMOL/KG,,UMOL/KG,,UMOL/KG,,UMOL/KG,,PMOL/KG,,PMOL/KG,,FMOL/KG,,UMOL/KG,,UMOL/KG,,,,DEG C,UMOL/KG,,NMOL/L,,DEG C,,/MILLE,,/MILLE,,/MILLE,UG/KG,,UMOL/KG,,UMOL/KG,,NMOL/L,,VOLTS,,VOLTS,,VOLTS,,NMOL/KG,,UMOL/L,,,,,,NMOL/L,,NMOL/L,,,,,,10000,,10000,,,,PMOL/KG,,PMOL/L,,PMOL/L,,PMOL/L,,PMOL/L,,PMOL/L,,PMOL/L,,PMOL/L,,PMOL/L,,PMOL/L,,PMOL/L,,PMOL/L,,PMOL/L,,PMOL/L,
320620180309  ,S04P       ,81      ,  1,36         ,36         ,2,20180421,1722, -67.0000,-131.2521,     4555,      5.7,-1.5727999999999997538,33.640576468694988,2,  33.6378,2,352.22586549514807,2, 352.1968,2,    353.7,2,     28.7,2,    25.03,2,     0.27,2,     1.73,2,    6.250,2,    3.309,2,   3.8300,2,   2160.6,6,  2278.71,2,   7.6653,2,    24.88,     -999,9,     -999,9,  -1.5722,2,     -999,9,     -999,9,     -999,     -999,9,     -999,9,     -999,9,     -999,9,    0.404,1,    4.511,1,    0.281,1,  17.3100,2,     -999,9,20180421,1931, -67.0006,-131.2515,     -999,9,     -999,9,-999          ,9,     -999,9,     -999,9,     -999,     -999,9,     -999,     -999,9,     -999,1,     -999,1,     -999,1,     -999,1,     -999,1,     -999,1,     -999,1,     -999,1,     -999,1,     -999,1,     -999,1,     -999,1,     -999,1
320620180309  ,S04P       ,81      ,  1,35         ,35         ,2,20180421,1722, -67.0000,-131.2521,     4555,     20.6,-1.5901833333333337261,33.641001952554483,2,  33.6386,2,353.06158186831993,2, 352.2010,2,    351.8,2,     28.7,2,    25.00,2,     0.27,2,     1.71,2,     -999,9,     -999,9,     -999,9,     -999,9,     -999,9,     -999,9,     -999,     -999,9,     -999,1,  -1.5908,2,     -999,9,     -999,9,     -999,     -999,9,     -999,9,     -999,9,     -999,1,    0.497,1,    4.513,1,    0.368,1,     -999,9,     -999,1,20180421,1930, -67.0007,-131.2514,     -999,1,     -999,1,-999          ,9,     -999,1,     -999,9,     -999,     -999,9,     -999,     -999,9,     -999,1,     -999,1,     -999,1,     -999,1,     -999,1,     -999,1,     -999,1,     -999,1,     -999,1,     -999,1,     -999,1,     -999,1,     -999,1
320620180309  ,S04P       ,81      ,  1,34         ,34         ,2,20180421,1722, -67.0000,-131.2521,     4555,     39.9,-1.5878333333333332078,33.641325066105345,2,  33.6389,2,354.31893743631582,2, 352.1983,2,    352.3,2,     28.8,2,    25.02,2,     0.27,2,     1.72,2,     -999,9,     -999,9,     -999,9,   2161.0,2,  2278.12,2,   7.6632,2,    24.87,     -999,9,     -999,9,  -1.5883,2,     -999,9,     -999,9,     -999,     -999,9,     -999,9,     -999,9,     -999,9,    0.389,1,    4.511,1,    0.274,1,     -999,9,     -999,9,20180421,1928, -67.0007,-131.2514,     -999,9,     -999,9,-999          ,9,     -999,9,     -999,9,     -999,     -999,9,     -999,     -999,9,     -999,9,     -999,9,     -999,9,     -999,9,     -999,9,     -999,9,     -999,9,     -999,9,     -999,9,     -999,9,     -999,9,     -999,9,     -999,9
320620180309  ,S04P       ,81      ,  1,33         ,33         ,2,20180421,1722, -67.0000,-131.2521,     4555,     65.5,-1.5856138888888891003,33.641576458857713,2,  33.6393,2,355.98609599649205,3, 352.2038,2,    352.0,2,     28.7,2,    25.01,2,     0.27,2,     1.72,2,    6.238,2,    3.280,2,   4.0200,2,   2160.3,2,  2275.92,2,   7.6619,2,    24.87,     -999,9,     -999,1,  -1.5868,2,     -999,9,     -999,9,     -999,     -999,9,     -999,9,     -999,9,     -999,1,    0.392,1,    4.515,1,    0.286,1,  17.6200,2,     -999,1,20180421,1927, -67.0008,-131.2513,     -999,1,     -999,1,-999          ,9,     -999,1,     -999,9,     -999,     -999,9,     -999,     -999,9,     -999,1,     -999,1,     -999,1,     -999,1,     -999,1,     -999,1,     -999,1,     -999,1,     -999,1,     -999,1,     -999,1,     -999,1,     -999,1
320620180309  ,S04P       ,81      ,  1,32         ,32         ,2,20180421,1722, -67.0000,-131.2521,     4555,     90.4,-1.5060083333333333933,33.919966592198207,2,  33.9246,2,338.84284325585099,3, 325.3003,2,    324.6,2,     41.8,2,    28.17,2,     0.24,2,     1.97,2,     -999,9,     -999,9,     -999,9,     -999,9,     -999,9,     -999,9,     -999,     -999,9,     -999,9,  -1.5057,2,     -999,9,     -999,9,     -999,     -999,9,     -999,9,     -999,9,     -999,9,    0.470,1,    4.499,1,    0.331,1,     -999,9,     -999,9,20180421,1925, -67.0009,-131.2512,     -999,9,     -999,9,-999          ,9,     -999,9,     -999,9,     -999,     -999,9,     -999,     -999,9,     -999,9,     -999,9,     -999,9,     -999,9,     -999,9,     -999,9,     -999,9,     -999,9,     -999,9,     -999,9,     -999,9,     -999,9,     -999,9
320620180309  ,S04P       ,81      ,  1,31         ,31         ,2,20180421,1722, -67.0000,-131.2521,     4555,    135.8,-0.0911722222222222239,34.186703790391668,2,  34.1907,2,280.29149370479598,3, 271.9020,2,    271.0,2,     56.8,2,    31.82,2,     0.03,2,     2.19,2,     -999,9,     -999,9,     -999,9,   2216.6,2,  2308.75,2,   7.5836,2,    24.88,     -999,9,     -999,1,  -0.1530,3,     -999,9,     -999,9,     -999,     -999,9,     -999,9,     -999,9,     -999,1,    0.075,1,    4.639,1,    0.146,1,     -999,9,     -999,1,20180421,1923, -67.0009,-131.2511,     -999,1,     -999,1,-999          ,9,     -999,1,     -999,9,     -999,     -999,9,     -999,     -999,9,     -999,1,     -999,1,     -999,1,     -999,1,     -999,1,     -999,1,     -999,1,     -999,1,     -999,1,     -999,1,     -999,1,     -999,1,     -999,1
320620180309  ,S04P       ,81      ,  1,30         ,30         ,2,20180421,1722, -67.0000,-131.2521,     4555,    186.2,1.4881083333333335883,34.483853008741285,2,  34.4805,2,204.08031706315992,3, 199.5026,2,    201.2,2,     73.7,2,    34.43,2,     0.01,2,     2.34,2,    1.869,2,    0.996,2,   0.9200,2,   2249.6,2,  2327.30,2,   7.5439,2,    24.88,     -999,9,     -999,9,   1.4807,2,     -999,9,     -999,9,     -999,     -999,9,     -999,9,     -999,9,     -999,9,    0.073,1,    4.644,1,    0.143,1,  23.6700,2,     -999,9,20180421,1921, -67.0009,-131.2512,     -999,9,     -999,9,-999          ,9,     -999,9,     -999,9,     -999,     -999,9,     -999,     -999,9,     -999,9,     -999,9,     -999,9,     -999,9,     -999,9,     -999,9,     -999,9,     -999,9,     -999,9,     -999,9,     -999,9,     -999,9,     -999,9
320620180309  ,S04P       ,81      ,  1,29         ,29         ,2,20180421,1722, -67.0000,-131.2521,     4555,    236.2,1.7216111111111114251,34.558870241759834,2,  34.5566,2,189.67593721799199,3, 189.0997,2,    187.7,2,     77.7,2,    34.31,2,     0.00,2,     2.34,2,     -999,9,     -999,9,     -999,9,     -999,9,     -999,9,     -999,9,     -999,     -999,9,     -999,1,   1.7209,2,     -999,9,     -999,9,     -999,     -999,9,     -999,9,     -999,9,     -999,1,    0.068,1,    4.645,1,    0.145,1,     -999,9,     -999,1,20180421,1919, -67.0009,-131.2512,     -999,1,     -999,1,-999          ,9,     -999,1,     -999,9,     -999,     -999,9,     -999,     -999,9,     -999,1,     -999,1,     -999,1,     -999,1,     -999,1,     -999,1,     -999,1,     -999,1,     -999,1,     -999,1,     -999,1,     -999,1,     -999,1
320620180309  ,S04P       ,81      ,  1,28         ,28         ,2,20180421,1722, -67.0000,-131.2521,     4555,    288.1,1.8654749999999999943,34.607153529248784,2,  34.6075,2,181.91126211584611,2, 183.4996,3,    180.8,2,     80.2,2,    33.92,2,     0.00,2,     2.31,2,     -999,9,     -999,9,     -999,9,   2255.9,2,  2338.53,2,   7.5502,2,    24.89,     -999,9,     -999,9,   1.8645,2,     -999,9,     -999,9,     -999,     -999,9,     -999,9,     -999,9,     -999,9,    0.067,1,    4.649,1,    0.143,1,     -999,9,     -999,9,20180421,1917, -67.0008,-131.2513,     -999,9,     -999,9,-999          ,9,     -999,9,     -999,9,     -999,     -999,9,     -999,     -999,9,     -999,9,     -999,9,     -999,9,     -999,9,     -999,9,     -999,9,     -999,9,     -999,9,     -999,9,     -999,9,     -999,9,     -999,9,     -999,9
320620180309  ,S04P       ,81      ,  1,27         ,27         ,2,20180421,1722, -67.0000,-131.2521,     4555,    338.4,1.9663444444444440062,34.644591710140482,2,  34.6446,2,178.79803557822558,2, 180.5021,3,    177.6,2,     81.9,2,    33.48,2,     0.00,2,     2.28,2,    0.630,2,    0.331,2,   0.2500,2,   2256.1,6,  2342.12,2,   7.5579,2,    24.87,     -999,9,     -999,1,   1.9662,2,     -999,9,     -999,9,     -999,     -999,9,     -999,9,     -999,9,     -999,1,    0.068,1,    4.650,1,    0.142,1,  22.1400,2,     -999,1,20180421,1915, -67.0007,-131.2514,     -999,1,     -999,1,-999          ,9,     -999,1,     -999,9,     -999,     -999,9,     -999,     -999,9,     -999,1,     -999,1,     -999,1,     -999,1,     -999,1,     -999,1,     -999,1,     -999,1,     -999,1,     -999,1,     -999,1,     -999,1,     -999,1
320620180309  ,S04P       ,81      ,  1,26         ,38         ,2,20180421,1722, -67.0000,-131.2521,     4555,    388.6,1.9815361111111107206,34.664074747304248,2,  34.6658,2,179.10853934051443,2, 180.5024,3,    177.9,2,     83.2,2,    33.15,2,     0.00,2,     2.26,2,     -999,9,     -999,9,     -999,9,   2255.8,2,  2344.35,2,   7.5626,6,    24.87,     -999,9,     -999,9,   1.9806,2,     -999,9,     -999,9,     -999,     -999,9,     -999,9,     -999,9,     -999,9,    0.064,1,    4.651,1,    0.137,1,     -999,9,     -999,9,20180421,1913, -67.0006,-131.2515,     -999,9,     -999,9,-999          ,9,     -999,9,     -999,9,     -999,     -999,9,     -999,     -999,9,     -999,1,     -999,1,     -999,1,     -999,1,     -999,1,     -999,1,     -999,1,     -999,1,     -999,1,     -999,1,     -999,1,     -999,1,     -999,1
320620180309  ,S04P       ,81      ,  1,25         ,25         ,2,20180421,1722, -67.0000,-131.2521,     4555,    439.0,1.9593222222222226314,34.679088357014898,2,  34.6795,2,179.85086389488956,2, 181.0997,2,    179.8,2,     84.1,2,    32.85,2,     0.00,2,     2.25,2,     -999,9,     -999,9,     -999,9,     -999,9,     -999,9,     -999,9,     -999,     -999,9,     -999,1,   1.9585,2,     -999,9,     -999,9,     -999,     -999,9,     -999,9,     -999,9,     -999,1,    0.089,1,    4.652,1,    0.165,1,     -999,9,     -999,1,20180421,1910, -67.0005,-131.2516,     -999,1,     -999,1,-999          ,9,     -999,1,     -999,9,     -999,     -999,9,     -999,     -999,9,     -999,1,     -999,1,     -999,1,     -999,1,     -999,1,     -999,1,     -999,1,     -999,1,     -999,1,     -999,1,     -999,1,     -999,1,     -999,1
320620180309  ,S04P       ,81      ,  1,24         ,24         ,2,20180421,1722, -67.0000,-131.2521,     4555,    490.0,1.9327250000000002483,34.692697442545096,2,  34.6927,2,181.30668100701769,2, 182.1048,2,    180.5,2,     85.4,2,    32.55,2,     0.00,2,     2.22,2,    0.397,2,    0.218,2,   0.1400,2,   2257.1,2,  2345.93,2,   7.5715,2,    24.89,     -999,9,     -999,9,   1.9319,2,     -999,9,     -999,9,     -999,     -999,9,     -999,9,     -999,9,     -999,9,    0.065,1,    4.651,1,    0.140,1,  22.0000,2,     -999,9,20180421,1908, -67.0004,-131.2517,     -999,9,     -999,9,-999          ,9,     -999,9,     -999,9,     -999,     -999,9,     -999,     -999,9,     -999,9,     -999,9,     -999,9,     -999,9,     -999,9,     -999,9,     -999,9,     -999,9,     -999,9,     -999,9,     -999,9,     -999,9,     -999,9
320620180309  ,S04P       ,81      ,  1,23         ,23         ,2,20180421,1722, -67.0000,-131.2521,     4555,    571.3,1.8852527777777778883,34.709979865884115,2,  34.7096,2,183.43133963073606,2, 183.7991,2,    183.5,2,     86.5,2,    32.19,2,     0.00,2,     2.20,2,     -999,9,     -999,9,     -999,9,   2255.2,2,  2349.37,2,   7.5799,2,    24.89,     -999,9,     -999,1,   1.8850,2,     -999,9,     -999,9,     -999,     -999,9,     -999,9,     -999,9,     -999,1,    0.063,1,    4.652,1,    0.134,1,     -999,9,     -999,1,20180421,1905, -67.0003,-131.2518,     -999,1,     -999,1,-999          ,9,     -999,1,     -999,9,     -999,     -999,9,     -999,     -999,9,     -999,1,     -999,1,     -999,1,     -999,1,     -999,1,     -999,1,     -999,1,     -999,1,     -999,1,     -999,1,     -999,1,     -999,1,     -999,1
320620180309  ,S04P       ,81      ,  1,22         ,37         ,2,20180421,1722, -67.0000,-131.2521,     4555,    672.0,1.8243305555555555664,34.720486929340275,2,  34.7208,2,186.54127052821286,2, 185.6057,2,    185.4,2,     89.7,2,    31.90,2,     0.00,2,     2.17,2,     -999,9,     -999,9,     -999,9,     -999,9,     -999,9,     -999,9,     -999,     -999,9,     -999,9,   1.8251,2,     -999,9,     -999,9,     -999,     -999,9,     -999,9,     -999,9,     -999,9,    0.061,1,    4.654,1,    0.135,1,     -999,9,     -999,9,20180421,1903, -67.0003,-131.2519,     -999,9,     -999,9,-999          ,9,     -999,9,     -999,9,     -999,     -999,9,     -999,     -999,9,     -999,9,     -999,9,     -999,9,     -999,9,     -999,9,     -999,9,     -999,9,     -999,9,     -999,9,     -999,9,     -999,9,     -999,9,     -999,9
320620180309  ,S04P       ,81      ,  1,21         ,21         ,2,20180421,1722, -67.0000,-131.2521,     4555,    773.5,1.7341111111111111587,34.727741777280499,2,  34.7266,2,189.25966580595423,2, 187.6967,2,    188.8,2,     92.5,2,    31.68,2,     0.00,2,     2.16,2,    0.239,2,    0.124,2,   0.0500,2,   2254.3,2,  2358.61,3,   7.5921,2,    24.88,     -999,9,     -999,9,   1.7324,2,     -999,9,     -999,9,     -999,     -999,9,     -999,9,     -999,9,     -999,9,    0.062,1,    4.655,1,    0.134,1,  20.6100,2,     -999,9,20180421,1900, -67.0003,-131.2519,     -999,9,     -999,9,-999          ,9,     -999,9,     -999,9,     -999,     -999,9,     -999,     -999,9,     -999,1,     -999,1,     -999,1,     -999,1,     -999,1,     -999,1,     -999,1,     -999,1,     -999,1,     -999,1,     -999,1,     -999,1,     -999,1
320620180309  ,S04P       ,81      ,  1,20         ,20         ,2,20180421,1722, -67.0000,-131.2521,     4555,    875.3,1.6290333333333331112,34.731213413942555,2,  34.7312,2,190.53191343435594,2, 189.8044,2,    190.4,2,     95.3,2,    31.63,2,     0.00,2,     2.17,2,     -999,9,     -999,9,     -999,9,     -999,9,     -999,9,     -999,9,     -999,     -999,9,     -999,1,   1.6283,2,     -999,9,     -999,9,     -999,     -999,9,     -999,9,     -999,9,     -999,1,    0.061,1,    4.655,1,    0.133,1,     -999,9,     -999,1,20180421,1857, -67.0003,-131.2519,     -999,1,     -999,1,-999          ,9,     -999,1,     -999,9,     -999,     -999,9,     -999,     -999,9,     -999,9,     -999,9,     -999,9,     -999,9,     -999,9,     -999,9,     -999,9,     -999,9,     -999,9,     -999,9,     -999,9,     -999,9,     -999,9
320620180309  ,S04P       ,81      ,  1,19         ,19         ,2,20180421,1722, -67.0000,-131.2521,     4555,    977.2,1.5501916666666666345,34.732060580377905,2,  34.7333,2,192.06680557181272,2, 191.0948,2,    190.8,2,     97.7,2,    31.64,2,     0.00,2,     2.18,2,     -999,9,     -999,9,     -999,9,   2256.2,2,  2356.62,2,   7.5942,2,    24.88,     -999,9,     -999,9,   1.5495,2,     -999,9,     -999,9,     -999,     -999,9,     -999,9,     -999,9,     -999,9,    0.061,1,    4.656,1,    0.132,1,     -999,9,     -999,9,20180421,1853, -67.0003,-131.2518,     -999,9,     -999,9,-999          ,9,     -999,9,     -999,9,     -999,     -999,9,     -999,     -999,9,     -999,1,     -999,1,     -999,1,     -999,1,     -999,1,     -999,1,     -999,1,     -999,1,     -999,1,     -999,1,     -999,1,     -999,1,     -999,1
320620180309  ,S04P       ,81      ,  1,18         ,18         ,2,20180421,1722, -67.0000,-131.2521,     4555,   1078.3,1.4594472222222221180,34.731216300640604,2,  34.7321,2,193.48213916924502,2, 192.6014,2,    192.9,2,    100.7,2,    31.64,2,     0.00,2,     2.18,2,    0.176,2,    0.091,2,   0.0600,2,   2256.9,2,  2358.43,2,   7.5942,2,    24.89,     -999,9,     -999,9,   1.4583,2,     -999,9,     -999,9,     -999,     -999,9,     -999,9,     -999,9,     -999,9,    0.063,1,    4.657,1,    0.147,1,  20.3100,2,     -999,9,20180421,1850, -67.0004,-131.2517,     -999,9,     -999,9,-999          ,9,     -999,9,     -999,9,     -999,     -999,9,     -999,     -999,9,     -999,9,     -999,9,     -999,9,     -999,9,     -999,9,     -999,9,     -999,9,     -999,9,     -999,9,     -999,9,     -999,9,     -999,9,     -999,9
320620180309  ,S04P       ,81      ,  1,17         ,17         ,2,20180421,1722, -67.0000,-131.2521,     4555,   1178.8,1.3798888888888887205,34.730084601279614,2,  34.7308,2,194.16612400818232,2, 193.5948,2,    193.5,2,    103.5,2,    31.78,2,     0.00,2,     2.20,2,     -999,9,     -999,9,     -999,9,     -999,9,     -999,9,     -999,9,     -999,     -999,9,     -999,1,   1.3796,2,     -999,9,     -999,9,     -999,     -999,9,     -999,9,     -999,9,     -999,1,    0.061,1,    4.657,1,    0.130,1,     -999,9,     -999,1,20180421,1846, -67.0004,-131.2517,     -999,1,     -999,1,-999          ,9,     -999,1,     -999,9,     -999,     -999,9,     -999,     -999,9,     -999,1,     -999,1,     -999,1,     -999,1,     -999,1,     -999,1,     -999,1,     -999,1,     -999,1,     -999,1,     -999,1,     -999,1,     -999,1
320620180309  ,S04P       ,81      ,  1,16         ,16         ,2,20180421,1722, -67.0000,-131.2521,     4555,   1280.8,1.2962583333333335123,34.728202245169982,2,  34.7290,2,195.08242291709058,2, 195.0987,2,    194.7,2,    106.2,2,    31.89,2,     0.00,2,     2.21,2,    0.156,2,    0.077,2,   0.1200,2,   2258.9,2,  2359.76,2,   7.5975,2,    24.88,     -999,9,     -999,9,   1.2964,2,     -999,9,     -999,9,     -999,     -999,9,     -999,9,     -999,9,     -999,9,    0.061,1,    4.658,1,    0.129,1,  20.2500,2,     -999,9,20180421,1843, -67.0005,-131.2516,     -999,9,     -999,9,-999          ,9,     -999,9,     -999,9,     -999,     -999,9,     -999,     -999,9,     -999,9,     -999,9,     -999,9,     -999,9,     -999,9,     -999,9,     -999,9,     -999,9,     -999,9,     -999,9,     -999,9,     -999,9,     -999,9