BOTTLE,20240515CCHHYDRO
EXPOCODE,SECT_ID,STNNBR,CASTNO,SAMPNO,BTLNBR,BTLNBR_FLAG_W,DATE,TIME,LATITUDE,LONGITUDE,DEPTH,CTDPRS,CTDTMP,CTDSAL,CTDSAL_FLAG_W,SALNTY,SALNTY_FLAG_W,CTDOXY,CTDOXY_FLAG_W,CTDOPTOXY,CTDOPTOXY_FLAG_W,OXYGEN,OXYGEN_FLAG_W,SILCAT,SILCAT_FLAG_W,NITRAT,NITRAT_FLAG_W,NITRIT,NITRIT_FLAG_W,PHSPHT,PHSPHT_FLAG_W,CFC-11,CFC-11_FLAG_W,CFC-12,CFC-12_FLAG_W,SF6,SF6_FLAG_W,TCARBN,TCARBN_FLAG_W,ALKALI,ALKALI_FLAG_W,PH_TOT,PH_TOT_FLAG_W,PH_TMP,DOC,DOC_FLAG_W,HELIUM,HELIUM_FLAG_W,REFTMP,REFTMP_FLAG_W,DELC13,DELC13_FLAG_W,DELC14,DELC14_FLAG_W,C14ERR,POC,POC_FLAG_W,TDN,TDN_FLAG_W,TON,TON_FLAG_W,NEON,NEON_FLAG_W,CTDFLUOR,CTDFLUOR_FLAG_W,CTDXMISS,CTDXMISS_FLAG_W,CTDBETA700,CTDBETA700_FLAG_W,N2O,N2O_FLAG_W,ARGON,ARGON_FLAG_W,BTL_DATE,BTL_TIME,BTL_LAT,BTL_LON,KRYPTON,KRYPTON_FLAG_W,XENON,XENON_FLAG_W,HPLC,HPLC_FLAG_W,HE3_HE4_RATIO,HE3_HE4_RATIO_FLAG_W,Nd_143_144_D_EPSILON_BOTTLE,Nd_143_144_D_EPSILON_BOTTLE_FLAG_W,Nd_143_144_D_EPSILON_BOTTLE_ERROR,Nd_143_144_D_RATIO_BOTTLE,Nd_143_144_D_RATIO_BOTTLE_FLAG_W,Nd_143_144_D_RATIO_BOTTLE_ERROR,Nd_D_CONC,Nd_D_CONC_FLAG_W,La_D_CONC_BOTTLE,La_D_CONC_BOTTLE_FLAG_W,Ce_D_CONC_BOTTLE,Ce_D_CONC_BOTTLE_FLAG_W,Pr_D_CONC_BOTTLE,Pr_D_CONC_BOTTLE_FLAG_W,Sm_D_CONC_BOTTLE,Sm_D_CONC_BOTTLE_FLAG_W,Eu_D_CONC_BOTTLE,Eu_D_CONC_BOTTLE_FLAG_W,Gd_D_CONC_BOTTLE,Gd_D_CONC_BOTTLE_FLAG_W,Tb_D_CONC_BOTTLE,Tb_D_CONC_BOTTLE_FLAG_W,Dy_D_CONC_BOTTLE,Dy_D_CONC_BOTTLE_FLAG_W,Ho_D_CONC_BOTTLE,Ho_D_CONC_BOTTLE_FLAG_W,Er_D_CONC_BOTTLE,Er_D_CONC_BOTTLE_FLAG_W,Tm_D_CONC_BOTTLE,Tm_D_CONC_BOTTLE_FLAG_W,Yb_D_CONC_BOTTLE,Yb_D_CONC_BOTTLE_FLAG_W,Lu_D_CONC_BOTTLE,Lu_D_CONC_BOTTLE_FLAG_W
,,,,,,,,,,,METERS,DBAR,ITS-90,PSS-78,,PSS-78,,UMOL/KG,,UMOL/KG,,UMOL/KG,,UMOL/KG,,UMOL/KG,,UMOL/KG,,UMOL/KG,,PMOL/KG,,PMOL/KG,,FMOL/KG,,UMOL/KG,,UMOL/KG,,,,DEG C,UMOL/KG,,NMOL/L,,DEG C,,/MILLE,,/MILLE,,/MILLE,UG/KG,,UMOL/KG,,UMOL/KG,,NMOL/L,,VOLTS,,VOLTS,,VOLTS,,NMOL/KG,,UMOL/L,,,,,,NMOL/L,,NMOL/L,,,,,,10000,,10000,,,,PMOL/KG,,PMOL/L,,PMOL/L,,PMOL/L,,PMOL/L,,PMOL/L,,PMOL/L,,PMOL/L,,PMOL/L,,PMOL/L,,PMOL/L,,PMOL/L,,PMOL/L,,PMOL/L,
320620180309  ,S04P       ,94      ,  1,36         ,36         ,2,20180426,2244, -67.5010,-110.3944,     4195,      9.1,-1.7116854338262192936,33.809685781540850,2,  33.8056,2,346.98586594891276,2, 348.0002,2,    348.3,2,     48.8,2,    27.42,2,     0.19,2,     1.91,2,    6.543,2,    3.282,2,   3.3500,2,   2177.8,6,  2288.44,2,   7.6454,2,    24.89,     44.9,2,     -999,9,  -1.6546,2,     -999,9,     -999,9,     -999,     -999,9,    30.10,2,     -999,1,     -999,9,    0.201,1,    4.573,1,    0.220,1,  16.3200,2,     -999,9,20180427,0045, -67.5015,-110.3959,     -999,9,     -999,9,-999          ,9,     -999,9,     -999,9,     -999,     -999,9,     -999,     -999,9,     -999,9,     -999,9,     -999,9,     -999,9,     -999,9,     -999,9,     -999,9,     -999,9,     -999,9,     -999,9,     -999,9,     -999,9,     -999,9
320620180309  ,S04P       ,94      ,  1,35         ,35         ,2,20180426,2244, -67.5010,-110.3944,     4195,     24.4,-1.7124712098678787076,33.811559291243817,2,  33.8079,2,347.86460098935220,2, 347.9970,2,    347.9,2,     48.8,2,    27.47,2,     0.19,2,     1.93,2,    6.530,6,    3.249,6,   3.6500,6,   2178.2,2,  2287.62,2,   7.6443,2,    24.89,     43.7,2,     -999,9,  -1.7123,2,     -999,9,     -999,9,     -999,     -999,9,    30.20,2,     -999,1,     -999,9,    0.200,1,    4.575,1,    0.225,1,  16.6100,6,     -999,9,20180427,0045, -67.5015,-110.3958,     -999,9,     -999,9,-999          ,9,     -999,9,     -999,9,     -999,     -999,9,     -999,     -999,9,     -999,9,     -999,9,     -999,9,     -999,9,     -999,9,     -999,9,     -999,9,     -999,9,     -999,9,     -999,9,     -999,9,     -999,9,     -999,9
320620180309  ,S04P       ,94      ,  1,34         ,34         ,2,20180426,2244, -67.5010,-110.3944,     4195,     49.4,-1.7087272688220713768,33.835886368201265,2,  33.8345,2,345.75352842632225,2, 345.9011,2,    345.6,2,     50.5,2,    27.67,2,     0.19,2,     1.96,2,     -999,9,     -999,9,     -999,9,   2179.6,2,  2290.86,2,   7.6426,2,    24.91,     41.6,2,     -999,9,  -1.7080,2,     -999,9,     -999,9,     -999,     -999,9,    30.10,2,     -999,1,     -999,9,    0.206,1,    4.576,1,    0.223,1,     -999,9,     -999,9,20180427,0044, -67.5015,-110.3958,     -999,9,     -999,9,-999          ,9,     -999,9,     -999,9,     -999,     -999,9,     -999,     -999,9,     -999,9,     -999,9,     -999,9,     -999,9,     -999,9,     -999,9,     -999,9,     -999,9,     -999,9,     -999,9,     -999,9,     -999,9,     -999,9
320620180309  ,S04P       ,94      ,  1,33         ,33         ,2,20180426,2244, -67.5010,-110.3944,     4195,     74.2,-1.2143195122381333917,34.031993488058419,2,  34.0299,2,300.99457894986875,2, 300.0997,2,    300.8,2,     59.3,2,    30.29,2,     0.17,2,     2.12,2,    4.938,2,    2.547,2,   2.6600,2,   2203.7,2,  2300.12,2,   7.6042,2,    24.91,     43.1,2,     -999,9,  -1.2168,2,     -999,9,     -999,9,     -999,     -999,9,    32.50,2,     -999,1,     -999,9,    0.131,1,    4.612,1,    0.183,1,  18.3600,2,     -999,9,20180427,0042, -67.5014,-110.3956,     -999,9,     -999,9,-999          ,9,     -999,9,     -999,9,     -999,     -999,9,     -999,     -999,9,     -999,9,     -999,9,     -999,9,     -999,9,     -999,9,     -999,9,     -999,9,     -999,9,     -999,9,     -999,9,     -999,9,     -999,9,     -999,9
320620180309  ,S04P       ,94      ,  1,32         ,32         ,2,20180426,2244, -67.5010,-110.3944,     4195,     99.4,-0.5363533840192842295,34.167016275245977,2,  34.1510,2,272.71121015472653,2, 273.3050,2,    273.0,2,     63.3,2,    31.94,2,     0.12,2,     2.23,2,     -999,9,     -999,9,     -999,9,   2217.6,2,  2307.69,2,   7.5797,2,    24.89,     43.4,2,     -999,9,  -0.6301,3,     -999,9,     -999,9,     -999,     -999,9,     -999,9,     -999,1,     -999,9,    0.096,1,    4.629,1,    0.165,1,     -999,9,     -999,9,20180427,0039, -67.5014,-110.3954,     -999,9,     -999,9,-999          ,9,     -999,9,     -999,9,     -999,     -999,9,     -999,     -999,9,     -999,9,     -999,9,     -999,9,     -999,9,     -999,9,     -999,9,     -999,9,     -999,9,     -999,9,     -999,9,     -999,9,     -999,9,     -999,9
320620180309  ,S04P       ,94      ,  1,31         ,31         ,2,20180426,2244, -67.5010,-110.3944,     4195,    125.2,0.3953045145717287712,34.293454278605772,2,  34.3094,2,241.50593547516522,3, 239.6993,3,    235.2,2,     66.6,2,    33.67,2,     0.03,2,     2.30,2,    3.073,2,    1.610,2,   1.6400,2,   2234.4,2,  2317.31,2,   7.5569,2,    24.89,     44.8,2,     -999,9,   0.3635,2,     -999,9,     -999,9,     -999,     -999,9,    35.80,2,     -999,1,     -999,9,    0.076,1,    4.639,1,    0.153,1,  21.2700,2,     -999,9,20180427,0037, -67.5014,-110.3954,     -999,9,     -999,9,-999          ,9,     -999,9,     -999,9,     -999,     -999,9,     -999,     -999,9,     -999,9,     -999,9,     -999,9,     -999,9,     -999,9,     -999,9,     -999,9,     -999,9,     -999,9,     -999,9,     -999,9,     -999,9,     -999,9
320620180309  ,S04P       ,94      ,  1,30         ,30         ,2,20180426,2244, -67.5010,-110.3944,     4195,    150.4,1.1398872507645660956,34.416567419212939,2,  34.4150,2,217.11803715054916,3, 213.8021,3,    209.7,2,     71.3,2,    34.39,2,     0.02,2,     2.35,2,     -999,9,     -999,9,     -999,9,   2245.8,2,  2324.55,2,   7.5494,2,    24.89,     43.7,2,     -999,9,   1.1396,2,     -999,9,     -999,9,     -999,     -999,9,    36.20,2,     -999,1,     -999,9,    0.072,1,    4.640,1,    0.149,1,     -999,9,     -999,9,20180427,0036, -67.5014,-110.3955,     -999,9,     -999,9,-999          ,9,     -999,9,     -999,9,     -999,     -999,9,     -999,     -999,9,     -999,9,     -999,9,     -999,9,     -999,9,     -999,9,     -999,9,     -999,9,     -999,9,     -999,9,     -999,9,     -999,9,     -999,9,     -999,9
320620180309  ,S04P       ,94      ,  1,29         ,29         ,2,20180426,2244, -67.5010,-110.3944,     4195,    201.8,1.5919889195148881900,34.537627164041425,2,  34.5315,2,188.49049013368989,2, 191.3004,3,    187.6,2,     77.8,2,    34.53,2,     0.00,2,     2.34,2,    1.346,2,    0.714,2,   0.3200,2,   2255.2,2,  2333.86,2,   7.5410,2,    24.90,     43.5,2,     -999,9,   1.5796,2,     -999,9,     -999,9,     -999,     -999,9,    37.10,2,     -999,1,     -999,9,    0.066,1,    4.644,1,    0.146,1,  23.1300,2,     -999,9,20180427,0033, -67.5014,-110.3957,     -999,9,     -999,9,-999          ,9,     -999,9,     -999,9,     -999,     -999,9,     -999,     -999,9,     -999,9,     -999,9,     -999,9,     -999,9,     -999,9,     -999,9,     -999,9,     -999,9,     -999,9,     -999,9,     -999,9,     -999,9,     -999,9
320620180309  ,S04P       ,94      ,  1,28         ,28         ,2,20180426,2244, -67.5010,-110.3944,     4195,    252.7,1.8625070024766816612,34.604108224984714,2,  34.6011,2,179.77909803933005,3, 182.6989,3,    177.7,2,     80.9,2,    34.31,2,     0.00,2,     2.34,2,     -999,9,     -999,9,     -999,9,   2258.6,2,  2338.26,2,   7.5439,2,    24.88,     40.3,2,     -999,9,   1.8608,2,     -999,9,     -999,9,     -999,     -999,9,    36.10,2,     -999,1,     -999,9,    0.063,1,    4.648,1,    0.140,1,     -999,9,     -999,9,20180427,0031, -67.5015,-110.3959,     -999,9,     -999,9,-999          ,9,     -999,9,     -999,9,     -999,     -999,9,     -999,     -999,9,     -999,9,     -999,9,     -999,9,     -999,9,     -999,9,     -999,9,     -999,9,     -999,9,     -999,9,     -999,9,     -999,9,     -999,9,     -999,9
320620180309  ,S04P       ,94      ,  1,27         ,27         ,2,20180426,2244, -67.5010,-110.3944,     4195,    301.7,1.9975829443359658377,34.651376235215579,2,  34.6484,2,174.19423678291056,2, 175.8030,2,    174.6,2,     82.7,2,    33.79,2,     0.00,2,     2.30,2,    0.562,2,    0.299,2,   0.2300,2,   2260.3,6,  2342.31,2,   7.5540,2,    24.90,     42.9,2,     -999,9,   1.9983,2,     -999,9,     -999,9,     -999,     -999,9,     -999,9,     -999,1,     -999,9,    0.062,1,    4.651,1,    0.136,1,  21.9700,2,     -999,9,20180427,0029, -67.5015,-110.3961,     -999,9,     -999,9,-999          ,9,     -999,9,     -999,9,     -999,     -999,9,     -999,     -999,9,     -999,9,     -999,9,     -999,9,     -999,9,     -999,9,     -999,9,     -999,9,     -999,9,     -999,9,     -999,9,     -999,9,     -999,9,     -999,9
320620180309  ,S04P       ,94      ,  1,26         ,38         ,2,20180426,2244, -67.5010,-110.3944,     4195,    353.9,1.9984148953817038041,34.679481105902042,2,  34.6766,2,176.46093468359430,2, 176.0965,2,    177.2,2,     84.4,2,    33.21,2,     0.00,2,     2.26,2,     -999,9,     -999,9,     -999,9,   2259.9,2,  2345.15,2,   7.5628,2,    24.89,     43.6,2,     -999,9,   2.0004,2,     -999,9,     -999,9,     -999,     -999,9,     -999,9,     -999,1,     -999,9,    0.062,1,    4.652,1,    0.136,1,     -999,9,     -999,9,20180427,0027, -67.5016,-110.3963,     -999,9,     -999,9,-999          ,9,     -999,9,     -999,9,     -999,     -999,9,     -999,     -999,9,     -999,9,     -999,9,     -999,9,     -999,9,     -999,9,     -999,9,     -999,9,     -999,9,     -999,9,     -999,9,     -999,9,     -999,9,     -999,9
320620180309  ,S04P       ,94      ,  1,25         ,25         ,2,20180426,2244, -67.5010,-110.3944,     4195,    404.7,1.9756325438581114895,34.693194724176855,2,  34.6911,2,177.42645197353858,2, 178.2966,2,    177.8,2,     85.8,2,    32.92,2,     0.00,2,     2.24,2,    0.354,2,    0.188,2,   0.2800,2,   2259.6,2,  2345.85,2,   7.5678,6,    24.90,     43.5,2,     -999,9,   1.9752,2,     -999,9,     -999,9,     -999,     -999,9,     -999,9,     -999,1,     -999,9,    0.061,1,    4.652,1,    0.135,1,  21.0800,2,     -999,9,20180427,0025, -67.5016,-110.3963,     -999,9,     -999,9,-999          ,9,     -999,9,     -999,9,     -999,     -999,9,     -999,     -999,9,     -999,9,     -999,9,     -999,9,     -999,9,     -999,9,     -999,9,     -999,9,     -999,9,     -999,9,     -999,9,     -999,9,     -999,9,     -999,9
320620180309  ,S04P       ,94      ,  1,24         ,24         ,2,20180426,2244, -67.5010,-110.3944,     4195,    455.0,1.9372499605180117932,34.703955920269216,2,  34.7017,2,177.78961907103852,2, 178.6015,2,    178.2,2,     87.3,2,    32.78,2,     0.00,2,     2.21,2,    0.303,2,    0.164,2,   0.0500,2,   2259.6,2,  2350.60,3,   7.5701,2,    24.89,     -999,9,     -999,9,   1.9374,2,     -999,9,     -999,9,     -999,     -999,9,     -999,9,     -999,9,     -999,9,    0.061,1,    4.652,1,    0.135,1,  21.4000,2,     -999,9,20180427,0022, -67.5015,-110.3963,     -999,9,     -999,9,-999          ,9,     -999,9,     -999,9,     -999,     -999,9,     -999,     -999,9,     -999,9,     -999,9,     -999,9,     -999,9,     -999,9,     -999,9,     -999,9,     -999,9,     -999,9,     -999,9,     -999,9,     -999,9,     -999,9
320620180309  ,S04P       ,94      ,  1,23         ,23         ,2,20180426,2244, -67.5010,-110.3944,     4195,    505.9,1.9000701371610113632,34.712903628983945,2,  34.7111,2,181.61181147940266,2, 181.7914,2,    182.5,2,     87.7,2,    32.31,2,     0.00,2,     2.19,2,    0.279,2,    0.153,2,   0.0000,2,   2252.9,3,  2348.83,2,   7.5789,2,    24.91,     44.0,2,     -999,9,   1.9000,2,     -999,9,     -999,9,     -999,     -999,9,     -999,9,     -999,1,     -999,9,    0.061,1,    4.652,1,    0.134,1,  20.5200,2,     -999,9,20180427,0020, -67.5016,-110.3962,     -999,9,     -999,9,-999          ,9,     -999,9,     -999,9,     -999,     -999,9,     -999,     -999,9,     -999,9,     -999,9,     -999,9,     -999,9,     -999,9,     -999,9,     -999,9,     -999,9,     -999,9,     -999,9,     -999,9,     -999,9,     -999,9
320620180309  ,S04P       ,94      ,  1,22         ,37         ,2,20180426,2244, -67.5010,-110.3944,     4195,    607.7,1.8249517140951163618,34.722733655896334,2,  34.7210,2,183.46325321633626,2, 184.5000,2,    184.0,2,     90.4,2,    32.15,2,     0.00,2,     2.20,2,    0.234,2,    0.132,2,   0.0800,2,   2257.3,2,  2352.46,2,   7.5802,2,    24.89,     40.9,2,     -999,9,   1.8256,2,     -999,9,     -999,9,     -999,     -999,9,     -999,9,     -999,1,     -999,9,    0.061,1,    4.652,1,    0.132,1,  20.7500,2,     -999,9,20180427,0017, -67.5015,-110.3960,     -999,9,     -999,9,-999          ,9,     -999,9,     -999,9,     -999,     -999,9,     -999,     -999,9,     -999,9,     -999,9,     -999,9,     -999,9,     -999,9,     -999,9,     -999,9,     -999,9,     -999,9,     -999,9,     -999,9,     -999,9,     -999,9
320620180309  ,S04P       ,94      ,  1,21         ,21         ,2,20180426,2244, -67.5010,-110.3944,     4195,    708.5,1.7542492398590625591,34.728364802735584,2,  34.7261,2,186.92721848298893,2, 186.2012,2,    186.3,2,     92.4,2,    31.97,2,     0.00,2,     2.19,2,     -999,9,     -999,9,     -999,9,   2257.0,2,  2353.25,2,   7.5860,2,    24.90,     39.9,2,     -999,9,   1.7545,2,     -999,9,     -999,9,     -999,     -999,9,     -999,9,     -999,1,     -999,9,    0.061,1,    4.654,1,    0.131,1,     -999,9,     -999,9,20180427,0014, -67.5015,-110.3958,     -999,9,     -999,9,-999          ,9,     -999,9,     -999,9,     -999,     -999,9,     -999,     -999,9,     -999,9,     -999,9,     -999,9,     -999,9,     -999,9,     -999,9,     -999,9,     -999,9,     -999,9,     -999,9,     -999,9,     -999,9,     -999,9
320620180309  ,S04P       ,94      ,  1,20         ,20         ,2,20180426,2244, -67.5010,-110.3944,     4195,    809.8,1.6731601694406661451,34.731490582130185,2,  34.7298,2,189.50244829062552,2, 188.9072,2,    189.3,2,     94.4,2,    31.77,2,     0.00,2,     2.18,2,    0.191,2,    0.106,2,   0.0200,2,   2255.8,2,  2354.25,2,   7.5924,2,    24.86,     43.2,2,     -999,9,   1.6736,2,     -999,9,     -999,9,     -999,     -999,9,     -999,9,     -999,1,     -999,9,    0.061,1,    4.654,1,    0.130,1,  20.0000,2,     -999,9,20180427,0011, -67.5014,-110.3956,     -999,9,     -999,9,-999          ,9,     -999,9,     -999,9,     -999,     -999,9,     -999,     -999,9,     -999,9,     -999,9,     -999,9,     -999,9,     -999,9,     -999,9,     -999,9,     -999,9,     -999,9,     -999,9,     -999,9,     -999,9,     -999,9
320620180309  ,S04P       ,94      ,  1,19         ,19         ,2,20180426,2244, -67.5010,-110.3944,     4195,    908.8,1.5777896276213079219,34.732631057055841,2,  34.7316,2,190.45258929326377,2, 191.1016,2,    190.1,2,     97.9,2,    31.87,2,     0.00,2,     2.17,2,     -999,9,     -999,9,     -999,9,   2257.8,2,  2355.24,2,   7.5925,2,    24.87,     42.6,2,     -999,9,   1.5773,2,     -999,9,     -999,9,     -999,     -999,9,     -999,9,     -999,1,     -999,9,    0.061,1,    4.654,1,    0.129,1,     -999,9,     -999,9,20180427,0008, -67.5015,-110.3957,     -999,9,     -999,9,-999          ,9,     -999,9,     -999,9,     -999,     -999,9,     -999,     -999,9,     -999,9,     -999,9,     -999,9,     -999,9,     -999,9,     -999,9,     -999,9,     -999,9,     -999,9,     -999,9,     -999,9,     -999,9,     -999,9
320620180309  ,S04P       ,94      ,  1,18         ,18         ,2,20180426,2244, -67.5010,-110.3944,     4195,   1012.4,1.4830025628987046904,34.732396986160055,2,  34.7306,2,192.21563779191212,2, 192.2004,2,    192.7,2,    100.4,2,    31.82,2,     0.00,2,     2.16,2,    0.157,2,    0.089,2,   0.0100,2,   2258.6,2,  2354.72,2,   7.5964,2,    24.88,     41.2,2,     -999,9,   1.4830,2,     -999,9,     -999,9,     -999,     -999,9,     -999,9,     -999,1,     -999,9,    0.061,1,    4.654,1,    0.128,1,  19.8700,2,     -999,9,20180427,0005, -67.5015,-110.3959,     -999,9,     -999,9,-999          ,9,     -999,9,     -999,9,     -999,     -999,9,     -999,     -999,9,     -999,9,     -999,9,     -999,9,     -999,9,     -999,9,     -999,9,     -999,9,     -999,9,     -999,9,     -999,9,     -999,9,     -999,9,     -999,9
320620180309  ,S04P       ,94      ,  1,17         ,17         ,2,20180426,2244, -67.5010,-110.3944,     4195,   1113.6,1.3958812520741639140,34.730919203577599,2,  34.7306,2,192.84271193902461,2, 193.7047,2,    193.1,2,    103.5,2,    31.90,2,     0.00,2,     2.16,2,    0.140,2,    0.075,2,   0.0200,2,   2260.0,2,  2358.82,2,   7.5986,2,    24.87,     41.2,2,     -999,9,   1.3964,2,     -999,9,     -999,9,     -999,     -999,9,     -999,9,     -999,1,     -999,9,    0.061,1,    4.655,1,    0.130,1,  19.7200,2,     -999,9,20180427,0001, -67.5016,-110.3965,     -999,9,     -999,9,-999          ,9,     -999,9,     -999,9,     -999,     -999,9,     -999,     -999,9,     -999,9,     -999,9,     -999,9,     -999,9,     -999,9,     -999,9,     -999,9,     -999,9,     -999,9,     -999,9,     -999,9,     -999,9,     -999,9
320620180309  ,S04P       ,94      ,  1,16         ,16         ,2,20180426,2244, -67.5010,-110.3944,     4195,   1216.7,1.3251179675925568446,34.729109419660595,2,  34.7284,2,193.96953928694020,2, 194.3067,2,    194.0,2,    105.8,2,    32.00,2,     0.00,2,     2.18,2,     -999,9,     -999,9,     -999,9,   2258.7,2,  2361.17,2,   7.5972,2,    24.88,     41.6,2,     -999,9,   1.3268,2,     -999,9,     -999,9,     -999,     -999,9,     -999,9,     -999,1,     -999,9,    0.061,1,    4.656,1,    0.129,1,     -999,9,     -999,9,20180426,2358, -67.5016,-110.3966,     -999,9,     -999,9,-999          ,9,     -999,9,     -999,9,     -999,     -999,9,     -999,     -999,9,     -999,9,     -999,9,     -999,9,     -999,9,     -999,9,     -999,9,     -999,9,     -999,9,     -999,9,     -999,9,     -999,9,     -999,9,     -999,9