BOTTLE,20240515CCHHYDRO
EXPOCODE,SECT_ID,STNNBR,CASTNO,SAMPNO,BTLNBR,BTLNBR_FLAG_W,DATE,TIME,LATITUDE,LONGITUDE,DEPTH,CTDPRS,CTDTMP,CTDSAL,CTDSAL_FLAG_W,SALNTY,SALNTY_FLAG_W,CTDOXY,CTDOXY_FLAG_W,CTDOPTOXY,CTDOPTOXY_FLAG_W,OXYGEN,OXYGEN_FLAG_W,SILCAT,SILCAT_FLAG_W,NITRAT,NITRAT_FLAG_W,NITRIT,NITRIT_FLAG_W,PHSPHT,PHSPHT_FLAG_W,CFC-11,CFC-11_FLAG_W,CFC-12,CFC-12_FLAG_W,SF6,SF6_FLAG_W,TCARBN,TCARBN_FLAG_W,ALKALI,ALKALI_FLAG_W,PH_TOT,PH_TOT_FLAG_W,PH_TMP,DOC,DOC_FLAG_W,HELIUM,HELIUM_FLAG_W,REFTMP,REFTMP_FLAG_W,DELC13,DELC13_FLAG_W,DELC14,DELC14_FLAG_W,C14ERR,POC,POC_FLAG_W,TDN,TDN_FLAG_W,TON,TON_FLAG_W,NEON,NEON_FLAG_W,CTDFLUOR,CTDFLUOR_FLAG_W,CTDXMISS,CTDXMISS_FLAG_W,CTDBETA700,CTDBETA700_FLAG_W,N2O,N2O_FLAG_W,ARGON,ARGON_FLAG_W,BTL_DATE,BTL_TIME,BTL_LAT,BTL_LON,KRYPTON,KRYPTON_FLAG_W,XENON,XENON_FLAG_W,HPLC,HPLC_FLAG_W,HE3_HE4_RATIO,HE3_HE4_RATIO_FLAG_W,Nd_143_144_D_EPSILON_BOTTLE,Nd_143_144_D_EPSILON_BOTTLE_FLAG_W,Nd_143_144_D_EPSILON_BOTTLE_ERROR,Nd_143_144_D_RATIO_BOTTLE,Nd_143_144_D_RATIO_BOTTLE_FLAG_W,Nd_143_144_D_RATIO_BOTTLE_ERROR,Nd_D_CONC,Nd_D_CONC_FLAG_W,La_D_CONC_BOTTLE,La_D_CONC_BOTTLE_FLAG_W,Ce_D_CONC_BOTTLE,Ce_D_CONC_BOTTLE_FLAG_W,Pr_D_CONC_BOTTLE,Pr_D_CONC_BOTTLE_FLAG_W,Sm_D_CONC_BOTTLE,Sm_D_CONC_BOTTLE_FLAG_W,Eu_D_CONC_BOTTLE,Eu_D_CONC_BOTTLE_FLAG_W,Gd_D_CONC_BOTTLE,Gd_D_CONC_BOTTLE_FLAG_W,Tb_D_CONC_BOTTLE,Tb_D_CONC_BOTTLE_FLAG_W,Dy_D_CONC_BOTTLE,Dy_D_CONC_BOTTLE_FLAG_W,Ho_D_CONC_BOTTLE,Ho_D_CONC_BOTTLE_FLAG_W,Er_D_CONC_BOTTLE,Er_D_CONC_BOTTLE_FLAG_W,Tm_D_CONC_BOTTLE,Tm_D_CONC_BOTTLE_FLAG_W,Yb_D_CONC_BOTTLE,Yb_D_CONC_BOTTLE_FLAG_W,Lu_D_CONC_BOTTLE,Lu_D_CONC_BOTTLE_FLAG_W
,,,,,,,,,,,METERS,DBAR,ITS-90,PSS-78,,PSS-78,,UMOL/KG,,UMOL/KG,,UMOL/KG,,UMOL/KG,,UMOL/KG,,UMOL/KG,,UMOL/KG,,PMOL/KG,,PMOL/KG,,FMOL/KG,,UMOL/KG,,UMOL/KG,,,,DEG C,UMOL/KG,,NMOL/L,,DEG C,,/MILLE,,/MILLE,,/MILLE,UG/KG,,UMOL/KG,,UMOL/KG,,NMOL/L,,VOLTS,,VOLTS,,VOLTS,,NMOL/KG,,UMOL/L,,,,,,NMOL/L,,NMOL/L,,,,,,10000,,10000,,,,PMOL/KG,,PMOL/L,,PMOL/L,,PMOL/L,,PMOL/L,,PMOL/L,,PMOL/L,,PMOL/L,,PMOL/L,,PMOL/L,,PMOL/L,,PMOL/L,,PMOL/L,,PMOL/L,
320620180309  ,P16        ,46      ,  1,36         ,36         ,2,20180406,0721, -71.0005,-149.9974,     4263,      5.6,-1.6633388888888889223,33.831479912251986,2,  33.8294,2,344.38231535396943,2, 316.5983,3,    346.3,2,     44.5,2,    25.82,2,     0.17,2,     1.84,2,    6.444,2,    3.245,2,   3.6700,2,   2177.6,6,  2290.59,2,   7.6518,2,    24.97,     41.1,2,     -999,9,  -1.6721,2,     -999,9,     -999,9,     -999,     -999,9,    28.20,2,     -999,1,     -999,9,    0.103,1,    4.648,1,    0.158,1,  17.2900,2,     -999,9,20180406,0920, -71.0009,-150.0018,     -999,9,     -999,9,-999          ,9,     -999,9,     -999,9,     -999,     -999,9,     -999,     -999,9,     -999,9,     -999,9,     -999,9,     -999,9,     -999,9,     -999,9,     -999,9,     -999,9,     -999,9,     -999,9,     -999,9,     -999,9,     -999,9
320620180309  ,P16        ,46      ,  1,35         ,35         ,2,20180406,0721, -71.0005,-149.9974,     4263,     35.3,-1.6639805555555553518,33.832011706596205,2,  33.8300,2,345.55872406619051,2, 316.6039,3,    345.8,2,     44.4,2,    25.78,2,     0.17,2,     1.85,2,    6.536,2,    3.201,2,   3.8800,3,   2177.8,2,  2291.09,2,   7.6514,6,    24.97,     42.0,2,     -999,9,  -1.6641,2,     -999,9,     -999,9,     -999,     -999,9,    28.40,2,     -999,1,     -999,9,    0.103,1,    4.648,1,    0.159,1,  17.2100,2,     -999,9,20180406,0919, -71.0008,-150.0017,     -999,9,     -999,9,-999          ,9,     -999,9,     -999,9,     -999,     -999,9,     -999,     -999,9,     -999,9,     -999,9,     -999,9,     -999,9,     -999,9,     -999,9,     -999,9,     -999,9,     -999,9,     -999,9,     -999,9,     -999,9,     -999,9
320620180309  ,P16        ,46      ,  1,34         ,34         ,2,20180406,0721, -71.0005,-149.9974,     4263,     61.0,-1.5676638888888887458,33.886438577374207,2,  33.8736,2,342.05973776103809,3, 314.7020,3,    338.1,2,     45.6,2,    26.22,2,     0.17,2,     1.89,2,     -999,9,     -999,9,     -999,9,   2182.2,2,  2294.57,2,   7.6469,6,    24.96,     41.7,2,     -999,9,  -1.5825,2,     -999,9,     -999,9,     -999,     -999,9,    29.30,2,     -999,1,     -999,9,    0.103,1,    4.649,1,    0.162,1,     -999,9,     -999,9,20180406,0918, -71.0008,-150.0016,     -999,9,     -999,9,-999          ,9,     -999,9,     -999,9,     -999,     -999,9,     -999,     -999,9,     -999,9,     -999,9,     -999,9,     -999,9,     -999,9,     -999,9,     -999,9,     -999,9,     -999,9,     -999,9,     -999,9,     -999,9,     -999,9
320620180309  ,P16        ,46      ,  1,33         ,33         ,2,20180406,0721, -71.0005,-149.9974,     4263,     85.2,-1.2402472222222220566,34.093860758424640,2,  34.0938,2,300.27690074808527,3, 302.6981,3,    297.0,2,     52.0,2,    28.67,2,     0.16,2,     2.02,2,    4.863,2,    2.517,2,   3.1000,2,   2205.6,2,  2304.74,2,   7.6163,2,    24.96,     40.3,2,     -999,9,  -1.2443,2,     -999,9,     -999,9,     -999,     -999,9,     -999,9,     -999,1,     -999,9,    0.089,1,    4.656,1,    0.152,1,  20.2600,2,     -999,9,20180406,0916, -71.0008,-150.0013,     -999,9,     -999,9,-999          ,9,     -999,9,     -999,9,     -999,     -999,9,     -999,     -999,9,     -999,9,     -999,9,     -999,9,     -999,9,     -999,9,     -999,9,     -999,9,     -999,9,     -999,9,     -999,9,     -999,9,     -999,9,     -999,9
320620180309  ,P16        ,46      ,  1,32         ,32         ,2,20180406,0721, -71.0005,-149.9974,     4263,    109.9,-0.8969194444444443803,34.160802002940962,2,  34.1764,2,283.78684439816777,3, 282.8002,3,    277.3,2,     57.4,2,    29.97,2,     0.10,2,     2.08,2,     -999,9,     -999,9,     -999,9,   2216.0,2,  2310.30,2,   7.5961,2,    24.95,     40.2,2,     -999,9,  -0.8800,2,     -999,9,     -999,9,     -999,     -999,9,    32.50,2,     -999,1,     -999,9,    0.085,1,    4.659,1,    0.148,1,     -999,9,     -999,9,20180406,0914, -71.0008,-150.0009,     -999,9,     -999,9,-999          ,9,     -999,9,     -999,9,     -999,     -999,9,     -999,     -999,9,     -999,9,     -999,9,     -999,9,     -999,9,     -999,9,     -999,9,     -999,9,     -999,9,     -999,9,     -999,9,     -999,9,     -999,9,     -999,9
320620180309  ,P16        ,46      ,  1,31         ,31         ,2,20180406,0721, -71.0005,-149.9974,     4263,    136.6,-0.0523333333333333220,34.308779379039940,2,  34.3200,2,249.81419964553521,3, 250.1996,3,    245.3,2,     66.5,2,    31.62,2,     0.04,2,     2.19,2,    3.173,2,    1.660,2,   1.7600,2,   2231.1,2,  2319.87,2,   7.5722,2,    24.96,     -999,9,     -999,9,  -0.0593,2,     -999,9,     -999,9,     -999,     -999,9,     -999,9,     -999,9,     -999,9,    0.075,1,    4.662,1,    0.139,1,  22.3700,2,     -999,9,20180406,0912, -71.0008,-150.0008,     -999,9,     -999,9,-999          ,9,     -999,9,     -999,9,     -999,     -999,9,     -999,     -999,9,     -999,9,     -999,9,     -999,9,     -999,9,     -999,9,     -999,9,     -999,9,     -999,9,     -999,9,     -999,9,     -999,9,     -999,9,     -999,9
320620180309  ,P16        ,46      ,  1,30         ,30         ,2,20180406,0721, -71.0005,-149.9974,     4263,    166.7,0.9889555555555554767,34.489091673634732,2,  34.4934,2,210.43136006381215,3, 227.6039,3,    206.3,2,     76.6,2,    33.28,2,     0.02,2,     2.28,2,     -999,9,     -999,9,     -999,9,   2248.1,2,  2328.29,2,   7.5537,2,    24.96,     39.6,2,     -999,9,   0.9803,2,     -999,9,     -999,9,     -999,     -999,9,    34.80,2,     -999,1,     -999,9,    0.073,1,    4.663,1,    0.142,1,     -999,9,     -999,9,20180406,0910, -71.0008,-150.0006,     -999,9,     -999,9,-999          ,9,     -999,9,     -999,9,     -999,     -999,9,     -999,     -999,9,     -999,9,     -999,9,     -999,9,     -999,9,     -999,9,     -999,9,     -999,9,     -999,9,     -999,9,     -999,9,     -999,9,     -999,9,     -999,9
320620180309  ,P16        ,46      ,  1,29         ,29         ,2,20180406,0721, -71.0005,-149.9974,     4263,    216.8,1.7864083333333335979,34.651383902195249,2,  34.6515,2,180.26733495937401,2, 192.0001,3,    178.9,2,     84.6,2,    33.59,2,     0.00,2,     2.29,2,    0.666,6,    0.352,6,   0.3100,6,   2259.1,6,  2341.84,2,   7.5554,2,    24.96,     41.2,2,     -999,9,   1.7836,2,     -999,9,     -999,9,     -999,     -999,9,    35.60,2,     -999,1,     -999,9,    0.069,1,    4.663,1,    0.138,1,  24.3200,6,     -999,9,20180406,0908, -71.0007,-150.0004,     -999,9,     -999,9,-999          ,9,     -999,9,     -999,9,     -999,     -999,9,     -999,     -999,9,     -999,9,     -999,9,     -999,9,     -999,9,     -999,9,     -999,9,     -999,9,     -999,9,     -999,9,     -999,9,     -999,9,     -999,9,     -999,9
320620180309  ,P16        ,46      ,  1,28         ,28         ,2,20180406,0721, -71.0005,-149.9974,     4263,    267.5,1.7368805555555555387,34.686272155402278,2,  34.6854,2,181.82661680215418,2, 185.3966,3,    181.3,2,     87.6,2,    32.93,2,     0.00,2,     2.26,2,    0.523,2,    0.284,2,   0.2400,2,   2259.7,2,  2343.83,2,   7.5625,2,    24.96,     45.1,3,     -999,9,   1.7371,2,     -999,9,     -999,9,     -999,     -999,9,    34.70,2,     -999,1,     -999,9,    0.066,1,    4.666,1,    0.137,1,  23.1200,2,     -999,9,20180406,0906, -71.0007,-150.0004,     -999,9,     -999,9,-999          ,9,     -999,9,     -999,9,     -999,     -999,9,     -999,     -999,9,     -999,9,     -999,9,     -999,9,     -999,9,     -999,9,     -999,9,     -999,9,     -999,9,     -999,9,     -999,9,     -999,9,     -999,9,     -999,9
320620180309  ,P16        ,46      ,  1,27         ,27         ,2,20180406,0721, -71.0005,-149.9974,     4263,    319.5,1.7266083333333333005,34.708344707375417,2,  34.7070,2,182.97671247791752,2, 185.5963,2,    182.8,2,     89.9,2,    32.53,2,     0.00,2,     2.23,2,    0.393,2,    0.205,2,   0.1100,2,   2258.3,2,  2350.22,3,   7.5737,2,    24.96,     41.2,2,     -999,9,   1.7286,2,     -999,9,     -999,9,     -999,     -999,9,     -999,9,     -999,1,     -999,9,    0.063,1,    4.670,1,    0.135,1,  23.3300,2,     -999,9,20180406,0904, -71.0007,-150.0003,     -999,9,     -999,9,-999          ,9,     -999,9,     -999,9,     -999,     -999,9,     -999,     -999,9,     -999,9,     -999,9,     -999,9,     -999,9,     -999,9,     -999,9,     -999,9,     -999,9,     -999,9,     -999,9,     -999,9,     -999,9,     -999,9
320620180309  ,P16        ,46      ,  1,26         ,26         ,2,20180406,0721, -71.0005,-149.9974,     4263,    369.0,1.6844527777777777988,34.716199500372873,2,  34.7155,2,184.65218145923234,2, 186.3956,2,    184.2,2,     91.5,2,    32.36,2,     0.00,2,     2.23,2,    0.340,2,    0.178,2,   0.1700,2,   2259.5,2,  2348.52,2,   7.5759,2,    24.95,     40.7,2,     -999,9,   1.6832,2,     -999,9,     -999,9,     -999,     -999,9,     -999,9,     -999,1,     -999,9,    0.062,1,    4.671,1,    0.133,1,  22.3200,2,     -999,9,20180406,0902, -71.0008,-150.0006,     -999,9,     -999,9,-999          ,9,     -999,9,     -999,9,     -999,     -999,9,     -999,     -999,9,     -999,9,     -999,9,     -999,9,     -999,9,     -999,9,     -999,9,     -999,9,     -999,9,     -999,9,     -999,9,     -999,9,     -999,9,     -999,9
320620180309  ,P16        ,46      ,  1,25         ,25         ,2,20180406,0721, -71.0005,-149.9974,     4263,    418.7,1.6350055555555558229,34.722586737131046,2,  34.7223,2,185.82771549487774,2, 187.3022,2,    185.3,2,     93.3,2,    32.21,2,     0.00,2,     2.19,2,    0.293,2,    0.165,2,  -0.0300,2,   2257.5,2,  2348.78,2,   7.5801,2,    24.96,     41.5,2,     -999,9,   1.6331,2,     -999,9,     -999,9,     -999,     -999,9,     -999,9,     -999,1,     -999,9,    0.061,1,    4.673,1,    0.133,1,  21.9600,2,     -999,9,20180406,0900, -71.0008,-150.0012,     -999,9,     -999,9,-999          ,9,     -999,9,     -999,9,     -999,     -999,9,     -999,     -999,9,     -999,9,     -999,9,     -999,9,     -999,9,     -999,9,     -999,9,     -999,9,     -999,9,     -999,9,     -999,9,     -999,9,     -999,9,     -999,9
320620180309  ,P16        ,46      ,  1,24         ,24         ,2,20180406,0721, -71.0005,-149.9974,     4263,    470.6,1.5832361111111115104,34.726729643080731,2,  34.7288,2,186.56506555309238,2, 188.2953,2,    186.5,2,     95.4,2,    32.24,2,     0.00,2,     2.18,2,    0.266,2,    0.144,2,   0.2600,2,   2259.6,2,  2351.65,2,   7.5831,2,    24.96,     43.2,2,     -999,9,   1.5827,2,     -999,9,     -999,9,     -999,     -999,9,     -999,9,     -999,1,     -999,9,    0.062,1,    4.673,1,    0.130,1,  21.8300,2,     -999,9,20180406,0857, -71.0008,-150.0021,     -999,9,     -999,9,-999          ,9,     -999,9,     -999,9,     -999,     -999,9,     -999,     -999,9,     -999,9,     -999,9,     -999,9,     -999,9,     -999,9,     -999,9,     -999,9,     -999,9,     -999,9,     -999,9,     -999,9,     -999,9,     -999,9
320620180309  ,P16        ,46      ,  1,23         ,23         ,2,20180406,0721, -71.0005,-149.9974,     4263,    540.6,1.5193055555555556868,34.729418958618233,2,  34.7259,2,187.73009158494506,2, 188.9006,2,    186.9,2,     97.6,2,    32.25,2,     0.00,2,     2.19,2,    0.231,2,    0.119,2,  -0.0100,2,   2259.5,2,  2352.48,2,   7.5811,2,    24.96,     41.3,2,     -999,9,   1.5175,2,     -999,9,     -999,9,     -999,     -999,9,     -999,9,     -999,1,     -999,9,    0.062,1,    4.673,1,    0.131,1,  22.3500,2,     -999,9,20180406,0855, -71.0009,-150.0027,     -999,9,     -999,9,-999          ,9,     -999,9,     -999,9,     -999,     -999,9,     -999,     -999,9,     -999,9,     -999,9,     -999,9,     -999,9,     -999,9,     -999,9,     -999,9,     -999,9,     -999,9,     -999,9,     -999,9,     -999,9,     -999,9
320620180309  ,P16        ,46      ,  1,22         ,37         ,2,20180406,0721, -71.0005,-149.9974,     4263,    641.6,1.4379583333333332273,34.731351526924989,2,  34.7312,2,189.63853756536616,2, 190.8993,2,    189.0,2,    100.9,2,    32.17,2,     0.00,2,     2.18,2,    0.190,2,    0.096,2,   0.0600,2,   2259.2,2,  2356.38,2,   7.5851,2,    24.96,     42.8,2,     -999,9,   1.4365,2,     -999,9,     -999,9,     -999,     -999,9,     -999,9,     -999,1,     -999,9,    0.061,1,    4.672,1,    0.131,1,  21.7900,2,     -999,9,20180406,0852, -71.0011,-150.0020,     -999,9,     -999,9,-999          ,9,     -999,9,     -999,9,     -999,     -999,9,     -999,     -999,9,     -999,9,     -999,9,     -999,9,     -999,9,     -999,9,     -999,9,     -999,9,     -999,9,     -999,9,     -999,9,     -999,9,     -999,9,     -999,9
320620180309  ,P16        ,46      ,  1,21         ,21         ,2,20180406,0721, -71.0005,-149.9974,     4263,    743.4,1.3496527777777775903,34.730360484307745,2,  34.7304,2,191.11431865367669,2, 192.0952,2,    191.3,2,    104.2,2,    32.16,2,     0.00,2,     2.18,2,    0.166,2,    0.090,2,   0.0400,2,   2261.6,2,  2355.93,2,   7.5877,2,    24.97,     39.1,3,     -999,9,   1.3480,2,     -999,9,     -999,9,     -999,     -999,9,     -999,9,     -999,1,     -999,9,    0.063,1,    4.672,1,    0.134,1,  21.7700,2,     -999,9,20180406,0849, -71.0010,-150.0010,     -999,9,     -999,9,-999          ,9,     -999,9,     -999,9,     -999,     -999,9,     -999,     -999,9,     -999,9,     -999,9,     -999,9,     -999,9,     -999,9,     -999,9,     -999,9,     -999,9,     -999,9,     -999,9,     -999,9,     -999,9,     -999,9
320620180309  ,P16        ,46      ,  1,20         ,20         ,2,20180406,0721, -71.0005,-149.9974,     4263,    845.6,1.2742555555555556968,34.728721726913150,2,  34.7284,2,191.77404570191382,2, 192.1035,2,    191.6,2,    107.0,2,    32.25,2,     0.00,2,     2.20,2,     -999,9,     -999,9,     -999,9,   2262.3,2,  2357.27,2,   7.5863,2,    24.95,     42.8,2,     -999,9,   1.2738,2,     -999,9,     -999,9,     -999,     -999,9,     -999,9,     -999,1,     -999,9,    0.061,1,    4.671,1,    0.129,1,     -999,9,     -999,9,20180406,0846, -71.0008,-149.9998,     -999,9,     -999,9,-999          ,9,     -999,9,     -999,9,     -999,     -999,9,     -999,     -999,9,     -999,9,     -999,9,     -999,9,     -999,9,     -999,9,     -999,9,     -999,9,     -999,9,     -999,9,     -999,9,     -999,9,     -999,9,     -999,9
320620180309  ,P16        ,46      ,  1,19         ,19         ,2,20180406,0721, -71.0005,-149.9974,     4263,    947.9,1.2105777777777779747,34.726830536316527,2,  34.7270,2,192.16112515635527,2, 192.9049,2,    192.5,2,    109.2,2,    32.29,2,     0.00,2,     2.19,2,    0.138,2,    0.079,2,   0.0500,2,   2263.9,2,  2358.42,2,   7.5872,2,    24.94,     42.1,2,     -999,9,   1.2100,2,     -999,9,     -999,9,     -999,     -999,9,     -999,9,     -999,1,     -999,9,    0.061,1,    4.671,1,    0.130,1,  22.1200,2,     -999,9,20180406,0843, -71.0007,-149.9988,     -999,9,     -999,9,-999          ,9,     -999,9,     -999,9,     -999,     -999,9,     -999,     -999,9,     -999,9,     -999,9,     -999,9,     -999,9,     -999,9,     -999,9,     -999,9,     -999,9,     -999,9,     -999,9,     -999,9,     -999,9,     -999,9
320620180309  ,P16        ,46      ,  1,18         ,18         ,2,20180406,0721, -71.0005,-149.9974,     4263,   1048.5,1.1484000000000000874,34.724573534861442,2,  34.7247,2,194.30941373150830,2, 194.4003,2,    194.4,2,    111.0,2,    32.24,2,     0.00,2,     2.18,2,     -999,9,     -999,9,     -999,9,   2263.0,2,  2359.60,2,   7.5924,6,    24.94,     43.0,3,     -999,9,   1.1475,2,     -999,9,     -999,9,     -999,     -999,9,     -999,9,     -999,1,     -999,9,    0.061,1,    4.672,1,    0.128,1,     -999,9,     -999,9,20180406,0840, -71.0006,-149.9982,     -999,9,     -999,9,-999          ,9,     -999,9,     -999,9,     -999,     -999,9,     -999,     -999,9,     -999,9,     -999,9,     -999,9,     -999,9,     -999,9,     -999,9,     -999,9,     -999,9,     -999,9,     -999,9,     -999,9,     -999,9,     -999,9
320620180309  ,P16        ,46      ,  1,17         ,17         ,2,20180406,0721, -71.0005,-149.9974,     4263,   1149.6,1.0860583333333333478,34.722238783657971,2,  34.7225,2,196.86592831709243,2, 195.8026,2,    196.3,2,    113.0,2,    32.26,2,     0.00,2,     2.19,2,    0.124,2,    0.063,2,   0.0000,2,   2261.6,2,  2362.08,2,   7.5920,6,    24.94,     41.5,2,     -999,9,   1.0853,2,     -999,9,     -999,9,     -999,     -999,9,     -999,9,     -999,1,     -999,9,    0.061,1,    4.672,1,    0.130,1,  21.3100,2,     -999,9,20180406,0837, -71.0005,-149.9974,     -999,9,     -999,9,-999          ,9,     -999,9,     -999,9,     -999,     -999,9,     -999,     -999,9,     -999,9,     -999,9,     -999,9,     -999,9,     -999,9,     -999,9,     -999,9,     -999,9,     -999,9,     -999,9,     -999,9,     -999,9,     -999,9
320620180309  ,P16        ,46      ,  1,16         ,16         ,2,20180406,0721, -71.0005,-149.9974,     4263,   1250.3,1.0294833333333333059,34.719864632106535,2,  34.7204,2,197.41379574437940,2, 197.4951,2,    197.2,2,    114.6,2,    32.32,2,     0.00,2,     2.19,2,     -999,9,     -999,9,     -999,9,   2264.0,2,  2360.14,2,   7.5906,2,    24.95,     42.3,2,     -999,9,   1.0279,2,     -999,9,     -999,9,     -999,     -999,9,     -999,9,     -999,1,     -999,9,    0.061,1,    4.673,1,    0.129,1,     -999,9,     -999,9,20180406,0834, -71.0004,-149.9966,     -999,9,     -999,9,-999          ,9,     -999,9,     -999,9,     -999,     -999,9,     -999,     -999,9,     -999,9,     -999,9,     -999,9,     -999,9,     -999,9,     -999,9,     -999,9,     -999,9,     -999,9,     -999,9,     -999,9,     -999,9,     -999,9