BOTTLE,20240515CCHHYDRO
EXPOCODE,SECT_ID,STNNBR,CASTNO,SAMPNO,BTLNBR,BTLNBR_FLAG_W,DATE,TIME,LATITUDE,LONGITUDE,DEPTH,CTDPRS,CTDTMP,CTDSAL,CTDSAL_FLAG_W,SALNTY,SALNTY_FLAG_W,CTDOXY,CTDOXY_FLAG_W,CTDOPTOXY,CTDOPTOXY_FLAG_W,OXYGEN,OXYGEN_FLAG_W,SILCAT,SILCAT_FLAG_W,NITRAT,NITRAT_FLAG_W,NITRIT,NITRIT_FLAG_W,PHSPHT,PHSPHT_FLAG_W,CFC-11,CFC-11_FLAG_W,CFC-12,CFC-12_FLAG_W,SF6,SF6_FLAG_W,TCARBN,TCARBN_FLAG_W,ALKALI,ALKALI_FLAG_W,PH_TOT,PH_TOT_FLAG_W,PH_TMP,DOC,DOC_FLAG_W,HELIUM,HELIUM_FLAG_W,REFTMP,REFTMP_FLAG_W,DELC13,DELC13_FLAG_W,DELC14,DELC14_FLAG_W,C14ERR,POC,POC_FLAG_W,TDN,TDN_FLAG_W,TON,TON_FLAG_W,NEON,NEON_FLAG_W,CTDFLUOR,CTDFLUOR_FLAG_W,CTDXMISS,CTDXMISS_FLAG_W,CTDBETA700,CTDBETA700_FLAG_W,N2O,N2O_FLAG_W,ARGON,ARGON_FLAG_W,BTL_DATE,BTL_TIME,BTL_LAT,BTL_LON,KRYPTON,KRYPTON_FLAG_W,XENON,XENON_FLAG_W,HPLC,HPLC_FLAG_W,HE3_HE4_RATIO,HE3_HE4_RATIO_FLAG_W,Nd_143_144_D_EPSILON_BOTTLE,Nd_143_144_D_EPSILON_BOTTLE_FLAG_W,Nd_143_144_D_EPSILON_BOTTLE_ERROR,Nd_143_144_D_RATIO_BOTTLE,Nd_143_144_D_RATIO_BOTTLE_FLAG_W,Nd_143_144_D_RATIO_BOTTLE_ERROR,Nd_D_CONC,Nd_D_CONC_FLAG_W,La_D_CONC_BOTTLE,La_D_CONC_BOTTLE_FLAG_W,Ce_D_CONC_BOTTLE,Ce_D_CONC_BOTTLE_FLAG_W,Pr_D_CONC_BOTTLE,Pr_D_CONC_BOTTLE_FLAG_W,Sm_D_CONC_BOTTLE,Sm_D_CONC_BOTTLE_FLAG_W,Eu_D_CONC_BOTTLE,Eu_D_CONC_BOTTLE_FLAG_W,Gd_D_CONC_BOTTLE,Gd_D_CONC_BOTTLE_FLAG_W,Tb_D_CONC_BOTTLE,Tb_D_CONC_BOTTLE_FLAG_W,Dy_D_CONC_BOTTLE,Dy_D_CONC_BOTTLE_FLAG_W,Ho_D_CONC_BOTTLE,Ho_D_CONC_BOTTLE_FLAG_W,Er_D_CONC_BOTTLE,Er_D_CONC_BOTTLE_FLAG_W,Tm_D_CONC_BOTTLE,Tm_D_CONC_BOTTLE_FLAG_W,Yb_D_CONC_BOTTLE,Yb_D_CONC_BOTTLE_FLAG_W,Lu_D_CONC_BOTTLE,Lu_D_CONC_BOTTLE_FLAG_W
,,,,,,,,,,,METERS,DBAR,ITS-90,PSS-78,,PSS-78,,UMOL/KG,,UMOL/KG,,UMOL/KG,,UMOL/KG,,UMOL/KG,,UMOL/KG,,UMOL/KG,,PMOL/KG,,PMOL/KG,,FMOL/KG,,UMOL/KG,,UMOL/KG,,,,DEG C,UMOL/KG,,NMOL/L,,DEG C,,/MILLE,,/MILLE,,/MILLE,UG/KG,,UMOL/KG,,UMOL/KG,,NMOL/L,,VOLTS,,VOLTS,,VOLTS,,NMOL/KG,,UMOL/L,,,,,,NMOL/L,,NMOL/L,,,,,,10000,,10000,,,,PMOL/KG,,PMOL/L,,PMOL/L,,PMOL/L,,PMOL/L,,PMOL/L,,PMOL/L,,PMOL/L,,PMOL/L,,PMOL/L,,PMOL/L,,PMOL/L,,PMOL/L,,PMOL/L,
320620180309  ,P16        ,50      ,  1,35         ,35         ,2,20180407,1540, -69.0006,-149.9994,     4362,      8.8,-1.4886277777777778830,33.811220438304865,2,  33.8089,2,347.28098718152131,2, 347.0996,2,    346.8,2,     43.6,2,    24.70,2,     0.19,2,     1.77,2,    6.125,2,    3.255,2,   4.1300,2,   2172.3,6,  2290.70,2,   7.6606,2,    24.94,     -999,5,     -999,9,  -1.4892,2,     -999,5, -102.180,2,    0.002,     -999,9,     -999,5,     -999,1,     -999,9,    0.132,1,    4.628,1,    0.163,1,  17.7300,2,     -999,9,20180407,1758, -69.0007,-149.9992,     -999,9,     -999,9,-999          ,9,     -999,9,     -999,9,     -999,     -999,9,     -999,     -999,9,     -999,9,     -999,9,     -999,9,     -999,9,     -999,9,     -999,9,     -999,9,     -999,9,     -999,9,     -999,9,     -999,9,     -999,9,     -999,9
320620180309  ,P16        ,50      ,  1,36         ,36         ,2,20180407,1540, -69.0006,-149.9994,     4362,      9.4,-1.4880888888888887944,33.811146832804042,3,     -999,9,347.31983604190765,2, 321.9922,2,     -999,9,     -999,9,     -999,9,     -999,9,     -999,9,     -999,9,     -999,9,     -999,9,     -999,9,     -999,9,     -999,9,     -999,     -999,9,     -999,9,     -999,9,     -999,9,     -999,9,     -999,     -999,1,     -999,9,     -999,9,     -999,9,    0.132,1,    4.628,1,    0.163,1,     -999,9,     -999,9,20180407,1758, -69.0007,-149.9992,     -999,9,     -999,9,-999          ,1,     -999,9,     -999,9,     -999,     -999,9,     -999,     -999,9,     -999,9,     -999,9,     -999,9,     -999,9,     -999,9,     -999,9,     -999,9,     -999,9,     -999,9,     -999,9,     -999,9,     -999,9,     -999,9
320620180309  ,P16        ,50      ,  1,34         ,34         ,2,20180407,1540, -69.0006,-149.9994,     4362,     19.9,-1.4925805555555555770,33.811289409532606,2,  33.8101,2,347.92095634393570,2, 347.0999,2,    347.5,2,     43.6,2,    24.66,2,     0.19,2,     1.75,2,    6.143,2,    3.282,2,   4.0900,2,   2172.4,2,  2291.25,2,   7.6613,2,    24.93,     -999,5,     -999,9,  -1.4927,2,     -999,9,     -999,9,     -999,     -999,9,     -999,5,     -999,1,     -999,9,    0.117,1,    4.627,1,    0.164,1,  17.1700,2,     -999,9,20180407,1757, -69.0006,-149.9992,     -999,9,     -999,9,-999          ,9,     -999,9,     -999,9,     -999,     -999,9,     -999,     -999,9,     -999,9,     -999,9,     -999,9,     -999,9,     -999,9,     -999,9,     -999,9,     -999,9,     -999,9,     -999,9,     -999,9,     -999,9,     -999,9
320620180309  ,P16        ,50      ,  1,33         ,33         ,2,20180407,1540, -69.0006,-149.9994,     4362,     39.5,-1.4913555555555555454,33.811371496345480,2,  33.8091,2,349.13402030219316,2, 347.0980,2,    347.1,2,     43.6,2,    24.67,2,     0.20,2,     1.76,2,     -999,9,     -999,9,     -999,9,   2173.4,2,  2291.15,2,   7.6629,2,    24.94,     -999,5,     -999,9,  -1.4933,2,     -999,9,     -999,9,     -999,     -999,9,     -999,5,     -999,1,     -999,9,    0.121,1,    4.628,1,    0.162,1,     -999,9,     -999,9,20180407,1755, -69.0005,-149.9992,     -999,9,     -999,9,-999          ,9,     -999,9,     -999,9,     -999,     -999,9,     -999,     -999,9,     -999,9,     -999,9,     -999,9,     -999,9,     -999,9,     -999,9,     -999,9,     -999,9,     -999,9,     -999,9,     -999,9,     -999,9,     -999,9
320620180309  ,P16        ,50      ,  1,32         ,32         ,2,20180407,1540, -69.0006,-149.9994,     4362,     64.7,-1.4882583333333332387,33.812869287497200,2,  33.8095,2,346.88649348984870,2, 347.0970,2,    347.4,2,     43.6,2,    24.64,2,     0.19,2,     1.76,2,    6.095,2,    3.215,2,   3.7700,2,   2172.1,2,  2291.25,2,   7.6616,2,    24.95,     -999,5,     -999,9,  -1.4887,2,1.44000000,2, -102.490,2,    0.002,     -999,9,     -999,5,     -999,1,     -999,9,    0.116,1,    4.627,1,    0.164,1,  17.1500,2,     -999,9,20180407,1753, -69.0005,-149.9992,     -999,9,     -999,9,-999          ,9,     -999,9,     -999,9,     -999,     -999,9,     -999,     -999,9,     -999,9,     -999,9,     -999,9,     -999,9,     -999,9,     -999,9,     -999,9,     -999,9,     -999,9,     -999,9,     -999,9,     -999,9,     -999,9
320620180309  ,P16        ,50      ,  1,30         ,30         ,2,20180407,1540, -69.0006,-149.9994,     4362,     89.6,-1.4758416666666667183,34.097910446629257,2,  34.0991,2,309.09244725796327,2, 306.7953,2,    306.9,2,     51.0,2,    27.75,2,     0.21,2,     1.96,2,     -999,9,     -999,9,     -999,9,   2203.1,2,  2307.26,2,   7.6180,2,    24.96,     -999,5,     -999,9,  -1.4947,2,1.15000000,2, -110.140,2,    0.002,     -999,9,     -999,5,     -999,1,     -999,9,    0.104,1,    4.637,1,    0.151,1,     -999,9,     -999,9,20180407,1752, -69.0004,-149.9992,     -999,9,     -999,9,-999          ,9,     -999,9,     -999,9,     -999,     -999,9,     -999,     -999,9,     -999,9,     -999,9,     -999,9,     -999,9,     -999,9,     -999,9,     -999,9,     -999,9,     -999,9,     -999,9,     -999,9,     -999,9,     -999,9
320620180309  ,P16        ,50      ,  1,31         ,31         ,2,20180407,1540, -69.0006,-149.9994,     4362,     90.0,-1.5133666666666669709,34.092089487973851,3,     -999,9,308.18422815052321,2, 284.1928,2,     -999,9,     -999,9,     -999,9,     -999,9,     -999,9,     -999,9,     -999,9,     -999,9,     -999,9,     -999,9,     -999,9,     -999,     -999,9,     -999,9,     -999,9,     -999,9,     -999,9,     -999,     -999,1,     -999,9,     -999,9,     -999,9,    0.133,1,    4.637,1,    0.213,1,     -999,9,     -999,9,20180407,1752, -69.0004,-149.9992,     -999,9,     -999,9,-999          ,1,     -999,9,     -999,9,     -999,     -999,9,     -999,     -999,9,     -999,9,     -999,9,     -999,9,     -999,9,     -999,9,     -999,9,     -999,9,     -999,9,     -999,9,     -999,9,     -999,9,     -999,9,     -999,9
320620180309  ,P16        ,50      ,  1,29         ,29         ,2,20180407,1540, -69.0006,-149.9994,     4362,    134.3,0.0893416666666666803,34.393533907817144,2,  34.4038,2,244.54077069401194,3, 227.3993,3,    237.5,2,     73.8,2,    31.82,2,     0.03,2,     2.18,2,    2.776,2,    1.489,2,   1.3700,2,   2236.0,2,  2325.00,2,   7.5740,2,    24.95,     -999,5,     -999,9,   0.0853,2,0.69000000,2, -130.870,2,    0.002,     -999,9,     -999,5,     -999,1,     -999,9,    0.082,1,    4.649,1,    0.142,1,  21.8900,2,     -999,9,20180407,1749, -69.0004,-149.9991,     -999,9,     -999,9,-999          ,9,     -999,9,     -999,9,     -999,     -999,9,     -999,     -999,9,     -999,9,     -999,9,     -999,9,     -999,9,     -999,9,     -999,9,     -999,9,     -999,9,     -999,9,     -999,9,     -999,9,     -999,9,     -999,9
320620180309  ,P16        ,50      ,  1,28         ,28         ,2,20180407,1540, -69.0006,-149.9994,     4362,    186.0,1.3868944444444446518,34.642699231273454,2,  34.6383,2,191.89360869867369,3, 189.9991,2,    189.5,2,     87.3,2,    33.14,2,     0.02,2,     2.25,2,    0.933,2,    0.502,2,   0.4100,2,   2257.0,2,  2341.49,2,   7.5552,2,    24.95,     -999,5,     -999,9,   1.3808,2,0.46000000,2, -146.760,2,    0.002,     -999,9,     -999,5,     -999,1,     -999,9,    0.079,1,    4.650,1,    0.142,1,  22.9200,2,     -999,9,20180407,1747, -69.0004,-149.9991,     -999,9,     -999,9,-999          ,9,     -999,9,     -999,9,     -999,     -999,9,     -999,     -999,9,     -999,9,     -999,9,     -999,9,     -999,9,     -999,9,     -999,9,     -999,9,     -999,9,     -999,9,     -999,9,     -999,9,     -999,9,     -999,9
320620180309  ,P16        ,50      ,  1,27         ,27         ,2,20180407,1540, -69.0006,-149.9994,     4362,    236.7,1.5619749999999998913,34.711565453836137,2,  34.7107,2,180.58062406865807,2, 182.8984,2,    181.1,2,     94.5,2,    32.93,2,     0.00,2,     2.23,2,    0.375,2,    0.201,2,   0.1400,2,   2261.7,6,  2349.33,2,   7.5651,2,    24.96,     -999,5,     -999,9,   1.5608,2,0.50000000,2, -150.710,2,    0.002,     -999,9,     -999,5,     -999,1,     -999,9,    0.065,1,    4.657,1,    0.139,1,  23.6100,2,     -999,9,20180407,1745, -69.0004,-149.9992,     -999,9,     -999,9,-999          ,9,     -999,9,     -999,9,     -999,     -999,9,     -999,     -999,9,     -999,9,     -999,9,     -999,9,     -999,9,     -999,9,     -999,9,     -999,9,     -999,9,     -999,9,     -999,9,     -999,9,     -999,9,     -999,9
320620180309  ,P16        ,50      ,  1,26         ,26         ,2,20180407,1540, -69.0006,-149.9994,     4362,    288.3,1.5459888888888886349,34.722068522576549,2,  34.7204,2,182.66954234320056,2, 182.6992,2,    182.2,2,     96.7,2,    32.73,2,     0.00,2,     2.22,2,    0.301,2,    0.160,2,   0.1300,2,   2260.7,2,  2350.99,2,   7.5681,2,    24.95,     -999,5,     -999,9,   1.5454,2,0.47000000,2, -155.120,2,    0.002,     -999,9,     -999,5,     -999,1,     -999,9,    0.062,1,    4.661,1,    0.136,1,  22.2100,2,     -999,9,20180407,1742, -69.0005,-149.9992,     -999,9,     -999,9,-999          ,9,     -999,9,     -999,9,     -999,     -999,9,     -999,     -999,9,     -999,9,     -999,9,     -999,9,     -999,9,     -999,9,     -999,9,     -999,9,     -999,9,     -999,9,     -999,9,     -999,9,     -999,9,     -999,9
320620180309  ,P16        ,50      ,  1,25         ,25         ,2,20180407,1540, -69.0006,-149.9994,     4362,    338.1,1.4992583333333333595,34.727359394690509,2,  34.7259,2,183.33487327155706,2, 183.5973,2,    182.7,2,     99.2,2,    32.77,2,     0.00,2,     2.21,2,    0.256,6,    0.136,6,   0.0300,6,   2263.2,2,  2353.73,2,   7.5705,2,    24.96,     -999,9,     -999,9,   1.4984,2,     -999,9,     -999,9,     -999,     -999,9,     -999,9,     -999,9,     -999,9,    0.061,1,    4.662,1,    0.135,1,  22.1400,6,     -999,9,20180407,1740, -69.0006,-149.9992,     -999,9,     -999,9,-999          ,9,     -999,9,     -999,9,     -999,     -999,9,     -999,     -999,9,     -999,9,     -999,9,     -999,9,     -999,9,     -999,9,     -999,9,     -999,9,     -999,9,     -999,9,     -999,9,     -999,9,     -999,9,     -999,9
320620180309  ,P16        ,50      ,  1,24         ,24         ,2,20180407,1540, -69.0006,-149.9994,     4362,    387.5,1.4633222222222224129,34.729161974774946,2,  34.7282,2,185.07775235803800,2, 184.5001,2,    184.1,2,    100.4,2,    32.61,2,     0.00,2,     2.21,2,    0.229,2,    0.122,2,   0.2000,2,   2263.8,2,  2353.72,2,   7.5729,2,    24.95,     -999,5,     -999,9,   1.4627,2,0.49000000,2, -155.360,2,    0.002,     -999,9,     -999,9,     -999,1,     -999,9,    0.062,1,    4.664,1,    0.134,1,  21.5000,2,     -999,9,20180407,1738, -69.0006,-149.9992,     -999,9,     -999,9,-999          ,9,     -999,9,     -999,9,     -999,     -999,9,     -999,     -999,9,     -999,9,     -999,9,     -999,9,     -999,9,     -999,9,     -999,9,     -999,9,     -999,9,     -999,9,     -999,9,     -999,9,     -999,9,     -999,9
320620180309  ,P16        ,50      ,  1,23         ,23         ,2,20180407,1540, -69.0006,-149.9994,     4362,    469.3,1.3751777777777780543,34.730463245520319,2,  34.7294,2,184.07813893726825,2, 186.2017,2,    184.6,2,    104.4,2,    32.77,2,     0.00,2,     2.21,2,    0.188,2,    0.097,2,   0.1200,2,   2264.4,2,  2354.82,2,   7.5731,2,    24.96,     -999,5,     -999,9,   1.3741,2,0.46000000,2, -154.190,2,    0.002,     -999,9,     -999,9,     -999,1,     -999,9,    0.061,1,    4.664,1,    0.132,1,  21.2100,2,     -999,9,20180407,1735, -69.0007,-149.9993,     -999,9,     -999,9,-999          ,9,     -999,9,     -999,9,     -999,     -999,9,     -999,     -999,9,     -999,9,     -999,9,     -999,9,     -999,9,     -999,9,     -999,9,     -999,9,     -999,9,     -999,9,     -999,9,     -999,9,     -999,9,     -999,9
320620180309  ,P16        ,50      ,  1,22         ,37         ,2,20180407,1540, -69.0006,-149.9994,     4362,    569.8,1.2903777777777778457,34.729584562353558,2,  34.7288,2,185.04032629002216,2, 187.9991,2,    186.1,2,    107.6,2,    32.80,2,     0.00,2,     2.21,2,     -999,9,     -999,9,     -999,9,   2266.2,2,  2356.12,2,   7.5759,2,    24.95,     -999,5,     -999,9,   1.2893,2,0.48000000,2, -155.940,2,    0.002,     -999,9,     -999,9,     -999,1,     -999,9,    0.062,1,    4.663,1,    0.132,1,     -999,9,     -999,9,20180407,1732, -69.0009,-149.9994,     -999,9,     -999,9,-999          ,9,     -999,9,     -999,9,     -999,     -999,9,     -999,     -999,9,     -999,9,     -999,9,     -999,9,     -999,9,     -999,9,     -999,9,     -999,9,     -999,9,     -999,9,     -999,9,     -999,9,     -999,9,     -999,9
320620180309  ,P16        ,50      ,  1,21         ,21         ,2,20180407,1540, -69.0006,-149.9994,     4362,    672.2,1.2168527777777777832,34.727873652659582,2,  34.7263,2,188.11451723172510,2, 189.7986,2,    189.0,2,    109.5,2,    32.68,2,     0.00,2,     2.21,2,    0.144,2,    0.073,2,   0.0900,2,   2267.2,3,  2357.73,2,   7.5816,6,    24.96,     -999,5,     -999,9,   1.2161,2,0.48000000,2, -157.250,2,    0.002,     -999,9,     -999,9,     -999,1,     -999,9,    0.061,1,    4.663,1,    0.133,1,  20.7000,2,     -999,9,20180407,1728, -69.0008,-149.9993,     -999,9,     -999,9,-999          ,9,     -999,9,     -999,9,     -999,     -999,9,     -999,     -999,9,     -999,9,     -999,9,     -999,9,     -999,9,     -999,9,     -999,9,     -999,9,     -999,9,     -999,9,     -999,9,     -999,9,     -999,9,     -999,9
320620180309  ,P16        ,50      ,  1,20         ,20         ,2,20180407,1540, -69.0006,-149.9994,     4362,    772.7,1.1472777777777773967,34.725551421829806,2,  34.7251,2,190.07612860412351,2, 191.4982,2,    190.8,2,    111.5,2,    32.66,2,     0.00,2,     2.21,2,    0.129,2,    0.072,2,   0.0600,2,   2264.4,2,  2359.19,2,   7.5817,6,    24.95,     -999,5,     -999,9,   1.1476,2,0.49000000,2, -160.220,2,    0.002,     -999,9,     -999,9,     -999,1,     -999,9,    0.061,1,    4.662,1,    0.133,1,  21.0900,2,     -999,9,20180407,1725, -69.0007,-149.9993,     -999,9,     -999,9,-999          ,9,     -999,9,     -999,9,     -999,     -999,9,     -999,     -999,9,     -999,9,     -999,9,     -999,9,     -999,9,     -999,9,     -999,9,     -999,9,     -999,9,     -999,9,     -999,9,     -999,9,     -999,9,     -999,9
320620180309  ,P16        ,50      ,  1,19         ,19         ,2,20180407,1540, -69.0006,-149.9994,     4362,    875.1,1.0862694444444445097,34.723245489968129,2,  34.7225,2,192.83425173574085,2, 193.0978,2,    193.7,2,    113.3,2,    32.58,2,     0.00,2,     2.21,2,     -999,9,     -999,9,     -999,9,   2264.7,2,  2364.18,3,   7.5863,2,    24.96,     -999,5,     -999,9,   1.0855,2,0.52000000,2, -158.590,2,    0.002,     -999,9,     -999,9,     -999,1,     -999,9,    0.062,1,    4.663,1,    0.132,1,     -999,9,     -999,9,20180407,1719, -69.0007,-149.9992,     -999,9,     -999,9,-999          ,9,     -999,9,     -999,9,     -999,     -999,9,     -999,     -999,9,     -999,9,     -999,9,     -999,9,     -999,9,     -999,9,     -999,9,     -999,9,     -999,9,     -999,9,     -999,9,     -999,9,     -999,9,     -999,9
320620180309  ,P16        ,50      ,  1,18         ,18         ,2,20180407,1540, -69.0006,-149.9994,     4362,    976.8,1.0214944444444447047,34.720778544300245,2,  34.7204,2,195.34123819001439,2, 194.7044,2,    196.1,2,    115.2,2,    32.54,2,     0.00,2,     2.21,2,    0.119,2,    0.058,2,   0.0200,2,   2262.9,2,  2361.86,2,   7.5894,2,    24.94,     -999,5,     -999,9,   1.0204,2,0.53000000,2, -157.550,2,    0.002,     -999,9,     -999,9,     -999,1,     -999,9,    0.061,1,    4.664,1,    0.130,1,  20.6200,2,     -999,9,20180407,1716, -69.0006,-149.9992,     -999,9,     -999,9,-999          ,9,     -999,9,     -999,9,     -999,     -999,9,     -999,     -999,9,     -999,9,     -999,9,     -999,9,     -999,9,     -999,9,     -999,9,     -999,9,     -999,9,     -999,9,     -999,9,     -999,9,     -999,9,     -999,9
320620180309  ,P16        ,50      ,  1,17         ,17         ,2,20180407,1540, -69.0006,-149.9994,     4362,   1075.8,0.9669250000000002565,34.718477505491954,2,  34.7184,2,196.90971374599224,2, 196.1002,2,    196.9,2,    116.7,2,    32.56,2,     0.00,2,     2.21,2,     -999,9,     -999,9,     -999,9,   2266.6,3,  2361.80,2,   7.5901,2,    24.95,     -999,5,     -999,9,   0.9664,2,0.51000000,2, -159.110,2,    0.002,     -999,9,     -999,9,     -999,1,     -999,9,    0.061,1,    4.664,1,    0.133,1,     -999,9,     -999,9,20180407,1713, -69.0007,-149.9992,     -999,9,     -999,9,-999          ,9,     -999,9,     -999,9,     -999,     -999,9,     -999,     -999,9,     -999,9,     -999,9,     -999,9,     -999,9,     -999,9,     -999,9,     -999,9,     -999,9,     -999,9,     -999,9,     -999,9,     -999,9,     -999,9
320620180309  ,P16        ,50      ,  1,16         ,16         ,2,20180407,1540, -69.0006,-149.9994,     4362,   1179.4,0.9164472222222221909,34.716296869732325,2,  34.7164,2,198.87227776302348,2, 197.3038,2,    198.5,2,    118.4,2,    32.56,2,     0.00,2,     2.21,2,    0.105,2,    0.056,2,   0.0200,2,   2264.0,2,  2363.16,2,   7.5930,2,    24.95,     -999,5,     -999,9,   0.9157,2,0.54000000,2, -159.710,2,    0.002,     -999,9,     -999,9,     -999,1,     -999,9,    0.061,1,    4.664,1,    0.128,1,  20.3600,2,     -999,9,20180407,1710, -69.0008,-149.9993,     -999,9,     -999,9,-999          ,9,     -999,9,     -999,9,     -999,     -999,9,     -999,     -999,9,     -999,9,     -999,9,     -999,9,     -999,9,     -999,9,     -999,9,     -999,9,     -999,9,     -999,9,     -999,9,     -999,9,     -999,9,     -999,9