BOTTLE,20240515CCHHYDRO
EXPOCODE,SECT_ID,STNNBR,CASTNO,SAMPNO,BTLNBR,BTLNBR_FLAG_W,DATE,TIME,LATITUDE,LONGITUDE,DEPTH,CTDPRS,CTDTMP,CTDSAL,CTDSAL_FLAG_W,SALNTY,SALNTY_FLAG_W,CTDOXY,CTDOXY_FLAG_W,CTDOPTOXY,CTDOPTOXY_FLAG_W,OXYGEN,OXYGEN_FLAG_W,SILCAT,SILCAT_FLAG_W,NITRAT,NITRAT_FLAG_W,NITRIT,NITRIT_FLAG_W,PHSPHT,PHSPHT_FLAG_W,CFC-11,CFC-11_FLAG_W,CFC-12,CFC-12_FLAG_W,SF6,SF6_FLAG_W,TCARBN,TCARBN_FLAG_W,ALKALI,ALKALI_FLAG_W,PH_TOT,PH_TOT_FLAG_W,PH_TMP,DOC,DOC_FLAG_W,HELIUM,HELIUM_FLAG_W,REFTMP,REFTMP_FLAG_W,DELC13,DELC13_FLAG_W,DELC14,DELC14_FLAG_W,C14ERR,POC,POC_FLAG_W,TDN,TDN_FLAG_W,TON,TON_FLAG_W,NEON,NEON_FLAG_W,CTDFLUOR,CTDFLUOR_FLAG_W,CTDXMISS,CTDXMISS_FLAG_W,CTDBETA700,CTDBETA700_FLAG_W,N2O,N2O_FLAG_W,ARGON,ARGON_FLAG_W,BTL_DATE,BTL_TIME,BTL_LAT,BTL_LON,KRYPTON,KRYPTON_FLAG_W,XENON,XENON_FLAG_W,HPLC,HPLC_FLAG_W,HE3_HE4_RATIO,HE3_HE4_RATIO_FLAG_W,Nd_143_144_D_EPSILON_BOTTLE,Nd_143_144_D_EPSILON_BOTTLE_FLAG_W,Nd_143_144_D_EPSILON_BOTTLE_ERROR,Nd_143_144_D_RATIO_BOTTLE,Nd_143_144_D_RATIO_BOTTLE_FLAG_W,Nd_143_144_D_RATIO_BOTTLE_ERROR,Nd_D_CONC,Nd_D_CONC_FLAG_W,La_D_CONC_BOTTLE,La_D_CONC_BOTTLE_FLAG_W,Ce_D_CONC_BOTTLE,Ce_D_CONC_BOTTLE_FLAG_W,Pr_D_CONC_BOTTLE,Pr_D_CONC_BOTTLE_FLAG_W,Sm_D_CONC_BOTTLE,Sm_D_CONC_BOTTLE_FLAG_W,Eu_D_CONC_BOTTLE,Eu_D_CONC_BOTTLE_FLAG_W,Gd_D_CONC_BOTTLE,Gd_D_CONC_BOTTLE_FLAG_W,Tb_D_CONC_BOTTLE,Tb_D_CONC_BOTTLE_FLAG_W,Dy_D_CONC_BOTTLE,Dy_D_CONC_BOTTLE_FLAG_W,Ho_D_CONC_BOTTLE,Ho_D_CONC_BOTTLE_FLAG_W,Er_D_CONC_BOTTLE,Er_D_CONC_BOTTLE_FLAG_W,Tm_D_CONC_BOTTLE,Tm_D_CONC_BOTTLE_FLAG_W,Yb_D_CONC_BOTTLE,Yb_D_CONC_BOTTLE_FLAG_W,Lu_D_CONC_BOTTLE,Lu_D_CONC_BOTTLE_FLAG_W
,,,,,,,,,,,METERS,DBAR,ITS-90,PSS-78,,PSS-78,,UMOL/KG,,UMOL/KG,,UMOL/KG,,UMOL/KG,,UMOL/KG,,UMOL/KG,,UMOL/KG,,PMOL/KG,,PMOL/KG,,FMOL/KG,,UMOL/KG,,UMOL/KG,,,,DEG C,UMOL/KG,,NMOL/L,,DEG C,,/MILLE,,/MILLE,,/MILLE,UG/KG,,UMOL/KG,,UMOL/KG,,NMOL/L,,VOLTS,,VOLTS,,VOLTS,,NMOL/KG,,UMOL/L,,,,,,NMOL/L,,NMOL/L,,,,,,10000,,10000,,,,PMOL/KG,,PMOL/L,,PMOL/L,,PMOL/L,,PMOL/L,,PMOL/L,,PMOL/L,,PMOL/L,,PMOL/L,,PMOL/L,,PMOL/L,,PMOL/L,,PMOL/L,,PMOL/L,
320620180309  ,S04P       ,70      ,  1,15         ,15         ,2,20180418,1104, -67.0010,-145.9985,     4133,   1316.0,0.7840388888888887298,34.711696929826445,2,  34.7115,2,202.14356287477520,2, 201.1979,2,    202.7,2,    122.5,2,    32.44,2,     0.00,2,     2.20,2,     -999,9,     -999,9,     -999,9,   2263.9,2,  2362.72,2,   7.5944,2,    24.91,     41.0,2,     -999,9,   0.7841,2,     -999,9,     -999,9,     -999,     -999,9,     -999,9,     -999,1,     -999,9,    0.061,1,    4.666,1,    0.127,1,     -999,9,     -999,9,20180418,1227, -67.0007,-145.9985,     -999,9,     -999,9,-999          ,9,     -999,9,     -999,9,     -999,     -999,9,     -999,     -999,9,     -999,9,     -999,9,     -999,9,     -999,9,     -999,9,     -999,9,     -999,9,     -999,9,     -999,9,     -999,9,     -999,9,     -999,9,     -999,9
320620180309  ,S04P       ,70      ,  1,14         ,14         ,2,20180418,1104, -67.0010,-145.9985,     4133,   1417.4,0.7358305555555557653,34.709739788661039,2,  34.7094,2,203.43858939380621,2, 202.4974,2,    203.6,2,    124.4,2,    32.47,2,     0.00,2,     2.21,2,    0.119,6,    0.065,6,   0.0400,6,   2265.0,2,  2362.86,2,   7.5951,2,    24.91,     42.2,2,     -999,9,   0.7354,2,     -999,9,     -999,9,     -999,     -999,9,     -999,9,     -999,1,     -999,9,    0.061,1,    4.666,1,    0.127,1,  20.2200,6,     -999,9,20180418,1224, -67.0007,-145.9985,     -999,9,     -999,9,-999          ,9,     -999,9,     -999,9,     -999,     -999,9,     -999,     -999,9,     -999,9,     -999,9,     -999,9,     -999,9,     -999,9,     -999,9,     -999,9,     -999,9,     -999,9,     -999,9,     -999,9,     -999,9,     -999,9
320620180309  ,S04P       ,70      ,  1,13         ,13         ,2,20180418,1104, -67.0010,-145.9985,     4133,   1518.2,0.7004416666666665181,34.708304501151382,2,  34.7090,2,204.43765854595026,2, 204.0050,2,    204.2,2,    125.4,2,    32.50,2,     0.00,2,     2.21,2,     -999,9,     -999,9,     -999,9,   2263.4,2,  2363.20,2,   7.5956,2,    24.91,     -999,9,     -999,9,   0.7008,2,     -999,9,     -999,9,     -999,     -999,9,     -999,9,     -999,9,     -999,9,    0.061,1,    4.667,1,    0.127,1,     -999,9,     -999,9,20180418,1220, -67.0008,-145.9985,     -999,9,     -999,9,-999          ,9,     -999,9,     -999,9,     -999,     -999,9,     -999,     -999,9,     -999,9,     -999,9,     -999,9,     -999,9,     -999,9,     -999,9,     -999,9,     -999,9,     -999,9,     -999,9,     -999,9,     -999,9,     -999,9
320620180309  ,S04P       ,70      ,  1,12         ,12         ,2,20180418,1104, -67.0010,-145.9985,     4133,   1621.3,0.6603888888888890252,34.706898867992585,2,  34.7066,2,205.25652103913117,2, 204.9986,2,    205.6,2,    126.1,2,    32.49,2,     0.00,2,     2.22,2,    0.133,2,    0.070,2,   0.0200,2,   2263.4,2,  2363.60,2,   7.5947,2,    24.91,     41.7,2,     -999,9,   0.6597,2,     -999,9,     -999,9,     -999,     -999,9,     -999,9,     -999,1,     -999,9,    0.061,1,    4.666,1,    0.126,1,  19.0500,2,     -999,9,20180418,1217, -67.0008,-145.9985,     -999,9,     -999,9,-999          ,9,     -999,9,     -999,9,     -999,     -999,9,     -999,     -999,9,     -999,9,     -999,9,     -999,9,     -999,9,     -999,9,     -999,9,     -999,9,     -999,9,     -999,9,     -999,9,     -999,9,     -999,9,     -999,9
320620180309  ,S04P       ,70      ,  1,11         ,11         ,2,20180418,1104, -67.0010,-145.9985,     4133,   1723.7,0.6172194444444444317,34.705523657656215,2,  34.7056,2,206.38598367445996,2, 206.4987,2,    206.5,2,    127.0,2,    32.48,2,     0.00,2,     2.23,2,    0.141,2,    0.079,2,   0.0200,2,   2264.4,2,  2362.90,2,   7.5944,2,    24.91,     -999,9,     -999,9,   0.6166,2,     -999,9,     -999,9,     -999,     -999,9,     -999,9,     -999,9,     -999,9,    0.061,1,    4.667,1,    0.126,1,  19.8300,2,     -999,9,20180418,1213, -67.0006,-145.9986,     -999,9,     -999,9,-999          ,9,     -999,9,     -999,9,     -999,     -999,9,     -999,     -999,9,     -999,9,     -999,9,     -999,9,     -999,9,     -999,9,     -999,9,     -999,9,     -999,9,     -999,9,     -999,9,     -999,9,     -999,9,     -999,9
320620180309  ,S04P       ,70      ,  1,10         ,10         ,2,20180418,1104, -67.0010,-145.9985,     4133,   1825.7,0.5823416666666666464,34.704695255070177,2,  34.7049,2,207.30397333128482,2, 207.4988,2,    207.5,2,    127.6,2,    32.50,2,     0.00,2,     2.24,2,     -999,9,     -999,9,     -999,9,   2263.0,2,  2362.78,2,   7.5949,2,    24.91,     42.1,2,     -999,9,   0.5815,2,     -999,9,     -999,9,     -999,     -999,9,     -999,9,     -999,1,     -999,9,    0.060,1,    4.666,1,    0.127,1,     -999,9,     -999,9,20180418,1210, -67.0005,-145.9986,     -999,9,     -999,9,-999          ,9,     -999,9,     -999,9,     -999,     -999,9,     -999,     -999,9,     -999,9,     -999,9,     -999,9,     -999,9,     -999,9,     -999,9,     -999,9,     -999,9,     -999,9,     -999,9,     -999,9,     -999,9,     -999,9
320620180309  ,S04P       ,70      ,  1,9          ,9          ,2,20180418,1104, -67.0010,-145.9985,     4133,   2054.7,0.4963444444444445880,34.702975918693163,2,  34.7031,2,209.52219854169587,2, 210.2929,2,    208.9,2,    129.0,2,    32.53,2,     0.00,2,     2.23,2,    0.163,2,    0.084,2,   0.1000,2,   2263.6,6,  2362.19,2,   7.5941,2,    24.90,     41.6,2,     -999,9,   0.4956,2,     -999,9,     -999,9,     -999,     -999,9,     -999,9,     -999,1,     -999,9,    0.061,1,    4.666,1,    0.126,1,  19.6000,2,     -999,9,20180418,1203, -67.0008,-145.9984,     -999,9,     -999,9,-999          ,9,     -999,9,     -999,9,     -999,     -999,9,     -999,     -999,9,     -999,9,     -999,9,     -999,9,     -999,9,     -999,9,     -999,9,     -999,9,     -999,9,     -999,9,     -999,9,     -999,9,     -999,9,     -999,9
320620180309  ,S04P       ,70      ,  1,8          ,8          ,2,20180418,1104, -67.0010,-145.9985,     4133,   2308.8,0.4115194444444444377,34.701660499195029,2,  34.7015,2,211.85686965035501,2, 212.7017,2,    211.3,2,    130.4,2,    32.63,2,     0.00,2,     2.24,2,    0.181,2,    0.102,2,   0.0600,2,   2263.1,2,  2363.69,2,   7.5946,6,    24.89,     41.7,2,     -999,9,   0.4116,2,     -999,9,     -999,9,     -999,     -999,9,     -999,9,     -999,1,     -999,9,    0.061,1,    4.666,1,    0.125,1,  19.5800,2,     -999,9,20180418,1157, -67.0011,-145.9983,     -999,9,     -999,9,-999          ,9,     -999,9,     -999,9,     -999,     -999,9,     -999,     -999,9,     -999,9,     -999,9,     -999,9,     -999,9,     -999,9,     -999,9,     -999,9,     -999,9,     -999,9,     -999,9,     -999,9,     -999,9,     -999,9
320620180309  ,S04P       ,70      ,  1,7          ,7          ,2,20180418,1104, -67.0010,-145.9985,     4133,   2564.7,0.3416194444444444200,34.700622560789263,2,  34.7009,2,213.79065828842789,2, 214.4963,2,    213.4,2,    132.1,2,    32.66,2,     0.00,2,     2.25,2,    0.217,2,    0.118,2,   0.0100,2,   2264.0,2,  2363.29,2,   7.5948,2,    24.91,     41.2,2,     -999,9,   0.3410,2,     -999,9,     -999,9,     -999,     -999,9,     -999,9,     -999,1,     -999,9,    0.061,1,    4.666,1,    0.125,1,  19.5800,2,     -999,9,20180418,1150, -67.0017,-145.9980,     -999,9,     -999,9,-999          ,9,     -999,9,     -999,9,     -999,     -999,9,     -999,     -999,9,     -999,9,     -999,9,     -999,9,     -999,9,     -999,9,     -999,9,     -999,9,     -999,9,     -999,9,     -999,9,     -999,9,     -999,9,     -999,9
320620180309  ,S04P       ,70      ,  1,6          ,6          ,2,20180418,1104, -67.0010,-145.9985,     4133,   2820.3,0.2748111111111111726,34.697940359866145,2,  34.6978,2,216.66893492712734,2, 216.2020,2,    215.9,2,    132.1,2,    32.68,2,     0.00,2,     2.24,2,    0.360,2,    0.191,2,   0.1300,2,   2263.4,2,  2361.99,2,   7.5943,2,    24.90,     43.1,2,     -999,9,   0.2736,2,     -999,9,     -999,9,     -999,     -999,9,     -999,9,     -999,1,     -999,9,    0.060,1,    4.666,1,    0.126,1,  18.9600,2,     -999,9,20180418,1144, -67.0017,-145.9981,     -999,9,     -999,9,-999          ,9,     -999,9,     -999,9,     -999,     -999,9,     -999,     -999,9,     -999,9,     -999,9,     -999,9,     -999,9,     -999,9,     -999,9,     -999,9,     -999,9,     -999,9,     -999,9,     -999,9,     -999,9,     -999,9
320620180309  ,S04P       ,70      ,  1,5          ,5          ,2,20180418,1104, -67.0010,-145.9985,     4133,   3077.1,0.2145916666666667083,34.693777532647736,2,  34.6939,2,219.03310366176242,2, 217.3965,2,    218.7,2,    129.5,2,    32.70,2,     0.00,2,     2.26,2,    0.613,2,    0.332,2,   0.1600,2,   2262.6,2,  2362.99,2,   7.5947,2,    24.89,     38.7,2,     -999,9,   0.2138,2,     -999,9,     -999,9,     -999,     -999,9,     -999,9,     -999,1,     -999,9,    0.060,1,    4.665,1,    0.124,1,  19.3400,2,     -999,9,20180418,1137, -67.0016,-145.9981,     -999,9,     -999,9,-999          ,9,     -999,9,     -999,9,     -999,     -999,9,     -999,     -999,9,     -999,9,     -999,9,     -999,9,     -999,9,     -999,9,     -999,9,     -999,9,     -999,9,     -999,9,     -999,9,     -999,9,     -999,9,     -999,9
320620180309  ,S04P       ,70      ,  1,4          ,4          ,2,20180418,1104, -67.0010,-145.9985,     4133,   3385.0,0.2026944444444443993,34.691984821507695,2,  34.6927,2,219.62317576415438,2, 218.6966,2,    219.7,2,    127.9,2,    32.67,2,     0.00,2,     2.26,2,    0.755,2,    0.396,2,   0.1600,2,   2263.8,2,  2361.67,2,   7.5929,2,    24.91,     -999,9,     -999,9,   0.2020,2,     -999,9,     -999,9,     -999,     -999,9,     -999,9,     -999,9,     -999,9,    0.061,1,    4.664,1,    0.125,1,  19.7600,2,     -999,9,20180418,1129, -67.0014,-145.9983,     -999,9,     -999,9,-999          ,9,     -999,9,     -999,9,     -999,     -999,9,     -999,     -999,9,     -999,9,     -999,9,     -999,9,     -999,9,     -999,9,     -999,9,     -999,9,     -999,9,     -999,9,     -999,9,     -999,9,     -999,9,     -999,9
320620180309  ,S04P       ,70      ,  1,3          ,3          ,2,20180418,1104, -67.0010,-145.9985,     4133,   3693.6,0.2188666666666666816,34.692507217926426,3,  34.6905,2,220.69695009708937,2, 220.1988,2,    220.1,2,    128.3,2,    32.77,2,     0.00,2,     2.25,2,    0.755,2,    0.394,2,   0.2100,2,   2263.3,2,  2360.67,2,   7.5931,2,    24.90,     41.9,2,     -999,9,   0.2182,2,     -999,9,     -999,9,     -999,     -999,9,     -999,9,     -999,1,     -999,9,    0.061,1,    4.663,1,    0.130,1,  19.3600,2,     -999,9,20180418,1121, -67.0016,-145.9981,     -999,9,     -999,9,-999          ,9,     -999,9,     -999,9,     -999,     -999,9,     -999,     -999,9,     -999,9,     -999,9,     -999,9,     -999,9,     -999,9,     -999,9,     -999,9,     -999,9,     -999,9,     -999,9,     -999,9,     -999,9,     -999,9
320620180309  ,S04P       ,70      ,  1,2          ,2          ,2,20180418,1104, -67.0010,-145.9985,     4133,   4001.1,0.2402416666666666589,34.693300682445710,3,  34.6958,2,219.80491923591845,2, 220.5009,2,    221.1,2,    128.2,2,    32.75,2,     0.00,2,     2.25,2,    0.742,2,    0.393,2,   0.2900,2,   2265.0,2,  2362.33,2,   7.5936,2,    24.91,     -999,9,     -999,9,   0.2398,2,     -999,9,     -999,9,     -999,     -999,9,     -999,9,     -999,9,     -999,9,    0.060,1,    4.663,1,    0.128,1,  18.9900,2,     -999,9,20180418,1113, -67.0011,-145.9984,     -999,9,     -999,9,-999          ,9,     -999,9,     -999,9,     -999,     -999,9,     -999,     -999,9,     -999,9,     -999,9,     -999,9,     -999,9,     -999,9,     -999,9,     -999,9,     -999,9,     -999,9,     -999,9,     -999,9,     -999,9,     -999,9
320620180309  ,S04P       ,70      ,  1,1          ,1          ,2,20180418,1104, -67.0010,-145.9985,     4133,   4205.9,0.2615583333333333371,34.693367776614004,2,  34.6939,2,221.73108127403626,2, 220.5037,2,    219.8,2,    128.7,2,    32.72,2,     0.00,2,     2.24,2,    0.741,2,    0.380,2,   0.1700,2,   2263.3,6,  2361.67,2,   7.5938,2,    24.89,     -999,5,     -999,9,   0.2610,2,     -999,9,     -999,9,     -999,     -999,9,     -999,9,     -999,1,     -999,9,    0.061,1,    4.662,1,    0.128,1,  19.5500,2,     -999,9,20180418,1104, -67.0010,-145.9985,     -999,9,     -999,9,-999          ,9,     -999,9,     -999,9,     -999,     -999,9,     -999,     -999,9,     -999,9,     -999,9,     -999,9,     -999,9,     -999,9,     -999,9,     -999,9,     -999,9,     -999,9,     -999,9,     -999,9,     -999,9,     -999,9