BOTTLE,20240515CCHHYDRO
EXPOCODE,SECT_ID,STNNBR,CASTNO,SAMPNO,BTLNBR,BTLNBR_FLAG_W,DATE,TIME,LATITUDE,LONGITUDE,DEPTH,CTDPRS,CTDTMP,CTDSAL,CTDSAL_FLAG_W,SALNTY,SALNTY_FLAG_W,CTDOXY,CTDOXY_FLAG_W,CTDOPTOXY,CTDOPTOXY_FLAG_W,OXYGEN,OXYGEN_FLAG_W,SILCAT,SILCAT_FLAG_W,NITRAT,NITRAT_FLAG_W,NITRIT,NITRIT_FLAG_W,PHSPHT,PHSPHT_FLAG_W,CFC-11,CFC-11_FLAG_W,CFC-12,CFC-12_FLAG_W,SF6,SF6_FLAG_W,TCARBN,TCARBN_FLAG_W,ALKALI,ALKALI_FLAG_W,PH_TOT,PH_TOT_FLAG_W,PH_TMP,DOC,DOC_FLAG_W,HELIUM,HELIUM_FLAG_W,REFTMP,REFTMP_FLAG_W,DELC13,DELC13_FLAG_W,DELC14,DELC14_FLAG_W,C14ERR,POC,POC_FLAG_W,TDN,TDN_FLAG_W,TON,TON_FLAG_W,NEON,NEON_FLAG_W,CTDFLUOR,CTDFLUOR_FLAG_W,CTDXMISS,CTDXMISS_FLAG_W,CTDBETA700,CTDBETA700_FLAG_W,N2O,N2O_FLAG_W,ARGON,ARGON_FLAG_W,BTL_DATE,BTL_TIME,BTL_LAT,BTL_LON,KRYPTON,KRYPTON_FLAG_W,XENON,XENON_FLAG_W,HPLC,HPLC_FLAG_W,HE3_HE4_RATIO,HE3_HE4_RATIO_FLAG_W,Nd_143_144_D_EPSILON_BOTTLE,Nd_143_144_D_EPSILON_BOTTLE_FLAG_W,Nd_143_144_D_EPSILON_BOTTLE_ERROR,Nd_143_144_D_RATIO_BOTTLE,Nd_143_144_D_RATIO_BOTTLE_FLAG_W,Nd_143_144_D_RATIO_BOTTLE_ERROR,Nd_D_CONC,Nd_D_CONC_FLAG_W,La_D_CONC_BOTTLE,La_D_CONC_BOTTLE_FLAG_W,Ce_D_CONC_BOTTLE,Ce_D_CONC_BOTTLE_FLAG_W,Pr_D_CONC_BOTTLE,Pr_D_CONC_BOTTLE_FLAG_W,Sm_D_CONC_BOTTLE,Sm_D_CONC_BOTTLE_FLAG_W,Eu_D_CONC_BOTTLE,Eu_D_CONC_BOTTLE_FLAG_W,Gd_D_CONC_BOTTLE,Gd_D_CONC_BOTTLE_FLAG_W,Tb_D_CONC_BOTTLE,Tb_D_CONC_BOTTLE_FLAG_W,Dy_D_CONC_BOTTLE,Dy_D_CONC_BOTTLE_FLAG_W,Ho_D_CONC_BOTTLE,Ho_D_CONC_BOTTLE_FLAG_W,Er_D_CONC_BOTTLE,Er_D_CONC_BOTTLE_FLAG_W,Tm_D_CONC_BOTTLE,Tm_D_CONC_BOTTLE_FLAG_W,Yb_D_CONC_BOTTLE,Yb_D_CONC_BOTTLE_FLAG_W,Lu_D_CONC_BOTTLE,Lu_D_CONC_BOTTLE_FLAG_W
,,,,,,,,,,,METERS,DBAR,ITS-90,PSS-78,,PSS-78,,UMOL/KG,,UMOL/KG,,UMOL/KG,,UMOL/KG,,UMOL/KG,,UMOL/KG,,UMOL/KG,,PMOL/KG,,PMOL/KG,,FMOL/KG,,UMOL/KG,,UMOL/KG,,,,DEG C,UMOL/KG,,NMOL/L,,DEG C,,/MILLE,,/MILLE,,/MILLE,UG/KG,,UMOL/KG,,UMOL/KG,,NMOL/L,,VOLTS,,VOLTS,,VOLTS,,NMOL/KG,,UMOL/L,,,,,,NMOL/L,,NMOL/L,,,,,,10000,,10000,,,,PMOL/KG,,PMOL/L,,PMOL/L,,PMOL/L,,PMOL/L,,PMOL/L,,PMOL/L,,PMOL/L,,PMOL/L,,PMOL/L,,PMOL/L,,PMOL/L,,PMOL/L,,PMOL/L,
320620180309  ,S04P       ,73      ,  1,15         ,15         ,2,20180419,0801, -67.0001,-142.0979,     3613,   1316.5,0.9099027777777778381,34.716043389477235,2,  34.7147,2,200.45523575947979,2, 199.5943,2,    201.2,2,    118.6,2,    32.44,2,     0.00,2,     2.23,2,    0.142,2,    0.068,2,   0.0300,2,   2261.1,2,  2363.38,2,   7.5951,2,    24.90,     -999,9,     -999,9,   0.9090,2,     -999,9,     -999,9,     -999,     -999,9,     -999,9,     -999,9,     -999,9,    0.061,1,    4.661,1,    0.130,1,  19.9400,2,     -999,9,20180419,0902, -66.9996,-142.0981,     -999,9,     -999,9,-999          ,9,     -999,9,     -999,9,     -999,     -999,9,     -999,     -999,9,     -999,1,     -999,1,     -999,1,     -999,1,     -999,1,     -999,1,     -999,1,     -999,1,     -999,1,     -999,1,     -999,1,     -999,1,     -999,1
320620180309  ,S04P       ,73      ,  1,14         ,14         ,2,20180419,0801, -67.0001,-142.0979,     3613,   1417.6,0.8566694444444444834,34.714009049790668,2,  34.7119,2,200.12637862149165,2, 200.9995,2,    200.2,2,    121.2,2,    32.60,2,     0.00,2,     2.23,2,     -999,9,     -999,9,     -999,9,     -999,9,     -999,9,     -999,9,     -999,     -999,9,     -999,1,   0.8562,2,     -999,9,     -999,9,     -999,     -999,9,     -999,9,     -999,9,     -999,1,    0.061,1,    4.659,1,    0.131,1,     -999,9,     -999,1,20180419,0859, -66.9995,-142.0981,     -999,1,     -999,1,-999          ,9,     -999,1,     -999,9,     -999,     -999,9,     -999,     -999,9,     -999,9,     -999,9,     -999,9,     -999,9,     -999,9,     -999,9,     -999,9,     -999,9,     -999,9,     -999,9,     -999,9,     -999,9,     -999,9
320620180309  ,S04P       ,73      ,  1,13         ,13         ,2,20180419,0801, -67.0001,-142.0979,     3613,   1519.6,0.8133472222222223325,34.711950277794514,2,  34.7107,2,201.54088977359794,2, 201.2972,2,    201.4,2,    122.7,2,    32.54,2,     0.00,2,     2.23,2,    0.139,2,    0.068,2,   0.0100,2,   2262.4,2,  2364.30,2,   7.5921,2,    24.89,     -999,9,     -999,9,   0.8127,2,     -999,9,     -999,9,     -999,     -999,9,     -999,9,     -999,9,     -999,9,    0.062,1,    4.661,1,    0.131,1,  19.8600,2,     -999,9,20180419,0856, -66.9995,-142.0981,     -999,9,     -999,9,-999          ,9,     -999,9,     -999,9,     -999,     -999,9,     -999,     -999,9,     -999,1,     -999,1,     -999,1,     -999,1,     -999,1,     -999,1,     -999,1,     -999,1,     -999,1,     -999,1,     -999,1,     -999,1,     -999,1
320620180309  ,S04P       ,73      ,  1,12         ,12         ,2,20180419,0801, -67.0001,-142.0979,     3613,   1621.3,0.7726305555555555982,34.710171744999094,2,  34.7090,2,203.97727563392380,2, 202.4984,2,    204.1,2,    123.8,2,    32.50,2,     0.00,2,     2.22,2,     -999,9,     -999,9,     -999,9,     -999,9,     -999,9,     -999,9,     -999,     -999,9,     -999,9,   0.7724,2,     -999,9,     -999,9,     -999,     -999,9,     -999,9,     -999,9,     -999,9,    0.061,1,    4.663,1,    0.131,1,     -999,9,     -999,9,20180419,0853, -66.9995,-142.0981,     -999,9,     -999,9,-999          ,9,     -999,9,     -999,9,     -999,     -999,9,     -999,     -999,9,     -999,9,     -999,9,     -999,9,     -999,9,     -999,9,     -999,9,     -999,9,     -999,9,     -999,9,     -999,9,     -999,9,     -999,9,     -999,9
320620180309  ,S04P       ,73      ,  1,11         ,11         ,2,20180419,0801, -67.0001,-142.0979,     3613,   1723.6,0.7347472222222222182,34.708553042038091,2,  34.7074,2,204.79158095634654,2, 204.3992,2,    205.1,2,    124.9,2,    32.48,2,     0.00,2,     2.23,2,     -999,9,     -999,9,     -999,9,   2261.7,2,  2363.88,2,   7.5964,2,    24.90,     -999,9,     -999,9,   0.7341,2,     -999,9,     -999,9,     -999,     -999,9,     -999,9,     -999,9,     -999,9,    0.061,1,    4.661,1,    0.137,1,     -999,9,     -999,9,20180419,0850, -66.9995,-142.0981,     -999,9,     -999,9,-999          ,9,     -999,9,     -999,9,     -999,     -999,9,     -999,     -999,9,     -999,1,     -999,1,     -999,1,     -999,1,     -999,1,     -999,1,     -999,1,     -999,1,     -999,1,     -999,1,     -999,1,     -999,1,     -999,1
320620180309  ,S04P       ,73      ,  1,10         ,10         ,2,20180419,0801, -67.0001,-142.0979,     3613,   1825.8,0.7026722222222221426,34.707338658442822,2,  34.7058,2,205.39060223524351,2, 205.3967,2,    205.4,2,    126.2,2,    32.51,2,     0.00,2,     2.23,2,     -999,9,     -999,9,     -999,9,     -999,9,     -999,9,     -999,9,     -999,     -999,9,     -999,9,   0.7018,2,     -999,9,     -999,9,     -999,     -999,9,     -999,9,     -999,9,     -999,9,    0.061,1,    4.663,1,    0.128,1,     -999,9,     -999,9,20180419,0847, -66.9995,-142.0981,     -999,9,     -999,9,-999          ,9,     -999,9,     -999,9,     -999,     -999,9,     -999,     -999,9,     -999,9,     -999,9,     -999,9,     -999,9,     -999,9,     -999,9,     -999,9,     -999,9,     -999,9,     -999,9,     -999,9,     -999,9,     -999,9
320620180309  ,S04P       ,73      ,  1,9          ,9          ,2,20180419,0801, -67.0001,-142.0979,     3613,   2028.4,0.6369027777777778176,34.705316276086549,2,  34.7043,2,206.81575749710038,2, 206.7968,2,    206.9,2,    127.7,2,    32.59,2,     0.00,2,     2.25,2,    0.172,2,    0.085,2,   0.0700,2,   2263.4,2,  2363.50,2,   7.5955,2,    24.89,     -999,9,     -999,1,   0.6364,2,     -999,9,     -999,9,     -999,     -999,9,     -999,9,     -999,9,     -999,1,    0.061,1,    4.663,1,    0.128,1,  19.4000,2,     -999,1,20180419,0842, -66.9994,-142.0982,     -999,1,     -999,1,-999          ,9,     -999,1,     -999,9,     -999,     -999,9,     -999,     -999,9,     -999,1,     -999,1,     -999,1,     -999,1,     -999,1,     -999,1,     -999,1,     -999,1,     -999,1,     -999,1,     -999,1,     -999,1,     -999,1
320620180309  ,S04P       ,73      ,  1,8          ,8          ,2,20180419,0801, -67.0001,-142.0979,     3613,   2259.4,0.5441361111111111537,34.703471859150341,2,  34.7015,2,208.53300932605217,2, 208.9990,2,    208.6,2,    128.8,2,    32.72,2,     0.00,2,     2.24,2,     -999,9,     -999,9,     -999,9,     -999,9,     -999,9,     -999,9,     -999,     -999,9,     -999,9,   0.5434,2,     -999,9,     -999,9,     -999,     -999,9,     -999,9,     -999,9,     -999,9,    0.061,1,    4.663,1,    0.126,1,     -999,9,     -999,9,20180419,0837, -66.9994,-142.0981,     -999,9,     -999,9,-999          ,9,     -999,9,     -999,9,     -999,     -999,9,     -999,     -999,9,     -999,9,     -999,9,     -999,9,     -999,9,     -999,9,     -999,9,     -999,9,     -999,9,     -999,9,     -999,9,     -999,9,     -999,9,     -999,9
320620180309  ,S04P       ,73      ,  1,7          ,7          ,2,20180419,0801, -67.0001,-142.0979,     3613,   2411.9,0.4827944444444444705,34.702208562297216,2,  34.7011,2,210.10507933899680,2, 210.5999,2,    210.4,2,    129.7,2,    32.77,2,     0.00,2,     2.25,2,    0.203,2,    0.111,2,   0.0100,2,   2263.9,2,  2363.26,2,   7.5967,2,    24.90,     -999,9,     -999,9,   0.4827,2,     -999,9,     -999,9,     -999,     -999,9,     -999,9,     -999,9,     -999,9,    0.061,1,    4.663,1,    0.129,1,  19.4200,2,     -999,9,20180419,0833, -66.9995,-142.0981,     -999,9,     -999,9,-999          ,9,     -999,9,     -999,9,     -999,     -999,9,     -999,     -999,9,     -999,1,     -999,1,     -999,1,     -999,1,     -999,1,     -999,1,     -999,1,     -999,1,     -999,1,     -999,1,     -999,1,     -999,1,     -999,1
320620180309  ,S04P       ,73      ,  1,6          ,6          ,2,20180419,0801, -67.0001,-142.0979,     3613,   2642.2,0.4241638888888889514,34.701738999699963,2,  34.7003,2,211.94304510485674,2, 212.2035,2,    211.9,2,    131.4,2,    32.83,2,     0.00,2,     2.24,2,     -999,9,     -999,9,     -999,9,     -999,9,     -999,9,     -999,9,     -999,     -999,9,     -999,9,   0.4236,2,     -999,9,     -999,9,     -999,     -999,9,     -999,9,     -999,9,     -999,9,    0.061,1,    4.664,1,    0.125,1,     -999,9,     -999,9,20180419,0827, -66.9995,-142.0981,     -999,9,     -999,9,-999          ,9,     -999,9,     -999,9,     -999,     -999,9,     -999,     -999,9,     -999,9,     -999,9,     -999,9,     -999,9,     -999,9,     -999,9,     -999,9,     -999,9,     -999,9,     -999,9,     -999,9,     -999,9,     -999,9
320620180309  ,S04P       ,73      ,  1,5          ,5          ,2,20180419,0801, -67.0001,-142.0979,     3613,   2847.3,0.3583749999999999436,34.700702779806754,2,  34.6990,2,213.36181578539495,2, 213.9990,2,    214.5,2,    132.4,2,    32.81,2,     0.00,2,     2.25,2,    0.237,2,    0.126,2,   0.0500,2,   2262.5,2,  2363.87,2,   7.5965,2,    24.91,     -999,9,     -999,1,   0.3579,2,     -999,9,     -999,9,     -999,     -999,9,     -999,9,     -999,9,     -999,1,    0.061,1,    4.663,1,    0.127,1,  19.3400,2,     -999,1,20180419,0822, -66.9996,-142.0981,     -999,1,     -999,1,-999          ,9,     -999,1,     -999,9,     -999,     -999,9,     -999,     -999,9,     -999,1,     -999,1,     -999,1,     -999,1,     -999,1,     -999,1,     -999,1,     -999,1,     -999,1,     -999,1,     -999,1,     -999,1,     -999,1
320620180309  ,S04P       ,73      ,  1,4          ,4          ,2,20180419,0801, -67.0001,-142.0979,     3613,   3051.9,0.3113249999999999629,34.699433630381357,2,  34.6982,2,215.38711447946918,2, 215.5041,2,    215.3,2,    133.9,2,    32.85,2,     0.00,2,     2.25,2,     -999,9,     -999,9,     -999,9,   2262.2,2,  2363.67,2,   7.5941,6,    24.90,     -999,9,     -999,9,   0.3108,2,     -999,9,     -999,9,     -999,     -999,9,     -999,9,     -999,9,     -999,9,    0.061,1,    4.663,1,    0.125,1,     -999,9,     -999,9,20180419,0817, -66.9998,-142.0980,     -999,9,     -999,9,-999          ,9,     -999,9,     -999,9,     -999,     -999,9,     -999,     -999,9,     -999,9,     -999,9,     -999,9,     -999,9,     -999,9,     -999,9,     -999,9,     -999,9,     -999,9,     -999,9,     -999,9,     -999,9,     -999,9
320620180309  ,S04P       ,73      ,  1,3          ,3          ,2,20180419,0801, -67.0001,-142.0979,     3613,   3205.3,0.2698055555555555207,34.697173255869970,2,  34.6952,2,217.32321289706729,2, 216.1936,2,    216.6,2,    132.3,2,    32.82,2,     0.00,2,     2.24,2,    0.453,2,    0.246,2,   0.2500,2,   2262.2,2,  2363.81,2,   7.5951,2,    24.90,     -999,9,     -999,9,   0.2693,2,     -999,9,     -999,9,     -999,     -999,9,     -999,9,     -999,9,     -999,9,    0.061,1,    4.663,1,    0.128,1,  19.2000,2,     -999,9,20180419,0813, -66.9999,-142.0980,     -999,9,     -999,9,-999          ,9,     -999,9,     -999,9,     -999,     -999,9,     -999,     -999,9,     -999,1,     -999,1,     -999,1,     -999,1,     -999,1,     -999,1,     -999,1,     -999,1,     -999,1,     -999,1,     -999,1,     -999,1,     -999,1
320620180309  ,S04P       ,73      ,  1,2          ,2          ,2,20180419,0801, -67.0001,-142.0979,     3613,   3410.9,0.2468638888888888827,34.695542149185400,3,  34.6935,2,218.85219220664649,2, 218.1001,2,    219.7,2,    131.0,2,    32.81,2,     0.00,2,     2.25,2,     -999,9,     -999,9,     -999,9,   2264.6,2,  2363.21,2,   7.5938,2,    24.91,     -999,9,     -999,9,   0.2464,2,     -999,9,     -999,9,     -999,     -999,9,     -999,9,     -999,9,     -999,9,    0.061,1,    4.662,1,    0.127,1,     -999,9,     -999,9,20180419,0808, -67.0000,-142.0980,     -999,9,     -999,9,-999          ,9,     -999,9,     -999,9,     -999,     -999,9,     -999,     -999,9,     -999,1,     -999,1,     -999,1,     -999,1,     -999,1,     -999,1,     -999,1,     -999,1,     -999,1,     -999,1,     -999,1,     -999,1,     -999,1
320620180309  ,S04P       ,73      ,  1,1          ,1          ,2,20180419,0801, -67.0001,-142.0979,     3613,   3671.9,0.2349499999999999922,34.694579360250920,2,  34.6933,2,219.97826492934433,2, 219.1002,2,    218.9,2,    130.4,2,    32.82,2,     0.00,2,     2.24,2,    0.669,2,    0.348,2,   0.1800,2,   2263.4,6,  2362.33,2,   7.5941,2,    24.90,     -999,9,     -999,1,   0.2344,2,     -999,9,     -999,9,     -999,     -999,9,     -999,9,     -999,9,     -999,1,    0.061,1,    4.659,1,    0.130,1,  19.5800,2,     -999,1,20180419,0801, -67.0001,-142.0979,     -999,1,     -999,1,-999          ,9,     -999,1,     -999,9,     -999,     -999,9,     -999,     -999,9,     -999,1,     -999,1,     -999,1,     -999,1,     -999,1,     -999,1,     -999,1,     -999,1,     -999,1,     -999,1,     -999,1,     -999,1,     -999,1