BOTTLE,20240515CCHHYDRO
EXPOCODE,SECT_ID,STNNBR,CASTNO,SAMPNO,BTLNBR,BTLNBR_FLAG_W,DATE,TIME,LATITUDE,LONGITUDE,DEPTH,CTDPRS,CTDTMP,CTDSAL,CTDSAL_FLAG_W,SALNTY,SALNTY_FLAG_W,CTDOXY,CTDOXY_FLAG_W,CTDOPTOXY,CTDOPTOXY_FLAG_W,OXYGEN,OXYGEN_FLAG_W,SILCAT,SILCAT_FLAG_W,NITRAT,NITRAT_FLAG_W,NITRIT,NITRIT_FLAG_W,PHSPHT,PHSPHT_FLAG_W,CFC-11,CFC-11_FLAG_W,CFC-12,CFC-12_FLAG_W,SF6,SF6_FLAG_W,TCARBN,TCARBN_FLAG_W,ALKALI,ALKALI_FLAG_W,PH_TOT,PH_TOT_FLAG_W,PH_TMP,DOC,DOC_FLAG_W,HELIUM,HELIUM_FLAG_W,REFTMP,REFTMP_FLAG_W,DELC13,DELC13_FLAG_W,DELC14,DELC14_FLAG_W,C14ERR,POC,POC_FLAG_W,TDN,TDN_FLAG_W,TON,TON_FLAG_W,NEON,NEON_FLAG_W,CTDFLUOR,CTDFLUOR_FLAG_W,CTDXMISS,CTDXMISS_FLAG_W,CTDBETA700,CTDBETA700_FLAG_W,N2O,N2O_FLAG_W,ARGON,ARGON_FLAG_W,BTL_DATE,BTL_TIME,BTL_LAT,BTL_LON,KRYPTON,KRYPTON_FLAG_W,XENON,XENON_FLAG_W,HPLC,HPLC_FLAG_W,HE3_HE4_RATIO,HE3_HE4_RATIO_FLAG_W,Nd_143_144_D_EPSILON_BOTTLE,Nd_143_144_D_EPSILON_BOTTLE_FLAG_W,Nd_143_144_D_EPSILON_BOTTLE_ERROR,Nd_143_144_D_RATIO_BOTTLE,Nd_143_144_D_RATIO_BOTTLE_FLAG_W,Nd_143_144_D_RATIO_BOTTLE_ERROR,Nd_D_CONC,Nd_D_CONC_FLAG_W,La_D_CONC_BOTTLE,La_D_CONC_BOTTLE_FLAG_W,Ce_D_CONC_BOTTLE,Ce_D_CONC_BOTTLE_FLAG_W,Pr_D_CONC_BOTTLE,Pr_D_CONC_BOTTLE_FLAG_W,Sm_D_CONC_BOTTLE,Sm_D_CONC_BOTTLE_FLAG_W,Eu_D_CONC_BOTTLE,Eu_D_CONC_BOTTLE_FLAG_W,Gd_D_CONC_BOTTLE,Gd_D_CONC_BOTTLE_FLAG_W,Tb_D_CONC_BOTTLE,Tb_D_CONC_BOTTLE_FLAG_W,Dy_D_CONC_BOTTLE,Dy_D_CONC_BOTTLE_FLAG_W,Ho_D_CONC_BOTTLE,Ho_D_CONC_BOTTLE_FLAG_W,Er_D_CONC_BOTTLE,Er_D_CONC_BOTTLE_FLAG_W,Tm_D_CONC_BOTTLE,Tm_D_CONC_BOTTLE_FLAG_W,Yb_D_CONC_BOTTLE,Yb_D_CONC_BOTTLE_FLAG_W,Lu_D_CONC_BOTTLE,Lu_D_CONC_BOTTLE_FLAG_W
,,,,,,,,,,,METERS,DBAR,ITS-90,PSS-78,,PSS-78,,UMOL/KG,,UMOL/KG,,UMOL/KG,,UMOL/KG,,UMOL/KG,,UMOL/KG,,UMOL/KG,,PMOL/KG,,PMOL/KG,,FMOL/KG,,UMOL/KG,,UMOL/KG,,,,DEG C,UMOL/KG,,NMOL/L,,DEG C,,/MILLE,,/MILLE,,/MILLE,UG/KG,,UMOL/KG,,UMOL/KG,,NMOL/L,,VOLTS,,VOLTS,,VOLTS,,NMOL/KG,,UMOL/L,,,,,,NMOL/L,,NMOL/L,,,,,,10000,,10000,,,,PMOL/KG,,PMOL/L,,PMOL/L,,PMOL/L,,PMOL/L,,PMOL/L,,PMOL/L,,PMOL/L,,PMOL/L,,PMOL/L,,PMOL/L,,PMOL/L,,PMOL/L,,PMOL/L,
320620180309  ,S04P       ,26      ,  1,15         ,15         ,2,20180328,0147, -67.0014,-176.7294,     4058,   1318.5,0.8269666666666665167,34.712162551037935,2,  34.7125,2,203.20555833044779,2, 201.3993,2,    202.8,2,    118.9,2,    32.24,2,     0.00,2,     2.22,2,    0.188,2,    0.100,2,   0.0600,2,   2264.2,2,  2364.07,2,   7.6005,2,    24.92,     -999,9,     -999,9,   0.8259,2,     -999,9,     -999,9,     -999,     -999,9,     -999,9,     -999,9,     -999,9,    0.061,1,    4.674,1,    0.137,1,  19.6300,2,     -999,9,20180328,0314, -67.0028,-176.7268,     -999,9,     -999,9,-999          ,9,     -999,9,     -999,9,     -999,     -999,9,     -999,     -999,9,     -999,9,     -999,9,     -999,9,     -999,9,     -999,9,     -999,9,     -999,9,     -999,9,     -999,9,     -999,9,     -999,9,     -999,9,     -999,9
320620180309  ,S04P       ,26      ,  1,14         ,14         ,2,20180328,0147, -67.0014,-176.7294,     4058,   1421.2,0.7815833333333332966,34.709600738745728,2,  34.7100,2,204.18923739021034,2, 202.0020,2,    204.7,2,    118.8,2,    32.14,2,     0.00,2,     2.23,2,     -999,9,     -999,9,     -999,9,   2263.5,2,  2362.21,2,   7.6018,6,    24.93,     38.7,2,     -999,9,   0.7824,2,     -999,9,     -999,9,     -999,     -999,9,     -999,9,     -999,1,     -999,9,    0.061,1,    4.674,1,    0.131,1,     -999,9,     -999,9,20180328,0310, -67.0026,-176.7272,     -999,9,     -999,9,-999          ,9,     -999,9,     -999,9,     -999,     -999,9,     -999,     -999,9,     -999,1,     -999,1,     -999,1,     -999,1,     -999,1,     -999,1,     -999,1,     -999,1,     -999,1,     -999,1,     -999,1,     -999,1,     -999,1
320620180309  ,S04P       ,26      ,  1,13         ,13         ,2,20180328,0147, -67.0014,-176.7294,     4058,   1521.5,0.7417638888888890003,34.709421072296465,2,  34.7100,2,205.42569172521297,2, 203.5962,2,    203.9,2,    122.9,2,    32.32,2,     0.00,2,     2.22,2,    0.148,2,    0.071,2,   0.1100,2,   2266.4,2,  2363.86,2,   7.5966,2,    24.93,     -999,9,     -999,1,   0.7414,2,     -999,9,     -999,9,     -999,     -999,9,     -999,9,     -999,9,     -999,1,    0.062,1,    4.676,1,    0.136,1,  19.2500,2,     -999,1,20180328,0305, -67.0022,-176.7281,     -999,1,     -999,1,-999          ,9,     -999,1,     -999,9,     -999,     -999,9,     -999,     -999,9,     -999,9,     -999,9,     -999,9,     -999,9,     -999,9,     -999,9,     -999,9,     -999,9,     -999,9,     -999,9,     -999,9,     -999,9,     -999,9
320620180309  ,S04P       ,26      ,  1,12         ,12         ,2,20180328,0147, -67.0014,-176.7294,     4058,   1625.1,0.7111638888888891508,34.708476956808845,2,  34.7088,2,206.25219269179496,2, 203.9997,2,    204.6,2,    123.5,2,    32.38,2,     0.00,2,     2.22,2,    0.154,2,    0.080,2,   0.0200,2,   2263.8,2,  2362.99,2,   7.5922,2,    24.95,     40.6,2,     -999,9,   0.7108,2,     -999,9,     -999,9,     -999,     -999,9,     -999,9,     -999,1,     -999,9,    0.061,1,    4.676,1,    0.134,1,  19.6000,2,     -999,9,20180328,0301, -67.0019,-176.7286,     -999,9,     -999,9,-999          ,9,     -999,9,     -999,9,     -999,     -999,9,     -999,     -999,9,     -999,1,     -999,1,     -999,1,     -999,1,     -999,1,     -999,1,     -999,1,     -999,1,     -999,1,     -999,1,     -999,1,     -999,1,     -999,1
320620180309  ,S04P       ,26      ,  1,11         ,11         ,2,20180328,0147, -67.0014,-176.7294,     4058,   1726.1,0.6552750000000000519,34.706631552705986,2,  34.7070,2,204.48460361579180,2, 206.1923,2,    205.5,2,    124.7,2,    32.38,2,     0.00,2,     2.23,2,     -999,9,     -999,9,     -999,9,   2264.8,2,  2363.72,2,   7.5940,2,    24.94,     -999,9,     -999,9,   0.6534,2,     -999,9,     -999,9,     -999,     -999,9,     -999,9,     -999,9,     -999,9,    0.061,1,    4.676,1,    0.128,1,     -999,9,     -999,9,20180328,0257, -67.0016,-176.7293,     -999,9,     -999,9,-999          ,9,     -999,9,     -999,9,     -999,     -999,9,     -999,     -999,9,     -999,9,     -999,9,     -999,9,     -999,9,     -999,9,     -999,9,     -999,9,     -999,9,     -999,9,     -999,9,     -999,9,     -999,9,     -999,9
320620180309  ,S04P       ,26      ,  1,10         ,10         ,2,20180328,0147, -67.0014,-176.7294,     4058,   1826.3,0.6203222222222221083,34.705796180880519,2,  34.7056,2,203.17840998948824,3, 206.3019,2,    206.6,2,    125.6,2,    32.42,2,     0.00,2,     2.22,2,    0.181,2,    0.104,2,   0.2200,2,   2267.0,2,  2362.58,2,   7.5934,2,    24.94,     38.9,2,     -999,1,   0.6206,2,     -999,9,     -999,9,     -999,     -999,9,     -999,9,     -999,1,     -999,1,    0.062,1,    4.676,1,    0.130,1,  19.9200,2,     -999,1,20180328,0253, -67.0016,-176.7292,     -999,1,     -999,1,-999          ,9,     -999,1,     -999,9,     -999,     -999,9,     -999,     -999,9,     -999,1,     -999,1,     -999,1,     -999,1,     -999,1,     -999,1,     -999,1,     -999,1,     -999,1,     -999,1,     -999,1,     -999,1,     -999,1
320620180309  ,S04P       ,26      ,  1,9          ,9          ,2,20180328,0147, -67.0014,-176.7294,     4058,   2029.0,0.5719416666666665705,34.704175506974835,2,  34.7051,2,207.25522739698266,2, 207.9987,2,    207.4,2,    126.7,2,    32.45,2,     0.00,2,     2.23,2,     -999,9,     -999,9,     -999,9,   2266.6,6,  2363.89,2,   7.5937,2,    24.95,     38.3,2,     -999,9,   0.5712,2,     -999,9,     -999,9,     -999,     -999,9,     -999,9,     -999,1,     -999,9,    0.061,1,    4.676,1,    0.128,1,     -999,9,     -999,9,20180328,0248, -67.0018,-176.7288,     -999,9,     -999,9,-999          ,9,     -999,9,     -999,9,     -999,     -999,9,     -999,     -999,9,     -999,9,     -999,9,     -999,9,     -999,9,     -999,9,     -999,9,     -999,9,     -999,9,     -999,9,     -999,9,     -999,9,     -999,9,     -999,9
320620180309  ,S04P       ,26      ,  1,8          ,8          ,2,20180328,0147, -67.0014,-176.7294,     4058,   2286.5,0.4894027777777777977,34.702239104500151,2,  34.7027,2,209.70747927913158,2, 209.1020,2,    209.7,2,    128.5,2,    32.52,2,     0.00,2,     2.24,2,    0.238,2,    0.134,2,   0.1600,2,   2267.0,2,  2364.60,2,   7.5925,2,    24.93,     43.8,3,     -999,9,   0.4888,2,     -999,9,     -999,9,     -999,     -999,9,     -999,9,     -999,1,     -999,9,    0.062,1,    4.678,1,    0.126,1,  19.3800,2,     -999,9,20180328,0242, -67.0018,-176.7287,     -999,9,     -999,9,-999          ,9,     -999,9,     -999,9,     -999,     -999,9,     -999,     -999,9,     -999,1,     -999,1,     -999,1,     -999,1,     -999,1,     -999,1,     -999,1,     -999,1,     -999,1,     -999,1,     -999,1,     -999,1,     -999,1
320620180309  ,S04P       ,26      ,  1,7          ,7          ,2,20180328,0147, -67.0014,-176.7294,     4058,   2541.3,0.3941944444444444584,34.698748055869395,2,  34.6988,2,209.80156560472167,3, 212.2963,2,    213.0,2,    128.8,2,    32.50,2,     0.00,2,     2.25,2,    0.361,2,    0.201,2,   0.1200,2,   2265.0,2,  2362.31,2,   7.5938,2,    24.95,     38.3,2,     -999,1,   0.3940,2,     -999,9,     -999,9,     -999,     -999,9,     -999,9,     -999,1,     -999,1,    0.061,1,    4.621,1,    0.129,1,  20.0900,2,     -999,1,20180328,0235, -67.0013,-176.7295,     -999,1,     -999,1,-999          ,9,     -999,1,     -999,9,     -999,     -999,9,     -999,     -999,9,     -999,9,     -999,9,     -999,9,     -999,9,     -999,9,     -999,9,     -999,9,     -999,9,     -999,9,     -999,9,     -999,9,     -999,9,     -999,9
320620180309  ,S04P       ,26      ,  1,6          ,6          ,2,20180328,0147, -67.0014,-176.7294,     4058,   2795.4,0.3585944444444444934,34.696697011280676,2,  34.6974,2,211.60751833133489,3, 215.1032,2,    214.3,2,    128.7,2,    32.50,2,     0.00,2,     2.25,2,    0.442,2,    0.241,2,   0.2600,2,   2265.4,2,  2363.28,2,   7.5912,6,    24.94,     38.8,2,     -999,9,   0.3581,2,     -999,9,     -999,9,     -999,     -999,9,     -999,9,     -999,1,     -999,9,    0.060,1,    4.635,1,    0.127,1,  19.4700,2,     -999,9,20180328,0229, -67.0013,-176.7295,     -999,9,     -999,9,-999          ,9,     -999,9,     -999,9,     -999,     -999,9,     -999,     -999,9,     -999,1,     -999,1,     -999,1,     -999,1,     -999,1,     -999,1,     -999,1,     -999,1,     -999,1,     -999,1,     -999,1,     -999,1,     -999,1
320620180309  ,S04P       ,26      ,  1,5          ,5          ,2,20180328,0147, -67.0014,-176.7294,     4058,   3050.9,0.2993277777777777482,34.692300498063695,2,  34.6925,2,216.32937757679534,2, 217.8957,2,    217.4,2,    126.9,2,    32.50,2,     0.00,2,     2.24,2,    0.636,2,    0.350,2,   0.4400,2,   2264.9,2,  2361.14,2,   7.5927,2,    24.94,     39.4,2,     -999,1,   0.2976,2,     -999,9,     -999,9,     -999,     -999,9,     -999,9,     -999,1,     -999,1,    0.060,1,    4.637,1,    0.127,1,  19.2100,2,     -999,1,20180328,0223, -67.0014,-176.7292,     -999,1,     -999,1,-999          ,9,     -999,1,     -999,9,     -999,     -999,9,     -999,     -999,9,     -999,9,     -999,9,     -999,9,     -999,9,     -999,9,     -999,9,     -999,9,     -999,9,     -999,9,     -999,9,     -999,9,     -999,9,     -999,9
320620180309  ,S04P       ,26      ,  1,4          ,4          ,2,20180328,0147, -67.0014,-176.7294,     4058,   3359.9,0.2056055555555555692,34.686198587363315,2,  34.6856,2,220.35484606469339,2, 222.3012,2,    221.8,2,    122.5,2,    32.32,2,     0.00,2,     2.23,2,    0.992,2,    0.531,2,   0.3900,2,   2264.3,2,  2359.67,2,   7.5901,2,    24.94,     37.6,2,     -999,9,   0.2055,2,     -999,9,     -999,9,     -999,     -999,9,     -999,9,     -999,1,     -999,9,    0.060,1,    4.659,1,    0.126,1,  19.6300,2,     -999,9,20180328,0215, -67.0015,-176.7289,     -999,9,     -999,9,-999          ,9,     -999,9,     -999,9,     -999,     -999,9,     -999,     -999,9,     -999,1,     -999,1,     -999,1,     -999,1,     -999,1,     -999,1,     -999,1,     -999,1,     -999,1,     -999,1,     -999,1,     -999,1,     -999,1
320620180309  ,S04P       ,26      ,  1,3          ,3          ,2,20180328,0147, -67.0014,-176.7294,     4058,   3664.6,0.1491083333333333427,34.682918089156082,2,  34.6819,2,225.20909681457096,2, 225.7000,2,    225.4,2,    117.4,2,    32.21,2,     0.00,2,     2.23,2,    1.317,2,    0.713,2,   0.6500,2,   2262.8,2,  2359.25,2,   7.5893,2,    24.93,     38.1,2,     -999,1,   0.1502,2,     -999,9,     -999,9,     -999,     -999,9,     -999,9,     -999,1,     -999,1,    0.060,1,    4.631,1,    0.129,1,  19.7700,2,     -999,1,20180328,0207, -67.0015,-176.7291,     -999,1,     -999,1,-999          ,9,     -999,1,     -999,9,     -999,     -999,9,     -999,     -999,9,     -999,9,     -999,9,     -999,9,     -999,9,     -999,9,     -999,9,     -999,9,     -999,9,     -999,9,     -999,9,     -999,9,     -999,9,     -999,9
320620180309  ,S04P       ,26      ,  1,2          ,2          ,2,20180328,0147, -67.0014,-176.7294,     4058,   3894.3,0.1471388888888888469,34.683225337009937,2,  34.6839,2,227.27658307911074,2, 225.6972,2,    226.6,2,    115.9,2,    32.22,2,     0.00,2,     2.24,2,    1.416,2,    0.763,2,   0.6400,2,   2263.6,2,  2357.75,2,   7.5884,2,    24.94,     -999,9,     -999,1,   0.1467,2,     -999,9,     -999,9,     -999,     -999,9,     -999,9,     -999,9,     -999,1,    0.061,1,    4.666,1,    0.137,1,  19.7000,2,     -999,1,20180328,0159, -67.0017,-176.7284,     -999,1,     -999,1,-999          ,9,     -999,1,     -999,9,     -999,     -999,9,     -999,     -999,9,     -999,1,     -999,1,     -999,1,     -999,1,     -999,1,     -999,1,     -999,1,     -999,1,     -999,1,     -999,1,     -999,1,     -999,1,     -999,1
320620180309  ,S04P       ,26      ,  1,1          ,1          ,2,20180328,0147, -67.0014,-176.7294,     4058,   4129.9,0.1671777777777777585,34.683200355639642,2,  34.6843,2,228.59840458699003,3, 225.7039,2,    226.2,2,    115.5,2,    32.23,2,     0.00,2,     2.24,2,    1.432,2,    0.772,2,   0.5900,2,   2261.8,6,  2357.96,2,   7.5889,2,    24.94,     38.9,2,     -999,1,   0.1669,2,     -999,9,     -999,9,     -999,     -999,9,     -999,9,     -999,1,     -999,1,    0.061,1,    4.570,1,    0.164,1,  20.4100,4,     -999,1,20180328,0147, -67.0014,-176.7294,     -999,1,     -999,1,-999          ,9,     -999,1,     -999,9,     -999,     -999,9,     -999,     -999,9,     -999,1,     -999,1,     -999,1,     -999,1,     -999,1,     -999,1,     -999,1,     -999,1,     -999,1,     -999,1,     -999,1,     -999,1,     -999,1