BOTTLE,20240515CCHHYDRO
EXPOCODE,SECT_ID,STNNBR,CASTNO,SAMPNO,BTLNBR,BTLNBR_FLAG_W,DATE,TIME,LATITUDE,LONGITUDE,DEPTH,CTDPRS,CTDTMP,CTDSAL,CTDSAL_FLAG_W,SALNTY,SALNTY_FLAG_W,CTDOXY,CTDOXY_FLAG_W,CTDOPTOXY,CTDOPTOXY_FLAG_W,OXYGEN,OXYGEN_FLAG_W,SILCAT,SILCAT_FLAG_W,NITRAT,NITRAT_FLAG_W,NITRIT,NITRIT_FLAG_W,PHSPHT,PHSPHT_FLAG_W,CFC-11,CFC-11_FLAG_W,CFC-12,CFC-12_FLAG_W,SF6,SF6_FLAG_W,TCARBN,TCARBN_FLAG_W,ALKALI,ALKALI_FLAG_W,PH_TOT,PH_TOT_FLAG_W,PH_TMP,DOC,DOC_FLAG_W,HELIUM,HELIUM_FLAG_W,REFTMP,REFTMP_FLAG_W,DELC13,DELC13_FLAG_W,DELC14,DELC14_FLAG_W,C14ERR,POC,POC_FLAG_W,TDN,TDN_FLAG_W,TON,TON_FLAG_W,NEON,NEON_FLAG_W,CTDFLUOR,CTDFLUOR_FLAG_W,CTDXMISS,CTDXMISS_FLAG_W,CTDBETA700,CTDBETA700_FLAG_W,N2O,N2O_FLAG_W,ARGON,ARGON_FLAG_W,BTL_DATE,BTL_TIME,BTL_LAT,BTL_LON,KRYPTON,KRYPTON_FLAG_W,XENON,XENON_FLAG_W,HPLC,HPLC_FLAG_W,HE3_HE4_RATIO,HE3_HE4_RATIO_FLAG_W,Nd_143_144_D_EPSILON_BOTTLE,Nd_143_144_D_EPSILON_BOTTLE_FLAG_W,Nd_143_144_D_EPSILON_BOTTLE_ERROR,Nd_143_144_D_RATIO_BOTTLE,Nd_143_144_D_RATIO_BOTTLE_FLAG_W,Nd_143_144_D_RATIO_BOTTLE_ERROR,Nd_D_CONC,Nd_D_CONC_FLAG_W,La_D_CONC_BOTTLE,La_D_CONC_BOTTLE_FLAG_W,Ce_D_CONC_BOTTLE,Ce_D_CONC_BOTTLE_FLAG_W,Pr_D_CONC_BOTTLE,Pr_D_CONC_BOTTLE_FLAG_W,Sm_D_CONC_BOTTLE,Sm_D_CONC_BOTTLE_FLAG_W,Eu_D_CONC_BOTTLE,Eu_D_CONC_BOTTLE_FLAG_W,Gd_D_CONC_BOTTLE,Gd_D_CONC_BOTTLE_FLAG_W,Tb_D_CONC_BOTTLE,Tb_D_CONC_BOTTLE_FLAG_W,Dy_D_CONC_BOTTLE,Dy_D_CONC_BOTTLE_FLAG_W,Ho_D_CONC_BOTTLE,Ho_D_CONC_BOTTLE_FLAG_W,Er_D_CONC_BOTTLE,Er_D_CONC_BOTTLE_FLAG_W,Tm_D_CONC_BOTTLE,Tm_D_CONC_BOTTLE_FLAG_W,Yb_D_CONC_BOTTLE,Yb_D_CONC_BOTTLE_FLAG_W,Lu_D_CONC_BOTTLE,Lu_D_CONC_BOTTLE_FLAG_W
,,,,,,,,,,,METERS,DBAR,ITS-90,PSS-78,,PSS-78,,UMOL/KG,,UMOL/KG,,UMOL/KG,,UMOL/KG,,UMOL/KG,,UMOL/KG,,UMOL/KG,,PMOL/KG,,PMOL/KG,,FMOL/KG,,UMOL/KG,,UMOL/KG,,,,DEG C,UMOL/KG,,NMOL/L,,DEG C,,/MILLE,,/MILLE,,/MILLE,UG/KG,,UMOL/KG,,UMOL/KG,,NMOL/L,,VOLTS,,VOLTS,,VOLTS,,NMOL/KG,,UMOL/L,,,,,,NMOL/L,,NMOL/L,,,,,,10000,,10000,,,,PMOL/KG,,PMOL/L,,PMOL/L,,PMOL/L,,PMOL/L,,PMOL/L,,PMOL/L,,PMOL/L,,PMOL/L,,PMOL/L,,PMOL/L,,PMOL/L,,PMOL/L,,PMOL/L,
320620180309  ,S04P       ,2       ,  2,14         ,14         ,2,20180317,0724, -70.3610, 168.6293,     1993,   1010.9,0.2745805555555554944,34.691229417336743,2,  34.6905,2,215.49025707623633,2, 217.6018,2,    215.7,2,    115.0,2,    32.33,2,     0.00,2,     2.22,2,    0.846,2,    0.471,2,   0.3700,2,   2262.0,2,  2360.31,3,   7.5884,2,    24.94,     -999,9,     -999,9,   0.2736,2,     -999,9,     -999,9,     -999,     -999,9,     -999,9,     -999,9,     -999,9,    0.061,1,    4.673,1,    0.135,1,  20.2800,2,     -999,9,20180317,0758, -70.3612, 168.6287,     -999,9,     -999,9,-999          ,9,     -999,9,     -999,9,     -999,     -999,9,     -999,     -999,9,     -999,1,     -999,1,     -999,1,     -999,1,     -999,1,     -999,1,     -999,1,     -999,1,     -999,1,     -999,1,     -999,1,     -999,1,     -999,1
320620180309  ,S04P       ,2       ,  2,13         ,13         ,2,20180317,0724, -70.3610, 168.6293,     1993,   1112.5,0.2139666666666666661,34.689620873578299,2,  34.6899,2,217.75693548413818,2, 219.7967,2,    218.1,2,    112.4,2,    32.23,2,     0.00,2,     2.22,2,     -999,9,     -999,9,     -999,9,     -999,9,     -999,9,     -999,9,     -999,     -999,9,     -999,1,   0.2132,2,     -999,9,     -999,9,     -999,     -999,9,     -999,9,     -999,9,     -999,1,    0.061,1,    4.671,1,    0.134,1,     -999,9,     -999,1,20180317,0754, -70.3611, 168.6288,     -999,1,     -999,1,-999          ,9,     -999,1,     -999,9,     -999,     -999,9,     -999,     -999,9,     -999,1,     -999,1,     -999,1,     -999,1,     -999,1,     -999,1,     -999,1,     -999,1,     -999,1,     -999,1,     -999,1,     -999,1,     -999,1
320620180309  ,S04P       ,2       ,  2,12         ,12         ,2,20180317,0724, -70.3610, 168.6293,     1993,   1214.9,0.1630027777777777742,34.689239514352508,2,  34.6894,2,219.32848893331752,2, 225.7992,2,    218.9,2,    116.1,2,    32.30,2,     0.00,2,     2.22,2,     -999,9,     -999,9,     -999,9,   2261.6,2,  2360.41,3,   7.5906,3,    24.95,     -999,9,     -999,9,   0.1625,2,     -999,9,     -999,9,     -999,     -999,9,     -999,9,     -999,9,     -999,9,    0.061,1,    4.674,1,    0.134,1,     -999,9,     -999,9,20180317,0751, -70.3611, 168.6287,     -999,9,     -999,9,-999          ,9,     -999,9,     -999,9,     -999,     -999,9,     -999,     -999,9,     -999,1,     -999,1,     -999,1,     -999,1,     -999,1,     -999,1,     -999,1,     -999,1,     -999,1,     -999,1,     -999,1,     -999,1,     -999,1
320620180309  ,S04P       ,2       ,  2,10         ,10         ,2,20180317,0724, -70.3610, 168.6293,     1993,   1316.2,0.0349083333333333259,34.680787166400123,3,     -999,9,224.29013819524147,2, 208.4873,2,     -999,9,     -999,9,     -999,9,     -999,9,     -999,9,     -999,9,     -999,9,     -999,9,     -999,9,     -999,9,     -999,9,     -999,     -999,9,     -999,9,   0.0345,2,     -999,9,     -999,9,     -999,     -999,9,     -999,9,     -999,9,     -999,9,    0.061,1,    4.673,1,    0.135,1,     -999,9,     -999,9,20180317,0748, -70.3610, 168.6291,     -999,9,     -999,9,-999          ,9,     -999,9,     -999,9,     -999,     -999,9,     -999,     -999,9,     -999,1,     -999,1,     -999,1,     -999,1,     -999,1,     -999,1,     -999,1,     -999,1,     -999,1,     -999,1,     -999,1,     -999,1,     -999,1
320620180309  ,S04P       ,2       ,  2,11         ,11         ,2,20180317,0724, -70.3610, 168.6293,     1993,   1316.4,0.0357333333333333461,34.680925750484178,2,  34.6809,2,224.28239622762820,2, 225.7006,2,    225.1,2,    105.4,2,    32.01,2,     0.00,2,     2.21,2,    1.453,2,    0.804,2,   0.7100,2,     -999,9,     -999,9,     -999,9,     -999,     -999,9,     -999,1,     -999,9,     -999,9,     -999,9,     -999,     -999,9,     -999,9,     -999,9,     -999,1,    0.061,1,    4.673,1,    0.135,1,  19.4600,2,     -999,1,20180317,0748, -70.3610, 168.6291,     -999,1,     -999,1,-999          ,9,     -999,1,     -999,9,     -999,     -999,9,     -999,     -999,9,     -999,9,     -999,9,     -999,9,     -999,9,     -999,9,     -999,9,     -999,9,     -999,9,     -999,9,     -999,9,     -999,9,     -999,9,     -999,9
320620180309  ,S04P       ,2       ,  2,9          ,9          ,2,20180317,0724, -70.3610, 168.6293,     1993,   1418.5,0.0214833333333333369,34.685086604378888,2,  34.6852,2,224.20258149754528,2, 230.7019,2,    225.0,2,    107.6,2,    32.06,2,     0.00,2,     2.22,2,    1.421,2,    0.773,2,   0.8000,2,   2261.3,2,  2356.22,2,   7.5862,2,    24.94,     -999,9,     -999,9,   0.0239,2,     -999,9,     -999,9,     -999,     -999,9,     -999,9,     -999,9,     -999,9,    0.062,1,    4.672,1,    0.137,1,  19.7700,2,     -999,9,20180317,0745, -70.3609, 168.6296,     -999,9,     -999,9,-999          ,9,     -999,9,     -999,9,     -999,     -999,9,     -999,     -999,9,     -999,1,     -999,1,     -999,1,     -999,1,     -999,1,     -999,1,     -999,1,     -999,1,     -999,1,     -999,1,     -999,1,     -999,1,     -999,1
320620180309  ,S04P       ,2       ,  2,8          ,8          ,2,20180317,0724, -70.3610, 168.6293,     1993,   1520.0,-0.1198166666666666547,34.675255133569721,2,  34.6750,2,232.36490913295793,2, 230.7044,2,    233.3,2,    100.8,2,    31.71,2,     0.00,2,     2.18,2,    1.916,2,    1.063,2,   1.0900,2,   2256.7,2,  2354.41,2,   7.5894,6,    24.96,     -999,9,     -999,1,  -0.1196,2,     -999,9,     -999,9,     -999,     -999,9,     -999,9,     -999,9,     -999,1,    0.064,1,    4.663,1,    0.145,1,  19.7000,2,     -999,1,20180317,0741, -70.3608, 168.6297,     -999,1,     -999,1,-999          ,9,     -999,1,     -999,9,     -999,     -999,9,     -999,     -999,9,     -999,1,     -999,1,     -999,1,     -999,1,     -999,1,     -999,1,     -999,1,     -999,1,     -999,1,     -999,1,     -999,1,     -999,1,     -999,1
320620180309  ,S04P       ,2       ,  2,7          ,7          ,2,20180317,0724, -70.3610, 168.6293,     1993,   1621.2,-0.0980083333333333362,34.686616282932000,2,  34.6854,2,230.64171219660614,2, 230.7003,2,    231.6,2,    102.3,2,    31.78,2,     0.00,2,     2.18,2,    1.838,2,    1.028,2,   0.9800,2,   2257.1,2,  2355.79,2,   7.5916,2,    24.94,     -999,9,     -999,9,  -0.0986,2,     -999,9,     -999,9,     -999,     -999,9,     -999,9,     -999,9,     -999,9,    0.061,1,    4.668,1,    0.141,1,  19.4900,2,     -999,9,20180317,0738, -70.3609, 168.6297,     -999,9,     -999,9,-999          ,9,     -999,9,     -999,9,     -999,     -999,9,     -999,     -999,9,     -999,1,     -999,1,     -999,1,     -999,1,     -999,1,     -999,1,     -999,1,     -999,1,     -999,1,     -999,1,     -999,1,     -999,1,     -999,1
320620180309  ,S04P       ,2       ,  2,5          ,5          ,2,20180317,0724, -70.3610, 168.6293,     1993,   1722.9,-0.1379222222222221961,34.687981800655521,3,     -999,9,234.17158025204628,2, 216.1892,2,     -999,9,     -999,9,     -999,9,     -999,9,     -999,9,     -999,9,     -999,9,     -999,9,     -999,9,     -999,9,     -999,9,     -999,     -999,9,     -999,9,  -0.1397,2,     -999,9,     -999,9,     -999,     -999,9,     -999,9,     -999,9,     -999,9,    0.063,1,    4.662,1,    0.156,1,     -999,9,     -999,9,20180317,0735, -70.3609, 168.6297,     -999,9,     -999,9,-999          ,9,     -999,9,     -999,9,     -999,     -999,9,     -999,     -999,9,     -999,1,     -999,1,     -999,1,     -999,1,     -999,1,     -999,1,     -999,1,     -999,1,     -999,1,     -999,1,     -999,1,     -999,1,     -999,1
320620180309  ,S04P       ,2       ,  2,6          ,6          ,2,20180317,0724, -70.3610, 168.6293,     1993,   1723.3,-0.1382666666666666766,34.687982112059331,2,  34.6876,2,234.18297035907705,2, 231.2993,2,    234.2,2,    100.2,2,    31.65,2,     0.00,2,     2.19,2,    1.981,2,    1.087,2,   1.1900,2,   2254.1,3,  2354.47,2,   7.5901,2,    24.94,     -999,9,     -999,1,     -999,9,     -999,9,     -999,9,     -999,     -999,9,     -999,9,     -999,9,     -999,1,    0.063,1,    4.662,1,    0.156,1,  20.1400,2,     -999,1,20180317,0735, -70.3609, 168.6297,     -999,1,     -999,1,-999          ,9,     -999,1,     -999,9,     -999,     -999,9,     -999,     -999,9,     -999,9,     -999,9,     -999,9,     -999,9,     -999,9,     -999,9,     -999,9,     -999,9,     -999,9,     -999,9,     -999,9,     -999,9,     -999,9
320620180309  ,S04P       ,2       ,  2,4          ,4          ,2,20180317,0724, -70.3610, 168.6293,     1993,   1825.1,-0.1663388888888888695,34.689532553301355,2,  34.6898,2,234.56731095579329,2, 233.2958,2,    235.0,2,     99.8,2,    31.61,2,     0.00,2,     2.20,2,    2.026,2,    1.116,2,   1.1800,2,     -999,9,     -999,9,     -999,9,     -999,     -999,9,     -999,1,  -0.1643,2,     -999,9,     -999,9,     -999,     -999,9,     -999,9,     -999,9,     -999,1,    0.065,1,    4.660,1,    0.174,1,  19.5700,2,     -999,1,20180317,0731, -70.3609, 168.6296,     -999,1,     -999,1,-999          ,9,     -999,1,     -999,9,     -999,     -999,9,     -999,     -999,9,     -999,1,     -999,1,     -999,1,     -999,1,     -999,1,     -999,1,     -999,1,     -999,1,     -999,1,     -999,1,     -999,1,     -999,1,     -999,1
320620180309  ,S04P       ,2       ,  2,3          ,3          ,2,20180317,0724, -70.3610, 168.6293,     1993,   1917.1,-0.2774388888888889571,34.689844520718950,2,  34.6880,2,237.99753532910103,2, 236.5947,2,    238.3,2,     98.6,2,    31.55,2,     0.00,2,     2.19,2,    2.213,2,    1.214,2,   1.1800,2,   2257.7,2,  2355.23,2,   7.5910,2,    24.95,     -999,9,     -999,1,  -0.2779,2,     -999,9,     -999,9,     -999,     -999,9,     -999,9,     -999,9,     -999,1,    0.064,1,    4.659,1,    0.159,1,  19.5400,2,     -999,1,20180317,0728, -70.3609, 168.6295,     -999,1,     -999,1,-999          ,9,     -999,1,     -999,9,     -999,     -999,9,     -999,     -999,9,     -999,1,     -999,1,     -999,1,     -999,1,     -999,1,     -999,1,     -999,1,     -999,1,     -999,1,     -999,1,     -999,1,     -999,1,     -999,1
320620180309  ,S04P       ,2       ,  2,2          ,2          ,2,20180317,0724, -70.3610, 168.6293,     1993,   2011.8,-0.2975944444444444947,34.690734961398441,2,  34.6907,2,239.32295763677490,2, 236.6992,2,    239.1,2,     99.1,2,    31.52,2,     0.00,2,     2.18,2,    2.262,2,    1.233,2,   1.2900,2,   2257.8,6,  2355.23,2,   7.5897,2,    24.94,     -999,9,     -999,1,     -999,9,     -999,9,     -999,9,     -999,     -999,9,     -999,9,     -999,9,     -999,1,    0.063,1,    4.655,1,    0.163,1,  19.3400,2,     -999,1,20180317,0725, -70.3610, 168.6293,     -999,1,     -999,1,-999          ,9,     -999,1,     -999,9,     -999,     -999,9,     -999,     -999,9,     -999,9,     -999,9,     -999,9,     -999,9,     -999,9,     -999,9,     -999,9,     -999,9,     -999,9,     -999,9,     -999,9,     -999,9,     -999,9
320620180309  ,S04P       ,2       ,  2,1          ,1          ,2,20180317,0724, -70.3610, 168.6293,     1993,   2012.2,-0.2982944444444444176,34.691000404848225,3,     -999,9,239.15824382793997,2, 220.0949,2,     -999,9,     -999,9,     -999,9,     -999,9,     -999,9,     -999,9,     -999,9,     -999,9,     -999,9,     -999,9,     -999,9,     -999,     -999,9,     -999,9,  -0.2975,2,     -999,9,     -999,9,     -999,     -999,9,     -999,9,     -999,9,     -999,9,    0.061,1,    4.656,1,    0.164,1,     -999,9,     -999,9,20180317,0724, -70.3610, 168.6293,     -999,9,     -999,9,-999          ,9,     -999,9,    -9.15,4,     0.83, 0.512169,4, 0.000042,     2.95,4,     -999,1,     -999,1,     -999,1,     -999,1,     -999,1,     -999,1,     -999,1,     -999,1,     -999,1,     -999,1,     -999,1,     -999,1,     -999,1