BOTTLE,20240515CCHHYDRO
EXPOCODE,SECT_ID,STNNBR,CASTNO,SAMPNO,BTLNBR,BTLNBR_FLAG_W,DATE,TIME,LATITUDE,LONGITUDE,DEPTH,CTDPRS,CTDTMP,CTDSAL,CTDSAL_FLAG_W,SALNTY,SALNTY_FLAG_W,CTDOXY,CTDOXY_FLAG_W,CTDOPTOXY,CTDOPTOXY_FLAG_W,OXYGEN,OXYGEN_FLAG_W,SILCAT,SILCAT_FLAG_W,NITRAT,NITRAT_FLAG_W,NITRIT,NITRIT_FLAG_W,PHSPHT,PHSPHT_FLAG_W,CFC-11,CFC-11_FLAG_W,CFC-12,CFC-12_FLAG_W,SF6,SF6_FLAG_W,TCARBN,TCARBN_FLAG_W,ALKALI,ALKALI_FLAG_W,PH_TOT,PH_TOT_FLAG_W,PH_TMP,DOC,DOC_FLAG_W,HELIUM,HELIUM_FLAG_W,REFTMP,REFTMP_FLAG_W,DELC13,DELC13_FLAG_W,DELC14,DELC14_FLAG_W,C14ERR,POC,POC_FLAG_W,TDN,TDN_FLAG_W,TON,TON_FLAG_W,NEON,NEON_FLAG_W,CTDFLUOR,CTDFLUOR_FLAG_W,CTDXMISS,CTDXMISS_FLAG_W,CTDBETA700,CTDBETA700_FLAG_W,N2O,N2O_FLAG_W,ARGON,ARGON_FLAG_W,BTL_DATE,BTL_TIME,BTL_LAT,BTL_LON,KRYPTON,KRYPTON_FLAG_W,XENON,XENON_FLAG_W,HPLC,HPLC_FLAG_W,HE3_HE4_RATIO,HE3_HE4_RATIO_FLAG_W,Nd_143_144_D_EPSILON_BOTTLE,Nd_143_144_D_EPSILON_BOTTLE_FLAG_W,Nd_143_144_D_EPSILON_BOTTLE_ERROR,Nd_143_144_D_RATIO_BOTTLE,Nd_143_144_D_RATIO_BOTTLE_FLAG_W,Nd_143_144_D_RATIO_BOTTLE_ERROR,Nd_D_CONC,Nd_D_CONC_FLAG_W,La_D_CONC_BOTTLE,La_D_CONC_BOTTLE_FLAG_W,Ce_D_CONC_BOTTLE,Ce_D_CONC_BOTTLE_FLAG_W,Pr_D_CONC_BOTTLE,Pr_D_CONC_BOTTLE_FLAG_W,Sm_D_CONC_BOTTLE,Sm_D_CONC_BOTTLE_FLAG_W,Eu_D_CONC_BOTTLE,Eu_D_CONC_BOTTLE_FLAG_W,Gd_D_CONC_BOTTLE,Gd_D_CONC_BOTTLE_FLAG_W,Tb_D_CONC_BOTTLE,Tb_D_CONC_BOTTLE_FLAG_W,Dy_D_CONC_BOTTLE,Dy_D_CONC_BOTTLE_FLAG_W,Ho_D_CONC_BOTTLE,Ho_D_CONC_BOTTLE_FLAG_W,Er_D_CONC_BOTTLE,Er_D_CONC_BOTTLE_FLAG_W,Tm_D_CONC_BOTTLE,Tm_D_CONC_BOTTLE_FLAG_W,Yb_D_CONC_BOTTLE,Yb_D_CONC_BOTTLE_FLAG_W,Lu_D_CONC_BOTTLE,Lu_D_CONC_BOTTLE_FLAG_W
,,,,,,,,,,,METERS,DBAR,ITS-90,PSS-78,,PSS-78,,UMOL/KG,,UMOL/KG,,UMOL/KG,,UMOL/KG,,UMOL/KG,,UMOL/KG,,UMOL/KG,,PMOL/KG,,PMOL/KG,,FMOL/KG,,UMOL/KG,,UMOL/KG,,,,DEG C,UMOL/KG,,NMOL/L,,DEG C,,/MILLE,,/MILLE,,/MILLE,UG/KG,,UMOL/KG,,UMOL/KG,,NMOL/L,,VOLTS,,VOLTS,,VOLTS,,NMOL/KG,,UMOL/L,,,,,,NMOL/L,,NMOL/L,,,,,,10000,,10000,,,,PMOL/KG,,PMOL/L,,PMOL/L,,PMOL/L,,PMOL/L,,PMOL/L,,PMOL/L,,PMOL/L,,PMOL/L,,PMOL/L,,PMOL/L,,PMOL/L,,PMOL/L,,PMOL/L,
320620180309  ,P15        ,16      ,  1,15         ,15         ,2,20180323,1137, -68.0021,-170.0028,     3615,   1316.9,0.8115805555555556383,34.710610609328704,2,  34.7107,2,203.12277128520932,2, 203.2999,2,    203.4,2,    118.7,2,    32.52,2,     0.00,2,     2.24,2,    0.181,2,    0.083,2,   0.0900,2,   2262.3,2,  2361.42,2,   7.5944,2,    24.93,     39.4,2,     -999,9,   0.8113,2,     -999,9,     -999,9,     -999,     -999,9,     -999,9,     -999,1,     -999,9,    0.061,1,    4.674,1,    0.133,1,  19.7000,2,     -999,9,20180323,1241, -68.0032,-170.0027,     -999,9,     -999,9,-999          ,9,     -999,9,     -999,9,     -999,     -999,9,     -999,     -999,9,     -999,9,     -999,9,     -999,9,     -999,9,     -999,9,     -999,9,     -999,9,     -999,9,     -999,9,     -999,9,     -999,9,     -999,9,     -999,9
320620180309  ,P15        ,16      ,  1,14         ,14         ,2,20180323,1137, -68.0021,-170.0028,     3615,   1416.8,0.7689166666666665817,34.708687602543101,2,  34.7084,2,204.29185973008737,2, 204.1006,2,    204.4,2,    120.0,2,    32.52,2,     0.00,2,     2.24,2,     -999,9,     -999,9,     -999,9,   2265.0,2,  2360.89,2,   7.5955,2,    24.93,     42.0,2,     -999,1,   0.7677,2,     -999,9,     -999,9,     -999,     -999,9,     -999,9,     -999,1,     -999,1,    0.061,1,    4.674,1,    0.133,1,     -999,9,     -999,1,20180323,1238, -68.0028,-170.0026,     -999,1,     -999,1,-999          ,9,     -999,1,     -999,9,     -999,     -999,9,     -999,     -999,9,     -999,1,     -999,1,     -999,1,     -999,1,     -999,1,     -999,1,     -999,1,     -999,1,     -999,1,     -999,1,     -999,1,     -999,1,     -999,1
320620180309  ,P15        ,16      ,  1,13         ,13         ,2,20180323,1137, -68.0021,-170.0028,     3615,   1520.5,0.7174583333333335311,34.706854163280212,2,  34.7064,2,205.73983779549172,2, 203.9984,2,    205.1,2,    121.8,2,    32.53,2,     0.00,2,     2.23,2,    0.205,2,    0.104,2,   0.0500,2,   2264.0,6,  2362.29,2,   7.5951,2,    24.94,     -999,9,     -999,9,   0.7164,2,     -999,9,     -999,9,     -999,     -999,9,     -999,9,     -999,9,     -999,9,    0.061,1,    4.675,1,    0.130,1,  19.7400,2,     -999,9,20180323,1235, -68.0025,-170.0027,     -999,9,     -999,9,-999          ,9,     -999,9,     -999,9,     -999,     -999,9,     -999,     -999,9,     -999,9,     -999,9,     -999,9,     -999,9,     -999,9,     -999,9,     -999,9,     -999,9,     -999,9,     -999,9,     -999,9,     -999,9,     -999,9
320620180309  ,P15        ,16      ,  1,12         ,12         ,2,20180323,1137, -68.0021,-170.0028,     3615,   1621.3,0.6676083333333333591,34.704470717570572,2,  34.7049,2,204.93900194843204,2, 204.5017,2,    206.6,2,    122.9,2,    32.52,2,     0.00,2,     2.23,2,     -999,9,     -999,9,     -999,9,   2265.7,2,  2360.49,2,   7.5946,2,    24.92,     40.7,2,     -999,1,   0.6675,2,     -999,9,     -999,9,     -999,     -999,9,     -999,9,     -999,1,     -999,1,    0.061,1,    4.675,1,    0.130,1,     -999,9,     -999,1,20180323,1231, -68.0025,-170.0027,     -999,1,     -999,1,-999          ,9,     -999,1,     -999,9,     -999,     -999,9,     -999,     -999,9,     -999,1,     -999,1,     -999,1,     -999,1,     -999,1,     -999,1,     -999,1,     -999,1,     -999,1,     -999,1,     -999,1,     -999,1,     -999,1
320620180309  ,P15        ,16      ,  1,11         ,11         ,2,20180323,1137, -68.0021,-170.0028,     3615,   1723.3,0.6297305555555555712,34.703264136031841,2,  34.7027,2,205.79833621340484,2, 205.8962,2,    207.2,2,    124.1,2,    32.54,2,     0.00,2,     2.24,2,    0.250,2,    0.133,2,   0.0000,2,   2265.3,2,  2361.09,2,   7.5955,2,    24.93,     -999,9,     -999,9,   0.6297,2,     -999,9,     -999,9,     -999,     -999,9,     -999,9,     -999,9,     -999,9,    0.061,1,    4.676,1,    0.129,1,  20.5100,2,     -999,9,20180323,1228, -68.0025,-170.0027,     -999,9,     -999,9,-999          ,9,     -999,9,     -999,9,     -999,     -999,9,     -999,     -999,9,     -999,9,     -999,9,     -999,9,     -999,9,     -999,9,     -999,9,     -999,9,     -999,9,     -999,9,     -999,9,     -999,9,     -999,9,     -999,9
320620180309  ,P15        ,16      ,  1,10         ,10         ,2,20180323,1137, -68.0021,-170.0028,     3615,   1823.9,0.6018055555555555935,34.702679827786156,2,  34.7031,2,207.61940684727881,2, 207.1963,2,    208.3,2,    124.9,2,    32.54,2,     0.00,2,     2.24,2,    0.238,2,    0.132,2,   0.0900,2,   2265.2,2,  2361.50,2,   7.5941,2,    24.93,     42.1,2,     -999,1,   0.6005,2,     -999,9,     -999,9,     -999,     -999,9,     -999,9,     -999,1,     -999,1,    0.061,1,    4.676,1,    0.128,1,  19.7900,2,     -999,1,20180323,1225, -68.0026,-170.0027,     -999,1,     -999,1,-999          ,9,     -999,1,     -999,9,     -999,     -999,9,     -999,     -999,9,     -999,1,     -999,1,     -999,1,     -999,1,     -999,1,     -999,1,     -999,1,     -999,1,     -999,1,     -999,1,     -999,1,     -999,1,     -999,1
320620180309  ,P15        ,16      ,  1,9          ,9          ,2,20180323,1137, -68.0021,-170.0028,     3615,   2028.3,0.5171944444444442901,34.699998319260963,2,  34.6998,2,209.50733664503161,2, 209.0984,2,    209.2,2,    126.5,2,    32.60,2,     0.00,2,     2.24,2,    0.296,2,    0.154,2,   0.0000,2,   2265.0,2,  2362.27,2,   7.5944,2,    24.92,     43.5,2,     -999,9,   0.5169,2,     -999,9,     -999,9,     -999,     -999,9,     -999,9,     -999,1,     -999,9,    0.061,1,    4.676,1,    0.127,1,  19.9900,2,     -999,9,20180323,1220, -68.0028,-170.0027,     -999,9,     -999,9,-999          ,9,     -999,9,     -999,9,     -999,     -999,9,     -999,     -999,9,     -999,9,     -999,9,     -999,9,     -999,9,     -999,9,     -999,9,     -999,9,     -999,9,     -999,9,     -999,9,     -999,9,     -999,9,     -999,9
320620180309  ,P15        ,16      ,  1,8          ,8          ,2,20180323,1137, -68.0021,-170.0028,     3615,   2232.9,0.4529055555555555612,34.698832179514504,2,  34.6990,2,210.45694809025929,2, 211.4035,2,    211.2,2,    127.6,2,    32.60,2,     0.00,2,     2.24,2,     -999,9,     -999,9,     -999,9,   2264.6,2,  2363.00,2,   7.5947,6,    24.93,     42.6,2,     -999,1,   0.4523,2,     -999,9,     -999,9,     -999,     -999,9,     -999,9,     -999,1,     -999,1,    0.060,1,    4.676,1,    0.129,1,     -999,9,     -999,1,20180323,1215, -68.0029,-170.0027,     -999,1,     -999,1,-999          ,9,     -999,1,     -999,9,     -999,     -999,9,     -999,     -999,9,     -999,1,     -999,1,     -999,1,     -999,1,     -999,1,     -999,1,     -999,1,     -999,1,     -999,1,     -999,1,     -999,1,     -999,1,     -999,1
320620180309  ,P15        ,16      ,  1,7          ,7          ,2,20180323,1137, -68.0021,-170.0028,     3615,   2438.8,0.3969444444444444331,34.696624175838210,2,  34.6956,2,212.11800314698516,2, 213.6014,2,    213.2,2,    127.6,2,    32.61,2,     0.00,2,     2.24,2,    0.382,2,    0.210,2,   0.0800,2,   2264.3,2,  2368.13,3,   7.5932,2,    24.92,     42.7,2,     -999,9,   0.3961,2,     -999,9,     -999,9,     -999,     -999,9,     -999,9,     -999,1,     -999,9,    0.061,1,    4.676,1,    0.128,1,  20.1000,2,     -999,9,20180323,1209, -68.0029,-170.0027,     -999,9,     -999,9,-999          ,9,     -999,9,     -999,9,     -999,     -999,9,     -999,     -999,9,     -999,9,     -999,9,     -999,9,     -999,9,     -999,9,     -999,9,     -999,9,     -999,9,     -999,9,     -999,9,     -999,9,     -999,9,     -999,9
320620180309  ,P15        ,16      ,  1,6          ,6          ,2,20180323,1137, -68.0021,-170.0028,     3615,   2641.8,0.3420388888888889478,34.694577872997449,2,  34.6939,2,214.55380826061094,2, 219.5973,2,    215.2,2,    127.7,2,    32.58,2,     0.00,2,     2.23,2,     -999,9,     -999,9,     -999,9,   2265.2,2,  2359.01,3,   7.5948,2,    24.93,     40.4,2,     -999,1,   0.3417,2,     -999,9,     -999,9,     -999,     -999,9,     -999,9,     -999,1,     -999,1,    0.061,1,    4.675,1,    0.126,1,     -999,9,     -999,1,20180323,1204, -68.0023,-170.0030,     -999,1,     -999,1,-999          ,9,     -999,1,     -999,9,     -999,     -999,9,     -999,     -999,9,     -999,1,     -999,1,     -999,1,     -999,1,     -999,1,     -999,1,     -999,1,     -999,1,     -999,1,     -999,1,     -999,1,     -999,1,     -999,1
320620180309  ,P15        ,16      ,  1,5          ,5          ,2,20180323,1137, -68.0021,-170.0028,     3615,   2847.6,0.2799888888888888427,34.690812094778238,2,  34.6901,2,217.29212193942362,2, 220.5009,2,    217.7,2,    125.9,2,    32.53,2,     0.00,2,     2.24,2,    0.682,2,    0.369,2,   0.1700,2,   2264.5,2,  2361.27,2,   7.5921,2,    24.92,     45.1,2,     -999,9,   0.2795,2,     -999,9,     -999,9,     -999,     -999,9,     -999,9,     -999,1,     -999,9,    0.061,1,    4.675,1,    0.126,1,  19.3200,2,     -999,9,20180323,1159, -68.0019,-170.0032,     -999,9,     -999,9,-999          ,9,     -999,9,     -999,9,     -999,     -999,9,     -999,     -999,9,     -999,9,     -999,9,     -999,9,     -999,9,     -999,9,     -999,9,     -999,9,     -999,9,     -999,9,     -999,9,     -999,9,     -999,9,     -999,9
320620180309  ,P15        ,16      ,  1,4          ,4          ,2,20180323,1137, -68.0021,-170.0028,     3615,   3051.6,0.2321000000000000285,34.687612525056906,2,  34.6868,2,219.75037234667474,2, 220.4950,2,    219.8,2,    123.9,2,    32.45,2,     0.00,2,     2.23,2,    0.839,2,    0.456,2,   0.4500,2,   2263.5,2,  2359.66,2,   7.5914,6,    24.91,     -999,9,     -999,1,   0.2316,2,     -999,9,     -999,9,     -999,     -999,9,     -999,9,     -999,9,     -999,1,    0.061,1,    4.674,1,    0.128,1,  19.5400,2,     -999,1,20180323,1153, -68.0019,-170.0031,     -999,1,     -999,1,-999          ,9,     -999,1,     -999,9,     -999,     -999,9,     -999,     -999,9,     -999,1,     -999,1,     -999,1,     -999,1,     -999,1,     -999,1,     -999,1,     -999,1,     -999,1,     -999,1,     -999,1,     -999,1,     -999,1
320620180309  ,P15        ,16      ,  1,3          ,3          ,2,20180323,1137, -68.0021,-170.0028,     3615,   3257.6,0.2004833333333333190,34.685097976961671,3,  34.6823,2,222.13170012992987,2, 220.4943,2,    221.6,2,    121.3,2,    32.36,2,     0.00,2,     2.23,2,    1.023,2,    0.537,2,   0.2900,2,   2262.8,2,  2359.16,2,   7.5917,2,    24.91,     42.9,2,     -999,9,   0.1999,2,     -999,9,     -999,9,     -999,     -999,9,     -999,9,     -999,1,     -999,9,    0.061,1,    4.674,1,    0.127,1,  20.9000,4,     -999,9,20180323,1148, -68.0021,-170.0031,     -999,9,     -999,9,-999          ,9,     -999,9,     -999,9,     -999,     -999,9,     -999,     -999,9,     -999,9,     -999,9,     -999,9,     -999,9,     -999,9,     -999,9,     -999,9,     -999,9,     -999,9,     -999,9,     -999,9,     -999,9,     -999,9
320620180309  ,P15        ,16      ,  1,2          ,2          ,2,20180323,1137, -68.0021,-170.0028,     3615,   3462.5,0.1850111111111110984,34.683888382794130,2,  34.6829,2,223.38633788577306,2, 220.4988,2,    223.8,2,    120.4,2,    32.32,2,     0.00,2,     2.25,2,    1.132,2,    0.598,2,   0.2800,2,   2262.3,2,  2360.01,2,   7.5924,2,    24.92,     -999,9,     -999,1,   0.1844,2,     -999,9,     -999,9,     -999,     -999,9,     -999,9,     -999,9,     -999,1,    0.062,1,    4.673,1,    0.130,1,  20.3500,4,     -999,1,20180323,1142, -68.0025,-170.0027,     -999,1,     -999,1,-999          ,9,     -999,1,     -999,9,     -999,     -999,9,     -999,     -999,9,     -999,1,     -999,1,     -999,1,     -999,1,     -999,1,     -999,1,     -999,1,     -999,1,     -999,1,     -999,1,     -999,1,     -999,1,     -999,1
320620180309  ,P15        ,16      ,  1,1          ,1          ,2,20180323,1137, -68.0021,-170.0028,     3615,   3673.5,0.1767666666666666553,34.683527424452897,2,  34.6821,2,224.09894959791720,2, 220.5026,2,    223.4,2,    120.8,2,    32.32,2,     0.00,2,     2.24,2,    1.172,2,    0.622,2,   0.5500,2,   2262.8,6,  2360.34,2,   7.5911,2,    24.92,     46.5,3,     -999,1,   0.1761,2,     -999,9,     -999,9,     -999,     -999,9,     -999,9,     -999,1,     -999,1,    0.061,1,    4.670,1,    0.132,1,  19.0800,2,     -999,1,20180323,1137, -68.0021,-170.0028,     -999,1,     -999,1,-999          ,9,     -999,1,     -999,9,     -999,     -999,9,     -999,     -999,9,     -999,1,     -999,1,     -999,1,     -999,1,     -999,1,     -999,1,     -999,1,     -999,1,     -999,1,     -999,1,     -999,1,     -999,1,     -999,1