BOTTLE,20240515CCHHYDRO
EXPOCODE,SECT_ID,STNNBR,CASTNO,SAMPNO,BTLNBR,BTLNBR_FLAG_W,DATE,TIME,LATITUDE,LONGITUDE,DEPTH,CTDPRS,CTDTMP,CTDSAL,CTDSAL_FLAG_W,SALNTY,SALNTY_FLAG_W,CTDOXY,CTDOXY_FLAG_W,CTDOPTOXY,CTDOPTOXY_FLAG_W,OXYGEN,OXYGEN_FLAG_W,SILCAT,SILCAT_FLAG_W,NITRAT,NITRAT_FLAG_W,NITRIT,NITRIT_FLAG_W,PHSPHT,PHSPHT_FLAG_W,CFC-11,CFC-11_FLAG_W,CFC-12,CFC-12_FLAG_W,SF6,SF6_FLAG_W,TCARBN,TCARBN_FLAG_W,ALKALI,ALKALI_FLAG_W,PH_TOT,PH_TOT_FLAG_W,PH_TMP,DOC,DOC_FLAG_W,HELIUM,HELIUM_FLAG_W,REFTMP,REFTMP_FLAG_W,DELC13,DELC13_FLAG_W,DELC14,DELC14_FLAG_W,C14ERR,POC,POC_FLAG_W,TDN,TDN_FLAG_W,TON,TON_FLAG_W,NEON,NEON_FLAG_W,CTDFLUOR,CTDFLUOR_FLAG_W,CTDXMISS,CTDXMISS_FLAG_W,CTDBETA700,CTDBETA700_FLAG_W,N2O,N2O_FLAG_W,ARGON,ARGON_FLAG_W,BTL_DATE,BTL_TIME,BTL_LAT,BTL_LON,KRYPTON,KRYPTON_FLAG_W,XENON,XENON_FLAG_W,HPLC,HPLC_FLAG_W,HE3_HE4_RATIO,HE3_HE4_RATIO_FLAG_W,Nd_143_144_D_EPSILON_BOTTLE,Nd_143_144_D_EPSILON_BOTTLE_FLAG_W,Nd_143_144_D_EPSILON_BOTTLE_ERROR,Nd_143_144_D_RATIO_BOTTLE,Nd_143_144_D_RATIO_BOTTLE_FLAG_W,Nd_143_144_D_RATIO_BOTTLE_ERROR,Nd_D_CONC,Nd_D_CONC_FLAG_W,La_D_CONC_BOTTLE,La_D_CONC_BOTTLE_FLAG_W,Ce_D_CONC_BOTTLE,Ce_D_CONC_BOTTLE_FLAG_W,Pr_D_CONC_BOTTLE,Pr_D_CONC_BOTTLE_FLAG_W,Sm_D_CONC_BOTTLE,Sm_D_CONC_BOTTLE_FLAG_W,Eu_D_CONC_BOTTLE,Eu_D_CONC_BOTTLE_FLAG_W,Gd_D_CONC_BOTTLE,Gd_D_CONC_BOTTLE_FLAG_W,Tb_D_CONC_BOTTLE,Tb_D_CONC_BOTTLE_FLAG_W,Dy_D_CONC_BOTTLE,Dy_D_CONC_BOTTLE_FLAG_W,Ho_D_CONC_BOTTLE,Ho_D_CONC_BOTTLE_FLAG_W,Er_D_CONC_BOTTLE,Er_D_CONC_BOTTLE_FLAG_W,Tm_D_CONC_BOTTLE,Tm_D_CONC_BOTTLE_FLAG_W,Yb_D_CONC_BOTTLE,Yb_D_CONC_BOTTLE_FLAG_W,Lu_D_CONC_BOTTLE,Lu_D_CONC_BOTTLE_FLAG_W
,,,,,,,,,,,METERS,DBAR,ITS-90,PSS-78,,PSS-78,,UMOL/KG,,UMOL/KG,,UMOL/KG,,UMOL/KG,,UMOL/KG,,UMOL/KG,,UMOL/KG,,PMOL/KG,,PMOL/KG,,FMOL/KG,,UMOL/KG,,UMOL/KG,,,,DEG C,UMOL/KG,,NMOL/L,,DEG C,,/MILLE,,/MILLE,,/MILLE,UG/KG,,UMOL/KG,,UMOL/KG,,NMOL/L,,VOLTS,,VOLTS,,VOLTS,,NMOL/KG,,UMOL/L,,,,,,NMOL/L,,NMOL/L,,,,,,10000,,10000,,,,PMOL/KG,,PMOL/L,,PMOL/L,,PMOL/L,,PMOL/L,,PMOL/L,,PMOL/L,,PMOL/L,,PMOL/L,,PMOL/L,,PMOL/L,,PMOL/L,,PMOL/L,,PMOL/L,
320620180309  ,P16        ,53      ,  1,36         ,36         ,2,20180408,1206, -67.5146,-149.9949,     4389,      8.0,-1.3793055555555555625,33.745271004816985,2,  33.7423,2,345.48962098222859,2, 331.4993,3,    348.4,2,     46.2,2,    24.00,2,     0.16,2,     1.72,2,    5.830,2,    3.221,2,   4.0800,2,   2168.3,6,  2287.17,2,   7.6685,2,    24.92,     -999,9,     -999,9,  -1.3825,2,     -999,9,     -999,9,     -999,     -999,9,     -999,9,     -999,9,     -999,9,    0.195,1,    4.600,1,    0.192,1,  16.6100,2,     -999,9,20180408,1421, -67.5219,-149.9875,     -999,9,     -999,9,-999          ,9,     -999,9,     -999,9,     -999,     -999,9,     -999,     -999,9,     -999,1,     -999,1,     -999,1,     -999,1,     -999,1,     -999,1,     -999,1,     -999,1,     -999,1,     -999,1,     -999,1,     -999,1,     -999,1
320620180309  ,P16        ,53      ,  1,35         ,35         ,2,20180408,1206, -67.5146,-149.9949,     4389,     19.9,-1.3816666666666668206,33.749317269507586,2,  33.7479,2,346.07760341585754,2, 336.8014,2,    348.3,2,     46.0,2,    23.99,2,     0.16,2,     1.71,2,     -999,9,     -999,9,     -999,9,   2168.8,2,  2288.95,2,   7.6668,2,    24.92,     -999,9,     -999,9,  -1.3826,2,     -999,9,     -999,9,     -999,     -999,9,     -999,9,     -999,9,     -999,9,    0.201,1,    4.599,1,    0.194,1,     -999,9,     -999,9,20180408,1420, -67.5219,-149.9875,     -999,9,     -999,9,-999          ,9,     -999,9,     -999,9,     -999,     -999,9,     -999,     -999,9,     -999,1,     -999,1,     -999,1,     -999,1,     -999,1,     -999,1,     -999,1,     -999,1,     -999,1,     -999,1,     -999,1,     -999,1,     -999,1
320620180309  ,P16        ,53      ,  1,34         ,34         ,2,20180408,1206, -67.5146,-149.9949,     4389,     39.3,-1.3819472222222222157,33.757050305152958,2,  33.7540,2,346.39556418486148,2, 337.5031,2,    348.0,2,     45.8,2,    24.01,2,     0.16,2,     1.72,2,    5.873,2,    3.236,2,   4.1400,2,   2170.6,2,  2288.82,2,   7.6679,2,    24.92,     -999,9,     -999,9,  -1.3825,2,     -999,9,     -999,9,     -999,     -999,9,     -999,9,     -999,9,     -999,9,    0.219,1,    4.597,1,    0.193,1,  17.0500,2,     -999,9,20180408,1418, -67.5219,-149.9875,     -999,9,     -999,9,-999          ,9,     -999,9,     -999,9,     -999,     -999,9,     -999,     -999,9,     -999,9,     -999,9,     -999,9,     -999,9,     -999,9,     -999,9,     -999,9,     -999,9,     -999,9,     -999,9,     -999,9,     -999,9,     -999,9
320620180309  ,P16        ,53      ,  1,33         ,33         ,2,20180408,1206, -67.5146,-149.9949,     4389,     64.5,-1.2995777777777777207,33.786467041700533,2,  33.7827,2,344.93636356296167,2, 353.2051,2,    342.7,2,     46.7,2,    24.26,2,     0.16,2,     1.75,2,     -999,9,     -999,9,     -999,9,   2171.8,2,  2291.38,2,   7.6676,2,    24.93,     -999,9,     -999,9,  -1.3038,2,     -999,9,     -999,9,     -999,     -999,9,     -999,9,     -999,9,     -999,9,    0.212,1,    4.596,1,    0.195,1,     -999,9,     -999,9,20180408,1415, -67.5220,-149.9874,     -999,9,     -999,9,-999          ,9,     -999,9,     -999,9,     -999,     -999,9,     -999,     -999,9,     -999,1,     -999,1,     -999,1,     -999,1,     -999,1,     -999,1,     -999,1,     -999,1,     -999,1,     -999,1,     -999,1,     -999,1,     -999,1
320620180309  ,P16        ,53      ,  1,32         ,32         ,2,20180408,1206, -67.5146,-149.9949,     4389,     89.5,-1.1917611111111110489,33.895153898279517,2,  33.8920,2,335.35511995144964,3, 342.3036,3,    326.7,2,     48.9,2,    25.33,2,     0.16,2,     1.81,2,     -999,9,     -999,9,     -999,9,   2183.6,2,  2297.24,2,   7.6496,2,    24.92,     -999,9,     -999,9,  -1.1927,2,     -999,9,     -999,9,     -999,     -999,9,     -999,9,     -999,9,     -999,9,    0.211,1,    4.594,1,    0.190,1,     -999,9,     -999,9,20180408,1413, -67.5220,-149.9874,     -999,9,     -999,9,-999          ,9,     -999,9,     -999,9,     -999,     -999,9,     -999,     -999,9,     -999,9,     -999,9,     -999,9,     -999,9,     -999,9,     -999,9,     -999,9,     -999,9,     -999,9,     -999,9,     -999,9,     -999,9,     -999,9
320620180309  ,P16        ,53      ,  1,31         ,31         ,2,20180408,1206, -67.5146,-149.9949,     4389,    135.3,-0.6934416666666666229,34.257472004557535,2,  34.2595,2,274.96268343651752,3, 277.8014,2,    266.6,2,     63.7,2,    29.94,2,     0.10,2,     2.08,2,    3.678,2,    2.001,2,   2.3700,2,   2223.4,2,  2317.91,2,   7.5910,2,    24.93,     -999,9,     -999,9,  -0.6908,2,     -999,9,     -999,9,     -999,     -999,9,     -999,9,     -999,9,     -999,9,    0.097,1,    4.633,1,    0.154,1,  21.6600,2,     -999,9,20180408,1411, -67.5220,-149.9874,     -999,9,     -999,9,-999          ,9,     -999,9,     -999,9,     -999,     -999,9,     -999,     -999,9,     -999,1,     -999,1,     -999,1,     -999,1,     -999,1,     -999,1,     -999,1,     -999,1,     -999,1,     -999,1,     -999,1,     -999,1,     -999,1
320620180309  ,P16        ,53      ,  1,30         ,30         ,2,20180408,1206, -67.5146,-149.9949,     4389,    185.3,0.6177222222222221726,34.502092909844059,2,  34.5042,2,219.12883323972574,3, 210.4003,2,    213.3,2,     80.3,2,    32.40,2,     0.05,2,     2.20,2,     -999,9,     -999,9,     -999,9,   2249.2,2,  2333.27,2,   7.5659,6,    24.92,     -999,9,     -999,9,   0.6194,2,     -999,9,     -999,9,     -999,     -999,9,     -999,9,     -999,9,     -999,9,    0.073,1,    4.652,1,    0.149,1,     -999,9,     -999,9,20180408,1408, -67.5220,-149.9874,     -999,9,     -999,9,-999          ,9,     -999,9,     -999,9,     -999,     -999,9,     -999,     -999,9,     -999,9,     -999,9,     -999,9,     -999,9,     -999,9,     -999,9,     -999,9,     -999,9,     -999,9,     -999,9,     -999,9,     -999,9,     -999,9
320620180309  ,P16        ,53      ,  1,29         ,29         ,2,20180408,1206, -67.5146,-149.9949,     4389,    236.0,1.2937944444444442471,34.637716497900136,2,  34.6387,2,191.22154672553160,3, 193.0026,2,    188.3,2,     88.8,2,    33.02,2,     0.03,2,     2.25,2,    0.855,2,    0.459,2,   0.4200,2,   2258.3,2,  2345.95,2,   7.5580,2,    24.93,     -999,9,     -999,9,   1.2903,2,     -999,9,     -999,9,     -999,     -999,9,     -999,9,     -999,9,     -999,9,    0.064,1,    4.657,1,    0.139,1,  23.4300,2,     -999,9,20180408,1406, -67.5219,-149.9875,     -999,9,     -999,9,-999          ,9,     -999,9,     -999,9,     -999,     -999,9,     -999,     -999,9,     -999,1,     -999,1,     -999,1,     -999,1,     -999,1,     -999,1,     -999,1,     -999,1,     -999,1,     -999,1,     -999,1,     -999,1,     -999,1
320620180309  ,P16        ,53      ,  1,28         ,28         ,2,20180408,1206, -67.5146,-149.9949,     4389,    287.0,1.5763388888888891781,34.716197341521607,2,  34.7147,2,181.78845198751605,2, 186.0981,2,    182.5,2,     94.8,2,    32.76,2,     0.02,2,     2.23,2,    0.348,2,    0.195,2,   0.2200,2,   2260.8,6,  2351.01,2,   7.5687,2,    24.92,     -999,9,     -999,9,   1.5755,2,     -999,9,     -999,9,     -999,     -999,9,     -999,9,     -999,9,     -999,9,    0.063,1,    4.660,1,    0.138,1,  22.4700,2,     -999,9,20180408,1404, -67.5218,-149.9877,     -999,9,     -999,9,-999          ,9,     -999,9,     -999,9,     -999,     -999,9,     -999,     -999,9,     -999,1,     -999,1,     -999,1,     -999,1,     -999,1,     -999,1,     -999,1,     -999,1,     -999,1,     -999,1,     -999,1,     -999,1,     -999,1
320620180309  ,P16        ,53      ,  1,27         ,27         ,2,20180408,1206, -67.5146,-149.9949,     4389,    338.1,1.5333444444444443988,34.725098819974392,2,  34.7219,2,182.80495286314820,2, 186.1016,2,    182.8,2,     97.4,2,    32.64,2,     0.00,2,     2.23,2,     -999,9,     -999,9,     -999,9,   2262.2,2,  2353.23,2,   7.5716,2,    24.91,     -999,9,     -999,9,   1.5323,2,     -999,9,     -999,9,     -999,     -999,9,     -999,9,     -999,9,     -999,9,    0.062,1,    4.664,1,    0.136,1,     -999,9,     -999,9,20180408,1401, -67.5217,-149.9879,     -999,9,     -999,9,-999          ,9,     -999,9,     -999,9,     -999,     -999,9,     -999,     -999,9,     -999,1,     -999,1,     -999,1,     -999,1,     -999,1,     -999,1,     -999,1,     -999,1,     -999,1,     -999,1,     -999,1,     -999,1,     -999,1
320620180309  ,P16        ,53      ,  1,26         ,26         ,2,20180408,1206, -67.5146,-149.9949,     4389,    388.4,1.4917277777777779857,34.728279688723305,2,  34.7259,2,183.52221502814524,2, 186.7963,2,    184.0,2,     99.2,2,    32.62,2,     0.00,2,     2.23,2,    0.246,2,    0.125,2,   0.1700,2,   2262.5,2,  2369.41,3,   7.5738,6,    24.93,     -999,9,     -999,9,   1.4914,2,     -999,9,     -999,9,     -999,     -999,9,     -999,9,     -999,9,     -999,9,    0.061,1,    4.665,1,    0.132,1,  21.8100,2,     -999,9,20180408,1359, -67.5215,-149.9883,     -999,9,     -999,9,-999          ,9,     -999,9,     -999,9,     -999,     -999,9,     -999,     -999,9,     -999,9,     -999,9,     -999,9,     -999,9,     -999,9,     -999,9,     -999,9,     -999,9,     -999,9,     -999,9,     -999,9,     -999,9,     -999,9
320620180309  ,P16        ,53      ,  1,25         ,25         ,2,20180408,1206, -67.5146,-149.9949,     4389,    439.6,1.4349222222222222101,34.730208457244323,2,  34.7280,2,184.01746357085167,2, 187.7039,2,    183.9,2,    101.4,2,    32.69,2,     0.00,2,     2.24,2,     -999,9,     -999,9,     -999,9,   2262.6,2,  2355.75,2,   7.5973,3,    24.92,     -999,9,     -999,9,   1.4342,2,     -999,9,     -999,9,     -999,     -999,9,     -999,9,     -999,9,     -999,9,    0.061,1,    4.665,1,    0.132,1,     -999,9,     -999,9,20180408,1356, -67.5212,-149.9888,     -999,9,     -999,9,-999          ,9,     -999,9,     -999,9,     -999,     -999,9,     -999,     -999,9,     -999,1,     -999,1,     -999,1,     -999,1,     -999,1,     -999,1,     -999,1,     -999,1,     -999,1,     -999,1,     -999,1,     -999,1,     -999,1
320620180309  ,P16        ,53      ,  1,24         ,24         ,2,20180408,1206, -67.5146,-149.9949,     4389,    489.5,1.3933166666666667588,34.730606113760878,2,  34.7290,2,184.34922686627829,2, 188.3974,2,    184.5,2,    103.5,2,    32.72,2,     0.00,2,     2.24,2,    0.197,2,    0.103,2,   0.0800,2,   2263.6,2,  2357.86,2,   7.6027,3,    24.91,     -999,9,     -999,9,   1.3922,2,     -999,9,     -999,9,     -999,     -999,9,     -999,9,     -999,9,     -999,9,    0.062,1,    4.665,1,    0.131,1,  21.6700,2,     -999,9,20180408,1354, -67.5210,-149.9893,     -999,9,     -999,9,-999          ,9,     -999,9,     -999,9,     -999,     -999,9,     -999,     -999,9,     -999,9,     -999,9,     -999,9,     -999,9,     -999,9,     -999,9,     -999,9,     -999,9,     -999,9,     -999,9,     -999,9,     -999,9,     -999,9
320620180309  ,P16        ,53      ,  1,23         ,23         ,2,20180408,1206, -67.5146,-149.9949,     4389,    570.8,1.3337055555555554776,34.730281101530302,2,  34.7278,2,185.53360412065911,2, 189.4029,2,    186.4,2,    105.9,2,    32.73,2,     0.00,2,     2.24,2,     -999,9,     -999,9,     -999,9,   2263.2,2,  2360.83,2,   7.6053,3,    24.92,     -999,9,     -999,9,   1.3327,2,     -999,9,     -999,9,     -999,     -999,9,     -999,9,     -999,9,     -999,9,    0.062,1,    4.665,1,    0.131,1,     -999,9,     -999,9,20180408,1351, -67.5208,-149.9897,     -999,9,     -999,9,-999          ,9,     -999,9,     -999,9,     -999,     -999,9,     -999,     -999,9,     -999,1,     -999,1,     -999,1,     -999,1,     -999,1,     -999,1,     -999,1,     -999,1,     -999,1,     -999,1,     -999,1,     -999,1,     -999,1
320620180309  ,P16        ,53      ,  1,22         ,37         ,2,20180408,1206, -67.5146,-149.9949,     4389,    671.6,1.2505027777777777409,34.728809031531995,2,  34.7266,2,187.83662600875181,2, 190.9037,2,    187.0,2,    108.8,2,    32.76,2,     0.00,2,     2.24,2,    0.150,2,    0.078,2,   0.0700,2,   2264.8,2,  2363.04,2,   7.6136,3,    24.91,     -999,9,     -999,9,   1.2500,2,     -999,9,     -999,9,     -999,     -999,9,     -999,9,     -999,9,     -999,9,    0.062,1,    4.665,1,    0.130,1,  21.5200,2,     -999,9,20180408,1348, -67.5206,-149.9900,     -999,9,     -999,9,-999          ,9,     -999,9,     -999,9,     -999,     -999,9,     -999,     -999,9,     -999,9,     -999,9,     -999,9,     -999,9,     -999,9,     -999,9,     -999,9,     -999,9,     -999,9,     -999,9,     -999,9,     -999,9,     -999,9
320620180309  ,P16        ,53      ,  1,21         ,21         ,2,20180408,1206, -67.5146,-149.9949,     4389,    773.5,1.1921777777777780027,34.726978697574680,2,  34.7249,2,189.92345135549328,2, 192.1986,2,    189.3,2,    110.3,2,    32.71,2,     0.00,2,     2.25,2,     -999,9,     -999,9,     -999,9,   2266.2,2,  2359.81,2,   7.6149,3,    24.91,     -999,9,     -999,9,   1.1903,2,     -999,9,     -999,9,     -999,     -999,9,     -999,9,     -999,9,     -999,9,    0.061,1,    4.665,1,    0.131,1,     -999,9,     -999,9,20180408,1344, -67.5205,-149.9902,     -999,9,     -999,9,-999          ,9,     -999,9,     -999,9,     -999,     -999,9,     -999,     -999,9,     -999,1,     -999,1,     -999,1,     -999,1,     -999,1,     -999,1,     -999,1,     -999,1,     -999,1,     -999,1,     -999,1,     -999,1,     -999,1
320620180309  ,P16        ,53      ,  1,20         ,20         ,2,20180408,1206, -67.5146,-149.9949,     4389,    874.0,1.1231249999999997069,34.724495604996235,2,  34.7231,2,193.20560441372123,2, 193.6006,2,    191.8,2,    112.1,2,    32.65,2,     0.00,2,     2.26,2,    0.127,2,    0.068,2,   0.0500,2,   2263.6,2,  2358.54,2,   7.5836,2,    24.92,     -999,9,     -999,9,   1.1213,2,     -999,9,     -999,9,     -999,     -999,9,     -999,9,     -999,9,     -999,9,    0.062,1,    4.665,1,    0.131,1,  21.3800,2,     -999,9,20180408,1341, -67.5205,-149.9903,     -999,9,     -999,9,-999          ,9,     -999,9,     -999,9,     -999,     -999,9,     -999,     -999,9,     -999,9,     -999,9,     -999,9,     -999,9,     -999,9,     -999,9,     -999,9,     -999,9,     -999,9,     -999,9,     -999,9,     -999,9,     -999,9
320620180309  ,P16        ,53      ,  1,19         ,19         ,2,20180408,1206, -67.5146,-149.9949,     4389,    975.6,1.0450861111111113821,34.721522475889330,2,  34.7202,2,195.62476010514180,2, 195.5002,2,    194.2,2,    114.4,2,    32.61,2,     0.00,2,     2.26,2,     -999,9,     -999,9,     -999,9,   2263.4,2,  2360.59,2,   7.5894,2,    24.92,     -999,9,     -999,9,   1.0448,2,     -999,9,     -999,9,     -999,     -999,9,     -999,9,     -999,9,     -999,9,    0.061,1,    4.667,1,    0.129,1,     -999,9,     -999,9,20180408,1338, -67.5205,-149.9903,     -999,9,     -999,9,-999          ,9,     -999,9,     -999,9,     -999,     -999,9,     -999,     -999,9,     -999,1,     -999,1,     -999,1,     -999,1,     -999,1,     -999,1,     -999,1,     -999,1,     -999,1,     -999,1,     -999,1,     -999,1,     -999,1
320620180309  ,P16        ,53      ,  1,18         ,18         ,2,20180408,1206, -67.5146,-149.9949,     4389,   1077.8,0.9787888888888889305,34.718994368470327,2,  34.7172,2,197.60870179245785,2, 196.9029,2,    197.2,2,    116.3,2,    32.61,2,     0.00,2,     2.26,2,    0.114,2,    0.058,2,   0.1100,2,   2262.6,2,  2360.77,2,   7.5894,2,    24.92,     -999,9,     -999,9,   0.9790,2,     -999,9,     -999,9,     -999,     -999,9,     -999,9,     -999,9,     -999,9,    0.061,1,    4.667,1,    0.130,1,  20.2600,2,     -999,9,20180408,1334, -67.5204,-149.9904,     -999,9,     -999,9,-999          ,9,     -999,9,     -999,9,     -999,     -999,9,     -999,     -999,9,     -999,9,     -999,9,     -999,9,     -999,9,     -999,9,     -999,9,     -999,9,     -999,9,     -999,9,     -999,9,     -999,9,     -999,9,     -999,9
320620180309  ,P16        ,53      ,  1,17         ,17         ,2,20180408,1206, -67.5146,-149.9949,     4389,   1180.2,0.9311972222222222317,34.717065283319457,2,  34.7160,2,199.42088839506332,2, 198.0991,2,    197.9,2,    117.7,2,    32.64,2,     0.00,2,     2.26,2,     -999,9,     -999,9,     -999,9,   2262.8,2,  2359.88,2,   7.5894,2,    24.92,     -999,9,     -999,9,   0.9303,2,     -999,9,     -999,9,     -999,     -999,9,     -999,9,     -999,9,     -999,9,    0.060,1,    4.667,1,    0.129,1,     -999,9,     -999,9,20180408,1330, -67.5205,-149.9903,     -999,9,     -999,9,-999          ,9,     -999,9,     -999,9,     -999,     -999,9,     -999,     -999,9,     -999,1,     -999,1,     -999,1,     -999,1,     -999,1,     -999,1,     -999,1,     -999,1,     -999,1,     -999,1,     -999,1,     -999,1,     -999,1
320620180309  ,P16        ,53      ,  1,16         ,16         ,2,20180408,1206, -67.5146,-149.9949,     4389,   1280.2,0.8736111111111111160,34.714534262370819,2,  34.7133,2,201.03219837804451,2, 199.3986,2,    199.6,2,    119.4,2,    32.71,2,     0.00,2,     2.27,2,    0.112,2,    0.055,2,   0.1500,2,   2263.0,2,  2364.00,2,   7.5913,2,    24.92,     -999,9,     -999,9,   0.8728,2,     -999,9,     -999,9,     -999,     -999,9,     -999,9,     -999,9,     -999,9,    0.061,1,    4.667,1,    0.126,1,  20.0900,2,     -999,9,20180408,1327, -67.5204,-149.9905,     -999,9,     -999,9,-999          ,9,     -999,9,     -999,9,     -999,     -999,9,     -999,     -999,9,     -999,9,     -999,9,     -999,9,     -999,9,     -999,9,     -999,9,     -999,9,     -999,9,     -999,9,     -999,9,     -999,9,     -999,9,     -999,9