BOTTLE,20240515CCHHYDRO
EXPOCODE,SECT_ID,STNNBR,CASTNO,SAMPNO,BTLNBR,BTLNBR_FLAG_W,DATE,TIME,LATITUDE,LONGITUDE,DEPTH,CTDPRS,CTDTMP,CTDSAL,CTDSAL_FLAG_W,SALNTY,SALNTY_FLAG_W,CTDOXY,CTDOXY_FLAG_W,CTDOPTOXY,CTDOPTOXY_FLAG_W,OXYGEN,OXYGEN_FLAG_W,SILCAT,SILCAT_FLAG_W,NITRAT,NITRAT_FLAG_W,NITRIT,NITRIT_FLAG_W,PHSPHT,PHSPHT_FLAG_W,CFC-11,CFC-11_FLAG_W,CFC-12,CFC-12_FLAG_W,SF6,SF6_FLAG_W,TCARBN,TCARBN_FLAG_W,ALKALI,ALKALI_FLAG_W,PH_TOT,PH_TOT_FLAG_W,PH_TMP,DOC,DOC_FLAG_W,HELIUM,HELIUM_FLAG_W,REFTMP,REFTMP_FLAG_W,DELC13,DELC13_FLAG_W,DELC14,DELC14_FLAG_W,C14ERR,POC,POC_FLAG_W,TDN,TDN_FLAG_W,TON,TON_FLAG_W,NEON,NEON_FLAG_W,CTDFLUOR,CTDFLUOR_FLAG_W,CTDXMISS,CTDXMISS_FLAG_W,CTDBETA700,CTDBETA700_FLAG_W,N2O,N2O_FLAG_W,ARGON,ARGON_FLAG_W,BTL_DATE,BTL_TIME,BTL_LAT,BTL_LON,KRYPTON,KRYPTON_FLAG_W,XENON,XENON_FLAG_W,HPLC,HPLC_FLAG_W,HE3_HE4_RATIO,HE3_HE4_RATIO_FLAG_W,Nd_143_144_D_EPSILON_BOTTLE,Nd_143_144_D_EPSILON_BOTTLE_FLAG_W,Nd_143_144_D_EPSILON_BOTTLE_ERROR,Nd_143_144_D_RATIO_BOTTLE,Nd_143_144_D_RATIO_BOTTLE_FLAG_W,Nd_143_144_D_RATIO_BOTTLE_ERROR,Nd_D_CONC,Nd_D_CONC_FLAG_W,La_D_CONC_BOTTLE,La_D_CONC_BOTTLE_FLAG_W,Ce_D_CONC_BOTTLE,Ce_D_CONC_BOTTLE_FLAG_W,Pr_D_CONC_BOTTLE,Pr_D_CONC_BOTTLE_FLAG_W,Sm_D_CONC_BOTTLE,Sm_D_CONC_BOTTLE_FLAG_W,Eu_D_CONC_BOTTLE,Eu_D_CONC_BOTTLE_FLAG_W,Gd_D_CONC_BOTTLE,Gd_D_CONC_BOTTLE_FLAG_W,Tb_D_CONC_BOTTLE,Tb_D_CONC_BOTTLE_FLAG_W,Dy_D_CONC_BOTTLE,Dy_D_CONC_BOTTLE_FLAG_W,Ho_D_CONC_BOTTLE,Ho_D_CONC_BOTTLE_FLAG_W,Er_D_CONC_BOTTLE,Er_D_CONC_BOTTLE_FLAG_W,Tm_D_CONC_BOTTLE,Tm_D_CONC_BOTTLE_FLAG_W,Yb_D_CONC_BOTTLE,Yb_D_CONC_BOTTLE_FLAG_W,Lu_D_CONC_BOTTLE,Lu_D_CONC_BOTTLE_FLAG_W
,,,,,,,,,,,METERS,DBAR,ITS-90,PSS-78,,PSS-78,,UMOL/KG,,UMOL/KG,,UMOL/KG,,UMOL/KG,,UMOL/KG,,UMOL/KG,,UMOL/KG,,PMOL/KG,,PMOL/KG,,FMOL/KG,,UMOL/KG,,UMOL/KG,,,,DEG C,UMOL/KG,,NMOL/L,,DEG C,,/MILLE,,/MILLE,,/MILLE,UG/KG,,UMOL/KG,,UMOL/KG,,NMOL/L,,VOLTS,,VOLTS,,VOLTS,,NMOL/KG,,UMOL/L,,,,,,NMOL/L,,NMOL/L,,,,,,10000,,10000,,,,PMOL/KG,,PMOL/L,,PMOL/L,,PMOL/L,,PMOL/L,,PMOL/L,,PMOL/L,,PMOL/L,,PMOL/L,,PMOL/L,,PMOL/L,,PMOL/L,,PMOL/L,,PMOL/L,
320620180309  ,S04P       ,93      ,  1,36         ,36         ,2,20180426,1428, -67.0002,-111.2131,     4549,      8.2,-1.6989883874501836569,33.766726921126171,2,  33.7579,4,350.46079407555447,2, 351.2969,2,    351.3,2,     44.1,2,    27.06,2,     0.20,2,     1.87,2,    6.156,2,    3.250,2,   3.9900,2,   2172.9,6,  2285.46,2,   7.6500,2,    24.89,     -999,9,     -999,9,  -1.6975,2,     -999,9,     -999,9,     -999,     -999,9,     -999,9,     -999,9,     -999,9,    0.211,1,    4.570,1,    0.231,1,  16.6300,2,     -999,9,20180426,1651, -67.0010,-111.2144,     -999,9,     -999,9,-999          ,9,     -999,9,     -999,9,     -999,     -999,9,     -999,     -999,9,     -999,1,     -999,1,     -999,1,     -999,1,     -999,1,     -999,1,     -999,1,     -999,1,     -999,1,     -999,1,     -999,1,     -999,1,     -999,1
320620180309  ,S04P       ,93      ,  1,35         ,35         ,2,20180426,1428, -67.0002,-111.2131,     4549,     18.2,-1.6983502467476665476,33.766608020692146,2,  33.7585,4,351.04256228597791,2, 351.2986,2,    351.1,2,     44.2,2,    27.08,2,     0.20,2,     1.88,2,     -999,9,     -999,9,     -999,9,   2172.9,2,  2286.44,2,   7.6502,2,    24.90,     -999,9,     -999,1,  -1.6979,2,     -999,9,     -999,9,     -999,     -999,9,     -999,9,     -999,9,     -999,1,    0.213,1,    4.569,1,    0.235,1,     -999,9,     -999,1,20180426,1651, -67.0010,-111.2144,     -999,1,     -999,1,-999          ,9,     -999,1,     -999,9,     -999,     -999,9,     -999,     -999,9,     -999,1,     -999,1,     -999,1,     -999,1,     -999,1,     -999,1,     -999,1,     -999,1,     -999,1,     -999,1,     -999,1,     -999,1,     -999,1
320620180309  ,S04P       ,93      ,  1,34         ,34         ,2,20180426,1428, -67.0002,-111.2131,     4549,     39.0,-1.7024988097011550803,33.780806253608873,2,  33.7745,4,352.23258233030361,2, 351.2953,2,    350.0,2,     45.5,2,    27.16,2,     0.20,2,     1.89,2,     -999,9,     -999,9,     -999,9,     -999,9,     -999,9,     -999,9,     -999,     -999,9,     -999,9,  -1.7018,2,     -999,9,     -999,9,     -999,     -999,9,     -999,9,     -999,9,     -999,9,    0.216,1,    4.569,1,    0.230,1,     -999,9,     -999,9,20180426,1650, -67.0010,-111.2145,     -999,9,     -999,9,-999          ,9,     -999,9,     -999,9,     -999,     -999,9,     -999,     -999,9,     -999,1,     -999,1,     -999,1,     -999,1,     -999,1,     -999,1,     -999,1,     -999,1,     -999,1,     -999,1,     -999,1,     -999,1,     -999,1
320620180309  ,S04P       ,93      ,  1,33         ,33         ,2,20180426,1428, -67.0002,-111.2131,     4549,     64.6,-1.6772186555405390607,33.819201265472820,2,  33.8126,4,344.92258349404716,2, 342.9953,2,    345.4,2,     48.5,2,    27.43,2,     0.19,2,     1.92,2,    6.024,2,    3.162,2,   3.5000,2,   2177.5,2,  2287.90,2,   7.6464,2,    24.87,     -999,9,     -999,1,  -1.6743,2,     -999,9,     -999,9,     -999,     -999,9,     -999,9,     -999,9,     -999,1,    0.205,1,    4.572,1,    0.232,1,  16.6400,2,     -999,1,20180426,1648, -67.0011,-111.2147,     -999,1,     -999,1,-999          ,9,     -999,1,     -999,9,     -999,     -999,9,     -999,     -999,9,     -999,9,     -999,9,     -999,9,     -999,9,     -999,9,     -999,9,     -999,9,     -999,9,     -999,9,     -999,9,     -999,9,     -999,9,     -999,9
320620180309  ,S04P       ,93      ,  1,32         ,32         ,2,20180426,1428, -67.0002,-111.2131,     4549,     89.6,-1.4173775473864755892,33.977303364794672,2,  33.9837,4,315.22733753793182,3, 311.8972,2,    311.3,2,     53.1,2,    29.88,2,     0.18,2,     2.10,2,     -999,9,     -999,9,     -999,9,   2197.9,2,  2297.21,2,   7.6112,2,    24.88,     -999,9,     -999,9,  -1.4173,2,     -999,9,     -999,9,     -999,     -999,9,     -999,9,     -999,9,     -999,9,    0.182,1,    4.582,1,    0.212,1,     -999,9,     -999,9,20180426,1647, -67.0013,-111.2150,     -999,9,     -999,9,-999          ,9,     -999,9,     -999,9,     -999,     -999,9,     -999,     -999,9,     -999,1,     -999,1,     -999,1,     -999,1,     -999,1,     -999,1,     -999,1,     -999,1,     -999,1,     -999,1,     -999,1,     -999,1,     -999,1
320620180309  ,S04P       ,93      ,  1,31         ,31         ,2,20180426,1428, -67.0002,-111.2131,     4549,    136.0,0.4151649764921211405,34.265919989258741,2,  34.2649,4,256.32833507963880,3, 249.8997,2,    246.7,2,     62.0,2,    33.32,2,     0.03,2,     2.28,2,     -999,9,     -999,9,     -999,9,   2229.2,2,  2312.97,2,   7.5650,2,    24.87,     -999,9,     -999,1,   0.4036,2,     -999,9,     -999,9,     -999,     -999,9,     -999,9,     -999,9,     -999,1,    0.075,1,    4.638,1,    0.154,1,     -999,9,     -999,1,20180426,1644, -67.0014,-111.2153,     -999,1,     -999,1,-999          ,9,     -999,1,     -999,9,     -999,     -999,9,     -999,     -999,9,     -999,9,     -999,9,     -999,9,     -999,9,     -999,9,     -999,9,     -999,9,     -999,9,     -999,9,     -999,9,     -999,9,     -999,9,     -999,9
320620180309  ,S04P       ,93      ,  1,30         ,30         ,2,20180426,1428, -67.0002,-111.2131,     4549,    185.3,1.6121496160615944593,34.464387249643934,2,  34.4581,4,202.85721817808755,3, 199.8003,2,    199.5,2,     71.4,2,    34.71,2,     0.02,2,     2.35,2,    1.855,2,    0.981,2,   0.7200,2,   2248.7,2,  2327.94,2,   7.5437,2,    24.87,     -999,9,     -999,9,   1.6230,2,     -999,9,     -999,9,     -999,     -999,9,     -999,9,     -999,9,     -999,9,    0.067,1,    4.642,1,    0.146,1,  23.1600,2,     -999,9,20180426,1642, -67.0015,-111.2148,     -999,9,     -999,9,-999          ,9,     -999,9,     -999,9,     -999,     -999,9,     -999,     -999,9,     -999,1,     -999,1,     -999,1,     -999,1,     -999,1,     -999,1,     -999,1,     -999,1,     -999,1,     -999,1,     -999,1,     -999,1,     -999,1
320620180309  ,S04P       ,93      ,  1,29         ,29         ,2,20180426,1428, -67.0002,-111.2131,     4549,    235.5,1.8767731719655471601,34.542319707415480,2,  34.5368,4,186.52117476042767,2, 187.3007,2,    185.7,2,     76.0,2,    34.61,2,     0.00,2,     2.35,2,     -999,9,     -999,9,     -999,9,   2254.2,2,  2333.81,2,   7.5442,2,    24.90,     -999,9,     -999,1,   1.8781,2,     -999,9,     -999,9,     -999,     -999,9,     -999,9,     -999,9,     -999,1,    0.063,1,    4.646,1,    0.146,1,     -999,9,     -999,1,20180426,1640, -67.0014,-111.2145,     -999,1,     -999,1,-999          ,9,     -999,1,     -999,9,     -999,     -999,9,     -999,     -999,9,     -999,9,     -999,9,     -999,9,     -999,9,     -999,9,     -999,9,     -999,9,     -999,9,     -999,9,     -999,9,     -999,9,     -999,9,     -999,9
320620180309  ,S04P       ,93      ,  1,28         ,28         ,2,20180426,1428, -67.0002,-111.2131,     4549,    287.3,1.9077385566508804349,34.584003215711213,2,  34.5779,4,179.59179557875052,2, 181.6053,2,    179.7,2,     79.2,2,    34.38,2,     0.00,2,     2.34,2,    0.973,2,    0.515,2,   0.3700,2,     -999,9,     -999,9,     -999,9,     -999,     -999,9,     -999,9,   1.9110,2,     -999,9,     -999,9,     -999,     -999,9,     -999,9,     -999,9,     -999,9,    0.062,1,    4.647,1,    0.143,1,  23.1600,2,     -999,9,20180426,1637, -67.0012,-111.2145,     -999,9,     -999,9,-999          ,9,     -999,9,     -999,9,     -999,     -999,9,     -999,     -999,9,     -999,1,     -999,1,     -999,1,     -999,1,     -999,1,     -999,1,     -999,1,     -999,1,     -999,1,     -999,1,     -999,1,     -999,1,     -999,1
320620180309  ,S04P       ,93      ,  1,27         ,27         ,2,20180426,1428, -67.0002,-111.2131,     4549,    337.4,2.0159646033274039034,34.628286402568222,2,  34.6219,4,176.09422299768508,2, 178.6963,2,    176.0,2,     81.3,2,    33.98,2,     0.00,2,     2.31,2,     -999,9,     -999,9,     -999,9,   2258.8,2,  2340.08,2,   7.5513,6,    24.89,     -999,9,     -999,9,   2.0156,2,     -999,9,     -999,9,     -999,     -999,9,     -999,9,     -999,9,     -999,9,    0.062,1,    4.649,1,    0.139,1,     -999,9,     -999,9,20180426,1635, -67.0011,-111.2143,     -999,9,     -999,9,-999          ,9,     -999,9,     -999,9,     -999,     -999,9,     -999,     -999,9,     -999,9,     -999,9,     -999,9,     -999,9,     -999,9,     -999,9,     -999,9,     -999,9,     -999,9,     -999,9,     -999,9,     -999,9,     -999,9
320620180309  ,S04P       ,93      ,  1,26         ,38         ,2,20180426,1428, -67.0002,-111.2131,     4549,    389.9,2.0521909539380041032,34.659852953576817,2,  34.6529,4,175.66511059426276,3, 178.2972,2,    177.5,2,     82.4,2,    33.27,2,     0.00,2,     2.27,2,     -999,9,     -999,9,     -999,9,   2257.2,6,  2343.54,2,   7.5637,2,    24.91,     -999,9,     -999,1,   2.0515,2,     -999,9,     -999,9,     -999,     -999,9,     -999,9,     -999,9,     -999,1,    0.063,1,    4.651,1,    0.136,1,     -999,9,     -999,1,20180426,1632, -67.0009,-111.2140,     -999,1,     -999,1,-999          ,9,     -999,1,     -999,9,     -999,     -999,9,     -999,     -999,9,     -999,1,     -999,1,     -999,1,     -999,1,     -999,1,     -999,1,     -999,1,     -999,1,     -999,1,     -999,1,     -999,1,     -999,1,     -999,1
320620180309  ,S04P       ,93      ,  1,25         ,25         ,2,20180426,1428, -67.0002,-111.2131,     4549,    438.5,2.0393831075361079641,34.672536398687704,2,  34.6658,4,177.54047786457892,2, 178.8017,2,    178.1,2,     83.2,2,    33.02,2,     0.00,2,     2.25,2,     -999,9,     -999,9,     -999,9,   2257.8,2,  2346.04,2,   7.5670,2,    24.88,     -999,9,     -999,9,   2.0392,2,     -999,9,     -999,9,     -999,     -999,9,     -999,9,     -999,9,     -999,9,    0.061,1,    4.652,1,    0.135,1,     -999,9,     -999,9,20180426,1630, -67.0008,-111.2137,     -999,9,     -999,9,-999          ,9,     -999,9,     -999,9,     -999,     -999,9,     -999,     -999,9,     -999,9,     -999,9,     -999,9,     -999,9,     -999,9,     -999,9,     -999,9,     -999,9,     -999,9,     -999,9,     -999,9,     -999,9,     -999,9
320620180309  ,S04P       ,93      ,  1,24         ,24         ,2,20180426,1428, -67.0002,-111.2131,     4549,    489.1,2.0129532697849117362,34.683468804848843,2,  34.6780,4,177.74190277151524,2, 179.8015,2,    178.3,2,     84.3,2,    32.89,2,     0.00,2,     2.25,2,    0.390,2,    0.209,2,   0.0400,2,     -999,9,     -999,9,     -999,9,     -999,     -999,9,     -999,9,   2.0134,2,     -999,9,     -999,9,     -999,     -999,9,     -999,9,     -999,9,     -999,9,    0.062,1,    4.651,1,    0.152,1,  21.2500,2,     -999,9,20180426,1628, -67.0006,-111.2134,     -999,9,     -999,9,-999          ,9,     -999,9,     -999,9,     -999,     -999,9,     -999,     -999,9,     -999,1,     -999,1,     -999,1,     -999,1,     -999,1,     -999,1,     -999,1,     -999,1,     -999,1,     -999,1,     -999,1,     -999,1,     -999,1
320620180309  ,S04P       ,93      ,  1,23         ,23         ,2,20180426,1428, -67.0002,-111.2131,     4549,    569.7,1.9615423996357488345,34.700543156935368,2,  34.6947,4,178.01770324248253,2, 180.9975,2,    178.7,2,     86.9,2,    32.73,2,     0.00,2,     2.24,2,     -999,9,     -999,9,     -999,9,   2257.9,2,  2348.77,2,   7.5730,2,    24.88,     -999,9,     -999,1,   1.9615,2,     -999,9,     -999,9,     -999,     -999,9,     -999,9,     -999,9,     -999,1,    0.062,1,    4.649,1,    0.141,1,     -999,9,     -999,1,20180426,1625, -67.0004,-111.2132,     -999,1,     -999,1,-999          ,9,     -999,1,     -999,9,     -999,     -999,9,     -999,     -999,9,     -999,9,     -999,9,     -999,9,     -999,9,     -999,9,     -999,9,     -999,9,     -999,9,     -999,9,     -999,9,     -999,9,     -999,9,     -999,9
320620180309  ,S04P       ,93      ,  1,22         ,37         ,2,20180426,1428, -67.0002,-111.2131,     4549,    672.4,1.8844487812658481385,34.716337389076472,2,  34.7109,4,182.33253406971048,2, 182.5977,2,    182.0,2,     89.5,2,    32.25,2,     0.00,2,     2.23,2,    0.262,2,    0.141,2,   0.0500,2,     -999,9,     -999,9,     -999,9,     -999,     -999,9,     -999,9,   1.8843,2,     -999,9,     -999,9,     -999,     -999,9,     -999,9,     -999,9,     -999,9,    0.061,1,    4.651,1,    0.136,1,  20.8500,2,     -999,9,20180426,1622, -67.0003,-111.2130,     -999,9,     -999,9,-999          ,9,     -999,9,     -999,9,     -999,     -999,9,     -999,     -999,9,     -999,1,     -999,1,     -999,1,     -999,1,     -999,1,     -999,1,     -999,1,     -999,1,     -999,1,     -999,1,     -999,1,     -999,1,     -999,1
320620180309  ,S04P       ,93      ,  1,21         ,21         ,2,20180426,1428, -67.0002,-111.2131,     4549,    773.7,1.8214265681113728235,34.724394753531911,2,  34.7188,4,187.46058448993480,2, 184.7008,2,    186.9,2,     90.6,2,    31.86,2,     0.00,2,     2.22,2,     -999,9,     -999,9,     -999,9,   2257.3,2,  2351.56,2,   7.5896,2,    24.89,     -999,9,     -999,1,   1.8216,2,     -999,9,     -999,9,     -999,     -999,9,     -999,9,     -999,9,     -999,1,    0.062,1,    4.653,1,    0.165,1,     -999,9,     -999,1,20180426,1618, -67.0001,-111.2127,     -999,1,     -999,1,-999          ,9,     -999,1,     -999,9,     -999,     -999,9,     -999,     -999,9,     -999,9,     -999,9,     -999,9,     -999,9,     -999,9,     -999,9,     -999,9,     -999,9,     -999,9,     -999,9,     -999,9,     -999,9,     -999,9
320620180309  ,S04P       ,93      ,  1,20         ,20         ,2,20180426,1428, -67.0002,-111.2131,     4549,    874.1,1.7355425538024455978,34.729346910156806,2,  34.7243,4,189.68925894753639,2, 187.5992,2,    187.8,2,     93.5,2,    31.81,2,     0.00,2,     2.21,2,    0.202,2,    0.107,2,   0.0000,2,     -999,9,     -999,9,     -999,9,     -999,     -999,9,     -999,9,   1.7353,2,     -999,9,     -999,9,     -999,     -999,9,     -999,9,     -999,9,     -999,9,    0.061,1,    4.653,1,    0.132,1,  19.9200,2,     -999,9,20180426,1615, -67.0000,-111.2125,     -999,9,     -999,9,-999          ,9,     -999,9,     -999,9,     -999,     -999,9,     -999,     -999,9,     -999,1,     -999,1,     -999,1,     -999,1,     -999,1,     -999,1,     -999,1,     -999,1,     -999,1,     -999,1,     -999,1,     -999,1,     -999,1
320620180309  ,S04P       ,93      ,  1,19         ,19         ,2,20180426,1428, -67.0002,-111.2131,     4549,    976.5,1.6497638449081097889,34.731772596238798,2,  34.7264,4,191.43536087530342,2, 189.3988,2,    190.0,2,     96.1,2,    31.80,2,     0.00,2,     2.22,2,     -999,9,     -999,9,     -999,9,   2257.5,2,  2355.16,2,   7.5932,2,    24.89,     -999,9,     -999,1,   1.6495,2,     -999,9,     -999,9,     -999,     -999,9,     -999,9,     -999,9,     -999,1,    0.061,1,    4.654,1,    0.130,1,     -999,9,     -999,1,20180426,1612, -67.0001,-111.2127,     -999,1,     -999,1,-999          ,9,     -999,1,     -999,9,     -999,     -999,9,     -999,     -999,9,     -999,9,     -999,9,     -999,9,     -999,9,     -999,9,     -999,9,     -999,9,     -999,9,     -999,9,     -999,9,     -999,9,     -999,9,     -999,9
320620180309  ,S04P       ,93      ,  1,18         ,18         ,2,20180426,1428, -67.0002,-111.2131,     4549,   1077.1,1.5582009746084672930,34.732568591187402,2,  34.7272,4,191.75869044683105,2, 191.1043,2,    192.2,2,     98.6,2,    31.77,2,     0.00,2,     2.22,2,    0.177,2,    0.089,2,   0.0300,2,     -999,9,     -999,9,     -999,9,     -999,     -999,9,     -999,9,   1.5578,2,     -999,9,     -999,9,     -999,     -999,9,     -999,9,     -999,9,     -999,9,    0.061,1,    4.654,1,    0.129,1,  19.7100,2,     -999,9,20180426,1609, -67.0001,-111.2127,     -999,9,     -999,9,-999          ,9,     -999,9,     -999,9,     -999,     -999,9,     -999,     -999,9,     -999,1,     -999,1,     -999,1,     -999,1,     -999,1,     -999,1,     -999,1,     -999,1,     -999,1,     -999,1,     -999,1,     -999,1,     -999,1
320620180309  ,S04P       ,93      ,  1,17         ,17         ,2,20180426,1428, -67.0002,-111.2131,     4549,   1179.4,1.4603877953438941795,34.731387056988034,2,  34.7263,4,194.48224477450722,2, 193.3005,2,    194.7,2,    101.2,2,    31.81,2,     0.00,2,     2.21,2,     -999,9,     -999,9,     -999,9,   2259.2,2,  2358.03,2,   7.5995,2,    24.90,     -999,9,     -999,9,   1.4608,2,     -999,9,     -999,9,     -999,     -999,9,     -999,9,     -999,9,     -999,9,    0.061,1,    4.655,1,    0.131,1,     -999,9,     -999,9,20180426,1606, -67.0000,-111.2125,     -999,9,     -999,9,-999          ,9,     -999,9,     -999,9,     -999,     -999,9,     -999,     -999,9,     -999,9,     -999,9,     -999,9,     -999,9,     -999,9,     -999,9,     -999,9,     -999,9,     -999,9,     -999,9,     -999,9,     -999,9,     -999,9
320620180309  ,S04P       ,93      ,  1,16         ,16         ,2,20180426,1428, -67.0002,-111.2131,     4549,   1281.0,1.3884433854205668890,34.730155866758473,2,  34.7249,4,195.60482034115554,2, 194.7007,2,    196.1,2,    103.5,2,    31.88,2,     0.00,2,     2.22,2,    0.151,2,    0.077,2,   0.0900,2,     -999,9,     -999,9,     -999,9,     -999,     -999,9,     -999,1,   1.3890,2,     -999,9,     -999,9,     -999,     -999,9,     -999,9,     -999,9,     -999,1,    0.061,1,    4.655,1,    0.128,1,  19.6000,2,     -999,1,20180426,1603, -66.9999,-111.2124,     -999,1,     -999,1,-999          ,9,     -999,1,     -999,9,     -999,     -999,9,     -999,     -999,9,     -999,1,     -999,1,     -999,1,     -999,1,     -999,1,     -999,1,     -999,1,     -999,1,     -999,1,     -999,1,     -999,1,     -999,1,     -999,1