BOTTLE,20240515CCHHYDRO
EXPOCODE,SECT_ID,STNNBR,CASTNO,SAMPNO,BTLNBR,BTLNBR_FLAG_W,DATE,TIME,LATITUDE,LONGITUDE,DEPTH,CTDPRS,CTDTMP,CTDSAL,CTDSAL_FLAG_W,SALNTY,SALNTY_FLAG_W,CTDOXY,CTDOXY_FLAG_W,CTDOPTOXY,CTDOPTOXY_FLAG_W,OXYGEN,OXYGEN_FLAG_W,SILCAT,SILCAT_FLAG_W,NITRAT,NITRAT_FLAG_W,NITRIT,NITRIT_FLAG_W,PHSPHT,PHSPHT_FLAG_W,CFC-11,CFC-11_FLAG_W,CFC-12,CFC-12_FLAG_W,SF6,SF6_FLAG_W,TCARBN,TCARBN_FLAG_W,ALKALI,ALKALI_FLAG_W,PH_TOT,PH_TOT_FLAG_W,PH_TMP,DOC,DOC_FLAG_W,HELIUM,HELIUM_FLAG_W,REFTMP,REFTMP_FLAG_W,DELC13,DELC13_FLAG_W,DELC14,DELC14_FLAG_W,C14ERR,POC,POC_FLAG_W,TDN,TDN_FLAG_W,TON,TON_FLAG_W,NEON,NEON_FLAG_W,CTDFLUOR,CTDFLUOR_FLAG_W,CTDXMISS,CTDXMISS_FLAG_W,CTDBETA700,CTDBETA700_FLAG_W,N2O,N2O_FLAG_W,ARGON,ARGON_FLAG_W,BTL_DATE,BTL_TIME,BTL_LAT,BTL_LON,KRYPTON,KRYPTON_FLAG_W,XENON,XENON_FLAG_W,HPLC,HPLC_FLAG_W,HE3_HE4_RATIO,HE3_HE4_RATIO_FLAG_W,Nd_143_144_D_EPSILON_BOTTLE,Nd_143_144_D_EPSILON_BOTTLE_FLAG_W,Nd_143_144_D_EPSILON_BOTTLE_ERROR,Nd_143_144_D_RATIO_BOTTLE,Nd_143_144_D_RATIO_BOTTLE_FLAG_W,Nd_143_144_D_RATIO_BOTTLE_ERROR,Nd_D_CONC,Nd_D_CONC_FLAG_W,La_D_CONC_BOTTLE,La_D_CONC_BOTTLE_FLAG_W,Ce_D_CONC_BOTTLE,Ce_D_CONC_BOTTLE_FLAG_W,Pr_D_CONC_BOTTLE,Pr_D_CONC_BOTTLE_FLAG_W,Sm_D_CONC_BOTTLE,Sm_D_CONC_BOTTLE_FLAG_W,Eu_D_CONC_BOTTLE,Eu_D_CONC_BOTTLE_FLAG_W,Gd_D_CONC_BOTTLE,Gd_D_CONC_BOTTLE_FLAG_W,Tb_D_CONC_BOTTLE,Tb_D_CONC_BOTTLE_FLAG_W,Dy_D_CONC_BOTTLE,Dy_D_CONC_BOTTLE_FLAG_W,Ho_D_CONC_BOTTLE,Ho_D_CONC_BOTTLE_FLAG_W,Er_D_CONC_BOTTLE,Er_D_CONC_BOTTLE_FLAG_W,Tm_D_CONC_BOTTLE,Tm_D_CONC_BOTTLE_FLAG_W,Yb_D_CONC_BOTTLE,Yb_D_CONC_BOTTLE_FLAG_W,Lu_D_CONC_BOTTLE,Lu_D_CONC_BOTTLE_FLAG_W
,,,,,,,,,,,METERS,DBAR,ITS-90,PSS-78,,PSS-78,,UMOL/KG,,UMOL/KG,,UMOL/KG,,UMOL/KG,,UMOL/KG,,UMOL/KG,,UMOL/KG,,PMOL/KG,,PMOL/KG,,FMOL/KG,,UMOL/KG,,UMOL/KG,,,,DEG C,UMOL/KG,,NMOL/L,,DEG C,,/MILLE,,/MILLE,,/MILLE,UG/KG,,UMOL/KG,,UMOL/KG,,NMOL/L,,VOLTS,,VOLTS,,VOLTS,,NMOL/KG,,UMOL/L,,,,,,NMOL/L,,NMOL/L,,,,,,10000,,10000,,,,PMOL/KG,,PMOL/L,,PMOL/L,,PMOL/L,,PMOL/L,,PMOL/L,,PMOL/L,,PMOL/L,,PMOL/L,,PMOL/L,,PMOL/L,,PMOL/L,,PMOL/L,,PMOL/L,
320620180309  ,P18        ,101     ,  1,15         ,15         ,2,20180430,1850, -68.4847,-102.9857,     4299,   1317.4,1.2557565657837923556,34.726718038027258,2,  34.7264,2,195.82437996858908,2, 195.7076,2,    195.8,2,    107.8,2,    32.14,2,     0.00,2,     2.19,2,     -999,9,     -999,9,     -999,9,     -999,9,     -999,9,     -999,9,     -999,     -999,9,     -999,9,   1.2557,2,     -999,9,     -999,9,     -999,     -999,9,     -999,9,     -999,9,     -999,9,    0.062,1,    4.652,1,    0.134,1,     -999,9,     -999,9,20180430,2001, -68.4775,-102.9927,     -999,9,     -999,9,-999          ,9,     -999,9,     -999,9,     -999,     -999,9,     -999,     -999,9,     -999,9,     -999,9,     -999,9,     -999,9,     -999,9,     -999,9,     -999,9,     -999,9,     -999,9,     -999,9,     -999,9,     -999,9,     -999,9
320620180309  ,P18        ,101     ,  1,14         ,14         ,2,20180430,1850, -68.4847,-102.9857,     4299,   1419.8,1.1911003768831032179,34.724740604101939,2,  34.7231,2,197.59341610351393,2, 197.1025,2,    197.2,2,    109.8,2,    32.16,2,     0.00,2,     2.19,2,    0.111,2,    0.069,2,   0.0400,3,   2262.0,2,  2360.28,2,   7.5966,2,    24.97,     -999,9,     -999,9,   1.1911,2,0.68000000,2, -164.240,2,    0.003,     -999,9,     -999,9,     -999,9,     -999,9,    0.061,1,    4.652,1,    0.130,1,  19.4900,2,     -999,9,20180430,1958, -68.4777,-102.9924,     -999,9,     -999,9,-999          ,9,     -999,9,     -999,9,     -999,     -999,9,     -999,     -999,9,     -999,9,     -999,9,     -999,9,     -999,9,     -999,9,     -999,9,     -999,9,     -999,9,     -999,9,     -999,9,     -999,9,     -999,9,     -999,9
320620180309  ,P18        ,101     ,  1,13         ,13         ,2,20180430,1850, -68.4847,-102.9857,     4299,   1520.7,1.1486212217624560683,34.723150648865627,2,  34.7231,2,199.22780347424083,2, 197.9992,2,    198.0,2,    111.2,2,    32.21,2,     0.00,2,     2.18,2,     -999,9,     -999,9,     -999,9,     -999,9,     -999,9,     -999,9,     -999,     -999,9,     -999,9,   1.1483,2,     -999,9,     -999,9,     -999,     -999,9,     -999,9,     -999,9,     -999,9,    0.061,1,    4.652,1,    0.130,1,     -999,9,     -999,9,20180430,1955, -68.4778,-102.9917,     -999,9,     -999,9,-999          ,9,     -999,9,     -999,9,     -999,     -999,9,     -999,     -999,9,     -999,9,     -999,9,     -999,9,     -999,9,     -999,9,     -999,9,     -999,9,     -999,9,     -999,9,     -999,9,     -999,9,     -999,9,     -999,9
320620180309  ,P18        ,101     ,  1,12         ,12         ,2,20180430,1850, -68.4847,-102.9857,     4299,   1622.0,1.0954220988575449347,34.721115582364703,2,  34.7211,2,199.78487703086176,2, 198.9986,2,    199.2,2,    113.0,2,    32.25,2,     0.00,2,     2.19,2,    0.116,2,    0.070,2,   0.0400,3,   2262.9,2,  2365.80,2,   7.5977,6,    24.97,     -999,9,     -999,9,   1.0953,2,0.63000000,2, -157.800,2,    0.003,     -999,9,     -999,9,     -999,9,     -999,9,    0.061,1,    4.652,1,    0.128,1,  19.4100,2,     -999,9,20180430,1952, -68.4781,-102.9912,     -999,9,     -999,9,-999          ,9,     -999,9,     -999,9,     -999,     -999,9,     -999,     -999,9,     -999,9,     -999,9,     -999,9,     -999,9,     -999,9,     -999,9,     -999,9,     -999,9,     -999,9,     -999,9,     -999,9,     -999,9,     -999,9
320620180309  ,P18        ,101     ,  1,11         ,11         ,2,20180430,1850, -68.4847,-102.9857,     4299,   1827.0,1.0013446613525234241,34.717470342726195,2,  34.7178,2,201.77005584758808,2, 201.1018,2,    200.6,2,    116.4,2,    32.34,2,     0.00,2,     2.19,2,    0.122,2,    0.086,2,  -0.0200,3,   2264.9,2,  2364.09,2,   7.5993,2,    25.00,     -999,9,     -999,9,   1.0011,2,     -999,9,     -999,9,     -999,     -999,9,     -999,9,     -999,9,     -999,9,    0.061,1,    4.652,1,    0.128,1,  19.2100,2,     -999,9,20180430,1947, -68.4785,-102.9906,     -999,9,     -999,9,-999          ,9,     -999,9,     -999,9,     -999,     -999,9,     -999,     -999,9,     -999,9,     -999,9,     -999,9,     -999,9,     -999,9,     -999,9,     -999,9,     -999,9,     -999,9,     -999,9,     -999,9,     -999,9,     -999,9
320620180309  ,P18        ,101     ,  1,10         ,10         ,2,20180430,1850, -68.4847,-102.9857,     4299,   2029.8,0.9046869545358201536,34.713615432127433,2,  34.7141,2,203.18795426349368,2, 202.7990,2,    202.9,2,    120.0,2,    32.42,2,     0.00,2,     2.20,2,     -999,9,     -999,9,     -999,9,     -999,9,     -999,9,     -999,9,     -999,     -999,9,     -999,9,   0.9046,2,     -999,9,     -999,9,     -999,     -999,9,     -999,9,     -999,9,     -999,9,    0.061,1,    4.653,1,    0.129,1,     -999,9,     -999,9,20180430,1942, -68.4790,-102.9899,     -999,9,     -999,9,-999          ,9,     -999,9,     -999,9,     -999,     -999,9,     -999,     -999,9,     -999,9,     -999,9,     -999,9,     -999,9,     -999,9,     -999,9,     -999,9,     -999,9,     -999,9,     -999,9,     -999,9,     -999,9,     -999,9
320620180309  ,P18        ,101     ,  1,9          ,9          ,2,20180430,1850, -68.4847,-102.9857,     4299,   2286.0,0.8103563084228183611,34.709790034629492,2,  34.7096,2,204.99661664954928,2, 204.7996,2,    204.5,2,    123.4,2,    32.54,2,     0.00,2,     2.22,2,    0.149,2,    0.083,2,  -0.0200,3,   2265.7,2,  2365.82,2,   7.5947,2,    24.99,     -999,9,     -999,9,   0.8102,2,     -999,9,     -999,9,     -999,     -999,9,     -999,9,     -999,9,     -999,9,    0.060,1,    4.652,1,    0.126,1,  18.5500,2,     -999,9,20180430,1936, -68.4796,-102.9890,     -999,9,     -999,9,-999          ,9,     -999,9,     -999,9,     -999,     -999,9,     -999,     -999,9,     -999,9,     -999,9,     -999,9,     -999,9,     -999,9,     -999,9,     -999,9,     -999,9,     -999,9,     -999,9,     -999,9,     -999,9,     -999,9
320620180309  ,P18        ,101     ,  1,8          ,8          ,2,20180430,1850, -68.4847,-102.9857,     4299,   2540.6,0.7247136525365002191,34.706759417087802,2,  34.7072,2,206.20721942771289,2, 206.2987,2,    206.2,2,    126.0,2,    32.59,2,     0.00,2,     2.22,2,    0.180,2,    0.099,2,   0.1000,3,   2264.8,2,  2363.35,2,   7.5955,2,    24.98,     -999,9,     -999,9,   0.7248,2,     -999,9,     -999,9,     -999,     -999,9,     -999,9,     -999,9,     -999,9,    0.060,1,    4.651,1,    0.128,1,  19.3300,2,     -999,9,20180430,1931, -68.4803,-102.9884,     -999,9,     -999,9,-999          ,9,     -999,9,     -999,9,     -999,     -999,9,     -999,     -999,9,     -999,9,     -999,9,     -999,9,     -999,9,     -999,9,     -999,9,     -999,9,     -999,9,     -999,9,     -999,9,     -999,9,     -999,9,     -999,9
320620180309  ,P18        ,101     ,  1,7          ,7          ,2,20180430,1850, -68.4847,-102.9857,     4299,   2796.2,0.6344202818354728324,34.704484981911449,2,  34.7054,2,208.30300305550924,2, 208.0008,2,    208.4,2,    128.1,2,    32.73,2,     0.00,2,     2.23,2,     -999,9,     -999,9,     -999,9,     -999,9,     -999,9,     -999,9,     -999,     -999,9,     -999,9,   0.6345,2,     -999,9,     -999,9,     -999,     -999,9,     -999,9,     -999,9,     -999,9,    0.060,1,    4.651,1,    0.127,1,     -999,9,     -999,9,20180430,1925, -68.4809,-102.9880,     -999,9,     -999,9,-999          ,9,     -999,9,     -999,9,     -999,     -999,9,     -999,     -999,9,     -999,9,     -999,9,     -999,9,     -999,9,     -999,9,     -999,9,     -999,9,     -999,9,     -999,9,     -999,9,     -999,9,     -999,9,     -999,9
320620180309  ,P18        ,101     ,  1,6          ,6          ,2,20180430,1850, -68.4847,-102.9857,     4299,   3053.0,0.5395011727252133626,34.702613362803334,2,  34.7029,2,210.39466048855579,2, 209.6982,2,    210.1,2,    130.5,2,    32.80,2,     0.00,2,     2.22,2,    0.221,2,    0.124,2,   0.0400,3,   2265.3,2,  2366.25,2,   7.5949,2,    24.98,     -999,9,     -999,9,   0.5387,2,     -999,9,     -999,9,     -999,     -999,9,     -999,9,     -999,9,     -999,9,    0.061,1,    4.652,1,    0.126,1,  18.5600,2,     -999,9,20180430,1920, -68.4814,-102.9873,     -999,9,     -999,9,-999          ,9,     -999,9,     -999,9,     -999,     -999,9,     -999,     -999,9,     -999,9,     -999,9,     -999,9,     -999,9,     -999,9,     -999,9,     -999,9,     -999,9,     -999,9,     -999,9,     -999,9,     -999,9,     -999,9
320620180309  ,P18        ,101     ,  1,5          ,5          ,2,20180430,1850, -68.4847,-102.9857,     4299,   3359.7,0.4713573453966783400,34.702098360965174,2,  34.7019,2,211.89608167196872,2, 211.4965,2,    211.2,2,    135.1,2,    32.91,2,     0.00,2,     2.24,2,     -999,9,     -999,9,     -999,9,   2267.1,2,  2367.59,2,   7.5957,2,    24.97,     -999,9,     -999,9,   0.4713,2,     -999,9,     -999,9,     -999,     -999,9,     -999,9,     -999,9,     -999,9,    0.061,1,    4.651,1,    0.127,1,     -999,9,     -999,9,20180430,1913, -68.4820,-102.9870,     -999,9,     -999,9,-999          ,9,     -999,9,     -999,9,     -999,     -999,9,     -999,     -999,9,     -999,9,     -999,9,     -999,9,     -999,9,     -999,9,     -999,9,     -999,9,     -999,9,     -999,9,     -999,9,     -999,9,     -999,9,     -999,9
320620180309  ,P18        ,101     ,  1,4          ,4          ,2,20180430,1850, -68.4847,-102.9857,     4299,   3666.6,0.4189056068680578893,34.700846673274548,2,  34.7000,2,212.83956446105174,2, 212.5983,2,    213.1,2,    136.9,2,    32.99,2,     0.00,2,     2.25,2,    0.254,2,    0.143,2,   0.0100,3,   2266.6,2,  2368.44,2,   7.5943,2,    24.96,     -999,9,     -999,9,   0.4186,2,     -999,9,     -999,9,     -999,     -999,9,     -999,9,     -999,9,     -999,9,    0.061,1,    4.651,1,    0.127,1,  18.8300,2,     -999,9,20180430,1906, -68.4829,-102.9865,     -999,9,     -999,9,-999          ,9,     -999,9,     -999,9,     -999,     -999,9,     -999,     -999,9,     -999,9,     -999,9,     -999,9,     -999,9,     -999,9,     -999,9,     -999,9,     -999,9,     -999,9,     -999,9,     -999,9,     -999,9,     -999,9
320620180309  ,P18        ,101     ,  1,3          ,3          ,2,20180430,1850, -68.4847,-102.9857,     4299,   4000.9,0.3883344710962681745,34.700211058745026,2,  34.7009,2,214.25682297909205,2, 214.2031,2,    214.0,2,    140.1,2,    33.00,2,     0.00,2,     2.25,2,     -999,9,     -999,9,     -999,9,     -999,9,     -999,9,     -999,9,     -999,     -999,9,     -999,9,   0.3884,2,     -999,9,     -999,9,     -999,     -999,9,     -999,9,     -999,9,     -999,9,    0.061,1,    4.651,1,    0.126,1,     -999,9,     -999,9,20180430,1859, -68.4837,-102.9862,     -999,9,     -999,9,-999          ,9,     -999,9,     -999,9,     -999,     -999,9,     -999,     -999,9,     -999,9,     -999,9,     -999,9,     -999,9,     -999,9,     -999,9,     -999,9,     -999,9,     -999,9,     -999,9,     -999,9,     -999,9,     -999,9
320620180309  ,P18        ,101     ,  1,2          ,2          ,2,20180430,1850, -68.4847,-102.9857,     4299,   4208.0,0.3754914745842031776,34.699386030283357,2,  34.6996,2,215.09433751946571,2, 213.9026,3,    215.4,2,    143.0,2,    33.07,2,     0.00,2,     2.25,2,    0.354,2,    0.192,2,  -0.0100,3,   2268.9,2,  2367.05,2,   7.5917,2,    24.96,     -999,9,     -999,9,   0.3753,2,     -999,9,     -999,9,     -999,     -999,9,     -999,9,     -999,9,     -999,9,    0.060,1,    4.648,1,    0.129,1,  18.7000,2,     -999,9,20180430,1855, -68.4841,-102.9857,     -999,9,     -999,9,-999          ,9,     -999,9,     -999,9,     -999,     -999,9,     -999,     -999,9,     -999,9,     -999,9,     -999,9,     -999,9,     -999,9,     -999,9,     -999,9,     -999,9,     -999,9,     -999,9,     -999,9,     -999,9,     -999,9
320620180309  ,P18        ,101     ,  1,1          ,1          ,2,20180430,1850, -68.4847,-102.9857,     4299,   4374.6,0.3787059171542843661,34.698921976847068,3,  34.7019,2,216.48683105708233,3, 213.3980,2,    213.1,2,    149.4,2,    33.19,2,     0.00,2,     2.26,2,    0.396,2,    0.204,2,   0.0100,3,   2267.9,6,  2368.97,2,   7.5924,2,    24.97,     -999,9,     -999,9,   0.3785,2,     -999,9,     -999,9,     -999,     -999,9,     -999,9,     -999,9,     -999,9,    0.061,1,    4.643,1,    0.135,1,  19.5400,2,     -999,9,20180430,1850, -68.4847,-102.9857,     -999,9,     -999,9,-999          ,9,     -999,9,     -999,9,     -999,     -999,9,     -999,     -999,9,     -999,9,     -999,9,     -999,9,     -999,9,     -999,9,     -999,9,     -999,9,     -999,9,     -999,9,     -999,9,     -999,9,     -999,9,     -999,9