BOTTLE,20240515CCHHYDRO
EXPOCODE,SECT_ID,STNNBR,CASTNO,SAMPNO,BTLNBR,BTLNBR_FLAG_W,DATE,TIME,LATITUDE,LONGITUDE,DEPTH,CTDPRS,CTDTMP,CTDSAL,CTDSAL_FLAG_W,SALNTY,SALNTY_FLAG_W,CTDOXY,CTDOXY_FLAG_W,CTDOPTOXY,CTDOPTOXY_FLAG_W,OXYGEN,OXYGEN_FLAG_W,SILCAT,SILCAT_FLAG_W,NITRAT,NITRAT_FLAG_W,NITRIT,NITRIT_FLAG_W,PHSPHT,PHSPHT_FLAG_W,CFC-11,CFC-11_FLAG_W,CFC-12,CFC-12_FLAG_W,SF6,SF6_FLAG_W,TCARBN,TCARBN_FLAG_W,ALKALI,ALKALI_FLAG_W,PH_TOT,PH_TOT_FLAG_W,PH_TMP,DOC,DOC_FLAG_W,HELIUM,HELIUM_FLAG_W,REFTMP,REFTMP_FLAG_W,DELC13,DELC13_FLAG_W,DELC14,DELC14_FLAG_W,C14ERR,POC,POC_FLAG_W,TDN,TDN_FLAG_W,TON,TON_FLAG_W,NEON,NEON_FLAG_W,CTDFLUOR,CTDFLUOR_FLAG_W,CTDXMISS,CTDXMISS_FLAG_W,CTDBETA700,CTDBETA700_FLAG_W,N2O,N2O_FLAG_W,ARGON,ARGON_FLAG_W,BTL_DATE,BTL_TIME,BTL_LAT,BTL_LON,KRYPTON,KRYPTON_FLAG_W,XENON,XENON_FLAG_W,HPLC,HPLC_FLAG_W,HE3_HE4_RATIO,HE3_HE4_RATIO_FLAG_W,Nd_143_144_D_EPSILON_BOTTLE,Nd_143_144_D_EPSILON_BOTTLE_FLAG_W,Nd_143_144_D_EPSILON_BOTTLE_ERROR,Nd_143_144_D_RATIO_BOTTLE,Nd_143_144_D_RATIO_BOTTLE_FLAG_W,Nd_143_144_D_RATIO_BOTTLE_ERROR,Nd_D_CONC,Nd_D_CONC_FLAG_W,La_D_CONC_BOTTLE,La_D_CONC_BOTTLE_FLAG_W,Ce_D_CONC_BOTTLE,Ce_D_CONC_BOTTLE_FLAG_W,Pr_D_CONC_BOTTLE,Pr_D_CONC_BOTTLE_FLAG_W,Sm_D_CONC_BOTTLE,Sm_D_CONC_BOTTLE_FLAG_W,Eu_D_CONC_BOTTLE,Eu_D_CONC_BOTTLE_FLAG_W,Gd_D_CONC_BOTTLE,Gd_D_CONC_BOTTLE_FLAG_W,Tb_D_CONC_BOTTLE,Tb_D_CONC_BOTTLE_FLAG_W,Dy_D_CONC_BOTTLE,Dy_D_CONC_BOTTLE_FLAG_W,Ho_D_CONC_BOTTLE,Ho_D_CONC_BOTTLE_FLAG_W,Er_D_CONC_BOTTLE,Er_D_CONC_BOTTLE_FLAG_W,Tm_D_CONC_BOTTLE,Tm_D_CONC_BOTTLE_FLAG_W,Yb_D_CONC_BOTTLE,Yb_D_CONC_BOTTLE_FLAG_W,Lu_D_CONC_BOTTLE,Lu_D_CONC_BOTTLE_FLAG_W
,,,,,,,,,,,METERS,DBAR,ITS-90,PSS-78,,PSS-78,,UMOL/KG,,UMOL/KG,,UMOL/KG,,UMOL/KG,,UMOL/KG,,UMOL/KG,,UMOL/KG,,PMOL/KG,,PMOL/KG,,FMOL/KG,,UMOL/KG,,UMOL/KG,,,,DEG C,UMOL/KG,,NMOL/L,,DEG C,,/MILLE,,/MILLE,,/MILLE,UG/KG,,UMOL/KG,,UMOL/KG,,NMOL/L,,VOLTS,,VOLTS,,VOLTS,,NMOL/KG,,UMOL/L,,,,,,NMOL/L,,NMOL/L,,,,,,10000,,10000,,,,PMOL/KG,,PMOL/L,,PMOL/L,,PMOL/L,,PMOL/L,,PMOL/L,,PMOL/L,,PMOL/L,,PMOL/L,,PMOL/L,,PMOL/L,,PMOL/L,,PMOL/L,,PMOL/L,
320620180309  ,P16        ,38      ,  1,15         ,15         ,2,20180403,1540, -74.9946,-150.0433,     3749,   1282.1,0.9970444444444443999,34.719424447213235,2,  34.7170,2,198.23860148583771,2, 198.6025,2,    198.2,2,    116.8,2,    32.27,2,     0.00,2,     2.21,2,     -999,9,     -999,9,     -999,9,     -999,9,     -999,9,     -999,9,     -999,     -999,5,     -999,9,   0.9965,2,0.42000000,3, -158.130,2,    0.002,     -999,9,     -999,9,     -999,1,     -999,9,    0.061,1,    4.661,1,    0.135,1,     -999,9,     -999,9,20180403,1701, -74.9972,-150.0852,     -999,9,     -999,9,-999          ,9,     -999,9,     -999,9,     -999,     -999,9,     -999,     -999,9,     -999,9,     -999,9,     -999,9,     -999,9,     -999,9,     -999,9,     -999,9,     -999,9,     -999,9,     -999,9,     -999,9,     -999,9,     -999,9
320620180309  ,P16        ,38      ,  1,14         ,14         ,2,20180403,1540, -74.9946,-150.0433,     3749,   1384.2,0.9469722222222224373,34.717389336331188,2,  34.7135,2,200.13572039691530,2, 199.7018,2,    199.6,2,    118.5,2,    32.26,2,     0.00,2,     2.21,2,    0.112,2,    0.067,2,   0.0500,2,   2260.8,2,  2365.85,3,   7.5957,2,  -259.15,     42.6,2,     -999,9,   0.9462,2,0.51000000,2, -162.790,2,    0.002,     -999,9,     -999,9,     -999,1,     -999,9,    0.061,1,    4.661,1,    0.132,1,  21.7200,2,     -999,9,20180403,1657, -74.9971,-150.0834,     -999,9,     -999,9,-999          ,9,     -999,9,     -999,9,     -999,     -999,9,     -999,     -999,9,     -999,9,     -999,9,     -999,9,     -999,9,     -999,9,     -999,9,     -999,9,     -999,9,     -999,9,     -999,9,     -999,9,     -999,9,     -999,9
320620180309  ,P16        ,38      ,  1,13         ,13         ,2,20180403,1540, -74.9946,-150.0433,     3749,   1485.9,0.8894888888888888845,34.715108212144209,2,  34.7127,2,200.73154403100051,2, 201.0968,2,    200.8,2,    120.6,2,    32.26,2,     0.00,2,     2.23,2,    0.116,2,    0.054,2,   0.1400,2,   2261.9,2,  2363.69,2,   7.5979,2,  -260.15,     -999,9,     -999,9,   0.8887,2,0.56000000,2, -161.380,2,    0.002,     -999,9,     -999,9,     -999,9,     -999,9,    0.061,1,    4.661,1,    0.132,1,  20.5600,2,     -999,9,20180403,1654, -74.9969,-150.0816,     -999,9,     -999,9,-999          ,9,     -999,9,     -999,9,     -999,     -999,9,     -999,     -999,9,     -999,9,     -999,9,     -999,9,     -999,9,     -999,9,     -999,9,     -999,9,     -999,9,     -999,9,     -999,9,     -999,9,     -999,9,     -999,9
320620180309  ,P16        ,38      ,  1,12         ,12         ,2,20180403,1540, -74.9946,-150.0433,     3749,   1587.8,0.8468888888888890243,34.713451747335839,2,  34.7100,2,201.50785816170310,2, 202.1044,2,    201.8,2,    121.7,2,    32.32,2,     0.00,2,     2.21,2,    0.118,2,    0.073,2,   0.0700,2,   2262.8,2,  2363.63,2,   7.5989,2,  -261.15,     44.3,2,     -999,9,   0.8461,2,0.61000000,2, -159.620,2,    0.002,     -999,9,     -999,9,     -999,1,     -999,9,    0.060,1,    4.661,1,    0.132,1,  22.1000,2,     -999,9,20180403,1650, -74.9968,-150.0797,     -999,9,     -999,9,-999          ,9,     -999,9,     -999,9,     -999,     -999,9,     -999,     -999,9,     -999,9,     -999,9,     -999,9,     -999,9,     -999,9,     -999,9,     -999,9,     -999,9,     -999,9,     -999,9,     -999,9,     -999,9,     -999,9
320620180309  ,P16        ,38      ,  1,11         ,11         ,2,20180403,1540, -74.9946,-150.0433,     3749,   1688.7,0.8113861111111110302,34.711954043803608,2,  34.7117,2,203.06151867422733,2, 202.9941,2,    203.1,2,    123.2,2,    32.33,2,     0.00,2,     2.22,2,     -999,9,     -999,9,     -999,9,     -999,9,     -999,9,     -999,9,     -999,     -999,9,     -999,9,   0.8105,2,0.59000000,2, -159.300,2,    0.002,     -999,9,     -999,9,     -999,9,     -999,9,    0.062,1,    4.662,1,    0.131,1,     -999,9,     -999,9,20180403,1647, -74.9967,-150.0779,     -999,9,     -999,9,-999          ,9,     -999,9,     -999,9,     -999,     -999,9,     -999,     -999,9,     -999,9,     -999,9,     -999,9,     -999,9,     -999,9,     -999,9,     -999,9,     -999,9,     -999,9,     -999,9,     -999,9,     -999,9,     -999,9
320620180309  ,P16        ,38      ,  1,10         ,10         ,2,20180403,1540, -74.9946,-150.0433,     3749,   1790.7,0.7761861111111110212,34.710649649299867,2,  34.7080,2,203.81129542372611,2, 203.6968,2,    204.1,2,    124.6,2,    32.37,2,     0.00,2,     2.22,2,    0.121,2,    0.077,2,   0.0700,2,   2264.1,2,  2364.67,2,   7.5989,2,  -263.15,     43.7,2,     -999,9,   0.7753,2,0.57000000,2, -160.990,2,    0.002,     -999,9,     -999,9,     -999,1,     -999,9,    0.061,1,    4.662,1,    0.137,1,  19.6900,2,     -999,9,20180403,1642, -74.9965,-150.0755,     -999,9,     -999,9,-999          ,9,     -999,9,     -999,9,     -999,     -999,9,     -999,     -999,9,     -999,9,     -999,9,     -999,9,     -999,9,     -999,9,     -999,9,     -999,9,     -999,9,     -999,9,     -999,9,     -999,9,     -999,9,     -999,9
320620180309  ,P16        ,38      ,  1,9          ,9          ,2,20180403,1540, -74.9946,-150.0433,     3749,   1963.9,0.7166777777777776359,34.708637157335836,2,  34.7068,2,204.96855952218198,2, 205.2980,2,    205.2,2,    126.7,2,    32.41,2,     0.00,2,     2.22,2,    0.139,2,    0.075,2,   0.1700,2,   2263.9,2,  2363.63,2,   7.6001,6,  -264.15,     39.1,2,     -999,9,   0.7158,2,0.56000000,2, -158.780,2,    0.002,     -999,9,     -999,9,     -999,1,     -999,9,    0.061,1,    4.663,1,    0.130,1,  21.1700,2,     -999,9,20180403,1637, -74.9963,-150.0728,     -999,9,     -999,9,-999          ,9,     -999,9,     -999,9,     -999,     -999,9,     -999,     -999,9,     -999,9,     -999,9,     -999,9,     -999,9,     -999,9,     -999,9,     -999,9,     -999,9,     -999,9,     -999,9,     -999,9,     -999,9,     -999,9
320620180309  ,P16        ,38      ,  1,8          ,8          ,2,20180403,1540, -74.9946,-150.0433,     3749,   2198.2,0.6475750000000001227,34.706624430325235,3,  34.7037,2,206.97519798808318,2, 206.8982,2,    207.0,2,    128.9,2,    32.45,2,     0.00,2,     2.22,2,    0.150,2,    0.094,2,   0.0500,2,   2264.1,6,  2366.59,3,   7.5997,2,    24.93,     41.0,2,     -999,9,   0.6468,2,0.58000000,2, -164.560,2,    0.002,     -999,9,     -999,9,     -999,1,     -999,9,    0.060,1,    4.662,1,    0.128,1,  20.0200,2,     -999,9,20180403,1631, -74.9961,-150.0693,     -999,9,     -999,9,-999          ,9,     -999,9,     -999,9,     -999,     -999,9,     -999,     -999,9,     -999,9,     -999,9,     -999,9,     -999,9,     -999,9,     -999,9,     -999,9,     -999,9,     -999,9,     -999,9,     -999,9,     -999,9,     -999,9
320620180309  ,P16        ,38      ,  1,7          ,7          ,2,20180403,1540, -74.9946,-150.0433,     3749,   2453.8,0.5726277777777779576,34.705009574948129,2,  34.7041,2,208.11206435045858,2, 208.6027,2,    208.5,2,    131.1,2,    32.58,2,     0.00,2,     2.23,2,    0.149,2,    0.088,2,   0.0800,2,   2264.3,2,  2365.35,2,   7.5963,6,  -266.15,     41.0,2,     -999,9,   0.5720,2,0.59000000,2, -163.480,2,    0.002,     -999,9,     -999,9,     -999,1,     -999,9,    0.061,1,    4.663,1,    0.126,1,  21.7600,2,     -999,9,20180403,1624, -74.9959,-150.0658,     -999,9,     -999,9,-999          ,9,     -999,9,     -999,9,     -999,     -999,9,     -999,     -999,9,     -999,9,     -999,9,     -999,9,     -999,9,     -999,9,     -999,9,     -999,9,     -999,9,     -999,9,     -999,9,     -999,9,     -999,9,     -999,9
320620180309  ,P16        ,38      ,  1,6          ,6          ,2,20180403,1540, -74.9946,-150.0433,     3749,   2709.6,0.5202027777777776807,34.704161416677564,3,  34.7013,2,209.33352899082161,2, 209.9010,2,    209.4,2,    133.5,2,    32.63,2,     0.00,2,     2.24,2,    0.153,2,    0.086,2,   0.0200,2,   2265.0,2,  2364.50,2,   7.5955,2,  -267.15,     38.6,2,     -999,9,   0.5195,2,0.56000000,2, -161.850,2,    0.002,     -999,9,     -999,9,     -999,1,     -999,9,    0.061,1,    4.663,1,    0.127,1,  21.0500,2,     -999,9,20180403,1617, -74.9956,-150.0623,     -999,9,     -999,9,-999          ,9,     -999,9,     -999,9,     -999,     -999,9,     -999,     -999,9,     -999,9,     -999,9,     -999,9,     -999,9,     -999,9,     -999,9,     -999,9,     -999,9,     -999,9,     -999,9,     -999,9,     -999,9,     -999,9
320620180309  ,P16        ,38      ,  1,5          ,5          ,2,20180403,1540, -74.9946,-150.0433,     3749,   2965.6,0.4850999999999998646,34.703350575858394,2,  34.7015,2,210.66840626926711,2, 210.4977,2,    210.9,2,    136.1,2,    32.72,2,     0.00,2,     2.24,2,    0.158,2,    0.102,2,   0.0700,2,   2268.0,2,  2365.90,2,   7.5950,2,  -268.15,     38.4,2,     -999,9,   0.4841,2,0.56000000,2, -165.340,2,    0.002,     -999,9,     -999,9,     -999,1,     -999,9,    0.061,1,    4.662,1,    0.130,1,  19.8600,2,     -999,9,20180403,1611, -74.9954,-150.0589,     -999,9,     -999,9,-999          ,9,     -999,9,     -999,9,     -999,     -999,9,     -999,     -999,9,     -999,9,     -999,9,     -999,9,     -999,9,     -999,9,     -999,9,     -999,9,     -999,9,     -999,9,     -999,9,     -999,9,     -999,9,     -999,9
320620180309  ,P16        ,38      ,  1,4          ,4          ,2,20180403,1540, -74.9946,-150.0433,     3749,   3221.7,0.4484638888888887731,34.702752042732371,3,  34.6976,4,211.56452189844205,2, 211.3966,2,    211.1,2,    137.7,2,    32.78,2,     0.00,2,     2.23,2,    0.167,2,    0.102,2,   0.0700,2,   2267.6,2,  2364.85,2,   7.5943,2,  -269.15,     40.6,2,     -999,9,   0.4479,2,0.62000000,2, -160.890,2,    0.002,     -999,9,     -999,9,     -999,1,     -999,9,    0.061,1,    4.662,1,    0.129,1,  20.7000,2,     -999,9,20180403,1604, -74.9952,-150.0553,     -999,9,     -999,9,-999          ,9,     -999,9,     -999,9,     -999,     -999,9,     -999,     -999,9,     -999,9,     -999,9,     -999,9,     -999,9,     -999,9,     -999,9,     -999,9,     -999,9,     -999,9,     -999,9,     -999,9,     -999,9,     -999,9
320620180309  ,P16        ,38      ,  1,3          ,3          ,2,20180403,1540, -74.9946,-150.0433,     3749,   3478.4,0.4107416666666666716,34.702157239686400,2,  34.7017,2,213.20108075869769,2, 212.2989,2,    212.4,2,    139.4,2,    32.80,2,     0.00,2,     2.22,2,    0.189,2,    0.110,2,   0.0600,2,   2267.8,2,  2365.63,2,   7.6062,3,  -270.15,     -999,9,     -999,9,   0.4101,2,0.57000000,2, -161.370,2,    0.002,     -999,9,     -999,9,     -999,9,     -999,9,    0.061,1,    4.661,1,    0.128,1,  21.5500,2,     -999,9,20180403,1557, -74.9950,-150.0518,     -999,9,     -999,9,-999          ,9,     -999,9,     -999,9,     -999,     -999,9,     -999,     -999,9,     -999,9,     -999,9,     -999,9,     -999,9,     -999,9,     -999,9,     -999,9,     -999,9,     -999,9,     -999,9,     -999,9,     -999,9,     -999,9
320620180309  ,P16        ,38      ,  1,2          ,2          ,2,20180403,1540, -74.9946,-150.0433,     3749,   3590.9,0.3906083333333332797,34.701772836611305,3,  34.6992,2,213.81212809001318,2, 212.6994,2,    213.3,2,    140.5,2,    32.81,2,     0.00,2,     2.22,2,    0.210,2,    0.128,2,   0.0300,2,   2267.0,2,  2365.20,2,   7.5934,2,  -271.15,     42.9,2,     -999,9,   0.3901,2,0.53000000,2, -163.300,2,    0.002,     -999,9,     -999,9,     -999,1,     -999,9,    0.060,1,    4.661,1,    0.145,1,  20.0500,2,     -999,9,20180403,1552, -74.9949,-150.0494,     -999,9,     -999,9,-999          ,9,     -999,9,     -999,9,     -999,     -999,9,     -999,     -999,9,     -999,9,     -999,9,     -999,9,     -999,9,     -999,9,     -999,9,     -999,9,     -999,9,     -999,9,     -999,9,     -999,9,     -999,9,     -999,9
320620180309  ,P16        ,38      ,  1,1          ,1          ,2,20180403,1540, -74.9946,-150.0433,     3749,   3812.8,0.2776749999999999496,34.697834673185859,2,  34.6998,2,214.67640309106116,2, 214.8964,2,    214.8,2,    141.8,2,    32.90,2,     0.01,2,     2.25,2,    0.513,2,    0.256,2,   0.0300,2,   2267.3,6,  2363.77,2,   7.5897,2,  -272.15,     40.4,2,     -999,9,   0.2771,2,0.65000000,2, -162.000,2,    0.002,     -999,9,     -999,9,     -999,1,     -999,9,    0.062,1,    4.647,1,    0.152,1,  20.9600,2,     -999,9,20180403,1540, -74.9946,-150.0433,     -999,9,     -999,9,-999          ,9,     -999,9,     -999,9,     -999,     -999,9,     -999,     -999,9,     -999,9,     -999,9,     -999,9,     -999,9,     -999,9,     -999,9,     -999,9,     -999,9,     -999,9,     -999,9,     -999,9,     -999,9,     -999,9