BOTTLE,20240515CCHHYDRO
EXPOCODE,SECT_ID,STNNBR,CASTNO,SAMPNO,BTLNBR,BTLNBR_FLAG_W,DATE,TIME,LATITUDE,LONGITUDE,DEPTH,CTDPRS,CTDTMP,CTDSAL,CTDSAL_FLAG_W,SALNTY,SALNTY_FLAG_W,CTDOXY,CTDOXY_FLAG_W,CTDOPTOXY,CTDOPTOXY_FLAG_W,OXYGEN,OXYGEN_FLAG_W,SILCAT,SILCAT_FLAG_W,NITRAT,NITRAT_FLAG_W,NITRIT,NITRIT_FLAG_W,PHSPHT,PHSPHT_FLAG_W,CFC-11,CFC-11_FLAG_W,CFC-12,CFC-12_FLAG_W,SF6,SF6_FLAG_W,TCARBN,TCARBN_FLAG_W,ALKALI,ALKALI_FLAG_W,PH_TOT,PH_TOT_FLAG_W,PH_TMP,DOC,DOC_FLAG_W,HELIUM,HELIUM_FLAG_W,REFTMP,REFTMP_FLAG_W,DELC13,DELC13_FLAG_W,DELC14,DELC14_FLAG_W,C14ERR,POC,POC_FLAG_W,TDN,TDN_FLAG_W,TON,TON_FLAG_W,NEON,NEON_FLAG_W,CTDFLUOR,CTDFLUOR_FLAG_W,CTDXMISS,CTDXMISS_FLAG_W,CTDBETA700,CTDBETA700_FLAG_W,N2O,N2O_FLAG_W,ARGON,ARGON_FLAG_W,BTL_DATE,BTL_TIME,BTL_LAT,BTL_LON,KRYPTON,KRYPTON_FLAG_W,XENON,XENON_FLAG_W,HPLC,HPLC_FLAG_W,HE3_HE4_RATIO,HE3_HE4_RATIO_FLAG_W,Nd_143_144_D_EPSILON_BOTTLE,Nd_143_144_D_EPSILON_BOTTLE_FLAG_W,Nd_143_144_D_EPSILON_BOTTLE_ERROR,Nd_143_144_D_RATIO_BOTTLE,Nd_143_144_D_RATIO_BOTTLE_FLAG_W,Nd_143_144_D_RATIO_BOTTLE_ERROR,Nd_D_CONC,Nd_D_CONC_FLAG_W,La_D_CONC_BOTTLE,La_D_CONC_BOTTLE_FLAG_W,Ce_D_CONC_BOTTLE,Ce_D_CONC_BOTTLE_FLAG_W,Pr_D_CONC_BOTTLE,Pr_D_CONC_BOTTLE_FLAG_W,Sm_D_CONC_BOTTLE,Sm_D_CONC_BOTTLE_FLAG_W,Eu_D_CONC_BOTTLE,Eu_D_CONC_BOTTLE_FLAG_W,Gd_D_CONC_BOTTLE,Gd_D_CONC_BOTTLE_FLAG_W,Tb_D_CONC_BOTTLE,Tb_D_CONC_BOTTLE_FLAG_W,Dy_D_CONC_BOTTLE,Dy_D_CONC_BOTTLE_FLAG_W,Ho_D_CONC_BOTTLE,Ho_D_CONC_BOTTLE_FLAG_W,Er_D_CONC_BOTTLE,Er_D_CONC_BOTTLE_FLAG_W,Tm_D_CONC_BOTTLE,Tm_D_CONC_BOTTLE_FLAG_W,Yb_D_CONC_BOTTLE,Yb_D_CONC_BOTTLE_FLAG_W,Lu_D_CONC_BOTTLE,Lu_D_CONC_BOTTLE_FLAG_W
,,,,,,,,,,,METERS,DBAR,ITS-90,PSS-78,,PSS-78,,UMOL/KG,,UMOL/KG,,UMOL/KG,,UMOL/KG,,UMOL/KG,,UMOL/KG,,UMOL/KG,,PMOL/KG,,PMOL/KG,,FMOL/KG,,UMOL/KG,,UMOL/KG,,,,DEG C,UMOL/KG,,NMOL/L,,DEG C,,/MILLE,,/MILLE,,/MILLE,UG/KG,,UMOL/KG,,UMOL/KG,,NMOL/L,,VOLTS,,VOLTS,,VOLTS,,NMOL/KG,,UMOL/L,,,,,,NMOL/L,,NMOL/L,,,,,,10000,,10000,,,,PMOL/KG,,PMOL/L,,PMOL/L,,PMOL/L,,PMOL/L,,PMOL/L,,PMOL/L,,PMOL/L,,PMOL/L,,PMOL/L,,PMOL/L,,PMOL/L,,PMOL/L,,PMOL/L,
320620180309  ,S04P       ,108     ,  1,36         ,36         ,2,20180502,2353, -67.5001, -96.3323,     4601,      8.1,-1.4405495329204320853,33.738354160344969,2,  33.7364,2,345.69930904336394,2, 345.4993,2,    346.4,2,     24.5,2,    25.58,2,     0.21,2,     1.77,2,    6.820,2,    3.310,2,   3.7600,3,   2163.0,6,  2280.39,2,   7.6628,2,    25.02,     -999,9,     -999,9,  -1.4416,2,     -999,9,     -999,9,     -999,     -999,9,     -999,9,     -999,9,     -999,9,    0.201,1,    4.562,1,    0.202,1,  16.5600,2,     -999,9,20180503,0206, -67.4994, -96.3293,     -999,9,     -999,9,-999          ,9,     -999,9,     -999,9,     -999,     -999,9,     -999,     -999,9,     -999,1,     -999,1,     -999,1,     -999,1,     -999,1,     -999,1,     -999,1,     -999,1,     -999,1,     -999,1,     -999,1,     -999,1,     -999,1
320620180309  ,S04P       ,108     ,  1,35         ,35         ,2,20180502,2353, -67.5001, -96.3323,     4601,     24.3,-1.4650212354227141187,33.739015677419069,2,  33.7364,2,346.48471297202161,2, 345.5059,2,    346.7,2,     24.9,2,    25.56,2,     0.21,2,     1.78,2,     -999,9,     -999,9,     -999,9,   2162.5,2,  2281.36,2,   7.6632,2,    25.04,     -999,9,     -999,9,  -1.4630,2,     -999,9,     -999,9,     -999,     -999,9,     -999,9,     -999,9,     -999,9,    0.198,1,    4.565,1,    0.212,1,     -999,9,     -999,9,20180503,0205, -67.4995, -96.3296,     -999,9,     -999,9,-999          ,9,     -999,9,     -999,9,     -999,     -999,9,     -999,     -999,9,     -999,1,     -999,1,     -999,1,     -999,1,     -999,1,     -999,1,     -999,1,     -999,1,     -999,1,     -999,1,     -999,1,     -999,1,     -999,1
320620180309  ,S04P       ,108     ,  1,34         ,34         ,2,20180502,2353, -67.5001, -96.3323,     4601,     50.5,-1.5268409431683802602,33.738379919790106,2,  33.7358,2,348.10783878541253,2, 345.4974,2,    346.8,2,     25.8,2,    25.55,2,     0.21,2,     1.78,2,    6.869,2,    3.379,2,   3.4500,3,   2163.2,2,  2280.36,2,   7.6627,2,    25.03,     -999,9,     -999,9,  -1.5214,2,     -999,9,     -999,9,     -999,     -999,9,     -999,9,     -999,9,     -999,9,    0.196,1,    4.565,1,    0.208,1,  16.6700,2,     -999,9,20180503,0203, -67.4995, -96.3300,     -999,9,     -999,9,-999          ,9,     -999,9,     -999,9,     -999,     -999,9,     -999,     -999,9,     -999,1,     -999,1,     -999,1,     -999,1,     -999,1,     -999,1,     -999,1,     -999,1,     -999,1,     -999,1,     -999,1,     -999,1,     -999,1
320620180309  ,S04P       ,108     ,  1,33         ,33         ,2,20180502,2353, -67.5001, -96.3323,     4601,     75.1,-1.5042165483264922088,33.743566296520115,3,  33.7661,2,345.05065936828277,2, 344.8981,2,    344.2,2,     27.2,2,    26.01,2,     0.21,2,     1.81,2,     -999,9,     -999,9,     -999,9,     -999,9,     -999,9,     -999,9,     -999,     -999,9,     -999,9,  -1.5000,2,     -999,9,     -999,9,     -999,     -999,9,     -999,9,     -999,9,     -999,9,    0.193,1,    4.566,1,    0.214,1,     -999,9,     -999,9,20180503,0201, -67.4996, -96.3304,     -999,9,     -999,9,-999          ,9,     -999,9,     -999,9,     -999,     -999,9,     -999,     -999,9,     -999,9,     -999,9,     -999,9,     -999,9,     -999,9,     -999,9,     -999,9,     -999,9,     -999,9,     -999,9,     -999,9,     -999,9,     -999,9
320620180309  ,S04P       ,108     ,  1,32         ,32         ,2,20180502,2353, -67.5001, -96.3323,     4601,    100.3,-0.9117531982296184223,33.998510383640003,2,  33.9999,2,319.33251384887797,2, 319.6005,2,    317.8,2,     41.1,2,    30.37,2,     0.06,2,     2.10,2,    5.681,2,    2.843,2,   2.9100,2,   2193.1,2,  2294.11,2,   7.6164,2,    25.03,     -999,9,     -999,9,  -0.9046,2,     -999,9,     -999,9,     -999,     -999,9,     -999,9,     -999,9,     -999,9,    0.081,1,    4.614,1,    0.157,1,  17.2500,2,     -999,9,20180503,0200, -67.4997, -96.3306,     -999,9,     -999,9,-999          ,9,     -999,9,     -999,9,     -999,     -999,9,     -999,     -999,9,     -999,1,     -999,1,     -999,1,     -999,1,     -999,1,     -999,1,     -999,1,     -999,1,     -999,1,     -999,1,     -999,1,     -999,1,     -999,1
320620180309  ,S04P       ,108     ,  1,31         ,31         ,2,20180502,2353, -67.5001, -96.3323,     4601,    151.2,0.5694012992172596821,34.183519273185837,2,  34.1849,2,276.39593811186211,2, 280.5010,3,    275.7,2,     49.7,2,    32.47,2,     0.02,2,     2.20,2,     -999,9,     -999,9,     -999,9,     -999,9,     -999,9,     -999,9,     -999,     -999,9,     -999,9,   0.5676,2,     -999,9,     -999,9,     -999,     -999,9,     -999,9,     -999,9,     -999,9,    0.062,1,    4.630,1,    0.144,1,     -999,9,     -999,9,20180503,0158, -67.4999, -96.3312,     -999,9,     -999,9,-999          ,9,     -999,9,     -999,9,     -999,     -999,9,     -999,     -999,9,     -999,9,     -999,9,     -999,9,     -999,9,     -999,9,     -999,9,     -999,9,     -999,9,     -999,9,     -999,9,     -999,9,     -999,9,     -999,9
320620180309  ,S04P       ,108     ,  1,30         ,30         ,2,20180502,2353, -67.5001, -96.3323,     4601,    201.6,1.5002472002384938943,34.337145170962081,2,  34.3345,2,217.27863516547342,3, 228.1993,3,    223.4,2,     60.3,2,    34.28,2,     0.01,2,     2.31,2,    2.775,2,    1.427,2,   1.3300,2,   2234.6,2,  2317.93,2,   7.5561,2,    25.02,     -999,9,     -999,9,   1.4930,2,     -999,9,     -999,9,     -999,     -999,9,     -999,9,     -999,9,     -999,9,    0.063,1,    4.631,1,    0.144,1,  22.1400,2,     -999,9,20180503,0155, -67.5000, -96.3320,     -999,9,     -999,9,-999          ,9,     -999,9,     -999,9,     -999,     -999,9,     -999,     -999,9,     -999,1,     -999,1,     -999,1,     -999,1,     -999,1,     -999,1,     -999,1,     -999,1,     -999,1,     -999,1,     -999,1,     -999,1,     -999,1
320620180309  ,S04P       ,108     ,  1,29         ,29         ,2,20180502,2353, -67.5001, -96.3323,     4601,    251.5,1.8275178923538601961,34.425760429018688,2,  34.4244,2,196.75940642508959,3, 198.2035,2,    200.2,2,     67.0,2,    34.87,2,     0.00,2,     2.37,2,     -999,9,     -999,9,     -999,9,   2246.7,2,  2324.43,2,   7.5454,2,    25.03,     -999,9,     -999,9,   1.8293,2,     -999,9,     -999,9,     -999,     -999,9,     -999,9,     -999,9,     -999,9,    0.062,1,    4.635,1,    0.145,1,     -999,9,     -999,9,20180503,0153, -67.5001, -96.3326,     -999,9,     -999,9,-999          ,9,     -999,9,     -999,9,     -999,     -999,9,     -999,     -999,9,     -999,9,     -999,9,     -999,9,     -999,9,     -999,9,     -999,9,     -999,9,     -999,9,     -999,9,     -999,9,     -999,9,     -999,9,     -999,9
320620180309  ,S04P       ,108     ,  1,28         ,28         ,2,20180502,2353, -67.5001, -96.3323,     4601,    303.1,1.9806943164068806507,34.486961229112076,2,  34.4866,2,188.85526716283857,2, 189.2994,2,    188.4,2,     71.5,2,    34.91,2,     0.00,2,     2.36,2,     -999,9,     -999,9,     -999,9,     -999,9,     -999,9,     -999,9,     -999,     -999,9,     -999,9,   1.9810,2,     -999,9,     -999,9,     -999,     -999,9,     -999,9,     -999,9,     -999,9,    0.061,1,    4.635,1,    0.144,1,     -999,9,     -999,9,20180503,0151, -67.5001, -96.3330,     -999,9,     -999,9,-999          ,9,     -999,9,     -999,9,     -999,     -999,9,     -999,     -999,9,     -999,1,     -999,1,     -999,1,     -999,1,     -999,1,     -999,1,     -999,1,     -999,1,     -999,1,     -999,1,     -999,1,     -999,1,     -999,1
320620180309  ,S04P       ,108     ,  1,27         ,27         ,2,20180502,2353, -67.5001, -96.3323,     4601,    353.5,2.0713203689237005278,34.536226026786160,2,  34.5352,2,184.81388412786629,3, 184.4982,3,    181.2,2,     74.4,2,    34.78,2,     0.00,2,     2.35,2,    1.162,2,    0.606,2,   0.4900,3,   2255.7,2,  2334.04,2,   7.5434,2,    25.02,     -999,9,     -999,9,   2.0730,2,     -999,9,     -999,9,     -999,     -999,9,     -999,9,     -999,9,     -999,9,    0.062,1,    4.639,1,    0.143,1,  23.7800,2,     -999,9,20180503,0149, -67.5001, -96.3333,     -999,9,     -999,9,-999          ,9,     -999,9,     -999,9,     -999,     -999,9,     -999,     -999,9,     -999,9,     -999,9,     -999,9,     -999,9,     -999,9,     -999,9,     -999,9,     -999,9,     -999,9,     -999,9,     -999,9,     -999,9,     -999,9
320620180309  ,S04P       ,108     ,  1,26         ,38         ,2,20180502,2353, -67.5001, -96.3323,     4601,    404.1,2.0892879949556890651,34.572215398791855,2,  34.5709,2,181.11070274676945,3, 179.7001,2,    178.5,2,     76.5,2,    34.49,2,     0.00,2,     2.35,2,     -999,9,     -999,9,     -999,9,   2257.6,2,  2338.48,2,   7.5456,2,    25.05,     -999,9,     -999,9,   2.0891,2,     -999,9,     -999,9,     -999,     -999,9,     -999,9,     -999,9,     -999,9,    0.061,1,    4.639,1,    0.139,1,     -999,9,     -999,9,20180503,0147, -67.5001, -96.3334,     -999,9,     -999,9,-999          ,9,     -999,9,     -999,9,     -999,     -999,9,     -999,     -999,9,     -999,1,     -999,1,     -999,1,     -999,1,     -999,1,     -999,1,     -999,1,     -999,1,     -999,1,     -999,1,     -999,1,     -999,1,     -999,1
320620180309  ,S04P       ,108     ,  1,25         ,25         ,2,20180502,2353, -67.5001, -96.3323,     4601,    453.4,2.1408080058223792896,34.606206633799871,2,  34.6054,2,178.31725617673737,3, 176.4993,2,    175.0,2,     78.7,2,    34.26,2,     0.00,2,     2.31,2,    0.689,2,    0.360,2,   0.2000,2,   2258.5,2,  2339.83,2,   7.5489,6,    25.02,     -999,9,     -999,9,   2.1407,2,     -999,9,     -999,9,     -999,     -999,9,     -999,9,     -999,9,     -999,9,    0.063,1,    4.641,1,    0.144,1,  22.7300,2,     -999,9,20180503,0144, -67.5001, -96.3333,     -999,9,     -999,9,-999          ,9,     -999,9,     -999,9,     -999,     -999,9,     -999,     -999,9,     -999,9,     -999,9,     -999,9,     -999,9,     -999,9,     -999,9,     -999,9,     -999,9,     -999,9,     -999,9,     -999,9,     -999,9,     -999,9
320620180309  ,S04P       ,108     ,  1,24         ,24         ,2,20180502,2353, -67.5001, -96.3323,     4601,    504.0,2.1408531345121493139,34.633297408205848,2,  34.6323,2,177.46337804242631,3, 174.8987,2,    174.6,2,     80.7,2,    33.90,2,     0.00,2,     2.30,2,     -999,9,     -999,9,     -999,9,   2258.2,6,  2344.02,2,   7.5553,2,    25.03,     -999,9,     -999,9,   2.1407,2,     -999,9,     -999,9,     -999,     -999,9,     -999,9,     -999,9,     -999,9,    0.062,1,    4.641,1,    0.140,1,     -999,9,     -999,9,20180503,0142, -67.5001, -96.3333,     -999,9,     -999,9,-999          ,9,     -999,9,     -999,9,     -999,     -999,9,     -999,     -999,9,     -999,1,     -999,1,     -999,1,     -999,1,     -999,1,     -999,1,     -999,1,     -999,1,     -999,1,     -999,1,     -999,1,     -999,1,     -999,1
320620180309  ,S04P       ,108     ,  1,23         ,23         ,2,20180502,2353, -67.5001, -96.3323,     4601,    605.7,2.1052152582821053173,34.671064919138757,2,  34.6703,2,178.06983613058708,3, 176.2982,2,    175.9,2,     83.4,2,    33.23,2,     0.00,2,     2.25,2,    0.392,2,    0.203,2,   0.0800,3,   2257.9,2,  2345.64,2,   7.5658,2,    25.02,     -999,9,     -999,9,   2.1051,2,     -999,9,     -999,9,     -999,     -999,9,     -999,9,     -999,9,     -999,9,    0.062,1,    4.641,1,    0.135,1,  22.4500,2,     -999,9,20180503,0139, -67.5001, -96.3332,     -999,9,     -999,9,-999          ,9,     -999,9,     -999,9,     -999,     -999,9,     -999,     -999,9,     -999,9,     -999,9,     -999,9,     -999,9,     -999,9,     -999,9,     -999,9,     -999,9,     -999,9,     -999,9,     -999,9,     -999,9,     -999,9
320620180309  ,S04P       ,108     ,  1,22         ,37         ,2,20180502,2353, -67.5001, -96.3323,     4601,    706.7,2.0426350385276297317,34.694150502460054,2,  34.6941,2,180.04355040325635,2, 178.8954,2,    178.5,2,     85.3,2,    32.70,2,     0.00,2,     2.23,2,     -999,9,     -999,9,     -999,9,     -999,9,     -999,9,     -999,9,     -999,     -999,9,     -999,9,   2.0423,2,     -999,9,     -999,9,     -999,     -999,9,     -999,9,     -999,9,     -999,9,    0.061,1,    4.641,1,    0.134,1,     -999,9,     -999,9,20180503,0136, -67.5001, -96.3330,     -999,9,     -999,9,-999          ,9,     -999,9,     -999,9,     -999,     -999,9,     -999,     -999,9,     -999,1,     -999,1,     -999,1,     -999,1,     -999,1,     -999,1,     -999,1,     -999,1,     -999,1,     -999,1,     -999,1,     -999,1,     -999,1
320620180309  ,S04P       ,108     ,  1,21         ,21         ,2,20180502,2353, -67.5001, -96.3323,     4601,    808.0,1.9688737629452328637,34.709305699425784,2,  34.7096,2,182.16713577385241,2, 181.5952,2,    181.9,2,     87.3,2,    32.35,2,     0.00,2,     2.22,2,    0.259,2,    0.145,2,   0.0000,2,   2257.7,2,  2351.27,2,   7.5799,2,    25.04,     -999,9,     -999,9,   1.9687,2,     -999,9,     -999,9,     -999,     -999,9,     -999,9,     -999,9,     -999,9,    0.062,1,    4.642,1,    0.133,1,  20.9500,2,     -999,9,20180503,0133, -67.5001, -96.3328,     -999,9,     -999,9,-999          ,9,     -999,9,     -999,9,     -999,     -999,9,     -999,     -999,9,     -999,9,     -999,9,     -999,9,     -999,9,     -999,9,     -999,9,     -999,9,     -999,9,     -999,9,     -999,9,     -999,9,     -999,9,     -999,9
320620180309  ,S04P       ,108     ,  1,20         ,20         ,2,20180502,2353, -67.5001, -96.3323,     4601,    910.5,1.8887537727153298484,34.719767482586924,2,  34.7198,2,184.66023628740356,2, 184.5011,2,    184.9,2,     89.1,2,    32.09,2,     0.00,2,     2.19,2,     -999,9,     -999,9,     -999,9,     -999,9,     -999,9,     -999,9,     -999,     -999,9,     -999,9,   1.8878,2,     -999,9,     -999,9,     -999,     -999,9,     -999,9,     -999,9,     -999,9,    0.061,1,    4.643,1,    0.132,1,     -999,9,     -999,9,20180503,0128, -67.5001, -96.3328,     -999,9,     -999,9,-999          ,9,     -999,9,     -999,9,     -999,     -999,9,     -999,     -999,9,     -999,1,     -999,1,     -999,1,     -999,1,     -999,1,     -999,1,     -999,1,     -999,1,     -999,1,     -999,1,     -999,1,     -999,1,     -999,1
320620180309  ,S04P       ,108     ,  1,19         ,19         ,2,20180502,2353, -67.5001, -96.3323,     4601,   1012.1,1.8156303006033045477,34.725460736824417,2,  34.7249,2,186.48130476281864,2, 186.5000,2,    187.0,2,     90.8,2,    31.92,2,     0.00,2,     2.19,2,    0.215,2,    0.113,2,   0.0800,3,   2257.0,2,  2353.22,2,   7.5891,2,    25.02,     -999,9,     -999,9,   1.8158,2,     -999,9,     -999,9,     -999,     -999,9,     -999,9,     -999,9,     -999,9,    0.062,1,    4.643,1,    0.132,1,  20.7700,2,     -999,9,20180503,0125, -67.5001, -96.3330,     -999,9,     -999,9,-999          ,9,     -999,9,     -999,9,     -999,     -999,9,     -999,     -999,9,     -999,9,     -999,9,     -999,9,     -999,9,     -999,9,     -999,9,     -999,9,     -999,9,     -999,9,     -999,9,     -999,9,     -999,9,     -999,9
320620180309  ,S04P       ,108     ,  1,18         ,18         ,2,20180502,2353, -67.5001, -96.3323,     4601,   1113.1,1.7425061827136167913,34.728898521161874,2,  34.7294,2,188.19220526437385,2, 188.4977,2,    188.7,2,     93.0,2,    31.81,2,     0.00,2,     2.16,2,     -999,9,     -999,9,     -999,9,     -999,9,     -999,9,     -999,9,     -999,     -999,9,     -999,9,   1.7426,2,     -999,9,     -999,9,     -999,     -999,9,     -999,9,     -999,9,     -999,9,    0.060,1,    4.643,1,    0.133,1,     -999,9,     -999,9,20180503,0122, -67.5001, -96.3329,     -999,9,     -999,9,-999          ,9,     -999,9,     -999,9,     -999,     -999,9,     -999,     -999,9,     -999,1,     -999,1,     -999,1,     -999,1,     -999,1,     -999,1,     -999,1,     -999,1,     -999,1,     -999,1,     -999,1,     -999,1,     -999,1
320620180309  ,S04P       ,108     ,  1,17         ,17         ,2,20180502,2353, -67.5001, -96.3323,     4601,   1213.9,1.6601148053807834870,34.731092342522381,2,  34.7317,2,189.74842878023648,2, 190.2022,2,    190.3,2,     95.8,2,    31.77,2,     0.00,2,     2.16,2,     -999,9,     -999,9,     -999,9,     -999,9,     -999,9,     -999,9,     -999,     -999,9,     -999,9,   1.6596,2,     -999,9,     -999,9,     -999,     -999,9,     -999,9,     -999,9,     -999,9,    0.061,1,    4.643,1,    0.129,1,     -999,9,     -999,9,20180503,0119, -67.5001, -96.3329,     -999,9,     -999,9,-999          ,9,     -999,9,     -999,9,     -999,     -999,9,     -999,     -999,9,     -999,9,     -999,9,     -999,9,     -999,9,     -999,9,     -999,9,     -999,9,     -999,9,     -999,9,     -999,9,     -999,9,     -999,9,     -999,9
320620180309  ,S04P       ,108     ,  1,16         ,16         ,2,20180502,2353, -67.5001, -96.3323,     4601,   1318.1,1.5715733218051279874,34.731567533372179,2,  34.7321,2,191.45083879853817,2, 191.6993,2,    192.0,2,     98.4,2,    31.82,2,     0.00,2,     2.16,2,    0.164,2,    0.084,2,   0.0500,3,   2257.5,2,  2358.31,2,   7.5952,2,    25.01,     -999,9,     -999,9,   1.5719,2,     -999,9,     -999,9,     -999,     -999,9,     -999,9,     -999,9,     -999,9,    0.061,1,    4.644,1,    0.129,1,  19.8200,2,     -999,9,20180503,0116, -67.5001, -96.3330,     -999,9,     -999,9,-999          ,9,     -999,9,     -999,9,     -999,     -999,9,     -999,     -999,9,     -999,1,     -999,1,     -999,1,     -999,1,     -999,1,     -999,1,     -999,1,     -999,1,     -999,1,     -999,1,     -999,1,     -999,1,     -999,1