BOTTLE,20240515CCHHYDRO
EXPOCODE,SECT_ID,STNNBR,CASTNO,SAMPNO,BTLNBR,BTLNBR_FLAG_W,DATE,TIME,LATITUDE,LONGITUDE,DEPTH,CTDPRS,CTDTMP,CTDSAL,CTDSAL_FLAG_W,SALNTY,SALNTY_FLAG_W,CTDOXY,CTDOXY_FLAG_W,CTDOPTOXY,CTDOPTOXY_FLAG_W,OXYGEN,OXYGEN_FLAG_W,SILCAT,SILCAT_FLAG_W,NITRAT,NITRAT_FLAG_W,NITRIT,NITRIT_FLAG_W,PHSPHT,PHSPHT_FLAG_W,CFC-11,CFC-11_FLAG_W,CFC-12,CFC-12_FLAG_W,SF6,SF6_FLAG_W,TCARBN,TCARBN_FLAG_W,ALKALI,ALKALI_FLAG_W,PH_TOT,PH_TOT_FLAG_W,PH_TMP,DOC,DOC_FLAG_W,HELIUM,HELIUM_FLAG_W,REFTMP,REFTMP_FLAG_W,DELC13,DELC13_FLAG_W,DELC14,DELC14_FLAG_W,C14ERR,POC,POC_FLAG_W,TDN,TDN_FLAG_W,TON,TON_FLAG_W,NEON,NEON_FLAG_W,CTDFLUOR,CTDFLUOR_FLAG_W,CTDXMISS,CTDXMISS_FLAG_W,CTDBETA700,CTDBETA700_FLAG_W,N2O,N2O_FLAG_W,ARGON,ARGON_FLAG_W,BTL_DATE,BTL_TIME,BTL_LAT,BTL_LON,KRYPTON,KRYPTON_FLAG_W,XENON,XENON_FLAG_W,HPLC,HPLC_FLAG_W,HE3_HE4_RATIO,HE3_HE4_RATIO_FLAG_W,Nd_143_144_D_EPSILON_BOTTLE,Nd_143_144_D_EPSILON_BOTTLE_FLAG_W,Nd_143_144_D_EPSILON_BOTTLE_ERROR,Nd_143_144_D_RATIO_BOTTLE,Nd_143_144_D_RATIO_BOTTLE_FLAG_W,Nd_143_144_D_RATIO_BOTTLE_ERROR,Nd_D_CONC,Nd_D_CONC_FLAG_W,La_D_CONC_BOTTLE,La_D_CONC_BOTTLE_FLAG_W,Ce_D_CONC_BOTTLE,Ce_D_CONC_BOTTLE_FLAG_W,Pr_D_CONC_BOTTLE,Pr_D_CONC_BOTTLE_FLAG_W,Sm_D_CONC_BOTTLE,Sm_D_CONC_BOTTLE_FLAG_W,Eu_D_CONC_BOTTLE,Eu_D_CONC_BOTTLE_FLAG_W,Gd_D_CONC_BOTTLE,Gd_D_CONC_BOTTLE_FLAG_W,Tb_D_CONC_BOTTLE,Tb_D_CONC_BOTTLE_FLAG_W,Dy_D_CONC_BOTTLE,Dy_D_CONC_BOTTLE_FLAG_W,Ho_D_CONC_BOTTLE,Ho_D_CONC_BOTTLE_FLAG_W,Er_D_CONC_BOTTLE,Er_D_CONC_BOTTLE_FLAG_W,Tm_D_CONC_BOTTLE,Tm_D_CONC_BOTTLE_FLAG_W,Yb_D_CONC_BOTTLE,Yb_D_CONC_BOTTLE_FLAG_W,Lu_D_CONC_BOTTLE,Lu_D_CONC_BOTTLE_FLAG_W
,,,,,,,,,,,METERS,DBAR,ITS-90,PSS-78,,PSS-78,,UMOL/KG,,UMOL/KG,,UMOL/KG,,UMOL/KG,,UMOL/KG,,UMOL/KG,,UMOL/KG,,PMOL/KG,,PMOL/KG,,FMOL/KG,,UMOL/KG,,UMOL/KG,,,,DEG C,UMOL/KG,,NMOL/L,,DEG C,,/MILLE,,/MILLE,,/MILLE,UG/KG,,UMOL/KG,,UMOL/KG,,NMOL/L,,VOLTS,,VOLTS,,VOLTS,,NMOL/KG,,UMOL/L,,,,,,NMOL/L,,NMOL/L,,,,,,10000,,10000,,,,PMOL/KG,,PMOL/L,,PMOL/L,,PMOL/L,,PMOL/L,,PMOL/L,,PMOL/L,,PMOL/L,,PMOL/L,,PMOL/L,,PMOL/L,,PMOL/L,,PMOL/L,,PMOL/L,
320620180309  ,S04P       ,6       ,  1,15         ,15         ,2,20180318,0900, -68.8133, 171.3941,     3167,   1149.0,0.8574027777777777359,34.713461684309294,2,  34.7135,2,200.42907682329155,2, 198.9951,2,    200.5,2,    120.8,2,    32.30,2,     0.00,2,     2.23,2,    0.128,2,    0.070,2,   0.0200,2,   2265.3,2,  2361.06,2,   7.5914,2,    24.94,     -999,9,     -999,9,   0.8565,2,     -999,9,     -999,9,     -999,     -999,9,     -999,9,     -999,9,     -999,9,    0.061,1,    4.685,1,    0.129,1,  20.4900,2,     -999,9,20180318,0952, -68.8136, 171.3921,     -999,9,     -999,9,-999          ,9,     -999,9,     -999,9,     -999,     -999,9,     -999,     -999,9,     -999,9,     -999,9,     -999,9,     -999,9,     -999,9,     -999,9,     -999,9,     -999,9,     -999,9,     -999,9,     -999,9,     -999,9,     -999,9
320620180309  ,S04P       ,6       ,  1,14         ,14         ,2,20180318,0900, -68.8133, 171.3941,     3167,   1250.1,0.8046805555555555101,34.711558634325918,2,  34.7125,2,202.45389880012800,2, 201.1978,2,    201.7,2,    121.5,2,    32.37,2,     0.00,2,     2.25,2,     -999,9,     -999,9,     -999,9,   2265.4,2,  2362.73,2,   7.5922,2,    24.94,     -999,9,     -999,9,   0.8038,2,     -999,9,     -999,9,     -999,     -999,9,     -999,9,     -999,9,     -999,9,    0.061,1,    4.684,1,    0.129,1,     -999,9,     -999,9,20180318,0949, -68.8136, 171.3920,     -999,9,     -999,9,-999          ,9,     -999,9,     -999,9,     -999,     -999,9,     -999,     -999,9,     -999,1,     -999,1,     -999,1,     -999,1,     -999,1,     -999,1,     -999,1,     -999,1,     -999,1,     -999,1,     -999,1,     -999,1,     -999,1
320620180309  ,S04P       ,6       ,  1,13         ,13         ,2,20180318,0900, -68.8133, 171.3941,     3167,   1352.9,0.7592555555555554614,34.709800776361767,2,  34.7107,2,202.83348772610026,2, 202.5011,2,    202.9,2,    123.1,2,    32.45,2,     0.00,2,     2.25,2,    0.129,2,    0.069,2,   0.0100,2,   2258.7,3,  2362.60,2,   7.5925,2,    24.94,     -999,9,     -999,1,   0.7586,2,     -999,9,     -999,9,     -999,     -999,9,     -999,9,     -999,9,     -999,1,    0.060,1,    4.685,1,    0.130,1,  20.0900,2,     -999,1,20180318,0946, -68.8136, 171.3920,     -999,1,     -999,1,-999          ,9,     -999,1,     -999,9,     -999,     -999,9,     -999,     -999,9,     -999,9,     -999,9,     -999,9,     -999,9,     -999,9,     -999,9,     -999,9,     -999,9,     -999,9,     -999,9,     -999,9,     -999,9,     -999,9
320620180309  ,S04P       ,6       ,  1,12         ,12         ,2,20180318,0900, -68.8133, 171.3941,     3167,   1453.7,0.7221972222222222682,34.708404510332151,2,  34.7092,2,203.66844898144288,2, 203.4985,2,    203.6,2,    123.8,2,    32.48,2,     0.00,2,     2.25,2,     -999,9,     -999,9,     -999,9,   2264.9,2,  2363.35,2,   7.5934,2,    24.96,     -999,9,     -999,9,   0.7214,2,     -999,9,     -999,9,     -999,     -999,9,     -999,9,     -999,9,     -999,9,    0.061,1,    4.686,1,    0.138,1,     -999,9,     -999,9,20180318,0944, -68.8136, 171.3920,     -999,9,     -999,9,-999          ,9,     -999,9,     -999,9,     -999,     -999,9,     -999,     -999,9,     -999,1,     -999,1,     -999,1,     -999,1,     -999,1,     -999,1,     -999,1,     -999,1,     -999,1,     -999,1,     -999,1,     -999,1,     -999,1
320620180309  ,S04P       ,6       ,  1,11         ,11         ,2,20180318,0900, -68.8133, 171.3941,     3167,   1556.3,0.6834916666666664975,34.707048924666680,2,  34.7084,2,204.65833001101169,2, 204.5970,2,    204.7,2,    124.1,2,    32.51,2,     0.00,2,     2.25,2,    0.149,2,    0.094,2,   0.1100,2,   2266.3,6,  2362.83,2,   7.5933,2,    24.95,     -999,9,     -999,9,   0.6827,2,     -999,9,     -999,9,     -999,     -999,9,     -999,9,     -999,9,     -999,9,    0.060,1,    4.686,1,    0.129,1,  20.5800,2,     -999,9,20180318,0941, -68.8136, 171.3919,     -999,9,     -999,9,-999          ,9,     -999,9,     -999,9,     -999,     -999,9,     -999,     -999,9,     -999,9,     -999,9,     -999,9,     -999,9,     -999,9,     -999,9,     -999,9,     -999,9,     -999,9,     -999,9,     -999,9,     -999,9,     -999,9
320620180309  ,S04P       ,6       ,  1,10         ,10         ,2,20180318,0900, -68.8133, 171.3941,     3167,   1656.9,0.6384277777777778162,34.705349279178229,2,  34.7060,2,205.77838240356377,2, 206.0991,2,    205.7,2,    126.2,2,    32.54,2,     0.00,2,     2.25,2,    0.172,2,    0.101,2,   0.1500,2,   2264.7,2,  2362.77,2,   7.5932,2,    24.96,     -999,9,     -999,1,   0.6387,2,     -999,9,     -999,9,     -999,     -999,9,     -999,9,     -999,9,     -999,1,    0.060,1,    4.685,1,    0.128,1,  20.0500,2,     -999,1,20180318,0938, -68.8136, 171.3916,     -999,1,     -999,1,-999          ,9,     -999,1,     -999,9,     -999,     -999,9,     -999,     -999,9,     -999,1,     -999,1,     -999,1,     -999,1,     -999,1,     -999,1,     -999,1,     -999,1,     -999,1,     -999,1,     -999,1,     -999,1,     -999,1
320620180309  ,S04P       ,6       ,  1,9          ,9          ,2,20180318,0900, -68.8133, 171.3941,     3167,   1759.5,0.5983250000000001068,34.704230272283340,2,  34.7060,2,206.61610800693140,2, 207.8002,2,    206.9,2,    126.6,2,    32.56,2,     0.00,2,     2.25,2,    0.193,2,    0.104,2,   0.0000,2,   2264.4,2,  2362.69,2,   7.5962,2,    24.97,     -999,9,     -999,9,   0.5976,2,     -999,9,     -999,9,     -999,     -999,9,     -999,9,     -999,9,     -999,9,    0.061,1,    4.686,1,    0.127,1,  19.9800,2,     -999,9,20180318,0935, -68.8136, 171.3913,     -999,9,     -999,9,-999          ,9,     -999,9,     -999,9,     -999,     -999,9,     -999,     -999,9,     -999,9,     -999,9,     -999,9,     -999,9,     -999,9,     -999,9,     -999,9,     -999,9,     -999,9,     -999,9,     -999,9,     -999,9,     -999,9
320620180309  ,S04P       ,6       ,  1,8          ,8          ,2,20180318,0900, -68.8133, 171.3941,     3167,   1891.0,0.5477638888888888280,34.702359461612197,2,  34.7029,2,208.13260550532885,2, 209.1949,2,    208.4,2,    127.4,2,    32.59,2,     0.00,2,     2.25,2,    0.233,2,    0.136,2,   0.0100,2,   2264.9,2,  2363.10,2,   7.5935,2,    24.95,     -999,9,     -999,9,   0.5472,2,     -999,9,     -999,9,     -999,     -999,9,     -999,9,     -999,9,     -999,9,    0.061,1,    4.685,1,    0.148,1,  20.1400,2,     -999,9,20180318,0931, -68.8136, 171.3912,     -999,9,     -999,9,-999          ,9,     -999,9,     -999,9,     -999,     -999,9,     -999,     -999,9,     -999,1,     -999,1,     -999,1,     -999,1,     -999,1,     -999,1,     -999,1,     -999,1,     -999,1,     -999,1,     -999,1,     -999,1,     -999,1
320620180309  ,S04P       ,6       ,  1,7          ,7          ,2,20180318,0900, -68.8133, 171.3941,     3167,   2094.6,0.4700416666666666909,34.699935416466680,2,  34.7009,2,210.94052967842643,2, 211.2020,2,    210.4,2,    127.9,2,    32.64,2,     0.00,2,     2.24,2,    0.303,2,    0.174,2,   0.0900,2,   2265.6,2,  2364.23,2,   7.5926,2,    24.96,     -999,9,     -999,1,   0.4696,2,     -999,9,     -999,9,     -999,     -999,9,     -999,9,     -999,9,     -999,1,    0.061,1,    4.685,1,    0.126,1,  20.0500,2,     -999,1,20180318,0926, -68.8136, 171.3917,     -999,1,     -999,1,-999          ,9,     -999,1,     -999,9,     -999,     -999,9,     -999,     -999,9,     -999,9,     -999,9,     -999,9,     -999,9,     -999,9,     -999,9,     -999,9,     -999,9,     -999,9,     -999,9,     -999,9,     -999,9,     -999,9
320620180309  ,S04P       ,6       ,  1,6          ,6          ,2,20180318,0900, -68.8133, 171.3941,     3167,   2299.1,0.4026861111111111335,34.697945104180100,2,  34.6976,2,212.83898268431611,2, 213.6005,2,    212.7,2,    128.8,2,    32.65,2,     0.00,2,     2.26,2,    0.375,2,    0.210,2,   0.0800,2,   2264.1,2,  2362.90,2,   7.5924,2,    24.96,     -999,9,     -999,9,   0.4018,2,     -999,9,     -999,9,     -999,     -999,9,     -999,9,     -999,9,     -999,9,    0.060,1,    4.685,1,    0.129,1,  19.8800,2,     -999,9,20180318,0922, -68.8135, 171.3919,     -999,9,     -999,9,-999          ,9,     -999,9,     -999,9,     -999,     -999,9,     -999,     -999,9,     -999,1,     -999,1,     -999,1,     -999,1,     -999,1,     -999,1,     -999,1,     -999,1,     -999,1,     -999,1,     -999,1,     -999,1,     -999,1
320620180309  ,S04P       ,6       ,  1,5          ,5          ,2,20180318,0900, -68.8133, 171.3941,     3167,   2502.6,0.3291027777777778551,34.694833962087259,2,  34.6947,2,215.18730468402364,2, 215.8942,2,    215.1,2,    127.1,2,    32.63,2,     0.00,2,     2.25,2,    0.531,2,    0.292,2,   0.3300,2,   2264.2,2,  2361.73,2,   7.5916,2,    24.97,     -999,9,     -999,1,   0.3289,2,     -999,9,     -999,9,     -999,     -999,9,     -999,9,     -999,9,     -999,1,    0.061,1,    4.685,1,    0.129,1,  19.9100,2,     -999,1,20180318,0917, -68.8135, 171.3927,     -999,1,     -999,1,-999          ,9,     -999,1,     -999,9,     -999,     -999,9,     -999,     -999,9,     -999,9,     -999,9,     -999,9,     -999,9,     -999,9,     -999,9,     -999,9,     -999,9,     -999,9,     -999,9,     -999,9,     -999,9,     -999,9
320620180309  ,S04P       ,6       ,  1,4          ,4          ,2,20180318,0900, -68.8133, 171.3941,     3167,   2708.0,0.2599055555555555563,34.691670038536081,2,  34.6919,2,217.98225787699366,2, 218.3995,2,    217.8,2,    124.3,2,    32.59,2,     0.00,2,     2.25,2,    0.717,2,    0.391,2,   0.3700,2,   2264.2,2,  2361.61,2,   7.5913,2,    24.95,     -999,9,     -999,1,   0.2595,2,     -999,9,     -999,9,     -999,     -999,9,     -999,9,     -999,9,     -999,1,    0.061,1,    4.684,1,    0.128,1,  19.7700,2,     -999,1,20180318,0912, -68.8134, 171.3937,     -999,1,     -999,1,-999          ,9,     -999,1,     -999,9,     -999,     -999,9,     -999,     -999,9,     -999,1,     -999,1,     -999,1,     -999,1,     -999,1,     -999,1,     -999,1,     -999,1,     -999,1,     -999,1,     -999,1,     -999,1,     -999,1
320620180309  ,S04P       ,6       ,  1,3          ,3          ,2,20180318,0900, -68.8133, 171.3941,     3167,   2911.0,0.2074777777777777610,34.689808205702938,2,  34.6880,2,220.33591138061459,2, 219.8030,2,    220.1,2,    122.5,2,    32.54,2,     0.00,2,     2.24,2,    0.919,2,    0.493,2,   0.3800,2,   2263.2,2,  2360.39,2,   7.5906,2,    24.96,     -999,9,     -999,1,   0.2071,2,     -999,9,     -999,9,     -999,     -999,9,     -999,9,     -999,9,     -999,1,    0.061,1,    4.683,1,    0.129,1,  20.0900,2,     -999,1,20180318,0907, -68.8134, 171.3939,     -999,1,     -999,1,-999          ,9,     -999,1,     -999,9,     -999,     -999,9,     -999,     -999,9,     -999,1,     -999,1,     -999,1,     -999,1,     -999,1,     -999,1,     -999,1,     -999,1,     -999,1,     -999,1,     -999,1,     -999,1,     -999,1
320620180309  ,S04P       ,6       ,  1,2          ,2          ,2,20180318,0900, -68.8133, 171.3941,     3167,   3061.0,0.1538416666666666821,34.687034685777618,2,  34.6874,2,223.01869537723752,2, 220.1005,2,    223.0,2,    115.6,2,    32.45,2,     0.00,2,     2.23,2,    1.245,6,    0.676,6,   0.5700,6,   2262.7,2,  2358.68,2,   7.5873,2,    24.96,     -999,9,     -999,1,   0.1532,2,     -999,9,     -999,9,     -999,     -999,9,     -999,9,     -999,9,     -999,1,    0.061,1,    4.681,1,    0.132,1,  20.2100,6,     -999,1,20180318,0904, -68.8133, 171.3942,     -999,1,     -999,1,-999          ,9,     -999,1,     -999,9,     -999,     -999,9,     -999,     -999,9,     -999,1,     -999,1,     -999,1,     -999,1,     -999,1,     -999,1,     -999,1,     -999,1,     -999,1,     -999,1,     -999,1,     -999,1,     -999,1
320620180309  ,S04P       ,6       ,  1,1          ,1          ,2,20180318,0900, -68.8133, 171.3941,     3167,   3212.8,0.0803166666666666473,34.689304354131849,2,  34.6890,2,226.87078948833096,2, 222.7002,3,    226.9,2,    111.3,2,    32.13,2,     0.00,2,     2.21,2,    1.518,2,    0.824,2,   0.7100,2,   2261.8,6,  2357.67,2,   7.5873,2,    24.96,     -999,9,     -999,1,   0.0782,2,     -999,9,     -999,9,     -999,     -999,9,     -999,9,     -999,9,     -999,1,    0.061,1,    4.679,1,    0.136,1,  20.0400,2,     -999,1,20180318,0900, -68.8133, 171.3941,     -999,1,     -999,1,-999          ,9,     -999,1,     -999,9,     -999,     -999,9,     -999,     -999,9,     -999,1,     -999,1,     -999,1,     -999,1,     -999,1,     -999,1,     -999,1,     -999,1,     -999,1,     -999,1,     -999,1,     -999,1,     -999,1