BOTTLE,20240515CCHHYDRO
EXPOCODE,SECT_ID,STNNBR,CASTNO,SAMPNO,BTLNBR,BTLNBR_FLAG_W,DATE,TIME,LATITUDE,LONGITUDE,DEPTH,CTDPRS,CTDTMP,CTDSAL,CTDSAL_FLAG_W,SALNTY,SALNTY_FLAG_W,CTDOXY,CTDOXY_FLAG_W,CTDOPTOXY,CTDOPTOXY_FLAG_W,OXYGEN,OXYGEN_FLAG_W,SILCAT,SILCAT_FLAG_W,NITRAT,NITRAT_FLAG_W,NITRIT,NITRIT_FLAG_W,PHSPHT,PHSPHT_FLAG_W,CFC-11,CFC-11_FLAG_W,CFC-12,CFC-12_FLAG_W,SF6,SF6_FLAG_W,TCARBN,TCARBN_FLAG_W,ALKALI,ALKALI_FLAG_W,PH_TOT,PH_TOT_FLAG_W,PH_TMP,DOC,DOC_FLAG_W,HELIUM,HELIUM_FLAG_W,REFTMP,REFTMP_FLAG_W,DELC13,DELC13_FLAG_W,DELC14,DELC14_FLAG_W,C14ERR,POC,POC_FLAG_W,TDN,TDN_FLAG_W,TON,TON_FLAG_W,NEON,NEON_FLAG_W,CTDFLUOR,CTDFLUOR_FLAG_W,CTDXMISS,CTDXMISS_FLAG_W,CTDBETA700,CTDBETA700_FLAG_W,N2O,N2O_FLAG_W,ARGON,ARGON_FLAG_W,BTL_DATE,BTL_TIME,BTL_LAT,BTL_LON,KRYPTON,KRYPTON_FLAG_W,XENON,XENON_FLAG_W,HPLC,HPLC_FLAG_W,HE3_HE4_RATIO,HE3_HE4_RATIO_FLAG_W,Nd_143_144_D_EPSILON_BOTTLE,Nd_143_144_D_EPSILON_BOTTLE_FLAG_W,Nd_143_144_D_EPSILON_BOTTLE_ERROR,Nd_143_144_D_RATIO_BOTTLE,Nd_143_144_D_RATIO_BOTTLE_FLAG_W,Nd_143_144_D_RATIO_BOTTLE_ERROR,Nd_D_CONC,Nd_D_CONC_FLAG_W,La_D_CONC_BOTTLE,La_D_CONC_BOTTLE_FLAG_W,Ce_D_CONC_BOTTLE,Ce_D_CONC_BOTTLE_FLAG_W,Pr_D_CONC_BOTTLE,Pr_D_CONC_BOTTLE_FLAG_W,Sm_D_CONC_BOTTLE,Sm_D_CONC_BOTTLE_FLAG_W,Eu_D_CONC_BOTTLE,Eu_D_CONC_BOTTLE_FLAG_W,Gd_D_CONC_BOTTLE,Gd_D_CONC_BOTTLE_FLAG_W,Tb_D_CONC_BOTTLE,Tb_D_CONC_BOTTLE_FLAG_W,Dy_D_CONC_BOTTLE,Dy_D_CONC_BOTTLE_FLAG_W,Ho_D_CONC_BOTTLE,Ho_D_CONC_BOTTLE_FLAG_W,Er_D_CONC_BOTTLE,Er_D_CONC_BOTTLE_FLAG_W,Tm_D_CONC_BOTTLE,Tm_D_CONC_BOTTLE_FLAG_W,Yb_D_CONC_BOTTLE,Yb_D_CONC_BOTTLE_FLAG_W,Lu_D_CONC_BOTTLE,Lu_D_CONC_BOTTLE_FLAG_W
,,,,,,,,,,,METERS,DBAR,ITS-90,PSS-78,,PSS-78,,UMOL/KG,,UMOL/KG,,UMOL/KG,,UMOL/KG,,UMOL/KG,,UMOL/KG,,UMOL/KG,,PMOL/KG,,PMOL/KG,,FMOL/KG,,UMOL/KG,,UMOL/KG,,,,DEG C,UMOL/KG,,NMOL/L,,DEG C,,/MILLE,,/MILLE,,/MILLE,UG/KG,,UMOL/KG,,UMOL/KG,,NMOL/L,,VOLTS,,VOLTS,,VOLTS,,NMOL/KG,,UMOL/L,,,,,,NMOL/L,,NMOL/L,,,,,,10000,,10000,,,,PMOL/KG,,PMOL/L,,PMOL/L,,PMOL/L,,PMOL/L,,PMOL/L,,PMOL/L,,PMOL/L,,PMOL/L,,PMOL/L,,PMOL/L,,PMOL/L,,PMOL/L,,PMOL/L,
320620180309  ,P18        ,101     ,  1,36         ,36         ,2,20180430,1850, -68.4847,-102.9857,     4299,      1.3,-1.8241481411857063399,33.776439148186221,2,  33.7741,2,341.74337546409544,2, 342.4036,2,    342.7,2,     36.5,2,    25.79,2,     0.17,2,     1.77,2,    6.882,2,    3.399,2,   4.0600,3,   2173.4,2,  2288.45,2,   7.6541,6,    24.96,     -999,9,     -999,9,  -1.8229,2,1.38000000,2, -101.000,2,    0.002,     -999,9,     -999,9,     -999,9,     -999,9,    0.170,1,    4.584,1,    0.191,1,  16.6900,2,     -999,9,20180430,2050, -68.4735,-103.0034,     -999,9,     -999,9,-999          ,9,     -999,9,     -999,9,     -999,     -999,9,     -999,     -999,9,     -999,9,     -999,9,     -999,9,     -999,9,     -999,9,     -999,9,     -999,9,     -999,9,     -999,9,     -999,9,     -999,9,     -999,9,     -999,9
320620180309  ,P18        ,101     ,  1,35         ,35         ,2,20180430,1850, -68.4847,-102.9857,     4299,     24.8,-1.8270350287757433083,33.776560859721386,2,  33.7731,2,343.09117783516643,2, 342.4000,2,    342.3,2,     36.5,2,    25.78,2,     0.17,2,     1.78,2,    6.876,2,    3.372,2,   4.4700,3,   2171.6,6,  2287.03,2,   7.6580,2,    24.96,     -999,9,     -999,9,  -1.8266,2,     -999,9,     -999,9,     -999,     -999,9,     -999,9,     -999,9,     -999,9,    0.173,1,    4.585,1,    0.185,1,  16.3300,2,     -999,9,20180430,2048, -68.4736,-103.0029,     -999,9,     -999,9,-999          ,9,     -999,9,     -999,9,     -999,     -999,9,     -999,     -999,9,     -999,9,     -999,9,     -999,9,     -999,9,     -999,9,     -999,9,     -999,9,     -999,9,     -999,9,     -999,9,     -999,9,     -999,9,     -999,9
320620180309  ,P18        ,101     ,  1,34         ,34         ,2,20180430,1850, -68.4847,-102.9857,     4299,     49.8,-1.8262216374047188783,33.777409608719829,2,  33.7753,2,343.75405600964677,2, 342.4038,2,    342.4,2,     36.6,2,    25.80,2,     0.17,2,     1.81,2,     -999,9,     -999,9,     -999,9,   2174.6,2,  2289.66,2,   7.6543,2,    24.97,     -999,9,     -999,9,  -1.8257,2,     -999,9,     -999,9,     -999,     -999,9,     -999,9,     -999,9,     -999,9,    0.173,1,    4.584,1,    0.189,1,     -999,9,     -999,9,20180430,2046, -68.4738,-103.0025,     -999,9,     -999,9,-999          ,9,     -999,9,     -999,9,     -999,     -999,9,     -999,     -999,9,     -999,9,     -999,9,     -999,9,     -999,9,     -999,9,     -999,9,     -999,9,     -999,9,     -999,9,     -999,9,     -999,9,     -999,9,     -999,9
320620180309  ,P18        ,101     ,  1,33         ,33         ,2,20180430,1850, -68.4847,-102.9857,     4299,     75.1,-1.7046665571308443621,33.828097271013107,3,  33.8808,2,336.78112161397013,3, 333.0998,3,    321.8,2,     46.2,2,    27.68,2,     0.16,2,     1.93,2,    6.116,2,    3.044,2,   3.7200,3,   2188.8,2,  2292.10,2,   7.6314,2,    24.98,     -999,9,     -999,9,  -1.7111,2,     -999,9,     -999,9,     -999,     -999,9,     -999,9,     -999,9,     -999,9,    0.169,1,    4.585,1,    0.187,1,  17.8300,2,     -999,9,20180430,2044, -68.4739,-103.0021,     -999,9,     -999,9,-999          ,9,     -999,9,     -999,9,     -999,     -999,9,     -999,     -999,9,     -999,9,     -999,9,     -999,9,     -999,9,     -999,9,     -999,9,     -999,9,     -999,9,     -999,9,     -999,9,     -999,9,     -999,9,     -999,9
320620180309  ,P18        ,101     ,  1,32         ,32         ,2,20180430,1850, -68.4847,-102.9857,     4299,    100.6,-0.6316642443383652106,34.187613236787342,2,  34.1888,2,261.65768054740465,2, 260.5045,2,    260.3,2,     65.0,2,    32.51,2,     0.10,2,     2.19,2,     -999,9,     -999,9,     -999,9,     -999,9,     -999,9,     -999,9,     -999,     -999,9,     -999,9,  -0.6436,2,0.80000000,2, -125.140,2,    0.002,     -999,9,     -999,9,     -999,9,     -999,9,    0.072,1,    4.634,1,    0.148,1,     -999,9,     -999,9,20180430,2043, -68.4741,-103.0016,     -999,9,     -999,9,-999          ,9,     -999,9,     -999,9,     -999,     -999,9,     -999,     -999,9,     -999,9,     -999,9,     -999,9,     -999,9,     -999,9,     -999,9,     -999,9,     -999,9,     -999,9,     -999,9,     -999,9,     -999,9,     -999,9
320620180309  ,P18        ,101     ,  1,31         ,31         ,2,20180430,1850, -68.4847,-102.9857,     4299,    126.0,-0.2111064446752752566,34.258146264510756,2,  34.2569,2,244.72013353681419,2, 245.1996,2,    244.1,2,     68.0,2,    33.04,2,     0.04,2,     2.24,2,     -999,9,     -999,9,     -999,9,   2231.9,2,  2313.60,2,   7.5595,2,    24.94,     -999,9,     -999,9,  -0.2104,2,     -999,9,     -999,9,     -999,     -999,9,     -999,9,     -999,9,     -999,9,    0.067,1,    4.641,1,    0.145,1,     -999,9,     -999,9,20180430,2041, -68.4742,-103.0012,     -999,9,     -999,9,-999          ,9,     -999,9,     -999,9,     -999,     -999,9,     -999,     -999,9,     -999,9,     -999,9,     -999,9,     -999,9,     -999,9,     -999,9,     -999,9,     -999,9,     -999,9,     -999,9,     -999,9,     -999,9,     -999,9
320620180309  ,P18        ,101     ,  1,30         ,30         ,2,20180430,1850, -68.4847,-102.9857,     4299,    151.4,0.4852735560101529289,34.372325013557244,2,  34.3680,2,223.32603143122796,3, 223.0041,3,    220.5,2,     72.8,2,    33.69,2,     0.03,2,     2.28,2,    2.521,2,    1.305,2,   1.3100,3,   2241.9,2,  2322.13,2,   7.5493,2,    24.95,     -999,9,     -999,9,   0.4819,2,     -999,9,     -999,9,     -999,     -999,9,     -999,9,     -999,9,     -999,9,    0.066,1,    4.642,1,    0.141,1,  22.5200,2,     -999,9,20180430,2039, -68.4744,-103.0008,     -999,9,     -999,9,-999          ,9,     -999,9,     -999,9,     -999,     -999,9,     -999,     -999,9,     -999,9,     -999,9,     -999,9,     -999,9,     -999,9,     -999,9,     -999,9,     -999,9,     -999,9,     -999,9,     -999,9,     -999,9,     -999,9
320620180309  ,P18        ,101     ,  1,29         ,29         ,2,20180430,1850, -68.4847,-102.9857,     4299,    201.2,1.5010137984853182402,34.555733792648908,2,  34.5630,2,184.06512754310390,2, 185.9014,3,    182.3,2,     81.1,2,    34.40,2,     0.02,2,     2.31,2,     -999,9,     -999,9,     -999,9,     -999,9,     -999,9,     -999,9,     -999,     -999,9,     -999,9,   1.5017,2,0.56000000,2, -141.130,2,    0.002,     -999,9,     -999,9,     -999,9,     -999,9,    0.063,1,    4.643,1,    0.141,1,     -999,9,     -999,9,20180430,2037, -68.4746,-103.0003,     -999,9,     -999,9,-999          ,9,     -999,9,     -999,9,     -999,     -999,9,     -999,     -999,9,     -999,9,     -999,9,     -999,9,     -999,9,     -999,9,     -999,9,     -999,9,     -999,9,     -999,9,     -999,9,     -999,9,     -999,9,     -999,9
320620180309  ,P18        ,101     ,  1,28         ,28         ,2,20180430,1850, -68.4847,-102.9857,     4299,    252.5,1.8691097395572622286,34.641147233337179,2,  34.6403,2,172.89646710489708,2, 175.2017,2,    174.2,2,     84.1,2,    34.10,2,     0.00,2,     2.31,2,    0.601,2,    0.328,2,   0.1700,3,   2264.4,2,  2341.86,2,   7.5462,2,    24.97,     -999,9,     -999,9,   1.8691,2,     -999,9,     -999,9,     -999,     -999,9,     -999,9,     -999,9,     -999,9,    0.061,1,    4.645,1,    0.143,1,  22.7700,2,     -999,9,20180430,2035, -68.4747,-102.9998,     -999,9,     -999,9,-999          ,9,     -999,9,     -999,9,     -999,     -999,9,     -999,     -999,9,     -999,9,     -999,9,     -999,9,     -999,9,     -999,9,     -999,9,     -999,9,     -999,9,     -999,9,     -999,9,     -999,9,     -999,9,     -999,9
320620180309  ,P18        ,101     ,  1,27         ,27         ,2,20180430,1850, -68.4847,-102.9857,     4299,    303.1,1.9404943070914411063,34.673101976374610,2,  34.6719,2,172.49084351667227,2, 174.2993,2,    173.2,2,     85.7,2,    33.70,2,     0.00,2,     2.27,2,     -999,9,     -999,9,     -999,9,   2261.6,6,  2346.35,2,   7.5554,2,    24.96,     -999,9,     -999,9,   1.9404,2,0.56000000,2, -146.540,2,    0.002,     -999,9,     -999,9,     -999,9,     -999,9,    0.063,1,    4.646,1,    0.138,1,     -999,9,     -999,9,20180430,2033, -68.4750,-102.9991,     -999,9,     -999,9,-999          ,9,     -999,9,     -999,9,     -999,     -999,9,     -999,     -999,9,     -999,9,     -999,9,     -999,9,     -999,9,     -999,9,     -999,9,     -999,9,     -999,9,     -999,9,     -999,9,     -999,9,     -999,9,     -999,9
320620180309  ,P18        ,101     ,  1,26         ,38         ,2,20180430,1850, -68.4847,-102.9857,     4299,    353.4,1.9495481214458081354,34.690694565288659,2,  34.6892,2,173.38969115955447,3, 175.0979,2,    175.3,2,     86.7,2,    33.28,2,     0.00,2,     2.23,2,    0.346,2,    0.188,2,   0.1200,3,   2260.7,3,  2346.12,2,   7.5621,2,    24.96,     -999,9,     -999,9,   1.9494,2,     -999,9,     -999,9,     -999,     -999,9,     -999,9,     -999,9,     -999,9,    0.062,1,    4.648,1,    0.139,1,  22.0000,2,     -999,9,20180430,2031, -68.4752,-102.9985,     -999,9,     -999,9,-999          ,9,     -999,9,     -999,9,     -999,     -999,9,     -999,     -999,9,     -999,9,     -999,9,     -999,9,     -999,9,     -999,9,     -999,9,     -999,9,     -999,9,     -999,9,     -999,9,     -999,9,     -999,9,     -999,9
320620180309  ,P18        ,101     ,  1,25         ,25         ,2,20180430,1850, -68.4847,-102.9857,     4299,    403.3,1.9294600570139113227,34.700796726908450,2,  34.7002,2,175.08509799142607,2, 176.5024,2,    176.2,2,     87.7,2,    33.09,2,     0.00,2,     2.21,2,     -999,9,     -999,9,     -999,9,     -999,9,     -999,9,     -999,9,     -999,     -999,9,     -999,9,   1.9292,2,0.61000000,2, -145.800,2,    0.002,     -999,9,     -999,9,     -999,9,     -999,9,    0.062,1,    4.647,1,    0.138,1,     -999,9,     -999,9,20180430,2029, -68.4754,-102.9980,     -999,9,     -999,9,-999          ,9,     -999,9,     -999,9,     -999,     -999,9,     -999,     -999,9,     -999,9,     -999,9,     -999,9,     -999,9,     -999,9,     -999,9,     -999,9,     -999,9,     -999,9,     -999,9,     -999,9,     -999,9,     -999,9
320620180309  ,P18        ,101     ,  1,24         ,24         ,2,20180430,1850, -68.4847,-102.9857,     4299,    454.8,1.9072388122507109021,34.709528694901508,2,  34.7082,2,177.18275851714444,2, 178.0020,2,    178.2,2,     88.6,2,    32.82,2,     0.00,2,     2.20,2,    0.273,2,    0.151,2,   0.0300,3,   2260.8,2,  2351.10,2,   7.5745,2,    24.95,     -999,9,     -999,9,   1.9072,2,     -999,9,     -999,9,     -999,     -999,9,     -999,9,     -999,9,     -999,9,    0.062,1,    4.648,1,    0.138,1,  21.2500,2,     -999,9,20180430,2027, -68.4755,-102.9977,     -999,9,     -999,9,-999          ,9,     -999,9,     -999,9,     -999,     -999,9,     -999,     -999,9,     -999,9,     -999,9,     -999,9,     -999,9,     -999,9,     -999,9,     -999,9,     -999,9,     -999,9,     -999,9,     -999,9,     -999,9,     -999,9
320620180309  ,P18        ,101     ,  1,23         ,23         ,2,20180430,1850, -68.4847,-102.9857,     4299,    504.7,1.8752588028382040086,34.715141175319005,2,  34.7139,2,178.98149478415544,2, 179.5050,2,    180.2,2,     89.5,2,    32.62,2,     0.00,2,     2.20,2,     -999,9,     -999,9,     -999,9,     -999,9,     -999,9,     -999,9,     -999,     -999,9,     -999,9,   1.8752,2,0.64000000,2, -148.640,2,    0.002,     -999,9,     -999,9,     -999,9,     -999,9,    0.063,1,    4.648,1,    0.137,1,     -999,9,     -999,9,20180430,2025, -68.4758,-102.9971,     -999,9,     -999,9,-999          ,9,     -999,9,     -999,9,     -999,     -999,9,     -999,     -999,9,     -999,9,     -999,9,     -999,9,     -999,9,     -999,9,     -999,9,     -999,9,     -999,9,     -999,9,     -999,9,     -999,9,     -999,9,     -999,9
320620180309  ,P18        ,101     ,  1,22         ,37         ,2,20180430,1850, -68.4847,-102.9857,     4299,    606.1,1.8048958788281823651,34.723909552378444,2,  34.7233,2,182.86830720187822,2, 182.8017,2,    182.9,2,     91.3,2,    32.30,2,     0.00,2,     2.18,2,    0.215,2,    0.118,2,   0.0300,3,   2257.9,2,  2352.29,2,   7.5842,2,    24.96,     -999,9,     -999,9,   1.8047,2,0.70000000,2, -150.340,2,    0.002,     -999,9,     -999,9,     -999,9,     -999,9,    0.061,1,    4.649,1,    0.137,1,  20.9100,2,     -999,9,20180430,2022, -68.4761,-102.9960,     -999,9,     -999,9,-999          ,9,     -999,9,     -999,9,     -999,     -999,9,     -999,     -999,9,     -999,9,     -999,9,     -999,9,     -999,9,     -999,9,     -999,9,     -999,9,     -999,9,     -999,9,     -999,9,     -999,9,     -999,9,     -999,9
320620180309  ,P18        ,101     ,  1,21         ,21         ,2,20180430,1850, -68.4847,-102.9857,     4299,    707.6,1.7289796308878073727,34.728719104690505,2,  34.7280,2,185.64411308826880,2, 185.3010,2,    185.5,2,     93.2,2,    32.07,2,     0.00,2,     2.16,2,     -999,9,     -999,9,     -999,9,     -999,9,     -999,9,     -999,9,     -999,     -999,9,     -999,9,   1.7289,2,0.69000000,2, -149.530,2,    0.002,     -999,9,     -999,9,     -999,9,     -999,9,    0.062,1,    4.649,1,    0.134,1,     -999,9,     -999,9,20180430,2019, -68.4764,-102.9949,     -999,9,     -999,9,-999          ,9,     -999,9,     -999,9,     -999,     -999,9,     -999,     -999,9,     -999,9,     -999,9,     -999,9,     -999,9,     -999,9,     -999,9,     -999,9,     -999,9,     -999,9,     -999,9,     -999,9,     -999,9,     -999,9
320620180309  ,P18        ,101     ,  1,20         ,20         ,2,20180430,1850, -68.4847,-102.9857,     4299,    808.4,1.6493571555746564528,34.731185218412946,2,  34.7312,2,188.36895671705975,2, 187.6976,2,    187.4,2,     96.1,2,    32.03,2,     0.00,2,     2.15,2,    0.172,2,    0.097,2,   0.0300,3,   2259.6,2,  2355.83,2,   7.5911,2,    24.96,     -999,9,     -999,9,   1.6491,2,0.67000000,2, -157.670,2,    0.003,     -999,9,     -999,9,     -999,9,     -999,9,    0.063,1,    4.650,1,    0.134,1,  20.4500,2,     -999,9,20180430,2016, -68.4767,-102.9940,     -999,9,     -999,9,-999          ,9,     -999,9,     -999,9,     -999,     -999,9,     -999,     -999,9,     -999,9,     -999,9,     -999,9,     -999,9,     -999,9,     -999,9,     -999,9,     -999,9,     -999,9,     -999,9,     -999,9,     -999,9,     -999,9
320620180309  ,P18        ,101     ,  1,19         ,19         ,2,20180430,1850, -68.4847,-102.9857,     4299,    911.2,1.5517455505707629104,34.732113117018912,2,  34.7317,2,189.95180200105702,2, 189.8013,2,    190.1,2,     98.9,2,    32.00,2,     0.00,2,     2.16,2,     -999,9,     -999,9,     -999,9,     -999,9,     -999,9,     -999,9,     -999,     -999,9,     -999,9,   1.5518,2,0.67000000,2, -155.720,2,    0.003,     -999,9,     -999,9,     -999,9,     -999,9,    0.062,1,    4.650,1,    0.134,1,     -999,9,     -999,9,20180430,2013, -68.4768,-102.9933,     -999,9,     -999,9,-999          ,9,     -999,9,     -999,9,     -999,     -999,9,     -999,     -999,9,     -999,9,     -999,9,     -999,9,     -999,9,     -999,9,     -999,9,     -999,9,     -999,9,     -999,9,     -999,9,     -999,9,     -999,9,     -999,9
320620180309  ,P18        ,101     ,  1,18         ,18         ,2,20180430,1850, -68.4847,-102.9857,     4299,   1012.4,1.4721914543363792127,34.731532822164333,2,  34.7308,2,192.16049209132223,2, 191.3988,2,    192.0,2,    101.3,2,    32.02,2,     0.00,2,     2.15,2,    0.143,2,    0.077,2,   0.0100,3,   2259.0,2,  2357.96,2,   7.5960,2,    24.95,     -999,9,     -999,9,   1.4718,2,0.66000000,2, -150.860,2,    0.002,     -999,9,     -999,9,     -999,9,     -999,9,    0.061,1,    4.650,1,    0.131,1,  20.1500,2,     -999,9,20180430,2010, -68.4769,-102.9932,     -999,9,     -999,9,-999          ,9,     -999,9,     -999,9,     -999,     -999,9,     -999,     -999,9,     -999,9,     -999,9,     -999,9,     -999,9,     -999,9,     -999,9,     -999,9,     -999,9,     -999,9,     -999,9,     -999,9,     -999,9,     -999,9
320620180309  ,P18        ,101     ,  1,17         ,17         ,2,20180430,1850, -68.4847,-102.9857,     4299,   1113.6,1.3998534639802586721,34.730558878035339,2,  34.7300,2,193.96813290567945,2, 193.4986,2,    192.9,2,    102.9,2,    31.88,2,     0.00,2,     2.16,2,     -999,9,     -999,9,     -999,9,     -999,9,     -999,9,     -999,9,     -999,     -999,9,     -999,9,   1.3994,2,0.69000000,2, -150.710,2,    0.002,     -999,9,     -999,9,     -999,9,     -999,9,    0.061,1,    4.651,1,    0.143,1,     -999,9,     -999,9,20180430,2007, -68.4771,-102.9931,     -999,9,     -999,9,-999          ,9,     -999,9,     -999,9,     -999,     -999,9,     -999,     -999,9,     -999,9,     -999,9,     -999,9,     -999,9,     -999,9,     -999,9,     -999,9,     -999,9,     -999,9,     -999,9,     -999,9,     -999,9,     -999,9
320620180309  ,P18        ,101     ,  1,16         ,16         ,2,20180430,1850, -68.4847,-102.9857,     4299,   1215.4,1.3261372336578514108,34.728742136770045,2,  34.7282,2,195.20934017101456,2, 194.6005,2,    194.4,2,    105.5,2,    32.07,2,     0.00,2,     2.18,2,    0.125,2,    0.069,2,   0.1300,3,   2260.7,2,  2360.39,2,   7.5975,2,    24.98,     -999,9,     -999,9,   1.3259,2,0.65000000,2, -157.090,2,    0.002,     -999,9,     -999,9,     -999,9,     -999,9,    0.062,1,    4.652,1,    0.130,1,  19.5900,2,     -999,9,20180430,2004, -68.4772,-102.9929,     -999,9,     -999,9,-999          ,9,     -999,9,     -999,9,     -999,     -999,9,     -999,     -999,9,     -999,9,     -999,9,     -999,9,     -999,9,     -999,9,     -999,9,     -999,9,     -999,9,     -999,9,     -999,9,     -999,9,     -999,9,     -999,9