BOTTLE,20240515CCHHYDRO
EXPOCODE,SECT_ID,STNNBR,CASTNO,SAMPNO,BTLNBR,BTLNBR_FLAG_W,DATE,TIME,LATITUDE,LONGITUDE,DEPTH,CTDPRS,CTDTMP,CTDSAL,CTDSAL_FLAG_W,SALNTY,SALNTY_FLAG_W,CTDOXY,CTDOXY_FLAG_W,CTDOPTOXY,CTDOPTOXY_FLAG_W,OXYGEN,OXYGEN_FLAG_W,SILCAT,SILCAT_FLAG_W,NITRAT,NITRAT_FLAG_W,NITRIT,NITRIT_FLAG_W,PHSPHT,PHSPHT_FLAG_W,CFC-11,CFC-11_FLAG_W,CFC-12,CFC-12_FLAG_W,SF6,SF6_FLAG_W,TCARBN,TCARBN_FLAG_W,ALKALI,ALKALI_FLAG_W,PH_TOT,PH_TOT_FLAG_W,PH_TMP,DOC,DOC_FLAG_W,HELIUM,HELIUM_FLAG_W,REFTMP,REFTMP_FLAG_W,DELC13,DELC13_FLAG_W,DELC14,DELC14_FLAG_W,C14ERR,POC,POC_FLAG_W,TDN,TDN_FLAG_W,TON,TON_FLAG_W,NEON,NEON_FLAG_W,CTDFLUOR,CTDFLUOR_FLAG_W,CTDXMISS,CTDXMISS_FLAG_W,CTDBETA700,CTDBETA700_FLAG_W,N2O,N2O_FLAG_W,ARGON,ARGON_FLAG_W,BTL_DATE,BTL_TIME,BTL_LAT,BTL_LON,KRYPTON,KRYPTON_FLAG_W,XENON,XENON_FLAG_W,HPLC,HPLC_FLAG_W,HE3_HE4_RATIO,HE3_HE4_RATIO_FLAG_W,Nd_143_144_D_EPSILON_BOTTLE,Nd_143_144_D_EPSILON_BOTTLE_FLAG_W,Nd_143_144_D_EPSILON_BOTTLE_ERROR,Nd_143_144_D_RATIO_BOTTLE,Nd_143_144_D_RATIO_BOTTLE_FLAG_W,Nd_143_144_D_RATIO_BOTTLE_ERROR,Nd_D_CONC,Nd_D_CONC_FLAG_W,La_D_CONC_BOTTLE,La_D_CONC_BOTTLE_FLAG_W,Ce_D_CONC_BOTTLE,Ce_D_CONC_BOTTLE_FLAG_W,Pr_D_CONC_BOTTLE,Pr_D_CONC_BOTTLE_FLAG_W,Sm_D_CONC_BOTTLE,Sm_D_CONC_BOTTLE_FLAG_W,Eu_D_CONC_BOTTLE,Eu_D_CONC_BOTTLE_FLAG_W,Gd_D_CONC_BOTTLE,Gd_D_CONC_BOTTLE_FLAG_W,Tb_D_CONC_BOTTLE,Tb_D_CONC_BOTTLE_FLAG_W,Dy_D_CONC_BOTTLE,Dy_D_CONC_BOTTLE_FLAG_W,Ho_D_CONC_BOTTLE,Ho_D_CONC_BOTTLE_FLAG_W,Er_D_CONC_BOTTLE,Er_D_CONC_BOTTLE_FLAG_W,Tm_D_CONC_BOTTLE,Tm_D_CONC_BOTTLE_FLAG_W,Yb_D_CONC_BOTTLE,Yb_D_CONC_BOTTLE_FLAG_W,Lu_D_CONC_BOTTLE,Lu_D_CONC_BOTTLE_FLAG_W
,,,,,,,,,,,METERS,DBAR,ITS-90,PSS-78,,PSS-78,,UMOL/KG,,UMOL/KG,,UMOL/KG,,UMOL/KG,,UMOL/KG,,UMOL/KG,,UMOL/KG,,PMOL/KG,,PMOL/KG,,FMOL/KG,,UMOL/KG,,UMOL/KG,,,,DEG C,UMOL/KG,,NMOL/L,,DEG C,,/MILLE,,/MILLE,,/MILLE,UG/KG,,UMOL/KG,,UMOL/KG,,NMOL/L,,VOLTS,,VOLTS,,VOLTS,,NMOL/KG,,UMOL/L,,,,,,NMOL/L,,NMOL/L,,,,,,10000,,10000,,,,PMOL/KG,,PMOL/L,,PMOL/L,,PMOL/L,,PMOL/L,,PMOL/L,,PMOL/L,,PMOL/L,,PMOL/L,,PMOL/L,,PMOL/L,,PMOL/L,,PMOL/L,,PMOL/L,
320620180309  ,P16        ,42      ,  1,15         ,15         ,2,20180405,0005, -73.0129,-149.9712,     4141,   1322.5,0.9993611111111108114,34.718984268979071,2,  34.7186,2,197.74733575280473,2, 196.6971,2,    197.5,2,    116.8,2,    32.28,2,     0.00,2,     2.21,2,     -999,9,     -999,9,     -999,9,   2261.0,2,  2360.98,2,   7.5942,2,    24.96,     -999,9,     -999,9,   0.9977,2,     -999,9,     -999,9,     -999,     -999,9,     -999,9,     -999,9,     -999,9,    0.061,1,    4.674,1,    0.128,1,     -999,9,     -999,9,20180405,0119, -73.0170,-150.0146,     -999,9,     -999,9,-999          ,9,     -999,9,     -999,9,     -999,     -999,9,     -999,     -999,9,     -999,9,     -999,9,     -999,9,     -999,9,     -999,9,     -999,9,     -999,9,     -999,9,     -999,9,     -999,9,     -999,9,     -999,9,     -999,9
320620180309  ,P16        ,42      ,  1,14         ,14         ,2,20180405,0005, -73.0129,-149.9712,     4141,   1420.2,0.9501416666666666622,34.716824855968220,2,  34.7166,2,199.18286537484141,2, 197.9974,2,    198.7,2,    118.6,2,    32.29,2,     0.00,2,     2.21,2,    0.117,2,    0.066,2,   0.0800,3,   2262.3,2,  2361.44,2,   7.5948,2,    24.96,     39.4,2,     -999,9,   0.9492,2,     -999,9,     -999,9,     -999,     -999,9,     -999,9,     -999,1,     -999,9,    0.061,1,    4.674,1,    0.128,1,  22.3700,4,     -999,9,20180405,0114, -73.0169,-150.0129,     -999,9,     -999,9,-999          ,9,     -999,9,     -999,9,     -999,     -999,9,     -999,     -999,9,     -999,9,     -999,9,     -999,9,     -999,9,     -999,9,     -999,9,     -999,9,     -999,9,     -999,9,     -999,9,     -999,9,     -999,9,     -999,9
320620180309  ,P16        ,42      ,  1,13         ,13         ,2,20180405,0005, -73.0129,-149.9712,     4141,   1516.7,0.9056416666666665671,34.714917320629887,2,  34.7164,2,200.71719837772764,2, 199.0997,2,    199.6,2,    120.1,2,    32.33,2,     0.00,2,     2.21,2,    0.113,2,    0.054,2,   0.0300,3,   2263.6,6,  2360.73,2,   7.5947,2,    24.96,     -999,9,     -999,9,   0.9048,2,     -999,9,     -999,9,     -999,     -999,9,     -999,9,     -999,9,     -999,9,    0.061,1,    4.674,1,    0.128,1,  20.4600,2,     -999,9,20180405,0111, -73.0164,-150.0102,     -999,9,     -999,9,-999          ,9,     -999,9,     -999,9,     -999,     -999,9,     -999,     -999,9,     -999,9,     -999,9,     -999,9,     -999,9,     -999,9,     -999,9,     -999,9,     -999,9,     -999,9,     -999,9,     -999,9,     -999,9,     -999,9
320620180309  ,P16        ,42      ,  1,12         ,12         ,2,20180405,0005, -73.0129,-149.9712,     4141,   1619.0,0.8603555555555554291,34.713038904055914,2,  34.7133,2,201.33507863327054,2, 200.3985,2,    200.8,2,    121.4,2,    32.35,2,     0.00,2,     2.21,2,     -999,9,     -999,9,     -999,9,   2262.5,2,  2361.21,2,   7.5965,2,    24.96,     40.9,2,     -999,9,   0.8598,2,     -999,9,     -999,9,     -999,     -999,9,     -999,9,     -999,1,     -999,9,    0.060,1,    4.674,1,    0.128,1,     -999,9,     -999,9,20180405,0108, -73.0158,-150.0070,     -999,9,     -999,9,-999          ,9,     -999,9,     -999,9,     -999,     -999,9,     -999,     -999,9,     -999,9,     -999,9,     -999,9,     -999,9,     -999,9,     -999,9,     -999,9,     -999,9,     -999,9,     -999,9,     -999,9,     -999,9,     -999,9
320620180309  ,P16        ,42      ,  1,11         ,11         ,2,20180405,0005, -73.0129,-149.9712,     4141,   1719.1,0.8214361111111111446,34.711346078514531,2,  34.7119,2,202.18447912754306,2, 201.3011,2,    201.8,2,    123.0,2,    32.35,2,     0.00,2,     2.20,2,    0.121,2,    0.075,2,   0.0900,3,   2263.3,2,  2361.67,2,   7.5978,6,    24.96,     -999,9,     -999,9,   0.8205,2,     -999,9,     -999,9,     -999,     -999,9,     -999,9,     -999,9,     -999,9,    0.061,1,    4.675,1,    0.127,1,  20.4300,2,     -999,9,20180405,0105, -73.0151,-150.0039,     -999,9,     -999,9,-999          ,9,     -999,9,     -999,9,     -999,     -999,9,     -999,     -999,9,     -999,9,     -999,9,     -999,9,     -999,9,     -999,9,     -999,9,     -999,9,     -999,9,     -999,9,     -999,9,     -999,9,     -999,9,     -999,9
320620180309  ,P16        ,42      ,  1,10         ,10         ,2,20180405,0005, -73.0129,-149.9712,     4141,   1820.4,0.7800166666666669135,34.709609892330292,2,  34.7092,2,202.43479257192305,2, 202.3944,2,    202.8,2,    125.0,2,    32.36,2,     0.00,2,     2.21,2,    0.127,2,    0.074,2,   0.0600,3,   2265.9,2,  2362.10,2,   7.5955,2,    24.95,     40.8,2,     -999,9,   0.7795,2,     -999,9,     -999,9,     -999,     -999,9,     -999,9,     -999,1,     -999,9,    0.061,1,    4.674,1,    0.126,1,  21.0400,2,     -999,9,20180405,0102, -73.0144,-150.0004,     -999,9,     -999,9,-999          ,9,     -999,9,     -999,9,     -999,     -999,9,     -999,     -999,9,     -999,9,     -999,9,     -999,9,     -999,9,     -999,9,     -999,9,     -999,9,     -999,9,     -999,9,     -999,9,     -999,9,     -999,9,     -999,9
320620180309  ,P16        ,42      ,  1,9          ,9          ,2,20180405,0005, -73.0129,-149.9712,     4141,   2029.4,0.7174833333333334728,34.707055553748823,2,  34.7074,2,204.03563153704758,2, 203.9971,2,    204.2,2,    127.2,2,    32.41,2,     0.00,2,     2.22,2,    0.144,2,    0.075,2,   0.0800,3,   2262.5,2,  2362.06,2,   7.5958,2,    24.96,     38.9,2,     -999,9,   0.7165,2,     -999,9,     -999,9,     -999,     -999,9,     -999,9,     -999,1,     -999,9,    0.061,1,    4.674,1,    0.125,1,  20.4100,2,     -999,9,20180405,0058, -73.0135,-149.9958,     -999,9,     -999,9,-999          ,9,     -999,9,     -999,9,     -999,     -999,9,     -999,     -999,9,     -999,9,     -999,9,     -999,9,     -999,9,     -999,9,     -999,9,     -999,9,     -999,9,     -999,9,     -999,9,     -999,9,     -999,9,     -999,9
320620180309  ,P16        ,42      ,  1,8          ,8          ,2,20180405,0005, -73.0129,-149.9712,     4141,   2287.1,0.6266861111111110549,34.704512122723109,2,  34.7047,2,205.45206258298029,2, 206.5050,2,    206.1,2,    129.1,2,    32.53,2,     0.00,2,     2.24,2,     -999,9,     -999,9,     -999,9,   2265.6,2,  2362.80,2,   7.5942,2,    24.95,     41.7,2,     -999,9,   0.6261,2,     -999,9,     -999,9,     -999,     -999,9,     -999,9,     -999,1,     -999,9,    0.060,1,    4.674,1,    0.128,1,     -999,9,     -999,9,20180405,0052, -73.0133,-149.9929,     -999,9,     -999,9,-999          ,9,     -999,9,     -999,9,     -999,     -999,9,     -999,     -999,9,     -999,9,     -999,9,     -999,9,     -999,9,     -999,9,     -999,9,     -999,9,     -999,9,     -999,9,     -999,9,     -999,9,     -999,9,     -999,9
320620180309  ,P16        ,42      ,  1,7          ,7          ,2,20180405,0005, -73.0129,-149.9712,     4141,   2540.8,0.5450916666666667521,34.702884782810941,2,  34.7033,2,207.84075583212652,2, 208.6018,2,    208.1,2,    130.4,2,    32.64,2,     0.00,2,     2.24,2,    0.174,2,    0.095,2,   0.0400,3,   2266.1,2,  2362.17,2,   7.5953,2,    24.96,     39.8,2,     -999,9,   0.5442,2,     -999,9,     -999,9,     -999,     -999,9,    33.80,2,     -999,1,     -999,9,    0.061,1,    4.674,1,    0.125,1,  21.5300,4,     -999,9,20180405,0046, -73.0138,-149.9913,     -999,9,     -999,9,-999          ,9,     -999,9,     -999,9,     -999,     -999,9,     -999,     -999,9,     -999,9,     -999,9,     -999,9,     -999,9,     -999,9,     -999,9,     -999,9,     -999,9,     -999,9,     -999,9,     -999,9,     -999,9,     -999,9
320620180309  ,P16        ,42      ,  1,6          ,6          ,2,20180405,0005, -73.0129,-149.9712,     4141,   2796.4,0.4652138888888888157,34.702139454034032,2,  34.7021,2,209.51375912136712,2, 210.7963,2,    209.8,2,    133.1,2,    32.69,2,     0.00,2,     2.24,2,    0.165,2,    0.091,2,   0.0800,2,   2265.5,2,  2362.40,2,   7.5940,2,    24.96,     40.0,2,     -999,9,   0.4642,2,     -999,9,     -999,9,     -999,     -999,9,     -999,9,     -999,1,     -999,9,    0.061,1,    4.674,1,    0.126,1,  19.7300,2,     -999,9,20180405,0040, -73.0130,-149.9875,     -999,9,     -999,9,-999          ,9,     -999,9,     -999,9,     -999,     -999,9,     -999,     -999,9,     -999,9,     -999,9,     -999,9,     -999,9,     -999,9,     -999,9,     -999,9,     -999,9,     -999,9,     -999,9,     -999,9,     -999,9,     -999,9
320620180309  ,P16        ,42      ,  1,5          ,5          ,2,20180405,0005, -73.0129,-149.9712,     4141,   3053.5,0.4149694444444443908,34.701684564935483,2,  34.7021,2,211.28270233404027,2, 212.0993,2,    212.2,2,    135.8,2,    32.82,2,     0.00,2,     2.25,2,    0.171,2,    0.092,2,   0.1200,2,   2266.1,2,  2363.17,2,   7.5961,2,    24.96,     39.8,2,     -999,9,   0.4143,2,     -999,9,     -999,9,     -999,     -999,9,     -999,9,     -999,1,     -999,9,    0.061,1,    4.674,1,    0.124,1,  19.9100,2,     -999,9,20180405,0034, -73.0125,-149.9840,     -999,9,     -999,9,-999          ,9,     -999,9,     -999,9,     -999,     -999,9,     -999,     -999,9,     -999,9,     -999,9,     -999,9,     -999,9,     -999,9,     -999,9,     -999,9,     -999,9,     -999,9,     -999,9,     -999,9,     -999,9,     -999,9
320620180309  ,P16        ,42      ,  1,4          ,4          ,2,20180405,0005, -73.0129,-149.9712,     4141,   3363.9,0.3677138888888887847,34.701113634329317,2,  34.7007,2,212.44428470313687,2, 213.3940,2,    212.8,2,    138.1,2,    32.89,2,     0.00,2,     2.25,2,    0.203,2,    0.109,2,   0.0100,2,   2266.2,2,  2363.73,2,   7.5947,2,    24.96,     41.6,2,     -999,9,   0.3670,2,     -999,9,     -999,9,     -999,     -999,9,     -999,9,     -999,1,     -999,9,    0.061,1,    4.673,1,    0.125,1,  19.9100,2,     -999,9,20180405,0027, -73.0131,-149.9814,     -999,9,     -999,9,-999          ,9,     -999,9,     -999,9,     -999,     -999,9,     -999,     -999,9,     -999,9,     -999,9,     -999,9,     -999,9,     -999,9,     -999,9,     -999,9,     -999,9,     -999,9,     -999,9,     -999,9,     -999,9,     -999,9
320620180309  ,P16        ,42      ,  1,3          ,3          ,2,20180405,0005, -73.0129,-149.9712,     4141,   3668.2,0.3356861111111110740,34.700271508285837,2,  34.7005,2,214.50805125076164,2, 214.0058,2,    214.1,2,    140.5,2,    32.93,2,     0.00,2,     2.25,2,    0.269,2,    0.145,2,   0.1100,2,   2265.5,2,  2363.41,2,   7.5951,6,    24.96,     -999,9,     -999,9,   0.3348,2,     -999,9,     -999,9,     -999,     -999,9,     -999,9,     -999,9,     -999,9,    0.060,1,    4.673,1,    0.124,1,  19.8100,2,     -999,9,20180405,0019, -73.0133,-149.9784,     -999,9,     -999,9,-999          ,9,     -999,9,     -999,9,     -999,     -999,9,     -999,     -999,9,     -999,9,     -999,9,     -999,9,     -999,9,     -999,9,     -999,9,     -999,9,     -999,9,     -999,9,     -999,9,     -999,9,     -999,9,     -999,9
320620180309  ,P16        ,42      ,  1,2          ,2          ,2,20180405,0005, -73.0129,-149.9712,     4141,   3945.6,0.2750694444444444220,34.697092724718097,2,  34.6970,2,217.59313599591712,2, 216.4028,2,    217.1,2,    134.6,2,    32.83,2,     0.00,2,     2.25,2,    0.514,2,    0.264,2,   0.1300,2,   2267.4,2,  2361.07,2,   7.5931,2,    24.95,     40.7,2,     -999,9,   0.2745,2,     -999,9,     -999,9,     -999,     -999,9,    34.00,2,     -999,1,     -999,9,    0.061,1,    4.673,1,    0.125,1,  20.1200,2,     -999,9,20180405,0013, -73.0127,-149.9746,     -999,9,     -999,9,-999          ,9,     -999,9,     -999,9,     -999,     -999,9,     -999,     -999,9,     -999,9,     -999,9,     -999,9,     -999,9,     -999,9,     -999,9,     -999,9,     -999,9,     -999,9,     -999,9,     -999,9,     -999,9,     -999,9
320620180309  ,P16        ,42      ,  1,1          ,1          ,2,20180405,0005, -73.0129,-149.9712,     4141,   4217.8,0.2461583333333333123,34.695554719690129,3,  34.6984,2,219.80881193463955,3, 217.0027,2,    217.5,2,    134.3,2,    32.93,2,     0.00,2,     2.25,2,    0.710,2,    0.347,2,   0.0600,2,   2266.3,6,  2361.71,2,   7.5906,2,    24.95,     40.5,2,     -999,9,   0.2458,2,     -999,9,     -999,9,     -999,     -999,9,     -999,9,     -999,1,     -999,9,    0.061,1,    4.660,1,    0.145,1,  22.7300,4,     -999,9,20180405,0005, -73.0129,-149.9712,     -999,9,     -999,9,-999          ,9,     -999,9,     -999,9,     -999,     -999,9,     -999,     -999,9,     -999,9,     -999,9,     -999,9,     -999,9,     -999,9,     -999,9,     -999,9,     -999,9,     -999,9,     -999,9,     -999,9,     -999,9,     -999,9