BOTTLE,20240515CCHHYDRO
EXPOCODE,SECT_ID,STNNBR,CASTNO,SAMPNO,BTLNBR,BTLNBR_FLAG_W,DATE,TIME,LATITUDE,LONGITUDE,DEPTH,CTDPRS,CTDTMP,CTDSAL,CTDSAL_FLAG_W,SALNTY,SALNTY_FLAG_W,CTDOXY,CTDOXY_FLAG_W,CTDOPTOXY,CTDOPTOXY_FLAG_W,OXYGEN,OXYGEN_FLAG_W,SILCAT,SILCAT_FLAG_W,NITRAT,NITRAT_FLAG_W,NITRIT,NITRIT_FLAG_W,PHSPHT,PHSPHT_FLAG_W,CFC-11,CFC-11_FLAG_W,CFC-12,CFC-12_FLAG_W,SF6,SF6_FLAG_W,TCARBN,TCARBN_FLAG_W,ALKALI,ALKALI_FLAG_W,PH_TOT,PH_TOT_FLAG_W,PH_TMP,DOC,DOC_FLAG_W,HELIUM,HELIUM_FLAG_W,REFTMP,REFTMP_FLAG_W,DELC13,DELC13_FLAG_W,DELC14,DELC14_FLAG_W,C14ERR,POC,POC_FLAG_W,TDN,TDN_FLAG_W,TON,TON_FLAG_W,NEON,NEON_FLAG_W,CTDFLUOR,CTDFLUOR_FLAG_W,CTDXMISS,CTDXMISS_FLAG_W,CTDBETA700,CTDBETA700_FLAG_W,N2O,N2O_FLAG_W,ARGON,ARGON_FLAG_W,BTL_DATE,BTL_TIME,BTL_LAT,BTL_LON,KRYPTON,KRYPTON_FLAG_W,XENON,XENON_FLAG_W,HPLC,HPLC_FLAG_W,HE3_HE4_RATIO,HE3_HE4_RATIO_FLAG_W,Nd_143_144_D_EPSILON_BOTTLE,Nd_143_144_D_EPSILON_BOTTLE_FLAG_W,Nd_143_144_D_EPSILON_BOTTLE_ERROR,Nd_143_144_D_RATIO_BOTTLE,Nd_143_144_D_RATIO_BOTTLE_FLAG_W,Nd_143_144_D_RATIO_BOTTLE_ERROR,Nd_D_CONC,Nd_D_CONC_FLAG_W,La_D_CONC_BOTTLE,La_D_CONC_BOTTLE_FLAG_W,Ce_D_CONC_BOTTLE,Ce_D_CONC_BOTTLE_FLAG_W,Pr_D_CONC_BOTTLE,Pr_D_CONC_BOTTLE_FLAG_W,Sm_D_CONC_BOTTLE,Sm_D_CONC_BOTTLE_FLAG_W,Eu_D_CONC_BOTTLE,Eu_D_CONC_BOTTLE_FLAG_W,Gd_D_CONC_BOTTLE,Gd_D_CONC_BOTTLE_FLAG_W,Tb_D_CONC_BOTTLE,Tb_D_CONC_BOTTLE_FLAG_W,Dy_D_CONC_BOTTLE,Dy_D_CONC_BOTTLE_FLAG_W,Ho_D_CONC_BOTTLE,Ho_D_CONC_BOTTLE_FLAG_W,Er_D_CONC_BOTTLE,Er_D_CONC_BOTTLE_FLAG_W,Tm_D_CONC_BOTTLE,Tm_D_CONC_BOTTLE_FLAG_W,Yb_D_CONC_BOTTLE,Yb_D_CONC_BOTTLE_FLAG_W,Lu_D_CONC_BOTTLE,Lu_D_CONC_BOTTLE_FLAG_W
,,,,,,,,,,,METERS,DBAR,ITS-90,PSS-78,,PSS-78,,UMOL/KG,,UMOL/KG,,UMOL/KG,,UMOL/KG,,UMOL/KG,,UMOL/KG,,UMOL/KG,,PMOL/KG,,PMOL/KG,,FMOL/KG,,UMOL/KG,,UMOL/KG,,,,DEG C,UMOL/KG,,NMOL/L,,DEG C,,/MILLE,,/MILLE,,/MILLE,UG/KG,,UMOL/KG,,UMOL/KG,,NMOL/L,,VOLTS,,VOLTS,,VOLTS,,NMOL/KG,,UMOL/L,,,,,,NMOL/L,,NMOL/L,,,,,,10000,,10000,,,,PMOL/KG,,PMOL/L,,PMOL/L,,PMOL/L,,PMOL/L,,PMOL/L,,PMOL/L,,PMOL/L,,PMOL/L,,PMOL/L,,PMOL/L,,PMOL/L,,PMOL/L,,PMOL/L,
320620180309  ,S04P       ,64      ,  1,15         ,15         ,2,20180413,1707, -67.0002,-155.1434,     3774,   1316.0,0.8619083333333332764,34.715308512452808,2,  34.7127,2,200.13018002648678,2, 199.1948,2,    199.7,2,    119.5,2,    32.61,2,     0.00,2,     2.25,2,    0.107,2,    0.061,2,  -0.0300,3,   2262.9,2,  2362.69,2,   7.5889,2,    24.94,     38.6,2,     -999,9,   0.8618,2,     -999,9,     -999,9,     -999,     -999,9,     -999,9,     -999,1,     -999,9,    0.061,1,    4.665,1,    0.128,1,  20.2100,2,     -999,9,20180413,1816, -67.0007,-155.1424,     -999,9,     -999,9,-999          ,9,     -999,9,     -999,9,     -999,     -999,9,     -999,     -999,9,     -999,9,     -999,9,     -999,9,     -999,9,     -999,9,     -999,9,     -999,9,     -999,9,     -999,9,     -999,9,     -999,9,     -999,9,     -999,9
320620180309  ,S04P       ,64      ,  1,14         ,14         ,2,20180413,1707, -67.0002,-155.1434,     3774,   1417.5,0.8109861111111111853,34.712996195923765,2,  34.7104,2,201.55238237638980,2, 200.6975,2,    200.9,2,    121.9,2,    32.58,2,     0.00,2,     2.25,2,     -999,9,     -999,9,     -999,9,   2261.6,2,  2361.85,2,   7.5890,2,    24.92,     40.4,2,     -999,9,   0.8098,2,     -999,9,     -999,9,     -999,     -999,9,     -999,9,     -999,1,     -999,9,    0.062,1,    4.665,1,    0.129,1,     -999,9,     -999,9,20180413,1813, -67.0008,-155.1425,     -999,9,     -999,9,-999          ,9,     -999,9,     -999,9,     -999,     -999,9,     -999,     -999,9,     -999,9,     -999,9,     -999,9,     -999,9,     -999,9,     -999,9,     -999,9,     -999,9,     -999,9,     -999,9,     -999,9,     -999,9,     -999,9
320620180309  ,S04P       ,64      ,  1,13         ,13         ,2,20180413,1707, -67.0002,-155.1434,     3774,   1519.4,0.7628472222222222321,34.711157978976679,2,  34.7092,2,202.37388667328167,2, 202.0016,2,    202.2,2,    123.4,2,    32.57,2,     0.00,2,     2.25,2,    0.115,2,    0.060,2,   0.0300,3,   2263.0,2,  2363.27,2,   7.5904,2,    24.94,     -999,9,     -999,9,   0.7621,2,     -999,9,     -999,9,     -999,     -999,9,     -999,9,     -999,9,     -999,9,    0.061,1,    4.665,1,    0.128,1,  20.1400,2,     -999,9,20180413,1809, -67.0007,-155.1427,     -999,9,     -999,9,-999          ,9,     -999,9,     -999,9,     -999,     -999,9,     -999,     -999,9,     -999,9,     -999,9,     -999,9,     -999,9,     -999,9,     -999,9,     -999,9,     -999,9,     -999,9,     -999,9,     -999,9,     -999,9,     -999,9
320620180309  ,S04P       ,64      ,  1,12         ,12         ,2,20180413,1707, -67.0002,-155.1434,     3774,   1622.2,0.7255027777777778297,34.709620254310778,2,  34.7080,2,203.76561705283726,2, 203.1927,2,    203.4,2,    124.5,2,    32.60,2,     0.00,2,     2.25,2,     -999,9,     -999,9,     -999,9,   2262.9,2,  2361.93,2,   7.5929,2,    24.93,     39.6,2,     -999,9,   0.7246,2,     -999,9,     -999,9,     -999,     -999,9,     -999,9,     -999,1,     -999,9,    0.061,1,    4.665,1,    0.128,1,     -999,9,     -999,9,20180413,1806, -67.0007,-155.1428,     -999,9,     -999,9,-999          ,9,     -999,9,     -999,9,     -999,     -999,9,     -999,     -999,9,     -999,9,     -999,9,     -999,9,     -999,9,     -999,9,     -999,9,     -999,9,     -999,9,     -999,9,     -999,9,     -999,9,     -999,9,     -999,9
320620180309  ,S04P       ,64      ,  1,11         ,11         ,2,20180413,1707, -67.0002,-155.1434,     3774,   1723.5,0.6887638888888889532,34.708182267744348,2,  34.7060,2,204.20224684144441,2, 204.0019,2,    204.2,2,    125.8,2,    32.57,2,     0.00,2,     2.24,2,    0.121,2,    0.071,2,  -0.0700,3,   2265.9,2,  2362.25,2,   7.5822,3,    24.92,     -999,9,     -999,9,   0.6880,2,     -999,9,     -999,9,     -999,     -999,9,     -999,9,     -999,9,     -999,9,    0.061,1,    4.665,1,    0.128,1,  19.8900,2,     -999,9,20180413,1802, -67.0005,-155.1431,     -999,9,     -999,9,-999          ,9,     -999,9,     -999,9,     -999,     -999,9,     -999,     -999,9,     -999,9,     -999,9,     -999,9,     -999,9,     -999,9,     -999,9,     -999,9,     -999,9,     -999,9,     -999,9,     -999,9,     -999,9,     -999,9
320620180309  ,S04P       ,64      ,  1,10         ,10         ,2,20180413,1707, -67.0002,-155.1434,     3774,   1826.3,0.6544499999999998652,34.707007120499057,2,  34.7053,2,204.93349690469964,2, 204.9995,2,    204.6,2,    128.0,2,    32.63,2,     0.00,2,     2.25,2,    0.132,2,    0.081,2,   0.0300,3,   2265.2,2,  2363.14,2,   7.5906,2,    24.93,     40.4,2,     -999,9,   0.6533,2,     -999,9,     -999,9,     -999,     -999,9,     -999,9,     -999,1,     -999,9,    0.061,1,    4.665,1,    0.129,1,  19.7300,2,     -999,9,20180413,1758, -67.0003,-155.1432,     -999,9,     -999,9,-999          ,9,     -999,9,     -999,9,     -999,     -999,9,     -999,     -999,9,     -999,9,     -999,9,     -999,9,     -999,9,     -999,9,     -999,9,     -999,9,     -999,9,     -999,9,     -999,9,     -999,9,     -999,9,     -999,9
320620180309  ,S04P       ,64      ,  1,9          ,9          ,2,20180413,1707, -67.0002,-155.1434,     3774,   2029.2,0.5810888888888887660,34.705218838821381,3,  34.7029,2,206.83325756978817,2, 207.1036,2,    206.4,2,    128.3,2,    32.69,2,     0.00,2,     2.24,2,     -999,9,     -999,9,     -999,9,   2263.6,6,  2361.36,2,   7.5913,2,    24.92,     40.3,2,     -999,9,   0.5803,2,     -999,9,     -999,9,     -999,     -999,9,     -999,9,     -999,1,     -999,9,    0.061,1,    4.666,1,    0.128,1,     -999,9,     -999,9,20180413,1753, -67.0003,-155.1431,     -999,9,     -999,9,-999          ,9,     -999,9,     -999,9,     -999,     -999,9,     -999,     -999,9,     -999,9,     -999,9,     -999,9,     -999,9,     -999,9,     -999,9,     -999,9,     -999,9,     -999,9,     -999,9,     -999,9,     -999,9,     -999,9
320620180309  ,S04P       ,64      ,  1,8          ,8          ,2,20180413,1707, -67.0002,-155.1434,     3774,   2233.1,0.5023833333333331819,34.703642008609563,3,  34.7015,2,208.58670467310677,2, 208.6953,2,    208.7,2,    129.6,2,    32.67,2,     0.00,2,     2.24,2,    0.160,2,    0.086,2,   0.2000,3,   2264.1,2,  2362.15,2,   7.5886,2,    24.91,     39.3,2,     -999,9,   0.5016,2,     -999,9,     -999,9,     -999,     -999,9,     -999,9,     -999,1,     -999,9,    0.061,1,    4.666,1,    0.126,1,  20.4600,2,     -999,9,20180413,1748, -67.0003,-155.1431,     -999,9,     -999,9,-999          ,9,     -999,9,     -999,9,     -999,     -999,9,     -999,     -999,9,     -999,9,     -999,9,     -999,9,     -999,9,     -999,9,     -999,9,     -999,9,     -999,9,     -999,9,     -999,9,     -999,9,     -999,9,     -999,9
320620180309  ,S04P       ,64      ,  1,7          ,7          ,2,20180413,1707, -67.0002,-155.1434,     3774,   2438.1,0.4415583333333333305,34.702982732492778,2,  34.7013,2,210.01751564660970,2, 210.3010,2,    209.8,2,    131.1,2,    32.79,2,     0.00,2,     2.24,2,    0.158,2,    0.098,2,  -0.0500,3,   2266.5,2,  2364.78,2,   7.5900,2,    24.93,     39.6,2,     -999,9,   0.4422,2,     -999,9,     -999,9,     -999,     -999,9,     -999,9,     -999,1,     -999,9,    0.061,1,    4.665,1,    0.126,1,  19.5500,2,     -999,9,20180413,1743, -67.0001,-155.1433,     -999,9,     -999,9,-999          ,9,     -999,9,     -999,9,     -999,     -999,9,     -999,     -999,9,     -999,9,     -999,9,     -999,9,     -999,9,     -999,9,     -999,9,     -999,9,     -999,9,     -999,9,     -999,9,     -999,9,     -999,9,     -999,9
320620180309  ,S04P       ,64      ,  1,6          ,6          ,2,20180413,1707, -67.0002,-155.1434,     3774,   2643.3,0.3791500000000000981,34.701653567713002,2,  34.7000,2,211.73745526824192,2, 212.0022,2,    211.6,2,    132.7,2,    32.79,2,     0.00,2,     2.23,2,    0.200,2,    0.108,2,   0.0300,3,   2265.6,2,  2363.79,2,   7.5888,6,    24.92,     -999,9,     -999,9,   0.3780,2,     -999,9,     -999,9,     -999,     -999,9,     -999,9,     -999,9,     -999,9,    0.061,1,    4.665,1,    0.126,1,  18.8100,2,     -999,9,20180413,1738, -67.0000,-155.1434,     -999,9,     -999,9,-999          ,9,     -999,9,     -999,9,     -999,     -999,9,     -999,     -999,9,     -999,9,     -999,9,     -999,9,     -999,9,     -999,9,     -999,9,     -999,9,     -999,9,     -999,9,     -999,9,     -999,9,     -999,9,     -999,9
320620180309  ,S04P       ,64      ,  1,5          ,5          ,2,20180413,1707, -67.0002,-155.1434,     3774,   2846.6,0.3350527777777777549,34.700237164746092,2,  34.6984,2,213.45136637936338,2, 213.4010,2,    213.9,2,    133.4,2,    32.80,2,     0.00,2,     2.24,2,    0.265,2,    0.148,2,  -0.0900,3,   2266.1,2,  2363.99,2,   7.5916,2,    24.93,     38.4,2,     -999,9,   0.3342,2,     -999,9,     -999,9,     -999,     -999,9,     -999,9,     -999,1,     -999,9,    0.061,1,    4.665,1,    0.126,1,  20.1300,2,     -999,9,20180413,1733, -67.0002,-155.1432,     -999,9,     -999,9,-999          ,9,     -999,9,     -999,9,     -999,     -999,9,     -999,     -999,9,     -999,9,     -999,9,     -999,9,     -999,9,     -999,9,     -999,9,     -999,9,     -999,9,     -999,9,     -999,9,     -999,9,     -999,9,     -999,9
320620180309  ,S04P       ,64      ,  1,4          ,4          ,2,20180413,1707, -67.0002,-155.1434,     3774,   3051.6,0.2859583333333333144,34.697721220248098,2,  34.6958,2,215.43227796460715,2, 217.5052,3,    215.4,2,    132.7,2,    32.79,2,     0.00,2,     2.25,2,    0.401,2,    0.221,2,   0.1400,3,   2265.8,2,  2363.32,2,   7.5929,2,    24.92,     40.4,2,     -999,9,   0.2849,2,     -999,9,     -999,9,     -999,     -999,9,     -999,9,     -999,1,     -999,9,    0.061,1,    4.665,1,    0.126,1,  20.0600,2,     -999,9,20180413,1727, -67.0005,-155.1428,     -999,9,     -999,9,-999          ,9,     -999,9,     -999,9,     -999,     -999,9,     -999,     -999,9,     -999,9,     -999,9,     -999,9,     -999,9,     -999,9,     -999,9,     -999,9,     -999,9,     -999,9,     -999,9,     -999,9,     -999,9,     -999,9
320620180309  ,S04P       ,64      ,  1,3          ,3          ,2,20180413,1707, -67.0002,-155.1434,     3774,   3358.5,0.2320388888888888501,34.692813655675444,2,  34.6921,2,218.77539782460804,2, 217.1065,2,    218.3,2,    129.5,2,    32.69,2,     0.00,2,     2.23,2,    0.675,2,    0.365,2,   0.3800,3,   2263.7,2,     -999,5,   7.5914,2,    24.92,     40.8,2,     -999,9,   0.2312,2,     -999,9,     -999,9,     -999,     -999,9,     -999,9,     -999,1,     -999,9,    0.060,1,    4.664,1,    0.127,1,  20.1300,2,     -999,9,20180413,1720, -67.0001,-155.1435,     -999,9,     -999,9,-999          ,9,     -999,9,     -999,9,     -999,     -999,9,     -999,     -999,9,     -999,9,     -999,9,     -999,9,     -999,9,     -999,9,     -999,9,     -999,9,     -999,9,     -999,9,     -999,9,     -999,9,     -999,9,     -999,9
320620180309  ,S04P       ,64      ,  1,2          ,2          ,2,20180413,1707, -67.0002,-155.1434,     3774,   3668.7,0.2081638888888888983,34.693182968702850,3,  34.6907,2,219.91790036631662,2, 219.6032,2,    219.4,2,    127.7,2,    32.67,2,     0.00,2,     2.25,2,    0.760,2,    0.398,2,   0.1200,3,   2265.9,2,  2361.16,2,   7.5918,2,    24.92,     -999,9,     -999,9,   0.2076,2,     -999,9,     -999,9,     -999,     -999,9,     -999,9,     -999,9,     -999,9,    0.061,1,    4.663,1,    0.127,1,  20.4500,2,     -999,9,20180413,1713, -66.9998,-155.1436,     -999,9,     -999,9,-999          ,9,     -999,9,     -999,9,     -999,     -999,9,     -999,     -999,9,     -999,9,     -999,9,     -999,9,     -999,9,     -999,9,     -999,9,     -999,9,     -999,9,     -999,9,     -999,9,     -999,9,     -999,9,     -999,9
320620180309  ,S04P       ,64      ,  1,1          ,1          ,2,20180413,1707, -67.0002,-155.1434,     3774,   3836.8,0.2169055555555555459,34.694540568152973,3,  34.6998,4,218.79989850200340,2, 219.4004,2,    219.1,2,    128.7,2,    32.72,2,     0.00,2,     2.24,2,    0.728,6,    0.373,6,   0.1400,3,   2264.6,6,  2359.99,2,   7.5884,2,    24.93,     42.1,2,     -999,9,   0.2163,2,     -999,9,     -999,9,     -999,     -999,9,     -999,9,     -999,1,     -999,9,    0.061,1,    4.661,1,    0.129,1,  19.9600,6,     -999,9,20180413,1707, -67.0002,-155.1434,     -999,9,     -999,9,-999          ,9,     -999,9,     -999,9,     -999,     -999,9,     -999,     -999,9,     -999,9,     -999,9,     -999,9,     -999,9,     -999,9,     -999,9,     -999,9,     -999,9,     -999,9,     -999,9,     -999,9,     -999,9,     -999,9