BOTTLE,20240515CCHHYDRO
EXPOCODE,SECT_ID,STNNBR,CASTNO,SAMPNO,BTLNBR,BTLNBR_FLAG_W,DATE,TIME,LATITUDE,LONGITUDE,DEPTH,CTDPRS,CTDTMP,CTDSAL,CTDSAL_FLAG_W,SALNTY,SALNTY_FLAG_W,CTDOXY,CTDOXY_FLAG_W,CTDOPTOXY,CTDOPTOXY_FLAG_W,OXYGEN,OXYGEN_FLAG_W,SILCAT,SILCAT_FLAG_W,NITRAT,NITRAT_FLAG_W,NITRIT,NITRIT_FLAG_W,PHSPHT,PHSPHT_FLAG_W,CFC-11,CFC-11_FLAG_W,CFC-12,CFC-12_FLAG_W,SF6,SF6_FLAG_W,TCARBN,TCARBN_FLAG_W,ALKALI,ALKALI_FLAG_W,PH_TOT,PH_TOT_FLAG_W,PH_TMP,DOC,DOC_FLAG_W,HELIUM,HELIUM_FLAG_W,REFTMP,REFTMP_FLAG_W,DELC13,DELC13_FLAG_W,DELC14,DELC14_FLAG_W,C14ERR,POC,POC_FLAG_W,TDN,TDN_FLAG_W,TON,TON_FLAG_W,NEON,NEON_FLAG_W,CTDFLUOR,CTDFLUOR_FLAG_W,CTDXMISS,CTDXMISS_FLAG_W,CTDBETA700,CTDBETA700_FLAG_W,N2O,N2O_FLAG_W,ARGON,ARGON_FLAG_W,BTL_DATE,BTL_TIME,BTL_LAT,BTL_LON,KRYPTON,KRYPTON_FLAG_W,XENON,XENON_FLAG_W,HPLC,HPLC_FLAG_W,HE3_HE4_RATIO,HE3_HE4_RATIO_FLAG_W,Nd_143_144_D_EPSILON_BOTTLE,Nd_143_144_D_EPSILON_BOTTLE_FLAG_W,Nd_143_144_D_EPSILON_BOTTLE_ERROR,Nd_143_144_D_RATIO_BOTTLE,Nd_143_144_D_RATIO_BOTTLE_FLAG_W,Nd_143_144_D_RATIO_BOTTLE_ERROR,Nd_D_CONC,Nd_D_CONC_FLAG_W,La_D_CONC_BOTTLE,La_D_CONC_BOTTLE_FLAG_W,Ce_D_CONC_BOTTLE,Ce_D_CONC_BOTTLE_FLAG_W,Pr_D_CONC_BOTTLE,Pr_D_CONC_BOTTLE_FLAG_W,Sm_D_CONC_BOTTLE,Sm_D_CONC_BOTTLE_FLAG_W,Eu_D_CONC_BOTTLE,Eu_D_CONC_BOTTLE_FLAG_W,Gd_D_CONC_BOTTLE,Gd_D_CONC_BOTTLE_FLAG_W,Tb_D_CONC_BOTTLE,Tb_D_CONC_BOTTLE_FLAG_W,Dy_D_CONC_BOTTLE,Dy_D_CONC_BOTTLE_FLAG_W,Ho_D_CONC_BOTTLE,Ho_D_CONC_BOTTLE_FLAG_W,Er_D_CONC_BOTTLE,Er_D_CONC_BOTTLE_FLAG_W,Tm_D_CONC_BOTTLE,Tm_D_CONC_BOTTLE_FLAG_W,Yb_D_CONC_BOTTLE,Yb_D_CONC_BOTTLE_FLAG_W,Lu_D_CONC_BOTTLE,Lu_D_CONC_BOTTLE_FLAG_W
,,,,,,,,,,,METERS,DBAR,ITS-90,PSS-78,,PSS-78,,UMOL/KG,,UMOL/KG,,UMOL/KG,,UMOL/KG,,UMOL/KG,,UMOL/KG,,UMOL/KG,,PMOL/KG,,PMOL/KG,,FMOL/KG,,UMOL/KG,,UMOL/KG,,,,DEG C,UMOL/KG,,NMOL/L,,DEG C,,/MILLE,,/MILLE,,/MILLE,UG/KG,,UMOL/KG,,UMOL/KG,,NMOL/L,,VOLTS,,VOLTS,,VOLTS,,NMOL/KG,,UMOL/L,,,,,,NMOL/L,,NMOL/L,,,,,,10000,,10000,,,,PMOL/KG,,PMOL/L,,PMOL/L,,PMOL/L,,PMOL/L,,PMOL/L,,PMOL/L,,PMOL/L,,PMOL/L,,PMOL/L,,PMOL/L,,PMOL/L,,PMOL/L,,PMOL/L,
320620180309  ,S04P       ,90      ,  1,15         ,15         ,2,20180425,1108, -67.0006,-116.1423,     4604,   1484.6,1.2891779134579497423,34.727897755966033,2,  34.7274,2,195.50457717184958,2, 196.0962,2,    196.2,2,    107.1,2,    32.01,2,     0.00,2,     2.23,3,     -999,9,     -999,9,     -999,9,   2259.5,2,  2360.88,2,   7.5997,2,    24.89,     -999,9,     -999,9,   1.2886,2,     -999,9,     -999,9,     -999,     -999,9,     -999,9,     -999,9,     -999,9,    0.061,1,    4.657,1,    0.129,1,     -999,9,     -999,9,20180425,1238, -67.0019,-116.1404,     -999,9,     -999,9,-999          ,9,     -999,9,     -999,9,     -999,     -999,9,     -999,     -999,9,     -999,9,     -999,9,     -999,9,     -999,9,     -999,9,     -999,9,     -999,9,     -999,9,     -999,9,     -999,9,     -999,9,     -999,9,     -999,9
320620180309  ,S04P       ,90      ,  1,14         ,14         ,2,20180425,1108, -67.0006,-116.1423,     4604,   1584.7,1.2268649756366676318,34.725946557776247,2,  34.7253,2,196.61666276441821,2, 197.1995,2,    197.4,2,    109.0,2,    32.04,2,     0.00,2,     2.24,3,    0.156,2,    0.084,2,   0.0800,2,   2262.1,2,  2363.37,2,   7.5985,2,    24.88,     42.7,2,     -999,9,   1.2271,2,     -999,9,     -999,9,     -999,     -999,9,     -999,9,     -999,1,     -999,9,    0.061,1,    4.657,1,    0.128,1,  19.3500,2,     -999,9,20180425,1235, -67.0020,-116.1404,     -999,9,     -999,9,-999          ,9,     -999,9,     -999,9,     -999,     -999,9,     -999,     -999,9,     -999,9,     -999,9,     -999,9,     -999,9,     -999,9,     -999,9,     -999,9,     -999,9,     -999,9,     -999,9,     -999,9,     -999,9,     -999,9
320620180309  ,S04P       ,90      ,  1,13         ,13         ,2,20180425,1108, -67.0006,-116.1423,     4604,   1760.2,1.1289708943627938531,34.722430460825187,2,  34.7217,2,198.76428478505269,2, 199.2035,2,    199.6,2,    112.1,2,    32.04,2,     0.00,2,     2.24,3,    0.153,2,    0.076,2,   0.1200,2,   2262.7,2,  2363.20,2,   7.5986,2,    24.89,     42.2,2,     -999,9,   1.1289,2,     -999,9,     -999,9,     -999,     -999,9,     -999,9,     -999,1,     -999,9,    0.061,1,    4.657,1,    0.128,1,  19.2100,2,     -999,9,20180425,1230, -67.0021,-116.1403,     -999,9,     -999,9,-999          ,9,     -999,9,     -999,9,     -999,     -999,9,     -999,     -999,9,     -999,9,     -999,9,     -999,9,     -999,9,     -999,9,     -999,9,     -999,9,     -999,9,     -999,9,     -999,9,     -999,9,     -999,9,     -999,9
320620180309  ,S04P       ,90      ,  1,12         ,12         ,2,20180425,1108, -67.0006,-116.1423,     4604,   1964.5,1.0296279549036431167,34.718526072343948,2,  34.7182,2,200.59232889099977,2, 200.9938,2,    201.4,2,    115.9,2,    32.15,2,     0.00,2,     2.25,3,     -999,9,     -999,9,     -999,9,   2263.5,2,  2363.88,2,   7.6014,2,    24.89,     40.5,2,     -999,9,   1.0301,2,     -999,9,     -999,9,     -999,     -999,9,     -999,9,     -999,1,     -999,9,    0.061,1,    4.657,1,    0.126,1,     -999,9,     -999,9,20180425,1225, -67.0020,-116.1404,     -999,9,     -999,9,-999          ,9,     -999,9,     -999,9,     -999,     -999,9,     -999,     -999,9,     -999,9,     -999,9,     -999,9,     -999,9,     -999,9,     -999,9,     -999,9,     -999,9,     -999,9,     -999,9,     -999,9,     -999,9,     -999,9
320620180309  ,S04P       ,90      ,  1,11         ,11         ,2,20180425,1108, -67.0006,-116.1423,     4604,   2198.4,0.9220380327981455570,34.714180044897304,3,  34.7184,2,202.18618206036209,2, 203.3042,2,    203.4,2,    120.0,2,    32.21,2,     0.00,2,     2.26,3,    0.153,2,    0.086,2,   0.0000,2,   2265.7,6,  2364.53,2,   7.5992,2,    24.88,     39.5,2,     -999,9,   0.9221,2,     -999,9,     -999,9,     -999,     -999,9,     -999,9,     -999,1,     -999,9,    0.061,1,    4.657,1,    0.126,1,  19.1300,2,     -999,9,20180425,1219, -67.0017,-116.1406,     -999,9,     -999,9,-999          ,9,     -999,9,     -999,9,     -999,     -999,9,     -999,     -999,9,     -999,9,     -999,9,     -999,9,     -999,9,     -999,9,     -999,9,     -999,9,     -999,9,     -999,9,     -999,9,     -999,9,     -999,9,     -999,9
320620180309  ,S04P       ,90      ,  1,10         ,10         ,2,20180425,1108, -67.0006,-116.1423,     4604,   2452.8,0.8271910208903513473,34.710123989554859,2,  34.7090,2,204.28064335770415,2, 205.2038,2,    205.3,2,    124.0,2,    32.32,2,     0.00,2,     2.27,3,    0.172,2,    0.095,2,   0.0700,2,   2264.9,2,  2365.29,2,   7.5990,6,    24.88,     39.7,2,     -999,9,   0.8268,2,     -999,9,     -999,9,     -999,     -999,9,     -999,9,     -999,1,     -999,9,    0.061,1,    4.657,1,    0.127,1,  19.0300,2,     -999,9,20180425,1213, -67.0014,-116.1408,     -999,9,     -999,9,-999          ,9,     -999,9,     -999,9,     -999,     -999,9,     -999,     -999,9,     -999,9,     -999,9,     -999,9,     -999,9,     -999,9,     -999,9,     -999,9,     -999,9,     -999,9,     -999,9,     -999,9,     -999,9,     -999,9
320620180309  ,S04P       ,90      ,  1,9          ,9          ,2,20180425,1108, -67.0006,-116.1423,     4604,   2711.2,0.7398295922098395705,34.707332375055984,2,  34.7072,2,206.01858294492780,2, 207.0994,2,    206.5,2,    126.9,2,    32.46,2,     0.00,2,     2.28,3,     -999,9,     -999,9,     -999,9,   2264.0,2,  2365.16,2,   7.5994,2,    24.90,     41.4,2,     -999,9,   0.7400,2,     -999,9,     -999,9,     -999,     -999,9,     -999,9,     -999,1,     -999,9,    0.061,1,    4.657,1,    0.125,1,     -999,9,     -999,9,20180425,1207, -67.0010,-116.1411,     -999,9,     -999,9,-999          ,9,     -999,9,     -999,9,     -999,     -999,9,     -999,     -999,9,     -999,9,     -999,9,     -999,9,     -999,9,     -999,9,     -999,9,     -999,9,     -999,9,     -999,9,     -999,9,     -999,9,     -999,9,     -999,9
320620180309  ,S04P       ,90      ,  1,8          ,8          ,2,20180425,1108, -67.0006,-116.1423,     4604,   2964.0,0.6469587224492433508,34.704634725161853,2,  34.7037,2,208.10389116416215,2, 208.7990,2,    208.5,2,    129.1,2,    32.54,2,     0.00,2,     2.29,3,    0.228,6,    0.125,6,   0.0400,6,   2264.4,2,  2365.72,2,   7.5967,2,    24.89,     39.7,2,     -999,9,   0.6468,2,     -999,9,     -999,9,     -999,     -999,9,     -999,9,     -999,1,     -999,9,    0.061,1,    4.657,1,    0.126,1,  18.8500,6,     -999,9,20180425,1201, -67.0002,-116.1420,     -999,9,     -999,9,-999          ,9,     -999,9,     -999,9,     -999,     -999,9,     -999,     -999,9,     -999,9,     -999,9,     -999,9,     -999,9,     -999,9,     -999,9,     -999,9,     -999,9,     -999,9,     -999,9,     -999,9,     -999,9,     -999,9
320620180309  ,S04P       ,90      ,  1,7          ,7          ,2,20180425,1108, -67.0006,-116.1423,     4604,   3256.0,0.5393298917799326242,34.702009242769748,2,  34.7015,2,210.75052319381959,2, 211.0963,2,    211.2,2,    130.8,2,    32.62,2,     0.00,2,     2.29,3,    0.277,2,    0.145,2,   0.0400,2,   2264.9,2,  2365.35,2,   7.5970,2,    24.93,     40.2,2,     -999,9,   0.5391,2,     -999,9,     -999,9,     -999,     -999,9,     -999,9,     -999,1,     -999,9,    0.061,1,    4.657,1,    0.125,1,  18.6700,2,     -999,9,20180425,1154, -66.9999,-116.1424,     -999,9,     -999,9,-999          ,9,     -999,9,     -999,9,     -999,     -999,9,     -999,     -999,9,     -999,9,     -999,9,     -999,9,     -999,9,     -999,9,     -999,9,     -999,9,     -999,9,     -999,9,     -999,9,     -999,9,     -999,9,     -999,9
320620180309  ,S04P       ,90      ,  1,6          ,6          ,2,20180425,1108, -67.0006,-116.1423,     4604,   3564.5,0.4540132403938657024,34.700387721717277,2,  34.6994,2,212.91747452351538,2, 213.2977,2,    214.1,2,    133.1,2,    32.71,2,     0.00,2,     2.31,3,    0.349,2,    0.180,2,   0.0500,2,   2263.4,2,  2365.46,2,   7.5959,2,    24.90,     -999,9,     -999,9,   0.4539,2,     -999,9,     -999,9,     -999,     -999,9,     -999,9,     -999,9,     -999,9,    0.061,1,    4.656,1,    0.127,1,  18.9300,2,     -999,9,20180425,1146, -67.0004,-116.1422,     -999,9,     -999,9,-999          ,9,     -999,9,     -999,9,     -999,     -999,9,     -999,     -999,9,     -999,9,     -999,9,     -999,9,     -999,9,     -999,9,     -999,9,     -999,9,     -999,9,     -999,9,     -999,9,     -999,9,     -999,9,     -999,9
320620180309  ,S04P       ,90      ,  1,5          ,5          ,2,20180425,1108, -67.0006,-116.1423,     4604,   3871.8,0.4123747362196372723,34.700148930458951,2,  34.6992,2,214.29796019463302,2, 215.0041,2,    214.5,2,    136.4,2,    32.77,2,     0.00,2,     2.31,3,    0.356,2,    0.180,2,   0.0400,2,   2265.8,2,  2364.84,2,   7.5961,2,    24.89,     41.2,2,     -999,9,   0.4122,2,     -999,9,     -999,9,     -999,     -999,9,     -999,9,     -999,1,     -999,9,    0.061,1,    4.656,1,    0.124,1,  18.8400,2,     -999,9,20180425,1139, -67.0010,-116.1420,     -999,9,     -999,9,-999          ,9,     -999,9,     -999,9,     -999,     -999,9,     -999,     -999,9,     -999,9,     -999,9,     -999,9,     -999,9,     -999,9,     -999,9,     -999,9,     -999,9,     -999,9,     -999,9,     -999,9,     -999,9,     -999,9
320620180309  ,S04P       ,90      ,  1,4          ,4          ,2,20180425,1108, -67.0006,-116.1423,     4604,   4181.7,0.3886421260370259700,34.699602699635527,2,  34.6986,2,216.40452156865302,2, 215.7975,2,    215.9,2,    139.1,2,    32.77,2,     0.00,2,     2.33,3,    0.390,2,    0.205,2,   0.0200,2,   2264.4,2,  2365.24,2,   7.5954,2,    24.89,     -999,9,     -999,9,   0.3885,2,     -999,9,     -999,9,     -999,     -999,9,     -999,9,     -999,9,     -999,9,    0.060,1,    4.655,1,    0.124,1,  18.7700,2,     -999,9,20180425,1130, -67.0013,-116.1420,     -999,9,     -999,9,-999          ,9,     -999,9,     -999,9,     -999,     -999,9,     -999,     -999,9,     -999,9,     -999,9,     -999,9,     -999,9,     -999,9,     -999,9,     -999,9,     -999,9,     -999,9,     -999,9,     -999,9,     -999,9,     -999,9
320620180309  ,S04P       ,90      ,  1,3          ,3          ,2,20180425,1108, -67.0006,-116.1423,     4604,   4438.6,0.3795619259750181995,34.698994832993833,2,  34.6976,2,216.75470589997045,2, 216.2995,2,    216.0,2,    142.6,2,    32.92,2,     0.00,2,     2.36,3,    0.444,2,    0.225,2,   0.0500,2,   2265.1,2,  2365.70,2,   7.5947,2,    24.89,     42.1,2,     -999,9,   0.3795,2,     -999,9,     -999,9,     -999,     -999,9,     -999,9,     -999,1,     -999,9,    0.061,1,    4.651,1,    0.129,1,  18.7200,2,     -999,9,20180425,1121, -67.0011,-116.1420,     -999,9,     -999,9,-999          ,9,     -999,9,     -999,9,     -999,     -999,9,     -999,     -999,9,     -999,9,     -999,9,     -999,9,     -999,9,     -999,9,     -999,9,     -999,9,     -999,9,     -999,9,     -999,9,     -999,9,     -999,9,     -999,9
320620180309  ,S04P       ,90      ,  1,2          ,2          ,2,20180425,1108, -67.0006,-116.1423,     4604,   4592.7,0.3747692989231989347,34.698108862047455,2,  34.6976,2,216.76052882743315,2, 216.1992,2,    215.9,2,    145.5,2,    33.02,2,     0.00,2,     2.31,3,    0.507,2,    0.262,2,   0.1200,2,   2265.3,2,  2365.67,2,   7.5932,2,    24.89,     -999,9,     -999,9,   0.3748,2,     -999,9,     -999,9,     -999,     -999,9,     -999,9,     -999,9,     -999,9,    0.060,1,    4.644,1,    0.135,1,  18.9400,2,     -999,9,20180425,1115, -67.0008,-116.1422,     -999,9,     -999,9,-999          ,9,     -999,9,     -999,9,     -999,     -999,9,     -999,     -999,9,     -999,9,     -999,9,     -999,9,     -999,9,     -999,9,     -999,9,     -999,9,     -999,9,     -999,9,     -999,9,     -999,9,     -999,9,     -999,9
320620180309  ,S04P       ,90      ,  1,1          ,1          ,2,20180425,1108, -67.0006,-116.1423,     4604,   4690.2,0.3773617289765126004,34.697657157463823,2,  34.6972,2,217.22013270091628,2, 216.2024,2,    216.9,2,    144.3,2,    33.04,2,     0.00,2,     2.26,2,    0.533,2,    0.271,2,   0.1000,2,   2267.2,2,  2366.61,2,   7.5941,2,    24.90,     41.9,2,     -999,9,   0.3774,2,     -999,9,     -999,9,     -999,     -999,9,     -999,9,     -999,1,     -999,9,    0.061,1,    4.634,1,    0.150,1,  18.9700,2,     -999,9,20180425,1108, -67.0006,-116.1423,     -999,9,     -999,9,-999          ,9,     -999,9,     -999,9,     -999,     -999,9,     -999,     -999,9,     -999,9,     -999,9,     -999,9,     -999,9,     -999,9,     -999,9,     -999,9,     -999,9,     -999,9,     -999,9,     -999,9,     -999,9,     -999,9