BOTTLE,20240515CCHHYDRO
EXPOCODE,SECT_ID,STNNBR,CASTNO,SAMPNO,BTLNBR,BTLNBR_FLAG_W,DATE,TIME,LATITUDE,LONGITUDE,DEPTH,CTDPRS,CTDTMP,CTDSAL,CTDSAL_FLAG_W,SALNTY,SALNTY_FLAG_W,CTDOXY,CTDOXY_FLAG_W,CTDOPTOXY,CTDOPTOXY_FLAG_W,OXYGEN,OXYGEN_FLAG_W,SILCAT,SILCAT_FLAG_W,NITRAT,NITRAT_FLAG_W,NITRIT,NITRIT_FLAG_W,PHSPHT,PHSPHT_FLAG_W,CFC-11,CFC-11_FLAG_W,CFC-12,CFC-12_FLAG_W,SF6,SF6_FLAG_W,TCARBN,TCARBN_FLAG_W,ALKALI,ALKALI_FLAG_W,PH_TOT,PH_TOT_FLAG_W,PH_TMP,DOC,DOC_FLAG_W,HELIUM,HELIUM_FLAG_W,REFTMP,REFTMP_FLAG_W,DELC13,DELC13_FLAG_W,DELC14,DELC14_FLAG_W,C14ERR,POC,POC_FLAG_W,TDN,TDN_FLAG_W,TON,TON_FLAG_W,NEON,NEON_FLAG_W,CTDFLUOR,CTDFLUOR_FLAG_W,CTDXMISS,CTDXMISS_FLAG_W,CTDBETA700,CTDBETA700_FLAG_W,N2O,N2O_FLAG_W,ARGON,ARGON_FLAG_W,BTL_DATE,BTL_TIME,BTL_LAT,BTL_LON,KRYPTON,KRYPTON_FLAG_W,XENON,XENON_FLAG_W,HPLC,HPLC_FLAG_W,HE3_HE4_RATIO,HE3_HE4_RATIO_FLAG_W,Nd_143_144_D_EPSILON_BOTTLE,Nd_143_144_D_EPSILON_BOTTLE_FLAG_W,Nd_143_144_D_EPSILON_BOTTLE_ERROR,Nd_143_144_D_RATIO_BOTTLE,Nd_143_144_D_RATIO_BOTTLE_FLAG_W,Nd_143_144_D_RATIO_BOTTLE_ERROR,Nd_D_CONC,Nd_D_CONC_FLAG_W,La_D_CONC_BOTTLE,La_D_CONC_BOTTLE_FLAG_W,Ce_D_CONC_BOTTLE,Ce_D_CONC_BOTTLE_FLAG_W,Pr_D_CONC_BOTTLE,Pr_D_CONC_BOTTLE_FLAG_W,Sm_D_CONC_BOTTLE,Sm_D_CONC_BOTTLE_FLAG_W,Eu_D_CONC_BOTTLE,Eu_D_CONC_BOTTLE_FLAG_W,Gd_D_CONC_BOTTLE,Gd_D_CONC_BOTTLE_FLAG_W,Tb_D_CONC_BOTTLE,Tb_D_CONC_BOTTLE_FLAG_W,Dy_D_CONC_BOTTLE,Dy_D_CONC_BOTTLE_FLAG_W,Ho_D_CONC_BOTTLE,Ho_D_CONC_BOTTLE_FLAG_W,Er_D_CONC_BOTTLE,Er_D_CONC_BOTTLE_FLAG_W,Tm_D_CONC_BOTTLE,Tm_D_CONC_BOTTLE_FLAG_W,Yb_D_CONC_BOTTLE,Yb_D_CONC_BOTTLE_FLAG_W,Lu_D_CONC_BOTTLE,Lu_D_CONC_BOTTLE_FLAG_W
,,,,,,,,,,,METERS,DBAR,ITS-90,PSS-78,,PSS-78,,UMOL/KG,,UMOL/KG,,UMOL/KG,,UMOL/KG,,UMOL/KG,,UMOL/KG,,UMOL/KG,,PMOL/KG,,PMOL/KG,,FMOL/KG,,UMOL/KG,,UMOL/KG,,,,DEG C,UMOL/KG,,NMOL/L,,DEG C,,/MILLE,,/MILLE,,/MILLE,UG/KG,,UMOL/KG,,UMOL/KG,,NMOL/L,,VOLTS,,VOLTS,,VOLTS,,NMOL/KG,,UMOL/L,,,,,,NMOL/L,,NMOL/L,,,,,,10000,,10000,,,,PMOL/KG,,PMOL/L,,PMOL/L,,PMOL/L,,PMOL/L,,PMOL/L,,PMOL/L,,PMOL/L,,PMOL/L,,PMOL/L,,PMOL/L,,PMOL/L,,PMOL/L,,PMOL/L,
320620180309  ,S04P       ,61      ,  1,15         ,15         ,2,20180412,1959, -67.0005,-159.2660,     4283,   1314.8,0.7958750000000001101,34.713209948476766,2,  34.7117,2,201.44594223639476,2, 200.7985,2,    200.9,2,    121.8,2,    32.64,2,     0.00,2,     2.23,2,     -999,9,     -999,9,     -999,9,     -999,9,     -999,9,     -999,9,     -999,     -999,9,     -999,1,   0.7947,2,     -999,9,     -999,9,     -999,     -999,9,     -999,9,     -999,9,     -999,1,    0.061,1,    4.666,1,    0.129,1,     -999,9,     -999,1,20180412,2113, -67.0000,-159.2657,     -999,1,     -999,1,-999          ,9,     -999,1,     -999,9,     -999,     -999,9,     -999,     -999,9,     -999,1,     -999,1,     -999,1,     -999,1,     -999,1,     -999,1,     -999,1,     -999,1,     -999,1,     -999,1,     -999,1,     -999,1,     -999,1
320620180309  ,S04P       ,61      ,  1,14         ,14         ,2,20180412,1959, -67.0005,-159.2660,     4283,   1418.4,0.7495638888888889184,34.711322972495033,2,  34.7100,2,202.29107376861052,2, 202.0028,2,    202.3,2,    123.0,2,    32.62,2,     0.00,2,     2.23,2,    0.111,2,    0.055,2,   0.0800,2,   2259.6,3,  2363.89,2,   7.5902,2,    24.92,     -999,9,     -999,9,   0.7487,2,     -999,9,     -999,9,     -999,     -999,9,     -999,9,     -999,9,     -999,9,    0.061,1,    4.666,1,    0.129,1,  19.7600,2,     -999,9,20180412,2110, -67.0001,-159.2658,     -999,9,     -999,9,-999          ,9,     -999,9,     -999,9,     -999,     -999,9,     -999,     -999,9,     -999,9,     -999,9,     -999,9,     -999,9,     -999,9,     -999,9,     -999,9,     -999,9,     -999,9,     -999,9,     -999,9,     -999,9,     -999,9
320620180309  ,S04P       ,61      ,  1,13         ,13         ,2,20180412,1959, -67.0005,-159.2660,     4283,   1520.5,0.7104333333333332501,34.709766941867251,2,  34.7086,2,203.96745825912285,2, 203.3019,2,    203.1,2,    124.9,2,    32.58,2,     0.00,2,     2.24,2,     -999,9,     -999,9,     -999,9,   2263.6,2,  2363.13,2,   7.5900,2,    24.93,     -999,9,     -999,9,   0.7097,2,     -999,9,     -999,9,     -999,     -999,9,     -999,9,     -999,9,     -999,9,    0.061,1,    4.666,1,    0.128,1,     -999,9,     -999,9,20180412,2107, -67.0002,-159.2658,     -999,9,     -999,9,-999          ,9,     -999,9,     -999,9,     -999,     -999,9,     -999,     -999,9,     -999,1,     -999,1,     -999,1,     -999,1,     -999,1,     -999,1,     -999,1,     -999,1,     -999,1,     -999,1,     -999,1,     -999,1,     -999,1
320620180309  ,S04P       ,61      ,  1,12         ,12         ,2,20180412,1959, -67.0005,-159.2660,     4283,   1622.2,0.6802916666666667389,34.708448587491695,2,  34.7074,2,204.89470024545915,2, 204.2002,2,    204.1,2,    125.6,2,    32.60,2,     0.00,2,     2.22,2,     -999,9,     -999,9,     -999,9,     -999,9,     -999,9,     -999,9,     -999,     -999,9,     -999,9,   0.6794,2,     -999,9,     -999,9,     -999,     -999,9,     -999,9,     -999,9,     -999,9,    0.061,1,    4.666,1,    0.128,1,     -999,9,     -999,9,20180412,2103, -67.0001,-159.2657,     -999,9,     -999,9,-999          ,9,     -999,9,     -999,9,     -999,     -999,9,     -999,     -999,9,     -999,9,     -999,9,     -999,9,     -999,9,     -999,9,     -999,9,     -999,9,     -999,9,     -999,9,     -999,9,     -999,9,     -999,9,     -999,9
320620180309  ,S04P       ,61      ,  1,11         ,11         ,2,20180412,1959, -67.0005,-159.2660,     4283,   1825.6,0.6106222222222220664,34.706269562300733,2,  34.7056,2,206.88947594901333,2, 206.0997,2,    205.8,2,    127.0,2,    32.61,2,     0.00,2,     2.22,2,     -999,9,     -999,9,     -999,9,   2262.0,2,  2364.38,2,   7.5918,6,    24.92,     -999,9,     -999,1,   0.6101,2,     -999,9,     -999,9,     -999,     -999,9,     -999,9,     -999,9,     -999,1,    0.062,1,    4.666,1,    0.127,1,     -999,9,     -999,1,20180412,2059, -67.0001,-159.2657,     -999,1,     -999,1,-999          ,9,     -999,1,     -999,9,     -999,     -999,9,     -999,     -999,9,     -999,1,     -999,1,     -999,1,     -999,1,     -999,1,     -999,1,     -999,1,     -999,1,     -999,1,     -999,1,     -999,1,     -999,1,     -999,1
320620180309  ,S04P       ,61      ,  1,10         ,10         ,2,20180412,1959, -67.0005,-159.2660,     4283,   2027.9,0.5344611111111111645,34.704535272161863,2,  34.7037,2,208.69805171922104,2, 207.9050,2,    207.8,2,    128.1,2,    32.63,2,     0.00,2,     2.25,2,    0.155,2,    0.085,2,   0.0800,2,   2262.7,2,  2363.59,2,   7.5908,2,    24.92,     -999,9,     -999,9,   0.5337,2,     -999,9,     -999,9,     -999,     -999,9,     -999,9,     -999,9,     -999,9,    0.061,1,    4.666,1,    0.127,1,  19.9600,2,     -999,9,20180412,2054, -67.0001,-159.2658,     -999,9,     -999,9,-999          ,9,     -999,9,     -999,9,     -999,     -999,9,     -999,     -999,9,     -999,9,     -999,9,     -999,9,     -999,9,     -999,9,     -999,9,     -999,9,     -999,9,     -999,9,     -999,9,     -999,9,     -999,9,     -999,9
320620180309  ,S04P       ,61      ,  1,9          ,9          ,2,20180412,1959, -67.0005,-159.2660,     4283,   2284.0,0.4453361111111110993,34.703023907161317,2,  34.7019,2,210.33756282861313,2, 210.1026,2,    209.9,2,    129.9,2,    32.69,2,     0.00,2,     2.23,2,     -999,9,     -999,9,     -999,9,     -999,9,     -999,9,     -999,9,     -999,     -999,9,     -999,9,   0.4453,2,     -999,9,     -999,9,     -999,     -999,9,     -999,9,     -999,9,     -999,9,    0.061,1,    4.667,1,    0.127,1,     -999,9,     -999,9,20180412,2048, -67.0002,-159.2658,     -999,9,     -999,9,-999          ,9,     -999,9,     -999,9,     -999,     -999,9,     -999,     -999,9,     -999,1,     -999,1,     -999,1,     -999,1,     -999,1,     -999,1,     -999,1,     -999,1,     -999,1,     -999,1,     -999,1,     -999,1,     -999,1
320620180309  ,S04P       ,61      ,  1,8          ,8          ,2,20180412,1959, -67.0005,-159.2660,     4283,   2541.2,0.3768777777777777560,34.701669955473648,2,  34.7007,2,212.17901339257244,2, 212.1997,2,    211.9,2,    131.2,2,    32.78,2,     0.00,2,     2.24,2,    0.226,2,    0.129,2,   0.1300,2,   2260.5,2,  2363.13,2,   7.5936,2,    24.92,     -999,9,     -999,9,   0.3758,2,     -999,9,     -999,9,     -999,     -999,9,     -999,9,     -999,9,     -999,9,    0.061,1,    4.667,1,    0.126,1,  19.6200,2,     -999,9,20180412,2042, -67.0004,-159.2660,     -999,9,     -999,9,-999          ,9,     -999,9,     -999,9,     -999,     -999,9,     -999,     -999,9,     -999,9,     -999,9,     -999,9,     -999,9,     -999,9,     -999,9,     -999,9,     -999,9,     -999,9,     -999,9,     -999,9,     -999,9,     -999,9
320620180309  ,S04P       ,61      ,  1,7          ,7          ,2,20180412,1959, -67.0005,-159.2660,     4283,   2795.6,0.3182944444444444909,34.699798502743334,2,  34.6978,2,214.05894163892540,2, 214.0976,2,    214.0,2,    131.5,2,    32.77,2,     0.00,2,     2.24,2,     -999,9,     -999,9,     -999,9,     -999,9,     -999,9,     -999,9,     -999,     -999,9,     -999,1,   0.3177,2,     -999,9,     -999,9,     -999,     -999,9,     -999,9,     -999,9,     -999,1,    0.061,1,    4.667,1,    0.125,1,     -999,9,     -999,1,20180412,2036, -67.0001,-159.2658,     -999,1,     -999,1,-999          ,9,     -999,1,     -999,9,     -999,     -999,9,     -999,     -999,9,     -999,1,     -999,1,     -999,1,     -999,1,     -999,1,     -999,1,     -999,1,     -999,1,     -999,1,     -999,1,     -999,1,     -999,1,     -999,1
320620180309  ,S04P       ,61      ,  1,6          ,6          ,2,20180412,1959, -67.0005,-159.2660,     4283,   3052.6,0.2592805555555555141,34.696189230817467,2,  34.6962,2,216.96405303138187,2, 215.8025,2,    216.7,2,    129.8,2,    32.72,2,     0.00,2,     2.24,2,    0.501,2,    0.267,2,   0.1200,2,   2260.9,2,  2362.33,2,   7.5913,2,    24.92,     -999,9,     -999,9,   0.2587,2,     -999,9,     -999,9,     -999,     -999,9,     -999,9,     -999,9,     -999,9,    0.061,1,    4.667,1,    0.125,1,  19.4400,2,     -999,9,20180412,2030, -67.0000,-159.2657,     -999,9,     -999,9,-999          ,9,     -999,9,     -999,9,     -999,     -999,9,     -999,     -999,9,     -999,9,     -999,9,     -999,9,     -999,9,     -999,9,     -999,9,     -999,9,     -999,9,     -999,9,     -999,9,     -999,9,     -999,9,     -999,9
320620180309  ,S04P       ,61      ,  1,5          ,5          ,2,20180412,1959, -67.0005,-159.2660,     4283,   3358.6,0.2121916666666666673,34.691779025907778,2,  34.6911,2,219.64959032291213,2, 219.4028,2,    219.1,2,    126.6,2,    32.70,2,     0.00,2,     2.25,2,     -999,9,     -999,9,     -999,9,     -999,9,     -999,9,     -999,9,     -999,     -999,9,     -999,9,   0.2116,2,     -999,9,     -999,9,     -999,     -999,9,     -999,9,     -999,9,     -999,9,    0.061,1,    4.665,1,    0.126,1,     -999,9,     -999,9,20180412,2023, -67.0001,-159.2658,     -999,9,     -999,9,-999          ,9,     -999,9,     -999,9,     -999,     -999,9,     -999,     -999,9,     -999,1,     -999,1,     -999,1,     -999,1,     -999,1,     -999,1,     -999,1,     -999,1,     -999,1,     -999,1,     -999,1,     -999,1,     -999,1
320620180309  ,S04P       ,61      ,  1,4          ,4          ,2,20180412,1959, -67.0005,-159.2660,     4283,   3666.5,0.2166055555555555789,34.691102227490425,3,  34.6890,2,220.56145385302696,2, 219.7988,2,    219.8,2,    126.3,2,    32.70,2,     0.00,2,     2.25,2,    0.830,2,    0.437,2,   0.3600,2,   2262.5,2,  2359.28,2,   7.5913,2,    24.93,     -999,9,     -999,1,   0.2159,2,     -999,9,     -999,9,     -999,     -999,9,     -999,9,     -999,9,     -999,1,    0.060,1,    4.664,1,    0.127,1,  19.6400,2,     -999,1,20180412,2017, -67.0007,-159.2659,     -999,1,     -999,1,-999          ,9,     -999,1,     -999,9,     -999,     -999,9,     -999,     -999,9,     -999,9,     -999,9,     -999,9,     -999,9,     -999,9,     -999,9,     -999,9,     -999,9,     -999,9,     -999,9,     -999,9,     -999,9,     -999,9
320620180309  ,S04P       ,61      ,  1,3          ,3          ,2,20180412,1959, -67.0005,-159.2660,     4283,   3871.9,0.2340916666666666424,34.691344597417995,3,  34.6890,2,221.98985512821918,2, 219.6963,2,    219.8,2,    126.7,2,    32.76,2,     0.00,2,     2.25,2,     -999,9,     -999,9,     -999,9,   2261.3,2,  2361.39,2,   7.5908,2,    24.93,     -999,9,     -999,9,   0.2334,2,     -999,9,     -999,9,     -999,     -999,9,     -999,9,     -999,9,     -999,9,    0.061,1,    4.664,1,    0.128,1,     -999,9,     -999,9,20180412,2011, -67.0012,-159.2666,     -999,9,     -999,9,-999          ,9,     -999,9,     -999,9,     -999,     -999,9,     -999,     -999,9,     -999,1,     -999,1,     -999,1,     -999,1,     -999,1,     -999,1,     -999,1,     -999,1,     -999,1,     -999,1,     -999,1,     -999,1,     -999,1
320620180309  ,S04P       ,61      ,  1,2          ,2          ,2,20180412,1959, -67.0005,-159.2660,     4283,   4078.3,0.2553750000000000187,34.691749571379354,2,  34.6903,2,223.82657242175307,3, 219.6000,2,    220.0,2,    127.0,2,    32.82,2,     0.00,2,     2.25,2,    0.822,2,    0.431,2,   0.3100,2,   2262.2,2,  2359.99,2,   7.5924,2,    24.92,     -999,9,     -999,1,   0.2547,2,     -999,9,     -999,9,     -999,     -999,9,     -999,9,     -999,9,     -999,1,    0.061,1,    4.664,1,    0.128,1,  19.5900,2,     -999,1,20180412,2006, -67.0009,-159.2662,     -999,1,     -999,1,-999          ,9,     -999,1,     -999,9,     -999,     -999,9,     -999,     -999,9,     -999,1,     -999,1,     -999,1,     -999,1,     -999,1,     -999,1,     -999,1,     -999,1,     -999,1,     -999,1,     -999,1,     -999,1,     -999,1
320620180309  ,S04P       ,61      ,  1,1          ,1          ,2,20180412,1959, -67.0005,-159.2660,     4283,   4358.8,0.2855472222222222300,34.691959540427945,2,  34.6913,2,222.68913351931835,3, 219.6965,2,    219.7,2,    127.5,2,    32.75,2,     0.00,2,     2.24,2,    0.823,2,    0.427,2,   0.3000,2,   2261.5,6,  2360.20,2,   7.5913,2,    24.93,     -999,9,     -999,1,   0.2850,2,     -999,9,     -999,9,     -999,     -999,9,     -999,9,     -999,9,     -999,1,    0.061,1,    4.663,1,    0.127,1,  19.6900,2,     -999,1,20180412,1959, -67.0005,-159.2660,     -999,1,     -999,1,-999          ,9,     -999,1,     -999,9,     -999,     -999,9,     -999,     -999,9,     -999,1,     -999,1,     -999,1,     -999,1,     -999,1,     -999,1,     -999,1,     -999,1,     -999,1,     -999,1,     -999,1,     -999,1,     -999,1