BOTTLE,20240515CCHHYDRO
EXPOCODE,SECT_ID,STNNBR,CASTNO,SAMPNO,BTLNBR,BTLNBR_FLAG_W,DATE,TIME,LATITUDE,LONGITUDE,DEPTH,CTDPRS,CTDTMP,CTDSAL,CTDSAL_FLAG_W,SALNTY,SALNTY_FLAG_W,CTDOXY,CTDOXY_FLAG_W,CTDOPTOXY,CTDOPTOXY_FLAG_W,OXYGEN,OXYGEN_FLAG_W,SILCAT,SILCAT_FLAG_W,NITRAT,NITRAT_FLAG_W,NITRIT,NITRIT_FLAG_W,PHSPHT,PHSPHT_FLAG_W,CFC-11,CFC-11_FLAG_W,CFC-12,CFC-12_FLAG_W,SF6,SF6_FLAG_W,TCARBN,TCARBN_FLAG_W,ALKALI,ALKALI_FLAG_W,PH_TOT,PH_TOT_FLAG_W,PH_TMP,DOC,DOC_FLAG_W,HELIUM,HELIUM_FLAG_W,REFTMP,REFTMP_FLAG_W,DELC13,DELC13_FLAG_W,DELC14,DELC14_FLAG_W,C14ERR,POC,POC_FLAG_W,TDN,TDN_FLAG_W,TON,TON_FLAG_W,NEON,NEON_FLAG_W,CTDFLUOR,CTDFLUOR_FLAG_W,CTDXMISS,CTDXMISS_FLAG_W,CTDBETA700,CTDBETA700_FLAG_W,N2O,N2O_FLAG_W,ARGON,ARGON_FLAG_W,BTL_DATE,BTL_TIME,BTL_LAT,BTL_LON,KRYPTON,KRYPTON_FLAG_W,XENON,XENON_FLAG_W,HPLC,HPLC_FLAG_W,HE3_HE4_RATIO,HE3_HE4_RATIO_FLAG_W,Nd_143_144_D_EPSILON_BOTTLE,Nd_143_144_D_EPSILON_BOTTLE_FLAG_W,Nd_143_144_D_EPSILON_BOTTLE_ERROR,Nd_143_144_D_RATIO_BOTTLE,Nd_143_144_D_RATIO_BOTTLE_FLAG_W,Nd_143_144_D_RATIO_BOTTLE_ERROR,Nd_D_CONC,Nd_D_CONC_FLAG_W,La_D_CONC_BOTTLE,La_D_CONC_BOTTLE_FLAG_W,Ce_D_CONC_BOTTLE,Ce_D_CONC_BOTTLE_FLAG_W,Pr_D_CONC_BOTTLE,Pr_D_CONC_BOTTLE_FLAG_W,Sm_D_CONC_BOTTLE,Sm_D_CONC_BOTTLE_FLAG_W,Eu_D_CONC_BOTTLE,Eu_D_CONC_BOTTLE_FLAG_W,Gd_D_CONC_BOTTLE,Gd_D_CONC_BOTTLE_FLAG_W,Tb_D_CONC_BOTTLE,Tb_D_CONC_BOTTLE_FLAG_W,Dy_D_CONC_BOTTLE,Dy_D_CONC_BOTTLE_FLAG_W,Ho_D_CONC_BOTTLE,Ho_D_CONC_BOTTLE_FLAG_W,Er_D_CONC_BOTTLE,Er_D_CONC_BOTTLE_FLAG_W,Tm_D_CONC_BOTTLE,Tm_D_CONC_BOTTLE_FLAG_W,Yb_D_CONC_BOTTLE,Yb_D_CONC_BOTTLE_FLAG_W,Lu_D_CONC_BOTTLE,Lu_D_CONC_BOTTLE_FLAG_W
,,,,,,,,,,,METERS,DBAR,ITS-90,PSS-78,,PSS-78,,UMOL/KG,,UMOL/KG,,UMOL/KG,,UMOL/KG,,UMOL/KG,,UMOL/KG,,UMOL/KG,,PMOL/KG,,PMOL/KG,,FMOL/KG,,UMOL/KG,,UMOL/KG,,,,DEG C,UMOL/KG,,NMOL/L,,DEG C,,/MILLE,,/MILLE,,/MILLE,UG/KG,,UMOL/KG,,UMOL/KG,,NMOL/L,,VOLTS,,VOLTS,,VOLTS,,NMOL/KG,,UMOL/L,,,,,,NMOL/L,,NMOL/L,,,,,,10000,,10000,,,,PMOL/KG,,PMOL/L,,PMOL/L,,PMOL/L,,PMOL/L,,PMOL/L,,PMOL/L,,PMOL/L,,PMOL/L,,PMOL/L,,PMOL/L,,PMOL/L,,PMOL/L,,PMOL/L,
320620180309  ,S04P       ,4       ,  1,15         ,15         ,2,20180317,1923, -69.6655, 169.9070,     2744,   1078.3,0.7112249999999998851,34.708771542746831,2,  34.7080,2,203.19534185715909,2, 203.4975,2,    203.0,2,    122.9,2,    32.62,2,     0.00,2,     2.25,2,     -999,9,     -999,9,     -999,9,     -999,9,     -999,9,     -999,9,     -999,     -999,9,     -999,1,   0.7106,2,     -999,9,     -999,1,     -999,     -999,9,     -999,9,     -999,9,     -999,1,    0.061,1,    4.675,1,    0.132,1,     -999,9,     -999,1,20180317,2013, -69.6652, 169.9071,     -999,1,     -999,1,-999          ,9,     -999,1,     -999,9,     -999,     -999,9,     -999,     -999,9,     -999,1,     -999,1,     -999,1,     -999,1,     -999,1,     -999,1,     -999,1,     -999,1,     -999,1,     -999,1,     -999,1,     -999,1,     -999,1
320620180309  ,S04P       ,4       ,  1,14         ,14         ,2,20180317,1923, -69.6655, 169.9070,     2744,   1178.8,0.6375111111111109174,34.705263001495275,2,  34.7054,2,204.70619113040078,2, 204.4102,2,    204.8,2,    123.2,2,    32.65,2,     0.00,2,     2.26,2,    0.214,2,    0.121,2,   0.0900,2,   2264.0,2,  2360.20,2,   7.5919,2,    24.99,     -999,9,     -999,9,   0.6375,2,0.59000000,2, -165.190,2,    0.002,     -999,9,     -999,9,     -999,9,     -999,9,    0.061,1,    4.675,1,    0.130,1,  20.1400,2,     -999,9,20180317,2010, -69.6652, 169.9071,     -999,9,     -999,9,-999          ,9,     -999,9,     -999,9,     -999,     -999,9,     -999,     -999,9,     -999,9,     -999,9,     -999,9,     -999,9,     -999,9,     -999,9,     -999,9,     -999,9,     -999,9,     -999,9,     -999,9,     -999,9,     -999,9
320620180309  ,S04P       ,4       ,  1,13         ,13         ,2,20180317,1923, -69.6655, 169.9070,     2744,   1281.4,0.5853027777777779495,34.704164024995897,2,  34.7041,2,206.45183918060664,2, 211.2019,3,    206.0,2,    124.7,2,    32.64,2,     0.00,2,     2.26,2,    0.216,2,    0.111,2,   0.0400,2,   2265.2,2,  2362.19,3,   7.6203,3,    24.99,     -999,9,     -999,9,   0.5847,2,0.56000000,2, -161.760,2,    0.002,     -999,9,     -999,9,     -999,9,     -999,9,    0.061,1,    4.675,1,    0.130,1,  20.1900,2,     -999,9,20180317,2007, -69.6655, 169.9070,     -999,9,     -999,9,-999          ,9,     -999,9,     -999,9,     -999,     -999,9,     -999,     -999,9,     -999,1,     -999,1,     -999,1,     -999,1,     -999,1,     -999,1,     -999,1,     -999,1,     -999,1,     -999,1,     -999,1,     -999,1,     -999,1
320620180309  ,S04P       ,4       ,  1,12         ,12         ,2,20180317,1923, -69.6655, 169.9070,     2744,   1382.7,0.4798805555555555880,34.697564418043726,2,  34.6988,2,211.21321308889634,2, 211.3048,2,    209.5,2,    122.5,2,    32.57,2,     0.00,2,     2.24,2,     -999,9,     -999,9,     -999,9,     -999,9,     -999,9,     -999,9,     -999,     -999,9,     -999,1,   0.4787,2,     -999,9,     -999,9,     -999,     -999,9,     -999,9,     -999,9,     -999,1,    0.061,1,    4.673,1,    0.133,1,     -999,9,     -999,1,20180317,2003, -69.6658, 169.9066,     -999,1,     -999,1,-999          ,9,     -999,1,     -999,9,     -999,     -999,9,     -999,     -999,9,     -999,9,     -999,9,     -999,9,     -999,9,     -999,9,     -999,9,     -999,9,     -999,9,     -999,9,     -999,9,     -999,9,     -999,9,     -999,9
320620180309  ,S04P       ,4       ,  1,11         ,11         ,2,20180317,1923, -69.6655, 169.9070,     2744,   1484.7,0.3912611111111111151,34.693895981844584,2,  34.6933,2,210.95458763212383,2, 213.4967,2,    212.4,2,    121.2,2,    32.53,2,     0.00,2,     2.24,2,    0.587,2,    0.328,2,   0.4400,2,   2264.5,2,  2358.95,2,   7.5892,2,    24.99,     -999,9,     -999,9,   0.3910,2,0.62000000,2, -158.900,2,    0.002,     -999,9,     -999,9,     -999,9,     -999,9,    0.061,1,    4.674,1,    0.130,1,  20.0300,2,     -999,9,20180317,2000, -69.6661, 169.9062,     -999,9,     -999,9,-999          ,9,     -999,9,     -999,9,     -999,     -999,9,     -999,     -999,9,     -999,1,     -999,1,     -999,1,     -999,1,     -999,1,     -999,1,     -999,1,     -999,1,     -999,1,     -999,1,     -999,1,     -999,1,     -999,1
320620180309  ,S04P       ,4       ,  1,10         ,10         ,2,20180317,1923, -69.6655, 169.9070,     2744,   1586.7,0.3687472222222221707,34.694754944128213,2,  34.6956,2,213.61687733865560,2, 215.3973,2,    213.4,2,    121.6,2,    32.56,2,     0.00,2,     2.25,2,    0.572,2,    0.326,2,   0.4800,2,   2265.8,2,  2359.77,2,   7.5895,2,    24.98,     -999,9,     -999,9,   0.3683,2,     -999,9,     -999,9,     -999,     -999,9,     -999,9,     -999,9,     -999,9,    0.061,1,    4.673,1,    0.132,1,  19.9400,2,     -999,9,20180317,1957, -69.6662, 169.9062,     -999,9,     -999,9,-999          ,9,     -999,9,     -999,9,     -999,     -999,9,     -999,     -999,9,     -999,9,     -999,9,     -999,9,     -999,9,     -999,9,     -999,9,     -999,9,     -999,9,     -999,9,     -999,9,     -999,9,     -999,9,     -999,9
320620180309  ,S04P       ,4       ,  1,9          ,9          ,2,20180317,1923, -69.6655, 169.9070,     2744,   1688.7,0.3154666666666667285,34.692380891580157,2,  34.6921,2,214.34627295266293,2, 216.1066,2,    214.8,2,    120.0,2,    32.54,2,     0.00,2,     2.23,2,     -999,9,     -999,9,     -999,9,     -999,9,     -999,9,     -999,9,     -999,     -999,9,     -999,1,   0.3150,2,0.58000000,2, -162.100,2,    0.002,     -999,9,     -999,9,     -999,9,     -999,1,    0.061,1,    4.674,1,    0.142,1,     -999,9,     -999,1,20180317,1954, -69.6661, 169.9063,     -999,1,     -999,1,-999          ,9,     -999,1,     -999,9,     -999,     -999,9,     -999,     -999,9,     -999,1,     -999,1,     -999,1,     -999,1,     -999,1,     -999,1,     -999,1,     -999,1,     -999,1,     -999,1,     -999,1,     -999,1,     -999,1
320620180309  ,S04P       ,4       ,  1,8          ,8          ,2,20180317,1923, -69.6655, 169.9070,     2744,   1789.4,0.2569055555555554982,34.690335445911145,2,  34.6899,2,216.06746139446057,2, 219.0955,2,    217.2,2,    118.4,2,    32.42,2,     0.00,2,     2.25,2,    0.873,2,    0.475,2,   0.3700,2,   2264.8,2,  2357.90,2,   7.5867,2,    24.98,     -999,9,     -999,9,   0.2564,2,     -999,9,     -999,9,     -999,     -999,9,     -999,9,     -999,9,     -999,9,    0.061,1,    4.674,1,    0.130,1,  20.2700,2,     -999,9,20180317,1951, -69.6660, 169.9064,     -999,9,     -999,9,-999          ,9,     -999,9,     -999,9,     -999,     -999,9,     -999,     -999,9,     -999,9,     -999,9,     -999,9,     -999,9,     -999,9,     -999,9,     -999,9,     -999,9,     -999,9,     -999,9,     -999,9,     -999,9,     -999,9
320620180309  ,S04P       ,4       ,  1,7          ,7          ,2,20180317,1923, -69.6655, 169.9070,     2744,   1992.7,0.1539833333333333332,34.688576978680963,2,  34.6886,2,220.56376877081908,2, 221.7018,2,    220.3,2,    118.1,2,    32.42,2,     0.00,2,     2.25,2,    1.033,2,    0.550,2,   0.6900,2,   2264.0,2,  2357.55,2,   7.5883,2,    24.98,     -999,9,     -999,1,   0.1533,2,     -999,9,     -999,9,     -999,     -999,9,     -999,9,     -999,9,     -999,1,    0.061,1,    4.672,1,    0.134,1,  19.7200,2,     -999,1,20180317,1946, -69.6656, 169.9067,     -999,1,     -999,1,-999          ,9,     -999,1,     -999,9,     -999,     -999,9,     -999,     -999,9,     -999,1,     -999,1,     -999,1,     -999,1,     -999,1,     -999,1,     -999,1,     -999,1,     -999,1,     -999,1,     -999,1,     -999,1,     -999,1
320620180309  ,S04P       ,4       ,  1,6          ,6          ,2,20180317,1923, -69.6655, 169.9070,     2744,   2167.1,0.0679333333333333456,34.687764372108752,2,  34.6872,2,225.91237413621022,2, 224.4942,2,    225.5,2,    108.6,2,    32.13,2,     0.00,2,     2.22,2,    1.476,2,    0.822,2,   0.5700,2,   2262.2,2,  2356.37,2,   7.5862,2,    24.98,     -999,9,     -999,9,   0.0666,2,     -999,9,     -999,9,     -999,     -999,9,     -999,9,     -999,9,     -999,9,    0.061,1,    4.670,1,    0.137,1,  20.0700,2,     -999,9,20180317,1941, -69.6655, 169.9070,     -999,9,     -999,9,-999          ,9,     -999,9,     -999,9,     -999,     -999,9,     -999,     -999,9,     -999,9,     -999,9,     -999,9,     -999,9,     -999,9,     -999,9,     -999,9,     -999,9,     -999,9,     -999,9,     -999,9,     -999,9,     -999,9
320620180309  ,S04P       ,4       ,  1,5          ,5          ,2,20180317,1923, -69.6655, 169.9070,     2744,   2370.5,-0.0621916666666666729,34.690274580933050,2,  34.6899,2,231.69841524326313,2, 230.4991,2,    232.0,2,    102.0,2,    31.82,2,     0.00,2,     2.20,2,    1.862,2,    1.027,2,   0.9900,2,   2260.2,2,  2354.76,2,   7.5870,6,    24.98,     -999,9,     -999,1,  -0.0640,2,     -999,9,     -999,9,     -999,     -999,9,     -999,9,     -999,9,     -999,1,    0.062,1,    4.666,1,    0.140,1,  20.2000,2,     -999,1,20180317,1935, -69.6661, 169.9063,     -999,1,     -999,1,-999          ,9,     -999,1,     -999,9,     -999,     -999,9,     -999,     -999,9,     -999,1,     -999,1,     -999,1,     -999,1,     -999,1,     -999,1,     -999,1,     -999,1,     -999,1,     -999,1,     -999,1,     -999,1,     -999,1
320620180309  ,S04P       ,4       ,  1,4          ,4          ,2,20180317,1923, -69.6655, 169.9070,     2744,   2574.3,-0.1864583333333333370,34.693531064922233,2,  34.6931,2,237.65403851049786,2, 237.3042,2,    236.8,2,     99.5,2,    31.67,2,     0.00,2,     2.19,2,    2.130,2,    1.173,2,   1.0900,2,   2261.2,2,  2351.74,3,   7.5854,2,    24.98,     -999,9,     -999,1,  -0.1867,2,     -999,9,     -999,9,     -999,     -999,9,     -999,9,     -999,9,     -999,1,    0.062,1,    4.664,1,    0.144,1,  19.8300,2,     -999,1,20180317,1930, -69.6660, 169.9065,     -999,1,     -999,1,-999          ,9,     -999,1,     -999,9,     -999,     -999,9,     -999,     -999,9,     -999,1,     -999,1,     -999,1,     -999,1,     -999,1,     -999,1,     -999,1,     -999,1,     -999,1,     -999,1,     -999,1,     -999,1,     -999,1
320620180309  ,S04P       ,4       ,  1,3          ,3          ,2,20180317,1923, -69.6655, 169.9070,     2744,   2677.8,-0.2983888888888889257,34.694509365230786,2,  34.6943,2,241.39047605578367,2, 241.0960,2,    241.0,2,     97.2,2,    31.56,2,     0.00,2,     2.19,2,    2.341,2,    1.301,2,   1.1900,2,   2260.7,2,  2353.92,2,   7.5900,2,    24.98,     -999,9,     -999,1,  -0.2985,2,     -999,9,     -999,9,     -999,     -999,9,     -999,9,     -999,9,     -999,1,    0.062,1,    4.661,1,    0.147,1,  19.9600,2,     -999,1,20180317,1927, -69.6657, 169.9069,     -999,1,     -999,1,-999          ,9,     -999,1,     -999,9,     -999,     -999,9,     -999,     -999,9,     -999,1,     -999,1,     -999,1,     -999,1,     -999,1,     -999,1,     -999,1,     -999,1,     -999,1,     -999,1,     -999,1,     -999,1,     -999,1
320620180309  ,S04P       ,4       ,  1,1          ,1          ,2,20180317,1923, -69.6655, 169.9070,     2744,   2782.1,-0.4569750000000000201,34.703301005350170,3,     -999,9,247.57462602239545,2, 222.2928,2,     -999,9,     -999,9,     -999,9,     -999,9,     -999,9,     -999,9,     -999,9,     -999,9,     -999,9,     -999,9,     -999,9,     -999,     -999,9,     -999,9,  -0.4575,2,     -999,9,     -999,9,     -999,     -999,9,     -999,9,     -999,9,     -999,9,    0.062,1,    4.625,1,    0.227,1,     -999,9,     -999,9,20180317,1923, -69.6655, 169.9070,     -999,9,     -999,9,-999          ,9,     -999,9,    -7.29,2,     0.23, 0.512264,2, 0.000006,    21.56,2,     -999,1,     -999,1,     -999,1,     -999,1,     -999,1,     -999,1,     -999,1,     -999,1,     -999,1,     -999,1,     -999,1,     -999,1,     -999,1
320620180309  ,S04P       ,4       ,  1,2          ,2          ,2,20180317,1923, -69.6655, 169.9070,     2744,   2782.3,-0.4569222222222222296,34.703279914769112,3,  34.6990,4,247.81770346298697,2, 248.2994,2,    249.2,2,     95.3,2,    31.40,2,     0.00,2,     2.18,2,    2.624,2,    1.432,2,   1.3000,2,   2259.5,6,  2354.60,2,   7.5912,6,    25.00,     -999,9,     -999,1,  -0.4573,2,     -999,9,     -999,9,     -999,     -999,9,     -999,9,     -999,9,     -999,1,    0.062,1,    4.625,1,    0.227,1,  19.9700,2,     -999,1,20180317,1923, -69.6655, 169.9070,     -999,1,     -999,1,-999          ,9,     -999,1,     -999,9,     -999,     -999,9,     -999,     -999,9,     -999,9,     -999,9,     -999,9,     -999,9,     -999,9,     -999,9,     -999,9,     -999,9,     -999,9,     -999,9,     -999,9,     -999,9,     -999,9