BOTTLE,20240515CCHHYDRO
EXPOCODE,SECT_ID,STNNBR,CASTNO,SAMPNO,BTLNBR,BTLNBR_FLAG_W,DATE,TIME,LATITUDE,LONGITUDE,DEPTH,CTDPRS,CTDTMP,CTDSAL,CTDSAL_FLAG_W,SALNTY,SALNTY_FLAG_W,CTDOXY,CTDOXY_FLAG_W,CTDOPTOXY,CTDOPTOXY_FLAG_W,OXYGEN,OXYGEN_FLAG_W,SILCAT,SILCAT_FLAG_W,NITRAT,NITRAT_FLAG_W,NITRIT,NITRIT_FLAG_W,PHSPHT,PHSPHT_FLAG_W,CFC-11,CFC-11_FLAG_W,CFC-12,CFC-12_FLAG_W,SF6,SF6_FLAG_W,TCARBN,TCARBN_FLAG_W,ALKALI,ALKALI_FLAG_W,PH_TOT,PH_TOT_FLAG_W,PH_TMP,DOC,DOC_FLAG_W,HELIUM,HELIUM_FLAG_W,REFTMP,REFTMP_FLAG_W,DELC13,DELC13_FLAG_W,DELC14,DELC14_FLAG_W,C14ERR,POC,POC_FLAG_W,TDN,TDN_FLAG_W,TON,TON_FLAG_W,NEON,NEON_FLAG_W,CTDFLUOR,CTDFLUOR_FLAG_W,CTDXMISS,CTDXMISS_FLAG_W,CTDBETA700,CTDBETA700_FLAG_W,N2O,N2O_FLAG_W,ARGON,ARGON_FLAG_W,BTL_DATE,BTL_TIME,BTL_LAT,BTL_LON,KRYPTON,KRYPTON_FLAG_W,XENON,XENON_FLAG_W,HPLC,HPLC_FLAG_W,HE3_HE4_RATIO,HE3_HE4_RATIO_FLAG_W,Nd_143_144_D_EPSILON_BOTTLE,Nd_143_144_D_EPSILON_BOTTLE_FLAG_W,Nd_143_144_D_EPSILON_BOTTLE_ERROR,Nd_143_144_D_RATIO_BOTTLE,Nd_143_144_D_RATIO_BOTTLE_FLAG_W,Nd_143_144_D_RATIO_BOTTLE_ERROR,Nd_D_CONC,Nd_D_CONC_FLAG_W,La_D_CONC_BOTTLE,La_D_CONC_BOTTLE_FLAG_W,Ce_D_CONC_BOTTLE,Ce_D_CONC_BOTTLE_FLAG_W,Pr_D_CONC_BOTTLE,Pr_D_CONC_BOTTLE_FLAG_W,Sm_D_CONC_BOTTLE,Sm_D_CONC_BOTTLE_FLAG_W,Eu_D_CONC_BOTTLE,Eu_D_CONC_BOTTLE_FLAG_W,Gd_D_CONC_BOTTLE,Gd_D_CONC_BOTTLE_FLAG_W,Tb_D_CONC_BOTTLE,Tb_D_CONC_BOTTLE_FLAG_W,Dy_D_CONC_BOTTLE,Dy_D_CONC_BOTTLE_FLAG_W,Ho_D_CONC_BOTTLE,Ho_D_CONC_BOTTLE_FLAG_W,Er_D_CONC_BOTTLE,Er_D_CONC_BOTTLE_FLAG_W,Tm_D_CONC_BOTTLE,Tm_D_CONC_BOTTLE_FLAG_W,Yb_D_CONC_BOTTLE,Yb_D_CONC_BOTTLE_FLAG_W,Lu_D_CONC_BOTTLE,Lu_D_CONC_BOTTLE_FLAG_W
,,,,,,,,,,,METERS,DBAR,ITS-90,PSS-78,,PSS-78,,UMOL/KG,,UMOL/KG,,UMOL/KG,,UMOL/KG,,UMOL/KG,,UMOL/KG,,UMOL/KG,,PMOL/KG,,PMOL/KG,,FMOL/KG,,UMOL/KG,,UMOL/KG,,,,DEG C,UMOL/KG,,NMOL/L,,DEG C,,/MILLE,,/MILLE,,/MILLE,UG/KG,,UMOL/KG,,UMOL/KG,,NMOL/L,,VOLTS,,VOLTS,,VOLTS,,NMOL/KG,,UMOL/L,,,,,,NMOL/L,,NMOL/L,,,,,,10000,,10000,,,,PMOL/KG,,PMOL/L,,PMOL/L,,PMOL/L,,PMOL/L,,PMOL/L,,PMOL/L,,PMOL/L,,PMOL/L,,PMOL/L,,PMOL/L,,PMOL/L,,PMOL/L,,PMOL/L,
320620180309  ,P16        ,44      ,  1,36         ,36         ,2,20180405,1612, -71.9911,-149.9636,     4188,     11.0,-1.7712583333333331570,33.850372478718789,2,  33.8482,2,339.19294398227390,2, 341.0968,2,    342.1,2,     47.9,2,    26.62,2,     0.17,2,     1.85,2,    6.599,2,    3.328,2,   3.3800,3,   2179.2,6,  2289.56,2,   7.6433,2,    24.96,     40.2,2,     -999,9,  -1.7715,2,     -999,9,     -999,9,     -999,     -999,9,    29.10,2,     -999,1,     -999,9,    0.143,1,    4.628,1,    0.171,1,  18.3400,2,     -999,9,20180405,1834, -71.9904,-149.9658,     -999,9,     -999,9,-999          ,9,     -999,9,     -999,9,     -999,     -999,9,     -999,     -999,9,     -999,9,     -999,9,     -999,9,     -999,9,     -999,9,     -999,9,     -999,9,     -999,9,     -999,9,     -999,9,     -999,9,     -999,9,     -999,9
320620180309  ,P16        ,44      ,  1,35         ,35         ,2,20180405,1612, -71.9911,-149.9636,     4188,     19.8,-1.7741805555555554275,33.850103093712079,2,  33.8472,2,339.70779367785013,2, 341.0988,2,    340.2,2,     48.0,2,    26.60,2,     0.17,2,     1.85,2,    6.636,2,    3.394,2,   3.6600,3,   2177.7,2,  2290.12,2,   7.6442,2,    24.95,     40.6,2,     -999,9,  -1.7745,2,     -999,9,     -999,9,     -999,     -999,9,    29.30,2,     -999,1,     -999,9,    0.136,1,    4.627,1,    0.170,1,  18.1100,2,     -999,9,20180405,1832, -71.9905,-149.9657,     -999,9,     -999,9,-999          ,9,     -999,9,     -999,9,     -999,     -999,9,     -999,     -999,9,     -999,9,     -999,9,     -999,9,     -999,9,     -999,9,     -999,9,     -999,9,     -999,9,     -999,9,     -999,9,     -999,9,     -999,9,     -999,9
320620180309  ,P16        ,44      ,  1,34         ,34         ,2,20180405,1612, -71.9911,-149.9636,     4188,     40.4,-1.7734944444444442624,33.850205332402084,2,  33.8478,2,340.95487163269286,2, 341.0997,2,    340.7,2,     48.1,2,    26.62,2,     0.17,2,     1.86,2,     -999,9,     -999,9,     -999,9,   2180.0,2,  2290.40,2,   7.6402,2,    24.96,     40.6,2,     -999,9,  -1.7732,2,     -999,9,     -999,9,     -999,     -999,9,    30.00,2,     -999,1,     -999,9,    0.139,1,    4.625,1,    0.175,1,     -999,9,     -999,9,20180405,1831, -71.9905,-149.9656,     -999,9,     -999,9,-999          ,9,     -999,9,     -999,9,     -999,     -999,9,     -999,     -999,9,     -999,9,     -999,9,     -999,9,     -999,9,     -999,9,     -999,9,     -999,9,     -999,9,     -999,9,     -999,9,     -999,9,     -999,9,     -999,9
320620180309  ,P16        ,44      ,  1,33         ,33         ,2,20180405,1612, -71.9911,-149.9636,     4188,     64.9,-1.7005805555555555397,33.873369099015022,2,  33.8840,2,334.75668637951333,2, 328.4019,3,    334.0,2,     48.8,2,    26.87,2,     0.17,2,     1.90,2,    6.263,2,    3.177,2,   3.3500,3,   2182.7,2,  2284.97,2,   7.6420,2,    24.95,     42.9,2,     -999,9,  -1.7057,2,     -999,9,     -999,9,     -999,     -999,9,    30.30,2,     -999,1,     -999,9,    0.133,1,    4.627,1,    0.169,1,  18.4100,2,     -999,9,20180405,1829, -71.9905,-149.9657,     -999,9,     -999,9,-999          ,9,     -999,9,     -999,9,     -999,     -999,9,     -999,     -999,9,     -999,9,     -999,9,     -999,9,     -999,9,     -999,9,     -999,9,     -999,9,     -999,9,     -999,9,     -999,9,     -999,9,     -999,9,     -999,9
320620180309  ,P16        ,44      ,  1,32         ,32         ,2,20180405,1612, -71.9911,-149.9636,     4188,     89.8,-0.9699527777777776638,34.089746264554236,2,  34.1007,2,299.82394598403675,3, 284.7967,3,    290.5,2,     56.0,2,    28.89,2,     0.13,2,     2.01,2,     -999,9,     -999,9,     -999,9,   2205.4,2,  2305.30,2,   7.6102,2,    24.96,     40.3,2,     -999,9,  -0.9689,2,     -999,9,     -999,9,     -999,     -999,9,    31.20,2,     -999,1,     -999,9,    0.104,1,    4.640,1,    0.162,1,     -999,9,     -999,9,20180405,1827, -71.9904,-149.9658,     -999,9,     -999,9,-999          ,9,     -999,9,     -999,9,     -999,     -999,9,     -999,     -999,9,     -999,9,     -999,9,     -999,9,     -999,9,     -999,9,     -999,9,     -999,9,     -999,9,     -999,9,     -999,9,     -999,9,     -999,9,     -999,9
320620180309  ,P16        ,44      ,  1,31         ,31         ,2,20180405,1612, -71.9911,-149.9636,     4188,    116.2,-0.4892333333333333534,34.236715733193442,2,  34.2385,2,264.15003915331312,2, 257.8991,3,    261.7,2,     63.0,2,    30.52,2,     0.08,2,     2.11,2,    3.785,2,    2.007,2,   1.8500,3,   2221.1,2,  2313.20,2,   7.5888,2,    24.98,     40.5,2,     -999,9,  -0.4978,2,     -999,9,     -999,9,     -999,     -999,9,    32.20,2,     -999,1,     -999,9,    0.085,1,    4.652,1,    0.155,1,  21.3600,2,     -999,9,20180405,1825, -71.9903,-149.9661,     -999,9,     -999,9,-999          ,9,     -999,9,     -999,9,     -999,     -999,9,     -999,     -999,9,     -999,9,     -999,9,     -999,9,     -999,9,     -999,9,     -999,9,     -999,9,     -999,9,     -999,9,     -999,9,     -999,9,     -999,9,     -999,9
320620180309  ,P16        ,44      ,  1,30         ,30         ,2,20180405,1612, -71.9911,-149.9636,     4188,    141.0,-0.0656444444444444497,34.329591097726983,2,  34.3427,2,246.89346746904405,3, 235.9976,3,    240.1,2,     69.2,2,    31.49,2,     0.03,2,     2.17,2,    2.950,2,    1.574,2,   1.5900,3,   2230.7,2,  2320.32,2,   7.5749,2,    24.96,     -999,5,     -999,9,  -0.0775,2,     -999,9,     -999,9,     -999,     -999,9,     -999,5,     -999,1,     -999,9,    0.078,1,    4.657,1,    0.173,1,  22.2800,2,     -999,9,20180405,1823, -71.9902,-149.9663,     -999,9,     -999,9,-999          ,9,     -999,9,     -999,9,     -999,     -999,9,     -999,     -999,9,     -999,9,     -999,9,     -999,9,     -999,9,     -999,9,     -999,9,     -999,9,     -999,9,     -999,9,     -999,9,     -999,9,     -999,9,     -999,9
320620180309  ,P16        ,44      ,  1,29         ,29         ,2,20180405,1612, -71.9911,-149.9636,     4188,    186.3,1.1559055555555555195,34.545526674529775,2,  34.5440,2,201.19890409698252,2, 195.2021,3,    199.2,2,     80.2,2,    33.00,2,     0.02,2,     2.25,2,    1.459,2,    0.779,2,   0.6900,3,   2250.0,2,  2333.77,2,   7.5565,2,    24.96,     40.9,2,     -999,9,   1.1477,2,     -999,9,     -999,9,     -999,     -999,9,    35.00,2,     -999,1,     -999,9,    0.075,1,    4.658,1,    0.144,1,  23.3300,2,     -999,9,20180405,1821, -71.9901,-149.9665,     -999,9,     -999,9,-999          ,9,     -999,9,     -999,9,     -999,     -999,9,     -999,     -999,9,     -999,9,     -999,9,     -999,9,     -999,9,     -999,9,     -999,9,     -999,9,     -999,9,     -999,9,     -999,9,     -999,9,     -999,9,     -999,9
320620180309  ,P16        ,44      ,  1,28         ,28         ,2,20180405,1612, -71.9911,-149.9636,     4188,    236.9,1.7275499999999999190,34.672622191142750,2,  34.6711,2,181.00281926962140,2, 183.9975,3,    180.7,2,     86.7,2,    33.10,2,     0.00,2,     2.24,2,    0.587,2,    0.319,2,   0.0900,3,   2259.2,2,  2343.38,2,   7.5598,2,    24.97,     41.0,2,     -999,9,   1.7262,2,     -999,9,     -999,9,     -999,     -999,9,    35.50,2,     -999,1,     -999,9,    0.069,1,    4.662,1,    0.152,1,  23.6300,2,     -999,9,20180405,1818, -71.9900,-149.9667,     -999,9,     -999,9,-999          ,9,     -999,9,     -999,9,     -999,     -999,9,     -999,     -999,9,     -999,9,     -999,9,     -999,9,     -999,9,     -999,9,     -999,9,     -999,9,     -999,9,     -999,9,     -999,9,     -999,9,     -999,9,     -999,9
320620180309  ,P16        ,44      ,  1,27         ,27         ,2,20180405,1612, -71.9911,-149.9636,     4188,    278.7,1.7496722222222222953,34.696715280712354,2,  34.6952,2,181.24986922309728,2, 182.8015,2,    181.6,2,     88.6,2,    32.75,2,     0.00,2,     2.23,2,     -999,9,     -999,9,     -999,9,   2257.2,6,  2346.87,2,   7.5656,2,    24.96,     -999,9,     -999,9,   1.7507,2,     -999,9,     -999,9,     -999,     -999,9,     -999,9,     -999,9,     -999,9,    0.066,1,    4.665,1,    0.139,1,     -999,9,     -999,9,20180405,1816, -71.9901,-149.9666,     -999,9,     -999,9,-999          ,9,     -999,9,     -999,9,     -999,     -999,9,     -999,     -999,9,     -999,9,     -999,9,     -999,9,     -999,9,     -999,9,     -999,9,     -999,9,     -999,9,     -999,9,     -999,9,     -999,9,     -999,9,     -999,9
320620180309  ,P16        ,44      ,  1,26         ,26         ,2,20180405,1612, -71.9911,-149.9636,     4188,    338.9,1.7148138888888888598,34.712288050674346,2,  34.7119,2,183.15493968632731,2, 183.6967,2,    183.3,2,     91.0,2,    32.41,2,     0.00,2,     2.22,2,    0.353,2,    0.197,2,   0.0200,3,   2258.0,2,  2348.17,2,   7.5742,2,    24.96,     38.4,2,     -999,9,   1.7140,2,     -999,9,     -999,9,     -999,     -999,9,     -999,9,     -999,1,     -999,9,    0.063,1,    4.668,1,    0.135,1,  22.7300,2,     -999,9,20180405,1813, -71.9903,-149.9662,     -999,9,     -999,9,-999          ,9,     -999,9,     -999,9,     -999,     -999,9,     -999,     -999,9,     -999,9,     -999,9,     -999,9,     -999,9,     -999,9,     -999,9,     -999,9,     -999,9,     -999,9,     -999,9,     -999,9,     -999,9,     -999,9
320620180309  ,P16        ,44      ,  1,25         ,25         ,2,20180405,1612, -71.9911,-149.9636,     4188,    388.4,1.6823138888888888864,34.722105555320987,2,  34.7210,2,183.74757686182321,2, 184.5012,2,    184.5,2,     92.9,2,    32.25,2,     0.00,2,     2.22,2,    0.294,2,    0.161,2,   0.1100,3,   2254.9,2,  2350.27,2,   7.5769,2,    24.96,     -999,9,     -999,9,   1.6808,2,     -999,9,     -999,9,     -999,     -999,9,     -999,9,     -999,9,     -999,9,    0.062,1,    4.669,1,    0.134,1,  22.8200,2,     -999,9,20180405,1811, -71.9904,-149.9658,     -999,9,     -999,9,-999          ,9,     -999,9,     -999,9,     -999,     -999,9,     -999,     -999,9,     -999,9,     -999,9,     -999,9,     -999,9,     -999,9,     -999,9,     -999,9,     -999,9,     -999,9,     -999,9,     -999,9,     -999,9,     -999,9
320620180309  ,P16        ,44      ,  1,24         ,24         ,2,20180405,1612, -71.9911,-149.9636,     4188,    439.8,1.6246805555555556833,34.726651687645052,2,  34.7259,2,185.01412854788225,2, 185.5026,2,    185.7,2,     95.1,2,    32.13,2,     0.00,2,     2.20,2,     -999,9,     -999,9,     -999,9,   2259.5,2,  2351.30,2,   7.5791,2,    24.97,     39.4,2,     -999,9,   1.6249,2,     -999,9,     -999,9,     -999,     -999,9,     -999,9,     -999,1,     -999,9,    0.062,1,    4.670,1,    0.134,1,     -999,9,     -999,9,20180405,1808, -71.9904,-149.9657,     -999,9,     -999,9,-999          ,9,     -999,9,     -999,9,     -999,     -999,9,     -999,     -999,9,     -999,9,     -999,9,     -999,9,     -999,9,     -999,9,     -999,9,     -999,9,     -999,9,     -999,9,     -999,9,     -999,9,     -999,9,     -999,9
320620180309  ,P16        ,44      ,  1,23         ,23         ,2,20180405,1612, -71.9911,-149.9636,     4188,    489.8,1.5849611111111110429,34.728765679776437,2,  34.7288,2,186.96195592002292,2, 186.3026,2,    187.2,2,     96.5,2,    32.11,2,     0.00,2,     2.21,2,    0.238,2,    0.132,2,   0.0700,3,   2260.4,2,  2352.22,2,   7.5824,6,    24.95,     -999,9,     -999,9,   1.5839,2,     -999,9,     -999,9,     -999,     -999,9,     -999,9,     -999,9,     -999,9,    0.062,1,    4.670,1,    0.132,1,  21.8100,2,     -999,9,20180405,1806, -71.9904,-149.9657,     -999,9,     -999,9,-999          ,9,     -999,9,     -999,9,     -999,     -999,9,     -999,     -999,9,     -999,9,     -999,9,     -999,9,     -999,9,     -999,9,     -999,9,     -999,9,     -999,9,     -999,9,     -999,9,     -999,9,     -999,9,     -999,9
320620180309  ,P16        ,44      ,  1,22         ,37         ,2,20180405,1612, -71.9911,-149.9636,     4188,    571.9,1.4950666666666663218,34.731523342894100,2,  34.7294,2,188.21748694284599,2, 188.0021,2,    188.8,2,     99.4,2,    32.14,2,     0.00,2,     2.21,2,     -999,9,     -999,9,     -999,9,   2259.8,2,  2354.66,2,   7.5833,2,    24.97,     39.2,2,     -999,9,   1.4956,2,     -999,9,     -999,9,     -999,     -999,9,     -999,9,     -999,1,     -999,9,    0.061,1,    4.669,1,    0.132,1,     -999,9,     -999,9,20180405,1803, -71.9905,-149.9657,     -999,9,     -999,9,-999          ,9,     -999,9,     -999,9,     -999,     -999,9,     -999,     -999,9,     -999,9,     -999,9,     -999,9,     -999,9,     -999,9,     -999,9,     -999,9,     -999,9,     -999,9,     -999,9,     -999,9,     -999,9,     -999,9
320620180309  ,P16        ,44      ,  1,21         ,21         ,2,20180405,1612, -71.9911,-149.9636,     4188,    673.2,1.4190472222222221266,34.731586282692113,2,  34.7302,2,189.01318331578855,2, 189.6022,2,    189.3,2,    102.0,2,    32.18,2,     0.00,2,     2.23,2,    0.188,2,    0.096,2,   0.0100,3,   2258.3,2,  2356.57,2,   7.5857,2,    24.96,     39.3,2,     -999,9,   1.4194,2,     -999,9,     -999,9,     -999,     -999,9,     -999,9,     -999,1,     -999,9,    0.060,1,    4.669,1,    0.134,1,  21.5000,2,     -999,9,20180405,1759, -71.9904,-149.9658,     -999,9,     -999,9,-999          ,9,     -999,9,     -999,9,     -999,     -999,9,     -999,     -999,9,     -999,9,     -999,9,     -999,9,     -999,9,     -999,9,     -999,9,     -999,9,     -999,9,     -999,9,     -999,9,     -999,9,     -999,9,     -999,9
320620180309  ,P16        ,44      ,  1,20         ,20         ,2,20180405,1612, -71.9911,-149.9636,     4188,    773.7,1.3542305555555556040,34.730404909778606,2,  34.7294,2,190.19212654946827,2, 190.6979,2,    190.1,2,    105.1,2,    32.40,2,     0.00,2,     2.23,2,     -999,9,     -999,9,     -999,9,   2263.0,2,  2356.77,2,   7.5849,6,    24.96,     40.1,2,     -999,9,   1.3535,2,     -999,9,     -999,9,     -999,     -999,9,     -999,9,     -999,1,     -999,9,    0.061,1,    4.669,1,    0.130,1,     -999,9,     -999,9,20180405,1756, -71.9903,-149.9660,     -999,9,     -999,9,-999          ,9,     -999,9,     -999,9,     -999,     -999,9,     -999,     -999,9,     -999,9,     -999,9,     -999,9,     -999,9,     -999,9,     -999,9,     -999,9,     -999,9,     -999,9,     -999,9,     -999,9,     -999,9,     -999,9
320620180309  ,P16        ,44      ,  1,19         ,19         ,2,20180405,1612, -71.9911,-149.9636,     4188,    875.7,1.2667416666666668768,34.728520363310984,2,  34.7294,2,190.92317891954536,2, 192.3984,2,    191.5,2,    107.8,2,    32.40,2,     0.00,2,     2.24,2,    0.148,2,    0.085,2,   0.0100,3,   2262.6,2,  2358.25,2,   7.5852,2,    24.97,     40.3,2,     -999,9,   1.2653,2,     -999,9,     -999,9,     -999,     -999,9,     -999,9,     -999,1,     -999,9,    0.061,1,    4.669,1,    0.132,1,  20.6400,2,     -999,9,20180405,1753, -71.9903,-149.9662,     -999,9,     -999,9,-999          ,9,     -999,9,     -999,9,     -999,     -999,9,     -999,     -999,9,     -999,9,     -999,9,     -999,9,     -999,9,     -999,9,     -999,9,     -999,9,     -999,9,     -999,9,     -999,9,     -999,9,     -999,9,     -999,9
320620180309  ,P16        ,44      ,  1,18         ,18         ,2,20180405,1612, -71.9911,-149.9636,     4188,    977.7,1.2015416666666665080,34.726564158138608,2,  34.7261,2,192.77442531150240,2, 193.9004,2,    193.0,2,    109.7,2,    32.42,2,     0.00,2,     2.25,2,    0.137,2,    0.072,2,  -0.0100,3,   2260.9,2,  2360.42,2,   7.5905,6,    24.96,     38.8,2,     -999,9,   1.2012,2,     -999,9,     -999,9,     -999,     -999,9,     -999,9,     -999,1,     -999,9,    0.062,1,    4.669,1,    0.129,1,  20.7900,2,     -999,9,20180405,1749, -71.9902,-149.9663,     -999,9,     -999,9,-999          ,9,     -999,9,     -999,9,     -999,     -999,9,     -999,     -999,9,     -999,9,     -999,9,     -999,9,     -999,9,     -999,9,     -999,9,     -999,9,     -999,9,     -999,9,     -999,9,     -999,9,     -999,9,     -999,9
320620180309  ,P16        ,44      ,  1,17         ,17         ,2,20180405,1612, -71.9911,-149.9636,     4188,   1077.8,1.1340555555555558165,34.724232092494965,2,  34.7239,2,194.61915351850965,2, 195.1015,2,    194.9,2,    111.5,2,    32.42,2,     0.00,2,     2.25,2,     -999,9,     -999,9,     -999,9,   2261.9,2,  2361.88,2,   7.5911,2,    24.97,     39.3,2,     -999,9,   1.1329,2,     -999,9,     -999,9,     -999,     -999,9,     -999,9,     -999,1,     -999,9,    0.061,1,    4.670,1,    0.130,1,     -999,9,     -999,9,20180405,1746, -71.9902,-149.9665,     -999,9,     -999,9,-999          ,9,     -999,9,     -999,9,     -999,     -999,9,     -999,     -999,9,     -999,9,     -999,9,     -999,9,     -999,9,     -999,9,     -999,9,     -999,9,     -999,9,     -999,9,     -999,9,     -999,9,     -999,9,     -999,9
320620180309  ,P16        ,44      ,  1,16         ,16         ,2,20180405,1612, -71.9911,-149.9636,     4188,   1179.4,1.0780833333333335045,34.722131574476521,2,  34.7215,2,195.92747404060523,2, 196.3963,2,    195.8,2,    113.2,2,    32.52,2,     0.00,2,     2.24,2,    0.127,2,    0.065,2,  -0.0300,3,   2261.8,2,  2363.44,2,   7.5921,2,    24.96,     39.8,2,     -999,9,   1.0771,2,     -999,9,     -999,9,     -999,     -999,9,     -999,9,     -999,1,     -999,9,    0.061,1,    4.670,1,    0.131,1,  21.0100,2,     -999,9,20180405,1742, -71.9901,-149.9665,     -999,9,     -999,9,-999          ,9,     -999,9,     -999,9,     -999,     -999,9,     -999,     -999,9,     -999,9,     -999,9,     -999,9,     -999,9,     -999,9,     -999,9,     -999,9,     -999,9,     -999,9,     -999,9,     -999,9,     -999,9,     -999,9