BOTTLE,20240515CCHHYDRO
EXPOCODE,SECT_ID,STNNBR,CASTNO,SAMPNO,BTLNBR,BTLNBR_FLAG_W,DATE,TIME,LATITUDE,LONGITUDE,DEPTH,CTDPRS,CTDTMP,CTDSAL,CTDSAL_FLAG_W,SALNTY,SALNTY_FLAG_W,CTDOXY,CTDOXY_FLAG_W,CTDOPTOXY,CTDOPTOXY_FLAG_W,OXYGEN,OXYGEN_FLAG_W,SILCAT,SILCAT_FLAG_W,NITRAT,NITRAT_FLAG_W,NITRIT,NITRIT_FLAG_W,PHSPHT,PHSPHT_FLAG_W,CFC-11,CFC-11_FLAG_W,CFC-12,CFC-12_FLAG_W,SF6,SF6_FLAG_W,TCARBN,TCARBN_FLAG_W,ALKALI,ALKALI_FLAG_W,PH_TOT,PH_TOT_FLAG_W,PH_TMP,DOC,DOC_FLAG_W,HELIUM,HELIUM_FLAG_W,REFTMP,REFTMP_FLAG_W,DELC13,DELC13_FLAG_W,DELC14,DELC14_FLAG_W,C14ERR,POC,POC_FLAG_W,TDN,TDN_FLAG_W,TON,TON_FLAG_W,NEON,NEON_FLAG_W,CTDFLUOR,CTDFLUOR_FLAG_W,CTDXMISS,CTDXMISS_FLAG_W,CTDBETA700,CTDBETA700_FLAG_W,N2O,N2O_FLAG_W,ARGON,ARGON_FLAG_W,BTL_DATE,BTL_TIME,BTL_LAT,BTL_LON,KRYPTON,KRYPTON_FLAG_W,XENON,XENON_FLAG_W,HPLC,HPLC_FLAG_W,HE3_HE4_RATIO,HE3_HE4_RATIO_FLAG_W,Nd_143_144_D_EPSILON_BOTTLE,Nd_143_144_D_EPSILON_BOTTLE_FLAG_W,Nd_143_144_D_EPSILON_BOTTLE_ERROR,Nd_143_144_D_RATIO_BOTTLE,Nd_143_144_D_RATIO_BOTTLE_FLAG_W,Nd_143_144_D_RATIO_BOTTLE_ERROR,Nd_D_CONC,Nd_D_CONC_FLAG_W,La_D_CONC_BOTTLE,La_D_CONC_BOTTLE_FLAG_W,Ce_D_CONC_BOTTLE,Ce_D_CONC_BOTTLE_FLAG_W,Pr_D_CONC_BOTTLE,Pr_D_CONC_BOTTLE_FLAG_W,Sm_D_CONC_BOTTLE,Sm_D_CONC_BOTTLE_FLAG_W,Eu_D_CONC_BOTTLE,Eu_D_CONC_BOTTLE_FLAG_W,Gd_D_CONC_BOTTLE,Gd_D_CONC_BOTTLE_FLAG_W,Tb_D_CONC_BOTTLE,Tb_D_CONC_BOTTLE_FLAG_W,Dy_D_CONC_BOTTLE,Dy_D_CONC_BOTTLE_FLAG_W,Ho_D_CONC_BOTTLE,Ho_D_CONC_BOTTLE_FLAG_W,Er_D_CONC_BOTTLE,Er_D_CONC_BOTTLE_FLAG_W,Tm_D_CONC_BOTTLE,Tm_D_CONC_BOTTLE_FLAG_W,Yb_D_CONC_BOTTLE,Yb_D_CONC_BOTTLE_FLAG_W,Lu_D_CONC_BOTTLE,Lu_D_CONC_BOTTLE_FLAG_W
,,,,,,,,,,,METERS,DBAR,ITS-90,PSS-78,,PSS-78,,UMOL/KG,,UMOL/KG,,UMOL/KG,,UMOL/KG,,UMOL/KG,,UMOL/KG,,UMOL/KG,,PMOL/KG,,PMOL/KG,,FMOL/KG,,UMOL/KG,,UMOL/KG,,,,DEG C,UMOL/KG,,NMOL/L,,DEG C,,/MILLE,,/MILLE,,/MILLE,UG/KG,,UMOL/KG,,UMOL/KG,,NMOL/L,,VOLTS,,VOLTS,,VOLTS,,NMOL/KG,,UMOL/L,,,,,,NMOL/L,,NMOL/L,,,,,,10000,,10000,,,,PMOL/KG,,PMOL/L,,PMOL/L,,PMOL/L,,PMOL/L,,PMOL/L,,PMOL/L,,PMOL/L,,PMOL/L,,PMOL/L,,PMOL/L,,PMOL/L,,PMOL/L,,PMOL/L,
320620180309  ,P15        ,11      ,  1,36         ,36         ,2,20180322,0110, -70.4982,-169.9975,     4032,      1.9,-1.6824388888888888172,33.780208126241000,2,  33.7780,2,237.98238679519429,3, 339.0026,2,    340.1,2,     54.3,2,    25.86,2,     0.14,2,     1.75,2,    5.864,2,    3.088,2,   4.0100,2,   2173.1,6,  2290.08,2,   7.6512,2,    24.96,     -999,9,     -999,9,  -1.7123,3,     -999,9,     -999,9,     -999,     -999,9,     -999,9,     -999,9,     -999,9,    0.144,1,    4.613,1,    0.193,1,  18.1100,2,     -999,9,20180322,0324, -70.4960,-170.0017,     -999,9,     -999,9,-999          ,9,     -999,9,     -999,9,     -999,     -999,9,     -999,     -999,9,     -999,9,     -999,9,     -999,9,     -999,9,     -999,9,     -999,9,     -999,9,     -999,9,     -999,9,     -999,9,     -999,9,     -999,9,     -999,9
320620180309  ,P15        ,11      ,  1,35         ,35         ,2,20180322,0110, -70.4982,-169.9975,     4032,     34.8,-1.6813027777777775906,33.784507176496867,2,  33.7829,2,238.27973750150733,3, 339.9008,2,    338.8,2,     54.1,2,    26.02,2,     0.14,2,     1.75,2,    5.851,2,    3.080,2,   4.4400,2,   2171.5,2,  2292.03,2,   7.6534,2,    24.96,     -999,9,     -999,9,  -1.6827,2,     -999,9,     -999,9,     -999,     -999,9,     -999,9,     -999,9,     -999,9,    0.191,1,    4.606,1,    0.204,1,  17.9200,2,     -999,9,20180322,0322, -70.4965,-170.0010,     -999,9,     -999,9,-999          ,9,     -999,9,     -999,9,     -999,     -999,9,     -999,     -999,9,     -999,9,     -999,9,     -999,9,     -999,9,     -999,9,     -999,9,     -999,9,     -999,9,     -999,9,     -999,9,     -999,9,     -999,9,     -999,9
320620180309  ,P15        ,11      ,  1,34         ,34         ,2,20180322,0110, -70.4982,-169.9975,     4032,     62.1,-1.5770083333333333453,33.890755524694654,2,  33.8728,2,235.76509038615598,3, 320.7983,3,    337.5,2,     55.0,2,    26.12,2,     0.14,2,     1.78,2,     -999,9,     -999,9,     -999,9,   2178.4,2,  2294.70,2,   7.6515,6,    24.95,     -999,9,     -999,9,  -1.5730,2,     -999,9,     -999,9,     -999,     -999,9,     -999,9,     -999,9,     -999,9,    0.174,1,    4.632,1,    0.194,1,     -999,9,     -999,9,20180322,0320, -70.4969,-170.0002,     -999,9,     -999,9,-999          ,9,     -999,9,     -999,9,     -999,     -999,9,     -999,     -999,9,     -999,9,     -999,9,     -999,9,     -999,9,     -999,9,     -999,9,     -999,9,     -999,9,     -999,9,     -999,9,     -999,9,     -999,9,     -999,9
320620180309  ,P15        ,11      ,  1,33         ,33         ,2,20180322,0110, -70.4982,-169.9975,     4032,     84.4,-1.5264833333333334142,34.167905908512090,2,  34.1841,2,225.58893515883474,3, 302.4985,3,    283.9,2,     61.6,2,    28.90,2,     0.11,2,     1.98,2,    4.179,2,    2.234,2,   2.8800,2,   2214.1,2,  2315.12,2,   7.6040,2,    24.97,     -999,9,     -999,9,  -1.5247,2,     -999,9,     -999,9,     -999,     -999,9,     -999,9,     -999,9,     -999,9,    0.130,1,    4.649,1,    0.173,1,  20.2200,2,     -999,9,20180322,0318, -70.4973,-169.9993,     -999,9,     -999,9,-999          ,9,     -999,9,     -999,9,     -999,     -999,9,     -999,     -999,9,     -999,9,     -999,9,     -999,9,     -999,9,     -999,9,     -999,9,     -999,9,     -999,9,     -999,9,     -999,9,     -999,9,     -999,9,     -999,9
320620180309  ,P15        ,11      ,  1,32         ,32         ,2,20180322,0110, -70.4982,-169.9975,     4032,    110.9,-1.5347888888888889802,34.308206559351632,2,  34.3049,2,219.17900873938714,3, 274.5992,2,    275.0,2,     65.0,2,    29.55,2,     0.11,2,     2.04,2,     -999,9,     -999,9,     -999,9,   2222.6,2,  2322.49,2,   7.5980,2,    24.96,     -999,9,     -999,9,  -1.5335,2,     -999,9,     -999,9,     -999,     -999,9,     -999,9,     -999,9,     -999,9,    0.123,1,    4.653,1,    0.169,1,     -999,9,     -999,9,20180322,0316, -70.4978,-169.9985,     -999,9,     -999,9,-999          ,9,     -999,9,     -999,9,     -999,     -999,9,     -999,     -999,9,     -999,9,     -999,9,     -999,9,     -999,9,     -999,9,     -999,9,     -999,9,     -999,9,     -999,9,     -999,9,     -999,9,     -999,9,     -999,9
320620180309  ,P15        ,11      ,  1,31         ,31         ,2,20180322,0110, -70.4982,-169.9975,     4032,    135.6,-0.1770750000000000102,34.425168350531600,2,  34.4358,2,204.06750771250674,3, 228.6991,2,    228.2,2,     76.2,2,    31.60,2,     0.02,2,     2.14,2,    2.378,2,    1.297,2,   1.6600,2,   2238.4,2,  2330.06,2,   7.5722,2,    24.96,     -999,9,     -999,9,  -0.2222,3,     -999,9,     -999,9,     -999,     -999,9,     -999,9,     -999,9,     -999,9,    0.085,1,    4.667,1,    0.161,1,  22.3800,2,     -999,9,20180322,0314, -70.4981,-169.9980,     -999,9,     -999,9,-999          ,9,     -999,9,     -999,9,     -999,     -999,9,     -999,     -999,9,     -999,9,     -999,9,     -999,9,     -999,9,     -999,9,     -999,9,     -999,9,     -999,9,     -999,9,     -999,9,     -999,9,     -999,9,     -999,9
320620180309  ,P15        ,11      ,  1,30         ,30         ,2,20180322,0110, -70.4982,-169.9975,     4032,    166.7,0.5279333333333332545,34.535665565405189,2,  34.5436,2,194.51251740636070,3, 206.4010,2,    208.0,2,     82.4,2,    32.22,2,     0.01,2,     2.19,2,     -999,9,     -999,9,     -999,9,     -999,9,     -999,9,     -999,9,     -999,     -999,9,     -999,9,   0.5301,3,     -999,9,     -999,9,     -999,     -999,9,     -999,9,     -999,9,     -999,9,    0.079,1,    4.669,1,    0.152,1,     -999,9,     -999,9,20180322,0312, -70.4981,-169.9978,     -999,9,     -999,9,-999          ,9,     -999,9,     -999,9,     -999,     -999,9,     -999,     -999,9,     -999,9,     -999,9,     -999,9,     -999,9,     -999,9,     -999,9,     -999,9,     -999,9,     -999,9,     -999,9,     -999,9,     -999,9,     -999,9
320620180309  ,P15        ,11      ,  1,29         ,29         ,2,20180322,0110, -70.4982,-169.9975,     4032,    216.7,1.4725916666666667432,34.675417745648588,2,  34.6721,2,185.31503980462767,2, 184.5023,2,    184.7,2,     90.0,2,    32.58,2,     0.00,2,     2.20,2,     -999,9,     -999,9,     -999,9,   2258.1,2,  2347.45,2,   7.5621,2,    24.95,     -999,9,     -999,9,   1.4626,2,     -999,9,     -999,9,     -999,     -999,9,     -999,9,     -999,9,     -999,9,    0.067,1,    4.679,1,    0.147,1,     -999,9,     -999,9,20180322,0309, -70.4981,-169.9978,     -999,9,     -999,9,-999          ,9,     -999,9,     -999,9,     -999,     -999,9,     -999,     -999,9,     -999,9,     -999,9,     -999,9,     -999,9,     -999,9,     -999,9,     -999,9,     -999,9,     -999,9,     -999,9,     -999,9,     -999,9,     -999,9
320620180309  ,P15        ,11      ,  1,28         ,28         ,2,20180322,0110, -70.4982,-169.9975,     4032,    265.5,1.5800722222222221003,34.711131563716535,2,  34.7107,2,184.45333507731999,3, 182.2065,2,    182.0,2,     93.4,2,    32.34,2,     0.00,2,     2.19,2,    0.359,2,    0.190,2,   0.0000,2,   2259.5,6,  2349.99,2,   7.5674,2,    24.95,     -999,9,     -999,9,   1.5801,2,     -999,9,     -999,9,     -999,     -999,9,     -999,9,     -999,9,     -999,9,    0.062,1,    4.680,1,    0.143,1,  22.6700,2,     -999,9,20180322,0307, -70.4981,-169.9978,     -999,9,     -999,9,-999          ,9,     -999,9,     -999,9,     -999,     -999,9,     -999,     -999,9,     -999,9,     -999,9,     -999,9,     -999,9,     -999,9,     -999,9,     -999,9,     -999,9,     -999,9,     -999,9,     -999,9,     -999,9,     -999,9
320620180309  ,P15        ,11      ,  1,27         ,27         ,2,20180322,0110, -70.4982,-169.9975,     4032,    316.0,1.5698666666666669656,34.726027050663454,2,  34.7237,2,185.00786067608533,2, 182.9016,2,    183.6,2,     96.2,2,    32.17,2,     0.00,2,     2.17,2,     -999,9,     -999,9,     -999,9,   2258.8,2,  2353.57,2,   7.5735,2,    24.96,     -999,9,     -999,9,   1.5687,2,     -999,9,     -999,9,     -999,     -999,9,     -999,9,     -999,9,     -999,9,    0.064,1,    4.684,1,    0.134,1,     -999,9,     -999,9,20180322,0304, -70.4981,-169.9978,     -999,9,     -999,9,-999          ,9,     -999,9,     -999,9,     -999,     -999,9,     -999,     -999,9,     -999,9,     -999,9,     -999,9,     -999,9,     -999,9,     -999,9,     -999,9,     -999,9,     -999,9,     -999,9,     -999,9,     -999,9,     -999,9
320620180309  ,P15        ,11      ,  1,26         ,26         ,2,20180322,0110, -70.4982,-169.9975,     4032,    367.4,1.5217472222222223621,34.728495420876918,2,  34.7276,2,185.75646161043940,2, 183.2996,2,    184.5,2,     98.1,2,    32.13,2,     0.00,2,     2.18,2,     -999,9,     -999,9,     -999,9,     -999,9,     -999,9,     -999,9,     -999,     -999,9,     -999,9,   1.5213,2,     -999,9,     -999,9,     -999,     -999,9,     -999,9,     -999,9,     -999,9,    0.065,1,    4.685,1,    0.134,1,     -999,9,     -999,9,20180322,0302, -70.4981,-169.9978,     -999,9,     -999,9,-999          ,9,     -999,9,     -999,9,     -999,     -999,9,     -999,     -999,9,     -999,9,     -999,9,     -999,9,     -999,9,     -999,9,     -999,9,     -999,9,     -999,9,     -999,9,     -999,9,     -999,9,     -999,9,     -999,9
320620180309  ,P15        ,11      ,  1,25         ,25         ,2,20180322,0110, -70.4982,-169.9975,     4032,    420.5,1.4849861111111111178,34.730362894139645,2,  34.7280,2,186.54494041254449,2, 183.5032,2,    185.3,2,     99.8,2,    32.08,2,     0.00,2,     2.18,2,    0.217,2,    0.107,2,   0.0000,2,   2261.6,2,  2356.97,2,   7.5758,2,    24.95,     -999,9,     -999,9,   1.4848,2,     -999,9,     -999,9,     -999,     -999,9,     -999,9,     -999,9,     -999,9,    0.062,1,    4.684,1,    0.137,1,  22.0900,2,     -999,9,20180322,0300, -70.4981,-169.9978,     -999,9,     -999,9,-999          ,9,     -999,9,     -999,9,     -999,     -999,9,     -999,     -999,9,     -999,9,     -999,9,     -999,9,     -999,9,     -999,9,     -999,9,     -999,9,     -999,9,     -999,9,     -999,9,     -999,9,     -999,9,     -999,9
320620180309  ,P15        ,11      ,  1,24         ,24         ,2,20180322,0110, -70.4982,-169.9975,     4032,    469.2,1.4390972222222220278,34.730579794788781,2,  34.7276,2,187.14572504737160,2, 183.7086,2,    185.7,2,    101.7,2,    32.11,2,     0.00,2,     2.18,2,     -999,9,     -999,9,     -999,9,     -999,9,     -999,9,     -999,9,     -999,     -999,9,     -999,9,   1.4385,2,     -999,9,     -999,9,     -999,     -999,9,     -999,9,     -999,9,     -999,9,    0.062,1,    4.684,1,    0.139,1,     -999,9,     -999,9,20180322,0257, -70.4981,-169.9978,     -999,9,     -999,9,-999          ,9,     -999,9,     -999,9,     -999,     -999,9,     -999,     -999,9,     -999,9,     -999,9,     -999,9,     -999,9,     -999,9,     -999,9,     -999,9,     -999,9,     -999,9,     -999,9,     -999,9,     -999,9,     -999,9
320620180309  ,P15        ,11      ,  1,23         ,23         ,2,20180322,0110, -70.4982,-169.9975,     4032,    540.4,1.3682916666666669059,34.730648752042832,2,  34.7294,2,188.05244371280131,2, 185.6011,2,    186.5,2,    103.8,2,    32.14,2,     0.00,2,     2.19,2,     -999,9,     -999,9,     -999,9,   2261.8,2,  2356.74,2,   7.5759,2,    24.95,     -999,9,     -999,9,   1.3659,2,     -999,9,     -999,9,     -999,     -999,9,     -999,9,     -999,9,     -999,9,    0.067,1,    4.684,1,    0.135,1,     -999,9,     -999,9,20180322,0255, -70.4981,-169.9978,     -999,9,     -999,9,-999          ,9,     -999,9,     -999,9,     -999,     -999,9,     -999,     -999,9,     -999,9,     -999,9,     -999,9,     -999,9,     -999,9,     -999,9,     -999,9,     -999,9,     -999,9,     -999,9,     -999,9,     -999,9,     -999,9
320620180309  ,P15        ,11      ,  1,22         ,22         ,2,20180322,0110, -70.4982,-169.9975,     4032,    641.4,1.2904388888888886910,34.729290304212185,2,  34.7272,2,189.19267637217288,2, 188.4996,2,    188.0,2,    106.8,2,    32.24,2,     0.00,2,     2.18,2,     -999,9,     -999,9,     -999,9,     -999,9,     -999,9,     -999,9,     -999,     -999,9,     -999,9,   1.2892,2,     -999,9,     -999,9,     -999,     -999,9,     -999,9,     -999,9,     -999,9,    0.062,1,    4.684,1,    0.134,1,     -999,9,     -999,9,20180322,0251, -70.4982,-169.9977,     -999,9,     -999,9,-999          ,9,     -999,9,    -8.57,2,     0.23, 0.512199,2, 0.000005,    20.03,2,     -999,1,     -999,1,     -999,1,     -999,1,     -999,1,     -999,1,     -999,1,     -999,1,     -999,1,     -999,1,     -999,1,     -999,1,     -999,1
320620180309  ,P15        ,11      ,  1,21         ,21         ,2,20180322,0110, -70.4982,-169.9975,     4032,    742.2,1.2127333333333334409,34.727257699800070,2,  34.7263,2,190.43357230120608,2, 190.5000,2,    189.6,2,    109.4,2,    32.27,2,     0.00,2,     2.19,2,    0.138,2,    0.077,2,   0.6100,3,   2261.7,2,  2359.92,2,   7.5788,2,    24.95,     -999,9,     -999,9,   1.2120,2,     -999,9,     -999,9,     -999,     -999,9,     -999,9,     -999,9,     -999,9,    0.062,1,    4.683,1,    0.134,1,  21.2100,2,     -999,9,20180322,0248, -70.4983,-169.9976,     -999,9,     -999,9,-999          ,9,     -999,9,     -999,9,     -999,     -999,9,     -999,     -999,9,     -999,9,     -999,9,     -999,9,     -999,9,     -999,9,     -999,9,     -999,9,     -999,9,     -999,9,     -999,9,     -999,9,     -999,9,     -999,9
320620180309  ,P15        ,11      ,  1,20         ,20         ,2,20180322,0110, -70.4982,-169.9975,     4032,    844.1,1.1509111111111112180,34.724987598086599,2,  34.7245,2,191.84454005448617,2, 191.1995,2,    191.6,2,    110.0,2,    32.21,2,     0.00,2,     2.19,2,     -999,9,     -999,9,     -999,9,     -999,9,     -999,9,     -999,9,     -999,     -999,9,     -999,9,   1.1501,2,     -999,9,     -999,9,     -999,     -999,9,     -999,9,     -999,9,     -999,9,    0.065,1,    4.684,1,    0.142,1,     -999,9,     -999,9,20180322,0244, -70.4983,-169.9976,     -999,9,     -999,9,-999          ,9,     -999,9,     -999,9,     -999,     -999,9,     -999,     -999,9,     -999,9,     -999,9,     -999,9,     -999,9,     -999,9,     -999,9,     -999,9,     -999,9,     -999,9,     -999,9,     -999,9,     -999,9,     -999,9
320620180309  ,P15        ,11      ,  1,19         ,19         ,2,20180322,0110, -70.4982,-169.9975,     4032,    944.7,1.0863527777777775007,34.722815458289752,2,  34.7215,2,193.35806887691771,2, 193.2931,2,    193.6,2,    113.1,2,    32.18,2,     0.00,2,     2.19,2,     -999,9,     -999,9,     -999,9,   2264.1,2,  2361.67,2,   7.5866,2,    24.96,     -999,9,     -999,9,   1.0857,2,     -999,9,     -999,9,     -999,     -999,9,     -999,9,     -999,9,     -999,9,    0.061,1,    4.685,1,    0.130,1,     -999,9,     -999,9,20180322,0241, -70.4983,-169.9975,     -999,9,     -999,9,-999          ,9,     -999,9,     -999,9,     -999,     -999,9,     -999,     -999,9,     -999,9,     -999,9,     -999,9,     -999,9,     -999,9,     -999,9,     -999,9,     -999,9,     -999,9,     -999,9,     -999,9,     -999,9,     -999,9
320620180309  ,P15        ,11      ,  1,18         ,18         ,2,20180322,0110, -70.4982,-169.9975,     4032,   1047.7,1.0260138888888894471,34.720416735457789,2,  34.7202,2,194.84295558908056,2, 195.9006,2,    195.4,2,    114.7,2,    32.17,2,     0.00,2,     2.19,2,     -999,9,     -999,9,     -999,9,     -999,9,     -999,9,     -999,9,     -999,     -999,9,     -999,9,   1.0254,2,     -999,9,     -999,9,     -999,     -999,9,     -999,9,     -999,9,     -999,9,    0.061,1,    4.684,1,    0.130,1,     -999,9,     -999,9,20180322,0238, -70.4983,-169.9976,     -999,9,     -999,9,-999          ,9,     -999,9,     -999,9,     -999,     -999,9,     -999,     -999,9,     -999,9,     -999,9,     -999,9,     -999,9,     -999,9,     -999,9,     -999,9,     -999,9,     -999,9,     -999,9,     -999,9,     -999,9,     -999,9
320620180309  ,P15        ,11      ,  1,17         ,17         ,2,20180322,0110, -70.4982,-169.9975,     4032,   1152.0,0.9654861111111111560,34.718086575785122,2,  34.7176,2,196.25164667483901,2, 198.0987,2,    197.2,2,    116.8,2,    32.17,2,     0.00,2,     2.18,2,    0.108,2,    0.054,2,   0.0300,2,   2263.8,2,  2362.97,2,   7.5854,2,    24.95,     -999,9,     -999,9,   0.9657,2,     -999,9,     -999,9,     -999,     -999,9,     -999,9,     -999,9,     -999,9,    0.061,1,    4.685,1,    0.131,1,  20.8700,2,     -999,9,20180322,0234, -70.4983,-169.9976,     -999,9,     -999,9,-999          ,9,     -999,9,     -999,9,     -999,     -999,9,     -999,     -999,9,     -999,9,     -999,9,     -999,9,     -999,9,     -999,9,     -999,9,     -999,9,     -999,9,     -999,9,     -999,9,     -999,9,     -999,9,     -999,9
320620180309  ,P15        ,11      ,  1,16         ,16         ,2,20180322,0110, -70.4982,-169.9975,     4032,   1249.1,0.9191444444444444306,34.716002928983556,2,  34.7155,2,197.35034745626831,2, 198.5990,2,    198.2,2,    118.3,2,    32.17,2,     0.00,2,     2.19,2,     -999,9,     -999,9,     -999,9,     -999,9,     -999,9,     -999,9,     -999,     -999,9,     -999,9,   0.9185,2,     -999,9,     -999,9,     -999,     -999,9,     -999,9,     -999,9,     -999,9,    0.061,1,    4.685,1,    0.129,1,     -999,9,     -999,9,20180322,0231, -70.4983,-169.9976,     -999,9,     -999,9,-999          ,9,     -999,9,     -999,9,     -999,     -999,9,     -999,     -999,9,     -999,9,     -999,9,     -999,9,     -999,9,     -999,9,     -999,9,     -999,9,     -999,9,     -999,9,     -999,9,     -999,9,     -999,9,     -999,9