BOTTLE,20240515CCHHYDRO
EXPOCODE,SECT_ID,STNNBR,CASTNO,SAMPNO,BTLNBR,BTLNBR_FLAG_W,DATE,TIME,LATITUDE,LONGITUDE,DEPTH,CTDPRS,CTDTMP,CTDSAL,CTDSAL_FLAG_W,SALNTY,SALNTY_FLAG_W,CTDOXY,CTDOXY_FLAG_W,CTDOPTOXY,CTDOPTOXY_FLAG_W,OXYGEN,OXYGEN_FLAG_W,SILCAT,SILCAT_FLAG_W,NITRAT,NITRAT_FLAG_W,NITRIT,NITRIT_FLAG_W,PHSPHT,PHSPHT_FLAG_W,CFC-11,CFC-11_FLAG_W,CFC-12,CFC-12_FLAG_W,SF6,SF6_FLAG_W,TCARBN,TCARBN_FLAG_W,ALKALI,ALKALI_FLAG_W,PH_TOT,PH_TOT_FLAG_W,PH_TMP,DOC,DOC_FLAG_W,HELIUM,HELIUM_FLAG_W,REFTMP,REFTMP_FLAG_W,DELC13,DELC13_FLAG_W,DELC14,DELC14_FLAG_W,C14ERR,POC,POC_FLAG_W,TDN,TDN_FLAG_W,TON,TON_FLAG_W,NEON,NEON_FLAG_W,CTDFLUOR,CTDFLUOR_FLAG_W,CTDXMISS,CTDXMISS_FLAG_W,CTDBETA700,CTDBETA700_FLAG_W,N2O,N2O_FLAG_W,ARGON,ARGON_FLAG_W,BTL_DATE,BTL_TIME,BTL_LAT,BTL_LON,KRYPTON,KRYPTON_FLAG_W,XENON,XENON_FLAG_W,HPLC,HPLC_FLAG_W,HE3_HE4_RATIO,HE3_HE4_RATIO_FLAG_W,Nd_143_144_D_EPSILON_BOTTLE,Nd_143_144_D_EPSILON_BOTTLE_FLAG_W,Nd_143_144_D_EPSILON_BOTTLE_ERROR,Nd_143_144_D_RATIO_BOTTLE,Nd_143_144_D_RATIO_BOTTLE_FLAG_W,Nd_143_144_D_RATIO_BOTTLE_ERROR,Nd_D_CONC,Nd_D_CONC_FLAG_W,La_D_CONC_BOTTLE,La_D_CONC_BOTTLE_FLAG_W,Ce_D_CONC_BOTTLE,Ce_D_CONC_BOTTLE_FLAG_W,Pr_D_CONC_BOTTLE,Pr_D_CONC_BOTTLE_FLAG_W,Sm_D_CONC_BOTTLE,Sm_D_CONC_BOTTLE_FLAG_W,Eu_D_CONC_BOTTLE,Eu_D_CONC_BOTTLE_FLAG_W,Gd_D_CONC_BOTTLE,Gd_D_CONC_BOTTLE_FLAG_W,Tb_D_CONC_BOTTLE,Tb_D_CONC_BOTTLE_FLAG_W,Dy_D_CONC_BOTTLE,Dy_D_CONC_BOTTLE_FLAG_W,Ho_D_CONC_BOTTLE,Ho_D_CONC_BOTTLE_FLAG_W,Er_D_CONC_BOTTLE,Er_D_CONC_BOTTLE_FLAG_W,Tm_D_CONC_BOTTLE,Tm_D_CONC_BOTTLE_FLAG_W,Yb_D_CONC_BOTTLE,Yb_D_CONC_BOTTLE_FLAG_W,Lu_D_CONC_BOTTLE,Lu_D_CONC_BOTTLE_FLAG_W
,,,,,,,,,,,METERS,DBAR,ITS-90,PSS-78,,PSS-78,,UMOL/KG,,UMOL/KG,,UMOL/KG,,UMOL/KG,,UMOL/KG,,UMOL/KG,,UMOL/KG,,PMOL/KG,,PMOL/KG,,FMOL/KG,,UMOL/KG,,UMOL/KG,,,,DEG C,UMOL/KG,,NMOL/L,,DEG C,,/MILLE,,/MILLE,,/MILLE,UG/KG,,UMOL/KG,,UMOL/KG,,NMOL/L,,VOLTS,,VOLTS,,VOLTS,,NMOL/KG,,UMOL/L,,,,,,NMOL/L,,NMOL/L,,,,,,10000,,10000,,,,PMOL/KG,,PMOL/L,,PMOL/L,,PMOL/L,,PMOL/L,,PMOL/L,,PMOL/L,,PMOL/L,,PMOL/L,,PMOL/L,,PMOL/L,,PMOL/L,,PMOL/L,,PMOL/L,
320620180309  ,S04P       ,56      ,  1,15         ,15         ,2,20180411,0343, -66.9993,-166.1348,     3680,   1353.0,0.7796277777777775864,34.712171734467638,2,  34.7106,2,203.24350637921665,2, 202.8009,2,    203.1,2,    121.1,2,    32.57,2,     0.00,2,     2.24,2,    0.169,2,    0.091,2,   0.0200,2,   2261.9,2,  2363.37,2,   7.5931,2,    24.91,     41.0,2,     -999,9,   0.7787,2,     -999,9,     -999,9,     -999,     -999,9,     -999,9,     -999,1,     -999,9,    0.061,1,    4.669,1,    0.128,1,  19.8700,2,     -999,9,20180411,0442, -66.9988,-166.1347,     -999,9,     -999,9,-999          ,9,     -999,9,     -999,9,     -999,     -999,9,     -999,     -999,9,     -999,9,     -999,9,     -999,9,     -999,9,     -999,9,     -999,9,     -999,9,     -999,9,     -999,9,     -999,9,     -999,9,     -999,9,     -999,9
320620180309  ,S04P       ,56      ,  1,14         ,14         ,2,20180411,0343, -66.9993,-166.1348,     3680,   1454.1,0.7362111111111110384,34.710229569406700,2,  34.7090,2,204.41451144496037,2, 204.0009,2,    204.5,2,    122.4,2,    32.60,2,     0.00,2,     2.25,2,     -999,9,     -999,9,     -999,9,   2264.1,2,  2364.04,2,   7.5931,2,    24.98,     39.0,2,     -999,9,   0.7351,2,     -999,9,     -999,9,     -999,     -999,9,     -999,9,     -999,1,     -999,9,    0.061,1,    4.669,1,    0.191,1,     -999,9,     -999,9,20180411,0439, -66.9988,-166.1344,     -999,9,     -999,9,-999          ,9,     -999,9,     -999,9,     -999,     -999,9,     -999,     -999,9,     -999,9,     -999,9,     -999,9,     -999,9,     -999,9,     -999,9,     -999,9,     -999,9,     -999,9,     -999,9,     -999,9,     -999,9,     -999,9
320620180309  ,S04P       ,56      ,  1,13         ,13         ,2,20180411,0343, -66.9993,-166.1348,     3680,   1554.8,0.6916305555555556372,34.708542520412195,2,  34.7068,2,205.49130929411723,2, 204.9022,2,    205.1,2,    123.5,2,    32.57,2,     0.00,2,     2.25,2,    0.209,2,    0.108,2,   0.0200,2,   2263.1,6,  2363.87,2,   7.5906,2,    24.91,     38.9,2,     -999,9,   0.6916,2,     -999,9,     -999,9,     -999,     -999,9,     -999,9,     -999,1,     -999,9,    0.061,1,    4.669,1,    0.128,1,  21.0000,2,     -999,9,20180411,0436, -66.9990,-166.1341,     -999,9,     -999,9,-999          ,9,     -999,9,     -999,9,     -999,     -999,9,     -999,     -999,9,     -999,9,     -999,9,     -999,9,     -999,9,     -999,9,     -999,9,     -999,9,     -999,9,     -999,9,     -999,9,     -999,9,     -999,9,     -999,9
320620180309  ,S04P       ,56      ,  1,12         ,12         ,2,20180411,0343, -66.9993,-166.1348,     3680,   1659.3,0.6539972222222221188,34.706938836046646,2,  34.7058,2,206.61867365970710,2, 206.0000,2,    205.9,2,    124.6,2,    32.63,2,     0.00,2,     2.25,2,     -999,9,     -999,9,     -999,9,   2264.2,2,  2363.18,2,   7.5936,2,    24.91,     39.9,2,     -999,9,   0.6532,2,     -999,9,     -999,9,     -999,     -999,9,     -999,9,     -999,1,     -999,9,    0.061,1,    4.669,1,    0.129,1,     -999,9,     -999,9,20180411,0433, -66.9996,-166.1341,     -999,9,     -999,9,-999          ,9,     -999,9,     -999,9,     -999,     -999,9,     -999,     -999,9,     -999,9,     -999,9,     -999,9,     -999,9,     -999,9,     -999,9,     -999,9,     -999,9,     -999,9,     -999,9,     -999,9,     -999,9,     -999,9
320620180309  ,S04P       ,56      ,  1,11         ,11         ,2,20180411,0343, -66.9993,-166.1348,     3680,   1758.0,0.6068083333333332829,34.705555491740029,2,  34.7045,2,207.17469465915889,2, 207.2999,2,    207.1,2,    125.8,2,    32.69,2,     0.00,2,     2.25,2,    0.225,2,    0.133,2,   0.1700,2,   2265.2,2,  2364.07,2,   7.5892,2,    24.91,     -999,9,     -999,9,   0.6060,2,     -999,9,     -999,9,     -999,     -999,9,     -999,9,     -999,9,     -999,9,    0.061,1,    4.669,1,    0.128,1,  19.8200,2,     -999,9,20180411,0430, -66.9999,-166.1341,     -999,9,     -999,9,-999          ,9,     -999,9,     -999,9,     -999,     -999,9,     -999,     -999,9,     -999,9,     -999,9,     -999,9,     -999,9,     -999,9,     -999,9,     -999,9,     -999,9,     -999,9,     -999,9,     -999,9,     -999,9,     -999,9
320620180309  ,S04P       ,56      ,  1,10         ,10         ,2,20180411,0343, -66.9993,-166.1348,     3680,   1890.5,0.5614972222222219811,34.703965612222035,2,  34.7027,2,208.75951820299500,2, 208.4027,2,    208.2,2,    126.7,2,    32.75,2,     0.00,2,     2.26,2,     -999,9,     -999,9,     -999,9,   2264.1,2,  2363.89,2,   7.5914,2,    24.92,     40.3,2,     -999,9,   0.5608,2,     -999,9,     -999,9,     -999,     -999,9,     -999,9,     -999,1,     -999,9,    0.060,1,    4.669,1,    0.129,1,     -999,9,     -999,9,20180411,0427, -67.0002,-166.1341,     -999,9,     -999,9,-999          ,9,     -999,9,     -999,9,     -999,     -999,9,     -999,     -999,9,     -999,9,     -999,9,     -999,9,     -999,9,     -999,9,     -999,9,     -999,9,     -999,9,     -999,9,     -999,9,     -999,9,     -999,9,     -999,9
320620180309  ,S04P       ,56      ,  1,9          ,9          ,2,20180411,0343, -66.9993,-166.1348,     3680,   2097.1,0.4814694444444443944,34.702176985748594,2,  34.7005,2,209.97086810336344,2, 210.3078,2,    209.8,2,    128.2,2,    32.80,2,     0.00,2,     2.26,2,    0.277,2,    0.155,2,   0.0300,2,   2263.5,2,  2363.25,2,   7.5902,2,    24.91,     39.4,2,     -999,9,   0.4820,2,     -999,9,     -999,9,     -999,     -999,9,     -999,9,     -999,1,     -999,9,    0.061,1,    4.669,1,    0.127,1,  19.9300,2,     -999,9,20180411,0422, -67.0007,-166.1342,     -999,9,     -999,9,-999          ,9,     -999,9,     -999,9,     -999,     -999,9,     -999,     -999,9,     -999,9,     -999,9,     -999,9,     -999,9,     -999,9,     -999,9,     -999,9,     -999,9,     -999,9,     -999,9,     -999,9,     -999,9,     -999,9
320620180309  ,S04P       ,56      ,  1,8          ,8          ,2,20180411,0343, -66.9993,-166.1348,     3680,   2300.0,0.4152972222222222620,34.700091365709639,2,  34.6992,2,211.82808727701840,2, 211.8925,2,    212.0,2,    129.2,2,    32.84,2,     0.00,2,     2.25,2,     -999,9,     -999,9,     -999,9,   2264.3,2,  2363.84,2,   7.5912,2,    24.90,     41.4,2,     -999,9,   0.4147,2,     -999,9,     -999,9,     -999,     -999,9,     -999,9,     -999,1,     -999,9,    0.061,1,    4.669,1,    0.127,1,     -999,9,     -999,9,20180411,0417, -67.0009,-166.1342,     -999,9,     -999,9,-999          ,9,     -999,9,     -999,9,     -999,     -999,9,     -999,     -999,9,     -999,9,     -999,9,     -999,9,     -999,9,     -999,9,     -999,9,     -999,9,     -999,9,     -999,9,     -999,9,     -999,9,     -999,9,     -999,9
320620180309  ,S04P       ,56      ,  1,7          ,7          ,2,20180411,0343, -66.9993,-166.1348,     3680,   2502.9,0.3392166666666666663,34.696023818073776,2,  34.6947,2,214.61761081655357,2, 214.5026,2,    214.6,2,    128.3,2,    32.91,2,     0.00,2,     2.26,2,    0.503,2,    0.276,2,   0.3300,2,   2263.6,2,  2363.55,2,   7.5890,2,    24.91,     39.2,2,     -999,9,   0.3387,2,     -999,9,     -999,9,     -999,     -999,9,     -999,9,     -999,1,     -999,9,    0.062,1,    4.669,1,    0.130,1,  19.9000,2,     -999,9,20180411,0412, -67.0011,-166.1341,     -999,9,     -999,9,-999          ,9,     -999,9,     -999,9,     -999,     -999,9,     -999,     -999,9,     -999,9,     -999,9,     -999,9,     -999,9,     -999,9,     -999,9,     -999,9,     -999,9,     -999,9,     -999,9,     -999,9,     -999,9,     -999,9
320620180309  ,S04P       ,56      ,  1,6          ,6          ,2,20180411,0343, -66.9993,-166.1348,     3680,   2711.0,0.2812611111111110729,34.693770135769334,2,  34.6929,2,216.59527591876207,2, 215.7008,2,    216.9,2,    126.2,2,    32.91,2,     0.00,2,     2.24,2,    0.624,2,    0.343,2,   0.1900,2,   2263.8,2,  2362.49,2,   7.5905,2,    24.91,     42.8,2,     -999,9,   0.2828,2,     -999,9,     -999,9,     -999,     -999,9,     -999,9,     -999,1,     -999,9,    0.061,1,    4.669,1,    0.128,1,  21.6600,4,     -999,9,20180411,0407, -67.0009,-166.1340,     -999,9,     -999,9,-999          ,9,     -999,9,     -999,9,     -999,     -999,9,     -999,     -999,9,     -999,9,     -999,9,     -999,9,     -999,9,     -999,9,     -999,9,     -999,9,     -999,9,     -999,9,     -999,9,     -999,9,     -999,9,     -999,9
320620180309  ,S04P       ,56      ,  1,5          ,5          ,2,20180411,0343, -66.9993,-166.1348,     3680,   2911.1,0.2280166666666666453,34.690020760668318,2,  34.6892,2,219.11119481716145,2, 220.8044,2,    219.0,2,    125.0,2,    32.88,2,     0.00,2,     2.25,2,    0.812,2,    0.441,2,   0.3100,2,   2262.6,2,  2360.89,2,   7.5891,2,    24.91,     -999,9,     -999,9,   0.2273,2,     -999,9,     -999,9,     -999,     -999,9,     -999,9,     -999,9,     -999,9,    0.061,1,    4.668,1,    0.128,1,  20.1100,2,     -999,9,20180411,0403, -67.0010,-166.1340,     -999,9,     -999,9,-999          ,9,     -999,9,     -999,9,     -999,     -999,9,     -999,     -999,9,     -999,9,     -999,9,     -999,9,     -999,9,     -999,9,     -999,9,     -999,9,     -999,9,     -999,9,     -999,9,     -999,9,     -999,9,     -999,9
320620180309  ,S04P       ,56      ,  1,4          ,4          ,2,20180411,0343, -66.9993,-166.1348,     3680,   3117.8,0.2117333333333333290,34.688429293177798,3,  34.6858,2,220.60821846258941,2, 220.7958,2,    220.1,2,    124.2,2,    32.85,2,     0.00,2,     2.24,2,    0.905,2,    0.493,2,   0.4000,2,   2261.6,2,  2361.17,2,   7.5922,2,    24.91,     39.1,2,     -999,9,   0.2110,2,     -999,9,     -999,9,     -999,     -999,9,     -999,9,     -999,1,     -999,9,    0.061,1,    4.667,1,    0.127,1,  20.2200,2,     -999,9,20180411,0358, -67.0010,-166.1338,     -999,9,     -999,9,-999          ,9,     -999,9,     -999,9,     -999,     -999,9,     -999,     -999,9,     -999,9,     -999,9,     -999,9,     -999,9,     -999,9,     -999,9,     -999,9,     -999,9,     -999,9,     -999,9,     -999,9,     -999,9,     -999,9
320620180309  ,S04P       ,56      ,  1,3          ,3          ,2,20180411,0343, -66.9993,-166.1348,     3680,   3322.9,0.2065444444444444194,34.686969689551042,3,  34.6843,2,221.19728956473142,2, 220.7964,2,    221.0,2,    123.2,2,    32.80,2,     0.00,2,     2.24,2,    0.990,6,    0.524,6,   0.2600,2,   2262.0,2,  2362.19,2,   7.5932,6,    24.92,     -999,9,     -999,9,   0.2058,2,     -999,9,     -999,9,     -999,     -999,9,     -999,9,     -999,9,     -999,9,    0.060,1,    4.667,1,    0.127,1,  20.5600,6,     -999,9,20180411,0353, -67.0005,-166.1337,     -999,9,     -999,9,-999          ,9,     -999,9,     -999,9,     -999,     -999,9,     -999,     -999,9,     -999,9,     -999,9,     -999,9,     -999,9,     -999,9,     -999,9,     -999,9,     -999,9,     -999,9,     -999,9,     -999,9,     -999,9,     -999,9
320620180309  ,S04P       ,56      ,  1,2          ,2          ,2,20180411,0343, -66.9993,-166.1348,     3680,   3531.4,0.2158083333333332965,34.686454094448756,2,  34.6856,2,221.82168622183696,2, 220.7014,2,    221.8,2,    122.9,2,    32.79,2,     0.00,2,     2.22,2,    1.032,2,    0.565,2,   0.2800,2,   2261.5,2,  2359.46,2,   7.5898,6,    24.90,     39.2,2,     -999,9,   0.2152,2,     -999,9,     -999,9,     -999,     -999,9,     -999,9,     -999,1,     -999,9,    0.060,1,    4.665,1,    0.128,1,  19.6100,2,     -999,9,20180411,0348, -66.9998,-166.1343,     -999,9,     -999,9,-999          ,9,     -999,9,     -999,9,     -999,     -999,9,     -999,     -999,9,     -999,9,     -999,9,     -999,9,     -999,9,     -999,9,     -999,9,     -999,9,     -999,9,     -999,9,     -999,9,     -999,9,     -999,9,     -999,9
320620180309  ,S04P       ,56      ,  1,1          ,1          ,2,20180411,0343, -66.9993,-166.1348,     3680,   3738.5,0.2325694444444444675,34.686402802128882,2,  34.6876,2,221.62492502279270,2, 219.4972,2,    221.2,2,    122.7,2,    32.76,2,     0.00,2,     2.24,2,    1.039,2,    0.557,2,   0.4400,2,   2263.5,6,  2360.49,2,   7.5911,2,    24.91,     40.2,2,     -999,9,   0.2320,2,     -999,9,     -999,9,     -999,     -999,9,     -999,9,     -999,1,     -999,9,    0.061,1,    4.665,1,    0.127,1,  19.9000,2,     -999,9,20180411,0343, -66.9993,-166.1348,     -999,9,     -999,9,-999          ,9,     -999,9,     -999,9,     -999,     -999,9,     -999,     -999,9,     -999,9,     -999,9,     -999,9,     -999,9,     -999,9,     -999,9,     -999,9,     -999,9,     -999,9,     -999,9,     -999,9,     -999,9,     -999,9