BOTTLE,20240515CCHHYDRO
EXPOCODE,SECT_ID,STNNBR,CASTNO,SAMPNO,BTLNBR,BTLNBR_FLAG_W,DATE,TIME,LATITUDE,LONGITUDE,DEPTH,CTDPRS,CTDTMP,CTDSAL,CTDSAL_FLAG_W,SALNTY,SALNTY_FLAG_W,CTDOXY,CTDOXY_FLAG_W,CTDOPTOXY,CTDOPTOXY_FLAG_W,OXYGEN,OXYGEN_FLAG_W,SILCAT,SILCAT_FLAG_W,NITRAT,NITRAT_FLAG_W,NITRIT,NITRIT_FLAG_W,PHSPHT,PHSPHT_FLAG_W,CFC-11,CFC-11_FLAG_W,CFC-12,CFC-12_FLAG_W,SF6,SF6_FLAG_W,TCARBN,TCARBN_FLAG_W,ALKALI,ALKALI_FLAG_W,PH_TOT,PH_TOT_FLAG_W,PH_TMP,DOC,DOC_FLAG_W,HELIUM,HELIUM_FLAG_W,REFTMP,REFTMP_FLAG_W,DELC13,DELC13_FLAG_W,DELC14,DELC14_FLAG_W,C14ERR,POC,POC_FLAG_W,TDN,TDN_FLAG_W,TON,TON_FLAG_W,NEON,NEON_FLAG_W,CTDFLUOR,CTDFLUOR_FLAG_W,CTDXMISS,CTDXMISS_FLAG_W,CTDBETA700,CTDBETA700_FLAG_W,N2O,N2O_FLAG_W,ARGON,ARGON_FLAG_W,BTL_DATE,BTL_TIME,BTL_LAT,BTL_LON,KRYPTON,KRYPTON_FLAG_W,XENON,XENON_FLAG_W,HPLC,HPLC_FLAG_W,HE3_HE4_RATIO,HE3_HE4_RATIO_FLAG_W,Nd_143_144_D_EPSILON_BOTTLE,Nd_143_144_D_EPSILON_BOTTLE_FLAG_W,Nd_143_144_D_EPSILON_BOTTLE_ERROR,Nd_143_144_D_RATIO_BOTTLE,Nd_143_144_D_RATIO_BOTTLE_FLAG_W,Nd_143_144_D_RATIO_BOTTLE_ERROR,Nd_D_CONC,Nd_D_CONC_FLAG_W,La_D_CONC_BOTTLE,La_D_CONC_BOTTLE_FLAG_W,Ce_D_CONC_BOTTLE,Ce_D_CONC_BOTTLE_FLAG_W,Pr_D_CONC_BOTTLE,Pr_D_CONC_BOTTLE_FLAG_W,Sm_D_CONC_BOTTLE,Sm_D_CONC_BOTTLE_FLAG_W,Eu_D_CONC_BOTTLE,Eu_D_CONC_BOTTLE_FLAG_W,Gd_D_CONC_BOTTLE,Gd_D_CONC_BOTTLE_FLAG_W,Tb_D_CONC_BOTTLE,Tb_D_CONC_BOTTLE_FLAG_W,Dy_D_CONC_BOTTLE,Dy_D_CONC_BOTTLE_FLAG_W,Ho_D_CONC_BOTTLE,Ho_D_CONC_BOTTLE_FLAG_W,Er_D_CONC_BOTTLE,Er_D_CONC_BOTTLE_FLAG_W,Tm_D_CONC_BOTTLE,Tm_D_CONC_BOTTLE_FLAG_W,Yb_D_CONC_BOTTLE,Yb_D_CONC_BOTTLE_FLAG_W,Lu_D_CONC_BOTTLE,Lu_D_CONC_BOTTLE_FLAG_W
,,,,,,,,,,,METERS,DBAR,ITS-90,PSS-78,,PSS-78,,UMOL/KG,,UMOL/KG,,UMOL/KG,,UMOL/KG,,UMOL/KG,,UMOL/KG,,UMOL/KG,,PMOL/KG,,PMOL/KG,,FMOL/KG,,UMOL/KG,,UMOL/KG,,,,DEG C,UMOL/KG,,NMOL/L,,DEG C,,/MILLE,,/MILLE,,/MILLE,UG/KG,,UMOL/KG,,UMOL/KG,,NMOL/L,,VOLTS,,VOLTS,,VOLTS,,NMOL/KG,,UMOL/L,,,,,,NMOL/L,,NMOL/L,,,,,,10000,,10000,,,,PMOL/KG,,PMOL/L,,PMOL/L,,PMOL/L,,PMOL/L,,PMOL/L,,PMOL/L,,PMOL/L,,PMOL/L,,PMOL/L,,PMOL/L,,PMOL/L,,PMOL/L,,PMOL/L,
320620180309  ,S04P       ,110     ,  1,15         ,15         ,2,20180503,2007, -67.4001, -94.6651,     4536,   1352.0,1.5247444431647441121,34.731449944995468,2,  34.7297,2,191.95246742344565,2, 191.8964,2,    192.4,2,     99.9,2,    31.85,2,     0.00,2,     2.17,2,     -999,9,     -999,9,     -999,9,   2259.6,2,  2358.06,2,   7.5962,2,    25.10,     42.2,2,     -999,9,   1.5247,2,     -999,9,     -999,9,     -999,     -999,9,     -999,9,     -999,1,     -999,9,    0.061,1,    4.649,1,    0.130,1,     -999,9,     -999,9,20180503,2121, -67.4006, -94.6651,     -999,9,     -999,9,-999          ,9,     -999,9,     -999,9,     -999,     -999,9,     -999,     -999,9,     -999,9,     -999,9,     -999,9,     -999,9,     -999,9,     -999,9,     -999,9,     -999,9,     -999,9,     -999,9,     -999,9,     -999,9,     -999,9
320620180309  ,S04P       ,110     ,  1,14         ,14         ,2,20180503,2007, -67.4001, -94.6651,     4536,   1454.3,1.4501436112902292841,34.730342727395524,2,  34.7284,2,192.90145567073480,2, 193.1986,2,    193.5,2,    102.5,2,    31.91,2,     0.00,2,     2.19,2,    0.150,2,    0.077,2,   0.0300,2,   2260.6,2,  2359.20,2,   7.5971,2,    25.09,     41.9,2,     -999,9,   1.4496,2,     -999,9,     -999,9,     -999,     -999,9,     -999,9,     -999,1,     -999,9,    0.061,1,    4.648,1,    0.129,1,  19.7900,2,     -999,9,20180503,2119, -67.4005, -94.6651,     -999,9,     -999,9,-999          ,9,     -999,9,     -999,9,     -999,     -999,9,     -999,     -999,9,     -999,9,     -999,9,     -999,9,     -999,9,     -999,9,     -999,9,     -999,9,     -999,9,     -999,9,     -999,9,     -999,9,     -999,9,     -999,9
320620180309  ,S04P       ,110     ,  1,13         ,13         ,2,20180503,2007, -67.4001, -94.6651,     4536,   1553.9,1.3844029854479227293,34.728878480740008,2,  34.7275,2,193.93151478723030,2, 194.2037,2,    194.4,2,    104.6,2,    31.90,2,     0.00,2,     2.19,2,     -999,9,     -999,9,     -999,9,   2261.4,2,  2359.07,2,   7.5976,2,    25.09,     42.9,2,     -999,9,   1.3838,2,     -999,9,     -999,9,     -999,     -999,9,     -999,9,     -999,1,     -999,9,    0.061,1,    4.649,1,    0.130,1,     -999,9,     -999,9,20180503,2116, -67.4003, -94.6650,     -999,9,     -999,9,-999          ,9,     -999,9,     -999,9,     -999,     -999,9,     -999,     -999,9,     -999,9,     -999,9,     -999,9,     -999,9,     -999,9,     -999,9,     -999,9,     -999,9,     -999,9,     -999,9,     -999,9,     -999,9,     -999,9
320620180309  ,S04P       ,110     ,  1,12         ,12         ,2,20180503,2007, -67.4001, -94.6651,     4536,   1688.7,1.2957241383307425142,34.726632569630908,2,  34.7255,2,195.22519767048337,2, 195.5974,2,    195.8,2,    108.1,2,    32.06,2,     0.00,2,     2.18,2,    0.134,2,    0.076,2,   0.0000,2,   2262.7,2,  2362.69,2,   7.5984,2,    25.12,     42.5,2,     -999,9,   1.2953,2,     -999,9,     -999,9,     -999,     -999,9,     -999,9,     -999,1,     -999,9,    0.061,1,    4.650,1,    0.127,1,  19.7000,2,     -999,9,20180503,2112, -67.4001, -94.6650,     -999,9,     -999,9,-999          ,9,     -999,9,     -999,9,     -999,     -999,9,     -999,     -999,9,     -999,9,     -999,9,     -999,9,     -999,9,     -999,9,     -999,9,     -999,9,     -999,9,     -999,9,     -999,9,     -999,9,     -999,9,     -999,9
320620180309  ,S04P       ,110     ,  1,11         ,11         ,2,20180503,2007, -67.4001, -94.6651,     4536,   1891.2,1.1785929292427881343,34.722723505078953,2,  34.7213,2,197.25219850462150,2, 197.7002,2,    198.1,2,    111.9,2,    32.16,2,     0.00,2,     2.21,2,    0.125,2,    0.073,2,   0.0000,2,   2263.4,2,  2361.59,2,   7.5990,2,    25.11,     42.2,2,     -999,9,   1.1784,2,     -999,9,     -999,9,     -999,     -999,9,     -999,9,     -999,1,     -999,9,    0.061,1,    4.650,1,    0.143,1,  19.4300,2,     -999,9,20180503,2107, -67.3996, -94.6648,     -999,9,     -999,9,-999          ,9,     -999,9,     -999,9,     -999,     -999,9,     -999,     -999,9,     -999,9,     -999,9,     -999,9,     -999,9,     -999,9,     -999,9,     -999,9,     -999,9,     -999,9,     -999,9,     -999,9,     -999,9,     -999,9
320620180309  ,S04P       ,110     ,  1,10         ,10         ,2,20180503,2007, -67.4001, -94.6651,     4536,   2117.7,1.0561699471208247925,34.718292854753450,2,  34.7170,2,199.66564779612264,2, 200.1988,2,    200.9,2,    116.1,2,    32.30,2,     0.00,2,     2.23,2,    0.127,2,    0.068,2,   0.0000,2,   2261.9,2,  2363.75,2,   7.5994,2,    25.02,     40.6,2,     -999,9,   1.0566,2,     -999,9,     -999,9,     -999,     -999,9,     -999,9,     -999,1,     -999,9,    0.061,1,    4.650,1,    0.126,1,  19.2300,2,     -999,9,20180503,2102, -67.3991, -94.6649,     -999,9,     -999,9,-999          ,9,     -999,9,     -999,9,     -999,     -999,9,     -999,     -999,9,     -999,9,     -999,9,     -999,9,     -999,9,     -999,9,     -999,9,     -999,9,     -999,9,     -999,9,     -999,9,     -999,9,     -999,9,     -999,9
320620180309  ,S04P       ,110     ,  1,9          ,9          ,2,20180503,2007, -67.4001, -94.6651,     4536,   2370.5,0.9490017184539570883,34.714050457369297,2,  34.7127,2,201.71781141278316,2, 202.3993,2,    202.3,2,    119.9,2,    32.42,2,     0.00,2,     2.21,2,     -999,9,     -999,9,     -999,9,   2264.4,6,  2363.48,2,   7.5987,2,    25.12,     40.3,2,     -999,9,   0.9490,2,     -999,9,     -999,9,     -999,     -999,9,     -999,9,     -999,1,     -999,9,    0.061,1,    4.650,1,    0.126,1,     -999,9,     -999,9,20180503,2057, -67.3992, -94.6649,     -999,9,     -999,9,-999          ,9,     -999,9,     -999,9,     -999,     -999,9,     -999,     -999,9,     -999,9,     -999,9,     -999,9,     -999,9,     -999,9,     -999,9,     -999,9,     -999,9,     -999,9,     -999,9,     -999,9,     -999,9,     -999,9
320620180309  ,S04P       ,110     ,  1,8          ,8          ,2,20180503,2007, -67.4001, -94.6651,     4536,   2624.8,0.8479217515140443640,34.709955206739302,2,  34.7085,2,203.79391877861974,2, 204.2965,2,    204.4,2,    123.7,2,    32.55,2,     0.00,2,     2.21,2,    0.153,2,    0.083,2,   0.0300,2,   2264.7,2,  2364.77,2,   7.5977,2,    25.07,     41.0,2,     -999,9,   0.8478,2,     -999,9,     -999,9,     -999,     -999,9,     -999,9,     -999,1,     -999,9,    0.061,1,    4.651,1,    0.124,1,  19.1200,2,     -999,9,20180503,2051, -67.3995, -94.6650,     -999,9,     -999,9,-999          ,9,     -999,9,     -999,9,     -999,     -999,9,     -999,     -999,9,     -999,9,     -999,9,     -999,9,     -999,9,     -999,9,     -999,9,     -999,9,     -999,9,     -999,9,     -999,9,     -999,9,     -999,9,     -999,9
320620180309  ,S04P       ,110     ,  1,7          ,7          ,2,20180503,2007, -67.4001, -94.6651,     4536,   2880.4,0.7602466541836411240,34.706977987263308,3,  34.7043,4,205.42295230032008,2, 206.2005,2,    206.0,2,    126.5,2,    32.63,2,     0.00,2,     2.21,2,     -999,9,     -999,9,     -999,9,   2263.7,2,  2365.41,2,   7.5962,2,    25.07,     43.3,3,     -999,9,   0.7600,2,     -999,9,     -999,9,     -999,     -999,9,     -999,9,     -999,1,     -999,9,    0.061,1,    4.650,1,    0.126,1,     -999,9,     -999,9,20180503,2045, -67.3997, -94.6650,     -999,9,     -999,9,-999          ,9,     -999,9,     -999,9,     -999,     -999,9,     -999,     -999,9,     -999,9,     -999,9,     -999,9,     -999,9,     -999,9,     -999,9,     -999,9,     -999,9,     -999,9,     -999,9,     -999,9,     -999,9,     -999,9
320620180309  ,S04P       ,110     ,  1,6          ,6          ,2,20180503,2007, -67.4001, -94.6651,     4536,   3154.5,0.6594741452658118286,34.704148269928282,2,  34.7027,2,207.54230858123896,2, 208.0024,2,    208.2,2,    129.2,2,    32.71,2,     0.00,2,     2.22,2,    0.206,2,    0.111,2,   0.0100,2,   2265.6,2,  2363.91,2,   7.5962,2,    25.07,     39.2,2,     -999,9,   0.6594,2,     -999,9,     -999,9,     -999,     -999,9,     -999,9,     -999,1,     -999,9,    0.061,1,    4.650,1,    0.126,1,  19.4400,2,     -999,9,20180503,2039, -67.3997, -94.6650,     -999,9,     -999,9,-999          ,9,     -999,9,     -999,9,     -999,     -999,9,     -999,     -999,9,     -999,9,     -999,9,     -999,9,     -999,9,     -999,9,     -999,9,     -999,9,     -999,9,     -999,9,     -999,9,     -999,9,     -999,9,     -999,9
320620180309  ,S04P       ,110     ,  1,5          ,5          ,2,20180503,2007, -67.4001, -94.6651,     4536,   3462.4,0.5552591949851499731,34.702313388076618,3,  34.6990,4,210.39633964208005,2, 210.6036,2,    210.5,2,    132.6,2,    32.82,2,     0.00,2,     2.23,2,     -999,9,     -999,9,     -999,9,   2265.2,2,  2366.51,2,   7.5943,2,    25.09,     38.9,2,     -999,9,   0.5553,2,     -999,9,     -999,9,     -999,     -999,9,     -999,9,     -999,1,     -999,9,    0.061,1,    4.650,1,    0.127,1,     -999,9,     -999,9,20180503,2033, -67.3998, -94.6650,     -999,9,     -999,9,-999          ,9,     -999,9,     -999,9,     -999,     -999,9,     -999,     -999,9,     -999,9,     -999,9,     -999,9,     -999,9,     -999,9,     -999,9,     -999,9,     -999,9,     -999,9,     -999,9,     -999,9,     -999,9,     -999,9
320620180309  ,S04P       ,110     ,  1,4          ,4          ,2,20180503,2007, -67.4001, -94.6651,     4536,   3770.8,0.4784307341352338483,34.701213428397701,3,  34.6988,4,212.19579006221068,2, 212.3025,2,    212.3,2,    135.9,2,    32.90,2,     0.00,2,     2.23,2,    0.250,2,    0.134,2,   0.0000,2,   2265.1,2,  2366.36,2,   7.5945,2,    25.06,     41.5,2,     -999,9,   0.4787,2,     -999,9,     -999,9,     -999,     -999,9,     -999,9,     -999,1,     -999,9,    0.061,1,    4.650,1,    0.126,1,  18.8900,2,     -999,9,20180503,2026, -67.4000, -94.6650,     -999,9,     -999,9,-999          ,9,     -999,9,     -999,9,     -999,     -999,9,     -999,     -999,9,     -999,9,     -999,9,     -999,9,     -999,9,     -999,9,     -999,9,     -999,9,     -999,9,     -999,9,     -999,9,     -999,9,     -999,9,     -999,9
320620180309  ,S04P       ,110     ,  1,3          ,3          ,2,20180503,2007, -67.4001, -94.6651,     4536,   4076.9,0.4377943480688030742,34.700616841920947,3,  34.6970,4,213.68687761282848,2, 213.3983,2,    213.4,2,    139.7,2,    33.00,2,     0.00,2,     2.23,2,    0.279,2,    0.146,2,   0.0000,2,   2266.0,2,  2365.86,2,   7.5946,6,    25.07,     40.2,2,     -999,9,   0.4380,2,     -999,9,     -999,9,     -999,     -999,9,     -999,9,     -999,1,     -999,9,    0.061,1,    4.647,1,    0.129,1,  18.8200,2,     -999,9,20180503,2020, -67.4001, -94.6651,     -999,9,     -999,9,-999          ,9,     -999,9,     -999,9,     -999,     -999,9,     -999,     -999,9,     -999,9,     -999,9,     -999,9,     -999,9,     -999,9,     -999,9,     -999,9,     -999,9,     -999,9,     -999,9,     -999,9,     -999,9,     -999,9
320620180309  ,S04P       ,110     ,  1,2          ,2          ,2,20180503,2007, -67.4001, -94.6651,     4536,   4385.6,0.4127416449361193673,34.699696639661340,2,  34.6982,2,214.85623609542245,2, 213.7990,2,    214.6,2,    142.6,2,    33.04,2,     0.00,2,     2.24,2,    0.342,2,    0.184,2,   0.0500,2,   2267.2,2,  2365.63,2,   7.5944,2,    25.08,     41.2,2,     -999,9,   0.4130,2,     -999,9,     -999,9,     -999,     -999,9,     -999,9,     -999,1,     -999,9,    0.060,1,    4.647,1,    0.128,1,  18.8300,2,     -999,9,20180503,2013, -67.4001, -94.6651,     -999,9,     -999,9,-999          ,9,     -999,9,     -999,9,     -999,     -999,9,     -999,     -999,9,     -999,9,     -999,9,     -999,9,     -999,9,     -999,9,     -999,9,     -999,9,     -999,9,     -999,9,     -999,9,     -999,9,     -999,9,     -999,9
320620180309  ,S04P       ,110     ,  1,1          ,1          ,2,20180503,2007, -67.4001, -94.6651,     4536,   4621.0,0.4068262936801803620,34.698971669032353,3,  34.6968,2,215.05883988022322,2, 214.2972,2,    214.1,2,    149.0,2,    33.11,2,     0.00,2,     2.25,2,    0.404,2,    0.209,2,   0.0900,2,   2269.0,6,  2367.00,2,   7.5927,2,    25.00,     40.4,2,     -999,9,   0.4072,2,     -999,9,     -999,9,     -999,     -999,9,     -999,9,     -999,1,     -999,9,    0.061,1,    4.639,1,    0.138,1,  18.9300,2,     -999,9,20180503,2007, -67.4001, -94.6651,     -999,9,     -999,9,-999          ,9,     -999,9,     -999,9,     -999,     -999,9,     -999,     -999,9,     -999,9,     -999,9,     -999,9,     -999,9,     -999,9,     -999,9,     -999,9,     -999,9,     -999,9,     -999,9,     -999,9,     -999,9,     -999,9