BOTTLE,20240515CCHHYDRO
EXPOCODE,SECT_ID,STNNBR,CASTNO,SAMPNO,BTLNBR,BTLNBR_FLAG_W,DATE,TIME,LATITUDE,LONGITUDE,DEPTH,CTDPRS,CTDTMP,CTDSAL,CTDSAL_FLAG_W,SALNTY,SALNTY_FLAG_W,CTDOXY,CTDOXY_FLAG_W,CTDOPTOXY,CTDOPTOXY_FLAG_W,OXYGEN,OXYGEN_FLAG_W,SILCAT,SILCAT_FLAG_W,NITRAT,NITRAT_FLAG_W,NITRIT,NITRIT_FLAG_W,PHSPHT,PHSPHT_FLAG_W,CFC-11,CFC-11_FLAG_W,CFC-12,CFC-12_FLAG_W,SF6,SF6_FLAG_W,TCARBN,TCARBN_FLAG_W,ALKALI,ALKALI_FLAG_W,PH_TOT,PH_TOT_FLAG_W,PH_TMP,DOC,DOC_FLAG_W,HELIUM,HELIUM_FLAG_W,REFTMP,REFTMP_FLAG_W,DELC13,DELC13_FLAG_W,DELC14,DELC14_FLAG_W,C14ERR,POC,POC_FLAG_W,TDN,TDN_FLAG_W,TON,TON_FLAG_W,NEON,NEON_FLAG_W,CTDFLUOR,CTDFLUOR_FLAG_W,CTDXMISS,CTDXMISS_FLAG_W,CTDBETA700,CTDBETA700_FLAG_W,N2O,N2O_FLAG_W,ARGON,ARGON_FLAG_W,BTL_DATE,BTL_TIME,BTL_LAT,BTL_LON,KRYPTON,KRYPTON_FLAG_W,XENON,XENON_FLAG_W,HPLC,HPLC_FLAG_W,HE3_HE4_RATIO,HE3_HE4_RATIO_FLAG_W,Nd_143_144_D_EPSILON_BOTTLE,Nd_143_144_D_EPSILON_BOTTLE_FLAG_W,Nd_143_144_D_EPSILON_BOTTLE_ERROR,Nd_143_144_D_RATIO_BOTTLE,Nd_143_144_D_RATIO_BOTTLE_FLAG_W,Nd_143_144_D_RATIO_BOTTLE_ERROR,Nd_D_CONC,Nd_D_CONC_FLAG_W,La_D_CONC_BOTTLE,La_D_CONC_BOTTLE_FLAG_W,Ce_D_CONC_BOTTLE,Ce_D_CONC_BOTTLE_FLAG_W,Pr_D_CONC_BOTTLE,Pr_D_CONC_BOTTLE_FLAG_W,Sm_D_CONC_BOTTLE,Sm_D_CONC_BOTTLE_FLAG_W,Eu_D_CONC_BOTTLE,Eu_D_CONC_BOTTLE_FLAG_W,Gd_D_CONC_BOTTLE,Gd_D_CONC_BOTTLE_FLAG_W,Tb_D_CONC_BOTTLE,Tb_D_CONC_BOTTLE_FLAG_W,Dy_D_CONC_BOTTLE,Dy_D_CONC_BOTTLE_FLAG_W,Ho_D_CONC_BOTTLE,Ho_D_CONC_BOTTLE_FLAG_W,Er_D_CONC_BOTTLE,Er_D_CONC_BOTTLE_FLAG_W,Tm_D_CONC_BOTTLE,Tm_D_CONC_BOTTLE_FLAG_W,Yb_D_CONC_BOTTLE,Yb_D_CONC_BOTTLE_FLAG_W,Lu_D_CONC_BOTTLE,Lu_D_CONC_BOTTLE_FLAG_W
,,,,,,,,,,,METERS,DBAR,ITS-90,PSS-78,,PSS-78,,UMOL/KG,,UMOL/KG,,UMOL/KG,,UMOL/KG,,UMOL/KG,,UMOL/KG,,UMOL/KG,,PMOL/KG,,PMOL/KG,,FMOL/KG,,UMOL/KG,,UMOL/KG,,,,DEG C,UMOL/KG,,NMOL/L,,DEG C,,/MILLE,,/MILLE,,/MILLE,UG/KG,,UMOL/KG,,UMOL/KG,,NMOL/L,,VOLTS,,VOLTS,,VOLTS,,NMOL/KG,,UMOL/L,,,,,,NMOL/L,,NMOL/L,,,,,,10000,,10000,,,,PMOL/KG,,PMOL/L,,PMOL/L,,PMOL/L,,PMOL/L,,PMOL/L,,PMOL/L,,PMOL/L,,PMOL/L,,PMOL/L,,PMOL/L,,PMOL/L,,PMOL/L,,PMOL/L,
320620180309  ,P15        ,14      ,  1,35         ,35         ,2,20180322,2208, -69.0058,-169.9993,     3990,     34.3,-1.1470666666666664568,34.006339262188789,3,  33.9857,2,337.78503814712855,2, 351.0015,3,    338.9,2,     55.3,2,    25.73,2,     0.15,2,     1.77,2,    5.890,2,    3.050,2,   3.8800,2,   2185.7,6,  2303.14,2,   7.6606,2,    24.93,     43.3,2,     -999,1,  -1.1475,2,     -999,9,     -999,9,     -999,     -999,9,    27.80,2,     -999,1,     -999,1,    0.185,1,    4.581,1,    0.204,1,  17.4100,2,     -999,1,20180323,0004, -69.0064,-170.0002,     -999,1,     -999,1,-999          ,9,     -999,1,     -999,9,     -999,     -999,9,     -999,     -999,9,     -999,1,     -999,1,     -999,1,     -999,1,     -999,1,     -999,1,     -999,1,     -999,1,     -999,1,     -999,1,     -999,1,     -999,1,     -999,1
320620180309  ,P15        ,14      ,  1,34         ,34         ,2,20180322,2208, -69.0058,-169.9993,     3990,     59.7,-1.1772472222222221117,34.033541718408010,3,  33.9886,2,338.83603802261553,2, 323.6985,3,    338.8,2,     55.8,2,    25.78,2,     0.15,2,     1.76,2,     -999,9,     -999,9,     -999,9,   2185.8,2,  2303.87,2,   7.5989,2,    24.93,     45.3,2,     -999,9,  -1.1434,2,     -999,9,     -999,9,     -999,     -999,9,    29.60,2,     -999,1,     -999,9,    0.190,1,    4.580,1,    0.211,1,     -999,9,     -999,9,20180323,0002, -69.0064,-170.0002,     -999,9,     -999,9,-999          ,9,     -999,9,     -999,9,     -999,     -999,9,     -999,     -999,9,     -999,1,     -999,1,     -999,1,     -999,1,     -999,1,     -999,1,     -999,1,     -999,1,     -999,1,     -999,1,     -999,1,     -999,1,     -999,1
320620180309  ,P15        ,14      ,  1,33         ,33         ,2,20180322,2208, -69.0058,-169.9993,     3990,     86.5,-1.6643583333333331620,34.448066297503942,3,  34.3024,2,211.18729383114351,3, 283.5017,2,    283.6,2,     69.1,2,    30.15,2,     0.13,2,     2.07,2,    4.152,2,    2.200,2,   2.7800,2,   2222.5,2,  2319.46,2,   7.5896,2,    24.92,     -999,5,     -999,1,  -1.6703,2,     -999,9,     -999,9,     -999,     -999,9,     -999,5,     -999,1,     -999,1,    0.136,1,    4.610,1,    0.198,1,  19.5200,2,     -999,1,20180323,0001, -69.0063,-170.0002,     -999,1,     -999,1,-999          ,9,     -999,1,     -999,9,     -999,     -999,9,     -999,     -999,9,     -999,1,     -999,1,     -999,1,     -999,1,     -999,1,     -999,1,     -999,1,     -999,1,     -999,1,     -999,1,     -999,1,     -999,1,     -999,1
320620180309  ,P15        ,14      ,  1,32         ,32         ,2,20180322,2208, -69.0058,-169.9993,     3990,    109.9,-1.0115555555555555411,34.766866948556391,3,  34.3729,2,125.16185168045291,3, 228.7048,3,    264.7,2,     72.9,2,    31.03,2,     0.08,2,     2.11,2,     -999,9,     -999,9,     -999,9,   2230.0,2,  2322.63,2,   7.5758,2,    24.92,     43.7,2,     -999,9,  -1.0498,2,     -999,9,     -999,9,     -999,     -999,9,    32.60,2,     -999,1,     -999,9,    0.092,1,    4.648,1,    0.165,1,     -999,9,     -999,9,20180322,2359, -69.0062,-170.0002,     -999,9,     -999,9,-999          ,9,     -999,9,     -999,9,     -999,     -999,9,     -999,     -999,9,     -999,1,     -999,1,     -999,1,     -999,1,     -999,1,     -999,1,     -999,1,     -999,1,     -999,1,     -999,1,     -999,1,     -999,1,     -999,1
320620180309  ,P15        ,14      ,  1,31         ,31         ,2,20180322,2208, -69.0058,-169.9993,     3990,    134.2,-0.2616861111111111193,34.616420974531223,3,  34.4746,2,178.30307443130351,3, 195.8017,3,    237.6,2,     78.9,2,    31.73,2,     0.03,2,     2.14,2,    2.556,2,    1.387,2,   1.6300,2,   2240.2,2,  2330.59,2,   7.5676,2,    24.93,     -999,9,     -999,1,  -0.2614,2,     -999,9,     -999,9,     -999,     -999,9,    33.80,2,     -999,9,     -999,1,    0.081,1,    4.660,1,    0.158,1,  21.1000,2,     -999,1,20180322,2357, -69.0061,-170.0002,     -999,1,     -999,1,-999          ,9,     -999,1,     -999,9,     -999,     -999,9,     -999,     -999,9,     -999,9,     -999,9,     -999,9,     -999,9,     -999,9,     -999,9,     -999,9,     -999,9,     -999,9,     -999,9,     -999,9,     -999,9,     -999,9
320620180309  ,P15        ,14      ,  1,30         ,30         ,2,20180322,2208, -69.0058,-169.9993,     3990,    164.9,0.7508111111111109848,34.719556332728985,3,  34.5960,2,165.67591295549300,3, 204.8977,2,    205.7,2,     85.9,2,    32.24,2,     0.02,2,     2.21,2,    1.409,2,    0.762,2,   0.6900,2,   2253.3,2,  2339.57,2,   7.5711,2,    24.92,     43.2,2,     -999,9,   0.7561,2,     -999,9,     -999,9,     -999,     -999,9,     -999,9,     -999,1,     -999,9,    0.073,1,    4.663,1,    0.150,1,  22.1700,2,     -999,9,20180322,2355, -69.0060,-170.0002,     -999,9,     -999,9,-999          ,9,     -999,9,     -999,9,     -999,     -999,9,     -999,     -999,9,     -999,1,     -999,1,     -999,1,     -999,1,     -999,1,     -999,1,     -999,1,     -999,1,     -999,1,     -999,1,     -999,1,     -999,1,     -999,1
320620180309  ,P15        ,14      ,  1,29         ,29         ,2,20180322,2208, -69.0058,-169.9993,     3990,    216.0,1.4041555555555553791,34.702822360143394,2,  34.6864,2,187.34921696761543,2, 187.2999,2,    188.2,2,     90.7,2,    32.36,2,     0.01,2,     2.19,2,    0.621,2,    0.332,2,   0.2300,2,   2257.1,2,  2346.89,2,   7.5765,2,    24.93,     42.0,2,     -999,1,   1.4042,2,     -999,9,     -999,9,     -999,     -999,9,    34.00,2,     -999,1,     -999,1,    0.067,1,    4.667,1,    0.156,1,  21.9300,2,     -999,1,20180322,2353, -69.0059,-170.0002,     -999,1,     -999,1,-999          ,9,     -999,1,     -999,9,     -999,     -999,9,     -999,     -999,9,     -999,9,     -999,9,     -999,9,     -999,9,     -999,9,     -999,9,     -999,9,     -999,9,     -999,9,     -999,9,     -999,9,     -999,9,     -999,9
320620180309  ,P15        ,14      ,  1,28         ,28         ,2,20180322,2208, -69.0058,-169.9993,     3990,    267.6,1.4858472222222220971,34.711772646138570,2,  34.7107,2,188.63172350634883,2, 187.1963,2,    186.9,2,     93.9,2,    32.21,2,     0.01,2,     2.19,2,    0.425,2,    0.229,2,   0.1700,2,   2259.8,6,  2349.20,2,   7.5844,2,    24.91,     41.2,2,     -999,9,   1.4857,2,     -999,9,     -999,9,     -999,     -999,9,    34.00,2,     -999,1,     -999,9,    0.064,1,    4.672,1,    0.145,1,  22.0400,2,     -999,9,20180322,2351, -69.0057,-170.0002,     -999,9,     -999,9,-999          ,9,     -999,9,     -999,9,     -999,     -999,9,     -999,     -999,9,     -999,1,     -999,1,     -999,1,     -999,1,     -999,1,     -999,1,     -999,1,     -999,1,     -999,1,     -999,1,     -999,1,     -999,1,     -999,1
320620180309  ,P15        ,14      ,  1,27         ,27         ,2,20180322,2208, -69.0058,-169.9993,     3990,    316.2,1.4548833333333333062,34.718626837434648,2,  34.7166,2,191.20102814533269,2, 188.2037,2,    190.0,2,     94.9,2,    31.93,2,     0.00,2,     2.17,2,    0.403,2,    0.207,2,   0.2500,2,   2258.7,2,  2351.91,2,   7.5834,6,    24.92,     41.1,2,     -999,1,   1.4543,2,     -999,9,     -999,9,     -999,     -999,9,     -999,9,     -999,1,     -999,1,    0.065,1,    4.675,1,    0.140,1,  21.5900,2,     -999,1,20180322,2349, -69.0056,-170.0002,     -999,1,     -999,1,-999          ,9,     -999,1,     -999,9,     -999,     -999,9,     -999,     -999,9,     -999,9,     -999,9,     -999,9,     -999,9,     -999,9,     -999,9,     -999,9,     -999,9,     -999,9,     -999,9,     -999,9,     -999,9,     -999,9
320620180309  ,P15        ,14      ,  1,26         ,26         ,2,20180322,2208, -69.0058,-169.9993,     3990,    368.1,1.4540027777777777551,34.720297678154694,2,  34.7223,2,191.88441672841282,3, 189.0984,2,    188.4,2,     97.1,2,    31.86,2,     0.00,2,     2.18,2,     -999,9,     -999,9,     -999,9,   2260.1,2,  2353.34,2,   7.5825,2,    24.93,     43.3,2,     -999,9,   1.4538,2,     -999,9,     -999,9,     -999,     -999,9,     -999,9,     -999,1,     -999,9,    0.064,1,    4.676,1,    0.137,1,     -999,9,     -999,9,20180322,2347, -69.0054,-170.0002,     -999,9,     -999,9,-999          ,9,     -999,9,     -999,9,     -999,     -999,9,     -999,     -999,9,     -999,1,     -999,1,     -999,1,     -999,1,     -999,1,     -999,1,     -999,1,     -999,1,     -999,1,     -999,1,     -999,1,     -999,1,     -999,1
320620180309  ,P15        ,14      ,  1,25         ,25         ,2,20180322,2208, -69.0058,-169.9993,     3990,    419.9,1.4279638888888888104,34.718604020267470,2,  34.7245,2,192.46773846815199,3, 188.9004,2,    188.9,2,     98.7,2,    31.85,2,     0.00,2,     2.17,2,    0.291,2,    0.148,2,   0.0700,2,   2259.5,2,  2354.84,2,   7.5823,2,    24.91,     -999,5,     -999,1,   1.4277,2,     -999,9,     -999,9,     -999,     -999,9,     -999,9,     -999,1,     -999,1,    0.063,1,    4.676,1,    0.148,1,  21.8500,2,     -999,1,20180322,2345, -69.0053,-170.0003,     -999,1,     -999,1,-999          ,9,     -999,1,     -999,9,     -999,     -999,9,     -999,     -999,9,     -999,9,     -999,9,     -999,9,     -999,9,     -999,9,     -999,9,     -999,9,     -999,9,     -999,9,     -999,9,     -999,9,     -999,9,     -999,9
320620180309  ,P15        ,14      ,  1,24         ,24         ,2,20180322,2208, -69.0058,-169.9993,     3990,    468.7,1.3851222222222225877,34.718585729655494,2,  34.7259,2,191.84265202737350,3, 189.5032,2,    188.9,2,    100.9,2,    31.80,2,     0.00,2,     2.19,2,     -999,9,     -999,9,     -999,9,   2261.4,2,  2355.12,2,   7.5788,6,    24.91,     40.4,2,     -999,9,   1.3875,2,     -999,9,     -999,9,     -999,     -999,9,     -999,9,     -999,1,     -999,9,    0.064,1,    4.677,1,    0.146,1,     -999,9,     -999,9,20180322,2343, -69.0053,-170.0003,     -999,9,     -999,9,-999          ,9,     -999,9,     -999,9,     -999,     -999,9,     -999,     -999,9,     -999,1,     -999,1,     -999,1,     -999,1,     -999,1,     -999,1,     -999,1,     -999,1,     -999,1,     -999,1,     -999,1,     -999,1,     -999,1
320620180309  ,P15        ,14      ,  1,23         ,23         ,2,20180322,2208, -69.0058,-169.9993,     3990,    539.0,1.3362916666666664334,34.722426811304224,2,  34.7263,2,192.09709474028986,2, 191.2040,2,    190.9,2,    102.3,2,    31.99,2,     0.00,2,     2.20,2,    0.241,2,    0.124,2,   0.2500,2,   2260.7,2,  2356.62,2,   7.5820,2,    24.91,     39.9,2,     -999,1,   1.3384,2,     -999,9,     -999,9,     -999,     -999,9,     -999,9,     -999,1,     -999,1,    0.063,1,    4.677,1,    0.144,1,  22.5900,2,     -999,1,20180322,2340, -69.0052,-170.0003,     -999,1,     -999,1,-999          ,9,     -999,1,     -999,9,     -999,     -999,9,     -999,     -999,9,     -999,9,     -999,9,     -999,9,     -999,9,     -999,9,     -999,9,     -999,9,     -999,9,     -999,9,     -999,9,     -999,9,     -999,9,     -999,9
320620180309  ,P15        ,14      ,  1,22         ,22         ,2,20180322,2208, -69.0058,-169.9993,     3990,    642.2,1.2801361111111109192,34.717503602346397,2,  34.7245,2,195.08098599399327,3, 191.0999,2,    189.9,2,    105.4,2,    32.15,2,     0.00,2,     2.19,2,     -999,9,     -999,9,     -999,9,   2261.3,2,  2358.25,2,   7.5790,2,    24.91,     41.6,2,     -999,9,   1.2805,2,     -999,9,     -999,9,     -999,     -999,9,     -999,9,     -999,1,     -999,9,    0.063,1,    4.677,1,    0.136,1,     -999,9,     -999,9,20180322,2337, -69.0052,-170.0003,     -999,9,     -999,9,-999          ,9,     -999,9,     -999,9,     -999,     -999,9,     -999,     -999,9,     -999,1,     -999,1,     -999,1,     -999,1,     -999,1,     -999,1,     -999,1,     -999,1,     -999,1,     -999,1,     -999,1,     -999,1,     -999,1
320620180309  ,P15        ,14      ,  1,21         ,21         ,2,20180322,2208, -69.0058,-169.9993,     3990,    741.8,1.1999055555555555586,34.713205817528596,3,  34.7239,2,196.16709260021750,3, 191.7007,2,    192.0,2,    107.7,2,    32.06,2,     0.00,2,     2.19,2,    0.173,2,    0.095,2,   0.2300,2,   2262.9,2,  2359.45,2,   7.5861,2,    24.92,     43.9,2,     -999,1,   1.2040,2,     -999,9,     -999,9,     -999,     -999,9,     -999,9,     -999,1,     -999,1,    0.061,1,    4.680,1,    0.135,1,  21.0000,2,     -999,1,20180322,2334, -69.0053,-170.0003,     -999,1,     -999,1,-999          ,9,     -999,1,     -999,9,     -999,     -999,9,     -999,     -999,9,     -999,9,     -999,9,     -999,9,     -999,9,     -999,9,     -999,9,     -999,9,     -999,9,     -999,9,     -999,9,     -999,9,     -999,9,     -999,9
320620180309  ,P15        ,14      ,  1,20         ,20         ,2,20180322,2208, -69.0058,-169.9993,     3990,    845.1,1.1252194444444443278,34.716110158634763,2,  34.7219,2,196.20169131826967,2, 194.8063,2,    195.7,2,    109.1,2,    31.99,2,     0.00,2,     2.20,2,    0.195,2,    0.101,2,   0.0400,2,   2262.2,2,  2360.61,2,   7.5892,2,    24.91,     42.7,2,     -999,9,   1.1251,2,     -999,9,     -999,9,     -999,     -999,9,     -999,9,     -999,1,     -999,9,    0.061,1,    4.680,1,    0.134,1,  20.7500,2,     -999,9,20180322,2331, -69.0054,-170.0003,     -999,9,     -999,9,-999          ,9,     -999,9,     -999,9,     -999,     -999,9,     -999,     -999,9,     -999,1,     -999,1,     -999,1,     -999,1,     -999,1,     -999,1,     -999,1,     -999,1,     -999,1,     -999,1,     -999,1,     -999,1,     -999,1
320620180309  ,P15        ,14      ,  1,19         ,19         ,2,20180322,2208, -69.0058,-169.9993,     3990,    944.2,1.0558277777777778095,34.717194116179911,2,  34.7196,2,199.77326295124934,3, 198.1004,2,    197.3,2,    111.4,2,    32.02,2,     0.00,2,     2.17,2,     -999,9,     -999,9,     -999,9,   2261.6,2,  2361.49,2,   7.5910,2,    24.93,     42.5,2,     -999,1,   1.0557,2,     -999,9,     -999,9,     -999,     -999,9,     -999,9,     -999,1,     -999,1,    0.061,1,    4.681,1,    0.133,1,     -999,9,     -999,1,20180322,2328, -69.0055,-170.0003,     -999,1,     -999,1,-999          ,9,     -999,1,     -999,9,     -999,     -999,9,     -999,     -999,9,     -999,9,     -999,9,     -999,9,     -999,9,     -999,9,     -999,9,     -999,9,     -999,9,     -999,9,     -999,9,     -999,9,     -999,9,     -999,9
320620180309  ,P15        ,14      ,  1,18         ,18         ,2,20180322,2208, -69.0058,-169.9993,     3990,   1047.3,0.9958194444444445903,34.711384260793878,3,  34.7168,2,202.41245555050770,3, 198.3024,2,    197.8,2,    114.1,2,    32.11,2,     0.00,2,     2.17,2,    0.144,4,    0.074,4,   0.1700,4,   2263.6,2,  2362.14,2,   7.5915,6,    24.91,     42.6,2,     -999,9,   0.9957,2,     -999,9,     -999,9,     -999,     -999,9,     -999,9,     -999,1,     -999,9,    0.061,1,    4.681,1,    0.134,1,  18.9000,4,     -999,9,20180322,2325, -69.0055,-170.0002,     -999,9,     -999,9,-999          ,9,     -999,9,     -999,9,     -999,     -999,9,     -999,     -999,9,     -999,1,     -999,1,     -999,1,     -999,1,     -999,1,     -999,1,     -999,1,     -999,1,     -999,1,     -999,1,     -999,1,     -999,1,     -999,1
320620180309  ,P15        ,14      ,  1,17         ,17         ,2,20180322,2208, -69.0058,-169.9993,     3990,   1149.2,0.9306527777777778843,34.712429630912219,2,  34.7143,2,201.08545831633162,2, 200.5999,2,    199.3,2,    116.0,2,    32.14,2,     0.00,2,     2.18,2,    0.148,2,    0.081,2,   0.0700,2,   2262.5,2,  2360.98,2,   7.5936,2,    24.94,     42.6,2,     -999,1,   0.9331,2,     -999,9,     -999,9,     -999,     -999,9,     -999,9,     -999,1,     -999,1,    0.062,1,    4.682,1,    0.129,1,  20.4800,2,     -999,1,20180322,2322, -69.0053,-170.0003,     -999,1,     -999,1,-999          ,9,     -999,1,     -999,9,     -999,     -999,9,     -999,     -999,9,     -999,9,     -999,9,     -999,9,     -999,9,     -999,9,     -999,9,     -999,9,     -999,9,     -999,9,     -999,9,     -999,9,     -999,9,     -999,9
320620180309  ,P15        ,14      ,  1,16         ,16         ,2,20180322,2208, -69.0058,-169.9993,     3990,   1250.3,0.8785888888888887527,34.705988913107767,3,  34.7121,2,203.97608043846787,3, 200.2022,2,    200.7,2,    117.7,2,    32.15,2,     0.00,2,     2.20,2,     -999,9,     -999,9,     -999,9,   2262.7,2,  2361.45,2,   7.5934,2,    24.93,     41.5,2,     -999,9,   0.8789,2,     -999,9,     -999,9,     -999,     -999,9,     -999,9,     -999,1,     -999,9,    0.062,1,    4.683,1,    0.133,1,     -999,9,     -999,9,20180322,2319, -69.0052,-170.0003,     -999,9,     -999,9,-999          ,9,     -999,9,     -999,9,     -999,     -999,9,     -999,     -999,9,     -999,1,     -999,1,     -999,1,     -999,1,     -999,1,     -999,1,     -999,1,     -999,1,     -999,1,     -999,1,     -999,1,     -999,1,     -999,1
320620180309  ,P15        ,14      ,  1,15         ,15         ,2,20180322,2208, -69.0058,-169.9993,     3990,   1350.9,0.8276916666666666034,34.707563434880427,2,  34.7106,2,204.35920821313752,2, 202.3965,2,    202.8,2,    119.8,2,    32.25,2,     0.00,2,     2.21,2,    0.155,2,    0.080,2,   0.0300,2,   2262.6,2,  2359.58,2,   7.5925,2,    24.94,     41.4,2,     -999,1,   0.8289,2,     -999,9,     -999,9,     -999,     -999,9,     -999,9,     -999,1,     -999,1,    0.061,1,    4.683,1,    0.129,1,  20.5900,2,     -999,1,20180322,2316, -69.0053,-170.0003,     -999,1,     -999,1,-999          ,9,     -999,1,     -999,9,     -999,     -999,9,     -999,     -999,9,     -999,9,     -999,9,     -999,9,     -999,9,     -999,9,     -999,9,     -999,9,     -999,9,     -999,9,     -999,9,     -999,9,     -999,9,     -999,9