BOTTLE,20240515CCHHYDRO
EXPOCODE,SECT_ID,STNNBR,CASTNO,SAMPNO,BTLNBR,BTLNBR_FLAG_W,DATE,TIME,LATITUDE,LONGITUDE,DEPTH,CTDPRS,CTDTMP,CTDSAL,CTDSAL_FLAG_W,SALNTY,SALNTY_FLAG_W,CTDOXY,CTDOXY_FLAG_W,CTDOPTOXY,CTDOPTOXY_FLAG_W,OXYGEN,OXYGEN_FLAG_W,SILCAT,SILCAT_FLAG_W,NITRAT,NITRAT_FLAG_W,NITRIT,NITRIT_FLAG_W,PHSPHT,PHSPHT_FLAG_W,CFC-11,CFC-11_FLAG_W,CFC-12,CFC-12_FLAG_W,SF6,SF6_FLAG_W,TCARBN,TCARBN_FLAG_W,ALKALI,ALKALI_FLAG_W,PH_TOT,PH_TOT_FLAG_W,PH_TMP,DOC,DOC_FLAG_W,HELIUM,HELIUM_FLAG_W,REFTMP,REFTMP_FLAG_W,DELC13,DELC13_FLAG_W,DELC14,DELC14_FLAG_W,C14ERR,POC,POC_FLAG_W,TDN,TDN_FLAG_W,TON,TON_FLAG_W,NEON,NEON_FLAG_W,CTDFLUOR,CTDFLUOR_FLAG_W,CTDXMISS,CTDXMISS_FLAG_W,CTDBETA700,CTDBETA700_FLAG_W,N2O,N2O_FLAG_W,ARGON,ARGON_FLAG_W,BTL_DATE,BTL_TIME,BTL_LAT,BTL_LON,KRYPTON,KRYPTON_FLAG_W,XENON,XENON_FLAG_W,HPLC,HPLC_FLAG_W,HE3_HE4_RATIO,HE3_HE4_RATIO_FLAG_W,Nd_143_144_D_EPSILON_BOTTLE,Nd_143_144_D_EPSILON_BOTTLE_FLAG_W,Nd_143_144_D_EPSILON_BOTTLE_ERROR,Nd_143_144_D_RATIO_BOTTLE,Nd_143_144_D_RATIO_BOTTLE_FLAG_W,Nd_143_144_D_RATIO_BOTTLE_ERROR,Nd_D_CONC,Nd_D_CONC_FLAG_W,La_D_CONC_BOTTLE,La_D_CONC_BOTTLE_FLAG_W,Ce_D_CONC_BOTTLE,Ce_D_CONC_BOTTLE_FLAG_W,Pr_D_CONC_BOTTLE,Pr_D_CONC_BOTTLE_FLAG_W,Sm_D_CONC_BOTTLE,Sm_D_CONC_BOTTLE_FLAG_W,Eu_D_CONC_BOTTLE,Eu_D_CONC_BOTTLE_FLAG_W,Gd_D_CONC_BOTTLE,Gd_D_CONC_BOTTLE_FLAG_W,Tb_D_CONC_BOTTLE,Tb_D_CONC_BOTTLE_FLAG_W,Dy_D_CONC_BOTTLE,Dy_D_CONC_BOTTLE_FLAG_W,Ho_D_CONC_BOTTLE,Ho_D_CONC_BOTTLE_FLAG_W,Er_D_CONC_BOTTLE,Er_D_CONC_BOTTLE_FLAG_W,Tm_D_CONC_BOTTLE,Tm_D_CONC_BOTTLE_FLAG_W,Yb_D_CONC_BOTTLE,Yb_D_CONC_BOTTLE_FLAG_W,Lu_D_CONC_BOTTLE,Lu_D_CONC_BOTTLE_FLAG_W
,,,,,,,,,,,METERS,DBAR,ITS-90,PSS-78,,PSS-78,,UMOL/KG,,UMOL/KG,,UMOL/KG,,UMOL/KG,,UMOL/KG,,UMOL/KG,,UMOL/KG,,PMOL/KG,,PMOL/KG,,FMOL/KG,,UMOL/KG,,UMOL/KG,,,,DEG C,UMOL/KG,,NMOL/L,,DEG C,,/MILLE,,/MILLE,,/MILLE,UG/KG,,UMOL/KG,,UMOL/KG,,NMOL/L,,VOLTS,,VOLTS,,VOLTS,,NMOL/KG,,UMOL/L,,,,,,NMOL/L,,NMOL/L,,,,,,10000,,10000,,,,PMOL/KG,,PMOL/L,,PMOL/L,,PMOL/L,,PMOL/L,,PMOL/L,,PMOL/L,,PMOL/L,,PMOL/L,,PMOL/L,,PMOL/L,,PMOL/L,,PMOL/L,,PMOL/L,
320620180309  ,S04P       ,66      ,  1,36         ,36         ,2,20180414,0702, -66.9511,-152.7001,     3573,      6.9,-1.5818361111111112205,33.742729099006475,2,  33.7390,2,348.33817798362594,2, 348.0031,2,    349.2,2,     48.6,2,    24.16,2,     0.15,2,     1.78,2,    6.830,2,    3.360,2,   2.8100,3,   2171.1,6,  2287.56,2,   7.6540,2,    24.89,     45.1,2,     -999,9,  -1.5831,2,     -999,9,     -999,9,     -999,     -999,9,    25.80,2,     -999,1,     -999,9,    0.134,1,    4.617,1,    0.171,1,  17.8700,2,     -999,9,20180414,0844, -66.9531,-152.6999,     -999,9,     -999,9,-999          ,9,     -999,9,     -999,9,     -999,     -999,9,     -999,     -999,9,     -999,9,     -999,9,     -999,9,     -999,9,     -999,9,     -999,9,     -999,9,     -999,9,     -999,9,     -999,9,     -999,9,     -999,9,     -999,9
320620180309  ,S04P       ,66      ,  1,35         ,35         ,2,20180414,0702, -66.9511,-152.7001,     3573,     15.3,-1.5858638888888891838,33.741499629868059,2,  33.7380,2,348.80033705927394,2, 348.0015,2,    349.5,2,     48.6,2,    24.18,2,     0.15,2,     1.76,2,     -999,9,     -999,9,     -999,9,   2170.6,2,  2286.58,2,   7.6553,2,    24.88,     44.2,2,     -999,9,  -1.5841,2,     -999,9,     -999,9,     -999,     -999,9,    26.70,2,     -999,1,     -999,9,    0.128,1,    4.619,1,    0.172,1,     -999,9,     -999,9,20180414,0844, -66.9531,-152.6999,     -999,9,     -999,9,-999          ,9,     -999,9,     -999,9,     -999,     -999,9,     -999,     -999,9,     -999,9,     -999,9,     -999,9,     -999,9,     -999,9,     -999,9,     -999,9,     -999,9,     -999,9,     -999,9,     -999,9,     -999,9,     -999,9
320620180309  ,S04P       ,66      ,  1,34         ,34         ,2,20180414,0702, -66.9511,-152.7001,     3573,     38.7,-1.5565361111111111203,33.752802469863930,2,  33.7491,2,347.59874204500665,2, 347.7005,2,    348.0,2,     48.5,2,    24.26,2,     0.15,2,     1.77,2,    6.354,2,    3.201,2,   3.6000,3,   2173.6,2,  2287.40,2,   7.6549,2,    24.90,     43.3,2,     -999,9,  -1.5576,2,     -999,9,     -999,9,     -999,     -999,9,    26.10,2,     -999,1,     -999,9,    0.129,1,    4.617,1,    0.173,1,  17.5400,2,     -999,9,20180414,0843, -66.9531,-152.6999,     -999,9,     -999,9,-999          ,9,     -999,9,     -999,9,     -999,     -999,9,     -999,     -999,9,     -999,9,     -999,9,     -999,9,     -999,9,     -999,9,     -999,9,     -999,9,     -999,9,     -999,9,     -999,9,     -999,9,     -999,9,     -999,9
320620180309  ,S04P       ,66      ,  1,33         ,33         ,2,20180414,0702, -66.9511,-152.7001,     3573,     65.9,-1.5049194444444442542,33.774095041592069,2,  33.7685,2,345.17516065829068,2, 344.3014,2,    345.1,2,     48.9,2,    24.43,2,     0.15,2,     1.78,2,    6.817,2,    3.450,2,   4.2200,3,   2172.8,2,  2288.00,2,   7.6531,2,    24.90,     44.9,2,     -999,9,  -1.5058,2,     -999,9,     -999,9,     -999,     -999,9,    27.10,2,     -999,1,     -999,9,    0.140,1,    4.620,1,    0.176,1,  16.9300,2,     -999,9,20180414,0841, -66.9529,-152.6999,     -999,9,     -999,9,-999          ,9,     -999,9,     -999,9,     -999,     -999,9,     -999,     -999,9,     -999,9,     -999,9,     -999,9,     -999,9,     -999,9,     -999,9,     -999,9,     -999,9,     -999,9,     -999,9,     -999,9,     -999,9,     -999,9
320620180309  ,S04P       ,66      ,  1,32         ,32         ,2,20180414,0702, -66.9511,-152.7001,     3573,     90.7,-1.4010888888888892723,33.825306750424886,2,  33.8251,2,338.55414251329853,3, 334.5987,2,    332.2,2,     51.4,2,    25.26,2,     0.14,2,     1.83,2,     -999,9,     -999,9,     -999,9,   2180.2,2,  2291.71,2,   7.6443,2,    24.91,     43.5,2,     -999,9,  -1.4034,2,     -999,9,     -999,9,     -999,     -999,9,    27.50,2,     -999,1,     -999,9,    0.121,1,    4.619,1,    0.177,1,     -999,9,     -999,9,20180414,0840, -66.9528,-152.7000,     -999,9,     -999,9,-999          ,9,     -999,9,     -999,9,     -999,     -999,9,     -999,     -999,9,     -999,9,     -999,9,     -999,9,     -999,9,     -999,9,     -999,9,     -999,9,     -999,9,     -999,9,     -999,9,     -999,9,     -999,9,     -999,9
320620180309  ,S04P       ,66      ,  1,31         ,31         ,2,20180414,0702, -66.9511,-152.7001,     3573,    113.8,-1.1043888888888888644,34.050926859437389,2,  34.0514,2,307.02156787734185,3, 294.6044,2,    292.8,2,     58.4,2,    27.80,2,     0.13,2,     1.97,2,    4.592,2,    2.383,2,   2.9400,3,   2203.7,2,  2304.59,2,   7.6127,2,    24.89,     -999,9,     -999,9,  -1.1000,2,     -999,9,     -999,9,     -999,     -999,9,     -999,9,     -999,9,     -999,9,    0.105,1,    4.627,1,    0.166,1,  19.4300,2,     -999,9,20180414,0838, -66.9527,-152.7000,     -999,9,     -999,9,-999          ,9,     -999,9,     -999,9,     -999,     -999,9,     -999,     -999,9,     -999,9,     -999,9,     -999,9,     -999,9,     -999,9,     -999,9,     -999,9,     -999,9,     -999,9,     -999,9,     -999,9,     -999,9,     -999,9
320620180309  ,S04P       ,66      ,  1,30         ,30         ,2,20180414,0702, -66.9511,-152.7001,     3573,    139.9,-0.9815472222222223486,34.193508031426262,2,  34.1888,2,284.45805064740762,3, 275.5990,2,    277.5,2,     61.2,2,    29.07,2,     0.12,2,     2.03,2,    4.320,2,    2.235,2,   2.3600,3,   2215.9,2,  2312.11,2,   7.5974,2,    24.90,     43.9,2,     -999,9,  -0.9895,2,     -999,9,     -999,9,     -999,     -999,9,    30.50,2,     -999,1,     -999,9,    0.081,1,    4.647,1,    0.147,1,  20.0100,2,     -999,9,20180414,0837, -66.9527,-152.7000,     -999,9,     -999,9,-999          ,9,     -999,9,     -999,9,     -999,     -999,9,     -999,     -999,9,     -999,9,     -999,9,     -999,9,     -999,9,     -999,9,     -999,9,     -999,9,     -999,9,     -999,9,     -999,9,     -999,9,     -999,9,     -999,9
320620180309  ,S04P       ,66      ,  1,29         ,29         ,2,20180414,0702, -66.9511,-152.7001,     3573,    186.8,0.0613861111111111274,34.401739344697042,2,  34.3980,2,236.52780712937562,3, 233.9027,2,    233.7,2,     73.6,2,    31.55,2,     0.07,2,     2.17,2,     -999,9,     -999,9,     -999,9,   2235.9,2,  2325.07,2,   7.5698,2,    24.90,     42.2,2,     -999,9,   0.0348,2,     -999,9,     -999,9,     -999,     -999,9,     -999,9,     -999,1,     -999,9,    0.069,1,    4.653,1,    0.142,1,     -999,9,     -999,9,20180414,0835, -66.9528,-152.7000,     -999,9,     -999,9,-999          ,9,     -999,9,     -999,9,     -999,     -999,9,     -999,     -999,9,     -999,9,     -999,9,     -999,9,     -999,9,     -999,9,     -999,9,     -999,9,     -999,9,     -999,9,     -999,9,     -999,9,     -999,9,     -999,9
320620180309  ,S04P       ,66      ,  1,28         ,28         ,2,20180414,0702, -66.9511,-152.7001,     3573,    236.1,0.9388083333333331337,34.564170893017632,2,  34.5709,2,204.68942328393115,3, 202.2981,2,    199.5,2,     84.4,2,    32.71,2,     0.03,2,     2.21,2,    1.337,2,    0.734,2,   0.9000,2,   2253.0,2,  2337.06,2,   7.5595,2,    24.90,     42.1,2,     -999,9,   0.9365,2,     -999,9,     -999,9,     -999,     -999,9,    33.90,2,     -999,1,     -999,9,    0.064,1,    4.654,1,    0.141,1,  22.7600,2,     -999,9,20180414,0833, -66.9527,-152.7000,     -999,9,     -999,9,-999          ,9,     -999,9,     -999,9,     -999,     -999,9,     -999,     -999,9,     -999,9,     -999,9,     -999,9,     -999,9,     -999,9,     -999,9,     -999,9,     -999,9,     -999,9,     -999,9,     -999,9,     -999,9,     -999,9
320620180309  ,S04P       ,66      ,  1,27         ,27         ,2,20180414,0702, -66.9511,-152.7001,     3573,    286.8,1.5153222222222222371,34.693513937544616,2,  34.6903,2,183.23449360024244,2, 184.2949,2,    183.4,2,     92.1,2,    32.88,2,     0.02,2,     2.20,2,    0.498,2,    0.263,2,   0.0400,3,   2260.3,6,  2347.58,2,   7.5640,2,    24.91,     40.2,2,     -999,9,   1.5138,2,     -999,9,     -999,9,     -999,     -999,9,    34.50,2,     -999,1,     -999,9,    0.062,1,    4.655,1,    0.138,1,  22.3900,2,     -999,9,20180414,0831, -66.9525,-152.7000,     -999,9,     -999,9,-999          ,9,     -999,9,     -999,9,     -999,     -999,9,     -999,     -999,9,     -999,9,     -999,9,     -999,9,     -999,9,     -999,9,     -999,9,     -999,9,     -999,9,     -999,9,     -999,9,     -999,9,     -999,9,     -999,9
320620180309  ,S04P       ,66      ,  1,26         ,26         ,2,20180414,0702, -66.9511,-152.7001,     3573,    338.8,1.5556166666666664256,34.723955207627831,2,  34.7211,2,182.76330861422079,2, 182.9999,2,    182.6,2,     96.1,2,    32.63,2,     0.02,2,     2.19,2,     -999,9,     -999,9,     -999,9,   2263.1,2,  2352.22,2,   7.5687,6,    24.91,     44.5,2,     -999,9,   1.5555,2,     -999,9,     -999,9,     -999,     -999,9,     -999,9,     -999,1,     -999,9,    0.063,1,    4.660,1,    0.137,1,     -999,9,     -999,9,20180414,0829, -66.9524,-152.7001,     -999,9,     -999,9,-999          ,9,     -999,9,     -999,9,     -999,     -999,9,     -999,     -999,9,     -999,9,     -999,9,     -999,9,     -999,9,     -999,9,     -999,9,     -999,9,     -999,9,     -999,9,     -999,9,     -999,9,     -999,9,     -999,9
320620180309  ,S04P       ,66      ,  1,25         ,25         ,2,20180414,0702, -66.9511,-152.7001,     3573,    390.2,1.4949166666666666714,34.729235422666143,2,  34.7268,2,183.56585892949721,2, 183.9002,2,    182.7,2,     99.0,2,    32.56,2,     0.00,2,     2.19,2,    0.240,2,    0.127,2,   0.1500,3,   2263.6,2,  2353.20,2,   7.5711,2,    24.87,     42.0,2,     -999,9,   1.4945,2,     -999,9,     -999,9,     -999,     -999,9,     -999,9,     -999,1,     -999,9,    0.062,1,    4.661,1,    0.135,1,  23.5300,2,     -999,9,20180414,0827, -66.9525,-152.7001,     -999,9,     -999,9,-999          ,9,     -999,9,     -999,9,     -999,     -999,9,     -999,     -999,9,     -999,9,     -999,9,     -999,9,     -999,9,     -999,9,     -999,9,     -999,9,     -999,9,     -999,9,     -999,9,     -999,9,     -999,9,     -999,9
320620180309  ,S04P       ,66      ,  1,24         ,24         ,2,20180414,0702, -66.9511,-152.7001,     3573,    440.0,1.4532305555555558030,34.730816800584208,2,  34.7280,2,184.12413735457960,2, 184.6959,2,    183.3,2,    100.9,2,    32.63,2,     0.00,2,     2.20,2,    0.210,2,    0.118,2,  -0.0400,2,   2261.1,2,  2354.68,2,   7.5715,2,    24.88,     43.3,2,     -999,9,   1.4524,2,     -999,9,     -999,9,     -999,     -999,9,     -999,9,     -999,1,     -999,9,    0.061,1,    4.662,1,    0.134,1,  20.8400,2,     -999,9,20180414,0825, -66.9526,-152.7000,     -999,9,     -999,9,-999          ,9,     -999,9,     -999,9,     -999,     -999,9,     -999,     -999,9,     -999,9,     -999,9,     -999,9,     -999,9,     -999,9,     -999,9,     -999,9,     -999,9,     -999,9,     -999,9,     -999,9,     -999,9,     -999,9
320620180309  ,S04P       ,66      ,  1,23         ,23         ,2,20180414,0702, -66.9511,-152.7001,     3573,    487.7,1.4084194444444448902,34.731529103410729,2,  34.7290,2,184.57623828891130,2, 185.4986,2,    184.4,2,    102.6,2,    32.63,2,     0.00,2,     2.20,2,     -999,9,     -999,9,     -999,9,   2261.0,2,  2355.14,2,   7.5744,2,    24.88,     -999,9,     -999,9,   1.4077,2,     -999,9,     -999,9,     -999,     -999,9,     -999,9,     -999,9,     -999,9,    0.062,1,    4.662,1,    0.132,1,     -999,9,     -999,9,20180414,0823, -66.9527,-152.6998,     -999,9,     -999,9,-999          ,9,     -999,9,     -999,9,     -999,     -999,9,     -999,     -999,9,     -999,9,     -999,9,     -999,9,     -999,9,     -999,9,     -999,9,     -999,9,     -999,9,     -999,9,     -999,9,     -999,9,     -999,9,     -999,9
320620180309  ,S04P       ,66      ,  1,22         ,37         ,2,20180414,0702, -66.9511,-152.7001,     3573,    569.2,1.3485472222222221195,34.731256483070894,2,  34.7290,2,185.47580129669765,2, 186.4019,2,    184.7,2,    104.7,2,    32.70,2,     0.00,2,     2.21,2,    0.169,2,    0.086,2,   0.0500,3,   2264.6,2,     -999,5,   7.5742,2,    24.89,     42.7,2,     -999,9,   1.3469,2,     -999,9,     -999,9,     -999,     -999,9,     -999,9,     -999,1,     -999,9,    0.061,1,    4.662,1,    0.133,1,  21.2800,2,     -999,9,20180414,0821, -66.9529,-152.6997,     -999,9,     -999,9,-999          ,9,     -999,9,     -999,9,     -999,     -999,9,     -999,     -999,9,     -999,9,     -999,9,     -999,9,     -999,9,     -999,9,     -999,9,     -999,9,     -999,9,     -999,9,     -999,9,     -999,9,     -999,9,     -999,9
320620180309  ,S04P       ,66      ,  1,21         ,21         ,2,20180414,0702, -66.9511,-152.7001,     3573,    671.1,1.2677944444444444461,34.730000230449747,2,  34.7274,2,187.34459465373681,2, 187.9008,2,    187.4,2,    107.6,2,    32.67,2,     0.00,2,     2.19,2,    0.146,2,    0.072,2,   0.0900,2,   2265.1,2,  2360.50,2,   7.5768,2,    24.89,     40.4,2,     -999,9,   1.2673,2,     -999,9,     -999,9,     -999,     -999,9,     -999,9,     -999,1,     -999,9,    0.061,1,    4.663,1,    0.131,1,  20.5300,2,     -999,9,20180414,0818, -66.9528,-152.7005,     -999,9,     -999,9,-999          ,9,     -999,9,     -999,9,     -999,     -999,9,     -999,     -999,9,     -999,9,     -999,9,     -999,9,     -999,9,     -999,9,     -999,9,     -999,9,     -999,9,     -999,9,     -999,9,     -999,9,     -999,9,     -999,9
320620180309  ,S04P       ,66      ,  1,20         ,20         ,2,20180414,0702, -66.9511,-152.7001,     3573,    772.3,1.2011666666666667158,34.728254496087061,2,  34.7263,2,190.31993258922756,2, 189.5014,2,    189.6,2,    109.9,2,    32.58,2,     0.00,2,     2.19,2,     -999,9,     -999,9,     -999,9,   2264.8,2,  2359.26,2,   7.5801,2,    24.88,     41.3,2,     -999,9,   1.2004,2,     -999,9,     -999,9,     -999,     -999,9,     -999,9,     -999,1,     -999,9,    0.061,1,    4.663,1,    0.129,1,     -999,9,     -999,9,20180414,0815, -66.9527,-152.7005,     -999,9,     -999,9,-999          ,9,     -999,9,     -999,9,     -999,     -999,9,     -999,     -999,9,     -999,9,     -999,9,     -999,9,     -999,9,     -999,9,     -999,9,     -999,9,     -999,9,     -999,9,     -999,9,     -999,9,     -999,9,     -999,9
320620180309  ,S04P       ,66      ,  1,19         ,19         ,2,20180414,0702, -66.9511,-152.7001,     3573,    874.4,1.1296666666666668188,34.725661173529147,2,  34.7237,2,192.15188961503875,2, 191.6010,2,    192.5,2,    112.1,2,    32.55,2,     0.00,2,     2.21,2,    0.117,2,    0.074,2,   0.0900,3,   2265.0,2,  2359.52,2,   7.5897,2,    24.89,     40.1,2,     -999,9,   1.1283,2,     -999,9,     -999,9,     -999,     -999,9,     -999,9,     -999,1,     -999,9,    0.061,1,    4.663,1,    0.131,1,  19.9400,2,     -999,9,20180414,0812, -66.9528,-152.7006,     -999,9,     -999,9,-999          ,9,     -999,9,     -999,9,     -999,     -999,9,     -999,     -999,9,     -999,9,     -999,9,     -999,9,     -999,9,     -999,9,     -999,9,     -999,9,     -999,9,     -999,9,     -999,9,     -999,9,     -999,9,     -999,9
320620180309  ,S04P       ,66      ,  1,18         ,18         ,2,20180414,0702, -66.9511,-152.7001,     3573,    976.3,1.0482972222222222136,34.722840313395345,2,  34.7208,2,194.28269961289860,2, 194.0988,2,    195.6,2,    114.3,2,    32.48,2,     0.00,2,     2.19,2,    0.114,2,    0.066,2,  -0.0300,3,   2265.3,2,  2361.84,2,   7.5877,2,    24.88,     38.4,2,     -999,9,   1.0479,2,     -999,9,     -999,9,     -999,     -999,9,     -999,9,     -999,1,     -999,9,    0.062,1,    4.664,1,    0.129,1,  21.0500,2,     -999,9,20180414,0809, -66.9529,-152.7006,     -999,9,     -999,9,-999          ,9,     -999,9,     -999,9,     -999,     -999,9,     -999,     -999,9,     -999,9,     -999,9,     -999,9,     -999,9,     -999,9,     -999,9,     -999,9,     -999,9,     -999,9,     -999,9,     -999,9,     -999,9,     -999,9
320620180309  ,S04P       ,66      ,  1,17         ,17         ,2,20180414,0702, -66.9511,-152.7001,     3573,   1078.6,0.9906194444444444969,34.720412436490470,2,  34.7186,2,197.28427015388351,2, 195.6974,2,    197.5,2,    115.7,2,    32.37,2,     0.00,2,     2.18,2,     -999,9,     -999,9,     -999,9,   2266.8,2,  2360.74,2,   7.5890,2,    24.89,     40.2,2,     -999,9,   0.9912,2,     -999,9,     -999,9,     -999,     -999,9,     -999,9,     -999,1,     -999,9,    0.061,1,    4.664,1,    0.129,1,     -999,9,     -999,9,20180414,0806, -66.9533,-152.7003,     -999,9,     -999,9,-999          ,9,     -999,9,     -999,9,     -999,     -999,9,     -999,     -999,9,     -999,9,     -999,9,     -999,9,     -999,9,     -999,9,     -999,9,     -999,9,     -999,9,     -999,9,     -999,9,     -999,9,     -999,9,     -999,9
320620180309  ,S04P       ,66      ,  1,16         ,16         ,2,20180414,0702, -66.9511,-152.7001,     3573,   1178.5,0.9382777777777777661,34.718217939300011,2,  34.7166,2,198.47552920826951,2, 197.4969,2,    199.5,2,    117.4,2,    32.42,2,     0.00,2,     2.18,2,    0.116,6,    0.061,6,   0.0000,3,   2265.0,2,  2363.73,2,   7.5920,2,    24.90,     40.4,2,     -999,9,   0.9371,2,     -999,9,     -999,9,     -999,     -999,9,     -999,9,     -999,1,     -999,9,    0.062,1,    4.664,1,    0.129,1,  20.3100,6,     -999,9,20180414,0803, -66.9536,-152.7002,     -999,9,     -999,9,-999          ,9,     -999,9,     -999,9,     -999,     -999,9,     -999,     -999,9,     -999,9,     -999,9,     -999,9,     -999,9,     -999,9,     -999,9,     -999,9,     -999,9,     -999,9,     -999,9,     -999,9,     -999,9,     -999,9