BOTTLE,20240515CCHHYDRO
EXPOCODE,SECT_ID,STNNBR,CASTNO,SAMPNO,BTLNBR,BTLNBR_FLAG_W,DATE,TIME,LATITUDE,LONGITUDE,DEPTH,CTDPRS,CTDTMP,CTDSAL,CTDSAL_FLAG_W,SALNTY,SALNTY_FLAG_W,CTDOXY,CTDOXY_FLAG_W,CTDOPTOXY,CTDOPTOXY_FLAG_W,OXYGEN,OXYGEN_FLAG_W,SILCAT,SILCAT_FLAG_W,NITRAT,NITRAT_FLAG_W,NITRIT,NITRIT_FLAG_W,PHSPHT,PHSPHT_FLAG_W,CFC-11,CFC-11_FLAG_W,CFC-12,CFC-12_FLAG_W,SF6,SF6_FLAG_W,TCARBN,TCARBN_FLAG_W,ALKALI,ALKALI_FLAG_W,PH_TOT,PH_TOT_FLAG_W,PH_TMP,DOC,DOC_FLAG_W,HELIUM,HELIUM_FLAG_W,REFTMP,REFTMP_FLAG_W,DELC13,DELC13_FLAG_W,DELC14,DELC14_FLAG_W,C14ERR,POC,POC_FLAG_W,TDN,TDN_FLAG_W,TON,TON_FLAG_W,NEON,NEON_FLAG_W,CTDFLUOR,CTDFLUOR_FLAG_W,CTDXMISS,CTDXMISS_FLAG_W,CTDBETA700,CTDBETA700_FLAG_W,N2O,N2O_FLAG_W,ARGON,ARGON_FLAG_W,BTL_DATE,BTL_TIME,BTL_LAT,BTL_LON,KRYPTON,KRYPTON_FLAG_W,XENON,XENON_FLAG_W,HPLC,HPLC_FLAG_W,HE3_HE4_RATIO,HE3_HE4_RATIO_FLAG_W,Nd_143_144_D_EPSILON_BOTTLE,Nd_143_144_D_EPSILON_BOTTLE_FLAG_W,Nd_143_144_D_EPSILON_BOTTLE_ERROR,Nd_143_144_D_RATIO_BOTTLE,Nd_143_144_D_RATIO_BOTTLE_FLAG_W,Nd_143_144_D_RATIO_BOTTLE_ERROR,Nd_D_CONC,Nd_D_CONC_FLAG_W,La_D_CONC_BOTTLE,La_D_CONC_BOTTLE_FLAG_W,Ce_D_CONC_BOTTLE,Ce_D_CONC_BOTTLE_FLAG_W,Pr_D_CONC_BOTTLE,Pr_D_CONC_BOTTLE_FLAG_W,Sm_D_CONC_BOTTLE,Sm_D_CONC_BOTTLE_FLAG_W,Eu_D_CONC_BOTTLE,Eu_D_CONC_BOTTLE_FLAG_W,Gd_D_CONC_BOTTLE,Gd_D_CONC_BOTTLE_FLAG_W,Tb_D_CONC_BOTTLE,Tb_D_CONC_BOTTLE_FLAG_W,Dy_D_CONC_BOTTLE,Dy_D_CONC_BOTTLE_FLAG_W,Ho_D_CONC_BOTTLE,Ho_D_CONC_BOTTLE_FLAG_W,Er_D_CONC_BOTTLE,Er_D_CONC_BOTTLE_FLAG_W,Tm_D_CONC_BOTTLE,Tm_D_CONC_BOTTLE_FLAG_W,Yb_D_CONC_BOTTLE,Yb_D_CONC_BOTTLE_FLAG_W,Lu_D_CONC_BOTTLE,Lu_D_CONC_BOTTLE_FLAG_W
,,,,,,,,,,,METERS,DBAR,ITS-90,PSS-78,,PSS-78,,UMOL/KG,,UMOL/KG,,UMOL/KG,,UMOL/KG,,UMOL/KG,,UMOL/KG,,UMOL/KG,,PMOL/KG,,PMOL/KG,,FMOL/KG,,UMOL/KG,,UMOL/KG,,,,DEG C,UMOL/KG,,NMOL/L,,DEG C,,/MILLE,,/MILLE,,/MILLE,UG/KG,,UMOL/KG,,UMOL/KG,,NMOL/L,,VOLTS,,VOLTS,,VOLTS,,NMOL/KG,,UMOL/L,,,,,,NMOL/L,,NMOL/L,,,,,,10000,,10000,,,,PMOL/KG,,PMOL/L,,PMOL/L,,PMOL/L,,PMOL/L,,PMOL/L,,PMOL/L,,PMOL/L,,PMOL/L,,PMOL/L,,PMOL/L,,PMOL/L,,PMOL/L,,PMOL/L,
320620180309  ,P16        ,41      ,  1,36         ,36         ,2,20180404,1600, -73.5077,-149.9990,     4132,      3.6,-1.8251083333333335545,33.848062363987317,2,  33.8470,2,333.91970768129346,3, 338.9994,2,    340.1,2,     47.1,2,    26.50,2,     0.17,2,     1.88,2,    6.100,2,    3.132,2,   3.6200,2,   2178.7,6,  2290.66,2,   7.6439,2,    24.94,     -999,9,     -999,9,  -1.8256,2,1.15000000,2, -112.910,2,    0.002,     -999,9,     -999,9,     -999,9,     -999,9,    0.157,1,    4.622,1,    0.184,1,  17.7100,2,     -999,9,20180404,1832, -73.5241,-150.1406,     -999,9,     -999,9,-999          ,9,     -999,9,     -999,9,     -999,     -999,9,     -999,     -999,9,     -999,1,     -999,1,     -999,1,     -999,1,     -999,1,     -999,1,     -999,1,     -999,1,     -999,1,     -999,1,     -999,1,     -999,1,     -999,1
320620180309  ,P16        ,41      ,  1,35         ,35         ,2,20180404,1600, -73.5077,-149.9990,     4132,     20.1,-1.8224194444444445917,33.849625271864241,2,  33.8480,2,334.37808372697685,3, 339.1985,2,    338.1,2,     47.3,2,    26.50,2,     0.16,2,     1.88,2,     -999,9,     -999,9,     -999,9,     -999,9,     -999,9,     -999,9,     -999,     -999,9,     -999,9,  -1.8233,2,     -999,9,     -999,9,     -999,     -999,9,     -999,9,     -999,9,     -999,9,    0.157,1,    4.623,1,    0.165,1,     -999,9,     -999,9,20180404,1830, -73.5239,-150.1389,     -999,9,     -999,9,-999          ,9,     -999,9,     -999,9,     -999,     -999,9,     -999,     -999,9,     -999,1,     -999,1,     -999,1,     -999,1,     -999,1,     -999,1,     -999,1,     -999,1,     -999,1,     -999,1,     -999,1,     -999,1,     -999,1
320620180309  ,P16        ,41      ,  1,34         ,34         ,2,20180404,1600, -73.5077,-149.9990,     4132,     40.2,-1.7844944444444443832,33.861927544801951,2,  33.8646,2,335.17369330023382,2, 336.0978,2,    335.6,2,     47.8,2,    26.66,2,     0.16,2,     1.89,2,    5.933,2,    3.078,2,   3.7900,2,   2178.7,2,  2291.72,2,   7.6455,6,    24.95,     -999,9,     -999,9,  -1.7869,2,     -999,9,     -999,9,     -999,     -999,9,     -999,9,     -999,9,     -999,9,    0.158,1,    4.623,1,    0.169,1,  17.4200,2,     -999,9,20180404,1828, -73.5236,-150.1372,     -999,9,     -999,9,-999          ,9,     -999,9,     -999,9,     -999,     -999,9,     -999,     -999,9,     -999,9,     -999,9,     -999,9,     -999,9,     -999,9,     -999,9,     -999,9,     -999,9,     -999,9,     -999,9,     -999,9,     -999,9,     -999,9
320620180309  ,P16        ,41      ,  1,33         ,33         ,2,20180404,1600, -73.5077,-149.9990,     4132,     65.6,-1.4241777777777775427,33.982948912534226,3,  34.0033,2,322.73968905928842,3, 306.7942,2,    308.2,2,     52.6,2,    28.06,2,     0.13,2,     1.96,2,     -999,9,     -999,9,     -999,9,     -999,9,     -999,9,     -999,9,     -999,     -999,9,     -999,9,  -1.4291,2,     -999,9,     -999,9,     -999,     -999,9,     -999,9,     -999,9,     -999,9,    0.146,1,    4.627,1,    0.168,1,     -999,9,     -999,9,20180404,1826, -73.5233,-150.1351,     -999,9,     -999,9,-999          ,9,     -999,9,     -999,9,     -999,     -999,9,     -999,     -999,9,     -999,1,     -999,1,     -999,1,     -999,1,     -999,1,     -999,1,     -999,1,     -999,1,     -999,1,     -999,1,     -999,1,     -999,1,     -999,1
320620180309  ,P16        ,41      ,  1,32         ,32         ,2,20180404,1600, -73.5077,-149.9990,     4132,     90.5,-0.7498583333333334044,34.198297971183557,3,  34.2824,2,272.60240419930085,2, 271.7024,2,    270.6,2,     60.4,2,    30.13,2,     0.09,2,     2.09,2,     -999,9,     -999,9,     -999,9,   2214.5,2,  2310.23,2,   7.5949,2,    24.94,     -999,9,     -999,9,  -0.7521,2,1.00000000,2, -124.050,2,    0.002,     -999,9,     -999,9,     -999,9,     -999,9,    0.091,1,    4.648,1,    0.155,1,     -999,9,     -999,9,20180404,1824, -73.5231,-150.1331,     -999,9,     -999,9,-999          ,9,     -999,9,     -999,9,     -999,     -999,9,     -999,     -999,9,     -999,9,     -999,9,     -999,9,     -999,9,     -999,9,     -999,9,     -999,9,     -999,9,     -999,9,     -999,9,     -999,9,     -999,9,     -999,9
320620180309  ,P16        ,41      ,  1,31         ,31         ,2,20180404,1600, -73.5077,-149.9990,     4132,    116.1,-0.2482416666666666660,34.291475267639093,3,  34.1915,2,252.19918751042889,2, 246.8002,3,    250.7,2,     65.8,2,    31.12,2,     0.03,2,     2.16,2,     -999,9,     -999,9,     -999,9,   2225.1,2,  2317.27,2,   7.5817,2,    24.95,     -999,9,     -999,9,  -0.2495,2,     -999,9,     -999,9,     -999,     -999,9,     -999,9,     -999,9,     -999,9,    0.078,1,    4.659,1,    0.144,1,     -999,9,     -999,9,20180404,1822, -73.5228,-150.1308,     -999,9,     -999,9,-999          ,9,     -999,9,     -999,9,     -999,     -999,9,     -999,     -999,9,     -999,1,     -999,1,     -999,1,     -999,1,     -999,1,     -999,1,     -999,1,     -999,1,     -999,1,     -999,1,     -999,1,     -999,1,     -999,1
320620180309  ,P16        ,41      ,  1,30         ,30         ,2,20180404,1600, -73.5077,-149.9990,     4132,    141.8,0.4705749999999999655,34.421511240713180,2,  34.4295,2,227.35626110595624,3, 220.0982,2,    221.2,2,     74.2,2,    32.36,2,     0.00,2,     2.21,2,     -999,9,     -999,9,     -999,9,   2238.6,2,  2325.88,2,   7.5640,2,    24.95,     -999,9,     -999,9,   0.4682,2,     -999,9,     -999,9,     -999,     -999,9,     -999,9,     -999,9,     -999,9,    0.072,1,    4.659,1,    0.143,1,     -999,9,     -999,9,20180404,1820, -73.5225,-150.1287,     -999,9,     -999,9,-999          ,9,     -999,9,     -999,9,     -999,     -999,9,     -999,     -999,9,     -999,9,     -999,9,     -999,9,     -999,9,     -999,9,     -999,9,     -999,9,     -999,9,     -999,9,     -999,9,     -999,9,     -999,9,     -999,9
320620180309  ,P16        ,41      ,  1,29         ,29         ,2,20180404,1600, -73.5077,-149.9990,     4132,    187.1,1.3731249999999997069,34.596871641066684,2,  34.5968,2,191.97754060124592,2, 193.9988,3,    190.4,2,     83.3,2,    33.08,2,     0.00,2,     2.26,2,    1.060,2,    0.568,2,   0.5500,2,   2251.8,2,  2337.85,2,   7.5569,2,    24.93,     -999,9,     -999,9,   1.3711,2,0.32000000,3, -144.190,2,    0.002,     -999,9,     -999,9,     -999,9,     -999,9,    0.066,1,    4.661,1,    0.142,1,  23.9800,2,     -999,9,20180404,1817, -73.5221,-150.1260,     -999,9,     -999,9,-999          ,9,     -999,9,     -999,9,     -999,     -999,9,     -999,     -999,9,     -999,1,     -999,1,     -999,1,     -999,1,     -999,1,     -999,1,     -999,1,     -999,1,     -999,1,     -999,1,     -999,1,     -999,1,     -999,1
320620180309  ,P16        ,41      ,  1,28         ,28         ,2,20180404,1600, -73.5077,-149.9990,     4132,    238.6,1.7425805555555555770,34.693451985501021,2,  34.6925,2,180.20118970268453,2, 182.9958,2,    181.2,2,     88.6,2,    32.84,2,     0.00,2,     2.24,2,    0.462,2,    0.253,2,   0.1200,2,   2257.2,6,  2345.46,2,   7.5644,2,    24.93,     -999,9,     -999,9,   1.7417,2,     -999,9,     -999,9,     -999,     -999,9,     -999,9,     -999,9,     -999,9,    0.065,1,    4.664,1,    0.144,1,  22.8300,2,     -999,9,20180404,1814, -73.5217,-150.1231,     -999,9,     -999,9,-999          ,9,     -999,9,     -999,9,     -999,     -999,9,     -999,     -999,9,     -999,1,     -999,1,     -999,1,     -999,1,     -999,1,     -999,1,     -999,1,     -999,1,     -999,1,     -999,1,     -999,1,     -999,1,     -999,1
320620180309  ,P16        ,41      ,  1,27         ,27         ,2,20180404,1600, -73.5077,-149.9990,     4132,    289.3,1.7238361111111109025,34.708229645452981,2,  34.7064,2,180.90415286412150,2, 182.6031,2,    181.9,2,     90.2,2,    32.63,2,     0.00,2,     2.23,2,    0.390,2,    0.208,2,   0.2900,2,   2256.2,2,  2347.04,2,   7.5706,2,    24.93,     -999,9,     -999,9,   1.7228,2,0.70000000,2, -152.120,2,    0.002,     -999,9,     -999,9,     -999,9,     -999,9,    0.062,1,    4.668,1,    0.140,1,  22.3600,2,     -999,9,20180404,1811, -73.5213,-150.1201,     -999,9,     -999,9,-999          ,9,     -999,9,     -999,9,     -999,     -999,9,     -999,     -999,9,     -999,1,     -999,1,     -999,1,     -999,1,     -999,1,     -999,1,     -999,1,     -999,1,     -999,1,     -999,1,     -999,1,     -999,1,     -999,1
320620180309  ,P16        ,41      ,  1,26         ,26         ,2,20180404,1600, -73.5077,-149.9990,     4132,    339.4,1.6806694444444447711,34.715899917630807,2,  34.7155,2,182.75593632484686,2, 183.0984,2,    183.0,2,     92.0,2,    32.40,2,     0.00,2,     2.20,2,     -999,9,     -999,9,     -999,9,   2255.0,2,  2349.13,2,   7.5748,2,    24.91,     -999,9,     -999,9,   1.6797,2,     -999,9,     -999,9,     -999,     -999,9,     -999,9,     -999,9,     -999,9,    0.062,1,    4.669,1,    0.134,1,     -999,9,     -999,9,20180404,1809, -73.5210,-150.1175,     -999,9,     -999,9,-999          ,9,     -999,9,     -999,9,     -999,     -999,9,     -999,     -999,9,     -999,9,     -999,9,     -999,9,     -999,9,     -999,9,     -999,9,     -999,9,     -999,9,     -999,9,     -999,9,     -999,9,     -999,9,     -999,9
320620180309  ,P16        ,41      ,  1,25         ,25         ,2,20180404,1600, -73.5077,-149.9990,     4132,    391.0,1.6239666666666670025,34.723035998123159,2,  34.7227,2,184.21508237330769,2, 184.3003,2,    184.6,2,     94.2,2,    32.29,2,     0.00,2,     2.19,2,     -999,9,     -999,9,     -999,9,     -999,9,     -999,9,     -999,9,     -999,     -999,9,     -999,9,   1.6223,2,0.49000000,2, -151.120,2,    0.002,     -999,9,     -999,9,     -999,9,     -999,9,    0.062,1,    4.670,1,    0.132,1,     -999,9,     -999,9,20180404,1806, -73.5206,-150.1146,     -999,9,     -999,9,-999          ,9,     -999,9,     -999,9,     -999,     -999,9,     -999,     -999,9,     -999,1,     -999,1,     -999,1,     -999,1,     -999,1,     -999,1,     -999,1,     -999,1,     -999,1,     -999,1,     -999,1,     -999,1,     -999,1
320620180309  ,P16        ,41      ,  1,24         ,24         ,2,20180404,1600, -73.5077,-149.9990,     4132,    442.0,1.5860000000000000764,34.726418314476000,2,  34.7261,2,185.51103947958180,2, 185.1028,2,    185.0,2,     95.8,2,    32.25,2,     0.00,2,     2.20,2,     -999,9,     -999,9,     -999,9,   2255.1,3,  2353.60,2,   7.5803,6,    24.93,     -999,9,     -999,9,   1.5855,2,     -999,9,     -999,9,     -999,     -999,9,     -999,9,     -999,9,     -999,9,    0.062,1,    4.670,1,    0.131,1,     -999,9,     -999,9,20180404,1803, -73.5203,-150.1118,     -999,9,     -999,9,-999          ,9,     -999,9,     -999,9,     -999,     -999,9,     -999,     -999,9,     -999,9,     -999,9,     -999,9,     -999,9,     -999,9,     -999,9,     -999,9,     -999,9,     -999,9,     -999,9,     -999,9,     -999,9,     -999,9
320620180309  ,P16        ,41      ,  1,23         ,23         ,2,20180404,1600, -73.5077,-149.9990,     4132,    493.4,1.5410611111111109928,34.730225272028683,2,  34.7304,2,186.32945633500125,2, 186.2011,2,    186.6,2,     97.7,2,    32.13,2,     0.00,2,     2.20,2,     -999,9,     -999,9,     -999,9,     -999,9,     -999,9,     -999,9,     -999,     -999,9,     -999,9,   1.5392,2,0.48000000,2, -153.690,2,    0.002,     -999,9,     -999,9,     -999,9,     -999,9,    0.061,1,    4.670,1,    0.133,1,     -999,9,     -999,9,20180404,1800, -73.5199,-150.1090,     -999,9,     -999,9,-999          ,9,     -999,9,     -999,9,     -999,     -999,9,     -999,     -999,9,     -999,1,     -999,1,     -999,1,     -999,1,     -999,1,     -999,1,     -999,1,     -999,1,     -999,1,     -999,1,     -999,1,     -999,1,     -999,1
320620180309  ,P16        ,41      ,  1,22         ,37         ,2,20180404,1600, -73.5077,-149.9990,     4132,    574.3,1.4690805555555557227,34.731476925276034,2,  34.7337,2,187.51601455263281,2, 187.5993,2,    187.9,2,    100.5,2,    32.21,2,     0.00,2,     2.18,2,    0.200,2,    0.105,2,   0.1000,2,   2258.8,2,  2354.94,2,   7.5862,2,    24.92,     -999,9,     -999,9,   1.4680,2,0.47000000,2, -156.600,2,    0.002,     -999,9,     -999,9,     -999,9,     -999,9,    0.062,1,    4.670,1,    0.134,1,  22.4000,2,     -999,9,20180404,1757, -73.5195,-150.1055,     -999,9,     -999,9,-999          ,9,     -999,9,     -999,9,     -999,     -999,9,     -999,     -999,9,     -999,9,     -999,9,     -999,9,     -999,9,     -999,9,     -999,9,     -999,9,     -999,9,     -999,9,     -999,9,     -999,9,     -999,9,     -999,9
320620180309  ,P16        ,41      ,  1,21         ,21         ,2,20180404,1600, -73.5077,-149.9990,     4132,    675.2,1.3935416666666666785,34.731294079162872,2,  34.7304,2,189.04496768999974,2, 188.9989,2,    188.5,2,    103.4,2,    32.22,2,     0.00,2,     2.19,2,     -999,9,     -999,9,     -999,9,     -999,9,     -999,9,     -999,9,     -999,     -999,9,     -999,9,   1.3922,2,0.51000000,2, -155.840,2,    0.002,     -999,9,     -999,9,     -999,9,     -999,9,    0.062,1,    4.670,1,    0.132,1,     -999,9,     -999,9,20180404,1753, -73.5190,-150.1019,     -999,9,     -999,9,-999          ,9,     -999,9,     -999,9,     -999,     -999,9,     -999,     -999,9,     -999,1,     -999,1,     -999,1,     -999,1,     -999,1,     -999,1,     -999,1,     -999,1,     -999,1,     -999,1,     -999,1,     -999,1,     -999,1
320620180309  ,P16        ,41      ,  1,20         ,20         ,2,20180404,1600, -73.5077,-149.9990,     4132,    776.7,1.3294305555555554488,34.730242694544046,2,  34.7304,2,189.59825626173836,2, 190.3025,2,    189.9,2,    105.4,2,    32.24,2,     0.00,2,     2.19,2,     -999,9,     -999,9,     -999,9,   2259.4,2,  2356.87,2,   7.5860,2,    24.96,     -999,9,     -999,9,   1.3283,2,0.54000000,2, -159.820,2,    0.002,     -999,9,     -999,9,     -999,9,     -999,9,    0.062,1,    4.670,1,    0.131,1,     -999,9,     -999,9,20180404,1749, -73.5185,-150.0981,     -999,9,     -999,9,-999          ,9,     -999,9,     -999,9,     -999,     -999,9,     -999,     -999,9,     -999,9,     -999,9,     -999,9,     -999,9,     -999,9,     -999,9,     -999,9,     -999,9,     -999,9,     -999,9,     -999,9,     -999,9,     -999,9
320620180309  ,P16        ,41      ,  1,19         ,19         ,2,20180404,1600, -73.5077,-149.9990,     4132,    878.7,1.2553416666666668000,34.728416196123696,2,  34.7282,2,191.46974627409577,2, 191.7953,2,    191.0,2,    108.0,2,    32.30,2,     0.00,2,     2.19,2,    0.142,2,    0.080,2,   0.0600,2,   2260.6,2,  2358.95,2,   7.5854,2,    24.96,     -999,9,     -999,9,   1.2543,2,0.51000000,2, -161.990,2,    0.002,     -999,9,     -999,9,     -999,9,     -999,9,    0.061,1,    4.670,1,    0.130,1,  20.7800,2,     -999,9,20180404,1745, -73.5180,-150.0942,     -999,9,     -999,9,-999          ,9,     -999,9,     -999,9,     -999,     -999,9,     -999,     -999,9,     -999,1,     -999,1,     -999,1,     -999,1,     -999,1,     -999,1,     -999,1,     -999,1,     -999,1,     -999,1,     -999,1,     -999,1,     -999,1
320620180309  ,P16        ,41      ,  1,18         ,18         ,2,20180404,1600, -73.5077,-149.9990,     4132,    980.2,1.1913777777777776468,34.726438255109699,2,  34.7266,2,192.76793931961132,2, 193.2997,2,    192.7,2,    110.2,2,    32.33,2,     0.00,2,     2.18,2,     -999,9,     -999,9,     -999,9,   2261.7,2,  2359.41,2,   7.5879,2,    24.95,     -999,9,     -999,9,   1.1908,2,0.50000000,2, -160.290,2,    0.002,     -999,9,     -999,9,     -999,9,     -999,9,    0.062,1,    4.670,1,    0.131,1,     -999,9,     -999,9,20180404,1741, -73.5175,-150.0900,     -999,9,     -999,9,-999          ,9,     -999,9,     -999,9,     -999,     -999,9,     -999,     -999,9,     -999,9,     -999,9,     -999,9,     -999,9,     -999,9,     -999,9,     -999,9,     -999,9,     -999,9,     -999,9,     -999,9,     -999,9,     -999,9
320620180309  ,P16        ,41      ,  1,17         ,17         ,2,20180404,1600, -73.5077,-149.9990,     4132,   1081.1,1.1335944444444443491,34.724295852586920,2,  34.7249,2,194.24235006066715,2, 194.3982,2,    194.2,2,    111.9,2,    32.32,2,     0.00,2,     2.21,2,     -999,9,     -999,9,     -999,9,     -999,9,     -999,9,     -999,9,     -999,     -999,9,     -999,9,   1.1327,2,0.48000000,2, -161.900,2,    0.002,     -999,9,     -999,9,     -999,9,     -999,9,    0.062,1,    4.670,1,    0.129,1,     -999,9,     -999,9,20180404,1736, -73.5170,-150.0860,     -999,9,     -999,9,-999          ,9,     -999,9,     -999,9,     -999,     -999,9,     -999,     -999,9,     -999,1,     -999,1,     -999,1,     -999,1,     -999,1,     -999,1,     -999,1,     -999,1,     -999,1,     -999,1,     -999,1,     -999,1,     -999,1
320620180309  ,P16        ,41      ,  1,16         ,16         ,2,20180404,1600, -73.5077,-149.9990,     4132,   1182.7,1.0757416666666663740,34.722050947947075,2,  34.7225,2,196.07281313178862,2, 195.6962,2,    196.0,2,    113.8,2,    32.35,2,     0.00,2,     2.21,2,    0.125,2,    0.068,2,   0.0000,2,   2259.1,2,  2360.62,2,   7.5901,2,    24.96,     -999,9,     -999,9,   1.0753,2,     -999,9,     -999,9,     -999,     -999,9,     -999,9,     -999,9,     -999,9,    0.061,1,    4.671,1,    0.127,1,  20.4200,2,     -999,9,20180404,1732, -73.5165,-150.0822,     -999,9,     -999,9,-999          ,9,     -999,9,     -999,9,     -999,     -999,9,     -999,     -999,9,     -999,9,     -999,9,     -999,9,     -999,9,     -999,9,     -999,9,     -999,9,     -999,9,     -999,9,     -999,9,     -999,9,     -999,9,     -999,9