BOTTLE,20240515CCHHYDRO
EXPOCODE,SECT_ID,STNNBR,CASTNO,SAMPNO,BTLNBR,BTLNBR_FLAG_W,DATE,TIME,LATITUDE,LONGITUDE,DEPTH,CTDPRS,CTDTMP,CTDSAL,CTDSAL_FLAG_W,SALNTY,SALNTY_FLAG_W,CTDOXY,CTDOXY_FLAG_W,CTDOPTOXY,CTDOPTOXY_FLAG_W,OXYGEN,OXYGEN_FLAG_W,SILCAT,SILCAT_FLAG_W,NITRAT,NITRAT_FLAG_W,NITRIT,NITRIT_FLAG_W,PHSPHT,PHSPHT_FLAG_W,CFC-11,CFC-11_FLAG_W,CFC-12,CFC-12_FLAG_W,SF6,SF6_FLAG_W,TCARBN,TCARBN_FLAG_W,ALKALI,ALKALI_FLAG_W,PH_TOT,PH_TOT_FLAG_W,PH_TMP,DOC,DOC_FLAG_W,HELIUM,HELIUM_FLAG_W,REFTMP,REFTMP_FLAG_W,DELC13,DELC13_FLAG_W,DELC14,DELC14_FLAG_W,C14ERR,POC,POC_FLAG_W,TDN,TDN_FLAG_W,TON,TON_FLAG_W,NEON,NEON_FLAG_W,CTDFLUOR,CTDFLUOR_FLAG_W,CTDXMISS,CTDXMISS_FLAG_W,CTDBETA700,CTDBETA700_FLAG_W,N2O,N2O_FLAG_W,ARGON,ARGON_FLAG_W,BTL_DATE,BTL_TIME,BTL_LAT,BTL_LON,KRYPTON,KRYPTON_FLAG_W,XENON,XENON_FLAG_W,HPLC,HPLC_FLAG_W,HE3_HE4_RATIO,HE3_HE4_RATIO_FLAG_W,Nd_143_144_D_EPSILON_BOTTLE,Nd_143_144_D_EPSILON_BOTTLE_FLAG_W,Nd_143_144_D_EPSILON_BOTTLE_ERROR,Nd_143_144_D_RATIO_BOTTLE,Nd_143_144_D_RATIO_BOTTLE_FLAG_W,Nd_143_144_D_RATIO_BOTTLE_ERROR,Nd_D_CONC,Nd_D_CONC_FLAG_W,La_D_CONC_BOTTLE,La_D_CONC_BOTTLE_FLAG_W,Ce_D_CONC_BOTTLE,Ce_D_CONC_BOTTLE_FLAG_W,Pr_D_CONC_BOTTLE,Pr_D_CONC_BOTTLE_FLAG_W,Sm_D_CONC_BOTTLE,Sm_D_CONC_BOTTLE_FLAG_W,Eu_D_CONC_BOTTLE,Eu_D_CONC_BOTTLE_FLAG_W,Gd_D_CONC_BOTTLE,Gd_D_CONC_BOTTLE_FLAG_W,Tb_D_CONC_BOTTLE,Tb_D_CONC_BOTTLE_FLAG_W,Dy_D_CONC_BOTTLE,Dy_D_CONC_BOTTLE_FLAG_W,Ho_D_CONC_BOTTLE,Ho_D_CONC_BOTTLE_FLAG_W,Er_D_CONC_BOTTLE,Er_D_CONC_BOTTLE_FLAG_W,Tm_D_CONC_BOTTLE,Tm_D_CONC_BOTTLE_FLAG_W,Yb_D_CONC_BOTTLE,Yb_D_CONC_BOTTLE_FLAG_W,Lu_D_CONC_BOTTLE,Lu_D_CONC_BOTTLE_FLAG_W
,,,,,,,,,,,METERS,DBAR,ITS-90,PSS-78,,PSS-78,,UMOL/KG,,UMOL/KG,,UMOL/KG,,UMOL/KG,,UMOL/KG,,UMOL/KG,,UMOL/KG,,PMOL/KG,,PMOL/KG,,FMOL/KG,,UMOL/KG,,UMOL/KG,,,,DEG C,UMOL/KG,,NMOL/L,,DEG C,,/MILLE,,/MILLE,,/MILLE,UG/KG,,UMOL/KG,,UMOL/KG,,NMOL/L,,VOLTS,,VOLTS,,VOLTS,,NMOL/KG,,UMOL/L,,,,,,NMOL/L,,NMOL/L,,,,,,10000,,10000,,,,PMOL/KG,,PMOL/L,,PMOL/L,,PMOL/L,,PMOL/L,,PMOL/L,,PMOL/L,,PMOL/L,,PMOL/L,,PMOL/L,,PMOL/L,,PMOL/L,,PMOL/L,,PMOL/L,
320620180309  ,S04P       ,115     ,  1,36         ,36         ,2,20180506,0233, -67.0004, -85.7334,     4302,     10.4,-1.0116490494716032789,33.713968018382374,2,  33.7112,2,343.19127482683297,2, 342.1005,2,    342.9,2,     20.4,2,    25.22,2,     0.21,2,     1.79,2,    6.065,2,    3.217,2,   3.6900,2,   2154.6,6,  2275.05,2,   7.6697,2,    24.98,     42.9,2,     -999,9,  -1.0103,2,     -999,9,     -999,9,     -999,     -999,9,    28.70,2,     -999,1,     -999,9,    0.056,1,    4.590,1,    0.070,1,  15.5600,2,     -999,9,20180506,0437, -67.0006, -85.7342,     -999,9,     -999,9,-999          ,9,     -999,9,     -999,9,     -999,     -999,9,     -999,     -999,9,     -999,1,     -999,1,     -999,1,     -999,1,     -999,1,     -999,1,     -999,1,     -999,1,     -999,1,     -999,1,     -999,1,     -999,1,     -999,1
320620180309  ,S04P       ,115     ,  1,35         ,35         ,2,20180506,0233, -67.0004, -85.7334,     4302,     23.8,-1.0031352224215672742,33.713763554099842,2,  33.7108,2,344.07499879202157,2, 342.1037,2,    342.9,2,     20.4,2,    25.31,2,     0.21,2,     1.81,2,     -999,9,     -999,9,     -999,9,   2159.5,2,  2276.69,2,   7.6695,2,    24.99,     47.6,2,     -999,9,  -1.0029,2,     -999,9,     -999,9,     -999,     -999,9,    29.10,2,     -999,1,     -999,9,    0.057,1,    4.591,1,    0.071,1,     -999,9,     -999,9,20180506,0436, -67.0006, -85.7341,     -999,9,     -999,9,-999          ,9,     -999,9,     -999,9,     -999,     -999,9,     -999,     -999,9,     -999,1,     -999,1,     -999,1,     -999,1,     -999,1,     -999,1,     -999,1,     -999,1,     -999,1,     -999,1,     -999,1,     -999,1,     -999,1
320620180309  ,S04P       ,115     ,  1,34         ,34         ,2,20180506,0233, -67.0004, -85.7334,     4302,     49.7,-0.9964744258637614482,33.714266619051095,2,  33.7116,2,345.72153280101782,2, 342.1011,2,    343.6,2,     20.4,2,    25.36,2,     0.21,2,     1.81,2,     -999,9,     -999,9,     -999,9,   2155.3,2,  2277.81,2,   7.6681,2,    24.99,     46.2,2,     -999,9,  -0.9979,2,     -999,9,     -999,9,     -999,     -999,9,    28.10,2,     -999,1,     -999,9,    0.056,1,    4.592,1,    0.071,1,     -999,9,     -999,9,20180506,0434, -67.0005, -85.7339,     -999,9,     -999,9,-999          ,9,     -999,9,     -999,9,     -999,     -999,9,     -999,     -999,9,     -999,1,     -999,1,     -999,1,     -999,1,     -999,1,     -999,1,     -999,1,     -999,1,     -999,1,     -999,1,     -999,1,     -999,1,     -999,1
320620180309  ,S04P       ,115     ,  1,33         ,33         ,2,20180506,0233, -67.0004, -85.7334,     4302,     74.9,-0.9400221538927958642,33.738581601505494,2,  33.7384,2,341.17188169464362,2, 340.8986,2,    339.4,2,     21.9,2,    25.92,2,     0.21,2,     1.85,2,    5.987,2,    3.185,2,   3.5100,2,   2156.9,2,  2277.19,2,   7.6647,2,    25.00,     48.0,2,     -999,9,  -0.9426,2,     -999,9,     -999,9,     -999,     -999,9,    28.80,2,     -999,1,     -999,9,    0.055,1,    4.594,1,    0.070,1,  15.4200,2,     -999,9,20180506,0432, -67.0005, -85.7337,     -999,9,     -999,9,-999          ,9,     -999,9,     -999,9,     -999,     -999,9,     -999,     -999,9,     -999,9,     -999,9,     -999,9,     -999,9,     -999,9,     -999,9,     -999,9,     -999,9,     -999,9,     -999,9,     -999,9,     -999,9,     -999,9
320620180309  ,S04P       ,115     ,  1,32         ,32         ,2,20180506,0233, -67.0004, -85.7334,     4302,    101.3,-0.6414807815238522393,33.950170393621335,2,  33.9522,2,319.54612248992322,2, 321.4984,3,    316.8,2,     32.8,2,    29.92,2,     0.04,2,     2.06,2,     -999,9,     -999,9,     -999,9,   2179.8,2,  2286.10,2,   7.6281,2,    24.99,     46.3,2,     -999,9,  -0.6627,2,     -999,9,     -999,9,     -999,     -999,9,    31.90,2,     -999,1,     -999,9,    0.056,1,    4.577,1,    0.071,1,     -999,9,     -999,9,20180506,0430, -67.0005, -85.7335,     -999,9,     -999,9,-999          ,9,     -999,9,     -999,9,     -999,     -999,9,     -999,     -999,9,     -999,1,     -999,1,     -999,1,     -999,1,     -999,1,     -999,1,     -999,1,     -999,1,     -999,1,     -999,1,     -999,1,     -999,1,     -999,1
320620180309  ,S04P       ,115     ,  1,31         ,31         ,2,20180506,0233, -67.0004, -85.7334,     4302,    124.3,0.2482487752240337409,34.052521915703082,2,  34.0551,2,304.29251826812066,3, 298.2984,3,    295.2,2,     37.4,2,    31.08,2,     0.02,2,     2.16,2,    4.877,2,    2.592,2,   3.1600,2,   2191.7,2,  2292.83,2,   7.6132,2,    24.99,     44.4,2,     -999,9,   0.2630,2,     -999,9,     -999,9,     -999,     -999,9,    33.30,2,     -999,1,     -999,9,    0.056,1,    4.630,1,    0.070,1,  17.5200,2,     -999,9,20180506,0428, -67.0005, -85.7337,     -999,9,     -999,9,-999          ,9,     -999,9,     -999,9,     -999,     -999,9,     -999,     -999,9,     -999,9,     -999,9,     -999,9,     -999,9,     -999,9,     -999,9,     -999,9,     -999,9,     -999,9,     -999,9,     -999,9,     -999,9,     -999,9
320620180309  ,S04P       ,115     ,  1,30         ,30         ,2,20180506,0233, -67.0004, -85.7334,     4302,    150.6,1.0311067218513985111,34.158799618392202,2,  34.1625,2,271.96737701662818,3, 270.4007,3,    261.6,2,     45.3,2,    32.65,2,     0.00,2,     2.26,2,     -999,9,     -999,9,     -999,9,     -999,9,     -999,9,     -999,9,     -999,     45.1,2,     -999,9,   1.0232,2,     -999,9,     -999,9,     -999,     -999,9,    34.50,2,     -999,1,     -999,9,    0.056,1,    4.629,1,    0.070,1,     -999,9,     -999,9,20180506,0426, -67.0006, -85.7339,     -999,9,     -999,9,-999          ,9,     -999,9,     -999,9,     -999,     -999,9,     -999,     -999,9,     -999,1,     -999,1,     -999,1,     -999,1,     -999,1,     -999,1,     -999,1,     -999,1,     -999,1,     -999,1,     -999,1,     -999,1,     -999,1
320620180309  ,S04P       ,115     ,  1,29         ,29         ,2,20180506,0233, -67.0004, -85.7334,     4302,    201.0,1.7418054211697822087,34.289946132984163,2,  34.2922,2,227.30682743775759,3, 225.6005,2,    224.0,2,     55.7,2,    34.29,2,     0.00,2,     2.34,2,    2.851,2,    1.518,2,   1.3300,2,   2227.6,2,  2310.90,2,   7.5592,2,    25.00,     43.5,2,     -999,9,   1.7433,2,     -999,9,     -999,9,     -999,     -999,9,    36.60,2,     -999,1,     -999,9,    0.056,1,    4.632,1,    0.070,1,  21.5800,2,     -999,9,20180506,0424, -67.0006, -85.7344,     -999,9,     -999,9,-999          ,9,     -999,9,     -999,9,     -999,     -999,9,     -999,     -999,9,     -999,9,     -999,9,     -999,9,     -999,9,     -999,9,     -999,9,     -999,9,     -999,9,     -999,9,     -999,9,     -999,9,     -999,9,     -999,9
320620180309  ,S04P       ,115     ,  1,28         ,28         ,2,20180506,0233, -67.0004, -85.7334,     4302,    252.1,2.0807652359496624506,34.378768671809844,2,  34.3792,2,207.15141555815529,3, 204.9017,3,    200.2,2,     62.4,2,    35.02,2,     0.00,2,     2.39,2,     -999,9,     -999,9,     -999,9,   2239.4,2,  2318.72,2,   7.5451,2,    25.02,     40.9,2,     -999,9,   2.0827,2,     -999,9,     -999,9,     -999,     -999,9,    36.90,2,     -999,1,     -999,9,    0.056,1,    4.633,1,    0.070,1,     -999,9,     -999,9,20180506,0422, -67.0006, -85.7352,     -999,9,     -999,9,-999          ,9,     -999,9,     -999,9,     -999,     -999,9,     -999,     -999,9,     -999,1,     -999,1,     -999,1,     -999,1,     -999,1,     -999,1,     -999,1,     -999,1,     -999,1,     -999,1,     -999,1,     -999,1,     -999,1
320620180309  ,S04P       ,115     ,  1,27         ,27         ,2,20180506,0233, -67.0004, -85.7334,     4302,    304.1,2.0934500637585502503,34.428763878085498,2,  34.4287,2,194.46129125428945,3, 193.2985,2,    192.4,2,     66.4,2,    35.18,2,     0.00,2,     2.40,2,    1.764,2,    0.922,2,   0.6000,2,     -999,9,     -999,9,     -999,9,     -999,     40.2,2,     -999,9,   2.0942,2,     -999,9,     -999,9,     -999,     -999,9,     -999,9,     -999,1,     -999,9,    0.056,1,    4.632,1,    0.069,1,  22.9300,2,     -999,9,20180506,0419, -67.0006, -85.7352,     -999,9,     -999,9,-999          ,9,     -999,9,     -999,9,     -999,     -999,9,     -999,     -999,9,     -999,9,     -999,9,     -999,9,     -999,9,     -999,9,     -999,9,     -999,9,     -999,9,     -999,9,     -999,9,     -999,9,     -999,9,     -999,9
320620180309  ,S04P       ,115     ,  1,26         ,38         ,2,20180506,0233, -67.0004, -85.7334,     4302,    353.5,2.2364425878764153666,34.492129279250030,2,  34.4913,2,181.51537416242743,2, 181.9019,2,    179.8,2,     71.1,2,    35.34,2,     0.00,2,     2.42,2,    1.250,2,    0.656,2,   0.3500,2,   2251.5,2,  2330.69,2,   7.5386,2,    24.99,     41.3,2,     -999,9,   2.2364,2,     -999,9,     -999,9,     -999,     -999,9,     -999,9,     -999,1,     -999,9,    0.056,1,    4.635,1,    0.069,1,  23.2300,2,     -999,9,20180506,0417, -67.0006, -85.7350,     -999,9,     -999,9,-999          ,9,     -999,9,     -999,9,     -999,     -999,9,     -999,     -999,9,     -999,1,     -999,1,     -999,1,     -999,1,     -999,1,     -999,1,     -999,1,     -999,1,     -999,1,     -999,1,     -999,1,     -999,1,     -999,1
320620180309  ,S04P       ,115     ,  1,25         ,25         ,2,20180506,0233, -67.0004, -85.7334,     4302,    403.9,2.2716268377882915530,34.529271451765311,2,  34.5313,2,176.73310211312801,2, 177.0036,2,    175.7,2,     73.8,2,    35.11,2,     0.00,2,     2.39,2,    0.976,2,    0.514,2,   0.3200,2,   2254.8,2,  2332.68,2,   7.5415,2,    25.00,     43.1,2,     -999,9,   2.2717,2,     -999,9,     -999,9,     -999,     -999,9,     -999,9,     -999,1,     -999,9,    0.057,1,    4.637,1,    0.070,1,  22.8900,2,     -999,9,20180506,0415, -67.0006, -85.7346,     -999,9,     -999,9,-999          ,9,     -999,9,     -999,9,     -999,     -999,9,     -999,     -999,9,     -999,9,     -999,9,     -999,9,     -999,9,     -999,9,     -999,9,     -999,9,     -999,9,     -999,9,     -999,9,     -999,9,     -999,9,     -999,9
320620180309  ,S04P       ,115     ,  1,24         ,24         ,2,20180506,0233, -67.0004, -85.7334,     4302,    455.4,2.2678694802292191923,34.560477092264541,2,  34.5615,2,174.25829623873892,2, 174.8997,2,    173.4,2,     75.9,2,    34.88,2,     0.00,2,     2.37,2,    0.818,2,    0.428,2,   0.1600,2,     -999,9,     -999,9,     -999,9,     -999,     42.1,2,     -999,9,   2.2680,2,     -999,9,     -999,9,     -999,     -999,9,     -999,9,     -999,1,     -999,9,    0.056,1,    4.638,1,    0.069,1,  22.7000,2,     -999,9,20180506,0412, -67.0005, -85.7343,     -999,9,     -999,9,-999          ,9,     -999,9,     -999,9,     -999,     -999,9,     -999,     -999,9,     -999,1,     -999,1,     -999,1,     -999,1,     -999,1,     -999,1,     -999,1,     -999,1,     -999,1,     -999,1,     -999,1,     -999,1,     -999,1
320620180309  ,S04P       ,115     ,  1,23         ,23         ,2,20180506,0233, -67.0004, -85.7334,     4302,    505.4,2.2531950426866704795,34.585219563676262,2,  34.5846,2,173.33117781604611,2, 173.6050,2,    173.7,2,     77.6,2,    34.66,2,     0.00,2,     2.35,2,    0.697,2,    0.364,2,   0.1900,2,   2256.5,2,  2338.83,2,   7.5473,6,    24.99,     42.9,2,     -999,9,   2.2533,2,     -999,9,     -999,9,     -999,     -999,9,     -999,9,     -999,1,     -999,9,    0.057,1,    4.639,1,    0.068,1,  22.6300,2,     -999,9,20180506,0410, -67.0005, -85.7341,     -999,9,     -999,9,-999          ,9,     -999,9,     -999,9,     -999,     -999,9,     -999,     -999,9,     -999,9,     -999,9,     -999,9,     -999,9,     -999,9,     -999,9,     -999,9,     -999,9,     -999,9,     -999,9,     -999,9,     -999,9,     -999,9
320620180309  ,S04P       ,115     ,  1,22         ,37         ,2,20180506,0233, -67.0004, -85.7334,     4302,    607.8,2.2047295083602147514,34.633913476327422,2,  34.6331,2,172.92673865456058,2, 173.3054,2,    173.1,2,     81.0,2,    34.01,2,     0.00,2,     2.31,2,     -999,9,     -999,9,     -999,9,   2257.6,6,  2342.28,2,   7.5573,2,    25.00,     38.2,2,     -999,9,   2.2050,2,     -999,9,     -999,9,     -999,     -999,9,     -999,9,     -999,1,     -999,9,    0.057,1,    4.639,1,    0.069,1,     -999,9,     -999,9,20180506,0407, -67.0004, -85.7336,     -999,9,     -999,9,-999          ,9,     -999,9,     -999,9,     -999,     -999,9,     -999,     -999,9,     -999,1,     -999,1,     -999,1,     -999,1,     -999,1,     -999,1,     -999,1,     -999,1,     -999,1,     -999,1,     -999,1,     -999,1,     -999,1
320620180309  ,S04P       ,115     ,  1,21         ,21         ,2,20180506,0233, -67.0004, -85.7334,     4302,    709.4,2.1578132691376579189,34.662359677458554,2,  34.6611,2,174.90414772700754,2, 174.9000,2,    175.5,2,     83.3,2,    33.50,2,     0.00,2,     2.28,2,    0.369,2,    0.198,2,   0.1700,2,   2257.7,2,  2345.66,2,   7.5660,2,    24.98,     42.3,2,     -999,9,   2.1583,2,     -999,9,     -999,9,     -999,     -999,9,     -999,9,     -999,1,     -999,9,    0.057,1,    4.641,1,    0.071,1,  21.4600,2,     -999,9,20180506,0404, -67.0004, -85.7335,     -999,9,     -999,9,-999          ,9,     -999,9,     -999,9,     -999,     -999,9,     -999,     -999,9,     -999,9,     -999,9,     -999,9,     -999,9,     -999,9,     -999,9,     -999,9,     -999,9,     -999,9,     -999,9,     -999,9,     -999,9,     -999,9
320620180309  ,S04P       ,115     ,  1,20         ,20         ,2,20180506,0233, -67.0004, -85.7334,     4302,    809.2,2.1004628403574878703,34.683855312841033,2,  34.6837,2,177.60854649104206,2, 176.9985,2,    177.2,2,     84.6,2,    33.01,2,     0.00,2,     2.25,2,     -999,9,     -999,9,     -999,9,     -999,9,     -999,9,     -999,9,     -999,     42.0,2,     -999,9,   2.1007,2,     -999,9,     -999,9,     -999,     -999,9,     -999,9,     -999,1,     -999,9,    0.054,1,    4.642,1,    0.070,1,     -999,9,     -999,9,20180506,0400, -67.0004, -85.7336,     -999,9,     -999,9,-999          ,9,     -999,9,     -999,9,     -999,     -999,9,     -999,     -999,9,     -999,1,     -999,1,     -999,1,     -999,1,     -999,1,     -999,1,     -999,1,     -999,1,     -999,1,     -999,1,     -999,1,     -999,1,     -999,1
320620180309  ,S04P       ,115     ,  1,19         ,19         ,2,20180506,0233, -67.0004, -85.7334,     4302,    909.7,2.0364869859172198829,34.700587469487694,2,  34.7000,2,180.84192944295799,2, 179.8038,2,    180.8,2,     86.4,2,    32.61,2,     0.00,2,     2.21,2,    0.256,6,    0.148,6,   0.0400,6,   2255.7,2,  2349.22,2,   7.5753,2,    25.02,     40.9,2,     -999,9,   2.0363,2,     -999,9,     -999,9,     -999,     -999,9,     -999,9,     -999,1,     -999,9,    0.057,1,    4.642,1,    0.071,1,  20.6100,6,     -999,9,20180506,0357, -67.0005, -85.7340,     -999,9,     -999,9,-999          ,9,     -999,9,     -999,9,     -999,     -999,9,     -999,     -999,9,     -999,9,     -999,9,     -999,9,     -999,9,     -999,9,     -999,9,     -999,9,     -999,9,     -999,9,     -999,9,     -999,9,     -999,9,     -999,9
320620180309  ,S04P       ,115     ,  1,18         ,18         ,2,20180506,0233, -67.0004, -85.7334,     4302,   1012.8,1.9506470768806596361,34.714359789537966,2,  34.7147,2,184.16041762797195,2, 183.0962,2,    183.4,2,     88.2,2,    32.15,2,     0.00,2,     2.18,2,     -999,9,     -999,9,     -999,9,     -999,9,     -999,9,     -999,9,     -999,     39.3,2,     -999,9,   1.9501,2,     -999,9,     -999,9,     -999,     -999,9,     -999,9,     -999,1,     -999,9,    0.056,1,    4.642,1,    0.070,1,     -999,9,     -999,9,20180506,0354, -67.0005, -85.7340,     -999,9,     -999,9,-999          ,9,     -999,9,     -999,9,     -999,     -999,9,     -999,     -999,9,     -999,1,     -999,1,     -999,1,     -999,1,     -999,1,     -999,1,     -999,1,     -999,1,     -999,1,     -999,1,     -999,1,     -999,1,     -999,1
320620180309  ,S04P       ,115     ,  1,17         ,17         ,2,20180506,0233, -67.0004, -85.7334,     4302,   1113.3,1.8702395345184483766,34.722468769825795,2,  34.7227,2,186.76817358202649,2, 185.6024,2,    186.1,2,     90.4,2,    31.95,2,     0.00,2,     2.17,2,    0.202,2,    0.105,2,   0.0500,2,   2254.4,2,  2353.50,2,   7.5899,2,    25.01,     40.5,2,     -999,9,   1.8698,2,     -999,9,     -999,9,     -999,     -999,9,     -999,9,     -999,1,     -999,9,    0.056,1,    4.643,1,    0.069,1,  19.6900,2,     -999,9,20180506,0351, -67.0005, -85.7342,     -999,9,     -999,9,-999          ,9,     -999,9,     -999,9,     -999,     -999,9,     -999,     -999,9,     -999,9,     -999,9,     -999,9,     -999,9,     -999,9,     -999,9,     -999,9,     -999,9,     -999,9,     -999,9,     -999,9,     -999,9,     -999,9
320620180309  ,S04P       ,115     ,  1,16         ,16         ,2,20180506,0233, -67.0004, -85.7334,     4302,   1215.3,1.7725372207894081189,34.728057714478624,2,  34.7288,2,189.15988509403883,2, 188.2953,2,    188.8,2,     93.1,2,    31.80,2,     0.00,2,     2.17,2,     -999,9,     -999,9,     -999,9,     -999,9,     -999,9,     -999,9,     -999,     41.0,2,     -999,9,   1.7728,2,     -999,9,     -999,9,     -999,     -999,9,     -999,9,     -999,1,     -999,9,    0.056,1,    4.643,1,    0.070,1,     -999,9,     -999,9,20180506,0348, -67.0005, -85.7342,     -999,9,     -999,9,-999          ,9,     -999,9,     -999,9,     -999,     -999,9,     -999,     -999,9,     -999,1,     -999,1,     -999,1,     -999,1,     -999,1,     -999,1,     -999,1,     -999,1,     -999,1,     -999,1,     -999,1,     -999,1,     -999,1