BOTTLE,20240515CCHHYDRO
EXPOCODE,SECT_ID,STNNBR,CASTNO,SAMPNO,BTLNBR,BTLNBR_FLAG_W,DATE,TIME,LATITUDE,LONGITUDE,DEPTH,CTDPRS,CTDTMP,CTDSAL,CTDSAL_FLAG_W,SALNTY,SALNTY_FLAG_W,CTDOXY,CTDOXY_FLAG_W,CTDOPTOXY,CTDOPTOXY_FLAG_W,OXYGEN,OXYGEN_FLAG_W,SILCAT,SILCAT_FLAG_W,NITRAT,NITRAT_FLAG_W,NITRIT,NITRIT_FLAG_W,PHSPHT,PHSPHT_FLAG_W,CFC-11,CFC-11_FLAG_W,CFC-12,CFC-12_FLAG_W,SF6,SF6_FLAG_W,TCARBN,TCARBN_FLAG_W,ALKALI,ALKALI_FLAG_W,PH_TOT,PH_TOT_FLAG_W,PH_TMP,DOC,DOC_FLAG_W,HELIUM,HELIUM_FLAG_W,REFTMP,REFTMP_FLAG_W,DELC13,DELC13_FLAG_W,DELC14,DELC14_FLAG_W,C14ERR,POC,POC_FLAG_W,TDN,TDN_FLAG_W,TON,TON_FLAG_W,NEON,NEON_FLAG_W,CTDFLUOR,CTDFLUOR_FLAG_W,CTDXMISS,CTDXMISS_FLAG_W,CTDBETA700,CTDBETA700_FLAG_W,N2O,N2O_FLAG_W,ARGON,ARGON_FLAG_W,BTL_DATE,BTL_TIME,BTL_LAT,BTL_LON,KRYPTON,KRYPTON_FLAG_W,XENON,XENON_FLAG_W,HPLC,HPLC_FLAG_W,HE3_HE4_RATIO,HE3_HE4_RATIO_FLAG_W,Nd_143_144_D_EPSILON_BOTTLE,Nd_143_144_D_EPSILON_BOTTLE_FLAG_W,Nd_143_144_D_EPSILON_BOTTLE_ERROR,Nd_143_144_D_RATIO_BOTTLE,Nd_143_144_D_RATIO_BOTTLE_FLAG_W,Nd_143_144_D_RATIO_BOTTLE_ERROR,Nd_D_CONC,Nd_D_CONC_FLAG_W,La_D_CONC_BOTTLE,La_D_CONC_BOTTLE_FLAG_W,Ce_D_CONC_BOTTLE,Ce_D_CONC_BOTTLE_FLAG_W,Pr_D_CONC_BOTTLE,Pr_D_CONC_BOTTLE_FLAG_W,Sm_D_CONC_BOTTLE,Sm_D_CONC_BOTTLE_FLAG_W,Eu_D_CONC_BOTTLE,Eu_D_CONC_BOTTLE_FLAG_W,Gd_D_CONC_BOTTLE,Gd_D_CONC_BOTTLE_FLAG_W,Tb_D_CONC_BOTTLE,Tb_D_CONC_BOTTLE_FLAG_W,Dy_D_CONC_BOTTLE,Dy_D_CONC_BOTTLE_FLAG_W,Ho_D_CONC_BOTTLE,Ho_D_CONC_BOTTLE_FLAG_W,Er_D_CONC_BOTTLE,Er_D_CONC_BOTTLE_FLAG_W,Tm_D_CONC_BOTTLE,Tm_D_CONC_BOTTLE_FLAG_W,Yb_D_CONC_BOTTLE,Yb_D_CONC_BOTTLE_FLAG_W,Lu_D_CONC_BOTTLE,Lu_D_CONC_BOTTLE_FLAG_W
,,,,,,,,,,,METERS,DBAR,ITS-90,PSS-78,,PSS-78,,UMOL/KG,,UMOL/KG,,UMOL/KG,,UMOL/KG,,UMOL/KG,,UMOL/KG,,UMOL/KG,,PMOL/KG,,PMOL/KG,,FMOL/KG,,UMOL/KG,,UMOL/KG,,,,DEG C,UMOL/KG,,NMOL/L,,DEG C,,/MILLE,,/MILLE,,/MILLE,UG/KG,,UMOL/KG,,UMOL/KG,,NMOL/L,,VOLTS,,VOLTS,,VOLTS,,NMOL/KG,,UMOL/L,,,,,,NMOL/L,,NMOL/L,,,,,,10000,,10000,,,,PMOL/KG,,PMOL/L,,PMOL/L,,PMOL/L,,PMOL/L,,PMOL/L,,PMOL/L,,PMOL/L,,PMOL/L,,PMOL/L,,PMOL/L,,PMOL/L,,PMOL/L,,PMOL/L,
320620180309  ,S04P       ,91      ,  1,36         ,36         ,2,20180425,2008, -66.9990,-114.4994,     4717,      8.4,-1.3342994673116805870,33.568853575998119,2,  33.5638,2,350.88206577110151,2, 351.1014,2,    350.5,2,     23.8,2,    24.87,2,     0.25,2,     1.74,2,    5.907,2,    3.289,2,   3.8800,2,   2154.0,6,  2270.42,2,   7.6720,2,    24.88,     -999,9,     -999,9,  -1.3341,2,     -999,9,     -999,9,     -999,     -999,9,     -999,9,     -999,9,     -999,9,    0.435,1,    4.489,1,    0.295,1,  16.2300,2,     -999,9,20180425,2213, -67.0011,-114.4999,     -999,9,     -999,9,-999          ,9,     -999,9,     -999,9,     -999,     -999,9,     -999,     -999,9,     -999,9,     -999,9,     -999,9,     -999,9,     -999,9,     -999,9,     -999,9,     -999,9,     -999,9,     -999,9,     -999,9,     -999,9,     -999,9
320620180309  ,S04P       ,91      ,  1,35         ,35         ,2,20180425,2008, -66.9990,-114.4994,     4717,     25.2,-1.3340793788361060557,33.568725168706351,2,  33.5642,2,351.28832816459004,2, 350.9941,2,    350.6,2,     23.9,2,    24.89,2,     0.25,2,     1.72,2,    5.909,2,    3.286,2,   3.9400,2,   2154.3,2,  2270.28,2,   7.6694,2,    24.88,     -999,9,     -999,9,  -1.3338,2,     -999,9,     -999,9,     -999,     -999,9,     -999,9,     -999,9,     -999,9,    0.423,1,    4.490,1,    0.320,1,  16.3500,2,     -999,9,20180425,2212, -67.0011,-114.4999,     -999,9,     -999,9,-999          ,9,     -999,9,     -999,9,     -999,     -999,9,     -999,     -999,9,     -999,9,     -999,9,     -999,9,     -999,9,     -999,9,     -999,9,     -999,9,     -999,9,     -999,9,     -999,9,     -999,9,     -999,9,     -999,9
320620180309  ,S04P       ,91      ,  1,34         ,34         ,2,20180425,2008, -66.9990,-114.4994,     4717,     49.2,-1.3359828736265397797,33.569737604309687,2,  33.5647,2,351.82380862439544,2, 349.7968,2,    350.5,2,     23.8,2,    24.87,2,     0.25,2,     1.75,2,     -999,9,     -999,9,     -999,9,   2152.7,2,  2271.62,2,   7.6722,2,    24.90,     -999,9,     -999,9,  -1.3346,2,     -999,9,     -999,9,     -999,     -999,9,     -999,9,     -999,9,     -999,9,    0.447,1,    4.489,1,    0.335,1,     -999,9,     -999,9,20180425,2210, -67.0011,-114.4999,     -999,9,     -999,9,-999          ,9,     -999,9,     -999,9,     -999,     -999,9,     -999,     -999,9,     -999,9,     -999,9,     -999,9,     -999,9,     -999,9,     -999,9,     -999,9,     -999,9,     -999,9,     -999,9,     -999,9,     -999,9,     -999,9
320620180309  ,S04P       ,91      ,  1,33         ,33         ,2,20180425,2008, -66.9990,-114.4994,     4717,     75.2,-1.3962887635441028067,33.853402735254548,2,  33.8732,2,344.65766208217900,3, 336.4071,2,    336.6,2,     37.2,2,    27.81,2,     0.27,2,     1.99,2,    5.539,2,    3.121,2,   3.5100,2,   2184.6,2,  2289.23,2,   7.6401,6,    24.89,     -999,9,     -999,9,  -1.3971,2,     -999,9,     -999,9,     -999,     -999,9,     -999,9,     -999,9,     -999,9,    0.139,1,    4.582,1,    0.208,1,  16.6500,2,     -999,9,20180425,2209, -67.0011,-114.4999,     -999,9,     -999,9,-999          ,9,     -999,9,     -999,9,     -999,     -999,9,     -999,     -999,9,     -999,9,     -999,9,     -999,9,     -999,9,     -999,9,     -999,9,     -999,9,     -999,9,     -999,9,     -999,9,     -999,9,     -999,9,     -999,9
320620180309  ,S04P       ,91      ,  1,32         ,32         ,2,20180425,2008, -66.9990,-114.4994,     4717,    101.1,-0.9190224735497174446,33.979167670570092,2,  33.9839,2,329.23074094135114,2, 326.1980,3,    331.3,2,     41.2,2,    29.15,2,     0.23,2,     2.03,2,     -999,9,     -999,9,     -999,9,     -999,9,     -999,9,     -999,9,     -999,     -999,9,     -999,9,  -0.8871,2,     -999,9,     -999,9,     -999,     -999,9,     -999,9,     -999,9,     -999,9,    0.077,1,    4.632,1,    0.164,1,     -999,9,     -999,9,20180425,2207, -67.0011,-114.4999,     -999,9,     -999,9,-999          ,9,     -999,9,     -999,9,     -999,     -999,9,     -999,     -999,9,     -999,9,     -999,9,     -999,9,     -999,9,     -999,9,     -999,9,     -999,9,     -999,9,     -999,9,     -999,9,     -999,9,     -999,9,     -999,9
320620180309  ,S04P       ,91      ,  1,31         ,31         ,2,20180425,2008, -66.9990,-114.4994,     4717,    150.1,0.2921121861538654718,34.204228348906284,2,  34.2209,2,278.24706129215218,3, 278.7898,3,    274.0,2,     54.2,2,    32.42,2,     0.01,2,     2.22,2,     -999,9,     -999,9,     -999,9,     -999,9,     -999,9,     -999,9,     -999,     -999,9,     -999,9,   0.3324,2,     -999,9,     -999,9,     -999,     -999,9,     -999,9,     -999,9,     -999,9,    0.072,1,    4.638,1,    0.155,1,     -999,9,     -999,9,20180425,2205, -67.0012,-114.5001,     -999,9,     -999,9,-999          ,9,     -999,9,     -999,9,     -999,     -999,9,     -999,     -999,9,     -999,9,     -999,9,     -999,9,     -999,9,     -999,9,     -999,9,     -999,9,     -999,9,     -999,9,     -999,9,     -999,9,     -999,9,     -999,9
320620180309  ,S04P       ,91      ,  1,30         ,30         ,2,20180425,2008, -66.9990,-114.4994,     4717,    201.3,1.5110443665056503271,34.435469168677258,2,  34.4325,2,208.07594893106955,2, 210.8934,3,    208.4,2,     68.5,2,    34.54,2,     0.00,2,     2.35,2,    2.134,2,    1.145,2,   1.0400,2,   2245.2,2,  2325.50,2,   7.5473,2,    24.90,     -999,9,     -999,9,   1.5132,2,     -999,9,     -999,9,     -999,     -999,9,     -999,9,     -999,9,     -999,9,    0.066,1,    4.642,1,    0.147,1,  22.6200,2,     -999,9,20180425,2203, -67.0013,-114.5002,     -999,9,     -999,9,-999          ,9,     -999,9,     -999,9,     -999,     -999,9,     -999,     -999,9,     -999,9,     -999,9,     -999,9,     -999,9,     -999,9,     -999,9,     -999,9,     -999,9,     -999,9,     -999,9,     -999,9,     -999,9,     -999,9
320620180309  ,S04P       ,91      ,  1,29         ,29         ,2,20180425,2008, -66.9990,-114.4994,     4717,    252.8,1.7018542491156023466,34.505759700530476,2,  34.5022,2,195.95776385319601,2, 197.4968,3,    196.2,2,     73.0,2,    34.56,2,     0.00,2,     2.36,2,    1.620,2,    0.865,2,   0.7700,2,   2251.9,2,  2331.95,2,   7.5467,2,    24.91,     -999,9,     -999,9,   1.6997,2,     -999,9,     -999,9,     -999,     -999,9,     -999,9,     -999,9,     -999,9,    0.064,1,    4.643,1,    0.146,1,  22.8400,2,     -999,9,20180425,2201, -67.0015,-114.5004,     -999,9,     -999,9,-999          ,9,     -999,9,     -999,9,     -999,     -999,9,     -999,     -999,9,     -999,9,     -999,9,     -999,9,     -999,9,     -999,9,     -999,9,     -999,9,     -999,9,     -999,9,     -999,9,     -999,9,     -999,9,     -999,9
320620180309  ,S04P       ,91      ,  1,28         ,28         ,2,20180425,2008, -66.9990,-114.4994,     4717,    301.8,1.8247162841251907128,34.551022921391763,2,  34.5507,2,189.51891169712206,2, 190.0027,3,    188.1,2,     75.7,2,    34.32,2,     0.00,2,     2.33,2,     -999,9,     -999,9,     -999,9,   2258.8,2,  2334.79,2,   7.5494,2,    24.89,     -999,9,     -999,9,   1.8260,2,     -999,9,     -999,9,     -999,     -999,9,     -999,9,     -999,9,     -999,9,    0.064,1,    4.644,1,    0.149,1,     -999,9,     -999,9,20180425,2159, -67.0015,-114.5005,     -999,9,     -999,9,-999          ,9,     -999,9,     -999,9,     -999,     -999,9,     -999,     -999,9,     -999,9,     -999,9,     -999,9,     -999,9,     -999,9,     -999,9,     -999,9,     -999,9,     -999,9,     -999,9,     -999,9,     -999,9,     -999,9
320620180309  ,S04P       ,91      ,  1,27         ,27         ,2,20180425,2008, -66.9990,-114.4994,     4717,    352.3,1.9286729249438574474,34.591150506560950,2,  34.5913,2,184.53860256365084,3, 184.1035,3,    182.6,2,     78.1,2,    34.02,2,     0.00,2,     2.31,2,    0.941,2,    0.502,2,   0.3900,2,   2256.7,6,  2337.44,2,   7.5526,2,    24.91,     -999,9,     -999,9,   1.9289,2,     -999,9,     -999,9,     -999,     -999,9,     -999,9,     -999,9,     -999,9,    0.063,1,    4.647,1,    0.145,1,  22.5300,2,     -999,9,20180425,2157, -67.0015,-114.5005,     -999,9,     -999,9,-999          ,9,     -999,9,     -999,9,     -999,     -999,9,     -999,     -999,9,     -999,9,     -999,9,     -999,9,     -999,9,     -999,9,     -999,9,     -999,9,     -999,9,     -999,9,     -999,9,     -999,9,     -999,9,     -999,9
320620180309  ,S04P       ,91      ,  1,26         ,38         ,2,20180425,2008, -66.9990,-114.4994,     4717,    403.0,1.9990294616511488091,34.622828700591249,2,  34.6209,2,181.53139006952330,3, 179.4978,2,    179.2,2,     79.7,2,    33.75,2,     0.00,2,     2.28,2,     -999,9,     -999,9,     -999,9,   2259.8,2,  2337.44,2,   7.5553,2,    24.91,     -999,9,     -999,9,   1.9995,2,     -999,9,     -999,9,     -999,     -999,9,     -999,9,     -999,9,     -999,9,    0.062,1,    4.648,1,    0.141,1,     -999,9,     -999,9,20180425,2155, -67.0014,-114.5004,     -999,9,     -999,9,-999          ,9,     -999,9,     -999,9,     -999,     -999,9,     -999,     -999,9,     -999,9,     -999,9,     -999,9,     -999,9,     -999,9,     -999,9,     -999,9,     -999,9,     -999,9,     -999,9,     -999,9,     -999,9,     -999,9
320620180309  ,S04P       ,91      ,  1,25         ,25         ,2,20180425,2008, -66.9990,-114.4994,     4717,    454.0,2.0025081200678029880,34.647430565251632,2,  34.6470,2,181.24809119059938,2, 179.9998,2,    179.5,2,     81.1,2,    33.36,2,     0.00,2,     2.27,2,    0.600,2,    0.320,2,   0.2500,2,   2258.8,2,  2341.45,2,   7.5598,2,    24.89,     -999,9,     -999,9,   2.0024,2,     -999,9,     -999,9,     -999,     -999,9,     -999,9,     -999,9,     -999,9,    0.062,1,    4.650,1,    0.141,1,  22.1500,2,     -999,9,20180425,2153, -67.0015,-114.5005,     -999,9,     -999,9,-999          ,9,     -999,9,     -999,9,     -999,     -999,9,     -999,     -999,9,     -999,9,     -999,9,     -999,9,     -999,9,     -999,9,     -999,9,     -999,9,     -999,9,     -999,9,     -999,9,     -999,9,     -999,9,     -999,9
320620180309  ,S04P       ,91      ,  1,24         ,24         ,2,20180425,2008, -66.9990,-114.4994,     4717,    505.5,2.0234784021619205419,34.669415615866797,2,  34.6674,2,180.97097509468770,2, 179.6992,2,    179.2,2,     82.5,2,    32.99,2,     0.00,2,     2.24,2,     -999,9,     -999,9,     -999,9,     -999,9,     -999,9,     -999,9,     -999,     -999,9,     -999,9,   2.0232,2,     -999,9,     -999,9,     -999,     -999,9,     -999,9,     -999,9,     -999,9,    0.062,1,    4.649,1,    0.144,1,     -999,9,     -999,9,20180425,2151, -67.0015,-114.5004,     -999,9,     -999,9,-999          ,9,     -999,9,     -999,9,     -999,     -999,9,     -999,     -999,9,     -999,9,     -999,9,     -999,9,     -999,9,     -999,9,     -999,9,     -999,9,     -999,9,     -999,9,     -999,9,     -999,9,     -999,9,     -999,9
320620180309  ,S04P       ,91      ,  1,23         ,23         ,2,20180425,2008, -66.9990,-114.4994,     4717,    607.0,2.0025543700547046022,34.695193131976509,2,  34.6937,2,181.51884872173181,2, 181.0999,2,    181.8,2,     84.8,2,    32.63,2,     0.00,2,     2.21,2,    0.350,2,    0.187,2,   0.2200,2,   2249.9,4,  2348.83,2,   7.5774,2,    24.90,     -999,9,     -999,9,   2.0025,2,     -999,9,     -999,9,     -999,     -999,9,     -999,9,     -999,9,     -999,9,    0.061,1,    4.650,1,    0.137,1,  21.2700,2,     -999,9,20180425,2148, -67.0013,-114.5003,     -999,9,     -999,9,-999          ,9,     -999,9,     -999,9,     -999,     -999,9,     -999,     -999,9,     -999,9,     -999,9,     -999,9,     -999,9,     -999,9,     -999,9,     -999,9,     -999,9,     -999,9,     -999,9,     -999,9,     -999,9,     -999,9
320620180309  ,S04P       ,91      ,  1,22         ,37         ,2,20180425,2008, -66.9990,-114.4994,     4717,    707.8,1.9332768934540793815,34.711421767038303,2,  34.7102,2,183.35506640155501,2, 184.1004,2,    183.9,2,     87.1,2,    32.15,2,     0.00,2,     2.19,2,     -999,9,     -999,9,     -999,9,     -999,9,     -999,9,     -999,9,     -999,     -999,9,     -999,9,   1.9334,2,     -999,9,     -999,9,     -999,     -999,9,     -999,9,     -999,9,     -999,9,    0.061,1,    4.650,1,    0.137,1,     -999,9,     -999,9,20180425,2145, -67.0012,-114.5002,     -999,9,     -999,9,-999          ,9,     -999,9,     -999,9,     -999,     -999,9,     -999,     -999,9,     -999,9,     -999,9,     -999,9,     -999,9,     -999,9,     -999,9,     -999,9,     -999,9,     -999,9,     -999,9,     -999,9,     -999,9,     -999,9
320620180309  ,S04P       ,91      ,  1,21         ,21         ,2,20180425,2008, -66.9990,-114.4994,     4717,    809.4,1.8603601003210767928,34.721645542335082,2,  34.7202,2,185.36151845141501,2, 186.1963,2,    186.4,2,     89.0,2,    31.86,2,     0.00,2,     2.17,2,     -999,9,     -999,9,     -999,9,     -999,9,     -999,9,     -999,9,     -999,     -999,9,     -999,9,   1.8601,2,     -999,9,     -999,9,     -999,     -999,9,     -999,9,     -999,9,     -999,9,    0.060,1,    4.651,1,    0.134,1,     -999,9,     -999,9,20180425,2142, -67.0010,-114.5000,     -999,9,     -999,9,-999          ,9,     -999,9,     -999,9,     -999,     -999,9,     -999,     -999,9,     -999,9,     -999,9,     -999,9,     -999,9,     -999,9,     -999,9,     -999,9,     -999,9,     -999,9,     -999,9,     -999,9,     -999,9,     -999,9
320620180309  ,S04P       ,91      ,  1,20         ,20         ,2,20180425,2008, -66.9990,-114.4994,     4717,    911.2,1.7780233350658944946,34.726889495404180,2,  34.7266,2,187.41300674321630,2, 188.0959,2,    187.9,2,     92.4,2,    31.72,2,     0.00,2,     2.16,2,    0.244,2,    0.126,2,   0.0100,2,   2259.0,2,  2354.92,2,   7.5889,2,    24.89,     -999,9,     -999,9,   1.7779,2,     -999,9,     -999,9,     -999,     -999,9,     -999,9,     -999,9,     -999,9,    0.062,1,    4.653,1,    0.133,1,  20.0600,2,     -999,9,20180425,2139, -67.0009,-114.5000,     -999,9,     -999,9,-999          ,9,     -999,9,     -999,9,     -999,     -999,9,     -999,     -999,9,     -999,9,     -999,9,     -999,9,     -999,9,     -999,9,     -999,9,     -999,9,     -999,9,     -999,9,     -999,9,     -999,9,     -999,9,     -999,9
320620180309  ,S04P       ,91      ,  1,19         ,19         ,2,20180425,2008, -66.9990,-114.4994,     4717,   1012.6,1.6845276031735192390,34.730954453325872,2,  34.7296,2,189.39165165350178,2, 190.2001,2,    190.0,2,     93.9,2,    31.64,2,     0.00,2,     2.15,2,     -999,9,     -999,9,     -999,9,     -999,9,     -999,9,     -999,9,     -999,     -999,9,     -999,9,   1.6843,2,     -999,9,     -999,9,     -999,     -999,9,     -999,9,     -999,9,     -999,9,    0.061,1,    4.653,1,    0.134,1,     -999,9,     -999,9,20180425,2136, -67.0010,-114.5001,     -999,9,     -999,9,-999          ,9,     -999,9,     -999,9,     -999,     -999,9,     -999,     -999,9,     -999,9,     -999,9,     -999,9,     -999,9,     -999,9,     -999,9,     -999,9,     -999,9,     -999,9,     -999,9,     -999,9,     -999,9,     -999,9
320620180309  ,S04P       ,91      ,  1,18         ,18         ,2,20180425,2008, -66.9990,-114.4994,     4717,   1115.3,1.5933814936035772813,34.732721337814837,2,  34.7317,2,191.29652285048198,2, 192.4967,2,    192.4,2,     96.6,2,    31.58,2,     0.00,2,     2.15,2,     -999,9,     -999,9,     -999,9,   2258.3,2,  2356.26,2,   7.5979,2,    24.91,     -999,9,     -999,9,   1.5933,2,     -999,9,     -999,9,     -999,     -999,9,     -999,9,     -999,9,     -999,9,    0.061,1,    4.654,1,    0.133,1,     -999,9,     -999,9,20180425,2133, -67.0012,-114.5002,     -999,9,     -999,9,-999          ,9,     -999,9,     -999,9,     -999,     -999,9,     -999,     -999,9,     -999,9,     -999,9,     -999,9,     -999,9,     -999,9,     -999,9,     -999,9,     -999,9,     -999,9,     -999,9,     -999,9,     -999,9,     -999,9
320620180309  ,S04P       ,91      ,  1,17         ,17         ,2,20180425,2008, -66.9990,-114.4994,     4717,   1215.7,1.5053678335037747882,34.732505465453862,2,  34.7308,2,192.53871937622722,2, 193.7032,2,    193.3,2,     99.1,2,    31.65,2,     0.00,2,     2.14,2,    0.185,2,    0.092,2,   0.0200,2,   2255.8,2,  2356.61,2,   7.5946,6,    24.90,     -999,9,     -999,9,   1.5052,2,     -999,9,     -999,9,     -999,     -999,9,     -999,9,     -999,9,     -999,9,    0.061,1,    4.654,1,    0.130,1,  19.6500,2,     -999,9,20180425,2131, -67.0011,-114.5001,     -999,9,     -999,9,-999          ,9,     -999,9,     -999,9,     -999,     -999,9,     -999,     -999,9,     -999,9,     -999,9,     -999,9,     -999,9,     -999,9,     -999,9,     -999,9,     -999,9,     -999,9,     -999,9,     -999,9,     -999,9,     -999,9
320620180309  ,S04P       ,91      ,  1,16         ,16         ,2,20180425,2008, -66.9990,-114.4994,     4717,   1317.3,1.4295287770679467876,34.731230850261198,2,  34.7310,2,193.91215388542298,2, 194.3999,2,    194.2,2,    102.3,2,    31.77,2,     0.00,2,     2.14,2,     -999,9,     -999,9,     -999,9,     -999,9,     -999,9,     -999,9,     -999,     -999,9,     -999,9,   1.4299,2,     -999,9,     -999,9,     -999,     -999,9,     -999,9,     -999,9,     -999,9,    0.061,1,    4.654,1,    0.131,1,     -999,9,     -999,9,20180425,2128, -67.0009,-114.5000,     -999,9,     -999,9,-999          ,9,     -999,9,     -999,9,     -999,     -999,9,     -999,     -999,9,     -999,9,     -999,9,     -999,9,     -999,9,     -999,9,     -999,9,     -999,9,     -999,9,     -999,9,     -999,9,     -999,9,     -999,9,     -999,9