BOTTLE,20240515CCHHYDRO
EXPOCODE,SECT_ID,STNNBR,CASTNO,SAMPNO,BTLNBR,BTLNBR_FLAG_W,DATE,TIME,LATITUDE,LONGITUDE,DEPTH,CTDPRS,CTDTMP,CTDSAL,CTDSAL_FLAG_W,SALNTY,SALNTY_FLAG_W,CTDOXY,CTDOXY_FLAG_W,CTDOPTOXY,CTDOPTOXY_FLAG_W,OXYGEN,OXYGEN_FLAG_W,SILCAT,SILCAT_FLAG_W,NITRAT,NITRAT_FLAG_W,NITRIT,NITRIT_FLAG_W,PHSPHT,PHSPHT_FLAG_W,CFC-11,CFC-11_FLAG_W,CFC-12,CFC-12_FLAG_W,SF6,SF6_FLAG_W,TCARBN,TCARBN_FLAG_W,ALKALI,ALKALI_FLAG_W,PH_TOT,PH_TOT_FLAG_W,PH_TMP,DOC,DOC_FLAG_W,HELIUM,HELIUM_FLAG_W,REFTMP,REFTMP_FLAG_W,DELC13,DELC13_FLAG_W,DELC14,DELC14_FLAG_W,C14ERR,POC,POC_FLAG_W,TDN,TDN_FLAG_W,TON,TON_FLAG_W,NEON,NEON_FLAG_W,CTDFLUOR,CTDFLUOR_FLAG_W,CTDXMISS,CTDXMISS_FLAG_W,CTDBETA700,CTDBETA700_FLAG_W,N2O,N2O_FLAG_W,ARGON,ARGON_FLAG_W,BTL_DATE,BTL_TIME,BTL_LAT,BTL_LON,KRYPTON,KRYPTON_FLAG_W,XENON,XENON_FLAG_W,HPLC,HPLC_FLAG_W,HE3_HE4_RATIO,HE3_HE4_RATIO_FLAG_W,Nd_143_144_D_EPSILON_BOTTLE,Nd_143_144_D_EPSILON_BOTTLE_FLAG_W,Nd_143_144_D_EPSILON_BOTTLE_ERROR,Nd_143_144_D_RATIO_BOTTLE,Nd_143_144_D_RATIO_BOTTLE_FLAG_W,Nd_143_144_D_RATIO_BOTTLE_ERROR,Nd_D_CONC,Nd_D_CONC_FLAG_W,La_D_CONC_BOTTLE,La_D_CONC_BOTTLE_FLAG_W,Ce_D_CONC_BOTTLE,Ce_D_CONC_BOTTLE_FLAG_W,Pr_D_CONC_BOTTLE,Pr_D_CONC_BOTTLE_FLAG_W,Sm_D_CONC_BOTTLE,Sm_D_CONC_BOTTLE_FLAG_W,Eu_D_CONC_BOTTLE,Eu_D_CONC_BOTTLE_FLAG_W,Gd_D_CONC_BOTTLE,Gd_D_CONC_BOTTLE_FLAG_W,Tb_D_CONC_BOTTLE,Tb_D_CONC_BOTTLE_FLAG_W,Dy_D_CONC_BOTTLE,Dy_D_CONC_BOTTLE_FLAG_W,Ho_D_CONC_BOTTLE,Ho_D_CONC_BOTTLE_FLAG_W,Er_D_CONC_BOTTLE,Er_D_CONC_BOTTLE_FLAG_W,Tm_D_CONC_BOTTLE,Tm_D_CONC_BOTTLE_FLAG_W,Yb_D_CONC_BOTTLE,Yb_D_CONC_BOTTLE_FLAG_W,Lu_D_CONC_BOTTLE,Lu_D_CONC_BOTTLE_FLAG_W
,,,,,,,,,,,METERS,DBAR,ITS-90,PSS-78,,PSS-78,,UMOL/KG,,UMOL/KG,,UMOL/KG,,UMOL/KG,,UMOL/KG,,UMOL/KG,,UMOL/KG,,PMOL/KG,,PMOL/KG,,FMOL/KG,,UMOL/KG,,UMOL/KG,,,,DEG C,UMOL/KG,,NMOL/L,,DEG C,,/MILLE,,/MILLE,,/MILLE,UG/KG,,UMOL/KG,,UMOL/KG,,NMOL/L,,VOLTS,,VOLTS,,VOLTS,,NMOL/KG,,UMOL/L,,,,,,NMOL/L,,NMOL/L,,,,,,10000,,10000,,,,PMOL/KG,,PMOL/L,,PMOL/L,,PMOL/L,,PMOL/L,,PMOL/L,,PMOL/L,,PMOL/L,,PMOL/L,,PMOL/L,,PMOL/L,,PMOL/L,,PMOL/L,,PMOL/L,
320620180309  ,S04P       ,31      ,  1,17         ,17         ,2,20180402,0746, -75.2872,-147.1070,      543,      2.3,-1.8405027777777778208,33.712690299150644,2,  33.7114,2,332.55607713788004,3, 328.8993,2,    336.2,2,     71.2,2,    20.52,2,     0.13,2,     1.56,2,    5.337,2,    3.068,2,   3.3400,2,   2166.0,6,  2298.02,2,   7.7059,6,    24.92,     44.1,2,     -999,9,  -1.8414,2,1.18000000,2, -132.720,2,    0.002,     -999,9,    26.70,2,     -999,1,     -999,9,    0.105,1,    4.587,1,    0.200,1,  16.7800,2,     -999,9,20180402,0815, -75.2838,-147.1019,     -999,9,     -999,9,-999          ,9,     -999,9,     -999,9,     -999,     -999,9,     -999,     -999,9,     -999,1,     -999,1,     -999,1,     -999,1,     -999,1,     -999,1,     -999,1,     -999,1,     -999,1,     -999,1,     -999,1,     -999,1,     -999,1
320620180309  ,S04P       ,31      ,  1,16         ,16         ,2,20180402,0746, -75.2872,-147.1070,      543,     19.6,-1.8432111111111113555,33.713031292573540,2,  33.7110,2,334.06675594801271,2, 335.2013,2,    336.4,2,     71.2,2,    20.44,2,     0.13,2,     1.57,2,     -999,9,     -999,9,     -999,9,   2165.9,2,  2298.18,2,   7.7033,2,    24.92,     -999,9,     -999,9,  -1.8434,2,     -999,9,     -999,9,     -999,     -999,9,     -999,9,     -999,1,     -999,9,    0.107,1,    4.597,1,    0.210,1,     -999,9,     -999,9,20180402,0813, -75.2841,-147.1022,     -999,9,     -999,9,-999          ,9,     -999,9,     -999,9,     -999,     -999,9,     -999,     -999,9,     -999,1,     -999,1,     -999,1,     -999,1,     -999,1,     -999,1,     -999,1,     -999,1,     -999,1,     -999,1,     -999,1,     -999,1,     -999,1
320620180309  ,S04P       ,31      ,  1,15         ,15         ,2,20180402,0746, -75.2872,-147.1070,      543,     39.4,-1.8386444444444447477,33.716108836881276,2,  33.7222,2,334.63777764323913,2, 337.8008,2,    336.0,2,     71.3,2,    20.67,2,     0.12,2,     1.59,2,     -999,9,     -999,9,     -999,9,   2168.4,2,  2298.04,2,   7.6948,2,    24.93,     43.7,2,     -999,1,  -1.8395,2,1.11000000,2, -135.600,2,    0.002,     -999,9,    26.70,2,     -999,1,     -999,1,    0.103,1,    4.598,1,    0.201,1,     -999,9,     -999,1,20180402,0811, -75.2844,-147.1025,     -999,1,     -999,1,-999          ,9,     -999,1,     -999,9,     -999,     -999,9,     -999,     -999,9,     -999,1,     -999,1,     -999,1,     -999,1,     -999,1,     -999,1,     -999,1,     -999,1,     -999,1,     -999,1,     -999,1,     -999,1,     -999,1
320620180309  ,S04P       ,31      ,  1,14         ,14         ,2,20180402,0746, -75.2872,-147.1070,      543,     64.7,-1.7983500000000001151,33.748971993796744,2,  33.7491,2,335.04833009880349,2, 334.0985,2,    334.9,2,     71.1,2,    21.27,2,     0.12,2,     1.63,2,     -999,9,     -999,9,     -999,9,   2171.4,2,  2300.03,2,   7.6659,6,    24.92,     -999,5,     -999,9,  -1.7990,2,     -999,9,     -999,9,     -999,     -999,9,     -999,5,     -999,1,     -999,9,    0.110,1,    4.598,1,    0.204,1,     -999,9,     -999,9,20180402,0809, -75.2847,-147.1028,     -999,9,     -999,9,-999          ,9,     -999,9,     -999,9,     -999,     -999,9,     -999,     -999,9,     -999,1,     -999,1,     -999,1,     -999,1,     -999,1,     -999,1,     -999,1,     -999,1,     -999,1,     -999,1,     -999,1,     -999,1,     -999,1
320620180309  ,S04P       ,31      ,  1,13         ,13         ,2,20180402,0746, -75.2872,-147.1070,      543,     90.4,-1.6591638888888888825,33.821107845131934,2,  33.8286,2,322.26021776953672,2, 322.8997,2,    319.4,2,     75.6,2,    23.50,2,     0.12,2,     1.75,2,    4.904,2,    2.818,2,   3.2300,2,   2187.0,2,  2303.23,2,   7.6643,2,    24.94,     42.3,2,     -999,9,  -1.6587,2,0.93000000,2, -139.020,2,    0.002,     -999,9,    28.00,2,     -999,1,     -999,9,    0.093,1,    4.605,1,    0.199,1,  16.9900,2,     -999,9,20180402,0808, -75.2849,-147.1031,     -999,9,     -999,9,-999          ,9,     -999,9,     -999,9,     -999,     -999,9,     -999,     -999,9,     -999,1,     -999,1,     -999,1,     -999,1,     -999,1,     -999,1,     -999,1,     -999,1,     -999,1,     -999,1,     -999,1,     -999,1,     -999,1
320620180309  ,S04P       ,31      ,  1,12         ,12         ,2,20180402,0746, -75.2872,-147.1070,      543,    115.4,-1.5813999999999999169,33.946654105177558,2,  33.9475,2,299.02830142367230,2, 292.2020,2,    298.4,2,     80.9,2,    26.38,2,     0.13,2,     1.96,2,     -999,9,     -999,9,     -999,9,   2205.0,2,  2308.67,2,   7.6268,2,    24.93,     44.1,2,     -999,1,  -1.5817,2,     -999,9,     -999,9,     -999,     -999,9,    29.60,2,     -999,1,     -999,1,    0.079,1,    4.619,1,    0.198,1,     -999,9,     -999,1,20180402,0806, -75.2851,-147.1034,     -999,1,     -999,1,-999          ,9,     -999,1,     -999,9,     -999,     -999,9,     -999,     -999,9,     -999,1,     -999,1,     -999,1,     -999,1,     -999,1,     -999,1,     -999,1,     -999,1,     -999,1,     -999,1,     -999,1,     -999,1,     -999,1
320620180309  ,S04P       ,31      ,  1,11         ,11         ,2,20180402,0746, -75.2872,-147.1070,      543,    140.9,-1.6241416666666670388,34.028666731844581,2,  34.0332,2,284.16056222027112,2, 288.7005,2,    282.9,2,     84.7,2,    29.03,2,     0.10,2,     2.06,2,    3.813,2,    2.215,2,   2.3700,2,   2217.8,2,  2310.12,2,   7.5955,2,    24.92,     43.2,2,     -999,9,  -1.6250,2,0.61000000,2, -141.260,2,    0.002,     -999,9,    30.80,2,     -999,1,     -999,9,    0.070,1,    4.644,1,    0.174,1,  18.1400,2,     -999,9,20180402,0804, -75.2853,-147.1037,     -999,9,     -999,9,-999          ,9,     -999,9,     -999,9,     -999,     -999,9,     -999,     -999,9,     -999,1,     -999,1,     -999,1,     -999,1,     -999,1,     -999,1,     -999,1,     -999,1,     -999,1,     -999,1,     -999,1,     -999,1,     -999,1
320620180309  ,S04P       ,31      ,  1,10         ,10         ,2,20180402,0746, -75.2872,-147.1070,      543,    165.9,-1.6299888888888889316,34.078355831553708,2,  34.0760,2,280.32974485798343,2, 286.5026,2,    280.7,2,     85.3,2,    29.69,2,     0.10,2,     2.10,2,     -999,9,     -999,9,     -999,9,   2223.1,2,  2312.98,2,   7.5834,2,    24.93,     39.4,3,     -999,9,  -1.6305,2,     -999,9,     -999,9,     -999,     -999,9,    31.30,2,     -999,1,     -999,9,    0.068,1,    4.646,1,    0.169,1,     -999,9,     -999,9,20180402,0802, -75.2855,-147.1041,     -999,9,     -999,9,-999          ,9,     -999,9,     -999,9,     -999,     -999,9,     -999,     -999,9,     -999,1,     -999,1,     -999,1,     -999,1,     -999,1,     -999,1,     -999,1,     -999,1,     -999,1,     -999,1,     -999,1,     -999,1,     -999,1
320620180309  ,S04P       ,31      ,  1,9          ,9          ,2,20180402,0746, -75.2872,-147.1070,      543,    191.4,-1.6294388888888886591,34.101528481444944,2,  34.1009,2,281.17082134860806,2, 287.4994,2,    280.0,2,     85.3,2,    29.99,2,     0.11,2,     2.09,2,    3.822,2,    2.205,2,   2.4300,2,   2224.1,2,  2314.62,2,   7.5813,2,    24.93,     42.1,2,     -999,1,     -999,9,0.55000000,2, -139.640,2,    0.002,     -999,9,    31.90,2,     -999,1,     -999,1,    0.069,1,    4.645,1,    0.182,1,  18.4700,2,     -999,1,20180402,0800, -75.2857,-147.1045,     -999,1,     -999,1,-999          ,9,     -999,1,     -999,9,     -999,     -999,9,     -999,     -999,9,     -999,9,     -999,9,     -999,9,     -999,9,     -999,9,     -999,9,     -999,9,     -999,9,     -999,9,     -999,9,     -999,9,     -999,9,     -999,9
320620180309  ,S04P       ,31      ,  1,8          ,8          ,2,20180402,0746, -75.2872,-147.1070,      543,    191.4,-1.6300583333333333869,34.101618851528514,2,  34.1017,2,281.10748030341603,2, 261.2929,2,     -999,9,     -999,9,     -999,9,     -999,9,     -999,9,     -999,9,     -999,9,     -999,9,     -999,9,     -999,9,     -999,9,     -999,     -999,9,     -999,9,  -1.6290,2,     -999,9,     -999,9,     -999,     -999,9,     -999,9,     -999,9,     -999,9,    0.069,1,    4.645,1,    0.182,1,     -999,9,     -999,9,20180402,0800, -75.2857,-147.1045,     -999,9,     -999,9,-999          ,9,     -999,9,    -5.73,2,     0.23, 0.512344,2, 0.000005,    26.07,2,     -999,1,     -999,1,     -999,1,     -999,1,     -999,1,     -999,1,     -999,1,     -999,1,     -999,1,     -999,1,     -999,1,     -999,1,     -999,1
320620180309  ,S04P       ,31      ,  1,7          ,7          ,2,20180402,0746, -75.2872,-147.1070,      543,    216.3,-1.6036416666666668540,34.124687164378777,3,  34.1017,2,277.01330871766305,2, 284.3959,2,    278.6,2,     85.6,2,    30.32,2,     0.10,2,     2.10,2,    3.769,2,    2.158,2,   2.3100,2,   2227.3,2,  2315.55,2,   7.5782,2,    24.92,     -999,9,     -999,9,  -1.6046,2,     -999,9,     -999,9,     -999,     -999,9,     -999,9,     -999,9,     -999,9,    0.066,1,    4.648,1,    0.179,1,  18.4100,2,     -999,9,20180402,0759, -75.2859,-147.1049,     -999,9,     -999,9,-999          ,9,     -999,9,     -999,9,     -999,     -999,9,     -999,     -999,9,     -999,1,     -999,1,     -999,1,     -999,1,     -999,1,     -999,1,     -999,1,     -999,1,     -999,1,     -999,1,     -999,1,     -999,1,     -999,1
320620180309  ,S04P       ,31      ,  1,6          ,6          ,2,20180402,0746, -75.2872,-147.1070,      543,    241.6,-1.6577222222222223191,34.139921596074181,2,  34.1391,2,274.85330476941601,3, 281.5018,2,    281.7,2,     84.8,2,    30.38,2,     0.12,2,     2.11,2,     -999,9,     -999,9,     -999,9,   2228.5,2,  2314.50,2,   7.5779,2,    24.91,     44.3,2,     -999,1,  -1.6577,2,0.56000000,2, -140.310,2,    0.002,     -999,9,    32.70,2,     -999,1,     -999,1,    0.065,1,    4.644,1,    0.185,1,     -999,9,     -999,1,20180402,0757, -75.2861,-147.1053,     -999,1,     -999,1,-999          ,9,     -999,1,     -999,9,     -999,     -999,9,     -999,     -999,9,     -999,1,     -999,1,     -999,1,     -999,1,     -999,1,     -999,1,     -999,1,     -999,1,     -999,1,     -999,1,     -999,1,     -999,1,     -999,1
320620180309  ,S04P       ,31      ,  1,5          ,5          ,2,20180402,0746, -75.2872,-147.1070,      543,    287.7,-1.4091222222222221649,34.186752225961555,2,  34.1839,2,270.11444754741154,2, 268.7992,2,    271.7,2,     84.7,2,    30.89,2,     0.08,2,     2.11,2,    3.561,2,    1.999,2,   2.0500,2,   2231.0,2,  2318.02,2,   7.5800,2,    24.92,     42.5,2,     -999,1,  -1.4101,2,     -999,9,     -999,9,     -999,     -999,9,    32.50,2,     -999,1,     -999,1,    0.066,1,    4.656,1,    0.178,1,  17.9600,2,     -999,1,20180402,0755, -75.2863,-147.1058,     -999,1,     -999,1,-999          ,9,     -999,1,     -999,9,     -999,     -999,9,     -999,     -999,9,     -999,1,     -999,1,     -999,1,     -999,1,     -999,1,     -999,1,     -999,1,     -999,1,     -999,1,     -999,1,     -999,1,     -999,1,     -999,1
320620180309  ,S04P       ,31      ,  1,4          ,4          ,2,20180402,0746, -75.2872,-147.1070,      543,    337.9,-1.2612305555555556325,34.210771364859809,2,  34.2087,2,265.21178938996354,2, 254.4933,2,    264.7,2,     86.6,2,    31.19,2,     0.07,2,     2.15,2,     -999,9,     -999,9,     -999,9,   2233.0,2,  2318.88,2,   7.5712,2,    24.92,     43.3,2,     -999,1,  -1.2612,2,0.50000000,2, -140.180,2,    0.002,     -999,9,     -999,9,     -999,1,     -999,1,    0.064,1,    4.637,1,    0.183,1,     -999,9,     -999,1,20180402,0753, -75.2865,-147.1062,     -999,1,     -999,1,-999          ,9,     -999,1,     -999,9,     -999,     -999,9,     -999,     -999,9,     -999,1,     -999,1,     -999,1,     -999,1,     -999,1,     -999,1,     -999,1,     -999,1,     -999,1,     -999,1,     -999,1,     -999,1,     -999,1
320620180309  ,S04P       ,31      ,  1,3          ,3          ,2,20180402,0746, -75.2872,-147.1070,      543,    444.4,0.7744861111111110974,34.571062449414313,2,  34.5715,2,202.35955698541304,2, 204.9987,2,    204.1,2,     93.5,2,    32.24,2,     0.00,2,     2.21,2,    1.120,2,    0.600,2,   0.6900,2,   2255.1,2,  2343.68,2,   7.5718,6,    24.91,     41.8,2,     -999,1,   0.7791,2,0.36000000,2, -150.500,2,    0.002,     -999,9,     -999,9,     -999,1,     -999,1,    0.064,1,    4.665,1,    0.209,1,  19.6700,2,     -999,1,20180402,0749, -75.2869,-147.1066,     -999,1,     -999,1,-999          ,9,     -999,1,     -999,9,     -999,     -999,9,     -999,     -999,9,     -999,1,     -999,1,     -999,1,     -999,1,     -999,1,     -999,1,     -999,1,     -999,1,     -999,1,     -999,1,     -999,1,     -999,1,     -999,1
320620180309  ,S04P       ,31      ,  1,1          ,1          ,2,20180402,0746, -75.2872,-147.1070,      543,    547.4,1.3478861111111111182,34.697691960033019,3,     -999,9,191.60420513371119,2, 181.1912,2,     -999,9,     -999,9,     -999,9,     -999,9,     -999,9,     -999,9,     -999,9,     -999,9,     -999,9,     -999,9,     -999,9,     -999,     -999,9,     -999,9,   1.3477,2,     -999,9,     -999,9,     -999,     -999,9,     -999,9,     -999,9,     -999,9,    0.063,1,    4.670,1,    0.150,1,     -999,9,     -999,9,20180402,0746, -75.2872,-147.1070,     -999,9,     -999,9,-999          ,9,     -999,9,    -8.28,2,     0.23, 0.512213,2, 0.000006,    19.97,2,     -999,1,     -999,1,     -999,1,     -999,1,     -999,1,     -999,1,     -999,1,     -999,1,     -999,1,     -999,1,     -999,1,     -999,1,     -999,1
320620180309  ,S04P       ,31      ,  1,2          ,2          ,2,20180402,0746, -75.2872,-147.1070,      543,    547.4,1.3479888888888891252,34.698085756333448,2,  34.6958,2,191.01785801481452,2, 187.6977,2,    190.3,2,     98.2,2,    32.39,2,     0.00,2,     2.22,2,    0.395,2,    0.214,2,   0.2800,2,   2262.2,6,  2353.94,2,   7.5773,2,    24.91,     42.9,2,     -999,1,     -999,9,0.37000000,2, -152.240,2,    0.002,     -999,9,     -999,9,     -999,1,     -999,1,    0.063,1,    4.670,1,    0.150,1,  20.0600,2,     -999,1,20180402,0746, -75.2872,-147.1070,     -999,1,     -999,1,-999          ,9,     -999,1,     -999,9,     -999,     -999,9,     -999,     -999,9,     -999,9,     -999,9,     -999,9,     -999,9,     -999,9,     -999,9,     -999,9,     -999,9,     -999,9,     -999,9,     -999,9,     -999,9,     -999,9