BOTTLE,20240515CCHHYDRO
EXPOCODE,SECT_ID,STNNBR,CASTNO,SAMPNO,BTLNBR,BTLNBR_FLAG_W,DATE,TIME,LATITUDE,LONGITUDE,DEPTH,CTDPRS,CTDTMP,CTDSAL,CTDSAL_FLAG_W,SALNTY,SALNTY_FLAG_W,CTDOXY,CTDOXY_FLAG_W,CTDOPTOXY,CTDOPTOXY_FLAG_W,OXYGEN,OXYGEN_FLAG_W,SILCAT,SILCAT_FLAG_W,NITRAT,NITRAT_FLAG_W,NITRIT,NITRIT_FLAG_W,PHSPHT,PHSPHT_FLAG_W,CFC-11,CFC-11_FLAG_W,CFC-12,CFC-12_FLAG_W,SF6,SF6_FLAG_W,TCARBN,TCARBN_FLAG_W,ALKALI,ALKALI_FLAG_W,PH_TOT,PH_TOT_FLAG_W,PH_TMP,DOC,DOC_FLAG_W,HELIUM,HELIUM_FLAG_W,REFTMP,REFTMP_FLAG_W,DELC13,DELC13_FLAG_W,DELC14,DELC14_FLAG_W,C14ERR,POC,POC_FLAG_W,TDN,TDN_FLAG_W,TON,TON_FLAG_W,NEON,NEON_FLAG_W,CTDFLUOR,CTDFLUOR_FLAG_W,CTDXMISS,CTDXMISS_FLAG_W,CTDBETA700,CTDBETA700_FLAG_W,N2O,N2O_FLAG_W,ARGON,ARGON_FLAG_W,BTL_DATE,BTL_TIME,BTL_LAT,BTL_LON,KRYPTON,KRYPTON_FLAG_W,XENON,XENON_FLAG_W,HPLC,HPLC_FLAG_W,HE3_HE4_RATIO,HE3_HE4_RATIO_FLAG_W,Nd_143_144_D_EPSILON_BOTTLE,Nd_143_144_D_EPSILON_BOTTLE_FLAG_W,Nd_143_144_D_EPSILON_BOTTLE_ERROR,Nd_143_144_D_RATIO_BOTTLE,Nd_143_144_D_RATIO_BOTTLE_FLAG_W,Nd_143_144_D_RATIO_BOTTLE_ERROR,Nd_D_CONC,Nd_D_CONC_FLAG_W,La_D_CONC_BOTTLE,La_D_CONC_BOTTLE_FLAG_W,Ce_D_CONC_BOTTLE,Ce_D_CONC_BOTTLE_FLAG_W,Pr_D_CONC_BOTTLE,Pr_D_CONC_BOTTLE_FLAG_W,Sm_D_CONC_BOTTLE,Sm_D_CONC_BOTTLE_FLAG_W,Eu_D_CONC_BOTTLE,Eu_D_CONC_BOTTLE_FLAG_W,Gd_D_CONC_BOTTLE,Gd_D_CONC_BOTTLE_FLAG_W,Tb_D_CONC_BOTTLE,Tb_D_CONC_BOTTLE_FLAG_W,Dy_D_CONC_BOTTLE,Dy_D_CONC_BOTTLE_FLAG_W,Ho_D_CONC_BOTTLE,Ho_D_CONC_BOTTLE_FLAG_W,Er_D_CONC_BOTTLE,Er_D_CONC_BOTTLE_FLAG_W,Tm_D_CONC_BOTTLE,Tm_D_CONC_BOTTLE_FLAG_W,Yb_D_CONC_BOTTLE,Yb_D_CONC_BOTTLE_FLAG_W,Lu_D_CONC_BOTTLE,Lu_D_CONC_BOTTLE_FLAG_W
,,,,,,,,,,,METERS,DBAR,ITS-90,PSS-78,,PSS-78,,UMOL/KG,,UMOL/KG,,UMOL/KG,,UMOL/KG,,UMOL/KG,,UMOL/KG,,UMOL/KG,,PMOL/KG,,PMOL/KG,,FMOL/KG,,UMOL/KG,,UMOL/KG,,,,DEG C,UMOL/KG,,NMOL/L,,DEG C,,/MILLE,,/MILLE,,/MILLE,UG/KG,,UMOL/KG,,UMOL/KG,,NMOL/L,,VOLTS,,VOLTS,,VOLTS,,NMOL/KG,,UMOL/L,,,,,,NMOL/L,,NMOL/L,,,,,,10000,,10000,,,,PMOL/KG,,PMOL/L,,PMOL/L,,PMOL/L,,PMOL/L,,PMOL/L,,PMOL/L,,PMOL/L,,PMOL/L,,PMOL/L,,PMOL/L,,PMOL/L,,PMOL/L,,PMOL/L,
320620180309  ,S04P       ,118     ,  1,15         ,15         ,2,20180508,0714, -66.7992, -78.4812,     3942,   1318.0,1.3826344236960523837,34.728884000260848,2,  34.7300,2,193.88387410320053,2, 194.6956,2,    195.4,2,    104.4,2,    31.72,2,     0.00,2,     2.17,2,    0.138,2,    0.067,2,   0.1000,2,   2257.4,2,  2360.06,2,   7.5985,2,    24.94,     39.1,2,     -999,9,   1.3841,2,     -999,9,     -999,9,     -999,     -999,9,     -999,9,     -999,1,     -999,9,    0.061,1,    4.645,1,    0.131,1,  19.4000,2,     -999,9,20180508,0819, -66.7993, -78.4845,     -999,9,     -999,9,-999          ,9,     -999,9,     -999,9,     -999,     -999,9,     -999,     -999,9,     -999,9,     -999,9,     -999,9,     -999,9,     -999,9,     -999,9,     -999,9,     -999,9,     -999,9,     -999,9,     -999,9,     -999,9,     -999,9
320620180309  ,S04P       ,118     ,  1,14         ,14         ,2,20180508,0714, -66.7992, -78.4812,     3942,   1418.4,1.3193474282152155563,34.727197419416228,2,  34.7274,2,195.65554221398838,2, 195.6980,2,    196.0,2,    106.3,2,    31.77,2,     0.00,2,     2.17,2,     -999,9,     -999,9,     -999,9,   2260.5,2,  2362.88,2,   7.5985,2,    24.93,     38.6,2,     -999,9,   1.3197,2,     -999,9,     -999,9,     -999,     -999,9,     -999,9,     -999,1,     -999,9,    0.062,1,    4.647,1,    0.129,1,     -999,9,     -999,9,20180508,0817, -66.7993, -78.4847,     -999,9,     -999,9,-999          ,9,     -999,9,     -999,9,     -999,     -999,9,     -999,     -999,9,     -999,9,     -999,9,     -999,9,     -999,9,     -999,9,     -999,9,     -999,9,     -999,9,     -999,9,     -999,9,     -999,9,     -999,9,     -999,9
320620180309  ,S04P       ,118     ,  1,13         ,13         ,2,20180508,0714, -66.7992, -78.4812,     3942,   1520.9,1.2554990208598801882,34.725225007366831,2,  34.7259,2,196.64054306622450,2, 196.8974,2,    196.6,2,    108.1,2,    31.81,2,     0.00,2,     2.16,2,    0.125,2,    0.062,2,   0.0400,2,   2262.1,2,  2363.97,2,   7.5999,2,    24.93,     39.9,2,     -999,9,   1.2563,2,     -999,9,     -999,9,     -999,     -999,9,     -999,9,     -999,1,     -999,9,    0.061,1,    4.646,1,    0.141,1,  19.1100,2,     -999,9,20180508,0814, -66.7994, -78.4848,     -999,9,     -999,9,-999          ,9,     -999,9,     -999,9,     -999,     -999,9,     -999,     -999,9,     -999,9,     -999,9,     -999,9,     -999,9,     -999,9,     -999,9,     -999,9,     -999,9,     -999,9,     -999,9,     -999,9,     -999,9,     -999,9
320620180309  ,S04P       ,118     ,  1,12         ,12         ,2,20180508,0714, -66.7992, -78.4812,     3942,   1622.6,1.1938193953250357815,34.723561112587916,2,  34.7237,2,197.81467749450334,2, 198.1979,2,    198.1,2,    110.1,2,    31.89,2,     0.00,2,     2.17,2,    0.122,2,    0.067,2,   0.0300,2,   2262.5,2,  2362.59,2,   7.5995,2,    24.93,     38.6,2,     -999,9,   1.1943,2,     -999,9,     -999,9,     -999,     -999,9,     -999,9,     -999,1,     -999,9,    0.061,1,    4.647,1,    0.139,1,  19.1800,2,     -999,9,20180508,0811, -66.7994, -78.4850,     -999,9,     -999,9,-999          ,9,     -999,9,     -999,9,     -999,     -999,9,     -999,     -999,9,     -999,9,     -999,9,     -999,9,     -999,9,     -999,9,     -999,9,     -999,9,     -999,9,     -999,9,     -999,9,     -999,9,     -999,9,     -999,9
320620180309  ,S04P       ,118     ,  1,11         ,11         ,2,20180508,0714, -66.7992, -78.4812,     3942,   1725.2,1.1330309671639802183,34.721437638274487,2,  34.7219,2,198.36474877730552,2, 199.0908,2,    198.5,2,    112.4,2,    31.94,2,     0.00,2,     2.18,2,    0.115,2,    0.064,2,   0.0300,2,   2264.5,2,  2364.21,2,   7.5984,2,    24.93,     38.8,2,     -999,9,   1.1337,2,     -999,9,     -999,9,     -999,     -999,9,     -999,9,     -999,1,     -999,9,    0.061,1,    4.646,1,    0.129,1,  19.1300,2,     -999,9,20180508,0808, -66.7994, -78.4853,     -999,9,     -999,9,-999          ,9,     -999,9,     -999,9,     -999,     -999,9,     -999,     -999,9,     -999,9,     -999,9,     -999,9,     -999,9,     -999,9,     -999,9,     -999,9,     -999,9,     -999,9,     -999,9,     -999,9,     -999,9,     -999,9
320620180309  ,S04P       ,118     ,  1,10         ,10         ,2,20180508,0714, -66.7992, -78.4812,     3942,   1826.2,1.0753306917523448583,34.719398313632922,2,  34.7198,2,199.40074636195163,2, 199.9008,2,    201.1,2,    114.4,2,    31.97,2,     0.00,2,     2.19,2,    0.126,2,    0.073,2,   0.0000,2,   2264.3,2,  2364.29,2,   7.6000,2,    24.91,     37.0,2,     -999,9,   1.0758,2,     -999,9,     -999,9,     -999,     -999,9,     -999,9,     -999,1,     -999,9,    0.062,1,    4.646,1,    0.128,1,  19.4900,2,     -999,9,20180508,0805, -66.7994, -78.4854,     -999,9,     -999,9,-999          ,9,     -999,9,     -999,9,     -999,     -999,9,     -999,     -999,9,     -999,9,     -999,9,     -999,9,     -999,9,     -999,9,     -999,9,     -999,9,     -999,9,     -999,9,     -999,9,     -999,9,     -999,9,     -999,9
320620180309  ,S04P       ,118     ,  1,9          ,9          ,2,20180508,0714, -66.7992, -78.4812,     3942,   2030.4,0.9689759011800568311,34.715343226564855,2,  34.7159,2,201.53901971318118,2, 202.6040,2,    202.1,2,    118.2,2,    32.08,2,     0.00,2,     2.18,2,     -999,9,     -999,9,     -999,9,   2263.4,6,  2364.52,2,   7.5991,2,    24.93,     40.1,2,     -999,9,   0.9693,2,     -999,9,     -999,9,     -999,     -999,9,     -999,9,     -999,1,     -999,9,    0.061,1,    4.647,1,    0.135,1,     -999,9,     -999,9,20180508,0800, -66.7993, -78.4851,     -999,9,     -999,9,-999          ,9,     -999,9,     -999,9,     -999,     -999,9,     -999,     -999,9,     -999,9,     -999,9,     -999,9,     -999,9,     -999,9,     -999,9,     -999,9,     -999,9,     -999,9,     -999,9,     -999,9,     -999,9,     -999,9
320620180309  ,S04P       ,118     ,  1,8          ,8          ,2,20180508,0714, -66.7992, -78.4812,     3942,   2285.0,0.8650090115612393271,34.711366247045305,2,  34.7117,2,203.50635676173098,2, 204.2995,2,    204.0,2,    122.0,2,    32.30,2,     0.00,2,     2.21,2,    0.138,2,    0.080,2,   0.0900,2,   2263.7,2,  2365.19,2,   7.5978,2,    24.95,     38.9,2,     -999,9,   0.8653,2,     -999,9,     -999,9,     -999,     -999,9,     -999,9,     -999,1,     -999,9,    0.061,1,    4.647,1,    0.129,1,  19.8600,2,     -999,9,20180508,0755, -66.7992, -78.4844,     -999,9,     -999,9,-999          ,9,     -999,9,     -999,9,     -999,     -999,9,     -999,     -999,9,     -999,9,     -999,9,     -999,9,     -999,9,     -999,9,     -999,9,     -999,9,     -999,9,     -999,9,     -999,9,     -999,9,     -999,9,     -999,9
320620180309  ,S04P       ,118     ,  1,7          ,7          ,2,20180508,0714, -66.7992, -78.4812,     3942,   2540.7,0.7611775494778538764,34.707833518602939,2,  34.7080,2,205.73249863585031,2, 206.3059,2,    206.9,2,    125.2,2,    32.38,2,     0.00,2,     2.21,2,    0.164,2,    0.088,2,   0.0000,2,   2263.9,2,  2365.43,2,   7.5983,2,    24.94,     39.5,2,     -999,9,   0.7616,2,     -999,9,     -999,9,     -999,     -999,9,     -999,9,     -999,1,     -999,9,    0.061,1,    4.647,1,    0.128,1,  19.1000,2,     -999,9,20180508,0749, -66.7992, -78.4844,     -999,9,     -999,9,-999          ,9,     -999,9,     -999,9,     -999,     -999,9,     -999,     -999,9,     -999,9,     -999,9,     -999,9,     -999,9,     -999,9,     -999,9,     -999,9,     -999,9,     -999,9,     -999,9,     -999,9,     -999,9,     -999,9
320620180309  ,S04P       ,118     ,  1,6          ,6          ,2,20180508,0714, -66.7992, -78.4812,     3942,   2795.0,0.6496118896165334888,34.705009285239939,2,  34.7054,2,207.60808956954568,2, 208.4983,2,    209.0,2,    128.5,2,    32.52,2,     0.00,2,     2.21,2,     -999,9,     -999,9,     -999,9,   2266.0,2,  2365.94,2,   7.5974,6,    24.93,     37.8,2,     -999,9,   0.6494,2,     -999,9,     -999,9,     -999,     -999,9,     -999,9,     -999,1,     -999,9,    0.061,1,    4.647,1,    0.129,1,     -999,9,     -999,9,20180508,0743, -66.7991, -78.4835,     -999,9,     -999,9,-999          ,9,     -999,9,     -999,9,     -999,     -999,9,     -999,     -999,9,     -999,9,     -999,9,     -999,9,     -999,9,     -999,9,     -999,9,     -999,9,     -999,9,     -999,9,     -999,9,     -999,9,     -999,9,     -999,9
320620180309  ,S04P       ,118     ,  1,5          ,5          ,2,20180508,0714, -66.7992, -78.4812,     3942,   3051.3,0.5551538859945872595,34.703195385948469,2,  34.7037,2,210.12197028964036,2, 210.3961,2,    210.8,2,    131.6,2,    32.55,2,     0.00,2,     2.21,2,    0.188,2,    0.104,2,   0.1000,2,   2266.0,2,  2367.96,2,   7.5967,2,    24.94,     39.5,2,     -999,9,   0.5557,2,     -999,9,     -999,9,     -999,     -999,9,     -999,9,     -999,1,     -999,9,    0.062,1,    4.647,1,    0.126,1,  18.9200,2,     -999,9,20180508,0738, -66.7991, -78.4825,     -999,9,     -999,9,-999          ,9,     -999,9,     -999,9,     -999,     -999,9,     -999,     -999,9,     -999,9,     -999,9,     -999,9,     -999,9,     -999,9,     -999,9,     -999,9,     -999,9,     -999,9,     -999,9,     -999,9,     -999,9,     -999,9
320620180309  ,S04P       ,118     ,  1,4          ,4          ,2,20180508,0714, -66.7992, -78.4812,     3942,   3308.3,0.4904950903942566498,34.702260126148815,2,  34.7011,2,211.80817087942603,2, 211.7032,2,    212.4,2,    135.3,2,    32.66,2,     0.00,2,     2.24,2,    0.196,2,    0.106,2,   0.0300,2,   2266.3,2,  2367.83,2,   7.5972,2,    24.93,     -999,5,     -999,9,   0.4908,2,     -999,9,     -999,9,     -999,     -999,9,     -999,9,     -999,1,     -999,9,    0.060,1,    4.646,1,    0.127,1,  18.9900,2,     -999,9,20180508,0732, -66.7991, -78.4820,     -999,9,     -999,9,-999          ,9,     -999,9,     -999,9,     -999,     -999,9,     -999,     -999,9,     -999,9,     -999,9,     -999,9,     -999,9,     -999,9,     -999,9,     -999,9,     -999,9,     -999,9,     -999,9,     -999,9,     -999,9,     -999,9
320620180309  ,S04P       ,118     ,  1,3          ,3          ,2,20180508,0714, -66.7992, -78.4812,     3942,   3616.9,0.4517136708844383119,34.701618790695314,2,  34.7015,2,213.00875195405186,2, 212.6985,2,    212.6,2,    138.7,2,    32.68,2,     0.00,2,     2.22,2,    0.213,2,    0.116,2,   0.1100,2,   2267.5,2,  2368.40,2,   7.5964,2,    24.92,     42.3,2,     -999,9,   0.4520,2,     -999,9,     -999,9,     -999,     -999,9,     -999,9,     -999,1,     -999,9,    0.061,1,    4.644,1,    0.131,1,  19.3800,2,     -999,9,20180508,0725, -66.7992, -78.4813,     -999,9,     -999,9,-999          ,9,     -999,9,     -999,9,     -999,     -999,9,     -999,     -999,9,     -999,9,     -999,9,     -999,9,     -999,9,     -999,9,     -999,9,     -999,9,     -999,9,     -999,9,     -999,9,     -999,9,     -999,9,     -999,9
320620180309  ,S04P       ,118     ,  1,2          ,2          ,2,20180508,0714, -66.7992, -78.4812,     3942,   3822.6,0.4435972433976930751,34.701056280256367,2,  34.7019,2,213.79069816313893,2, 212.9994,2,    213.4,2,    140.6,2,    32.79,2,     0.00,2,     2.23,2,    0.237,2,    0.130,2,   0.0400,2,   2266.6,2,  2368.06,2,   7.5961,2,    24.92,     -999,5,     -999,9,   0.4440,2,     -999,9,     -999,9,     -999,     -999,9,     -999,9,     -999,1,     -999,9,    0.061,1,    4.641,1,    0.137,1,  18.5400,2,     -999,9,20180508,0720, -66.7992, -78.4812,     -999,9,     -999,9,-999          ,9,     -999,9,     -999,9,     -999,     -999,9,     -999,     -999,9,     -999,9,     -999,9,     -999,9,     -999,9,     -999,9,     -999,9,     -999,9,     -999,9,     -999,9,     -999,9,     -999,9,     -999,9,     -999,9
320620180309  ,S04P       ,118     ,  1,1          ,1          ,2,20180508,0714, -66.7992, -78.4812,     3942,   4011.1,0.4122509908723338556,34.700330961464147,3,  34.7035,2,213.20812514054975,2, 213.6034,2,    213.3,2,    146.4,2,    32.90,2,     0.00,2,     2.25,2,    0.282,2,    0.153,2,   0.0400,2,   2267.4,6,  2369.04,2,   7.5926,2,    24.93,     41.1,2,     -999,9,   0.4124,2,     -999,9,     -999,9,     -999,     -999,9,     -999,9,     -999,1,     -999,9,    0.061,1,    4.633,1,    0.147,1,  18.7800,2,     -999,9,20180508,0714, -66.7992, -78.4812,     -999,9,     -999,9,-999          ,9,     -999,9,     -999,9,     -999,     -999,9,     -999,     -999,9,     -999,9,     -999,9,     -999,9,     -999,9,     -999,9,     -999,9,     -999,9,     -999,9,     -999,9,     -999,9,     -999,9,     -999,9,     -999,9