BOTTLE,20240515CCHHYDRO
EXPOCODE,SECT_ID,STNNBR,CASTNO,SAMPNO,BTLNBR,BTLNBR_FLAG_W,DATE,TIME,LATITUDE,LONGITUDE,DEPTH,CTDPRS,CTDTMP,CTDSAL,CTDSAL_FLAG_W,SALNTY,SALNTY_FLAG_W,CTDOXY,CTDOXY_FLAG_W,CTDOPTOXY,CTDOPTOXY_FLAG_W,OXYGEN,OXYGEN_FLAG_W,SILCAT,SILCAT_FLAG_W,NITRAT,NITRAT_FLAG_W,NITRIT,NITRIT_FLAG_W,PHSPHT,PHSPHT_FLAG_W,CFC-11,CFC-11_FLAG_W,CFC-12,CFC-12_FLAG_W,SF6,SF6_FLAG_W,TCARBN,TCARBN_FLAG_W,ALKALI,ALKALI_FLAG_W,PH_TOT,PH_TOT_FLAG_W,PH_TMP,DOC,DOC_FLAG_W,HELIUM,HELIUM_FLAG_W,REFTMP,REFTMP_FLAG_W,DELC13,DELC13_FLAG_W,DELC14,DELC14_FLAG_W,C14ERR,POC,POC_FLAG_W,TDN,TDN_FLAG_W,TON,TON_FLAG_W,NEON,NEON_FLAG_W,CTDFLUOR,CTDFLUOR_FLAG_W,CTDXMISS,CTDXMISS_FLAG_W,CTDBETA700,CTDBETA700_FLAG_W,N2O,N2O_FLAG_W,ARGON,ARGON_FLAG_W,BTL_DATE,BTL_TIME,BTL_LAT,BTL_LON,KRYPTON,KRYPTON_FLAG_W,XENON,XENON_FLAG_W,HPLC,HPLC_FLAG_W,HE3_HE4_RATIO,HE3_HE4_RATIO_FLAG_W,Nd_143_144_D_EPSILON_BOTTLE,Nd_143_144_D_EPSILON_BOTTLE_FLAG_W,Nd_143_144_D_EPSILON_BOTTLE_ERROR,Nd_143_144_D_RATIO_BOTTLE,Nd_143_144_D_RATIO_BOTTLE_FLAG_W,Nd_143_144_D_RATIO_BOTTLE_ERROR,Nd_D_CONC,Nd_D_CONC_FLAG_W,La_D_CONC_BOTTLE,La_D_CONC_BOTTLE_FLAG_W,Ce_D_CONC_BOTTLE,Ce_D_CONC_BOTTLE_FLAG_W,Pr_D_CONC_BOTTLE,Pr_D_CONC_BOTTLE_FLAG_W,Sm_D_CONC_BOTTLE,Sm_D_CONC_BOTTLE_FLAG_W,Eu_D_CONC_BOTTLE,Eu_D_CONC_BOTTLE_FLAG_W,Gd_D_CONC_BOTTLE,Gd_D_CONC_BOTTLE_FLAG_W,Tb_D_CONC_BOTTLE,Tb_D_CONC_BOTTLE_FLAG_W,Dy_D_CONC_BOTTLE,Dy_D_CONC_BOTTLE_FLAG_W,Ho_D_CONC_BOTTLE,Ho_D_CONC_BOTTLE_FLAG_W,Er_D_CONC_BOTTLE,Er_D_CONC_BOTTLE_FLAG_W,Tm_D_CONC_BOTTLE,Tm_D_CONC_BOTTLE_FLAG_W,Yb_D_CONC_BOTTLE,Yb_D_CONC_BOTTLE_FLAG_W,Lu_D_CONC_BOTTLE,Lu_D_CONC_BOTTLE_FLAG_W
,,,,,,,,,,,METERS,DBAR,ITS-90,PSS-78,,PSS-78,,UMOL/KG,,UMOL/KG,,UMOL/KG,,UMOL/KG,,UMOL/KG,,UMOL/KG,,UMOL/KG,,PMOL/KG,,PMOL/KG,,FMOL/KG,,UMOL/KG,,UMOL/KG,,,,DEG C,UMOL/KG,,NMOL/L,,DEG C,,/MILLE,,/MILLE,,/MILLE,UG/KG,,UMOL/KG,,UMOL/KG,,NMOL/L,,VOLTS,,VOLTS,,VOLTS,,NMOL/KG,,UMOL/L,,,,,,NMOL/L,,NMOL/L,,,,,,10000,,10000,,,,PMOL/KG,,PMOL/L,,PMOL/L,,PMOL/L,,PMOL/L,,PMOL/L,,PMOL/L,,PMOL/L,,PMOL/L,,PMOL/L,,PMOL/L,,PMOL/L,,PMOL/L,,PMOL/L,
320620180309  ,P15        ,11      ,  1,15         ,15         ,2,20180322,0110, -70.4982,-169.9975,     4032,   1354.2,0.8645249999999999879,34.713860446115703,2,  34.7133,2,198.60555388273633,2, 199.8991,2,    200.1,2,    120.0,2,    32.20,2,     0.00,2,     2.20,2,     -999,9,     -999,9,     -999,9,   2260.9,2,  2362.60,2,   7.5898,2,    24.94,     -999,9,     -999,9,   0.8655,2,     -999,9,     -999,9,     -999,     -999,9,     -999,9,     -999,9,     -999,9,    0.061,1,    4.685,1,    0.128,1,     -999,9,     -999,9,20180322,0227, -70.4983,-169.9975,     -999,9,     -999,9,-999          ,9,     -999,9,     -999,9,     -999,     -999,9,     -999,     -999,9,     -999,9,     -999,9,     -999,9,     -999,9,     -999,9,     -999,9,     -999,9,     -999,9,     -999,9,     -999,9,     -999,9,     -999,9,     -999,9
320620180309  ,P15        ,11      ,  1,14         ,14         ,2,20180322,0110, -70.4982,-169.9975,     4032,   1453.0,0.8158166666666666345,34.711681323210570,2,  34.7117,2,199.76315018525491,2, 201.9010,2,    201.3,2,    122.0,2,    32.21,2,     0.00,2,     2.22,2,     -999,9,     -999,9,     -999,9,     -999,9,     -999,9,     -999,9,     -999,     -999,9,     -999,9,   0.8151,2,     -999,9,     -999,9,     -999,     -999,9,     -999,9,     -999,9,     -999,9,    0.061,1,    4.685,1,    0.127,1,     -999,9,     -999,9,20180322,0224, -70.4983,-169.9975,     -999,9,     -999,9,-999          ,9,     -999,9,     -999,9,     -999,     -999,9,     -999,     -999,9,     -999,9,     -999,9,     -999,9,     -999,9,     -999,9,     -999,9,     -999,9,     -999,9,     -999,9,     -999,9,     -999,9,     -999,9,     -999,9
320620180309  ,P15        ,11      ,  1,13         ,13         ,2,20180322,0110, -70.4982,-169.9975,     4032,   1555.1,0.7735694444444443096,34.709860520949270,2,  34.7100,2,201.01087057621825,2, 202.3964,2,    202.2,2,    123.3,2,    32.22,2,     0.00,2,     2.20,2,    0.113,2,    0.054,2,   0.1900,2,   2263.6,2,  2362.86,2,   7.5926,2,    24.94,     -999,9,     -999,9,   0.7730,2,     -999,9,     -999,9,     -999,     -999,9,     -999,9,     -999,9,     -999,9,    0.061,1,    4.685,1,    0.132,1,  20.3300,2,     -999,9,20180322,0221, -70.4983,-169.9976,     -999,9,     -999,9,-999          ,9,     -999,9,     -999,9,     -999,     -999,9,     -999,     -999,9,     -999,9,     -999,9,     -999,9,     -999,9,     -999,9,     -999,9,     -999,9,     -999,9,     -999,9,     -999,9,     -999,9,     -999,9,     -999,9
320620180309  ,P15        ,11      ,  1,12         ,12         ,2,20180322,0110, -70.4982,-169.9975,     4032,   1659.6,0.7304194444444443990,34.708385772799204,2,  34.7076,2,202.09628360013400,2, 205.0991,2,    203.6,2,    125.1,2,    32.23,2,     0.00,2,     2.19,2,     -999,9,     -999,9,     -999,9,     -999,9,     -999,9,     -999,9,     -999,     -999,9,     -999,9,   0.7297,2,     -999,9,     -999,9,     -999,     -999,9,     -999,9,     -999,9,     -999,9,    0.061,1,    4.685,1,    0.127,1,     -999,9,     -999,9,20180322,0217, -70.4983,-169.9976,     -999,9,     -999,9,-999          ,9,     -999,9,    -8.74,4,     1.96, 0.512190,4, 0.000101,    23.04,4,     -999,1,     -999,1,     -999,1,     -999,1,     -999,1,     -999,1,     -999,1,     -999,1,     -999,1,     -999,1,     -999,1,     -999,1,     -999,1
320620180309  ,P15        ,11      ,  1,11         ,11         ,2,20180322,0110, -70.4982,-169.9975,     4032,   1757.7,0.6980694444444445201,34.707022777719324,2,  34.7078,2,203.13639589426606,2, 205.3047,2,    204.3,2,    125.6,2,    32.24,2,     0.00,2,     2.19,2,     -999,9,     -999,9,     -999,9,   2262.6,2,  2363.09,2,   7.5932,6,    24.95,     -999,9,     -999,9,   0.6975,2,     -999,9,     -999,9,     -999,     -999,9,     -999,9,     -999,9,     -999,9,    0.060,1,    4.686,1,    0.127,1,     -999,9,     -999,9,20180322,0214, -70.4983,-169.9975,     -999,9,     -999,9,-999          ,9,     -999,9,     -999,9,     -999,     -999,9,     -999,     -999,9,     -999,9,     -999,9,     -999,9,     -999,9,     -999,9,     -999,9,     -999,9,     -999,9,     -999,9,     -999,9,     -999,9,     -999,9,     -999,9
320620180309  ,P15        ,11      ,  1,10         ,10         ,2,20180322,0110, -70.4982,-169.9975,     4032,   1893.8,0.6521000000000001240,34.705668305292264,2,  34.7058,2,204.66004183693923,2, 207.8967,2,    205.4,2,    126.8,2,    32.26,2,     0.00,2,     2.18,2,    0.138,2,    0.079,2,   0.0400,2,     -999,9,     -999,9,     -999,9,     -999,     -999,9,     -999,9,   0.6516,2,     -999,9,     -999,9,     -999,     -999,9,     -999,9,     -999,9,     -999,9,    0.062,1,    4.686,1,    0.127,1,  20.4200,2,     -999,9,20180322,0210, -70.4983,-169.9975,     -999,9,     -999,9,-999          ,9,     -999,9,     -999,9,     -999,     -999,9,     -999,     -999,9,     -999,9,     -999,9,     -999,9,     -999,9,     -999,9,     -999,9,     -999,9,     -999,9,     -999,9,     -999,9,     -999,9,     -999,9,     -999,9
320620180309  ,P15        ,11      ,  1,9          ,9          ,2,20180322,0110, -70.4982,-169.9975,     4032,   2116.5,0.5703222222222220639,34.703736950047393,2,  34.7035,2,207.03784595412986,2, 208.5995,2,    207.1,2,    128.4,2,    32.30,2,     0.00,2,     2.19,2,     -999,9,     -999,9,     -999,9,   2262.9,2,  2362.88,2,   7.5914,2,    24.93,     -999,9,     -999,9,   0.5699,2,     -999,9,     -999,9,     -999,     -999,9,     -999,9,     -999,9,     -999,9,    0.061,1,    4.685,1,    0.127,1,     -999,9,     -999,9,20180322,0204, -70.4984,-169.9975,     -999,9,     -999,9,-999          ,9,     -999,9,     -999,9,     -999,     -999,9,     -999,     -999,9,     -999,9,     -999,9,     -999,9,     -999,9,     -999,9,     -999,9,     -999,9,     -999,9,     -999,9,     -999,9,     -999,9,     -999,9,     -999,9
320620180309  ,P15        ,11      ,  1,8          ,8          ,2,20180322,0110, -70.4982,-169.9975,     4032,   2370.5,0.4867472222222221090,34.702238174459929,2,  34.7025,2,209.88358825833782,2, 212.3018,2,    209.3,2,    130.3,2,    32.36,2,     0.00,2,     2.21,2,     -999,9,     -999,9,     -999,9,     -999,9,     -999,9,     -999,9,     -999,     -999,9,     -999,9,   0.4863,2,     -999,9,     -999,9,     -999,     -999,9,     -999,9,     -999,9,     -999,9,    0.061,1,    4.686,1,    0.125,1,     -999,9,     -999,9,20180322,0159, -70.4984,-169.9975,     -999,9,     -999,9,-999          ,9,     -999,9,     -999,9,     -999,     -999,9,     -999,     -999,9,     -999,9,     -999,9,     -999,9,     -999,9,     -999,9,     -999,9,     -999,9,     -999,9,     -999,9,     -999,9,     -999,9,     -999,9,     -999,9
320620180309  ,P15        ,11      ,  1,7          ,7          ,2,20180322,0110, -70.4982,-169.9975,     4032,   2627.0,0.4125249999999999195,34.701296870219316,2,  34.7009,2,212.70539629567412,2, 219.1974,3,    211.5,2,    132.1,2,    32.45,2,     0.00,2,     2.23,2,    0.183,2,    0.099,2,   0.1000,2,   2264.4,2,  2364.63,2,   7.5912,2,    24.94,     -999,9,     -999,9,   0.4124,2,     -999,9,     -999,9,     -999,     -999,9,     -999,9,     -999,9,     -999,9,    0.062,1,    4.685,1,    0.126,1,  19.8900,2,     -999,9,20180322,0153, -70.4984,-169.9975,     -999,9,     -999,9,-999          ,9,     -999,9,     -999,9,     -999,     -999,9,     -999,     -999,9,     -999,9,     -999,9,     -999,9,     -999,9,     -999,9,     -999,9,     -999,9,     -999,9,     -999,9,     -999,9,     -999,9,     -999,9,     -999,9
320620180309  ,P15        ,11      ,  1,6          ,6          ,2,20180322,0110, -70.4982,-169.9975,     4032,   2881.2,0.3496277777777777596,34.698955435572373,2,  34.6998,2,215.62037698979344,2, 221.5981,3,    213.5,2,    132.1,2,    32.42,2,     0.00,2,     2.23,2,     -999,9,     -999,9,     -999,9,     -999,9,     -999,9,     -999,9,     -999,     -999,9,     -999,9,   0.3488,2,     -999,9,     -999,9,     -999,     -999,9,     -999,9,     -999,9,     -999,9,    0.061,1,    4.685,1,    0.125,1,     -999,9,     -999,9,20180322,0147, -70.4984,-169.9975,     -999,9,     -999,9,-999          ,9,     -999,9,    -7.57,2,     0.23, 0.512250,2, 0.000007,    25.72,2,     -999,1,     -999,1,     -999,1,     -999,1,     -999,1,     -999,1,     -999,1,     -999,1,     -999,1,     -999,1,     -999,1,     -999,1,     -999,1
320620180309  ,P15        ,11      ,  1,5          ,5          ,2,20180322,0110, -70.4982,-169.9975,     4032,   3138.0,0.2908222222222222042,34.682996214662559,3,  34.6962,2,219.15167221683262,3, 212.3997,2,    215.9,2,    133.1,2,    32.46,2,     0.00,2,     2.21,2,     -999,9,     -999,9,     -999,9,   2260.6,3,  2364.35,2,   7.5922,2,    24.94,     -999,9,     -999,9,   0.2914,2,     -999,9,     -999,9,     -999,     -999,9,     -999,9,     -999,9,     -999,9,    0.061,1,    4.685,1,    0.126,1,     -999,9,     -999,9,20180322,0141, -70.4983,-169.9975,     -999,9,     -999,9,-999          ,9,     -999,9,     -999,9,     -999,     -999,9,     -999,     -999,9,     -999,9,     -999,9,     -999,9,     -999,9,     -999,9,     -999,9,     -999,9,     -999,9,     -999,9,     -999,9,     -999,9,     -999,9,     -999,9
320620180309  ,P15        ,11      ,  1,4          ,4          ,2,20180322,0110, -70.4982,-169.9975,     4032,   3396.5,0.2229416666666666214,34.681108342021382,3,  34.6892,3,222.09510275889210,3, 213.4965,3,    219.4,2,    127.6,2,    32.37,2,     0.00,2,     2.24,2,    0.784,2,    0.421,2,   0.3100,2,   2263.8,2,  2363.94,2,   7.5906,2,    24.94,     -999,9,     -999,9,   0.2261,2,     -999,9,     -999,9,     -999,     -999,9,     -999,9,     -999,9,     -999,9,    0.061,1,    4.685,1,    0.125,1,  19.6800,2,     -999,9,20180322,0135, -70.4982,-169.9975,     -999,9,     -999,9,-999          ,9,     -999,9,     -999,9,     -999,     -999,9,     -999,     -999,9,     -999,9,     -999,9,     -999,9,     -999,9,     -999,9,     -999,9,     -999,9,     -999,9,     -999,9,     -999,9,     -999,9,     -999,9,     -999,9
320620180309  ,P15        ,11      ,  1,3          ,3          ,2,20180322,0110, -70.4982,-169.9975,     4032,   3652.9,0.1991527777777777619,34.682433246221940,3,  34.6846,3,225.23369817275577,3, 218.4998,2,    221.7,2,    123.8,2,    32.31,2,     0.00,2,     2.23,2,    0.999,2,    0.530,2,   0.6200,2,   2261.0,2,  2362.78,2,   7.5907,2,    24.94,     -999,9,     -999,9,   0.1994,2,     -999,9,     -999,9,     -999,     -999,9,     -999,9,     -999,9,     -999,9,    0.060,1,    4.684,1,    0.126,1,  19.8100,2,     -999,9,20180322,0128, -70.4983,-169.9975,     -999,9,     -999,9,-999          ,9,     -999,9,     -999,9,     -999,     -999,9,     -999,     -999,9,     -999,9,     -999,9,     -999,9,     -999,9,     -999,9,     -999,9,     -999,9,     -999,9,     -999,9,     -999,9,     -999,9,     -999,9,     -999,9
320620180309  ,P15        ,11      ,  1,2          ,2          ,2,20180322,0110, -70.4982,-169.9975,     4032,   3876.2,0.2066333333333333355,34.682561060484275,3,  34.6884,2,223.46269162167991,2, 220.0961,2,    221.3,2,    125.4,2,    32.38,2,     0.00,2,     2.25,2,    0.936,2,    0.493,2,   0.3300,2,   2265.7,2,  2362.74,2,   7.5855,6,    24.94,     -999,9,     -999,9,   0.2070,2,     -999,9,     -999,9,     -999,     -999,9,     -999,9,     -999,9,     -999,9,    0.062,1,    4.683,1,    0.127,1,  19.8900,2,     -999,9,20180322,0122, -70.4982,-169.9975,     -999,9,     -999,9,-999          ,9,     -999,9,     -999,9,     -999,     -999,9,     -999,     -999,9,     -999,9,     -999,9,     -999,9,     -999,9,     -999,9,     -999,9,     -999,9,     -999,9,     -999,9,     -999,9,     -999,9,     -999,9,     -999,9
320620180309  ,P15        ,11      ,  1,1          ,1          ,2,20180322,0110, -70.4982,-169.9975,     4032,   4102.6,0.1321111111111110958,34.693714404979787,3,  34.6803,2,223.74780832632749,2, 224.5021,2,    225.3,2,    119.2,2,    32.24,2,     0.00,2,     2.24,2,    1.319,2,    0.706,2,   0.2600,2,   2260.8,6,  2361.41,2,   7.5874,2,    24.94,     -999,9,     -999,9,   0.1326,2,     -999,9,     -999,9,     -999,     -999,9,     -999,9,     -999,9,     -999,9,    0.061,1,    4.674,1,    0.141,1,  20.0000,2,     -999,9,20180322,0110, -70.4982,-169.9975,     -999,9,     -999,9,-999          ,9,     -999,9,     -999,9,     -999,     -999,9,     -999,     -999,9,     -999,9,     -999,9,     -999,9,     -999,9,     -999,9,     -999,9,     -999,9,     -999,9,     -999,9,     -999,9,     -999,9,     -999,9,     -999,9