BOTTLE,20240515CCHHYDRO
EXPOCODE,SECT_ID,STNNBR,CASTNO,SAMPNO,BTLNBR,BTLNBR_FLAG_W,DATE,TIME,LATITUDE,LONGITUDE,DEPTH,CTDPRS,CTDTMP,CTDSAL,CTDSAL_FLAG_W,SALNTY,SALNTY_FLAG_W,CTDOXY,CTDOXY_FLAG_W,CTDOPTOXY,CTDOPTOXY_FLAG_W,OXYGEN,OXYGEN_FLAG_W,SILCAT,SILCAT_FLAG_W,NITRAT,NITRAT_FLAG_W,NITRIT,NITRIT_FLAG_W,PHSPHT,PHSPHT_FLAG_W,CFC-11,CFC-11_FLAG_W,CFC-12,CFC-12_FLAG_W,SF6,SF6_FLAG_W,TCARBN,TCARBN_FLAG_W,ALKALI,ALKALI_FLAG_W,PH_TOT,PH_TOT_FLAG_W,PH_TMP,DOC,DOC_FLAG_W,HELIUM,HELIUM_FLAG_W,REFTMP,REFTMP_FLAG_W,DELC13,DELC13_FLAG_W,DELC14,DELC14_FLAG_W,C14ERR,POC,POC_FLAG_W,TDN,TDN_FLAG_W,TON,TON_FLAG_W,NEON,NEON_FLAG_W,CTDFLUOR,CTDFLUOR_FLAG_W,CTDXMISS,CTDXMISS_FLAG_W,CTDBETA700,CTDBETA700_FLAG_W,N2O,N2O_FLAG_W,ARGON,ARGON_FLAG_W,BTL_DATE,BTL_TIME,BTL_LAT,BTL_LON,KRYPTON,KRYPTON_FLAG_W,XENON,XENON_FLAG_W,HPLC,HPLC_FLAG_W,HE3_HE4_RATIO,HE3_HE4_RATIO_FLAG_W,Nd_143_144_D_EPSILON_BOTTLE,Nd_143_144_D_EPSILON_BOTTLE_FLAG_W,Nd_143_144_D_EPSILON_BOTTLE_ERROR,Nd_143_144_D_RATIO_BOTTLE,Nd_143_144_D_RATIO_BOTTLE_FLAG_W,Nd_143_144_D_RATIO_BOTTLE_ERROR,Nd_D_CONC,Nd_D_CONC_FLAG_W,La_D_CONC_BOTTLE,La_D_CONC_BOTTLE_FLAG_W,Ce_D_CONC_BOTTLE,Ce_D_CONC_BOTTLE_FLAG_W,Pr_D_CONC_BOTTLE,Pr_D_CONC_BOTTLE_FLAG_W,Sm_D_CONC_BOTTLE,Sm_D_CONC_BOTTLE_FLAG_W,Eu_D_CONC_BOTTLE,Eu_D_CONC_BOTTLE_FLAG_W,Gd_D_CONC_BOTTLE,Gd_D_CONC_BOTTLE_FLAG_W,Tb_D_CONC_BOTTLE,Tb_D_CONC_BOTTLE_FLAG_W,Dy_D_CONC_BOTTLE,Dy_D_CONC_BOTTLE_FLAG_W,Ho_D_CONC_BOTTLE,Ho_D_CONC_BOTTLE_FLAG_W,Er_D_CONC_BOTTLE,Er_D_CONC_BOTTLE_FLAG_W,Tm_D_CONC_BOTTLE,Tm_D_CONC_BOTTLE_FLAG_W,Yb_D_CONC_BOTTLE,Yb_D_CONC_BOTTLE_FLAG_W,Lu_D_CONC_BOTTLE,Lu_D_CONC_BOTTLE_FLAG_W
,,,,,,,,,,,METERS,DBAR,ITS-90,PSS-78,,PSS-78,,UMOL/KG,,UMOL/KG,,UMOL/KG,,UMOL/KG,,UMOL/KG,,UMOL/KG,,UMOL/KG,,PMOL/KG,,PMOL/KG,,FMOL/KG,,UMOL/KG,,UMOL/KG,,,,DEG C,UMOL/KG,,NMOL/L,,DEG C,,/MILLE,,/MILLE,,/MILLE,UG/KG,,UMOL/KG,,UMOL/KG,,NMOL/L,,VOLTS,,VOLTS,,VOLTS,,NMOL/KG,,UMOL/L,,,,,,NMOL/L,,NMOL/L,,,,,,10000,,10000,,,,PMOL/KG,,PMOL/L,,PMOL/L,,PMOL/L,,PMOL/L,,PMOL/L,,PMOL/L,,PMOL/L,,PMOL/L,,PMOL/L,,PMOL/L,,PMOL/L,,PMOL/L,,PMOL/L,
320620180309  ,S04P       ,74      ,  1,36         ,36         ,2,20180419,1445, -67.0002,-140.7988,     4168,     11.1,-1.4253583333333335048,33.775941033523736,2,  33.7704,2,353.04690505792564,3, 353.0000,2,    353.1,2,     36.3,2,    24.76,2,     0.28,2,     1.73,2,    5.822,6,    3.255,6,   4.0300,6,   2173.6,6,  2288.00,2,   7.6580,2,    24.92,     42.3,2,     -999,9,  -1.4244,2,     -999,9,     -999,9,     -999,     -999,9,    26.80,2,     -999,1,     -999,9,    0.229,1,    4.588,1,    0.203,1,  16.5000,6,     -999,9,20180419,1658, -67.0001,-140.7989,     -999,9,     -999,9,-999          ,9,     -999,9,     -999,9,     -999,     -999,9,     -999,     -999,9,     -999,9,     -999,9,     -999,9,     -999,9,     -999,9,     -999,9,     -999,9,     -999,9,     -999,9,     -999,9,     -999,9,     -999,9,     -999,9
320620180309  ,S04P       ,74      ,  1,35         ,35         ,2,20180419,1445, -67.0002,-140.7988,     4168,     34.8,-1.4321861111111111597,33.776264231815091,2,  33.7716,2,352.91486443597444,3, 352.9984,2,    353.2,2,     36.4,2,    24.70,2,     0.28,2,     1.71,2,    5.772,2,    3.231,2,   3.9000,2,   2173.5,2,  2287.87,2,   7.6586,2,    24.92,     46.5,2,     -999,9,  -1.4328,2,     -999,9,     -999,9,     -999,     -999,9,    27.00,2,     -999,1,     -999,9,    0.225,1,    4.591,1,    0.196,1,  16.6600,2,     -999,9,20180419,1657, -67.0001,-140.7990,     -999,9,     -999,9,-999          ,9,     -999,9,     -999,9,     -999,     -999,9,     -999,     -999,9,     -999,9,     -999,9,     -999,9,     -999,9,     -999,9,     -999,9,     -999,9,     -999,9,     -999,9,     -999,9,     -999,9,     -999,9,     -999,9
320620180309  ,S04P       ,74      ,  1,34         ,34         ,2,20180419,1445, -67.0002,-140.7988,     4168,     60.2,-1.4295138888888887507,33.777351268856279,2,  33.7733,2,352.77750505733991,3, 353.0010,2,    352.7,2,     36.6,2,    24.73,2,     0.28,2,     1.72,2,    5.818,2,    3.263,2,   4.1000,2,   2175.5,2,  2288.44,2,   7.6575,2,    24.92,     45.2,2,     -999,9,  -1.4300,2,     -999,9,     -999,9,     -999,     -999,9,    27.20,2,     -999,1,     -999,9,    0.230,1,    4.590,1,    0.207,1,  16.5300,2,     -999,9,20180419,1655, -67.0000,-140.7989,     -999,9,     -999,9,-999          ,9,     -999,9,     -999,9,     -999,     -999,9,     -999,     -999,9,     -999,9,     -999,9,     -999,9,     -999,9,     -999,9,     -999,9,     -999,9,     -999,9,     -999,9,     -999,9,     -999,9,     -999,9,     -999,9
320620180309  ,S04P       ,74      ,  1,33         ,33         ,2,20180419,1445, -67.0002,-140.7988,     4168,     85.7,-1.3981750000000003897,33.796201165829601,2,  33.8066,2,347.11827312535689,3, 349.4957,3,    346.9,2,     37.9,2,    25.12,2,     0.27,2,     1.76,2,     -999,9,     -999,9,     -999,9,     -999,9,     -999,9,     -999,9,     -999,     39.9,2,     -999,9,  -1.3990,2,     -999,9,     -999,9,     -999,     -999,9,    28.20,2,     -999,1,     -999,9,    0.217,1,    4.592,1,    0.204,1,     -999,9,     -999,9,20180419,1653, -67.0000,-140.7989,     -999,9,     -999,9,-999          ,9,     -999,9,     -999,9,     -999,     -999,9,     -999,     -999,9,     -999,9,     -999,9,     -999,9,     -999,9,     -999,9,     -999,9,     -999,9,     -999,9,     -999,9,     -999,9,     -999,9,     -999,9,     -999,9
320620180309  ,S04P       ,74      ,  1,32         ,32         ,2,20180419,1445, -67.0002,-140.7988,     4168,    110.5,-1.2832499999999997797,34.048739620713448,2,  34.0477,2,324.95614745903038,3, 323.1010,2,    322.5,2,     50.4,2,    27.45,2,     0.22,2,     1.94,2,    5.125,2,    2.864,2,   3.4100,2,   2202.0,2,  2305.38,2,   7.6256,2,    24.91,     40.5,2,     -999,9,  -1.2806,2,     -999,9,     -999,9,     -999,     -999,9,    31.20,2,     -999,1,     -999,9,    0.129,1,    4.622,1,    0.196,1,  18.2900,2,     -999,9,20180419,1651, -66.9999,-140.7989,     -999,9,     -999,9,-999          ,9,     -999,9,     -999,9,     -999,     -999,9,     -999,     -999,9,     -999,9,     -999,9,     -999,9,     -999,9,     -999,9,     -999,9,     -999,9,     -999,9,     -999,9,     -999,9,     -999,9,     -999,9,     -999,9
320620180309  ,S04P       ,74      ,  1,31         ,31         ,2,20180419,1445, -67.0002,-140.7988,     4168,    134.9,-1.0400583333333335290,34.182151325891574,2,  34.1798,2,305.31792599184507,3, 301.1999,3,    305.0,2,     58.4,2,    28.89,2,     0.19,2,     2.04,2,    4.632,2,    2.583,2,   3.0300,2,   2215.2,2,  2311.23,2,   7.6075,2,    24.91,     45.7,3,     -999,9,  -1.0364,2,     -999,9,     -999,9,     -999,     -999,9,    31.40,2,     -999,1,     -999,9,    0.086,1,    4.642,1,    0.153,1,  19.0500,2,     -999,9,20180419,1649, -66.9998,-140.7989,     -999,9,     -999,9,-999          ,9,     -999,9,     -999,9,     -999,     -999,9,     -999,     -999,9,     -999,9,     -999,9,     -999,9,     -999,9,     -999,9,     -999,9,     -999,9,     -999,9,     -999,9,     -999,9,     -999,9,     -999,9,     -999,9
320620180309  ,S04P       ,74      ,  1,30         ,30         ,2,20180419,1445, -67.0002,-140.7988,     4168,    165.7,0.2643527777777778254,34.429107113560327,3,  34.4036,2,245.45791951324205,3, 248.6014,2,    248.5,2,     72.2,2,    32.03,2,     0.05,2,     2.21,2,     -999,9,     -999,9,     -999,9,     -999,9,     -999,9,     -999,9,     -999,     48.5,3,     -999,9,   0.1915,2,     -999,9,     -999,9,     -999,     -999,9,     -999,9,     -999,1,     -999,9,    0.066,1,    4.646,1,    0.146,1,     -999,9,     -999,9,20180419,1647, -66.9998,-140.7989,     -999,9,     -999,9,-999          ,9,     -999,9,     -999,9,     -999,     -999,9,     -999,     -999,9,     -999,9,     -999,9,     -999,9,     -999,9,     -999,9,     -999,9,     -999,9,     -999,9,     -999,9,     -999,9,     -999,9,     -999,9,     -999,9
320620180309  ,S04P       ,74      ,  1,29         ,29         ,2,20180419,1445, -67.0002,-140.7988,     4168,    216.0,1.5588111111111113694,34.662649861081682,2,  34.6601,2,188.62929145436118,3, 192.5970,3,    188.2,2,     85.7,2,    33.12,2,     0.01,2,     2.26,2,    0.792,2,    0.424,2,   0.4500,2,   2256.7,6,  2343.36,2,   7.5634,2,    24.92,     41.1,2,     -999,9,   1.5590,2,     -999,9,     -999,9,     -999,     -999,9,     -999,9,     -999,1,     -999,9,    0.066,1,    4.648,1,    0.148,1,  21.8600,2,     -999,9,20180419,1645, -66.9997,-140.7989,     -999,9,     -999,9,-999          ,9,     -999,9,     -999,9,     -999,     -999,9,     -999,     -999,9,     -999,9,     -999,9,     -999,9,     -999,9,     -999,9,     -999,9,     -999,9,     -999,9,     -999,9,     -999,9,     -999,9,     -999,9,     -999,9
320620180309  ,S04P       ,74      ,  1,28         ,28         ,2,20180419,1445, -67.0002,-140.7988,     4168,    266.8,1.6443444444444443864,34.700424780958535,2,  34.6982,2,186.43426450213855,3, 187.2014,2,    186.2,2,     89.1,2,    32.57,2,     0.00,2,     2.21,2,    0.506,2,    0.281,2,   0.2300,2,   2258.8,2,  2346.39,2,   7.5743,6,    24.92,     41.7,2,     -999,9,   1.6444,2,     -999,9,     -999,9,     -999,     -999,9,     -999,9,     -999,1,     -999,9,    0.064,1,    4.651,1,    0.140,1,  21.3800,2,     -999,9,20180419,1642, -66.9997,-140.7989,     -999,9,     -999,9,-999          ,9,     -999,9,     -999,9,     -999,     -999,9,     -999,     -999,9,     -999,9,     -999,9,     -999,9,     -999,9,     -999,9,     -999,9,     -999,9,     -999,9,     -999,9,     -999,9,     -999,9,     -999,9,     -999,9
320620180309  ,S04P       ,74      ,  1,27         ,27         ,2,20180419,1445, -67.0002,-140.7988,     4168,    318.1,1.6267777777777778780,34.715039607126869,2,  34.7121,2,187.02598932171531,3, 186.3962,2,    187.0,2,     91.7,2,    32.37,2,     0.00,2,     2.18,2,    0.409,2,    0.222,2,   0.2100,2,   2258.5,2,  2349.12,2,   7.5785,2,    24.91,     41.6,2,     -999,9,   1.6272,2,     -999,9,     -999,9,     -999,     -999,9,     -999,9,     -999,1,     -999,9,    0.063,1,    4.653,1,    0.138,1,  21.0900,2,     -999,9,20180419,1640, -66.9997,-140.7989,     -999,9,     -999,9,-999          ,9,     -999,9,     -999,9,     -999,     -999,9,     -999,     -999,9,     -999,9,     -999,9,     -999,9,     -999,9,     -999,9,     -999,9,     -999,9,     -999,9,     -999,9,     -999,9,     -999,9,     -999,9,     -999,9
320620180309  ,S04P       ,74      ,  1,26         ,26         ,2,20180419,1445, -67.0002,-140.7988,     4168,    368.7,1.6027277777777775292,34.723340208423103,2,  34.7210,2,187.49613425465429,3, 187.4030,2,    188.2,2,     93.6,2,    32.22,2,     0.00,2,     2.18,2,    0.340,2,    0.178,2,   0.1800,2,   2257.0,2,  2350.81,2,   7.5821,2,    24.91,     41.8,2,     -999,9,   1.6026,2,     -999,9,     -999,9,     -999,     -999,9,     -999,9,     -999,1,     -999,9,    0.063,1,    4.654,1,    0.138,1,  20.9500,2,     -999,9,20180419,1638, -66.9997,-140.7989,     -999,9,     -999,9,-999          ,9,     -999,9,     -999,9,     -999,     -999,9,     -999,     -999,9,     -999,9,     -999,9,     -999,9,     -999,9,     -999,9,     -999,9,     -999,9,     -999,9,     -999,9,     -999,9,     -999,9,     -999,9,     -999,9
320620180309  ,S04P       ,74      ,  1,25         ,25         ,2,20180419,1445, -67.0002,-140.7988,     4168,    418.0,1.5602944444444444283,34.729944173540183,2,  34.7274,2,188.54648913957649,3, 188.3010,2,    188.2,2,     96.2,2,    32.12,2,     0.00,2,     2.17,2,     -999,9,     -999,9,     -999,9,     -999,9,     -999,9,     -999,9,     -999,     -999,9,     -999,9,   1.5597,2,     -999,9,     -999,9,     -999,     -999,9,     -999,9,     -999,9,     -999,9,    0.062,1,    4.653,1,    0.140,1,     -999,9,     -999,9,20180419,1635, -66.9998,-140.7989,     -999,9,     -999,9,-999          ,9,     -999,9,     -999,9,     -999,     -999,9,     -999,     -999,9,     -999,9,     -999,9,     -999,9,     -999,9,     -999,9,     -999,9,     -999,9,     -999,9,     -999,9,     -999,9,     -999,9,     -999,9,     -999,9
320620180309  ,S04P       ,74      ,  1,24         ,24         ,2,20180419,1445, -67.0002,-140.7988,     4168,    468.9,1.5108999999999999098,34.731526328806375,2,  34.7302,2,188.35067303235090,3, 188.6006,2,    188.2,2,     98.0,2,    32.23,2,     0.00,2,     2.18,2,    0.245,2,    0.137,2,   0.1100,2,   2258.9,2,  2353.85,2,   7.5845,2,    24.90,     43.8,2,     -999,9,   1.5136,2,     -999,9,     -999,9,     -999,     -999,9,     -999,9,     -999,1,     -999,9,    0.061,1,    4.656,1,    0.138,1,  20.7800,2,     -999,9,20180419,1633, -66.9999,-140.7989,     -999,9,     -999,9,-999          ,9,     -999,9,     -999,9,     -999,     -999,9,     -999,     -999,9,     -999,9,     -999,9,     -999,9,     -999,9,     -999,9,     -999,9,     -999,9,     -999,9,     -999,9,     -999,9,     -999,9,     -999,9,     -999,9
320620180309  ,S04P       ,74      ,  1,23         ,23         ,2,20180419,1445, -67.0002,-140.7988,     4168,    539.5,1.4363194444444442599,34.732422374559320,2,  34.7312,2,186.88954422575529,3, 188.6007,2,    187.2,2,    101.5,2,    32.52,2,     0.00,2,     2.20,2,     -999,9,     -999,9,     -999,9,     -999,9,     -999,9,     -999,9,     -999,     38.2,2,     -999,9,   1.4360,2,     -999,9,     -999,9,     -999,     -999,9,     -999,9,     -999,1,     -999,9,    0.062,1,    4.657,1,    0.136,1,     -999,9,     -999,9,20180419,1630, -67.0001,-140.7990,     -999,9,     -999,9,-999          ,9,     -999,9,     -999,9,     -999,     -999,9,     -999,     -999,9,     -999,9,     -999,9,     -999,9,     -999,9,     -999,9,     -999,9,     -999,9,     -999,9,     -999,9,     -999,9,     -999,9,     -999,9,     -999,9
320620180309  ,S04P       ,74      ,  1,22         ,37         ,2,20180419,1445, -67.0002,-140.7988,     4168,    642.1,1.3563277777777775768,34.732102973041663,2,  34.7317,2,187.79085990431278,3, 189.7989,2,    188.2,2,    103.8,2,    32.61,2,     0.00,2,     2.20,2,    0.190,2,    0.099,2,   0.0300,2,   2262.9,2,  2357.18,2,   7.5811,2,    24.91,     43.3,2,     -999,9,   1.3556,2,     -999,9,     -999,9,     -999,     -999,9,     -999,9,     -999,1,     -999,9,    0.062,1,    4.657,1,    0.139,1,  20.5600,2,     -999,9,20180419,1625, -67.0002,-140.7990,     -999,9,     -999,9,-999          ,9,     -999,9,     -999,9,     -999,     -999,9,     -999,     -999,9,     -999,9,     -999,9,     -999,9,     -999,9,     -999,9,     -999,9,     -999,9,     -999,9,     -999,9,     -999,9,     -999,9,     -999,9,     -999,9
320620180309  ,S04P       ,74      ,  1,21         ,21         ,2,20180419,1445, -67.0002,-140.7988,     4168,    743.4,1.2856888888888891032,34.730925126208582,2,  34.7298,2,189.49798021331182,3, 189.8995,2,    189.3,2,    106.8,2,    32.63,2,     0.00,2,     2.21,2,    0.168,2,    0.085,2,   0.0800,2,     -999,9,     -999,9,     -999,9,     -999,     44.1,2,     -999,9,   1.2852,2,     -999,9,     -999,9,     -999,     -999,9,     -999,9,     -999,1,     -999,9,    0.062,1,    4.658,1,    0.133,1,  20.4800,2,     -999,9,20180419,1621, -67.0002,-140.7990,     -999,9,     -999,9,-999          ,9,     -999,9,     -999,9,     -999,     -999,9,     -999,     -999,9,     -999,9,     -999,9,     -999,9,     -999,9,     -999,9,     -999,9,     -999,9,     -999,9,     -999,9,     -999,9,     -999,9,     -999,9,     -999,9
320620180309  ,S04P       ,74      ,  1,20         ,20         ,2,20180419,1445, -67.0002,-140.7988,     4168,    844.4,1.2081499999999996131,34.728773387526481,2,  34.7272,2,191.79422792459525,2, 191.9022,2,    191.4,2,    109.6,2,    32.55,2,     0.00,2,     2.20,2,    0.155,2,    0.087,2,   0.0100,2,   2263.8,2,  2359.39,2,   7.5858,2,    24.91,     40.4,2,     -999,9,   1.2073,2,     -999,9,     -999,9,     -999,     -999,9,     -999,9,     -999,1,     -999,9,    0.061,1,    4.659,1,    0.132,1,  20.2300,2,     -999,9,20180419,1618, -67.0000,-140.7989,     -999,9,     -999,9,-999          ,9,     -999,9,     -999,9,     -999,     -999,9,     -999,     -999,9,     -999,9,     -999,9,     -999,9,     -999,9,     -999,9,     -999,9,     -999,9,     -999,9,     -999,9,     -999,9,     -999,9,     -999,9,     -999,9
320620180309  ,S04P       ,74      ,  1,19         ,19         ,2,20180419,1445, -67.0002,-140.7988,     4168,    945.5,1.1259527777777778024,34.725906895905460,2,  34.7237,2,194.19700314619135,2, 193.6996,2,    193.6,2,    112.1,2,    32.57,2,     0.00,2,     2.21,2,     -999,9,     -999,9,     -999,9,     -999,9,     -999,9,     -999,9,     -999,     38.9,2,     -999,9,   1.1252,2,     -999,9,     -999,9,     -999,     -999,9,     -999,9,     -999,1,     -999,9,    0.061,1,    4.660,1,    0.131,1,     -999,9,     -999,9,20180419,1615, -66.9997,-140.7990,     -999,9,     -999,9,-999          ,9,     -999,9,     -999,9,     -999,     -999,9,     -999,     -999,9,     -999,9,     -999,9,     -999,9,     -999,9,     -999,9,     -999,9,     -999,9,     -999,9,     -999,9,     -999,9,     -999,9,     -999,9,     -999,9
320620180309  ,S04P       ,74      ,  1,18         ,18         ,2,20180419,1445, -67.0002,-140.7988,     4168,   1046.9,1.0548416666666664554,34.723321027538667,2,  34.7211,2,196.56274423125592,2, 195.9004,2,    196.5,2,    114.1,2,    32.48,2,     0.00,2,     2.20,2,    0.140,2,    0.068,2,   0.0000,2,   2264.8,2,  2361.86,2,   7.5902,2,    24.93,     40.5,2,     -999,9,   1.0541,2,     -999,9,     -999,9,     -999,     -999,9,     -999,9,     -999,1,     -999,9,    0.061,1,    4.660,1,    0.131,1,  20.2400,2,     -999,9,20180419,1612, -66.9998,-140.7989,     -999,9,     -999,9,-999          ,9,     -999,9,     -999,9,     -999,     -999,9,     -999,     -999,9,     -999,9,     -999,9,     -999,9,     -999,9,     -999,9,     -999,9,     -999,9,     -999,9,     -999,9,     -999,9,     -999,9,     -999,9,     -999,9
320620180309  ,S04P       ,74      ,  1,17         ,17         ,2,20180419,1445, -67.0002,-140.7988,     4168,   1149.0,0.9974916666666664433,34.720802630107585,2,  34.7190,2,198.03487410916483,2, 197.4067,2,    197.5,2,    115.7,2,    32.52,2,     0.00,2,     2.20,2,    0.129,2,    0.066,2,   0.0700,2,     -999,9,     -999,9,     -999,9,     -999,     40.0,2,     -999,9,   0.9978,2,     -999,9,     -999,9,     -999,     -999,9,     -999,9,     -999,1,     -999,9,    0.061,1,    4.660,1,    0.129,1,  19.8900,2,     -999,9,20180419,1608, -67.0000,-140.7988,     -999,9,     -999,9,-999          ,9,     -999,9,     -999,9,     -999,     -999,9,     -999,     -999,9,     -999,9,     -999,9,     -999,9,     -999,9,     -999,9,     -999,9,     -999,9,     -999,9,     -999,9,     -999,9,     -999,9,     -999,9,     -999,9
320620180309  ,S04P       ,74      ,  1,16         ,16         ,2,20180419,1445, -67.0002,-140.7988,     4168,   1250.8,0.9261999999999999122,34.717902615516081,2,  34.7160,2,200.48883143732601,2, 198.9954,2,    200.5,2,    117.7,2,    32.46,2,     0.00,2,     2.20,2,    0.134,2,    0.065,2,   0.0300,2,   2263.5,2,  2361.94,2,   7.5940,2,    24.91,     39.4,2,     -999,9,   0.9254,2,     -999,9,     -999,9,     -999,     -999,9,     -999,9,     -999,1,     -999,9,    0.061,1,    4.660,1,    0.129,1,  19.9200,2,     -999,9,20180419,1605, -67.0002,-140.7989,     -999,9,     -999,9,-999          ,9,     -999,9,     -999,9,     -999,     -999,9,     -999,     -999,9,     -999,9,     -999,9,     -999,9,     -999,9,     -999,9,     -999,9,     -999,9,     -999,9,     -999,9,     -999,9,     -999,9,     -999,9,     -999,9