BOTTLE,20240515CCHHYDRO
EXPOCODE,SECT_ID,STNNBR,CASTNO,SAMPNO,BTLNBR,BTLNBR_FLAG_W,DATE,TIME,LATITUDE,LONGITUDE,DEPTH,CTDPRS,CTDTMP,CTDSAL,CTDSAL_FLAG_W,SALNTY,SALNTY_FLAG_W,CTDOXY,CTDOXY_FLAG_W,CTDOPTOXY,CTDOPTOXY_FLAG_W,OXYGEN,OXYGEN_FLAG_W,SILCAT,SILCAT_FLAG_W,NITRAT,NITRAT_FLAG_W,NITRIT,NITRIT_FLAG_W,PHSPHT,PHSPHT_FLAG_W,CFC-11,CFC-11_FLAG_W,CFC-12,CFC-12_FLAG_W,SF6,SF6_FLAG_W,TCARBN,TCARBN_FLAG_W,ALKALI,ALKALI_FLAG_W,PH_TOT,PH_TOT_FLAG_W,PH_TMP,DOC,DOC_FLAG_W,HELIUM,HELIUM_FLAG_W,REFTMP,REFTMP_FLAG_W,DELC13,DELC13_FLAG_W,DELC14,DELC14_FLAG_W,C14ERR,POC,POC_FLAG_W,TDN,TDN_FLAG_W,TON,TON_FLAG_W,NEON,NEON_FLAG_W,CTDFLUOR,CTDFLUOR_FLAG_W,CTDXMISS,CTDXMISS_FLAG_W,CTDBETA700,CTDBETA700_FLAG_W,N2O,N2O_FLAG_W,ARGON,ARGON_FLAG_W,BTL_DATE,BTL_TIME,BTL_LAT,BTL_LON,KRYPTON,KRYPTON_FLAG_W,XENON,XENON_FLAG_W,HPLC,HPLC_FLAG_W,HE3_HE4_RATIO,HE3_HE4_RATIO_FLAG_W,Nd_143_144_D_EPSILON_BOTTLE,Nd_143_144_D_EPSILON_BOTTLE_FLAG_W,Nd_143_144_D_EPSILON_BOTTLE_ERROR,Nd_143_144_D_RATIO_BOTTLE,Nd_143_144_D_RATIO_BOTTLE_FLAG_W,Nd_143_144_D_RATIO_BOTTLE_ERROR,Nd_D_CONC,Nd_D_CONC_FLAG_W,La_D_CONC_BOTTLE,La_D_CONC_BOTTLE_FLAG_W,Ce_D_CONC_BOTTLE,Ce_D_CONC_BOTTLE_FLAG_W,Pr_D_CONC_BOTTLE,Pr_D_CONC_BOTTLE_FLAG_W,Sm_D_CONC_BOTTLE,Sm_D_CONC_BOTTLE_FLAG_W,Eu_D_CONC_BOTTLE,Eu_D_CONC_BOTTLE_FLAG_W,Gd_D_CONC_BOTTLE,Gd_D_CONC_BOTTLE_FLAG_W,Tb_D_CONC_BOTTLE,Tb_D_CONC_BOTTLE_FLAG_W,Dy_D_CONC_BOTTLE,Dy_D_CONC_BOTTLE_FLAG_W,Ho_D_CONC_BOTTLE,Ho_D_CONC_BOTTLE_FLAG_W,Er_D_CONC_BOTTLE,Er_D_CONC_BOTTLE_FLAG_W,Tm_D_CONC_BOTTLE,Tm_D_CONC_BOTTLE_FLAG_W,Yb_D_CONC_BOTTLE,Yb_D_CONC_BOTTLE_FLAG_W,Lu_D_CONC_BOTTLE,Lu_D_CONC_BOTTLE_FLAG_W
,,,,,,,,,,,METERS,DBAR,ITS-90,PSS-78,,PSS-78,,UMOL/KG,,UMOL/KG,,UMOL/KG,,UMOL/KG,,UMOL/KG,,UMOL/KG,,UMOL/KG,,PMOL/KG,,PMOL/KG,,FMOL/KG,,UMOL/KG,,UMOL/KG,,,,DEG C,UMOL/KG,,NMOL/L,,DEG C,,/MILLE,,/MILLE,,/MILLE,UG/KG,,UMOL/KG,,UMOL/KG,,NMOL/L,,VOLTS,,VOLTS,,VOLTS,,NMOL/KG,,UMOL/L,,,,,,NMOL/L,,NMOL/L,,,,,,10000,,10000,,,,PMOL/KG,,PMOL/L,,PMOL/L,,PMOL/L,,PMOL/L,,PMOL/L,,PMOL/L,,PMOL/L,,PMOL/L,,PMOL/L,,PMOL/L,,PMOL/L,,PMOL/L,,PMOL/L,
320620180309  ,P15        ,17      ,  1,36         ,36         ,2,20180323,1934, -67.4991,-169.9981,     4241,      0.6,-0.8891055555555555934,34.069754915231272,2,  34.0668,2,344.01306312831366,2, 339.6032,2,    340.9,2,     53.7,2,    26.22,2,     0.17,2,     1.70,2,    5.338,2,    2.963,2,   3.9500,2,   2193.3,6,  2308.44,2,   7.6551,2,    24.96,     -999,9,     -999,9,  -1.2128,3,     -999,9,     -999,9,     -999,     -999,9,     -999,9,     -999,9,     -999,9,    0.236,1,    4.563,1,    0.216,1,  16.9600,2,     -999,9,20180323,2150, -67.4971,-170.0011,     -999,9,     -999,9,-999          ,9,     -999,9,     -999,9,     -999,     -999,9,     -999,     -999,9,     -999,9,     -999,9,     -999,9,     -999,9,     -999,9,     -999,9,     -999,9,     -999,9,     -999,9,     -999,9,     -999,9,     -999,9,     -999,9
320620180309  ,P15        ,17      ,  1,35         ,35         ,2,20180323,1934, -67.4991,-169.9981,     4241,     32.3,-0.8943500000000000894,34.070039827959860,2,  34.0670,2,343.12110814517098,3, 339.6049,2,    338.8,2,     54.2,2,    26.16,2,     0.17,2,     1.72,2,     -999,9,     -999,9,     -999,9,   2193.0,2,  2307.92,2,   7.6575,2,    24.95,     -999,9,     -999,9,  -0.8949,2,     -999,9,     -999,9,     -999,     -999,9,     -999,9,     -999,9,     -999,9,    0.234,1,    4.564,1,    0.219,1,     -999,9,     -999,9,20180323,2150, -67.4972,-170.0010,     -999,9,     -999,9,-999          ,9,     -999,9,     -999,9,     -999,     -999,9,     -999,     -999,9,     -999,9,     -999,9,     -999,9,     -999,9,     -999,9,     -999,9,     -999,9,     -999,9,     -999,9,     -999,9,     -999,9,     -999,9,     -999,9
320620180309  ,P15        ,17      ,  1,34         ,34         ,2,20180323,1934, -67.4991,-169.9981,     4241,     58.2,-0.8947611111111110072,34.071141581446547,2,  34.0690,2,344.01454664756443,3, 339.5993,2,    339.1,2,     54.1,2,    26.17,2,     0.17,2,     1.76,2,     -999,9,     -999,9,     -999,9,   2192.8,2,  2309.06,2,   7.6587,2,    24.95,     -999,9,     -999,9,  -0.8950,2,     -999,9,     -999,9,     -999,     -999,9,     -999,9,     -999,9,     -999,9,    0.232,1,    4.564,1,    0.228,1,     -999,9,     -999,9,20180323,2149, -67.4972,-170.0009,     -999,9,     -999,9,-999          ,9,     -999,9,     -999,9,     -999,     -999,9,     -999,     -999,9,     -999,9,     -999,9,     -999,9,     -999,9,     -999,9,     -999,9,     -999,9,     -999,9,     -999,9,     -999,9,     -999,9,     -999,9,     -999,9
320620180309  ,P15        ,17      ,  1,33         ,33         ,2,20180323,1934, -67.4991,-169.9981,     4241,     85.2,-1.0849083333333333634,34.157046710406135,2,  34.1647,2,339.78920186867106,3, 333.5001,3,    320.6,2,     61.8,2,    27.81,2,     0.19,2,     1.89,2,     -999,9,     -999,9,     -999,9,   2203.3,2,  2313.39,2,   7.6331,6,    24.96,     -999,9,     -999,9,  -1.0345,3,     -999,9,     -999,9,     -999,     -999,9,     -999,9,     -999,9,     -999,9,    0.202,1,    4.585,1,    0.216,1,     -999,9,     -999,9,20180323,2148, -67.4973,-170.0009,     -999,9,     -999,9,-999          ,9,     -999,9,     -999,9,     -999,     -999,9,     -999,     -999,9,     -999,9,     -999,9,     -999,9,     -999,9,     -999,9,     -999,9,     -999,9,     -999,9,     -999,9,     -999,9,     -999,9,     -999,9,     -999,9
320620180309  ,P15        ,17      ,  1,32         ,32         ,2,20180323,1934, -67.4991,-169.9981,     4241,    111.1,-1.3473916666666667652,34.354482936683837,2,  34.3676,2,283.83422158017390,2, 282.1021,2,    282.3,2,     75.1,2,    31.07,2,     0.10,2,     2.12,2,    3.759,2,    2.087,2,   2.6900,2,   2228.3,2,  2323.57,2,   7.5885,2,    24.95,     -999,9,     -999,9,  -1.3591,2,     -999,9,     -999,9,     -999,     -999,9,     -999,9,     -999,9,     -999,9,    0.090,1,    4.647,1,    0.170,1,  19.0700,2,     -999,9,20180323,2147, -67.4974,-170.0007,     -999,9,     -999,9,-999          ,9,     -999,9,     -999,9,     -999,     -999,9,     -999,     -999,9,     -999,9,     -999,9,     -999,9,     -999,9,     -999,9,     -999,9,     -999,9,     -999,9,     -999,9,     -999,9,     -999,9,     -999,9,     -999,9
320620180309  ,P15        ,17      ,  1,31         ,31         ,2,20180323,1934, -67.4991,-169.9981,     4241,    135.5,-0.4123166666666666647,34.461526386763921,2,  34.4609,2,249.78220577381660,3, 243.2989,3,    252.3,2,     79.9,2,    31.67,2,     0.04,2,     2.14,2,     -999,9,     -999,9,     -999,9,   2235.3,2,  2331.12,2,   7.5825,2,    24.96,     -999,9,     -999,9,  -0.4009,2,     -999,9,     -999,9,     -999,     -999,9,     -999,9,     -999,9,     -999,9,    0.080,1,    4.653,1,    0.166,1,     -999,9,     -999,9,20180323,2145, -67.4975,-170.0005,     -999,9,     -999,9,-999          ,9,     -999,9,     -999,9,     -999,     -999,9,     -999,     -999,9,     -999,9,     -999,9,     -999,9,     -999,9,     -999,9,     -999,9,     -999,9,     -999,9,     -999,9,     -999,9,     -999,9,     -999,9,     -999,9
320620180309  ,P15        ,17      ,  1,30         ,30         ,2,20180323,1934, -67.4991,-169.9981,     4241,    166.7,0.4885111111111110627,34.572656110710447,2,  34.5695,2,220.74663223195159,2, 217.0058,3,    220.3,2,     84.9,2,    32.09,2,     0.02,2,     2.19,2,    1.787,2,    0.979,2,   1.3500,2,   2243.0,2,  2337.57,2,   7.5719,6,    24.96,     -999,9,     -999,9,   0.4857,2,     -999,9,     -999,9,     -999,     -999,9,     -999,9,     -999,9,     -999,9,    0.074,1,    4.659,1,    0.153,1,  20.5900,2,     -999,9,20180323,2143, -67.4977,-170.0002,     -999,9,     -999,9,-999          ,9,     -999,9,     -999,9,     -999,     -999,9,     -999,     -999,9,     -999,9,     -999,9,     -999,9,     -999,9,     -999,9,     -999,9,     -999,9,     -999,9,     -999,9,     -999,9,     -999,9,     -999,9,     -999,9
320620180309  ,P15        ,17      ,  1,29         ,29         ,2,20180323,1934, -67.4991,-169.9981,     4241,    217.3,1.2493944444444444741,34.678756163593974,2,  34.6766,2,194.18046249917631,2, 193.3038,2,    194.8,2,     90.5,2,    32.08,2,     0.00,2,     2.23,2,     -999,9,     -999,9,     -999,9,   2256.8,2,  2346.50,2,   7.5698,2,    24.96,     -999,9,     -999,9,   1.2572,2,     -999,9,     -999,9,     -999,     -999,9,     -999,9,     -999,9,     -999,9,    0.071,1,    4.663,1,    0.153,1,     -999,9,     -999,9,20180323,2141, -67.4978,-170.0001,     -999,9,     -999,9,-999          ,9,     -999,9,     -999,9,     -999,     -999,9,     -999,     -999,9,     -999,9,     -999,9,     -999,9,     -999,9,     -999,9,     -999,9,     -999,9,     -999,9,     -999,9,     -999,9,     -999,9,     -999,9,     -999,9
320620180309  ,P15        ,17      ,  1,28         ,28         ,2,20180323,1934, -67.4991,-169.9981,     4241,    267.7,1.3858055555555555127,34.707748157696926,2,  34.7058,2,190.78579367062997,2, 191.4016,2,    191.2,2,     92.9,2,    32.00,2,     0.00,2,     2.17,2,    0.524,2,    0.286,2,   0.2200,2,   2257.1,6,  2349.60,2,   7.5772,2,    24.96,     -999,9,     -999,9,   1.3848,2,     -999,9,     -999,9,     -999,     -999,9,     -999,9,     -999,9,     -999,9,    0.067,1,    4.667,1,    0.148,1,  20.5800,2,     -999,9,20180323,2138, -67.4979,-170.0000,     -999,9,     -999,9,-999          ,9,     -999,9,     -999,9,     -999,     -999,9,     -999,     -999,9,     -999,9,     -999,9,     -999,9,     -999,9,     -999,9,     -999,9,     -999,9,     -999,9,     -999,9,     -999,9,     -999,9,     -999,9,     -999,9
320620180309  ,P15        ,17      ,  1,27         ,27         ,2,20180323,1934, -67.4991,-169.9981,     4241,    313.3,1.4049361111111109413,34.716570859521745,2,  34.7149,2,191.05429585969705,2, 191.9989,2,    190.8,2,     94.5,2,    31.93,2,     0.00,2,     2.18,2,     -999,9,     -999,9,     -999,9,   2258.8,2,  2350.94,2,   7.5800,2,    24.95,     -999,9,     -999,9,   1.4039,2,     -999,9,     -999,9,     -999,     -999,9,     -999,9,     -999,9,     -999,9,    0.064,1,    4.670,1,    0.148,1,     -999,9,     -999,9,20180323,2136, -67.4980,-169.9998,     -999,9,     -999,9,-999          ,9,     -999,9,     -999,9,     -999,     -999,9,     -999,     -999,9,     -999,9,     -999,9,     -999,9,     -999,9,     -999,9,     -999,9,     -999,9,     -999,9,     -999,9,     -999,9,     -999,9,     -999,9,     -999,9
320620180309  ,P15        ,17      ,  1,26         ,26         ,2,20180323,1934, -67.4991,-169.9981,     4241,    367.3,1.3955972222222221557,34.721723374606000,2,  34.7186,2,191.73024179166495,2, 191.3995,2,    191.5,2,     96.0,2,    31.79,2,     0.00,2,     2.18,2,    0.377,2,    0.188,2,   0.0500,2,   2254.7,2,  2352.97,2,   7.5829,2,    24.97,     -999,9,     -999,9,   1.3946,2,     -999,9,     -999,9,     -999,     -999,9,     -999,9,     -999,9,     -999,9,    0.065,1,    4.671,1,    0.142,1,  20.5800,2,     -999,9,20180323,2134, -67.4981,-169.9995,     -999,9,     -999,9,-999          ,9,     -999,9,     -999,9,     -999,     -999,9,     -999,     -999,9,     -999,9,     -999,9,     -999,9,     -999,9,     -999,9,     -999,9,     -999,9,     -999,9,     -999,9,     -999,9,     -999,9,     -999,9,     -999,9
320620180309  ,P15        ,17      ,  1,25         ,25         ,2,20180323,1934, -67.4991,-169.9981,     4241,    420.8,1.3540777777777777136,34.723739139977411,2,  34.7206,2,191.85102590526151,2, 192.8000,2,    192.4,2,     97.3,2,    31.71,2,     0.00,2,     2.17,2,     -999,9,     -999,9,     -999,9,   2257.0,2,  2353.49,2,   7.5860,2,    24.96,     -999,9,     -999,9,   1.3536,2,     -999,9,     -999,9,     -999,     -999,9,     -999,9,     -999,9,     -999,9,    0.064,1,    4.672,1,    0.144,1,     -999,9,     -999,9,20180323,2131, -67.4983,-169.9991,     -999,9,     -999,9,-999          ,9,     -999,9,     -999,9,     -999,     -999,9,     -999,     -999,9,     -999,9,     -999,9,     -999,9,     -999,9,     -999,9,     -999,9,     -999,9,     -999,9,     -999,9,     -999,9,     -999,9,     -999,9,     -999,9
320620180309  ,P15        ,17      ,  1,24         ,24         ,2,20180323,1934, -67.4991,-169.9981,     4241,    463.5,1.3242583333333330931,34.724535547247228,2,  34.7219,2,192.29464595407484,2, 193.2976,2,    192.5,2,     99.5,2,    31.72,2,     0.00,2,     2.17,2,     -999,9,     -999,9,     -999,9,   2258.2,2,  2354.01,2,   7.5868,2,    24.96,     -999,9,     -999,9,   1.3233,2,     -999,9,     -999,9,     -999,     -999,9,     -999,9,     -999,9,     -999,9,    0.064,1,    4.673,1,    0.141,1,     -999,9,     -999,9,20180323,2129, -67.4983,-169.9991,     -999,9,     -999,9,-999          ,9,     -999,9,     -999,9,     -999,     -999,9,     -999,     -999,9,     -999,9,     -999,9,     -999,9,     -999,9,     -999,9,     -999,9,     -999,9,     -999,9,     -999,9,     -999,9,     -999,9,     -999,9,     -999,9
320620180309  ,P15        ,17      ,  1,23         ,23         ,2,20180323,1934, -67.4991,-169.9981,     4241,    541.6,1.2790749999999997399,34.724928910957857,2,  34.7249,2,193.22370229714474,2, 193.7038,2,    193.8,2,    101.5,2,    31.77,2,     0.00,2,     2.16,2,    0.280,2,    0.149,2,   0.1000,2,   2259.0,2,  2354.91,2,   7.5872,2,    24.96,     -999,9,     -999,9,   1.2785,2,     -999,9,     -999,9,     -999,     -999,9,     -999,9,     -999,9,     -999,9,    0.064,1,    4.673,1,    0.142,1,  19.5300,2,     -999,9,20180323,2126, -67.4984,-169.9990,     -999,9,     -999,9,-999          ,9,     -999,9,     -999,9,     -999,     -999,9,     -999,     -999,9,     -999,9,     -999,9,     -999,9,     -999,9,     -999,9,     -999,9,     -999,9,     -999,9,     -999,9,     -999,9,     -999,9,     -999,9,     -999,9
320620180309  ,P15        ,17      ,  1,22         ,22         ,2,20180323,1934, -67.4991,-169.9981,     4241,    643.7,1.2147694444444443462,34.724422523158729,2,  34.7192,2,195.45947479323166,2, 195.2008,2,    195.2,2,    103.9,2,    31.76,2,     0.00,2,     2.17,2,     -999,9,     -999,9,     -999,9,   2260.2,2,  2356.08,2,   7.5896,2,    24.96,     -999,9,     -999,9,   1.2142,2,     -999,9,     -999,9,     -999,     -999,9,     -999,9,     -999,9,     -999,9,    0.062,1,    4.676,1,    0.138,1,     -999,9,     -999,9,20180323,2123, -67.4985,-169.9988,     -999,9,     -999,9,-999          ,9,     -999,9,     -999,9,     -999,     -999,9,     -999,     -999,9,     -999,9,     -999,9,     -999,9,     -999,9,     -999,9,     -999,9,     -999,9,     -999,9,     -999,9,     -999,9,     -999,9,     -999,9,     -999,9
320620180309  ,P15        ,17      ,  1,21         ,21         ,2,20180323,1934, -67.4991,-169.9981,     4241,    743.1,1.1396444444444442379,34.722657078018095,2,  34.7219,2,197.04472664171706,2, 196.6028,2,    196.8,2,    107.1,2,    31.79,2,     0.00,2,     2.17,2,     -999,9,     -999,9,     -999,9,   2260.8,2,  2358.92,2,   7.5929,2,    24.95,     -999,9,     -999,9,   1.1384,2,     -999,9,     -999,9,     -999,     -999,9,     -999,9,     -999,9,     -999,9,    0.061,1,    4.677,1,    0.138,1,     -999,9,     -999,9,20180323,2119, -67.4985,-169.9989,     -999,9,     -999,9,-999          ,9,     -999,9,     -999,9,     -999,     -999,9,     -999,     -999,9,     -999,9,     -999,9,     -999,9,     -999,9,     -999,9,     -999,9,     -999,9,     -999,9,     -999,9,     -999,9,     -999,9,     -999,9,     -999,9
320620180309  ,P15        ,17      ,  1,20         ,20         ,2,20180323,1934, -67.4991,-169.9981,     4241,    847.5,1.0697833333333330863,34.720816743920608,2,  34.7190,2,197.05793249194687,2, 197.8995,2,    198.3,2,    109.4,2,    31.84,2,     0.00,2,     2.17,2,    0.214,2,    0.116,2,   0.1000,2,   2261.6,2,  2358.57,2,   7.5933,2,    24.96,     -999,9,     -999,9,   1.0701,2,     -999,9,     -999,9,     -999,     -999,9,     -999,9,     -999,9,     -999,9,    0.061,1,    4.678,1,    0.135,1,  19.9900,2,     -999,9,20180323,2116, -67.4985,-169.9989,     -999,9,     -999,9,-999          ,9,     -999,9,     -999,9,     -999,     -999,9,     -999,     -999,9,     -999,9,     -999,9,     -999,9,     -999,9,     -999,9,     -999,9,     -999,9,     -999,9,     -999,9,     -999,9,     -999,9,     -999,9,     -999,9
320620180309  ,P15        ,17      ,  1,19         ,19         ,2,20180323,1934, -67.4991,-169.9981,     4241,    944.1,1.0105083333333331197,34.718514471791252,2,  34.7155,2,198.98303875112603,2, 198.7007,2,    199.2,2,    111.5,2,    31.90,2,     0.00,2,     2.17,2,     -999,9,     -999,9,     -999,9,   2262.3,2,  2360.40,2,   7.5928,2,    24.97,     -999,9,     -999,9,   1.0094,2,     -999,9,     -999,9,     -999,     -999,9,     -999,9,     -999,9,     -999,9,    0.061,1,    4.678,1,    0.135,1,     -999,9,     -999,9,20180323,2113, -67.4984,-169.9989,     -999,9,     -999,9,-999          ,9,     -999,9,     -999,9,     -999,     -999,9,     -999,     -999,9,     -999,9,     -999,9,     -999,9,     -999,9,     -999,9,     -999,9,     -999,9,     -999,9,     -999,9,     -999,9,     -999,9,     -999,9,     -999,9
320620180309  ,P15        ,17      ,  1,18         ,18         ,2,20180323,1934, -67.4991,-169.9981,     4241,   1048.0,0.9421833333333334837,34.715874817881833,2,  34.7139,2,199.93651979033098,2, 199.8980,2,    200.1,2,    113.5,2,    31.93,2,     0.00,2,     2.17,2,    0.187,2,    0.093,2,   0.2500,2,   2264.9,2,  2360.63,2,   7.5915,6,    24.95,     -999,9,     -999,9,   0.9420,2,     -999,9,     -999,9,     -999,     -999,9,     -999,9,     -999,9,     -999,9,    0.061,1,    4.678,1,    0.133,1,  19.4900,2,     -999,9,20180323,2110, -67.4984,-169.9991,     -999,9,     -999,9,-999          ,9,     -999,9,     -999,9,     -999,     -999,9,     -999,     -999,9,     -999,9,     -999,9,     -999,9,     -999,9,     -999,9,     -999,9,     -999,9,     -999,9,     -999,9,     -999,9,     -999,9,     -999,9,     -999,9
320620180309  ,P15        ,17      ,  1,17         ,17         ,2,20180323,1934, -67.4991,-169.9981,     4241,   1150.8,0.8839027777777777040,34.713436491610430,2,  34.7121,2,200.10668545609533,2, 200.6949,2,    201.6,2,    115.3,2,    31.96,2,     0.00,2,     2.17,2,     -999,9,     -999,9,     -999,9,   2265.8,2,  2360.81,2,   7.5934,2,    24.95,     -999,9,     -999,9,   0.8836,2,     -999,9,     -999,9,     -999,     -999,9,     -999,9,     -999,9,     -999,9,    0.061,1,    4.679,1,    0.135,1,     -999,9,     -999,9,20180323,2106, -67.4986,-169.9987,     -999,9,     -999,9,-999          ,9,     -999,9,     -999,9,     -999,     -999,9,     -999,     -999,9,     -999,9,     -999,9,     -999,9,     -999,9,     -999,9,     -999,9,     -999,9,     -999,9,     -999,9,     -999,9,     -999,9,     -999,9,     -999,9
320620180309  ,P15        ,17      ,  1,16         ,16         ,2,20180323,1934, -67.4991,-169.9981,     4241,   1251.1,0.8301555555555554244,34.711484353915480,2,  34.7111,2,201.51036087554760,2, 202.1028,2,    202.2,2,    117.7,2,    32.08,2,     0.00,2,     2.18,2,    0.188,2,    0.098,2,   0.2100,2,   2300.7,4,  2361.83,2,   7.5965,2,    24.96,     -999,9,     -999,9,   0.8302,2,     -999,9,     -999,9,     -999,     -999,9,     -999,9,     -999,9,     -999,9,    0.061,1,    4.679,1,    0.133,1,  20.2500,2,     -999,9,20180323,2103, -67.4988,-169.9984,     -999,9,     -999,9,-999          ,9,     -999,9,     -999,9,     -999,     -999,9,     -999,     -999,9,     -999,9,     -999,9,     -999,9,     -999,9,     -999,9,     -999,9,     -999,9,     -999,9,     -999,9,     -999,9,     -999,9,     -999,9,     -999,9