BOTTLE,20240515CCHHYDRO
EXPOCODE,SECT_ID,STNNBR,CASTNO,SAMPNO,BTLNBR,BTLNBR_FLAG_W,DATE,TIME,LATITUDE,LONGITUDE,DEPTH,CTDPRS,CTDTMP,CTDSAL,CTDSAL_FLAG_W,SALNTY,SALNTY_FLAG_W,CTDOXY,CTDOXY_FLAG_W,CTDOPTOXY,CTDOPTOXY_FLAG_W,OXYGEN,OXYGEN_FLAG_W,SILCAT,SILCAT_FLAG_W,NITRAT,NITRAT_FLAG_W,NITRIT,NITRIT_FLAG_W,PHSPHT,PHSPHT_FLAG_W,CFC-11,CFC-11_FLAG_W,CFC-12,CFC-12_FLAG_W,SF6,SF6_FLAG_W,TCARBN,TCARBN_FLAG_W,ALKALI,ALKALI_FLAG_W,PH_TOT,PH_TOT_FLAG_W,PH_TMP,DOC,DOC_FLAG_W,HELIUM,HELIUM_FLAG_W,REFTMP,REFTMP_FLAG_W,DELC13,DELC13_FLAG_W,DELC14,DELC14_FLAG_W,C14ERR,POC,POC_FLAG_W,TDN,TDN_FLAG_W,TON,TON_FLAG_W,NEON,NEON_FLAG_W,CTDFLUOR,CTDFLUOR_FLAG_W,CTDXMISS,CTDXMISS_FLAG_W,CTDBETA700,CTDBETA700_FLAG_W,N2O,N2O_FLAG_W,ARGON,ARGON_FLAG_W,BTL_DATE,BTL_TIME,BTL_LAT,BTL_LON,KRYPTON,KRYPTON_FLAG_W,XENON,XENON_FLAG_W,HPLC,HPLC_FLAG_W,HE3_HE4_RATIO,HE3_HE4_RATIO_FLAG_W,Nd_143_144_D_EPSILON_BOTTLE,Nd_143_144_D_EPSILON_BOTTLE_FLAG_W,Nd_143_144_D_EPSILON_BOTTLE_ERROR,Nd_143_144_D_RATIO_BOTTLE,Nd_143_144_D_RATIO_BOTTLE_FLAG_W,Nd_143_144_D_RATIO_BOTTLE_ERROR,Nd_D_CONC,Nd_D_CONC_FLAG_W,La_D_CONC_BOTTLE,La_D_CONC_BOTTLE_FLAG_W,Ce_D_CONC_BOTTLE,Ce_D_CONC_BOTTLE_FLAG_W,Pr_D_CONC_BOTTLE,Pr_D_CONC_BOTTLE_FLAG_W,Sm_D_CONC_BOTTLE,Sm_D_CONC_BOTTLE_FLAG_W,Eu_D_CONC_BOTTLE,Eu_D_CONC_BOTTLE_FLAG_W,Gd_D_CONC_BOTTLE,Gd_D_CONC_BOTTLE_FLAG_W,Tb_D_CONC_BOTTLE,Tb_D_CONC_BOTTLE_FLAG_W,Dy_D_CONC_BOTTLE,Dy_D_CONC_BOTTLE_FLAG_W,Ho_D_CONC_BOTTLE,Ho_D_CONC_BOTTLE_FLAG_W,Er_D_CONC_BOTTLE,Er_D_CONC_BOTTLE_FLAG_W,Tm_D_CONC_BOTTLE,Tm_D_CONC_BOTTLE_FLAG_W,Yb_D_CONC_BOTTLE,Yb_D_CONC_BOTTLE_FLAG_W,Lu_D_CONC_BOTTLE,Lu_D_CONC_BOTTLE_FLAG_W
,,,,,,,,,,,METERS,DBAR,ITS-90,PSS-78,,PSS-78,,UMOL/KG,,UMOL/KG,,UMOL/KG,,UMOL/KG,,UMOL/KG,,UMOL/KG,,UMOL/KG,,PMOL/KG,,PMOL/KG,,FMOL/KG,,UMOL/KG,,UMOL/KG,,,,DEG C,UMOL/KG,,NMOL/L,,DEG C,,/MILLE,,/MILLE,,/MILLE,UG/KG,,UMOL/KG,,UMOL/KG,,NMOL/L,,VOLTS,,VOLTS,,VOLTS,,NMOL/KG,,UMOL/L,,,,,,NMOL/L,,NMOL/L,,,,,,10000,,10000,,,,PMOL/KG,,PMOL/L,,PMOL/L,,PMOL/L,,PMOL/L,,PMOL/L,,PMOL/L,,PMOL/L,,PMOL/L,,PMOL/L,,PMOL/L,,PMOL/L,,PMOL/L,,PMOL/L,
320620180309  ,S04P       ,57      ,  1,15         ,15         ,2,20180411,1025, -66.9948,-164.7579,     3802,   1278.7,0.8247249999999999304,34.714311756698919,2,  34.7133,2,202.03326153189403,2, 200.9016,2,    202.0,2,    120.9,2,    32.44,2,     0.00,2,     2.22,2,     -999,9,     -999,9,     -999,9,     -999,9,     -999,9,     -999,9,     -999,     -999,9,     -999,9,   0.8255,2,     -999,9,     -999,9,     -999,     -999,9,     -999,9,     -999,9,     -999,9,    0.061,1,    4.667,1,    0.130,1,     -999,9,     -999,9,20180411,1127, -66.9922,-164.7561,     -999,9,     -999,9,-999          ,9,     -999,9,     -999,9,     -999,     -999,9,     -999,     -999,9,     -999,1,     -999,1,     -999,1,     -999,1,     -999,1,     -999,1,     -999,1,     -999,1,     -999,1,     -999,1,     -999,1,     -999,1,     -999,1
320620180309  ,S04P       ,57      ,  1,14         ,14         ,2,20180411,1025, -66.9948,-164.7579,     3802,   1379.8,0.7629944444444446416,34.711874973901438,2,  34.7100,2,203.19024979617149,2, 202.9037,2,    203.2,2,    122.9,2,    32.44,2,     0.00,2,     2.20,2,     -999,9,     -999,9,     -999,9,   2263.9,2,  2363.81,2,   7.5958,2,    24.90,     -999,9,     -999,9,   0.7636,2,     -999,9,     -999,9,     -999,     -999,9,     -999,9,     -999,9,     -999,9,    0.061,1,    4.668,1,    0.128,1,     -999,9,     -999,9,20180411,1125, -66.9927,-164.7564,     -999,9,     -999,9,-999          ,9,     -999,9,     -999,9,     -999,     -999,9,     -999,     -999,9,     -999,9,     -999,9,     -999,9,     -999,9,     -999,9,     -999,9,     -999,9,     -999,9,     -999,9,     -999,9,     -999,9,     -999,9,     -999,9
320620180309  ,S04P       ,57      ,  1,13         ,13         ,2,20180411,1025, -66.9948,-164.7579,     3802,   1483.1,0.7257666666666666710,34.710427222733593,2,  34.7094,2,204.37818413729730,2, 203.9015,2,    203.8,2,    123.8,2,    32.43,2,     0.00,2,     2.22,2,     -999,9,     -999,9,     -999,9,     -999,9,     -999,9,     -999,9,     -999,     -999,9,     -999,9,   0.7264,2,     -999,9,     -999,9,     -999,     -999,9,     -999,9,     -999,9,     -999,9,    0.061,1,    4.668,1,    0.128,1,     -999,9,     -999,9,20180411,1122, -66.9931,-164.7568,     -999,9,     -999,9,-999          ,9,     -999,9,     -999,9,     -999,     -999,9,     -999,     -999,9,     -999,1,     -999,1,     -999,1,     -999,1,     -999,1,     -999,1,     -999,1,     -999,1,     -999,1,     -999,1,     -999,1,     -999,1,     -999,1
320620180309  ,S04P       ,57      ,  1,12         ,12         ,2,20180411,1025, -66.9948,-164.7579,     3802,   1584.6,0.6849138888888889332,34.708933908928522,2,  34.7074,2,205.07015850409948,2, 205.3022,2,    205.0,2,    125.4,2,    32.44,2,     0.00,2,     2.21,2,    0.139,2,    0.077,2,  -0.0700,2,   2264.9,2,  2363.76,2,   7.5961,6,    24.92,     -999,9,     -999,9,   0.6865,2,     -999,9,     -999,9,     -999,     -999,9,     -999,9,     -999,9,     -999,9,    0.062,1,    4.668,1,    0.128,1,  20.9400,2,     -999,9,20180411,1120, -66.9933,-164.7570,     -999,9,     -999,9,-999          ,9,     -999,9,     -999,9,     -999,     -999,9,     -999,     -999,9,     -999,9,     -999,9,     -999,9,     -999,9,     -999,9,     -999,9,     -999,9,     -999,9,     -999,9,     -999,9,     -999,9,     -999,9,     -999,9
320620180309  ,S04P       ,57      ,  1,11         ,11         ,2,20180411,1025, -66.9948,-164.7579,     3802,   1757.3,0.6205666666666667108,34.706701366888780,2,  34.7056,2,207.13846533915142,2, 206.8913,2,    206.7,2,    126.3,2,    32.46,2,     0.00,2,     2.20,2,     -999,9,     -999,9,     -999,9,     -999,9,     -999,9,     -999,9,     -999,     -999,9,     -999,9,   0.6204,2,     -999,9,     -999,9,     -999,     -999,9,     -999,9,     -999,9,     -999,9,    0.060,1,    4.669,1,    0.125,1,     -999,9,     -999,9,20180411,1116, -66.9934,-164.7570,     -999,9,     -999,9,-999          ,9,     -999,9,     -999,9,     -999,     -999,9,     -999,     -999,9,     -999,1,     -999,1,     -999,1,     -999,1,     -999,1,     -999,1,     -999,1,     -999,1,     -999,1,     -999,1,     -999,1,     -999,1,     -999,1
320620180309  ,S04P       ,57      ,  1,10         ,10         ,2,20180411,1025, -66.9948,-164.7579,     3802,   1961.2,0.5406694444444444247,34.704700865201019,2,  34.7015,2,208.81303503213863,2, 209.2055,2,    209.1,2,    127.3,2,    32.52,2,     0.00,2,     2.23,2,    0.182,2,    0.105,2,   0.1900,2,   2264.6,2,  2364.18,2,   7.5910,6,    24.92,     -999,9,     -999,9,   0.5419,2,     -999,9,     -999,9,     -999,     -999,9,     -999,9,     -999,9,     -999,9,    0.060,1,    4.669,1,    0.126,1,  19.1900,2,     -999,9,20180411,1111, -66.9937,-164.7573,     -999,9,     -999,9,-999          ,9,     -999,9,     -999,9,     -999,     -999,9,     -999,     -999,9,     -999,9,     -999,9,     -999,9,     -999,9,     -999,9,     -999,9,     -999,9,     -999,9,     -999,9,     -999,9,     -999,9,     -999,9,     -999,9
320620180309  ,S04P       ,57      ,  1,9          ,9          ,2,20180411,1025, -66.9948,-164.7579,     3802,   2205.6,0.4575138888888888311,34.702743790066613,2,  34.7021,2,211.33256705527933,2, 211.6053,2,    210.5,2,    128.9,2,    32.59,2,     0.00,2,     2.22,2,     -999,9,     -999,9,     -999,9,     -999,9,     -999,9,     -999,9,     -999,     -999,9,     -999,9,   0.4572,2,     -999,9,     -999,9,     -999,     -999,9,     -999,9,     -999,9,     -999,9,    0.061,1,    4.669,1,    0.125,1,     -999,9,     -999,9,20180411,1106, -66.9939,-164.7575,     -999,9,     -999,9,-999          ,9,     -999,9,     -999,9,     -999,     -999,9,     -999,     -999,9,     -999,1,     -999,1,     -999,1,     -999,1,     -999,1,     -999,1,     -999,1,     -999,1,     -999,1,     -999,1,     -999,1,     -999,1,     -999,1
320620180309  ,S04P       ,57      ,  1,8          ,8          ,2,20180411,1025, -66.9948,-164.7579,     3802,   2385.1,0.4090527777777778207,34.701664497367474,2,  34.7009,2,212.84943217089727,2, 213.0046,2,    213.1,2,    130.1,2,    32.63,2,     0.00,2,     2.21,2,    0.256,2,    0.146,2,   0.1300,2,   2265.8,2,  2364.06,2,   7.5934,2,    24.93,     -999,9,     -999,9,   0.4093,2,     -999,9,     -999,9,     -999,     -999,9,     -999,9,     -999,9,     -999,9,    0.060,1,    4.669,1,    0.126,1,  20.0600,2,     -999,9,20180411,1101, -66.9942,-164.7578,     -999,9,     -999,9,-999          ,9,     -999,9,     -999,9,     -999,     -999,9,     -999,     -999,9,     -999,9,     -999,9,     -999,9,     -999,9,     -999,9,     -999,9,     -999,9,     -999,9,     -999,9,     -999,9,     -999,9,     -999,9,     -999,9
320620180309  ,S04P       ,57      ,  1,7          ,7          ,2,20180411,1025, -66.9948,-164.7579,     3802,   2589.7,0.3436472222222222150,34.699339040964134,2,  34.6982,2,214.70794155209745,2, 215.1032,2,    214.9,2,    130.4,2,    32.65,2,     0.00,2,     2.22,2,     -999,9,     -999,9,     -999,9,     -999,9,     -999,9,     -999,9,     -999,     -999,9,     -999,9,   0.3436,2,     -999,9,     -999,9,     -999,     -999,9,     -999,9,     -999,9,     -999,9,    0.061,1,    4.668,1,    0.126,1,     -999,9,     -999,9,20180411,1056, -66.9939,-164.7574,     -999,9,     -999,9,-999          ,9,     -999,9,     -999,9,     -999,     -999,9,     -999,     -999,9,     -999,1,     -999,1,     -999,1,     -999,1,     -999,1,     -999,1,     -999,1,     -999,1,     -999,1,     -999,1,     -999,1,     -999,1,     -999,1
320620180309  ,S04P       ,57      ,  1,6          ,6          ,2,20180411,1025, -66.9948,-164.7579,     3802,   2758.3,0.2922194444444444206,34.696489846762084,2,  34.6956,2,216.84760816937927,2, 219.6964,3,    216.2,2,    130.4,2,    32.69,2,     0.00,2,     2.23,2,     -999,9,     -999,9,     -999,9,     -999,9,     -999,9,     -999,9,     -999,     -999,9,     -999,9,   0.2943,2,     -999,9,     -999,9,     -999,     -999,9,     -999,9,     -999,9,     -999,9,    0.061,1,    4.668,1,    0.125,1,     -999,9,     -999,9,20180411,1052, -66.9935,-164.7572,     -999,9,     -999,9,-999          ,9,     -999,9,     -999,9,     -999,     -999,9,     -999,     -999,9,     -999,9,     -999,9,     -999,9,     -999,9,     -999,9,     -999,9,     -999,9,     -999,9,     -999,9,     -999,9,     -999,9,     -999,9,     -999,9
320620180309  ,S04P       ,57      ,  1,5          ,5          ,2,20180411,1025, -66.9948,-164.7579,     3802,   2961.2,0.2323694444444444895,34.692417852204287,2,  34.6909,2,219.30560597442761,2, 220.4016,2,    219.5,2,    127.5,2,    32.65,2,     0.00,2,     2.22,2,    0.701,2,    0.387,2,   0.0900,2,   2263.3,2,  2363.85,2,   7.5913,2,    24.93,     -999,9,     -999,9,   0.2321,2,     -999,9,     -999,9,     -999,     -999,9,     -999,9,     -999,9,     -999,9,    0.061,1,    4.668,1,    0.126,1,  19.3100,2,     -999,9,20180411,1047, -66.9937,-164.7570,     -999,9,     -999,9,-999          ,9,     -999,9,     -999,9,     -999,     -999,9,     -999,     -999,9,     -999,1,     -999,1,     -999,1,     -999,1,     -999,1,     -999,1,     -999,1,     -999,1,     -999,1,     -999,1,     -999,1,     -999,1,     -999,1
320620180309  ,S04P       ,57      ,  1,4          ,4          ,2,20180411,1025, -66.9948,-164.7579,     3802,   3179.0,0.2166111111111110599,34.690298757470174,2,  34.6888,2,220.40244030504755,2, 219.0988,2,    219.8,2,    126.2,2,    32.59,2,     0.00,2,     2.22,2,    0.821,2,    0.443,2,   0.2500,2,   2262.9,2,  2362.17,2,   7.5926,2,    24.92,     -999,9,     -999,9,   0.2155,2,     -999,9,     -999,9,     -999,     -999,9,     -999,9,     -999,9,     -999,9,    0.061,1,    4.667,1,    0.126,1,  19.3600,2,     -999,9,20180411,1042, -66.9943,-164.7577,     -999,9,     -999,9,-999          ,9,     -999,9,     -999,9,     -999,     -999,9,     -999,     -999,9,     -999,9,     -999,9,     -999,9,     -999,9,     -999,9,     -999,9,     -999,9,     -999,9,     -999,9,     -999,9,     -999,9,     -999,9,     -999,9
320620180309  ,S04P       ,57      ,  1,3          ,3          ,2,20180411,1025, -66.9948,-164.7579,     3802,   3384.1,0.2188305555555555559,34.689167970838263,3,  34.6870,2,220.11092924892878,2, 220.2006,2,    220.6,2,    125.7,2,    32.56,2,     0.00,2,     2.22,2,    0.885,2,    0.465,2,   0.3300,2,   2262.6,2,  2361.97,2,   7.5965,2,    24.91,     -999,9,     -999,9,   0.2178,2,     -999,9,     -999,9,     -999,     -999,9,     -999,9,     -999,9,     -999,9,    0.061,1,    4.666,1,    0.128,1,  19.9100,2,     -999,9,20180411,1037, -66.9945,-164.7579,     -999,9,     -999,9,-999          ,9,     -999,9,     -999,9,     -999,     -999,9,     -999,     -999,9,     -999,1,     -999,1,     -999,1,     -999,1,     -999,1,     -999,1,     -999,1,     -999,1,     -999,1,     -999,1,     -999,1,     -999,1,     -999,1
320620180309  ,S04P       ,57      ,  1,2          ,2          ,2,20180411,1025, -66.9948,-164.7579,     3802,   3638.4,0.2385194444444444506,34.689073812170129,2,  34.6876,2,220.93268482531565,2, 220.3020,2,    220.3,2,    125.4,2,    32.62,2,     0.00,2,     2.22,2,    0.898,2,    0.482,2,   0.5400,2,   2261.7,2,  2362.06,2,   7.5931,2,    24.91,     -999,9,     -999,9,   0.2378,2,     -999,9,     -999,9,     -999,     -999,9,     -999,9,     -999,9,     -999,9,    0.061,1,    4.666,1,    0.127,1,  19.2800,2,     -999,9,20180411,1031, -66.9945,-164.7576,     -999,9,     -999,9,-999          ,9,     -999,9,     -999,9,     -999,     -999,9,     -999,     -999,9,     -999,1,     -999,1,     -999,1,     -999,1,     -999,1,     -999,1,     -999,1,     -999,1,     -999,1,     -999,1,     -999,1,     -999,1,     -999,1
320620180309  ,S04P       ,57      ,  1,1          ,1          ,2,20180411,1025, -66.9948,-164.7579,     3802,   3866.0,0.2597333333333333716,34.688899006479389,2,  34.6884,2,224.48721093286488,3, 218.5004,2,    220.2,2,    124.7,2,    32.59,2,     0.00,2,     2.23,2,    0.897,2,    0.470,2,   0.1700,2,   2263.5,6,  2361.79,2,     -999,5,     -999,     -999,9,     -999,9,   0.2590,2,     -999,9,     -999,9,     -999,     -999,9,     -999,9,     -999,9,     -999,9,    0.061,1,    4.665,1,    0.126,1,  20.1600,2,     -999,9,20180411,1025, -66.9948,-164.7579,     -999,9,     -999,9,-999          ,9,     -999,9,     -999,9,     -999,     -999,9,     -999,     -999,9,     -999,1,     -999,1,     -999,1,     -999,1,     -999,1,     -999,1,     -999,1,     -999,1,     -999,1,     -999,1,     -999,1,     -999,1,     -999,1