BOTTLE,20240515CCHHYDRO
EXPOCODE,SECT_ID,STNNBR,CASTNO,SAMPNO,BTLNBR,BTLNBR_FLAG_W,DATE,TIME,LATITUDE,LONGITUDE,DEPTH,CTDPRS,CTDTMP,CTDSAL,CTDSAL_FLAG_W,SALNTY,SALNTY_FLAG_W,CTDOXY,CTDOXY_FLAG_W,CTDOPTOXY,CTDOPTOXY_FLAG_W,OXYGEN,OXYGEN_FLAG_W,SILCAT,SILCAT_FLAG_W,NITRAT,NITRAT_FLAG_W,NITRIT,NITRIT_FLAG_W,PHSPHT,PHSPHT_FLAG_W,CFC-11,CFC-11_FLAG_W,CFC-12,CFC-12_FLAG_W,SF6,SF6_FLAG_W,TCARBN,TCARBN_FLAG_W,ALKALI,ALKALI_FLAG_W,PH_TOT,PH_TOT_FLAG_W,PH_TMP,DOC,DOC_FLAG_W,HELIUM,HELIUM_FLAG_W,REFTMP,REFTMP_FLAG_W,DELC13,DELC13_FLAG_W,DELC14,DELC14_FLAG_W,C14ERR,POC,POC_FLAG_W,TDN,TDN_FLAG_W,TON,TON_FLAG_W,NEON,NEON_FLAG_W,CTDFLUOR,CTDFLUOR_FLAG_W,CTDXMISS,CTDXMISS_FLAG_W,CTDBETA700,CTDBETA700_FLAG_W,N2O,N2O_FLAG_W,ARGON,ARGON_FLAG_W,BTL_DATE,BTL_TIME,BTL_LAT,BTL_LON,KRYPTON,KRYPTON_FLAG_W,XENON,XENON_FLAG_W,HPLC,HPLC_FLAG_W,HE3_HE4_RATIO,HE3_HE4_RATIO_FLAG_W,Nd_143_144_D_EPSILON_BOTTLE,Nd_143_144_D_EPSILON_BOTTLE_FLAG_W,Nd_143_144_D_EPSILON_BOTTLE_ERROR,Nd_143_144_D_RATIO_BOTTLE,Nd_143_144_D_RATIO_BOTTLE_FLAG_W,Nd_143_144_D_RATIO_BOTTLE_ERROR,Nd_D_CONC,Nd_D_CONC_FLAG_W,La_D_CONC_BOTTLE,La_D_CONC_BOTTLE_FLAG_W,Ce_D_CONC_BOTTLE,Ce_D_CONC_BOTTLE_FLAG_W,Pr_D_CONC_BOTTLE,Pr_D_CONC_BOTTLE_FLAG_W,Sm_D_CONC_BOTTLE,Sm_D_CONC_BOTTLE_FLAG_W,Eu_D_CONC_BOTTLE,Eu_D_CONC_BOTTLE_FLAG_W,Gd_D_CONC_BOTTLE,Gd_D_CONC_BOTTLE_FLAG_W,Tb_D_CONC_BOTTLE,Tb_D_CONC_BOTTLE_FLAG_W,Dy_D_CONC_BOTTLE,Dy_D_CONC_BOTTLE_FLAG_W,Ho_D_CONC_BOTTLE,Ho_D_CONC_BOTTLE_FLAG_W,Er_D_CONC_BOTTLE,Er_D_CONC_BOTTLE_FLAG_W,Tm_D_CONC_BOTTLE,Tm_D_CONC_BOTTLE_FLAG_W,Yb_D_CONC_BOTTLE,Yb_D_CONC_BOTTLE_FLAG_W,Lu_D_CONC_BOTTLE,Lu_D_CONC_BOTTLE_FLAG_W
,,,,,,,,,,,METERS,DBAR,ITS-90,PSS-78,,PSS-78,,UMOL/KG,,UMOL/KG,,UMOL/KG,,UMOL/KG,,UMOL/KG,,UMOL/KG,,UMOL/KG,,PMOL/KG,,PMOL/KG,,FMOL/KG,,UMOL/KG,,UMOL/KG,,,,DEG C,UMOL/KG,,NMOL/L,,DEG C,,/MILLE,,/MILLE,,/MILLE,UG/KG,,UMOL/KG,,UMOL/KG,,NMOL/L,,VOLTS,,VOLTS,,VOLTS,,NMOL/KG,,UMOL/L,,,,,,NMOL/L,,NMOL/L,,,,,,10000,,10000,,,,PMOL/KG,,PMOL/L,,PMOL/L,,PMOL/L,,PMOL/L,,PMOL/L,,PMOL/L,,PMOL/L,,PMOL/L,,PMOL/L,,PMOL/L,,PMOL/L,,PMOL/L,,PMOL/L,
320620180309  ,S04P       ,112     ,  1,36         ,36         ,2,20180504,1144, -67.2011, -91.3328,     4546,      9.4,-1.1980326020428453404,33.739735279582462,2,  33.7368,2,340.98140146150507,2, 344.5047,2,    344.0,2,     23.6,2,    25.50,2,     0.21,2,     1.79,2,    6.453,2,    3.276,2,   4.3600,2,   2163.2,6,  2281.84,2,   7.6650,2,    24.98,     41.3,2,     -999,9,  -1.1977,2,     -999,9,     -999,9,     -999,     -999,9,    29.30,2,     -999,1,     -999,9,    0.154,1,    4.587,1,    0.176,1,  15.9100,2,     -999,9,20180504,1400, -67.1993, -91.3325,     -999,9,     -999,9,-999          ,9,     -999,9,     -999,9,     -999,     -999,9,     -999,     -999,9,     -999,1,     -999,1,     -999,1,     -999,1,     -999,1,     -999,1,     -999,1,     -999,1,     -999,1,     -999,1,     -999,1,     -999,1,     -999,1
320620180309  ,S04P       ,112     ,  1,35         ,35         ,2,20180504,1144, -67.2011, -91.3328,     4546,     24.3,-1.1944156753140957594,33.739297934400980,2,  33.7388,2,341.86860427261604,2, 344.7028,2,    344.5,2,     24.2,2,    25.53,2,     0.21,2,     1.82,2,     -999,9,     -999,9,     -999,9,   2165.3,2,  2280.96,2,   7.6650,2,    25.01,     44.6,2,     -999,1,  -1.1950,2,     -999,9,     -999,9,     -999,     -999,9,    29.10,2,     -999,1,     -999,1,    0.151,1,    4.587,1,    0.177,1,     -999,9,     -999,1,20180504,1359, -67.1994, -91.3325,     -999,1,     -999,1,-999          ,9,     -999,1,     -999,9,     -999,     -999,9,     -999,     -999,9,     -999,1,     -999,1,     -999,1,     -999,1,     -999,1,     -999,1,     -999,1,     -999,1,     -999,1,     -999,1,     -999,1,     -999,1,     -999,1
320620180309  ,S04P       ,112     ,  1,34         ,34         ,2,20180504,1144, -67.2011, -91.3328,     4546,     49.4,-1.3579578184516334360,33.746827105118157,2,  33.7442,2,341.92010295772855,3, 344.7964,2,    345.7,2,     25.6,2,    25.61,2,     0.21,2,     1.81,2,    6.275,2,    3.234,2,   3.3700,2,   2165.1,2,  2280.76,2,   7.6642,2,    25.07,     43.4,2,     -999,9,  -1.3575,2,     -999,9,     -999,9,     -999,     -999,9,    28.20,2,     -999,1,     -999,9,    0.154,1,    4.585,1,    0.175,1,  15.8700,2,     -999,9,20180504,1357, -67.1995, -91.3325,     -999,9,     -999,9,-999          ,9,     -999,9,     -999,9,     -999,     -999,9,     -999,     -999,9,     -999,9,     -999,9,     -999,9,     -999,9,     -999,9,     -999,9,     -999,9,     -999,9,     -999,9,     -999,9,     -999,9,     -999,9,     -999,9
320620180309  ,S04P       ,112     ,  1,33         ,33         ,2,20180504,1144, -67.2011, -91.3328,     4546,     75.5,-1.3705914765144688872,33.748496517608736,2,  33.7491,2,343.28159872953495,2, 344.5015,2,    344.9,2,     25.9,2,    25.75,2,     0.21,2,     1.83,2,     -999,9,     -999,9,     -999,9,   2164.5,2,  2284.83,2,   7.6612,2,    25.01,     44.7,2,     -999,1,  -1.3701,2,     -999,9,     -999,9,     -999,     -999,9,    28.70,2,     -999,1,     -999,1,    0.158,1,    4.584,1,    0.177,1,     -999,9,     -999,1,20180504,1355, -67.1996, -91.3324,     -999,1,     -999,1,-999          ,9,     -999,1,     -999,9,     -999,     -999,9,     -999,     -999,9,     -999,1,     -999,1,     -999,1,     -999,1,     -999,1,     -999,1,     -999,1,     -999,1,     -999,1,     -999,1,     -999,1,     -999,1,     -999,1
320620180309  ,S04P       ,112     ,  1,32         ,32         ,2,20180504,1144, -67.2011, -91.3328,     4546,    100.3,-1.0010559663246723083,33.963814403428330,2,  33.9630,2,330.65773678438455,3, 327.0985,3,    322.8,2,     38.3,2,    29.89,2,     0.20,2,     2.06,2,    5.875,2,    2.999,2,   3.5000,2,   2186.9,2,  2293.10,2,   7.6243,2,    25.02,     40.3,2,     -999,9,  -1.0046,2,     -999,9,     -999,9,     -999,     -999,9,    31.70,2,     -999,1,     -999,9,    0.080,1,    4.618,1,    0.153,1,  16.9200,2,     -999,9,20180504,1353, -67.1997, -91.3324,     -999,9,     -999,9,-999          ,9,     -999,9,     -999,9,     -999,     -999,9,     -999,     -999,9,     -999,9,     -999,9,     -999,9,     -999,9,     -999,9,     -999,9,     -999,9,     -999,9,     -999,9,     -999,9,     -999,9,     -999,9,     -999,9
320620180309  ,S04P       ,112     ,  1,31         ,31         ,2,20180504,1144, -67.2011, -91.3328,     4546,    151.2,0.5554596341267492576,34.175928490161226,2,  34.1633,2,274.31771907019407,2, 275.0002,2,    274.7,2,     49.0,2,    32.49,2,     0.02,2,     2.22,2,     -999,9,     -999,9,     -999,9,   2210.7,2,  2303.79,2,   7.5895,6,    25.02,     41.7,2,     -999,1,   0.5707,2,     -999,9,     -999,9,     -999,     -999,9,    35.40,2,     -999,1,     -999,1,    0.065,1,    4.627,1,    0.147,1,     -999,9,     -999,1,20180504,1351, -67.1998, -91.3323,     -999,1,     -999,1,-999          ,9,     -999,1,     -999,9,     -999,     -999,9,     -999,     -999,9,     -999,1,     -999,1,     -999,1,     -999,1,     -999,1,     -999,1,     -999,1,     -999,1,     -999,1,     -999,1,     -999,1,     -999,1,     -999,1
320620180309  ,S04P       ,112     ,  1,30         ,30         ,2,20180504,1144, -67.2011, -91.3328,     4546,    201.3,1.4619582530857875291,34.338321582123797,2,  34.3394,2,234.19984204457026,3, 228.1997,3,    225.1,2,     61.1,2,    34.37,2,     0.00,2,     2.32,2,    2.747,2,    1.461,2,   1.2400,2,   2233.8,2,  2315.34,2,   7.5593,2,    25.02,     42.4,2,     -999,9,   1.4646,2,     -999,9,     -999,9,     -999,     -999,9,    36.30,2,     -999,1,     -999,9,    0.063,1,    4.632,1,    0.143,1,  21.9800,2,     -999,9,20180504,1348, -67.2000, -91.3322,     -999,9,     -999,9,-999          ,9,     -999,9,     -999,9,     -999,     -999,9,     -999,     -999,9,     -999,9,     -999,9,     -999,9,     -999,9,     -999,9,     -999,9,     -999,9,     -999,9,     -999,9,     -999,9,     -999,9,     -999,9,     -999,9
320620180309  ,S04P       ,112     ,  1,29         ,29         ,2,20180504,1144, -67.2011, -91.3328,     4546,    252.3,1.8583958302744099100,34.431396765758592,2,  34.4305,2,203.89179347547204,3, 199.3011,2,    199.3,2,     67.6,2,    34.98,2,     0.00,2,     2.36,2,    1.919,2,    1.016,2,   0.7500,2,   2245.7,2,  2324.27,2,   7.5445,2,    25.01,     42.7,2,     -999,1,   1.8584,2,     -999,9,     -999,9,     -999,     -999,9,    37.00,2,     -999,1,     -999,1,    0.062,1,    4.634,1,    0.145,1,  23.0600,2,     -999,1,20180504,1346, -67.2001, -91.3322,     -999,1,     -999,1,-999          ,9,     -999,1,     -999,9,     -999,     -999,9,     -999,     -999,9,     -999,1,     -999,1,     -999,1,     -999,1,     -999,1,     -999,1,     -999,1,     -999,1,     -999,1,     -999,1,     -999,1,     -999,1,     -999,1
320620180309  ,S04P       ,112     ,  1,28         ,28         ,2,20180504,1144, -67.2011, -91.3328,     4546,    303.3,1.9532110091604402147,34.488746959684839,2,  34.4848,2,191.45847076186487,2, 188.8029,3,    191.5,2,     71.5,2,    34.96,2,     0.00,2,     2.36,2,    1.532,2,    0.792,2,   0.8600,2,   2250.0,2,  2329.50,2,   7.5433,2,    25.00,     40.0,2,     -999,9,   1.9506,2,     -999,9,     -999,9,     -999,     -999,9,     -999,9,     -999,1,     -999,9,    0.063,1,    4.636,1,    0.142,1,  23.0200,2,     -999,9,20180504,1344, -67.2001, -91.3321,     -999,9,     -999,9,-999          ,9,     -999,9,     -999,9,     -999,     -999,9,     -999,     -999,9,     -999,9,     -999,9,     -999,9,     -999,9,     -999,9,     -999,9,     -999,9,     -999,9,     -999,9,     -999,9,     -999,9,     -999,9,     -999,9
320620180309  ,S04P       ,112     ,  1,27         ,27         ,2,20180504,1144, -67.2011, -91.3328,     4546,    353.5,2.0658814802803071586,34.532879790932043,2,  34.5328,2,181.94411862252403,2, 181.2029,2,    182.5,2,     74.7,2,    34.87,2,     0.00,2,     2.34,2,     -999,9,     -999,9,     -999,9,   2253.1,2,  2333.42,2,   7.5434,2,    25.03,     38.7,2,     -999,1,   2.0692,2,     -999,9,     -999,9,     -999,     -999,9,     -999,9,     -999,1,     -999,1,    0.062,1,    4.638,1,    0.141,1,     -999,9,     -999,1,20180504,1342, -67.2001, -91.3321,     -999,1,     -999,1,-999          ,9,     -999,1,     -999,9,     -999,     -999,9,     -999,     -999,9,     -999,1,     -999,1,     -999,1,     -999,1,     -999,1,     -999,1,     -999,1,     -999,1,     -999,1,     -999,1,     -999,1,     -999,1,     -999,1
320620180309  ,S04P       ,112     ,  1,26         ,38         ,2,20180504,1144, -67.2011, -91.3328,     4546,    404.6,2.1146741843524035076,34.564722969181368,2,  34.5638,2,180.66963019408109,2, 179.2017,2,    179.7,2,     76.5,2,    34.62,2,     0.00,2,     2.32,2,    0.934,6,    0.495,6,   0.4500,6,   2255.6,2,  2336.16,2,   7.5481,2,    25.01,     39.7,2,     -999,9,   2.1143,2,     -999,9,     -999,9,     -999,     -999,9,     -999,9,     -999,1,     -999,9,    0.062,1,    4.641,1,    0.151,1,  22.8800,6,     -999,9,20180504,1340, -67.2001, -91.3321,     -999,9,     -999,9,-999          ,9,     -999,9,     -999,9,     -999,     -999,9,     -999,     -999,9,     -999,9,     -999,9,     -999,9,     -999,9,     -999,9,     -999,9,     -999,9,     -999,9,     -999,9,     -999,9,     -999,9,     -999,9,     -999,9
320620180309  ,S04P       ,112     ,  1,25         ,25         ,2,20180504,1144, -67.2011, -91.3328,     4546,    453.8,2.1176553024002156000,34.593401725899220,2,  34.5942,2,176.94794672617547,2, 177.7021,2,    177.1,2,     78.4,2,    34.35,2,     0.00,2,     2.31,2,     -999,9,     -999,9,     -999,9,   2256.7,2,  2340.64,2,   7.5508,2,    25.02,     42.0,2,     -999,9,   2.1196,2,     -999,9,     -999,9,     -999,     -999,9,     -999,9,     -999,1,     -999,9,    0.061,1,    4.641,1,    0.137,1,     -999,9,     -999,9,20180504,1337, -67.2002, -91.3321,     -999,9,     -999,9,-999          ,9,     -999,9,     -999,9,     -999,     -999,9,     -999,     -999,9,     -999,1,     -999,1,     -999,1,     -999,1,     -999,1,     -999,1,     -999,1,     -999,1,     -999,1,     -999,1,     -999,1,     -999,1,     -999,1
320620180309  ,S04P       ,112     ,  1,24         ,24         ,2,20180504,1144, -67.2011, -91.3328,     4546,    505.4,2.1328422648294216302,34.620107413082017,2,  34.6195,2,175.46914135409270,2, 176.0989,2,    175.6,2,     80.0,2,    34.10,2,     0.00,2,     2.30,2,    0.623,2,    0.335,2,   0.0600,2,   2258.0,6,  2342.82,2,   7.5546,2,    25.02,     39.5,2,     -999,1,   2.1327,2,     -999,9,     -999,9,     -999,     -999,9,     -999,9,     -999,1,     -999,1,    0.061,1,    4.643,1,    0.138,1,  22.6100,2,     -999,1,20180504,1335, -67.2002, -91.3320,     -999,1,     -999,1,-999          ,9,     -999,1,     -999,9,     -999,     -999,9,     -999,     -999,9,     -999,1,     -999,1,     -999,1,     -999,1,     -999,1,     -999,1,     -999,1,     -999,1,     -999,1,     -999,1,     -999,1,     -999,1,     -999,1
320620180309  ,S04P       ,112     ,  1,23         ,23         ,2,20180504,1144, -67.2011, -91.3328,     4546,    606.2,2.1471570115468701090,34.658336121153653,2,  34.6586,2,175.54943016625978,2, 176.0978,2,    175.2,2,     82.5,2,    33.49,2,     0.00,2,     2.25,2,     -999,9,     -999,9,     -999,9,   2256.9,2,  2344.43,2,   7.5652,2,    25.03,     41.6,2,     -999,9,   2.1471,2,     -999,9,     -999,9,     -999,     -999,9,     -999,9,     -999,1,     -999,9,    0.061,1,    4.643,1,    0.133,1,     -999,9,     -999,9,20180504,1332, -67.2003, -91.3320,     -999,9,     -999,9,-999          ,9,     -999,9,     -999,9,     -999,     -999,9,     -999,     -999,9,     -999,1,     -999,1,     -999,1,     -999,1,     -999,1,     -999,1,     -999,1,     -999,1,     -999,1,     -999,1,     -999,1,     -999,1,     -999,1
320620180309  ,S04P       ,112     ,  1,22         ,37         ,2,20180504,1144, -67.2011, -91.3328,     4546,    707.1,2.0920101125256680419,34.682094556840816,2,  34.6821,2,178.36185767574759,2, 178.4983,2,    178.6,2,     84.3,2,    33.01,2,     0.00,2,     2.23,2,    0.334,2,    0.188,2,   0.0700,2,   2257.1,2,  2346.55,2,   7.5726,2,    25.01,     39.3,2,     -999,9,   2.0920,2,     -999,9,     -999,9,     -999,     -999,9,     -999,9,     -999,1,     -999,9,    0.062,1,    4.644,1,    0.134,1,  21.7100,2,     -999,9,20180504,1329, -67.2002, -91.3321,     -999,9,     -999,9,-999          ,9,     -999,9,     -999,9,     -999,     -999,9,     -999,     -999,9,     -999,9,     -999,9,     -999,9,     -999,9,     -999,9,     -999,9,     -999,9,     -999,9,     -999,9,     -999,9,     -999,9,     -999,9,     -999,9
320620180309  ,S04P       ,112     ,  1,21         ,21         ,2,20180504,1144, -67.2011, -91.3328,     4546,    807.4,2.0200653305883049526,34.699742597068720,2,  34.6990,2,181.43471914032307,2, 181.0029,2,    181.6,2,     86.2,2,    32.64,2,     0.00,2,     2.21,2,    0.289,2,    0.153,2,   0.1200,2,   2255.4,2,  2347.93,2,   7.5785,2,    25.01,     38.7,2,     -999,1,   2.0203,2,     -999,9,     -999,9,     -999,     -999,9,     -999,9,     -999,1,     -999,1,    0.061,1,    4.644,1,    0.132,1,  21.5900,2,     -999,1,20180504,1326, -67.2003, -91.3320,     -999,1,     -999,1,-999          ,9,     -999,1,     -999,9,     -999,     -999,9,     -999,     -999,9,     -999,1,     -999,1,     -999,1,     -999,1,     -999,1,     -999,1,     -999,1,     -999,1,     -999,1,     -999,1,     -999,1,     -999,1,     -999,1
320620180309  ,S04P       ,112     ,  1,20         ,20         ,2,20180504,1144, -67.2011, -91.3328,     4546,    911.0,1.9424871866049526759,34.713529056341869,2,  34.7125,2,184.05578926852857,2, 183.8006,2,    184.0,2,     88.2,2,    32.28,2,     0.00,2,     2.20,2,    0.252,2,    0.128,2,   0.1200,2,   2254.9,2,  2350.37,2,   7.5848,2,    25.02,     41.6,2,     -999,9,   1.9425,2,     -999,9,     -999,9,     -999,     -999,9,     -999,9,     -999,1,     -999,9,    0.061,1,    4.645,1,    0.134,1,  20.8400,2,     -999,9,20180504,1323, -67.2002, -91.3320,     -999,9,     -999,9,-999          ,9,     -999,9,     -999,9,     -999,     -999,9,     -999,     -999,9,     -999,9,     -999,9,     -999,9,     -999,9,     -999,9,     -999,9,     -999,9,     -999,9,     -999,9,     -999,9,     -999,9,     -999,9,     -999,9
320620180309  ,S04P       ,112     ,  1,19         ,19         ,2,20180504,1144, -67.2011, -91.3328,     4546,   1011.2,1.8716662755338975277,34.722128601975477,2,  34.7223,2,186.76327788109563,2, 186.1025,2,    186.6,2,     90.0,2,    31.98,2,     0.00,2,     2.17,2,     -999,9,     -999,9,     -999,9,   2255.4,2,  2351.49,2,   7.5898,2,    25.03,     39.9,2,     -999,9,   1.8717,2,     -999,9,     -999,9,     -999,     -999,9,     -999,9,     -999,1,     -999,9,    0.061,1,    4.645,1,    0.133,1,     -999,9,     -999,9,20180504,1319, -67.2001, -91.3321,     -999,9,     -999,9,-999          ,9,     -999,9,     -999,9,     -999,     -999,9,     -999,     -999,9,     -999,1,     -999,1,     -999,1,     -999,1,     -999,1,     -999,1,     -999,1,     -999,1,     -999,1,     -999,1,     -999,1,     -999,1,     -999,1
320620180309  ,S04P       ,112     ,  1,18         ,18         ,2,20180504,1144, -67.2011, -91.3328,     4546,   1112.8,1.7876200215950772687,34.727363477739566,2,  34.7278,2,189.16508444306120,2, 188.4998,2,    189.3,2,     92.1,2,    31.84,2,     0.00,2,     2.18,2,    0.202,2,    0.108,2,   0.0500,2,   2256.0,2,  2353.39,2,   7.5925,2,    25.03,     40.0,2,     -999,1,   1.7874,2,     -999,9,     -999,9,     -999,     -999,9,     -999,9,     -999,1,     -999,1,    0.061,1,    4.646,1,    0.132,1,  20.0500,2,     -999,1,20180504,1316, -67.2000, -91.3322,     -999,1,     -999,1,-999          ,9,     -999,1,     -999,9,     -999,     -999,9,     -999,     -999,9,     -999,9,     -999,9,     -999,9,     -999,9,     -999,9,     -999,9,     -999,9,     -999,9,     -999,9,     -999,9,     -999,9,     -999,9,     -999,9
320620180309  ,S04P       ,112     ,  1,17         ,17         ,2,20180504,1144, -67.2011, -91.3328,     4546,   1216.1,1.6973095510349613946,34.730479856772291,2,  34.7310,2,190.93666284316177,2, 190.5991,2,    190.5,2,     94.8,2,    31.81,2,     0.00,2,     2.14,2,    0.185,2,    0.099,2,   0.0200,2,   2256.3,2,  2357.38,2,   7.5952,2,    25.03,     41.0,2,     -999,9,   1.6965,2,     -999,9,     -999,9,     -999,     -999,9,     -999,9,     -999,1,     -999,9,    0.061,1,    4.646,1,    0.131,1,  19.6900,2,     -999,9,20180504,1313, -67.1998, -91.3323,     -999,9,     -999,9,-999          ,9,     -999,9,     -999,9,     -999,     -999,9,     -999,     -999,9,     -999,1,     -999,1,     -999,1,     -999,1,     -999,1,     -999,1,     -999,1,     -999,1,     -999,1,     -999,1,     -999,1,     -999,1,     -999,1
320620180309  ,S04P       ,112     ,  1,16         ,16         ,2,20180504,1144, -67.2011, -91.3328,     4546,   1317.4,1.6112148910390053924,34.731444438447099,2,  34.7321,2,192.09627258565232,2, 192.1928,2,    192.1,2,     97.3,2,    31.80,2,     0.00,2,     2.15,2,    0.175,2,    0.091,2,   0.0600,2,   2258.0,2,  2357.81,2,   7.5971,2,    25.04,     39.1,2,     -999,9,   1.6109,2,     -999,9,     -999,9,     -999,     -999,9,     -999,9,     -999,1,     -999,9,    0.061,1,    4.646,1,    0.130,1,  19.6400,2,     -999,9,20180504,1310, -67.1997, -91.3324,     -999,9,     -999,9,-999          ,9,     -999,9,     -999,9,     -999,     -999,9,     -999,     -999,9,     -999,9,     -999,9,     -999,9,     -999,9,     -999,9,     -999,9,     -999,9,     -999,9,     -999,9,     -999,9,     -999,9,     -999,9,     -999,9