BOTTLE,20240515CCHHYDRO
EXPOCODE,SECT_ID,STNNBR,CASTNO,SAMPNO,BTLNBR,BTLNBR_FLAG_W,DATE,TIME,LATITUDE,LONGITUDE,DEPTH,CTDPRS,CTDTMP,CTDSAL,CTDSAL_FLAG_W,SALNTY,SALNTY_FLAG_W,CTDOXY,CTDOXY_FLAG_W,CTDOPTOXY,CTDOPTOXY_FLAG_W,OXYGEN,OXYGEN_FLAG_W,SILCAT,SILCAT_FLAG_W,NITRAT,NITRAT_FLAG_W,NITRIT,NITRIT_FLAG_W,PHSPHT,PHSPHT_FLAG_W,CFC-11,CFC-11_FLAG_W,CFC-12,CFC-12_FLAG_W,SF6,SF6_FLAG_W,TCARBN,TCARBN_FLAG_W,ALKALI,ALKALI_FLAG_W,PH_TOT,PH_TOT_FLAG_W,PH_TMP,DOC,DOC_FLAG_W,HELIUM,HELIUM_FLAG_W,REFTMP,REFTMP_FLAG_W,DELC13,DELC13_FLAG_W,DELC14,DELC14_FLAG_W,C14ERR,POC,POC_FLAG_W,TDN,TDN_FLAG_W,TON,TON_FLAG_W,NEON,NEON_FLAG_W,CTDFLUOR,CTDFLUOR_FLAG_W,CTDXMISS,CTDXMISS_FLAG_W,CTDBETA700,CTDBETA700_FLAG_W,N2O,N2O_FLAG_W,ARGON,ARGON_FLAG_W,BTL_DATE,BTL_TIME,BTL_LAT,BTL_LON,KRYPTON,KRYPTON_FLAG_W,XENON,XENON_FLAG_W,HPLC,HPLC_FLAG_W,HE3_HE4_RATIO,HE3_HE4_RATIO_FLAG_W,Nd_143_144_D_EPSILON_BOTTLE,Nd_143_144_D_EPSILON_BOTTLE_FLAG_W,Nd_143_144_D_EPSILON_BOTTLE_ERROR,Nd_143_144_D_RATIO_BOTTLE,Nd_143_144_D_RATIO_BOTTLE_FLAG_W,Nd_143_144_D_RATIO_BOTTLE_ERROR,Nd_D_CONC,Nd_D_CONC_FLAG_W,La_D_CONC_BOTTLE,La_D_CONC_BOTTLE_FLAG_W,Ce_D_CONC_BOTTLE,Ce_D_CONC_BOTTLE_FLAG_W,Pr_D_CONC_BOTTLE,Pr_D_CONC_BOTTLE_FLAG_W,Sm_D_CONC_BOTTLE,Sm_D_CONC_BOTTLE_FLAG_W,Eu_D_CONC_BOTTLE,Eu_D_CONC_BOTTLE_FLAG_W,Gd_D_CONC_BOTTLE,Gd_D_CONC_BOTTLE_FLAG_W,Tb_D_CONC_BOTTLE,Tb_D_CONC_BOTTLE_FLAG_W,Dy_D_CONC_BOTTLE,Dy_D_CONC_BOTTLE_FLAG_W,Ho_D_CONC_BOTTLE,Ho_D_CONC_BOTTLE_FLAG_W,Er_D_CONC_BOTTLE,Er_D_CONC_BOTTLE_FLAG_W,Tm_D_CONC_BOTTLE,Tm_D_CONC_BOTTLE_FLAG_W,Yb_D_CONC_BOTTLE,Yb_D_CONC_BOTTLE_FLAG_W,Lu_D_CONC_BOTTLE,Lu_D_CONC_BOTTLE_FLAG_W
,,,,,,,,,,,METERS,DBAR,ITS-90,PSS-78,,PSS-78,,UMOL/KG,,UMOL/KG,,UMOL/KG,,UMOL/KG,,UMOL/KG,,UMOL/KG,,UMOL/KG,,PMOL/KG,,PMOL/KG,,FMOL/KG,,UMOL/KG,,UMOL/KG,,,,DEG C,UMOL/KG,,NMOL/L,,DEG C,,/MILLE,,/MILLE,,/MILLE,UG/KG,,UMOL/KG,,UMOL/KG,,NMOL/L,,VOLTS,,VOLTS,,VOLTS,,NMOL/KG,,UMOL/L,,,,,,NMOL/L,,NMOL/L,,,,,,10000,,10000,,,,PMOL/KG,,PMOL/L,,PMOL/L,,PMOL/L,,PMOL/L,,PMOL/L,,PMOL/L,,PMOL/L,,PMOL/L,,PMOL/L,,PMOL/L,,PMOL/L,,PMOL/L,,PMOL/L,
320620180309  ,S04P       ,111     ,  1,36         ,36         ,2,20180504,0400, -67.3000, -92.9997,     4017,      7.3,-0.5058108045282998511,33.744647135587996,2,  33.7417,2,339.13809122466404,2, 338.9028,2,    340.2,2,     19.3,2,    25.64,2,     0.23,2,     1.80,2,    6.132,2,    3.147,2,   3.8800,2,   2155.1,6,  2275.92,2,   7.6748,2,    25.03,     -999,9,     -999,9,  -0.5029,2,     -999,9,     -999,9,     -999,     -999,9,     -999,9,     -999,9,     -999,9,    0.142,1,    4.608,1,    0.155,1,  15.4500,2,     -999,9,20180504,0558, -67.3004, -92.9992,     -999,9,     -999,9,-999          ,9,     -999,9,     -999,9,     -999,     -999,9,     -999,     -999,9,     -999,9,     -999,9,     -999,9,     -999,9,     -999,9,     -999,9,     -999,9,     -999,9,     -999,9,     -999,9,     -999,9,     -999,9,     -999,9
320620180309  ,S04P       ,111     ,  1,35         ,35         ,2,20180504,0400, -67.3000, -92.9997,     4017,     19.7,-0.5047277135715604324,33.744331182289109,2,  33.7411,2,339.72697517721610,2, 338.8986,2,    338.4,2,     19.3,2,    25.68,2,     0.23,2,     1.80,2,    6.121,2,    3.105,2,   3.5500,2,   2155.8,2,  2275.60,2,   7.6736,2,    25.04,     -999,9,     -999,9,  -0.5053,2,     -999,9,     -999,9,     -999,     -999,9,     -999,9,     -999,9,     -999,9,    0.143,1,    4.608,1,    0.162,1,  15.3900,2,     -999,9,20180504,0557, -67.3004, -92.9993,     -999,9,     -999,9,-999          ,9,     -999,9,     -999,9,     -999,     -999,9,     -999,     -999,9,     -999,9,     -999,9,     -999,9,     -999,9,     -999,9,     -999,9,     -999,9,     -999,9,     -999,9,     -999,9,     -999,9,     -999,9,     -999,9
320620180309  ,S04P       ,111     ,  1,34         ,34         ,2,20180504,0400, -67.3000, -92.9997,     4017,     39.8,-0.5034292044698625013,33.744439034944278,2,  33.7415,2,340.65467231070357,2, 338.8978,2,    339.0,2,     19.3,2,    25.70,2,     0.23,2,     1.81,2,     -999,9,     -999,9,     -999,9,   2154.1,2,  2277.02,2,   7.6728,2,    25.04,     -999,9,     -999,9,  -0.5028,2,     -999,9,     -999,9,     -999,     -999,9,     -999,9,     -999,9,     -999,9,    0.144,1,    4.609,1,    0.158,1,     -999,9,     -999,9,20180504,0556, -67.3004, -92.9993,     -999,9,     -999,9,-999          ,9,     -999,9,     -999,9,     -999,     -999,9,     -999,     -999,9,     -999,9,     -999,9,     -999,9,     -999,9,     -999,9,     -999,9,     -999,9,     -999,9,     -999,9,     -999,9,     -999,9,     -999,9,     -999,9
320620180309  ,S04P       ,111     ,  1,33         ,33         ,2,20180504,0400, -67.3000, -92.9997,     4017,     64.9,-0.5008741557697762303,33.744937517896297,2,  33.7411,2,341.83800303208551,2, 338.8995,2,    338.9,2,     19.3,2,    25.68,2,     0.23,2,     1.81,2,    6.111,2,    3.151,2,   3.7800,2,   2156.7,2,  2275.74,2,   7.6757,2,    25.04,     -999,9,     -999,9,  -0.5000,2,     -999,9,     -999,9,     -999,     -999,9,     -999,9,     -999,9,     -999,9,    0.142,1,    4.609,1,    0.159,1,  15.4100,2,     -999,9,20180504,0555, -67.3004, -92.9993,     -999,9,     -999,9,-999          ,9,     -999,9,     -999,9,     -999,     -999,9,     -999,     -999,9,     -999,9,     -999,9,     -999,9,     -999,9,     -999,9,     -999,9,     -999,9,     -999,9,     -999,9,     -999,9,     -999,9,     -999,9,     -999,9
320620180309  ,S04P       ,111     ,  1,32         ,32         ,2,20180504,0400, -67.3000, -92.9997,     4017,     90.1,-0.2577413321925680068,33.863594552415179,2,  33.8631,2,332.17976253990838,2, 331.9955,3,    329.8,2,     24.1,2,    27.66,2,     0.17,2,     1.91,2,     -999,9,     -999,9,     -999,9,   2165.5,2,  2281.32,2,   7.6562,2,    25.04,     -999,9,     -999,9,  -0.2425,2,     -999,9,     -999,9,     -999,     -999,9,     -999,9,     -999,9,     -999,9,    0.111,1,    4.620,1,    0.154,1,     -999,9,     -999,9,20180504,0553, -67.3003, -92.9992,     -999,9,     -999,9,-999          ,9,     -999,9,     -999,9,     -999,     -999,9,     -999,     -999,9,     -999,9,     -999,9,     -999,9,     -999,9,     -999,9,     -999,9,     -999,9,     -999,9,     -999,9,     -999,9,     -999,9,     -999,9,     -999,9
320620180309  ,S04P       ,111     ,  1,31         ,31         ,2,20180504,0400, -67.3000, -92.9997,     4017,    116.6,0.0667750437576314221,33.991347588653355,2,  33.9882,2,318.57472288617384,2, 318.1984,2,    317.9,2,     29.2,2,    29.62,2,     0.02,2,     2.03,2,    5.474,2,    2.872,2,   3.8100,2,     -999,9,     -999,9,     -999,9,     -999,     -999,9,     -999,9,   0.0666,2,     -999,9,     -999,9,     -999,     -999,9,     -999,9,     -999,9,     -999,9,    0.080,1,    4.636,1,    0.144,1,  16.3700,2,     -999,9,20180504,0551, -67.3002, -92.9993,     -999,9,     -999,9,-999          ,9,     -999,9,     -999,9,     -999,     -999,9,     -999,     -999,9,     -999,9,     -999,9,     -999,9,     -999,9,     -999,9,     -999,9,     -999,9,     -999,9,     -999,9,     -999,9,     -999,9,     -999,9,     -999,9
320620180309  ,S04P       ,111     ,  1,30         ,30         ,2,20180504,0400, -67.3000, -92.9997,     4017,    141.2,0.2886298801192817565,34.026242076864584,2,  34.0238,2,308.11001022847432,2, 308.2943,2,    309.5,2,     31.7,2,    30.16,2,     0.01,2,     2.05,2,     -999,9,     -999,9,     -999,9,   2184.5,2,  2288.82,2,   7.6291,2,    25.04,     -999,9,     -999,9,   0.2889,2,     -999,9,     -999,9,     -999,     -999,9,     -999,9,     -999,9,     -999,9,    0.064,1,    4.641,1,    0.141,1,     -999,9,     -999,9,20180504,0549, -67.3000, -92.9993,     -999,9,     -999,9,-999          ,9,     -999,9,     -999,9,     -999,     -999,9,     -999,     -999,9,     -999,9,     -999,9,     -999,9,     -999,9,     -999,9,     -999,9,     -999,9,     -999,9,     -999,9,     -999,9,     -999,9,     -999,9,     -999,9
320620180309  ,S04P       ,111     ,  1,29         ,29         ,2,20180504,0400, -67.3000, -92.9997,     4017,    187.0,1.5981471621794125504,34.196503709698121,2,  34.1935,2,252.00839238301009,3, 250.3034,2,    248.9,2,     44.6,2,    32.80,2,     0.00,2,     2.22,2,    3.635,2,    1.915,2,   1.9200,2,     -999,9,     -999,9,     -999,9,     -999,     -999,9,     -999,9,   1.5979,2,     -999,9,     -999,9,     -999,     -999,9,     -999,9,     -999,9,     -999,9,    0.061,1,    4.641,1,    0.141,1,  20.3200,2,     -999,9,20180504,0547, -67.2998, -92.9993,     -999,9,     -999,9,-999          ,9,     -999,9,     -999,9,     -999,     -999,9,     -999,     -999,9,     -999,9,     -999,9,     -999,9,     -999,9,     -999,9,     -999,9,     -999,9,     -999,9,     -999,9,     -999,9,     -999,9,     -999,9,     -999,9
320620180309  ,S04P       ,111     ,  1,28         ,28         ,2,20180504,0400, -67.3000, -92.9997,     4017,    238.1,2.1746042182740250581,34.304973925036663,2,  34.3041,2,215.47130916313702,2, 213.4027,2,    213.6,2,     54.3,2,    34.31,2,     0.00,2,     2.32,2,     -999,9,     -999,9,     -999,9,   2230.4,2,  2312.21,2,   7.5590,2,    25.04,     -999,9,     -999,9,   2.1745,2,     -999,9,     -999,9,     -999,     -999,9,     -999,9,     -999,9,     -999,9,    0.061,1,    4.642,1,    0.141,1,     -999,9,     -999,9,20180504,0545, -67.2995, -92.9995,     -999,9,     -999,9,-999          ,9,     -999,9,     -999,9,     -999,     -999,9,     -999,     -999,9,     -999,9,     -999,9,     -999,9,     -999,9,     -999,9,     -999,9,     -999,9,     -999,9,     -999,9,     -999,9,     -999,9,     -999,9,     -999,9
320620180309  ,S04P       ,111     ,  1,27         ,27         ,2,20180504,0400, -67.3000, -92.9997,     4017,    288.2,2.2737304052057285553,34.376177899992769,2,  34.3752,2,199.80674162458496,2, 197.8995,2,    197.9,2,     60.5,2,    34.83,2,     0.00,2,     2.37,2,    2.027,2,    1.064,2,   0.6500,2,     -999,9,     -999,9,     -999,9,     -999,     -999,9,     -999,9,   2.2719,2,     -999,9,     -999,9,     -999,     -999,9,     -999,9,     -999,9,     -999,9,    0.061,1,    4.643,1,    0.141,1,  22.9700,2,     -999,9,20180504,0542, -67.2995, -92.9995,     -999,9,     -999,9,-999          ,9,     -999,9,     -999,9,     -999,     -999,9,     -999,     -999,9,     -999,9,     -999,9,     -999,9,     -999,9,     -999,9,     -999,9,     -999,9,     -999,9,     -999,9,     -999,9,     -999,9,     -999,9,     -999,9
320620180309  ,S04P       ,111     ,  1,26         ,38         ,2,20180504,0400, -67.3000, -92.9997,     4017,    337.5,2.2592590645225363311,34.419113904657955,2,  34.4211,2,190.36698296046677,2, 188.4018,2,    190.1,2,     64.8,2,    35.03,2,     0.00,2,     2.37,2,    1.697,2,    0.895,2,   0.6700,2,   2242.8,2,  2322.71,2,   7.5434,2,    25.03,     -999,9,     -999,9,   2.2587,2,     -999,9,     -999,9,     -999,     -999,9,     -999,9,     -999,9,     -999,9,    0.061,1,    4.642,1,    0.141,1,  23.7400,2,     -999,9,20180504,0540, -67.2995, -92.9995,     -999,9,     -999,9,-999          ,9,     -999,9,     -999,9,     -999,     -999,9,     -999,     -999,9,     -999,9,     -999,9,     -999,9,     -999,9,     -999,9,     -999,9,     -999,9,     -999,9,     -999,9,     -999,9,     -999,9,     -999,9,     -999,9
320620180309  ,S04P       ,111     ,  1,25         ,25         ,2,20180504,0400, -67.3000, -92.9997,     4017,    388.3,2.3411323197845295141,34.471063920738729,2,  34.4719,2,182.26244191713121,3, 180.9975,2,    179.7,2,     69.0,2,    35.15,2,     0.00,2,     2.38,2,    1.299,2,    0.673,2,   0.4500,2,     -999,9,     -999,9,     -999,9,     -999,     -999,9,     -999,9,   2.3412,2,     -999,9,     -999,9,     -999,     -999,9,     -999,9,     -999,9,     -999,9,    0.061,1,    4.645,1,    0.139,1,  23.4900,2,     -999,9,20180504,0538, -67.2996, -92.9994,     -999,9,     -999,9,-999          ,9,     -999,9,     -999,9,     -999,     -999,9,     -999,     -999,9,     -999,9,     -999,9,     -999,9,     -999,9,     -999,9,     -999,9,     -999,9,     -999,9,     -999,9,     -999,9,     -999,9,     -999,9,     -999,9
320620180309  ,S04P       ,111     ,  1,24         ,24         ,2,20180504,0400, -67.3000, -92.9997,     4017,    440.0,2.3074861599440681381,34.509745882256226,2,  34.5073,2,177.31083275007254,2, 176.0995,2,    176.9,2,     71.9,2,    35.02,2,     0.00,2,     2.37,2,    1.099,2,    0.581,2,   0.2100,2,   2254.1,2,  2335.86,2,   7.5397,2,    25.04,     -999,9,     -999,9,   2.3075,2,     -999,9,     -999,9,     -999,     -999,9,     -999,9,     -999,9,     -999,9,    0.061,1,    4.645,1,    0.139,1,  23.5400,2,     -999,9,20180504,0535, -67.2996, -92.9994,     -999,9,     -999,9,-999          ,9,     -999,9,     -999,9,     -999,     -999,9,     -999,     -999,9,     -999,9,     -999,9,     -999,9,     -999,9,     -999,9,     -999,9,     -999,9,     -999,9,     -999,9,     -999,9,     -999,9,     -999,9,     -999,9
320620180309  ,S04P       ,111     ,  1,23         ,23         ,2,20180504,0400, -67.3000, -92.9997,     4017,    491.2,2.2946508594620986798,34.539019546736782,2,  34.5387,2,175.85512541654228,2, 175.0981,2,    175.2,2,     74.1,2,    34.87,2,     0.00,2,     2.36,2,    0.926,2,    0.488,2,   0.0800,2,   2254.7,2,  2336.22,2,   7.5433,2,    25.03,     -999,9,     -999,9,   2.2947,2,     -999,9,     -999,9,     -999,     -999,9,     -999,9,     -999,9,     -999,9,    0.062,1,    4.645,1,    0.137,1,  23.6600,2,     -999,9,20180504,0533, -67.2997, -92.9994,     -999,9,     -999,9,-999          ,9,     -999,9,     -999,9,     -999,     -999,9,     -999,     -999,9,     -999,9,     -999,9,     -999,9,     -999,9,     -999,9,     -999,9,     -999,9,     -999,9,     -999,9,     -999,9,     -999,9,     -999,9,     -999,9
320620180309  ,S04P       ,111     ,  1,22         ,37         ,2,20180504,0400, -67.3000, -92.9997,     4017,    571.3,2.2717898980533992592,34.586423451452426,2,  34.5873,2,173.43703120496914,2, 172.8034,2,    172.8,2,     77.7,2,    34.45,2,     0.00,2,     2.35,2,     -999,9,     -999,9,     -999,9,   2257.7,6,  2339.79,2,   7.5476,2,    25.03,     -999,9,     -999,9,   2.2717,2,     -999,9,     -999,9,     -999,     -999,9,     -999,9,     -999,9,     -999,9,    0.061,1,    4.646,1,    0.135,1,     -999,9,     -999,9,20180504,0530, -67.2998, -92.9993,     -999,9,     -999,9,-999          ,9,     -999,9,     -999,9,     -999,     -999,9,     -999,     -999,9,     -999,9,     -999,9,     -999,9,     -999,9,     -999,9,     -999,9,     -999,9,     -999,9,     -999,9,     -999,9,     -999,9,     -999,9,     -999,9
320620180309  ,S04P       ,111     ,  1,21         ,21         ,2,20180504,0400, -67.3000, -92.9997,     4017,    673.1,2.2208905616883587442,34.632117880384222,2,  34.6313,2,173.68376062575391,2, 173.5037,2,    173.3,2,     80.7,2,    33.85,2,     0.00,2,     2.30,2,    0.479,2,    0.254,2,   0.0900,2,   2259.4,2,  2344.76,2,   7.5578,2,    25.03,     -999,9,     -999,9,   2.2210,2,     -999,9,     -999,9,     -999,     -999,9,     -999,9,     -999,9,     -999,9,    0.061,1,    4.647,1,    0.135,1,  22.4600,2,     -999,9,20180504,0527, -67.3000, -92.9993,     -999,9,     -999,9,-999          ,9,     -999,9,     -999,9,     -999,     -999,9,     -999,     -999,9,     -999,9,     -999,9,     -999,9,     -999,9,     -999,9,     -999,9,     -999,9,     -999,9,     -999,9,     -999,9,     -999,9,     -999,9,     -999,9
320620180309  ,S04P       ,111     ,  1,20         ,20         ,2,20180504,0400, -67.3000, -92.9997,     4017,    774.5,2.1731572630877331598,34.660564331519438,2,  34.6601,2,176.05093962981442,2, 175.1014,2,    174.9,2,     82.6,2,    33.29,2,     0.00,2,     2.26,2,     -999,9,     -999,9,     -999,9,   2259.4,2,  2347.05,2,   7.5650,6,    25.04,     -999,9,     -999,9,   2.1733,2,     -999,9,     -999,9,     -999,     -999,9,     -999,9,     -999,9,     -999,9,    0.061,1,    4.648,1,    0.132,1,     -999,9,     -999,9,20180504,0524, -67.3002, -92.9993,     -999,9,     -999,9,-999          ,9,     -999,9,     -999,9,     -999,     -999,9,     -999,     -999,9,     -999,9,     -999,9,     -999,9,     -999,9,     -999,9,     -999,9,     -999,9,     -999,9,     -999,9,     -999,9,     -999,9,     -999,9,     -999,9
320620180309  ,S04P       ,111     ,  1,19         ,19         ,2,20180504,0400, -67.3000, -92.9997,     4017,    874.6,2.1111731924763690316,34.684502411755822,2,  34.6839,2,178.40197497233544,2, 177.7002,2,    177.9,2,     84.4,2,    32.79,2,     0.00,2,     2.24,2,    0.300,2,    0.170,2,   0.0800,2,   2257.3,2,  2349.61,2,   7.5728,2,    25.03,     -999,9,     -999,9,   2.1111,2,     -999,9,     -999,9,     -999,     -999,9,     -999,9,     -999,9,     -999,9,    0.062,1,    4.648,1,    0.131,1,  21.3700,2,     -999,9,20180504,0521, -67.3002, -92.9993,     -999,9,     -999,9,-999          ,9,     -999,9,     -999,9,     -999,     -999,9,     -999,     -999,9,     -999,9,     -999,9,     -999,9,     -999,9,     -999,9,     -999,9,     -999,9,     -999,9,     -999,9,     -999,9,     -999,9,     -999,9,     -999,9
320620180309  ,S04P       ,111     ,  1,18         ,18         ,2,20180504,0400, -67.3000, -92.9997,     4017,    975.3,2.0465192274103207737,34.700857171629998,2,  34.7002,2,181.11954068333606,2, 180.4994,2,    180.1,2,     86.0,2,    32.33,2,     0.00,2,     2.20,2,     -999,9,     -999,9,     -999,9,     -999,9,     -999,9,     -999,9,     -999,     -999,9,     -999,9,   2.0468,2,     -999,9,     -999,9,     -999,     -999,9,     -999,9,     -999,9,     -999,9,    0.061,1,    4.648,1,    0.131,1,     -999,9,     -999,9,20180504,0518, -67.3000, -92.9993,     -999,9,     -999,9,-999          ,9,     -999,9,     -999,9,     -999,     -999,9,     -999,     -999,9,     -999,9,     -999,9,     -999,9,     -999,9,     -999,9,     -999,9,     -999,9,     -999,9,     -999,9,     -999,9,     -999,9,     -999,9,     -999,9
320620180309  ,S04P       ,111     ,  1,17         ,17         ,2,20180504,0400, -67.3000, -92.9997,     4017,   1077.2,1.9710509906368203215,34.713324698720065,2,  34.7129,2,184.46827761682874,2, 183.3046,2,    183.6,2,     88.1,2,    32.05,2,     0.00,2,     2.19,2,    0.218,2,    0.116,2,   0.0000,2,   2256.7,2,  2352.70,2,   7.5853,2,    25.03,     -999,9,     -999,9,   1.9710,2,     -999,9,     -999,9,     -999,     -999,9,     -999,9,     -999,9,     -999,9,    0.060,1,    4.647,1,    0.132,1,  20.4400,2,     -999,9,20180504,0514, -67.2997, -92.9993,     -999,9,     -999,9,-999          ,9,     -999,9,     -999,9,     -999,     -999,9,     -999,     -999,9,     -999,9,     -999,9,     -999,9,     -999,9,     -999,9,     -999,9,     -999,9,     -999,9,     -999,9,     -999,9,     -999,9,     -999,9,     -999,9
320620180309  ,S04P       ,111     ,  1,16         ,16         ,2,20180504,0400, -67.3000, -92.9997,     4017,   1178.9,1.8858377141798834398,34.721889903397781,2,  34.7210,2,186.69298328920473,2, 186.0014,2,    186.0,2,     90.3,2,    31.82,2,     0.00,2,     2.16,2,     -999,9,     -999,9,     -999,9,     -999,9,     -999,9,     -999,9,     -999,     -999,9,     -999,9,   1.8859,2,     -999,9,     -999,9,     -999,     -999,9,     -999,9,     -999,9,     -999,9,    0.061,1,    4.647,1,    0.131,1,     -999,9,     -999,9,20180504,0511, -67.2994, -92.9995,     -999,9,     -999,9,-999          ,9,     -999,9,     -999,9,     -999,     -999,9,     -999,     -999,9,     -999,9,     -999,9,     -999,9,     -999,9,     -999,9,     -999,9,     -999,9,     -999,9,     -999,9,     -999,9,     -999,9,     -999,9,     -999,9