BOTTLE,20240515CCHHYDRO
EXPOCODE,SECT_ID,STNNBR,CASTNO,SAMPNO,BTLNBR,BTLNBR_FLAG_W,DATE,TIME,LATITUDE,LONGITUDE,DEPTH,CTDPRS,CTDTMP,CTDSAL,CTDSAL_FLAG_W,SALNTY,SALNTY_FLAG_W,CTDOXY,CTDOXY_FLAG_W,CTDOPTOXY,CTDOPTOXY_FLAG_W,OXYGEN,OXYGEN_FLAG_W,SILCAT,SILCAT_FLAG_W,NITRAT,NITRAT_FLAG_W,NITRIT,NITRIT_FLAG_W,PHSPHT,PHSPHT_FLAG_W,CFC-11,CFC-11_FLAG_W,CFC-12,CFC-12_FLAG_W,SF6,SF6_FLAG_W,TCARBN,TCARBN_FLAG_W,ALKALI,ALKALI_FLAG_W,PH_TOT,PH_TOT_FLAG_W,PH_TMP,DOC,DOC_FLAG_W,HELIUM,HELIUM_FLAG_W,REFTMP,REFTMP_FLAG_W,DELC13,DELC13_FLAG_W,DELC14,DELC14_FLAG_W,C14ERR,POC,POC_FLAG_W,TDN,TDN_FLAG_W,TON,TON_FLAG_W,NEON,NEON_FLAG_W,CTDFLUOR,CTDFLUOR_FLAG_W,CTDXMISS,CTDXMISS_FLAG_W,CTDBETA700,CTDBETA700_FLAG_W,N2O,N2O_FLAG_W,ARGON,ARGON_FLAG_W,BTL_DATE,BTL_TIME,BTL_LAT,BTL_LON,KRYPTON,KRYPTON_FLAG_W,XENON,XENON_FLAG_W,HPLC,HPLC_FLAG_W,HE3_HE4_RATIO,HE3_HE4_RATIO_FLAG_W,Nd_143_144_D_EPSILON_BOTTLE,Nd_143_144_D_EPSILON_BOTTLE_FLAG_W,Nd_143_144_D_EPSILON_BOTTLE_ERROR,Nd_143_144_D_RATIO_BOTTLE,Nd_143_144_D_RATIO_BOTTLE_FLAG_W,Nd_143_144_D_RATIO_BOTTLE_ERROR,Nd_D_CONC,Nd_D_CONC_FLAG_W,La_D_CONC_BOTTLE,La_D_CONC_BOTTLE_FLAG_W,Ce_D_CONC_BOTTLE,Ce_D_CONC_BOTTLE_FLAG_W,Pr_D_CONC_BOTTLE,Pr_D_CONC_BOTTLE_FLAG_W,Sm_D_CONC_BOTTLE,Sm_D_CONC_BOTTLE_FLAG_W,Eu_D_CONC_BOTTLE,Eu_D_CONC_BOTTLE_FLAG_W,Gd_D_CONC_BOTTLE,Gd_D_CONC_BOTTLE_FLAG_W,Tb_D_CONC_BOTTLE,Tb_D_CONC_BOTTLE_FLAG_W,Dy_D_CONC_BOTTLE,Dy_D_CONC_BOTTLE_FLAG_W,Ho_D_CONC_BOTTLE,Ho_D_CONC_BOTTLE_FLAG_W,Er_D_CONC_BOTTLE,Er_D_CONC_BOTTLE_FLAG_W,Tm_D_CONC_BOTTLE,Tm_D_CONC_BOTTLE_FLAG_W,Yb_D_CONC_BOTTLE,Yb_D_CONC_BOTTLE_FLAG_W,Lu_D_CONC_BOTTLE,Lu_D_CONC_BOTTLE_FLAG_W
,,,,,,,,,,,METERS,DBAR,ITS-90,PSS-78,,PSS-78,,UMOL/KG,,UMOL/KG,,UMOL/KG,,UMOL/KG,,UMOL/KG,,UMOL/KG,,UMOL/KG,,PMOL/KG,,PMOL/KG,,FMOL/KG,,UMOL/KG,,UMOL/KG,,,,DEG C,UMOL/KG,,NMOL/L,,DEG C,,/MILLE,,/MILLE,,/MILLE,UG/KG,,UMOL/KG,,UMOL/KG,,NMOL/L,,VOLTS,,VOLTS,,VOLTS,,NMOL/KG,,UMOL/L,,,,,,NMOL/L,,NMOL/L,,,,,,10000,,10000,,,,PMOL/KG,,PMOL/L,,PMOL/L,,PMOL/L,,PMOL/L,,PMOL/L,,PMOL/L,,PMOL/L,,PMOL/L,,PMOL/L,,PMOL/L,,PMOL/L,,PMOL/L,,PMOL/L,
320620180309  ,P15        ,14      ,  1,14         ,14         ,2,20180322,2208, -69.0058,-169.9993,     3990,   1452.8,0.7773277777777777287,34.705871460360598,2,  34.7080,2,204.85958147803859,2, 203.2991,2,    203.1,2,    121.4,2,    32.29,2,     0.00,2,     2.21,2,     -999,9,     -999,9,     -999,9,   2261.4,2,  2360.98,2,   7.5940,2,    24.95,     42.8,2,     -999,9,   0.7766,2,     -999,9,     -999,9,     -999,     -999,9,     -999,9,     -999,1,     -999,9,    0.061,1,    4.683,1,    0.130,1,     -999,9,     -999,9,20180322,2313, -69.0054,-170.0003,     -999,9,     -999,9,-999          ,9,     -999,9,     -999,9,     -999,     -999,9,     -999,     -999,9,     -999,1,     -999,1,     -999,1,     -999,1,     -999,1,     -999,1,     -999,1,     -999,1,     -999,1,     -999,1,     -999,1,     -999,1,     -999,1
320620180309  ,P15        ,14      ,  1,13         ,13         ,2,20180322,2208, -69.0058,-169.9993,     3990,   1557.0,0.7364333333333333842,34.708397868602837,2,  34.7058,2,204.08292541996946,2, 205.4013,2,    204.4,2,    122.6,2,    32.27,2,     0.00,2,     2.20,2,    0.167,2,    0.091,2,   0.0000,2,   2262.5,2,  2360.66,2,   7.5940,2,    24.95,     -999,9,     -999,9,   0.7344,2,     -999,9,     -999,9,     -999,     -999,9,     -999,9,     -999,9,     -999,9,    0.060,1,    4.683,1,    0.131,1,  20.0500,2,     -999,9,20180322,2310, -69.0054,-170.0002,     -999,9,     -999,9,-999          ,9,     -999,9,     -999,9,     -999,     -999,9,     -999,     -999,9,     -999,9,     -999,9,     -999,9,     -999,9,     -999,9,     -999,9,     -999,9,     -999,9,     -999,9,     -999,9,     -999,9,     -999,9,     -999,9
320620180309  ,P15        ,14      ,  1,12         ,12         ,2,20180322,2208, -69.0058,-169.9993,     3990,   1657.9,0.6951249999999999929,34.701163392788473,2,  34.7053,2,207.13196602007616,2, 204.6973,2,    205.2,2,    123.6,2,    32.31,2,     0.00,2,     2.20,2,    0.178,2,    0.097,2,   0.0200,2,   2262.6,2,  2362.32,2,   7.5917,6,    24.94,     41.0,2,     -999,1,   0.6977,2,     -999,9,     -999,9,     -999,     -999,9,     -999,9,     -999,1,     -999,1,    0.060,1,    4.684,1,    0.128,1,  20.0700,2,     -999,1,20180322,2306, -69.0051,-170.0003,     -999,1,     -999,1,-999          ,9,     -999,1,     -999,9,     -999,     -999,9,     -999,     -999,9,     -999,1,     -999,1,     -999,1,     -999,1,     -999,1,     -999,1,     -999,1,     -999,1,     -999,1,     -999,1,     -999,1,     -999,1,     -999,1
320620180309  ,P15        ,14      ,  1,11         ,11         ,2,20180322,2208, -69.0058,-169.9993,     3990,   1759.3,0.6550083333333334146,34.704760512742794,2,  34.7041,2,206.39394939655139,2, 206.9008,2,    205.7,2,    124.7,2,    32.35,2,     0.00,2,     2.21,2,     -999,9,     -999,9,     -999,9,   2262.7,6,  2361.31,2,   7.5901,2,    24.94,     -999,9,     -999,9,   0.6578,2,     -999,9,     -999,9,     -999,     -999,9,     -999,9,     -999,9,     -999,9,    0.061,1,    4.683,1,    0.128,1,     -999,9,     -999,9,20180322,2303, -69.0052,-170.0003,     -999,9,     -999,9,-999          ,9,     -999,9,     -999,9,     -999,     -999,9,     -999,     -999,9,     -999,9,     -999,9,     -999,9,     -999,9,     -999,9,     -999,9,     -999,9,     -999,9,     -999,9,     -999,9,     -999,9,     -999,9,     -999,9
320620180309  ,P15        ,14      ,  1,10         ,10         ,2,20180322,2208, -69.0058,-169.9993,     3990,   1891.7,0.6173916666666665609,34.696982171806482,3,  34.7025,2,210.90377255603946,3, 205.3014,2,    206.7,2,    125.7,2,    32.40,2,     0.00,2,     2.21,2,    0.189,2,    0.103,2,   0.0000,2,   2263.7,2,  2362.68,2,   7.5935,2,    24.95,     39.6,2,     -999,9,   0.6192,2,     -999,9,     -999,9,     -999,     -999,9,     -999,9,     -999,1,     -999,9,    0.060,1,    4.683,1,    0.129,1,  20.2300,2,     -999,9,20180322,2300, -69.0054,-170.0004,     -999,9,     -999,9,-999          ,9,     -999,9,     -999,9,     -999,     -999,9,     -999,     -999,9,     -999,1,     -999,1,     -999,1,     -999,1,     -999,1,     -999,1,     -999,1,     -999,1,     -999,1,     -999,1,     -999,1,     -999,1,     -999,1
320620180309  ,P15        ,14      ,  1,9          ,9          ,2,20180322,2208, -69.0058,-169.9993,     3990,   2116.7,0.5330805555555556685,34.697147748205587,3,  34.7011,2,210.67014775238292,3, 208.1018,2,    208.5,2,    127.2,2,    32.45,2,     0.00,2,     2.21,2,    0.228,2,    0.122,2,   0.1200,2,   2263.6,2,  2361.63,2,   7.5935,2,    24.94,     39.7,2,     -999,1,   0.5350,2,     -999,9,     -999,9,     -999,     -999,9,     -999,9,     -999,1,     -999,1,    0.061,1,    4.683,1,    0.127,1,  20.1800,2,     -999,1,20180322,2254, -69.0059,-170.0005,     -999,1,     -999,1,-999          ,9,     -999,1,     -999,9,     -999,     -999,9,     -999,     -999,9,     -999,9,     -999,9,     -999,9,     -999,9,     -999,9,     -999,9,     -999,9,     -999,9,     -999,9,     -999,9,     -999,9,     -999,9,     -999,9
320620180309  ,P15        ,14      ,  1,8          ,8          ,2,20180322,2208, -69.0058,-169.9993,     3990,   2372.2,0.4576861111111111269,34.698331625917170,2,  34.6994,2,211.38910122783176,2, 210.9995,2,    210.5,2,    128.9,2,    32.50,2,     0.00,2,     2.22,2,     -999,9,     -999,9,     -999,9,   2263.9,2,  2363.67,2,   7.5923,2,    24.93,     39.4,2,     -999,9,   0.4601,2,     -999,9,     -999,9,     -999,     -999,9,     -999,9,     -999,1,     -999,9,    0.060,1,    4.682,1,    0.139,1,     -999,9,     -999,9,20180322,2248, -69.0058,-169.9994,     -999,9,     -999,9,-999          ,9,     -999,9,     -999,9,     -999,     -999,9,     -999,     -999,9,     -999,1,     -999,1,     -999,1,     -999,1,     -999,1,     -999,1,     -999,1,     -999,1,     -999,1,     -999,1,     -999,1,     -999,1,     -999,1
320620180309  ,P15        ,14      ,  1,7          ,7          ,2,20180322,2208, -69.0058,-169.9993,     3990,   2628.6,0.3886000000000000565,34.694845494137446,3,  34.6970,2,214.25137081416941,2, 212.6013,2,    212.9,2,    129.6,2,    32.51,2,     0.00,2,     2.22,2,    0.357,2,    0.194,2,   0.0500,2,   2265.1,2,  2363.50,2,   7.5932,2,    24.93,     43.2,2,     -999,9,   0.3885,2,     -999,9,     -999,9,     -999,     -999,9,     -999,9,     -999,1,     -999,9,    0.060,1,    4.682,1,    0.127,1,  20.4200,2,     -999,9,20180322,2242, -69.0059,-169.9993,     -999,9,     -999,9,-999          ,9,     -999,9,     -999,9,     -999,     -999,9,     -999,     -999,9,     -999,9,     -999,9,     -999,9,     -999,9,     -999,9,     -999,9,     -999,9,     -999,9,     -999,9,     -999,9,     -999,9,     -999,9,     -999,9
320620180309  ,P15        ,14      ,  1,6          ,6          ,2,20180322,2208, -69.0058,-169.9993,     3990,   2882.3,0.3314055555555556198,34.693089684355535,2,  34.6941,2,215.99221627139838,2, 214.8994,2,    214.9,2,    129.5,2,    32.51,2,     0.00,2,     2.22,2,    0.453,2,    0.242,2,   0.0400,2,   2263.5,2,  2361.01,2,   7.5927,2,    24.94,     42.0,2,     -999,1,   0.3315,2,     -999,9,     -999,9,     -999,     -999,9,     -999,9,     -999,1,     -999,1,    0.060,1,    4.683,1,    0.126,1,  20.3100,2,     -999,1,20180322,2236, -69.0060,-169.9993,     -999,1,     -999,1,-999          ,9,     -999,1,     -999,9,     -999,     -999,9,     -999,     -999,9,     -999,1,     -999,1,     -999,1,     -999,1,     -999,1,     -999,1,     -999,1,     -999,1,     -999,1,     -999,1,     -999,1,     -999,1,     -999,1
320620180309  ,P15        ,14      ,  1,5          ,5          ,2,20180322,2208, -69.0058,-169.9993,     3990,   3154.0,0.2690888888888888220,34.691441765872881,2,  34.6905,2,217.64826719705624,2, 222.0950,3,    217.8,2,    128.1,2,    32.46,2,     0.00,2,     2.23,2,    0.636,2,    0.338,2,   0.0500,2,   2263.3,2,  2362.30,2,   7.5919,2,    24.94,     42.2,2,     -999,1,   0.2673,2,     -999,9,     -999,9,     -999,     -999,9,     -999,9,     -999,1,     -999,1,    0.061,1,    4.682,1,    0.128,1,  19.8800,2,     -999,1,20180322,2230, -69.0062,-169.9993,     -999,1,     -999,1,-999          ,9,     -999,1,     -999,9,     -999,     -999,9,     -999,     -999,9,     -999,1,     -999,1,     -999,1,     -999,1,     -999,1,     -999,1,     -999,1,     -999,1,     -999,1,     -999,1,     -999,1,     -999,1,     -999,1
320620180309  ,P15        ,14      ,  1,4          ,4          ,2,20180322,2208, -69.0058,-169.9993,     3990,   3460.8,0.2088277777777777511,34.686236007527228,2,  34.6848,2,221.77287645916479,2, 222.9986,2,    221.2,2,    124.0,2,    32.36,2,     0.00,2,     2.22,2,    0.960,2,    0.505,2,   0.2100,2,   2262.7,2,  2359.88,2,   7.5913,2,    24.94,     -999,9,     -999,1,   0.2064,2,     -999,9,     -999,9,     -999,     -999,9,     -999,9,     -999,9,     -999,1,    0.060,1,    4.681,1,    0.129,1,  19.8400,2,     -999,1,20180322,2223, -69.0063,-169.9993,     -999,1,     -999,1,-999          ,9,     -999,1,     -999,9,     -999,     -999,9,     -999,     -999,9,     -999,1,     -999,1,     -999,1,     -999,1,     -999,1,     -999,1,     -999,1,     -999,1,     -999,1,     -999,1,     -999,1,     -999,1,     -999,1
320620180309  ,P15        ,14      ,  1,3          ,3          ,2,20180322,2208, -69.0058,-169.9993,     3990,   3769.3,0.1884305555555555456,34.690505405110365,3,  34.6841,2,217.87337533258756,3, 223.0007,2,    222.5,2,    122.0,2,    32.26,2,     0.00,2,     2.23,2,    1.062,6,    0.561,6,   0.3800,6,   2261.7,2,  2359.54,2,   7.5894,2,    24.93,     42.0,2,     -999,1,   0.1853,2,     -999,9,     -999,9,     -999,     -999,9,     -999,9,     -999,1,     -999,1,    0.061,1,    4.680,1,    0.128,1,  19.9400,6,     -999,1,20180322,2216, -69.0059,-169.9993,     -999,1,     -999,1,-999          ,9,     -999,1,     -999,9,     -999,     -999,9,     -999,     -999,9,     -999,1,     -999,1,     -999,1,     -999,1,     -999,1,     -999,1,     -999,1,     -999,1,     -999,1,     -999,1,     -999,1,     -999,1,     -999,1
320620180309  ,P15        ,14      ,  1,2          ,2          ,2,20180322,2208, -69.0058,-169.9993,     3990,   3914.2,0.1790527777777777829,34.684951567588790,2,  34.6845,2,223.56532464070312,2, 222.9987,2,    223.8,2,    121.6,2,    32.30,2,     0.00,2,     2.22,2,    1.117,2,    0.600,2,   0.5100,2,   2261.9,2,  2359.99,2,   7.5878,2,    24.94,     -999,9,     -999,1,   0.1789,2,     -999,9,     -999,9,     -999,     -999,9,     -999,9,     -999,9,     -999,1,    0.061,1,    4.679,1,    0.129,1,  20.3400,2,     -999,1,20180322,2212, -69.0058,-169.9993,     -999,1,     -999,1,-999          ,9,     -999,1,     -999,9,     -999,     -999,9,     -999,     -999,9,     -999,1,     -999,1,     -999,1,     -999,1,     -999,1,     -999,1,     -999,1,     -999,1,     -999,1,     -999,1,     -999,1,     -999,1,     -999,1
320620180309  ,P15        ,14      ,  1,1          ,1          ,2,20180322,2208, -69.0058,-169.9993,     3990,   4059.5,0.1479666666666666353,34.681943040139963,2,  34.6805,2,224.50400302522698,2, 222.9993,2,    224.7,2,    119.8,2,    32.27,2,     0.00,2,     2.22,2,    1.259,2,    0.688,2,   0.6100,2,   2262.1,6,  2358.31,2,   7.5905,2,    24.94,     40.7,2,     -999,1,   0.1476,2,     -999,9,     -999,9,     -999,     -999,9,     -999,9,     -999,1,     -999,1,    0.061,1,    4.676,1,    0.133,1,  20.4100,2,     -999,1,20180322,2208, -69.0058,-169.9993,     -999,1,     -999,1,-999          ,9,     -999,1,     -999,9,     -999,     -999,9,     -999,     -999,9,     -999,1,     -999,1,     -999,1,     -999,1,     -999,1,     -999,1,     -999,1,     -999,1,     -999,1,     -999,1,     -999,1,     -999,1,     -999,1