BOTTLE,20240515CCHHYDRO
EXPOCODE,SECT_ID,STNNBR,CASTNO,SAMPNO,BTLNBR,BTLNBR_FLAG_W,DATE,TIME,LATITUDE,LONGITUDE,DEPTH,CTDPRS,CTDTMP,CTDSAL,CTDSAL_FLAG_W,SALNTY,SALNTY_FLAG_W,CTDOXY,CTDOXY_FLAG_W,CTDOPTOXY,CTDOPTOXY_FLAG_W,OXYGEN,OXYGEN_FLAG_W,SILCAT,SILCAT_FLAG_W,NITRAT,NITRAT_FLAG_W,NITRIT,NITRIT_FLAG_W,PHSPHT,PHSPHT_FLAG_W,CFC-11,CFC-11_FLAG_W,CFC-12,CFC-12_FLAG_W,SF6,SF6_FLAG_W,TCARBN,TCARBN_FLAG_W,ALKALI,ALKALI_FLAG_W,PH_TOT,PH_TOT_FLAG_W,PH_TMP,DOC,DOC_FLAG_W,HELIUM,HELIUM_FLAG_W,REFTMP,REFTMP_FLAG_W,DELC13,DELC13_FLAG_W,DELC14,DELC14_FLAG_W,C14ERR,POC,POC_FLAG_W,TDN,TDN_FLAG_W,TON,TON_FLAG_W,NEON,NEON_FLAG_W,CTDFLUOR,CTDFLUOR_FLAG_W,CTDXMISS,CTDXMISS_FLAG_W,CTDBETA700,CTDBETA700_FLAG_W,N2O,N2O_FLAG_W,ARGON,ARGON_FLAG_W,BTL_DATE,BTL_TIME,BTL_LAT,BTL_LON,KRYPTON,KRYPTON_FLAG_W,XENON,XENON_FLAG_W,HPLC,HPLC_FLAG_W,HE3_HE4_RATIO,HE3_HE4_RATIO_FLAG_W,Nd_143_144_D_EPSILON_BOTTLE,Nd_143_144_D_EPSILON_BOTTLE_FLAG_W,Nd_143_144_D_EPSILON_BOTTLE_ERROR,Nd_143_144_D_RATIO_BOTTLE,Nd_143_144_D_RATIO_BOTTLE_FLAG_W,Nd_143_144_D_RATIO_BOTTLE_ERROR,Nd_D_CONC,Nd_D_CONC_FLAG_W,La_D_CONC_BOTTLE,La_D_CONC_BOTTLE_FLAG_W,Ce_D_CONC_BOTTLE,Ce_D_CONC_BOTTLE_FLAG_W,Pr_D_CONC_BOTTLE,Pr_D_CONC_BOTTLE_FLAG_W,Sm_D_CONC_BOTTLE,Sm_D_CONC_BOTTLE_FLAG_W,Eu_D_CONC_BOTTLE,Eu_D_CONC_BOTTLE_FLAG_W,Gd_D_CONC_BOTTLE,Gd_D_CONC_BOTTLE_FLAG_W,Tb_D_CONC_BOTTLE,Tb_D_CONC_BOTTLE_FLAG_W,Dy_D_CONC_BOTTLE,Dy_D_CONC_BOTTLE_FLAG_W,Ho_D_CONC_BOTTLE,Ho_D_CONC_BOTTLE_FLAG_W,Er_D_CONC_BOTTLE,Er_D_CONC_BOTTLE_FLAG_W,Tm_D_CONC_BOTTLE,Tm_D_CONC_BOTTLE_FLAG_W,Yb_D_CONC_BOTTLE,Yb_D_CONC_BOTTLE_FLAG_W,Lu_D_CONC_BOTTLE,Lu_D_CONC_BOTTLE_FLAG_W
,,,,,,,,,,,METERS,DBAR,ITS-90,PSS-78,,PSS-78,,UMOL/KG,,UMOL/KG,,UMOL/KG,,UMOL/KG,,UMOL/KG,,UMOL/KG,,UMOL/KG,,PMOL/KG,,PMOL/KG,,FMOL/KG,,UMOL/KG,,UMOL/KG,,,,DEG C,UMOL/KG,,NMOL/L,,DEG C,,/MILLE,,/MILLE,,/MILLE,UG/KG,,UMOL/KG,,UMOL/KG,,NMOL/L,,VOLTS,,VOLTS,,VOLTS,,NMOL/KG,,UMOL/L,,,,,,NMOL/L,,NMOL/L,,,,,,10000,,10000,,,,PMOL/KG,,PMOL/L,,PMOL/L,,PMOL/L,,PMOL/L,,PMOL/L,,PMOL/L,,PMOL/L,,PMOL/L,,PMOL/L,,PMOL/L,,PMOL/L,,PMOL/L,,PMOL/L,
320620180309  ,P16        ,45      ,  1,15         ,15         ,2,20180405,2345, -71.4949,-150.0003,     4215,   1316.4,1.0183638888888888463,34.719589972248954,2,  34.7210,2,197.14493902490020,2, 196.9027,2,    197.6,2,    115.2,2,    32.29,2,     0.00,2,     2.19,2,     -999,9,     -999,9,     -999,9,     -999,9,     -999,9,     -999,9,     -999,     -999,9,     -999,9,   1.0171,2,0.64000000,2, -161.200,2,    0.002,     -999,9,     -999,9,     -999,9,     -999,9,    0.062,1,    4.673,1,    0.128,1,     -999,9,     -999,9,20180406,0101, -71.4951,-149.9994,     -999,9,     -999,9,-999          ,9,     -999,9,     -999,9,     -999,     -999,9,     -999,     -999,9,     -999,1,     -999,1,     -999,1,     -999,1,     -999,1,     -999,1,     -999,1,     -999,1,     -999,1,     -999,1,     -999,1,     -999,1,     -999,1
320620180309  ,P16        ,45      ,  1,14         ,14         ,2,20180405,2345, -71.4949,-150.0003,     4215,   1418.9,0.9620138888888889461,34.717290677666810,2,  34.7188,2,198.99369773225550,2, 198.1021,2,    198.9,2,    117.4,2,    32.31,2,     0.00,2,     2.19,2,     -999,9,     -999,9,     -999,9,   2262.9,2,  2362.70,2,   7.5959,2,    24.96,     -999,9,     -999,9,   0.9611,2,0.60000000,2, -163.430,2,    0.003,     -999,9,     -999,9,     -999,9,     -999,9,    0.061,1,    4.673,1,    0.129,1,     -999,9,     -999,9,20180406,0058, -71.4950,-149.9999,     -999,9,     -999,9,-999          ,9,     -999,9,     -999,9,     -999,     -999,9,     -999,     -999,9,     -999,9,     -999,9,     -999,9,     -999,9,     -999,9,     -999,9,     -999,9,     -999,9,     -999,9,     -999,9,     -999,9,     -999,9,     -999,9
320620180309  ,P16        ,45      ,  1,13         ,13         ,2,20180405,2345, -71.4949,-150.0003,     4215,   1521.0,0.9213055555555555998,34.715314003262584,2,  34.7166,2,199.80392835257572,2, 198.9078,2,    199.8,2,    119.1,2,    32.30,2,     0.00,2,     2.18,2,    0.119,2,    0.071,2,   0.0100,3,     -999,9,     -999,9,     -999,9,     -999,     -999,9,     -999,9,   0.9202,2,0.61000000,2, -163.480,2,    0.003,     -999,9,     -999,9,     -999,9,     -999,9,    0.060,1,    4.673,1,    0.127,1,  20.4300,2,     -999,9,20180406,0054, -71.4949,-150.0001,     -999,9,     -999,9,-999          ,9,     -999,9,     -999,9,     -999,     -999,9,     -999,     -999,9,     -999,1,     -999,1,     -999,1,     -999,1,     -999,1,     -999,1,     -999,1,     -999,1,     -999,1,     -999,1,     -999,1,     -999,1,     -999,1
320620180309  ,P16        ,45      ,  1,12         ,12         ,2,20180405,2345, -71.4949,-150.0003,     4215,   1622.5,0.8719194444444444692,34.713280532826957,2,  34.7141,2,200.70233937421293,2, 200.2998,2,    201.0,2,    121.1,2,    32.36,2,     0.00,2,     2.19,2,     -999,9,     -999,9,     -999,9,   2263.0,2,  2363.46,2,   7.5981,6,    24.96,     -999,9,     -999,9,   0.8708,2,0.59000000,2, -160.350,2,    0.002,     -999,9,     -999,9,     -999,9,     -999,9,    0.061,1,    4.673,1,    0.126,1,     -999,9,     -999,9,20180406,0050, -71.4949,-150.0004,     -999,9,     -999,9,-999          ,9,     -999,9,     -999,9,     -999,     -999,9,     -999,     -999,9,     -999,9,     -999,9,     -999,9,     -999,9,     -999,9,     -999,9,     -999,9,     -999,9,     -999,9,     -999,9,     -999,9,     -999,9,     -999,9
320620180309  ,P16        ,45      ,  1,11         ,11         ,2,20180405,2345, -71.4949,-150.0003,     4215,   1724.4,0.8263277777777777722,34.711505522881303,2,  34.7129,2,201.98290188483017,2, 201.2906,2,    202.0,2,    122.2,2,    32.38,2,     0.00,2,     2.20,2,     -999,9,     -999,9,     -999,9,     -999,9,     -999,9,     -999,9,     -999,     -999,9,     -999,9,   0.8266,2,0.63000000,2, -164.480,2,    0.002,     -999,9,     -999,9,     -999,9,     -999,9,    0.061,1,    4.673,1,    0.127,1,     -999,9,     -999,9,20180406,0046, -71.4948,-150.0012,     -999,9,     -999,9,-999          ,9,     -999,9,     -999,9,     -999,     -999,9,     -999,     -999,9,     -999,1,     -999,1,     -999,1,     -999,1,     -999,1,     -999,1,     -999,1,     -999,1,     -999,1,     -999,1,     -999,1,     -999,1,     -999,1
320620180309  ,P16        ,45      ,  1,10         ,10         ,2,20180405,2345, -71.4949,-150.0003,     4215,   1826.3,0.7823666666666668768,34.709672116662915,2,  34.7121,2,202.61135951555585,2, 202.2013,2,    202.8,2,    124.5,2,    32.42,2,     0.00,2,     2.20,2,    0.132,2,    0.080,2,   0.0200,3,   2263.9,2,  2363.09,2,   7.5959,6,    24.96,     -999,9,     -999,9,   0.7830,2,0.64000000,2, -164.590,2,    0.002,     -999,9,     -999,9,     -999,9,     -999,9,    0.061,1,    4.673,1,    0.126,1,  20.2500,2,     -999,9,20180406,0043, -71.4947,-150.0017,     -999,9,     -999,9,-999          ,9,     -999,9,     -999,9,     -999,     -999,9,     -999,     -999,9,     -999,9,     -999,9,     -999,9,     -999,9,     -999,9,     -999,9,     -999,9,     -999,9,     -999,9,     -999,9,     -999,9,     -999,9,     -999,9
320620180309  ,P16        ,45      ,  1,9          ,9          ,2,20180405,2345, -71.4949,-150.0003,     4215,   2028.9,0.7165861111111111459,34.707036291780710,2,  34.7082,2,204.27071871658282,2, 204.3019,2,    204.2,2,    126.1,2,    32.48,2,     0.00,2,     2.20,2,     -999,9,     -999,9,     -999,9,     -999,9,     -999,9,     -999,9,     -999,     -999,9,     -999,9,   0.7156,2,0.69000000,2, -162.640,2,    0.002,     -999,9,     -999,9,     -999,9,     -999,9,    0.060,1,    4.673,1,    0.126,1,     -999,9,     -999,9,20180406,0038, -71.4947,-150.0018,     -999,9,     -999,9,-999          ,9,     -999,9,     -999,9,     -999,     -999,9,     -999,     -999,9,     -999,1,     -999,1,     -999,1,     -999,1,     -999,1,     -999,1,     -999,1,     -999,1,     -999,1,     -999,1,     -999,1,     -999,1,     -999,1
320620180309  ,P16        ,45      ,  1,8          ,8          ,2,20180405,2345, -71.4949,-150.0003,     4215,   2285.5,0.6348805555555556701,34.704572459020639,2,  34.7058,2,206.17719748737130,2, 206.3012,2,    206.0,2,    128.1,2,    32.54,2,     0.00,2,     2.20,2,     -999,9,     -999,9,     -999,9,   2264.2,2,  2363.00,2,   7.6226,3,    25.40,     -999,9,     -999,9,   0.6345,2,0.68000000,2, -163.440,2,    0.002,     -999,9,     -999,9,     -999,9,     -999,9,    0.061,1,    4.673,1,    0.127,1,     -999,9,     -999,9,20180406,0032, -71.4948,-150.0012,     -999,9,     -999,9,-999          ,9,     -999,9,     -999,9,     -999,     -999,9,     -999,     -999,9,     -999,9,     -999,9,     -999,9,     -999,9,     -999,9,     -999,9,     -999,9,     -999,9,     -999,9,     -999,9,     -999,9,     -999,9,     -999,9
320620180309  ,P16        ,45      ,  1,7          ,7          ,2,20180405,2345, -71.4949,-150.0003,     4215,   2540.9,0.5496972222222222815,34.702974855521965,2,  34.7043,2,207.75866987742154,2, 208.5987,2,    208.4,2,    129.6,2,    32.60,2,     0.00,2,     2.22,2,    0.173,2,    0.096,2,   0.0300,3,     -999,9,     -999,9,     -999,9,     -999,     -999,9,     -999,9,   0.5490,2,0.67000000,2, -158.730,2,    0.002,     -999,9,     -999,9,     -999,9,     -999,9,    0.061,1,    4.672,1,    0.125,1,  20.1300,2,     -999,9,20180406,0026, -71.4949,-150.0007,     -999,9,     -999,9,-999          ,9,     -999,9,     -999,9,     -999,     -999,9,     -999,     -999,9,     -999,1,     -999,1,     -999,1,     -999,1,     -999,1,     -999,1,     -999,1,     -999,1,     -999,1,     -999,1,     -999,1,     -999,1,     -999,1
320620180309  ,P16        ,45      ,  1,6          ,6          ,2,20180405,2345, -71.4949,-150.0003,     4215,   2795.5,0.4677194444444444654,34.701866516058075,2,  34.7035,2,209.64720670689874,2, 210.7967,2,    210.1,2,    132.1,2,    32.69,2,     0.00,2,     2.22,2,     -999,9,     -999,9,     -999,9,   2264.1,2,  2364.25,2,   7.5961,2,    24.95,     -999,9,     -999,9,   0.4662,2,0.58000000,2, -165.980,2,    0.002,     -999,9,     -999,9,     -999,9,     -999,9,    0.061,1,    4.673,1,    0.125,1,     -999,9,     -999,9,20180406,0019, -71.4947,-150.0014,     -999,9,     -999,9,-999          ,9,     -999,9,     -999,9,     -999,     -999,9,     -999,     -999,9,     -999,9,     -999,9,     -999,9,     -999,9,     -999,9,     -999,9,     -999,9,     -999,9,     -999,9,     -999,9,     -999,9,     -999,9,     -999,9
320620180309  ,P16        ,45      ,  1,5          ,5          ,2,20180405,2345, -71.4949,-150.0003,     4215,   3053.0,0.4169694444444444481,34.701647477045846,2,  34.7025,2,210.93642478559846,2, 212.2036,2,    211.2,2,    134.7,2,    32.78,2,     0.00,2,     2.24,2,     -999,9,     -999,9,     -999,9,   2264.6,2,  2364.16,2,   7.5949,2,    24.95,     -999,9,     -999,9,   0.4164,2,0.53000000,2, -170.240,2,    0.002,     -999,9,     -999,9,     -999,9,     -999,9,    0.061,1,    4.673,1,    0.124,1,     -999,9,     -999,9,20180406,0014, -71.4946,-150.0021,     -999,9,     -999,9,-999          ,9,     -999,9,     -999,9,     -999,     -999,9,     -999,     -999,9,     -999,1,     -999,1,     -999,1,     -999,1,     -999,1,     -999,1,     -999,1,     -999,1,     -999,1,     -999,1,     -999,1,     -999,1,     -999,1
320620180309  ,P16        ,45      ,  1,4          ,4          ,2,20180405,2345, -71.4949,-150.0003,     4215,   3359.6,0.3694416666666667237,34.700952415735898,2,  34.7023,2,212.70235313938076,2, 213.7044,2,    212.5,2,    136.9,2,    32.86,2,     0.00,2,     2.25,2,    0.211,2,    0.128,2,  -0.0200,3,   2267.1,2,  2364.11,2,   7.5961,2,    24.95,     -999,9,     -999,9,   0.3689,2,0.54000000,2, -167.630,2,    0.002,     -999,9,     -999,9,     -999,9,     -999,9,    0.061,1,    4.672,1,    0.124,1,  20.6400,2,     -999,9,20180406,0006, -71.4946,-150.0021,     -999,9,     -999,9,-999          ,9,     -999,9,     -999,9,     -999,     -999,9,     -999,     -999,9,     -999,9,     -999,9,     -999,9,     -999,9,     -999,9,     -999,9,     -999,9,     -999,9,     -999,9,     -999,9,     -999,9,     -999,9,     -999,9
320620180309  ,P16        ,45      ,  1,3          ,3          ,2,20180405,2345, -71.4949,-150.0003,     4215,   3669.5,0.3290694444444445255,34.699649480419090,2,  34.6988,2,214.60829789497160,2, 215.1017,2,    214.5,2,    138.5,2,    32.94,2,     0.00,2,     2.25,2,     -999,9,     -999,9,     -999,9,   2266.6,2,  2363.56,2,   7.5944,2,    24.95,     -999,9,     -999,9,   0.3283,2,0.64000000,2, -167.210,2,    0.002,     -999,9,     -999,9,     -999,9,     -999,9,    0.061,1,    4.671,1,    0.125,1,     -999,9,     -999,9,20180405,2359, -71.4948,-150.0007,     -999,9,     -999,9,-999          ,9,     -999,9,     -999,9,     -999,     -999,9,     -999,     -999,9,     -999,1,     -999,1,     -999,1,     -999,1,     -999,1,     -999,1,     -999,1,     -999,1,     -999,1,     -999,1,     -999,1,     -999,1,     -999,1
320620180309  ,P16        ,45      ,  1,2          ,2          ,2,20180405,2345, -71.4949,-150.0003,     4215,   3976.4,0.2683888888888889546,34.696107178498664,2,  34.6976,2,217.76733005273780,2, 216.8024,2,    217.9,2,    132.3,2,    32.84,2,     0.00,2,     2.25,2,    0.578,2,    0.296,2,  -0.0300,3,   2260.7,2,  2361.65,2,   7.5936,2,    24.95,     -999,9,     -999,9,   0.2677,2,0.64000000,2, -161.590,2,    0.002,     -999,9,     -999,9,     -999,9,     -999,9,    0.061,1,    4.670,1,    0.125,1,  20.0200,2,     -999,9,20180405,2352, -71.4950,-149.9996,     -999,9,     -999,9,-999          ,9,     -999,9,     -999,9,     -999,     -999,9,     -999,     -999,9,     -999,1,     -999,1,     -999,1,     -999,1,     -999,1,     -999,1,     -999,1,     -999,1,     -999,1,     -999,1,     -999,1,     -999,1,     -999,1
320620180309  ,P16        ,45      ,  1,1          ,1          ,2,20180405,2345, -71.4949,-150.0003,     4215,   4292.3,0.2535527777777778491,34.695342634576782,2,  34.6972,2,219.91788261006724,2, 217.1023,2,    218.2,2,    132.5,2,    32.92,2,     0.00,2,     2.26,2,    0.709,2,    0.358,2,   0.1700,3,   2263.1,6,  2362.31,2,   7.5903,2,    24.96,     -999,9,     -999,9,   0.2529,2,0.63000000,2, -158.650,2,    0.002,     -999,9,     -999,9,     -999,9,     -999,9,    0.061,1,    4.661,1,    0.142,1,  20.1200,2,     -999,9,20180405,2345, -71.4949,-150.0003,     -999,9,     -999,9,-999          ,9,     -999,9,     -999,9,     -999,     -999,9,     -999,     -999,9,     -999,1,     -999,1,     -999,1,     -999,1,     -999,1,     -999,1,     -999,1,     -999,1,     -999,1,     -999,1,     -999,1,     -999,1,     -999,1