BOTTLE,20240515CCHHYDRO
EXPOCODE,SECT_ID,STNNBR,CASTNO,SAMPNO,BTLNBR,BTLNBR_FLAG_W,DATE,TIME,LATITUDE,LONGITUDE,DEPTH,CTDPRS,CTDTMP,CTDSAL,CTDSAL_FLAG_W,SALNTY,SALNTY_FLAG_W,CTDOXY,CTDOXY_FLAG_W,CTDOPTOXY,CTDOPTOXY_FLAG_W,OXYGEN,OXYGEN_FLAG_W,SILCAT,SILCAT_FLAG_W,NITRAT,NITRAT_FLAG_W,NITRIT,NITRIT_FLAG_W,PHSPHT,PHSPHT_FLAG_W,CFC-11,CFC-11_FLAG_W,CFC-12,CFC-12_FLAG_W,SF6,SF6_FLAG_W,TCARBN,TCARBN_FLAG_W,ALKALI,ALKALI_FLAG_W,PH_TOT,PH_TOT_FLAG_W,PH_TMP,DOC,DOC_FLAG_W,HELIUM,HELIUM_FLAG_W,REFTMP,REFTMP_FLAG_W,DELC13,DELC13_FLAG_W,DELC14,DELC14_FLAG_W,C14ERR,POC,POC_FLAG_W,TDN,TDN_FLAG_W,TON,TON_FLAG_W,NEON,NEON_FLAG_W,CTDFLUOR,CTDFLUOR_FLAG_W,CTDXMISS,CTDXMISS_FLAG_W,CTDBETA700,CTDBETA700_FLAG_W,N2O,N2O_FLAG_W,ARGON,ARGON_FLAG_W,BTL_DATE,BTL_TIME,BTL_LAT,BTL_LON,KRYPTON,KRYPTON_FLAG_W,XENON,XENON_FLAG_W,HPLC,HPLC_FLAG_W,HE3_HE4_RATIO,HE3_HE4_RATIO_FLAG_W,Nd_143_144_D_EPSILON_BOTTLE,Nd_143_144_D_EPSILON_BOTTLE_FLAG_W,Nd_143_144_D_EPSILON_BOTTLE_ERROR,Nd_143_144_D_RATIO_BOTTLE,Nd_143_144_D_RATIO_BOTTLE_FLAG_W,Nd_143_144_D_RATIO_BOTTLE_ERROR,Nd_D_CONC,Nd_D_CONC_FLAG_W,La_D_CONC_BOTTLE,La_D_CONC_BOTTLE_FLAG_W,Ce_D_CONC_BOTTLE,Ce_D_CONC_BOTTLE_FLAG_W,Pr_D_CONC_BOTTLE,Pr_D_CONC_BOTTLE_FLAG_W,Sm_D_CONC_BOTTLE,Sm_D_CONC_BOTTLE_FLAG_W,Eu_D_CONC_BOTTLE,Eu_D_CONC_BOTTLE_FLAG_W,Gd_D_CONC_BOTTLE,Gd_D_CONC_BOTTLE_FLAG_W,Tb_D_CONC_BOTTLE,Tb_D_CONC_BOTTLE_FLAG_W,Dy_D_CONC_BOTTLE,Dy_D_CONC_BOTTLE_FLAG_W,Ho_D_CONC_BOTTLE,Ho_D_CONC_BOTTLE_FLAG_W,Er_D_CONC_BOTTLE,Er_D_CONC_BOTTLE_FLAG_W,Tm_D_CONC_BOTTLE,Tm_D_CONC_BOTTLE_FLAG_W,Yb_D_CONC_BOTTLE,Yb_D_CONC_BOTTLE_FLAG_W,Lu_D_CONC_BOTTLE,Lu_D_CONC_BOTTLE_FLAG_W
,,,,,,,,,,,METERS,DBAR,ITS-90,PSS-78,,PSS-78,,UMOL/KG,,UMOL/KG,,UMOL/KG,,UMOL/KG,,UMOL/KG,,UMOL/KG,,UMOL/KG,,PMOL/KG,,PMOL/KG,,FMOL/KG,,UMOL/KG,,UMOL/KG,,,,DEG C,UMOL/KG,,NMOL/L,,DEG C,,/MILLE,,/MILLE,,/MILLE,UG/KG,,UMOL/KG,,UMOL/KG,,NMOL/L,,VOLTS,,VOLTS,,VOLTS,,NMOL/KG,,UMOL/L,,,,,,NMOL/L,,NMOL/L,,,,,,10000,,10000,,,,PMOL/KG,,PMOL/L,,PMOL/L,,PMOL/L,,PMOL/L,,PMOL/L,,PMOL/L,,PMOL/L,,PMOL/L,,PMOL/L,,PMOL/L,,PMOL/L,,PMOL/L,,PMOL/L,
320620180309  ,S04P       ,79      ,  1,15         ,15         ,2,20180421,0215, -67.0007,-134.3020,     4541,   1316.4,1.2611333333333332174,34.727284191229423,2,  34.7270,2,195.60153601862854,2, 195.2966,2,    196.3,2,    107.1,2,    31.96,2,     0.00,2,     2.17,2,    0.157,2,    0.082,2,   0.0000,2,   2261.8,2,  2360.55,3,   7.5961,6,    24.86,     -999,9,     -999,9,   1.2610,2,     -999,9,     -999,9,     -999,     -999,9,     -999,9,     -999,9,     -999,9,    0.067,1,    4.660,1,    0.159,1,  20.3700,2,     -999,9,20180421,0334, -67.0012,-134.3018,     -999,9,     -999,9,-999          ,9,     -999,9,     -999,9,     -999,     -999,9,     -999,     -999,9,     -999,9,     -999,9,     -999,9,     -999,9,     -999,9,     -999,9,     -999,9,     -999,9,     -999,9,     -999,9,     -999,9,     -999,9,     -999,9
320620180309  ,S04P       ,79      ,  1,14         ,14         ,2,20180421,0215, -67.0007,-134.3020,     4541,   1417.3,1.1996611111111110670,34.725154513191356,2,  34.7264,2,196.89706683456393,2, 196.4976,2,    196.8,2,    109.2,2,    32.01,2,     0.00,2,     2.17,2,     -999,9,     -999,9,     -999,9,     -999,9,     -999,9,     -999,9,     -999,     -999,9,     -999,9,   1.2001,2,     -999,9,     -999,9,     -999,     -999,9,     -999,9,     -999,9,     -999,9,    0.061,1,    4.660,1,    0.131,1,     -999,9,     -999,9,20180421,0331, -67.0012,-134.3019,     -999,9,     -999,9,-999          ,9,     -999,9,     -999,9,     -999,     -999,9,     -999,     -999,9,     -999,9,     -999,9,     -999,9,     -999,9,     -999,9,     -999,9,     -999,9,     -999,9,     -999,9,     -999,9,     -999,9,     -999,9,     -999,9
320620180309  ,S04P       ,79      ,  1,13         ,13         ,2,20180421,0215, -67.0007,-134.3020,     4541,   1520.0,1.1313527777777774297,34.722692957300666,2,  34.7223,2,198.22732870703470,2, 197.7048,2,    197.6,2,    111.7,2,    32.05,2,     0.00,2,     2.19,2,     -999,9,     -999,9,     -999,9,   2261.9,2,  2363.18,2,   7.5957,2,    24.86,     -999,9,     -999,9,   1.1318,2,     -999,9,     -999,9,     -999,     -999,9,     -999,9,     -999,9,     -999,9,    0.063,1,    4.660,1,    0.134,1,     -999,9,     -999,9,20180421,0328, -67.0012,-134.3020,     -999,9,     -999,9,-999          ,9,     -999,9,     -999,9,     -999,     -999,9,     -999,     -999,9,     -999,9,     -999,9,     -999,9,     -999,9,     -999,9,     -999,9,     -999,9,     -999,9,     -999,9,     -999,9,     -999,9,     -999,9,     -999,9
320620180309  ,S04P       ,79      ,  1,12         ,12         ,2,20180421,0215, -67.0007,-134.3020,     4541,   1621.5,1.0816416666666668345,34.720728563383695,2,  34.7206,2,199.45207375420875,2, 198.8024,2,    199.4,2,    113.6,2,    32.08,2,     0.00,2,     2.19,2,     -999,9,     -999,9,     -999,9,     -999,9,     -999,9,     -999,9,     -999,     -999,9,     -999,9,   1.0807,2,     -999,9,     -999,9,     -999,     -999,9,     -999,9,     -999,9,     -999,9,    0.061,1,    4.660,1,    0.130,1,     -999,9,     -999,9,20180421,0325, -67.0012,-134.3020,     -999,9,     -999,9,-999          ,9,     -999,9,     -999,9,     -999,     -999,9,     -999,     -999,9,     -999,9,     -999,9,     -999,9,     -999,9,     -999,9,     -999,9,     -999,9,     -999,9,     -999,9,     -999,9,     -999,9,     -999,9,     -999,9
320620180309  ,S04P       ,79      ,  1,11         ,11         ,2,20180421,0215, -67.0007,-134.3020,     4541,   1825.2,0.9683722222222223008,34.716172045140354,2,  34.7160,2,201.56844742031487,2, 201.1964,2,    201.6,2,    117.3,2,    32.19,2,     0.00,2,     2.20,2,    0.150,2,    0.092,2,   0.0200,2,   2261.3,2,  2363.86,2,   7.5982,2,    24.87,     -999,9,     -999,9,   0.9678,2,     -999,9,     -999,9,     -999,     -999,9,     -999,9,     -999,9,     -999,9,    0.061,1,    4.662,1,    0.128,1,  20.0700,2,     -999,9,20180421,0320, -67.0012,-134.3020,     -999,9,     -999,9,-999          ,9,     -999,9,     -999,9,     -999,     -999,9,     -999,     -999,9,     -999,9,     -999,9,     -999,9,     -999,9,     -999,9,     -999,9,     -999,9,     -999,9,     -999,9,     -999,9,     -999,9,     -999,9,     -999,9
320620180309  ,S04P       ,79      ,  1,10         ,10         ,2,20180421,0215, -67.0007,-134.3020,     4541,   2028.5,0.8830333333333331147,34.712611381859688,2,  34.7125,2,203.21335148092717,2, 203.0990,2,    203.4,2,    120.8,2,    32.30,2,     0.00,2,     2.22,2,     -999,9,     -999,9,     -999,9,     -999,9,     -999,9,     -999,9,     -999,     -999,9,     -999,9,   0.8828,2,     -999,9,     -999,9,     -999,     -999,9,     -999,9,     -999,9,     -999,9,    0.061,1,    4.661,1,    0.146,1,     -999,9,     -999,9,20180421,0315, -67.0012,-134.3020,     -999,9,     -999,9,-999          ,9,     -999,9,     -999,9,     -999,     -999,9,     -999,     -999,9,     -999,9,     -999,9,     -999,9,     -999,9,     -999,9,     -999,9,     -999,9,     -999,9,     -999,9,     -999,9,     -999,9,     -999,9,     -999,9
320620180309  ,S04P       ,79      ,  1,9          ,9          ,2,20180421,0215, -67.0007,-134.3020,     4541,   2284.6,0.7954083333333332728,34.708745187084730,2,  34.7086,2,205.20749866270623,2, 205.0014,2,    204.8,2,    124.6,2,    32.38,2,     0.00,2,     2.21,2,    0.182,2,    0.098,2,   0.0400,2,   2262.4,2,  2363.98,2,   7.5967,2,    24.88,     -999,9,     -999,9,   0.7948,2,     -999,9,     -999,9,     -999,     -999,9,     -999,9,     -999,9,     -999,9,    0.061,1,    4.659,1,    0.128,1,  19.6500,2,     -999,9,20180421,0310, -67.0012,-134.3020,     -999,9,     -999,9,-999          ,9,     -999,9,     -999,9,     -999,     -999,9,     -999,     -999,9,     -999,9,     -999,9,     -999,9,     -999,9,     -999,9,     -999,9,     -999,9,     -999,9,     -999,9,     -999,9,     -999,9,     -999,9,     -999,9
320620180309  ,S04P       ,79      ,  1,8          ,8          ,2,20180421,0215, -67.0007,-134.3020,     4541,   2539.6,0.7182333333333332792,34.705797955482737,2,  34.7058,2,206.82386456520115,2, 206.6987,2,    206.6,2,    126.8,2,    32.48,2,     0.00,2,     2.22,2,     -999,9,     -999,9,     -999,9,     -999,9,     -999,9,     -999,9,     -999,     -999,9,     -999,9,   0.7177,2,     -999,9,     -999,9,     -999,     -999,9,     -999,9,     -999,9,     -999,9,    0.061,1,    4.661,1,    0.128,1,     -999,9,     -999,9,20180421,0304, -67.0013,-134.3022,     -999,9,     -999,9,-999          ,9,     -999,9,     -999,9,     -999,     -999,9,     -999,     -999,9,     -999,9,     -999,9,     -999,9,     -999,9,     -999,9,     -999,9,     -999,9,     -999,9,     -999,9,     -999,9,     -999,9,     -999,9,     -999,9
320620180309  ,S04P       ,79      ,  1,7          ,7          ,2,20180421,0215, -67.0007,-134.3020,     4541,   2794.4,0.6301861111111112246,34.703512038695173,2,  34.7035,2,208.51682955160103,2, 208.5971,2,    208.4,2,    128.5,2,    32.52,2,     0.00,2,     2.25,2,    0.244,2,    0.132,2,   0.0400,2,   2263.6,2,  2361.87,2,   7.5955,2,    24.88,     -999,9,     -999,9,   0.6297,2,     -999,9,     -999,9,     -999,     -999,9,     -999,9,     -999,9,     -999,9,    0.061,1,    4.660,1,    0.126,1,  19.7200,2,     -999,9,20180421,0259, -67.0015,-134.3028,     -999,9,     -999,9,-999          ,9,     -999,9,     -999,9,     -999,     -999,9,     -999,     -999,9,     -999,9,     -999,9,     -999,9,     -999,9,     -999,9,     -999,9,     -999,9,     -999,9,     -999,9,     -999,9,     -999,9,     -999,9,     -999,9
320620180309  ,S04P       ,79      ,  1,6          ,6          ,2,20180421,0215, -67.0007,-134.3020,     4541,   3051.2,0.5370805555555553390,34.701437460270142,2,  34.7015,2,210.69759653731751,2, 210.5045,2,    210.2,2,    129.6,2,    32.66,2,     0.00,2,     2.23,2,     -999,9,     -999,9,     -999,9,   2262.2,2,  2360.93,3,   7.5948,2,    24.86,     -999,9,     -999,9,   0.5367,2,     -999,9,     -999,9,     -999,     -999,9,     -999,9,     -999,9,     -999,9,    0.061,1,    4.660,1,    0.126,1,     -999,9,     -999,9,20180421,0253, -67.0017,-134.3033,     -999,9,     -999,9,-999          ,9,     -999,9,     -999,9,     -999,     -999,9,     -999,     -999,9,     -999,9,     -999,9,     -999,9,     -999,9,     -999,9,     -999,9,     -999,9,     -999,9,     -999,9,     -999,9,     -999,9,     -999,9,     -999,9
320620180309  ,S04P       ,79      ,  1,5          ,5          ,2,20180421,0215, -67.0007,-134.3020,     4541,   3358.6,0.4410583333333334410,34.699973918086165,2,  34.7000,2,212.56362531750472,2, 212.8008,2,    212.6,2,    132.6,2,    32.73,2,     0.00,2,     2.24,2,    0.322,2,    0.176,2,   0.0400,2,     -999,9,     -999,9,     -999,9,     -999,     -999,9,     -999,9,   0.4413,2,     -999,9,     -999,9,     -999,     -999,9,     -999,9,     -999,9,     -999,9,    0.061,1,    4.660,1,    0.130,1,  19.6300,2,     -999,9,20180421,0246, -67.0016,-134.3031,     -999,9,     -999,9,-999          ,9,     -999,9,     -999,9,     -999,     -999,9,     -999,     -999,9,     -999,9,     -999,9,     -999,9,     -999,9,     -999,9,     -999,9,     -999,9,     -999,9,     -999,9,     -999,9,     -999,9,     -999,9,     -999,9
320620180309  ,S04P       ,79      ,  1,4          ,4          ,2,20180421,0215, -67.0007,-134.3020,     4541,   3665.8,0.3846777777777777851,34.699496262038373,2,  34.6994,2,214.34186786218612,2, 214.4019,2,    214.2,2,    136.3,2,    32.89,2,     0.00,2,     2.25,2,     -999,9,     -999,9,     -999,9,   2263.9,2,  2363.87,2,   7.5946,2,    24.86,     -999,9,     -999,9,   0.3840,2,     -999,9,     -999,9,     -999,     -999,9,     -999,9,     -999,9,     -999,9,    0.060,1,    4.660,1,    0.125,1,     -999,9,     -999,9,20180421,0239, -67.0013,-134.3027,     -999,9,     -999,9,-999          ,9,     -999,9,     -999,9,     -999,     -999,9,     -999,     -999,9,     -999,9,     -999,9,     -999,9,     -999,9,     -999,9,     -999,9,     -999,9,     -999,9,     -999,9,     -999,9,     -999,9,     -999,9,     -999,9
320620180309  ,S04P       ,79      ,  1,3          ,3          ,2,20180421,0215, -67.0007,-134.3020,     4541,   3975.4,0.3555249999999999244,34.698761214584920,2,  34.6990,2,215.42446169652470,2, 215.5027,2,    215.4,2,    138.4,2,    32.89,2,     0.00,2,     2.25,2,    0.410,2,    0.204,2,   0.0400,2,   2262.5,2,  2363.65,2,   7.5934,2,    24.86,     -999,9,     -999,9,   0.3549,2,     -999,9,     -999,9,     -999,     -999,9,     -999,9,     -999,9,     -999,9,    0.061,1,    4.658,1,    0.128,1,  19.7300,2,     -999,9,20180421,0232, -67.0012,-134.3025,     -999,9,     -999,9,-999          ,9,     -999,9,     -999,9,     -999,     -999,9,     -999,     -999,9,     -999,9,     -999,9,     -999,9,     -999,9,     -999,9,     -999,9,     -999,9,     -999,9,     -999,9,     -999,9,     -999,9,     -999,9,     -999,9
320620180309  ,S04P       ,79      ,  1,2          ,2          ,2,20180421,0215, -67.0007,-134.3020,     4541,   4283.8,0.3436972222222222650,34.697598863791086,2,  34.6990,2,216.16963925796935,2, 216.1012,2,    216.9,2,    139.2,2,    32.84,2,     0.00,2,     2.25,2,     -999,9,     -999,9,     -999,9,   2264.2,2,  2363.77,2,   7.5929,2,    24.90,     -999,9,     -999,9,   0.3432,2,     -999,9,     -999,9,     -999,     -999,9,     -999,9,     -999,9,     -999,9,    0.061,1,    4.656,1,    0.130,1,     -999,9,     -999,9,20180421,0225, -67.0010,-134.3023,     -999,9,     -999,9,-999          ,9,     -999,9,     -999,9,     -999,     -999,9,     -999,     -999,9,     -999,9,     -999,9,     -999,9,     -999,9,     -999,9,     -999,9,     -999,9,     -999,9,     -999,9,     -999,9,     -999,9,     -999,9,     -999,9
320620180309  ,S04P       ,79      ,  1,1          ,1          ,2,20180421,0215, -67.0007,-134.3020,     4541,   4625.6,0.3465055555555555666,34.696517452549188,2,  34.6976,2,216.82387661964088,2, 216.8965,2,    216.4,2,    139.6,2,    32.88,2,     0.00,2,     2.25,2,    0.583,2,    0.296,2,   0.0700,2,   2265.5,6,  2362.51,2,   7.5917,2,    24.90,     -999,9,     -999,9,   0.3461,2,     -999,9,     -999,9,     -999,     -999,9,     -999,9,     -999,9,     -999,9,    0.061,1,    4.648,1,    0.140,1,  19.9600,2,     -999,9,20180421,0215, -67.0007,-134.3020,     -999,9,     -999,9,-999          ,9,     -999,9,     -999,9,     -999,     -999,9,     -999,     -999,9,     -999,9,     -999,9,     -999,9,     -999,9,     -999,9,     -999,9,     -999,9,     -999,9,     -999,9,     -999,9,     -999,9,     -999,9,     -999,9