BOTTLE,20240515CCHHYDRO
EXPOCODE,SECT_ID,STNNBR,CASTNO,SAMPNO,BTLNBR,BTLNBR_FLAG_W,DATE,TIME,LATITUDE,LONGITUDE,DEPTH,CTDPRS,CTDTMP,CTDSAL,CTDSAL_FLAG_W,SALNTY,SALNTY_FLAG_W,CTDOXY,CTDOXY_FLAG_W,CTDOPTOXY,CTDOPTOXY_FLAG_W,OXYGEN,OXYGEN_FLAG_W,SILCAT,SILCAT_FLAG_W,NITRAT,NITRAT_FLAG_W,NITRIT,NITRIT_FLAG_W,PHSPHT,PHSPHT_FLAG_W,CFC-11,CFC-11_FLAG_W,CFC-12,CFC-12_FLAG_W,SF6,SF6_FLAG_W,TCARBN,TCARBN_FLAG_W,ALKALI,ALKALI_FLAG_W,PH_TOT,PH_TOT_FLAG_W,PH_TMP,DOC,DOC_FLAG_W,HELIUM,HELIUM_FLAG_W,REFTMP,REFTMP_FLAG_W,DELC13,DELC13_FLAG_W,DELC14,DELC14_FLAG_W,C14ERR,POC,POC_FLAG_W,TDN,TDN_FLAG_W,TON,TON_FLAG_W,NEON,NEON_FLAG_W,CTDFLUOR,CTDFLUOR_FLAG_W,CTDXMISS,CTDXMISS_FLAG_W,CTDBETA700,CTDBETA700_FLAG_W,N2O,N2O_FLAG_W,ARGON,ARGON_FLAG_W,BTL_DATE,BTL_TIME,BTL_LAT,BTL_LON,KRYPTON,KRYPTON_FLAG_W,XENON,XENON_FLAG_W,HPLC,HPLC_FLAG_W,HE3_HE4_RATIO,HE3_HE4_RATIO_FLAG_W,Nd_143_144_D_EPSILON_BOTTLE,Nd_143_144_D_EPSILON_BOTTLE_FLAG_W,Nd_143_144_D_EPSILON_BOTTLE_ERROR,Nd_143_144_D_RATIO_BOTTLE,Nd_143_144_D_RATIO_BOTTLE_FLAG_W,Nd_143_144_D_RATIO_BOTTLE_ERROR,Nd_D_CONC,Nd_D_CONC_FLAG_W,La_D_CONC_BOTTLE,La_D_CONC_BOTTLE_FLAG_W,Ce_D_CONC_BOTTLE,Ce_D_CONC_BOTTLE_FLAG_W,Pr_D_CONC_BOTTLE,Pr_D_CONC_BOTTLE_FLAG_W,Sm_D_CONC_BOTTLE,Sm_D_CONC_BOTTLE_FLAG_W,Eu_D_CONC_BOTTLE,Eu_D_CONC_BOTTLE_FLAG_W,Gd_D_CONC_BOTTLE,Gd_D_CONC_BOTTLE_FLAG_W,Tb_D_CONC_BOTTLE,Tb_D_CONC_BOTTLE_FLAG_W,Dy_D_CONC_BOTTLE,Dy_D_CONC_BOTTLE_FLAG_W,Ho_D_CONC_BOTTLE,Ho_D_CONC_BOTTLE_FLAG_W,Er_D_CONC_BOTTLE,Er_D_CONC_BOTTLE_FLAG_W,Tm_D_CONC_BOTTLE,Tm_D_CONC_BOTTLE_FLAG_W,Yb_D_CONC_BOTTLE,Yb_D_CONC_BOTTLE_FLAG_W,Lu_D_CONC_BOTTLE,Lu_D_CONC_BOTTLE_FLAG_W
,,,,,,,,,,,METERS,DBAR,ITS-90,PSS-78,,PSS-78,,UMOL/KG,,UMOL/KG,,UMOL/KG,,UMOL/KG,,UMOL/KG,,UMOL/KG,,UMOL/KG,,PMOL/KG,,PMOL/KG,,FMOL/KG,,UMOL/KG,,UMOL/KG,,,,DEG C,UMOL/KG,,NMOL/L,,DEG C,,/MILLE,,/MILLE,,/MILLE,UG/KG,,UMOL/KG,,UMOL/KG,,NMOL/L,,VOLTS,,VOLTS,,VOLTS,,NMOL/KG,,UMOL/L,,,,,,NMOL/L,,NMOL/L,,,,,,10000,,10000,,,,PMOL/KG,,PMOL/L,,PMOL/L,,PMOL/L,,PMOL/L,,PMOL/L,,PMOL/L,,PMOL/L,,PMOL/L,,PMOL/L,,PMOL/L,,PMOL/L,,PMOL/L,,PMOL/L,
320620180309  ,S04P       ,83      ,  1,15         ,15         ,2,20180422,1032, -66.9999,-127.7489,     4473,   1351.1,1.2351861111111110958,34.726040701156670,2,  34.7268,2,196.71191261702253,2, 196.2984,2,    196.6,2,    108.0,2,    32.08,2,     0.00,2,     2.19,2,     -999,9,     -999,9,     -999,9,   2262.2,2,  2362.30,2,   7.6054,2,    24.89,     -999,9,     -999,9,   1.2346,2,     -999,9,     -999,9,     -999,     -999,9,     -999,9,     -999,9,     -999,9,    0.063,1,    4.660,1,    0.129,1,     -999,9,     -999,9,20180422,1152, -67.0009,-127.7497,     -999,9,     -999,9,-999          ,9,     -999,9,     -999,9,     -999,     -999,9,     -999,     -999,9,     -999,9,     -999,9,     -999,9,     -999,9,     -999,9,     -999,9,     -999,9,     -999,9,     -999,9,     -999,9,     -999,9,     -999,9,     -999,9
320620180309  ,S04P       ,83      ,  1,14         ,14         ,2,20180422,1032, -66.9999,-127.7489,     4473,   1452.6,1.1695416666666667016,34.723724021233316,2,  34.7247,2,197.43598310882115,2, 197.5991,2,    198.2,2,    110.5,2,    32.15,2,     0.00,2,     2.19,2,    0.134,2,    0.073,2,   0.0300,2,     -999,9,     -999,9,     -999,9,     -999,     -999,9,     -999,9,   1.1692,2,     -999,9,     -999,9,     -999,     -999,9,     -999,9,     -999,9,     -999,9,    0.062,1,    4.659,1,    0.128,1,  19.8500,2,     -999,9,20180422,1149, -67.0009,-127.7497,     -999,9,     -999,9,-999          ,9,     -999,9,     -999,9,     -999,     -999,9,     -999,     -999,9,     -999,9,     -999,9,     -999,9,     -999,9,     -999,9,     -999,9,     -999,9,     -999,9,     -999,9,     -999,9,     -999,9,     -999,9,     -999,9
320620180309  ,S04P       ,83      ,  1,13         ,13         ,2,20180422,1032, -66.9999,-127.7489,     4473,   1555.2,1.1065138888888890190,34.721551239399957,2,  34.7221,2,198.25438000904197,2, 198.7974,2,    199.3,2,    112.4,2,    32.20,2,     0.00,2,     2.20,2,    0.133,2,    0.065,2,   0.0400,2,   2260.3,2,  2363.07,2,   7.6049,2,    24.89,     -999,9,     -999,9,   1.1067,2,     -999,9,     -999,9,     -999,     -999,9,     -999,9,     -999,9,     -999,9,    0.061,1,    4.660,1,    0.127,1,  19.2400,2,     -999,9,20180422,1146, -67.0006,-127.7496,     -999,9,     -999,9,-999          ,9,     -999,9,     -999,9,     -999,     -999,9,     -999,     -999,9,     -999,9,     -999,9,     -999,9,     -999,9,     -999,9,     -999,9,     -999,9,     -999,9,     -999,9,     -999,9,     -999,9,     -999,9,     -999,9
320620180309  ,S04P       ,83      ,  1,12         ,12         ,2,20180422,1032, -66.9999,-127.7489,     4473,   1686.7,1.0396083333333330234,34.718941736093946,2,  34.7198,2,199.48665423829397,2, 200.1995,2,    200.9,2,    114.6,2,    32.26,2,     0.00,2,     2.19,2,     -999,9,     -999,9,     -999,9,     -999,9,     -999,9,     -999,9,     -999,     -999,9,     -999,9,   1.0381,2,     -999,9,     -999,9,     -999,     -999,9,     -999,9,     -999,9,     -999,9,    0.061,1,    4.660,1,    0.127,1,     -999,9,     -999,9,20180422,1142, -67.0005,-127.7496,     -999,9,     -999,9,-999          ,9,     -999,9,     -999,9,     -999,     -999,9,     -999,     -999,9,     -999,9,     -999,9,     -999,9,     -999,9,     -999,9,     -999,9,     -999,9,     -999,9,     -999,9,     -999,9,     -999,9,     -999,9,     -999,9
320620180309  ,S04P       ,83      ,  1,11         ,11         ,2,20180422,1032, -66.9999,-127.7489,     4473,   1891.7,0.9431750000000000966,34.715112647238243,2,  34.7159,2,202.39212776449455,2, 201.9975,2,    202.3,2,    118.0,2,    32.37,2,     0.00,2,     2.22,2,    0.141,2,    0.083,2,   0.0000,2,   2260.7,2,  2364.79,2,   7.6067,2,    24.88,     -999,9,     -999,9,   0.9442,2,     -999,9,     -999,9,     -999,     -999,9,     -999,9,     -999,9,     -999,9,    0.063,1,    4.660,1,    0.138,1,  19.4900,2,     -999,9,20180422,1137, -67.0005,-127.7495,     -999,9,     -999,9,-999          ,9,     -999,9,     -999,9,     -999,     -999,9,     -999,     -999,9,     -999,9,     -999,9,     -999,9,     -999,9,     -999,9,     -999,9,     -999,9,     -999,9,     -999,9,     -999,9,     -999,9,     -999,9,     -999,9
320620180309  ,S04P       ,83      ,  1,10         ,10         ,2,20180422,1032, -66.9999,-127.7489,     4473,   2114.7,0.8454583333333335338,34.710636199885862,2,  34.7113,2,204.16994993210284,2, 204.3034,2,    204.5,2,    121.6,2,    32.47,2,     0.00,2,     2.21,2,    0.171,2,    0.096,2,   0.0300,2,   2264.0,2,  2364.92,2,   7.6040,2,    24.88,     -999,9,     -999,9,   0.8448,2,     -999,9,     -999,9,     -999,     -999,9,     -999,9,     -999,9,     -999,9,    0.061,1,    4.660,1,    0.128,1,  19.4800,2,     -999,9,20180422,1132, -67.0010,-127.7497,     -999,9,     -999,9,-999          ,9,     -999,9,     -999,9,     -999,     -999,9,     -999,     -999,9,     -999,9,     -999,9,     -999,9,     -999,9,     -999,9,     -999,9,     -999,9,     -999,9,     -999,9,     -999,9,     -999,9,     -999,9,     -999,9
320620180309  ,S04P       ,83      ,  1,9          ,9          ,2,20180422,1032, -66.9999,-127.7489,     4473,   2370.7,0.7509611111111111903,34.706848278827223,2,  34.7096,4,205.76741979639047,2, 206.3989,2,    206.3,2,    125.2,2,    32.55,2,     0.00,2,     2.22,2,     -999,9,     -999,9,     -999,9,     -999,9,     -999,9,     -999,9,     -999,     -999,9,     -999,9,   0.7505,2,     -999,9,     -999,9,     -999,     -999,9,     -999,9,     -999,9,     -999,9,    0.061,1,    4.660,1,    0.128,1,     -999,9,     -999,9,20180422,1125, -67.0004,-127.7494,     -999,9,     -999,9,-999          ,9,     -999,9,     -999,9,     -999,     -999,9,     -999,     -999,9,     -999,9,     -999,9,     -999,9,     -999,9,     -999,9,     -999,9,     -999,9,     -999,9,     -999,9,     -999,9,     -999,9,     -999,9,     -999,9
320620180309  ,S04P       ,83      ,  1,8          ,8          ,2,20180422,1032, -66.9999,-127.7489,     4473,   2625.9,0.6748388888888889880,34.704435558636426,2,  34.7051,2,208.14483099510520,2, 208.0963,2,    208.0,2,    127.1,2,    32.66,2,     0.00,2,     2.23,2,    0.233,2,    0.127,2,   0.0100,2,   2265.1,2,  2364.72,2,   7.6053,2,    24.89,     -999,9,     -999,9,   0.6742,2,     -999,9,     -999,9,     -999,     -999,9,     -999,9,     -999,9,     -999,9,    0.061,1,    4.659,1,    0.127,1,  19.2700,2,     -999,9,20180422,1119, -67.0001,-127.7492,     -999,9,     -999,9,-999          ,9,     -999,9,     -999,9,     -999,     -999,9,     -999,     -999,9,     -999,9,     -999,9,     -999,9,     -999,9,     -999,9,     -999,9,     -999,9,     -999,9,     -999,9,     -999,9,     -999,9,     -999,9,     -999,9
320620180309  ,S04P       ,83      ,  1,7          ,7          ,2,20180422,1032, -66.9999,-127.7489,     4473,   2881.4,0.5857499999999998819,34.702718184196357,2,  34.7039,2,210.63639513800405,2, 210.0036,2,    210.0,2,    129.0,2,    32.75,2,     0.00,2,     2.22,2,     -999,9,     -999,9,     -999,9,     -999,9,     -999,9,     -999,9,     -999,     -999,9,     -999,9,   0.5850,2,     -999,9,     -999,9,     -999,     -999,9,     -999,9,     -999,9,     -999,9,    0.061,1,    4.659,1,    0.128,1,     -999,9,     -999,9,20180422,1113, -67.0003,-127.7493,     -999,9,     -999,9,-999          ,9,     -999,9,     -999,9,     -999,     -999,9,     -999,     -999,9,     -999,9,     -999,9,     -999,9,     -999,9,     -999,9,     -999,9,     -999,9,     -999,9,     -999,9,     -999,9,     -999,9,     -999,9,     -999,9
320620180309  ,S04P       ,83      ,  1,6          ,6          ,2,20180422,1032, -66.9999,-127.7489,     4473,   3143.0,0.5048027777777777114,34.702215639246191,2,  34.7029,2,211.64456234149185,2, 211.6967,2,    211.6,2,    133.0,2,    32.90,2,     0.00,2,     2.23,2,    0.209,2,    0.108,2,   0.0300,2,   2263.2,2,  2366.52,2,   7.6061,2,    24.88,     -999,9,     -999,9,   0.5041,2,     -999,9,     -999,9,     -999,     -999,9,     -999,9,     -999,9,     -999,9,    0.061,1,    4.660,1,    0.126,1,  19.2500,2,     -999,9,20180422,1107, -67.0008,-127.7496,     -999,9,     -999,9,-999          ,9,     -999,9,     -999,9,     -999,     -999,9,     -999,     -999,9,     -999,9,     -999,9,     -999,9,     -999,9,     -999,9,     -999,9,     -999,9,     -999,9,     -999,9,     -999,9,     -999,9,     -999,9,     -999,9
320620180309  ,S04P       ,83      ,  1,5          ,5          ,2,20180422,1032, -66.9999,-127.7489,     4473,   3450.3,0.4521805555555555856,34.701439722751246,2,  34.7011,2,213.34827737960822,2, 212.9003,2,    213.0,2,    136.0,2,    32.94,2,     0.00,2,     2.24,2,    0.227,2,    0.127,2,   0.0900,2,   2265.4,2,  2367.25,2,   7.6048,2,    24.87,     -999,9,     -999,9,   0.4512,2,     -999,9,     -999,9,     -999,     -999,9,     -999,9,     -999,9,     -999,9,    0.060,1,    4.659,1,    0.127,1,  19.2700,2,     -999,9,20180422,1100, -67.0008,-127.7496,     -999,9,     -999,9,-999          ,9,     -999,9,     -999,9,     -999,     -999,9,     -999,     -999,9,     -999,9,     -999,9,     -999,9,     -999,9,     -999,9,     -999,9,     -999,9,     -999,9,     -999,9,     -999,9,     -999,9,     -999,9,     -999,9
320620180309  ,S04P       ,83      ,  1,4          ,4          ,2,20180422,1032, -66.9999,-127.7489,     4473,   3754.5,0.4078472222222222499,34.700347447135954,2,  34.7017,2,214.70505926110593,2, 214.1962,2,    214.6,2,    137.6,2,    32.99,2,     0.00,2,     2.24,2,    0.290,2,    0.153,2,   0.0500,2,     -999,9,     -999,9,     -999,9,     -999,     -999,9,     -999,9,   0.4081,2,     -999,9,     -999,9,     -999,     -999,9,     -999,9,     -999,9,     -999,9,    0.061,1,    4.658,1,    0.126,1,  18.9300,2,     -999,9,20180422,1051, -67.0004,-127.7493,     -999,9,     -999,9,-999          ,9,     -999,9,     -999,9,     -999,     -999,9,     -999,     -999,9,     -999,9,     -999,9,     -999,9,     -999,9,     -999,9,     -999,9,     -999,9,     -999,9,     -999,9,     -999,9,     -999,9,     -999,9,     -999,9
320620180309  ,S04P       ,83      ,  1,3          ,3          ,2,20180422,1032, -66.9999,-127.7489,     4473,   4171.6,0.3724666666666666681,34.698772937193205,2,  34.6992,2,216.06250056651717,2, 215.6019,2,    215.5,2,    140.6,2,    32.99,2,     0.00,2,     2.24,2,    0.393,2,    0.204,2,   0.0000,2,   2265.7,2,  2366.65,2,   7.6026,2,    24.91,     -999,9,     -999,9,   0.3718,2,     -999,9,     -999,9,     -999,     -999,9,     -999,9,     -999,9,     -999,9,    0.060,1,    4.655,1,    0.131,1,  19.1100,2,     -999,9,20180422,1043, -66.9997,-127.7488,     -999,9,     -999,9,-999          ,9,     -999,9,     -999,9,     -999,     -999,9,     -999,     -999,9,     -999,9,     -999,9,     -999,9,     -999,9,     -999,9,     -999,9,     -999,9,     -999,9,     -999,9,     -999,9,     -999,9,     -999,9,     -999,9
320620180309  ,S04P       ,83      ,  1,2          ,2          ,2,20180422,1032, -66.9999,-127.7489,     4473,   4336.3,0.3721166666666665956,34.698377864742980,2,  34.6992,2,216.02030652369351,2, 215.4998,2,    215.6,2,    141.7,2,    33.04,2,     0.00,2,     2.24,2,    0.431,2,    0.224,2,   0.1100,2,   2265.5,2,  2365.94,2,   7.6022,2,    24.88,     -999,9,     -999,9,   0.3715,2,     -999,9,     -999,9,     -999,     -999,9,     -999,9,     -999,9,     -999,9,    0.061,1,    4.652,1,    0.200,1,  18.8700,2,     -999,9,20180422,1039, -66.9997,-127.7487,     -999,9,     -999,9,-999          ,9,     -999,9,     -999,9,     -999,     -999,9,     -999,     -999,9,     -999,9,     -999,9,     -999,9,     -999,9,     -999,9,     -999,9,     -999,9,     -999,9,     -999,9,     -999,9,     -999,9,     -999,9,     -999,9
320620180309  ,S04P       ,83      ,  1,1          ,1          ,2,20180422,1032, -66.9999,-127.7489,     4473,   4557.1,0.3776388888888888573,34.697631484143173,2,  34.6988,2,215.87115995989802,2, 215.7976,2,    215.7,2,    142.5,2,    33.08,2,     0.00,2,     2.24,2,    0.484,2,    0.249,2,   0.1400,2,   2266.9,6,  2366.76,2,   7.6014,2,    24.88,     -999,9,     -999,9,   0.3776,2,     -999,9,     -999,9,     -999,     -999,9,     -999,9,     -999,9,     -999,9,    0.061,1,    4.643,1,    0.147,1,  18.8000,2,     -999,9,20180422,1032, -66.9999,-127.7489,     -999,9,     -999,9,-999          ,9,     -999,9,     -999,9,     -999,     -999,9,     -999,     -999,9,     -999,9,     -999,9,     -999,9,     -999,9,     -999,9,     -999,9,     -999,9,     -999,9,     -999,9,     -999,9,     -999,9,     -999,9,     -999,9