BOTTLE,20240515CCHHYDRO
EXPOCODE,SECT_ID,STNNBR,CASTNO,SAMPNO,BTLNBR,BTLNBR_FLAG_W,DATE,TIME,LATITUDE,LONGITUDE,DEPTH,CTDPRS,CTDTMP,CTDSAL,CTDSAL_FLAG_W,SALNTY,SALNTY_FLAG_W,CTDOXY,CTDOXY_FLAG_W,CTDOPTOXY,CTDOPTOXY_FLAG_W,OXYGEN,OXYGEN_FLAG_W,SILCAT,SILCAT_FLAG_W,NITRAT,NITRAT_FLAG_W,NITRIT,NITRIT_FLAG_W,PHSPHT,PHSPHT_FLAG_W,CFC-11,CFC-11_FLAG_W,CFC-12,CFC-12_FLAG_W,SF6,SF6_FLAG_W,TCARBN,TCARBN_FLAG_W,ALKALI,ALKALI_FLAG_W,PH_TOT,PH_TOT_FLAG_W,PH_TMP,DOC,DOC_FLAG_W,HELIUM,HELIUM_FLAG_W,REFTMP,REFTMP_FLAG_W,DELC13,DELC13_FLAG_W,DELC14,DELC14_FLAG_W,C14ERR,POC,POC_FLAG_W,TDN,TDN_FLAG_W,TON,TON_FLAG_W,NEON,NEON_FLAG_W,CTDFLUOR,CTDFLUOR_FLAG_W,CTDXMISS,CTDXMISS_FLAG_W,CTDBETA700,CTDBETA700_FLAG_W,N2O,N2O_FLAG_W,ARGON,ARGON_FLAG_W,BTL_DATE,BTL_TIME,BTL_LAT,BTL_LON,KRYPTON,KRYPTON_FLAG_W,XENON,XENON_FLAG_W,HPLC,HPLC_FLAG_W,HE3_HE4_RATIO,HE3_HE4_RATIO_FLAG_W,Nd_143_144_D_EPSILON_BOTTLE,Nd_143_144_D_EPSILON_BOTTLE_FLAG_W,Nd_143_144_D_EPSILON_BOTTLE_ERROR,Nd_143_144_D_RATIO_BOTTLE,Nd_143_144_D_RATIO_BOTTLE_FLAG_W,Nd_143_144_D_RATIO_BOTTLE_ERROR,Nd_D_CONC,Nd_D_CONC_FLAG_W,La_D_CONC_BOTTLE,La_D_CONC_BOTTLE_FLAG_W,Ce_D_CONC_BOTTLE,Ce_D_CONC_BOTTLE_FLAG_W,Pr_D_CONC_BOTTLE,Pr_D_CONC_BOTTLE_FLAG_W,Sm_D_CONC_BOTTLE,Sm_D_CONC_BOTTLE_FLAG_W,Eu_D_CONC_BOTTLE,Eu_D_CONC_BOTTLE_FLAG_W,Gd_D_CONC_BOTTLE,Gd_D_CONC_BOTTLE_FLAG_W,Tb_D_CONC_BOTTLE,Tb_D_CONC_BOTTLE_FLAG_W,Dy_D_CONC_BOTTLE,Dy_D_CONC_BOTTLE_FLAG_W,Ho_D_CONC_BOTTLE,Ho_D_CONC_BOTTLE_FLAG_W,Er_D_CONC_BOTTLE,Er_D_CONC_BOTTLE_FLAG_W,Tm_D_CONC_BOTTLE,Tm_D_CONC_BOTTLE_FLAG_W,Yb_D_CONC_BOTTLE,Yb_D_CONC_BOTTLE_FLAG_W,Lu_D_CONC_BOTTLE,Lu_D_CONC_BOTTLE_FLAG_W
,,,,,,,,,,,METERS,DBAR,ITS-90,PSS-78,,PSS-78,,UMOL/KG,,UMOL/KG,,UMOL/KG,,UMOL/KG,,UMOL/KG,,UMOL/KG,,UMOL/KG,,PMOL/KG,,PMOL/KG,,FMOL/KG,,UMOL/KG,,UMOL/KG,,,,DEG C,UMOL/KG,,NMOL/L,,DEG C,,/MILLE,,/MILLE,,/MILLE,UG/KG,,UMOL/KG,,UMOL/KG,,NMOL/L,,VOLTS,,VOLTS,,VOLTS,,NMOL/KG,,UMOL/L,,,,,,NMOL/L,,NMOL/L,,,,,,10000,,10000,,,,PMOL/KG,,PMOL/L,,PMOL/L,,PMOL/L,,PMOL/L,,PMOL/L,,PMOL/L,,PMOL/L,,PMOL/L,,PMOL/L,,PMOL/L,,PMOL/L,,PMOL/L,,PMOL/L,
320620180309  ,S04P       ,78      ,  1,15         ,15         ,2,20180420,1924, -66.9999,-135.5960,     4520,   1382.8,1.1765250000000000430,34.724529258086704,2,  34.7245,2,195.87857701301468,2, 195.5954,2,    196.0,2,    109.9,2,    32.01,2,     0.00,2,     2.20,2,     -999,9,     -999,9,     -999,9,   2261.0,2,  2360.92,2,   7.5919,2,    24.89,     39.0,2,     -999,9,   1.1758,2,     -999,9,     -999,9,     -999,     -999,9,     -999,9,     -999,1,     -999,9,    0.061,1,    4.649,1,    0.130,1,     -999,9,     -999,9,20180420,2041, -67.0002,-135.5963,     -999,9,     -999,9,-999          ,9,     -999,9,     -999,9,     -999,     -999,9,     -999,     -999,9,     -999,9,     -999,9,     -999,9,     -999,9,     -999,9,     -999,9,     -999,9,     -999,9,     -999,9,     -999,9,     -999,9,     -999,9,     -999,9
320620180309  ,S04P       ,78      ,  1,14         ,14         ,2,20180420,1924, -66.9999,-135.5960,     4520,   1484.7,1.1150500000000000966,34.722411784178348,2,  34.7217,2,196.81670203691343,2, 197.0005,2,    197.4,2,    112.1,2,    32.08,2,     0.00,2,     2.20,2,    0.148,2,    0.076,2,   0.0000,2,   2261.0,2,  2362.35,2,   7.5954,2,    24.90,     -999,9,     -999,9,   1.1160,2,     -999,9,     -999,9,     -999,     -999,9,     -999,9,     -999,9,     -999,9,    0.061,1,    4.660,1,    0.129,1,  19.8500,2,     -999,9,20180420,2038, -67.0001,-135.5962,     -999,9,     -999,9,-999          ,9,     -999,9,     -999,9,     -999,     -999,9,     -999,     -999,9,     -999,9,     -999,9,     -999,9,     -999,9,     -999,9,     -999,9,     -999,9,     -999,9,     -999,9,     -999,9,     -999,9,     -999,9,     -999,9
320620180309  ,S04P       ,78      ,  1,13         ,13         ,2,20180420,1924, -66.9999,-135.5960,     4520,   1585.8,1.0607888888888885592,34.720249506969054,2,  34.7200,2,198.18170520447751,2, 198.2036,2,    198.6,2,    114.0,2,    32.14,2,     0.00,2,     2.22,2,    0.144,2,    0.072,2,   0.1200,2,   2261.6,2,  2361.71,2,   7.5900,2,    24.90,     -999,5,     -999,9,   1.0603,2,     -999,9,     -999,9,     -999,     -999,9,     -999,9,     -999,1,     -999,9,    0.062,1,    4.656,1,    0.130,1,  19.6900,2,     -999,9,20180420,2034, -67.0000,-135.5960,     -999,9,     -999,9,-999          ,9,     -999,9,     -999,9,     -999,     -999,9,     -999,     -999,9,     -999,9,     -999,9,     -999,9,     -999,9,     -999,9,     -999,9,     -999,9,     -999,9,     -999,9,     -999,9,     -999,9,     -999,9,     -999,9
320620180309  ,S04P       ,78      ,  1,12         ,12         ,2,20180420,1924, -66.9999,-135.5960,     4520,   1759.2,0.9725722222222221713,34.716579879181431,2,  34.7194,2,200.11984965476921,2, 199.8101,2,    200.6,2,    116.9,2,    32.17,2,     0.00,2,     2.21,2,     -999,9,     -999,9,     -999,9,   2262.7,2,  2364.34,2,   7.5973,2,    24.89,     38.5,2,     -999,9,   0.9720,2,     -999,9,     -999,9,     -999,     -999,9,     -999,9,     -999,1,     -999,9,    0.061,1,    4.658,1,    0.129,1,     -999,9,     -999,9,20180420,2030, -66.9998,-135.5959,     -999,9,     -999,9,-999          ,9,     -999,9,     -999,9,     -999,     -999,9,     -999,     -999,9,     -999,9,     -999,9,     -999,9,     -999,9,     -999,9,     -999,9,     -999,9,     -999,9,     -999,9,     -999,9,     -999,9,     -999,9,     -999,9
320620180309  ,S04P       ,78      ,  1,11         ,11         ,2,20180420,1924, -66.9999,-135.5960,     4520,   1962.5,0.8816111111111110121,34.712614478672080,2,  34.7127,2,202.35631587988874,2, 202.0024,2,    202.8,2,    120.2,2,    32.26,2,     0.00,2,     2.22,2,    0.159,2,    0.085,2,   0.0000,2,   2260.8,2,  2363.84,2,   7.5972,2,    24.90,     39.5,2,     -999,9,   0.8817,2,     -999,9,     -999,9,     -999,     -999,9,     -999,9,     -999,1,     -999,9,    0.061,1,    4.654,1,    0.129,1,  19.6200,2,     -999,9,20180420,2025, -66.9998,-135.5958,     -999,9,     -999,9,-999          ,9,     -999,9,     -999,9,     -999,     -999,9,     -999,     -999,9,     -999,9,     -999,9,     -999,9,     -999,9,     -999,9,     -999,9,     -999,9,     -999,9,     -999,9,     -999,9,     -999,9,     -999,9,     -999,9
320620180309  ,S04P       ,78      ,  1,10         ,10         ,2,20180420,1924, -66.9999,-135.5960,     4520,   2196.3,0.8015416666666665968,34.709302516172222,2,  34.7090,2,204.45033587218330,2, 203.9013,2,    204.8,2,    123.3,2,    32.37,2,     0.00,2,     2.23,2,    0.169,2,    0.092,2,   0.0000,2,   2262.4,6,  2363.69,2,   7.5957,2,    24.90,     42.4,2,     -999,9,   0.8008,2,     -999,9,     -999,9,     -999,     -999,9,     -999,9,     -999,1,     -999,9,    0.062,1,    4.658,1,    0.128,1,  19.2500,2,     -999,9,20180420,2019, -66.9996,-135.5956,     -999,9,     -999,9,-999          ,9,     -999,9,     -999,9,     -999,     -999,9,     -999,     -999,9,     -999,9,     -999,9,     -999,9,     -999,9,     -999,9,     -999,9,     -999,9,     -999,9,     -999,9,     -999,9,     -999,9,     -999,9,     -999,9
320620180309  ,S04P       ,78      ,  1,9          ,9          ,2,20180420,1924, -66.9999,-135.5960,     4520,   2452.9,0.7163805555555555760,34.705997911904731,2,  34.7060,2,205.89662458787603,2, 205.8990,2,    205.9,2,    126.8,2,    32.46,2,     0.00,2,     2.23,2,     -999,9,     -999,9,     -999,9,   2262.0,2,  2365.90,2,   7.5946,6,    24.90,     40.0,2,     -999,9,   0.7157,2,     -999,9,     -999,9,     -999,     -999,9,     -999,9,     -999,1,     -999,9,    0.116,1,    4.659,1,    0.213,1,     -999,9,     -999,9,20180420,2013, -66.9996,-135.5955,     -999,9,     -999,9,-999          ,9,     -999,9,     -999,9,     -999,     -999,9,     -999,     -999,9,     -999,9,     -999,9,     -999,9,     -999,9,     -999,9,     -999,9,     -999,9,     -999,9,     -999,9,     -999,9,     -999,9,     -999,9,     -999,9
320620180309  ,S04P       ,78      ,  1,8          ,8          ,2,20180420,1924, -66.9999,-135.5960,     4520,   2708.8,0.6386750000000002148,34.703741351954285,2,  34.7041,2,207.54043111301735,2, 207.4011,2,    207.2,2,    128.1,2,    32.59,2,     0.00,2,     2.24,2,    0.194,2,    0.104,2,   0.0000,2,   2263.8,2,  2365.02,2,   7.5939,2,    24.90,     39.3,2,     -999,9,   0.6381,2,     -999,9,     -999,9,     -999,     -999,9,     -999,9,     -999,1,     -999,9,    0.082,1,    4.660,1,    0.167,1,  19.3900,2,     -999,9,20180420,2008, -66.9997,-135.5957,     -999,9,     -999,9,-999          ,9,     -999,9,     -999,9,     -999,     -999,9,     -999,     -999,9,     -999,9,     -999,9,     -999,9,     -999,9,     -999,9,     -999,9,     -999,9,     -999,9,     -999,9,     -999,9,     -999,9,     -999,9,     -999,9
320620180309  ,S04P       ,78      ,  1,7          ,7          ,2,20180420,1924, -66.9999,-135.5960,     4520,   2963.9,0.5456111111111110468,34.702324875279459,2,  34.7025,2,208.93440557054359,2, 209.6002,2,    209.1,2,    129.6,2,    32.67,2,     0.00,2,     2.25,2,    0.000,4,    0.000,4,  -0.0800,4,   2263.1,2,  2365.77,2,   7.5930,2,    24.90,     40.7,2,     -999,9,   0.5454,2,     -999,9,     -999,9,     -999,     -999,9,     -999,9,     -999,1,     -999,9,    0.061,1,    4.655,1,    0.126,1,   0.0000,4,     -999,9,20180420,2002, -67.0000,-135.5962,     -999,9,     -999,9,-999          ,9,     -999,9,     -999,9,     -999,     -999,9,     -999,     -999,9,     -999,9,     -999,9,     -999,9,     -999,9,     -999,9,     -999,9,     -999,9,     -999,9,     -999,9,     -999,9,     -999,9,     -999,9,     -999,9
320620180309  ,S04P       ,78      ,  1,6          ,6          ,2,20180420,1924, -66.9999,-135.5960,     4520,   3256.9,0.4643500000000000960,34.701319146570732,2,  34.7017,2,211.31747551816429,2, 211.8028,2,    211.6,2,    132.7,2,    32.71,2,     0.00,2,     2.26,2,    0.229,2,    0.118,2,   0.0000,2,   2265.6,2,  2366.23,2,   7.5935,2,    24.91,     41.4,2,     -999,9,   0.4638,2,     -999,9,     -999,9,     -999,     -999,9,     -999,9,     -999,1,     -999,9,    0.061,1,    4.660,1,    0.126,1,  19.3300,2,     -999,9,20180420,1955, -67.0001,-135.5963,     -999,9,     -999,9,-999          ,9,     -999,9,     -999,9,     -999,     -999,9,     -999,     -999,9,     -999,9,     -999,9,     -999,9,     -999,9,     -999,9,     -999,9,     -999,9,     -999,9,     -999,9,     -999,9,     -999,9,     -999,9,     -999,9
320620180309  ,S04P       ,78      ,  1,5          ,5          ,2,20180420,1924, -66.9999,-135.5960,     4520,   3564.5,0.4066333333333332356,34.700367044988390,2,  34.7002,2,213.57678610165075,2, 213.4986,2,    213.2,2,    135.3,2,    32.75,2,     0.00,2,     2.25,2,    0.278,2,    0.142,2,   0.0000,2,   2264.0,2,  2364.82,2,   7.5949,2,    24.90,     42.5,2,     -999,9,   0.4059,2,     -999,9,     -999,9,     -999,     -999,9,     -999,9,     -999,1,     -999,9,    0.061,1,    4.660,1,    0.127,1,  19.0200,2,     -999,9,20180420,1949, -67.0000,-135.5961,     -999,9,     -999,9,-999          ,9,     -999,9,     -999,9,     -999,     -999,9,     -999,     -999,9,     -999,9,     -999,9,     -999,9,     -999,9,     -999,9,     -999,9,     -999,9,     -999,9,     -999,9,     -999,9,     -999,9,     -999,9,     -999,9
320620180309  ,S04P       ,78      ,  1,4          ,4          ,2,20180420,1924, -66.9999,-135.5960,     4520,   3873.2,0.3596333333333334159,34.698869914878188,2,  34.6988,2,214.95637855480123,2, 215.3008,2,    215.2,2,    135.3,2,    32.73,2,     0.00,2,     2.26,2,    0.358,2,    0.202,2,   0.3600,2,   2262.7,2,  2365.60,2,   7.5940,2,    24.90,     -999,9,     -999,9,   0.3591,2,     -999,9,     -999,9,     -999,     -999,9,     -999,9,     -999,9,     -999,9,    0.060,1,    4.660,1,    0.125,1,  19.7300,2,     -999,9,20180420,1942, -66.9997,-135.5958,     -999,9,     -999,9,-999          ,9,     -999,9,     -999,9,     -999,     -999,9,     -999,     -999,9,     -999,9,     -999,9,     -999,9,     -999,9,     -999,9,     -999,9,     -999,9,     -999,9,     -999,9,     -999,9,     -999,9,     -999,9,     -999,9
320620180309  ,S04P       ,78      ,  1,3          ,3          ,2,20180420,1924, -66.9999,-135.5960,     4520,   4180.5,0.3263666666666666938,34.696956326333215,2,  34.6962,2,216.71295822162190,2, 216.4994,2,    216.6,2,    135.4,2,    32.77,2,     0.00,2,     2.25,2,    0.510,2,    0.260,2,   0.1400,2,   2264.1,2,  2363.28,2,   7.5925,2,    24.90,     41.9,2,     -999,9,   0.3260,2,     -999,9,     -999,9,     -999,     -999,9,     -999,9,     -999,1,     -999,9,    0.060,1,    4.659,1,    0.127,1,  18.7800,2,     -999,9,20180420,1935, -67.0000,-135.5961,     -999,9,     -999,9,-999          ,9,     -999,9,     -999,9,     -999,     -999,9,     -999,     -999,9,     -999,9,     -999,9,     -999,9,     -999,9,     -999,9,     -999,9,     -999,9,     -999,9,     -999,9,     -999,9,     -999,9,     -999,9,     -999,9
320620180309  ,S04P       ,78      ,  1,2          ,2          ,2,20180420,1924, -66.9999,-135.5960,     4520,   4387.2,0.3215361111111111891,34.696587553170154,3,  34.7002,2,218.13810418768708,2, 217.5045,2,    217.5,2,    136.2,2,    32.75,2,     0.00,2,     2.24,2,    0.574,2,    0.292,2,   0.0400,2,   2261.4,2,  2363.27,2,   7.5921,2,    24.91,     -999,9,     -999,9,   0.3212,2,     -999,9,     -999,9,     -999,     -999,9,     -999,9,     -999,9,     -999,9,    0.060,1,    4.656,1,    0.131,1,  18.8700,2,     -999,9,20180420,1930, -67.0000,-135.5962,     -999,9,     -999,9,-999          ,9,     -999,9,     -999,9,     -999,     -999,9,     -999,     -999,9,     -999,9,     -999,9,     -999,9,     -999,9,     -999,9,     -999,9,     -999,9,     -999,9,     -999,9,     -999,9,     -999,9,     -999,9,     -999,9
320620180309  ,S04P       ,78      ,  1,1          ,1          ,2,20180420,1924, -66.9999,-135.5960,     4520,   4604.9,0.3221333333333333826,34.695609761212744,2,  34.6956,2,218.80437396598612,2, 217.8997,2,    218.2,2,    133.4,2,    32.75,2,     0.00,2,     2.25,2,    0.637,2,    0.318,2,   0.0500,2,   2263.2,6,  2363.92,2,   7.5939,2,    24.90,     41.4,2,     -999,9,   0.3218,2,     -999,9,     -999,9,     -999,     -999,9,     -999,9,     -999,1,     -999,9,    0.061,1,    4.655,1,    0.133,1,  18.7700,2,     -999,9,20180420,1924, -66.9999,-135.5960,     -999,9,     -999,9,-999          ,9,     -999,9,     -999,9,     -999,     -999,9,     -999,     -999,9,     -999,9,     -999,9,     -999,9,     -999,9,     -999,9,     -999,9,     -999,9,     -999,9,     -999,9,     -999,9,     -999,9,     -999,9,     -999,9