BOTTLE,20240515CCHHYDRO
EXPOCODE,SECT_ID,STNNBR,CASTNO,SAMPNO,BTLNBR,BTLNBR_FLAG_W,DATE,TIME,LATITUDE,LONGITUDE,DEPTH,CTDPRS,CTDTMP,CTDSAL,CTDSAL_FLAG_W,SALNTY,SALNTY_FLAG_W,CTDOXY,CTDOXY_FLAG_W,CTDOPTOXY,CTDOPTOXY_FLAG_W,OXYGEN,OXYGEN_FLAG_W,SILCAT,SILCAT_FLAG_W,NITRAT,NITRAT_FLAG_W,NITRIT,NITRIT_FLAG_W,PHSPHT,PHSPHT_FLAG_W,CFC-11,CFC-11_FLAG_W,CFC-12,CFC-12_FLAG_W,SF6,SF6_FLAG_W,TCARBN,TCARBN_FLAG_W,ALKALI,ALKALI_FLAG_W,PH_TOT,PH_TOT_FLAG_W,PH_TMP,DOC,DOC_FLAG_W,HELIUM,HELIUM_FLAG_W,REFTMP,REFTMP_FLAG_W,DELC13,DELC13_FLAG_W,DELC14,DELC14_FLAG_W,C14ERR,POC,POC_FLAG_W,TDN,TDN_FLAG_W,TON,TON_FLAG_W,NEON,NEON_FLAG_W,CTDFLUOR,CTDFLUOR_FLAG_W,CTDXMISS,CTDXMISS_FLAG_W,CTDBETA700,CTDBETA700_FLAG_W,N2O,N2O_FLAG_W,ARGON,ARGON_FLAG_W,BTL_DATE,BTL_TIME,BTL_LAT,BTL_LON,KRYPTON,KRYPTON_FLAG_W,XENON,XENON_FLAG_W,HPLC,HPLC_FLAG_W,HE3_HE4_RATIO,HE3_HE4_RATIO_FLAG_W,Nd_143_144_D_EPSILON_BOTTLE,Nd_143_144_D_EPSILON_BOTTLE_FLAG_W,Nd_143_144_D_EPSILON_BOTTLE_ERROR,Nd_143_144_D_RATIO_BOTTLE,Nd_143_144_D_RATIO_BOTTLE_FLAG_W,Nd_143_144_D_RATIO_BOTTLE_ERROR,Nd_D_CONC,Nd_D_CONC_FLAG_W,La_D_CONC_BOTTLE,La_D_CONC_BOTTLE_FLAG_W,Ce_D_CONC_BOTTLE,Ce_D_CONC_BOTTLE_FLAG_W,Pr_D_CONC_BOTTLE,Pr_D_CONC_BOTTLE_FLAG_W,Sm_D_CONC_BOTTLE,Sm_D_CONC_BOTTLE_FLAG_W,Eu_D_CONC_BOTTLE,Eu_D_CONC_BOTTLE_FLAG_W,Gd_D_CONC_BOTTLE,Gd_D_CONC_BOTTLE_FLAG_W,Tb_D_CONC_BOTTLE,Tb_D_CONC_BOTTLE_FLAG_W,Dy_D_CONC_BOTTLE,Dy_D_CONC_BOTTLE_FLAG_W,Ho_D_CONC_BOTTLE,Ho_D_CONC_BOTTLE_FLAG_W,Er_D_CONC_BOTTLE,Er_D_CONC_BOTTLE_FLAG_W,Tm_D_CONC_BOTTLE,Tm_D_CONC_BOTTLE_FLAG_W,Yb_D_CONC_BOTTLE,Yb_D_CONC_BOTTLE_FLAG_W,Lu_D_CONC_BOTTLE,Lu_D_CONC_BOTTLE_FLAG_W
,,,,,,,,,,,METERS,DBAR,ITS-90,PSS-78,,PSS-78,,UMOL/KG,,UMOL/KG,,UMOL/KG,,UMOL/KG,,UMOL/KG,,UMOL/KG,,UMOL/KG,,PMOL/KG,,PMOL/KG,,FMOL/KG,,UMOL/KG,,UMOL/KG,,,,DEG C,UMOL/KG,,NMOL/L,,DEG C,,/MILLE,,/MILLE,,/MILLE,UG/KG,,UMOL/KG,,UMOL/KG,,NMOL/L,,VOLTS,,VOLTS,,VOLTS,,NMOL/KG,,UMOL/L,,,,,,NMOL/L,,NMOL/L,,,,,,10000,,10000,,,,PMOL/KG,,PMOL/L,,PMOL/L,,PMOL/L,,PMOL/L,,PMOL/L,,PMOL/L,,PMOL/L,,PMOL/L,,PMOL/L,,PMOL/L,,PMOL/L,,PMOL/L,,PMOL/L,
320620180309  ,S04P       ,18      ,  2,36         ,36         ,2,20180325,1933, -67.6155, 173.5408,     3469,      5.7,-0.7413305555555554927,34.039202433257891,2,  34.0357,2,339.61740535310770,2, 340.4025,2,    340.1,2,     61.9,2,    26.82,2,     0.15,2,     1.82,2,    5.440,2,    3.050,2,   3.6400,2,   2189.9,6,  2305.22,2,   7.6587,2,    24.95,     41.2,2,     -999,9,     -999,9,     -999,9,     -999,9,     -999,     -999,9,    28.90,2,     -999,1,     -999,9,    0.287,1,    4.574,1,    0.251,1,  16.0600,2,     -999,9,20180325,2150, -67.6161, 173.5404,     -999,9,     -999,9,-999          ,9,     -999,9,     -999,9,     -999,     -999,9,     -999,     -999,9,     -999,9,     -999,9,     -999,9,     -999,9,     -999,9,     -999,9,     -999,9,     -999,9,     -999,9,     -999,9,     -999,9,     -999,9,     -999,9
320620180309  ,S04P       ,18      ,  2,35         ,35         ,2,20180325,1933, -67.6155, 173.5408,     3469,      8.0,-0.7463000000000001855,34.039102789996754,3,     -999,9,339.73251463941199,2, 319.3902,2,     -999,9,     -999,9,     -999,9,     -999,9,     -999,9,     -999,9,     -999,9,     -999,9,     -999,9,     -999,9,     -999,9,     -999,     -999,9,     -999,9,  -0.7418,2,     -999,9,     -999,9,     -999,     -999,1,     -999,9,     -999,9,     -999,9,    0.287,1,    4.574,1,    0.251,1,     -999,9,     -999,9,20180325,2150, -67.6161, 173.5404,     -999,9,     -999,9,-999          ,1,     -999,9,     -999,9,     -999,     -999,9,     -999,     -999,9,     -999,9,     -999,9,     -999,9,     -999,9,     -999,9,     -999,9,     -999,9,     -999,9,     -999,9,     -999,9,     -999,9,     -999,9,     -999,9
320620180309  ,S04P       ,18      ,  2,34         ,34         ,2,20180325,1933, -67.6155, 173.5408,     3469,     34.2,-0.7469361111111111340,34.039159455123198,2,  34.0353,2,340.98421703156527,2, 340.4004,2,    340.0,2,     62.1,2,    26.82,2,     0.15,2,     1.80,2,    5.434,2,    3.049,2,   3.9300,2,   2191.0,2,  2310.81,2,   7.6577,2,    24.94,     44.4,2,     -999,9,  -0.7480,2,     -999,9,     -999,9,     -999,     -999,9,    29.70,2,     -999,1,     -999,9,    0.290,1,    4.575,1,    0.234,1,  16.0400,2,     -999,9,20180325,2149, -67.6160, 173.5404,     -999,9,     -999,9,-999          ,9,     -999,9,     -999,9,     -999,     -999,9,     -999,     -999,9,     -999,9,     -999,9,     -999,9,     -999,9,     -999,9,     -999,9,     -999,9,     -999,9,     -999,9,     -999,9,     -999,9,     -999,9,     -999,9
320620180309  ,S04P       ,18      ,  2,33         ,33         ,2,20180325,1933, -67.6155, 173.5408,     3469,     59.6,-0.7301777777777778144,34.045357313715051,2,  34.0520,2,338.90512752064046,3, 334.8052,2,    335.5,2,     63.3,2,    26.94,2,     0.16,2,     1.82,2,    5.334,2,    2.989,2,   3.7300,2,   2193.3,2,  2308.60,2,   7.6565,2,    24.95,     43.4,2,     -999,9,  -0.7408,2,     -999,9,     -999,9,     -999,     -999,9,    29.50,2,     -999,1,     -999,9,    0.273,1,    4.573,1,    0.231,1,  16.1300,2,     -999,9,20180325,2147, -67.6158, 173.5405,     -999,9,     -999,9,-999          ,9,     -999,9,     -999,9,     -999,     -999,9,     -999,     -999,9,     -999,9,     -999,9,     -999,9,     -999,9,     -999,9,     -999,9,     -999,9,     -999,9,     -999,9,     -999,9,     -999,9,     -999,9,     -999,9
320620180309  ,S04P       ,18      ,  2,32         ,32         ,2,20180325,1933, -67.6155, 173.5408,     3469,     81.2,-0.3311888888888889215,34.363475738081242,2,  34.3566,2,275.21894380221863,3, 267.3978,2,    265.0,2,     79.7,2,    30.40,2,     0.20,2,     2.15,2,     -999,9,     -999,9,     -999,9,   2226.5,2,  2326.76,2,   7.5999,2,    24.95,     42.2,2,     -999,9,     -999,9,     -999,9,     -999,9,     -999,     -999,9,    33.00,2,     -999,1,     -999,9,    0.276,1,    4.570,1,    0.247,1,     -999,9,     -999,9,20180325,2146, -67.6158, 173.5404,     -999,9,     -999,9,-999          ,9,     -999,9,     -999,9,     -999,     -999,9,     -999,     -999,9,     -999,9,     -999,9,     -999,9,     -999,9,     -999,9,     -999,9,     -999,9,     -999,9,     -999,9,     -999,9,     -999,9,     -999,9,     -999,9
320620180309  ,S04P       ,18      ,  2,31         ,31         ,2,20180325,1933, -67.6155, 173.5408,     3469,     82.0,-0.2938416666666666677,34.381874089553470,3,     -999,9,257.35699404788949,2, 265.3933,2,     -999,9,     -999,9,     -999,9,     -999,9,     -999,9,     -999,9,     -999,9,     -999,9,     -999,9,     -999,9,     -999,9,     -999,     -999,9,     -999,9,  -0.3311,2,     -999,9,     -999,9,     -999,     -999,1,     -999,9,     -999,9,     -999,9,    0.232,1,    4.600,1,    0.219,1,     -999,9,     -999,9,20180325,2145, -67.6158, 173.5404,     -999,9,     -999,9,-999          ,1,     -999,9,     -999,9,     -999,     -999,9,     -999,     -999,9,     -999,9,     -999,9,     -999,9,     -999,9,     -999,9,     -999,9,     -999,9,     -999,9,     -999,9,     -999,9,     -999,9,     -999,9,     -999,9
320620180309  ,S04P       ,18      ,  2,30         ,30         ,2,20180325,1933, -67.6155, 173.5408,     3469,    111.0,0.6362333333333333174,34.592087017882598,2,  34.5917,2,204.73442251017821,3, 203.5003,3,    208.1,2,     90.0,2,    32.68,2,     0.11,2,     2.27,2,    1.423,2,    0.791,2,   1.6100,2,   2252.3,2,  2340.69,2,   7.5664,2,    24.95,     42.6,2,     -999,9,   0.6228,2,     -999,9,     -999,9,     -999,     -999,9,    34.90,2,     -999,1,     -999,9,    0.085,1,    4.664,1,    0.144,1,  20.4700,2,     -999,9,20180325,2144, -67.6159, 173.5404,     -999,9,     -999,9,-999          ,9,     -999,9,     -999,9,     -999,     -999,9,     -999,     -999,9,     -999,9,     -999,9,     -999,9,     -999,9,     -999,9,     -999,9,     -999,9,     -999,9,     -999,9,     -999,9,     -999,9,     -999,9,     -999,9
320620180309  ,S04P       ,18      ,  2,29         ,29         ,2,20180325,1933, -67.6155, 173.5408,     3469,    136.1,1.0733333333333336945,34.655417771568231,2,  34.6562,2,190.70136931668227,2, 193.1007,2,    192.2,2,     93.3,2,    32.97,2,     0.05,2,     2.30,2,     -999,9,     -999,9,     -999,9,   2258.7,2,  2346.66,2,   7.5637,6,    24.94,     42.5,2,     -999,9,   1.0812,2,     -999,9,     -999,9,     -999,     -999,9,     -999,9,     -999,1,     -999,9,    0.071,1,    4.668,1,    0.142,1,     -999,9,     -999,9,20180325,2142, -67.6160, 173.5404,     -999,9,     -999,9,-999          ,9,     -999,9,     -999,9,     -999,     -999,9,     -999,     -999,9,     -999,9,     -999,9,     -999,9,     -999,9,     -999,9,     -999,9,     -999,9,     -999,9,     -999,9,     -999,9,     -999,9,     -999,9,     -999,9
320620180309  ,S04P       ,18      ,  2,28         ,28         ,2,20180325,1933, -67.6155, 173.5408,     3469,    165.7,1.3539888888888889085,34.698813868617826,2,  34.6968,2,186.08147303046044,3, 189.0020,3,    184.2,2,     95.9,2,    33.06,2,     0.03,2,     2.30,2,    0.478,2,    0.263,2,   0.2400,2,   2262.4,6,  2347.70,2,   7.5629,2,    24.94,     -999,5,     -999,9,   1.3593,2,     -999,9,     -999,9,     -999,     -999,9,     -999,5,     -999,1,     -999,9,    0.067,1,    4.668,1,    0.143,1,  21.0400,2,     -999,9,20180325,2140, -67.6161, 173.5404,     -999,9,     -999,9,-999          ,9,     -999,9,     -999,9,     -999,     -999,9,     -999,     -999,9,     -999,9,     -999,9,     -999,9,     -999,9,     -999,9,     -999,9,     -999,9,     -999,9,     -999,9,     -999,9,     -999,9,     -999,9,     -999,9
320620180309  ,S04P       ,18      ,  2,27         ,27         ,2,20180325,1933, -67.6155, 173.5408,     3469,    217.2,1.3617111111111108723,34.713406294203146,2,  34.7098,2,186.38736764592417,2, 187.4990,2,    185.8,2,     97.0,2,    32.85,2,     0.02,2,     2.26,2,    0.405,2,    0.212,2,   0.2600,2,   2260.9,2,  2354.15,2,   7.5685,2,    24.95,     41.7,2,     -999,9,   1.3614,2,     -999,9,     -999,9,     -999,     -999,9,    34.20,3,     -999,1,     -999,9,    0.067,1,    4.668,1,    0.148,1,  20.7400,2,     -999,9,20180325,2138, -67.6162, 173.5403,     -999,9,     -999,9,-999          ,9,     -999,9,     -999,9,     -999,     -999,9,     -999,     -999,9,     -999,9,     -999,9,     -999,9,     -999,9,     -999,9,     -999,9,     -999,9,     -999,9,     -999,9,     -999,9,     -999,9,     -999,9,     -999,9
320620180309  ,S04P       ,18      ,  2,26         ,26         ,2,20180325,1933, -67.6155, 173.5408,     3469,    267.9,1.3561861111111113143,34.719631850558351,2,  34.7159,2,186.91131622790544,2, 188.0000,2,    186.5,2,     99.5,2,    32.67,2,     0.02,2,     2.24,2,    0.331,2,    0.173,2,   0.2300,2,   2262.0,2,  2354.07,2,   7.5712,2,    24.94,     -999,5,     -999,9,   1.3556,2,     -999,9,     -999,9,     -999,     -999,9,     -999,5,     -999,1,     -999,9,    0.064,1,    4.670,1,    0.143,1,  20.5000,2,     -999,9,20180325,2135, -67.6164, 173.5403,     -999,9,     -999,9,-999          ,9,     -999,9,     -999,9,     -999,     -999,9,     -999,     -999,9,     -999,9,     -999,9,     -999,9,     -999,9,     -999,9,     -999,9,     -999,9,     -999,9,     -999,9,     -999,9,     -999,9,     -999,9,     -999,9
320620180309  ,S04P       ,18      ,  2,25         ,25         ,2,20180325,1933, -67.6155, 173.5408,     3469,    316.1,1.3356666666666670018,34.721769423187226,2,  34.7182,2,188.12243200791607,2, 188.5031,2,    187.5,2,    100.7,2,    32.62,2,     0.01,2,     2.24,2,    0.303,2,    0.164,2,   0.2000,2,   2260.4,2,  2354.11,2,   7.5745,6,    24.95,     41.0,2,     -999,9,   1.3346,2,     -999,9,     -999,9,     -999,     -999,9,     -999,9,     -999,1,     -999,9,    0.064,1,    4.672,1,    0.138,1,  20.4400,2,     -999,9,20180325,2133, -67.6166, 173.5402,     -999,9,     -999,9,-999          ,9,     -999,9,     -999,9,     -999,     -999,9,     -999,     -999,9,     -999,9,     -999,9,     -999,9,     -999,9,     -999,9,     -999,9,     -999,9,     -999,9,     -999,9,     -999,9,     -999,9,     -999,9,     -999,9
320620180309  ,S04P       ,18      ,  2,24         ,24         ,2,20180325,1933, -67.6155, 173.5408,     3469,    367.9,1.3143083333333334117,34.725376751540743,2,  34.7221,2,187.92725361873826,2, 189.0025,2,    187.5,2,    102.9,2,    32.62,2,     0.00,2,     2.24,2,    0.219,2,    0.120,2,   0.0300,2,   2261.9,2,  2356.23,2,   7.5777,2,    24.94,     39.8,2,     -999,9,   1.3143,2,     -999,9,     -999,9,     -999,     -999,9,     -999,9,     -999,1,     -999,9,    0.062,1,    4.676,1,    0.136,1,  20.4100,2,     -999,9,20180325,2130, -67.6165, 173.5402,     -999,9,     -999,9,-999          ,9,     -999,9,     -999,9,     -999,     -999,9,     -999,     -999,9,     -999,9,     -999,9,     -999,9,     -999,9,     -999,9,     -999,9,     -999,9,     -999,9,     -999,9,     -999,9,     -999,9,     -999,9,     -999,9
320620180309  ,S04P       ,18      ,  2,23         ,23         ,2,20180325,1933, -67.6155, 173.5408,     3469,    419.3,1.2734027777777781054,34.725381809079977,2,  34.7223,2,188.34057271824963,2, 189.7030,2,    188.5,2,    104.9,2,    32.58,2,     0.00,2,     2.23,2,     -999,9,     -999,9,     -999,9,   2262.9,2,  2357.50,2,   7.5801,2,    24.94,     -999,9,     -999,9,   1.2725,2,     -999,9,     -999,9,     -999,     -999,9,     -999,9,     -999,9,     -999,9,    0.061,1,    4.678,1,    0.133,1,     -999,9,     -999,9,20180325,2128, -67.6165, 173.5402,     -999,9,     -999,9,-999          ,9,     -999,9,     -999,9,     -999,     -999,9,     -999,     -999,9,     -999,9,     -999,9,     -999,9,     -999,9,     -999,9,     -999,9,     -999,9,     -999,9,     -999,9,     -999,9,     -999,9,     -999,9,     -999,9
320620180309  ,S04P       ,18      ,  2,22         ,37         ,2,20180325,1933, -67.6155, 173.5408,     3469,    470.6,1.2314638888888886914,34.724682330421039,2,  34.7215,2,189.09319406478218,2, 190.2948,2,    189.7,2,    105.9,2,    32.51,2,     0.00,2,     2.24,2,    0.200,2,    0.102,2,   0.0800,2,   2264.1,2,  2356.43,2,   7.5823,2,    24.93,     39.3,2,     -999,9,   1.2308,2,     -999,9,     -999,9,     -999,     -999,9,     -999,9,     -999,1,     -999,9,    0.062,1,    4.679,1,    0.135,1,  20.1800,2,     -999,9,20180325,2125, -67.6165, 173.5402,     -999,9,     -999,9,-999          ,9,     -999,9,     -999,9,     -999,     -999,9,     -999,     -999,9,     -999,9,     -999,9,     -999,9,     -999,9,     -999,9,     -999,9,     -999,9,     -999,9,     -999,9,     -999,9,     -999,9,     -999,9,     -999,9
320620180309  ,S04P       ,18      ,  2,21         ,21         ,2,20180325,1933, -67.6155, 173.5408,     3469,    539.7,1.1823249999999996263,34.724221239383489,2,  34.7217,2,190.19685743310387,2, 191.4033,2,    190.9,2,    107.6,2,    32.51,2,     0.00,2,     2.23,2,     -999,9,     -999,9,     -999,9,   2262.3,2,  2359.01,2,   7.5842,2,    24.94,     42.2,2,     -999,9,   1.1816,2,     -999,9,     -999,9,     -999,     -999,9,     -999,9,     -999,1,     -999,9,    0.063,1,    4.678,1,    0.133,1,     -999,9,     -999,9,20180325,2122, -67.6167, 173.5402,     -999,9,     -999,9,-999          ,9,     -999,9,     -999,9,     -999,     -999,9,     -999,     -999,9,     -999,9,     -999,9,     -999,9,     -999,9,     -999,9,     -999,9,     -999,9,     -999,9,     -999,9,     -999,9,     -999,9,     -999,9,     -999,9
320620180309  ,S04P       ,18      ,  2,20         ,20         ,2,20180325,1933, -67.6155, 173.5408,     3469,    641.1,1.1200638888888887479,34.722838463525228,2,  34.7202,2,192.09796041435314,2, 192.8043,2,    192.5,2,    110.7,2,    32.56,2,     0.00,2,     2.23,2,    0.145,2,    0.082,2,   0.2200,2,   2264.3,2,  2360.20,2,   7.5845,2,    24.93,     40.8,2,     -999,9,   1.1195,2,     -999,9,     -999,9,     -999,     -999,9,     -999,9,     -999,1,     -999,9,    0.061,1,    4.678,1,    0.133,1,  19.9400,2,     -999,9,20180325,2119, -67.6170, 173.5400,     -999,9,     -999,9,-999          ,9,     -999,9,     -999,9,     -999,     -999,9,     -999,     -999,9,     -999,9,     -999,9,     -999,9,     -999,9,     -999,9,     -999,9,     -999,9,     -999,9,     -999,9,     -999,9,     -999,9,     -999,9,     -999,9
320620180309  ,S04P       ,18      ,  2,19         ,19         ,2,20180325,1933, -67.6155, 173.5408,     3469,    744.6,1.0569527777777776301,34.721114627342402,2,  34.7188,2,193.66370667773475,2, 194.4003,2,    194.5,2,    112.6,2,    32.53,2,     0.00,2,     2.23,2,    0.135,2,    0.077,2,   0.1300,2,   2264.2,2,  2361.21,2,   7.5864,2,    24.94,     39.6,2,     -999,9,   1.0560,2,     -999,9,     -999,9,     -999,     -999,9,     -999,9,     -999,1,     -999,9,    0.061,1,    4.679,1,    0.131,1,  19.8700,2,     -999,9,20180325,2115, -67.6171, 173.5399,     -999,9,     -999,9,-999          ,9,     -999,9,     -999,9,     -999,     -999,9,     -999,     -999,9,     -999,9,     -999,9,     -999,9,     -999,9,     -999,9,     -999,9,     -999,9,     -999,9,     -999,9,     -999,9,     -999,9,     -999,9,     -999,9
320620180309  ,S04P       ,18      ,  2,18         ,18         ,2,20180325,1933, -67.6155, 173.5408,     3469,    843.9,0.9952999999999998515,34.718760201103038,2,  34.7166,2,194.87801382727631,2, 195.7971,2,    196.1,2,    114.6,2,    32.50,2,     0.00,2,     2.24,2,     -999,9,     -999,9,     -999,9,   2263.7,2,  2360.84,2,   7.5896,2,    24.94,     39.1,2,     -999,9,   0.9940,2,     -999,9,     -999,9,     -999,     -999,9,     -999,9,     -999,1,     -999,9,    0.061,1,    4.679,1,    0.133,1,     -999,9,     -999,9,20180325,2111, -67.6170, 173.5402,     -999,9,     -999,9,-999          ,9,     -999,9,     -999,9,     -999,     -999,9,     -999,     -999,9,     -999,9,     -999,9,     -999,9,     -999,9,     -999,9,     -999,9,     -999,9,     -999,9,     -999,9,     -999,9,     -999,9,     -999,9,     -999,9
320620180309  ,S04P       ,18      ,  2,17         ,17         ,2,20180325,1933, -67.6155, 173.5408,     3469,    945.7,0.9481750000000001011,34.717129000623473,2,  34.7153,2,196.34668492230421,2, 196.8040,2,    197.6,2,    114.8,2,    32.44,2,     0.00,2,     2.24,2,    0.122,2,    0.060,2,   0.0900,2,   2263.4,2,  2360.75,2,   7.5892,2,    24.93,     42.3,2,     -999,9,   0.9473,2,     -999,9,     -999,9,     -999,     -999,9,     -999,9,     -999,1,     -999,9,    0.061,1,    4.679,1,    0.131,1,  19.5600,2,     -999,9,20180325,2108, -67.6166, 173.5403,     -999,9,     -999,9,-999          ,9,     -999,9,     -999,9,     -999,     -999,9,     -999,     -999,9,     -999,9,     -999,9,     -999,9,     -999,9,     -999,9,     -999,9,     -999,9,     -999,9,     -999,9,     -999,9,     -999,9,     -999,9,     -999,9
320620180309  ,S04P       ,18      ,  2,16         ,16         ,2,20180325,1933, -67.6155, 173.5408,     3469,   1049.5,0.8999861111111110423,34.715268315209769,2,  34.7133,2,198.02614029566834,2, 198.0973,2,    198.6,2,    116.7,2,    32.43,2,     0.00,2,     2.22,2,    0.125,2,    0.062,2,   0.1500,2,   2264.7,2,  2361.36,2,   7.5907,6,    24.91,     43.5,2,     -999,9,   0.9005,2,     -999,9,     -999,9,     -999,     -999,9,     -999,9,     -999,1,     -999,9,    0.062,1,    4.679,1,    0.130,1,  19.5200,2,     -999,9,20180325,2104, -67.6161, 173.5407,     -999,9,     -999,9,-999          ,9,     -999,9,     -999,9,     -999,     -999,9,     -999,     -999,9,     -999,9,     -999,9,     -999,9,     -999,9,     -999,9,     -999,9,     -999,9,     -999,9,     -999,9,     -999,9,     -999,9,     -999,9,     -999,9