BOTTLE,20240515CCHHYDRO
EXPOCODE,SECT_ID,STNNBR,CASTNO,SAMPNO,BTLNBR,BTLNBR_FLAG_W,DATE,TIME,LATITUDE,LONGITUDE,DEPTH,CTDPRS,CTDTMP,CTDSAL,CTDSAL_FLAG_W,SALNTY,SALNTY_FLAG_W,CTDOXY,CTDOXY_FLAG_W,CTDOPTOXY,CTDOPTOXY_FLAG_W,OXYGEN,OXYGEN_FLAG_W,SILCAT,SILCAT_FLAG_W,NITRAT,NITRAT_FLAG_W,NITRIT,NITRIT_FLAG_W,PHSPHT,PHSPHT_FLAG_W,CFC-11,CFC-11_FLAG_W,CFC-12,CFC-12_FLAG_W,SF6,SF6_FLAG_W,TCARBN,TCARBN_FLAG_W,ALKALI,ALKALI_FLAG_W,PH_TOT,PH_TOT_FLAG_W,PH_TMP,DOC,DOC_FLAG_W,HELIUM,HELIUM_FLAG_W,REFTMP,REFTMP_FLAG_W,DELC13,DELC13_FLAG_W,DELC14,DELC14_FLAG_W,C14ERR,POC,POC_FLAG_W,TDN,TDN_FLAG_W,TON,TON_FLAG_W,NEON,NEON_FLAG_W,CTDFLUOR,CTDFLUOR_FLAG_W,CTDXMISS,CTDXMISS_FLAG_W,CTDBETA700,CTDBETA700_FLAG_W,N2O,N2O_FLAG_W,ARGON,ARGON_FLAG_W,BTL_DATE,BTL_TIME,BTL_LAT,BTL_LON,KRYPTON,KRYPTON_FLAG_W,XENON,XENON_FLAG_W,HPLC,HPLC_FLAG_W,HE3_HE4_RATIO,HE3_HE4_RATIO_FLAG_W,Nd_143_144_D_EPSILON_BOTTLE,Nd_143_144_D_EPSILON_BOTTLE_FLAG_W,Nd_143_144_D_EPSILON_BOTTLE_ERROR,Nd_143_144_D_RATIO_BOTTLE,Nd_143_144_D_RATIO_BOTTLE_FLAG_W,Nd_143_144_D_RATIO_BOTTLE_ERROR,Nd_D_CONC,Nd_D_CONC_FLAG_W,La_D_CONC_BOTTLE,La_D_CONC_BOTTLE_FLAG_W,Ce_D_CONC_BOTTLE,Ce_D_CONC_BOTTLE_FLAG_W,Pr_D_CONC_BOTTLE,Pr_D_CONC_BOTTLE_FLAG_W,Sm_D_CONC_BOTTLE,Sm_D_CONC_BOTTLE_FLAG_W,Eu_D_CONC_BOTTLE,Eu_D_CONC_BOTTLE_FLAG_W,Gd_D_CONC_BOTTLE,Gd_D_CONC_BOTTLE_FLAG_W,Tb_D_CONC_BOTTLE,Tb_D_CONC_BOTTLE_FLAG_W,Dy_D_CONC_BOTTLE,Dy_D_CONC_BOTTLE_FLAG_W,Ho_D_CONC_BOTTLE,Ho_D_CONC_BOTTLE_FLAG_W,Er_D_CONC_BOTTLE,Er_D_CONC_BOTTLE_FLAG_W,Tm_D_CONC_BOTTLE,Tm_D_CONC_BOTTLE_FLAG_W,Yb_D_CONC_BOTTLE,Yb_D_CONC_BOTTLE_FLAG_W,Lu_D_CONC_BOTTLE,Lu_D_CONC_BOTTLE_FLAG_W
,,,,,,,,,,,METERS,DBAR,ITS-90,PSS-78,,PSS-78,,UMOL/KG,,UMOL/KG,,UMOL/KG,,UMOL/KG,,UMOL/KG,,UMOL/KG,,UMOL/KG,,PMOL/KG,,PMOL/KG,,FMOL/KG,,UMOL/KG,,UMOL/KG,,,,DEG C,UMOL/KG,,NMOL/L,,DEG C,,/MILLE,,/MILLE,,/MILLE,UG/KG,,UMOL/KG,,UMOL/KG,,NMOL/L,,VOLTS,,VOLTS,,VOLTS,,NMOL/KG,,UMOL/L,,,,,,NMOL/L,,NMOL/L,,,,,,10000,,10000,,,,PMOL/KG,,PMOL/L,,PMOL/L,,PMOL/L,,PMOL/L,,PMOL/L,,PMOL/L,,PMOL/L,,PMOL/L,,PMOL/L,,PMOL/L,,PMOL/L,,PMOL/L,,PMOL/L,
320620180309  ,S04P       ,54      ,  1,36         ,36         ,2,20180410,1402, -67.0002,-168.8834,     3438,      8.4,-1.0888194444444443398,34.117755746841588,2,  34.1138,2,342.80474863053922,2, 342.4024,2,    342.9,2,     59.0,2,    26.74,2,     0.20,2,     1.83,2,    5.501,2,    3.086,2,   3.5400,2,   2194.6,6,  2311.23,2,   7.6527,2,    24.93,     46.9,2,     -999,9,  -1.0916,2,     -999,9,     -999,9,     -999,     -999,9,    31.20,2,     -999,1,     -999,9,    0.126,1,    4.597,1,    0.192,1,  16.6600,2,     -999,9,20180410,1559, -67.0001,-168.8821,     -999,9,     -999,9,-999          ,9,     -999,9,     -999,9,     -999,     -999,9,     -999,     -999,9,     -999,9,     -999,9,     -999,9,     -999,9,     -999,9,     -999,9,     -999,9,     -999,9,     -999,9,     -999,9,     -999,9,     -999,9,     -999,9
320620180309  ,S04P       ,54      ,  1,35         ,35         ,2,20180410,1402, -67.0002,-168.8834,     3438,     19.8,-1.0904888888888892851,34.117480182489992,2,  34.1140,2,343.27064865295250,2, 342.4039,2,    342.5,2,     58.8,2,    26.71,2,     0.19,2,     1.79,2,     -999,9,     -999,9,     -999,9,   2194.3,2,  2312.27,2,   7.6522,2,    24.91,     43.4,2,     -999,9,  -1.0883,2,     -999,9,     -999,9,     -999,     -999,9,    30.30,2,     -999,1,     -999,9,    0.126,1,    4.599,1,    0.193,1,     -999,9,     -999,9,20180410,1558, -67.0001,-168.8822,     -999,9,     -999,9,-999          ,9,     -999,9,     -999,9,     -999,     -999,9,     -999,     -999,9,     -999,9,     -999,9,     -999,9,     -999,9,     -999,9,     -999,9,     -999,9,     -999,9,     -999,9,     -999,9,     -999,9,     -999,9,     -999,9
320620180309  ,S04P       ,54      ,  1,34         ,34         ,2,20180410,1402, -67.0002,-168.8834,     3438,     39.4,-1.0920111111111110436,34.117836956237667,2,  34.1140,2,344.06485486384713,2, 342.4007,2,    343.0,2,     58.7,2,    26.75,2,     0.19,2,     1.79,2,    5.581,2,    3.108,2,   3.8200,2,   2194.3,2,  2311.46,2,   7.6520,2,    24.92,     45.3,2,     -999,9,  -1.0909,2,     -999,9,     -999,9,     -999,     -999,9,    30.20,2,     -999,1,     -999,9,    0.124,1,    4.599,1,    0.183,1,  16.9700,2,     -999,9,20180410,1556, -67.0000,-168.8822,     -999,9,     -999,9,-999          ,9,     -999,9,     -999,9,     -999,     -999,9,     -999,     -999,9,     -999,9,     -999,9,     -999,9,     -999,9,     -999,9,     -999,9,     -999,9,     -999,9,     -999,9,     -999,9,     -999,9,     -999,9,     -999,9
320620180309  ,S04P       ,54      ,  1,33         ,33         ,2,20180410,1402, -67.0002,-168.8834,     3438,     65.1,-1.0792833333333335943,34.117923373014861,2,  34.1140,2,345.00873401215415,2, 342.4036,2,    342.5,2,     58.8,2,    26.79,2,     0.19,2,     1.80,2,     -999,9,     -999,9,     -999,9,   2194.8,2,  2313.38,2,   7.6520,2,    24.90,     -999,9,     -999,9,  -1.0812,2,     -999,9,     -999,9,     -999,     -999,9,     -999,9,     -999,9,     -999,9,    0.122,1,    4.601,1,    0.179,1,     -999,9,     -999,9,20180410,1554, -67.0000,-168.8820,     -999,9,     -999,9,-999          ,9,     -999,9,     -999,9,     -999,     -999,9,     -999,     -999,9,     -999,9,     -999,9,     -999,9,     -999,9,     -999,9,     -999,9,     -999,9,     -999,9,     -999,9,     -999,9,     -999,9,     -999,9,     -999,9
320620180309  ,S04P       ,54      ,  1,32         ,32         ,2,20180410,1402, -67.0002,-168.8834,     3438,     90.8,-1.0672555555555556239,34.126032646740804,2,  34.1250,2,341.80676363923737,2, 339.1076,2,    339.3,2,     59.6,2,    26.95,2,     0.19,2,     1.84,2,    5.409,2,    3.007,2,   3.3700,2,   2196.7,2,  2311.03,2,   7.6497,2,    24.91,     41.8,2,     -999,9,  -1.0749,2,     -999,9,     -999,9,     -999,     -999,9,    30.00,2,     -999,1,     -999,9,    0.102,1,    4.611,1,    0.171,1,  16.3800,2,     -999,9,20180410,1552, -67.0000,-168.8820,     -999,9,     -999,9,-999          ,9,     -999,9,     -999,9,     -999,     -999,9,     -999,     -999,9,     -999,9,     -999,9,     -999,9,     -999,9,     -999,9,     -999,9,     -999,9,     -999,9,     -999,9,     -999,9,     -999,9,     -999,9,     -999,9
320620180309  ,S04P       ,54      ,  1,31         ,31         ,2,20180410,1402, -67.0002,-168.8834,     3438,    115.5,-1.0177222222222221948,34.386037535554081,2,  34.3872,2,280.77191344160474,3, 274.8010,2,    275.3,2,     76.9,2,    31.36,2,     0.10,2,     2.12,2,    3.585,2,    1.997,2,   2.5400,2,   2228.2,2,  2326.07,2,   7.5908,2,    24.92,     42.5,2,     -999,9,  -1.0365,2,     -999,9,     -999,9,     -999,     -999,9,    34.20,2,     -999,1,     -999,9,    0.079,1,    4.633,1,    0.157,1,  18.9900,2,     -999,9,20180410,1551, -67.0000,-168.8820,     -999,9,     -999,9,-999          ,9,     -999,9,     -999,9,     -999,     -999,9,     -999,     -999,9,     -999,9,     -999,9,     -999,9,     -999,9,     -999,9,     -999,9,     -999,9,     -999,9,     -999,9,     -999,9,     -999,9,     -999,9,     -999,9
320620180309  ,S04P       ,54      ,  1,30         ,30         ,2,20180410,1402, -67.0002,-168.8834,     3438,    141.2,-0.1624138888888888854,34.495078377853503,2,  34.4903,2,250.69473134004650,3, 241.3991,3,    244.3,2,     81.8,2,    31.99,2,     0.04,2,     2.15,2,     -999,9,     -999,9,     -999,9,   2240.0,2,  2331.45,2,   7.5759,2,    24.92,     -999,9,     -999,9,  -0.1670,2,     -999,9,     -999,9,     -999,     -999,9,     -999,9,     -999,9,     -999,9,    0.073,1,    4.645,1,    0.159,1,     -999,9,     -999,9,20180410,1549, -67.0000,-168.8821,     -999,9,     -999,9,-999          ,9,     -999,9,     -999,9,     -999,     -999,9,     -999,     -999,9,     -999,9,     -999,9,     -999,9,     -999,9,     -999,9,     -999,9,     -999,9,     -999,9,     -999,9,     -999,9,     -999,9,     -999,9,     -999,9
320620180309  ,S04P       ,54      ,  1,29         ,29         ,2,20180410,1402, -67.0002,-168.8834,     3438,    166.6,0.5313999999999999835,34.581520171545961,2,  34.5817,2,223.75327944687623,3, 217.9996,2,    217.8,2,     85.9,2,    32.32,2,     0.03,2,     2.19,2,    1.692,2,    0.914,2,   0.8700,2,   2248.8,2,  2338.83,2,   7.5725,2,    24.92,     40.1,2,     -999,9,   0.5198,2,     -999,9,     -999,9,     -999,     -999,9,    34.20,2,     -999,1,     -999,9,    0.070,1,    4.651,1,    0.148,1,  20.6500,2,     -999,9,20180410,1547, -67.0000,-168.8821,     -999,9,     -999,9,-999          ,9,     -999,9,     -999,9,     -999,     -999,9,     -999,     -999,9,     -999,9,     -999,9,     -999,9,     -999,9,     -999,9,     -999,9,     -999,9,     -999,9,     -999,9,     -999,9,     -999,9,     -999,9,     -999,9
320620180309  ,S04P       ,54      ,  1,28         ,28         ,2,20180410,1402, -67.0002,-168.8834,     3438,    190.1,1.0371861111111109199,34.646964031672077,2,  34.6495,2,205.66292791582899,3, 204.8007,3,    201.9,2,     89.1,2,    32.41,2,     0.02,2,     2.17,2,    1.083,2,    0.587,2,   0.4900,2,   2253.2,2,  2344.25,2,   7.5695,2,    24.92,     -999,9,     -999,9,   1.0396,2,     -999,9,     -999,9,     -999,     -999,9,     -999,9,     -999,9,     -999,9,    0.067,1,    4.653,1,    0.151,1,  21.5900,2,     -999,9,20180410,1545, -67.0000,-168.8822,     -999,9,     -999,9,-999          ,9,     -999,9,     -999,9,     -999,     -999,9,     -999,     -999,9,     -999,9,     -999,9,     -999,9,     -999,9,     -999,9,     -999,9,     -999,9,     -999,9,     -999,9,     -999,9,     -999,9,     -999,9,     -999,9
320620180309  ,S04P       ,54      ,  1,27         ,27         ,2,20180410,1402, -67.0002,-168.8834,     3438,    235.6,1.3663527777777777494,34.702041802562825,2,  34.6992,2,193.63350153337137,2, 195.7016,3,    192.8,2,     92.8,2,    32.29,2,     0.00,2,     2.20,2,    0.611,2,    0.334,2,   0.2500,2,   2256.7,2,  2348.70,2,   7.5789,2,    24.91,     40.1,2,     -999,9,   1.3718,2,     -999,9,     -999,9,     -999,     -999,9,    34.40,2,     -999,1,     -999,9,    0.064,1,    4.657,1,    0.143,1,  20.9400,2,     -999,9,20180410,1543, -67.0000,-168.8821,     -999,9,     -999,9,-999          ,9,     -999,9,     -999,9,     -999,     -999,9,     -999,     -999,9,     -999,9,     -999,9,     -999,9,     -999,9,     -999,9,     -999,9,     -999,9,     -999,9,     -999,9,     -999,9,     -999,9,     -999,9,     -999,9
320620180309  ,S04P       ,54      ,  1,26         ,26         ,2,20180410,1402, -67.0002,-168.8834,     3438,    286.8,1.4040000000000001368,34.715534373508412,2,  34.7131,2,194.08334100219889,2, 195.3001,2,    194.2,2,     93.9,2,    32.00,2,     0.00,2,     2.15,2,     -999,9,     -999,9,     -999,9,   2255.1,6,  2349.12,2,   7.5851,6,    24.92,     42.6,2,     -999,9,   1.4032,2,     -999,9,     -999,9,     -999,     -999,9,     -999,9,     -999,1,     -999,9,    0.062,1,    4.660,1,    0.143,1,     -999,9,     -999,9,20180410,1541, -67.0000,-168.8819,     -999,9,     -999,9,-999          ,9,     -999,9,     -999,9,     -999,     -999,9,     -999,     -999,9,     -999,9,     -999,9,     -999,9,     -999,9,     -999,9,     -999,9,     -999,9,     -999,9,     -999,9,     -999,9,     -999,9,     -999,9,     -999,9
320620180309  ,S04P       ,54      ,  1,25         ,25         ,2,20180410,1402, -67.0002,-168.8834,     3438,    337.3,1.3903388888888890129,34.720863568315117,2,  34.7174,2,194.37517005887943,2, 194.7953,2,    194.7,2,     95.0,2,    31.91,2,     0.00,2,     2.16,2,    0.454,2,    0.239,2,   0.1000,2,   2254.6,2,  2351.74,2,   7.5844,6,    24.93,     42.8,2,     -999,9,   1.3902,2,     -999,9,     -999,9,     -999,     -999,9,     -999,9,     -999,1,     -999,9,    0.062,1,    4.662,1,    0.139,1,  20.4000,2,     -999,9,20180410,1539, -67.0000,-168.8818,     -999,9,     -999,9,-999          ,9,     -999,9,     -999,9,     -999,     -999,9,     -999,     -999,9,     -999,9,     -999,9,     -999,9,     -999,9,     -999,9,     -999,9,     -999,9,     -999,9,     -999,9,     -999,9,     -999,9,     -999,9,     -999,9
320620180309  ,S04P       ,54      ,  1,24         ,24         ,2,20180410,1402, -67.0002,-168.8834,     3438,    389.1,1.3609999999999999876,34.723484501397408,2,  34.7206,2,195.41016810751924,2, 195.4031,2,    195.0,2,     96.6,2,    31.77,2,     0.00,2,     2.14,2,     -999,9,     -999,9,     -999,9,   2254.6,2,  2353.34,2,   7.5879,2,    24.92,     43.1,2,     -999,9,   1.3605,2,     -999,9,     -999,9,     -999,     -999,9,     -999,9,     -999,1,     -999,9,    0.061,1,    4.663,1,    0.137,1,     -999,9,     -999,9,20180410,1537, -67.0000,-168.8817,     -999,9,     -999,9,-999          ,9,     -999,9,     -999,9,     -999,     -999,9,     -999,     -999,9,     -999,9,     -999,9,     -999,9,     -999,9,     -999,9,     -999,9,     -999,9,     -999,9,     -999,9,     -999,9,     -999,9,     -999,9,     -999,9
320620180309  ,S04P       ,54      ,  1,23         ,23         ,2,20180410,1402, -67.0002,-168.8834,     3438,    439.6,1.3361222222222222111,34.725668115102302,2,  34.7259,2,194.84329569816708,3, 196.0993,2,    197.1,2,     98.1,2,    31.76,2,     0.00,2,     2.14,2,    0.384,2,    0.207,2,   0.1100,2,   2254.8,2,  2351.78,2,   7.5891,2,    24.91,     42.2,2,     -999,9,   1.3354,2,     -999,9,     -999,9,     -999,     -999,9,     -999,9,     -999,1,     -999,9,    0.062,1,    4.662,1,    0.143,1,  20.2600,2,     -999,9,20180410,1534, -67.0000,-168.8813,     -999,9,     -999,9,-999          ,9,     -999,9,     -999,9,     -999,     -999,9,     -999,     -999,9,     -999,9,     -999,9,     -999,9,     -999,9,     -999,9,     -999,9,     -999,9,     -999,9,     -999,9,     -999,9,     -999,9,     -999,9,     -999,9
320620180309  ,S04P       ,54      ,  1,22         ,37         ,2,20180410,1402, -67.0002,-168.8834,     3438,    490.8,1.3113416666666668497,34.726361789854785,2,  34.7235,2,196.50854858699770,2, 195.7994,2,    196.4,2,    100.1,2,    31.93,2,     0.00,2,     2.13,2,    0.351,2,    0.188,2,   0.2500,2,   2255.9,2,  2355.42,2,   7.5904,2,    24.90,     43.5,2,     -999,9,   1.3102,2,     -999,9,     -999,9,     -999,     -999,9,     -999,9,     -999,1,     -999,9,    0.062,1,    4.659,1,    0.143,1,  20.9600,2,     -999,9,20180410,1532, -67.0000,-168.8812,     -999,9,     -999,9,-999          ,9,     -999,9,     -999,9,     -999,     -999,9,     -999,     -999,9,     -999,9,     -999,9,     -999,9,     -999,9,     -999,9,     -999,9,     -999,9,     -999,9,     -999,9,     -999,9,     -999,9,     -999,9,     -999,9
320620180309  ,S04P       ,54      ,  1,21         ,21         ,2,20180410,1402, -67.0002,-168.8834,     3438,    571.1,1.2534388888888889912,34.726650009043787,2,  34.7241,2,197.61450146642585,2, 197.1998,2,    197.9,2,    102.1,2,    31.78,2,     0.00,2,     2.13,2,     -999,9,     -999,9,     -999,9,   2256.7,2,  2356.12,2,   7.5915,2,    24.91,     41.8,2,     -999,9,   1.2524,2,     -999,9,     -999,9,     -999,     -999,9,     -999,9,     -999,1,     -999,9,    0.062,1,    4.660,1,    0.144,1,     -999,9,     -999,9,20180410,1529, -67.0000,-168.8813,     -999,9,     -999,9,-999          ,9,     -999,9,     -999,9,     -999,     -999,9,     -999,     -999,9,     -999,9,     -999,9,     -999,9,     -999,9,     -999,9,     -999,9,     -999,9,     -999,9,     -999,9,     -999,9,     -999,9,     -999,9,     -999,9
320620180309  ,S04P       ,54      ,  1,20         ,20         ,2,20180410,1402, -67.0002,-168.8834,     3438,    672.8,1.1925611111111107387,34.725895753335230,2,  34.7227,2,199.02802923255854,2, 198.2019,2,    198.6,2,    104.8,2,    31.89,2,     0.00,2,     2.14,2,    0.286,6,    0.160,6,   0.0700,6,   2257.1,2,  2357.54,2,   7.5920,2,    24.93,     45.5,2,     -999,9,   1.1916,2,     -999,9,     -999,9,     -999,     -999,9,     -999,9,     -999,1,     -999,9,    0.061,1,    4.663,1,    0.139,1,  20.7700,6,     -999,9,20180410,1526, -67.0000,-168.8814,     -999,9,     -999,9,-999          ,9,     -999,9,     -999,9,     -999,     -999,9,     -999,     -999,9,     -999,9,     -999,9,     -999,9,     -999,9,     -999,9,     -999,9,     -999,9,     -999,9,     -999,9,     -999,9,     -999,9,     -999,9,     -999,9
320620180309  ,S04P       ,54      ,  1,19         ,19         ,2,20180410,1402, -67.0002,-168.8834,     3438,    773.7,1.1072277777777779217,34.723776608019662,2,  34.7219,2,200.12334747951368,2, 199.3976,2,    199.4,2,    108.1,2,    31.98,2,     0.00,2,     2.14,2,    0.254,2,    0.137,2,   0.1600,2,   2258.8,2,  2360.14,2,   7.5928,2,    24.90,     43.6,2,     -999,9,   1.1077,2,     -999,9,     -999,9,     -999,     -999,9,     -999,9,     -999,1,     -999,9,    0.061,1,    4.663,1,    0.138,1,  20.3300,2,     -999,9,20180410,1522, -67.0000,-168.8817,     -999,9,     -999,9,-999          ,9,     -999,9,     -999,9,     -999,     -999,9,     -999,     -999,9,     -999,9,     -999,9,     -999,9,     -999,9,     -999,9,     -999,9,     -999,9,     -999,9,     -999,9,     -999,9,     -999,9,     -999,9,     -999,9
320620180309  ,S04P       ,54      ,  1,18         ,18         ,2,20180410,1402, -67.0002,-168.8834,     3438,    876.7,1.0341777777777776404,34.721320171934330,2,  34.7196,2,200.94635634257816,2, 200.5055,2,    200.9,2,    110.6,2,    32.06,2,     0.00,2,     2.14,2,     -999,9,     -999,9,     -999,9,   2259.2,2,  2358.66,2,   7.5959,2,    24.90,     43.7,2,     -999,9,   1.0336,2,     -999,9,     -999,9,     -999,     -999,9,     -999,9,     -999,1,     -999,9,    0.061,1,    4.664,1,    0.149,1,     -999,9,     -999,9,20180410,1519, -67.0000,-168.8818,     -999,9,     -999,9,-999          ,9,     -999,9,     -999,9,     -999,     -999,9,     -999,     -999,9,     -999,9,     -999,9,     -999,9,     -999,9,     -999,9,     -999,9,     -999,9,     -999,9,     -999,9,     -999,9,     -999,9,     -999,9,     -999,9
320620180309  ,S04P       ,54      ,  1,17         ,17         ,2,20180410,1402, -67.0002,-168.8834,     3438,    976.5,0.9673333333333334894,34.718436703009971,2,  34.7162,2,202.47203326225369,2, 201.6030,2,    202.4,2,    112.6,2,    32.12,2,     0.00,2,     2.16,2,    0.252,2,    0.133,2,   0.2400,2,   2257.8,2,  2359.98,2,   7.5955,2,    24.90,     41.0,2,     -999,9,   0.9664,2,     -999,9,     -999,9,     -999,     -999,9,     -999,9,     -999,1,     -999,9,    0.062,1,    4.665,1,    0.140,1,  19.9300,2,     -999,9,20180410,1516, -67.0000,-168.8818,     -999,9,     -999,9,-999          ,9,     -999,9,     -999,9,     -999,     -999,9,     -999,     -999,9,     -999,9,     -999,9,     -999,9,     -999,9,     -999,9,     -999,9,     -999,9,     -999,9,     -999,9,     -999,9,     -999,9,     -999,9,     -999,9
320620180309  ,S04P       ,54      ,  1,16         ,16         ,2,20180410,1402, -67.0002,-168.8834,     3438,   1078.1,0.9046111111111110326,34.715686203437812,2,  34.7135,2,203.63888493224056,2, 202.9028,2,    203.5,2,    114.6,2,    32.13,2,     0.00,2,     2.16,2,    0.251,2,    0.130,2,   0.0600,2,   2257.9,2,  2360.96,2,   7.5959,2,    24.90,     42.5,2,     -999,9,   0.9038,2,     -999,9,     -999,9,     -999,     -999,9,     -999,9,     -999,1,     -999,9,    0.061,1,    4.665,1,    0.133,1,  20.5500,2,     -999,9,20180410,1513, -67.0000,-168.8818,     -999,9,     -999,9,-999          ,9,     -999,9,     -999,9,     -999,     -999,9,     -999,     -999,9,     -999,9,     -999,9,     -999,9,     -999,9,     -999,9,     -999,9,     -999,9,     -999,9,     -999,9,     -999,9,     -999,9,     -999,9,     -999,9