BOTTLE,20240515CCHHYDRO
EXPOCODE,SECT_ID,STNNBR,CASTNO,SAMPNO,BTLNBR,BTLNBR_FLAG_W,DATE,TIME,LATITUDE,LONGITUDE,DEPTH,CTDPRS,CTDTMP,CTDSAL,CTDSAL_FLAG_W,SALNTY,SALNTY_FLAG_W,CTDOXY,CTDOXY_FLAG_W,CTDOPTOXY,CTDOPTOXY_FLAG_W,OXYGEN,OXYGEN_FLAG_W,SILCAT,SILCAT_FLAG_W,NITRAT,NITRAT_FLAG_W,NITRIT,NITRIT_FLAG_W,PHSPHT,PHSPHT_FLAG_W,CFC-11,CFC-11_FLAG_W,CFC-12,CFC-12_FLAG_W,SF6,SF6_FLAG_W,TCARBN,TCARBN_FLAG_W,ALKALI,ALKALI_FLAG_W,PH_TOT,PH_TOT_FLAG_W,PH_TMP,DOC,DOC_FLAG_W,HELIUM,HELIUM_FLAG_W,REFTMP,REFTMP_FLAG_W,DELC13,DELC13_FLAG_W,DELC14,DELC14_FLAG_W,C14ERR,POC,POC_FLAG_W,TDN,TDN_FLAG_W,TON,TON_FLAG_W,NEON,NEON_FLAG_W,CTDFLUOR,CTDFLUOR_FLAG_W,CTDXMISS,CTDXMISS_FLAG_W,CTDBETA700,CTDBETA700_FLAG_W,N2O,N2O_FLAG_W,ARGON,ARGON_FLAG_W,BTL_DATE,BTL_TIME,BTL_LAT,BTL_LON,KRYPTON,KRYPTON_FLAG_W,XENON,XENON_FLAG_W,HPLC,HPLC_FLAG_W,HE3_HE4_RATIO,HE3_HE4_RATIO_FLAG_W,Nd_143_144_D_EPSILON_BOTTLE,Nd_143_144_D_EPSILON_BOTTLE_FLAG_W,Nd_143_144_D_EPSILON_BOTTLE_ERROR,Nd_143_144_D_RATIO_BOTTLE,Nd_143_144_D_RATIO_BOTTLE_FLAG_W,Nd_143_144_D_RATIO_BOTTLE_ERROR,Nd_D_CONC,Nd_D_CONC_FLAG_W,La_D_CONC_BOTTLE,La_D_CONC_BOTTLE_FLAG_W,Ce_D_CONC_BOTTLE,Ce_D_CONC_BOTTLE_FLAG_W,Pr_D_CONC_BOTTLE,Pr_D_CONC_BOTTLE_FLAG_W,Sm_D_CONC_BOTTLE,Sm_D_CONC_BOTTLE_FLAG_W,Eu_D_CONC_BOTTLE,Eu_D_CONC_BOTTLE_FLAG_W,Gd_D_CONC_BOTTLE,Gd_D_CONC_BOTTLE_FLAG_W,Tb_D_CONC_BOTTLE,Tb_D_CONC_BOTTLE_FLAG_W,Dy_D_CONC_BOTTLE,Dy_D_CONC_BOTTLE_FLAG_W,Ho_D_CONC_BOTTLE,Ho_D_CONC_BOTTLE_FLAG_W,Er_D_CONC_BOTTLE,Er_D_CONC_BOTTLE_FLAG_W,Tm_D_CONC_BOTTLE,Tm_D_CONC_BOTTLE_FLAG_W,Yb_D_CONC_BOTTLE,Yb_D_CONC_BOTTLE_FLAG_W,Lu_D_CONC_BOTTLE,Lu_D_CONC_BOTTLE_FLAG_W
,,,,,,,,,,,METERS,DBAR,ITS-90,PSS-78,,PSS-78,,UMOL/KG,,UMOL/KG,,UMOL/KG,,UMOL/KG,,UMOL/KG,,UMOL/KG,,UMOL/KG,,PMOL/KG,,PMOL/KG,,FMOL/KG,,UMOL/KG,,UMOL/KG,,,,DEG C,UMOL/KG,,NMOL/L,,DEG C,,/MILLE,,/MILLE,,/MILLE,UG/KG,,UMOL/KG,,UMOL/KG,,NMOL/L,,VOLTS,,VOLTS,,VOLTS,,NMOL/KG,,UMOL/L,,,,,,NMOL/L,,NMOL/L,,,,,,10000,,10000,,,,PMOL/KG,,PMOL/L,,PMOL/L,,PMOL/L,,PMOL/L,,PMOL/L,,PMOL/L,,PMOL/L,,PMOL/L,,PMOL/L,,PMOL/L,,PMOL/L,,PMOL/L,,PMOL/L,
320620180309  ,S04P       ,71      ,  1,15         ,15         ,2,20180418,1835, -66.9996,-144.6990,     3798,   1351.1,0.7748972222222221262,34.711053052806825,2,  34.7104,2,203.48523619465169,2, 200.8995,2,    201.8,2,    123.4,2,    32.51,2,     0.00,2,     2.22,2,    0.142,2,    0.070,2,   0.1900,2,   2263.7,2,  2362.36,2,   7.5940,2,    24.91,     -999,9,     -999,9,   0.7747,2,     -999,9,     -999,9,     -999,     -999,9,     -999,9,     -999,9,     -999,9,    0.061,1,    4.663,1,    0.128,1,  19.8000,2,     -999,9,20180418,1935, -66.9999,-144.6986,     -999,9,     -999,9,-999          ,9,     -999,9,     -999,9,     -999,     -999,9,     -999,     -999,9,     -999,9,     -999,9,     -999,9,     -999,9,     -999,9,     -999,9,     -999,9,     -999,9,     -999,9,     -999,9,     -999,9,     -999,9,     -999,9
320620180309  ,S04P       ,71      ,  1,14         ,14         ,2,20180418,1835, -66.9996,-144.6990,     3798,   1453.6,0.7337666666666665671,34.709410084612763,2,  34.7088,2,205.11861141489365,3, 202.4002,2,    202.9,2,    125.2,2,    32.56,2,     0.00,2,     2.23,2,     -999,9,     -999,9,     -999,9,     -999,9,     -999,9,     -999,9,     -999,     -999,9,     -999,9,   0.7333,2,     -999,9,     -999,9,     -999,     -999,9,     -999,9,     -999,9,     -999,9,    0.061,1,    4.663,1,    0.131,1,     -999,9,     -999,9,20180418,1932, -66.9998,-144.6987,     -999,9,     -999,9,-999          ,9,     -999,9,     -999,9,     -999,     -999,9,     -999,     -999,9,     -999,9,     -999,9,     -999,9,     -999,9,     -999,9,     -999,9,     -999,9,     -999,9,     -999,9,     -999,9,     -999,9,     -999,9,     -999,9
320620180309  ,S04P       ,71      ,  1,13         ,13         ,2,20180418,1835, -66.9996,-144.6990,     3798,   1554.4,0.6927222222222223502,34.707656779545083,2,  34.7068,2,204.95384943236283,2, 203.8009,2,    204.1,2,    126.6,2,    32.57,2,     0.00,2,     2.24,2,    0.159,2,    0.082,2,   0.1200,2,   2262.6,2,  2363.78,2,   7.5920,2,    24.91,     -999,9,     -999,9,   0.6918,2,     -999,9,     -999,9,     -999,     -999,9,     -999,9,     -999,9,     -999,9,    0.061,1,    4.663,1,    0.127,1,  19.9400,2,     -999,9,20180418,1929, -66.9997,-144.6988,     -999,9,     -999,9,-999          ,9,     -999,9,     -999,9,     -999,     -999,9,     -999,     -999,9,     -999,9,     -999,9,     -999,9,     -999,9,     -999,9,     -999,9,     -999,9,     -999,9,     -999,9,     -999,9,     -999,9,     -999,9,     -999,9
320620180309  ,S04P       ,71      ,  1,12         ,12         ,2,20180418,1835, -66.9996,-144.6990,     3798,   1657.0,0.6674444444444445068,34.706827583639516,2,  34.7066,2,205.55931603053483,2, 204.6990,2,    204.6,2,    126.9,2,    32.60,2,     0.00,2,     2.24,2,     -999,9,     -999,9,     -999,9,     -999,9,     -999,9,     -999,9,     -999,     -999,9,     -999,9,   0.6672,2,     -999,9,     -999,9,     -999,     -999,9,     -999,9,     -999,9,     -999,9,    0.061,1,    4.663,1,    0.128,1,     -999,9,     -999,9,20180418,1927, -66.9998,-144.6987,     -999,9,     -999,9,-999          ,9,     -999,9,     -999,9,     -999,     -999,9,     -999,     -999,9,     -999,9,     -999,9,     -999,9,     -999,9,     -999,9,     -999,9,     -999,9,     -999,9,     -999,9,     -999,9,     -999,9,     -999,9,     -999,9
320620180309  ,S04P       ,71      ,  1,11         ,11         ,2,20180418,1835, -66.9996,-144.6990,     3798,   1759.9,0.6444944444444444809,34.705862393727180,2,  34.7062,2,206.68894586581933,2, 205.2997,2,    205.0,2,    127.5,2,    32.67,2,     0.00,2,     2.23,2,     -999,9,     -999,9,     -999,9,     -999,9,     -999,9,     -999,9,     -999,     -999,9,     -999,9,   0.6440,2,     -999,9,     -999,9,     -999,     -999,9,     -999,9,     -999,9,     -999,9,    0.061,1,    4.664,1,    0.128,1,     -999,9,     -999,9,20180418,1924, -66.9998,-144.6987,     -999,9,     -999,9,-999          ,9,     -999,9,     -999,9,     -999,     -999,9,     -999,     -999,9,     -999,9,     -999,9,     -999,9,     -999,9,     -999,9,     -999,9,     -999,9,     -999,9,     -999,9,     -999,9,     -999,9,     -999,9,     -999,9
320620180309  ,S04P       ,71      ,  1,10         ,10         ,2,20180418,1835, -66.9996,-144.6990,     3798,   1891.6,0.5957777777777777395,34.704783108026831,2,  34.7051,2,207.13066147207496,2, 206.5022,2,    206.5,2,    128.2,2,    32.70,2,     0.00,2,     2.24,2,    0.170,2,    0.092,2,   0.0700,2,   2263.6,2,  2363.23,2,   7.5935,2,    24.90,     -999,9,     -999,9,   0.5951,2,     -999,9,     -999,9,     -999,     -999,9,     -999,9,     -999,9,     -999,9,    0.061,1,    4.664,1,    0.128,1,  19.7300,2,     -999,9,20180418,1920, -66.9997,-144.6988,     -999,9,     -999,9,-999          ,9,     -999,9,     -999,9,     -999,     -999,9,     -999,     -999,9,     -999,9,     -999,9,     -999,9,     -999,9,     -999,9,     -999,9,     -999,9,     -999,9,     -999,9,     -999,9,     -999,9,     -999,9,     -999,9
320620180309  ,S04P       ,71      ,  1,9          ,9          ,2,20180418,1835, -66.9996,-144.6990,     3798,   2094.3,0.5214749999999999108,34.703131312945082,2,  34.7031,2,208.87911779167837,2, 208.3981,2,    208.1,2,    128.7,2,    32.75,2,     0.00,2,     2.24,2,     -999,9,     -999,9,     -999,9,   2264.0,2,  2364.10,2,   7.5921,2,    24.91,     -999,9,     -999,9,   0.5210,2,     -999,9,     -999,9,     -999,     -999,9,     -999,9,     -999,9,     -999,9,    0.061,1,    4.664,1,    0.127,1,     -999,9,     -999,9,20180418,1916, -66.9996,-144.6989,     -999,9,     -999,9,-999          ,9,     -999,9,     -999,9,     -999,     -999,9,     -999,     -999,9,     -999,9,     -999,9,     -999,9,     -999,9,     -999,9,     -999,9,     -999,9,     -999,9,     -999,9,     -999,9,     -999,9,     -999,9,     -999,9
320620180309  ,S04P       ,71      ,  1,8          ,8          ,2,20180418,1835, -66.9996,-144.6990,     3798,   2300.0,0.4468111111111111033,34.702104783046160,2,  34.7019,2,210.05478249371711,2, 210.2008,2,    209.8,2,    129.9,2,    32.82,2,     0.00,2,     2.26,2,     -999,9,     -999,9,     -999,9,     -999,9,     -999,9,     -999,9,     -999,     -999,9,     -999,9,   0.4457,2,     -999,9,     -999,9,     -999,     -999,9,     -999,9,     -999,9,     -999,9,    0.061,1,    4.664,1,    0.127,1,     -999,9,     -999,9,20180418,1911, -66.9994,-144.6990,     -999,9,     -999,9,-999          ,9,     -999,9,     -999,9,     -999,     -999,9,     -999,     -999,9,     -999,9,     -999,9,     -999,9,     -999,9,     -999,9,     -999,9,     -999,9,     -999,9,     -999,9,     -999,9,     -999,9,     -999,9,     -999,9
320620180309  ,S04P       ,71      ,  1,7          ,7          ,2,20180418,1835, -66.9996,-144.6990,     3798,   2504.4,0.3774194444444444185,34.701419007153078,2,  34.7009,2,211.19808254647356,2, 212.0002,2,    211.5,2,    131.9,2,    32.88,2,     0.00,2,     2.25,2,    0.195,2,    0.105,2,   0.0600,2,   2261.3,2,  2362.74,2,   7.5935,2,    24.91,     -999,9,     -999,9,   0.3771,2,     -999,9,     -999,9,     -999,     -999,9,     -999,9,     -999,9,     -999,9,    0.060,1,    4.664,1,    0.125,1,  19.3500,2,     -999,9,20180418,1906, -66.9993,-144.6991,     -999,9,     -999,9,-999          ,9,     -999,9,     -999,9,     -999,     -999,9,     -999,     -999,9,     -999,9,     -999,9,     -999,9,     -999,9,     -999,9,     -999,9,     -999,9,     -999,9,     -999,9,     -999,9,     -999,9,     -999,9,     -999,9
320620180309  ,S04P       ,71      ,  1,6          ,6          ,2,20180418,1835, -66.9996,-144.6990,     3798,   2708.8,0.3228555555555556178,34.699849945946056,2,  34.6994,2,213.11918333889832,2, 213.3009,2,    213.4,2,    132.5,2,    32.94,2,     0.00,2,     2.24,2,     -999,9,     -999,9,     -999,9,   2261.6,2,  2363.61,2,   7.5940,2,    24.92,     -999,9,     -999,9,   0.3220,2,     -999,9,     -999,9,     -999,     -999,9,     -999,9,     -999,9,     -999,9,    0.061,1,    4.664,1,    0.125,1,     -999,9,     -999,9,20180418,1902, -66.9992,-144.6992,     -999,9,     -999,9,-999          ,9,     -999,9,     -999,9,     -999,     -999,9,     -999,     -999,9,     -999,9,     -999,9,     -999,9,     -999,9,     -999,9,     -999,9,     -999,9,     -999,9,     -999,9,     -999,9,     -999,9,     -999,9,     -999,9
320620180309  ,S04P       ,71      ,  1,5          ,5          ,2,20180418,1835, -66.9996,-144.6990,     3798,   2913.1,0.2781194444444444747,34.697507821216739,2,  34.6972,2,215.74870011608974,2, 214.5992,2,    215.0,2,    131.6,2,    32.89,2,     0.00,2,     2.24,2,    0.385,2,    0.213,2,   0.1600,2,   2261.3,2,  2362.87,2,   7.5841,2,    24.92,     -999,9,     -999,9,   0.2773,2,     -999,9,     -999,9,     -999,     -999,9,     -999,9,     -999,9,     -999,9,    0.060,1,    4.664,1,    0.126,1,  19.3900,2,     -999,9,20180418,1857, -66.9992,-144.6992,     -999,9,     -999,9,-999          ,9,     -999,9,     -999,9,     -999,     -999,9,     -999,     -999,9,     -999,9,     -999,9,     -999,9,     -999,9,     -999,9,     -999,9,     -999,9,     -999,9,     -999,9,     -999,9,     -999,9,     -999,9,     -999,9
320620180309  ,S04P       ,71      ,  1,4          ,4          ,2,20180418,1835, -66.9996,-144.6990,     3798,   3178.7,0.2339916666666666811,34.694887011495140,2,  34.6935,2,217.95875500413206,2, 216.9079,2,    217.4,2,    129.9,2,    32.85,2,     0.00,2,     2.24,2,    0.574,2,    0.303,2,   0.0900,2,   2263.9,2,  2361.84,2,   7.5886,2,    24.91,     -999,9,     -999,9,   0.2337,2,     -999,9,     -999,9,     -999,     -999,9,     -999,9,     -999,9,     -999,9,    0.061,1,    4.663,1,    0.127,1,  19.4000,2,     -999,9,20180418,1851, -66.9995,-144.6989,     -999,9,     -999,9,-999          ,9,     -999,9,     -999,9,     -999,     -999,9,     -999,     -999,9,     -999,9,     -999,9,     -999,9,     -999,9,     -999,9,     -999,9,     -999,9,     -999,9,     -999,9,     -999,9,     -999,9,     -999,9,     -999,9
320620180309  ,S04P       ,71      ,  1,3          ,3          ,2,20180418,1835, -66.9996,-144.6990,     3798,   3462.5,0.2174249999999999794,34.693127463867256,2,  34.6919,2,218.37931523147748,2, 218.9027,2,    218.7,2,    128.4,2,    32.84,2,     0.00,2,     2.24,2,     -999,9,     -999,9,     -999,9,   2263.1,2,  2362.29,2,   7.5920,6,    24.91,     -999,9,     -999,9,   0.2169,2,     -999,9,     -999,9,     -999,     -999,9,     -999,9,     -999,9,     -999,9,    0.062,1,    4.662,1,    0.128,1,     -999,9,     -999,9,20180418,1845, -66.9999,-144.6986,     -999,9,     -999,9,-999          ,9,     -999,9,     -999,9,     -999,     -999,9,     -999,     -999,9,     -999,9,     -999,9,     -999,9,     -999,9,     -999,9,     -999,9,     -999,9,     -999,9,     -999,9,     -999,9,     -999,9,     -999,9,     -999,9
320620180309  ,S04P       ,71      ,  1,2          ,2          ,2,20180418,1835, -66.9996,-144.6990,     3798,   3667.2,0.2196055555555555538,34.693209746681767,2,  34.6923,2,216.98184118059646,3, 219.3017,2,    219.4,2,    128.5,2,    32.86,2,     0.00,2,     2.24,2,    0.731,2,    0.382,2,   0.3300,2,   2263.7,2,  2361.04,2,   7.5905,2,    24.91,     -999,9,     -999,9,   0.2190,2,     -999,9,     -999,9,     -999,     -999,9,     -999,9,     -999,9,     -999,9,    0.061,1,    4.662,1,    0.127,1,  19.2100,2,     -999,9,20180418,1840, -66.9998,-144.6987,     -999,9,     -999,9,-999          ,9,     -999,9,     -999,9,     -999,     -999,9,     -999,     -999,9,     -999,9,     -999,9,     -999,9,     -999,9,     -999,9,     -999,9,     -999,9,     -999,9,     -999,9,     -999,9,     -999,9,     -999,9,     -999,9
320620180309  ,S04P       ,71      ,  1,1          ,1          ,2,20180418,1835, -66.9996,-144.6990,     3798,   3861.5,0.2375805555555555448,34.693156591450709,2,  34.6937,2,219.40492415441983,2, 219.2976,2,    219.0,2,    128.6,2,    32.85,2,     0.00,2,     2.24,2,    0.735,2,    0.380,2,   0.2800,2,   2262.3,6,  2361.72,2,   7.5920,2,    24.92,     -999,9,     -999,9,   0.2369,2,     -999,9,     -999,9,     -999,     -999,9,     -999,9,     -999,9,     -999,9,    0.061,1,    4.661,1,    0.128,1,  19.4100,2,     -999,9,20180418,1835, -66.9996,-144.6990,     -999,9,     -999,9,-999          ,9,     -999,9,     -999,9,     -999,     -999,9,     -999,     -999,9,     -999,9,     -999,9,     -999,9,     -999,9,     -999,9,     -999,9,     -999,9,     -999,9,     -999,9,     -999,9,     -999,9,     -999,9,     -999,9