BOTTLE,20240515CCHHYDRO
EXPOCODE,SECT_ID,STNNBR,CASTNO,SAMPNO,BTLNBR,BTLNBR_FLAG_W,DATE,TIME,LATITUDE,LONGITUDE,DEPTH,CTDPRS,CTDTMP,CTDSAL,CTDSAL_FLAG_W,SALNTY,SALNTY_FLAG_W,CTDOXY,CTDOXY_FLAG_W,CTDOPTOXY,CTDOPTOXY_FLAG_W,OXYGEN,OXYGEN_FLAG_W,SILCAT,SILCAT_FLAG_W,NITRAT,NITRAT_FLAG_W,NITRIT,NITRIT_FLAG_W,PHSPHT,PHSPHT_FLAG_W,CFC-11,CFC-11_FLAG_W,CFC-12,CFC-12_FLAG_W,SF6,SF6_FLAG_W,TCARBN,TCARBN_FLAG_W,ALKALI,ALKALI_FLAG_W,PH_TOT,PH_TOT_FLAG_W,PH_TMP,DOC,DOC_FLAG_W,HELIUM,HELIUM_FLAG_W,REFTMP,REFTMP_FLAG_W,DELC13,DELC13_FLAG_W,DELC14,DELC14_FLAG_W,C14ERR,POC,POC_FLAG_W,TDN,TDN_FLAG_W,TON,TON_FLAG_W,NEON,NEON_FLAG_W,CTDFLUOR,CTDFLUOR_FLAG_W,CTDXMISS,CTDXMISS_FLAG_W,CTDBETA700,CTDBETA700_FLAG_W,N2O,N2O_FLAG_W,ARGON,ARGON_FLAG_W,BTL_DATE,BTL_TIME,BTL_LAT,BTL_LON,KRYPTON,KRYPTON_FLAG_W,XENON,XENON_FLAG_W,HPLC,HPLC_FLAG_W,HE3_HE4_RATIO,HE3_HE4_RATIO_FLAG_W,Nd_143_144_D_EPSILON_BOTTLE,Nd_143_144_D_EPSILON_BOTTLE_FLAG_W,Nd_143_144_D_EPSILON_BOTTLE_ERROR,Nd_143_144_D_RATIO_BOTTLE,Nd_143_144_D_RATIO_BOTTLE_FLAG_W,Nd_143_144_D_RATIO_BOTTLE_ERROR,Nd_D_CONC,Nd_D_CONC_FLAG_W,La_D_CONC_BOTTLE,La_D_CONC_BOTTLE_FLAG_W,Ce_D_CONC_BOTTLE,Ce_D_CONC_BOTTLE_FLAG_W,Pr_D_CONC_BOTTLE,Pr_D_CONC_BOTTLE_FLAG_W,Sm_D_CONC_BOTTLE,Sm_D_CONC_BOTTLE_FLAG_W,Eu_D_CONC_BOTTLE,Eu_D_CONC_BOTTLE_FLAG_W,Gd_D_CONC_BOTTLE,Gd_D_CONC_BOTTLE_FLAG_W,Tb_D_CONC_BOTTLE,Tb_D_CONC_BOTTLE_FLAG_W,Dy_D_CONC_BOTTLE,Dy_D_CONC_BOTTLE_FLAG_W,Ho_D_CONC_BOTTLE,Ho_D_CONC_BOTTLE_FLAG_W,Er_D_CONC_BOTTLE,Er_D_CONC_BOTTLE_FLAG_W,Tm_D_CONC_BOTTLE,Tm_D_CONC_BOTTLE_FLAG_W,Yb_D_CONC_BOTTLE,Yb_D_CONC_BOTTLE_FLAG_W,Lu_D_CONC_BOTTLE,Lu_D_CONC_BOTTLE_FLAG_W
,,,,,,,,,,,METERS,DBAR,ITS-90,PSS-78,,PSS-78,,UMOL/KG,,UMOL/KG,,UMOL/KG,,UMOL/KG,,UMOL/KG,,UMOL/KG,,UMOL/KG,,PMOL/KG,,PMOL/KG,,FMOL/KG,,UMOL/KG,,UMOL/KG,,,,DEG C,UMOL/KG,,NMOL/L,,DEG C,,/MILLE,,/MILLE,,/MILLE,UG/KG,,UMOL/KG,,UMOL/KG,,NMOL/L,,VOLTS,,VOLTS,,VOLTS,,NMOL/KG,,UMOL/L,,,,,,NMOL/L,,NMOL/L,,,,,,10000,,10000,,,,PMOL/KG,,PMOL/L,,PMOL/L,,PMOL/L,,PMOL/L,,PMOL/L,,PMOL/L,,PMOL/L,,PMOL/L,,PMOL/L,,PMOL/L,,PMOL/L,,PMOL/L,,PMOL/L,
320620180309  ,S04P       ,7       ,  1,36         ,36         ,4,20180318,1503, -68.4141, 172.1033,     3284,      8.5,-0.9488750000000002460,33.970860525711515,3,     -999,9,341.68401549558627,2, 322.4965,2,     -999,9,     -999,9,     -999,9,     -999,9,     -999,9,     -999,9,     -999,9,     -999,9,     -999,9,     -999,9,     -999,9,     -999,     -999,9,     -999,9,  -0.9462,2,     -999,9,     -999,9,     -999,     -999,9,     -999,9,     -999,1,     -999,9,    0.170,1,    4.614,1,    0.189,1,     -999,9,     -999,9,20180318,1707, -68.4142, 172.1028,     -999,9,     -999,9,-999          ,9,     -999,9,     -999,9,     -999,     -999,9,     -999,     -999,9,     -999,9,     -999,9,     -999,9,     -999,9,     -999,9,     -999,9,     -999,9,     -999,9,     -999,9,     -999,9,     -999,9,     -999,9,     -999,9
320620180309  ,S04P       ,7       ,  1,35         ,35         ,2,20180318,1503, -68.4141, 172.1033,     3284,     19.5,-0.9637277777777778498,33.971621910518721,2,  33.9702,2,342.20159396851932,2, 341.6043,2,    341.1,2,     62.3,2,    26.45,2,     0.13,2,     1.83,2,    5.564,3,    3.093,3,   3.7600,3,   2184.0,6,  2301.64,2,   7.6610,2,    24.97,     44.0,2,     -999,9,  -0.9644,2,1.16000000,2, -128.250,2,    0.002,     -999,9,    28.90,2,     -999,1,     -999,9,    0.171,1,    4.615,1,    0.198,1,  17.1500,3,     -999,9,20180318,1706, -68.4142, 172.1029,     -999,9,     -999,9,-999          ,9,     -999,9,     -999,9,     -999,     -999,9,     -999,     -999,9,     -999,9,     -999,9,     -999,9,     -999,9,     -999,9,     -999,9,     -999,9,     -999,9,     -999,9,     -999,9,     -999,9,     -999,9,     -999,9
320620180309  ,S04P       ,7       ,  1,34         ,34         ,2,20180318,1503, -68.4141, 172.1033,     3284,     39.2,-0.9843333333333331714,33.980498205379028,2,  33.9757,2,341.88615160781194,2, 340.2009,2,    341.5,2,     61.9,2,    26.49,2,     0.13,2,     1.71,2,    5.607,2,    3.066,2,   3.9600,2,   2183.6,2,  2301.92,2,   7.6601,6,    24.96,     42.9,2,     -999,9,  -0.9815,2,     -999,9,     -999,9,     -999,     -999,9,    28.90,2,     -999,1,     -999,9,    0.173,1,    4.617,1,    0.199,1,  17.5600,2,     -999,9,20180318,1705, -68.4142, 172.1031,     -999,9,     -999,9,-999          ,9,     -999,9,     -999,9,     -999,     -999,9,     -999,     -999,9,     -999,9,     -999,9,     -999,9,     -999,9,     -999,9,     -999,9,     -999,9,     -999,9,     -999,9,     -999,9,     -999,9,     -999,9,     -999,9
320620180309  ,S04P       ,7       ,  1,33         ,33         ,2,20180318,1503, -68.4141, 172.1033,     3284,     65.4,-0.9830583333333334783,33.991033960736125,2,  33.9966,2,341.18717882445532,3, 338.1041,2,    337.7,2,     62.7,2,    26.72,2,     0.14,2,     1.75,2,     -999,9,     -999,9,     -999,9,   2185.2,2,  2304.00,2,   7.6572,2,    24.96,     43.0,2,     -999,9,  -0.9833,2,     -999,9,     -999,9,     -999,     -999,9,    29.20,2,     -999,1,     -999,9,    0.171,1,    4.617,1,    0.203,1,     -999,9,     -999,9,20180318,1703, -68.4142, 172.1034,     -999,9,     -999,9,-999          ,9,     -999,9,     -999,9,     -999,     -999,9,     -999,     -999,9,     -999,9,     -999,9,     -999,9,     -999,9,     -999,9,     -999,9,     -999,9,     -999,9,     -999,9,     -999,9,     -999,9,     -999,9,     -999,9
320620180309  ,S04P       ,7       ,  1,32         ,32         ,2,20180318,1503, -68.4141, 172.1033,     3284,     89.3,-0.2803111111111111220,34.442658758268500,2,  34.4517,2,241.34761999529076,2, 239.1005,2,    239.2,2,     81.7,2,    31.69,2,     0.22,2,     2.16,2,    2.451,2,    1.368,2,   1.4900,2,   2236.9,2,  2331.28,2,   7.5816,2,    24.96,     43.6,2,     -999,9,  -0.3371,2,0.09000000,4, -154.710,4,    0.002,     -999,9,    34.40,2,     -999,1,     -999,9,    0.133,1,    4.649,1,    0.163,1,  21.0900,2,     -999,9,20180318,1701, -68.4141, 172.1037,     -999,9,     -999,9,-999          ,9,     -999,9,     -999,9,     -999,     -999,9,     -999,     -999,9,     -999,9,     -999,9,     -999,9,     -999,9,     -999,9,     -999,9,     -999,9,     -999,9,     -999,9,     -999,9,     -999,9,     -999,9,     -999,9
320620180309  ,S04P       ,7       ,  1,31         ,31         ,2,20180318,1503, -68.4141, 172.1033,     3284,    115.1,0.8376277777777777489,34.607005047657630,2,  34.5993,2,199.76235132509865,2, 200.2983,2,    200.9,2,     88.6,2,    32.91,2,     0.13,2,     2.21,2,     -999,9,     -999,9,     -999,9,   2254.8,2,  2340.55,2,   7.5640,2,    24.97,     41.9,2,     -999,9,   0.8130,2,0.62000000,2, -144.070,2,    0.002,     -999,9,    35.30,2,     -999,1,     -999,9,    0.079,1,    4.668,1,    0.152,1,     -999,9,     -999,9,20180318,1659, -68.4141, 172.1040,     -999,9,     -999,9,-999          ,9,     -999,9,     -999,9,     -999,     -999,9,     -999,     -999,9,     -999,9,     -999,9,     -999,9,     -999,9,     -999,9,     -999,9,     -999,9,     -999,9,     -999,9,     -999,9,     -999,9,     -999,9,     -999,9
320620180309  ,S04P       ,7       ,  1,30         ,30         ,2,20180318,1503, -68.4141, 172.1033,     3284,    139.4,1.3101222222222219660,34.678938821334761,3,  34.5993,4,186.90616562793292,2, 188.4007,2,    185.9,2,     93.0,2,    33.11,2,     0.06,2,     2.23,2,     -999,9,     -999,9,     -999,9,   2257.9,6,  2345.62,2,   7.5630,6,    24.96,     -999,5,     -999,9,   1.3163,2,0.15000000,4, -154.630,4,    0.002,     -999,9,     -999,5,     -999,1,     -999,9,    0.072,1,    4.670,1,    0.150,1,     -999,9,     -999,9,20180318,1657, -68.4141, 172.1045,     -999,9,     -999,9,-999          ,9,     -999,9,     -999,9,     -999,     -999,9,     -999,     -999,9,     -999,9,     -999,9,     -999,9,     -999,9,     -999,9,     -999,9,     -999,9,     -999,9,     -999,9,     -999,9,     -999,9,     -999,9,     -999,9
320620180309  ,S04P       ,7       ,  1,29         ,29         ,2,20180318,1503, -68.4141, 172.1033,     3284,    165.8,1.4218194444444445246,34.699690611622785,2,  34.6968,2,184.95877547306037,2, 185.6038,2,    184.2,2,     94.8,2,    33.05,2,     0.04,2,     2.22,2,     -999,9,     -999,9,     -999,9,   2259.1,2,  2348.16,2,   7.5671,2,    24.97,     41.3,2,     -999,9,   1.4214,2,0.58000000,2, -152.950,2,    0.002,     -999,9,    34.70,2,     -999,1,     -999,9,    0.066,1,    4.671,1,    0.144,1,     -999,9,     -999,9,20180318,1656, -68.4140, 172.1049,     -999,9,     -999,9,-999          ,9,     -999,9,     -999,9,     -999,     -999,9,     -999,     -999,9,     -999,9,     -999,9,     -999,9,     -999,9,     -999,9,     -999,9,     -999,9,     -999,9,     -999,9,     -999,9,     -999,9,     -999,9,     -999,9
320620180309  ,S04P       ,7       ,  1,28         ,28         ,2,20180318,1503, -68.4141, 172.1033,     3284,    191.0,1.4339083333333335624,34.707715391241550,2,  34.7060,2,184.65778044337372,2, 185.0008,2,    184.6,2,     95.7,2,    32.96,2,     0.02,2,     2.22,2,    0.402,2,    0.222,2,   0.1800,2,   2260.6,2,  2348.78,2,   7.5684,2,    24.96,     39.4,2,     -999,9,   1.4332,2,0.52000000,2, -152.000,2,    0.002,     -999,9,     -999,9,     -999,1,     -999,9,    0.065,1,    4.672,1,    0.151,1,  21.8000,2,     -999,9,20180318,1654, -68.4139, 172.1051,     -999,9,     -999,9,-999          ,9,     -999,9,     -999,9,     -999,     -999,9,     -999,     -999,9,     -999,9,     -999,9,     -999,9,     -999,9,     -999,9,     -999,9,     -999,9,     -999,9,     -999,9,     -999,9,     -999,9,     -999,9,     -999,9
320620180309  ,S04P       ,7       ,  1,27         ,27         ,2,20180318,1503, -68.4141, 172.1033,     3284,    235.1,1.4416138888888889724,34.717991368027789,2,  34.7164,2,185.80344491402184,2, 184.6963,2,    185.0,2,     98.2,2,    32.77,2,     0.00,2,     2.18,2,     -999,9,     -999,9,     -999,9,   2261.0,2,  2349.68,2,   7.5741,2,    24.95,     41.9,2,     -999,9,   1.4404,2,0.64000000,2, -152.990,2,    0.002,     -999,9,    33.90,2,     -999,1,     -999,9,    0.065,1,    4.676,1,    0.144,1,     -999,9,     -999,9,20180318,1651, -68.4140, 172.1046,     -999,9,     -999,9,-999          ,9,     -999,9,     -999,9,     -999,     -999,9,     -999,     -999,9,     -999,9,     -999,9,     -999,9,     -999,9,     -999,9,     -999,9,     -999,9,     -999,9,     -999,9,     -999,9,     -999,9,     -999,9,     -999,9
320620180309  ,S04P       ,7       ,  1,26         ,26         ,2,20180318,1503, -68.4141, 172.1033,     3284,    286.8,1.3995500000000000718,34.721593903042631,2,  34.7204,2,186.80146528835090,2, 185.9932,2,    185.7,2,     99.6,2,    32.70,2,     0.00,2,     2.19,2,     -999,9,     -999,9,     -999,9,   2261.9,2,  2352.76,2,   7.5747,2,    24.97,     41.2,2,     -999,9,   1.3987,2,0.56000000,2, -153.450,2,    0.002,     -999,9,     -999,9,     -999,1,     -999,9,    0.063,1,    4.678,1,    0.146,1,     -999,9,     -999,9,20180318,1648, -68.4141, 172.1035,     -999,9,     -999,9,-999          ,9,     -999,9,     -999,9,     -999,     -999,9,     -999,     -999,9,     -999,9,     -999,9,     -999,9,     -999,9,     -999,9,     -999,9,     -999,9,     -999,9,     -999,9,     -999,9,     -999,9,     -999,9,     -999,9
320620180309  ,S04P       ,7       ,  1,25         ,25         ,2,20180318,1503, -68.4141, 172.1033,     3284,    337.2,1.3720666666666665456,34.723021946159427,2,  34.7223,2,187.28170837370644,2, 186.4008,2,    187.0,2,    104.1,2,    32.58,2,     0.00,2,     2.21,2,     -999,9,     -999,9,     -999,9,   2261.2,2,  2352.94,2,   7.5774,2,    24.95,     39.1,2,     -999,9,   1.3715,2,     -999,9,     -999,9,     -999,     -999,9,     -999,9,     -999,1,     -999,9,    0.063,1,    4.679,1,    0.138,1,     -999,9,     -999,9,20180318,1646, -68.4141, 172.1026,     -999,9,     -999,9,-999          ,9,     -999,9,     -999,9,     -999,     -999,9,     -999,     -999,9,     -999,9,     -999,9,     -999,9,     -999,9,     -999,9,     -999,9,     -999,9,     -999,9,     -999,9,     -999,9,     -999,9,     -999,9,     -999,9
320620180309  ,S04P       ,7       ,  1,24         ,24         ,2,20180318,1503, -68.4141, 172.1033,     3284,    388.4,1.3155305555555556474,34.722850988193620,2,  34.7215,2,188.82801979790926,2, 187.9963,2,    188.5,2,    102.0,2,    32.57,2,     0.00,2,     2.20,2,    0.264,2,    0.147,2,   0.0700,2,   2260.0,2,  2353.58,2,   7.5782,2,    24.96,     39.6,2,     -999,9,   1.3180,2,0.56000000,2, -155.160,2,    0.002,     -999,9,     -999,9,     -999,1,     -999,9,    0.063,1,    4.682,1,    0.137,1,  21.2400,2,     -999,9,20180318,1643, -68.4141, 172.1020,     -999,9,     -999,9,-999          ,9,     -999,9,     -999,9,     -999,     -999,9,     -999,     -999,9,     -999,9,     -999,9,     -999,9,     -999,9,     -999,9,     -999,9,     -999,9,     -999,9,     -999,9,     -999,9,     -999,9,     -999,9,     -999,9
320620180309  ,S04P       ,7       ,  1,23         ,23         ,2,20180318,1503, -68.4141, 172.1033,     3284,    439.3,1.2844888888888887912,34.723815345579503,2,  34.7227,2,189.64214708243452,2, 188.8023,2,    189.0,2,    103.7,2,    32.52,2,     0.00,2,     2.19,2,     -999,9,     -999,9,     -999,9,     -999,9,     -999,9,     -999,9,     -999,     42.2,2,     -999,9,   1.2837,2,     -999,9,     -999,9,     -999,     -999,9,     -999,9,     -999,1,     -999,9,    0.061,1,    4.682,1,    0.134,1,     -999,9,     -999,9,20180318,1640, -68.4142, 172.1020,     -999,9,     -999,9,-999          ,9,     -999,9,     -999,9,     -999,     -999,9,     -999,     -999,9,     -999,9,     -999,9,     -999,9,     -999,9,     -999,9,     -999,9,     -999,9,     -999,9,     -999,9,     -999,9,     -999,9,     -999,9,     -999,9
320620180309  ,S04P       ,7       ,  1,22         ,22         ,2,20180318,1503, -68.4141, 172.1033,     3284,    489.8,1.2592888888888889021,34.725411280197555,2,  34.7109,4,190.10225777697534,2, 189.5019,2,    190.0,2,    105.2,2,    32.48,2,     0.00,2,     2.19,2,     -999,9,     -999,9,     -999,9,   2262.2,2,  2355.07,2,   7.5822,2,    24.96,     39.9,2,     -999,9,   1.2589,2,0.61000000,2, -154.660,2,    0.002,     -999,9,     -999,9,     -999,1,     -999,9,    0.062,1,    4.684,1,    0.133,1,     -999,9,     -999,9,20180318,1637, -68.4141, 172.1024,     -999,9,     -999,9,-999          ,9,     -999,9,     -999,9,     -999,     -999,9,     -999,     -999,9,     -999,9,     -999,9,     -999,9,     -999,9,     -999,9,     -999,9,     -999,9,     -999,9,     -999,9,     -999,9,     -999,9,     -999,9,     -999,9
320620180309  ,S04P       ,7       ,  1,21         ,21         ,2,20180318,1503, -68.4141, 172.1033,     3284,    569.9,1.2039444444444444837,34.724631555218942,2,  34.7223,2,191.22310472384356,2, 190.8020,2,    192.4,2,    108.2,2,    32.51,2,     0.00,2,     2.20,2,     -999,9,     -999,9,     -999,9,     -999,9,     -999,9,     -999,9,     -999,     41.1,2,     -999,9,   1.2035,2,0.61000000,2, -156.170,2,    0.003,     -999,9,     -999,9,     -999,1,     -999,9,    0.062,1,    4.684,1,    0.134,1,     -999,9,     -999,9,20180318,1634, -68.4141, 172.1028,     -999,9,     -999,9,-999          ,9,     -999,9,     -999,9,     -999,     -999,9,     -999,     -999,9,     -999,9,     -999,9,     -999,9,     -999,9,     -999,9,     -999,9,     -999,9,     -999,9,     -999,9,     -999,9,     -999,9,     -999,9,     -999,9
320620180309  ,S04P       ,7       ,  1,20         ,20         ,2,20180318,1503, -68.4141, 172.1033,     3284,    672.1,1.1393611111111114909,34.723213826339432,2,  34.7202,2,193.21001758894326,2, 192.5933,2,    194.3,2,    110.3,2,    32.48,2,     0.00,2,     2.19,2,    0.139,2,    0.082,2,   0.0300,2,   2263.4,2,  2358.21,2,   7.5856,2,    24.97,     38.8,2,     -999,9,   1.1388,2,     -999,5, -160.130,2,    0.002,     -999,9,     -999,9,     -999,1,     -999,9,    0.060,1,    4.684,1,    0.136,1,  20.6600,2,     -999,9,20180318,1630, -68.4141, 172.1024,     -999,9,     -999,9,-999          ,9,     -999,9,     -999,9,     -999,     -999,9,     -999,     -999,9,     -999,9,     -999,9,     -999,9,     -999,9,     -999,9,     -999,9,     -999,9,     -999,9,     -999,9,     -999,9,     -999,9,     -999,9,     -999,9
320620180309  ,S04P       ,7       ,  1,19         ,19         ,2,20180318,1503, -68.4141, 172.1033,     3284,    772.5,1.0664500000000001201,34.721002135496803,2,  34.7204,2,194.85493198356929,2, 194.7969,2,    194.9,2,    112.1,2,    32.48,2,     0.00,2,     2.16,2,     -999,9,     -999,9,     -999,9,     -999,9,     -999,9,     -999,9,     -999,     42.3,2,     -999,9,   1.0660,2,0.59000000,2, -158.930,2,    0.002,     -999,9,     -999,9,     -999,1,     -999,9,    0.062,1,    4.684,1,    0.136,1,     -999,9,     -999,9,20180318,1626, -68.4141, 172.1022,     -999,9,     -999,9,-999          ,9,     -999,9,     -999,9,     -999,     -999,9,     -999,     -999,9,     -999,9,     -999,9,     -999,9,     -999,9,     -999,9,     -999,9,     -999,9,     -999,9,     -999,9,     -999,9,     -999,9,     -999,9,     -999,9
320620180309  ,S04P       ,7       ,  1,18         ,18         ,2,20180318,1503, -68.4141, 172.1033,     3284,    874.3,1.0030027777777776876,34.718694966354377,2,  34.7176,2,196.46428183338966,2, 196.4022,2,    197.8,2,    114.1,2,    32.45,2,     0.00,2,     2.17,2,     -999,9,     -999,9,     -999,9,     -999,9,     -999,9,     -999,9,     -999,     43.1,3,     -999,9,   1.0026,2,0.50000000,2, -157.460,2,    0.002,     -999,9,     -999,9,     -999,1,     -999,9,    0.061,1,    4.684,1,    0.132,1,     -999,9,     -999,9,20180318,1623, -68.4142, 172.1020,     -999,9,     -999,9,-999          ,9,     -999,9,     -999,9,     -999,     -999,9,     -999,     -999,9,     -999,9,     -999,9,     -999,9,     -999,9,     -999,9,     -999,9,     -999,9,     -999,9,     -999,9,     -999,9,     -999,9,     -999,9,     -999,9
320620180309  ,S04P       ,7       ,  1,17         ,17         ,2,20180318,1503, -68.4141, 172.1033,     3284,    976.8,0.9555194444444443658,34.717222145158004,2,  34.7157,2,198.47601183466898,2, 197.5993,2,    198.5,2,    115.6,2,    32.44,2,     0.00,2,     2.18,2,    0.121,2,    0.069,2,   0.0100,2,   2263.8,2,  2360.74,2,   7.5904,6,    24.96,     45.9,3,     -999,9,   0.9551,2,0.67000000,2, -160.570,2,    0.002,     -999,9,     -999,9,     -999,1,     -999,9,    0.061,1,    4.685,1,    0.132,1,  21.2500,2,     -999,9,20180318,1619, -68.4141, 172.1022,     -999,9,     -999,9,-999          ,9,     -999,9,     -999,9,     -999,     -999,9,     -999,     -999,9,     -999,9,     -999,9,     -999,9,     -999,9,     -999,9,     -999,9,     -999,9,     -999,9,     -999,9,     -999,9,     -999,9,     -999,9,     -999,9
320620180309  ,S04P       ,7       ,  1,16         ,16         ,2,20180318,1503, -68.4141, 172.1033,     3284,   1077.7,0.9028611111111111143,34.715391895906102,2,  34.7139,2,199.67818654646112,2, 199.2976,2,    199.5,2,    118.9,2,    32.49,2,     0.00,2,     2.18,2,     -999,9,     -999,9,     -999,9,     -999,9,     -999,9,     -999,9,     -999,     39.3,2,     -999,9,   0.9021,2,0.47000000,2, -160.530,2,    0.002,     -999,9,     -999,9,     -999,1,     -999,9,    0.062,1,    4.685,1,    0.131,1,     -999,9,     -999,9,20180318,1616, -68.4141, 172.1022,     -999,9,     -999,9,-999          ,9,     -999,9,     -999,9,     -999,     -999,9,     -999,     -999,9,     -999,9,     -999,9,     -999,9,     -999,9,     -999,9,     -999,9,     -999,9,     -999,9,     -999,9,     -999,9,     -999,9,     -999,9,     -999,9