BOTTLE,20240515CCHHYDRO
EXPOCODE,SECT_ID,STNNBR,CASTNO,SAMPNO,BTLNBR,BTLNBR_FLAG_W,DATE,TIME,LATITUDE,LONGITUDE,DEPTH,CTDPRS,CTDTMP,CTDSAL,CTDSAL_FLAG_W,SALNTY,SALNTY_FLAG_W,CTDOXY,CTDOXY_FLAG_W,CTDOPTOXY,CTDOPTOXY_FLAG_W,OXYGEN,OXYGEN_FLAG_W,SILCAT,SILCAT_FLAG_W,NITRAT,NITRAT_FLAG_W,NITRIT,NITRIT_FLAG_W,PHSPHT,PHSPHT_FLAG_W,CFC-11,CFC-11_FLAG_W,CFC-12,CFC-12_FLAG_W,SF6,SF6_FLAG_W,TCARBN,TCARBN_FLAG_W,ALKALI,ALKALI_FLAG_W,PH_TOT,PH_TOT_FLAG_W,PH_TMP,DOC,DOC_FLAG_W,HELIUM,HELIUM_FLAG_W,REFTMP,REFTMP_FLAG_W,DELC13,DELC13_FLAG_W,DELC14,DELC14_FLAG_W,C14ERR,POC,POC_FLAG_W,TDN,TDN_FLAG_W,TON,TON_FLAG_W,NEON,NEON_FLAG_W,CTDFLUOR,CTDFLUOR_FLAG_W,CTDXMISS,CTDXMISS_FLAG_W,CTDBETA700,CTDBETA700_FLAG_W,N2O,N2O_FLAG_W,ARGON,ARGON_FLAG_W,BTL_DATE,BTL_TIME,BTL_LAT,BTL_LON,KRYPTON,KRYPTON_FLAG_W,XENON,XENON_FLAG_W,HPLC,HPLC_FLAG_W,HE3_HE4_RATIO,HE3_HE4_RATIO_FLAG_W,Nd_143_144_D_EPSILON_BOTTLE,Nd_143_144_D_EPSILON_BOTTLE_FLAG_W,Nd_143_144_D_EPSILON_BOTTLE_ERROR,Nd_143_144_D_RATIO_BOTTLE,Nd_143_144_D_RATIO_BOTTLE_FLAG_W,Nd_143_144_D_RATIO_BOTTLE_ERROR,Nd_D_CONC,Nd_D_CONC_FLAG_W,La_D_CONC_BOTTLE,La_D_CONC_BOTTLE_FLAG_W,Ce_D_CONC_BOTTLE,Ce_D_CONC_BOTTLE_FLAG_W,Pr_D_CONC_BOTTLE,Pr_D_CONC_BOTTLE_FLAG_W,Sm_D_CONC_BOTTLE,Sm_D_CONC_BOTTLE_FLAG_W,Eu_D_CONC_BOTTLE,Eu_D_CONC_BOTTLE_FLAG_W,Gd_D_CONC_BOTTLE,Gd_D_CONC_BOTTLE_FLAG_W,Tb_D_CONC_BOTTLE,Tb_D_CONC_BOTTLE_FLAG_W,Dy_D_CONC_BOTTLE,Dy_D_CONC_BOTTLE_FLAG_W,Ho_D_CONC_BOTTLE,Ho_D_CONC_BOTTLE_FLAG_W,Er_D_CONC_BOTTLE,Er_D_CONC_BOTTLE_FLAG_W,Tm_D_CONC_BOTTLE,Tm_D_CONC_BOTTLE_FLAG_W,Yb_D_CONC_BOTTLE,Yb_D_CONC_BOTTLE_FLAG_W,Lu_D_CONC_BOTTLE,Lu_D_CONC_BOTTLE_FLAG_W
,,,,,,,,,,,METERS,DBAR,ITS-90,PSS-78,,PSS-78,,UMOL/KG,,UMOL/KG,,UMOL/KG,,UMOL/KG,,UMOL/KG,,UMOL/KG,,UMOL/KG,,PMOL/KG,,PMOL/KG,,FMOL/KG,,UMOL/KG,,UMOL/KG,,,,DEG C,UMOL/KG,,NMOL/L,,DEG C,,/MILLE,,/MILLE,,/MILLE,UG/KG,,UMOL/KG,,UMOL/KG,,NMOL/L,,VOLTS,,VOLTS,,VOLTS,,NMOL/KG,,UMOL/L,,,,,,NMOL/L,,NMOL/L,,,,,,10000,,10000,,,,PMOL/KG,,PMOL/L,,PMOL/L,,PMOL/L,,PMOL/L,,PMOL/L,,PMOL/L,,PMOL/L,,PMOL/L,,PMOL/L,,PMOL/L,,PMOL/L,,PMOL/L,,PMOL/L,
320620180309  ,S04P       ,95      ,  1,36         ,36         ,2,20180427,0726, -67.9997,-109.5037,     4164,      8.2,-1.8084411748715216728,33.835093461511683,2,  33.8312,2,343.40538584946700,2, 343.3000,2,    344.7,2,     54.3,2,    27.35,2,     0.17,2,     1.91,2,    6.244,2,    3.197,2,   3.6000,2,   2179.2,6,  2291.37,2,   7.6488,2,    24.95,     -999,9,     -999,9,  -1.8082,2,     -999,9,     -999,9,     -999,     -999,9,     -999,9,     -999,9,     -999,9,    0.184,1,    4.582,1,    0.215,1,  16.4500,2,     -999,9,20180427,0907, -67.9944,-109.4185,     -999,9,     -999,9,-999          ,9,     -999,9,     -999,9,     -999,     -999,9,     -999,     -999,9,     -999,9,     -999,9,     -999,9,     -999,9,     -999,9,     -999,9,     -999,9,     -999,9,     -999,9,     -999,9,     -999,9,     -999,9,     -999,9
320620180309  ,S04P       ,95      ,  1,35         ,35         ,2,20180427,0726, -67.9997,-109.5037,     4164,     14.4,-1.8085232487291209580,33.834680201775193,2,  33.8308,2,343.76766517277576,2, 343.3010,2,    342.8,2,     54.4,2,    27.36,2,     0.17,2,     1.89,2,     -999,9,     -999,9,     -999,9,     -999,9,     -999,9,     -999,9,     -999,     -999,9,     -999,9,  -1.8082,2,     -999,9,     -999,9,     -999,     -999,9,     -999,9,     -999,9,     -999,9,    0.177,1,    4.582,1,    0.209,1,     -999,9,     -999,9,20180427,0907, -67.9945,-109.4187,     -999,9,     -999,9,-999          ,9,     -999,9,     -999,9,     -999,     -999,9,     -999,     -999,9,     -999,9,     -999,9,     -999,9,     -999,9,     -999,9,     -999,9,     -999,9,     -999,9,     -999,9,     -999,9,     -999,9,     -999,9,     -999,9
320620180309  ,S04P       ,95      ,  1,34         ,34         ,2,20180427,0726, -67.9997,-109.5037,     4164,     36.0,-1.8039772048887372513,33.836801050311770,2,  33.8337,2,345.06042119776714,2, 343.3027,2,    343.2,2,     54.3,2,    27.40,2,     0.17,2,     1.90,2,    6.423,2,    3.204,2,   3.9700,2,   2180.0,2,  2291.86,2,   7.6485,2,    24.95,     -999,9,     -999,9,  -1.8041,2,     -999,9,     -999,9,     -999,     -999,9,     -999,9,     -999,9,     -999,9,    0.173,1,    4.581,1,    0.192,1,  17.3500,2,     -999,9,20180427,0906, -67.9948,-109.4189,     -999,9,     -999,9,-999          ,9,     -999,9,     -999,9,     -999,     -999,9,     -999,     -999,9,     -999,9,     -999,9,     -999,9,     -999,9,     -999,9,     -999,9,     -999,9,     -999,9,     -999,9,     -999,9,     -999,9,     -999,9,     -999,9
320620180309  ,S04P       ,95      ,  1,33         ,33         ,2,20180427,0726, -67.9997,-109.5037,     4164,     58.6,-1.7109420940330897221,33.877875264443908,2,  33.8734,2,341.53723228521159,2, 341.5013,2,    340.8,2,     56.5,2,    27.92,2,     0.17,2,     1.92,2,     -999,9,     -999,9,     -999,9,     -999,9,     -999,9,     -999,9,     -999,     -999,9,     -999,9,  -1.7187,2,     -999,9,     -999,9,     -999,     -999,9,     -999,9,     -999,9,     -999,9,    0.174,1,    4.584,1,    0.202,1,     -999,9,     -999,9,20180427,0905, -67.9951,-109.4195,     -999,9,     -999,9,-999          ,9,     -999,9,     -999,9,     -999,     -999,9,     -999,     -999,9,     -999,9,     -999,9,     -999,9,     -999,9,     -999,9,     -999,9,     -999,9,     -999,9,     -999,9,     -999,9,     -999,9,     -999,9,     -999,9
320620180309  ,S04P       ,95      ,  1,32         ,32         ,2,20180427,0726, -67.9997,-109.5037,     4164,     85.1,-1.0638173373835302371,34.074399917285412,3,  34.0960,2,297.81408096811674,3, 299.0996,3,    287.1,2,     65.2,2,    30.67,2,     0.16,2,     2.09,2,    4.420,2,    2.273,2,   3.1900,2,   2209.2,2,  2306.48,2,   7.5997,2,    24.93,     -999,9,     -999,9,  -1.2316,3,     -999,9,     -999,9,     -999,     -999,9,     -999,9,     -999,9,     -999,9,    0.112,1,    4.599,1,    0.178,1,  19.7100,2,     -999,9,20180427,0904, -67.9952,-109.4197,     -999,9,     -999,9,-999          ,9,     -999,9,     -999,9,     -999,     -999,9,     -999,     -999,9,     -999,9,     -999,9,     -999,9,     -999,9,     -999,9,     -999,9,     -999,9,     -999,9,     -999,9,     -999,9,     -999,9,     -999,9,     -999,9
320620180309  ,S04P       ,95      ,  1,31         ,31         ,2,20180427,0726, -67.9997,-109.5037,     4164,    115.8,0.1233804415123010145,34.318675638750413,2,  34.3149,2,235.47628824923865,2, 241.1008,3,    236.3,2,     72.0,2,    33.11,2,     0.07,2,     2.24,2,     -999,9,     -999,9,     -999,9,   2233.6,2,  2320.22,2,   7.5638,6,    24.93,     -999,9,     -999,9,   0.0263,3,     -999,9,     -999,9,     -999,     -999,9,     -999,9,     -999,9,     -999,9,    0.078,1,    4.635,1,    0.153,1,     -999,9,     -999,9,20180427,0903, -67.9955,-109.4199,     -999,9,     -999,9,-999          ,9,     -999,9,     -999,9,     -999,     -999,9,     -999,     -999,9,     -999,9,     -999,9,     -999,9,     -999,9,     -999,9,     -999,9,     -999,9,     -999,9,     -999,9,     -999,9,     -999,9,     -999,9,     -999,9
320620180309  ,S04P       ,95      ,  1,30         ,30         ,2,20180427,0726, -67.9997,-109.5037,     4164,    135.3,0.8049342718068451807,34.423855386927727,2,  34.4197,2,210.43806105101376,3, 212.9971,2,    213.2,2,     75.0,2,    33.87,2,     0.02,2,     2.29,2,    2.142,2,    1.127,2,   1.0600,2,   2245.4,2,  2325.69,2,   7.5517,2,    24.92,     -999,9,     -999,9,   0.7177,3,     -999,9,     -999,9,     -999,     -999,9,     -999,9,     -999,9,     -999,9,    0.074,1,    4.636,1,    0.154,1,  22.5900,2,     -999,9,20180427,0902, -67.9957,-109.4204,     -999,9,     -999,9,-999          ,9,     -999,9,     -999,9,     -999,     -999,9,     -999,     -999,9,     -999,9,     -999,9,     -999,9,     -999,9,     -999,9,     -999,9,     -999,9,     -999,9,     -999,9,     -999,9,     -999,9,     -999,9,     -999,9
320620180309  ,S04P       ,95      ,  1,29         ,29         ,2,20180427,0726, -67.9997,-109.5037,     4164,    165.8,1.1372069286403441168,34.478411493224243,2,  34.4773,2,208.39999874820737,3, 209.7013,3,    201.2,2,     77.0,2,    34.16,2,     0.00,2,     2.31,2,     -999,9,     -999,9,     -999,9,   2250.0,2,  2328.63,2,   7.5478,2,    24.93,     -999,9,     -999,9,   1.1653,2,     -999,9,     -999,9,     -999,     -999,9,     -999,9,     -999,9,     -999,9,    0.069,1,    4.640,1,    0.150,1,     -999,9,     -999,9,20180427,0901, -67.9959,-109.4215,     -999,9,     -999,9,-999          ,9,     -999,9,     -999,9,     -999,     -999,9,     -999,     -999,9,     -999,9,     -999,9,     -999,9,     -999,9,     -999,9,     -999,9,     -999,9,     -999,9,     -999,9,     -999,9,     -999,9,     -999,9,     -999,9
320620180309  ,S04P       ,95      ,  1,28         ,28         ,2,20180427,0726, -67.9997,-109.5037,     4164,    217.8,1.8353419902408318887,34.602279005874159,2,  34.5993,2,178.99603760172587,2, 180.6042,2,    179.4,2,     81.2,2,    34.34,2,     0.00,2,     2.30,2,    0.872,2,    0.467,2,   0.4000,2,   2258.6,2,  2338.16,2,   7.5462,2,    24.93,     -999,9,     -999,9,   1.8132,2,     -999,9,     -999,9,     -999,     -999,9,     -999,9,     -999,9,     -999,9,    0.064,1,    4.644,1,    0.144,1,  22.8800,2,     -999,9,20180427,0859, -67.9964,-109.4235,     -999,9,     -999,9,-999          ,9,     -999,9,     -999,9,     -999,     -999,9,     -999,     -999,9,     -999,9,     -999,9,     -999,9,     -999,9,     -999,9,     -999,9,     -999,9,     -999,9,     -999,9,     -999,9,     -999,9,     -999,9,     -999,9
320620180309  ,S04P       ,95      ,  1,27         ,27         ,2,20180427,0726, -67.9997,-109.5037,     4164,    264.1,1.9520897345662440170,34.648492047653690,2,  34.6489,2,174.86545326505956,2, 175.3022,2,    174.7,2,     84.0,2,    33.94,2,     0.00,2,     2.27,2,     -999,9,     -999,9,     -999,9,   2260.4,2,  2342.27,2,   7.5524,2,    24.92,     -999,9,     -999,9,   1.9324,2,     -999,9,     -999,9,     -999,     -999,9,     -999,9,     -999,9,     -999,9,    0.063,1,    4.648,1,    0.142,1,     -999,9,     -999,9,20180427,0858, -67.9965,-109.4246,     -999,9,     -999,9,-999          ,9,     -999,9,     -999,9,     -999,     -999,9,     -999,     -999,9,     -999,9,     -999,9,     -999,9,     -999,9,     -999,9,     -999,9,     -999,9,     -999,9,     -999,9,     -999,9,     -999,9,     -999,9,     -999,9
320620180309  ,S04P       ,95      ,  1,26         ,38         ,2,20180427,0726, -67.9997,-109.5037,     4164,    315.4,1.9281299450359952186,34.672344630399500,2,  34.6701,2,175.90995806549412,2, 175.2046,2,    175.6,2,     85.7,2,    33.59,2,     0.00,2,     2.27,2,    0.462,2,    0.255,2,   0.0800,2,   2258.4,2,  2344.55,2,   7.5559,2,    24.92,     -999,9,     -999,9,   1.9319,2,     -999,9,     -999,9,     -999,     -999,9,     -999,9,     -999,9,     -999,9,    0.062,1,    4.649,1,    0.144,1,  22.4700,2,     -999,9,20180427,0857, -67.9965,-109.4257,     -999,9,     -999,9,-999          ,9,     -999,9,     -999,9,     -999,     -999,9,     -999,     -999,9,     -999,9,     -999,9,     -999,9,     -999,9,     -999,9,     -999,9,     -999,9,     -999,9,     -999,9,     -999,9,     -999,9,     -999,9,     -999,9
320620180309  ,S04P       ,95      ,  1,25         ,25         ,2,20180427,0726, -67.9997,-109.5037,     4164,    418.7,1.9328545251689381868,34.704973582830320,2,  34.7039,2,178.39951691880626,2, 177.5068,3,    180.0,2,     87.8,2,    32.72,2,     0.00,2,     2.20,2,     -999,9,     -999,9,     -999,9,   2255.2,2,  2348.36,2,   7.5735,2,    24.92,     -999,9,     -999,9,   1.9345,2,     -999,9,     -999,9,     -999,     -999,9,     -999,9,     -999,9,     -999,9,    0.061,1,    4.651,1,    0.136,1,     -999,9,     -999,9,20180427,0855, -67.9965,-109.4279,     -999,9,     -999,9,-999          ,9,     -999,9,     -999,9,     -999,     -999,9,     -999,     -999,9,     -999,9,     -999,9,     -999,9,     -999,9,     -999,9,     -999,9,     -999,9,     -999,9,     -999,9,     -999,9,     -999,9,     -999,9,     -999,9
320620180309  ,S04P       ,95      ,  1,24         ,24         ,2,20180427,0726, -67.9997,-109.5037,     4164,    468.9,1.8963718904065622883,34.712742957079065,2,  34.7107,2,181.95538990568434,3, 181.1998,2,    180.1,2,     88.8,2,    32.60,2,     0.00,2,     2.20,2,    0.266,2,    0.146,2,   0.0000,2,   2257.3,2,  2350.67,2,   7.5737,2,    24.92,     -999,9,     -999,9,   1.8998,2,     -999,9,     -999,9,     -999,     -999,9,     -999,9,     -999,9,     -999,9,    0.062,1,    4.650,1,    0.137,1,  21.0700,2,     -999,9,20180427,0854, -67.9965,-109.4289,     -999,9,     -999,9,-999          ,9,     -999,9,     -999,9,     -999,     -999,9,     -999,     -999,9,     -999,9,     -999,9,     -999,9,     -999,9,     -999,9,     -999,9,     -999,9,     -999,9,     -999,9,     -999,9,     -999,9,     -999,9,     -999,9
320620180309  ,S04P       ,95      ,  1,23         ,23         ,2,20180427,0726, -67.9997,-109.5037,     4164,    539.9,1.8412511107398203958,34.720652353982636,2,  34.7190,2,183.45641280747802,2, 182.9956,2,    183.1,2,     90.3,2,    32.28,2,     0.00,2,     2.17,2,     -999,9,     -999,9,     -999,9,     -999,9,     -999,9,     -999,9,     -999,     -999,9,     -999,9,   1.8462,2,     -999,9,     -999,9,     -999,     -999,9,     -999,9,     -999,9,     -999,9,    0.061,1,    4.650,1,    0.139,1,     -999,9,     -999,9,20180427,0853, -67.9965,-109.4301,     -999,9,     -999,9,-999          ,9,     -999,9,     -999,9,     -999,     -999,9,     -999,     -999,9,     -999,9,     -999,9,     -999,9,     -999,9,     -999,9,     -999,9,     -999,9,     -999,9,     -999,9,     -999,9,     -999,9,     -999,9,     -999,9
320620180309  ,S04P       ,95      ,  1,22         ,37         ,2,20180427,0726, -67.9997,-109.5037,     4164,    641.2,1.7592546332417777766,34.727587687669391,2,  34.7261,2,186.94676624451182,2, 186.1056,2,    186.3,2,     92.9,2,    32.12,2,     0.00,2,     2.16,2,     -999,9,     -999,9,     -999,9,     -999,9,     -999,9,     -999,9,     -999,     -999,9,     -999,9,   1.7638,2,     -999,9,     -999,9,     -999,     -999,9,     -999,9,     -999,9,     -999,9,    0.061,1,    4.651,1,    0.136,1,     -999,9,     -999,9,20180427,0850, -67.9966,-109.4313,     -999,9,     -999,9,-999          ,9,     -999,9,     -999,9,     -999,     -999,9,     -999,     -999,9,     -999,9,     -999,9,     -999,9,     -999,9,     -999,9,     -999,9,     -999,9,     -999,9,     -999,9,     -999,9,     -999,9,     -999,9,     -999,9
320620180309  ,S04P       ,95      ,  1,21         ,21         ,2,20180427,0726, -67.9997,-109.5037,     4164,    741.0,1.6658518068226124687,34.731475199522649,2,  34.7304,2,187.85547578643136,2, 188.1979,2,    189.7,2,     94.7,2,    31.89,2,     0.00,2,     2.14,2,    0.191,2,    0.111,2,   0.0300,2,   2254.2,2,  2355.68,2,   7.5922,2,    24.94,     -999,9,     -999,9,   1.6699,2,     -999,9,     -999,9,     -999,     -999,9,     -999,9,     -999,9,     -999,9,    0.061,1,    4.652,1,    0.138,1,  20.1500,2,     -999,9,20180427,0847, -67.9966,-109.4315,     -999,9,     -999,9,-999          ,9,     -999,9,     -999,9,     -999,     -999,9,     -999,     -999,9,     -999,9,     -999,9,     -999,9,     -999,9,     -999,9,     -999,9,     -999,9,     -999,9,     -999,9,     -999,9,     -999,9,     -999,9,     -999,9
320620180309  ,S04P       ,95      ,  1,20         ,20         ,2,20180427,0726, -67.9997,-109.5037,     4164,    842.5,1.5881848034681955717,34.732566675361866,2,  34.7314,2,190.85041077406015,2, 190.8999,2,    191.0,2,     97.3,2,    31.87,2,     0.00,2,     2.14,2,     -999,9,     -999,9,     -999,9,     -999,9,     -999,9,     -999,9,     -999,     -999,9,     -999,9,   1.5899,2,     -999,9,     -999,9,     -999,     -999,9,     -999,9,     -999,9,     -999,9,    0.061,1,    4.653,1,    0.132,1,     -999,9,     -999,9,20180427,0843, -67.9964,-109.4331,     -999,9,     -999,9,-999          ,9,     -999,9,     -999,9,     -999,     -999,9,     -999,     -999,9,     -999,9,     -999,9,     -999,9,     -999,9,     -999,9,     -999,9,     -999,9,     -999,9,     -999,9,     -999,9,     -999,9,     -999,9,     -999,9
320620180309  ,S04P       ,95      ,  1,19         ,19         ,2,20180427,0726, -67.9997,-109.5037,     4164,    943.3,1.4911282631926920939,34.732173273772666,2,  34.7314,2,192.33645704247488,2, 192.6014,2,    192.0,2,    100.7,2,    31.94,2,     0.00,2,     2.14,2,    0.152,2,    0.087,2,   0.0500,2,   2255.6,2,  2356.95,2,   7.5963,2,    24.93,     -999,9,     -999,9,   1.4971,2,     -999,9,     -999,9,     -999,     -999,9,     -999,9,     -999,9,     -999,9,    0.062,1,    4.653,1,    0.131,1,  19.4900,2,     -999,9,20180427,0840, -67.9968,-109.4352,     -999,9,     -999,9,-999          ,9,     -999,9,     -999,9,     -999,     -999,9,     -999,     -999,9,     -999,9,     -999,9,     -999,9,     -999,9,     -999,9,     -999,9,     -999,9,     -999,9,     -999,9,     -999,9,     -999,9,     -999,9,     -999,9
320620180309  ,S04P       ,95      ,  1,18         ,18         ,2,20180427,0726, -67.9997,-109.5037,     4164,   1045.8,1.4117797354102115115,34.731076914516173,2,  34.7304,2,193.49115900217569,2, 194.0009,2,    193.4,2,    103.2,2,    31.96,2,     0.00,2,     2.15,2,    0.139,2,    0.074,2,   0.0000,2,   2259.4,2,  2357.41,2,   7.5972,2,    24.93,     -999,9,     -999,9,   1.4198,2,     -999,9,     -999,9,     -999,     -999,9,     -999,9,     -999,9,     -999,9,    0.061,1,    4.654,1,    0.129,1,  19.6500,2,     -999,9,20180427,0838, -67.9972,-109.4378,     -999,9,     -999,9,-999          ,9,     -999,9,     -999,9,     -999,     -999,9,     -999,     -999,9,     -999,9,     -999,9,     -999,9,     -999,9,     -999,9,     -999,9,     -999,9,     -999,9,     -999,9,     -999,9,     -999,9,     -999,9,     -999,9
320620180309  ,S04P       ,95      ,  1,17         ,17         ,2,20180427,0726, -67.9997,-109.5037,     4164,   1148.1,1.3450972738726589828,34.729515163295574,2,  34.7288,2,195.36513361388529,2, 194.8027,2,    194.6,2,    105.4,2,    32.01,2,     0.00,2,     2.16,2,     -999,9,     -999,9,     -999,9,     -999,9,     -999,9,     -999,9,     -999,     -999,9,     -999,9,   1.3505,2,     -999,9,     -999,9,     -999,     -999,9,     -999,9,     -999,9,     -999,9,    0.061,1,    4.653,1,    0.129,1,     -999,9,     -999,9,20180427,0834, -67.9973,-109.4422,     -999,9,     -999,9,-999          ,9,     -999,9,     -999,9,     -999,     -999,9,     -999,     -999,9,     -999,9,     -999,9,     -999,9,     -999,9,     -999,9,     -999,9,     -999,9,     -999,9,     -999,9,     -999,9,     -999,9,     -999,9,     -999,9
320620180309  ,S04P       ,95      ,  1,16         ,16         ,2,20180427,0726, -67.9997,-109.5037,     4164,   1249.4,1.2688141072671648146,34.727365197124648,2,  34.7270,2,195.54880547618316,2, 195.8996,2,    195.8,2,    107.9,2,    32.08,2,     0.00,2,     2.15,2,    0.123,2,    0.061,2,   0.0000,2,   2253.8,3,  2361.95,2,   7.5972,2,    24.93,     -999,9,     -999,9,   1.2720,2,     -999,9,     -999,9,     -999,     -999,9,     -999,9,     -999,9,     -999,9,    0.062,1,    4.654,1,    0.130,1,  19.1500,2,     -999,9,20180427,0832, -67.9976,-109.4446,     -999,9,     -999,9,-999          ,9,     -999,9,     -999,9,     -999,     -999,9,     -999,     -999,9,     -999,9,     -999,9,     -999,9,     -999,9,     -999,9,     -999,9,     -999,9,     -999,9,     -999,9,     -999,9,     -999,9,     -999,9,     -999,9