BOTTLE,20240515CCHHYDRO
EXPOCODE,SECT_ID,STNNBR,CASTNO,SAMPNO,BTLNBR,BTLNBR_FLAG_W,DATE,TIME,LATITUDE,LONGITUDE,DEPTH,CTDPRS,CTDTMP,CTDSAL,CTDSAL_FLAG_W,SALNTY,SALNTY_FLAG_W,CTDOXY,CTDOXY_FLAG_W,CTDOPTOXY,CTDOPTOXY_FLAG_W,OXYGEN,OXYGEN_FLAG_W,SILCAT,SILCAT_FLAG_W,NITRAT,NITRAT_FLAG_W,NITRIT,NITRIT_FLAG_W,PHSPHT,PHSPHT_FLAG_W,CFC-11,CFC-11_FLAG_W,CFC-12,CFC-12_FLAG_W,SF6,SF6_FLAG_W,TCARBN,TCARBN_FLAG_W,ALKALI,ALKALI_FLAG_W,PH_TOT,PH_TOT_FLAG_W,PH_TMP,DOC,DOC_FLAG_W,HELIUM,HELIUM_FLAG_W,REFTMP,REFTMP_FLAG_W,DELC13,DELC13_FLAG_W,DELC14,DELC14_FLAG_W,C14ERR,POC,POC_FLAG_W,TDN,TDN_FLAG_W,TON,TON_FLAG_W,NEON,NEON_FLAG_W,CTDFLUOR,CTDFLUOR_FLAG_W,CTDXMISS,CTDXMISS_FLAG_W,CTDBETA700,CTDBETA700_FLAG_W,N2O,N2O_FLAG_W,ARGON,ARGON_FLAG_W,BTL_DATE,BTL_TIME,BTL_LAT,BTL_LON,KRYPTON,KRYPTON_FLAG_W,XENON,XENON_FLAG_W,HPLC,HPLC_FLAG_W,HE3_HE4_RATIO,HE3_HE4_RATIO_FLAG_W,Nd_143_144_D_EPSILON_BOTTLE,Nd_143_144_D_EPSILON_BOTTLE_FLAG_W,Nd_143_144_D_EPSILON_BOTTLE_ERROR,Nd_143_144_D_RATIO_BOTTLE,Nd_143_144_D_RATIO_BOTTLE_FLAG_W,Nd_143_144_D_RATIO_BOTTLE_ERROR,Nd_D_CONC,Nd_D_CONC_FLAG_W,La_D_CONC_BOTTLE,La_D_CONC_BOTTLE_FLAG_W,Ce_D_CONC_BOTTLE,Ce_D_CONC_BOTTLE_FLAG_W,Pr_D_CONC_BOTTLE,Pr_D_CONC_BOTTLE_FLAG_W,Sm_D_CONC_BOTTLE,Sm_D_CONC_BOTTLE_FLAG_W,Eu_D_CONC_BOTTLE,Eu_D_CONC_BOTTLE_FLAG_W,Gd_D_CONC_BOTTLE,Gd_D_CONC_BOTTLE_FLAG_W,Tb_D_CONC_BOTTLE,Tb_D_CONC_BOTTLE_FLAG_W,Dy_D_CONC_BOTTLE,Dy_D_CONC_BOTTLE_FLAG_W,Ho_D_CONC_BOTTLE,Ho_D_CONC_BOTTLE_FLAG_W,Er_D_CONC_BOTTLE,Er_D_CONC_BOTTLE_FLAG_W,Tm_D_CONC_BOTTLE,Tm_D_CONC_BOTTLE_FLAG_W,Yb_D_CONC_BOTTLE,Yb_D_CONC_BOTTLE_FLAG_W,Lu_D_CONC_BOTTLE,Lu_D_CONC_BOTTLE_FLAG_W
,,,,,,,,,,,METERS,DBAR,ITS-90,PSS-78,,PSS-78,,UMOL/KG,,UMOL/KG,,UMOL/KG,,UMOL/KG,,UMOL/KG,,UMOL/KG,,UMOL/KG,,PMOL/KG,,PMOL/KG,,FMOL/KG,,UMOL/KG,,UMOL/KG,,,,DEG C,UMOL/KG,,NMOL/L,,DEG C,,/MILLE,,/MILLE,,/MILLE,UG/KG,,UMOL/KG,,UMOL/KG,,NMOL/L,,VOLTS,,VOLTS,,VOLTS,,NMOL/KG,,UMOL/L,,,,,,NMOL/L,,NMOL/L,,,,,,10000,,10000,,,,PMOL/KG,,PMOL/L,,PMOL/L,,PMOL/L,,PMOL/L,,PMOL/L,,PMOL/L,,PMOL/L,,PMOL/L,,PMOL/L,,PMOL/L,,PMOL/L,,PMOL/L,,PMOL/L,
320620180309  ,S04P       ,30      ,  1,36         ,36         ,2,20180329,2230, -66.9984,-170.5332,     3382,      2.6,-0.8785027777777777436,34.116798108930020,2,  34.1154,2,338.37692485587110,3, 341.0924,2,    342.9,2,     55.8,2,    26.80,2,     0.18,2,     1.77,2,    5.598,2,    3.127,2,   3.7400,2,   2193.8,6,  2312.05,2,   7.6529,2,    24.93,     44.2,2,     -999,9,  -1.5277,3,1.13000000,2, -123.490,2,    0.002,     -999,9,     -999,9,     -999,1,     -999,9,    0.187,1,    4.560,1,    0.224,1,  16.6200,2,     -999,9,20180330,0024, -66.9991,-170.5300,     -999,9,     -999,9,-999          ,9,     -999,9,     -999,9,     -999,     -999,9,     -999,     -999,9,     -999,1,     -999,1,     -999,1,     -999,1,     -999,1,     -999,1,     -999,1,     -999,1,     -999,1,     -999,1,     -999,1,     -999,1,     -999,1
320620180309  ,S04P       ,30      ,  1,35         ,35         ,2,20180329,2230, -66.9984,-170.5332,     3382,     35.0,-0.8768472222222221113,34.116857222130434,2,  34.1171,2,339.80605163736828,2, 341.0990,2,    340.8,2,     55.6,2,    26.76,2,     0.18,2,     1.76,2,    5.541,2,    3.093,2,   4.1100,2,   2195.4,2,  2312.01,2,   7.6531,2,    24.92,     46.2,2,     -999,1,  -0.8773,2,     -999,9,     -999,9,     -999,     -999,9,    28.90,2,     -999,1,     -999,1,    0.234,1,    4.560,1,    0.249,1,  16.5700,2,     -999,1,20180330,0023, -66.9991,-170.5301,     -999,1,     -999,1,-999          ,9,     -999,1,     -999,9,     -999,     -999,9,     -999,     -999,9,     -999,9,     -999,9,     -999,9,     -999,9,     -999,9,     -999,9,     -999,9,     -999,9,     -999,9,     -999,9,     -999,9,     -999,9,     -999,9
320620180309  ,S04P       ,30      ,  1,34         ,34         ,2,20180329,2230, -66.9984,-170.5332,     3382,     59.7,-0.8789027777777776995,34.116464928974338,2,  34.1169,2,340.92659958224436,2, 341.1033,2,    341.4,2,     55.6,2,    26.75,2,     0.18,2,     1.78,2,     -999,9,     -999,9,     -999,9,   2195.6,2,  2311.70,2,   7.6537,2,    24.94,     45.9,2,     -999,9,  -0.8792,2,     -999,9,     -999,9,     -999,     -999,9,    29.20,2,     -999,1,     -999,9,    0.242,1,    4.560,1,    0.229,1,     -999,9,     -999,9,20180330,0021, -66.9990,-170.5302,     -999,9,     -999,9,-999          ,9,     -999,9,     -999,9,     -999,     -999,9,     -999,     -999,9,     -999,1,     -999,1,     -999,1,     -999,1,     -999,1,     -999,1,     -999,1,     -999,1,     -999,1,     -999,1,     -999,1,     -999,1,     -999,1
320620180309  ,S04P       ,30      ,  1,33         ,33         ,2,20180329,2230, -66.9984,-170.5332,     3382,     85.5,-0.8764305555555554905,34.117614122496555,2,  34.1187,2,341.60289701291543,2, 341.1009,2,    340.6,2,     56.0,2,    26.83,2,     0.18,2,     1.80,2,    5.531,6,    3.079,6,   3.7300,6,   2195.4,2,  2311.09,2,   7.6541,6,    24.93,     46.1,2,     -999,1,  -0.8767,2,1.13000000,2, -124.530,2,    0.002,     -999,9,    29.40,2,     -999,1,     -999,1,    0.243,1,    4.562,1,    0.240,1,  16.6200,6,     -999,1,20180330,0020, -66.9990,-170.5302,     -999,1,     -999,1,-999          ,9,     -999,1,     -999,9,     -999,     -999,9,     -999,     -999,9,     -999,9,     -999,9,     -999,9,     -999,9,     -999,9,     -999,9,     -999,9,     -999,9,     -999,9,     -999,9,     -999,9,     -999,9,     -999,9
320620180309  ,S04P       ,30      ,  1,32         ,32         ,2,20180329,2230, -66.9984,-170.5332,     3382,    110.8,-0.8297138888888888619,34.372369259168046,2,  34.3797,2,282.15520873199097,3, 275.5030,2,    275.5,2,     77.4,2,    31.15,2,     0.06,2,     2.14,2,    3.582,2,    2.027,2,   2.5000,2,   2229.0,2,  2324.77,2,   7.5906,2,    24.92,     43.2,2,     -999,9,  -0.8307,2,0.61000000,2, -135.080,2,    0.002,     -999,9,     -999,9,     -999,1,     -999,9,    0.104,1,    4.639,1,    0.174,1,  19.1300,2,     -999,9,20180330,0018, -66.9991,-170.5299,     -999,9,     -999,9,-999          ,9,     -999,9,     -999,9,     -999,     -999,9,     -999,     -999,9,     -999,1,     -999,1,     -999,1,     -999,1,     -999,1,     -999,1,     -999,1,     -999,1,     -999,1,     -999,1,     -999,1,     -999,1,     -999,1
320620180309  ,S04P       ,30      ,  1,31         ,31         ,2,20180329,2230, -66.9984,-170.5332,     3382,    134.9,0.0603444444444444505,34.509383622118413,2,  34.5124,2,237.46416622252684,3, 226.7958,3,    234.1,2,     82.7,2,    31.89,2,     0.02,2,     2.20,2,     -999,9,     -999,9,     -999,9,   2243.6,2,  2333.84,2,   7.5766,2,    24.91,     46.4,2,     -999,1,   0.0746,2,     -999,9,     -999,9,     -999,     -999,9,    34.90,2,     -999,1,     -999,1,    0.072,1,    4.657,1,    0.153,1,     -999,9,     -999,1,20180330,0016, -66.9991,-170.5298,     -999,1,     -999,1,-999          ,9,     -999,1,     -999,9,     -999,     -999,9,     -999,     -999,9,     -999,1,     -999,1,     -999,1,     -999,1,     -999,1,     -999,1,     -999,1,     -999,1,     -999,1,     -999,1,     -999,1,     -999,1,     -999,1
320620180309  ,S04P       ,30      ,  1,30         ,30         ,2,20180329,2230, -66.9984,-170.5332,     3382,    160.1,0.5608638888888888285,34.574545824338678,2,  34.5726,2,219.68975819032786,3, 212.0974,3,    217.0,2,     85.3,2,    32.09,2,     0.01,2,     2.19,2,    3.566,2,    2.009,2,   0.9200,2,   2248.0,2,  2337.63,2,   7.5722,2,    24.91,     42.3,2,     -999,9,   0.5537,2,     -999,9,     -999,9,     -999,     -999,9,    34.30,2,     -999,1,     -999,9,    0.066,1,    4.661,1,    0.157,1,  19.1600,2,     -999,9,20180330,0014, -66.9992,-170.5297,     -999,9,     -999,9,-999          ,9,     -999,9,     -999,9,     -999,     -999,9,     -999,     -999,9,     -999,1,     -999,1,     -999,1,     -999,1,     -999,1,     -999,1,     -999,1,     -999,1,     -999,1,     -999,1,     -999,1,     -999,1,     -999,1
320620180309  ,S04P       ,30      ,  1,29         ,29         ,2,20180329,2230, -66.9984,-170.5332,     3382,    185.3,0.9170000000000000373,34.625111952232288,2,  34.6240,2,208.09030870982579,3, 201.3014,3,    205.0,2,     87.7,2,    32.22,2,     0.01,2,     2.20,2,     -999,9,     -999,9,     -999,9,   2252.6,2,  2342.74,2,   7.5715,2,    24.91,     -999,9,     -999,1,   0.9114,2,0.44000000,2, -145.380,2,    0.002,     -999,9,     -999,9,     -999,9,     -999,1,    0.066,1,    4.662,1,    0.158,1,     -999,9,     -999,1,20180330,0013, -66.9992,-170.5294,     -999,1,     -999,1,-999          ,9,     -999,1,     -999,9,     -999,     -999,9,     -999,     -999,9,     -999,1,     -999,1,     -999,1,     -999,1,     -999,1,     -999,1,     -999,1,     -999,1,     -999,1,     -999,1,     -999,1,     -999,1,     -999,1
320620180309  ,S04P       ,30      ,  1,28         ,28         ,2,20180329,2230, -66.9984,-170.5332,     3382,    215.7,1.3213055555555555109,34.685526165469945,2,  34.6846,2,193.48439706709030,2, 193.9059,2,    191.8,2,     90.7,2,    32.08,2,     0.01,2,     2.23,2,    1.716,2,    0.954,2,   0.5200,2,   2255.6,6,  2345.63,2,   7.5731,2,    24.91,     40.1,2,     -999,9,   1.3218,2,     -999,9,     -999,9,     -999,     -999,9,    33.50,2,     -999,1,     -999,9,    0.066,1,    4.664,1,    0.150,1,  21.0300,2,     -999,9,20180330,0009, -66.9996,-170.5282,     -999,9,     -999,9,-999          ,9,     -999,9,     -999,9,     -999,     -999,9,     -999,     -999,9,     -999,1,     -999,1,     -999,1,     -999,1,     -999,1,     -999,1,     -999,1,     -999,1,     -999,1,     -999,1,     -999,1,     -999,1,     -999,1
320620180309  ,S04P       ,30      ,  1,27         ,27         ,2,20180329,2230, -66.9984,-170.5332,     3382,    267.1,1.4311083333333334267,34.711772026040386,2,  34.7111,2,192.74744430284406,2, 190.4951,2,    192.7,2,     91.8,2,    31.65,2,     0.01,2,     2.23,2,    0.718,2,    0.396,2,   0.3900,2,   2256.2,2,  2351.17,2,   7.5838,2,    24.91,     44.8,3,     -999,1,   1.4303,2,0.35000000,2, -151.210,2,    0.002,     -999,9,    33.80,2,     -999,1,     -999,1,    0.062,1,    4.668,1,    0.153,1,  21.5000,2,     -999,1,20180330,0007, -66.9999,-170.5275,     -999,1,     -999,1,-999          ,9,     -999,1,     -999,9,     -999,     -999,9,     -999,     -999,9,     -999,9,     -999,9,     -999,9,     -999,9,     -999,9,     -999,9,     -999,9,     -999,9,     -999,9,     -999,9,     -999,9,     -999,9,     -999,9
320620180309  ,S04P       ,30      ,  1,26         ,26         ,2,20180329,2230, -66.9984,-170.5332,     3382,    318.2,1.4043111111111110656,34.717599650405589,2,  34.7172,2,191.71487207599444,2, 190.2008,2,    191.3,2,     94.9,2,    31.65,2,     0.01,2,     2.22,2,    0.541,2,    0.275,2,   0.2400,2,   2256.0,2,  2352.82,2,   7.5839,2,    24.91,     -999,9,     -999,9,   1.4035,2,0.40000000,2, -149.700,2,    0.002,     -999,9,     -999,9,     -999,9,     -999,9,    0.062,1,    4.668,1,    0.153,1,  21.0600,2,     -999,9,20180330,0005, -67.0000,-170.5271,     -999,9,     -999,9,-999          ,9,     -999,9,     -999,9,     -999,     -999,9,     -999,     -999,9,     -999,1,     -999,1,     -999,1,     -999,1,     -999,1,     -999,1,     -999,1,     -999,1,     -999,1,     -999,1,     -999,1,     -999,1,     -999,1
320620180309  ,S04P       ,30      ,  1,25         ,25         ,2,20180329,2230, -66.9984,-170.5332,     3382,    368.3,1.3906444444444445718,34.721308877468367,2,  34.7217,2,192.15459851422594,2, 190.4984,2,    192.0,2,     96.6,2,    31.75,2,     0.00,2,     2.21,2,     -999,9,     -999,9,     -999,9,   2257.6,2,  2355.54,2,   7.5830,2,    24.91,     40.4,2,     -999,1,   1.3900,2,0.42000000,2, -151.810,2,    0.002,     -999,9,     -999,9,     -999,1,     -999,1,    0.063,1,    4.668,1,    0.141,1,     -999,9,     -999,1,20180330,0003, -66.9999,-170.5275,     -999,1,     -999,1,-999          ,9,     -999,1,     -999,9,     -999,     -999,9,     -999,     -999,9,     -999,9,     -999,9,     -999,9,     -999,9,     -999,9,     -999,9,     -999,9,     -999,9,     -999,9,     -999,9,     -999,9,     -999,9,     -999,9
320620180309  ,S04P       ,30      ,  1,24         ,24         ,2,20180329,2230, -66.9984,-170.5332,     3382,    418.5,1.3649361111111106837,34.724086650844384,2,  34.7229,2,191.99518196258157,2, 190.9007,2,    191.7,2,     99.1,2,    31.76,2,     0.00,2,     2.22,2,     -999,5,     -999,5,     -999,5,   2258.9,2,  2355.47,2,   7.5854,2,    24.93,     -999,9,     -999,9,   1.3642,2,0.40000000,2, -150.650,2,    0.002,     -999,9,     -999,9,     -999,9,     -999,9,    0.062,1,    4.671,1,    0.139,1,     -999,5,     -999,9,20180330,0000, -66.9998,-170.5280,     -999,9,     -999,9,-999          ,9,     -999,9,     -999,9,     -999,     -999,9,     -999,     -999,9,     -999,1,     -999,1,     -999,1,     -999,1,     -999,1,     -999,1,     -999,1,     -999,1,     -999,1,     -999,1,     -999,1,     -999,1,     -999,1
320620180309  ,S04P       ,30      ,  1,23         ,23         ,2,20180329,2230, -66.9984,-170.5332,     3382,    469.5,1.3265194444444445843,34.725022324524524,2,  34.7257,2,191.99224779864622,2, 191.4029,2,    192.9,2,    100.7,2,    31.79,2,     0.00,2,     2.21,2,    0.314,2,    0.171,2,   0.1100,2,   2259.9,2,  2355.55,2,   7.5873,2,    24.93,     41.8,2,     -999,9,   1.3258,2,0.40000000,2, -154.600,2,    0.002,     -999,9,     -999,9,     -999,1,     -999,9,    0.063,1,    4.670,1,    0.142,1,  20.6100,2,     -999,9,20180329,2358, -66.9995,-170.5282,     -999,9,     -999,9,-999          ,9,     -999,9,     -999,9,     -999,     -999,9,     -999,     -999,9,     -999,9,     -999,9,     -999,9,     -999,9,     -999,9,     -999,9,     -999,9,     -999,9,     -999,9,     -999,9,     -999,9,     -999,9,     -999,9
320620180309  ,S04P       ,30      ,  1,22         ,37         ,2,20180329,2230, -66.9984,-170.5332,     3382,    538.4,1.2841861111111110283,34.726216009064778,2,  34.7261,2,192.13386244499324,2, 192.2000,2,    192.1,2,    103.2,2,    32.00,2,     0.00,2,     2.23,2,     -999,9,     -999,9,     -999,9,   2259.6,2,  2357.52,2,   7.5856,2,    24.93,     41.6,2,     -999,1,   1.2833,2,0.50000000,2, -153.630,2,    0.002,     -999,9,     -999,9,     -999,1,     -999,1,    0.063,1,    4.671,1,    0.142,1,     -999,9,     -999,1,20180329,2355, -66.9994,-170.5288,     -999,1,     -999,1,-999          ,9,     -999,1,     -999,9,     -999,     -999,9,     -999,     -999,9,     -999,1,     -999,1,     -999,1,     -999,1,     -999,1,     -999,1,     -999,1,     -999,1,     -999,1,     -999,1,     -999,1,     -999,1,     -999,1
320620180309  ,S04P       ,30      ,  1,21         ,21         ,2,20180329,2230, -66.9984,-170.5332,     3382,    641.8,1.2207972222222220893,34.725721330095695,2,  34.7274,2,192.72540835690705,2, 193.1954,2,    192.7,2,    105.9,2,    32.04,2,     0.00,2,     2.24,2,    0.216,2,    0.113,2,   0.1500,2,   2261.7,2,  2360.76,2,   7.5871,2,    24.93,     39.9,2,     -999,9,   1.2199,2,0.40000000,2, -155.890,2,    0.002,     -999,9,     -999,9,     -999,1,     -999,9,    0.061,1,    4.672,1,    0.145,1,  20.5100,2,     -999,9,20180329,2352, -66.9993,-170.5293,     -999,9,     -999,9,-999          ,9,     -999,9,     -999,9,     -999,     -999,9,     -999,     -999,9,     -999,9,     -999,9,     -999,9,     -999,9,     -999,9,     -999,9,     -999,9,     -999,9,     -999,9,     -999,9,     -999,9,     -999,9,     -999,9
320620180309  ,S04P       ,30      ,  1,20         ,20         ,2,20180329,2230, -66.9984,-170.5332,     3382,    742.0,1.1628916666666666568,34.724808889882084,2,  34.7249,2,193.72997088023311,2, 194.3999,2,    193.4,2,    108.8,2,    32.16,2,     0.00,2,     2.24,2,    0.165,2,    0.081,2,   0.0500,2,   2263.9,2,  2358.96,2,   7.5841,2,    24.93,     40.1,2,     -999,9,   1.1624,2,0.40000000,2, -160.210,2,    0.002,     -999,9,     -999,9,     -999,1,     -999,9,    0.061,1,    4.673,1,    0.133,1,  20.5200,2,     -999,9,20180329,2349, -66.9992,-170.5296,     -999,9,     -999,9,-999          ,9,     -999,9,     -999,9,     -999,     -999,9,     -999,     -999,9,     -999,1,     -999,1,     -999,1,     -999,1,     -999,1,     -999,1,     -999,1,     -999,1,     -999,1,     -999,1,     -999,1,     -999,1,     -999,1
320620180309  ,S04P       ,30      ,  1,19         ,19         ,2,20180329,2230, -66.9984,-170.5332,     3382,    844.7,1.0761083333333334444,34.721925524464240,2,  34.7221,2,195.37399509060157,2, 195.8042,2,    195.8,2,    112.0,2,    32.23,2,     0.00,2,     2.24,2,    0.151,2,    0.081,2,   0.1000,2,   2262.6,2,  2362.29,2,   7.5923,6,    24.92,     43.5,2,     -999,1,   1.0716,2,0.54000000,2, -160.630,2,    0.002,     -999,9,     -999,9,     -999,1,     -999,1,    0.061,1,    4.674,1,    0.134,1,  20.2800,2,     -999,1,20180329,2343, -66.9992,-170.5295,     -999,1,     -999,1,-999          ,9,     -999,1,     -999,9,     -999,     -999,9,     -999,     -999,9,     -999,9,     -999,9,     -999,9,     -999,9,     -999,9,     -999,9,     -999,9,     -999,9,     -999,9,     -999,9,     -999,9,     -999,9,     -999,9
320620180309  ,S04P       ,30      ,  1,18         ,18         ,2,20180329,2230, -66.9984,-170.5332,     3382,    945.4,0.9940472222222224152,34.718540123601350,2,  34.7196,2,198.14129201804934,2, 197.4012,2,    198.2,2,    113.3,2,    32.24,2,     0.00,2,     2.25,2,     -999,9,     -999,9,     -999,9,   2262.3,2,  2360.89,2,   7.5959,2,    24.94,     40.2,2,     -999,9,   0.9943,2,0.56000000,2, -160.080,2,    0.002,     -999,9,     -999,9,     -999,1,     -999,9,    0.062,1,    4.673,1,    0.134,1,     -999,9,     -999,9,20180329,2340, -66.9992,-170.5297,     -999,9,     -999,9,-999          ,9,     -999,9,     -999,9,     -999,     -999,9,     -999,     -999,9,     -999,1,     -999,1,     -999,1,     -999,1,     -999,1,     -999,1,     -999,1,     -999,1,     -999,1,     -999,1,     -999,1,     -999,1,     -999,1
320620180309  ,S04P       ,30      ,  1,17         ,17         ,2,20180329,2230, -66.9984,-170.5332,     3382,   1047.6,0.9341416666666666480,34.716326796761386,2,  34.7172,2,199.07543482120695,2, 198.9002,2,    199.7,2,    115.3,2,    32.26,2,     0.00,2,     2.25,2,    0.165,2,    0.082,2,   0.2200,2,   2262.8,2,  2361.55,2,   7.5933,2,    24.93,     42.2,2,     -999,9,   0.9352,2,0.55000000,2, -162.060,2,    0.002,     -999,9,     -999,9,     -999,1,     -999,9,    0.061,1,    4.675,1,    0.140,1,  19.9600,2,     -999,9,20180329,2337, -66.9992,-170.5296,     -999,9,     -999,9,-999          ,9,     -999,9,     -999,9,     -999,     -999,9,     -999,     -999,9,     -999,9,     -999,9,     -999,9,     -999,9,     -999,9,     -999,9,     -999,9,     -999,9,     -999,9,     -999,9,     -999,9,     -999,9,     -999,9
320620180309  ,S04P       ,30      ,  1,16         ,16         ,2,20180329,2230, -66.9984,-170.5332,     3382,   1149.3,0.8893472222222222889,34.714662109658484,2,  34.7143,2,200.33476526932148,2, 200.2004,2,    200.4,2,    117.4,2,    32.32,2,     0.00,2,     2.24,2,     -999,9,     -999,9,     -999,9,   2262.6,2,  2363.93,2,   7.5933,2,    24.94,     42.5,2,     -999,1,   0.8888,2,0.54000000,2, -160.460,2,    0.002,     -999,9,     -999,9,     -999,1,     -999,1,    0.061,1,    4.675,1,    0.130,1,     -999,9,     -999,1,20180329,2334, -66.9992,-170.5294,     -999,1,     -999,1,-999          ,9,     -999,1,     -999,9,     -999,     -999,9,     -999,     -999,9,     -999,1,     -999,1,     -999,1,     -999,1,     -999,1,     -999,1,     -999,1,     -999,1,     -999,1,     -999,1,     -999,1,     -999,1,     -999,1