BOTTLE,20240515CCHHYDRO
EXPOCODE,SECT_ID,STNNBR,CASTNO,SAMPNO,BTLNBR,BTLNBR_FLAG_W,DATE,TIME,LATITUDE,LONGITUDE,DEPTH,CTDPRS,CTDTMP,CTDSAL,CTDSAL_FLAG_W,SALNTY,SALNTY_FLAG_W,CTDOXY,CTDOXY_FLAG_W,CTDOPTOXY,CTDOPTOXY_FLAG_W,OXYGEN,OXYGEN_FLAG_W,SILCAT,SILCAT_FLAG_W,NITRAT,NITRAT_FLAG_W,NITRIT,NITRIT_FLAG_W,PHSPHT,PHSPHT_FLAG_W,CFC-11,CFC-11_FLAG_W,CFC-12,CFC-12_FLAG_W,SF6,SF6_FLAG_W,TCARBN,TCARBN_FLAG_W,ALKALI,ALKALI_FLAG_W,PH_TOT,PH_TOT_FLAG_W,PH_TMP,DOC,DOC_FLAG_W,HELIUM,HELIUM_FLAG_W,REFTMP,REFTMP_FLAG_W,DELC13,DELC13_FLAG_W,DELC14,DELC14_FLAG_W,C14ERR,POC,POC_FLAG_W,TDN,TDN_FLAG_W,TON,TON_FLAG_W,NEON,NEON_FLAG_W,CTDFLUOR,CTDFLUOR_FLAG_W,CTDXMISS,CTDXMISS_FLAG_W,CTDBETA700,CTDBETA700_FLAG_W,N2O,N2O_FLAG_W,ARGON,ARGON_FLAG_W,BTL_DATE,BTL_TIME,BTL_LAT,BTL_LON,KRYPTON,KRYPTON_FLAG_W,XENON,XENON_FLAG_W,HPLC,HPLC_FLAG_W,HE3_HE4_RATIO,HE3_HE4_RATIO_FLAG_W,Nd_143_144_D_EPSILON_BOTTLE,Nd_143_144_D_EPSILON_BOTTLE_FLAG_W,Nd_143_144_D_EPSILON_BOTTLE_ERROR,Nd_143_144_D_RATIO_BOTTLE,Nd_143_144_D_RATIO_BOTTLE_FLAG_W,Nd_143_144_D_RATIO_BOTTLE_ERROR,Nd_D_CONC,Nd_D_CONC_FLAG_W,La_D_CONC_BOTTLE,La_D_CONC_BOTTLE_FLAG_W,Ce_D_CONC_BOTTLE,Ce_D_CONC_BOTTLE_FLAG_W,Pr_D_CONC_BOTTLE,Pr_D_CONC_BOTTLE_FLAG_W,Sm_D_CONC_BOTTLE,Sm_D_CONC_BOTTLE_FLAG_W,Eu_D_CONC_BOTTLE,Eu_D_CONC_BOTTLE_FLAG_W,Gd_D_CONC_BOTTLE,Gd_D_CONC_BOTTLE_FLAG_W,Tb_D_CONC_BOTTLE,Tb_D_CONC_BOTTLE_FLAG_W,Dy_D_CONC_BOTTLE,Dy_D_CONC_BOTTLE_FLAG_W,Ho_D_CONC_BOTTLE,Ho_D_CONC_BOTTLE_FLAG_W,Er_D_CONC_BOTTLE,Er_D_CONC_BOTTLE_FLAG_W,Tm_D_CONC_BOTTLE,Tm_D_CONC_BOTTLE_FLAG_W,Yb_D_CONC_BOTTLE,Yb_D_CONC_BOTTLE_FLAG_W,Lu_D_CONC_BOTTLE,Lu_D_CONC_BOTTLE_FLAG_W
,,,,,,,,,,,METERS,DBAR,ITS-90,PSS-78,,PSS-78,,UMOL/KG,,UMOL/KG,,UMOL/KG,,UMOL/KG,,UMOL/KG,,UMOL/KG,,UMOL/KG,,PMOL/KG,,PMOL/KG,,FMOL/KG,,UMOL/KG,,UMOL/KG,,,,DEG C,UMOL/KG,,NMOL/L,,DEG C,,/MILLE,,/MILLE,,/MILLE,UG/KG,,UMOL/KG,,UMOL/KG,,NMOL/L,,VOLTS,,VOLTS,,VOLTS,,NMOL/KG,,UMOL/L,,,,,,NMOL/L,,NMOL/L,,,,,,10000,,10000,,,,PMOL/KG,,PMOL/L,,PMOL/L,,PMOL/L,,PMOL/L,,PMOL/L,,PMOL/L,,PMOL/L,,PMOL/L,,PMOL/L,,PMOL/L,,PMOL/L,,PMOL/L,,PMOL/L,
320620180309  ,P16        ,47      ,  1,36         ,36         ,2,20180406,1504, -70.4998,-149.9975,     4317,     11.9,-1.6089472222222220843,33.819948252948763,2,  33.8181,2,348.18995401385314,2, 345.3035,2,    347.6,2,     43.6,2,    25.07,2,     0.19,2,     1.80,2,    6.509,2,    3.298,2,   4.0200,2,   2174.8,6,  2289.58,2,   7.6586,2,    24.94,     -999,9,     -999,9,  -1.6107,2,     -999,9,     -999,9,     -999,     -999,9,     -999,9,     -999,9,     -999,9,    0.105,1,    4.641,1,    0.156,1,  17.5700,2,     -999,9,20180406,1726, -70.5000,-149.9987,     -999,9,     -999,9,-999          ,9,     -999,9,     -999,9,     -999,     -999,9,     -999,     -999,9,     -999,1,     -999,1,     -999,1,     -999,1,     -999,1,     -999,1,     -999,1,     -999,1,     -999,1,     -999,1,     -999,1,     -999,1,     -999,1
320620180309  ,P16        ,47      ,  1,35         ,35         ,2,20180406,1504, -70.4998,-149.9975,     4317,     19.2,-1.6094527777777780653,33.819886321754893,2,  33.8181,2,348.53936269752779,2, 345.3007,2,    347.4,2,     43.4,2,    25.01,2,     0.19,2,     1.81,2,     -999,9,     -999,9,     -999,9,     -999,9,     -999,9,     -999,9,     -999,     -999,9,     -999,1,  -1.6120,2,     -999,9,     -999,9,     -999,     -999,9,     -999,9,     -999,9,     -999,1,    0.106,1,    4.641,1,    0.158,1,     -999,9,     -999,1,20180406,1725, -70.5000,-149.9987,     -999,1,     -999,1,-999          ,9,     -999,1,     -999,9,     -999,     -999,9,     -999,     -999,9,     -999,1,     -999,1,     -999,1,     -999,1,     -999,1,     -999,1,     -999,1,     -999,1,     -999,1,     -999,1,     -999,1,     -999,1,     -999,1
320620180309  ,P16        ,47      ,  1,34         ,34         ,2,20180406,1504, -70.4998,-149.9975,     4317,     40.0,-1.6181388888888887934,33.820095260192033,2,  33.8185,2,349.54584001819921,2, 345.2958,2,    347.4,2,     43.3,2,    25.03,2,     0.19,2,     1.79,2,    6.460,2,    3.246,2,   4.0100,2,   2174.3,2,  2290.59,2,   7.6582,2,    24.95,     -999,9,     -999,9,  -1.6186,2,     -999,9,     -999,9,     -999,     -999,9,     -999,9,     -999,9,     -999,9,    0.108,1,    4.642,1,    0.160,1,  17.0900,2,     -999,9,20180406,1723, -70.5000,-149.9987,     -999,9,     -999,9,-999          ,9,     -999,9,     -999,9,     -999,     -999,9,     -999,     -999,9,     -999,9,     -999,9,     -999,9,     -999,9,     -999,9,     -999,9,     -999,9,     -999,9,     -999,9,     -999,9,     -999,9,     -999,9,     -999,9
320620180309  ,P16        ,47      ,  1,33         ,33         ,2,20180406,1504, -70.4998,-149.9975,     4317,     64.5,-1.6061611111111111505,33.835473743313543,2,  33.8380,2,347.95973459059735,3, 362.9003,3,    344.3,2,     44.1,2,    25.20,2,     0.18,2,     1.80,2,     -999,9,     -999,9,     -999,9,     -999,9,     -999,9,     -999,9,     -999,     -999,9,     -999,1,  -1.6049,2,     -999,9,     -999,9,     -999,     -999,9,     -999,9,     -999,9,     -999,1,    0.103,1,    4.639,1,    0.164,1,     -999,9,     -999,1,20180406,1721, -70.5000,-149.9989,     -999,1,     -999,1,-999          ,9,     -999,1,     -999,9,     -999,     -999,9,     -999,     -999,9,     -999,1,     -999,1,     -999,1,     -999,1,     -999,1,     -999,1,     -999,1,     -999,1,     -999,1,     -999,1,     -999,1,     -999,1,     -999,1
320620180309  ,P16        ,47      ,  1,32         ,32         ,2,20180406,1504, -70.4998,-149.9975,     4317,     91.3,-1.2810805555555555557,34.092317059330412,2,  34.0901,2,313.76391791803508,3, 326.6998,3,    302.7,2,     51.9,2,    28.30,2,     0.18,2,     2.02,2,     -999,9,     -999,9,     -999,9,   2201.9,2,  2306.73,2,   7.6173,6,    24.94,     -999,9,     -999,9,  -1.2754,2,     -999,9,     -999,9,     -999,     -999,9,     -999,9,     -999,9,     -999,9,    0.081,1,    4.654,1,    0.145,1,     -999,9,     -999,9,20180406,1719, -70.5000,-149.9990,     -999,9,     -999,9,-999          ,9,     -999,9,     -999,9,     -999,     -999,9,     -999,     -999,9,     -999,9,     -999,9,     -999,9,     -999,9,     -999,9,     -999,9,     -999,9,     -999,9,     -999,9,     -999,9,     -999,9,     -999,9,     -999,9
320620180309  ,P16        ,47      ,  1,31         ,31         ,2,20180406,1504, -70.4998,-149.9975,     4317,    115.1,-0.8431555555555555470,34.194451346936361,2,  34.2052,2,280.61862262164283,3, 297.1058,3,    274.1,2,     59.0,2,    30.05,2,     0.07,2,     2.11,2,    4.165,2,    2.189,2,   2.3500,2,   2216.2,2,  2312.75,2,   7.5938,6,    24.96,     -999,9,     -999,1,  -0.8394,2,     -999,9,     -999,9,     -999,     -999,9,     -999,9,     -999,9,     -999,1,    0.072,1,    4.658,1,    0.137,1,  20.7400,2,     -999,1,20180406,1717, -70.5000,-149.9993,     -999,1,     -999,1,-999          ,9,     -999,1,     -999,9,     -999,     -999,9,     -999,     -999,9,     -999,1,     -999,1,     -999,1,     -999,1,     -999,1,     -999,1,     -999,1,     -999,1,     -999,1,     -999,1,     -999,1,     -999,1,     -999,1
320620180309  ,P16        ,47      ,  1,30         ,30         ,2,20180406,1504, -70.4998,-149.9975,     4317,    141.5,0.3708277777777777562,34.414555285542860,2,  34.4364,2,239.49791778884810,3, 235.1014,3,    229.0,2,     73.9,2,    32.51,2,     0.02,2,     2.25,2,     -999,9,     -999,9,     -999,9,   2241.0,2,  2326.48,2,   7.5649,2,    24.95,     -999,9,     -999,9,   0.3708,2,     -999,9,     -999,9,     -999,     -999,9,     -999,9,     -999,9,     -999,9,    0.073,1,    4.657,1,    0.142,1,     -999,9,     -999,9,20180406,1715, -70.5000,-149.9995,     -999,9,     -999,9,-999          ,9,     -999,9,     -999,9,     -999,     -999,9,     -999,     -999,9,     -999,9,     -999,9,     -999,9,     -999,9,     -999,9,     -999,9,     -999,9,     -999,9,     -999,9,     -999,9,     -999,9,     -999,9,     -999,9
320620180309  ,P16        ,47      ,  1,29         ,29         ,2,20180406,1504, -70.4998,-149.9975,     4317,    184.9,1.4659111111111107206,34.631058160931886,2,  34.6287,2,191.45026506550050,2, 194.8979,3,    190.1,2,     84.3,2,    33.36,2,     0.02,2,     2.28,2,     -999,9,     -999,9,     -999,9,   2255.7,2,  2340.43,2,   7.5552,2,    24.94,     -999,9,     -999,1,   1.4590,2,     -999,9,     -999,9,     -999,     -999,9,     -999,9,     -999,9,     -999,1,    0.068,1,    4.659,1,    0.145,1,     -999,9,     -999,1,20180406,1713, -70.5000,-149.9997,     -999,1,     -999,1,-999          ,9,     -999,1,     -999,9,     -999,     -999,9,     -999,     -999,9,     -999,1,     -999,1,     -999,1,     -999,1,     -999,1,     -999,1,     -999,1,     -999,1,     -999,1,     -999,1,     -999,1,     -999,1,     -999,1
320620180309  ,P16        ,47      ,  1,28         ,28         ,2,20180406,1504, -70.4998,-149.9975,     4317,    237.0,1.6790833333333334831,34.694633639980957,2,  34.6917,2,184.44980528363530,2, 185.7968,2,    183.0,2,     88.4,2,    32.79,2,     0.00,2,     2.25,2,    0.513,2,    0.272,2,   0.3500,2,   2259.0,6,  2346.64,2,   7.5658,2,    24.95,     -999,9,     -999,9,   1.6782,2,     -999,9,     -999,9,     -999,     -999,9,     -999,9,     -999,9,     -999,9,    0.065,1,    4.661,1,    0.138,1,  23.1300,2,     -999,9,20180406,1710, -70.5000,-149.9999,     -999,9,     -999,9,-999          ,9,     -999,9,     -999,9,     -999,     -999,9,     -999,     -999,9,     -999,1,     -999,1,     -999,1,     -999,1,     -999,1,     -999,1,     -999,1,     -999,1,     -999,1,     -999,1,     -999,1,     -999,1,     -999,1
320620180309  ,P16        ,47      ,  1,27         ,27         ,2,20180406,1504, -70.4998,-149.9975,     4317,    287.2,1.6512499999999998845,34.709698626997195,2,  34.7084,2,185.69580070141140,2, 185.5005,2,    185.3,2,     90.9,2,    32.51,2,     0.00,2,     2.21,2,     -999,9,     -999,9,     -999,9,     -999,9,     -999,9,     -999,9,     -999,     -999,9,     -999,1,   1.6463,2,     -999,9,     -999,9,     -999,     -999,9,     -999,9,     -999,9,     -999,1,    0.064,1,    4.664,1,    0.136,1,     -999,9,     -999,1,20180406,1708, -70.5000,-150.0003,     -999,1,     -999,1,-999          ,9,     -999,1,     -999,9,     -999,     -999,9,     -999,     -999,9,     -999,1,     -999,1,     -999,1,     -999,1,     -999,1,     -999,1,     -999,1,     -999,1,     -999,1,     -999,1,     -999,1,     -999,1,     -999,1
320620180309  ,P16        ,47      ,  1,26         ,26         ,2,20180406,1504, -70.4998,-149.9975,     4317,    337.5,1.6327444444444441096,34.722328421045233,2,  34.7208,2,185.92070400717651,2, 185.9990,2,    186.2,2,     93.2,2,    32.27,2,     0.00,2,     2.21,2,     -999,9,     -999,9,     -999,9,   2257.4,2,  2351.27,2,   7.5782,2,    24.96,     -999,9,     -999,9,   1.6311,2,     -999,9,     -999,9,     -999,     -999,9,     -999,9,     -999,9,     -999,9,    0.062,1,    4.667,1,    0.134,1,     -999,9,     -999,9,20180406,1705, -70.5000,-150.0006,     -999,9,     -999,9,-999          ,9,     -999,9,     -999,9,     -999,     -999,9,     -999,     -999,9,     -999,9,     -999,9,     -999,9,     -999,9,     -999,9,     -999,9,     -999,9,     -999,9,     -999,9,     -999,9,     -999,9,     -999,9,     -999,9
320620180309  ,P16        ,47      ,  1,25         ,25         ,2,20180406,1504, -70.4998,-149.9975,     4317,    389.5,1.5750666666666663929,34.725014063016360,2,  34.7237,2,186.57449929392362,2, 186.6979,2,    185.5,2,     95.5,2,    32.36,2,     0.00,2,     2.21,2,     -999,9,     -999,9,     -999,9,     -999,9,     -999,9,     -999,9,     -999,     -999,9,     -999,1,   1.5747,2,     -999,9,     -999,9,     -999,     -999,9,     -999,9,     -999,9,     -999,1,    0.062,1,    4.668,1,    0.132,1,     -999,9,     -999,1,20180406,1703, -70.5000,-150.0005,     -999,1,     -999,1,-999          ,9,     -999,1,     -999,9,     -999,     -999,9,     -999,     -999,9,     -999,1,     -999,1,     -999,1,     -999,1,     -999,1,     -999,1,     -999,1,     -999,1,     -999,1,     -999,1,     -999,1,     -999,1,     -999,1
320620180309  ,P16        ,47      ,  1,24         ,24         ,2,20180406,1504, -70.4998,-149.9975,     4317,    440.0,1.5214861111111110947,34.728519118997404,2,  34.7272,2,186.57928183028579,2, 187.2034,2,    184.8,2,     98.3,2,    32.43,2,     0.00,2,     2.21,2,    0.240,2,    0.134,2,   0.0400,2,   2260.2,2,  2353.65,2,   7.5778,2,    24.96,     -999,9,     -999,9,   1.5205,2,     -999,9,     -999,9,     -999,     -999,9,     -999,9,     -999,9,     -999,9,    0.063,1,    4.667,1,    0.131,1,  22.3100,2,     -999,9,20180406,1701, -70.5000,-150.0005,     -999,9,     -999,9,-999          ,9,     -999,9,     -999,9,     -999,     -999,9,     -999,     -999,9,     -999,9,     -999,9,     -999,9,     -999,9,     -999,9,     -999,9,     -999,9,     -999,9,     -999,9,     -999,9,     -999,9,     -999,9,     -999,9
320620180309  ,P16        ,47      ,  1,23         ,23         ,2,20180406,1504, -70.4998,-149.9975,     4317,    490.3,1.4793027777777778553,34.730178756498077,2,  34.7298,2,186.90757564941441,2, 188.1002,2,    185.7,2,     99.8,2,    32.39,2,     0.00,2,     2.22,2,     -999,9,     -999,9,     -999,9,     -999,9,     -999,9,     -999,9,     -999,     -999,9,     -999,1,   1.4782,2,     -999,9,     -999,9,     -999,     -999,9,     -999,9,     -999,9,     -999,1,    0.062,1,    4.668,1,    0.131,1,     -999,9,     -999,1,20180406,1658, -70.5000,-150.0003,     -999,1,     -999,1,-999          ,9,     -999,1,     -999,9,     -999,     -999,9,     -999,     -999,9,     -999,1,     -999,1,     -999,1,     -999,1,     -999,1,     -999,1,     -999,1,     -999,1,     -999,1,     -999,1,     -999,1,     -999,1,     -999,1
320620180309  ,P16        ,47      ,  1,22         ,37         ,2,20180406,1504, -70.4998,-149.9975,     4317,    571.1,1.4028027777777780649,34.730996560847515,2,  34.7302,2,186.85266542265279,2, 189.1027,2,    186.6,2,    103.0,2,    32.48,2,     0.00,2,     2.23,2,     -999,9,     -999,9,     -999,9,   2262.1,2,  2356.12,2,   7.5787,2,    24.96,     -999,9,     -999,9,   1.4018,2,     -999,9,     -999,9,     -999,     -999,9,     -999,9,     -999,9,     -999,9,    0.062,1,    4.668,1,    0.130,1,     -999,9,     -999,9,20180406,1655, -70.5000,-150.0000,     -999,9,     -999,9,-999          ,9,     -999,9,     -999,9,     -999,     -999,9,     -999,     -999,9,     -999,9,     -999,9,     -999,9,     -999,9,     -999,9,     -999,9,     -999,9,     -999,9,     -999,9,     -999,9,     -999,9,     -999,9,     -999,9
320620180309  ,P16        ,47      ,  1,21         ,21         ,2,20180406,1504, -70.4998,-149.9975,     4317,    671.7,1.3151833333333331488,34.729974583243205,2,  34.7298,2,188.30635037087075,2, 190.5016,2,    188.8,2,    105.9,2,    32.52,2,     0.00,2,     2.22,2,    0.160,2,    0.081,2,   0.0800,2,   2264.5,2,  2357.20,2,   7.5808,2,    24.96,     -999,9,     -999,1,   1.3162,2,     -999,9,     -999,9,     -999,     -999,9,     -999,9,     -999,9,     -999,1,    0.061,1,    4.668,1,    0.131,1,  20.9900,2,     -999,1,20180406,1652, -70.5000,-150.0002,     -999,1,     -999,1,-999          ,9,     -999,1,     -999,9,     -999,     -999,9,     -999,     -999,9,     -999,1,     -999,1,     -999,1,     -999,1,     -999,1,     -999,1,     -999,1,     -999,1,     -999,1,     -999,1,     -999,1,     -999,1,     -999,1
320620180309  ,P16        ,47      ,  1,20         ,20         ,2,20180406,1504, -70.4998,-149.9975,     4317,    773.2,1.2417083333333334139,34.728271098334794,2,  34.7280,2,189.36522401692042,2, 191.5950,2,    189.5,2,    108.2,2,    32.49,2,     0.00,2,     2.20,2,     -999,9,     -999,9,     -999,9,     -999,9,     -999,9,     -999,9,     -999,     -999,9,     -999,9,   1.2411,2,     -999,9,     -999,9,     -999,     -999,9,     -999,9,     -999,9,     -999,9,    0.061,1,    4.667,1,    0.129,1,     -999,9,     -999,9,20180406,1648, -70.5000,-150.0001,     -999,9,     -999,9,-999          ,9,     -999,9,     -999,9,     -999,     -999,9,     -999,     -999,9,     -999,9,     -999,9,     -999,9,     -999,9,     -999,9,     -999,9,     -999,9,     -999,9,     -999,9,     -999,9,     -999,9,     -999,9,     -999,9
320620180309  ,P16        ,47      ,  1,19         ,19         ,2,20180406,1504, -70.4998,-149.9975,     4317,    874.4,1.1836111111111111693,34.726282775296561,2,  34.7261,2,191.94362132778019,2, 192.9987,2,    193.2,2,    109.8,2,    32.38,2,     0.00,2,     2.19,2,     -999,9,     -999,9,     -999,9,   2261.7,2,  2359.99,2,   7.5925,2,    24.95,     -999,9,     -999,9,   1.1823,2,     -999,9,     -999,9,     -999,     -999,9,     -999,9,     -999,9,     -999,9,    0.061,1,    4.667,1,    0.130,1,     -999,9,     -999,9,20180406,1645, -70.5000,-150.0003,     -999,9,     -999,9,-999          ,9,     -999,9,     -999,9,     -999,     -999,9,     -999,     -999,9,     -999,1,     -999,1,     -999,1,     -999,1,     -999,1,     -999,1,     -999,1,     -999,1,     -999,1,     -999,1,     -999,1,     -999,1,     -999,1
320620180309  ,P16        ,47      ,  1,18         ,18         ,2,20180406,1504, -70.4998,-149.9975,     4317,    976.4,1.1200527777777775640,34.724003592994592,2,  34.7241,2,195.31410980677592,2, 194.1042,2,    194.8,2,    111.8,2,    32.33,2,     0.00,2,     2.22,2,     -999,9,     -999,9,     -999,9,     -999,9,     -999,9,     -999,9,     -999,     -999,9,     -999,1,   1.1193,2,     -999,9,     -999,9,     -999,     -999,9,     -999,9,     -999,9,     -999,1,    0.061,1,    4.669,1,    0.129,1,     -999,9,     -999,1,20180406,1642, -70.5000,-150.0003,     -999,1,     -999,1,-999          ,9,     -999,1,     -999,9,     -999,     -999,9,     -999,     -999,9,     -999,9,     -999,9,     -999,9,     -999,9,     -999,9,     -999,9,     -999,9,     -999,9,     -999,9,     -999,9,     -999,9,     -999,9,     -999,9
320620180309  ,P16        ,47      ,  1,17         ,17         ,2,20180406,1504, -70.4998,-149.9975,     4317,   1077.5,1.0510944444444443313,34.721492811916356,2,  34.7204,2,196.83871559092836,2, 196.1002,2,    196.4,2,    114.2,2,    32.41,2,     0.00,2,     2.24,2,    0.129,2,    0.061,2,   0.0400,2,   2261.7,2,  2361.07,2,   7.5922,2,    24.96,     -999,9,     -999,9,   1.0507,2,     -999,9,     -999,9,     -999,     -999,9,     -999,9,     -999,9,     -999,9,    0.061,1,    4.669,1,    0.129,1,  20.6800,2,     -999,9,20180406,1639, -70.5000,-150.0001,     -999,9,     -999,9,-999          ,9,     -999,9,     -999,9,     -999,     -999,9,     -999,     -999,9,     -999,1,     -999,1,     -999,1,     -999,1,     -999,1,     -999,1,     -999,1,     -999,1,     -999,1,     -999,1,     -999,1,     -999,1,     -999,1
320620180309  ,P16        ,47      ,  1,16         ,16         ,2,20180406,1504, -70.4998,-149.9975,     4317,   1178.7,0.9924694444444445152,34.719022344735613,2,  34.7196,2,198.76159861283125,2, 196.9935,2,    197.8,2,    115.6,2,    32.44,2,     0.00,2,     2.23,2,     -999,9,     -999,9,     -999,9,   2264.8,2,  2361.81,2,   7.5935,2,    24.96,     -999,9,     -999,9,   0.9912,2,     -999,9,     -999,9,     -999,     -999,9,     -999,9,     -999,9,     -999,9,    0.061,1,    4.669,1,    0.128,1,     -999,9,     -999,9,20180406,1635, -70.5000,-150.0003,     -999,9,     -999,9,-999          ,9,     -999,9,     -999,9,     -999,     -999,9,     -999,     -999,9,     -999,9,     -999,9,     -999,9,     -999,9,     -999,9,     -999,9,     -999,9,     -999,9,     -999,9,     -999,9,     -999,9,     -999,9,     -999,9