BOTTLE,20240515CCHHYDRO
EXPOCODE,SECT_ID,STNNBR,CASTNO,SAMPNO,BTLNBR,BTLNBR_FLAG_W,DATE,TIME,LATITUDE,LONGITUDE,DEPTH,CTDPRS,CTDTMP,CTDSAL,CTDSAL_FLAG_W,SALNTY,SALNTY_FLAG_W,CTDOXY,CTDOXY_FLAG_W,CTDOPTOXY,CTDOPTOXY_FLAG_W,OXYGEN,OXYGEN_FLAG_W,SILCAT,SILCAT_FLAG_W,NITRAT,NITRAT_FLAG_W,NITRIT,NITRIT_FLAG_W,PHSPHT,PHSPHT_FLAG_W,CFC-11,CFC-11_FLAG_W,CFC-12,CFC-12_FLAG_W,SF6,SF6_FLAG_W,TCARBN,TCARBN_FLAG_W,ALKALI,ALKALI_FLAG_W,PH_TOT,PH_TOT_FLAG_W,PH_TMP,DOC,DOC_FLAG_W,HELIUM,HELIUM_FLAG_W,REFTMP,REFTMP_FLAG_W,DELC13,DELC13_FLAG_W,DELC14,DELC14_FLAG_W,C14ERR,POC,POC_FLAG_W,TDN,TDN_FLAG_W,TON,TON_FLAG_W,NEON,NEON_FLAG_W,CTDFLUOR,CTDFLUOR_FLAG_W,CTDXMISS,CTDXMISS_FLAG_W,CTDBETA700,CTDBETA700_FLAG_W,N2O,N2O_FLAG_W,ARGON,ARGON_FLAG_W,BTL_DATE,BTL_TIME,BTL_LAT,BTL_LON,KRYPTON,KRYPTON_FLAG_W,XENON,XENON_FLAG_W,HPLC,HPLC_FLAG_W,HE3_HE4_RATIO,HE3_HE4_RATIO_FLAG_W,Nd_143_144_D_EPSILON_BOTTLE,Nd_143_144_D_EPSILON_BOTTLE_FLAG_W,Nd_143_144_D_EPSILON_BOTTLE_ERROR,Nd_143_144_D_RATIO_BOTTLE,Nd_143_144_D_RATIO_BOTTLE_FLAG_W,Nd_143_144_D_RATIO_BOTTLE_ERROR,Nd_D_CONC,Nd_D_CONC_FLAG_W,La_D_CONC_BOTTLE,La_D_CONC_BOTTLE_FLAG_W,Ce_D_CONC_BOTTLE,Ce_D_CONC_BOTTLE_FLAG_W,Pr_D_CONC_BOTTLE,Pr_D_CONC_BOTTLE_FLAG_W,Sm_D_CONC_BOTTLE,Sm_D_CONC_BOTTLE_FLAG_W,Eu_D_CONC_BOTTLE,Eu_D_CONC_BOTTLE_FLAG_W,Gd_D_CONC_BOTTLE,Gd_D_CONC_BOTTLE_FLAG_W,Tb_D_CONC_BOTTLE,Tb_D_CONC_BOTTLE_FLAG_W,Dy_D_CONC_BOTTLE,Dy_D_CONC_BOTTLE_FLAG_W,Ho_D_CONC_BOTTLE,Ho_D_CONC_BOTTLE_FLAG_W,Er_D_CONC_BOTTLE,Er_D_CONC_BOTTLE_FLAG_W,Tm_D_CONC_BOTTLE,Tm_D_CONC_BOTTLE_FLAG_W,Yb_D_CONC_BOTTLE,Yb_D_CONC_BOTTLE_FLAG_W,Lu_D_CONC_BOTTLE,Lu_D_CONC_BOTTLE_FLAG_W
,,,,,,,,,,,METERS,DBAR,ITS-90,PSS-78,,PSS-78,,UMOL/KG,,UMOL/KG,,UMOL/KG,,UMOL/KG,,UMOL/KG,,UMOL/KG,,UMOL/KG,,PMOL/KG,,PMOL/KG,,FMOL/KG,,UMOL/KG,,UMOL/KG,,,,DEG C,UMOL/KG,,NMOL/L,,DEG C,,/MILLE,,/MILLE,,/MILLE,UG/KG,,UMOL/KG,,UMOL/KG,,NMOL/L,,VOLTS,,VOLTS,,VOLTS,,NMOL/KG,,UMOL/L,,,,,,NMOL/L,,NMOL/L,,,,,,10000,,10000,,,,PMOL/KG,,PMOL/L,,PMOL/L,,PMOL/L,,PMOL/L,,PMOL/L,,PMOL/L,,PMOL/L,,PMOL/L,,PMOL/L,,PMOL/L,,PMOL/L,,PMOL/L,,PMOL/L,
320620180309  ,S04P       ,119     ,  1,15         ,15         ,2,20180508,1635, -66.6993, -75.9907,     3162,   1250.6,1.1740559406935380249,34.723956739827685,2,  34.7249,2,197.36059774542716,2, 197.1981,2,    197.0,2,    111.1,2,    31.89,2,     0.00,2,     2.20,2,     -999,9,     -999,9,     -999,9,   2261.5,2,  2363.26,2,   7.5982,2,    24.97,     39.9,2,     -999,1,   1.1743,2,     -999,9,     -999,9,     -999,     -999,9,     -999,9,     -999,1,     -999,1,    0.060,1,    4.649,1,    0.129,1,     -999,9,     -999,1,20180508,1733, -66.6990, -75.9919,     -999,1,     -999,1,-999          ,9,     -999,1,     -999,9,     -999,     -999,9,     -999,     -999,9,     -999,9,     -999,9,     -999,9,     -999,9,     -999,9,     -999,9,     -999,9,     -999,9,     -999,9,     -999,9,     -999,9,     -999,9,     -999,9
320620180309  ,S04P       ,119     ,  1,14         ,14         ,2,20180508,1635, -66.6993, -75.9907,     3162,   1352.0,1.1052499979513386030,34.721617578494865,2,  34.7223,2,198.25439412888372,2, 198.5035,2,    198.5,2,    113.2,2,    31.98,2,     0.00,2,     2.19,2,    0.110,2,    0.062,2,   0.0200,2,     -999,9,     -999,9,     -999,9,     -999,     39.4,2,     -999,9,   1.1060,2,     -999,9,     -999,9,     -999,     -999,9,     -999,9,     -999,1,     -999,9,    0.061,1,    4.648,1,    0.128,1,  18.9900,2,     -999,9,20180508,1730, -66.6990, -75.9926,     -999,9,     -999,9,-999          ,9,     -999,9,     -999,9,     -999,     -999,9,     -999,     -999,9,     -999,1,     -999,1,     -999,1,     -999,1,     -999,1,     -999,1,     -999,1,     -999,1,     -999,1,     -999,1,     -999,1,     -999,1,     -999,1
320620180309  ,S04P       ,119     ,  1,13         ,13         ,2,20180508,1635, -66.6993, -75.9907,     3162,   1452.2,1.0472683464617518201,34.719509872229438,2,  34.7206,2,199.32844887425102,2, 199.5983,2,    199.3,2,    115.1,2,    32.00,2,     0.00,2,     2.21,2,    0.116,2,    0.058,2,   0.0000,2,   2260.1,2,  2361.89,2,   7.5992,2,    24.98,     39.9,2,     -999,9,   1.0474,2,     -999,9,     -999,9,     -999,     -999,9,     -999,9,     -999,1,     -999,9,    0.061,1,    4.648,1,    0.129,1,  18.3700,2,     -999,9,20180508,1727, -66.6989, -75.9930,     -999,9,     -999,9,-999          ,9,     -999,9,     -999,9,     -999,     -999,9,     -999,     -999,9,     -999,9,     -999,9,     -999,9,     -999,9,     -999,9,     -999,9,     -999,9,     -999,9,     -999,9,     -999,9,     -999,9,     -999,9,     -999,9
320620180309  ,S04P       ,119     ,  1,12         ,12         ,2,20180508,1635, -66.6993, -75.9907,     3162,   1555.4,0.9927948295371116227,34.717526676252234,2,  34.7182,2,200.69094007318074,2, 200.7940,2,    200.9,2,    116.8,2,    32.07,2,     0.00,2,     2.20,2,     -999,9,     -999,9,     -999,9,     -999,9,     -999,9,     -999,9,     -999,     39.5,2,     -999,1,   0.9929,2,     -999,9,     -999,9,     -999,     -999,9,     -999,9,     -999,1,     -999,1,    0.061,1,    4.648,1,    0.129,1,     -999,9,     -999,1,20180508,1723, -66.6989, -75.9931,     -999,1,     -999,1,-999          ,9,     -999,1,     -999,9,     -999,     -999,9,     -999,     -999,9,     -999,1,     -999,1,     -999,1,     -999,1,     -999,1,     -999,1,     -999,1,     -999,1,     -999,1,     -999,1,     -999,1,     -999,1,     -999,1
320620180309  ,S04P       ,119     ,  1,11         ,11         ,2,20180508,1635, -66.6993, -75.9907,     3162,   1658.1,0.9409123500031442155,34.715674139650091,2,  34.7170,2,201.83745095679740,2, 201.8960,2,    201.7,2,    118.3,2,    32.10,2,     0.00,2,     2.21,2,    0.123,2,    0.073,2,   0.0200,2,   2260.9,2,  2364.66,2,   7.5988,2,    24.98,     38.7,2,     -999,9,   0.9413,2,     -999,9,     -999,9,     -999,     -999,9,     -999,9,     -999,1,     -999,9,    0.061,1,    4.648,1,    0.128,1,  18.8100,2,     -999,9,20180508,1719, -66.6990, -75.9927,     -999,9,     -999,9,-999          ,9,     -999,9,     -999,9,     -999,     -999,9,     -999,     -999,9,     -999,9,     -999,9,     -999,9,     -999,9,     -999,9,     -999,9,     -999,9,     -999,9,     -999,9,     -999,9,     -999,9,     -999,9,     -999,9
320620180309  ,S04P       ,119     ,  1,10         ,10         ,2,20180508,1635, -66.6993, -75.9907,     3162,   1758.9,0.8791874283099945231,34.713377725919472,2,  34.7147,2,202.93197315197705,2, 202.9980,2,    202.9,2,    120.7,2,    32.19,2,     0.00,2,     2.21,2,    0.128,2,    0.067,2,   0.0800,2,     -999,9,     -999,9,     -999,9,     -999,     41.2,2,     -999,9,   0.8794,2,     -999,9,     -999,9,     -999,     -999,9,     -999,9,     -999,1,     -999,9,    0.061,1,    4.648,1,    0.129,1,  19.8200,2,     -999,9,20180508,1716, -66.6990, -75.9923,     -999,9,     -999,9,-999          ,9,     -999,9,     -999,9,     -999,     -999,9,     -999,     -999,9,     -999,1,     -999,1,     -999,1,     -999,1,     -999,1,     -999,1,     -999,1,     -999,1,     -999,1,     -999,1,     -999,1,     -999,1,     -999,1
320620180309  ,S04P       ,119     ,  1,9          ,9          ,2,20180508,1635, -66.6993, -75.9907,     3162,   1892.3,0.8151430352666695356,34.711022345834330,2,  34.7123,2,204.32253045134959,2, 204.2979,2,    204.3,2,    123.2,2,    32.31,2,     0.00,2,     2.22,2,     -999,9,     -999,9,     -999,9,   2261.2,2,  2361.89,2,   7.5979,2,    24.96,     38.9,2,     -999,1,   0.8143,2,     -999,9,     -999,9,     -999,     -999,9,     -999,9,     -999,1,     -999,1,    0.061,1,    4.648,1,    0.128,1,     -999,9,     -999,1,20180508,1712, -66.6991, -75.9919,     -999,1,     -999,1,-999          ,9,     -999,1,     -999,9,     -999,     -999,9,     -999,     -999,9,     -999,9,     -999,9,     -999,9,     -999,9,     -999,9,     -999,9,     -999,9,     -999,9,     -999,9,     -999,9,     -999,9,     -999,9,     -999,9
320620180309  ,S04P       ,119     ,  1,8          ,8          ,2,20180508,1635, -66.6993, -75.9907,     3162,   2096.9,0.7111042094018636961,34.707773008995261,2,  34.7090,2,205.48366912179972,2, 206.2008,2,    206.0,2,    126.3,2,    32.43,2,     0.00,2,     2.23,2,    0.155,2,    0.084,2,   0.0000,2,     -999,9,     -999,9,     -999,9,     -999,     41.1,2,     -999,9,   0.7112,2,     -999,9,     -999,9,     -999,     -999,9,     -999,9,     -999,1,     -999,9,    0.061,1,    4.646,1,    0.127,1,  18.3400,2,     -999,9,20180508,1707, -66.6991, -75.9918,     -999,9,     -999,9,-999          ,9,     -999,9,     -999,9,     -999,     -999,9,     -999,     -999,9,     -999,1,     -999,1,     -999,1,     -999,1,     -999,1,     -999,1,     -999,1,     -999,1,     -999,1,     -999,1,     -999,1,     -999,1,     -999,1
320620180309  ,S04P       ,119     ,  1,7          ,7          ,2,20180508,1635, -66.6993, -75.9907,     3162,   2334.7,0.6153656714313533449,34.705251146850344,2,  34.7064,2,208.01102100287022,2, 208.0009,2,    208.3,2,    128.8,2,    32.54,2,     0.00,2,     2.23,2,    0.170,2,    0.090,2,   0.0100,2,   2262.4,2,  2365.51,2,   7.5971,2,    24.97,     39.9,2,     -999,1,   0.6162,2,     -999,9,     -999,9,     -999,     -999,9,     -999,9,     -999,1,     -999,1,    0.061,1,    4.648,1,    0.127,1,  19.3700,2,     -999,1,20180508,1701, -66.6990, -75.9925,     -999,1,     -999,1,-999          ,9,     -999,1,     -999,9,     -999,     -999,9,     -999,     -999,9,     -999,9,     -999,9,     -999,9,     -999,9,     -999,9,     -999,9,     -999,9,     -999,9,     -999,9,     -999,9,     -999,9,     -999,9,     -999,9
320620180309  ,S04P       ,119     ,  1,6          ,6          ,2,20180508,1635, -66.6993, -75.9907,     3162,   2488.0,0.5557184602870131052,34.704007960998517,2,  34.7051,2,209.08242706887987,2, 208.9989,2,    208.9,2,    130.9,2,    32.61,2,     0.00,2,     2.23,2,     -999,9,     -999,9,     -999,9,     -999,9,     -999,9,     -999,9,     -999,     38.7,2,     -999,9,   0.5558,2,     -999,9,     -999,9,     -999,     -999,9,     -999,9,     -999,1,     -999,9,    0.061,1,    4.647,1,    0.130,1,     -999,9,     -999,9,20180508,1656, -66.6990, -75.9927,     -999,9,     -999,9,-999          ,9,     -999,9,     -999,9,     -999,     -999,9,     -999,     -999,9,     -999,1,     -999,1,     -999,1,     -999,1,     -999,1,     -999,1,     -999,1,     -999,1,     -999,1,     -999,1,     -999,1,     -999,1,     -999,1
320620180309  ,S04P       ,119     ,  1,5          ,5          ,2,20180508,1635, -66.6993, -75.9907,     3162,   2615.1,0.5170294944872194653,34.703149198670232,2,  34.7041,2,209.88298764663449,2, 209.6975,2,    209.8,2,    132.3,2,    32.65,2,     0.00,2,     2.23,2,    0.183,2,    0.100,2,   0.0000,2,   2262.6,2,  2365.44,2,   7.5965,2,    24.97,     39.8,2,     -999,1,   0.5172,2,     -999,9,     -999,9,     -999,     -999,9,     -999,9,     -999,1,     -999,1,    0.061,1,    4.647,1,    0.129,1,  18.4300,2,     -999,1,20180508,1652, -66.6990, -75.9924,     -999,1,     -999,1,-999          ,9,     -999,1,     -999,9,     -999,     -999,9,     -999,     -999,9,     -999,9,     -999,9,     -999,9,     -999,9,     -999,9,     -999,9,     -999,9,     -999,9,     -999,9,     -999,9,     -999,9,     -999,9,     -999,9
320620180309  ,S04P       ,119     ,  1,4          ,4          ,2,20180508,1635, -66.6993, -75.9907,     3162,   2707.4,0.4930627086534480341,34.702371024674044,2,  34.7031,2,210.41731174681539,2, 210.0029,2,    210.2,2,    133.9,2,    32.70,2,     0.00,2,     2.23,2,    0.188,2,    0.099,2,   0.0200,2,   2263.6,2,  2366.21,2,   7.5962,2,    24.98,     39.9,2,     -999,9,   0.4932,2,     -999,9,     -999,9,     -999,     -999,9,     -999,9,     -999,1,     -999,9,    0.061,1,    4.646,1,    0.130,1,  19.0400,2,     -999,9,20180508,1649, -66.6990, -75.9919,     -999,9,     -999,9,-999          ,9,     -999,9,     -999,9,     -999,     -999,9,     -999,     -999,9,     -999,1,     -999,1,     -999,1,     -999,1,     -999,1,     -999,1,     -999,1,     -999,1,     -999,1,     -999,1,     -999,1,     -999,1,     -999,1
320620180309  ,S04P       ,119     ,  1,3          ,3          ,2,20180508,1635, -66.6993, -75.9907,     3162,   2911.9,0.4583592166725323769,34.700590517182583,2,  34.7007,2,211.33615777397188,2, 210.3975,2,    211.0,2,    136.1,2,    32.78,2,     0.00,2,     2.23,2,    0.219,2,    0.117,2,   0.0500,2,   2263.4,2,  2366.45,2,   7.5970,2,    24.98,     41.0,2,     -999,1,   0.4585,2,     -999,9,     -999,9,     -999,     -999,9,     -999,9,     -999,1,     -999,1,    0.061,1,    4.643,1,    0.134,1,  18.4000,2,     -999,1,20180508,1644, -66.6992, -75.9915,     -999,1,     -999,1,-999          ,9,     -999,1,     -999,9,     -999,     -999,9,     -999,     -999,9,     -999,1,     -999,1,     -999,1,     -999,1,     -999,1,     -999,1,     -999,1,     -999,1,     -999,1,     -999,1,     -999,1,     -999,1,     -999,1
320620180309  ,S04P       ,119     ,  1,2          ,2          ,2,20180508,1635, -66.6993, -75.9907,     3162,   3102.0,0.4443751685882739166,34.700295586181980,2,  34.7015,2,211.47770620156314,2, 210.7989,2,    210.6,2,    138.2,2,    32.86,2,     0.00,2,     2.24,2,    0.227,2,    0.125,2,  -0.0100,2,   2265.0,2,  2366.13,2,   7.5960,6,    24.97,     41.3,2,     -999,9,   0.4449,2,     -999,9,     -999,9,     -999,     -999,9,     -999,9,     -999,1,     -999,9,    0.061,1,    4.637,1,    0.144,1,  18.3600,2,     -999,9,20180508,1639, -66.6992, -75.9911,     -999,9,     -999,9,-999          ,9,     -999,9,     -999,9,     -999,     -999,9,     -999,     -999,9,     -999,1,     -999,1,     -999,1,     -999,1,     -999,1,     -999,1,     -999,1,     -999,1,     -999,1,     -999,1,     -999,1,     -999,1,     -999,1
320620180309  ,S04P       ,119     ,  1,1          ,1          ,2,20180508,1635, -66.6993, -75.9907,     3162,   3209.0,0.4438647002972025968,34.701009199273500,2,  34.7023,2,211.03385647739191,2, 210.8995,2,    210.6,2,    139.8,2,    32.90,2,     0.00,2,     2.24,2,    0.214,2,    0.116,2,   0.0800,2,   2265.2,6,  2367.33,2,   7.5953,2,    24.97,     39.9,2,     -999,1,   0.4441,2,     -999,9,     -999,9,     -999,     -999,9,     -999,9,     -999,1,     -999,1,    0.061,1,    4.635,1,    0.147,1,  19.0900,2,     -999,1,20180508,1635, -66.6993, -75.9907,     -999,1,     -999,1,-999          ,9,     -999,1,     -999,9,     -999,     -999,9,     -999,     -999,9,     -999,1,     -999,1,     -999,1,     -999,1,     -999,1,     -999,1,     -999,1,     -999,1,     -999,1,     -999,1,     -999,1,     -999,1,     -999,1