BOTTLE,20240515CCHHYDRO
EXPOCODE,SECT_ID,STNNBR,CASTNO,SAMPNO,BTLNBR,BTLNBR_FLAG_W,DATE,TIME,LATITUDE,LONGITUDE,DEPTH,CTDPRS,CTDTMP,CTDSAL,CTDSAL_FLAG_W,SALNTY,SALNTY_FLAG_W,CTDOXY,CTDOXY_FLAG_W,CTDOPTOXY,CTDOPTOXY_FLAG_W,OXYGEN,OXYGEN_FLAG_W,SILCAT,SILCAT_FLAG_W,NITRAT,NITRAT_FLAG_W,NITRIT,NITRIT_FLAG_W,PHSPHT,PHSPHT_FLAG_W,CFC-11,CFC-11_FLAG_W,CFC-12,CFC-12_FLAG_W,SF6,SF6_FLAG_W,TCARBN,TCARBN_FLAG_W,ALKALI,ALKALI_FLAG_W,PH_TOT,PH_TOT_FLAG_W,PH_TMP,DOC,DOC_FLAG_W,HELIUM,HELIUM_FLAG_W,REFTMP,REFTMP_FLAG_W,DELC13,DELC13_FLAG_W,DELC14,DELC14_FLAG_W,C14ERR,POC,POC_FLAG_W,TDN,TDN_FLAG_W,TON,TON_FLAG_W,NEON,NEON_FLAG_W,CTDFLUOR,CTDFLUOR_FLAG_W,CTDXMISS,CTDXMISS_FLAG_W,CTDBETA700,CTDBETA700_FLAG_W,N2O,N2O_FLAG_W,ARGON,ARGON_FLAG_W,BTL_DATE,BTL_TIME,BTL_LAT,BTL_LON,KRYPTON,KRYPTON_FLAG_W,XENON,XENON_FLAG_W,HPLC,HPLC_FLAG_W,HE3_HE4_RATIO,HE3_HE4_RATIO_FLAG_W,Nd_143_144_D_EPSILON_BOTTLE,Nd_143_144_D_EPSILON_BOTTLE_FLAG_W,Nd_143_144_D_EPSILON_BOTTLE_ERROR,Nd_143_144_D_RATIO_BOTTLE,Nd_143_144_D_RATIO_BOTTLE_FLAG_W,Nd_143_144_D_RATIO_BOTTLE_ERROR,Nd_D_CONC,Nd_D_CONC_FLAG_W,La_D_CONC_BOTTLE,La_D_CONC_BOTTLE_FLAG_W,Ce_D_CONC_BOTTLE,Ce_D_CONC_BOTTLE_FLAG_W,Pr_D_CONC_BOTTLE,Pr_D_CONC_BOTTLE_FLAG_W,Sm_D_CONC_BOTTLE,Sm_D_CONC_BOTTLE_FLAG_W,Eu_D_CONC_BOTTLE,Eu_D_CONC_BOTTLE_FLAG_W,Gd_D_CONC_BOTTLE,Gd_D_CONC_BOTTLE_FLAG_W,Tb_D_CONC_BOTTLE,Tb_D_CONC_BOTTLE_FLAG_W,Dy_D_CONC_BOTTLE,Dy_D_CONC_BOTTLE_FLAG_W,Ho_D_CONC_BOTTLE,Ho_D_CONC_BOTTLE_FLAG_W,Er_D_CONC_BOTTLE,Er_D_CONC_BOTTLE_FLAG_W,Tm_D_CONC_BOTTLE,Tm_D_CONC_BOTTLE_FLAG_W,Yb_D_CONC_BOTTLE,Yb_D_CONC_BOTTLE_FLAG_W,Lu_D_CONC_BOTTLE,Lu_D_CONC_BOTTLE_FLAG_W
,,,,,,,,,,,METERS,DBAR,ITS-90,PSS-78,,PSS-78,,UMOL/KG,,UMOL/KG,,UMOL/KG,,UMOL/KG,,UMOL/KG,,UMOL/KG,,UMOL/KG,,PMOL/KG,,PMOL/KG,,FMOL/KG,,UMOL/KG,,UMOL/KG,,,,DEG C,UMOL/KG,,NMOL/L,,DEG C,,/MILLE,,/MILLE,,/MILLE,UG/KG,,UMOL/KG,,UMOL/KG,,NMOL/L,,VOLTS,,VOLTS,,VOLTS,,NMOL/KG,,UMOL/L,,,,,,NMOL/L,,NMOL/L,,,,,,10000,,10000,,,,PMOL/KG,,PMOL/L,,PMOL/L,,PMOL/L,,PMOL/L,,PMOL/L,,PMOL/L,,PMOL/L,,PMOL/L,,PMOL/L,,PMOL/L,,PMOL/L,,PMOL/L,,PMOL/L,
320620180309  ,S04P       ,117     ,  1,15         ,15         ,2,20180507,2048, -66.9010, -80.9747,     4188,   1279.5,1.6223570666358040349,34.731104315981732,2,  34.7321,2,192.39171090758123,2, 190.2014,2,    191.5,2,     96.6,2,    31.72,2,     0.00,2,     2.19,2,     -999,9,     -999,9,     -999,9,   2254.1,3,  2359.69,2,   7.5958,2,    25.00,     38.8,2,     -999,1,   1.6227,2,     -999,9,     -999,9,     -999,     -999,9,     -999,9,     -999,1,     -999,1,    0.061,1,    4.647,1,    0.129,1,     -999,9,     -999,1,20180507,2202, -66.9023, -80.9724,     -999,1,     -999,1,-999          ,9,     -999,1,     -999,9,     -999,     -999,9,     -999,     -999,9,     -999,1,     -999,1,     -999,1,     -999,1,     -999,1,     -999,1,     -999,1,     -999,1,     -999,1,     -999,1,     -999,1,     -999,1,     -999,1
320620180309  ,S04P       ,117     ,  1,14         ,14         ,2,20180507,2048, -66.9010, -80.9747,     4188,   1384.4,1.5348986364500152302,34.730375551042663,2,  34.7314,2,193.62482434209343,2, 192.0100,2,    192.4,2,     99.9,2,    31.80,2,     0.00,2,     2.20,2,    0.148,2,    0.081,2,   0.0100,2,   2257.3,2,  2359.29,2,   7.5968,2,    24.97,     38.1,2,     -999,9,   1.5367,2,     -999,9,     -999,9,     -999,     -999,9,     -999,9,     -999,1,     -999,9,    0.061,1,    4.648,1,    0.128,1,  20.0500,2,     -999,9,20180507,2158, -66.9023, -80.9724,     -999,9,     -999,9,-999          ,9,     -999,9,     -999,9,     -999,     -999,9,     -999,     -999,9,     -999,9,     -999,9,     -999,9,     -999,9,     -999,9,     -999,9,     -999,9,     -999,9,     -999,9,     -999,9,     -999,9,     -999,9,     -999,9
320620180309  ,S04P       ,117     ,  1,13         ,13         ,2,20180507,2048, -66.9010, -80.9747,     4188,   1482.6,1.4503387843691939452,34.729578068223645,2,  34.7308,2,193.93586125265071,2, 193.6026,2,    193.8,2,    102.6,2,    31.84,2,     0.00,2,     2.22,2,    0.144,2,    0.071,2,   0.0000,2,   2257.9,2,  2357.06,2,   7.5955,6,    24.96,     39.7,2,     -999,9,   1.4507,2,     -999,9,     -999,9,     -999,     -999,9,     -999,9,     -999,1,     -999,9,    0.062,1,    4.648,1,    0.128,1,  19.9300,2,     -999,9,20180507,2155, -66.9024, -80.9721,     -999,9,     -999,9,-999          ,9,     -999,9,     -999,9,     -999,     -999,9,     -999,     -999,9,     -999,1,     -999,1,     -999,1,     -999,1,     -999,1,     -999,1,     -999,1,     -999,1,     -999,1,     -999,1,     -999,1,     -999,1,     -999,1
320620180309  ,S04P       ,117     ,  1,12         ,12         ,2,20180507,2048, -66.9010, -80.9747,     4188,   1585.4,1.3756678356904519234,34.727947513678295,2,  34.7290,2,194.46210980909015,2, 194.5999,2,    194.7,2,    105.0,2,    31.90,2,     0.00,2,     2.21,2,     -999,9,     -999,9,     -999,9,   2260.0,2,  2359.92,2,   7.5979,2,    24.96,     38.4,2,     -999,1,   1.3763,2,     -999,9,     -999,9,     -999,     -999,9,     -999,9,     -999,1,     -999,1,    0.061,1,    4.648,1,    0.129,1,     -999,9,     -999,1,20180507,2152, -66.9025, -80.9718,     -999,1,     -999,1,-999          ,9,     -999,1,     -999,9,     -999,     -999,9,     -999,     -999,9,     -999,9,     -999,9,     -999,9,     -999,9,     -999,9,     -999,9,     -999,9,     -999,9,     -999,9,     -999,9,     -999,9,     -999,9,     -999,9
320620180309  ,S04P       ,117     ,  1,11         ,11         ,2,20180507,2048, -66.9010, -80.9747,     4188,   1689.6,1.3217770160187949369,34.726613858644924,2,  34.7282,2,196.20868011823660,2, 195.6007,2,    195.7,2,    107.0,2,    31.97,2,     0.00,2,     2.22,2,    0.146,3,    0.114,3,   0.6800,3,   2260.0,2,  2358.43,3,   7.5991,2,    25.02,     38.8,2,     -999,9,   1.3220,2,     -999,9,     -999,9,     -999,     -999,9,     -999,9,     -999,1,     -999,9,    0.061,1,    4.648,1,    0.129,1,  19.9200,2,     -999,9,20180507,2149, -66.9025, -80.9717,     -999,9,     -999,9,-999          ,9,     -999,9,     -999,9,     -999,     -999,9,     -999,     -999,9,     -999,1,     -999,1,     -999,1,     -999,1,     -999,1,     -999,1,     -999,1,     -999,1,     -999,1,     -999,1,     -999,1,     -999,1,     -999,1
320620180309  ,S04P       ,117     ,  1,10         ,10         ,2,20180507,2048, -66.9010, -80.9747,     4188,   1775.9,1.2587281445355764653,34.724992347289977,2,  34.7263,2,196.99776420874508,2, 196.8000,2,    197.1,2,    108.6,2,    31.97,2,     0.00,2,     2.22,2,     -999,9,     -999,9,     -999,9,   2259.1,2,  2365.32,2,   7.5981,2,    24.97,     40.4,2,     -999,9,   1.2593,2,     -999,9,     -999,9,     -999,     -999,9,     -999,9,     -999,1,     -999,9,    0.060,1,    4.648,1,    0.129,1,     -999,9,     -999,9,20180507,2146, -66.9026, -80.9716,     -999,9,     -999,9,-999          ,9,     -999,9,     -999,9,     -999,     -999,9,     -999,     -999,9,     -999,9,     -999,9,     -999,9,     -999,9,     -999,9,     -999,9,     -999,9,     -999,9,     -999,9,     -999,9,     -999,9,     -999,9,     -999,9
320620180309  ,S04P       ,117     ,  1,9          ,9          ,2,20180507,2048, -66.9010, -80.9747,     4188,   1977.2,1.1383402933277466662,34.720968555377780,2,  34.7225,2,198.44155815807460,2, 199.1029,2,    199.4,2,    112.5,2,    32.07,2,     0.00,2,     2.22,2,    0.125,2,    0.080,2,   0.0600,2,   2260.4,6,  2361.16,2,   7.5979,2,    24.96,     41.5,2,     -999,1,   1.1386,2,     -999,9,     -999,9,     -999,     -999,9,     -999,9,     -999,1,     -999,1,    0.061,1,    4.648,1,    0.129,1,  19.5800,2,     -999,1,20180507,2141, -66.9024, -80.9721,     -999,1,     -999,1,-999          ,9,     -999,1,     -999,9,     -999,     -999,9,     -999,     -999,9,     -999,1,     -999,1,     -999,1,     -999,1,     -999,1,     -999,1,     -999,1,     -999,1,     -999,1,     -999,1,     -999,1,     -999,1,     -999,1
320620180309  ,S04P       ,117     ,  1,8          ,8          ,2,20180507,2048, -66.9010, -80.9747,     4188,   2197.6,1.0219768566463325321,34.716836019917437,2,  34.7186,2,200.93802901016440,2, 201.1982,2,    201.4,2,    116.2,2,    32.19,2,     0.00,2,     2.22,2,    0.128,2,    0.073,2,   0.1100,2,   2262.4,2,  2361.92,2,   7.5964,2,    24.95,     41.2,2,     -999,9,   1.0223,2,     -999,9,     -999,9,     -999,     -999,9,     -999,9,     -999,1,     -999,9,    0.061,1,    4.648,1,    0.129,1,  20.0100,2,     -999,9,20180507,2135, -66.9025, -80.9718,     -999,9,     -999,9,-999          ,9,     -999,9,     -999,9,     -999,     -999,9,     -999,     -999,9,     -999,9,     -999,9,     -999,9,     -999,9,     -999,9,     -999,9,     -999,9,     -999,9,     -999,9,     -999,9,     -999,9,     -999,9,     -999,9
320620180309  ,S04P       ,117     ,  1,7          ,7          ,2,20180507,2048, -66.9010, -80.9747,     4188,   2453.1,0.9071493757179960316,34.712359282842868,2,  34.7121,2,203.73582618075815,2, 203.7985,2,    203.4,2,    120.6,2,    32.27,2,     0.00,2,     2.22,2,     -999,9,     -999,9,     -999,9,   2261.7,2,  2362.25,2,   7.5986,2,    24.95,     39.0,2,     -999,1,   0.9074,2,     -999,9,     -999,9,     -999,     -999,9,     -999,9,     -999,1,     -999,1,    0.061,1,    4.648,1,    0.131,1,     -999,9,     -999,1,20180507,2129, -66.9025, -80.9718,     -999,1,     -999,1,-999          ,9,     -999,1,     -999,9,     -999,     -999,9,     -999,     -999,9,     -999,1,     -999,1,     -999,1,     -999,1,     -999,1,     -999,1,     -999,1,     -999,1,     -999,1,     -999,1,     -999,1,     -999,1,     -999,1
320620180309  ,S04P       ,117     ,  1,6          ,6          ,2,20180507,2048, -66.9010, -80.9747,     4188,   2769.1,0.7753049740180345539,34.707751425745194,2,  34.7090,2,205.74558959825504,2, 206.1009,2,    206.2,2,    125.4,2,    32.44,2,     0.00,2,     2.24,2,    0.161,2,    0.087,2,   0.1100,2,   2261.3,2,  2366.86,2,   7.5974,2,    24.96,     41.0,2,     -999,9,   0.7756,2,     -999,9,     -999,9,     -999,     -999,9,     -999,9,     -999,1,     -999,9,    0.061,1,    4.648,1,    0.128,1,  18.8300,2,     -999,9,20180507,2122, -66.9025, -80.9718,     -999,9,     -999,9,-999          ,9,     -999,9,     -999,9,     -999,     -999,9,     -999,     -999,9,     -999,9,     -999,9,     -999,9,     -999,9,     -999,9,     -999,9,     -999,9,     -999,9,     -999,9,     -999,9,     -999,9,     -999,9,     -999,9
320620180309  ,S04P       ,117     ,  1,5          ,5          ,2,20180507,2048, -66.9010, -80.9747,     4188,   2964.0,0.6891392808904835965,34.705437645020616,2,  34.7056,2,207.51996577249531,2, 207.9009,2,    208.8,2,    128.0,2,    32.49,2,     0.00,2,     2.24,2,    0.182,2,    0.106,2,   0.0000,2,   2262.3,2,  2365.15,2,   7.5966,2,    24.96,     39.4,2,     -999,1,   0.6902,2,     -999,9,     -999,9,     -999,     -999,9,     -999,9,     -999,1,     -999,1,    0.061,1,    4.648,1,    0.125,1,  19.6000,2,     -999,1,20180507,2117, -66.9022, -80.9725,     -999,1,     -999,1,-999          ,9,     -999,1,     -999,9,     -999,     -999,9,     -999,     -999,9,     -999,1,     -999,1,     -999,1,     -999,1,     -999,1,     -999,1,     -999,1,     -999,1,     -999,1,     -999,1,     -999,1,     -999,1,     -999,1
320620180309  ,S04P       ,117     ,  1,4          ,4          ,2,20180507,2048, -66.9010, -80.9747,     4188,   3257.9,0.5746771660600389353,34.703227830170803,2,  34.7041,2,210.24090564093109,2, 210.2015,2,    210.0,2,    131.5,2,    32.64,2,     0.00,2,     2.25,2,    0.188,2,    0.106,2,   0.0400,2,   2262.3,2,  2366.09,2,   7.5962,2,    24.96,     42.7,2,     -999,9,   0.5747,2,     -999,9,     -999,9,     -999,     -999,9,     -999,9,     -999,1,     -999,9,    0.061,1,    4.648,1,    0.125,1,  18.7700,2,     -999,9,20180507,2111, -66.9015, -80.9736,     -999,9,     -999,9,-999          ,9,     -999,9,     -999,9,     -999,     -999,9,     -999,     -999,9,     -999,9,     -999,9,     -999,9,     -999,9,     -999,9,     -999,9,     -999,9,     -999,9,     -999,9,     -999,9,     -999,9,     -999,9,     -999,9
320620180309  ,S04P       ,117     ,  1,3          ,3          ,2,20180507,2048, -66.9010, -80.9747,     4188,   3564.3,0.4920632389831033904,34.702249799070430,2,  34.7025,2,211.91197385192189,2, 211.7062,2,    211.5,2,    136.1,2,    32.72,2,     0.00,2,     2.25,2,    0.198,2,    0.104,2,   0.0600,2,   2264.7,2,  2365.13,2,   7.5962,2,    24.94,     42.4,2,     -999,1,   0.4922,2,     -999,9,     -999,9,     -999,     -999,9,     -999,9,     -999,1,     -999,1,    0.061,1,    4.647,1,    0.127,1,  18.6100,2,     -999,1,20180507,2104, -66.9012, -80.9743,     -999,1,     -999,1,-999          ,9,     -999,1,     -999,9,     -999,     -999,9,     -999,     -999,9,     -999,1,     -999,1,     -999,1,     -999,1,     -999,1,     -999,1,     -999,1,     -999,1,     -999,1,     -999,1,     -999,1,     -999,1,     -999,1
320620180309  ,S04P       ,117     ,  1,2          ,2          ,2,20180507,2048, -66.9010, -80.9747,     4188,   3872.2,0.4493858443012682669,34.701577099477127,2,  34.7025,2,212.83645052077969,2, 212.2974,2,    212.8,2,    139.7,2,    32.81,2,     0.00,2,     2.26,2,    0.223,2,    0.124,2,   0.0300,2,   2263.5,2,  2366.19,2,   7.5948,2,    24.95,     41.4,2,     -999,9,   0.4496,2,     -999,9,     -999,9,     -999,     -999,9,     -999,9,     -999,1,     -999,9,    0.061,1,    4.646,1,    0.129,1,  18.5400,2,     -999,9,20180507,2057, -66.9012, -80.9742,     -999,9,     -999,9,-999          ,9,     -999,9,     -999,9,     -999,     -999,9,     -999,     -999,9,     -999,1,     -999,1,     -999,1,     -999,1,     -999,1,     -999,1,     -999,1,     -999,1,     -999,1,     -999,1,     -999,1,     -999,1,     -999,1
320620180309  ,S04P       ,117     ,  1,1          ,1          ,2,20180507,2048, -66.9010, -80.9747,     4188,   4262.3,0.4105844557552061902,34.700033915954712,3,  34.7027,2,212.50922760387556,2, 212.3995,2,    212.3,2,    147.7,2,    33.01,2,     0.00,2,     2.27,2,    0.322,2,    0.170,2,   0.0700,2,   2267.6,6,  2367.04,2,   7.5902,2,    24.97,     38.9,2,     -999,1,   0.4109,2,     -999,9,     -999,9,     -999,     -999,9,     -999,9,     -999,1,     -999,1,    0.060,1,    4.636,1,    0.143,1,  19.5900,2,     -999,1,20180507,2048, -66.9010, -80.9747,     -999,1,     -999,1,-999          ,9,     -999,1,     -999,9,     -999,     -999,9,     -999,     -999,9,     -999,1,     -999,1,     -999,1,     -999,1,     -999,1,     -999,1,     -999,1,     -999,1,     -999,1,     -999,1,     -999,1,     -999,1,     -999,1