BOTTLE,20240515CCHHYDRO
EXPOCODE,SECT_ID,STNNBR,CASTNO,SAMPNO,BTLNBR,BTLNBR_FLAG_W,DATE,TIME,LATITUDE,LONGITUDE,DEPTH,CTDPRS,CTDTMP,CTDSAL,CTDSAL_FLAG_W,SALNTY,SALNTY_FLAG_W,CTDOXY,CTDOXY_FLAG_W,CTDOPTOXY,CTDOPTOXY_FLAG_W,OXYGEN,OXYGEN_FLAG_W,SILCAT,SILCAT_FLAG_W,NITRAT,NITRAT_FLAG_W,NITRIT,NITRIT_FLAG_W,PHSPHT,PHSPHT_FLAG_W,CFC-11,CFC-11_FLAG_W,CFC-12,CFC-12_FLAG_W,SF6,SF6_FLAG_W,TCARBN,TCARBN_FLAG_W,ALKALI,ALKALI_FLAG_W,PH_TOT,PH_TOT_FLAG_W,PH_TMP,DOC,DOC_FLAG_W,HELIUM,HELIUM_FLAG_W,REFTMP,REFTMP_FLAG_W,DELC13,DELC13_FLAG_W,DELC14,DELC14_FLAG_W,C14ERR,POC,POC_FLAG_W,TDN,TDN_FLAG_W,TON,TON_FLAG_W,NEON,NEON_FLAG_W,CTDFLUOR,CTDFLUOR_FLAG_W,CTDXMISS,CTDXMISS_FLAG_W,CTDBETA700,CTDBETA700_FLAG_W,N2O,N2O_FLAG_W,ARGON,ARGON_FLAG_W,BTL_DATE,BTL_TIME,BTL_LAT,BTL_LON,KRYPTON,KRYPTON_FLAG_W,XENON,XENON_FLAG_W,HPLC,HPLC_FLAG_W,HE3_HE4_RATIO,HE3_HE4_RATIO_FLAG_W,Nd_143_144_D_EPSILON_BOTTLE,Nd_143_144_D_EPSILON_BOTTLE_FLAG_W,Nd_143_144_D_EPSILON_BOTTLE_ERROR,Nd_143_144_D_RATIO_BOTTLE,Nd_143_144_D_RATIO_BOTTLE_FLAG_W,Nd_143_144_D_RATIO_BOTTLE_ERROR,Nd_D_CONC,Nd_D_CONC_FLAG_W,La_D_CONC_BOTTLE,La_D_CONC_BOTTLE_FLAG_W,Ce_D_CONC_BOTTLE,Ce_D_CONC_BOTTLE_FLAG_W,Pr_D_CONC_BOTTLE,Pr_D_CONC_BOTTLE_FLAG_W,Sm_D_CONC_BOTTLE,Sm_D_CONC_BOTTLE_FLAG_W,Eu_D_CONC_BOTTLE,Eu_D_CONC_BOTTLE_FLAG_W,Gd_D_CONC_BOTTLE,Gd_D_CONC_BOTTLE_FLAG_W,Tb_D_CONC_BOTTLE,Tb_D_CONC_BOTTLE_FLAG_W,Dy_D_CONC_BOTTLE,Dy_D_CONC_BOTTLE_FLAG_W,Ho_D_CONC_BOTTLE,Ho_D_CONC_BOTTLE_FLAG_W,Er_D_CONC_BOTTLE,Er_D_CONC_BOTTLE_FLAG_W,Tm_D_CONC_BOTTLE,Tm_D_CONC_BOTTLE_FLAG_W,Yb_D_CONC_BOTTLE,Yb_D_CONC_BOTTLE_FLAG_W,Lu_D_CONC_BOTTLE,Lu_D_CONC_BOTTLE_FLAG_W
,,,,,,,,,,,METERS,DBAR,ITS-90,PSS-78,,PSS-78,,UMOL/KG,,UMOL/KG,,UMOL/KG,,UMOL/KG,,UMOL/KG,,UMOL/KG,,UMOL/KG,,PMOL/KG,,PMOL/KG,,FMOL/KG,,UMOL/KG,,UMOL/KG,,,,DEG C,UMOL/KG,,NMOL/L,,DEG C,,/MILLE,,/MILLE,,/MILLE,UG/KG,,UMOL/KG,,UMOL/KG,,NMOL/L,,VOLTS,,VOLTS,,VOLTS,,NMOL/KG,,UMOL/L,,,,,,NMOL/L,,NMOL/L,,,,,,10000,,10000,,,,PMOL/KG,,PMOL/L,,PMOL/L,,PMOL/L,,PMOL/L,,PMOL/L,,PMOL/L,,PMOL/L,,PMOL/L,,PMOL/L,,PMOL/L,,PMOL/L,,PMOL/L,,PMOL/L,
320620180309  ,S04P       ,74      ,  1,15         ,15         ,2,20180419,1445, -67.0002,-140.7988,     4168,   1352.2,0.8837583333333334235,34.716062357695364,2,  34.7145,2,201.37380639007890,2, 200.1046,2,    201.4,2,    119.7,2,    32.54,2,     0.00,2,     2.21,2,     -999,9,     -999,9,     -999,9,     -999,9,     -999,9,     -999,9,     -999,     -999,9,     -999,9,   0.8831,2,     -999,9,     -999,9,     -999,     -999,9,     -999,9,     -999,9,     -999,9,    0.061,1,    4.657,1,    0.128,1,     -999,9,     -999,9,20180419,1602, -67.0003,-140.7990,     -999,9,     -999,9,-999          ,9,     -999,9,     -999,9,     -999,     -999,9,     -999,     -999,9,     -999,9,     -999,9,     -999,9,     -999,9,     -999,9,     -999,9,     -999,9,     -999,9,     -999,9,     -999,9,     -999,9,     -999,9,     -999,9
320620180309  ,S04P       ,74      ,  1,14         ,14         ,2,20180419,1445, -67.0002,-140.7988,     4168,   1454.0,0.8319500000000001894,34.713936254304492,2,  34.7119,2,202.37438894936608,2, 201.3991,2,    202.8,2,    121.6,2,    32.59,2,     0.00,2,     2.21,2,    0.137,2,    0.082,2,   0.1300,2,   2263.8,2,  2363.41,2,   7.5949,2,    24.91,     38.7,2,     -999,9,   0.8314,2,     -999,9,     -999,9,     -999,     -999,9,     -999,9,     -999,1,     -999,9,    0.061,1,    4.661,1,    0.128,1,  19.5400,2,     -999,9,20180419,1559, -67.0004,-140.7990,     -999,9,     -999,9,-999          ,9,     -999,9,     -999,9,     -999,     -999,9,     -999,     -999,9,     -999,9,     -999,9,     -999,9,     -999,9,     -999,9,     -999,9,     -999,9,     -999,9,     -999,9,     -999,9,     -999,9,     -999,9,     -999,9
320620180309  ,S04P       ,74      ,  1,13         ,13         ,2,20180419,1445, -67.0002,-140.7988,     4168,   1554.9,0.7890222222222224024,34.712030939801174,2,  34.7102,2,203.30748778376793,2, 202.6042,2,    203.8,2,    123.1,2,    32.56,2,     0.00,2,     2.22,2,     -999,9,     -999,9,     -999,9,     -999,9,     -999,9,     -999,9,     -999,     -999,9,     -999,9,   0.7886,2,     -999,9,     -999,9,     -999,     -999,9,     -999,9,     -999,9,     -999,9,    0.062,1,    4.661,1,    0.127,1,     -999,9,     -999,9,20180419,1556, -67.0003,-140.7989,     -999,9,     -999,9,-999          ,9,     -999,9,     -999,9,     -999,     -999,9,     -999,     -999,9,     -999,9,     -999,9,     -999,9,     -999,9,     -999,9,     -999,9,     -999,9,     -999,9,     -999,9,     -999,9,     -999,9,     -999,9,     -999,9
320620180309  ,S04P       ,74      ,  1,12         ,12         ,2,20180419,1445, -67.0002,-140.7988,     4168,   1688.3,0.7329444444444445095,34.709521959351285,2,  34.7080,2,204.72895731404964,3, 204.3999,2,    204.6,2,    125.4,2,    32.61,2,     0.00,2,     2.23,2,     -999,9,     -999,9,     -999,9,     -999,9,     -999,9,     -999,9,     -999,     41.8,2,     -999,9,   0.7323,2,     -999,9,     -999,9,     -999,     -999,9,     -999,9,     -999,1,     -999,9,    0.061,1,    4.660,1,    0.127,1,     -999,9,     -999,9,20180419,1552, -67.0000,-140.7989,     -999,9,     -999,9,-999          ,9,     -999,9,     -999,9,     -999,     -999,9,     -999,     -999,9,     -999,9,     -999,9,     -999,9,     -999,9,     -999,9,     -999,9,     -999,9,     -999,9,     -999,9,     -999,9,     -999,9,     -999,9,     -999,9
320620180309  ,S04P       ,74      ,  1,11         ,11         ,2,20180419,1445, -67.0002,-140.7988,     4168,   1891.5,0.6685222222222220179,34.707097980924246,2,  34.7062,2,206.34072841898811,2, 206.2013,2,    206.6,2,    127.1,2,    32.68,2,     0.00,2,     2.24,2,    0.179,2,    0.105,2,   0.1200,2,   2266.0,2,  2363.78,2,   7.5954,2,    24.90,     42.5,2,     -999,9,   0.6678,2,     -999,9,     -999,9,     -999,     -999,9,     -999,9,     -999,1,     -999,9,    0.061,1,    4.660,1,    0.127,1,  19.3300,2,     -999,9,20180419,1547, -67.0000,-140.7989,     -999,9,     -999,9,-999          ,9,     -999,9,     -999,9,     -999,     -999,9,     -999,     -999,9,     -999,9,     -999,9,     -999,9,     -999,9,     -999,9,     -999,9,     -999,9,     -999,9,     -999,9,     -999,9,     -999,9,     -999,9,     -999,9
320620180309  ,S04P       ,74      ,  1,10         ,10         ,2,20180419,1445, -67.0002,-140.7988,     4168,   2116.2,0.5995277777777777706,34.705295183084104,2,  34.7035,2,207.19246637208099,3, 208.2982,2,    207.1,2,    128.0,2,    32.80,2,     0.00,2,     2.25,2,     -999,9,     -999,9,     -999,9,     -999,9,     -999,9,     -999,9,     -999,     41.5,2,     -999,9,   0.5994,2,     -999,9,     -999,9,     -999,     -999,9,     -999,9,     -999,1,     -999,9,    0.060,1,    4.660,1,    0.126,1,     -999,9,     -999,9,20180419,1541, -67.0000,-140.7989,     -999,9,     -999,9,-999          ,9,     -999,9,     -999,9,     -999,     -999,9,     -999,     -999,9,     -999,9,     -999,9,     -999,9,     -999,9,     -999,9,     -999,9,     -999,9,     -999,9,     -999,9,     -999,9,     -999,9,     -999,9,     -999,9
320620180309  ,S04P       ,74      ,  1,9          ,9          ,2,20180419,1445, -67.0002,-140.7988,     4168,   2370.8,0.5032999999999999696,34.703258806693498,2,  34.7029,2,210.02022848151267,3, 210.2976,2,    209.9,2,    129.7,2,    32.82,2,     0.00,2,     2.25,2,    0.000,4,    0.108,2,   0.1400,2,   2265.6,2,  2363.78,2,   7.5935,2,    24.91,     42.6,2,     -999,9,   0.5023,2,     -999,9,     -999,9,     -999,     -999,9,     -999,9,     -999,1,     -999,9,    0.061,1,    4.661,1,    0.125,1,  19.5200,2,     -999,9,20180419,1535, -67.0001,-140.7989,     -999,9,     -999,9,-999          ,9,     -999,9,     -999,9,     -999,     -999,9,     -999,     -999,9,     -999,9,     -999,9,     -999,9,     -999,9,     -999,9,     -999,9,     -999,9,     -999,9,     -999,9,     -999,9,     -999,9,     -999,9,     -999,9
320620180309  ,S04P       ,74      ,  1,8          ,8          ,2,20180419,1445, -67.0002,-140.7988,     4168,   2626.3,0.4305166666666667141,34.702429506265368,2,  34.7015,2,211.67904304347877,3, 212.0026,2,    211.4,2,    131.7,2,    32.91,2,     0.00,2,     2.25,2,     -999,9,     -999,9,     -999,9,     -999,9,     -999,9,     -999,9,     -999,     40.6,2,     -999,9,   0.4297,2,     -999,9,     -999,9,     -999,     -999,9,     -999,9,     -999,1,     -999,9,    0.061,1,    4.660,1,    0.126,1,     -999,9,     -999,9,20180419,1529, -67.0002,-140.7989,     -999,9,     -999,9,-999          ,9,     -999,9,     -999,9,     -999,     -999,9,     -999,     -999,9,     -999,9,     -999,9,     -999,9,     -999,9,     -999,9,     -999,9,     -999,9,     -999,9,     -999,9,     -999,9,     -999,9,     -999,9,     -999,9
320620180309  ,S04P       ,74      ,  1,7          ,7          ,2,20180419,1445, -67.0002,-140.7988,     4168,   2882.4,0.3734750000000000014,34.701589191751069,2,  34.7013,2,213.45911496678474,3, 213.8034,2,    213.5,2,    134.1,2,    32.98,2,     0.00,2,     2.25,2,    0.229,2,    0.133,2,   0.1300,2,   2264.1,2,  2366.53,2,   7.5945,2,    24.91,     39.7,2,     -999,9,   0.3726,2,     -999,9,     -999,9,     -999,     -999,9,     -999,9,     -999,1,     -999,9,    0.060,1,    4.661,1,    0.125,1,  19.1700,2,     -999,9,20180419,1523, -67.0006,-140.7988,     -999,9,     -999,9,-999          ,9,     -999,9,     -999,9,     -999,     -999,9,     -999,     -999,9,     -999,9,     -999,9,     -999,9,     -999,9,     -999,9,     -999,9,     -999,9,     -999,9,     -999,9,     -999,9,     -999,9,     -999,9,     -999,9
320620180309  ,S04P       ,74      ,  1,6          ,6          ,2,20180419,1445, -67.0002,-140.7988,     4168,   3152.8,0.3285000000000000142,34.700320031340077,2,  34.6996,2,214.95001570990752,2, 215.3997,2,    215.1,2,    134.5,2,    32.96,2,     0.00,2,     2.25,2,    0.291,2,    0.152,2,   0.1000,2,     -999,9,     -999,9,     -999,9,     -999,     40.0,2,     -999,9,   0.3276,2,     -999,9,     -999,9,     -999,     -999,9,     -999,9,     -999,1,     -999,9,    0.061,1,    4.660,1,    0.124,1,  19.1100,2,     -999,9,20180419,1517, -67.0004,-140.7987,     -999,9,     -999,9,-999          ,9,     -999,9,     -999,9,     -999,     -999,9,     -999,     -999,9,     -999,9,     -999,9,     -999,9,     -999,9,     -999,9,     -999,9,     -999,9,     -999,9,     -999,9,     -999,9,     -999,9,     -999,9,     -999,9
320620180309  ,S04P       ,74      ,  1,5          ,5          ,2,20180419,1445, -67.0002,-140.7988,     4168,   3358.7,0.3009111111111111847,34.699032308942876,2,  34.6984,2,216.20476114799172,2, 216.8051,2,    216.2,2,    134.9,2,    32.99,2,     0.00,2,     2.25,2,    0.379,2,    0.203,2,   0.2100,2,   2263.7,2,  2365.45,2,   7.5956,2,    24.90,     -999,5,     -999,9,   0.2998,2,     -999,9,     -999,9,     -999,     -999,9,     -999,9,     -999,1,     -999,9,    0.061,1,    4.659,1,    0.127,1,  19.7000,2,     -999,9,20180419,1511, -67.0000,-140.7990,     -999,9,     -999,9,-999          ,9,     -999,9,     -999,9,     -999,     -999,9,     -999,     -999,9,     -999,9,     -999,9,     -999,9,     -999,9,     -999,9,     -999,9,     -999,9,     -999,9,     -999,9,     -999,9,     -999,9,     -999,9,     -999,9
320620180309  ,S04P       ,74      ,  1,4          ,4          ,2,20180419,1445, -67.0002,-140.7988,     4168,   3615.8,0.2749722222222222290,34.697392457399431,2,  34.6962,2,217.36831834316743,2, 217.4954,2,    217.6,2,    135.4,2,    33.05,2,     0.00,2,     2.25,2,    0.487,2,    0.258,2,   0.1200,2,   2264.5,2,  2364.14,2,   7.5942,2,    24.90,     -999,9,     -999,9,   0.2740,2,     -999,9,     -999,9,     -999,     -999,9,     -999,9,     -999,9,     -999,9,    0.061,1,    4.658,1,    0.128,1,  19.1000,2,     -999,9,20180419,1505, -66.9999,-140.7991,     -999,9,     -999,9,-999          ,9,     -999,9,     -999,9,     -999,     -999,9,     -999,     -999,9,     -999,9,     -999,9,     -999,9,     -999,9,     -999,9,     -999,9,     -999,9,     -999,9,     -999,9,     -999,9,     -999,9,     -999,9,     -999,9
320620180309  ,S04P       ,74      ,  1,3          ,3          ,2,20180419,1445, -67.0002,-140.7988,     4168,   3821.2,0.2470277777777777350,34.695229514088759,2,  34.6943,2,219.04438916132844,2, 218.9977,2,    219.0,2,    131.5,2,    32.97,2,     0.00,2,     2.24,2,    0.643,2,    0.332,2,   0.1600,2,   2264.0,2,  2362.83,2,   7.5939,2,    24.90,     40.2,2,     -999,9,   0.2460,2,     -999,9,     -999,9,     -999,     -999,9,     -999,9,     -999,1,     -999,9,    0.061,1,    4.658,1,    0.127,1,  19.3700,2,     -999,9,20180419,1500, -66.9999,-140.7991,     -999,9,     -999,9,-999          ,9,     -999,9,     -999,9,     -999,     -999,9,     -999,     -999,9,     -999,9,     -999,9,     -999,9,     -999,9,     -999,9,     -999,9,     -999,9,     -999,9,     -999,9,     -999,9,     -999,9,     -999,9,     -999,9
320620180309  ,S04P       ,74      ,  1,2          ,2          ,2,20180419,1445, -67.0002,-140.7988,     4168,   4026.7,0.2490805555555555273,34.694742125050830,2,  34.6945,2,219.49752108254182,3, 219.4971,2,    220.2,2,    130.0,2,    32.93,2,     0.00,2,     2.24,2,    0.684,2,    0.360,2,   0.2900,2,   2264.6,2,  2362.51,2,   7.5926,6,    24.91,     -999,9,     -999,9,   0.2480,2,     -999,9,     -999,9,     -999,     -999,9,     -999,9,     -999,9,     -999,9,    0.061,1,    4.657,1,    0.130,1,  19.3200,2,     -999,9,20180419,1454, -66.9999,-140.7991,     -999,9,     -999,9,-999          ,9,     -999,9,     -999,9,     -999,     -999,9,     -999,     -999,9,     -999,9,     -999,9,     -999,9,     -999,9,     -999,9,     -999,9,     -999,9,     -999,9,     -999,9,     -999,9,     -999,9,     -999,9,     -999,9
320620180309  ,S04P       ,74      ,  1,1          ,1          ,2,20180419,1445, -67.0002,-140.7988,     4168,   4242.4,0.2604583333333332362,34.694693925086213,2,  34.6950,2,219.87657688227421,3, 219.3999,2,    219.1,2,    130.8,2,    33.00,2,     0.00,2,     2.24,2,    0.689,2,    0.356,2,   0.1400,2,   2265.5,6,  2363.71,2,   7.5934,2,    24.91,     41.7,2,     -999,9,   0.2592,2,     -999,9,     -999,9,     -999,     -999,9,     -999,9,     -999,1,     -999,9,    0.061,1,    4.647,1,    0.151,1,  19.1700,2,     -999,9,20180419,1445, -67.0002,-140.7988,     -999,9,     -999,9,-999          ,9,     -999,9,     -999,9,     -999,     -999,9,     -999,     -999,9,     -999,9,     -999,9,     -999,9,     -999,9,     -999,9,     -999,9,     -999,9,     -999,9,     -999,9,     -999,9,     -999,9,     -999,9,     -999,9