BOTTLE,20240515CCHHYDRO
EXPOCODE,SECT_ID,STNNBR,CASTNO,SAMPNO,BTLNBR,BTLNBR_FLAG_W,DATE,TIME,LATITUDE,LONGITUDE,DEPTH,CTDPRS,CTDTMP,CTDSAL,CTDSAL_FLAG_W,SALNTY,SALNTY_FLAG_W,CTDOXY,CTDOXY_FLAG_W,CTDOPTOXY,CTDOPTOXY_FLAG_W,OXYGEN,OXYGEN_FLAG_W,SILCAT,SILCAT_FLAG_W,NITRAT,NITRAT_FLAG_W,NITRIT,NITRIT_FLAG_W,PHSPHT,PHSPHT_FLAG_W,CFC-11,CFC-11_FLAG_W,CFC-12,CFC-12_FLAG_W,SF6,SF6_FLAG_W,TCARBN,TCARBN_FLAG_W,ALKALI,ALKALI_FLAG_W,PH_TOT,PH_TOT_FLAG_W,PH_TMP,DOC,DOC_FLAG_W,HELIUM,HELIUM_FLAG_W,REFTMP,REFTMP_FLAG_W,DELC13,DELC13_FLAG_W,DELC14,DELC14_FLAG_W,C14ERR,POC,POC_FLAG_W,TDN,TDN_FLAG_W,TON,TON_FLAG_W,NEON,NEON_FLAG_W,CTDFLUOR,CTDFLUOR_FLAG_W,CTDXMISS,CTDXMISS_FLAG_W,CTDBETA700,CTDBETA700_FLAG_W,N2O,N2O_FLAG_W,ARGON,ARGON_FLAG_W,BTL_DATE,BTL_TIME,BTL_LAT,BTL_LON,KRYPTON,KRYPTON_FLAG_W,XENON,XENON_FLAG_W,HPLC,HPLC_FLAG_W,HE3_HE4_RATIO,HE3_HE4_RATIO_FLAG_W,Nd_143_144_D_EPSILON_BOTTLE,Nd_143_144_D_EPSILON_BOTTLE_FLAG_W,Nd_143_144_D_EPSILON_BOTTLE_ERROR,Nd_143_144_D_RATIO_BOTTLE,Nd_143_144_D_RATIO_BOTTLE_FLAG_W,Nd_143_144_D_RATIO_BOTTLE_ERROR,Nd_D_CONC,Nd_D_CONC_FLAG_W,La_D_CONC_BOTTLE,La_D_CONC_BOTTLE_FLAG_W,Ce_D_CONC_BOTTLE,Ce_D_CONC_BOTTLE_FLAG_W,Pr_D_CONC_BOTTLE,Pr_D_CONC_BOTTLE_FLAG_W,Sm_D_CONC_BOTTLE,Sm_D_CONC_BOTTLE_FLAG_W,Eu_D_CONC_BOTTLE,Eu_D_CONC_BOTTLE_FLAG_W,Gd_D_CONC_BOTTLE,Gd_D_CONC_BOTTLE_FLAG_W,Tb_D_CONC_BOTTLE,Tb_D_CONC_BOTTLE_FLAG_W,Dy_D_CONC_BOTTLE,Dy_D_CONC_BOTTLE_FLAG_W,Ho_D_CONC_BOTTLE,Ho_D_CONC_BOTTLE_FLAG_W,Er_D_CONC_BOTTLE,Er_D_CONC_BOTTLE_FLAG_W,Tm_D_CONC_BOTTLE,Tm_D_CONC_BOTTLE_FLAG_W,Yb_D_CONC_BOTTLE,Yb_D_CONC_BOTTLE_FLAG_W,Lu_D_CONC_BOTTLE,Lu_D_CONC_BOTTLE_FLAG_W
,,,,,,,,,,,METERS,DBAR,ITS-90,PSS-78,,PSS-78,,UMOL/KG,,UMOL/KG,,UMOL/KG,,UMOL/KG,,UMOL/KG,,UMOL/KG,,UMOL/KG,,PMOL/KG,,PMOL/KG,,FMOL/KG,,UMOL/KG,,UMOL/KG,,,,DEG C,UMOL/KG,,NMOL/L,,DEG C,,/MILLE,,/MILLE,,/MILLE,UG/KG,,UMOL/KG,,UMOL/KG,,NMOL/L,,VOLTS,,VOLTS,,VOLTS,,NMOL/KG,,UMOL/L,,,,,,NMOL/L,,NMOL/L,,,,,,10000,,10000,,,,PMOL/KG,,PMOL/L,,PMOL/L,,PMOL/L,,PMOL/L,,PMOL/L,,PMOL/L,,PMOL/L,,PMOL/L,,PMOL/L,,PMOL/L,,PMOL/L,,PMOL/L,,PMOL/L,
320620180309  ,S04P       ,60      ,  1,15         ,15         ,2,20180412,1240, -67.0006,-160.6383,     4071,   1279.8,0.8422111111111112436,34.714770790766948,2,  34.7121,2,201.39620273055175,2, 199.9005,2,    201.8,2,    120.6,2,    32.23,2,     0.00,2,     2.21,2,    0.122,6,    0.062,6,   0.0600,6,   2264.0,2,  2362.72,2,   7.5853,3,    24.93,     42.1,2,     -999,9,   0.8416,2,     -999,9,     -999,9,     -999,     -999,9,     -999,9,     -999,1,     -999,9,    0.062,1,    4.665,1,    0.129,1,  19.7600,6,     -999,9,20180412,1355, -67.0006,-160.6381,     -999,9,     -999,9,-999          ,9,     -999,9,     -999,9,     -999,     -999,9,     -999,     -999,9,     -999,9,     -999,9,     -999,9,     -999,9,     -999,9,     -999,9,     -999,9,     -999,9,     -999,9,     -999,9,     -999,9,     -999,9,     -999,9
320620180309  ,S04P       ,60      ,  1,14         ,14         ,2,20180412,1240, -67.0006,-160.6383,     4071,   1381.8,0.7973888888888889248,34.712963991668694,2,  34.7104,2,203.03124205656744,2, 201.3037,2,    202.2,2,    122.1,2,    32.27,2,     0.00,2,     2.20,2,     -999,9,     -999,9,     -999,9,   2263.4,2,  2362.75,2,   7.5794,3,    24.93,     42.0,2,     -999,9,   0.7965,2,     -999,9,     -999,9,     -999,     -999,9,     -999,9,     -999,1,     -999,9,    0.061,1,    4.666,1,    0.129,1,     -999,9,     -999,9,20180412,1352, -67.0005,-160.6381,     -999,9,     -999,9,-999          ,9,     -999,9,     -999,9,     -999,     -999,9,     -999,     -999,9,     -999,9,     -999,9,     -999,9,     -999,9,     -999,9,     -999,9,     -999,9,     -999,9,     -999,9,     -999,9,     -999,9,     -999,9,     -999,9
320620180309  ,S04P       ,60      ,  1,13         ,13         ,2,20180412,1240, -67.0006,-160.6383,     4071,   1483.8,0.7555694444444446267,34.711174975552439,2,  34.7092,2,204.03021788465358,2, 202.6006,2,    203.7,2,    123.7,2,    32.22,2,     0.00,2,     2.20,2,    0.133,2,    0.065,2,   0.1600,2,   2264.0,2,  2363.11,2,   7.5910,2,    24.93,     -999,9,     -999,9,   0.7551,2,     -999,9,     -999,9,     -999,     -999,9,     -999,9,     -999,9,     -999,9,    0.061,1,    4.666,1,    0.127,1,  20.0500,2,     -999,9,20180412,1348, -67.0003,-160.6381,     -999,9,     -999,9,-999          ,9,     -999,9,     -999,9,     -999,     -999,9,     -999,     -999,9,     -999,9,     -999,9,     -999,9,     -999,9,     -999,9,     -999,9,     -999,9,     -999,9,     -999,9,     -999,9,     -999,9,     -999,9,     -999,9
320620180309  ,S04P       ,60      ,  1,12         ,12         ,2,20180412,1240, -67.0006,-160.6383,     4071,   1586.1,0.7161750000000001171,34.709538702666407,2,  34.7072,2,205.22350796533155,2, 203.7025,2,    204.8,2,    124.8,2,    32.25,2,     0.00,2,     2.20,2,    0.142,2,    0.078,2,   0.0500,2,   2264.1,2,  2364.59,2,   7.5949,2,    24.94,     41.1,2,     -999,9,   0.7155,2,     -999,9,     -999,9,     -999,     -999,9,     -999,9,     -999,1,     -999,9,    0.060,1,    4.666,1,    0.128,1,  20.0200,2,     -999,9,20180412,1345, -67.0001,-160.6381,     -999,9,     -999,9,-999          ,9,     -999,9,     -999,9,     -999,     -999,9,     -999,     -999,9,     -999,9,     -999,9,     -999,9,     -999,9,     -999,9,     -999,9,     -999,9,     -999,9,     -999,9,     -999,9,     -999,9,     -999,9,     -999,9
320620180309  ,S04P       ,60      ,  1,11         ,11         ,2,20180412,1240, -67.0006,-160.6383,     4071,   1758.9,0.6516194444444445288,34.707433382413996,2,  34.7053,2,205.91567203253115,2, 205.8026,2,    206.2,2,    126.7,2,    32.27,2,     0.00,2,     2.21,2,    0.152,2,    0.083,2,   0.0600,2,   2265.7,2,  2362.60,2,   7.5945,2,    24.93,     39.1,2,     -999,9,   0.6512,2,     -999,9,     -999,9,     -999,     -999,9,     -999,9,     -999,1,     -999,9,    0.061,1,    4.666,1,    0.127,1,  19.6600,2,     -999,9,20180412,1341, -67.0000,-160.6381,     -999,9,     -999,9,-999          ,9,     -999,9,     -999,9,     -999,     -999,9,     -999,     -999,9,     -999,9,     -999,9,     -999,9,     -999,9,     -999,9,     -999,9,     -999,9,     -999,9,     -999,9,     -999,9,     -999,9,     -999,9,     -999,9
320620180309  ,S04P       ,60      ,  1,10         ,10         ,2,20180412,1240, -67.0006,-160.6383,     4071,   1961.9,0.5821916666666667739,34.705445497218577,2,  34.7035,2,208.07790649074133,3, 208.1040,2,    210.2,3,    128.3,2,    32.29,2,     0.00,2,     2.22,2,     -999,9,     -999,9,     -999,9,   2265.3,6,  2364.75,2,   7.5916,2,    24.93,     41.7,2,     -999,9,   0.5817,2,     -999,9,     -999,9,     -999,     -999,9,     -999,9,     -999,1,     -999,9,    0.061,1,    4.667,1,    0.126,1,     -999,9,     -999,9,20180412,1336, -66.9997,-160.6381,     -999,9,     -999,9,-999          ,9,     -999,9,     -999,9,     -999,     -999,9,     -999,     -999,9,     -999,9,     -999,9,     -999,9,     -999,9,     -999,9,     -999,9,     -999,9,     -999,9,     -999,9,     -999,9,     -999,9,     -999,9,     -999,9
320620180309  ,S04P       ,60      ,  1,9          ,9          ,2,20180412,1240, -67.0006,-160.6383,     4071,   2197.8,0.4934472222222223703,34.703319695018948,2,  34.7015,2,209.80466983584211,2, 210.7989,2,    209.6,2,    129.5,2,    32.39,2,     0.00,2,     2.22,2,    0.201,2,    0.108,2,   0.0000,2,   2263.3,2,  2365.25,2,   7.5931,2,    24.94,     40.4,2,     -999,9,   0.4927,2,     -999,9,     -999,9,     -999,     -999,9,     -999,9,     -999,1,     -999,9,    0.062,1,    4.666,1,    0.125,1,  19.7800,2,     -999,9,20180412,1330, -66.9993,-160.6381,     -999,9,     -999,9,-999          ,9,     -999,9,     -999,9,     -999,     -999,9,     -999,     -999,9,     -999,9,     -999,9,     -999,9,     -999,9,     -999,9,     -999,9,     -999,9,     -999,9,     -999,9,     -999,9,     -999,9,     -999,9,     -999,9
320620180309  ,S04P       ,60      ,  1,8          ,8          ,2,20180412,1240, -67.0006,-160.6383,     4071,   2452.5,0.4200250000000000372,34.702097135472883,2,  34.7003,2,211.54592495876216,2, 213.1993,2,    211.9,2,    130.8,2,    32.46,2,     0.00,2,     2.25,2,    0.217,2,    0.119,2,   0.0600,2,   2265.0,2,  2362.94,2,   7.5926,2,    24.93,     40.3,2,     -999,9,   0.4191,2,     -999,9,     -999,9,     -999,     -999,9,     -999,9,     -999,1,     -999,9,    0.061,1,    4.667,1,    0.125,1,  20.2900,2,     -999,9,20180412,1324, -66.9994,-160.6381,     -999,9,     -999,9,-999          ,9,     -999,9,     -999,9,     -999,     -999,9,     -999,     -999,9,     -999,9,     -999,9,     -999,9,     -999,9,     -999,9,     -999,9,     -999,9,     -999,9,     -999,9,     -999,9,     -999,9,     -999,9,     -999,9
320620180309  ,S04P       ,60      ,  1,7          ,7          ,2,20180412,1240, -67.0006,-160.6383,     4071,   2707.7,0.3584833333333332650,34.700470711510391,3,  34.6980,2,213.65818341440081,2, 215.3036,2,    214.6,2,    132.1,2,    32.51,2,     0.00,2,     2.24,2,    0.286,2,    0.157,2,   0.0700,2,   2266.3,2,  2364.46,2,   7.5937,2,    24.94,     -999,9,     -999,9,   0.3577,2,     -999,9,     -999,9,     -999,     -999,9,     -999,9,     -999,9,     -999,9,    0.061,1,    4.666,1,    0.125,1,  19.7200,2,     -999,9,20180412,1318, -66.9998,-160.6381,     -999,9,     -999,9,-999          ,9,     -999,9,     -999,9,     -999,     -999,9,     -999,     -999,9,     -999,9,     -999,9,     -999,9,     -999,9,     -999,9,     -999,9,     -999,9,     -999,9,     -999,9,     -999,9,     -999,9,     -999,9,     -999,9
320620180309  ,S04P       ,60      ,  1,6          ,6          ,2,20180412,1240, -67.0006,-160.6383,     4071,   2962.8,0.2987833333333333452,34.697571806715409,3,  34.6950,2,216.21484755868417,2, 217.1029,2,    216.0,2,    131.7,2,    32.56,2,     0.00,2,     2.24,2,    0.413,2,    0.224,2,   0.1800,2,   2265.1,2,  2363.14,2,   7.5940,2,    24.93,     41.5,2,     -999,9,   0.2979,2,     -999,9,     -999,9,     -999,     -999,9,     -999,9,     -999,1,     -999,9,    0.061,1,    4.666,1,    0.125,1,  18.9600,2,     -999,9,20180412,1313, -66.9999,-160.6382,     -999,9,     -999,9,-999          ,9,     -999,9,     -999,9,     -999,     -999,9,     -999,     -999,9,     -999,9,     -999,9,     -999,9,     -999,9,     -999,9,     -999,9,     -999,9,     -999,9,     -999,9,     -999,9,     -999,9,     -999,9,     -999,9
320620180309  ,S04P       ,60      ,  1,5          ,5          ,2,20180412,1240, -67.0006,-160.6383,     4071,   3255.6,0.2315222222222222126,34.692274115206665,3,  34.6901,2,219.73702161481489,2, 219.1050,2,    220.3,2,    128.4,2,    32.51,2,     0.00,2,     2.25,2,    0.707,2,    0.387,2,   0.2200,2,   2264.5,2,  2360.78,2,   7.5909,2,    24.93,     40.8,2,     -999,9,   0.2308,2,     -999,9,     -999,9,     -999,     -999,9,     -999,9,     -999,1,     -999,9,    0.061,1,    4.665,1,    0.125,1,  19.2600,2,     -999,9,20180412,1306, -66.9999,-160.6382,     -999,9,     -999,9,-999          ,9,     -999,9,     -999,9,     -999,     -999,9,     -999,     -999,9,     -999,9,     -999,9,     -999,9,     -999,9,     -999,9,     -999,9,     -999,9,     -999,9,     -999,9,     -999,9,     -999,9,     -999,9,     -999,9
320620180309  ,S04P       ,60      ,  1,4          ,4          ,2,20180412,1240, -67.0006,-160.6383,     4071,   3512.9,0.2281277777777777904,34.690958540794803,3,  34.6882,2,220.71657160572738,2, 220.4014,2,    220.4,2,    128.5,2,    32.56,2,     0.00,2,     2.25,2,    0.795,2,    0.430,2,   0.3400,2,   2263.7,2,  2359.88,2,   7.5909,2,    24.93,     41.4,2,     -999,9,   0.2275,2,     -999,9,     -999,9,     -999,     -999,9,     -999,9,     -999,1,     -999,9,    0.061,1,    4.664,1,    0.125,1,  19.4900,2,     -999,9,20180412,1300, -66.9999,-160.6381,     -999,9,     -999,9,-999          ,9,     -999,9,     -999,9,     -999,     -999,9,     -999,     -999,9,     -999,9,     -999,9,     -999,9,     -999,9,     -999,9,     -999,9,     -999,9,     -999,9,     -999,9,     -999,9,     -999,9,     -999,9,     -999,9
320620180309  ,S04P       ,60      ,  1,3          ,3          ,2,20180412,1240, -67.0006,-160.6383,     4071,   3769.0,0.2346611111111111259,34.690631189342596,3,  34.6870,2,221.35313250041139,2, 220.5007,2,    220.7,2,    127.4,2,    32.58,2,     0.00,2,     2.24,2,    0.832,2,    0.445,2,   0.2400,2,   2264.2,2,  2360.59,2,   7.5918,2,    24.93,     41.1,2,     -999,9,   0.2339,2,     -999,9,     -999,9,     -999,     -999,9,     -999,9,     -999,1,     -999,9,    0.061,1,    4.663,1,    0.126,1,  19.6300,2,     -999,9,20180412,1253, -66.9998,-160.6381,     -999,9,     -999,9,-999          ,9,     -999,9,     -999,9,     -999,     -999,9,     -999,     -999,9,     -999,9,     -999,9,     -999,9,     -999,9,     -999,9,     -999,9,     -999,9,     -999,9,     -999,9,     -999,9,     -999,9,     -999,9,     -999,9
320620180309  ,S04P       ,60      ,  1,2          ,2          ,2,20180412,1240, -67.0006,-160.6383,     4071,   3975.4,0.2500333333333333297,34.690674706786979,3,  34.6884,2,222.34192654352074,2, 220.4002,2,    220.7,2,    127.7,2,    32.58,2,     0.00,2,     2.25,2,    0.860,2,    0.461,2,   0.2100,2,   2264.6,2,  2360.74,2,   7.5917,6,    24.93,     -999,9,     -999,9,   0.2494,2,     -999,9,     -999,9,     -999,     -999,9,     -999,9,     -999,9,     -999,9,    0.061,1,    4.662,1,    0.127,1,  19.3100,2,     -999,9,20180412,1248, -67.0001,-160.6382,     -999,9,     -999,9,-999          ,9,     -999,9,     -999,9,     -999,     -999,9,     -999,     -999,9,     -999,9,     -999,9,     -999,9,     -999,9,     -999,9,     -999,9,     -999,9,     -999,9,     -999,9,     -999,9,     -999,9,     -999,9,     -999,9
320620180309  ,S04P       ,60      ,  1,1          ,1          ,2,20180412,1240, -67.0006,-160.6383,     4071,   4143.5,0.2667472222222222467,34.691020292875280,2,  34.6898,2,220.70441386454752,2, 220.2953,2,    220.8,2,    127.9,2,    32.60,2,     0.00,2,     2.24,2,    0.836,2,    0.442,2,   0.2100,2,   2264.6,6,  2359.97,2,   7.5902,2,    24.92,     41.1,2,     -999,9,   0.2661,2,     -999,9,     -999,9,     -999,     -999,9,     -999,9,     -999,1,     -999,9,    0.061,1,    4.662,1,    0.127,1,  19.9000,2,     -999,9,20180412,1240, -67.0006,-160.6383,     -999,9,     -999,9,-999          ,9,     -999,9,     -999,9,     -999,     -999,9,     -999,     -999,9,     -999,9,     -999,9,     -999,9,     -999,9,     -999,9,     -999,9,     -999,9,     -999,9,     -999,9,     -999,9,     -999,9,     -999,9,     -999,9