BOTTLE,20240515CCHHYDRO
EXPOCODE,SECT_ID,STNNBR,CASTNO,SAMPNO,BTLNBR,BTLNBR_FLAG_W,DATE,TIME,LATITUDE,LONGITUDE,DEPTH,CTDPRS,CTDTMP,CTDSAL,CTDSAL_FLAG_W,SALNTY,SALNTY_FLAG_W,CTDOXY,CTDOXY_FLAG_W,CTDOPTOXY,CTDOPTOXY_FLAG_W,OXYGEN,OXYGEN_FLAG_W,SILCAT,SILCAT_FLAG_W,NITRAT,NITRAT_FLAG_W,NITRIT,NITRIT_FLAG_W,PHSPHT,PHSPHT_FLAG_W,CFC-11,CFC-11_FLAG_W,CFC-12,CFC-12_FLAG_W,SF6,SF6_FLAG_W,TCARBN,TCARBN_FLAG_W,ALKALI,ALKALI_FLAG_W,PH_TOT,PH_TOT_FLAG_W,PH_TMP,DOC,DOC_FLAG_W,HELIUM,HELIUM_FLAG_W,REFTMP,REFTMP_FLAG_W,DELC13,DELC13_FLAG_W,DELC14,DELC14_FLAG_W,C14ERR,POC,POC_FLAG_W,TDN,TDN_FLAG_W,TON,TON_FLAG_W,NEON,NEON_FLAG_W,CTDFLUOR,CTDFLUOR_FLAG_W,CTDXMISS,CTDXMISS_FLAG_W,CTDBETA700,CTDBETA700_FLAG_W,N2O,N2O_FLAG_W,ARGON,ARGON_FLAG_W,BTL_DATE,BTL_TIME,BTL_LAT,BTL_LON,KRYPTON,KRYPTON_FLAG_W,XENON,XENON_FLAG_W,HPLC,HPLC_FLAG_W,HE3_HE4_RATIO,HE3_HE4_RATIO_FLAG_W,Nd_143_144_D_EPSILON_BOTTLE,Nd_143_144_D_EPSILON_BOTTLE_FLAG_W,Nd_143_144_D_EPSILON_BOTTLE_ERROR,Nd_143_144_D_RATIO_BOTTLE,Nd_143_144_D_RATIO_BOTTLE_FLAG_W,Nd_143_144_D_RATIO_BOTTLE_ERROR,Nd_D_CONC,Nd_D_CONC_FLAG_W,La_D_CONC_BOTTLE,La_D_CONC_BOTTLE_FLAG_W,Ce_D_CONC_BOTTLE,Ce_D_CONC_BOTTLE_FLAG_W,Pr_D_CONC_BOTTLE,Pr_D_CONC_BOTTLE_FLAG_W,Sm_D_CONC_BOTTLE,Sm_D_CONC_BOTTLE_FLAG_W,Eu_D_CONC_BOTTLE,Eu_D_CONC_BOTTLE_FLAG_W,Gd_D_CONC_BOTTLE,Gd_D_CONC_BOTTLE_FLAG_W,Tb_D_CONC_BOTTLE,Tb_D_CONC_BOTTLE_FLAG_W,Dy_D_CONC_BOTTLE,Dy_D_CONC_BOTTLE_FLAG_W,Ho_D_CONC_BOTTLE,Ho_D_CONC_BOTTLE_FLAG_W,Er_D_CONC_BOTTLE,Er_D_CONC_BOTTLE_FLAG_W,Tm_D_CONC_BOTTLE,Tm_D_CONC_BOTTLE_FLAG_W,Yb_D_CONC_BOTTLE,Yb_D_CONC_BOTTLE_FLAG_W,Lu_D_CONC_BOTTLE,Lu_D_CONC_BOTTLE_FLAG_W
,,,,,,,,,,,METERS,DBAR,ITS-90,PSS-78,,PSS-78,,UMOL/KG,,UMOL/KG,,UMOL/KG,,UMOL/KG,,UMOL/KG,,UMOL/KG,,UMOL/KG,,PMOL/KG,,PMOL/KG,,FMOL/KG,,UMOL/KG,,UMOL/KG,,,,DEG C,UMOL/KG,,NMOL/L,,DEG C,,/MILLE,,/MILLE,,/MILLE,UG/KG,,UMOL/KG,,UMOL/KG,,NMOL/L,,VOLTS,,VOLTS,,VOLTS,,NMOL/KG,,UMOL/L,,,,,,NMOL/L,,NMOL/L,,,,,,10000,,10000,,,,PMOL/KG,,PMOL/L,,PMOL/L,,PMOL/L,,PMOL/L,,PMOL/L,,PMOL/L,,PMOL/L,,PMOL/L,,PMOL/L,,PMOL/L,,PMOL/L,,PMOL/L,,PMOL/L,
320620180309  ,S04P       ,91      ,  1,15         ,15         ,2,20180425,2008, -66.9990,-114.4994,     4717,   1419.9,1.3662087209131514864,34.729823739988973,2,  34.7286,2,194.93102200789983,2, 195.1058,2,    195.5,2,    104.6,2,    31.85,2,     0.00,2,     2.16,2,     -999,9,     -999,9,     -999,9,     -999,9,     -999,9,     -999,9,     -999,     -999,9,     -999,9,   1.3664,2,     -999,9,     -999,9,     -999,     -999,9,     -999,9,     -999,9,     -999,9,    0.061,1,    4.655,1,    0.129,1,     -999,9,     -999,9,20180425,2125, -67.0009,-114.5000,     -999,9,     -999,9,-999          ,9,     -999,9,     -999,9,     -999,     -999,9,     -999,     -999,9,     -999,9,     -999,9,     -999,9,     -999,9,     -999,9,     -999,9,     -999,9,     -999,9,     -999,9,     -999,9,     -999,9,     -999,9,     -999,9
320620180309  ,S04P       ,91      ,  1,14         ,14         ,2,20180425,2008, -66.9990,-114.4994,     4717,   1520.5,1.2841878601188039255,34.727732389980481,2,  34.7266,2,196.28803614366007,2, 196.3987,2,    196.8,2,    106.8,2,    31.90,2,     0.00,2,     2.16,2,    0.161,2,    0.084,2,   0.0100,2,   2266.9,3,  2359.85,2,   7.6004,2,    24.89,     -999,9,     -999,9,   1.2840,2,     -999,9,     -999,9,     -999,     -999,9,     -999,9,     -999,9,     -999,9,    0.061,1,    4.654,1,    0.129,1,  19.6900,2,     -999,9,20180425,2122, -67.0007,-114.4999,     -999,9,     -999,9,-999          ,9,     -999,9,     -999,9,     -999,     -999,9,     -999,     -999,9,     -999,9,     -999,9,     -999,9,     -999,9,     -999,9,     -999,9,     -999,9,     -999,9,     -999,9,     -999,9,     -999,9,     -999,9,     -999,9
320620180309  ,S04P       ,91      ,  1,13         ,13         ,2,20180425,2008, -66.9990,-114.4994,     4717,   1621.6,1.2181026156128953453,34.725562719918081,2,  34.7243,2,197.30902035703210,2, 197.1983,2,    197.1,2,    108.8,2,    31.95,2,     0.00,2,     2.17,2,     -999,9,     -999,9,     -999,9,     -999,9,     -999,9,     -999,9,     -999,     -999,9,     -999,9,   1.2181,2,     -999,9,     -999,9,     -999,     -999,9,     -999,9,     -999,9,     -999,9,    0.061,1,    4.654,1,    0.129,1,     -999,9,     -999,9,20180425,2119, -67.0005,-114.4998,     -999,9,     -999,9,-999          ,9,     -999,9,     -999,9,     -999,     -999,9,     -999,     -999,9,     -999,9,     -999,9,     -999,9,     -999,9,     -999,9,     -999,9,     -999,9,     -999,9,     -999,9,     -999,9,     -999,9,     -999,9,     -999,9
320620180309  ,S04P       ,91      ,  1,12         ,12         ,2,20180425,2008, -66.9990,-114.4994,     4717,   1826.5,1.0933307201107180795,34.720847101863910,2,  34.7206,2,199.53027930976165,2, 199.7018,2,    200.0,2,    113.3,2,    32.07,2,     0.00,2,     2.18,2,    0.152,2,    0.074,2,   0.0100,2,   2258.6,3,  2362.31,2,   7.6006,2,    24.91,     -999,9,     -999,9,   1.0934,2,     -999,9,     -999,9,     -999,     -999,9,     -999,9,     -999,9,     -999,9,    0.061,1,    4.655,1,    0.128,1,  19.2300,2,     -999,9,20180425,2114, -67.0002,-114.4996,     -999,9,     -999,9,-999          ,9,     -999,9,     -999,9,     -999,     -999,9,     -999,     -999,9,     -999,9,     -999,9,     -999,9,     -999,9,     -999,9,     -999,9,     -999,9,     -999,9,     -999,9,     -999,9,     -999,9,     -999,9,     -999,9
320620180309  ,S04P       ,91      ,  1,11         ,11         ,2,20180425,2008, -66.9990,-114.4994,     4717,   2030.5,0.9992536824006443830,34.717142227017078,2,  34.7157,2,201.56083569531827,2, 201.7993,2,    201.7,2,    116.5,2,    32.19,2,     0.00,2,     2.19,2,    0.159,2,    0.086,2,  -0.0400,2,   2256.6,3,  2361.90,2,   7.6002,2,    24.92,     -999,9,     -999,9,   0.9993,2,     -999,9,     -999,9,     -999,     -999,9,     -999,9,     -999,9,     -999,9,    0.061,1,    4.655,1,    0.128,1,  19.2200,2,     -999,9,20180425,2109, -67.0004,-114.4997,     -999,9,     -999,9,-999          ,9,     -999,9,     -999,9,     -999,     -999,9,     -999,     -999,9,     -999,9,     -999,9,     -999,9,     -999,9,     -999,9,     -999,9,     -999,9,     -999,9,     -999,9,     -999,9,     -999,9,     -999,9,     -999,9
320620180309  ,S04P       ,91      ,  1,10         ,10         ,2,20180425,2008, -66.9990,-114.4994,     4717,   2283.3,0.8935060995920766080,34.712609864967000,2,  34.7121,2,203.67060896947987,2, 203.8011,2,    203.9,2,    120.7,2,    32.36,2,     0.00,2,     2.19,2,     -999,9,     -999,9,     -999,9,     -999,9,     -999,9,     -999,9,     -999,     -999,9,     -999,9,   0.8938,2,     -999,9,     -999,9,     -999,     -999,9,     -999,9,     -999,9,     -999,9,    0.061,1,    4.655,1,    0.129,1,     -999,9,     -999,9,20180425,2104, -67.0009,-114.5000,     -999,9,     -999,9,-999          ,9,     -999,9,     -999,9,     -999,     -999,9,     -999,     -999,9,     -999,9,     -999,9,     -999,9,     -999,9,     -999,9,     -999,9,     -999,9,     -999,9,     -999,9,     -999,9,     -999,9,     -999,9,     -999,9
320620180309  ,S04P       ,91      ,  1,9          ,9          ,2,20180425,2008, -66.9990,-114.4994,     4717,   2539.9,0.8117886050938396547,34.709080889685175,2,  34.7086,2,205.64917741753482,2, 205.4993,2,    205.1,2,    124.2,2,    32.39,2,     0.00,2,     2.20,2,    0.195,2,    0.098,2,   0.0000,2,   2264.0,2,  2365.04,2,   7.5973,2,    24.89,     -999,9,     -999,9,   0.8115,2,     -999,9,     -999,9,     -999,     -999,9,     -999,9,     -999,9,     -999,9,    0.061,1,    4.655,1,    0.127,1,  19.3700,2,     -999,9,20180425,2058, -67.0007,-114.4999,     -999,9,     -999,9,-999          ,9,     -999,9,     -999,9,     -999,     -999,9,     -999,     -999,9,     -999,9,     -999,9,     -999,9,     -999,9,     -999,9,     -999,9,     -999,9,     -999,9,     -999,9,     -999,9,     -999,9,     -999,9,     -999,9
320620180309  ,S04P       ,91      ,  1,8          ,8          ,2,20180425,2008, -66.9990,-114.4994,     4717,   2794.2,0.7298535123703824290,34.706123962409180,2,  34.7051,2,206.92832478410045,2, 207.0010,2,    207.0,2,    126.8,2,    32.53,2,     0.00,2,     2.20,2,    0.226,2,    0.122,2,   0.0300,2,   2263.9,2,  2365.60,2,   7.5922,2,    24.88,     -999,9,     -999,9,   0.7302,2,     -999,9,     -999,9,     -999,     -999,9,     -999,9,     -999,9,     -999,9,    0.061,1,    4.654,1,    0.127,1,  19.2500,2,     -999,9,20180425,2053, -67.0004,-114.4998,     -999,9,     -999,9,-999          ,9,     -999,9,     -999,9,     -999,     -999,9,     -999,     -999,9,     -999,9,     -999,9,     -999,9,     -999,9,     -999,9,     -999,9,     -999,9,     -999,9,     -999,9,     -999,9,     -999,9,     -999,9,     -999,9
320620180309  ,S04P       ,91      ,  1,7          ,7          ,2,20180425,2008, -66.9990,-114.4994,     4717,   3052.4,0.6367205913844053988,34.703459064996835,2,  34.7033,2,208.94229277412862,2, 208.8023,2,    208.7,2,    128.4,2,    32.63,2,     0.00,2,     2.21,2,     -999,9,     -999,9,     -999,9,     -999,9,     -999,9,     -999,9,     -999,     -999,9,     -999,9,   0.6370,2,     -999,9,     -999,9,     -999,     -999,9,     -999,9,     -999,9,     -999,9,    0.061,1,    4.655,1,    0.126,1,     -999,9,     -999,9,20180425,2047, -67.0001,-114.4998,     -999,9,     -999,9,-999          ,9,     -999,9,     -999,9,     -999,     -999,9,     -999,     -999,9,     -999,9,     -999,9,     -999,9,     -999,9,     -999,9,     -999,9,     -999,9,     -999,9,     -999,9,     -999,9,     -999,9,     -999,9,     -999,9
320620180309  ,S04P       ,91      ,  1,6          ,6          ,2,20180425,2008, -66.9990,-114.4994,     4717,   3358.9,0.5307517724659448488,34.701444762085089,2,  34.7002,2,211.43912531746463,2, 211.3009,2,    211.1,2,    130.7,2,    32.73,2,     0.00,2,     2.23,2,    0.311,2,    0.159,2,   0.0500,2,   2265.3,2,  2364.20,2,   7.5952,2,    24.90,     -999,9,     -999,9,   0.5304,2,     -999,9,     -999,9,     -999,     -999,9,     -999,9,     -999,9,     -999,9,    0.061,1,    4.655,1,    0.129,1,  18.9200,2,     -999,9,20180425,2041, -67.0000,-114.4998,     -999,9,     -999,9,-999          ,9,     -999,9,     -999,9,     -999,     -999,9,     -999,     -999,9,     -999,9,     -999,9,     -999,9,     -999,9,     -999,9,     -999,9,     -999,9,     -999,9,     -999,9,     -999,9,     -999,9,     -999,9,     -999,9
320620180309  ,S04P       ,91      ,  1,5          ,5          ,2,20180425,2008, -66.9990,-114.4994,     4717,   3666.9,0.4579167189907445978,34.700337275297777,2,  34.6990,2,213.45507642197757,2, 212.9035,2,    213.3,2,    133.1,2,    32.76,2,     0.00,2,     2.22,2,    0.343,2,    0.174,2,   0.0400,2,   2264.8,2,  2364.63,2,   7.5948,2,    24.88,     -999,9,     -999,9,   0.4578,2,     -999,9,     -999,9,     -999,     -999,9,     -999,9,     -999,9,     -999,9,    0.061,1,    4.655,1,    0.131,1,  19.0100,2,     -999,9,20180425,2034, -67.0000,-114.4997,     -999,9,     -999,9,-999          ,9,     -999,9,     -999,9,     -999,     -999,9,     -999,     -999,9,     -999,9,     -999,9,     -999,9,     -999,9,     -999,9,     -999,9,     -999,9,     -999,9,     -999,9,     -999,9,     -999,9,     -999,9,     -999,9
320620180309  ,S04P       ,91      ,  1,4          ,4          ,2,20180425,2008, -66.9990,-114.4994,     4717,   3975.4,0.4116264820427661397,34.700032066643509,2,  34.6990,2,214.45787283215282,2, 214.5006,2,    214.3,2,    136.2,2,    32.81,2,     0.00,2,     2.23,2,     -999,9,     -999,9,     -999,9,     -999,9,     -999,9,     -999,9,     -999,     -999,9,     -999,9,   0.4115,2,     -999,9,     -999,9,     -999,     -999,9,     -999,9,     -999,9,     -999,9,    0.061,1,    4.653,1,    0.125,1,     -999,9,     -999,9,20180425,2027, -67.0001,-114.4996,     -999,9,     -999,9,-999          ,9,     -999,9,     -999,9,     -999,     -999,9,     -999,     -999,9,     -999,9,     -999,9,     -999,9,     -999,9,     -999,9,     -999,9,     -999,9,     -999,9,     -999,9,     -999,9,     -999,9,     -999,9,     -999,9
320620180309  ,S04P       ,91      ,  1,3          ,3          ,2,20180425,2008, -66.9990,-114.4994,     4717,   4285.8,0.3946254396251875352,34.699452005991830,3,  34.6966,2,215.47590581987637,2, 215.6021,2,    215.3,2,    138.7,2,    32.88,2,     0.00,2,     2.23,2,    0.407,2,    0.203,2,   0.0600,2,   2268.1,2,  2365.94,2,   7.5939,2,    24.90,     -999,9,     -999,9,   0.3947,2,     -999,9,     -999,9,     -999,     -999,9,     -999,9,     -999,9,     -999,9,    0.061,1,    4.653,1,    0.126,1,  18.7600,2,     -999,9,20180425,2020, -67.0001,-114.4996,     -999,9,     -999,9,-999          ,9,     -999,9,     -999,9,     -999,     -999,9,     -999,     -999,9,     -999,9,     -999,9,     -999,9,     -999,9,     -999,9,     -999,9,     -999,9,     -999,9,     -999,9,     -999,9,     -999,9,     -999,9,     -999,9
320620180309  ,S04P       ,91      ,  1,2          ,2          ,2,20180425,2008, -66.9990,-114.4994,     4717,   4516.7,0.3932365638655563878,34.698667387951673,2,  34.6974,2,215.85349327557466,2, 215.8005,2,    216.6,2,    139.2,2,    32.91,2,     0.00,2,     2.23,2,    0.456,2,    0.235,2,   0.1000,2,   2265.7,2,  2364.85,2,   7.5945,2,    24.89,     -999,9,     -999,9,   0.3932,2,     -999,9,     -999,9,     -999,     -999,9,     -999,9,     -999,9,     -999,9,    0.060,1,    4.650,1,    0.128,1,  18.8200,2,     -999,9,20180425,2015, -66.9996,-114.4995,     -999,9,     -999,9,-999          ,9,     -999,9,     -999,9,     -999,     -999,9,     -999,     -999,9,     -999,9,     -999,9,     -999,9,     -999,9,     -999,9,     -999,9,     -999,9,     -999,9,     -999,9,     -999,9,     -999,9,     -999,9,     -999,9
320620180309  ,S04P       ,91      ,  1,1          ,1          ,2,20180425,2008, -66.9990,-114.4994,     4717,   4805.8,0.3909303793694096640,34.697747722153721,2,  34.6986,2,216.03818858812375,2, 216.0974,2,    215.6,2,    143.9,2,    32.99,2,     0.00,2,     2.24,2,    0.531,2,    0.270,2,   0.1100,2,   2267.2,2,  2367.06,2,   7.5936,2,    24.90,     -999,9,     -999,9,   0.3911,2,     -999,9,     -999,9,     -999,     -999,9,     -999,9,     -999,9,     -999,9,    0.061,1,    4.639,1,    0.140,1,  18.8800,2,     -999,9,20180425,2008, -66.9990,-114.4994,     -999,9,     -999,9,-999          ,9,     -999,9,     -999,9,     -999,     -999,9,     -999,     -999,9,     -999,9,     -999,9,     -999,9,     -999,9,     -999,9,     -999,9,     -999,9,     -999,9,     -999,9,     -999,9,     -999,9,     -999,9,     -999,9