BOTTLE,20240515CCHHYDRO
EXPOCODE,SECT_ID,STNNBR,CASTNO,SAMPNO,BTLNBR,BTLNBR_FLAG_W,DATE,TIME,LATITUDE,LONGITUDE,DEPTH,CTDPRS,CTDTMP,CTDSAL,CTDSAL_FLAG_W,SALNTY,SALNTY_FLAG_W,CTDOXY,CTDOXY_FLAG_W,CTDOPTOXY,CTDOPTOXY_FLAG_W,OXYGEN,OXYGEN_FLAG_W,SILCAT,SILCAT_FLAG_W,NITRAT,NITRAT_FLAG_W,NITRIT,NITRIT_FLAG_W,PHSPHT,PHSPHT_FLAG_W,CFC-11,CFC-11_FLAG_W,CFC-12,CFC-12_FLAG_W,SF6,SF6_FLAG_W,TCARBN,TCARBN_FLAG_W,ALKALI,ALKALI_FLAG_W,PH_TOT,PH_TOT_FLAG_W,PH_TMP,DOC,DOC_FLAG_W,HELIUM,HELIUM_FLAG_W,REFTMP,REFTMP_FLAG_W,DELC13,DELC13_FLAG_W,DELC14,DELC14_FLAG_W,C14ERR,POC,POC_FLAG_W,TDN,TDN_FLAG_W,TON,TON_FLAG_W,NEON,NEON_FLAG_W,CTDFLUOR,CTDFLUOR_FLAG_W,CTDXMISS,CTDXMISS_FLAG_W,CTDBETA700,CTDBETA700_FLAG_W,N2O,N2O_FLAG_W,ARGON,ARGON_FLAG_W,BTL_DATE,BTL_TIME,BTL_LAT,BTL_LON,KRYPTON,KRYPTON_FLAG_W,XENON,XENON_FLAG_W,HPLC,HPLC_FLAG_W,HE3_HE4_RATIO,HE3_HE4_RATIO_FLAG_W,Nd_143_144_D_EPSILON_BOTTLE,Nd_143_144_D_EPSILON_BOTTLE_FLAG_W,Nd_143_144_D_EPSILON_BOTTLE_ERROR,Nd_143_144_D_RATIO_BOTTLE,Nd_143_144_D_RATIO_BOTTLE_FLAG_W,Nd_143_144_D_RATIO_BOTTLE_ERROR,Nd_D_CONC,Nd_D_CONC_FLAG_W,La_D_CONC_BOTTLE,La_D_CONC_BOTTLE_FLAG_W,Ce_D_CONC_BOTTLE,Ce_D_CONC_BOTTLE_FLAG_W,Pr_D_CONC_BOTTLE,Pr_D_CONC_BOTTLE_FLAG_W,Sm_D_CONC_BOTTLE,Sm_D_CONC_BOTTLE_FLAG_W,Eu_D_CONC_BOTTLE,Eu_D_CONC_BOTTLE_FLAG_W,Gd_D_CONC_BOTTLE,Gd_D_CONC_BOTTLE_FLAG_W,Tb_D_CONC_BOTTLE,Tb_D_CONC_BOTTLE_FLAG_W,Dy_D_CONC_BOTTLE,Dy_D_CONC_BOTTLE_FLAG_W,Ho_D_CONC_BOTTLE,Ho_D_CONC_BOTTLE_FLAG_W,Er_D_CONC_BOTTLE,Er_D_CONC_BOTTLE_FLAG_W,Tm_D_CONC_BOTTLE,Tm_D_CONC_BOTTLE_FLAG_W,Yb_D_CONC_BOTTLE,Yb_D_CONC_BOTTLE_FLAG_W,Lu_D_CONC_BOTTLE,Lu_D_CONC_BOTTLE_FLAG_W
,,,,,,,,,,,METERS,DBAR,ITS-90,PSS-78,,PSS-78,,UMOL/KG,,UMOL/KG,,UMOL/KG,,UMOL/KG,,UMOL/KG,,UMOL/KG,,UMOL/KG,,PMOL/KG,,PMOL/KG,,FMOL/KG,,UMOL/KG,,UMOL/KG,,,,DEG C,UMOL/KG,,NMOL/L,,DEG C,,/MILLE,,/MILLE,,/MILLE,UG/KG,,UMOL/KG,,UMOL/KG,,NMOL/L,,VOLTS,,VOLTS,,VOLTS,,NMOL/KG,,UMOL/L,,,,,,NMOL/L,,NMOL/L,,,,,,10000,,10000,,,,PMOL/KG,,PMOL/L,,PMOL/L,,PMOL/L,,PMOL/L,,PMOL/L,,PMOL/L,,PMOL/L,,PMOL/L,,PMOL/L,,PMOL/L,,PMOL/L,,PMOL/L,,PMOL/L,
320620180309  ,S04P       ,24      ,  1,36         ,36         ,2,20180327,1135, -67.0002,-179.2944,     3616,      6.9,-0.7236722222222223833,34.081955160201119,2,  34.0735,2,343.75038208806029,3, 336.6003,2,    337.3,2,     54.0,2,    25.69,2,     0.16,2,     1.76,2,    5.273,2,    2.990,2,   3.5100,2,   2191.2,6,  2311.61,2,   7.6580,2,    24.93,     43.5,2,     -999,9,  -0.7240,2,     -999,9,     -999,9,     -999,     -999,9,    28.80,2,     -999,1,     -999,9,    0.224,1,    4.549,1,    0.253,1,  16.7800,2,     -999,9,20180327,1340, -66.9998,-179.2953,     -999,9,     -999,9,-999          ,9,     -999,9,     -999,9,     -999,     -999,9,     -999,     -999,9,     -999,9,     -999,9,     -999,9,     -999,9,     -999,9,     -999,9,     -999,9,     -999,9,     -999,9,     -999,9,     -999,9,     -999,9,     -999,9
320620180309  ,S04P       ,24      ,  1,35         ,35         ,2,20180327,1135, -67.0002,-179.2944,     3616,     34.5,-0.7248250000000001636,34.053197552627466,3,  34.0737,2,328.94054753056031,3, 325.4066,3,    337.2,2,     54.1,2,    25.68,2,     0.16,2,     1.76,2,    5.269,2,    2.976,2,   3.4800,2,   2192.6,2,  2312.22,2,   7.6587,2,    24.93,     42.7,2,     -999,9,  -0.7255,2,     -999,9,     -999,9,     -999,     -999,9,    29.10,2,     -999,1,     -999,9,    0.235,1,    4.558,1,    0.240,1,  16.2900,2,     -999,9,20180327,1338, -66.9998,-179.2953,     -999,9,     -999,9,-999          ,9,     -999,9,     -999,9,     -999,     -999,9,     -999,     -999,9,     -999,9,     -999,9,     -999,9,     -999,9,     -999,9,     -999,9,     -999,9,     -999,9,     -999,9,     -999,9,     -999,9,     -999,9,     -999,9
320620180309  ,S04P       ,24      ,  1,34         ,34         ,2,20180327,1135, -67.0002,-179.2944,     3616,     60.5,-0.8915861111111110793,33.904628083916911,3,  34.1314,2,307.59761530368297,3, 318.4004,2,    319.1,2,     58.2,2,    26.72,2,     0.16,2,     1.87,2,     -999,9,     -999,9,     -999,9,   2201.3,2,  2312.69,2,   7.6430,2,    24.92,     42.9,2,     -999,9,  -0.8907,2,     -999,9,     -999,9,     -999,     -999,9,    28.70,2,     -999,1,     -999,9,    0.248,1,    4.558,1,    0.245,1,     -999,9,     -999,9,20180327,1336, -66.9997,-179.2956,     -999,9,     -999,9,-999          ,9,     -999,9,     -999,9,     -999,     -999,9,     -999,     -999,9,     -999,9,     -999,9,     -999,9,     -999,9,     -999,9,     -999,9,     -999,9,     -999,9,     -999,9,     -999,9,     -999,9,     -999,9,     -999,9
320620180309  ,S04P       ,24      ,  1,33         ,33         ,2,20180327,1135, -67.0002,-179.2944,     3616,     85.6,-1.5151166666666666671,34.473705335560702,3,  34.2777,2,293.24833294091354,3, 191.1995,3,    282.2,2,     63.5,2,    29.58,2,     0.11,2,     2.09,2,    4.026,2,    2.243,2,   2.4900,2,   2220.5,2,  2319.71,2,   7.6012,2,    24.94,     40.4,2,     -999,9,  -1.5150,2,     -999,9,     -999,9,     -999,     -999,9,    31.70,2,     -999,1,     -999,9,    0.144,1,    4.604,1,    0.212,1,  19.3500,2,     -999,9,20180327,1333, -66.9997,-179.2959,     -999,9,     -999,9,-999          ,9,     -999,9,     -999,9,     -999,     -999,9,     -999,     -999,9,     -999,9,     -999,9,     -999,9,     -999,9,     -999,9,     -999,9,     -999,9,     -999,9,     -999,9,     -999,9,     -999,9,     -999,9,     -999,9
320620180309  ,S04P       ,24      ,  1,32         ,32         ,2,20180327,1135, -67.0002,-179.2944,     3616,    110.5,-1.3870416666666665062,34.975021918792059,3,  34.3337,2,270.75309970006094,3, 233.0972,3,    268.0,2,     65.7,2,    30.53,2,     0.05,2,     2.13,2,     -999,9,     -999,9,     -999,9,   2227.7,2,  2320.41,2,   7.5900,6,    24.93,     40.7,2,     -999,9,  -1.3952,2,     -999,9,     -999,9,     -999,     -999,9,     -999,9,     -999,1,     -999,9,    0.083,1,    4.654,1,    0.158,1,     -999,9,     -999,9,20180327,1331, -66.9997,-179.2964,     -999,9,     -999,9,-999          ,9,     -999,9,     -999,9,     -999,     -999,9,     -999,     -999,9,     -999,9,     -999,9,     -999,9,     -999,9,     -999,9,     -999,9,     -999,9,     -999,9,     -999,9,     -999,9,     -999,9,     -999,9,     -999,9
320620180309  ,S04P       ,24      ,  1,31         ,31         ,2,20180327,1135, -67.0002,-179.2944,     3616,    135.5,-0.9144361111111111162,35.534072962122806,3,  34.3739,2,246.51710289155795,3, 227.6046,3,    252.6,2,     69.9,2,    31.16,2,     0.03,2,     2.16,2,    3.213,2,    1.767,2,   1.7900,2,   2233.4,2,  2321.54,2,   7.5801,2,    24.94,     42.0,2,     -999,9,  -0.9038,2,     -999,9,     -999,9,     -999,     -999,9,    32.90,2,     -999,1,     -999,9,    0.072,1,    4.660,1,    0.151,1,  20.1800,2,     -999,9,20180327,1329, -66.9998,-179.2965,     -999,9,     -999,9,-999          ,9,     -999,9,     -999,9,     -999,     -999,9,     -999,     -999,9,     -999,9,     -999,9,     -999,9,     -999,9,     -999,9,     -999,9,     -999,9,     -999,9,     -999,9,     -999,9,     -999,9,     -999,9,     -999,9
320620180309  ,S04P       ,24      ,  1,30         ,30         ,2,20180327,1135, -67.0002,-179.2944,     3616,    165.9,0.2346166666666666401,35.416856169880148,3,  34.4864,2,211.55536348208750,3, 223.0021,3,    216.6,2,     78.6,2,    32.33,2,     0.03,2,     2.24,2,     -999,9,     -999,9,     -999,9,   2244.7,2,  2331.03,2,   7.5618,2,    24.93,     41.4,2,     -999,9,   0.2363,2,     -999,9,     -999,9,     -999,     -999,9,    33.60,3,     -999,1,     -999,9,    0.069,1,    4.663,1,    0.147,1,     -999,9,     -999,9,20180327,1327, -66.9998,-179.2966,     -999,9,     -999,9,-999          ,9,     -999,9,     -999,9,     -999,     -999,9,     -999,     -999,9,     -999,9,     -999,9,     -999,9,     -999,9,     -999,9,     -999,9,     -999,9,     -999,9,     -999,9,     -999,9,     -999,9,     -999,9,     -999,9
320620180309  ,S04P       ,24      ,  1,29         ,29         ,2,20180327,1135, -67.0002,-179.2944,     3616,    217.4,1.3877361111111108372,34.766215823675338,3,  34.6523,2,197.75208056300715,3, 201.0996,3,    185.7,2,     87.6,2,    32.86,2,     0.02,2,     2.26,2,    0.761,2,    0.411,2,   0.3300,2,   2257.7,6,  2341.95,2,   7.5594,2,    24.93,     40.9,2,     -999,9,   1.3904,2,     -999,9,     -999,9,     -999,     -999,9,    35.00,2,     -999,1,     -999,9,    0.066,1,    4.666,1,    0.148,1,  22.3100,2,     -999,9,20180327,1324, -66.9998,-179.2968,     -999,9,     -999,9,-999          ,9,     -999,9,     -999,9,     -999,     -999,9,     -999,     -999,9,     -999,9,     -999,9,     -999,9,     -999,9,     -999,9,     -999,9,     -999,9,     -999,9,     -999,9,     -999,9,     -999,9,     -999,9,     -999,9
320620180309  ,S04P       ,24      ,  1,28         ,28         ,2,20180327,1135, -67.0002,-179.2944,     3616,    267.7,1.3757749999999999702,34.771869470542285,3,  34.6827,2,198.88389074603504,3, 206.1964,3,    193.8,2,     87.3,2,    32.03,2,     0.00,2,     2.21,2,    0.756,2,    0.422,2,   0.3500,2,   2254.0,2,  2346.81,2,   7.5752,2,    24.93,     40.1,2,     -999,9,   1.3755,2,     -999,9,     -999,9,     -999,     -999,9,    33.20,2,     -999,1,     -999,9,    0.062,1,    4.663,1,    0.153,1,  20.8700,2,     -999,9,20180327,1321, -66.9998,-179.2967,     -999,9,     -999,9,-999          ,9,     -999,9,     -999,9,     -999,     -999,9,     -999,     -999,9,     -999,9,     -999,9,     -999,9,     -999,9,     -999,9,     -999,9,     -999,9,     -999,9,     -999,9,     -999,9,     -999,9,     -999,9,     -999,9
320620180309  ,S04P       ,24      ,  1,27         ,27         ,2,20180327,1135, -67.0002,-179.2944,     3616,    318.7,1.4941222222222225735,34.601536558784261,3,  34.7074,2,198.35233877721657,3, 195.5013,2,    194.3,2,     89.5,2,    31.57,2,     0.00,2,     2.19,2,    0.557,2,    0.304,2,   0.2500,2,   2252.8,2,  2348.96,2,   7.5852,2,    24.94,     -999,9,     -999,9,   1.4935,2,     -999,9,     -999,9,     -999,     -999,9,     -999,9,     -999,9,     -999,9,    0.062,1,    4.665,1,    0.150,1,  20.5900,2,     -999,9,20180327,1318, -66.9998,-179.2966,     -999,9,     -999,9,-999          ,9,     -999,9,     -999,9,     -999,     -999,9,     -999,     -999,9,     -999,9,     -999,9,     -999,9,     -999,9,     -999,9,     -999,9,     -999,9,     -999,9,     -999,9,     -999,9,     -999,9,     -999,9,     -999,9
320620180309  ,S04P       ,24      ,  1,26         ,26         ,2,20180327,1135, -67.0002,-179.2944,     3616,    368.5,1.3408361111111108954,34.711486651599159,2,  34.7072,2,195.13324695894966,3, 194.5996,2,    196.5,2,     91.9,2,    31.63,2,     0.00,2,     2.17,2,    0.573,2,    0.308,2,   0.3100,2,   2253.8,2,  2350.14,2,   7.5845,2,    24.94,     39.2,2,     -999,9,   1.3394,2,     -999,9,     -999,9,     -999,     -999,9,     -999,9,     -999,1,     -999,9,    0.064,1,    4.665,1,    0.155,1,  20.0100,2,     -999,9,20180327,1315, -66.9998,-179.2965,     -999,9,     -999,9,-999          ,9,     -999,9,     -999,9,     -999,     -999,9,     -999,     -999,9,     -999,9,     -999,9,     -999,9,     -999,9,     -999,9,     -999,9,     -999,9,     -999,9,     -999,9,     -999,9,     -999,9,     -999,9,     -999,9
320620180309  ,S04P       ,24      ,  1,25         ,25         ,2,20180327,1135, -67.0002,-179.2944,     3616,    418.9,1.3420638888888887230,34.722376785782288,2,  34.7133,2,195.49298358595689,3, 194.9004,2,    195.5,2,     94.0,2,    31.59,2,     0.00,2,     2.17,2,     -999,9,     -999,9,     -999,9,   2255.1,2,  2350.67,2,   7.5865,6,    24.93,     -999,9,     -999,9,   1.3407,2,     -999,9,     -999,9,     -999,     -999,9,     -999,9,     -999,9,     -999,9,    0.062,1,    4.665,1,    0.146,1,     -999,9,     -999,9,20180327,1313, -66.9998,-179.2965,     -999,9,     -999,9,-999          ,9,     -999,9,     -999,9,     -999,     -999,9,     -999,     -999,9,     -999,9,     -999,9,     -999,9,     -999,9,     -999,9,     -999,9,     -999,9,     -999,9,     -999,9,     -999,9,     -999,9,     -999,9,     -999,9
320620180309  ,S04P       ,24      ,  1,24         ,24         ,2,20180327,1135, -67.0002,-179.2944,     3616,    469.6,1.3621527777777775459,34.676104644533737,3,  34.7210,2,195.51652957060082,2, 192.7959,2,    196.8,2,     95.6,2,    31.38,2,     0.00,2,     2.17,2,    0.405,2,    0.228,2,   0.1700,2,   2254.5,2,  2353.58,2,   7.5934,2,    24.93,     41.8,2,     -999,9,   1.3630,2,     -999,9,     -999,9,     -999,     -999,9,     -999,9,     -999,1,     -999,9,    0.061,1,    4.669,1,    0.144,1,  19.8400,2,     -999,9,20180327,1310, -66.9998,-179.2966,     -999,9,     -999,9,-999          ,9,     -999,9,     -999,9,     -999,     -999,9,     -999,     -999,9,     -999,9,     -999,9,     -999,9,     -999,9,     -999,9,     -999,9,     -999,9,     -999,9,     -999,9,     -999,9,     -999,9,     -999,9,     -999,9
320620180309  ,S04P       ,24      ,  1,23         ,23         ,2,20180327,1135, -67.0002,-179.2944,     3616,    541.2,1.3240388888888887653,34.673655372851449,3,  34.7237,2,196.11985244904994,2, 192.8960,2,    197.9,2,     97.5,2,    31.35,2,     0.00,2,     2.15,2,     -999,9,     -999,9,     -999,9,   2253.6,2,  2355.64,2,   7.5977,2,    24.96,     39.0,2,     -999,9,   1.3239,2,     -999,9,     -999,9,     -999,     -999,9,     -999,9,     -999,1,     -999,9,    0.062,1,    4.671,1,    0.145,1,     -999,9,     -999,9,20180327,1307, -66.9998,-179.2964,     -999,9,     -999,9,-999          ,9,     -999,9,     -999,9,     -999,     -999,9,     -999,     -999,9,     -999,9,     -999,9,     -999,9,     -999,9,     -999,9,     -999,9,     -999,9,     -999,9,     -999,9,     -999,9,     -999,9,     -999,9,     -999,9
320620180309  ,S04P       ,24      ,  1,22         ,37         ,2,20180327,1135, -67.0002,-179.2944,     3616,    642.2,1.2423361111111110855,34.668198995787527,3,  34.7225,2,195.98436717051840,2, 192.9021,2,    198.8,2,    100.5,2,    31.52,2,     0.00,2,     2.18,2,    0.334,2,    0.182,2,   0.1100,2,   2256.5,2,  2354.22,2,   7.5943,2,    24.94,     43.8,2,     -999,9,   1.2425,2,     -999,9,     -999,9,     -999,     -999,9,     -999,9,     -999,1,     -999,9,    0.062,1,    4.670,1,    0.144,1,  19.4900,2,     -999,9,20180327,1303, -66.9999,-179.2957,     -999,9,     -999,9,-999          ,9,     -999,9,     -999,9,     -999,     -999,9,     -999,     -999,9,     -999,9,     -999,9,     -999,9,     -999,9,     -999,9,     -999,9,     -999,9,     -999,9,     -999,9,     -999,9,     -999,9,     -999,9,     -999,9
320620180309  ,S04P       ,24      ,  1,21         ,21         ,2,20180327,1135, -67.0002,-179.2944,     3616,    743.8,1.1698972222222219219,34.669453154396010,3,  34.7217,2,196.30963053398699,3, 193.2009,3,    200.0,2,    103.3,2,    31.58,2,     0.00,2,     2.18,2,    0.304,2,    0.165,2,   0.1800,2,   2257.6,2,  2356.93,2,   7.5979,2,    24.93,     44.8,2,     -999,9,   1.1693,2,     -999,9,     -999,9,     -999,     -999,9,     -999,9,     -999,1,     -999,9,    0.062,1,    4.670,1,    0.143,1,  19.9900,2,     -999,9,20180327,1259, -67.0000,-179.2952,     -999,9,     -999,9,-999          ,9,     -999,9,     -999,9,     -999,     -999,9,     -999,     -999,9,     -999,9,     -999,9,     -999,9,     -999,9,     -999,9,     -999,9,     -999,9,     -999,9,     -999,9,     -999,9,     -999,9,     -999,9,     -999,9
320620180309  ,S04P       ,24      ,  1,20         ,20         ,2,20180327,1135, -67.0002,-179.2944,     3616,    844.1,1.0919861111111108798,34.700472174143343,3,  34.7188,2,197.26631997216921,3, 195.1945,2,    198.7,2,    107.1,2,    31.93,2,     0.00,2,     2.21,2,     -999,9,     -999,9,     -999,9,   2260.0,2,  2358.90,2,   7.5925,2,    24.95,     42.8,2,     -999,9,   1.0924,2,     -999,9,     -999,9,     -999,     -999,9,     -999,9,     -999,1,     -999,9,    0.060,1,    4.668,1,    0.142,1,     -999,9,     -999,9,20180327,1255, -67.0001,-179.2945,     -999,9,     -999,9,-999          ,9,     -999,9,     -999,9,     -999,     -999,9,     -999,     -999,9,     -999,9,     -999,9,     -999,9,     -999,9,     -999,9,     -999,9,     -999,9,     -999,9,     -999,9,     -999,9,     -999,9,     -999,9,     -999,9
320620180309  ,S04P       ,24      ,  1,19         ,19         ,2,20180327,1135, -67.0002,-179.2944,     3616,    944.5,1.0345277777777777128,34.720111904904691,2,  34.7178,2,200.24867281409433,3, 199.8960,2,    200.9,2,    108.9,2,    31.85,2,     0.00,2,     2.23,2,    0.256,6,    0.142,6,   0.0700,6,   2259.0,2,  2359.67,2,   7.5972,2,    24.96,     38.7,2,     -999,9,   1.0343,2,     -999,9,     -999,9,     -999,     -999,9,     -999,9,     -999,1,     -999,9,    0.062,1,    4.671,1,    0.140,1,  19.5200,6,     -999,9,20180327,1251, -67.0003,-179.2939,     -999,9,     -999,9,-999          ,9,     -999,9,     -999,9,     -999,     -999,9,     -999,     -999,9,     -999,9,     -999,9,     -999,9,     -999,9,     -999,9,     -999,9,     -999,9,     -999,9,     -999,9,     -999,9,     -999,9,     -999,9,     -999,9
320620180309  ,S04P       ,24      ,  1,18         ,18         ,2,20180327,1135, -67.0002,-179.2944,     3616,   1047.2,0.9701749999999998986,34.718723160981952,2,  34.7160,2,200.97523177792999,3, 201.2994,2,    202.8,2,    111.7,2,    31.91,2,     0.00,2,     2.23,2,     -999,9,     -999,9,     -999,9,   2261.0,2,  2360.50,2,   7.5987,2,    24.95,     40.8,2,     -999,9,   0.9700,2,     -999,9,     -999,9,     -999,     -999,9,     -999,9,     -999,1,     -999,9,    0.061,1,    4.673,1,    0.138,1,     -999,9,     -999,9,20180327,1248, -67.0004,-179.2934,     -999,9,     -999,9,-999          ,9,     -999,9,     -999,9,     -999,     -999,9,     -999,     -999,9,     -999,9,     -999,9,     -999,9,     -999,9,     -999,9,     -999,9,     -999,9,     -999,9,     -999,9,     -999,9,     -999,9,     -999,9,     -999,9
320620180309  ,S04P       ,24      ,  1,17         ,17         ,2,20180327,1135, -67.0002,-179.2944,     3616,   1148.8,0.9121944444444444189,34.715949386331999,2,  34.7135,2,201.86325295745749,3, 202.1966,2,    203.8,2,    113.5,2,    32.03,2,     0.00,2,     2.24,2,    0.243,2,    0.134,2,   0.1700,2,   2259.7,2,  2360.06,2,   7.5976,2,    24.95,     40.4,2,     -999,9,   0.9121,2,     -999,9,     -999,9,     -999,     -999,9,     -999,9,     -999,1,     -999,9,    0.061,1,    4.674,1,    0.137,1,  19.6400,2,     -999,9,20180327,1245, -67.0005,-179.2929,     -999,9,     -999,9,-999          ,9,     -999,9,     -999,9,     -999,     -999,9,     -999,     -999,9,     -999,9,     -999,9,     -999,9,     -999,9,     -999,9,     -999,9,     -999,9,     -999,9,     -999,9,     -999,9,     -999,9,     -999,9,     -999,9
320620180309  ,S04P       ,24      ,  1,16         ,16         ,2,20180327,1135, -67.0002,-179.2944,     3616,   1250.6,0.8587861111111110279,34.714195819568957,2,  34.7127,2,202.99564891955862,3, 203.4966,2,    203.7,2,    116.7,2,    32.23,2,     0.00,2,     2.22,2,    0.212,2,    0.111,2,   0.0200,2,   2262.1,2,  2362.01,2,   7.5966,2,    24.95,     39.8,2,     -999,9,   0.8589,2,     -999,9,     -999,9,     -999,     -999,9,     -999,9,     -999,1,     -999,9,    0.061,1,    4.674,1,    0.135,1,  19.3800,2,     -999,9,20180327,1242, -67.0006,-179.2927,     -999,9,     -999,9,-999          ,9,     -999,9,     -999,9,     -999,     -999,9,     -999,     -999,9,     -999,9,     -999,9,     -999,9,     -999,9,     -999,9,     -999,9,     -999,9,     -999,9,     -999,9,     -999,9,     -999,9,     -999,9,     -999,9