BOTTLE,20240515CCHHYDRO
EXPOCODE,SECT_ID,STNNBR,CASTNO,SAMPNO,BTLNBR,BTLNBR_FLAG_W,DATE,TIME,LATITUDE,LONGITUDE,DEPTH,CTDPRS,CTDTMP,CTDSAL,CTDSAL_FLAG_W,SALNTY,SALNTY_FLAG_W,CTDOXY,CTDOXY_FLAG_W,CTDOPTOXY,CTDOPTOXY_FLAG_W,OXYGEN,OXYGEN_FLAG_W,SILCAT,SILCAT_FLAG_W,NITRAT,NITRAT_FLAG_W,NITRIT,NITRIT_FLAG_W,PHSPHT,PHSPHT_FLAG_W,CFC-11,CFC-11_FLAG_W,CFC-12,CFC-12_FLAG_W,SF6,SF6_FLAG_W,TCARBN,TCARBN_FLAG_W,ALKALI,ALKALI_FLAG_W,PH_TOT,PH_TOT_FLAG_W,PH_TMP,DOC,DOC_FLAG_W,HELIUM,HELIUM_FLAG_W,REFTMP,REFTMP_FLAG_W,DELC13,DELC13_FLAG_W,DELC14,DELC14_FLAG_W,C14ERR,POC,POC_FLAG_W,TDN,TDN_FLAG_W,TON,TON_FLAG_W,NEON,NEON_FLAG_W,CTDFLUOR,CTDFLUOR_FLAG_W,CTDXMISS,CTDXMISS_FLAG_W,CTDBETA700,CTDBETA700_FLAG_W,N2O,N2O_FLAG_W,ARGON,ARGON_FLAG_W,BTL_DATE,BTL_TIME,BTL_LAT,BTL_LON,KRYPTON,KRYPTON_FLAG_W,XENON,XENON_FLAG_W,HPLC,HPLC_FLAG_W,HE3_HE4_RATIO,HE3_HE4_RATIO_FLAG_W,Nd_143_144_D_EPSILON_BOTTLE,Nd_143_144_D_EPSILON_BOTTLE_FLAG_W,Nd_143_144_D_EPSILON_BOTTLE_ERROR,Nd_143_144_D_RATIO_BOTTLE,Nd_143_144_D_RATIO_BOTTLE_FLAG_W,Nd_143_144_D_RATIO_BOTTLE_ERROR,Nd_D_CONC,Nd_D_CONC_FLAG_W,La_D_CONC_BOTTLE,La_D_CONC_BOTTLE_FLAG_W,Ce_D_CONC_BOTTLE,Ce_D_CONC_BOTTLE_FLAG_W,Pr_D_CONC_BOTTLE,Pr_D_CONC_BOTTLE_FLAG_W,Sm_D_CONC_BOTTLE,Sm_D_CONC_BOTTLE_FLAG_W,Eu_D_CONC_BOTTLE,Eu_D_CONC_BOTTLE_FLAG_W,Gd_D_CONC_BOTTLE,Gd_D_CONC_BOTTLE_FLAG_W,Tb_D_CONC_BOTTLE,Tb_D_CONC_BOTTLE_FLAG_W,Dy_D_CONC_BOTTLE,Dy_D_CONC_BOTTLE_FLAG_W,Ho_D_CONC_BOTTLE,Ho_D_CONC_BOTTLE_FLAG_W,Er_D_CONC_BOTTLE,Er_D_CONC_BOTTLE_FLAG_W,Tm_D_CONC_BOTTLE,Tm_D_CONC_BOTTLE_FLAG_W,Yb_D_CONC_BOTTLE,Yb_D_CONC_BOTTLE_FLAG_W,Lu_D_CONC_BOTTLE,Lu_D_CONC_BOTTLE_FLAG_W
,,,,,,,,,,,METERS,DBAR,ITS-90,PSS-78,,PSS-78,,UMOL/KG,,UMOL/KG,,UMOL/KG,,UMOL/KG,,UMOL/KG,,UMOL/KG,,UMOL/KG,,PMOL/KG,,PMOL/KG,,FMOL/KG,,UMOL/KG,,UMOL/KG,,,,DEG C,UMOL/KG,,NMOL/L,,DEG C,,/MILLE,,/MILLE,,/MILLE,UG/KG,,UMOL/KG,,UMOL/KG,,NMOL/L,,VOLTS,,VOLTS,,VOLTS,,NMOL/KG,,UMOL/L,,,,,,NMOL/L,,NMOL/L,,,,,,10000,,10000,,,,PMOL/KG,,PMOL/L,,PMOL/L,,PMOL/L,,PMOL/L,,PMOL/L,,PMOL/L,,PMOL/L,,PMOL/L,,PMOL/L,,PMOL/L,,PMOL/L,,PMOL/L,,PMOL/L,
320620180309  ,S04P       ,64      ,  1,36         ,36         ,2,20180413,1707, -67.0002,-155.1434,     3774,     10.3,-1.4497972222222219596,33.712257215098269,2,  33.7091,2,350.95936327162315,2, 351.4997,2,    351.4,2,     49.3,2,    23.42,2,     0.16,2,     1.73,2,    7.064,2,    3.460,2,   4.4100,3,   2169.7,6,  2286.04,2,   7.6609,2,    24.94,     45.6,2,     -999,9,  -1.4505,2,     -999,9,     -999,9,     -999,     -999,9,    26.00,2,     -999,1,     -999,9,    0.178,1,    4.600,1,    0.201,1,  17.3100,2,     -999,9,20180413,1910, -66.9983,-155.1439,     -999,9,     -999,9,-999          ,9,     -999,9,     -999,9,     -999,     -999,9,     -999,     -999,9,     -999,9,     -999,9,     -999,9,     -999,9,     -999,9,     -999,9,     -999,9,     -999,9,     -999,9,     -999,9,     -999,9,     -999,9,     -999,9
320620180309  ,S04P       ,64      ,  1,35         ,35         ,2,20180413,1707, -67.0002,-155.1434,     3774,     23.4,-1.4352055555555558453,33.718289568100083,2,  33.7134,2,351.91024502586845,2, 351.4993,2,    351.5,2,     49.5,2,    23.44,2,     0.16,2,     1.73,2,    7.030,2,    3.457,2,   4.4900,3,   2171.4,2,  2285.84,2,   7.6593,2,    24.93,     48.0,2,     -999,9,  -1.4351,2,     -999,9,     -999,9,     -999,     -999,9,    25.70,2,     -999,1,     -999,9,    0.174,1,    4.600,1,    0.202,1,  16.9000,2,     -999,9,20180413,1909, -66.9984,-155.1439,     -999,9,     -999,9,-999          ,9,     -999,9,     -999,9,     -999,     -999,9,     -999,     -999,9,     -999,9,     -999,9,     -999,9,     -999,9,     -999,9,     -999,9,     -999,9,     -999,9,     -999,9,     -999,9,     -999,9,     -999,9,     -999,9
320620180309  ,S04P       ,64      ,  1,34         ,34         ,2,20180413,1707, -67.0002,-155.1434,     3774,     50.0,-1.4322611111111112070,33.771051485626153,2,  33.7673,2,350.53790893964180,2, 351.0006,2,    352.2,2,     51.3,2,    24.20,2,     0.17,2,     1.78,2,    7.142,2,    3.504,2,   3.7200,3,   2175.3,2,  2289.60,2,   7.6569,2,    24.94,     46.0,2,     -999,9,  -1.4329,2,     -999,9,     -999,9,     -999,     -999,9,    27.30,2,     -999,1,     -999,9,    0.185,1,    4.601,1,    0.201,1,  17.1000,2,     -999,9,20180413,1907, -66.9985,-155.1438,     -999,9,     -999,9,-999          ,9,     -999,9,     -999,9,     -999,     -999,9,     -999,     -999,9,     -999,9,     -999,9,     -999,9,     -999,9,     -999,9,     -999,9,     -999,9,     -999,9,     -999,9,     -999,9,     -999,9,     -999,9,     -999,9
320620180309  ,S04P       ,64      ,  1,33         ,33         ,2,20180413,1707, -67.0002,-155.1434,     3774,     73.7,-1.4445583333333331666,33.821274228175497,2,  33.8169,2,350.94119217521154,2, 350.9982,2,    350.3,2,     52.7,2,    24.79,2,     0.18,2,     1.82,2,     -999,9,     -999,9,     -999,9,   2177.9,2,  2289.43,2,   7.6520,2,    24.92,     42.6,2,     -999,9,  -1.4470,2,     -999,9,     -999,9,     -999,     -999,9,    28.20,2,     -999,1,     -999,9,    0.162,1,    4.605,1,    0.189,1,     -999,9,     -999,9,20180413,1906, -66.9986,-155.1439,     -999,9,     -999,9,-999          ,9,     -999,9,     -999,9,     -999,     -999,9,     -999,     -999,9,     -999,9,     -999,9,     -999,9,     -999,9,     -999,9,     -999,9,     -999,9,     -999,9,     -999,9,     -999,9,     -999,9,     -999,9,     -999,9
320620180309  ,S04P       ,64      ,  1,32         ,32         ,2,20180413,1707, -67.0002,-155.1434,     3774,     99.7,-1.4621055555555555472,34.160268696160401,2,  34.1696,2,295.47192870729839,2, 286.0039,3,    294.3,2,     57.6,2,    28.21,2,     0.19,2,     2.07,2,    4.989,2,    2.577,2,   3.4500,3,   2213.3,2,  2312.00,2,   7.6078,2,    24.94,     44.6,2,     -999,9,  -1.4630,2,     -999,9,     -999,9,     -999,     -999,9,    30.30,2,     -999,1,     -999,9,    0.103,1,    4.636,1,    0.166,1,  19.4900,2,     -999,9,20180413,1904, -66.9986,-155.1439,     -999,9,     -999,9,-999          ,9,     -999,9,     -999,9,     -999,     -999,9,     -999,     -999,9,     -999,9,     -999,9,     -999,9,     -999,9,     -999,9,     -999,9,     -999,9,     -999,9,     -999,9,     -999,9,     -999,9,     -999,9,     -999,9
320620180309  ,S04P       ,64      ,  1,31         ,31         ,2,20180413,1707, -67.0002,-155.1434,     3774,    125.6,-0.9868361111111109141,34.261720574819314,2,  34.2706,2,282.42281467049543,3, 266.8975,2,    267.1,2,     64.7,2,    30.16,2,     0.11,2,     2.18,2,     -999,9,     -999,9,     -999,9,   2225.4,2,  2319.88,2,   7.5863,2,    24.93,     -999,9,     -999,9,  -1.0022,2,     -999,9,     -999,9,     -999,     -999,9,     -999,9,     -999,9,     -999,9,    0.095,1,    4.644,1,    0.156,1,     -999,9,     -999,9,20180413,1902, -66.9987,-155.1439,     -999,9,     -999,9,-999          ,9,     -999,9,     -999,9,     -999,     -999,9,     -999,     -999,9,     -999,9,     -999,9,     -999,9,     -999,9,     -999,9,     -999,9,     -999,9,     -999,9,     -999,9,     -999,9,     -999,9,     -999,9,     -999,9
320620180309  ,S04P       ,64      ,  1,30         ,30         ,2,20180413,1707, -67.0002,-155.1434,     3774,    149.3,-0.1300194444444444652,34.390640795667281,2,  34.3948,2,238.82133161269945,3, 237.2040,2,    235.9,2,     73.3,2,    31.77,2,     0.04,2,     2.25,2,    2.865,2,    1.507,2,   1.5300,3,   2237.9,2,  2325.12,2,   7.5659,2,    24.94,     47.9,2,     -999,9,  -0.1136,2,     -999,9,     -999,9,     -999,     -999,9,    33.70,2,     -999,1,     -999,9,    0.073,1,    4.654,1,    0.144,1,  21.9900,2,     -999,9,20180413,1901, -66.9988,-155.1439,     -999,9,     -999,9,-999          ,9,     -999,9,     -999,9,     -999,     -999,9,     -999,     -999,9,     -999,9,     -999,9,     -999,9,     -999,9,     -999,9,     -999,9,     -999,9,     -999,9,     -999,9,     -999,9,     -999,9,     -999,9,     -999,9
320620180309  ,S04P       ,64      ,  1,29         ,29         ,2,20180413,1707, -67.0002,-155.1434,     3774,    201.3,0.9562444444444443414,34.588841948651520,2,  34.5921,2,197.82006969421661,3, 198.9028,3,    195.7,2,     85.5,2,    33.13,2,     0.02,2,     2.32,2,    1.285,2,    0.690,2,   0.4300,3,   2255.2,2,  2339.20,2,   7.5533,2,    24.94,     43.5,2,     -999,9,   0.9532,2,     -999,9,     -999,9,     -999,     -999,9,     -999,9,     -999,1,     -999,9,    0.067,1,    4.656,1,    0.143,1,  22.4800,2,     -999,9,20180413,1859, -66.9988,-155.1438,     -999,9,     -999,9,-999          ,9,     -999,9,     -999,9,     -999,     -999,9,     -999,     -999,9,     -999,9,     -999,9,     -999,9,     -999,9,     -999,9,     -999,9,     -999,9,     -999,9,     -999,9,     -999,9,     -999,9,     -999,9,     -999,9
320620180309  ,S04P       ,64      ,  1,28         ,28         ,2,20180413,1707, -67.0002,-155.1434,     3774,    252.3,1.5005194444444442947,34.690759724616122,2,  34.6872,2,181.81720405949176,2, 183.0982,3,    180.8,2,     91.8,2,    33.12,2,     0.02,2,     2.34,2,    0.537,2,    0.297,2,   0.2600,3,   2261.1,6,  2346.20,2,   7.5657,2,    24.93,     42.7,2,     -999,9,   1.4993,2,     -999,9,     -999,9,     -999,     -999,9,    35.30,2,     -999,1,     -999,9,    0.064,1,    4.659,1,    0.143,1,  22.8400,2,     -999,9,20180413,1857, -66.9988,-155.1439,     -999,9,     -999,9,-999          ,9,     -999,9,     -999,9,     -999,     -999,9,     -999,     -999,9,     -999,9,     -999,9,     -999,9,     -999,9,     -999,9,     -999,9,     -999,9,     -999,9,     -999,9,     -999,9,     -999,9,     -999,9,     -999,9
320620180309  ,S04P       ,64      ,  1,27         ,27         ,2,20180413,1707, -67.0002,-155.1434,     3774,    303.5,1.5799888888888888872,34.719220057863140,2,  34.7159,2,181.66184324097898,2, 181.2979,2,    180.7,2,     94.8,2,    32.88,2,     0.00,2,     2.32,2,    0.325,2,    0.174,2,   0.0900,3,   2263.1,2,  2349.80,2,   7.5649,2,    24.93,     43.1,2,     -999,9,   1.5791,2,     -999,9,     -999,9,     -999,     -999,9,     -999,9,     -999,1,     -999,9,    0.063,1,    4.662,1,    0.138,1,  22.0400,2,     -999,9,20180413,1854, -66.9987,-155.1438,     -999,9,     -999,9,-999          ,9,     -999,9,     -999,9,     -999,     -999,9,     -999,     -999,9,     -999,9,     -999,9,     -999,9,     -999,9,     -999,9,     -999,9,     -999,9,     -999,9,     -999,9,     -999,9,     -999,9,     -999,9,     -999,9
320620180309  ,S04P       ,64      ,  1,26         ,26         ,2,20180413,1707, -67.0002,-155.1434,     3774,    352.3,1.5485249999999997073,34.726209610525785,2,  34.7229,2,182.68043880220506,2, 182.1975,2,    181.8,2,     96.6,2,    32.77,2,     0.00,2,     2.31,2,    0.270,2,    0.150,2,  -0.0200,3,   2262.6,2,  2351.60,2,   7.5581,2,    24.94,     42.6,2,     -999,9,   1.5477,2,     -999,9,     -999,9,     -999,     -999,9,     -999,9,     -999,1,     -999,9,    0.062,1,    4.664,1,    0.135,1,  22.0000,2,     -999,9,20180413,1852, -66.9988,-155.1438,     -999,9,     -999,9,-999          ,9,     -999,9,     -999,9,     -999,     -999,9,     -999,     -999,9,     -999,9,     -999,9,     -999,9,     -999,9,     -999,9,     -999,9,     -999,9,     -999,9,     -999,9,     -999,9,     -999,9,     -999,9,     -999,9
320620180309  ,S04P       ,64      ,  1,25         ,25         ,2,20180413,1707, -67.0002,-155.1434,     3774,    402.7,1.4864111111111113495,34.729254463401759,2,  34.7261,2,183.54263086181692,2, 183.2022,2,    183.0,2,     98.7,2,    32.70,2,     0.00,2,     2.31,2,     -999,9,     -999,9,     -999,9,   2262.2,2,  2353.68,2,   7.5713,6,    24.93,     41.9,2,     -999,9,   1.4848,2,     -999,9,     -999,9,     -999,     -999,9,     -999,9,     -999,1,     -999,9,    0.062,1,    4.665,1,    0.133,1,     -999,9,     -999,9,20180413,1849, -66.9989,-155.1439,     -999,9,     -999,9,-999          ,9,     -999,9,     -999,9,     -999,     -999,9,     -999,     -999,9,     -999,9,     -999,9,     -999,9,     -999,9,     -999,9,     -999,9,     -999,9,     -999,9,     -999,9,     -999,9,     -999,9,     -999,9,     -999,9
320620180309  ,S04P       ,64      ,  1,24         ,24         ,2,20180413,1707, -67.0002,-155.1434,     3774,    454.6,1.4298138888888887177,34.731719199087131,2,  34.7286,2,184.25789192682760,2, 184.5040,2,    183.5,2,    101.8,2,    32.73,2,     0.00,2,     2.30,2,    0.196,2,    0.102,2,   0.0800,3,   2262.2,2,  2352.93,2,   7.5738,2,    24.93,     43.7,2,     -999,9,   1.4289,2,     -999,9,     -999,9,     -999,     -999,9,     -999,9,     -999,1,     -999,9,    0.061,1,    4.665,1,    0.133,1,  21.4800,2,     -999,9,20180413,1847, -66.9990,-155.1439,     -999,9,     -999,9,-999          ,9,     -999,9,     -999,9,     -999,     -999,9,     -999,     -999,9,     -999,9,     -999,9,     -999,9,     -999,9,     -999,9,     -999,9,     -999,9,     -999,9,     -999,9,     -999,9,     -999,9,     -999,9,     -999,9
320620180309  ,S04P       ,64      ,  1,23         ,23         ,2,20180413,1707, -67.0002,-155.1434,     3774,    504.2,1.3822444444444443867,34.731902814121156,2,  34.7292,2,184.68125963213203,2, 185.2039,2,    184.8,2,    103.3,2,    32.78,2,     0.00,2,     2.27,2,     -999,9,     -999,9,     -999,9,   2263.3,2,  2358.11,2,   7.5717,2,    24.95,     41.4,2,     -999,9,   1.3820,2,     -999,9,     -999,9,     -999,     -999,9,     -999,9,     -999,1,     -999,9,    0.061,1,    4.665,1,    0.132,1,     -999,9,     -999,9,20180413,1844, -66.9990,-155.1439,     -999,9,     -999,9,-999          ,9,     -999,9,     -999,9,     -999,     -999,9,     -999,     -999,9,     -999,9,     -999,9,     -999,9,     -999,9,     -999,9,     -999,9,     -999,9,     -999,9,     -999,9,     -999,9,     -999,9,     -999,9,     -999,9
320620180309  ,S04P       ,64      ,  1,22         ,37         ,2,20180413,1707, -67.0002,-155.1434,     3774,    606.2,1.2968611111111107981,34.730891144024952,2,  34.7278,2,185.37495377163123,2, 186.5091,2,    185.9,2,    106.6,2,    32.89,2,     0.00,2,     2.27,2,    0.155,2,    0.077,2,   0.1100,3,   2265.3,2,  2358.57,2,   7.5722,2,    24.95,     42.5,2,     -999,9,   1.2962,2,     -999,9,     -999,9,     -999,     -999,9,     -999,9,     -999,1,     -999,9,    0.062,1,    4.664,1,    0.133,1,  21.0700,2,     -999,9,20180413,1841, -66.9990,-155.1439,     -999,9,     -999,9,-999          ,9,     -999,9,     -999,9,     -999,     -999,9,     -999,     -999,9,     -999,9,     -999,9,     -999,9,     -999,9,     -999,9,     -999,9,     -999,9,     -999,9,     -999,9,     -999,9,     -999,9,     -999,9,     -999,9
320620180309  ,S04P       ,64      ,  1,21         ,21         ,2,20180413,1707, -67.0002,-155.1434,     3774,    707.6,1.2306499999999997996,34.729189187855937,2,  34.7264,2,187.24773948790170,2, 187.8028,2,    188.0,2,    109.4,2,    32.83,2,     0.00,2,     2.26,2,    0.134,2,    0.076,2,   0.2800,3,   2263.9,2,  2356.10,2,   7.5749,2,    24.92,     40.1,2,     -999,9,   1.2294,2,     -999,9,     -999,9,     -999,     -999,9,     -999,9,     -999,1,     -999,9,    0.061,1,    4.664,1,    0.133,1,  21.2400,2,     -999,9,20180413,1837, -66.9993,-155.1439,     -999,9,     -999,9,-999          ,9,     -999,9,     -999,9,     -999,     -999,9,     -999,     -999,9,     -999,9,     -999,9,     -999,9,     -999,9,     -999,9,     -999,9,     -999,9,     -999,9,     -999,9,     -999,9,     -999,9,     -999,9,     -999,9
320620180309  ,S04P       ,64      ,  1,20         ,20         ,2,20180413,1707, -67.0002,-155.1434,     3774,    808.7,1.1666250000000002451,34.727216935942884,2,  34.7245,2,189.63674685615752,2, 189.3976,2,    190.2,2,    111.6,2,    32.72,2,     0.00,2,     2.25,2,     -999,9,     -999,9,     -999,9,   2265.6,2,  2359.18,2,   7.5822,2,    24.93,     41.6,2,     -999,9,   1.1658,2,     -999,9,     -999,9,     -999,     -999,9,     -999,9,     -999,1,     -999,9,    0.061,1,    4.664,1,    0.131,1,     -999,9,     -999,9,20180413,1834, -66.9996,-155.1438,     -999,9,     -999,9,-999          ,9,     -999,9,     -999,9,     -999,     -999,9,     -999,     -999,9,     -999,9,     -999,9,     -999,9,     -999,9,     -999,9,     -999,9,     -999,9,     -999,9,     -999,9,     -999,9,     -999,9,     -999,9,     -999,9
320620180309  ,S04P       ,64      ,  1,19         ,19         ,2,20180413,1707, -67.0002,-155.1434,     3774,    911.3,1.0890277777777774837,34.724568369448669,2,  34.7219,2,192.47652994985998,2, 192.4938,2,    192.5,2,    113.1,2,    32.66,2,     0.00,2,     2.23,2,    0.111,2,    0.062,2,   0.1200,3,   2263.5,2,  2359.94,2,   7.5809,2,    24.92,     39.9,2,     -999,9,   1.0878,2,     -999,9,     -999,9,     -999,     -999,9,     -999,9,     -999,1,     -999,9,    0.061,1,    4.664,1,    0.130,1,  21.0100,2,     -999,9,20180413,1830, -66.9997,-155.1437,     -999,9,     -999,9,-999          ,9,     -999,9,     -999,9,     -999,     -999,9,     -999,     -999,9,     -999,9,     -999,9,     -999,9,     -999,9,     -999,9,     -999,9,     -999,9,     -999,9,     -999,9,     -999,9,     -999,9,     -999,9,     -999,9
320620180309  ,S04P       ,64      ,  1,18         ,18         ,2,20180413,1707, -67.0002,-155.1434,     3774,   1012.3,1.0313166666666666593,34.722197060986929,2,  34.7208,2,195.15750174078553,2, 194.1071,2,    194.7,2,    114.7,2,    32.56,2,     0.00,2,     2.26,2,     -999,9,     -999,9,     -999,9,   2263.6,2,  2360.89,2,   7.5840,2,    24.93,     38.1,2,     -999,9,   1.0317,2,     -999,9,     -999,9,     -999,     -999,9,     -999,9,     -999,1,     -999,9,    0.061,1,    4.665,1,    0.130,1,     -999,9,     -999,9,20180413,1827, -67.0000,-155.1435,     -999,9,     -999,9,-999          ,9,     -999,9,     -999,9,     -999,     -999,9,     -999,     -999,9,     -999,9,     -999,9,     -999,9,     -999,9,     -999,9,     -999,9,     -999,9,     -999,9,     -999,9,     -999,9,     -999,9,     -999,9,     -999,9
320620180309  ,S04P       ,64      ,  1,17         ,17         ,2,20180413,1707, -67.0002,-155.1434,     3774,   1112.2,0.9739999999999997549,34.719768093090742,2,  34.7168,2,197.06140491566086,2, 195.8010,2,    196.5,2,    116.1,2,    32.54,2,     0.00,2,     2.25,2,    0.101,2,    0.053,2,  -0.0500,3,   2262.5,2,  2363.61,2,   7.5872,2,    24.95,     42.2,2,     -999,9,   0.9733,2,     -999,9,     -999,9,     -999,     -999,9,     -999,9,     -999,1,     -999,9,    0.061,1,    4.665,1,    0.130,1,  20.0200,2,     -999,9,20180413,1824, -67.0002,-155.1432,     -999,9,     -999,9,-999          ,9,     -999,9,     -999,9,     -999,     -999,9,     -999,     -999,9,     -999,9,     -999,9,     -999,9,     -999,9,     -999,9,     -999,9,     -999,9,     -999,9,     -999,9,     -999,9,     -999,9,     -999,9,     -999,9
320620180309  ,S04P       ,64      ,  1,16         ,16         ,2,20180413,1707, -67.0002,-155.1434,     3774,   1214.6,0.9211583333333334123,34.717570761934404,2,  34.7149,2,198.61822730885910,2, 197.3982,2,    198.1,2,    117.9,2,    32.53,2,     0.00,2,     2.25,2,     -999,9,     -999,9,     -999,9,   2263.2,2,  2361.66,2,   7.5904,2,    24.89,     39.8,2,     -999,9,   0.9207,2,     -999,9,     -999,9,     -999,     -999,9,     -999,9,     -999,1,     -999,9,    0.061,1,    4.665,1,    0.129,1,     -999,9,     -999,9,20180413,1820, -67.0005,-155.1427,     -999,9,     -999,9,-999          ,9,     -999,9,     -999,9,     -999,     -999,9,     -999,     -999,9,     -999,9,     -999,9,     -999,9,     -999,9,     -999,9,     -999,9,     -999,9,     -999,9,     -999,9,     -999,9,     -999,9,     -999,9,     -999,9