BOTTLE,20240515CCHHYDRO
EXPOCODE,SECT_ID,STNNBR,CASTNO,SAMPNO,BTLNBR,BTLNBR_FLAG_W,DATE,TIME,LATITUDE,LONGITUDE,DEPTH,CTDPRS,CTDTMP,CTDSAL,CTDSAL_FLAG_W,SALNTY,SALNTY_FLAG_W,CTDOXY,CTDOXY_FLAG_W,CTDOPTOXY,CTDOPTOXY_FLAG_W,OXYGEN,OXYGEN_FLAG_W,SILCAT,SILCAT_FLAG_W,NITRAT,NITRAT_FLAG_W,NITRIT,NITRIT_FLAG_W,PHSPHT,PHSPHT_FLAG_W,CFC-11,CFC-11_FLAG_W,CFC-12,CFC-12_FLAG_W,SF6,SF6_FLAG_W,TCARBN,TCARBN_FLAG_W,ALKALI,ALKALI_FLAG_W,PH_TOT,PH_TOT_FLAG_W,PH_TMP,DOC,DOC_FLAG_W,HELIUM,HELIUM_FLAG_W,REFTMP,REFTMP_FLAG_W,DELC13,DELC13_FLAG_W,DELC14,DELC14_FLAG_W,C14ERR,POC,POC_FLAG_W,TDN,TDN_FLAG_W,TON,TON_FLAG_W,NEON,NEON_FLAG_W,CTDFLUOR,CTDFLUOR_FLAG_W,CTDXMISS,CTDXMISS_FLAG_W,CTDBETA700,CTDBETA700_FLAG_W,N2O,N2O_FLAG_W,ARGON,ARGON_FLAG_W,BTL_DATE,BTL_TIME,BTL_LAT,BTL_LON,KRYPTON,KRYPTON_FLAG_W,XENON,XENON_FLAG_W,HPLC,HPLC_FLAG_W,HE3_HE4_RATIO,HE3_HE4_RATIO_FLAG_W,Nd_143_144_D_EPSILON_BOTTLE,Nd_143_144_D_EPSILON_BOTTLE_FLAG_W,Nd_143_144_D_EPSILON_BOTTLE_ERROR,Nd_143_144_D_RATIO_BOTTLE,Nd_143_144_D_RATIO_BOTTLE_FLAG_W,Nd_143_144_D_RATIO_BOTTLE_ERROR,Nd_D_CONC,Nd_D_CONC_FLAG_W,La_D_CONC_BOTTLE,La_D_CONC_BOTTLE_FLAG_W,Ce_D_CONC_BOTTLE,Ce_D_CONC_BOTTLE_FLAG_W,Pr_D_CONC_BOTTLE,Pr_D_CONC_BOTTLE_FLAG_W,Sm_D_CONC_BOTTLE,Sm_D_CONC_BOTTLE_FLAG_W,Eu_D_CONC_BOTTLE,Eu_D_CONC_BOTTLE_FLAG_W,Gd_D_CONC_BOTTLE,Gd_D_CONC_BOTTLE_FLAG_W,Tb_D_CONC_BOTTLE,Tb_D_CONC_BOTTLE_FLAG_W,Dy_D_CONC_BOTTLE,Dy_D_CONC_BOTTLE_FLAG_W,Ho_D_CONC_BOTTLE,Ho_D_CONC_BOTTLE_FLAG_W,Er_D_CONC_BOTTLE,Er_D_CONC_BOTTLE_FLAG_W,Tm_D_CONC_BOTTLE,Tm_D_CONC_BOTTLE_FLAG_W,Yb_D_CONC_BOTTLE,Yb_D_CONC_BOTTLE_FLAG_W,Lu_D_CONC_BOTTLE,Lu_D_CONC_BOTTLE_FLAG_W
,,,,,,,,,,,METERS,DBAR,ITS-90,PSS-78,,PSS-78,,UMOL/KG,,UMOL/KG,,UMOL/KG,,UMOL/KG,,UMOL/KG,,UMOL/KG,,UMOL/KG,,PMOL/KG,,PMOL/KG,,FMOL/KG,,UMOL/KG,,UMOL/KG,,,,DEG C,UMOL/KG,,NMOL/L,,DEG C,,/MILLE,,/MILLE,,/MILLE,UG/KG,,UMOL/KG,,UMOL/KG,,NMOL/L,,VOLTS,,VOLTS,,VOLTS,,NMOL/KG,,UMOL/L,,,,,,NMOL/L,,NMOL/L,,,,,,10000,,10000,,,,PMOL/KG,,PMOL/L,,PMOL/L,,PMOL/L,,PMOL/L,,PMOL/L,,PMOL/L,,PMOL/L,,PMOL/L,,PMOL/L,,PMOL/L,,PMOL/L,,PMOL/L,,PMOL/L,
320620180309  ,S04P       ,68      ,  1,15         ,15         ,2,20180417,1915, -67.0014,-149.3610,     4443,   1352.7,0.7763222222222220248,34.711355333203734,2,  34.7115,2,200.53237997753186,2, 200.3992,2,    201.4,2,    124.0,2,    32.73,2,     0.00,2,     2.25,2,     -999,9,     -999,9,     -999,9,   2261.6,2,  2363.01,2,   7.5933,2,    24.93,     -999,9,     -999,9,   0.7759,2,0.57000000,2, -170.410,2,    0.002,     -999,9,     -999,9,     -999,9,     -999,9,    0.061,1,    4.667,1,    0.129,1,     -999,9,     -999,9,20180417,2029, -67.0017,-149.3613,     -999,9,     -999,9,-999          ,9,     -999,9,     -999,9,     -999,     -999,9,     -999,     -999,9,     -999,9,     -999,9,     -999,9,     -999,9,     -999,9,     -999,9,     -999,9,     -999,9,     -999,9,     -999,9,     -999,9,     -999,9,     -999,9
320620180309  ,S04P       ,68      ,  1,14         ,14         ,2,20180417,1915, -67.0014,-149.3610,     4443,   1453.5,0.7430083333333333817,34.709863050197519,2,  34.7104,2,201.70028505135843,2, 201.7001,2,    202.5,2,    125.0,2,    32.78,2,     0.00,2,     2.25,2,    0.115,2,    0.059,2,  -0.0300,2,   2263.3,2,  2363.26,2,   7.5933,2,    24.93,     -999,5,     -999,9,   0.7429,2,0.64000000,2, -164.560,2,    0.002,     -999,9,     -999,9,     -999,1,     -999,9,    0.061,1,    4.667,1,    0.128,1,  19.6100,2,     -999,9,20180417,2026, -67.0018,-149.3613,     -999,9,     -999,9,-999          ,9,     -999,9,     -999,9,     -999,     -999,9,     -999,     -999,9,     -999,9,     -999,9,     -999,9,     -999,9,     -999,9,     -999,9,     -999,9,     -999,9,     -999,9,     -999,9,     -999,9,     -999,9,     -999,9
320620180309  ,S04P       ,68      ,  1,13         ,13         ,2,20180417,1915, -67.0014,-149.3610,     4443,   1555.8,0.7076583333333332781,34.708445618212274,2,  34.7092,2,202.85807229621938,2, 202.7017,2,    203.0,2,    125.5,2,    32.78,2,     0.00,2,     2.27,2,     -999,9,     -999,9,     -999,9,   2263.6,2,  2362.80,2,   7.5937,6,    24.94,     -999,9,     -999,9,   0.7067,2,0.68000000,2, -165.350,2,    0.002,     -999,9,     -999,9,     -999,9,     -999,9,    0.060,1,    4.667,1,    0.128,1,     -999,9,     -999,9,20180417,2024, -67.0019,-149.3613,     -999,9,     -999,9,-999          ,9,     -999,9,     -999,9,     -999,     -999,9,     -999,     -999,9,     -999,9,     -999,9,     -999,9,     -999,9,     -999,9,     -999,9,     -999,9,     -999,9,     -999,9,     -999,9,     -999,9,     -999,9,     -999,9
320620180309  ,S04P       ,68      ,  1,12         ,12         ,2,20180417,1915, -67.0014,-149.3610,     4443,   1687.9,0.6546027777777776446,34.706676182759466,2,  34.7072,2,204.24265947734344,2, 204.3034,2,    204.6,2,    127.4,2,    32.81,2,     0.00,2,     2.26,2,    0.132,2,    0.071,2,  -0.0200,2,   2262.0,2,  2362.30,2,   7.5932,2,    24.92,     -999,5,     -999,9,   0.6543,2,0.68000000,2, -164.710,2,    0.002,     -999,9,     -999,9,     -999,1,     -999,9,    0.061,1,    4.667,1,    0.128,1,  19.5000,2,     -999,9,20180417,2020, -67.0020,-149.3612,     -999,9,     -999,9,-999          ,9,     -999,9,     -999,9,     -999,     -999,9,     -999,     -999,9,     -999,9,     -999,9,     -999,9,     -999,9,     -999,9,     -999,9,     -999,9,     -999,9,     -999,9,     -999,9,     -999,9,     -999,9,     -999,9
320620180309  ,S04P       ,68      ,  1,11         ,11         ,2,20180417,1915, -67.0014,-149.3610,     4443,   1890.6,0.5848833333333334217,34.704664853182059,2,  34.7049,2,206.04484810915989,2, 206.4945,2,    206.1,2,    128.8,2,    32.83,2,     0.00,2,     2.27,2,    0.142,2,    0.078,2,  -0.0400,2,   2261.8,2,  2364.15,2,   7.5941,2,    24.95,     -999,5,     -999,9,   0.5844,2,0.72000000,2, -165.830,2,    0.002,     -999,9,     -999,9,     -999,1,     -999,9,    0.061,1,    4.667,1,    0.131,1,  19.3100,2,     -999,9,20180417,2015, -67.0021,-149.3612,     -999,9,     -999,9,-999          ,9,     -999,9,     -999,9,     -999,     -999,9,     -999,     -999,9,     -999,9,     -999,9,     -999,9,     -999,9,     -999,9,     -999,9,     -999,9,     -999,9,     -999,9,     -999,9,     -999,9,     -999,9,     -999,9
320620180309  ,S04P       ,68      ,  1,10         ,10         ,2,20180417,1915, -67.0014,-149.3610,     4443,   2116.4,0.4930916666666667614,34.702891043266689,2,  34.7033,2,208.24665928033681,2, 209.1948,2,    208.5,2,    132.0,2,    32.88,2,     0.00,2,     2.27,2,    0.155,2,    0.082,2,   0.1300,2,   2263.1,6,  2363.65,2,   7.5937,2,    24.94,     -999,5,     -999,9,   0.4935,2,0.65000000,2, -166.190,2,    0.002,     -999,9,     -999,9,     -999,1,     -999,9,    0.061,1,    4.667,1,    0.127,1,  19.8400,2,     -999,9,20180417,2010, -67.0020,-149.3613,     -999,9,     -999,9,-999          ,9,     -999,9,     -999,9,     -999,     -999,9,     -999,     -999,9,     -999,9,     -999,9,     -999,9,     -999,9,     -999,9,     -999,9,     -999,9,     -999,9,     -999,9,     -999,9,     -999,9,     -999,9,     -999,9
320620180309  ,S04P       ,68      ,  1,9          ,9          ,2,20180417,1915, -67.0014,-149.3610,     4443,   2371.9,0.4121972222222222149,34.701857731932364,2,  34.7023,2,210.46383806544776,2, 211.6017,2,    210.8,2,    131.8,2,    32.89,2,     0.00,2,     2.24,2,    0.176,2,    0.091,2,   0.1400,2,   2262.1,2,  2362.71,2,   7.5941,2,    24.93,     -999,5,     -999,9,   0.4116,2,0.75000000,2, -167.740,2,    0.002,     -999,9,     -999,9,     -999,1,     -999,9,    0.061,1,    4.667,1,    0.127,1,  18.9400,2,     -999,9,20180417,2004, -67.0018,-149.3613,     -999,9,     -999,9,-999          ,9,     -999,9,     -999,9,     -999,     -999,9,     -999,     -999,9,     -999,9,     -999,9,     -999,9,     -999,9,     -999,9,     -999,9,     -999,9,     -999,9,     -999,9,     -999,9,     -999,9,     -999,9,     -999,9
320620180309  ,S04P       ,68      ,  1,8          ,8          ,2,20180417,1915, -67.0014,-149.3610,     4443,   2626.4,0.3560194444444443884,34.700806573338184,2,  34.7011,2,212.37541317301071,2, 213.3033,2,    212.3,2,    133.6,2,    32.98,2,     0.00,2,     2.28,2,     -999,9,     -999,9,     -999,9,   2262.6,2,  2365.15,2,   7.5946,2,    24.92,     -999,5,     -999,9,   0.3558,2,0.77000000,2, -164.550,2,    0.002,     -999,9,     -999,9,     -999,1,     -999,9,    0.061,1,    4.667,1,    0.126,1,     -999,9,     -999,9,20180417,1958, -67.0016,-149.3613,     -999,9,     -999,9,-999          ,9,     -999,9,     -999,9,     -999,     -999,9,     -999,     -999,9,     -999,9,     -999,9,     -999,9,     -999,9,     -999,9,     -999,9,     -999,9,     -999,9,     -999,9,     -999,9,     -999,9,     -999,9,     -999,9
320620180309  ,S04P       ,68      ,  1,7          ,7          ,2,20180417,1915, -67.0014,-149.3610,     4443,   2882.0,0.2989111111111110719,34.699155556030192,2,  34.6996,2,214.62855891086770,2, 215.0027,2,    214.5,2,    134.2,2,    33.00,2,     0.00,2,     2.28,2,    0.298,2,    0.166,2,   0.1100,2,   2261.3,2,  2362.25,2,   7.5950,2,    24.93,     -999,5,     -999,9,   0.2983,2,0.49000000,2, -168.630,2,    0.003,     -999,9,     -999,9,     -999,1,     -999,9,    0.061,1,    4.667,1,    0.127,1,  18.9700,2,     -999,9,20180417,1953, -67.0013,-149.3614,     -999,9,     -999,9,-999          ,9,     -999,9,     -999,9,     -999,     -999,9,     -999,     -999,9,     -999,9,     -999,9,     -999,9,     -999,9,     -999,9,     -999,9,     -999,9,     -999,9,     -999,9,     -999,9,     -999,9,     -999,9,     -999,9
320620180309  ,S04P       ,68      ,  1,6          ,6          ,2,20180417,1915, -67.0014,-149.3610,     4443,   3153.8,0.2362222222222221668,34.695062987667875,2,  34.6954,2,217.25118941078253,2, 216.1964,2,    217.1,2,    132.0,2,    32.91,2,     0.00,2,     2.28,2,    0.540,2,    0.280,2,   0.2700,2,   2263.1,2,  2361.88,2,   7.5934,2,    24.93,     -999,5,     -999,9,   0.2358,2,0.54000000,2, -161.330,2,    0.002,     -999,9,     -999,9,     -999,1,     -999,9,    0.060,1,    4.667,1,    0.126,1,  19.2700,2,     -999,9,20180417,1946, -67.0014,-149.3614,     -999,9,     -999,9,-999          ,9,     -999,9,     -999,9,     -999,     -999,9,     -999,     -999,9,     -999,9,     -999,9,     -999,9,     -999,9,     -999,9,     -999,9,     -999,9,     -999,9,     -999,9,     -999,9,     -999,9,     -999,9,     -999,9
320620180309  ,S04P       ,68      ,  1,5          ,5          ,2,20180417,1915, -67.0014,-149.3610,     4443,   3461.2,0.2061888888888888938,34.692551407927901,2,  34.6929,2,218.93566832450580,2, 218.6005,2,    219.2,2,    128.5,2,    32.85,2,     0.00,2,     2.26,2,    0.734,2,    0.385,2,   0.1900,2,   2260.9,2,  2359.75,2,   7.5923,2,    24.93,     -999,5,     -999,9,   0.2057,2,0.64500000,6, -159.945,6,    0.002,     -999,9,     -999,9,     -999,1,     -999,9,    0.061,1,    4.665,1,    0.126,1,  19.0200,2,     -999,9,20180417,1939, -67.0013,-149.3614,     -999,9,     -999,9,-999          ,9,     -999,9,     -999,9,     -999,     -999,9,     -999,     -999,9,     -999,9,     -999,9,     -999,9,     -999,9,     -999,9,     -999,9,     -999,9,     -999,9,     -999,9,     -999,9,     -999,9,     -999,9,     -999,9
320620180309  ,S04P       ,68      ,  1,4          ,4          ,2,20180417,1915, -67.0014,-149.3610,     4443,   3769.4,0.2193194444444444557,34.692970579908845,2,  34.6939,2,219.39432995190694,2, 219.3990,2,    219.2,2,    129.3,2,    32.89,2,     0.00,2,     2.25,2,    0.743,2,    0.383,2,   0.1500,2,   2261.2,2,  2360.44,2,   7.5917,2,    24.93,     -999,5,     -999,9,   0.2187,2,0.68000000,2, -160.650,2,    0.002,     -999,9,     -999,9,     -999,1,     -999,9,    0.061,1,    4.664,1,    0.127,1,  18.9400,2,     -999,9,20180417,1932, -67.0014,-149.3613,     -999,9,     -999,9,-999          ,9,     -999,9,     -999,9,     -999,     -999,9,     -999,     -999,9,     -999,9,     -999,9,     -999,9,     -999,9,     -999,9,     -999,9,     -999,9,     -999,9,     -999,9,     -999,9,     -999,9,     -999,9,     -999,9
320620180309  ,S04P       ,68      ,  1,3          ,3          ,2,20180417,1915, -67.0014,-149.3610,     4443,   4078.7,0.2437444444444444580,34.693760421348976,2,  34.6935,2,219.51650289949819,2, 219.5023,2,    219.4,2,    129.6,2,    32.94,2,     0.00,2,     2.25,2,    0.737,2,    0.379,2,   0.2500,2,   2261.8,2,  2360.64,2,   7.5923,2,    24.94,     -999,5,     -999,9,   0.2433,2,0.75000000,2, -159.920,2,    0.002,     -999,9,     -999,9,     -999,1,     -999,9,    0.061,1,    4.663,1,    0.128,1,  19.0400,2,     -999,9,20180417,1926, -67.0014,-149.3613,     -999,9,     -999,9,-999          ,9,     -999,9,     -999,9,     -999,     -999,9,     -999,     -999,9,     -999,9,     -999,9,     -999,9,     -999,9,     -999,9,     -999,9,     -999,9,     -999,9,     -999,9,     -999,9,     -999,9,     -999,9,     -999,9
320620180309  ,S04P       ,68      ,  1,2          ,2          ,2,20180417,1915, -67.0014,-149.3610,     4443,   4300.4,0.2648222222222221811,34.694207533337995,2,  34.6949,2,219.49456167860308,2, 219.6011,2,    219.3,2,    129.9,2,    32.95,2,     0.00,2,     2.25,2,    0.727,2,    0.371,2,   0.1700,2,   2265.0,2,  2363.19,2,   7.5922,2,    24.90,     -999,9,     -999,9,   0.2644,2,0.71000000,2, -158.570,2,    0.002,     -999,9,     -999,9,     -999,9,     -999,9,    0.061,1,    4.662,1,    0.129,1,  19.3100,2,     -999,9,20180417,1920, -67.0014,-149.3612,     -999,9,     -999,9,-999          ,9,     -999,9,     -999,9,     -999,     -999,9,     -999,     -999,9,     -999,9,     -999,9,     -999,9,     -999,9,     -999,9,     -999,9,     -999,9,     -999,9,     -999,9,     -999,9,     -999,9,     -999,9,     -999,9
320620180309  ,S04P       ,68      ,  1,1          ,1          ,2,20180417,1915, -67.0014,-149.3610,     4443,   4524.1,0.2862027777777778059,34.694529801277177,2,  34.6952,2,219.74537429482652,2, 219.5048,2,    219.5,2,    129.9,2,    32.92,2,     0.00,2,     2.25,2,    0.719,2,    0.365,2,   0.1000,2,   2261.7,6,  2361.33,2,   7.5921,2,    24.90,     -999,5,     -999,9,   0.2859,2,0.74000000,2, -156.680,2,    0.001,     -999,9,     -999,9,     -999,1,     -999,9,    0.061,1,    4.661,1,    0.131,1,  19.0200,2,     -999,9,20180417,1915, -67.0014,-149.3610,     -999,9,     -999,9,-999          ,9,     -999,9,     -999,9,     -999,     -999,9,     -999,     -999,9,     -999,9,     -999,9,     -999,9,     -999,9,     -999,9,     -999,9,     -999,9,     -999,9,     -999,9,     -999,9,     -999,9,     -999,9,     -999,9