BOTTLE,20240515CCHHYDRO
EXPOCODE,SECT_ID,STNNBR,CASTNO,SAMPNO,BTLNBR,BTLNBR_FLAG_W,DATE,TIME,LATITUDE,LONGITUDE,DEPTH,CTDPRS,CTDTMP,CTDSAL,CTDSAL_FLAG_W,SALNTY,SALNTY_FLAG_W,CTDOXY,CTDOXY_FLAG_W,CTDOPTOXY,CTDOPTOXY_FLAG_W,OXYGEN,OXYGEN_FLAG_W,SILCAT,SILCAT_FLAG_W,NITRAT,NITRAT_FLAG_W,NITRIT,NITRIT_FLAG_W,PHSPHT,PHSPHT_FLAG_W,CFC-11,CFC-11_FLAG_W,CFC-12,CFC-12_FLAG_W,SF6,SF6_FLAG_W,TCARBN,TCARBN_FLAG_W,ALKALI,ALKALI_FLAG_W,PH_TOT,PH_TOT_FLAG_W,PH_TMP,DOC,DOC_FLAG_W,HELIUM,HELIUM_FLAG_W,REFTMP,REFTMP_FLAG_W,DELC13,DELC13_FLAG_W,DELC14,DELC14_FLAG_W,C14ERR,POC,POC_FLAG_W,TDN,TDN_FLAG_W,TON,TON_FLAG_W,NEON,NEON_FLAG_W,CTDFLUOR,CTDFLUOR_FLAG_W,CTDXMISS,CTDXMISS_FLAG_W,CTDBETA700,CTDBETA700_FLAG_W,N2O,N2O_FLAG_W,ARGON,ARGON_FLAG_W,BTL_DATE,BTL_TIME,BTL_LAT,BTL_LON,KRYPTON,KRYPTON_FLAG_W,XENON,XENON_FLAG_W,HPLC,HPLC_FLAG_W,HE3_HE4_RATIO,HE3_HE4_RATIO_FLAG_W,Nd_143_144_D_EPSILON_BOTTLE,Nd_143_144_D_EPSILON_BOTTLE_FLAG_W,Nd_143_144_D_EPSILON_BOTTLE_ERROR,Nd_143_144_D_RATIO_BOTTLE,Nd_143_144_D_RATIO_BOTTLE_FLAG_W,Nd_143_144_D_RATIO_BOTTLE_ERROR,Nd_D_CONC,Nd_D_CONC_FLAG_W,La_D_CONC_BOTTLE,La_D_CONC_BOTTLE_FLAG_W,Ce_D_CONC_BOTTLE,Ce_D_CONC_BOTTLE_FLAG_W,Pr_D_CONC_BOTTLE,Pr_D_CONC_BOTTLE_FLAG_W,Sm_D_CONC_BOTTLE,Sm_D_CONC_BOTTLE_FLAG_W,Eu_D_CONC_BOTTLE,Eu_D_CONC_BOTTLE_FLAG_W,Gd_D_CONC_BOTTLE,Gd_D_CONC_BOTTLE_FLAG_W,Tb_D_CONC_BOTTLE,Tb_D_CONC_BOTTLE_FLAG_W,Dy_D_CONC_BOTTLE,Dy_D_CONC_BOTTLE_FLAG_W,Ho_D_CONC_BOTTLE,Ho_D_CONC_BOTTLE_FLAG_W,Er_D_CONC_BOTTLE,Er_D_CONC_BOTTLE_FLAG_W,Tm_D_CONC_BOTTLE,Tm_D_CONC_BOTTLE_FLAG_W,Yb_D_CONC_BOTTLE,Yb_D_CONC_BOTTLE_FLAG_W,Lu_D_CONC_BOTTLE,Lu_D_CONC_BOTTLE_FLAG_W
,,,,,,,,,,,METERS,DBAR,ITS-90,PSS-78,,PSS-78,,UMOL/KG,,UMOL/KG,,UMOL/KG,,UMOL/KG,,UMOL/KG,,UMOL/KG,,UMOL/KG,,PMOL/KG,,PMOL/KG,,FMOL/KG,,UMOL/KG,,UMOL/KG,,,,DEG C,UMOL/KG,,NMOL/L,,DEG C,,/MILLE,,/MILLE,,/MILLE,UG/KG,,UMOL/KG,,UMOL/KG,,NMOL/L,,VOLTS,,VOLTS,,VOLTS,,NMOL/KG,,UMOL/L,,,,,,NMOL/L,,NMOL/L,,,,,,10000,,10000,,,,PMOL/KG,,PMOL/L,,PMOL/L,,PMOL/L,,PMOL/L,,PMOL/L,,PMOL/L,,PMOL/L,,PMOL/L,,PMOL/L,,PMOL/L,,PMOL/L,,PMOL/L,,PMOL/L,
320620180309  ,S04P       ,3       ,  1,34         ,34         ,2,20180317,1251, -70.0964, 169.1262,     2657,      6.6,-1.7458388888888891621,33.915651621172238,2,  33.9145,2,347.38238167776927,2, 327.5009,2,    348.8,2,     69.2,2,    26.95,2,     0.13,2,     1.85,2,    5.983,2,    3.132,2,   3.7400,2,   2186.2,6,  2298.55,2,   7.6543,2,    24.99,     44.3,2,     -999,9,  -1.7462,2,     -999,9,     -999,9,     -999,     -999,9,    31.50,2,     -999,1,     -999,9,    0.238,1,    4.565,1,    0.237,1,  17.5100,2,     -999,9,20180317,1444, -70.0978, 169.1252,     -999,9,     -999,9,-999          ,9,     -999,9,     -999,9,     -999,     -999,9,     -999,     -999,9,     -999,1,     -999,1,     -999,1,     -999,1,     -999,1,     -999,1,     -999,1,     -999,1,     -999,1,     -999,1,     -999,1,     -999,1,     -999,1
320620180309  ,S04P       ,3       ,  1,33         ,33         ,2,20180317,1251, -70.0964, 169.1262,     2657,     34.8,-1.7429194444444444656,33.974402285122558,2,  33.9636,2,348.30155811722784,2, 327.5019,2,    346.4,2,     70.9,2,    27.31,2,     0.13,2,     1.87,2,     -999,9,     -999,9,     -999,9,   2189.4,2,  2301.42,2,   7.6543,2,    24.99,     44.3,2,     -999,9,  -1.7221,2,     -999,9,     -999,9,     -999,     -999,9,    30.80,2,     -999,1,     -999,9,    0.266,1,    4.578,1,    0.227,1,     -999,9,     -999,9,20180317,1441, -70.0977, 169.1252,     -999,9,     -999,9,-999          ,9,     -999,9,     -999,9,     -999,     -999,9,     -999,     -999,9,     -999,1,     -999,1,     -999,1,     -999,1,     -999,1,     -999,1,     -999,1,     -999,1,     -999,1,     -999,1,     -999,1,     -999,1,     -999,1
320620180309  ,S04P       ,3       ,  1,32         ,32         ,2,20180317,1251, -70.0964, 169.1262,     2657,     60.4,-1.7464583333333334458,33.986935691891951,2,  33.9864,2,346.54923029042004,2, 361.4974,2,    346.8,2,     70.4,2,    27.48,2,     0.13,2,     1.86,2,     -999,9,     -999,9,     -999,9,   2190.4,2,  2302.09,2,   7.6507,2,    24.99,     44.1,2,     -999,9,  -1.7466,2,     -999,9,     -999,9,     -999,     -999,9,    31.20,2,     -999,1,     -999,9,    0.241,1,    4.575,1,    0.229,1,     -999,9,     -999,9,20180317,1439, -70.0977, 169.1253,     -999,9,     -999,9,-999          ,9,     -999,9,     -999,9,     -999,     -999,9,     -999,     -999,9,     -999,1,     -999,1,     -999,1,     -999,1,     -999,1,     -999,1,     -999,1,     -999,1,     -999,1,     -999,1,     -999,1,     -999,1,     -999,1
320620180309  ,S04P       ,3       ,  1,31         ,31         ,2,20180317,1251, -70.0964, 169.1262,     2657,     84.6,-1.5551222222222222946,34.242361547519863,3,  34.2054,4,321.03756016849621,3, 297.7969,2,    307.1,2,     76.5,2,    29.19,2,     0.16,2,     2.00,2,     -999,9,     -999,9,     -999,9,   2215.1,2,  2316.12,2,   7.6203,2,    24.98,     44.1,2,     -999,9,  -1.5560,2,     -999,9,     -999,9,     -999,     -999,9,    32.90,2,     -999,1,     -999,9,    0.208,1,    4.593,1,    0.228,1,     -999,9,     -999,9,20180317,1437, -70.0975, 169.1254,     -999,9,     -999,9,-999          ,9,     -999,9,     -999,9,     -999,     -999,9,     -999,     -999,9,     -999,9,     -999,9,     -999,9,     -999,9,     -999,9,     -999,9,     -999,9,     -999,9,     -999,9,     -999,9,     -999,9,     -999,9,     -999,9
320620180309  ,S04P       ,3       ,  1,30         ,30         ,2,20180317,1251, -70.0964, 169.1262,     2657,    109.0,-1.6156611111111112145,34.354047736721505,2,  34.3521,2,300.49415739347438,3, 305.7012,2,    289.8,2,     78.8,2,    30.43,2,     0.15,2,     2.10,2,     -999,9,     -999,9,     -999,9,   2227.3,2,  2325.45,2,   7.6196,2,    24.99,     41.0,2,     -999,9,  -1.6164,2,     -999,9,     -999,9,     -999,     -999,9,    33.40,2,     -999,1,     -999,9,    0.093,1,    4.663,1,    0.163,1,     -999,9,     -999,9,20180317,1435, -70.0975, 169.1255,     -999,9,     -999,9,-999          ,9,     -999,9,     -999,9,     -999,     -999,9,     -999,     -999,9,     -999,1,     -999,1,     -999,1,     -999,1,     -999,1,     -999,1,     -999,1,     -999,1,     -999,1,     -999,1,     -999,1,     -999,1,     -999,1
320620180309  ,S04P       ,3       ,  1,29         ,29         ,2,20180317,1251, -70.0964, 169.1262,     2657,    135.2,-1.5889027777777775530,34.394486780855345,2,  34.3919,2,301.84601444517136,3, 300.8055,2,    286.0,2,     79.7,2,    30.77,2,     0.05,2,     2.09,2,    3.998,2,    2.147,2,   2.7500,2,   2231.5,2,  2327.07,2,   7.6066,6,    24.99,     -999,9,     -999,9,  -1.5908,2,     -999,9,     -999,9,     -999,     -999,9,     -999,9,     -999,9,     -999,9,    0.079,1,    4.676,1,    0.148,1,  19.3600,2,     -999,9,20180317,1433, -70.0974, 169.1256,     -999,9,     -999,9,-999          ,9,     -999,9,     -999,9,     -999,     -999,9,     -999,     -999,9,     -999,9,     -999,9,     -999,9,     -999,9,     -999,9,     -999,9,     -999,9,     -999,9,     -999,9,     -999,9,     -999,9,     -999,9,     -999,9
320620180309  ,S04P       ,3       ,  1,28         ,28         ,2,20180317,1251, -70.0964, 169.1262,     2657,    160.3,-1.4983444444444444787,34.413939753836466,2,  34.4117,2,302.96747996696598,3, 292.6997,2,    281.5,2,     80.6,2,    30.94,2,     0.02,2,     2.10,2,     -999,9,     -999,9,     -999,9,   2234.6,2,  2329.19,2,   7.6005,6,    24.99,     46.0,3,     -999,9,  -1.5013,2,     -999,9,     -999,9,     -999,     -999,9,     -999,9,     -999,1,     -999,9,    0.072,1,    4.680,1,    0.144,1,     -999,9,     -999,9,20180317,1431, -70.0973, 169.1257,     -999,9,     -999,9,-999          ,9,     -999,9,     -999,9,     -999,     -999,9,     -999,     -999,9,     -999,1,     -999,1,     -999,1,     -999,1,     -999,1,     -999,1,     -999,1,     -999,1,     -999,1,     -999,1,     -999,1,     -999,1,     -999,1
320620180309  ,S04P       ,3       ,  1,27         ,27         ,2,20180317,1251, -70.0964, 169.1262,     2657,    186.1,-1.3038527777777777494,34.437501131495466,2,  34.4395,2,287.20615505445409,3, 273.3978,2,    272.0,2,     82.1,2,    31.11,2,     0.00,2,     2.10,2,     -999,9,     -999,9,     -999,9,   2236.9,2,  2331.10,2,   7.5970,2,    24.99,     -999,9,     -999,9,  -1.3071,2,     -999,9,     -999,9,     -999,     -999,9,     -999,9,     -999,9,     -999,9,    0.068,1,    4.680,1,    0.145,1,     -999,9,     -999,9,20180317,1429, -70.0973, 169.1257,     -999,9,     -999,9,-999          ,9,     -999,9,     -999,9,     -999,     -999,9,     -999,     -999,9,     -999,9,     -999,9,     -999,9,     -999,9,     -999,9,     -999,9,     -999,9,     -999,9,     -999,9,     -999,9,     -999,9,     -999,9,     -999,9
320620180309  ,S04P       ,3       ,  1,26         ,26         ,2,20180317,1251, -70.0964, 169.1262,     2657,    214.6,-1.0625777777777776212,34.471475707663501,2,  34.4681,2,273.42083527069400,3, 248.9004,2,    263.6,2,     83.9,2,    31.20,2,     0.00,2,     2.13,2,    3.196,2,    1.733,2,   2.1700,2,   2238.8,2,  2334.09,2,   7.5933,2,    24.99,     40.4,2,     -999,9,  -1.0521,2,     -999,9,     -999,9,     -999,     -999,9,    33.50,2,     -999,1,     -999,9,    0.066,1,    4.681,1,    0.146,1,  20.0000,2,     -999,9,20180317,1427, -70.0973, 169.1257,     -999,9,     -999,9,-999          ,9,     -999,9,     -999,9,     -999,     -999,9,     -999,     -999,9,     -999,1,     -999,1,     -999,1,     -999,1,     -999,1,     -999,1,     -999,1,     -999,1,     -999,1,     -999,1,     -999,1,     -999,1,     -999,1
320620180309  ,S04P       ,3       ,  1,25         ,25         ,2,20180317,1251, -70.0964, 169.1262,     2657,    234.9,-0.5722527777777777214,34.520121441900528,2,  34.5217,2,249.94205681933127,3, 234.4987,2,    245.6,2,     87.8,2,    31.51,2,     0.00,2,     2.14,2,     -999,9,     -999,9,     -999,9,   2245.4,2,  2337.18,2,   7.5904,2,    24.98,     -999,9,     -999,9,  -0.5670,2,     -999,9,     -999,9,     -999,     -999,9,     -999,9,     -999,9,     -999,9,    0.065,1,    4.682,1,    0.142,1,     -999,9,     -999,9,20180317,1425, -70.0972, 169.1258,     -999,9,     -999,9,-999          ,9,     -999,9,     -999,9,     -999,     -999,9,     -999,     -999,9,     -999,9,     -999,9,     -999,9,     -999,9,     -999,9,     -999,9,     -999,9,     -999,9,     -999,9,     -999,9,     -999,9,     -999,9,     -999,9
320620180309  ,S04P       ,3       ,  1,24         ,24         ,2,20180317,1251, -70.0964, 169.1262,     2657,    266.4,-0.0741083333333333177,34.573202091930469,2,  34.5707,2,231.71906578995907,2, 220.5984,2,    230.5,2,     91.1,2,    31.69,2,     0.00,2,     2.14,2,     -999,9,     -999,9,     -999,9,   2247.7,2,  2341.67,2,   7.5890,2,    24.97,     42.0,2,     -999,9,  -0.0683,2,     -999,9,     -999,9,     -999,     -999,9,    33.60,2,     -999,1,     -999,9,    0.065,1,    4.681,1,    0.142,1,     -999,9,     -999,9,20180317,1423, -70.0971, 169.1259,     -999,9,     -999,9,-999          ,9,     -999,9,     -999,9,     -999,     -999,9,     -999,     -999,9,     -999,1,     -999,1,     -999,1,     -999,1,     -999,1,     -999,1,     -999,1,     -999,1,     -999,1,     -999,1,     -999,1,     -999,1,     -999,1
320620180309  ,S04P       ,3       ,  1,23         ,23         ,2,20180317,1251, -70.0964, 169.1262,     2657,    316.9,0.8592277777777779235,34.671478623573023,2,  34.6723,2,199.71799068761055,2, 196.6001,2,    199.7,2,     97.8,2,    32.27,2,     0.00,2,     2.19,2,    0.858,2,    0.457,2,   0.3400,2,   2259.9,2,  2348.90,2,   7.5793,2,    24.97,     42.6,2,     -999,9,   0.8601,2,     -999,9,     -999,9,     -999,     -999,9,     -999,9,     -999,1,     -999,9,    0.062,1,    4.681,1,    0.142,1,  21.3600,2,     -999,9,20180317,1421, -70.0970, 169.1259,     -999,9,     -999,9,-999          ,9,     -999,9,     -999,9,     -999,     -999,9,     -999,     -999,9,     -999,9,     -999,9,     -999,9,     -999,9,     -999,9,     -999,9,     -999,9,     -999,9,     -999,9,     -999,9,     -999,9,     -999,9,     -999,9
320620180309  ,S04P       ,3       ,  1,22         ,22         ,2,20180317,1251, -70.0964, 169.1262,     2657,    349.2,1.0015944444444444539,34.692237770881505,2,  34.6911,2,197.60291888682735,2, 196.5992,2,    196.0,2,    101.3,2,    32.23,2,     0.00,2,     2.19,2,     -999,9,     -999,9,     -999,9,   2260.8,2,  2351.06,2,   7.5755,2,    24.97,     40.5,2,     -999,9,   0.9838,2,     -999,9,     -999,9,     -999,     -999,9,     -999,9,     -999,1,     -999,9,    0.061,1,    4.684,1,    0.143,1,     -999,9,     -999,9,20180317,1419, -70.0969, 169.1260,     -999,9,     -999,9,-999          ,9,     -999,9,     -999,9,     -999,     -999,9,     -999,     -999,9,     -999,1,     -999,1,     -999,1,     -999,1,     -999,1,     -999,1,     -999,1,     -999,1,     -999,1,     -999,1,     -999,1,     -999,1,     -999,1
320620180309  ,S04P       ,3       ,  1,21         ,21         ,2,20180317,1251, -70.0964, 169.1262,     2657,    417.7,0.9083749999999999325,34.695152682692765,2,  34.6939,2,198.28293078406801,2, 196.6998,2,    198.3,2,    104.1,2,    32.16,2,     0.00,2,     2.20,2,     -999,9,     -999,9,     -999,9,   2261.1,2,  2354.55,2,   7.5760,2,    24.97,     40.0,2,     -999,9,   0.9079,2,     -999,9,     -999,9,     -999,     -999,9,     -999,9,     -999,1,     -999,9,    0.062,1,    4.687,1,    0.136,1,     -999,9,     -999,9,20180317,1416, -70.0968, 169.1260,     -999,9,     -999,9,-999          ,9,     -999,9,     -999,9,     -999,     -999,9,     -999,     -999,9,     -999,9,     -999,9,     -999,9,     -999,9,     -999,9,     -999,9,     -999,9,     -999,9,     -999,9,     -999,9,     -999,9,     -999,9,     -999,9
320620180309  ,S04P       ,3       ,  1,20         ,20         ,2,20180317,1251, -70.0964, 169.1262,     2657,    470.7,0.8980305555555556651,34.699012901708592,2,  34.6972,2,198.19361602111468,2, 196.7969,2,    199.2,2,    106.6,2,    32.14,2,     0.00,2,     2.20,2,    0.520,2,    0.296,2,   0.3000,2,   2263.1,2,  2354.40,2,   7.5795,6,    24.97,     43.2,3,     -999,9,   0.8973,2,     -999,9,     -999,9,     -999,     -999,9,     -999,9,     -999,1,     -999,9,    0.061,1,    4.688,1,    0.137,1,  21.2100,2,     -999,9,20180317,1413, -70.0966, 169.1261,     -999,9,     -999,9,-999          ,9,     -999,9,     -999,9,     -999,     -999,9,     -999,     -999,9,     -999,1,     -999,1,     -999,1,     -999,1,     -999,1,     -999,1,     -999,1,     -999,1,     -999,1,     -999,1,     -999,1,     -999,1,     -999,1
320620180309  ,S04P       ,3       ,  1,19         ,19         ,2,20180317,1251, -70.0964, 169.1262,     2657,    539.9,0.8836111111111111249,34.704138236339809,2,  34.7031,2,198.92630409765871,2, 198.5030,2,    198.7,2,    109.4,2,    32.12,2,     0.00,2,     2.21,2,     -999,9,     -999,9,     -999,9,   2262.0,2,  2356.78,2,   7.5818,2,    24.98,     41.7,2,     -999,9,   0.8828,2,     -999,9,     -999,9,     -999,     -999,9,     -999,9,     -999,1,     -999,9,    0.061,1,    4.688,1,    0.138,1,     -999,9,     -999,9,20180317,1410, -70.0965, 169.1263,     -999,9,     -999,9,-999          ,9,     -999,9,     -999,9,     -999,     -999,9,     -999,     -999,9,     -999,9,     -999,9,     -999,9,     -999,9,     -999,9,     -999,9,     -999,9,     -999,9,     -999,9,     -999,9,     -999,9,     -999,9,     -999,9
320620180309  ,S04P       ,3       ,  1,18         ,18         ,2,20180317,1251, -70.0964, 169.1262,     2657,    641.2,0.8070027777777776246,34.702933899359287,2,  34.7033,2,200.89517697207441,2, 199.7979,2,    201.0,2,    111.9,2,    32.13,2,     0.00,2,     2.19,2,     -999,9,     -999,9,     -999,9,   2262.2,2,  2357.88,2,   7.5843,2,    24.98,     41.1,2,     -999,9,   0.8061,2,     -999,9,     -999,9,     -999,     -999,9,     -999,9,     -999,1,     -999,9,    0.061,1,    4.688,1,    0.134,1,     -999,9,     -999,9,20180317,1406, -70.0963, 169.1263,     -999,9,     -999,9,-999          ,9,     -999,9,     -999,9,     -999,     -999,9,     -999,     -999,9,     -999,1,     -999,1,     -999,1,     -999,1,     -999,1,     -999,1,     -999,1,     -999,1,     -999,1,     -999,1,     -999,1,     -999,1,     -999,1
320620180309  ,S04P       ,3       ,  1,17         ,17         ,2,20180317,1251, -70.0964, 169.1262,     2657,    742.9,0.7180555555555554470,34.700988977076086,2,  34.7007,2,203.78693058577275,2, 202.9987,2,    203.7,2,    114.9,2,    32.15,2,     0.00,2,     2.20,2,    0.396,2,    0.213,2,   0.0500,2,   2263.6,2,  2358.60,2,   7.5876,2,    24.98,     40.6,2,     -999,9,   0.7174,2,     -999,9,     -999,9,     -999,     -999,9,     -999,9,     -999,1,     -999,9,    0.061,1,    4.688,1,    0.134,1,  20.0600,2,     -999,9,20180317,1403, -70.0961, 169.1265,     -999,9,     -999,9,-999          ,9,     -999,9,     -999,9,     -999,     -999,9,     -999,     -999,9,     -999,9,     -999,9,     -999,9,     -999,9,     -999,9,     -999,9,     -999,9,     -999,9,     -999,9,     -999,9,     -999,9,     -999,9,     -999,9
320620180309  ,S04P       ,3       ,  1,16         ,16         ,2,20180317,1251, -70.0964, 169.1262,     2657,    843.7,0.6563027777777779015,34.700601507014518,2,  34.7003,2,205.07983674887313,2, 205.3996,2,    204.8,2,    116.9,2,    32.15,2,     0.00,2,     2.22,2,     -999,9,     -999,9,     -999,9,   2263.2,2,  2360.47,2,   7.5891,2,    24.97,     46.2,2,     -999,9,   0.6556,2,     -999,9,     -999,9,     -999,     -999,9,     -999,9,     -999,1,     -999,9,    0.061,1,    4.688,1,    0.141,1,     -999,9,     -999,9,20180317,1359, -70.0960, 169.1265,     -999,9,     -999,9,-999          ,9,     -999,9,     -999,9,     -999,     -999,9,     -999,     -999,9,     -999,1,     -999,1,     -999,1,     -999,1,     -999,1,     -999,1,     -999,1,     -999,1,     -999,1,     -999,1,     -999,1,     -999,1,     -999,1
320620180309  ,S04P       ,3       ,  1,15         ,15         ,2,20180317,1251, -70.0964, 169.1262,     2657,    945.2,0.5983055555555557570,34.699336171859635,2,  34.6962,2,206.86483811366895,2, 206.8021,2,    206.3,2,    118.4,2,    32.15,2,     0.00,2,     2.24,2,     -999,9,     -999,9,     -999,9,   2262.8,2,  2360.97,2,   7.5869,2,    24.96,     40.0,2,     -999,9,   0.5984,2,     -999,9,     -999,9,     -999,     -999,9,     -999,9,     -999,1,     -999,9,    0.061,1,    4.689,1,    0.133,1,     -999,9,     -999,9,20180317,1356, -70.0959, 169.1266,     -999,9,     -999,9,-999          ,9,     -999,9,     -999,9,     -999,     -999,9,     -999,     -999,9,     -999,9,     -999,9,     -999,9,     -999,9,     -999,9,     -999,9,     -999,9,     -999,9,     -999,9,     -999,9,     -999,9,     -999,9,     -999,9
320620180309  ,S04P       ,3       ,  1,14         ,14         ,2,20180317,1251, -70.0964, 169.1262,     2657,   1047.1,0.5024555555555554331,34.696554610682988,2,  34.6964,2,209.77565801449353,2, 210.3973,2,    209.1,2,    119.4,2,    32.18,2,     0.00,2,     2.23,2,    0.490,2,    0.278,2,   0.3200,2,   2262.7,2,  2361.74,2,   7.5892,2,    24.97,     41.6,2,     -999,9,   0.5026,2,     -999,9,     -999,9,     -999,     -999,9,     -999,9,     -999,1,     -999,9,    0.061,1,    4.688,1,    0.133,1,  20.1100,2,     -999,9,20180317,1352, -70.0958, 169.1267,     -999,9,     -999,9,-999          ,9,     -999,9,     -999,9,     -999,     -999,9,     -999,     -999,9,     -999,1,     -999,1,     -999,1,     -999,1,     -999,1,     -999,1,     -999,1,     -999,1,     -999,1,     -999,1,     -999,1,     -999,1,     -999,1