BOTTLE,20240515CCHHYDRO
EXPOCODE,SECT_ID,STNNBR,CASTNO,SAMPNO,BTLNBR,BTLNBR_FLAG_W,DATE,TIME,LATITUDE,LONGITUDE,DEPTH,CTDPRS,CTDTMP,CTDSAL,CTDSAL_FLAG_W,SALNTY,SALNTY_FLAG_W,CTDOXY,CTDOXY_FLAG_W,CTDOPTOXY,CTDOPTOXY_FLAG_W,OXYGEN,OXYGEN_FLAG_W,SILCAT,SILCAT_FLAG_W,NITRAT,NITRAT_FLAG_W,NITRIT,NITRIT_FLAG_W,PHSPHT,PHSPHT_FLAG_W,CFC-11,CFC-11_FLAG_W,CFC-12,CFC-12_FLAG_W,SF6,SF6_FLAG_W,TCARBN,TCARBN_FLAG_W,ALKALI,ALKALI_FLAG_W,PH_TOT,PH_TOT_FLAG_W,PH_TMP,DOC,DOC_FLAG_W,HELIUM,HELIUM_FLAG_W,REFTMP,REFTMP_FLAG_W,DELC13,DELC13_FLAG_W,DELC14,DELC14_FLAG_W,C14ERR,POC,POC_FLAG_W,TDN,TDN_FLAG_W,TON,TON_FLAG_W,NEON,NEON_FLAG_W,CTDFLUOR,CTDFLUOR_FLAG_W,CTDXMISS,CTDXMISS_FLAG_W,CTDBETA700,CTDBETA700_FLAG_W,N2O,N2O_FLAG_W,ARGON,ARGON_FLAG_W,BTL_DATE,BTL_TIME,BTL_LAT,BTL_LON,KRYPTON,KRYPTON_FLAG_W,XENON,XENON_FLAG_W,HPLC,HPLC_FLAG_W,HE3_HE4_RATIO,HE3_HE4_RATIO_FLAG_W,Nd_143_144_D_EPSILON_BOTTLE,Nd_143_144_D_EPSILON_BOTTLE_FLAG_W,Nd_143_144_D_EPSILON_BOTTLE_ERROR,Nd_143_144_D_RATIO_BOTTLE,Nd_143_144_D_RATIO_BOTTLE_FLAG_W,Nd_143_144_D_RATIO_BOTTLE_ERROR,Nd_D_CONC,Nd_D_CONC_FLAG_W,La_D_CONC_BOTTLE,La_D_CONC_BOTTLE_FLAG_W,Ce_D_CONC_BOTTLE,Ce_D_CONC_BOTTLE_FLAG_W,Pr_D_CONC_BOTTLE,Pr_D_CONC_BOTTLE_FLAG_W,Sm_D_CONC_BOTTLE,Sm_D_CONC_BOTTLE_FLAG_W,Eu_D_CONC_BOTTLE,Eu_D_CONC_BOTTLE_FLAG_W,Gd_D_CONC_BOTTLE,Gd_D_CONC_BOTTLE_FLAG_W,Tb_D_CONC_BOTTLE,Tb_D_CONC_BOTTLE_FLAG_W,Dy_D_CONC_BOTTLE,Dy_D_CONC_BOTTLE_FLAG_W,Ho_D_CONC_BOTTLE,Ho_D_CONC_BOTTLE_FLAG_W,Er_D_CONC_BOTTLE,Er_D_CONC_BOTTLE_FLAG_W,Tm_D_CONC_BOTTLE,Tm_D_CONC_BOTTLE_FLAG_W,Yb_D_CONC_BOTTLE,Yb_D_CONC_BOTTLE_FLAG_W,Lu_D_CONC_BOTTLE,Lu_D_CONC_BOTTLE_FLAG_W
,,,,,,,,,,,METERS,DBAR,ITS-90,PSS-78,,PSS-78,,UMOL/KG,,UMOL/KG,,UMOL/KG,,UMOL/KG,,UMOL/KG,,UMOL/KG,,UMOL/KG,,PMOL/KG,,PMOL/KG,,FMOL/KG,,UMOL/KG,,UMOL/KG,,,,DEG C,UMOL/KG,,NMOL/L,,DEG C,,/MILLE,,/MILLE,,/MILLE,UG/KG,,UMOL/KG,,UMOL/KG,,NMOL/L,,VOLTS,,VOLTS,,VOLTS,,NMOL/KG,,UMOL/L,,,,,,NMOL/L,,NMOL/L,,,,,,10000,,10000,,,,PMOL/KG,,PMOL/L,,PMOL/L,,PMOL/L,,PMOL/L,,PMOL/L,,PMOL/L,,PMOL/L,,PMOL/L,,PMOL/L,,PMOL/L,,PMOL/L,,PMOL/L,,PMOL/L,
320620180309  ,P18        ,102     ,  1,15         ,15         ,2,20180501,0225, -68.0005,-102.9997,     4485,   1352.7,1.4230445306675791883,34.730289058576126,2,  34.7302,2,194.42302580171813,2, 194.1002,2,    194.3,2,    102.9,2,    32.04,2,     0.00,2,     2.20,2,    0.143,2,    0.075,2,   0.0200,3,   2259.9,2,  2359.59,2,   7.6005,2,    24.93,     41.2,2,     -999,9,   1.4229,2,     -999,9,     -999,9,     -999,     -999,9,     -999,9,     -999,1,     -999,9,    0.062,1,    4.651,1,    0.130,1,  19.9000,2,     -999,9,20180501,0340, -68.0005,-102.9995,     -999,9,     -999,9,-999          ,9,     -999,9,     -999,9,     -999,     -999,9,     -999,     -999,9,     -999,9,     -999,9,     -999,9,     -999,9,     -999,9,     -999,9,     -999,9,     -999,9,     -999,9,     -999,9,     -999,9,     -999,9,     -999,9
320620180309  ,P18        ,102     ,  1,14         ,14         ,2,20180501,0225, -68.0005,-102.9997,     4485,   1454.8,1.3469881159408911842,34.728595430978039,2,  34.7286,2,195.67155971645184,2, 195.2023,2,    195.5,2,    105.5,2,    32.12,2,     0.00,2,     2.21,2,     -999,9,     -999,9,     -999,9,   2260.7,2,  2363.51,2,   7.5994,2,    24.93,     40.4,2,     -999,9,   1.3465,2,     -999,9,     -999,9,     -999,     -999,9,     -999,9,     -999,1,     -999,9,    0.061,1,    4.651,1,    0.128,1,     -999,9,     -999,9,20180501,0337, -68.0004,-102.9997,     -999,9,     -999,9,-999          ,9,     -999,9,     -999,9,     -999,     -999,9,     -999,     -999,9,     -999,1,     -999,1,     -999,1,     -999,1,     -999,1,     -999,1,     -999,1,     -999,1,     -999,1,     -999,1,     -999,1,     -999,1,     -999,1
320620180309  ,P18        ,102     ,  1,13         ,13         ,2,20180501,0225, -68.0005,-102.9997,     4485,   1555.3,1.2764503733795995455,34.726563068399649,2,  34.7268,2,196.40354487851829,2, 196.3023,2,    196.8,2,    107.7,2,    32.15,2,     0.00,2,     2.20,2,    0.138,2,    0.072,2,   0.0100,3,   2259.7,2,  2363.30,2,   7.5977,2,    24.94,     41.7,2,     -999,9,   1.2763,2,     -999,9,     -999,9,     -999,     -999,9,     -999,9,     -999,1,     -999,9,    0.061,1,    4.651,1,    0.129,1,  19.6700,2,     -999,9,20180501,0333, -68.0005,-102.9997,     -999,9,     -999,9,-999          ,9,     -999,9,     -999,9,     -999,     -999,9,     -999,     -999,9,     -999,9,     -999,9,     -999,9,     -999,9,     -999,9,     -999,9,     -999,9,     -999,9,     -999,9,     -999,9,     -999,9,     -999,9,     -999,9
320620180309  ,P18        ,102     ,  1,12         ,12         ,2,20180501,0225, -68.0005,-102.9997,     4485,   1688.2,1.2016713059231549643,34.723948552560181,2,  34.7239,2,198.18739188009772,2, 197.6978,2,    198.2,2,    110.2,2,    32.18,2,     0.00,2,     2.21,2,     -999,9,     -999,9,     -999,9,   2262.0,2,  2365.68,2,   7.6018,2,    24.94,     42.1,2,     -999,9,   1.2013,2,     -999,9,     -999,9,     -999,     -999,9,     -999,9,     -999,1,     -999,9,    0.060,1,    4.646,1,    0.128,1,     -999,9,     -999,9,20180501,0330, -68.0005,-102.9997,     -999,9,     -999,9,-999          ,9,     -999,9,     -999,9,     -999,     -999,9,     -999,     -999,9,     -999,1,     -999,1,     -999,1,     -999,1,     -999,1,     -999,1,     -999,1,     -999,1,     -999,1,     -999,1,     -999,1,     -999,1,     -999,1
320620180309  ,P18        ,102     ,  1,11         ,11         ,2,20180501,0225, -68.0005,-102.9997,     4485,   1891.6,1.0782485227791023252,34.719651394299703,2,  34.7202,2,200.14111717469376,2, 199.8999,2,    200.1,2,    114.3,2,    32.30,2,     0.00,2,     2.21,2,    0.129,2,    0.089,2,   0.0000,3,   2263.3,2,  2363.16,2,   7.6028,2,    24.93,     40.3,2,     -999,9,   1.0784,2,     -999,9,     -999,9,     -999,     -999,9,     -999,9,     -999,1,     -999,9,    0.061,1,    4.652,1,    0.129,1,  18.6400,2,     -999,9,20180501,0325, -68.0005,-102.9997,     -999,9,     -999,9,-999          ,9,     -999,9,     -999,9,     -999,     -999,9,     -999,     -999,9,     -999,9,     -999,9,     -999,9,     -999,9,     -999,9,     -999,9,     -999,9,     -999,9,     -999,9,     -999,9,     -999,9,     -999,9,     -999,9
320620180309  ,P18        ,102     ,  1,10         ,10         ,2,20180501,0225, -68.0005,-102.9997,     4485,   2115.7,0.9641086587280265352,34.715245222872610,2,  34.7155,2,201.61100410986714,2, 202.3009,2,    202.4,2,    118.4,2,    32.39,2,     0.00,2,     2.22,2,     -999,9,     -999,9,     -999,9,   2263.4,6,  2365.37,2,   7.5995,2,    24.93,     -999,5,     -999,9,   0.9638,2,     -999,9,     -999,9,     -999,     -999,9,     -999,9,     -999,1,     -999,9,    0.061,1,    4.652,1,    0.128,1,     -999,9,     -999,9,20180501,0320, -68.0005,-102.9997,     -999,9,     -999,9,-999          ,9,     -999,9,     -999,9,     -999,     -999,9,     -999,     -999,9,     -999,1,     -999,1,     -999,1,     -999,1,     -999,1,     -999,1,     -999,1,     -999,1,     -999,1,     -999,1,     -999,1,     -999,1,     -999,1
320620180309  ,P18        ,102     ,  1,9          ,9          ,2,20180501,0225, -68.0005,-102.9997,     4485,   2372.1,0.8646962787534246964,34.711224550925884,2,  34.7117,2,204.03324911136249,2, 204.0982,2,    203.9,2,    122.3,2,    32.51,2,     0.00,2,     2.24,2,    0.150,2,    0.086,2,   0.1100,2,   2263.4,2,  2364.86,2,   7.5998,2,    24.94,     40.6,2,     -999,9,   0.8639,2,     -999,9,     -999,9,     -999,     -999,9,     -999,9,     -999,1,     -999,9,    0.061,1,    4.651,1,    0.128,1,  18.8000,2,     -999,9,20180501,0314, -68.0004,-102.9997,     -999,9,     -999,9,-999          ,9,     -999,9,     -999,9,     -999,     -999,9,     -999,     -999,9,     -999,9,     -999,9,     -999,9,     -999,9,     -999,9,     -999,9,     -999,9,     -999,9,     -999,9,     -999,9,     -999,9,     -999,9,     -999,9
320620180309  ,P18        ,102     ,  1,8          ,8          ,2,20180501,0225, -68.0005,-102.9997,     4485,   2626.4,0.7854107374335145275,34.708074810529197,2,  34.7080,2,206.12347233593803,2, 205.7996,2,    205.2,2,    125.4,2,    32.63,2,     0.00,2,     2.24,2,     -999,9,     -999,9,     -999,9,   2262.8,2,  2365.24,2,   7.5962,2,    24.94,     39.7,2,     -999,9,   0.7848,2,     -999,9,     -999,9,     -999,     -999,9,     -999,9,     -999,1,     -999,9,    0.061,1,    4.652,1,    0.127,1,     -999,9,     -999,9,20180501,0308, -68.0005,-102.9997,     -999,9,     -999,9,-999          ,9,     -999,9,     -999,9,     -999,     -999,9,     -999,     -999,9,     -999,1,     -999,1,     -999,1,     -999,1,     -999,1,     -999,1,     -999,1,     -999,1,     -999,1,     -999,1,     -999,1,     -999,1,     -999,1
320620180309  ,P18        ,102     ,  1,7          ,7          ,2,20180501,0225, -68.0005,-102.9997,     4485,   2883.0,0.6924689968654854644,34.705258736523085,2,  34.7058,2,207.25550255342233,2, 207.5966,2,    207.3,2,    127.8,2,    32.69,2,     0.00,2,     2.23,2,    0.199,2,    0.111,2,   0.0000,3,   2263.5,2,  2366.03,2,   7.6003,2,    24.94,     40.0,2,     -999,9,   0.6922,2,     -999,9,     -999,9,     -999,     -999,9,     -999,9,     -999,1,     -999,9,    0.061,1,    4.652,1,    0.125,1,  19.8300,2,     -999,9,20180501,0302, -68.0004,-102.9997,     -999,9,     -999,9,-999          ,9,     -999,9,     -999,9,     -999,     -999,9,     -999,     -999,9,     -999,9,     -999,9,     -999,9,     -999,9,     -999,9,     -999,9,     -999,9,     -999,9,     -999,9,     -999,9,     -999,9,     -999,9,     -999,9
320620180309  ,P18        ,102     ,  1,6          ,6          ,2,20180501,0225, -68.0005,-102.9997,     4485,   3179.8,0.5763610484977723658,34.702535222054614,2,  34.7027,2,210.04721128101397,2, 209.7026,2,    209.4,2,    130.4,2,    32.76,2,     0.00,2,     2.23,2,    0.240,2,    0.133,2,   0.1200,2,   2264.7,2,  2365.19,2,   7.5977,2,    24.92,     -999,5,     -999,9,   0.5760,2,     -999,9,     -999,9,     -999,     -999,9,     -999,9,     -999,1,     -999,9,    0.060,1,    4.652,1,    0.125,1,  18.9800,2,     -999,9,20180501,0256, -68.0005,-102.9997,     -999,9,     -999,9,-999          ,9,     -999,9,     -999,9,     -999,     -999,9,     -999,     -999,9,     -999,1,     -999,1,     -999,1,     -999,1,     -999,1,     -999,1,     -999,1,     -999,1,     -999,1,     -999,1,     -999,1,     -999,1,     -999,1
320620180309  ,P18        ,102     ,  1,5          ,5          ,2,20180501,0225, -68.0005,-102.9997,     4485,   3488.1,0.4945540118543121366,34.701320803506363,2,  34.7007,2,211.50536089437830,2, 211.5007,2,    212.2,2,    133.5,2,    32.86,2,     0.00,2,     2.25,2,    0.253,2,    0.138,2,  -0.0300,3,   2263.3,2,  2365.33,2,   7.5987,2,    24.91,     39.9,2,     -999,9,   0.4943,2,     -999,9,     -999,9,     -999,     -999,9,     -999,9,     -999,1,     -999,9,    0.061,1,    4.652,1,    0.127,1,  18.2900,2,     -999,9,20180501,0249, -68.0005,-102.9997,     -999,9,     -999,9,-999          ,9,     -999,9,     -999,9,     -999,     -999,9,     -999,     -999,9,     -999,9,     -999,9,     -999,9,     -999,9,     -999,9,     -999,9,     -999,9,     -999,9,     -999,9,     -999,9,     -999,9,     -999,9,     -999,9
320620180309  ,P18        ,102     ,  1,4          ,4          ,2,20180501,0225, -68.0005,-102.9997,     4485,   3822.0,0.4285916906872752619,34.700691232251963,2,  34.6994,2,213.11368114353849,2, 213.4016,2,    213.3,2,    137.2,2,    32.98,2,     0.00,2,     2.26,2,    0.276,2,    0.150,2,   0.0000,2,   2265.6,2,  2365.31,2,   7.5964,2,    24.97,     39.1,2,     -999,9,   0.4285,2,     -999,9,     -999,9,     -999,     -999,9,     -999,9,     -999,1,     -999,9,    0.061,1,    4.651,1,    0.125,1,  18.0400,2,     -999,9,20180501,0242, -68.0005,-102.9996,     -999,9,     -999,9,-999          ,9,     -999,9,     -999,9,     -999,     -999,9,     -999,     -999,9,     -999,1,     -999,1,     -999,1,     -999,1,     -999,1,     -999,1,     -999,1,     -999,1,     -999,1,     -999,1,     -999,1,     -999,1,     -999,1
320620180309  ,P18        ,102     ,  1,3          ,3          ,2,20180501,0225, -68.0005,-102.9997,     4485,   4079.4,0.3970026341224842659,34.699968622290491,2,  34.6996,2,214.13994356926870,2, 214.4052,2,    214.2,2,    138.6,2,    32.99,2,     0.00,2,     2.26,2,    0.322,2,    0.164,2,   0.1100,3,   2267.6,2,  2365.45,2,   7.5941,2,    24.92,     41.6,2,     -999,9,   0.3969,2,     -999,9,     -999,9,     -999,     -999,9,     -999,9,     -999,1,     -999,9,    0.060,1,    4.650,1,    0.126,1,  19.0100,2,     -999,9,20180501,0236, -68.0004,-102.9997,     -999,9,     -999,9,-999          ,9,     -999,9,     -999,9,     -999,     -999,9,     -999,     -999,9,     -999,1,     -999,1,     -999,1,     -999,1,     -999,1,     -999,1,     -999,1,     -999,1,     -999,1,     -999,1,     -999,1,     -999,1,     -999,1
320620180309  ,P18        ,102     ,  1,2          ,2          ,2,20180501,0225, -68.0005,-102.9997,     4485,   4362.2,0.3889896734225634645,34.699064181711847,2,  34.6998,2,215.40035860002345,2, 214.8017,2,    215.2,2,    142.1,2,    33.02,2,     0.00,2,     2.25,2,    0.387,2,    0.203,2,  -0.0300,3,   2266.5,2,  2366.46,2,   7.5930,2,    24.98,     43.5,2,     -999,9,   0.3887,2,     -999,9,     -999,9,     -999,     -999,9,     -999,9,     -999,1,     -999,9,    0.061,1,    4.647,1,    0.129,1,  19.2100,2,     -999,9,20180501,0230, -68.0004,-102.9997,     -999,9,     -999,9,-999          ,9,     -999,9,     -999,9,     -999,     -999,9,     -999,     -999,9,     -999,1,     -999,1,     -999,1,     -999,1,     -999,1,     -999,1,     -999,1,     -999,1,     -999,1,     -999,1,     -999,1,     -999,1,     -999,1
320620180309  ,P18        ,102     ,  1,1          ,1          ,2,20180501,0225, -68.0005,-102.9997,     4485,   4568.3,0.3944009731089891946,34.698575402975962,2,  34.6988,2,215.20751156658338,2, 214.3943,2,    214.4,2,    147.8,2,    33.12,2,     0.00,2,     2.25,2,    0.425,2,    0.222,2,   0.0600,3,   2267.7,6,  2366.12,2,   7.5944,2,    24.94,     45.0,2,     -999,9,   0.3943,2,     -999,9,     -999,9,     -999,     -999,9,     -999,9,     -999,1,     -999,9,    0.061,1,    4.632,1,    0.153,1,  19.0800,2,     -999,9,20180501,0225, -68.0005,-102.9997,     -999,9,     -999,9,-999          ,9,     -999,9,     -999,9,     -999,     -999,9,     -999,     -999,9,     -999,1,     -999,1,     -999,1,     -999,1,     -999,1,     -999,1,     -999,1,     -999,1,     -999,1,     -999,1,     -999,1,     -999,1,     -999,1