BOTTLE,20240515CCHHYDRO
EXPOCODE,SECT_ID,STNNBR,CASTNO,SAMPNO,BTLNBR,BTLNBR_FLAG_W,DATE,TIME,LATITUDE,LONGITUDE,DEPTH,CTDPRS,CTDTMP,CTDSAL,CTDSAL_FLAG_W,SALNTY,SALNTY_FLAG_W,CTDOXY,CTDOXY_FLAG_W,CTDOPTOXY,CTDOPTOXY_FLAG_W,OXYGEN,OXYGEN_FLAG_W,SILCAT,SILCAT_FLAG_W,NITRAT,NITRAT_FLAG_W,NITRIT,NITRIT_FLAG_W,PHSPHT,PHSPHT_FLAG_W,CFC-11,CFC-11_FLAG_W,CFC-12,CFC-12_FLAG_W,SF6,SF6_FLAG_W,TCARBN,TCARBN_FLAG_W,ALKALI,ALKALI_FLAG_W,PH_TOT,PH_TOT_FLAG_W,PH_TMP,DOC,DOC_FLAG_W,HELIUM,HELIUM_FLAG_W,REFTMP,REFTMP_FLAG_W,DELC13,DELC13_FLAG_W,DELC14,DELC14_FLAG_W,C14ERR,POC,POC_FLAG_W,TDN,TDN_FLAG_W,TON,TON_FLAG_W,NEON,NEON_FLAG_W,CTDFLUOR,CTDFLUOR_FLAG_W,CTDXMISS,CTDXMISS_FLAG_W,CTDBETA700,CTDBETA700_FLAG_W,N2O,N2O_FLAG_W,ARGON,ARGON_FLAG_W,BTL_DATE,BTL_TIME,BTL_LAT,BTL_LON,KRYPTON,KRYPTON_FLAG_W,XENON,XENON_FLAG_W,HPLC,HPLC_FLAG_W,HE3_HE4_RATIO,HE3_HE4_RATIO_FLAG_W,Nd_143_144_D_EPSILON_BOTTLE,Nd_143_144_D_EPSILON_BOTTLE_FLAG_W,Nd_143_144_D_EPSILON_BOTTLE_ERROR,Nd_143_144_D_RATIO_BOTTLE,Nd_143_144_D_RATIO_BOTTLE_FLAG_W,Nd_143_144_D_RATIO_BOTTLE_ERROR,Nd_D_CONC,Nd_D_CONC_FLAG_W,La_D_CONC_BOTTLE,La_D_CONC_BOTTLE_FLAG_W,Ce_D_CONC_BOTTLE,Ce_D_CONC_BOTTLE_FLAG_W,Pr_D_CONC_BOTTLE,Pr_D_CONC_BOTTLE_FLAG_W,Sm_D_CONC_BOTTLE,Sm_D_CONC_BOTTLE_FLAG_W,Eu_D_CONC_BOTTLE,Eu_D_CONC_BOTTLE_FLAG_W,Gd_D_CONC_BOTTLE,Gd_D_CONC_BOTTLE_FLAG_W,Tb_D_CONC_BOTTLE,Tb_D_CONC_BOTTLE_FLAG_W,Dy_D_CONC_BOTTLE,Dy_D_CONC_BOTTLE_FLAG_W,Ho_D_CONC_BOTTLE,Ho_D_CONC_BOTTLE_FLAG_W,Er_D_CONC_BOTTLE,Er_D_CONC_BOTTLE_FLAG_W,Tm_D_CONC_BOTTLE,Tm_D_CONC_BOTTLE_FLAG_W,Yb_D_CONC_BOTTLE,Yb_D_CONC_BOTTLE_FLAG_W,Lu_D_CONC_BOTTLE,Lu_D_CONC_BOTTLE_FLAG_W
,,,,,,,,,,,METERS,DBAR,ITS-90,PSS-78,,PSS-78,,UMOL/KG,,UMOL/KG,,UMOL/KG,,UMOL/KG,,UMOL/KG,,UMOL/KG,,UMOL/KG,,PMOL/KG,,PMOL/KG,,FMOL/KG,,UMOL/KG,,UMOL/KG,,,,DEG C,UMOL/KG,,NMOL/L,,DEG C,,/MILLE,,/MILLE,,/MILLE,UG/KG,,UMOL/KG,,UMOL/KG,,NMOL/L,,VOLTS,,VOLTS,,VOLTS,,NMOL/KG,,UMOL/L,,,,,,NMOL/L,,NMOL/L,,,,,,10000,,10000,,,,PMOL/KG,,PMOL/L,,PMOL/L,,PMOL/L,,PMOL/L,,PMOL/L,,PMOL/L,,PMOL/L,,PMOL/L,,PMOL/L,,PMOL/L,,PMOL/L,,PMOL/L,,PMOL/L,
320620180309  ,S04P       ,69      ,  1,15         ,15         ,2,20180418,0305, -67.0004,-147.6845,     4295,   1280.8,0.8159111111111110315,34.712871001949310,2,  34.7129,2,200.15855929736946,2, 199.4990,2,    200.2,2,    121.7,2,    32.90,2,     0.00,2,     2.21,2,    0.109,2,    0.055,2,   0.0000,2,     -999,9,     -999,9,     -999,9,     -999,     -999,9,     -999,9,   0.8151,2,     -999,9,     -999,9,     -999,     -999,9,     -999,9,     -999,9,     -999,9,    0.061,1,    4.667,1,    0.130,1,  20.3900,2,     -999,9,20180418,0416, -66.9997,-147.6859,     -999,9,     -999,9,-999          ,9,     -999,9,     -999,9,     -999,     -999,9,     -999,     -999,9,     -999,1,     -999,1,     -999,1,     -999,1,     -999,1,     -999,1,     -999,1,     -999,1,     -999,1,     -999,1,     -999,1,     -999,1,     -999,1
320620180309  ,S04P       ,69      ,  1,14         ,14         ,2,20180418,0305, -67.0004,-147.6845,     4295,   1381.9,0.7754250000000000309,34.711125363459786,2,  34.7117,2,201.39153323327966,2, 200.5974,2,    201.4,2,    123.2,2,    32.92,2,     0.00,2,     2.21,2,     -999,9,     -999,9,     -999,9,   2262.0,2,  2361.94,2,   7.5910,6,    24.89,     -999,9,     -999,9,   0.7750,2,     -999,9,     -999,9,     -999,     -999,9,     -999,9,     -999,9,     -999,9,    0.061,1,    4.667,1,    0.129,1,     -999,9,     -999,9,20180418,0413, -66.9996,-147.6860,     -999,9,     -999,9,-999          ,9,     -999,9,     -999,9,     -999,     -999,9,     -999,     -999,9,     -999,9,     -999,9,     -999,9,     -999,9,     -999,9,     -999,9,     -999,9,     -999,9,     -999,9,     -999,9,     -999,9,     -999,9,     -999,9
320620180309  ,S04P       ,69      ,  1,13         ,13         ,2,20180418,0305, -67.0004,-147.6845,     4295,   1483.5,0.7314694444444446164,34.709410536155545,2,  34.7100,2,202.59300125027585,2, 202.2006,2,    202.6,2,    124.6,2,    32.93,2,     0.00,2,     2.22,2,     -999,9,     -999,9,     -999,9,     -999,9,     -999,9,     -999,9,     -999,     -999,9,     -999,1,   0.7315,2,     -999,9,     -999,9,     -999,     -999,9,     -999,9,     -999,9,     -999,1,    0.061,1,    4.667,1,    0.129,1,     -999,9,     -999,1,20180418,0410, -66.9995,-147.6862,     -999,1,     -999,1,-999          ,9,     -999,1,     -999,9,     -999,     -999,9,     -999,     -999,9,     -999,1,     -999,1,     -999,1,     -999,1,     -999,1,     -999,1,     -999,1,     -999,1,     -999,1,     -999,1,     -999,1,     -999,1,     -999,1
320620180309  ,S04P       ,69      ,  1,12         ,12         ,2,20180418,0305, -67.0004,-147.6845,     4295,   1585.5,0.6889027777777777528,34.707891533462302,2,  34.7088,2,203.75776238735108,2, 203.6084,2,    204.0,2,    125.7,2,    32.89,2,     0.00,2,     2.22,2,     -999,9,     -999,9,     -999,9,   2260.6,2,  2363.40,2,   7.5947,2,    24.91,     -999,9,     -999,9,   0.6884,2,     -999,9,     -999,9,     -999,     -999,9,     -999,9,     -999,9,     -999,9,    0.061,1,    4.667,1,    0.129,1,     -999,9,     -999,9,20180418,0407, -66.9994,-147.6863,     -999,9,     -999,9,-999          ,9,     -999,9,     -999,9,     -999,     -999,9,     -999,     -999,9,     -999,9,     -999,9,     -999,9,     -999,9,     -999,9,     -999,9,     -999,9,     -999,9,     -999,9,     -999,9,     -999,9,     -999,9,     -999,9
320620180309  ,S04P       ,69      ,  1,11         ,11         ,2,20180418,0305, -67.0004,-147.6845,     4295,   1759.1,0.6336416666666668807,34.705957845490609,2,  34.7066,2,205.33303455795604,2, 205.3000,2,    205.4,2,    126.7,2,    32.93,2,     0.00,2,     2.23,2,    0.138,2,    0.082,2,   0.0100,2,     -999,9,     -999,9,     -999,9,     -999,     -999,9,     -999,9,   0.6330,2,     -999,9,     -999,9,     -999,     -999,9,     -999,9,     -999,9,     -999,9,    0.061,1,    4.667,1,    0.130,1,  19.8700,2,     -999,9,20180418,0402, -66.9994,-147.6868,     -999,9,     -999,9,-999          ,9,     -999,9,     -999,9,     -999,     -999,9,     -999,     -999,9,     -999,1,     -999,1,     -999,1,     -999,1,     -999,1,     -999,1,     -999,1,     -999,1,     -999,1,     -999,1,     -999,1,     -999,1,     -999,1
320620180309  ,S04P       ,69      ,  1,10         ,10         ,2,20180418,0305, -67.0004,-147.6845,     4295,   1962.4,0.5643027777777777088,34.704168069679902,2,  34.7053,2,207.09319641834711,2, 207.3993,2,    207.0,2,    127.9,2,    32.92,2,     0.00,2,     2.22,2,     -999,9,     -999,9,     -999,9,   2261.7,2,  2362.68,2,   7.5956,2,    24.91,     -999,9,     -999,1,   0.5640,2,     -999,9,     -999,9,     -999,     -999,9,     -999,9,     -999,9,     -999,1,    0.061,1,    4.667,1,    0.128,1,     -999,9,     -999,1,20180418,0358, -66.9993,-147.6855,     -999,1,     -999,1,-999          ,9,     -999,1,     -999,9,     -999,     -999,9,     -999,     -999,9,     -999,9,     -999,9,     -999,9,     -999,9,     -999,9,     -999,9,     -999,9,     -999,9,     -999,9,     -999,9,     -999,9,     -999,9,     -999,9
320620180309  ,S04P       ,69      ,  1,9          ,9          ,2,20180418,0305, -67.0004,-147.6845,     4295,   2197.0,0.4683361111111110642,34.702500756652313,2,  34.7031,2,209.56147576059169,2, 210.1011,2,    209.1,2,    129.8,2,    32.96,2,     0.00,2,     2.23,2,    0.160,2,    0.087,2,   0.0000,2,     -999,9,     -999,9,     -999,9,     -999,     -999,9,     -999,9,   0.4680,2,     -999,9,     -999,9,     -999,     -999,9,     -999,9,     -999,9,     -999,9,    0.061,1,    4.667,1,    0.128,1,  19.6900,2,     -999,9,20180418,0352, -67.0001,-147.6847,     -999,9,     -999,9,-999          ,9,     -999,9,     -999,9,     -999,     -999,9,     -999,     -999,9,     -999,1,     -999,1,     -999,1,     -999,1,     -999,1,     -999,1,     -999,1,     -999,1,     -999,1,     -999,1,     -999,1,     -999,1,     -999,1
320620180309  ,S04P       ,69      ,  1,8          ,8          ,2,20180418,0305, -67.0004,-147.6845,     4295,   2452.9,0.4010500000000000176,34.701719142334682,2,  34.7023,2,211.45583473268059,2, 212.1024,2,    211.3,2,    131.5,2,    33.05,2,     0.00,2,     2.23,2,     -999,9,     -999,9,     -999,9,   2260.7,2,  2362.81,2,   7.5939,2,    24.91,     -999,9,     -999,9,   0.4003,2,     -999,9,     -999,9,     -999,     -999,9,     -999,9,     -999,9,     -999,9,    0.060,1,    4.667,1,    0.127,1,     -999,9,     -999,9,20180418,0347, -67.0009,-147.6841,     -999,9,     -999,9,-999          ,9,     -999,9,     -999,9,     -999,     -999,9,     -999,     -999,9,     -999,9,     -999,9,     -999,9,     -999,9,     -999,9,     -999,9,     -999,9,     -999,9,     -999,9,     -999,9,     -999,9,     -999,9,     -999,9
320620180309  ,S04P       ,69      ,  1,7          ,7          ,2,20180418,0305, -67.0004,-147.6845,     4295,   2707.5,0.3446166666666666267,34.700873798344119,2,  34.7017,2,213.07983108097869,2, 213.7025,2,    212.8,2,    132.7,2,    33.02,2,     0.00,2,     2.23,2,    0.208,2,    0.113,2,   0.0000,2,     -999,9,     -999,9,     -999,9,     -999,     -999,9,     -999,1,   0.3440,2,     -999,9,     -999,9,     -999,     -999,9,     -999,9,     -999,9,     -999,1,    0.061,1,    4.667,1,    0.126,1,  19.7200,2,     -999,1,20180418,0341, -67.0010,-147.6837,     -999,1,     -999,1,-999          ,9,     -999,1,     -999,9,     -999,     -999,9,     -999,     -999,9,     -999,1,     -999,1,     -999,1,     -999,1,     -999,1,     -999,1,     -999,1,     -999,1,     -999,1,     -999,1,     -999,1,     -999,1,     -999,1
320620180309  ,S04P       ,69      ,  1,6          ,6          ,2,20180418,0305, -67.0004,-147.6845,     4295,   2964.4,0.2894527777777777811,34.698746786422980,2,  34.6998,2,215.13913008002788,2, 215.3018,2,    215.0,2,    133.2,2,    33.04,2,     0.00,2,     2.24,2,     -999,9,     -999,9,     -999,9,   2262.4,2,  2363.32,2,   7.5952,2,    24.91,     -999,9,     -999,9,   0.2888,2,     -999,9,     -999,9,     -999,     -999,9,     -999,9,     -999,9,     -999,9,    0.062,1,    4.667,1,    0.126,1,     -999,9,     -999,9,20180418,0336, -67.0007,-147.6840,     -999,9,     -999,9,-999          ,9,     -999,9,     -999,9,     -999,     -999,9,     -999,     -999,9,     -999,9,     -999,9,     -999,9,     -999,9,     -999,9,     -999,9,     -999,9,     -999,9,     -999,9,     -999,9,     -999,9,     -999,9,     -999,9
320620180309  ,S04P       ,69      ,  1,5          ,5          ,2,20180418,0305, -67.0004,-147.6845,     4295,   3256.0,0.2331305555555555353,34.695014725904777,2,  34.6954,2,217.75392125584199,2, 216.4975,2,    218.4,2,    130.6,2,    33.03,2,     0.00,2,     2.23,2,    0.556,2,    0.298,2,   0.1400,2,     -999,9,     -999,9,     -999,9,     -999,     -999,9,     -999,9,   0.2332,2,     -999,9,     -999,9,     -999,     -999,9,     -999,9,     -999,9,     -999,9,    0.061,1,    4.666,1,    0.126,1,  19.5100,2,     -999,9,20180418,0329, -67.0004,-147.6844,     -999,9,     -999,9,-999          ,9,     -999,9,     -999,9,     -999,     -999,9,     -999,     -999,9,     -999,1,     -999,1,     -999,1,     -999,1,     -999,1,     -999,1,     -999,1,     -999,1,     -999,1,     -999,1,     -999,1,     -999,1,     -999,1
320620180309  ,S04P       ,69      ,  1,4          ,4          ,2,20180418,0305, -67.0004,-147.6845,     4295,   3564.2,0.2121055555555555749,34.693127517563774,2,  34.6933,2,219.23039244737035,2, 219.5012,2,    219.2,2,    127.9,2,    33.00,2,     0.00,2,     2.23,2,     -999,9,     -999,9,     -999,9,   2260.9,2,  2359.93,2,   7.5930,2,    24.91,     -999,9,     -999,1,   0.2116,2,     -999,9,     -999,9,     -999,     -999,9,     -999,9,     -999,9,     -999,1,    0.061,1,    4.665,1,    0.127,1,     -999,9,     -999,1,20180418,0323, -66.9998,-147.6854,     -999,1,     -999,1,-999          ,9,     -999,1,     -999,9,     -999,     -999,9,     -999,     -999,9,     -999,9,     -999,9,     -999,9,     -999,9,     -999,9,     -999,9,     -999,9,     -999,9,     -999,9,     -999,9,     -999,9,     -999,9,     -999,9
320620180309  ,S04P       ,69      ,  1,3          ,3          ,2,20180418,0305, -67.0004,-147.6845,     4295,   3872.1,0.2270138888888889317,34.693483278284440,2,  34.6935,2,219.38900110897671,2, 219.8028,2,    219.6,2,    127.9,2,    32.96,2,     0.00,2,     2.24,2,    0.729,2,    0.368,2,   0.2500,2,   2260.0,2,  2362.09,2,   7.5928,2,    24.90,     -999,9,     -999,9,   0.2265,2,     -999,9,     -999,9,     -999,     -999,9,     -999,9,     -999,9,     -999,9,    0.061,1,    4.664,1,    0.128,1,  19.7100,2,     -999,9,20180418,0316, -66.9997,-147.6855,     -999,9,     -999,9,-999          ,9,     -999,9,     -999,9,     -999,     -999,9,     -999,     -999,9,     -999,1,     -999,1,     -999,1,     -999,1,     -999,1,     -999,1,     -999,1,     -999,1,     -999,1,     -999,1,     -999,1,     -999,1,     -999,1
320620180309  ,S04P       ,69      ,  1,2          ,2          ,2,20180418,0305, -67.0004,-147.6845,     4295,   4144.7,0.2465388888888888630,34.694176204995252,2,  34.6956,2,219.46089264384858,2, 219.6009,2,    219.7,2,    128.8,2,    33.00,2,     0.00,2,     2.23,2,     -999,9,     -999,9,     -999,9,   2261.7,2,  2359.37,2,   7.5919,2,    24.90,     -999,9,     -999,1,   0.2460,2,     -999,9,     -999,9,     -999,     -999,9,     -999,9,     -999,9,     -999,1,    0.060,1,    4.663,1,    0.128,1,     -999,9,     -999,1,20180418,0310, -66.9999,-147.6851,     -999,1,     -999,1,-999          ,9,     -999,1,     -999,9,     -999,     -999,9,     -999,     -999,9,     -999,1,     -999,1,     -999,1,     -999,1,     -999,1,     -999,1,     -999,1,     -999,1,     -999,1,     -999,1,     -999,1,     -999,1,     -999,1
320620180309  ,S04P       ,69      ,  1,1          ,1          ,2,20180418,0305, -67.0004,-147.6845,     4295,   4373.5,0.2661444444444444057,34.694766769230966,2,  34.6954,2,219.49117169310412,3, 219.5007,2,    219.1,2,    129.4,2,    32.98,2,     0.00,2,     2.24,2,    0.716,2,    0.367,2,   0.1900,2,   2260.8,6,  2361.66,2,   7.5956,2,    24.90,     -999,9,     -999,1,   0.2657,2,     -999,9,     -999,9,     -999,     -999,9,     -999,9,     -999,9,     -999,1,    0.061,1,    4.662,1,    0.130,1,  19.7000,2,     -999,1,20180418,0305, -67.0004,-147.6845,     -999,1,     -999,1,-999          ,9,     -999,1,     -999,9,     -999,     -999,9,     -999,     -999,9,     -999,1,     -999,1,     -999,1,     -999,1,     -999,1,     -999,1,     -999,1,     -999,1,     -999,1,     -999,1,     -999,1,     -999,1,     -999,1