BOTTLE,20240515CCHHYDRO
EXPOCODE,SECT_ID,STNNBR,CASTNO,SAMPNO,BTLNBR,BTLNBR_FLAG_W,DATE,TIME,LATITUDE,LONGITUDE,DEPTH,CTDPRS,CTDTMP,CTDSAL,CTDSAL_FLAG_W,SALNTY,SALNTY_FLAG_W,CTDOXY,CTDOXY_FLAG_W,CTDOPTOXY,CTDOPTOXY_FLAG_W,OXYGEN,OXYGEN_FLAG_W,SILCAT,SILCAT_FLAG_W,NITRAT,NITRAT_FLAG_W,NITRIT,NITRIT_FLAG_W,PHSPHT,PHSPHT_FLAG_W,CFC-11,CFC-11_FLAG_W,CFC-12,CFC-12_FLAG_W,SF6,SF6_FLAG_W,TCARBN,TCARBN_FLAG_W,ALKALI,ALKALI_FLAG_W,PH_TOT,PH_TOT_FLAG_W,PH_TMP,DOC,DOC_FLAG_W,HELIUM,HELIUM_FLAG_W,REFTMP,REFTMP_FLAG_W,DELC13,DELC13_FLAG_W,DELC14,DELC14_FLAG_W,C14ERR,POC,POC_FLAG_W,TDN,TDN_FLAG_W,TON,TON_FLAG_W,NEON,NEON_FLAG_W,CTDFLUOR,CTDFLUOR_FLAG_W,CTDXMISS,CTDXMISS_FLAG_W,CTDBETA700,CTDBETA700_FLAG_W,N2O,N2O_FLAG_W,ARGON,ARGON_FLAG_W,BTL_DATE,BTL_TIME,BTL_LAT,BTL_LON,KRYPTON,KRYPTON_FLAG_W,XENON,XENON_FLAG_W,HPLC,HPLC_FLAG_W,HE3_HE4_RATIO,HE3_HE4_RATIO_FLAG_W,Nd_143_144_D_EPSILON_BOTTLE,Nd_143_144_D_EPSILON_BOTTLE_FLAG_W,Nd_143_144_D_EPSILON_BOTTLE_ERROR,Nd_143_144_D_RATIO_BOTTLE,Nd_143_144_D_RATIO_BOTTLE_FLAG_W,Nd_143_144_D_RATIO_BOTTLE_ERROR,Nd_D_CONC,Nd_D_CONC_FLAG_W,La_D_CONC_BOTTLE,La_D_CONC_BOTTLE_FLAG_W,Ce_D_CONC_BOTTLE,Ce_D_CONC_BOTTLE_FLAG_W,Pr_D_CONC_BOTTLE,Pr_D_CONC_BOTTLE_FLAG_W,Sm_D_CONC_BOTTLE,Sm_D_CONC_BOTTLE_FLAG_W,Eu_D_CONC_BOTTLE,Eu_D_CONC_BOTTLE_FLAG_W,Gd_D_CONC_BOTTLE,Gd_D_CONC_BOTTLE_FLAG_W,Tb_D_CONC_BOTTLE,Tb_D_CONC_BOTTLE_FLAG_W,Dy_D_CONC_BOTTLE,Dy_D_CONC_BOTTLE_FLAG_W,Ho_D_CONC_BOTTLE,Ho_D_CONC_BOTTLE_FLAG_W,Er_D_CONC_BOTTLE,Er_D_CONC_BOTTLE_FLAG_W,Tm_D_CONC_BOTTLE,Tm_D_CONC_BOTTLE_FLAG_W,Yb_D_CONC_BOTTLE,Yb_D_CONC_BOTTLE_FLAG_W,Lu_D_CONC_BOTTLE,Lu_D_CONC_BOTTLE_FLAG_W
,,,,,,,,,,,METERS,DBAR,ITS-90,PSS-78,,PSS-78,,UMOL/KG,,UMOL/KG,,UMOL/KG,,UMOL/KG,,UMOL/KG,,UMOL/KG,,UMOL/KG,,PMOL/KG,,PMOL/KG,,FMOL/KG,,UMOL/KG,,UMOL/KG,,,,DEG C,UMOL/KG,,NMOL/L,,DEG C,,/MILLE,,/MILLE,,/MILLE,UG/KG,,UMOL/KG,,UMOL/KG,,NMOL/L,,VOLTS,,VOLTS,,VOLTS,,NMOL/KG,,UMOL/L,,,,,,NMOL/L,,NMOL/L,,,,,,10000,,10000,,,,PMOL/KG,,PMOL/L,,PMOL/L,,PMOL/L,,PMOL/L,,PMOL/L,,PMOL/L,,PMOL/L,,PMOL/L,,PMOL/L,,PMOL/L,,PMOL/L,,PMOL/L,,PMOL/L,
320620180309  ,P16        ,39      ,  1,15         ,15         ,2,20180403,2342, -74.4864,-149.9982,     3873,   1314.9,0.9768999999999997685,34.718255922695683,2,  34.7174,2,197.65476795206897,2, 198.5019,2,    198.1,2,    116.8,2,    32.36,2,     0.00,2,     2.25,2,     -999,9,     -999,9,     -999,9,   2260.8,2,  2361.05,3,   7.5945,2,    24.97,     -999,9,     -999,9,   0.9760,2,     -999,9,     -999,9,     -999,     -999,9,     -999,9,     -999,9,     -999,9,    0.061,1,    4.671,1,    0.133,1,     -999,9,     -999,9,20180404,0053, -74.4855,-150.0367,     -999,9,     -999,9,-999          ,9,     -999,9,     -999,9,     -999,     -999,9,     -999,     -999,9,     -999,9,     -999,9,     -999,9,     -999,9,     -999,9,     -999,9,     -999,9,     -999,9,     -999,9,     -999,9,     -999,9,     -999,9,     -999,9
320620180309  ,P16        ,39      ,  1,14         ,14         ,2,20180403,2342, -74.4864,-149.9982,     3873,   1420.8,0.9275805555555555193,34.716362824641998,2,  34.7168,2,199.36086168171005,2, 199.3010,2,    199.2,2,    118.7,2,    32.37,2,     0.00,2,     2.25,2,    0.109,2,    0.059,2,   0.0900,2,     -999,9,     -999,9,     -999,9,     -999,     -999,9,     -999,9,   0.9265,2,     -999,9,     -999,9,     -999,     -999,9,     -999,9,     -999,9,     -999,9,    0.061,1,    4.671,1,    0.134,1,  23.1500,2,     -999,9,20180404,0050, -74.4859,-150.0340,     -999,9,     -999,9,-999          ,9,     -999,9,     -999,9,     -999,     -999,9,     -999,     -999,9,     -999,9,     -999,9,     -999,9,     -999,9,     -999,9,     -999,9,     -999,9,     -999,9,     -999,9,     -999,9,     -999,9,     -999,9,     -999,9
320620180309  ,P16        ,39      ,  1,13         ,13         ,2,20180403,2342, -74.4864,-149.9982,     3873,   1524.4,0.8804166666666666252,34.714434236405914,2,  34.7145,2,200.32878831849021,2, 200.4988,2,    200.7,2,    120.1,2,    32.40,2,     0.00,2,     2.25,2,     -999,9,     -999,9,     -999,9,   2263.4,2,  2361.82,2,   7.5964,2,    24.97,     -999,9,     -999,9,   0.8795,2,     -999,9,     -999,9,     -999,     -999,9,     -999,9,     -999,9,     -999,9,    0.061,1,    4.671,1,    0.133,1,     -999,9,     -999,9,20180404,0047, -74.4860,-150.0313,     -999,9,     -999,9,-999          ,9,     -999,9,     -999,9,     -999,     -999,9,     -999,     -999,9,     -999,1,     -999,1,     -999,1,     -999,1,     -999,1,     -999,1,     -999,1,     -999,1,     -999,1,     -999,1,     -999,1,     -999,1,     -999,1
320620180309  ,P16        ,39      ,  1,12         ,12         ,2,20180403,2342, -74.4864,-149.9982,     3873,   1624.3,0.8403888888888888520,34.712770612486615,2,  34.7133,2,201.25406390677176,2, 201.6989,2,    201.4,2,    121.1,2,    32.36,2,     0.00,2,     2.26,2,     -999,9,     -999,9,     -999,9,     -999,9,     -999,9,     -999,9,     -999,     -999,9,     -999,1,   0.8397,2,     -999,9,     -999,9,     -999,     -999,9,     -999,9,     -999,9,     -999,1,    0.061,1,    4.673,1,    0.133,1,     -999,9,     -999,1,20180404,0044, -74.4861,-150.0285,     -999,1,     -999,1,-999          ,9,     -999,1,     -999,9,     -999,     -999,9,     -999,     -999,9,     -999,9,     -999,9,     -999,9,     -999,9,     -999,9,     -999,9,     -999,9,     -999,9,     -999,9,     -999,9,     -999,9,     -999,9,     -999,9
320620180309  ,P16        ,39      ,  1,11         ,11         ,2,20180403,2342, -74.4864,-149.9982,     3873,   1718.2,0.7981777777777778748,34.711197491858968,2,  34.7117,2,202.05107525080123,2, 202.2986,2,    202.2,2,    122.8,2,    32.45,2,     0.00,2,     2.25,2,    0.119,2,    0.083,2,   0.1100,2,   2262.4,2,  2362.68,2,   7.5962,6,    24.97,     -999,9,     -999,9,   0.7978,2,     -999,9,     -999,9,     -999,     -999,9,     -999,9,     -999,9,     -999,9,    0.061,1,    4.674,1,    0.130,1,  21.9000,2,     -999,9,20180404,0039, -74.4864,-150.0230,     -999,9,     -999,9,-999          ,9,     -999,9,     -999,9,     -999,     -999,9,     -999,     -999,9,     -999,9,     -999,9,     -999,9,     -999,9,     -999,9,     -999,9,     -999,9,     -999,9,     -999,9,     -999,9,     -999,9,     -999,9,     -999,9
320620180309  ,P16        ,39      ,  1,10         ,10         ,2,20180403,2342, -74.4864,-149.9982,     3873,   1825.9,0.7668694444444443814,34.710151992029260,2,  34.7106,2,203.21365000371134,2, 203.2049,2,    203.2,2,    124.0,2,    32.48,2,     0.00,2,     2.25,2,     -999,9,     -999,9,     -999,9,     -999,9,     -999,9,     -999,9,     -999,     -999,9,     -999,9,   0.7656,2,     -999,9,     -999,9,     -999,     -999,9,     -999,9,     -999,9,     -999,9,    0.061,1,    4.673,1,    0.129,1,     -999,9,     -999,9,20180404,0036, -74.4865,-150.0201,     -999,9,     -999,9,-999          ,9,     -999,9,     -999,9,     -999,     -999,9,     -999,     -999,9,     -999,1,     -999,1,     -999,1,     -999,1,     -999,1,     -999,1,     -999,1,     -999,1,     -999,1,     -999,1,     -999,1,     -999,1,     -999,1
320620180309  ,P16        ,39      ,  1,9          ,9          ,2,20180403,2342, -74.4864,-149.9982,     3873,   2030.3,0.7009361111111112042,34.707837499348649,2,  34.7082,3,205.01871474703717,2, 205.0047,2,    204.7,2,    126.2,2,    32.52,2,     0.00,2,     2.26,2,     -999,9,     -999,9,     -999,9,   2261.8,2,  2362.30,2,   7.5960,2,    24.96,     -999,9,     -999,9,   0.6996,2,     -999,9,     -999,9,     -999,     -999,9,     -999,9,     -999,9,     -999,9,    0.060,1,    4.673,1,    0.128,1,     -999,9,     -999,9,20180404,0031, -74.4865,-150.0166,     -999,9,     -999,9,-999          ,9,     -999,9,     -999,9,     -999,     -999,9,     -999,     -999,9,     -999,9,     -999,9,     -999,9,     -999,9,     -999,9,     -999,9,     -999,9,     -999,9,     -999,9,     -999,9,     -999,9,     -999,9,     -999,9
320620180309  ,P16        ,39      ,  1,8          ,8          ,2,20180403,2342, -74.4864,-149.9982,     3873,   2286.4,0.6259083333333333998,34.705694529128870,3,     -999,9,206.87849225713811,2, 207.0972,2,    206.5,2,    128.5,2,    32.61,2,     0.00,2,     2.27,2,    0.144,2,    0.083,2,   0.0000,2,     -999,9,     -999,9,     -999,9,     -999,     -999,9,     -999,9,   0.6252,2,     -999,9,     -999,9,     -999,     -999,9,     -999,9,     -999,9,     -999,9,    0.061,1,    4.669,1,    0.128,1,  22.1400,2,     -999,9,20180404,0025, -74.4863,-150.0127,     -999,9,     -999,9,-999          ,9,     -999,9,     -999,9,     -999,     -999,9,     -999,     -999,9,     -999,9,     -999,9,     -999,9,     -999,9,     -999,9,     -999,9,     -999,9,     -999,9,     -999,9,     -999,9,     -999,9,     -999,9,     -999,9
320620180309  ,P16        ,39      ,  1,7          ,7          ,2,20180403,2342, -74.4864,-149.9982,     3873,   2542.5,0.5620222222222222008,34.704364049798578,2,  34.7045,2,208.12873874223467,2, 208.3980,2,    207.9,2,    130.6,2,    32.75,2,     0.00,2,     2.25,2,     -999,9,     -999,9,     -999,9,   2263.3,2,  2363.97,2,   7.5964,2,    24.97,     -999,9,     -999,9,   0.5611,2,     -999,9,     -999,9,     -999,     -999,9,     -999,9,     -999,9,     -999,9,    0.061,1,    4.672,1,    0.131,1,     -999,9,     -999,9,20180404,0019, -74.4859,-150.0101,     -999,9,     -999,9,-999          ,9,     -999,9,     -999,9,     -999,     -999,9,     -999,     -999,9,     -999,1,     -999,1,     -999,1,     -999,1,     -999,1,     -999,1,     -999,1,     -999,1,     -999,1,     -999,1,     -999,1,     -999,1,     -999,1
320620180309  ,P16        ,39      ,  1,6          ,6          ,2,20180403,2342, -74.4864,-149.9982,     3873,   2794.6,0.5154777777777775905,34.703370186241308,2,  34.7035,2,209.12088898709990,2, 208.9946,2,    208.8,2,    132.6,2,    32.82,2,     0.00,2,     2.27,2,     -999,9,     -999,9,     -999,9,     -999,9,     -999,9,     -999,9,     -999,     -999,9,     -999,9,   0.5147,2,     -999,9,     -999,9,     -999,     -999,9,     -999,9,     -999,9,     -999,9,    0.061,1,    4.670,1,    0.133,1,     -999,9,     -999,9,20180404,0012, -74.4856,-150.0087,     -999,9,     -999,9,-999          ,9,     -999,9,     -999,9,     -999,     -999,9,     -999,     -999,9,     -999,9,     -999,9,     -999,9,     -999,9,     -999,9,     -999,9,     -999,9,     -999,9,     -999,9,     -999,9,     -999,9,     -999,9,     -999,9
320620180309  ,P16        ,39      ,  1,5          ,5          ,2,20180403,2342, -74.4864,-149.9982,     3873,   3051.8,0.4792555555555554347,34.702928247898228,2,  34.7035,2,209.83569156625160,2, 210.1965,2,    209.7,2,    135.8,2,    32.91,2,     0.00,2,     2.27,2,    0.155,2,    0.088,2,   0.0300,2,   2267.5,2,  2365.11,2,   7.5952,2,    24.97,     -999,9,     -999,1,   0.4787,2,     -999,9,     -999,9,     -999,     -999,9,     -999,9,     -999,9,     -999,1,    0.061,1,    4.672,1,    0.128,1,  21.3700,2,     -999,1,20180404,0006, -74.4859,-150.0048,     -999,1,     -999,1,-999          ,9,     -999,1,     -999,9,     -999,     -999,9,     -999,     -999,9,     -999,1,     -999,1,     -999,1,     -999,1,     -999,1,     -999,1,     -999,1,     -999,1,     -999,1,     -999,1,     -999,1,     -999,1,     -999,1
320620180309  ,P16        ,39      ,  1,4          ,4          ,2,20180403,2342, -74.4864,-149.9982,     3873,   3311.6,0.4469444444444444220,34.702384225965190,2,  34.7027,2,211.63482766872181,2, 210.3036,2,    210.7,2,    136.8,2,    32.86,2,     0.00,2,     2.27,2,     -999,9,     -999,9,     -999,9,     -999,9,     -999,9,     -999,9,     -999,     -999,9,     -999,9,   0.4460,2,     -999,9,     -999,9,     -999,     -999,9,     -999,9,     -999,9,     -999,9,    0.060,1,    4.668,1,    0.127,1,     -999,9,     -999,9,20180404,0000, -74.4861,-150.0034,     -999,9,     -999,9,-999          ,9,     -999,9,     -999,9,     -999,     -999,9,     -999,     -999,9,     -999,1,     -999,1,     -999,1,     -999,1,     -999,1,     -999,1,     -999,1,     -999,1,     -999,1,     -999,1,     -999,1,     -999,1,     -999,1
320620180309  ,P16        ,39      ,  1,3          ,3          ,2,20180403,2342, -74.4864,-149.9982,     3873,   3542.6,0.4149083333333332679,34.701770768417383,2,  34.7023,2,212.29106839368109,2, 210.8051,2,    211.5,2,    138.9,2,    32.93,2,     0.00,2,     2.27,2,    0.183,2,    0.106,2,   0.0400,2,   2262.6,2,  2364.48,2,   7.5946,2,    24.96,     -999,9,     -999,9,   0.4143,2,     -999,9,     -999,9,     -999,     -999,9,     -999,9,     -999,9,     -999,9,    0.061,1,    4.654,1,    0.126,1,  21.5500,2,     -999,9,20180403,2354, -74.4866,-150.0016,     -999,9,     -999,9,-999          ,9,     -999,9,     -999,9,     -999,     -999,9,     -999,     -999,9,     -999,1,     -999,1,     -999,1,     -999,1,     -999,1,     -999,1,     -999,1,     -999,1,     -999,1,     -999,1,     -999,1,     -999,1,     -999,1
320620180309  ,P16        ,39      ,  1,2          ,2          ,2,20180403,2342, -74.4864,-149.9982,     3873,   3738.7,0.3915555555555556011,34.701167195260979,2,  34.7013,2,212.57421689060794,2, 212.1000,2,    212.1,2,    141.4,2,    32.94,2,     0.00,2,     2.26,2,    0.233,2,    0.129,2,   0.0000,2,   2266.6,2,  2364.34,2,   7.5927,2,    24.96,     -999,9,     -999,9,   0.3910,2,     -999,9,     -999,9,     -999,     -999,9,     -999,9,     -999,9,     -999,9,    0.061,1,    4.662,1,    0.130,1,  21.4500,2,     -999,9,20180403,2349, -74.4866,-150.0002,     -999,9,     -999,9,-999          ,9,     -999,9,     -999,9,     -999,     -999,9,     -999,     -999,9,     -999,1,     -999,1,     -999,1,     -999,1,     -999,1,     -999,1,     -999,1,     -999,1,     -999,1,     -999,1,     -999,1,     -999,1,     -999,1
320620180309  ,P16        ,39      ,  1,1          ,1          ,2,20180403,2342, -74.4864,-149.9982,     3873,   3942.2,0.2957166666666666832,34.697809324872786,3,     -999,9,213.63000141192595,2, 213.4039,2,    213.9,2,    141.7,2,    32.94,2,     0.00,2,     2.27,2,    0.486,2,    0.252,2,   0.0000,2,   2264.3,6,  2362.07,2,   7.5900,2,    24.96,     -999,9,     -999,1,   0.2953,2,     -999,9,     -999,9,     -999,     -999,9,     -999,9,     -999,9,     -999,1,    0.061,1,    4.658,1,    0.147,1,  23.8500,4,     -999,1,20180403,2342, -74.4864,-149.9982,     -999,1,     -999,1,-999          ,9,     -999,1,     -999,9,     -999,     -999,9,     -999,     -999,9,     -999,1,     -999,1,     -999,1,     -999,1,     -999,1,     -999,1,     -999,1,     -999,1,     -999,1,     -999,1,     -999,1,     -999,1,     -999,1