BOTTLE,20240515CCHHYDRO
EXPOCODE,SECT_ID,STNNBR,CASTNO,SAMPNO,BTLNBR,BTLNBR_FLAG_W,DATE,TIME,LATITUDE,LONGITUDE,DEPTH,CTDPRS,CTDTMP,CTDSAL,CTDSAL_FLAG_W,SALNTY,SALNTY_FLAG_W,CTDOXY,CTDOXY_FLAG_W,CTDOPTOXY,CTDOPTOXY_FLAG_W,OXYGEN,OXYGEN_FLAG_W,SILCAT,SILCAT_FLAG_W,NITRAT,NITRAT_FLAG_W,NITRIT,NITRIT_FLAG_W,PHSPHT,PHSPHT_FLAG_W,CFC-11,CFC-11_FLAG_W,CFC-12,CFC-12_FLAG_W,SF6,SF6_FLAG_W,TCARBN,TCARBN_FLAG_W,ALKALI,ALKALI_FLAG_W,PH_TOT,PH_TOT_FLAG_W,PH_TMP,DOC,DOC_FLAG_W,HELIUM,HELIUM_FLAG_W,REFTMP,REFTMP_FLAG_W,DELC13,DELC13_FLAG_W,DELC14,DELC14_FLAG_W,C14ERR,POC,POC_FLAG_W,TDN,TDN_FLAG_W,TON,TON_FLAG_W,NEON,NEON_FLAG_W,CTDFLUOR,CTDFLUOR_FLAG_W,CTDXMISS,CTDXMISS_FLAG_W,CTDBETA700,CTDBETA700_FLAG_W,N2O,N2O_FLAG_W,ARGON,ARGON_FLAG_W,BTL_DATE,BTL_TIME,BTL_LAT,BTL_LON,KRYPTON,KRYPTON_FLAG_W,XENON,XENON_FLAG_W,HPLC,HPLC_FLAG_W,HE3_HE4_RATIO,HE3_HE4_RATIO_FLAG_W,Nd_143_144_D_EPSILON_BOTTLE,Nd_143_144_D_EPSILON_BOTTLE_FLAG_W,Nd_143_144_D_EPSILON_BOTTLE_ERROR,Nd_143_144_D_RATIO_BOTTLE,Nd_143_144_D_RATIO_BOTTLE_FLAG_W,Nd_143_144_D_RATIO_BOTTLE_ERROR,Nd_D_CONC,Nd_D_CONC_FLAG_W,La_D_CONC_BOTTLE,La_D_CONC_BOTTLE_FLAG_W,Ce_D_CONC_BOTTLE,Ce_D_CONC_BOTTLE_FLAG_W,Pr_D_CONC_BOTTLE,Pr_D_CONC_BOTTLE_FLAG_W,Sm_D_CONC_BOTTLE,Sm_D_CONC_BOTTLE_FLAG_W,Eu_D_CONC_BOTTLE,Eu_D_CONC_BOTTLE_FLAG_W,Gd_D_CONC_BOTTLE,Gd_D_CONC_BOTTLE_FLAG_W,Tb_D_CONC_BOTTLE,Tb_D_CONC_BOTTLE_FLAG_W,Dy_D_CONC_BOTTLE,Dy_D_CONC_BOTTLE_FLAG_W,Ho_D_CONC_BOTTLE,Ho_D_CONC_BOTTLE_FLAG_W,Er_D_CONC_BOTTLE,Er_D_CONC_BOTTLE_FLAG_W,Tm_D_CONC_BOTTLE,Tm_D_CONC_BOTTLE_FLAG_W,Yb_D_CONC_BOTTLE,Yb_D_CONC_BOTTLE_FLAG_W,Lu_D_CONC_BOTTLE,Lu_D_CONC_BOTTLE_FLAG_W
,,,,,,,,,,,METERS,DBAR,ITS-90,PSS-78,,PSS-78,,UMOL/KG,,UMOL/KG,,UMOL/KG,,UMOL/KG,,UMOL/KG,,UMOL/KG,,UMOL/KG,,PMOL/KG,,PMOL/KG,,FMOL/KG,,UMOL/KG,,UMOL/KG,,,,DEG C,UMOL/KG,,NMOL/L,,DEG C,,/MILLE,,/MILLE,,/MILLE,UG/KG,,UMOL/KG,,UMOL/KG,,NMOL/L,,VOLTS,,VOLTS,,VOLTS,,NMOL/KG,,UMOL/L,,,,,,NMOL/L,,NMOL/L,,,,,,10000,,10000,,,,PMOL/KG,,PMOL/L,,PMOL/L,,PMOL/L,,PMOL/L,,PMOL/L,,PMOL/L,,PMOL/L,,PMOL/L,,PMOL/L,,PMOL/L,,PMOL/L,,PMOL/L,,PMOL/L,
320620180309  ,S04P       ,26      ,  1,36         ,36         ,2,20180328,0147, -67.0014,-176.7294,     4058,      6.2,-0.0034138888888888886,33.987639361731731,2,  33.9833,2,344.62253439955771,3, 329.6977,3,    340.4,2,     50.4,2,    24.93,2,     0.21,2,     1.69,2,    5.342,2,    3.022,2,   3.5100,2,   2181.1,6,  2305.16,2,   7.6746,2,    24.93,     42.3,2,     -999,9,  -0.0627,2,     -999,9,     -999,9,     -999,     -999,9,    27.30,2,     -999,1,     -999,9,    0.118,1,    4.532,1,    0.249,1,  16.4300,2,     -999,9,20180328,0413, -67.0014,-176.7294,     -999,9,     -999,9,-999          ,9,     -999,9,     -999,9,     -999,     -999,9,     -999,     -999,9,     -999,1,     -999,1,     -999,1,     -999,1,     -999,1,     -999,1,     -999,1,     -999,1,     -999,1,     -999,1,     -999,1,     -999,1,     -999,1
320620180309  ,S04P       ,26      ,  1,35         ,35         ,2,20180328,0147, -67.0014,-176.7294,     4058,     24.8,-0.2526111111111111196,33.982719363315560,2,  33.9829,2,341.33778876301994,2, 329.8006,3,    340.9,2,     50.5,2,    24.92,2,     0.21,2,     1.66,2,    5.355,2,    3.000,2,   3.6100,2,   2182.7,2,  2304.86,2,   7.6752,2,    24.93,     42.1,2,     -999,1,  -0.2528,2,     -999,9,     -999,9,     -999,     -999,9,    27.10,2,     -999,1,     -999,1,    0.183,1,    4.533,1,    0.243,1,  16.6200,2,     -999,1,20180328,0411, -67.0012,-176.7297,     -999,1,     -999,1,-999          ,9,     -999,1,     -999,9,     -999,     -999,9,     -999,     -999,9,     -999,1,     -999,1,     -999,1,     -999,1,     -999,1,     -999,1,     -999,1,     -999,1,     -999,1,     -999,1,     -999,1,     -999,1,     -999,1
320620180309  ,S04P       ,26      ,  1,34         ,34         ,2,20180328,0147, -67.0014,-176.7294,     4058,     49.2,-0.2846527777777778101,33.993086466849128,2,  33.9900,2,339.72758296164170,2, 330.5028,3,    340.3,2,     51.6,2,    25.14,2,     0.21,2,     1.68,2,     -999,9,     -999,9,     -999,9,   2181.3,2,  2305.98,2,   7.6717,2,    24.94,     43.5,2,     -999,9,  -0.2780,2,     -999,9,     -999,9,     -999,     -999,9,    27.50,2,     -999,1,     -999,9,    0.245,1,    4.533,1,    0.260,1,     -999,9,     -999,9,20180328,0409, -67.0012,-176.7299,     -999,9,     -999,9,-999          ,9,     -999,9,     -999,9,     -999,     -999,9,     -999,     -999,9,     -999,1,     -999,1,     -999,1,     -999,1,     -999,1,     -999,1,     -999,1,     -999,1,     -999,1,     -999,1,     -999,1,     -999,1,     -999,1
320620180309  ,S04P       ,26      ,  1,33         ,33         ,2,20180328,0147, -67.0014,-176.7294,     4058,     74.3,-0.3951166666666666716,34.054602148616915,2,  34.0520,2,328.87315520267788,2, 315.8005,3,    327.9,2,     56.5,2,    26.20,2,     0.21,2,     1.77,2,    5.037,2,    2.831,2,   3.2300,2,   2188.7,2,  2308.89,2,   7.6559,2,    24.94,     41.0,2,     -999,1,  -0.3780,2,     -999,9,     -999,9,     -999,     -999,9,    29.10,2,     -999,1,     -999,1,    0.199,1,    4.564,1,    0.247,1,  17.2400,2,     -999,1,20180328,0407, -67.0011,-176.7300,     -999,1,     -999,1,-999          ,9,     -999,1,     -999,9,     -999,     -999,9,     -999,     -999,9,     -999,1,     -999,1,     -999,1,     -999,1,     -999,1,     -999,1,     -999,1,     -999,1,     -999,1,     -999,1,     -999,1,     -999,1,     -999,1
320620180309  ,S04P       ,26      ,  1,32         ,32         ,2,20180328,0147, -67.0014,-176.7294,     4058,    100.1,-0.5403000000000000025,34.281453540177651,2,  34.2920,2,285.44452418656783,3, 266.3021,3,    282.2,2,     73.0,2,    29.76,2,     0.19,2,     2.05,2,     -999,9,     -999,9,     -999,9,   2221.2,2,  2322.19,2,   7.6061,2,    24.94,     41.0,2,     -999,9,  -0.5449,2,     -999,9,     -999,9,     -999,     -999,9,    31.90,2,     -999,1,     -999,9,    0.153,1,    4.585,1,    0.226,1,     -999,9,     -999,9,20180328,0405, -67.0010,-176.7301,     -999,9,     -999,9,-999          ,9,     -999,9,     -999,9,     -999,     -999,9,     -999,     -999,9,     -999,1,     -999,1,     -999,1,     -999,1,     -999,1,     -999,1,     -999,1,     -999,1,     -999,1,     -999,1,     -999,1,     -999,1,     -999,1
320620180309  ,S04P       ,26      ,  1,31         ,31         ,2,20180328,0147, -67.0014,-176.7294,     4058,    124.1,-0.2320361111111110819,34.415930796156545,2,  34.4158,2,259.12237738583536,3, 294.9970,3,    254.1,2,     80.9,2,    31.17,2,     0.13,2,     2.17,2,    2.880,2,    1.587,2,   1.7600,2,   2233.3,2,  2329.52,2,   7.5907,2,    24.94,     41.8,2,     -999,1,  -0.2324,2,     -999,9,     -999,9,     -999,     -999,9,    32.70,2,     -999,1,     -999,1,    0.093,1,    4.628,1,    0.180,1,  19.6900,2,     -999,1,20180328,0403, -67.0010,-176.7302,     -999,1,     -999,1,-999          ,9,     -999,1,     -999,9,     -999,     -999,9,     -999,     -999,9,     -999,9,     -999,9,     -999,9,     -999,9,     -999,9,     -999,9,     -999,9,     -999,9,     -999,9,     -999,9,     -999,9,     -999,9,     -999,9
320620180309  ,S04P       ,26      ,  1,30         ,30         ,2,20180328,0147, -67.0014,-176.7294,     4058,    149.8,0.4766944444444444762,34.566062892976554,2,  34.5546,2,225.32868933993157,3, 281.1955,3,    221.0,2,     86.2,2,    32.25,2,     0.05,2,     2.22,2,     -999,9,     -999,9,     -999,9,   2245.8,2,  2337.61,2,   7.5755,2,    24.95,     41.8,2,     -999,9,   0.4659,2,     -999,9,     -999,9,     -999,     -999,9,    34.10,2,     -999,1,     -999,9,    0.070,1,    4.656,1,    0.155,1,     -999,9,     -999,9,20180328,0401, -67.0010,-176.7302,     -999,9,     -999,9,-999          ,9,     -999,9,     -999,9,     -999,     -999,9,     -999,     -999,9,     -999,1,     -999,1,     -999,1,     -999,1,     -999,1,     -999,1,     -999,1,     -999,1,     -999,1,     -999,1,     -999,1,     -999,1,     -999,1
320620180309  ,S04P       ,26      ,  1,29         ,29         ,2,20180328,0147, -67.0014,-176.7294,     4058,    201.1,1.0228277777777781132,34.651829785687490,2,  34.6517,2,198.29991178269975,2, 225.3962,3,    199.9,2,     89.9,2,    32.41,2,     0.02,2,     2.24,2,    1.020,2,    0.552,2,   0.4400,2,   2254.6,2,  2345.48,2,   7.5709,6,    24.94,     40.0,2,     -999,1,   1.0203,2,     -999,9,     -999,9,     -999,     -999,9,    34.20,2,     -999,1,     -999,1,    0.066,1,    4.661,1,    0.154,1,  21.7500,2,     -999,1,20180328,0359, -67.0010,-176.7301,     -999,1,     -999,1,-999          ,9,     -999,1,     -999,9,     -999,     -999,9,     -999,     -999,9,     -999,9,     -999,9,     -999,9,     -999,9,     -999,9,     -999,9,     -999,9,     -999,9,     -999,9,     -999,9,     -999,9,     -999,9,     -999,9
320620180309  ,S04P       ,26      ,  1,28         ,28         ,2,20180328,0147, -67.0014,-176.7294,     4058,    251.5,1.1996027777777777956,34.683513692010969,2,  34.6833,2,192.26543233453353,3, 191.2966,2,    195.7,2,     91.7,2,    32.23,2,     0.02,2,     2.23,2,    0.766,6,    0.420,6,   0.4300,6,   2256.1,2,  2347.25,2,   7.5755,2,    24.92,     40.1,2,     -999,9,   1.1974,2,     -999,9,     -999,9,     -999,     -999,9,    34.40,2,     -999,1,     -999,9,    0.065,1,    4.664,1,    0.178,1,  21.2000,6,     -999,9,20180328,0357, -67.0011,-176.7301,     -999,9,     -999,9,-999          ,9,     -999,9,     -999,9,     -999,     -999,9,     -999,     -999,9,     -999,1,     -999,1,     -999,1,     -999,1,     -999,1,     -999,1,     -999,1,     -999,1,     -999,1,     -999,1,     -999,1,     -999,1,     -999,1
320620180309  ,S04P       ,26      ,  1,27         ,27         ,2,20180328,0147, -67.0014,-176.7294,     4058,    301.8,1.3137972222222222829,34.709557419366178,2,  34.7094,2,191.27844027709210,3, 186.6001,3,    193.4,2,     94.4,2,    31.99,2,     0.00,2,     2.18,2,    0.525,2,    0.281,2,   0.2300,2,   2257.8,6,  2352.73,2,   7.5816,2,    24.94,     38.9,2,     -999,1,   1.3133,2,     -999,9,     -999,9,     -999,     -999,9,     -999,9,     -999,1,     -999,1,    0.063,1,    4.663,1,    0.149,1,  21.2000,2,     -999,1,20180328,0354, -67.0012,-176.7298,     -999,1,     -999,1,-999          ,9,     -999,1,     -999,9,     -999,     -999,9,     -999,     -999,9,     -999,9,     -999,9,     -999,9,     -999,9,     -999,9,     -999,9,     -999,9,     -999,9,     -999,9,     -999,9,     -999,9,     -999,9,     -999,9
320620180309  ,S04P       ,26      ,  1,26         ,26         ,2,20180328,0147, -67.0014,-176.7294,     4058,    353.0,1.3162916666666668597,34.712902048799613,2,  34.7125,2,193.29337061266520,2, 186.7006,3,    193.7,2,     94.6,2,    31.86,2,     0.00,2,     2.18,2,     -999,9,     -999,9,     -999,9,   2259.7,2,  2353.29,2,   7.5824,2,    24.91,     38.0,2,     -999,9,   1.3154,2,     -999,9,     -999,9,     -999,     -999,9,     -999,9,     -999,1,     -999,9,    0.063,1,    4.667,1,    0.150,1,     -999,9,     -999,9,20180328,0352, -67.0013,-176.7296,     -999,9,     -999,9,-999          ,9,     -999,9,     -999,9,     -999,     -999,9,     -999,     -999,9,     -999,1,     -999,1,     -999,1,     -999,1,     -999,1,     -999,1,     -999,1,     -999,1,     -999,1,     -999,1,     -999,1,     -999,1,     -999,1
320620180309  ,S04P       ,26      ,  1,25         ,25         ,2,20180328,0147, -67.0014,-176.7294,     4058,    404.9,1.3078916666666668966,34.719381032946394,2,  34.7200,2,196.00059352758413,2, 190.2013,2,    195.5,2,     96.5,2,    31.69,2,     0.00,2,     2.18,2,    0.432,2,    0.234,2,   0.1800,2,   2258.3,2,  2354.39,2,   7.5898,2,    24.92,     40.3,2,     -999,1,   1.3065,2,     -999,9,     -999,9,     -999,     -999,9,     -999,9,     -999,1,     -999,1,    0.062,1,    4.668,1,    0.145,1,  20.7600,2,     -999,1,20180328,0349, -67.0013,-176.7296,     -999,1,     -999,1,-999          ,9,     -999,1,     -999,9,     -999,     -999,9,     -999,     -999,9,     -999,9,     -999,9,     -999,9,     -999,9,     -999,9,     -999,9,     -999,9,     -999,9,     -999,9,     -999,9,     -999,9,     -999,9,     -999,9
320620180309  ,S04P       ,26      ,  1,24         ,24         ,2,20180328,0147, -67.0014,-176.7294,     4058,    454.7,1.3055666666666665421,34.721582349945066,2,  34.7210,2,197.25342860699379,2, 191.1955,2,    196.2,2,     96.9,2,    31.58,2,     0.00,2,     2.19,2,     -999,9,     -999,9,     -999,9,   2257.2,2,  2350.74,3,   7.5935,2,    24.92,     -999,9,     -999,9,   1.3057,2,     -999,9,     -999,9,     -999,     -999,9,     -999,9,     -999,9,     -999,9,    0.062,1,    4.668,1,    0.143,1,     -999,9,     -999,9,20180328,0347, -67.0014,-176.7295,     -999,9,     -999,9,-999          ,9,     -999,9,     -999,9,     -999,     -999,9,     -999,     -999,9,     -999,1,     -999,1,     -999,1,     -999,1,     -999,1,     -999,1,     -999,1,     -999,1,     -999,1,     -999,1,     -999,1,     -999,1,     -999,1
320620180309  ,S04P       ,26      ,  1,23         ,23         ,2,20180328,0147, -67.0014,-176.7294,     4058,    505.5,1.2776916666666666700,34.723616333424630,2,  34.7235,2,197.29882833569010,2, 193.8037,2,    197.3,2,     98.7,2,    31.51,2,     0.00,2,     2.14,2,    0.365,2,    0.198,2,   0.1700,2,   2258.5,2,  2354.96,2,   7.5964,2,    24.92,     37.8,2,     -999,9,   1.2769,2,     -999,9,     -999,9,     -999,     -999,9,     -999,9,     -999,1,     -999,9,    0.064,1,    4.669,1,    0.143,1,  20.3000,2,     -999,9,20180328,0344, -67.0015,-176.7293,     -999,9,     -999,9,-999          ,9,     -999,9,     -999,9,     -999,     -999,9,     -999,     -999,9,     -999,9,     -999,9,     -999,9,     -999,9,     -999,9,     -999,9,     -999,9,     -999,9,     -999,9,     -999,9,     -999,9,     -999,9,     -999,9
320620180309  ,S04P       ,26      ,  1,22         ,37         ,2,20180328,0147, -67.0014,-176.7294,     4058,    607.7,1.1793166666666665687,34.721840456512275,2,  34.7219,2,196.40302834994301,2, 194.5979,2,    197.5,2,    102.7,2,    31.77,2,     0.00,2,     2.16,2,    0.326,2,    0.181,2,   0.1500,2,   2258.9,2,  2356.99,2,   7.5953,2,    24.92,     46.1,3,     -999,1,   1.1787,2,     -999,9,     -999,9,     -999,     -999,9,     -999,9,     -999,1,     -999,1,    0.062,1,    4.669,1,    0.143,1,  20.9200,2,     -999,1,20180328,0341, -67.0016,-176.7291,     -999,1,     -999,1,-999          ,9,     -999,1,     -999,9,     -999,     -999,9,     -999,     -999,9,     -999,1,     -999,1,     -999,1,     -999,1,     -999,1,     -999,1,     -999,1,     -999,1,     -999,1,     -999,1,     -999,1,     -999,1,     -999,1
320620180309  ,S04P       ,26      ,  1,21         ,21         ,2,20180328,0147, -67.0014,-176.7294,     4058,    706.5,1.1328555555555555046,34.721149870494422,2,  34.7206,2,197.45812923089676,2, 195.3068,2,    198.1,2,    104.8,2,    31.80,2,     0.00,2,     2.18,2,     -999,9,     -999,9,     -999,9,   2258.5,2,  2358.34,2,   7.5954,6,    24.91,     39.9,2,     -999,9,   1.1320,2,     -999,9,     -999,9,     -999,     -999,9,     -999,9,     -999,1,     -999,9,    0.062,1,    4.667,1,    0.144,1,     -999,9,     -999,9,20180328,0337, -67.0018,-176.7285,     -999,9,     -999,9,-999          ,9,     -999,9,     -999,9,     -999,     -999,9,     -999,     -999,9,     -999,9,     -999,9,     -999,9,     -999,9,     -999,9,     -999,9,     -999,9,     -999,9,     -999,9,     -999,9,     -999,9,     -999,9,     -999,9
320620180309  ,S04P       ,26      ,  1,20         ,20         ,2,20180328,0147, -67.0014,-176.7294,     4058,    807.8,1.0750555555555556531,34.719464684899009,2,  34.7196,2,198.52016737496248,2, 198.7089,2,    199.1,2,    106.8,2,    31.86,2,     0.00,2,     2.18,2,    0.291,2,    0.157,2,   0.0100,2,   2259.3,2,  2358.77,2,   7.5953,2,    24.92,     41.4,2,     -999,9,   1.0723,2,     -999,9,     -999,9,     -999,     -999,9,     -999,9,     -999,1,     -999,9,    0.062,1,    4.669,1,    0.142,1,  20.1100,2,     -999,9,20180328,0334, -67.0022,-176.7279,     -999,9,     -999,9,-999          ,9,     -999,9,     -999,9,     -999,     -999,9,     -999,     -999,9,     -999,1,     -999,1,     -999,1,     -999,1,     -999,1,     -999,1,     -999,1,     -999,1,     -999,1,     -999,1,     -999,1,     -999,1,     -999,1
320620180309  ,S04P       ,26      ,  1,19         ,19         ,2,20180328,0147, -67.0014,-176.7294,     4058,    910.9,1.0306833333333331737,34.718337526259106,2,  34.7182,2,200.05304847213640,2, 200.3005,2,    200.9,2,    108.5,2,    31.86,2,     0.00,2,     2.20,2,    0.281,2,    0.157,2,   0.1200,2,   2260.5,2,  2360.38,2,   7.5993,2,    24.92,     39.5,2,     -999,1,   1.0289,2,     -999,9,     -999,9,     -999,     -999,9,     -999,9,     -999,1,     -999,1,    0.062,1,    4.667,1,    0.141,1,  19.9600,2,     -999,1,20180328,0330, -67.0024,-176.7275,     -999,1,     -999,1,-999          ,9,     -999,1,     -999,9,     -999,     -999,9,     -999,     -999,9,     -999,9,     -999,9,     -999,9,     -999,9,     -999,9,     -999,9,     -999,9,     -999,9,     -999,9,     -999,9,     -999,9,     -999,9,     -999,9
320620180309  ,S04P       ,26      ,  1,18         ,18         ,2,20180328,0147, -67.0014,-176.7294,     4058,   1013.2,0.9685000000000000275,34.716232270446866,2,  34.7164,2,201.49854009415958,2, 203.5971,2,    200.7,2,    111.2,2,    31.96,2,     0.00,2,     2.21,2,    0.249,2,    0.129,2,   0.1300,2,   2261.9,2,  2361.19,2,   7.5995,2,    24.91,     40.8,2,     -999,9,   0.9680,2,     -999,9,     -999,9,     -999,     -999,9,     -999,9,     -999,1,     -999,9,    0.061,1,    4.670,1,    0.140,1,  20.0100,2,     -999,9,20180328,0326, -67.0024,-176.7275,     -999,9,     -999,9,-999          ,9,     -999,9,     -999,9,     -999,     -999,9,     -999,     -999,9,     -999,1,     -999,1,     -999,1,     -999,1,     -999,1,     -999,1,     -999,1,     -999,1,     -999,1,     -999,1,     -999,1,     -999,1,     -999,1
320620180309  ,S04P       ,26      ,  1,17         ,17         ,2,20180328,0147, -67.0014,-176.7294,     4058,   1113.9,0.9326694444444445509,34.715517138982634,2,  34.7159,2,200.44078723999971,2, 203.2002,2,    200.3,2,    113.7,2,    32.08,2,     0.00,2,     2.21,2,     -999,9,     -999,9,     -999,9,   2263.7,2,  2362.37,2,   7.5977,2,    24.92,     39.5,2,     -999,9,   0.9314,2,     -999,9,     -999,9,     -999,     -999,9,     -999,9,     -999,1,     -999,9,    0.061,1,    4.669,1,    0.140,1,     -999,9,     -999,9,20180328,0323, -67.0027,-176.7270,     -999,9,     -999,9,-999          ,9,     -999,9,     -999,9,     -999,     -999,9,     -999,     -999,9,     -999,9,     -999,9,     -999,9,     -999,9,     -999,9,     -999,9,     -999,9,     -999,9,     -999,9,     -999,9,     -999,9,     -999,9,     -999,9
320620180309  ,S04P       ,26      ,  1,16         ,16         ,2,20180328,0147, -67.0014,-176.7294,     4058,   1214.5,0.8869777777777778649,34.713925745415992,2,  34.7143,2,200.84852433817071,2, 202.0982,2,    201.5,2,    116.2,2,    32.15,2,     0.00,2,     2.21,2,    0.193,2,    0.104,2,   0.1600,2,   2262.8,2,  2361.99,2,   7.5985,2,    24.91,     38.8,2,     -999,1,   0.8861,2,     -999,9,     -999,9,     -999,     -999,9,     -999,9,     -999,1,     -999,1,    0.061,1,    4.672,1,    0.137,1,  20.2100,2,     -999,1,20180328,0319, -67.0029,-176.7267,     -999,1,     -999,1,-999          ,9,     -999,1,     -999,9,     -999,     -999,9,     -999,     -999,9,     -999,1,     -999,1,     -999,1,     -999,1,     -999,1,     -999,1,     -999,1,     -999,1,     -999,1,     -999,1,     -999,1,     -999,1,     -999,1