BOTTLE,20240515CCHHYDRO
EXPOCODE,SECT_ID,STNNBR,CASTNO,SAMPNO,BTLNBR,BTLNBR_FLAG_W,DATE,TIME,LATITUDE,LONGITUDE,DEPTH,CTDPRS,CTDTMP,CTDSAL,CTDSAL_FLAG_W,SALNTY,SALNTY_FLAG_W,CTDOXY,CTDOXY_FLAG_W,CTDOPTOXY,CTDOPTOXY_FLAG_W,OXYGEN,OXYGEN_FLAG_W,SILCAT,SILCAT_FLAG_W,NITRAT,NITRAT_FLAG_W,NITRIT,NITRIT_FLAG_W,PHSPHT,PHSPHT_FLAG_W,CFC-11,CFC-11_FLAG_W,CFC-12,CFC-12_FLAG_W,SF6,SF6_FLAG_W,TCARBN,TCARBN_FLAG_W,ALKALI,ALKALI_FLAG_W,PH_TOT,PH_TOT_FLAG_W,PH_TMP,DOC,DOC_FLAG_W,HELIUM,HELIUM_FLAG_W,REFTMP,REFTMP_FLAG_W,DELC13,DELC13_FLAG_W,DELC14,DELC14_FLAG_W,C14ERR,POC,POC_FLAG_W,TDN,TDN_FLAG_W,TON,TON_FLAG_W,NEON,NEON_FLAG_W,CTDFLUOR,CTDFLUOR_FLAG_W,CTDXMISS,CTDXMISS_FLAG_W,CTDBETA700,CTDBETA700_FLAG_W,N2O,N2O_FLAG_W,ARGON,ARGON_FLAG_W,BTL_DATE,BTL_TIME,BTL_LAT,BTL_LON,KRYPTON,KRYPTON_FLAG_W,XENON,XENON_FLAG_W,HPLC,HPLC_FLAG_W,HE3_HE4_RATIO,HE3_HE4_RATIO_FLAG_W,Nd_143_144_D_EPSILON_BOTTLE,Nd_143_144_D_EPSILON_BOTTLE_FLAG_W,Nd_143_144_D_EPSILON_BOTTLE_ERROR,Nd_143_144_D_RATIO_BOTTLE,Nd_143_144_D_RATIO_BOTTLE_FLAG_W,Nd_143_144_D_RATIO_BOTTLE_ERROR,Nd_D_CONC,Nd_D_CONC_FLAG_W,La_D_CONC_BOTTLE,La_D_CONC_BOTTLE_FLAG_W,Ce_D_CONC_BOTTLE,Ce_D_CONC_BOTTLE_FLAG_W,Pr_D_CONC_BOTTLE,Pr_D_CONC_BOTTLE_FLAG_W,Sm_D_CONC_BOTTLE,Sm_D_CONC_BOTTLE_FLAG_W,Eu_D_CONC_BOTTLE,Eu_D_CONC_BOTTLE_FLAG_W,Gd_D_CONC_BOTTLE,Gd_D_CONC_BOTTLE_FLAG_W,Tb_D_CONC_BOTTLE,Tb_D_CONC_BOTTLE_FLAG_W,Dy_D_CONC_BOTTLE,Dy_D_CONC_BOTTLE_FLAG_W,Ho_D_CONC_BOTTLE,Ho_D_CONC_BOTTLE_FLAG_W,Er_D_CONC_BOTTLE,Er_D_CONC_BOTTLE_FLAG_W,Tm_D_CONC_BOTTLE,Tm_D_CONC_BOTTLE_FLAG_W,Yb_D_CONC_BOTTLE,Yb_D_CONC_BOTTLE_FLAG_W,Lu_D_CONC_BOTTLE,Lu_D_CONC_BOTTLE_FLAG_W
,,,,,,,,,,,METERS,DBAR,ITS-90,PSS-78,,PSS-78,,UMOL/KG,,UMOL/KG,,UMOL/KG,,UMOL/KG,,UMOL/KG,,UMOL/KG,,UMOL/KG,,PMOL/KG,,PMOL/KG,,FMOL/KG,,UMOL/KG,,UMOL/KG,,,,DEG C,UMOL/KG,,NMOL/L,,DEG C,,/MILLE,,/MILLE,,/MILLE,UG/KG,,UMOL/KG,,UMOL/KG,,NMOL/L,,VOLTS,,VOLTS,,VOLTS,,NMOL/KG,,UMOL/L,,,,,,NMOL/L,,NMOL/L,,,,,,10000,,10000,,,,PMOL/KG,,PMOL/L,,PMOL/L,,PMOL/L,,PMOL/L,,PMOL/L,,PMOL/L,,PMOL/L,,PMOL/L,,PMOL/L,,PMOL/L,,PMOL/L,,PMOL/L,,PMOL/L,
320620180309  ,P15        ,13      ,  1,15         ,15         ,2,20180322,1510, -69.5000,-169.9996,     4183,   1319.7,0.8480277777777779358,34.712605173857092,2,  34.7111,2,202.06177465297813,2, 201.8072,2,    202.4,2,    118.9,2,    32.28,2,     0.00,2,     2.20,2,     -999,9,     -999,9,     -999,9,   2261.5,2,  2361.40,2,   7.5944,6,    24.93,     -999,9,     -999,9,   0.8494,2,     -999,9,     -999,9,     -999,     -999,9,     -999,9,     -999,9,     -999,9,    0.061,1,    4.683,1,    0.127,1,     -999,9,     -999,9,20180322,1634, -69.4997,-170.0002,     -999,9,     -999,9,-999          ,9,     -999,9,     -999,9,     -999,     -999,9,     -999,     -999,9,     -999,9,     -999,9,     -999,9,     -999,9,     -999,9,     -999,9,     -999,9,     -999,9,     -999,9,     -999,9,     -999,9,     -999,9,     -999,9
320620180309  ,P15        ,13      ,  1,14         ,14         ,2,20180322,1510, -69.5000,-169.9996,     4183,   1419.6,0.8100166666666667181,34.710870577798524,2,  34.7102,2,202.91170377478954,2, 202.8995,2,    203.2,2,    121.6,2,    32.30,2,     0.00,2,     2.22,2,     -999,9,     -999,9,     -999,9,     -999,9,     -999,9,     -999,9,     -999,     -999,9,     -999,9,   0.8093,2,     -999,9,     -999,9,     -999,     -999,9,     -999,9,     -999,9,     -999,9,    0.061,1,    4.684,1,    0.128,1,     -999,9,     -999,9,20180322,1630, -69.4998,-169.9999,     -999,9,     -999,9,-999          ,9,     -999,9,     -999,9,     -999,     -999,9,     -999,     -999,9,     -999,9,     -999,9,     -999,9,     -999,9,     -999,9,     -999,9,     -999,9,     -999,9,     -999,9,     -999,9,     -999,9,     -999,9,     -999,9
320620180309  ,P15        ,13      ,  1,13         ,13         ,2,20180322,1510, -69.5000,-169.9996,     4183,   1520.8,0.7562944444444443803,34.708544403279433,2,  34.7080,2,204.33608497251294,2, 204.0938,2,    204.9,2,    122.1,2,    32.30,2,     0.00,2,     2.21,2,    0.170,2,    0.089,2,   0.0000,3,   2262.8,2,  2361.22,2,   7.5963,6,    24.93,     -999,9,     -999,9,   0.7561,2,     -999,9,     -999,9,     -999,     -999,9,     -999,9,     -999,9,     -999,9,    0.061,1,    4.683,1,    0.127,1,  20.9900,2,     -999,9,20180322,1627, -69.4999,-169.9995,     -999,9,     -999,9,-999          ,9,     -999,9,     -999,9,     -999,     -999,9,     -999,     -999,9,     -999,9,     -999,9,     -999,9,     -999,9,     -999,9,     -999,9,     -999,9,     -999,9,     -999,9,     -999,9,     -999,9,     -999,9,     -999,9
320620180309  ,P15        ,13      ,  1,12         ,12         ,2,20180322,1510, -69.5000,-169.9996,     4183,   1621.1,0.7160611111111111482,34.706993397958598,2,  34.7070,2,204.97632660923711,2, 205.0027,2,    205.3,2,    124.4,2,    32.30,2,     0.00,2,     2.22,2,     -999,9,     -999,9,     -999,9,     -999,9,     -999,9,     -999,9,     -999,     -999,9,     -999,9,   0.7160,2,     -999,9,     -999,9,     -999,     -999,9,     -999,9,     -999,9,     -999,9,    0.061,1,    4.684,1,    0.129,1,     -999,9,     -999,9,20180322,1624, -69.4999,-169.9994,     -999,9,     -999,9,-999          ,9,     -999,9,     -999,9,     -999,     -999,9,     -999,     -999,9,     -999,9,     -999,9,     -999,9,     -999,9,     -999,9,     -999,9,     -999,9,     -999,9,     -999,9,     -999,9,     -999,9,     -999,9,     -999,9
320620180309  ,P15        ,13      ,  1,11         ,11         ,2,20180322,1510, -69.5000,-169.9996,     4183,   1724.1,0.6849944444444443503,34.705904357536177,2,  34.7060,2,206.29142293847087,2, 205.9001,2,    206.0,2,    124.6,2,    32.34,2,     0.00,2,     2.23,2,     -999,9,     -999,9,     -999,9,   2263.1,2,  2361.70,2,   7.5969,2,    24.93,     -999,9,     -999,9,   0.6842,2,     -999,9,     -999,9,     -999,     -999,9,     -999,9,     -999,9,     -999,9,    0.061,1,    4.684,1,    0.127,1,     -999,9,     -999,9,20180322,1620, -69.4999,-169.9993,     -999,9,     -999,9,-999          ,9,     -999,9,     -999,9,     -999,     -999,9,     -999,     -999,9,     -999,9,     -999,9,     -999,9,     -999,9,     -999,9,     -999,9,     -999,9,     -999,9,     -999,9,     -999,9,     -999,9,     -999,9,     -999,9
320620180309  ,P15        ,13      ,  1,10         ,10         ,2,20180322,1510, -69.5000,-169.9996,     4183,   1826.4,0.6404277777777777070,34.704393243943478,2,  34.7037,2,206.50791945216605,2, 206.6972,2,    207.1,2,    125.3,2,    32.36,2,     0.00,2,     2.22,2,     -999,9,     -999,9,     -999,9,     -999,9,     -999,9,     -999,9,     -999,     -999,9,     -999,9,   0.6402,2,     -999,9,     -999,9,     -999,     -999,9,     -999,9,     -999,9,     -999,9,    0.061,1,    4.684,1,    0.128,1,     -999,9,     -999,9,20180322,1617, -69.4999,-169.9996,     -999,9,     -999,9,-999          ,9,     -999,9,     -999,9,     -999,     -999,9,     -999,     -999,9,     -999,9,     -999,9,     -999,9,     -999,9,     -999,9,     -999,9,     -999,9,     -999,9,     -999,9,     -999,9,     -999,9,     -999,9,     -999,9
320620180309  ,P15        ,13      ,  1,9          ,9          ,2,20180322,1510, -69.5000,-169.9996,     4183,   2028.6,0.5755416666666668402,34.703119381452147,2,  34.7023,2,207.50259626150833,2, 208.8033,2,    207.7,2,    127.7,2,    32.47,2,     0.00,2,     2.23,2,    0.186,2,    0.097,2,   0.0000,3,   2263.9,2,  2361.83,2,   7.5942,2,    24.93,     -999,9,     -999,9,   0.5749,2,     -999,9,     -999,9,     -999,     -999,9,     -999,9,     -999,9,     -999,9,    0.061,1,    4.684,1,    0.127,1,  20.9800,2,     -999,9,20180322,1612, -69.4998,-169.9998,     -999,9,     -999,9,-999          ,9,     -999,9,     -999,9,     -999,     -999,9,     -999,     -999,9,     -999,9,     -999,9,     -999,9,     -999,9,     -999,9,     -999,9,     -999,9,     -999,9,     -999,9,     -999,9,     -999,9,     -999,9,     -999,9
320620180309  ,P15        ,13      ,  1,8          ,8          ,2,20180322,1510, -69.5000,-169.9996,     4183,   2283.6,0.4838583333333333347,34.700554844622680,2,  34.7000,2,210.34645345008636,2, 211.2991,2,    210.6,2,    128.5,2,    32.50,2,     0.00,2,     2.23,2,     -999,9,     -999,9,     -999,9,     -999,9,     -999,9,     -999,9,     -999,     -999,9,     -999,9,   0.4831,2,     -999,9,     -999,9,     -999,     -999,9,     -999,9,     -999,9,     -999,9,    0.061,1,    4.684,1,    0.127,1,     -999,9,     -999,9,20180322,1606, -69.4999,-169.9995,     -999,9,     -999,9,-999          ,9,     -999,9,     -999,9,     -999,     -999,9,     -999,     -999,9,     -999,9,     -999,9,     -999,9,     -999,9,     -999,9,     -999,9,     -999,9,     -999,9,     -999,9,     -999,9,     -999,9,     -999,9,     -999,9
320620180309  ,P15        ,13      ,  1,7          ,7          ,2,20180322,1510, -69.5000,-169.9996,     4183,   2539.7,0.4159194444444445082,34.698502500270564,2,  34.6970,2,212.71821392689168,2, 213.6993,2,    212.8,2,    129.5,2,    32.52,2,     0.00,2,     2.24,2,    0.302,2,    0.169,2,   0.0600,2,   2264.0,2,  2362.43,2,   7.5940,2,    24.93,     -999,9,     -999,9,   0.4155,2,     -999,9,     -999,9,     -999,     -999,9,     -999,9,     -999,9,     -999,9,    0.061,1,    4.684,1,    0.126,1,  20.1300,2,     -999,9,20180322,1600, -69.4998,-169.9997,     -999,9,     -999,9,-999          ,9,     -999,9,     -999,9,     -999,     -999,9,     -999,     -999,9,     -999,9,     -999,9,     -999,9,     -999,9,     -999,9,     -999,9,     -999,9,     -999,9,     -999,9,     -999,9,     -999,9,     -999,9,     -999,9
320620180309  ,P15        ,13      ,  1,6          ,6          ,2,20180322,1510, -69.5000,-169.9996,     4183,   2794.8,0.3449027777777777803,34.695465575469015,2,  34.6947,2,215.31665442090355,2, 218.9022,3,    215.2,2,    129.1,2,    32.52,2,     0.00,2,     2.24,2,     -999,9,     -999,9,     -999,9,     -999,9,     -999,9,     -999,9,     -999,     -999,9,     -999,9,   0.3444,2,     -999,9,     -999,9,     -999,     -999,9,     -999,9,     -999,9,     -999,9,    0.061,1,    4.684,1,    0.126,1,     -999,9,     -999,9,20180322,1554, -69.4998,-169.9999,     -999,9,     -999,9,-999          ,9,     -999,9,     -999,9,     -999,     -999,9,     -999,     -999,9,     -999,9,     -999,9,     -999,9,     -999,9,     -999,9,     -999,9,     -999,9,     -999,9,     -999,9,     -999,9,     -999,9,     -999,9,     -999,9
320620180309  ,P15        ,13      ,  1,5          ,5          ,2,20180322,1510, -69.5000,-169.9996,     4183,   3051.4,0.2858583333333333254,34.692528347995847,3,  34.6949,2,217.37212585731356,2, 218.9995,2,    218.8,2,    128.6,2,    32.47,2,     0.00,2,     2.23,2,    0.599,2,    0.335,2,   0.0000,2,   2263.0,2,  2361.52,2,   7.5932,2,    24.93,     -999,9,     -999,9,   0.2857,2,     -999,9,     -999,9,     -999,     -999,9,     -999,9,     -999,9,     -999,9,    0.061,1,    4.683,1,    0.126,1,  20.1900,2,     -999,9,20180322,1548, -69.4998,-170.0001,     -999,9,     -999,9,-999          ,9,     -999,9,     -999,9,     -999,     -999,9,     -999,     -999,9,     -999,9,     -999,9,     -999,9,     -999,9,     -999,9,     -999,9,     -999,9,     -999,9,     -999,9,     -999,9,     -999,9,     -999,9,     -999,9
320620180309  ,P15        ,13      ,  1,4          ,4          ,2,20180322,1510, -69.5000,-169.9996,     4183,   3359.2,0.2279138888888888881,34.688504490378286,2,  34.6876,2,220.81437929535028,2, 218.9992,2,    220.8,2,    126.1,2,    32.39,2,     0.00,2,     2.24,2,     -999,9,     -999,9,     -999,9,   2262.9,2,  2360.12,2,   7.5934,2,    24.93,     -999,9,     -999,9,   0.2275,2,     -999,9,     -999,9,     -999,     -999,9,     -999,9,     -999,9,     -999,9,    0.061,1,    4.682,1,    0.126,1,     -999,9,     -999,9,20180322,1541, -69.4997,-170.0003,     -999,9,     -999,9,-999          ,9,     -999,9,     -999,9,     -999,     -999,9,     -999,     -999,9,     -999,9,     -999,9,     -999,9,     -999,9,     -999,9,     -999,9,     -999,9,     -999,9,     -999,9,     -999,9,     -999,9,     -999,9,     -999,9
320620180309  ,P15        ,13      ,  1,3          ,3          ,2,20180322,1510, -69.5000,-169.9996,     4183,   3668.3,0.1944472222222222157,34.685050792667504,3,  34.6817,2,223.47909596166946,2, 219.9022,3,    223.0,2,    122.1,2,    32.30,2,     0.00,2,     2.24,2,    1.078,2,    0.570,2,   0.2900,2,   2262.0,2,  2359.26,2,   7.5918,2,    24.92,     -999,9,     -999,9,   0.1940,2,     -999,9,     -999,9,     -999,     -999,9,     -999,9,     -999,9,     -999,9,    0.061,1,    4.681,1,    0.127,1,  20.3000,2,     -999,9,20180322,1533, -69.4997,-170.0007,     -999,9,     -999,9,-999          ,9,     -999,9,     -999,9,     -999,     -999,9,     -999,     -999,9,     -999,9,     -999,9,     -999,9,     -999,9,     -999,9,     -999,9,     -999,9,     -999,9,     -999,9,     -999,9,     -999,9,     -999,9,     -999,9
320620180309  ,P15        ,13      ,  1,2          ,2          ,2,20180322,1510, -69.5000,-169.9996,     4183,   3962.2,0.1878444444444444250,34.685198149988771,3,  34.6829,2,224.72829691013953,2, 220.0050,3,    224.0,2,    120.9,2,    32.28,2,     0.00,2,     2.24,2,    1.107,2,    0.587,2,   0.0000,2,   2262.0,2,  2359.04,2,   7.5927,2,    24.92,     -999,9,     -999,9,   0.1873,2,     -999,9,     -999,9,     -999,     -999,9,     -999,9,     -999,9,     -999,9,    0.061,1,    4.680,1,    0.128,1,  20.5000,2,     -999,9,20180322,1525, -69.4996,-170.0010,     -999,9,     -999,9,-999          ,9,     -999,9,     -999,9,     -999,     -999,9,     -999,     -999,9,     -999,9,     -999,9,     -999,9,     -999,9,     -999,9,     -999,9,     -999,9,     -999,9,     -999,9,     -999,9,     -999,9,     -999,9,     -999,9
320620180309  ,P15        ,13      ,  1,1          ,1          ,2,20180322,1510, -69.5000,-169.9996,     4183,   4257.4,0.1264583333333333393,34.679555920762546,2,  34.6782,2,227.48486707797238,2, 221.0006,3,    226.9,2,    118.4,2,    32.18,2,     0.00,2,     2.23,2,    1.399,2,    0.764,2,   0.6400,2,   2260.6,6,  2357.58,2,   7.5892,2,    24.93,     -999,9,     -999,9,   0.1260,2,     -999,9,     -999,9,     -999,     -999,9,     -999,9,     -999,9,     -999,9,    0.061,1,    4.674,1,    0.139,1,  20.9000,2,     -999,9,20180322,1510, -69.5000,-169.9996,     -999,9,     -999,9,-999          ,9,     -999,9,     -999,9,     -999,     -999,9,     -999,     -999,9,     -999,9,     -999,9,     -999,9,     -999,9,     -999,9,     -999,9,     -999,9,     -999,9,     -999,9,     -999,9,     -999,9,     -999,9,     -999,9