BOTTLE,20240515CCHHYDRO
EXPOCODE,SECT_ID,STNNBR,CASTNO,SAMPNO,BTLNBR,BTLNBR_FLAG_W,DATE,TIME,LATITUDE,LONGITUDE,DEPTH,CTDPRS,CTDTMP,CTDSAL,CTDSAL_FLAG_W,SALNTY,SALNTY_FLAG_W,CTDOXY,CTDOXY_FLAG_W,CTDOPTOXY,CTDOPTOXY_FLAG_W,OXYGEN,OXYGEN_FLAG_W,SILCAT,SILCAT_FLAG_W,NITRAT,NITRAT_FLAG_W,NITRIT,NITRIT_FLAG_W,PHSPHT,PHSPHT_FLAG_W,CFC-11,CFC-11_FLAG_W,CFC-12,CFC-12_FLAG_W,SF6,SF6_FLAG_W,TCARBN,TCARBN_FLAG_W,ALKALI,ALKALI_FLAG_W,PH_TOT,PH_TOT_FLAG_W,PH_TMP,DOC,DOC_FLAG_W,HELIUM,HELIUM_FLAG_W,REFTMP,REFTMP_FLAG_W,DELC13,DELC13_FLAG_W,DELC14,DELC14_FLAG_W,C14ERR,POC,POC_FLAG_W,TDN,TDN_FLAG_W,TON,TON_FLAG_W,NEON,NEON_FLAG_W,CTDFLUOR,CTDFLUOR_FLAG_W,CTDXMISS,CTDXMISS_FLAG_W,CTDBETA700,CTDBETA700_FLAG_W,N2O,N2O_FLAG_W,ARGON,ARGON_FLAG_W,BTL_DATE,BTL_TIME,BTL_LAT,BTL_LON,KRYPTON,KRYPTON_FLAG_W,XENON,XENON_FLAG_W,HPLC,HPLC_FLAG_W,HE3_HE4_RATIO,HE3_HE4_RATIO_FLAG_W,Nd_143_144_D_EPSILON_BOTTLE,Nd_143_144_D_EPSILON_BOTTLE_FLAG_W,Nd_143_144_D_EPSILON_BOTTLE_ERROR,Nd_143_144_D_RATIO_BOTTLE,Nd_143_144_D_RATIO_BOTTLE_FLAG_W,Nd_143_144_D_RATIO_BOTTLE_ERROR,Nd_D_CONC,Nd_D_CONC_FLAG_W,La_D_CONC_BOTTLE,La_D_CONC_BOTTLE_FLAG_W,Ce_D_CONC_BOTTLE,Ce_D_CONC_BOTTLE_FLAG_W,Pr_D_CONC_BOTTLE,Pr_D_CONC_BOTTLE_FLAG_W,Sm_D_CONC_BOTTLE,Sm_D_CONC_BOTTLE_FLAG_W,Eu_D_CONC_BOTTLE,Eu_D_CONC_BOTTLE_FLAG_W,Gd_D_CONC_BOTTLE,Gd_D_CONC_BOTTLE_FLAG_W,Tb_D_CONC_BOTTLE,Tb_D_CONC_BOTTLE_FLAG_W,Dy_D_CONC_BOTTLE,Dy_D_CONC_BOTTLE_FLAG_W,Ho_D_CONC_BOTTLE,Ho_D_CONC_BOTTLE_FLAG_W,Er_D_CONC_BOTTLE,Er_D_CONC_BOTTLE_FLAG_W,Tm_D_CONC_BOTTLE,Tm_D_CONC_BOTTLE_FLAG_W,Yb_D_CONC_BOTTLE,Yb_D_CONC_BOTTLE_FLAG_W,Lu_D_CONC_BOTTLE,Lu_D_CONC_BOTTLE_FLAG_W
,,,,,,,,,,,METERS,DBAR,ITS-90,PSS-78,,PSS-78,,UMOL/KG,,UMOL/KG,,UMOL/KG,,UMOL/KG,,UMOL/KG,,UMOL/KG,,UMOL/KG,,PMOL/KG,,PMOL/KG,,FMOL/KG,,UMOL/KG,,UMOL/KG,,,,DEG C,UMOL/KG,,NMOL/L,,DEG C,,/MILLE,,/MILLE,,/MILLE,UG/KG,,UMOL/KG,,UMOL/KG,,NMOL/L,,VOLTS,,VOLTS,,VOLTS,,NMOL/KG,,UMOL/L,,,,,,NMOL/L,,NMOL/L,,,,,,10000,,10000,,,,PMOL/KG,,PMOL/L,,PMOL/L,,PMOL/L,,PMOL/L,,PMOL/L,,PMOL/L,,PMOL/L,,PMOL/L,,PMOL/L,,PMOL/L,,PMOL/L,,PMOL/L,,PMOL/L,
320620180309  ,S04P       ,107     ,  1,36         ,36         ,2,20180502,1610, -67.5004, -98.0001,     4605,      6.6,-1.4003637174176861713,33.745071779211621,2,  33.7419,2,346.88585994938632,2, 346.8984,2,    346.7,2,     25.0,2,    25.74,2,     0.21,2,     1.78,2,    6.914,2,    3.447,2,   3.8200,3,   2163.1,6,  2280.62,2,   7.6648,2,    25.00,     46.0,2,     -999,9,  -1.3986,2,     -999,9,     -999,9,     -999,     -999,9,    27.80,2,     -999,1,     -999,9,    0.221,1,    4.564,1,    0.200,1,  16.1300,2,     -999,9,20180502,1819, -67.5012, -98.0007,     -999,9,     -999,9,-999          ,9,     -999,9,     -999,9,     -999,     -999,9,     -999,     -999,9,     -999,9,     -999,9,     -999,9,     -999,9,     -999,9,     -999,9,     -999,9,     -999,9,     -999,9,     -999,9,     -999,9,     -999,9,     -999,9
320620180309  ,S04P       ,107     ,  1,35         ,35         ,2,20180502,1610, -67.5004, -98.0001,     4605,     19.8,-1.3981610445375618479,33.745068393711399,2,  33.7425,2,347.64609799284540,2, 346.8999,2,    346.7,2,     25.1,2,    25.77,2,     0.21,2,     1.80,2,    6.890,2,    3.423,2,   4.6000,3,   2163.5,2,  2280.32,2,   7.6654,2,    25.01,     45.7,2,     -999,9,  -1.3975,2,     -999,9,     -999,9,     -999,     -999,9,    28.10,2,     -999,1,     -999,9,    0.225,1,    4.564,1,    0.210,1,  16.4000,2,     -999,9,20180502,1818, -67.5012, -98.0007,     -999,9,     -999,9,-999          ,9,     -999,9,     -999,9,     -999,     -999,9,     -999,     -999,9,     -999,9,     -999,9,     -999,9,     -999,9,     -999,9,     -999,9,     -999,9,     -999,9,     -999,9,     -999,9,     -999,9,     -999,9,     -999,9
320620180309  ,S04P       ,107     ,  1,34         ,34         ,2,20180502,1610, -67.5004, -98.0001,     4605,     40.7,-1.3948234726660970750,33.745287267027074,2,  33.7421,2,348.83839599729663,2, 346.9005,2,    347.5,2,     25.0,2,    25.77,2,     0.21,2,     1.82,2,    6.504,2,    3.326,2,   3.9800,2,   2162.5,2,  2280.97,2,   7.6677,2,    24.98,     45.3,2,     -999,9,  -1.3959,2,     -999,9,     -999,9,     -999,     -999,9,    28.90,2,     -999,1,     -999,9,    0.208,1,    4.564,1,    0.201,1,  16.0000,2,     -999,9,20180502,1816, -67.5011, -98.0007,     -999,9,     -999,9,-999          ,9,     -999,9,     -999,9,     -999,     -999,9,     -999,     -999,9,     -999,9,     -999,9,     -999,9,     -999,9,     -999,9,     -999,9,     -999,9,     -999,9,     -999,9,     -999,9,     -999,9,     -999,9,     -999,9
320620180309  ,S04P       ,107     ,  1,33         ,33         ,2,20180502,1610, -67.5004, -98.0001,     4605,     65.7,-1.3849406582125516341,33.745999756759581,2,  33.7427,2,347.20030088443485,2, 346.8929,2,    346.5,2,     24.9,2,    25.76,2,     0.21,2,     1.82,2,     -999,9,     -999,9,     -999,9,   2164.3,2,  2281.75,2,   7.6707,2,    25.00,     45.5,2,     -999,9,  -1.3843,2,     -999,9,     -999,9,     -999,     -999,9,    28.90,2,     -999,1,     -999,9,    0.209,1,    4.564,1,    0.206,1,     -999,9,     -999,9,20180502,1815, -67.5011, -98.0007,     -999,9,     -999,9,-999          ,9,     -999,9,     -999,9,     -999,     -999,9,     -999,     -999,9,     -999,9,     -999,9,     -999,9,     -999,9,     -999,9,     -999,9,     -999,9,     -999,9,     -999,9,     -999,9,     -999,9,     -999,9,     -999,9
320620180309  ,S04P       ,107     ,  1,32         ,32         ,2,20180502,1610, -67.5004, -98.0001,     4605,     89.7,-1.1521969735502408660,33.832477086498251,2,  33.8398,2,344.04264058912111,3, 340.9002,3,    333.8,2,     30.6,2,    27.58,2,     0.19,2,     1.96,2,    6.423,2,    3.249,2,   3.4600,3,   2174.8,2,  2289.29,2,   7.6417,2,    25.01,     43.1,2,     -999,9,  -1.1270,2,     -999,9,     -999,9,     -999,     -999,9,    29.40,2,     -999,1,     -999,9,    0.165,1,    4.579,1,    0.197,1,  16.2900,2,     -999,9,20180502,1813, -67.5012, -98.0007,     -999,9,     -999,9,-999          ,9,     -999,9,     -999,9,     -999,     -999,9,     -999,     -999,9,     -999,9,     -999,9,     -999,9,     -999,9,     -999,9,     -999,9,     -999,9,     -999,9,     -999,9,     -999,9,     -999,9,     -999,9,     -999,9
320620180309  ,S04P       ,107     ,  1,31         ,31         ,2,20180502,1610, -67.5004, -98.0001,     4605,    136.0,-0.0490405866410058497,34.103545175026518,2,  34.1034,2,322.10176546832128,3, 317.0001,2,    317.0,2,     43.9,2,    31.08,2,     0.02,2,     2.15,2,    5.794,2,    2.951,2,   3.4000,3,   2196.0,2,  2299.47,2,   7.6183,2,    25.02,     41.6,2,     -999,9,  -0.0490,2,     -999,9,     -999,9,     -999,     -999,9,    32.40,2,     -999,1,     -999,9,    0.066,1,    4.633,1,    0.148,1,  17.0100,2,     -999,9,20180502,1811, -67.5012, -98.0008,     -999,9,     -999,9,-999          ,9,     -999,9,     -999,9,     -999,     -999,9,     -999,     -999,9,     -999,9,     -999,9,     -999,9,     -999,9,     -999,9,     -999,9,     -999,9,     -999,9,     -999,9,     -999,9,     -999,9,     -999,9,     -999,9
320620180309  ,S04P       ,107     ,  1,30         ,30         ,2,20180502,1610, -67.5004, -98.0001,     4605,    186.3,1.4529470335152967486,34.312480865540884,2,  34.3100,2,233.22882060282126,3, 231.7037,2,    230.5,2,     58.1,2,    34.21,2,     0.02,2,     2.36,2,     -999,9,     -999,9,     -999,9,   2230.8,2,  2313.67,2,   7.5603,2,    25.01,     42.6,2,     -999,9,   1.4524,2,     -999,9,     -999,9,     -999,     -999,9,     -999,9,     -999,1,     -999,9,    0.061,1,    4.636,1,    0.147,1,     -999,9,     -999,9,20180502,1809, -67.5012, -98.0008,     -999,9,     -999,9,-999          ,9,     -999,9,     -999,9,     -999,     -999,9,     -999,     -999,9,     -999,9,     -999,9,     -999,9,     -999,9,     -999,9,     -999,9,     -999,9,     -999,9,     -999,9,     -999,9,     -999,9,     -999,9,     -999,9
320620180309  ,S04P       ,107     ,  1,29         ,29         ,2,20180502,1610, -67.5004, -98.0001,     4605,    237.2,1.8534818235628891525,34.410250114221270,2,  34.4099,2,204.00693814610031,2, 200.6955,2,    202.0,2,     65.3,2,    34.93,2,     0.01,2,     2.40,2,    2.068,6,    1.090,6,   0.8200,2,   2243.0,2,  2324.54,2,   7.5461,2,    25.02,     43.3,2,     -999,9,   1.8514,2,     -999,9,     -999,9,     -999,     -999,9,    36.70,2,     -999,1,     -999,9,    0.063,1,    4.638,1,    0.142,1,  22.9300,6,     -999,9,20180502,1807, -67.5013, -98.0009,     -999,9,     -999,9,-999          ,9,     -999,9,     -999,9,     -999,     -999,9,     -999,     -999,9,     -999,9,     -999,9,     -999,9,     -999,9,     -999,9,     -999,9,     -999,9,     -999,9,     -999,9,     -999,9,     -999,9,     -999,9,     -999,9
320620180309  ,S04P       ,107     ,  1,28         ,28         ,2,20180502,1610, -67.5004, -98.0001,     4605,    287.8,1.9933581033806986316,34.463842459615094,2,  34.4646,2,193.25467040737621,3, 190.9981,2,    190.2,2,     69.4,2,    35.12,2,     0.00,2,     2.42,2,    1.634,2,    0.861,2,   0.8400,3,   2248.8,2,  2326.69,2,   7.5389,2,    25.03,     45.2,2,     -999,9,   1.9934,2,     -999,9,     -999,9,     -999,     -999,9,     -999,9,     -999,1,     -999,9,    0.062,1,    4.639,1,    0.141,1,  23.5300,2,     -999,9,20180502,1805, -67.5013, -98.0009,     -999,9,     -999,9,-999          ,9,     -999,9,     -999,9,     -999,     -999,9,     -999,     -999,9,     -999,9,     -999,9,     -999,9,     -999,9,     -999,9,     -999,9,     -999,9,     -999,9,     -999,9,     -999,9,     -999,9,     -999,9,     -999,9
320620180309  ,S04P       ,107     ,  1,27         ,27         ,2,20180502,1610, -67.5004, -98.0001,     4605,    338.4,2.0364397980060520155,34.514018318391798,2,  34.5134,2,183.88493857451459,2, 182.8015,2,    183.4,2,     73.1,2,    34.99,2,     0.00,2,     2.40,2,    1.302,2,    0.684,2,   0.3900,3,   2253.0,2,  2329.82,2,   7.5434,2,    25.02,     43.8,2,     -999,9,   2.0379,2,     -999,9,     -999,9,     -999,     -999,9,     -999,9,     -999,1,     -999,9,    0.062,1,    4.641,1,    0.141,1,  23.2100,2,     -999,9,20180502,1803, -67.5013, -98.0009,     -999,9,     -999,9,-999          ,9,     -999,9,     -999,9,     -999,     -999,9,     -999,     -999,9,     -999,9,     -999,9,     -999,9,     -999,9,     -999,9,     -999,9,     -999,9,     -999,9,     -999,9,     -999,9,     -999,9,     -999,9,     -999,9
320620180309  ,S04P       ,107     ,  1,26         ,38         ,2,20180502,1610, -67.5004, -98.0001,     4605,    388.6,2.0798907127450729782,34.546803848080515,2,  34.5469,2,180.50109275600420,2, 180.1987,2,    179.6,2,     75.1,2,    34.87,2,     0.00,2,     2.39,2,     -999,9,     -999,9,     -999,9,   2254.2,2,  2332.50,2,   7.5392,2,    25.03,     43.8,2,     -999,9,   2.0811,2,     -999,9,     -999,9,     -999,     -999,9,     -999,9,     -999,1,     -999,9,    0.062,1,    4.643,1,    0.139,1,     -999,9,     -999,9,20180502,1801, -67.5013, -98.0009,     -999,9,     -999,9,-999          ,9,     -999,9,     -999,9,     -999,     -999,9,     -999,     -999,9,     -999,9,     -999,9,     -999,9,     -999,9,     -999,9,     -999,9,     -999,9,     -999,9,     -999,9,     -999,9,     -999,9,     -999,9,     -999,9
320620180309  ,S04P       ,107     ,  1,25         ,25         ,2,20180502,1610, -67.5004, -98.0001,     4605,    438.4,2.1356553205793753492,34.577687012754701,2,  34.5779,2,177.17714084144649,2, 177.4014,2,    176.1,2,     77.1,2,    34.69,2,     0.00,2,     2.39,2,    0.849,2,    0.454,2,   0.3900,3,   2257.3,2,  2339.45,2,   7.5481,2,    25.02,     43.5,2,     -999,9,   2.1343,2,     -999,9,     -999,9,     -999,     -999,9,     -999,9,     -999,1,     -999,9,    0.062,1,    4.645,1,    0.152,1,  23.3900,2,     -999,9,20180502,1759, -67.5013, -98.0010,     -999,9,     -999,9,-999          ,9,     -999,9,     -999,9,     -999,     -999,9,     -999,     -999,9,     -999,9,     -999,9,     -999,9,     -999,9,     -999,9,     -999,9,     -999,9,     -999,9,     -999,9,     -999,9,     -999,9,     -999,9,     -999,9
320620180309  ,S04P       ,107     ,  1,24         ,24         ,2,20180502,1610, -67.5004, -98.0001,     4605,    490.0,2.1682451016303603275,34.609459868500750,2,  34.6087,2,175.21823182904686,2, 175.6992,2,    174.2,2,     78.9,2,    34.42,2,     0.00,2,     2.36,2,    0.650,2,    0.344,2,   0.2700,2,   2258.0,6,  2337.94,2,   7.5513,2,    25.03,     42.6,2,     -999,9,   2.1680,2,     -999,9,     -999,9,     -999,     -999,9,     -999,9,     -999,1,     -999,9,    0.063,1,    4.645,1,    0.139,1,  22.6500,2,     -999,9,20180502,1757, -67.5014, -98.0010,     -999,9,     -999,9,-999          ,9,     -999,9,     -999,9,     -999,     -999,9,     -999,     -999,9,     -999,9,     -999,9,     -999,9,     -999,9,     -999,9,     -999,9,     -999,9,     -999,9,     -999,9,     -999,9,     -999,9,     -999,9,     -999,9
320620180309  ,S04P       ,107     ,  1,23         ,23         ,2,20180502,1610, -67.5004, -98.0001,     4605,    571.0,2.1450954007102485122,34.642275425853107,2,  34.6431,2,174.44572596696710,2, 175.4985,2,    175.5,2,     81.2,2,    33.88,2,     0.00,2,     2.33,2,     -999,9,     -999,9,     -999,9,   2258.7,2,  2341.28,2,   7.5592,2,    25.04,     41.1,2,     -999,9,   2.1448,2,     -999,9,     -999,9,     -999,     -999,9,     -999,9,     -999,1,     -999,9,    0.062,1,    4.645,1,    0.139,1,     -999,9,     -999,9,20180502,1754, -67.5012, -98.0007,     -999,9,     -999,9,-999          ,9,     -999,9,     -999,9,     -999,     -999,9,     -999,     -999,9,     -999,9,     -999,9,     -999,9,     -999,9,     -999,9,     -999,9,     -999,9,     -999,9,     -999,9,     -999,9,     -999,9,     -999,9,     -999,9
320620180309  ,S04P       ,107     ,  1,22         ,37         ,2,20180502,1610, -67.5004, -98.0001,     4605,    673.1,2.1005072310639549826,34.675383036950258,2,  34.6758,2,176.60437900537187,2, 177.0987,2,    176.6,2,     83.3,2,    33.30,2,     0.00,2,     2.29,2,    0.370,2,    0.204,2,   0.0100,3,   2253.1,3,  2346.75,2,   7.5651,2,    25.02,     44.1,3,     -999,9,   2.1002,2,     -999,9,     -999,9,     -999,     -999,9,     -999,9,     -999,1,     -999,9,    0.061,1,    4.646,1,    0.135,1,  21.9300,2,     -999,9,20180502,1751, -67.5009, -98.0004,     -999,9,     -999,9,-999          ,9,     -999,9,     -999,9,     -999,     -999,9,     -999,     -999,9,     -999,9,     -999,9,     -999,9,     -999,9,     -999,9,     -999,9,     -999,9,     -999,9,     -999,9,     -999,9,     -999,9,     -999,9,     -999,9
320620180309  ,S04P       ,107     ,  1,21         ,21         ,2,20180502,1610, -67.5004, -98.0001,     4605,    773.8,2.0318349271663733724,34.698017804081083,2,  34.6972,2,179.38710767832148,2, 179.8032,2,    179.9,2,     85.3,2,    32.83,2,     0.00,2,     2.23,2,    0.291,2,    0.152,2,   0.1200,2,   2256.6,2,  2348.25,2,   7.5776,2,    25.04,     41.3,2,     -999,9,   2.0340,2,     -999,9,     -999,9,     -999,     -999,9,     -999,9,     -999,1,     -999,9,    0.062,1,    4.646,1,    0.133,1,  21.2000,2,     -999,9,20180502,1748, -67.5008, -98.0002,     -999,9,     -999,9,-999          ,9,     -999,9,     -999,9,     -999,     -999,9,     -999,     -999,9,     -999,9,     -999,9,     -999,9,     -999,9,     -999,9,     -999,9,     -999,9,     -999,9,     -999,9,     -999,9,     -999,9,     -999,9,     -999,9
320620180309  ,S04P       ,107     ,  1,20         ,20         ,2,20180502,1610, -67.5004, -98.0001,     4605,    874.3,1.9787342615823388936,34.708910108968134,2,  34.7086,2,182.24698594974345,2, 181.9016,2,    182.0,2,     86.8,2,    32.48,2,     0.00,2,     2.22,2,    0.250,2,    0.147,2,   0.0000,2,   2253.4,3,  2349.77,2,   7.5797,2,    25.03,     42.5,2,     -999,9,   1.9793,2,     -999,9,     -999,9,     -999,     -999,9,     -999,9,     -999,1,     -999,9,    0.061,1,    4.646,1,    0.135,1,  18.6100,3,     -999,9,20180502,1745, -67.5008, -98.0003,     -999,9,     -999,9,-999          ,9,     -999,9,     -999,9,     -999,     -999,9,     -999,     -999,9,     -999,9,     -999,9,     -999,9,     -999,9,     -999,9,     -999,9,     -999,9,     -999,9,     -999,9,     -999,9,     -999,9,     -999,9,     -999,9
320620180309  ,S04P       ,107     ,  1,19         ,19         ,2,20180502,1610, -67.5004, -98.0001,     4605,    976.0,1.8959193280029462692,34.719693211419795,2,  34.7196,2,185.45830097182068,2, 184.6012,2,    185.1,2,     89.0,2,    32.20,2,     0.00,2,     2.20,2,    0.227,2,    0.126,2,   0.0600,2,   2257.1,2,  2353.57,2,   7.5873,6,    25.03,     40.0,2,     -999,9,   1.8957,2,     -999,9,     -999,9,     -999,     -999,9,     -999,9,     -999,1,     -999,9,    0.061,1,    4.647,1,    0.136,1,  20.5500,2,     -999,9,20180502,1742, -67.5008, -98.0004,     -999,9,     -999,9,-999          ,9,     -999,9,     -999,9,     -999,     -999,9,     -999,     -999,9,     -999,9,     -999,9,     -999,9,     -999,9,     -999,9,     -999,9,     -999,9,     -999,9,     -999,9,     -999,9,     -999,9,     -999,9,     -999,9
320620180309  ,S04P       ,107     ,  1,18         ,18         ,2,20180502,1610, -67.5004, -98.0001,     4605,   1077.8,1.8146233015882018424,34.726040601113816,2,  34.7261,2,187.84456497386344,2, 186.9969,2,    187.7,2,     91.1,2,    31.97,2,     0.00,2,     2.19,2,    0.206,2,    0.108,2,   0.2000,2,   2257.0,2,  2351.39,2,   7.5891,6,    25.02,     42.9,2,     -999,9,   1.8143,2,     -999,9,     -999,9,     -999,     -999,9,     -999,9,     -999,1,     -999,9,    0.062,1,    4.648,1,    0.131,1,  20.1100,2,     -999,9,20180502,1739, -67.5009, -98.0004,     -999,9,     -999,9,-999          ,9,     -999,9,     -999,9,     -999,     -999,9,     -999,     -999,9,     -999,9,     -999,9,     -999,9,     -999,9,     -999,9,     -999,9,     -999,9,     -999,9,     -999,9,     -999,9,     -999,9,     -999,9,     -999,9
320620180309  ,S04P       ,107     ,  1,17         ,17         ,2,20180502,1610, -67.5004, -98.0001,     4605,   1178.5,1.7295543243144420043,34.729688984297496,2,  34.7294,2,190.02500166943969,2, 188.8047,2,    189.7,2,     93.5,2,    31.92,2,     0.00,2,     2.19,2,    0.187,2,    0.100,2,   0.0500,2,   2258.0,2,  2356.18,2,   7.5913,2,    25.00,     41.6,2,     -999,9,   1.7293,2,     -999,9,     -999,9,     -999,     -999,9,     -999,9,     -999,1,     -999,9,    0.061,1,    4.649,1,    0.130,1,  19.7900,2,     -999,9,20180502,1736, -67.5008, -98.0003,     -999,9,     -999,9,-999          ,9,     -999,9,     -999,9,     -999,     -999,9,     -999,     -999,9,     -999,9,     -999,9,     -999,9,     -999,9,     -999,9,     -999,9,     -999,9,     -999,9,     -999,9,     -999,9,     -999,9,     -999,9,     -999,9
320620180309  ,S04P       ,107     ,  1,16         ,16         ,2,20180502,1610, -67.5004, -98.0001,     4605,   1281.2,1.6346017431955484067,34.731280251098909,2,  34.7310,2,191.68178170208540,2, 190.6979,2,    191.3,2,     96.3,2,    31.87,2,     0.00,2,     2.17,2,    0.172,2,    0.093,2,   0.0300,2,   2256.5,2,  2354.11,2,   7.5966,2,    25.00,     42.5,2,     -999,9,   1.6343,2,     -999,9,     -999,9,     -999,     -999,9,     -999,9,     -999,1,     -999,9,    0.061,1,    4.649,1,    0.129,1,  19.7300,2,     -999,9,20180502,1733, -67.5006, -98.0002,     -999,9,     -999,9,-999          ,9,     -999,9,     -999,9,     -999,     -999,9,     -999,     -999,9,     -999,9,     -999,9,     -999,9,     -999,9,     -999,9,     -999,9,     -999,9,     -999,9,     -999,9,     -999,9,     -999,9,     -999,9,     -999,9