BOTTLE,20240515CCHHYDRO
EXPOCODE,SECT_ID,STNNBR,CASTNO,SAMPNO,BTLNBR,BTLNBR_FLAG_W,DATE,TIME,LATITUDE,LONGITUDE,DEPTH,CTDPRS,CTDTMP,CTDSAL,CTDSAL_FLAG_W,SALNTY,SALNTY_FLAG_W,CTDOXY,CTDOXY_FLAG_W,CTDOPTOXY,CTDOPTOXY_FLAG_W,OXYGEN,OXYGEN_FLAG_W,SILCAT,SILCAT_FLAG_W,NITRAT,NITRAT_FLAG_W,NITRIT,NITRIT_FLAG_W,PHSPHT,PHSPHT_FLAG_W,CFC-11,CFC-11_FLAG_W,CFC-12,CFC-12_FLAG_W,SF6,SF6_FLAG_W,TCARBN,TCARBN_FLAG_W,ALKALI,ALKALI_FLAG_W,PH_TOT,PH_TOT_FLAG_W,PH_TMP,DOC,DOC_FLAG_W,HELIUM,HELIUM_FLAG_W,REFTMP,REFTMP_FLAG_W,DELC13,DELC13_FLAG_W,DELC14,DELC14_FLAG_W,C14ERR,POC,POC_FLAG_W,TDN,TDN_FLAG_W,TON,TON_FLAG_W,NEON,NEON_FLAG_W,CTDFLUOR,CTDFLUOR_FLAG_W,CTDXMISS,CTDXMISS_FLAG_W,CTDBETA700,CTDBETA700_FLAG_W,N2O,N2O_FLAG_W,ARGON,ARGON_FLAG_W,BTL_DATE,BTL_TIME,BTL_LAT,BTL_LON,KRYPTON,KRYPTON_FLAG_W,XENON,XENON_FLAG_W,HPLC,HPLC_FLAG_W,HE3_HE4_RATIO,HE3_HE4_RATIO_FLAG_W,Nd_143_144_D_EPSILON_BOTTLE,Nd_143_144_D_EPSILON_BOTTLE_FLAG_W,Nd_143_144_D_EPSILON_BOTTLE_ERROR,Nd_143_144_D_RATIO_BOTTLE,Nd_143_144_D_RATIO_BOTTLE_FLAG_W,Nd_143_144_D_RATIO_BOTTLE_ERROR,Nd_D_CONC,Nd_D_CONC_FLAG_W,La_D_CONC_BOTTLE,La_D_CONC_BOTTLE_FLAG_W,Ce_D_CONC_BOTTLE,Ce_D_CONC_BOTTLE_FLAG_W,Pr_D_CONC_BOTTLE,Pr_D_CONC_BOTTLE_FLAG_W,Sm_D_CONC_BOTTLE,Sm_D_CONC_BOTTLE_FLAG_W,Eu_D_CONC_BOTTLE,Eu_D_CONC_BOTTLE_FLAG_W,Gd_D_CONC_BOTTLE,Gd_D_CONC_BOTTLE_FLAG_W,Tb_D_CONC_BOTTLE,Tb_D_CONC_BOTTLE_FLAG_W,Dy_D_CONC_BOTTLE,Dy_D_CONC_BOTTLE_FLAG_W,Ho_D_CONC_BOTTLE,Ho_D_CONC_BOTTLE_FLAG_W,Er_D_CONC_BOTTLE,Er_D_CONC_BOTTLE_FLAG_W,Tm_D_CONC_BOTTLE,Tm_D_CONC_BOTTLE_FLAG_W,Yb_D_CONC_BOTTLE,Yb_D_CONC_BOTTLE_FLAG_W,Lu_D_CONC_BOTTLE,Lu_D_CONC_BOTTLE_FLAG_W
,,,,,,,,,,,METERS,DBAR,ITS-90,PSS-78,,PSS-78,,UMOL/KG,,UMOL/KG,,UMOL/KG,,UMOL/KG,,UMOL/KG,,UMOL/KG,,UMOL/KG,,PMOL/KG,,PMOL/KG,,FMOL/KG,,UMOL/KG,,UMOL/KG,,,,DEG C,UMOL/KG,,NMOL/L,,DEG C,,/MILLE,,/MILLE,,/MILLE,UG/KG,,UMOL/KG,,UMOL/KG,,NMOL/L,,VOLTS,,VOLTS,,VOLTS,,NMOL/KG,,UMOL/L,,,,,,NMOL/L,,NMOL/L,,,,,,10000,,10000,,,,PMOL/KG,,PMOL/L,,PMOL/L,,PMOL/L,,PMOL/L,,PMOL/L,,PMOL/L,,PMOL/L,,PMOL/L,,PMOL/L,,PMOL/L,,PMOL/L,,PMOL/L,,PMOL/L,
320620180309  ,S04P       ,65      ,  1,15         ,15         ,2,20180414,0022, -66.9997,-153.7663,     4087,   1352.6,0.8392138888888890369,34.714118318022024,2,  34.7123,2,201.11706203248607,2, 200.0988,2,    200.6,2,    120.1,2,    32.27,2,     0.00,2,     2.18,2,     -999,9,     -999,9,     -999,9,     -999,9,     -999,9,     -999,9,     -999,     -999,9,     -999,9,   0.8380,2,     -999,9,     -999,9,     -999,     -999,9,     -999,9,     -999,9,     -999,9,    0.062,1,    4.664,1,    0.130,1,     -999,9,     -999,9,20180414,0139, -66.9991,-153.7672,     -999,9,     -999,9,-999          ,9,     -999,9,     -999,9,     -999,     -999,9,     -999,     -999,9,     -999,1,     -999,1,     -999,1,     -999,1,     -999,1,     -999,1,     -999,1,     -999,1,     -999,1,     -999,1,     -999,1,     -999,1,     -999,1
320620180309  ,S04P       ,65      ,  1,14         ,14         ,2,20180414,0022, -66.9997,-153.7663,     4087,   1453.9,0.7904861111111111116,34.712088454866134,2,  34.7111,2,202.23326675850373,2, 201.3002,2,    201.9,2,    121.8,2,    32.24,2,     0.00,2,     2.17,2,    0.109,2,    0.058,2,   0.0500,3,   2262.3,2,  2361.01,2,   7.5929,2,    24.90,     -999,9,     -999,9,   0.7895,2,     -999,9,     -999,9,     -999,     -999,9,     -999,9,     -999,9,     -999,9,    0.062,1,    4.664,1,    0.127,1,  20.6300,2,     -999,9,20180414,0136, -66.9991,-153.7673,     -999,9,     -999,9,-999          ,9,     -999,9,     -999,9,     -999,     -999,9,     -999,     -999,9,     -999,9,     -999,9,     -999,9,     -999,9,     -999,9,     -999,9,     -999,9,     -999,9,     -999,9,     -999,9,     -999,9,     -999,9,     -999,9
320620180309  ,S04P       ,65      ,  1,13         ,13         ,2,20180414,0022, -66.9997,-153.7663,     4087,   1556.7,0.7507361111111109375,34.710594585129805,2,  34.7094,2,203.58455338279126,2, 202.5974,2,    202.6,2,    122.6,2,    32.27,2,     0.00,2,     2.15,2,     -999,9,     -999,9,     -999,9,     -999,9,     -999,9,     -999,9,     -999,     -999,9,     -999,9,   0.7501,2,     -999,9,     -999,9,     -999,     -999,9,     -999,9,     -999,9,     -999,9,    0.061,1,    4.664,1,    0.127,1,     -999,9,     -999,9,20180414,0133, -66.9992,-153.7671,     -999,9,     -999,9,-999          ,9,     -999,9,     -999,9,     -999,     -999,9,     -999,     -999,9,     -999,1,     -999,1,     -999,1,     -999,1,     -999,1,     -999,1,     -999,1,     -999,1,     -999,1,     -999,1,     -999,1,     -999,1,     -999,1
320620180309  ,S04P       ,65      ,  1,12         ,12         ,2,20180414,0022, -66.9997,-153.7663,     4087,   1657.7,0.7129861111111112093,34.708904622296451,2,  34.7084,2,204.87056001870036,2, 203.5976,2,    203.7,2,    123.7,2,    32.24,2,     0.00,2,     2.15,2,    0.120,2,    0.072,2,   0.0500,3,   2261.9,2,  2363.26,2,   7.5940,6,    24.91,     -999,9,     -999,9,   0.7119,2,     -999,9,     -999,9,     -999,     -999,9,     -999,9,     -999,9,     -999,9,    0.061,1,    4.664,1,    0.127,1,  20.4300,2,     -999,9,20180414,0129, -66.9992,-153.7670,     -999,9,     -999,9,-999          ,9,     -999,9,     -999,9,     -999,     -999,9,     -999,     -999,9,     -999,9,     -999,9,     -999,9,     -999,9,     -999,9,     -999,9,     -999,9,     -999,9,     -999,9,     -999,9,     -999,9,     -999,9,     -999,9
320620180309  ,S04P       ,65      ,  1,11         ,11         ,2,20180414,0022, -66.9997,-153.7663,     4087,   1759.0,0.6820694444444443949,34.707905749568766,2,  34.7068,2,205.76138922046283,2, 204.4008,2,    204.2,2,    125.6,2,    32.33,2,     0.00,2,     2.16,2,     -999,9,     -999,9,     -999,9,     -999,9,     -999,9,     -999,9,     -999,     -999,9,     -999,9,   0.6813,2,     -999,9,     -999,9,     -999,     -999,9,     -999,9,     -999,9,     -999,9,    0.061,1,    4.664,1,    0.127,1,     -999,9,     -999,9,20180414,0126, -66.9994,-153.7667,     -999,9,     -999,9,-999          ,9,     -999,9,     -999,9,     -999,     -999,9,     -999,     -999,9,     -999,1,     -999,1,     -999,1,     -999,1,     -999,1,     -999,1,     -999,1,     -999,1,     -999,1,     -999,1,     -999,1,     -999,1,     -999,1
320620180309  ,S04P       ,65      ,  1,10         ,10         ,2,20180414,0022, -66.9997,-153.7663,     4087,   1889.9,0.6313805555555555005,34.706471104105511,2,  34.7053,2,205.90043816693978,2, 205.7968,2,    205.6,2,    126.6,2,    32.35,2,     0.00,2,     2.17,2,     -999,9,     -999,9,     -999,9,     -999,9,     -999,9,     -999,9,     -999,     -999,9,     -999,9,   0.6309,2,     -999,9,     -999,9,     -999,     -999,9,     -999,9,     -999,9,     -999,9,    0.061,1,    4.665,1,    0.126,1,     -999,9,     -999,9,20180414,0122, -66.9997,-153.7661,     -999,9,     -999,9,-999          ,9,     -999,9,     -999,9,     -999,     -999,9,     -999,     -999,9,     -999,9,     -999,9,     -999,9,     -999,9,     -999,9,     -999,9,     -999,9,     -999,9,     -999,9,     -999,9,     -999,9,     -999,9,     -999,9
320620180309  ,S04P       ,65      ,  1,9          ,9          ,2,20180414,0022, -66.9997,-153.7663,     4087,   2115.9,0.5571972222222224547,34.704514907393069,2,  34.7037,2,207.46881384172889,2, 207.7969,2,    207.1,2,    127.7,2,    32.41,2,     0.00,2,     2.16,2,    0.147,2,    0.082,2,  -0.0100,3,   2263.9,2,  2363.38,2,   7.5933,2,    24.92,     -999,9,     -999,9,   0.5565,2,     -999,9,     -999,9,     -999,     -999,9,     -999,9,     -999,9,     -999,9,    0.061,1,    4.664,1,    0.127,1,  20.1100,2,     -999,9,20180414,0116, -67.0000,-153.7654,     -999,9,     -999,9,-999          ,9,     -999,9,     -999,9,     -999,     -999,9,     -999,     -999,9,     -999,1,     -999,1,     -999,1,     -999,1,     -999,1,     -999,1,     -999,1,     -999,1,     -999,1,     -999,1,     -999,1,     -999,1,     -999,1
320620180309  ,S04P       ,65      ,  1,8          ,8          ,2,20180414,0022, -66.9997,-153.7663,     4087,   2370.5,0.4820722222222221798,34.703175484470563,2,  34.7023,2,209.75691757663682,2, 209.4031,2,    209.1,2,    129.0,2,    32.47,2,     0.00,2,     2.17,2,     -999,9,     -999,9,     -999,9,     -999,9,     -999,9,     -999,9,     -999,     -999,9,     -999,9,   0.4813,2,     -999,9,     -999,9,     -999,     -999,9,     -999,9,     -999,9,     -999,9,    0.061,1,    4.665,1,    0.125,1,     -999,9,     -999,9,20180414,0110, -66.9999,-153.7657,     -999,9,     -999,9,-999          ,9,     -999,9,     -999,9,     -999,     -999,9,     -999,     -999,9,     -999,9,     -999,9,     -999,9,     -999,9,     -999,9,     -999,9,     -999,9,     -999,9,     -999,9,     -999,9,     -999,9,     -999,9,     -999,9
320620180309  ,S04P       ,65      ,  1,7          ,7          ,2,20180414,0022, -66.9997,-153.7663,     4087,   2627.3,0.4137833333333333363,34.702217635929678,2,  34.7009,2,210.67811829726105,2, 211.2982,2,    211.1,2,    130.8,2,    32.54,2,     0.00,2,     2.18,2,     -999,9,     -999,9,     -999,9,     -999,9,     -999,9,     -999,9,     -999,     -999,9,     -999,9,   0.4131,2,     -999,9,     -999,9,     -999,     -999,9,     -999,9,     -999,9,     -999,9,    0.061,1,    4.665,1,    0.125,1,     -999,9,     -999,9,20180414,0104, -66.9999,-153.7658,     -999,9,     -999,9,-999          ,9,     -999,9,     -999,9,     -999,     -999,9,     -999,     -999,9,     -999,1,     -999,1,     -999,1,     -999,1,     -999,1,     -999,1,     -999,1,     -999,1,     -999,1,     -999,1,     -999,1,     -999,1,     -999,1
320620180309  ,S04P       ,65      ,  1,6          ,6          ,2,20180414,0022, -66.9997,-153.7663,     4087,   2882.2,0.3470555555555556171,34.700735889991108,2,  34.7003,2,212.80573010817915,2, 213.0981,2,    213.1,2,    132.2,2,    32.48,2,     0.00,2,     2.18,2,    0.237,2,    0.135,2,   0.0000,3,   2263.3,2,  2364.60,2,   7.5957,2,    24.91,     -999,9,     -999,9,   0.3471,2,     -999,9,     -999,9,     -999,     -999,9,     -999,9,     -999,9,     -999,9,    0.061,1,    4.665,1,    0.123,1,  20.0000,2,     -999,9,20180414,0058, -67.0000,-153.7655,     -999,9,     -999,9,-999          ,9,     -999,9,     -999,9,     -999,     -999,9,     -999,     -999,9,     -999,9,     -999,9,     -999,9,     -999,9,     -999,9,     -999,9,     -999,9,     -999,9,     -999,9,     -999,9,     -999,9,     -999,9,     -999,9
320620180309  ,S04P       ,65      ,  1,5          ,5          ,2,20180414,0022, -66.9997,-153.7663,     4087,   3138.2,0.2936250000000000249,34.698764004973064,2,  34.6968,2,215.36625042749657,2, 214.9960,2,    215.2,2,    132.8,2,    32.55,2,     0.00,2,     2.20,2,     -999,9,     -999,9,     -999,9,     -999,9,     -999,9,     -999,9,     -999,     -999,9,     -999,9,   0.2927,2,     -999,9,     -999,9,     -999,     -999,9,     -999,9,     -999,9,     -999,9,    0.061,1,    4.664,1,    0.123,1,     -999,9,     -999,9,20180414,0051, -66.9998,-153.7661,     -999,9,     -999,9,-999          ,9,     -999,9,     -999,9,     -999,     -999,9,     -999,     -999,9,     -999,1,     -999,1,     -999,1,     -999,1,     -999,1,     -999,1,     -999,1,     -999,1,     -999,1,     -999,1,     -999,1,     -999,1,     -999,1
320620180309  ,S04P       ,65      ,  1,4          ,4          ,2,20180414,0022, -66.9997,-153.7663,     4087,   3486.8,0.2396361111111110775,34.693663001926957,2,  34.6921,2,218.92406058749859,2, 216.9002,2,    218.2,2,    129.2,2,    32.49,2,     0.00,2,     2.18,2,    0.646,2,    0.346,2,   0.0200,3,   2262.5,2,  2361.42,2,   7.5941,2,    24.92,     -999,9,     -999,9,   0.2390,2,     -999,9,     -999,9,     -999,     -999,9,     -999,9,     -999,9,     -999,9,    0.061,1,    4.664,1,    0.124,1,  19.3600,2,     -999,9,20180414,0043, -66.9999,-153.7659,     -999,9,     -999,9,-999          ,9,     -999,9,     -999,9,     -999,     -999,9,     -999,     -999,9,     -999,9,     -999,9,     -999,9,     -999,9,     -999,9,     -999,9,     -999,9,     -999,9,     -999,9,     -999,9,     -999,9,     -999,9,     -999,9
320620180309  ,S04P       ,65      ,  1,3          ,3          ,2,20180414,0022, -66.9997,-153.7663,     4087,   3743.1,0.2191666666666666485,34.693671758826149,2,  34.6919,2,219.50609738730913,2, 219.3042,2,    219.5,2,    127.5,2,    32.48,2,     0.00,2,     2.19,2,     -999,9,     -999,9,     -999,9,   2262.6,2,  2360.36,2,   7.5926,2,    24.90,     -999,9,     -999,9,   0.2184,2,     -999,9,     -999,9,     -999,     -999,9,     -999,9,     -999,9,     -999,9,    0.061,1,    4.663,1,    0.127,1,     -999,9,     -999,9,20180414,0037, -66.9998,-153.7661,     -999,9,     -999,9,-999          ,9,     -999,9,     -999,9,     -999,     -999,9,     -999,     -999,9,     -999,1,     -999,1,     -999,1,     -999,1,     -999,1,     -999,1,     -999,1,     -999,1,     -999,1,     -999,1,     -999,1,     -999,1,     -999,1
320620180309  ,S04P       ,65      ,  1,2          ,2          ,2,20180414,0022, -66.9997,-153.7663,     4087,   3948.8,0.2284666666666666790,34.694773465552359,2,  34.6929,2,220.19533723496735,2, 219.6026,2,    220.2,2,    128.5,2,    32.53,2,     0.00,2,     2.21,2,    0.721,2,    0.358,2,  -0.0700,3,   2263.1,2,  2359.44,2,   7.5927,2,    24.92,     -999,9,     -999,9,   0.2278,2,     -999,9,     -999,9,     -999,     -999,9,     -999,9,     -999,9,     -999,9,    0.061,1,    4.661,1,    0.128,1,  19.4300,2,     -999,9,20180414,0030, -66.9997,-153.7663,     -999,9,     -999,9,-999          ,9,     -999,9,     -999,9,     -999,     -999,9,     -999,     -999,9,     -999,1,     -999,1,     -999,1,     -999,1,     -999,1,     -999,1,     -999,1,     -999,1,     -999,1,     -999,1,     -999,1,     -999,1,     -999,1
320620180309  ,S04P       ,65      ,  1,1          ,1          ,2,20180414,0022, -66.9997,-153.7663,     4087,   4157.4,0.2465555555555555278,34.695458890200896,2,  34.6947,2,219.11241303036940,2, 219.7019,2,    218.8,2,    128.4,2,    32.67,2,     0.00,2,     2.21,2,    0.712,2,    0.349,2,   0.0600,3,   2261.9,6,  2364.34,3,   7.5910,2,    24.90,     -999,9,     -999,9,   0.2458,2,     -999,9,     -999,9,     -999,     -999,9,     -999,9,     -999,9,     -999,9,    0.061,1,    4.660,1,    0.129,1,  19.4800,2,     -999,9,20180414,0022, -66.9997,-153.7663,     -999,9,     -999,9,-999          ,9,     -999,9,     -999,9,     -999,     -999,9,     -999,     -999,9,     -999,1,     -999,1,     -999,1,     -999,1,     -999,1,     -999,1,     -999,1,     -999,1,     -999,1,     -999,1,     -999,1,     -999,1,     -999,1