BOTTLE,20240515CCHHYDRO
EXPOCODE,SECT_ID,STNNBR,CASTNO,SAMPNO,BTLNBR,BTLNBR_FLAG_W,DATE,TIME,LATITUDE,LONGITUDE,DEPTH,CTDPRS,CTDTMP,CTDSAL,CTDSAL_FLAG_W,SALNTY,SALNTY_FLAG_W,CTDOXY,CTDOXY_FLAG_W,CTDOPTOXY,CTDOPTOXY_FLAG_W,OXYGEN,OXYGEN_FLAG_W,SILCAT,SILCAT_FLAG_W,NITRAT,NITRAT_FLAG_W,NITRIT,NITRIT_FLAG_W,PHSPHT,PHSPHT_FLAG_W,CFC-11,CFC-11_FLAG_W,CFC-12,CFC-12_FLAG_W,SF6,SF6_FLAG_W,TCARBN,TCARBN_FLAG_W,ALKALI,ALKALI_FLAG_W,PH_TOT,PH_TOT_FLAG_W,PH_TMP,DOC,DOC_FLAG_W,HELIUM,HELIUM_FLAG_W,REFTMP,REFTMP_FLAG_W,DELC13,DELC13_FLAG_W,DELC14,DELC14_FLAG_W,C14ERR,POC,POC_FLAG_W,TDN,TDN_FLAG_W,TON,TON_FLAG_W,NEON,NEON_FLAG_W,CTDFLUOR,CTDFLUOR_FLAG_W,CTDXMISS,CTDXMISS_FLAG_W,CTDBETA700,CTDBETA700_FLAG_W,N2O,N2O_FLAG_W,ARGON,ARGON_FLAG_W,BTL_DATE,BTL_TIME,BTL_LAT,BTL_LON,KRYPTON,KRYPTON_FLAG_W,XENON,XENON_FLAG_W,HPLC,HPLC_FLAG_W,HE3_HE4_RATIO,HE3_HE4_RATIO_FLAG_W,Nd_143_144_D_EPSILON_BOTTLE,Nd_143_144_D_EPSILON_BOTTLE_FLAG_W,Nd_143_144_D_EPSILON_BOTTLE_ERROR,Nd_143_144_D_RATIO_BOTTLE,Nd_143_144_D_RATIO_BOTTLE_FLAG_W,Nd_143_144_D_RATIO_BOTTLE_ERROR,Nd_D_CONC,Nd_D_CONC_FLAG_W,La_D_CONC_BOTTLE,La_D_CONC_BOTTLE_FLAG_W,Ce_D_CONC_BOTTLE,Ce_D_CONC_BOTTLE_FLAG_W,Pr_D_CONC_BOTTLE,Pr_D_CONC_BOTTLE_FLAG_W,Sm_D_CONC_BOTTLE,Sm_D_CONC_BOTTLE_FLAG_W,Eu_D_CONC_BOTTLE,Eu_D_CONC_BOTTLE_FLAG_W,Gd_D_CONC_BOTTLE,Gd_D_CONC_BOTTLE_FLAG_W,Tb_D_CONC_BOTTLE,Tb_D_CONC_BOTTLE_FLAG_W,Dy_D_CONC_BOTTLE,Dy_D_CONC_BOTTLE_FLAG_W,Ho_D_CONC_BOTTLE,Ho_D_CONC_BOTTLE_FLAG_W,Er_D_CONC_BOTTLE,Er_D_CONC_BOTTLE_FLAG_W,Tm_D_CONC_BOTTLE,Tm_D_CONC_BOTTLE_FLAG_W,Yb_D_CONC_BOTTLE,Yb_D_CONC_BOTTLE_FLAG_W,Lu_D_CONC_BOTTLE,Lu_D_CONC_BOTTLE_FLAG_W
,,,,,,,,,,,METERS,DBAR,ITS-90,PSS-78,,PSS-78,,UMOL/KG,,UMOL/KG,,UMOL/KG,,UMOL/KG,,UMOL/KG,,UMOL/KG,,UMOL/KG,,PMOL/KG,,PMOL/KG,,FMOL/KG,,UMOL/KG,,UMOL/KG,,,,DEG C,UMOL/KG,,NMOL/L,,DEG C,,/MILLE,,/MILLE,,/MILLE,UG/KG,,UMOL/KG,,UMOL/KG,,NMOL/L,,VOLTS,,VOLTS,,VOLTS,,NMOL/KG,,UMOL/L,,,,,,NMOL/L,,NMOL/L,,,,,,10000,,10000,,,,PMOL/KG,,PMOL/L,,PMOL/L,,PMOL/L,,PMOL/L,,PMOL/L,,PMOL/L,,PMOL/L,,PMOL/L,,PMOL/L,,PMOL/L,,PMOL/L,,PMOL/L,,PMOL/L,
320620180309  ,S04P       ,93      ,  1,15         ,15         ,2,20180426,1428, -67.0002,-111.2131,     4549,   1382.3,1.3189483646406194861,34.728513036278876,2,  34.7237,4,196.15227528159494,2, 195.9051,2,    195.9,2,    105.6,2,    31.96,2,     0.00,2,     2.22,2,     -999,9,     -999,9,     -999,9,   2259.9,2,  2360.68,2,   7.5996,2,    24.89,     -999,9,     -999,9,   1.3183,2,     -999,9,     -999,9,     -999,     -999,9,     -999,9,     -999,9,     -999,9,    0.061,1,    4.655,1,    0.128,1,     -999,9,     -999,9,20180426,1600, -66.9999,-111.2124,     -999,9,     -999,9,-999          ,9,     -999,9,     -999,9,     -999,     -999,9,     -999,     -999,9,     -999,9,     -999,9,     -999,9,     -999,9,     -999,9,     -999,9,     -999,9,     -999,9,     -999,9,     -999,9,     -999,9,     -999,9,     -999,9
320620180309  ,S04P       ,93      ,  1,14         ,14         ,2,20180426,1428, -67.0002,-111.2131,     4549,   1484.0,1.2348417387715329152,34.726118474317246,2,  34.7208,4,196.70721662938342,2, 197.2997,2,    197.5,2,    108.5,2,    32.08,2,     0.00,2,     2.22,2,    0.138,2,    0.075,2,   0.0700,2,     -999,9,     -999,9,     -999,9,     -999,     -999,9,     -999,9,   1.2354,2,     -999,9,     -999,9,     -999,     -999,9,     -999,9,     -999,9,     -999,9,    0.061,1,    4.656,1,    0.129,1,  18.9200,2,     -999,9,20180426,1556, -67.0000,-111.2125,     -999,9,     -999,9,-999          ,9,     -999,9,     -999,9,     -999,     -999,9,     -999,     -999,9,     -999,1,     -999,1,     -999,1,     -999,1,     -999,1,     -999,1,     -999,1,     -999,1,     -999,1,     -999,1,     -999,1,     -999,1,     -999,1
320620180309  ,S04P       ,93      ,  1,13         ,13         ,2,20180426,1428, -67.0002,-111.2131,     4549,   1586.5,1.1750151792245766558,34.723908246030717,2,  34.7188,4,198.07968348142967,2, 198.1971,2,    198.5,2,    110.6,2,    32.13,2,     0.00,2,     2.22,2,     -999,9,     -999,9,     -999,9,   2261.2,2,  2362.32,2,   7.6008,2,    24.89,     -999,9,     -999,1,   1.1753,2,     -999,9,     -999,9,     -999,     -999,9,     -999,9,     -999,9,     -999,1,    0.061,1,    4.656,1,    0.129,1,     -999,9,     -999,1,20180426,1553, -67.0001,-111.2127,     -999,1,     -999,1,-999          ,9,     -999,1,     -999,9,     -999,     -999,9,     -999,     -999,9,     -999,9,     -999,9,     -999,9,     -999,9,     -999,9,     -999,9,     -999,9,     -999,9,     -999,9,     -999,9,     -999,9,     -999,9,     -999,9
320620180309  ,S04P       ,93      ,  1,12         ,12         ,2,20180426,1428, -67.0002,-111.2131,     4549,   1758.5,1.0830845992647248899,34.720706381009649,2,  34.7157,4,200.14825646918919,2, 200.5003,2,    200.2,2,    113.8,2,    32.24,2,     0.00,2,     2.23,2,    0.135,2,    0.076,2,   0.0000,2,     -999,9,     -999,9,     -999,9,     -999,     -999,9,     -999,9,   1.0836,2,     -999,9,     -999,9,     -999,     -999,9,     -999,9,     -999,9,     -999,9,    0.061,1,    4.656,1,    0.128,1,  19.1600,2,     -999,9,20180426,1549, -67.0002,-111.2129,     -999,9,     -999,9,-999          ,9,     -999,9,     -999,9,     -999,     -999,9,     -999,     -999,9,     -999,1,     -999,1,     -999,1,     -999,1,     -999,1,     -999,1,     -999,1,     -999,1,     -999,1,     -999,1,     -999,1,     -999,1,     -999,1
320620180309  ,S04P       ,93      ,  1,11         ,11         ,2,20180426,1428, -67.0002,-111.2131,     4549,   1962.3,0.9927055244256102196,34.717031311347512,2,  34.7121,4,202.21636742485896,2, 201.7034,2,    202.1,2,    117.0,2,    32.36,2,     0.00,2,     2.23,2,     -999,9,     -999,9,     -999,9,   2262.4,2,  2364.73,2,   7.6006,2,    24.90,     -999,9,     -999,1,   0.9925,2,     -999,9,     -999,9,     -999,     -999,9,     -999,9,     -999,9,     -999,1,    0.061,1,    4.656,1,    0.128,1,     -999,9,     -999,1,20180426,1543, -67.0000,-111.2125,     -999,1,     -999,1,-999          ,9,     -999,1,     -999,9,     -999,     -999,9,     -999,     -999,9,     -999,9,     -999,9,     -999,9,     -999,9,     -999,9,     -999,9,     -999,9,     -999,9,     -999,9,     -999,9,     -999,9,     -999,9,     -999,9
320620180309  ,S04P       ,93      ,  1,10         ,10         ,2,20180426,1428, -67.0002,-111.2131,     4549,   2197.5,0.8914074046748906577,34.713135945327892,2,  34.7078,4,203.47081130121538,2, 204.0014,2,    204.0,2,    120.7,2,    32.45,2,     0.00,2,     2.23,2,    0.136,2,    0.077,2,   0.0000,2,     -999,9,     -999,9,     -999,9,     -999,     -999,9,     -999,9,   0.8913,2,     -999,9,     -999,9,     -999,     -999,9,     -999,9,     -999,9,     -999,9,    0.061,1,    4.656,1,    0.128,1,  19.2200,2,     -999,9,20180426,1538, -66.9998,-111.2122,     -999,9,     -999,9,-999          ,9,     -999,9,     -999,9,     -999,     -999,9,     -999,     -999,9,     -999,1,     -999,1,     -999,1,     -999,1,     -999,1,     -999,1,     -999,1,     -999,1,     -999,1,     -999,1,     -999,1,     -999,1,     -999,1
320620180309  ,S04P       ,93      ,  1,9          ,9          ,2,20180426,1428, -67.0002,-111.2131,     4549,   2453.0,0.7952549232305530236,34.709033350408276,2,  34.7047,4,205.81786575538749,2, 206.2024,2,    205.9,2,    124.1,2,    32.54,2,     0.00,2,     2.24,2,     -999,9,     -999,9,     -999,9,   2263.1,2,  2365.73,2,   7.5998,2,    24.89,     -999,9,     -999,9,   0.7949,2,     -999,9,     -999,9,     -999,     -999,9,     -999,9,     -999,9,     -999,9,    0.061,1,    4.656,1,    0.125,1,     -999,9,     -999,9,20180426,1532, -67.0000,-111.2126,     -999,9,     -999,9,-999          ,9,     -999,9,     -999,9,     -999,     -999,9,     -999,     -999,9,     -999,9,     -999,9,     -999,9,     -999,9,     -999,9,     -999,9,     -999,9,     -999,9,     -999,9,     -999,9,     -999,9,     -999,9,     -999,9
320620180309  ,S04P       ,93      ,  1,8          ,8          ,2,20180426,1428, -67.0002,-111.2131,     4549,   2707.9,0.6990516291528848791,34.705774113894165,2,  34.7009,4,207.19202319938915,2, 208.0975,2,    208.0,2,    127.2,2,    32.64,2,     0.00,2,     2.23,2,    0.222,2,    0.123,2,   0.0300,2,     -999,9,     -999,9,     -999,9,     -999,     -999,9,     -999,9,   0.6986,2,     -999,9,     -999,9,     -999,     -999,9,     -999,9,     -999,9,     -999,9,    0.062,1,    4.655,1,    0.127,1,  18.9700,2,     -999,9,20180426,1526, -67.0003,-111.2132,     -999,9,     -999,9,-999          ,9,     -999,9,     -999,9,     -999,     -999,9,     -999,     -999,9,     -999,1,     -999,1,     -999,1,     -999,1,     -999,1,     -999,1,     -999,1,     -999,1,     -999,1,     -999,1,     -999,1,     -999,1,     -999,1
320620180309  ,S04P       ,93      ,  1,7          ,7          ,2,20180426,1428, -67.0002,-111.2131,     4549,   2963.2,0.6051642451048298010,34.703202795409567,2,  34.6980,4,209.34865486899344,2, 210.0004,2,    209.8,2,    128.8,2,    32.71,2,     0.00,2,     2.25,2,    0.256,2,    0.137,2,   0.1200,2,   2264.3,2,  2364.40,2,   7.5964,2,    24.90,     -999,9,     -999,9,   0.6047,2,     -999,9,     -999,9,     -999,     -999,9,     -999,9,     -999,9,     -999,9,    0.061,1,    4.655,1,    0.127,1,  18.8800,2,     -999,9,20180426,1519, -67.0005,-111.2137,     -999,9,     -999,9,-999          ,9,     -999,9,     -999,9,     -999,     -999,9,     -999,     -999,9,     -999,9,     -999,9,     -999,9,     -999,9,     -999,9,     -999,9,     -999,9,     -999,9,     -999,9,     -999,9,     -999,9,     -999,9,     -999,9
320620180309  ,S04P       ,93      ,  1,6          ,6          ,2,20180426,1428, -67.0002,-111.2131,     4549,   3256.4,0.5013160152175472062,34.701011980052115,2,  34.6958,4,212.03375050314384,2, 212.1022,2,    211.7,2,    130.7,2,    32.74,2,     0.00,2,     2.23,2,     -999,9,     -999,9,     -999,9,   2264.8,2,  2364.19,2,   7.5955,2,    24.91,     -999,9,     -999,9,   0.5008,2,     -999,9,     -999,9,     -999,     -999,9,     -999,9,     -999,9,     -999,9,    0.060,1,    4.654,1,    0.127,1,     -999,9,     -999,9,20180426,1512, -67.0003,-111.2133,     -999,9,     -999,9,-999          ,9,     -999,9,     -999,9,     -999,     -999,9,     -999,     -999,9,     -999,1,     -999,1,     -999,1,     -999,1,     -999,1,     -999,1,     -999,1,     -999,1,     -999,1,     -999,1,     -999,1,     -999,1,     -999,1
320620180309  ,S04P       ,93      ,  1,5          ,5          ,2,20180426,1428, -67.0002,-111.2131,     4549,   3563.3,0.4274771176160597208,34.700195828072822,2,  34.6950,4,213.29604165954649,2, 213.9014,2,    213.8,2,    134.2,2,    32.86,2,     0.00,2,     2.24,2,    0.337,2,    0.175,2,   0.1200,2,     -999,9,     -999,9,     -999,9,     -999,     -999,9,     -999,9,   0.4271,2,     -999,9,     -999,9,     -999,     -999,9,     -999,9,     -999,9,     -999,9,    0.061,1,    4.654,1,    0.127,1,  19.2500,2,     -999,9,20180426,1505, -67.0002,-111.2131,     -999,9,     -999,9,-999          ,9,     -999,9,     -999,9,     -999,     -999,9,     -999,     -999,9,     -999,9,     -999,9,     -999,9,     -999,9,     -999,9,     -999,9,     -999,9,     -999,9,     -999,9,     -999,9,     -999,9,     -999,9,     -999,9
320620180309  ,S04P       ,93      ,  1,4          ,4          ,2,20180426,1428, -67.0002,-111.2131,     4549,   3870.9,0.3914358538015405009,34.699824028303986,2,  34.6947,4,215.33720904563634,2, 215.0961,2,    215.2,2,    137.1,2,    32.87,2,     0.00,2,     2.23,2,     -999,9,     -999,9,     -999,9,   2265.5,2,  2365.98,2,   7.5977,2,    24.90,     -999,9,     -999,9,   0.3913,2,     -999,9,     -999,9,     -999,     -999,9,     -999,9,     -999,9,     -999,9,    0.061,1,    4.654,1,    0.126,1,     -999,9,     -999,9,20180426,1457, -67.0001,-111.2129,     -999,9,     -999,9,-999          ,9,     -999,9,     -999,9,     -999,     -999,9,     -999,     -999,9,     -999,1,     -999,1,     -999,1,     -999,1,     -999,1,     -999,1,     -999,1,     -999,1,     -999,1,     -999,1,     -999,1,     -999,1,     -999,1
320620180309  ,S04P       ,93      ,  1,3          ,3          ,2,20180426,1428, -67.0002,-111.2131,     4549,   4180.8,0.3728254814734657807,34.698675108183210,2,  34.6929,4,216.73745217651032,2, 215.8990,2,    216.3,2,    138.0,2,    32.88,2,     0.00,2,     2.25,2,    0.430,2,    0.219,2,   0.1400,2,   2265.2,2,  2364.73,2,   7.5977,2,    24.90,     -999,9,     -999,9,   0.3725,2,     -999,9,     -999,9,     -999,     -999,9,     -999,9,     -999,9,     -999,9,    0.059,1,    4.652,1,    0.128,1,  19.0900,2,     -999,9,20180426,1449, -67.0003,-111.2132,     -999,9,     -999,9,-999          ,9,     -999,9,     -999,9,     -999,     -999,9,     -999,     -999,9,     -999,1,     -999,1,     -999,1,     -999,1,     -999,1,     -999,1,     -999,1,     -999,1,     -999,1,     -999,1,     -999,1,     -999,1,     -999,1
320620180309  ,S04P       ,93      ,  1,2          ,2          ,2,20180426,1428, -67.0002,-111.2131,     4549,   4463.6,0.3789887351943256877,34.698691065703080,2,  34.6927,4,215.91636440953692,2, 216.2989,2,    216.0,2,    143.2,2,    32.98,2,     0.00,2,     2.26,2,    0.446,2,    0.230,2,   0.1300,2,   2267.7,2,  2365.28,2,   7.5962,6,    24.89,     -999,9,     -999,9,   0.3791,2,     -999,9,     -999,9,     -999,     -999,9,     -999,9,     -999,9,     -999,9,    0.061,1,    4.647,1,    0.135,1,  18.8400,2,     -999,9,20180426,1438, -67.0004,-111.2134,     -999,9,     -999,9,-999          ,9,     -999,9,     -999,9,     -999,     -999,9,     -999,     -999,9,     -999,1,     -999,1,     -999,1,     -999,1,     -999,1,     -999,1,     -999,1,     -999,1,     -999,1,     -999,1,     -999,1,     -999,1,     -999,1
320620180309  ,S04P       ,93      ,  1,1          ,1          ,2,20180426,1428, -67.0002,-111.2131,     4549,   4635.7,0.3738672518407100687,34.697552933714675,2,  34.6917,4,217.34699241148124,2, 216.3985,2,    216.2,2,    143.5,2,    32.97,2,     0.00,2,     2.25,2,    0.522,2,    0.263,2,   0.2200,2,   2265.6,6,  2365.89,2,   7.5946,2,    24.89,     -999,9,     -999,9,   0.3736,2,     -999,9,     -999,9,     -999,     -999,9,     -999,9,     -999,9,     -999,9,    0.061,1,    4.635,1,    0.143,1,  18.8000,2,     -999,9,20180426,1428, -67.0002,-111.2131,     -999,9,     -999,9,-999          ,9,     -999,9,     -999,9,     -999,     -999,9,     -999,     -999,9,     -999,1,     -999,1,     -999,1,     -999,1,     -999,1,     -999,1,     -999,1,     -999,1,     -999,1,     -999,1,     -999,1,     -999,1,     -999,1