BOTTLE,20240515CCHHYDRO
EXPOCODE,SECT_ID,STNNBR,CASTNO,SAMPNO,BTLNBR,BTLNBR_FLAG_W,DATE,TIME,LATITUDE,LONGITUDE,DEPTH,CTDPRS,CTDTMP,CTDSAL,CTDSAL_FLAG_W,SALNTY,SALNTY_FLAG_W,CTDOXY,CTDOXY_FLAG_W,CTDOPTOXY,CTDOPTOXY_FLAG_W,OXYGEN,OXYGEN_FLAG_W,SILCAT,SILCAT_FLAG_W,NITRAT,NITRAT_FLAG_W,NITRIT,NITRIT_FLAG_W,PHSPHT,PHSPHT_FLAG_W,CFC-11,CFC-11_FLAG_W,CFC-12,CFC-12_FLAG_W,SF6,SF6_FLAG_W,TCARBN,TCARBN_FLAG_W,ALKALI,ALKALI_FLAG_W,PH_TOT,PH_TOT_FLAG_W,PH_TMP,DOC,DOC_FLAG_W,HELIUM,HELIUM_FLAG_W,REFTMP,REFTMP_FLAG_W,DELC13,DELC13_FLAG_W,DELC14,DELC14_FLAG_W,C14ERR,POC,POC_FLAG_W,TDN,TDN_FLAG_W,TON,TON_FLAG_W,NEON,NEON_FLAG_W,CTDFLUOR,CTDFLUOR_FLAG_W,CTDXMISS,CTDXMISS_FLAG_W,CTDBETA700,CTDBETA700_FLAG_W,N2O,N2O_FLAG_W,ARGON,ARGON_FLAG_W,BTL_DATE,BTL_TIME,BTL_LAT,BTL_LON,KRYPTON,KRYPTON_FLAG_W,XENON,XENON_FLAG_W,HPLC,HPLC_FLAG_W,HE3_HE4_RATIO,HE3_HE4_RATIO_FLAG_W,Nd_143_144_D_EPSILON_BOTTLE,Nd_143_144_D_EPSILON_BOTTLE_FLAG_W,Nd_143_144_D_EPSILON_BOTTLE_ERROR,Nd_143_144_D_RATIO_BOTTLE,Nd_143_144_D_RATIO_BOTTLE_FLAG_W,Nd_143_144_D_RATIO_BOTTLE_ERROR,Nd_D_CONC,Nd_D_CONC_FLAG_W,La_D_CONC_BOTTLE,La_D_CONC_BOTTLE_FLAG_W,Ce_D_CONC_BOTTLE,Ce_D_CONC_BOTTLE_FLAG_W,Pr_D_CONC_BOTTLE,Pr_D_CONC_BOTTLE_FLAG_W,Sm_D_CONC_BOTTLE,Sm_D_CONC_BOTTLE_FLAG_W,Eu_D_CONC_BOTTLE,Eu_D_CONC_BOTTLE_FLAG_W,Gd_D_CONC_BOTTLE,Gd_D_CONC_BOTTLE_FLAG_W,Tb_D_CONC_BOTTLE,Tb_D_CONC_BOTTLE_FLAG_W,Dy_D_CONC_BOTTLE,Dy_D_CONC_BOTTLE_FLAG_W,Ho_D_CONC_BOTTLE,Ho_D_CONC_BOTTLE_FLAG_W,Er_D_CONC_BOTTLE,Er_D_CONC_BOTTLE_FLAG_W,Tm_D_CONC_BOTTLE,Tm_D_CONC_BOTTLE_FLAG_W,Yb_D_CONC_BOTTLE,Yb_D_CONC_BOTTLE_FLAG_W,Lu_D_CONC_BOTTLE,Lu_D_CONC_BOTTLE_FLAG_W
,,,,,,,,,,,METERS,DBAR,ITS-90,PSS-78,,PSS-78,,UMOL/KG,,UMOL/KG,,UMOL/KG,,UMOL/KG,,UMOL/KG,,UMOL/KG,,UMOL/KG,,PMOL/KG,,PMOL/KG,,FMOL/KG,,UMOL/KG,,UMOL/KG,,,,DEG C,UMOL/KG,,NMOL/L,,DEG C,,/MILLE,,/MILLE,,/MILLE,UG/KG,,UMOL/KG,,UMOL/KG,,NMOL/L,,VOLTS,,VOLTS,,VOLTS,,NMOL/KG,,UMOL/L,,,,,,NMOL/L,,NMOL/L,,,,,,10000,,10000,,,,PMOL/KG,,PMOL/L,,PMOL/L,,PMOL/L,,PMOL/L,,PMOL/L,,PMOL/L,,PMOL/L,,PMOL/L,,PMOL/L,,PMOL/L,,PMOL/L,,PMOL/L,,PMOL/L,
320620180309  ,P16        ,34      ,  1,15         ,15         ,2,20180402,1710, -75.2611,-147.2357,     2047,    825.2,1.0378388888888889774,34.722254727296296,2,  34.7204,2,198.70272695858628,2, 196.5978,2,    197.6,2,    115.9,2,    32.65,2,     0.00,2,     2.25,2,     -999,9,     -999,9,     -999,9,   2261.9,2,  2363.99,2,   7.5939,2,    24.93,     -999,9,     -999,9,   1.0363,2,     -999,9,     -999,9,     -999,     -999,9,     -999,9,     -999,9,     -999,9,    0.062,1,    4.672,1,    0.217,1,     -999,9,     -999,9,20180402,1808, -75.2623,-147.2604,     -999,9,     -999,9,-999          ,9,     -999,9,     -999,9,     -999,     -999,9,     -999,     -999,9,     -999,9,     -999,9,     -999,9,     -999,9,     -999,9,     -999,9,     -999,9,     -999,9,     -999,9,     -999,9,     -999,9,     -999,9,     -999,9
320620180309  ,P16        ,34      ,  1,14         ,14         ,2,20180402,1710, -75.2611,-147.2357,     2047,    875.4,0.9759000000000001007,34.720206147412163,2,  34.7178,2,199.22279698857361,2, 197.7975,2,    199.0,2,    116.5,2,    32.65,2,     0.00,2,     2.26,2,     -999,9,     -999,9,     -999,9,   2261.2,2,  2363.30,2,   7.5926,2,    24.92,     -999,9,     -999,1,   0.9758,2,     -999,9,     -999,9,     -999,     -999,9,     -999,9,     -999,9,     -999,1,    0.061,1,    4.673,1,    0.139,1,     -999,9,     -999,1,20180402,1805, -75.2623,-147.2594,     -999,1,     -999,1,-999          ,9,     -999,1,     -999,9,     -999,     -999,9,     -999,     -999,9,     -999,1,     -999,1,     -999,1,     -999,1,     -999,1,     -999,1,     -999,1,     -999,1,     -999,1,     -999,1,     -999,1,     -999,1,     -999,1
320620180309  ,P16        ,34      ,  1,13         ,13         ,2,20180402,1710, -75.2611,-147.2357,     2047,    926.3,0.9331833333333334757,34.718657045084385,2,  34.7176,2,199.79429884678251,2, 198.7026,2,    200.1,2,    118.7,2,    32.69,2,     0.00,2,     2.26,2,     -999,9,     -999,9,     -999,9,   2262.5,2,  2362.73,2,   7.5937,2,    24.95,     -999,9,     -999,9,   0.9324,2,     -999,9,     -999,9,     -999,     -999,9,     -999,9,     -999,9,     -999,9,    0.062,1,    4.672,1,    0.138,1,     -999,9,     -999,9,20180402,1802, -75.2622,-147.2582,     -999,9,     -999,9,-999          ,9,     -999,9,     -999,9,     -999,     -999,9,     -999,     -999,9,     -999,9,     -999,9,     -999,9,     -999,9,     -999,9,     -999,9,     -999,9,     -999,9,     -999,9,     -999,9,     -999,9,     -999,9,     -999,9
320620180309  ,P16        ,34      ,  1,12         ,12         ,2,20180402,1710, -75.2611,-147.2357,     2047,    997.8,0.9124250000000001526,34.717864133352940,2,  34.7170,2,199.79584260515790,2, 199.3057,2,    199.8,2,    119.8,2,    32.74,2,     0.00,2,     2.26,2,     -999,9,     -999,9,     -999,9,   2262.6,2,  2363.57,2,   7.5942,2,    24.94,     -999,9,     -999,9,   0.9117,2,     -999,9,     -999,9,     -999,     -999,9,     -999,9,     -999,9,     -999,9,    0.062,1,    4.672,1,    0.136,1,     -999,9,     -999,9,20180402,1759, -75.2622,-147.2570,     -999,9,     -999,9,-999          ,9,     -999,9,     -999,9,     -999,     -999,9,     -999,     -999,9,     -999,1,     -999,1,     -999,1,     -999,1,     -999,1,     -999,1,     -999,1,     -999,1,     -999,1,     -999,1,     -999,1,     -999,1,     -999,1
320620180309  ,P16        ,34      ,  1,11         ,11         ,2,20180402,1710, -75.2611,-147.2357,     2047,   1088.6,0.8611999999999999655,34.715866163862160,2,  34.7149,2,200.28793105932513,2, 200.5004,2,    201.6,2,    121.5,2,    32.76,2,     0.00,2,     2.27,2,     -999,9,     -999,9,     -999,9,   2261.8,2,  2365.15,2,   7.5945,2,    24.95,     -999,9,     -999,1,   0.8607,2,     -999,9,     -999,9,     -999,     -999,9,     -999,9,     -999,9,     -999,1,    0.061,1,    4.672,1,    0.138,1,     -999,9,     -999,1,20180402,1755, -75.2621,-147.2552,     -999,1,     -999,1,-999          ,9,     -999,1,     -999,9,     -999,     -999,9,     -999,     -999,9,     -999,9,     -999,9,     -999,9,     -999,9,     -999,9,     -999,9,     -999,9,     -999,9,     -999,9,     -999,9,     -999,9,     -999,9,     -999,9
320620180309  ,P16        ,34      ,  1,10         ,10         ,2,20180402,1710, -75.2611,-147.2357,     2047,   1149.9,0.8272277777777778951,34.714615736699550,2,  34.7149,2,202.20500327038334,2, 201.1970,2,    202.1,2,    122.8,2,    32.76,2,     0.00,2,     2.28,2,     -999,9,     -999,9,     -999,9,   2262.5,2,  2363.67,2,   7.5939,2,    24.94,     -999,9,     -999,9,   0.8268,2,     -999,9,     -999,9,     -999,     -999,9,     -999,9,     -999,9,     -999,9,    0.061,1,    4.672,1,    0.137,1,     -999,9,     -999,9,20180402,1745, -75.2618,-147.2506,     -999,9,     -999,9,-999          ,9,     -999,9,     -999,9,     -999,     -999,9,     -999,     -999,9,     -999,1,     -999,1,     -999,1,     -999,1,     -999,1,     -999,1,     -999,1,     -999,1,     -999,1,     -999,1,     -999,1,     -999,1,     -999,1
320620180309  ,P16        ,34      ,  1,9          ,9          ,2,20180402,1710, -75.2611,-147.2357,     2047,   1226.2,0.7830361111111112660,34.713146647231675,2,  34.7135,2,202.01226633052559,2, 202.1960,2,    202.6,2,    124.5,2,    32.83,2,     0.00,2,     2.27,2,    0.120,2,    0.067,2,   0.0700,2,   2264.9,2,  2363.15,2,   7.5979,6,    24.94,     -999,9,     -999,9,   0.7822,2,     -999,9,     -999,9,     -999,     -999,9,     -999,9,     -999,9,     -999,9,    0.061,1,    4.673,1,    0.140,1,  18.6600,2,     -999,9,20180402,1742, -75.2617,-147.2492,     -999,9,     -999,9,-999          ,9,     -999,9,     -999,9,     -999,     -999,9,     -999,     -999,9,     -999,9,     -999,9,     -999,9,     -999,9,     -999,9,     -999,9,     -999,9,     -999,9,     -999,9,     -999,9,     -999,9,     -999,9,     -999,9
320620180309  ,P16        ,34      ,  1,8          ,8          ,2,20180402,1710, -75.2611,-147.2357,     2047,   1317.5,0.7645833333333332815,34.712368672384088,2,  34.7106,2,203.67338280217857,2, 202.9026,2,    203.4,2,    125.1,2,    32.84,2,     0.00,2,     2.28,2,    0.125,2,    0.080,2,   0.0100,2,   2262.9,2,  2363.13,2,   7.5941,2,    24.95,     -999,9,     -999,1,   0.7640,2,     -999,9,     -999,9,     -999,     -999,9,     -999,9,     -999,9,     -999,1,    0.061,1,    4.672,1,    0.136,1,  18.7200,2,     -999,1,20180402,1738, -75.2616,-147.2476,     -999,1,     -999,1,-999          ,9,     -999,1,     -999,9,     -999,     -999,9,     -999,     -999,9,     -999,1,     -999,1,     -999,1,     -999,1,     -999,1,     -999,1,     -999,1,     -999,1,     -999,1,     -999,1,     -999,1,     -999,1,     -999,1
320620180309  ,P16        ,34      ,  1,7          ,7          ,2,20180402,1710, -75.2611,-147.2357,     2047,   1419.4,0.7529638888888888770,34.711780558875397,2,  34.7113,2,204.72223225419665,2, 203.3031,2,    203.6,2,    125.8,2,    32.99,2,     0.00,2,     2.28,2,    0.122,2,    0.081,2,   0.0400,2,   2260.2,3,  2365.45,2,   7.5927,6,    24.94,     -999,9,     -999,9,   0.7526,2,     -999,9,     -999,9,     -999,     -999,9,     -999,9,     -999,9,     -999,9,    0.061,1,    4.673,1,    0.136,1,  19.8700,2,     -999,9,20180402,1734, -75.2615,-147.2460,     -999,9,     -999,9,-999          ,9,     -999,9,     -999,9,     -999,     -999,9,     -999,     -999,9,     -999,9,     -999,9,     -999,9,     -999,9,     -999,9,     -999,9,     -999,9,     -999,9,     -999,9,     -999,9,     -999,9,     -999,9,     -999,9
320620180309  ,P16        ,34      ,  1,6          ,6          ,2,20180402,1710, -75.2611,-147.2357,     2047,   1521.0,0.7273027777777777425,34.710778204595535,2,  34.7104,2,204.79405876633092,2, 204.1945,2,    204.8,2,    126.8,2,    32.92,2,     0.00,2,     2.28,2,    0.124,2,    0.073,2,   0.0200,2,   2263.7,2,  2363.41,2,   7.5955,2,    24.94,     -999,9,     -999,1,   0.7264,2,     -999,9,     -999,9,     -999,     -999,9,     -999,9,     -999,9,     -999,1,    0.061,1,    4.672,1,    0.136,1,  19.0900,2,     -999,1,20180402,1731, -75.2614,-147.2444,     -999,1,     -999,1,-999          ,9,     -999,1,     -999,9,     -999,     -999,9,     -999,     -999,9,     -999,1,     -999,1,     -999,1,     -999,1,     -999,1,     -999,1,     -999,1,     -999,1,     -999,1,     -999,1,     -999,1,     -999,1,     -999,1
320620180309  ,P16        ,34      ,  1,5          ,5          ,2,20180402,1710, -75.2611,-147.2357,     2047,   1622.3,0.6893749999999998490,34.709646914068692,2,  34.7088,2,205.47932180565991,2, 205.1951,2,    205.2,2,    128.0,2,    32.99,2,     0.00,2,     2.28,2,    0.131,2,    0.086,2,   0.0500,2,   2262.3,2,  2365.16,2,   7.5967,2,    24.94,     -999,9,     -999,9,   0.6886,2,     -999,9,     -999,9,     -999,     -999,9,     -999,9,     -999,9,     -999,9,    0.061,1,    4.673,1,    0.134,1,  19.8000,2,     -999,9,20180402,1727, -75.2614,-147.2429,     -999,9,     -999,9,-999          ,9,     -999,9,     -999,9,     -999,     -999,9,     -999,     -999,9,     -999,1,     -999,1,     -999,1,     -999,1,     -999,1,     -999,1,     -999,1,     -999,1,     -999,1,     -999,1,     -999,1,     -999,1,     -999,1
320620180309  ,P16        ,34      ,  1,4          ,4          ,2,20180402,1710, -75.2611,-147.2357,     2047,   1724.8,0.6625055555555555697,34.708797098004723,2,  34.7084,2,205.74463016531047,2, 206.0009,2,    206.1,2,    129.0,2,    33.01,2,     0.00,2,     2.29,2,    0.135,2,    0.078,2,   0.1000,2,   2263.3,2,  2363.47,2,   7.5940,2,    24.94,     -999,9,     -999,1,   0.6620,2,     -999,9,     -999,9,     -999,     -999,9,     -999,9,     -999,9,     -999,1,    0.060,1,    4.673,1,    0.132,1,  18.7000,2,     -999,1,20180402,1723, -75.2614,-147.2414,     -999,1,     -999,1,-999          ,9,     -999,1,     -999,9,     -999,     -999,9,     -999,     -999,9,     -999,1,     -999,1,     -999,1,     -999,1,     -999,1,     -999,1,     -999,1,     -999,1,     -999,1,     -999,1,     -999,1,     -999,1,     -999,1
320620180309  ,P16        ,34      ,  1,3          ,3          ,2,20180402,1710, -75.2611,-147.2357,     2047,   1898.1,0.6280750000000000499,34.707773029384107,2,  34.7086,2,207.11634623930988,2, 207.1956,2,    206.4,2,    130.2,2,    33.07,2,     0.00,2,     2.29,2,    0.139,2,    0.081,2,   0.0500,2,   2263.3,2,  2365.42,2,   7.5942,2,    24.95,     -999,9,     -999,1,   0.6275,2,     -999,9,     -999,9,     -999,     -999,9,     -999,9,     -999,9,     -999,1,    0.061,1,    4.673,1,    0.139,1,  18.9600,2,     -999,1,20180402,1716, -75.2612,-147.2383,     -999,1,     -999,1,-999          ,9,     -999,1,     -999,9,     -999,     -999,9,     -999,     -999,9,     -999,1,     -999,1,     -999,1,     -999,1,     -999,1,     -999,1,     -999,1,     -999,1,     -999,1,     -999,1,     -999,1,     -999,1,     -999,1
320620180309  ,P16        ,34      ,  1,1          ,1          ,2,20180402,1710, -75.2611,-147.2357,     2047,   2068.1,0.5880888888888889943,34.706685953159884,3,     -999,9,207.46488003073125,2, 195.6951,2,     -999,9,     -999,9,     -999,9,     -999,9,     -999,9,     -999,9,     -999,9,     -999,9,     -999,9,     -999,9,     -999,9,     -999,     -999,9,     -999,9,   0.5840,2,     -999,9,     -999,9,     -999,     -999,9,     -999,9,     -999,9,     -999,9,    0.060,1,    4.674,1,    0.135,1,     -999,9,     -999,9,20180402,1710, -75.2611,-147.2357,     -999,9,     -999,9,-999          ,9,     -999,9,    -7.96,2,     0.23, 0.512230,2, 0.000005,    25.10,2,     -999,1,     -999,1,     -999,1,     -999,1,     -999,1,     -999,1,     -999,1,     -999,1,     -999,1,     -999,1,     -999,1,     -999,1,     -999,1
320620180309  ,P16        ,34      ,  1,2          ,2          ,2,20180402,1710, -75.2611,-147.2357,     2047,   2068.1,0.5795444444444443066,34.706439425323168,2,  34.7078,4,207.43755948713698,2, 208.6004,2,    207.4,2,    132.1,2,    33.10,2,     0.00,2,     2.30,2,    0.146,2,    0.096,2,   0.1100,2,   2263.4,6,  2365.74,2,   7.5937,2,    24.94,     -999,9,     -999,1,   0.5759,2,     -999,9,     -999,9,     -999,     -999,9,     -999,9,     -999,9,     -999,1,    0.060,1,    4.674,1,    0.135,1,  18.4400,2,     -999,1,20180402,1710, -75.2611,-147.2359,     -999,1,     -999,1,-999          ,9,     -999,1,     -999,9,     -999,     -999,9,     -999,     -999,9,     -999,9,     -999,9,     -999,9,     -999,9,     -999,9,     -999,9,     -999,9,     -999,9,     -999,9,     -999,9,     -999,9,     -999,9,     -999,9