BOTTLE,20240515CCHHYDRO
EXPOCODE,SECT_ID,STNNBR,CASTNO,SAMPNO,BTLNBR,BTLNBR_FLAG_W,DATE,TIME,LATITUDE,LONGITUDE,DEPTH,CTDPRS,CTDTMP,CTDSAL,CTDSAL_FLAG_W,SALNTY,SALNTY_FLAG_W,CTDOXY,CTDOXY_FLAG_W,CTDOPTOXY,CTDOPTOXY_FLAG_W,OXYGEN,OXYGEN_FLAG_W,SILCAT,SILCAT_FLAG_W,NITRAT,NITRAT_FLAG_W,NITRIT,NITRIT_FLAG_W,PHSPHT,PHSPHT_FLAG_W,CFC-11,CFC-11_FLAG_W,CFC-12,CFC-12_FLAG_W,SF6,SF6_FLAG_W,TCARBN,TCARBN_FLAG_W,ALKALI,ALKALI_FLAG_W,PH_TOT,PH_TOT_FLAG_W,PH_TMP,DOC,DOC_FLAG_W,HELIUM,HELIUM_FLAG_W,REFTMP,REFTMP_FLAG_W,DELC13,DELC13_FLAG_W,DELC14,DELC14_FLAG_W,C14ERR,POC,POC_FLAG_W,TDN,TDN_FLAG_W,TON,TON_FLAG_W,NEON,NEON_FLAG_W,CTDFLUOR,CTDFLUOR_FLAG_W,CTDXMISS,CTDXMISS_FLAG_W,CTDBETA700,CTDBETA700_FLAG_W,N2O,N2O_FLAG_W,ARGON,ARGON_FLAG_W,BTL_DATE,BTL_TIME,BTL_LAT,BTL_LON,KRYPTON,KRYPTON_FLAG_W,XENON,XENON_FLAG_W,HPLC,HPLC_FLAG_W,HE3_HE4_RATIO,HE3_HE4_RATIO_FLAG_W,Nd_143_144_D_EPSILON_BOTTLE,Nd_143_144_D_EPSILON_BOTTLE_FLAG_W,Nd_143_144_D_EPSILON_BOTTLE_ERROR,Nd_143_144_D_RATIO_BOTTLE,Nd_143_144_D_RATIO_BOTTLE_FLAG_W,Nd_143_144_D_RATIO_BOTTLE_ERROR,Nd_D_CONC,Nd_D_CONC_FLAG_W,La_D_CONC_BOTTLE,La_D_CONC_BOTTLE_FLAG_W,Ce_D_CONC_BOTTLE,Ce_D_CONC_BOTTLE_FLAG_W,Pr_D_CONC_BOTTLE,Pr_D_CONC_BOTTLE_FLAG_W,Sm_D_CONC_BOTTLE,Sm_D_CONC_BOTTLE_FLAG_W,Eu_D_CONC_BOTTLE,Eu_D_CONC_BOTTLE_FLAG_W,Gd_D_CONC_BOTTLE,Gd_D_CONC_BOTTLE_FLAG_W,Tb_D_CONC_BOTTLE,Tb_D_CONC_BOTTLE_FLAG_W,Dy_D_CONC_BOTTLE,Dy_D_CONC_BOTTLE_FLAG_W,Ho_D_CONC_BOTTLE,Ho_D_CONC_BOTTLE_FLAG_W,Er_D_CONC_BOTTLE,Er_D_CONC_BOTTLE_FLAG_W,Tm_D_CONC_BOTTLE,Tm_D_CONC_BOTTLE_FLAG_W,Yb_D_CONC_BOTTLE,Yb_D_CONC_BOTTLE_FLAG_W,Lu_D_CONC_BOTTLE,Lu_D_CONC_BOTTLE_FLAG_W
,,,,,,,,,,,METERS,DBAR,ITS-90,PSS-78,,PSS-78,,UMOL/KG,,UMOL/KG,,UMOL/KG,,UMOL/KG,,UMOL/KG,,UMOL/KG,,UMOL/KG,,PMOL/KG,,PMOL/KG,,FMOL/KG,,UMOL/KG,,UMOL/KG,,,,DEG C,UMOL/KG,,NMOL/L,,DEG C,,/MILLE,,/MILLE,,/MILLE,UG/KG,,UMOL/KG,,UMOL/KG,,NMOL/L,,VOLTS,,VOLTS,,VOLTS,,NMOL/KG,,UMOL/L,,,,,,NMOL/L,,NMOL/L,,,,,,10000,,10000,,,,PMOL/KG,,PMOL/L,,PMOL/L,,PMOL/L,,PMOL/L,,PMOL/L,,PMOL/L,,PMOL/L,,PMOL/L,,PMOL/L,,PMOL/L,,PMOL/L,,PMOL/L,,PMOL/L,
320620180309  ,S04P       ,69      ,  1,36         ,36         ,2,20180418,0305, -67.0004,-147.6845,     4295,      8.9,-1.3224138888888887777,33.975856529987290,2,  33.9727,2,339.04922491315762,3, 338.7970,2,    339.1,2,     53.7,2,    27.18,2,     0.21,2,     1.89,2,    5.347,2,    2.990,2,   3.4600,2,   2191.4,6,  2300.45,2,   7.6320,2,    24.91,     -999,9,     -999,9,  -1.3221,2,     -999,9,     -999,9,     -999,     -999,9,     -999,9,     -999,9,     -999,9,    0.122,1,    4.635,1,    0.150,1,  17.7100,2,     -999,9,20180418,0505, -67.0002,-147.6850,     -999,9,     -999,9,-999          ,9,     -999,9,     -999,9,     -999,     -999,9,     -999,     -999,9,     -999,1,     -999,1,     -999,1,     -999,1,     -999,1,     -999,1,     -999,1,     -999,1,     -999,1,     -999,1,     -999,1,     -999,1,     -999,1
320620180309  ,S04P       ,69      ,  1,35         ,35         ,2,20180418,0305, -67.0004,-147.6845,     4295,     19.8,-1.3238055555555556797,33.976455613630158,2,  33.9737,2,339.02039116500538,3, 338.8007,2,    339.2,2,     53.8,2,    27.24,2,     0.21,2,     1.90,2,     -999,9,     -999,9,     -999,9,   2191.8,2,  2299.92,2,   7.6332,2,    24.91,     -999,9,     -999,1,  -1.3241,2,     -999,9,     -999,9,     -999,     -999,9,     -999,9,     -999,9,     -999,1,    0.129,1,    4.636,1,    0.156,1,     -999,9,     -999,1,20180418,0504, -67.0002,-147.6851,     -999,1,     -999,1,-999          ,9,     -999,1,     -999,9,     -999,     -999,9,     -999,     -999,9,     -999,1,     -999,1,     -999,1,     -999,1,     -999,1,     -999,1,     -999,1,     -999,1,     -999,1,     -999,1,     -999,1,     -999,1,     -999,1
320620180309  ,S04P       ,69      ,  1,34         ,34         ,2,20180418,0305, -67.0004,-147.6845,     4295,     39.9,-1.3218277777777780457,33.976980156697564,2,  33.9743,2,338.64437278588701,3, 338.7972,2,    339.1,2,     53.9,2,    27.27,2,     0.21,2,     1.90,2,     -999,9,     -999,9,     -999,9,     -999,9,     -999,9,     -999,9,     -999,     -999,9,     -999,9,  -1.3213,2,     -999,9,     -999,9,     -999,     -999,9,     -999,9,     -999,9,     -999,9,    0.126,1,    4.638,1,    0.156,1,     -999,9,     -999,9,20180418,0502, -67.0000,-147.6853,     -999,9,     -999,9,-999          ,9,     -999,9,     -999,9,     -999,     -999,9,     -999,     -999,9,     -999,9,     -999,9,     -999,9,     -999,9,     -999,9,     -999,9,     -999,9,     -999,9,     -999,9,     -999,9,     -999,9,     -999,9,     -999,9
320620180309  ,S04P       ,69      ,  1,33         ,33         ,2,20180418,0305, -67.0004,-147.6845,     4295,     64.7,-1.3115972222222220811,33.979825117450858,2,  33.9770,2,338.84092715274244,3, 338.8022,2,    337.9,2,     53.8,2,    27.30,2,     0.21,2,     1.90,2,    5.291,2,    2.951,2,   3.4500,2,   2191.2,2,  2299.98,2,   7.6311,2,    24.91,     -999,9,     -999,1,  -1.3152,2,     -999,9,     -999,9,     -999,     -999,9,     -999,9,     -999,9,     -999,1,    0.129,1,    4.639,1,    0.155,1,  17.6000,2,     -999,1,20180418,0500, -66.9999,-147.6855,     -999,1,     -999,1,-999          ,9,     -999,1,     -999,9,     -999,     -999,9,     -999,     -999,9,     -999,1,     -999,1,     -999,1,     -999,1,     -999,1,     -999,1,     -999,1,     -999,1,     -999,1,     -999,1,     -999,1,     -999,1,     -999,1
320620180309  ,S04P       ,69      ,  1,32         ,32         ,2,20180418,0305, -67.0004,-147.6845,     4295,     90.0,-1.2248527777777775682,33.999362932426628,2,  33.9966,2,337.96409162858077,3, 338.4046,3,    332.4,2,     55.1,2,    27.52,2,     0.21,2,     1.91,2,     -999,9,     -999,9,     -999,9,   2192.8,2,  2301.66,2,   7.6285,2,    24.90,     -999,9,     -999,9,  -1.2314,2,     -999,9,     -999,9,     -999,     -999,9,     -999,9,     -999,9,     -999,9,    0.109,1,    4.643,1,    0.153,1,     -999,9,     -999,9,20180418,0459, -66.9998,-147.6854,     -999,9,     -999,9,-999          ,9,     -999,9,     -999,9,     -999,     -999,9,     -999,     -999,9,     -999,9,     -999,9,     -999,9,     -999,9,     -999,9,     -999,9,     -999,9,     -999,9,     -999,9,     -999,9,     -999,9,     -999,9,     -999,9
320620180309  ,S04P       ,69      ,  1,31         ,31         ,2,20180418,0305, -67.0004,-147.6845,     4295,    116.0,0.0999083333333333351,34.348779198164834,2,  34.3529,2,245.93364128754587,3, 249.2987,2,    246.1,2,     74.3,2,    31.08,2,     0.12,2,     2.12,2,    2.797,2,    1.517,2,   1.6000,2,   2230.0,2,  2324.90,2,   7.5833,2,    24.91,     -999,9,     -999,1,   0.1006,2,     -999,9,     -999,9,     -999,     -999,9,     -999,9,     -999,9,     -999,1,    0.086,1,    4.650,1,    0.149,1,  21.2100,2,     -999,1,20180418,0457, -67.0001,-147.6852,     -999,1,     -999,1,-999          ,9,     -999,1,     -999,9,     -999,     -999,9,     -999,     -999,9,     -999,1,     -999,1,     -999,1,     -999,1,     -999,1,     -999,1,     -999,1,     -999,1,     -999,1,     -999,1,     -999,1,     -999,1,     -999,1
320620180309  ,S04P       ,69      ,  1,30         ,30         ,2,20180418,0305, -67.0004,-147.6845,     4295,    140.1,0.4703249999999999931,34.454377417822016,2,  34.4570,2,224.33802336999094,3, 223.5972,2,    225.3,2,     79.5,2,    31.96,2,     0.08,2,     2.17,2,     -999,9,     -999,9,     -999,9,   2240.7,2,  2329.38,2,   7.5722,2,    24.90,     -999,9,     -999,9,   0.4669,2,     -999,9,     -999,9,     -999,     -999,9,     -999,9,     -999,9,     -999,9,    0.081,1,    4.653,1,    0.147,1,     -999,9,     -999,9,20180418,0455, -67.0003,-147.6850,     -999,9,     -999,9,-999          ,9,     -999,9,     -999,9,     -999,     -999,9,     -999,     -999,9,     -999,9,     -999,9,     -999,9,     -999,9,     -999,9,     -999,9,     -999,9,     -999,9,     -999,9,     -999,9,     -999,9,     -999,9,     -999,9
320620180309  ,S04P       ,69      ,  1,29         ,29         ,2,20180418,0305, -67.0004,-147.6845,     4295,    186.5,1.1856444444444447228,34.635445513592082,2,  34.6342,2,189.10226787701095,3, 193.8989,3,    189.0,2,     91.1,2,    33.45,2,     0.02,2,     2.26,2,    0.885,2,    0.477,2,   0.4300,2,   2257.3,6,  2344.90,2,   7.5575,2,    24.91,     -999,9,     -999,1,   1.1852,2,     -999,9,     -999,9,     -999,     -999,9,     -999,9,     -999,9,     -999,1,    0.068,1,    4.659,1,    0.147,1,  22.8400,2,     -999,1,20180418,0453, -67.0006,-147.6848,     -999,1,     -999,1,-999          ,9,     -999,1,     -999,9,     -999,     -999,9,     -999,     -999,9,     -999,1,     -999,1,     -999,1,     -999,1,     -999,1,     -999,1,     -999,1,     -999,1,     -999,1,     -999,1,     -999,1,     -999,1,     -999,1
320620180309  ,S04P       ,69      ,  1,28         ,28         ,2,20180418,0305, -67.0004,-147.6845,     4295,    237.1,1.4844416666666664373,34.716875471017410,2,  34.7176,2,178.73448885607647,3, 182.3992,3,    178.5,2,     98.4,2,    33.53,2,     0.01,2,     2.24,2,     -999,9,     -999,9,     -999,9,   2261.6,2,  2351.22,2,   7.5605,2,    24.91,     -999,9,     -999,9,   1.4837,2,     -999,9,     -999,9,     -999,     -999,9,     -999,9,     -999,9,     -999,9,    0.063,1,    4.664,1,    0.140,1,     -999,9,     -999,9,20180418,0451, -67.0007,-147.6846,     -999,9,     -999,9,-999          ,9,     -999,9,     -999,9,     -999,     -999,9,     -999,     -999,9,     -999,1,     -999,1,     -999,1,     -999,1,     -999,1,     -999,1,     -999,1,     -999,1,     -999,1,     -999,1,     -999,1,     -999,1,     -999,1
320620180309  ,S04P       ,69      ,  1,27         ,27         ,2,20180418,0305, -67.0004,-147.6845,     4295,    287.7,1.4555749999999996191,34.728539757962501,2,  34.7268,2,179.67449760157581,3, 182.3950,2,    179.2,2,    101.4,2,    33.42,2,     0.00,2,     2.24,2,    0.245,2,    0.123,2,   0.0000,2,   2264.8,2,  2353.59,2,   7.5644,2,    24.91,     -999,9,     -999,1,   1.4549,2,     -999,9,     -999,9,     -999,     -999,9,     -999,9,     -999,9,     -999,1,    0.060,1,    4.665,1,    0.138,1,  22.0700,2,     -999,1,20180418,0449, -67.0006,-147.6846,     -999,1,     -999,1,-999          ,9,     -999,1,     -999,9,     -999,     -999,9,     -999,     -999,9,     -999,1,     -999,1,     -999,1,     -999,1,     -999,1,     -999,1,     -999,1,     -999,1,     -999,1,     -999,1,     -999,1,     -999,1,     -999,1
320620180309  ,S04P       ,69      ,  1,26         ,26         ,2,20180418,0305, -67.0004,-147.6845,     4295,    338.6,1.4169861111111110574,34.730175309226674,2,  34.7286,2,180.86307673146976,3, 183.1025,2,    181.3,2,    102.8,2,    33.34,2,     0.00,2,     2.23,2,     -999,9,     -999,9,     -999,9,   2265.0,2,  2354.81,2,   7.5667,2,    24.90,     -999,9,     -999,9,   1.4163,2,     -999,9,     -999,9,     -999,     -999,9,     -999,9,     -999,9,     -999,9,    0.062,1,    4.666,1,    0.138,1,     -999,9,     -999,9,20180418,0446, -67.0005,-147.6847,     -999,9,     -999,9,-999          ,9,     -999,9,     -999,9,     -999,     -999,9,     -999,     -999,9,     -999,9,     -999,9,     -999,9,     -999,9,     -999,9,     -999,9,     -999,9,     -999,9,     -999,9,     -999,9,     -999,9,     -999,9,     -999,9
320620180309  ,S04P       ,69      ,  1,25         ,25         ,2,20180418,0305, -67.0004,-147.6845,     4295,    387.8,1.3598166666666666735,34.730872136938359,2,  34.7294,2,182.58296682844568,3, 184.0997,2,    182.6,2,    104.8,2,    33.25,2,     0.00,2,     2.22,2,    0.190,2,    0.099,2,   0.0300,2,     -999,9,     -999,9,     -999,9,     -999,     -999,9,     -999,1,   1.3602,2,     -999,9,     -999,9,     -999,     -999,9,     -999,9,     -999,9,     -999,1,    0.062,1,    4.667,1,    0.134,1,  21.4900,2,     -999,1,20180418,0444, -67.0002,-147.6851,     -999,1,     -999,1,-999          ,9,     -999,1,     -999,9,     -999,     -999,9,     -999,     -999,9,     -999,1,     -999,1,     -999,1,     -999,1,     -999,1,     -999,1,     -999,1,     -999,1,     -999,1,     -999,1,     -999,1,     -999,1,     -999,1
320620180309  ,S04P       ,69      ,  1,24         ,24         ,2,20180418,0305, -67.0004,-147.6845,     4295,    439.5,1.3232722222222219610,34.730586191873250,2,  34.7292,2,183.46627576604237,2, 185.0049,2,    182.8,2,    106.2,2,    33.17,2,     0.00,2,     2.23,2,     -999,9,     -999,9,     -999,9,   2263.5,2,  2355.50,2,   7.5707,2,    24.91,     -999,9,     -999,9,   1.3223,2,     -999,9,     -999,9,     -999,     -999,9,     -999,9,     -999,9,     -999,9,    0.062,1,    4.667,1,    0.134,1,     -999,9,     -999,9,20180418,0442, -67.0000,-147.6855,     -999,9,     -999,9,-999          ,9,     -999,9,     -999,9,     -999,     -999,9,     -999,     -999,9,     -999,9,     -999,9,     -999,9,     -999,9,     -999,9,     -999,9,     -999,9,     -999,9,     -999,9,     -999,9,     -999,9,     -999,9,     -999,9
320620180309  ,S04P       ,69      ,  1,23         ,23         ,2,20180418,0305, -67.0004,-147.6845,     4295,    489.1,1.2921694444444444816,34.730216221370668,2,  34.7290,2,184.33556003641561,3, 185.6019,2,    184.4,2,    107.4,2,    33.16,2,     0.00,2,     2.24,2,     -999,9,     -999,9,     -999,9,     -999,9,     -999,9,     -999,9,     -999,     -999,9,     -999,1,   1.2913,2,     -999,9,     -999,9,     -999,     -999,9,     -999,9,     -999,9,     -999,1,    0.062,1,    4.667,1,    0.137,1,     -999,9,     -999,1,20180418,0440, -67.0000,-147.6854,     -999,1,     -999,1,-999          ,9,     -999,1,     -999,9,     -999,     -999,9,     -999,     -999,9,     -999,1,     -999,1,     -999,1,     -999,1,     -999,1,     -999,1,     -999,1,     -999,1,     -999,1,     -999,1,     -999,1,     -999,1,     -999,1
320620180309  ,S04P       ,69      ,  1,22         ,37         ,2,20180418,0305, -67.0004,-147.6845,     4295,    570.8,1.2338888888888890349,34.728856647783203,2,  34.7278,2,185.99499578173220,2, 186.9962,2,    185.6,2,    109.6,2,    33.17,2,     0.00,2,     2.23,2,     -999,9,     -999,9,     -999,9,   2264.1,2,  2359.13,2,   7.5743,6,    24.91,     -999,9,     -999,9,   1.2336,2,     -999,9,     -999,9,     -999,     -999,9,     -999,9,     -999,9,     -999,9,    0.061,1,    4.666,1,    0.135,1,     -999,9,     -999,9,20180418,0437, -67.0002,-147.6852,     -999,9,     -999,9,-999          ,9,     -999,9,     -999,9,     -999,     -999,9,     -999,     -999,9,     -999,9,     -999,9,     -999,9,     -999,9,     -999,9,     -999,9,     -999,9,     -999,9,     -999,9,     -999,9,     -999,9,     -999,9,     -999,9
320620180309  ,S04P       ,69      ,  1,21         ,21         ,2,20180418,0305, -67.0004,-147.6845,     4295,    671.4,1.1596305555555557198,34.726772408370088,2,  34.7257,2,188.65150575147948,2, 188.7027,2,    188.5,2,    112.1,2,    33.06,2,     0.00,2,     2.22,2,    0.131,2,    0.070,2,   0.0600,2,     -999,9,     -999,9,     -999,9,     -999,     -999,9,     -999,1,   1.1589,2,     -999,9,     -999,9,     -999,     -999,9,     -999,9,     -999,9,     -999,1,    0.061,1,    4.667,1,    0.132,1,  20.8700,2,     -999,1,20180418,0434, -67.0002,-147.6851,     -999,1,     -999,1,-999          ,9,     -999,1,     -999,9,     -999,     -999,9,     -999,     -999,9,     -999,1,     -999,1,     -999,1,     -999,1,     -999,1,     -999,1,     -999,1,     -999,1,     -999,1,     -999,1,     -999,1,     -999,1,     -999,1
320620180309  ,S04P       ,69      ,  1,20         ,20         ,2,20180418,0305, -67.0004,-147.6845,     4295,    773.0,1.0934666666666668089,34.724351663720689,2,  34.7235,2,191.16921129443372,2, 190.4937,2,    191.3,2,    113.4,2,    32.99,2,     0.00,2,     2.22,2,     -999,9,     -999,9,     -999,9,   2263.1,2,  2360.24,2,   7.5826,2,    24.90,     -999,9,     -999,9,   1.0930,2,     -999,9,     -999,9,     -999,     -999,9,     -999,9,     -999,9,     -999,9,    0.061,1,    4.666,1,    0.132,1,     -999,9,     -999,9,20180418,0431, -67.0000,-147.6854,     -999,9,     -999,9,-999          ,9,     -999,9,     -999,9,     -999,     -999,9,     -999,     -999,9,     -999,9,     -999,9,     -999,9,     -999,9,     -999,9,     -999,9,     -999,9,     -999,9,     -999,9,     -999,9,     -999,9,     -999,9,     -999,9
320620180309  ,S04P       ,69      ,  1,19         ,19         ,2,20180418,0305, -67.0004,-147.6845,     4295,    874.1,1.0329333333333332590,34.721983489917342,2,  34.7213,2,193.33386102943030,2, 192.6015,2,    193.7,2,    115.1,2,    32.95,2,     0.00,2,     2.22,2,    0.112,2,    0.061,2,   0.0000,2,     -999,9,     -999,9,     -999,9,     -999,     -999,9,     -999,1,   1.0323,2,     -999,9,     -999,9,     -999,     -999,9,     -999,9,     -999,9,     -999,1,    0.061,1,    4.667,1,    0.132,1,  20.7800,2,     -999,1,20180418,0428, -66.9999,-147.6856,     -999,1,     -999,1,-999          ,9,     -999,1,     -999,9,     -999,     -999,9,     -999,     -999,9,     -999,1,     -999,1,     -999,1,     -999,1,     -999,1,     -999,1,     -999,1,     -999,1,     -999,1,     -999,1,     -999,1,     -999,1,     -999,1
320620180309  ,S04P       ,69      ,  1,18         ,18         ,2,20180418,0305, -67.0004,-147.6845,     4295,    976.4,0.9739388888888887985,34.719536446075459,2,  34.7194,2,195.39010430378886,2, 194.6007,2,    195.5,2,    116.6,2,    32.90,2,     0.00,2,     2.22,2,     -999,9,     -999,9,     -999,9,   2263.4,2,  2360.90,2,   7.5886,2,    24.90,     -999,9,     -999,9,   0.9733,2,     -999,9,     -999,9,     -999,     -999,9,     -999,9,     -999,9,     -999,9,    0.061,1,    4.667,1,    0.132,1,     -999,9,     -999,9,20180418,0425, -66.9999,-147.6855,     -999,9,     -999,9,-999          ,9,     -999,9,     -999,9,     -999,     -999,9,     -999,     -999,9,     -999,9,     -999,9,     -999,9,     -999,9,     -999,9,     -999,9,     -999,9,     -999,9,     -999,9,     -999,9,     -999,9,     -999,9,     -999,9
320620180309  ,S04P       ,69      ,  1,17         ,17         ,2,20180418,0305, -67.0004,-147.6845,     4295,   1078.1,0.9171666666666666856,34.717289592752643,2,  34.7170,2,197.15024173013376,2, 196.6045,2,    198.0,2,    118.3,2,    32.89,2,     0.00,2,     2.22,2,    0.106,2,    0.055,2,   0.0000,2,     -999,9,     -999,9,     -999,9,     -999,     -999,9,     -999,9,   0.9167,2,     -999,9,     -999,9,     -999,     -999,9,     -999,9,     -999,9,     -999,9,    0.061,1,    4.667,1,    0.129,1,  20.0300,2,     -999,9,20180418,0422, -66.9999,-147.6856,     -999,9,     -999,9,-999          ,9,     -999,9,     -999,9,     -999,     -999,9,     -999,     -999,9,     -999,1,     -999,1,     -999,1,     -999,1,     -999,1,     -999,1,     -999,1,     -999,1,     -999,1,     -999,1,     -999,1,     -999,1,     -999,1
320620180309  ,S04P       ,69      ,  1,16         ,16         ,2,20180418,0305, -67.0004,-147.6845,     4295,   1178.9,0.8620166666666666533,34.715031572524666,2,  34.7153,2,198.92888564902233,2, 198.3015,2,    199.3,2,    120.3,2,    32.90,2,     0.00,2,     2.22,2,     -999,9,     -999,9,     -999,9,   2263.1,2,  2361.75,2,   7.5926,2,    24.89,     -999,9,     -999,1,   0.8614,2,     -999,9,     -999,9,     -999,     -999,9,     -999,9,     -999,9,     -999,1,    0.061,1,    4.666,1,    0.129,1,     -999,9,     -999,1,20180418,0419, -66.9998,-147.6857,     -999,1,     -999,1,-999          ,9,     -999,1,     -999,9,     -999,     -999,9,     -999,     -999,9,     -999,9,     -999,9,     -999,9,     -999,9,     -999,9,     -999,9,     -999,9,     -999,9,     -999,9,     -999,9,     -999,9,     -999,9,     -999,9