BOTTLE,20240515CCHHYDRO
EXPOCODE,SECT_ID,STNNBR,CASTNO,SAMPNO,BTLNBR,BTLNBR_FLAG_W,DATE,TIME,LATITUDE,LONGITUDE,DEPTH,CTDPRS,CTDTMP,CTDSAL,CTDSAL_FLAG_W,SALNTY,SALNTY_FLAG_W,CTDOXY,CTDOXY_FLAG_W,CTDOPTOXY,CTDOPTOXY_FLAG_W,OXYGEN,OXYGEN_FLAG_W,SILCAT,SILCAT_FLAG_W,NITRAT,NITRAT_FLAG_W,NITRIT,NITRIT_FLAG_W,PHSPHT,PHSPHT_FLAG_W,CFC-11,CFC-11_FLAG_W,CFC-12,CFC-12_FLAG_W,SF6,SF6_FLAG_W,TCARBN,TCARBN_FLAG_W,ALKALI,ALKALI_FLAG_W,PH_TOT,PH_TOT_FLAG_W,PH_TMP,DOC,DOC_FLAG_W,HELIUM,HELIUM_FLAG_W,REFTMP,REFTMP_FLAG_W,DELC13,DELC13_FLAG_W,DELC14,DELC14_FLAG_W,C14ERR,POC,POC_FLAG_W,TDN,TDN_FLAG_W,TON,TON_FLAG_W,NEON,NEON_FLAG_W,CTDFLUOR,CTDFLUOR_FLAG_W,CTDXMISS,CTDXMISS_FLAG_W,CTDBETA700,CTDBETA700_FLAG_W,N2O,N2O_FLAG_W,ARGON,ARGON_FLAG_W,BTL_DATE,BTL_TIME,BTL_LAT,BTL_LON,KRYPTON,KRYPTON_FLAG_W,XENON,XENON_FLAG_W,HPLC,HPLC_FLAG_W,HE3_HE4_RATIO,HE3_HE4_RATIO_FLAG_W,Nd_143_144_D_EPSILON_BOTTLE,Nd_143_144_D_EPSILON_BOTTLE_FLAG_W,Nd_143_144_D_EPSILON_BOTTLE_ERROR,Nd_143_144_D_RATIO_BOTTLE,Nd_143_144_D_RATIO_BOTTLE_FLAG_W,Nd_143_144_D_RATIO_BOTTLE_ERROR,Nd_D_CONC,Nd_D_CONC_FLAG_W,La_D_CONC_BOTTLE,La_D_CONC_BOTTLE_FLAG_W,Ce_D_CONC_BOTTLE,Ce_D_CONC_BOTTLE_FLAG_W,Pr_D_CONC_BOTTLE,Pr_D_CONC_BOTTLE_FLAG_W,Sm_D_CONC_BOTTLE,Sm_D_CONC_BOTTLE_FLAG_W,Eu_D_CONC_BOTTLE,Eu_D_CONC_BOTTLE_FLAG_W,Gd_D_CONC_BOTTLE,Gd_D_CONC_BOTTLE_FLAG_W,Tb_D_CONC_BOTTLE,Tb_D_CONC_BOTTLE_FLAG_W,Dy_D_CONC_BOTTLE,Dy_D_CONC_BOTTLE_FLAG_W,Ho_D_CONC_BOTTLE,Ho_D_CONC_BOTTLE_FLAG_W,Er_D_CONC_BOTTLE,Er_D_CONC_BOTTLE_FLAG_W,Tm_D_CONC_BOTTLE,Tm_D_CONC_BOTTLE_FLAG_W,Yb_D_CONC_BOTTLE,Yb_D_CONC_BOTTLE_FLAG_W,Lu_D_CONC_BOTTLE,Lu_D_CONC_BOTTLE_FLAG_W
,,,,,,,,,,,METERS,DBAR,ITS-90,PSS-78,,PSS-78,,UMOL/KG,,UMOL/KG,,UMOL/KG,,UMOL/KG,,UMOL/KG,,UMOL/KG,,UMOL/KG,,PMOL/KG,,PMOL/KG,,FMOL/KG,,UMOL/KG,,UMOL/KG,,,,DEG C,UMOL/KG,,NMOL/L,,DEG C,,/MILLE,,/MILLE,,/MILLE,UG/KG,,UMOL/KG,,UMOL/KG,,NMOL/L,,VOLTS,,VOLTS,,VOLTS,,NMOL/KG,,UMOL/L,,,,,,NMOL/L,,NMOL/L,,,,,,10000,,10000,,,,PMOL/KG,,PMOL/L,,PMOL/L,,PMOL/L,,PMOL/L,,PMOL/L,,PMOL/L,,PMOL/L,,PMOL/L,,PMOL/L,,PMOL/L,,PMOL/L,,PMOL/L,,PMOL/L,
320620180309  ,S04P       ,23      ,  1,15         ,15         ,2,20180327,0509, -66.9985, 179.4219,     3696,   1316.2,0.8277166666666667671,34.713049702362468,2,  34.7129,2,201.37483853376349,3, 205.0032,2,    208.4,2,    119.7,2,    32.33,2,     0.00,2,     2.27,2,    0.126,2,    0.065,2,   0.0200,2,     -999,9,     -999,9,     -999,9,     -999,     -999,9,     -999,9,   0.8271,2,     -999,9,     -999,9,     -999,     -999,9,     -999,9,     -999,9,     -999,9,    0.060,1,    4.677,1,    0.131,1,  19.0200,2,     -999,9,20180327,0610, -66.9997, 179.4257,     -999,9,     -999,9,-999          ,9,     -999,9,     -999,9,     -999,     -999,9,     -999,     -999,9,     -999,9,     -999,9,     -999,9,     -999,9,     -999,9,     -999,9,     -999,9,     -999,9,     -999,9,     -999,9,     -999,9,     -999,9,     -999,9
320620180309  ,S04P       ,23      ,  1,14         ,14         ,2,20180327,0509, -66.9985, 179.4219,     3696,   1417.8,0.7905083333333332574,34.711639282074465,2,  34.7111,2,202.98521627164041,2, 204.8028,2,    204.1,2,    121.0,2,    32.37,2,     0.00,2,     2.26,2,     -999,9,     -999,9,     -999,9,   2262.0,2,  2363.82,2,   7.5930,2,    24.93,     -999,9,     -999,9,   0.7896,2,     -999,9,     -999,9,     -999,     -999,9,     -999,9,     -999,9,     -999,9,    0.061,1,    4.677,1,    0.130,1,     -999,9,     -999,9,20180327,0607, -66.9996, 179.4251,     -999,9,     -999,9,-999          ,9,     -999,9,     -999,9,     -999,     -999,9,     -999,     -999,9,     -999,9,     -999,9,     -999,9,     -999,9,     -999,9,     -999,9,     -999,9,     -999,9,     -999,9,     -999,9,     -999,9,     -999,9,     -999,9
320620180309  ,S04P       ,23      ,  1,13         ,13         ,2,20180327,0509, -66.9985, 179.4219,     3696,   1520.0,0.7447527777777778191,34.710004953964422,2,  34.7096,2,203.91083975439065,2, 204.4002,2,    203.0,2,    122.5,2,    32.39,2,     0.00,2,     2.25,2,     -999,9,     -999,9,     -999,9,     -999,9,     -999,9,     -999,9,     -999,     -999,9,     -999,9,   0.7446,2,     -999,9,     -999,9,     -999,     -999,9,     -999,9,     -999,9,     -999,9,    0.061,1,    4.678,1,    0.127,1,     -999,9,     -999,9,20180327,0604, -66.9995, 179.4250,     -999,9,     -999,9,-999          ,9,     -999,9,     -999,9,     -999,     -999,9,     -999,     -999,9,     -999,9,     -999,9,     -999,9,     -999,9,     -999,9,     -999,9,     -999,9,     -999,9,     -999,9,     -999,9,     -999,9,     -999,9,     -999,9
320620180309  ,S04P       ,23      ,  1,12         ,12         ,2,20180327,0509, -66.9985, 179.4219,     3696,   1622.2,0.7055138888888889959,34.708648101763899,2,  34.7086,2,204.42580000491364,2, 206.1993,2,    204.3,2,    123.8,2,    32.41,2,     0.00,2,     2.27,2,    0.134,2,    0.081,2,   0.0900,2,   2263.0,2,  2365.75,2,   7.5950,2,    24.93,     -999,9,     -999,9,   0.7045,2,     -999,9,     -999,9,     -999,     -999,9,     -999,9,     -999,9,     -999,9,    0.061,1,    4.678,1,    0.130,1,  18.7100,2,     -999,9,20180327,0601, -66.9995, 179.4251,     -999,9,     -999,9,-999          ,9,     -999,9,     -999,9,     -999,     -999,9,     -999,     -999,9,     -999,9,     -999,9,     -999,9,     -999,9,     -999,9,     -999,9,     -999,9,     -999,9,     -999,9,     -999,9,     -999,9,     -999,9,     -999,9
320620180309  ,S04P       ,23      ,  1,11         ,11         ,2,20180327,0509, -66.9985, 179.4219,     3696,   1722.9,0.6758916666666665574,34.707636885439129,2,  34.7074,2,205.63926875828940,2, 206.1003,2,    204.9,2,    124.6,2,    32.23,2,     0.00,2,     2.27,2,     -999,9,     -999,9,     -999,9,     -999,9,     -999,9,     -999,9,     -999,     -999,9,     -999,9,   0.6750,2,     -999,9,     -999,9,     -999,     -999,9,     -999,9,     -999,9,     -999,9,    0.061,1,    4.677,1,    0.130,1,     -999,9,     -999,9,20180327,0558, -66.9993, 179.4245,     -999,9,     -999,9,-999          ,9,     -999,9,     -999,9,     -999,     -999,9,     -999,     -999,9,     -999,9,     -999,9,     -999,9,     -999,9,     -999,9,     -999,9,     -999,9,     -999,9,     -999,9,     -999,9,     -999,9,     -999,9,     -999,9
320620180309  ,S04P       ,23      ,  1,10         ,10         ,2,20180327,0509, -66.9985, 179.4219,     3696,   1824.6,0.6269166666666664556,34.704410630181364,2,  34.7049,2,206.47945613827261,2, 206.1012,2,    206.8,2,    124.0,2,    32.34,2,     0.00,2,     2.28,2,     -999,9,     -999,9,     -999,9,     -999,9,     -999,9,     -999,9,     -999,     -999,9,     -999,9,   0.6264,2,     -999,9,     -999,9,     -999,     -999,9,     -999,9,     -999,9,     -999,9,    0.061,1,    4.677,1,    0.130,1,     -999,9,     -999,9,20180327,0554, -66.9991, 179.4240,     -999,9,     -999,9,-999          ,9,     -999,9,     -999,9,     -999,     -999,9,     -999,     -999,9,     -999,9,     -999,9,     -999,9,     -999,9,     -999,9,     -999,9,     -999,9,     -999,9,     -999,9,     -999,9,     -999,9,     -999,9,     -999,9
320620180309  ,S04P       ,23      ,  1,9          ,9          ,2,20180327,0509, -66.9985, 179.4219,     3696,   2029.0,0.5580277777777777892,34.704158252546904,2,  34.7041,2,210.89292700950477,3, 209.6989,2,    207.9,2,    127.0,2,    32.51,2,     0.00,2,     2.27,2,    0.181,2,    0.100,2,   0.1600,2,   2264.7,2,  2363.39,2,   7.5945,2,    24.94,     -999,9,     -999,9,   0.5580,2,     -999,9,     -999,9,     -999,     -999,9,     -999,9,     -999,9,     -999,9,    0.061,1,    4.677,1,    0.131,1,  18.7400,2,     -999,9,20180327,0550, -66.9988, 179.4228,     -999,9,     -999,9,-999          ,9,     -999,9,     -999,9,     -999,     -999,9,     -999,     -999,9,     -999,9,     -999,9,     -999,9,     -999,9,     -999,9,     -999,9,     -999,9,     -999,9,     -999,9,     -999,9,     -999,9,     -999,9,     -999,9
320620180309  ,S04P       ,23      ,  1,8          ,8          ,2,20180327,0509, -66.9985, 179.4219,     3696,   2232.3,0.5171055555555554850,34.704459801911661,2,  34.7043,2,209.22127363367181,3, 211.3044,2,    213.5,2,    129.5,2,    32.59,2,     0.00,2,     2.28,2,     -999,9,     -999,9,     -999,9,     -999,9,     -999,9,     -999,9,     -999,     -999,9,     -999,9,   0.5163,2,     -999,9,     -999,9,     -999,     -999,9,     -999,9,     -999,9,     -999,9,    0.061,1,    4.679,1,    0.127,1,     -999,9,     -999,9,20180327,0545, -66.9987, 179.4224,     -999,9,     -999,9,-999          ,9,     -999,9,     -999,9,     -999,     -999,9,     -999,     -999,9,     -999,9,     -999,9,     -999,9,     -999,9,     -999,9,     -999,9,     -999,9,     -999,9,     -999,9,     -999,9,     -999,9,     -999,9,     -999,9
320620180309  ,S04P       ,23      ,  1,7          ,7          ,2,20180327,0509, -66.9985, 179.4219,     3696,   2437.3,0.4301638888888887902,34.700092762365330,2,  34.7005,2,212.46572481221546,2, 212.5995,2,    211.4,2,    128.0,2,    32.50,2,     0.00,2,     2.26,2,     -999,9,     -999,9,     -999,9,   2261.9,2,  2364.48,2,   7.5940,6,    24.93,     -999,9,     -999,9,   0.4297,2,     -999,9,     -999,9,     -999,     -999,9,     -999,9,     -999,9,     -999,9,    0.060,1,    4.678,1,    0.129,1,     -999,9,     -999,9,20180327,0540, -66.9986, 179.4213,     -999,9,     -999,9,-999          ,9,     -999,9,     -999,9,     -999,     -999,9,     -999,     -999,9,     -999,9,     -999,9,     -999,9,     -999,9,     -999,9,     -999,9,     -999,9,     -999,9,     -999,9,     -999,9,     -999,9,     -999,9,     -999,9
320620180309  ,S04P       ,23      ,  1,6          ,6          ,2,20180327,0509, -66.9985, 179.4219,     3696,   2640.7,0.3741361111111111692,34.697700946935534,2,  34.6970,2,214.26626778391875,2, 214.5987,2,    214.9,2,    128.3,2,    32.50,2,     0.00,2,     2.28,2,    0.394,2,    0.216,2,   0.1300,2,     -999,9,     -999,9,     -999,9,     -999,     -999,9,     -999,9,   0.3737,2,     -999,9,     -999,9,     -999,     -999,9,     -999,9,     -999,9,     -999,9,    0.061,1,    4.677,1,    0.129,1,  18.5400,2,     -999,9,20180327,0535, -66.9985, 179.4207,     -999,9,     -999,9,-999          ,9,     -999,9,     -999,9,     -999,     -999,9,     -999,     -999,9,     -999,9,     -999,9,     -999,9,     -999,9,     -999,9,     -999,9,     -999,9,     -999,9,     -999,9,     -999,9,     -999,9,     -999,9,     -999,9
320620180309  ,S04P       ,23      ,  1,5          ,5          ,2,20180327,0509, -66.9985, 179.4219,     3696,   2845.4,0.3111083333333333201,34.695052810773788,2,  34.6949,2,216.14626100046314,2, 217.6015,2,    215.6,2,    127.7,2,    32.50,2,     0.00,2,     2.27,2,     -999,9,     -999,9,     -999,9,   2262.2,2,  2364.38,2,   7.5913,2,    24.91,     -999,9,     -999,9,   0.3102,2,     -999,9,     -999,9,     -999,     -999,9,     -999,9,     -999,9,     -999,9,    0.061,1,    4.678,1,    0.126,1,     -999,9,     -999,9,20180327,0530, -66.9983, 179.4212,     -999,9,     -999,9,-999          ,9,     -999,9,     -999,9,     -999,     -999,9,     -999,     -999,9,     -999,9,     -999,9,     -999,9,     -999,9,     -999,9,     -999,9,     -999,9,     -999,9,     -999,9,     -999,9,     -999,9,     -999,9,     -999,9
320620180309  ,S04P       ,23      ,  1,4          ,4          ,2,20180327,0509, -66.9985, 179.4219,     3696,   3050.2,0.2563388888888888384,34.692437773047899,2,  34.6923,2,218.83577411147564,2, 223.5967,2,    220.6,2,    126.4,2,    32.43,2,     0.00,2,     2.27,2,     -999,9,     -999,9,     -999,9,   2262.3,2,  2363.19,2,   7.5905,2,    24.91,     -999,9,     -999,9,   0.2558,2,     -999,9,     -999,9,     -999,     -999,9,     -999,9,     -999,9,     -999,9,    0.061,1,    4.677,1,    0.128,1,     -999,9,     -999,9,20180327,0525, -66.9987, 179.4225,     -999,9,     -999,9,-999          ,9,     -999,9,     -999,9,     -999,     -999,9,     -999,     -999,9,     -999,9,     -999,9,     -999,9,     -999,9,     -999,9,     -999,9,     -999,9,     -999,9,     -999,9,     -999,9,     -999,9,     -999,9,     -999,9
320620180309  ,S04P       ,23      ,  1,3          ,3          ,2,20180327,0509, -66.9985, 179.4219,     3696,   3256.4,0.1780194444444444524,34.684451049728217,2,  34.6848,2,223.34579638885032,2, 219.4985,2,    222.0,2,    121.1,2,    32.27,2,     0.00,2,     2.25,2,    1.068,2,    0.579,2,   0.4600,2,   2265.1,2,  2362.09,2,   7.5898,2,    24.91,     -999,9,     -999,9,   0.1775,2,     -999,9,     -999,9,     -999,     -999,9,     -999,9,     -999,9,     -999,9,    0.060,1,    4.676,1,    0.127,1,  18.7800,2,     -999,9,20180327,0520, -66.9988, 179.4230,     -999,9,     -999,9,-999          ,9,     -999,9,     -999,9,     -999,     -999,9,     -999,     -999,9,     -999,9,     -999,9,     -999,9,     -999,9,     -999,9,     -999,9,     -999,9,     -999,9,     -999,9,     -999,9,     -999,9,     -999,9,     -999,9
320620180309  ,S04P       ,23      ,  1,2          ,2          ,2,20180327,0509, -66.9985, 179.4219,     3696,   3505.1,0.1310250000000000026,34.682868324573050,2,  34.6829,2,225.70607074166389,2, 223.8000,2,    226.2,2,    116.5,2,    32.12,2,     0.00,2,     2.24,2,    1.317,2,    0.725,2,   0.6400,2,   2262.5,2,  2359.15,2,   7.5873,2,    24.92,     -999,9,     -999,9,   0.1309,2,     -999,9,     -999,9,     -999,     -999,9,     -999,9,     -999,9,     -999,9,    0.060,1,    4.673,1,    0.128,1,  18.5900,2,     -999,9,20180327,0515, -66.9987, 179.4225,     -999,9,     -999,9,-999          ,9,     -999,9,     -999,9,     -999,     -999,9,     -999,     -999,9,     -999,9,     -999,9,     -999,9,     -999,9,     -999,9,     -999,9,     -999,9,     -999,9,     -999,9,     -999,9,     -999,9,     -999,9,     -999,9
320620180309  ,S04P       ,23      ,  1,1          ,1          ,2,20180327,0509, -66.9985, 179.4219,     3696,   3756.1,0.1297249999999999792,34.683480788540272,2,  34.6837,2,226.19331267927922,2, 223.7961,2,    226.1,2,    116.5,2,    32.12,2,     0.00,2,     2.23,2,    1.430,2,    0.778,2,   0.6600,2,   2262.3,6,  2358.95,2,   7.5893,2,    24.93,     -999,9,     -999,9,   0.1292,2,     -999,9,     -999,9,     -999,     -999,9,     -999,9,     -999,9,     -999,9,    0.061,1,    4.670,1,    0.135,1,  18.6700,2,     -999,9,20180327,0509, -66.9985, 179.4219,     -999,9,     -999,9,-999          ,9,     -999,9,     -999,9,     -999,     -999,9,     -999,     -999,9,     -999,9,     -999,9,     -999,9,     -999,9,     -999,9,     -999,9,     -999,9,     -999,9,     -999,9,     -999,9,     -999,9,     -999,9,     -999,9