BOTTLE,20240515CCHHYDRO
EXPOCODE,SECT_ID,STNNBR,CASTNO,SAMPNO,BTLNBR,BTLNBR_FLAG_W,DATE,TIME,LATITUDE,LONGITUDE,DEPTH,CTDPRS,CTDTMP,CTDSAL,CTDSAL_FLAG_W,SALNTY,SALNTY_FLAG_W,CTDOXY,CTDOXY_FLAG_W,CTDOPTOXY,CTDOPTOXY_FLAG_W,OXYGEN,OXYGEN_FLAG_W,SILCAT,SILCAT_FLAG_W,NITRAT,NITRAT_FLAG_W,NITRIT,NITRIT_FLAG_W,PHSPHT,PHSPHT_FLAG_W,CFC-11,CFC-11_FLAG_W,CFC-12,CFC-12_FLAG_W,SF6,SF6_FLAG_W,TCARBN,TCARBN_FLAG_W,ALKALI,ALKALI_FLAG_W,PH_TOT,PH_TOT_FLAG_W,PH_TMP,DOC,DOC_FLAG_W,HELIUM,HELIUM_FLAG_W,REFTMP,REFTMP_FLAG_W,DELC13,DELC13_FLAG_W,DELC14,DELC14_FLAG_W,C14ERR,POC,POC_FLAG_W,TDN,TDN_FLAG_W,TON,TON_FLAG_W,NEON,NEON_FLAG_W,CTDFLUOR,CTDFLUOR_FLAG_W,CTDXMISS,CTDXMISS_FLAG_W,CTDBETA700,CTDBETA700_FLAG_W,N2O,N2O_FLAG_W,ARGON,ARGON_FLAG_W,BTL_DATE,BTL_TIME,BTL_LAT,BTL_LON,KRYPTON,KRYPTON_FLAG_W,XENON,XENON_FLAG_W,HPLC,HPLC_FLAG_W,HE3_HE4_RATIO,HE3_HE4_RATIO_FLAG_W,Nd_143_144_D_EPSILON_BOTTLE,Nd_143_144_D_EPSILON_BOTTLE_FLAG_W,Nd_143_144_D_EPSILON_BOTTLE_ERROR,Nd_143_144_D_RATIO_BOTTLE,Nd_143_144_D_RATIO_BOTTLE_FLAG_W,Nd_143_144_D_RATIO_BOTTLE_ERROR,Nd_D_CONC,Nd_D_CONC_FLAG_W,La_D_CONC_BOTTLE,La_D_CONC_BOTTLE_FLAG_W,Ce_D_CONC_BOTTLE,Ce_D_CONC_BOTTLE_FLAG_W,Pr_D_CONC_BOTTLE,Pr_D_CONC_BOTTLE_FLAG_W,Sm_D_CONC_BOTTLE,Sm_D_CONC_BOTTLE_FLAG_W,Eu_D_CONC_BOTTLE,Eu_D_CONC_BOTTLE_FLAG_W,Gd_D_CONC_BOTTLE,Gd_D_CONC_BOTTLE_FLAG_W,Tb_D_CONC_BOTTLE,Tb_D_CONC_BOTTLE_FLAG_W,Dy_D_CONC_BOTTLE,Dy_D_CONC_BOTTLE_FLAG_W,Ho_D_CONC_BOTTLE,Ho_D_CONC_BOTTLE_FLAG_W,Er_D_CONC_BOTTLE,Er_D_CONC_BOTTLE_FLAG_W,Tm_D_CONC_BOTTLE,Tm_D_CONC_BOTTLE_FLAG_W,Yb_D_CONC_BOTTLE,Yb_D_CONC_BOTTLE_FLAG_W,Lu_D_CONC_BOTTLE,Lu_D_CONC_BOTTLE_FLAG_W
,,,,,,,,,,,METERS,DBAR,ITS-90,PSS-78,,PSS-78,,UMOL/KG,,UMOL/KG,,UMOL/KG,,UMOL/KG,,UMOL/KG,,UMOL/KG,,UMOL/KG,,PMOL/KG,,PMOL/KG,,FMOL/KG,,UMOL/KG,,UMOL/KG,,,,DEG C,UMOL/KG,,NMOL/L,,DEG C,,/MILLE,,/MILLE,,/MILLE,UG/KG,,UMOL/KG,,UMOL/KG,,NMOL/L,,VOLTS,,VOLTS,,VOLTS,,NMOL/KG,,UMOL/L,,,,,,NMOL/L,,NMOL/L,,,,,,10000,,10000,,,,PMOL/KG,,PMOL/L,,PMOL/L,,PMOL/L,,PMOL/L,,PMOL/L,,PMOL/L,,PMOL/L,,PMOL/L,,PMOL/L,,PMOL/L,,PMOL/L,,PMOL/L,,PMOL/L,
320620180309  ,S04P       ,55      ,  1,36         ,36         ,2,20180410,2106, -66.9999,-167.5066,     3521,      9.8,-1.2754861111111108762,34.102196662154199,2,  34.0978,2,345.09254309156915,2, 343.7005,2,    345.0,2,     59.9,2,    27.04,2,     0.18,2,     1.84,2,    5.547,2,    3.121,2,   3.7900,2,   2197.3,2,  2310.97,2,   7.6485,6,    24.92,     -999,9,     -999,9,     -999,9,     -999,9,     -999,9,     -999,     -999,9,     -999,9,     -999,9,     -999,9,    0.151,1,    4.596,1,    0.185,1,  16.7800,2,     -999,9,20180410,2243, -66.9997,-167.5012,     -999,9,     -999,9,-999          ,9,     -999,9,     -999,9,     -999,     -999,9,     -999,     -999,9,     -999,9,     -999,9,     -999,9,     -999,9,     -999,9,     -999,9,     -999,9,     -999,9,     -999,9,     -999,9,     -999,9,     -999,9,     -999,9
320620180309  ,S04P       ,55      ,  1,35         ,35         ,2,20180410,2106, -66.9999,-167.5066,     3521,     24.7,-1.2689166666666666927,34.101889198411200,2,  34.0970,2,345.78341551946329,2, 343.6951,2,    344.9,2,     59.4,2,    26.96,2,     0.18,2,     1.89,2,     -999,9,     -999,9,     -999,9,   2196.7,6,  2311.21,2,   7.6465,2,    24.93,     -999,9,     -999,9,     -999,9,     -999,9,     -999,9,     -999,     -999,9,     -999,9,     -999,9,     -999,9,    0.159,1,    4.598,1,    0.221,1,     -999,9,     -999,9,20180410,2242, -66.9997,-167.5013,     -999,9,     -999,9,-999          ,9,     -999,9,     -999,9,     -999,     -999,9,     -999,     -999,9,     -999,9,     -999,9,     -999,9,     -999,9,     -999,9,     -999,9,     -999,9,     -999,9,     -999,9,     -999,9,     -999,9,     -999,9,     -999,9
320620180309  ,S04P       ,55      ,  1,34         ,34         ,2,20180410,2106, -66.9999,-167.5066,     3521,     49.2,-1.2614250000000000185,34.101736295736231,2,  34.0976,2,346.92348931360090,2, 343.7018,2,    344.4,2,     60.0,2,    27.27,2,     0.19,2,     1.91,2,     -999,9,     -999,9,     -999,9,     -999,9,     -999,9,     -999,9,     -999,     -999,9,     -999,9,     -999,9,     -999,9,     -999,9,     -999,     -999,9,     -999,9,     -999,9,     -999,9,    0.157,1,    4.598,1,    0.197,1,     -999,9,     -999,9,20180410,2240, -66.9997,-167.5012,     -999,9,     -999,9,-999          ,9,     -999,9,     -999,9,     -999,     -999,9,     -999,     -999,9,     -999,9,     -999,9,     -999,9,     -999,9,     -999,9,     -999,9,     -999,9,     -999,9,     -999,9,     -999,9,     -999,9,     -999,9,     -999,9
320620180309  ,S04P       ,55      ,  1,33         ,33         ,2,20180410,2106, -66.9999,-167.5066,     3521,     76.6,-1.1013416666666668853,34.118116061210699,2,  34.1097,2,343.47838066676809,2, 342.9007,2,    341.4,2,     60.0,2,    27.26,2,     0.19,2,     1.92,2,    5.536,2,    3.073,2,   3.9400,2,   2197.9,2,  2310.41,2,   7.6463,2,    24.92,     -999,9,     -999,9,     -999,9,     -999,9,     -999,9,     -999,     -999,9,     -999,9,     -999,9,     -999,9,    0.161,1,    4.595,1,    0.202,1,  17.3700,2,     -999,9,20180410,2239, -66.9997,-167.5014,     -999,9,     -999,9,-999          ,9,     -999,9,     -999,9,     -999,     -999,9,     -999,     -999,9,     -999,9,     -999,9,     -999,9,     -999,9,     -999,9,     -999,9,     -999,9,     -999,9,     -999,9,     -999,9,     -999,9,     -999,9,     -999,9
320620180309  ,S04P       ,55      ,  1,32         ,32         ,2,20180410,2106, -66.9999,-167.5066,     3521,    100.6,-0.8803805555555554996,34.232307673144369,3,  34.2091,2,317.31894259197810,3, 313.2020,2,    313.0,2,     64.9,2,    28.72,2,     0.18,2,     2.03,2,     -999,9,     -999,9,     -999,9,   2208.2,2,  2316.21,2,   7.6277,2,    24.94,     -999,9,     -999,9,     -999,9,     -999,9,     -999,9,     -999,     -999,9,     -999,9,     -999,9,     -999,9,    0.147,1,    4.601,1,    0.210,1,     -999,9,     -999,9,20180410,2237, -66.9997,-167.5015,     -999,9,     -999,9,-999          ,9,     -999,9,     -999,9,     -999,     -999,9,     -999,     -999,9,     -999,9,     -999,9,     -999,9,     -999,9,     -999,9,     -999,9,     -999,9,     -999,9,     -999,9,     -999,9,     -999,9,     -999,9,     -999,9
320620180309  ,S04P       ,55      ,  1,31         ,31         ,2,20180410,2106, -66.9999,-167.5066,     3521,    124.4,0.1079916666666666664,34.522530503761679,2,  34.5244,2,235.25239908452903,3, 228.7989,2,    227.4,2,     82.1,2,    32.57,2,     0.05,2,     2.27,2,     -999,9,     -999,9,     -999,9,     -999,9,     -999,9,     -999,9,     -999,     -999,9,     -999,9,     -999,9,     -999,9,     -999,9,     -999,     -999,9,     -999,9,     -999,9,     -999,9,    0.100,1,    4.626,1,    0.173,1,     -999,9,     -999,9,20180410,2236, -66.9997,-167.5017,     -999,9,     -999,9,-999          ,9,     -999,9,     -999,9,     -999,     -999,9,     -999,     -999,9,     -999,9,     -999,9,     -999,9,     -999,9,     -999,9,     -999,9,     -999,9,     -999,9,     -999,9,     -999,9,     -999,9,     -999,9,     -999,9
320620180309  ,S04P       ,55      ,  1,30         ,30         ,2,20180410,2106, -66.9999,-167.5066,     3521,    149.3,0.7481916666666666993,34.605541011005720,2,  34.6085,2,208.07095493698196,2, 210.6978,3,    206.8,2,     87.0,2,    32.89,2,     0.03,2,     2.28,2,    1.364,2,    0.745,2,   0.7800,2,     -999,9,     -999,9,     -999,9,     -999,     -999,9,     -999,9,     -999,9,     -999,9,     -999,9,     -999,     -999,9,     -999,9,     -999,9,     -999,9,    0.086,1,    4.637,1,    0.167,1,  21.3900,2,     -999,9,20180410,2235, -66.9996,-167.5019,     -999,9,     -999,9,-999          ,9,     -999,9,     -999,9,     -999,     -999,9,     -999,     -999,9,     -999,9,     -999,9,     -999,9,     -999,9,     -999,9,     -999,9,     -999,9,     -999,9,     -999,9,     -999,9,     -999,9,     -999,9,     -999,9
320620180309  ,S04P       ,55      ,  1,29         ,29         ,2,20180410,2106, -66.9999,-167.5066,     3521,    200.1,1.3817694444444446056,34.696740041715330,2,  34.6939,2,191.09884113094282,2, 192.9021,2,    190.5,2,     92.0,2,    32.61,2,     0.02,2,     2.23,2,     -999,9,     -999,9,     -999,9,   2258.6,2,  2347.90,2,   7.5732,2,    24.93,     -999,9,     -999,9,     -999,9,     -999,9,     -999,9,     -999,     -999,9,     -999,9,     -999,9,     -999,9,    0.069,1,    4.650,1,    0.152,1,     -999,9,     -999,9,20180410,2233, -66.9996,-167.5021,     -999,9,     -999,9,-999          ,9,     -999,9,     -999,9,     -999,     -999,9,     -999,     -999,9,     -999,9,     -999,9,     -999,9,     -999,9,     -999,9,     -999,9,     -999,9,     -999,9,     -999,9,     -999,9,     -999,9,     -999,9,     -999,9
320620180309  ,S04P       ,55      ,  1,28         ,28         ,2,20180410,2106, -66.9999,-167.5066,     3521,    251.6,1.4261083333333328671,34.711610802075683,2,  34.7078,2,190.04196962925391,2, 191.5997,2,    189.8,2,     93.7,2,    32.41,2,     0.02,2,     2.25,2,    0.508,2,    0.279,2,   0.1700,2,   2258.6,6,  2348.55,2,   7.5774,2,    24.94,     -999,9,     -999,9,     -999,9,     -999,9,     -999,9,     -999,     -999,9,     -999,9,     -999,9,     -999,9,    0.067,1,    4.654,1,    0.166,1,  21.5000,2,     -999,9,20180410,2231, -66.9996,-167.5021,     -999,9,     -999,9,-999          ,9,     -999,9,     -999,9,     -999,     -999,9,     -999,     -999,9,     -999,9,     -999,9,     -999,9,     -999,9,     -999,9,     -999,9,     -999,9,     -999,9,     -999,9,     -999,9,     -999,9,     -999,9,     -999,9
320620180309  ,S04P       ,55      ,  1,27         ,27         ,2,20180410,2106, -66.9999,-167.5066,     3521,    301.3,1.4217527777777776432,34.719880443931608,2,  34.7168,2,190.49326668097891,2, 191.2980,2,    190.2,2,     95.6,2,    32.26,2,     0.02,2,     2.24,2,     -999,9,     -999,9,     -999,9,   2257.5,2,  2352.17,2,   7.5805,2,    24.93,     -999,9,     -999,9,     -999,9,     -999,9,     -999,9,     -999,     -999,9,     -999,9,     -999,9,     -999,9,    0.064,1,    4.658,1,    0.144,1,     -999,9,     -999,9,20180410,2229, -66.9996,-167.5021,     -999,9,     -999,9,-999          ,9,     -999,9,     -999,9,     -999,     -999,9,     -999,     -999,9,     -999,9,     -999,9,     -999,9,     -999,9,     -999,9,     -999,9,     -999,9,     -999,9,     -999,9,     -999,9,     -999,9,     -999,9,     -999,9
320620180309  ,S04P       ,55      ,  1,26         ,26         ,2,20180410,2106, -66.9999,-167.5066,     3521,    352.2,1.3922388888888890257,34.723121029144181,2,  34.7198,2,190.47749387936139,2, 191.1020,2,    190.7,2,     97.3,2,    32.38,2,     0.00,2,     2.24,2,     -999,9,     -999,9,     -999,9,     -999,9,     -999,9,     -999,9,     -999,     -999,9,     -999,9,     -999,9,     -999,9,     -999,9,     -999,     -999,9,     -999,9,     -999,9,     -999,9,    0.063,1,    4.659,1,    0.145,1,     -999,9,     -999,9,20180410,2227, -66.9996,-167.5021,     -999,9,     -999,9,-999          ,9,     -999,9,     -999,9,     -999,     -999,9,     -999,     -999,9,     -999,9,     -999,9,     -999,9,     -999,9,     -999,9,     -999,9,     -999,9,     -999,9,     -999,9,     -999,9,     -999,9,     -999,9,     -999,9
320620180309  ,S04P       ,55      ,  1,25         ,25         ,2,20180410,2106, -66.9999,-167.5066,     3521,    404.0,1.3752888888888885610,34.726195654811526,2,  34.7229,2,191.30498294617578,2, 192.5061,2,    191.2,2,     99.0,2,    32.30,2,     0.00,2,     2.23,2,    0.334,2,    0.186,2,   0.0500,2,   2257.7,2,  2354.53,2,   7.6449,3,    24.93,     -999,9,     -999,9,     -999,9,     -999,9,     -999,9,     -999,     -999,9,     -999,9,     -999,9,     -999,9,    0.064,1,    4.660,1,    0.145,1,  21.2300,2,     -999,9,20180410,2225, -66.9997,-167.5023,     -999,9,     -999,9,-999          ,9,     -999,9,     -999,9,     -999,     -999,9,     -999,     -999,9,     -999,9,     -999,9,     -999,9,     -999,9,     -999,9,     -999,9,     -999,9,     -999,9,     -999,9,     -999,9,     -999,9,     -999,9,     -999,9
320620180309  ,S04P       ,55      ,  1,24         ,24         ,2,20180410,2106, -66.9999,-167.5066,     3521,    452.8,1.3423805555555554658,34.726636434859735,2,  34.7237,2,192.46676247713270,2, 192.8000,2,    192.2,2,    100.0,2,    32.21,2,     0.00,2,     2.22,2,     -999,9,     -999,9,     -999,9,   2259.0,2,  2361.13,3,   7.6327,3,    24.93,     -999,9,     -999,9,     -999,9,     -999,9,     -999,9,     -999,     -999,9,     -999,9,     -999,9,     -999,9,    0.062,1,    4.658,1,    0.142,1,     -999,9,     -999,9,20180410,2223, -66.9996,-167.5027,     -999,9,     -999,9,-999          ,9,     -999,9,     -999,9,     -999,     -999,9,     -999,     -999,9,     -999,9,     -999,9,     -999,9,     -999,9,     -999,9,     -999,9,     -999,9,     -999,9,     -999,9,     -999,9,     -999,9,     -999,9,     -999,9
320620180309  ,S04P       ,55      ,  1,23         ,23         ,2,20180410,2106, -66.9999,-167.5066,     3521,    503.3,1.3140666666666667162,34.727355663321298,2,  34.7243,2,192.23018946430403,2, 193.0968,2,    193.6,2,    101.6,2,    32.21,2,     0.00,2,     2.25,2,     -999,9,     -999,9,     -999,9,     -999,9,     -999,9,     -999,9,     -999,     -999,9,     -999,9,     -999,9,     -999,9,     -999,9,     -999,     -999,9,     -999,9,     -999,9,     -999,9,    0.064,1,    4.656,1,    0.149,1,     -999,9,     -999,9,20180410,2221, -66.9996,-167.5030,     -999,9,     -999,9,-999          ,9,     -999,9,     -999,9,     -999,     -999,9,     -999,     -999,9,     -999,9,     -999,9,     -999,9,     -999,9,     -999,9,     -999,9,     -999,9,     -999,9,     -999,9,     -999,9,     -999,9,     -999,9,     -999,9
320620180309  ,S04P       ,55      ,  1,22         ,37         ,2,20180410,2106, -66.9999,-167.5066,     3521,    604.9,1.2400111111111109530,34.727303277036846,2,  34.7237,2,195.34148900326858,2, 193.0008,2,    194.8,2,    104.1,2,    32.34,2,     0.00,2,     2.25,2,    0.269,2,    0.146,2,   0.1200,2,   2258.6,2,  2356.53,2,   7.5888,2,    24.93,     -999,9,     -999,9,     -999,9,     -999,9,     -999,9,     -999,     -999,9,     -999,9,     -999,9,     -999,9,    0.061,1,    4.660,1,    0.143,1,  21.1700,2,     -999,9,20180410,2219, -66.9996,-167.5036,     -999,9,     -999,9,-999          ,9,     -999,9,     -999,9,     -999,     -999,9,     -999,     -999,9,     -999,9,     -999,9,     -999,9,     -999,9,     -999,9,     -999,9,     -999,9,     -999,9,     -999,9,     -999,9,     -999,9,     -999,9,     -999,9
320620180309  ,S04P       ,55      ,  1,21         ,21         ,2,20180410,2106, -66.9999,-167.5066,     3521,    706.7,1.1612888888888888150,34.725538835075447,2,  34.7231,2,195.37506225507704,2, 195.9998,2,    196.4,2,    107.1,2,    32.41,2,     0.00,2,     2.25,2,     -999,9,     -999,9,     -999,9,   2262.1,2,  2358.50,2,   7.5931,2,    24.92,     -999,9,     -999,9,     -999,9,     -999,9,     -999,9,     -999,     -999,9,     -999,9,     -999,9,     -999,9,    0.063,1,    4.662,1,    0.141,1,     -999,9,     -999,9,20180410,2216, -66.9997,-167.5039,     -999,9,     -999,9,-999          ,9,     -999,9,     -999,9,     -999,     -999,9,     -999,     -999,9,     -999,9,     -999,9,     -999,9,     -999,9,     -999,9,     -999,9,     -999,9,     -999,9,     -999,9,     -999,9,     -999,9,     -999,9,     -999,9
320620180309  ,S04P       ,55      ,  1,20         ,20         ,2,20180410,2106, -66.9999,-167.5066,     3521,    808.0,1.1022972222222224836,34.724374643992256,2,  34.7213,2,196.44429253085099,2, 196.3004,2,    196.6,2,    110.0,2,    32.49,2,     0.00,2,     2.25,2,     -999,9,     -999,9,     -999,9,     -999,9,     -999,9,     -999,9,     -999,     -999,9,     -999,9,     -999,9,     -999,9,     -999,9,     -999,     -999,9,     -999,9,     -999,9,     -999,9,    0.062,1,    4.662,1,    0.139,1,     -999,9,     -999,9,20180410,2213, -66.9997,-167.5040,     -999,9,     -999,9,-999          ,9,     -999,9,     -999,9,     -999,     -999,9,     -999,     -999,9,     -999,9,     -999,9,     -999,9,     -999,9,     -999,9,     -999,9,     -999,9,     -999,9,     -999,9,     -999,9,     -999,9,     -999,9,     -999,9
320620180309  ,S04P       ,55      ,  1,19         ,19         ,2,20180410,2106, -66.9999,-167.5066,     3521,    910.2,1.0403361111111111281,34.722045616365492,2,  34.7215,2,198.17286080203266,2, 197.4109,2,    198.2,2,    112.2,2,    32.51,2,     0.00,2,     2.24,2,    0.189,2,    0.102,2,  -0.0100,2,   2262.8,2,  2360.69,2,   7.5920,2,    24.93,     -999,9,     -999,9,     -999,9,     -999,9,     -999,9,     -999,     -999,9,     -999,9,     -999,9,     -999,9,    0.061,1,    4.665,1,    0.136,1,  20.5000,2,     -999,9,20180410,2211, -66.9997,-167.5041,     -999,9,     -999,9,-999          ,9,     -999,9,     -999,9,     -999,     -999,9,     -999,     -999,9,     -999,9,     -999,9,     -999,9,     -999,9,     -999,9,     -999,9,     -999,9,     -999,9,     -999,9,     -999,9,     -999,9,     -999,9,     -999,9
320620180309  ,S04P       ,55      ,  1,18         ,18         ,2,20180410,2106, -66.9999,-167.5066,     3521,   1010.6,0.9743972222222223589,34.719472854694281,2,  34.7172,2,199.64449404775507,2, 198.8985,2,    199.4,2,    114.3,2,    32.51,2,     0.00,2,     2.23,2,     -999,9,     -999,9,     -999,9,   2262.0,2,  2361.47,2,   7.5950,2,    24.92,     -999,9,     -999,9,     -999,9,     -999,9,     -999,9,     -999,     -999,9,     -999,9,     -999,9,     -999,9,    0.061,1,    4.665,1,    0.133,1,     -999,9,     -999,9,20180410,2208, -66.9997,-167.5044,     -999,9,     -999,9,-999          ,9,     -999,9,     -999,9,     -999,     -999,9,     -999,     -999,9,     -999,9,     -999,9,     -999,9,     -999,9,     -999,9,     -999,9,     -999,9,     -999,9,     -999,9,     -999,9,     -999,9,     -999,9,     -999,9
320620180309  ,S04P       ,55      ,  1,17         ,17         ,2,20180410,2106, -66.9999,-167.5066,     3521,   1112.7,0.9084138888888888541,34.717029516494684,2,  34.7149,2,200.76818887907888,2, 200.3956,2,    200.5,2,    116.8,2,    32.58,2,     0.00,2,     2.25,2,     -999,9,     -999,9,     -999,9,     -999,9,     -999,9,     -999,9,     -999,     -999,9,     -999,9,     -999,9,     -999,9,     -999,9,     -999,     -999,9,     -999,9,     -999,9,     -999,9,    0.061,1,    4.667,1,    0.142,1,     -999,9,     -999,9,20180410,2205, -66.9997,-167.5046,     -999,9,     -999,9,-999          ,9,     -999,9,     -999,9,     -999,     -999,9,     -999,     -999,9,     -999,9,     -999,9,     -999,9,     -999,9,     -999,9,     -999,9,     -999,9,     -999,9,     -999,9,     -999,9,     -999,9,     -999,9,     -999,9
320620180309  ,S04P       ,55      ,  1,16         ,16         ,2,20180410,2106, -66.9999,-167.5066,     3521,   1213.4,0.8506111111111112066,34.714462533191750,2,  34.7129,2,201.98280469976484,2, 201.5992,2,    201.9,2,    118.6,2,    32.60,2,     0.00,2,     2.25,2,    0.186,2,    0.100,2,  -0.0300,2,   2264.1,2,  2363.31,2,   7.5911,2,    24.92,     -999,9,     -999,9,     -999,9,     -999,9,     -999,9,     -999,     -999,9,     -999,9,     -999,9,     -999,9,    0.061,1,    4.667,1,    0.130,1,  20.5000,2,     -999,9,20180410,2202, -66.9998,-167.5049,     -999,9,     -999,9,-999          ,9,     -999,9,     -999,9,     -999,     -999,9,     -999,     -999,9,     -999,9,     -999,9,     -999,9,     -999,9,     -999,9,     -999,9,     -999,9,     -999,9,     -999,9,     -999,9,     -999,9,     -999,9,     -999,9