BOTTLE,20240515CCHHYDRO
EXPOCODE,SECT_ID,STNNBR,CASTNO,SAMPNO,BTLNBR,BTLNBR_FLAG_W,DATE,TIME,LATITUDE,LONGITUDE,DEPTH,CTDPRS,CTDTMP,CTDSAL,CTDSAL_FLAG_W,SALNTY,SALNTY_FLAG_W,CTDOXY,CTDOXY_FLAG_W,CTDOPTOXY,CTDOPTOXY_FLAG_W,OXYGEN,OXYGEN_FLAG_W,SILCAT,SILCAT_FLAG_W,NITRAT,NITRAT_FLAG_W,NITRIT,NITRIT_FLAG_W,PHSPHT,PHSPHT_FLAG_W,CFC-11,CFC-11_FLAG_W,CFC-12,CFC-12_FLAG_W,SF6,SF6_FLAG_W,TCARBN,TCARBN_FLAG_W,ALKALI,ALKALI_FLAG_W,PH_TOT,PH_TOT_FLAG_W,PH_TMP,DOC,DOC_FLAG_W,HELIUM,HELIUM_FLAG_W,REFTMP,REFTMP_FLAG_W,DELC13,DELC13_FLAG_W,DELC14,DELC14_FLAG_W,C14ERR,POC,POC_FLAG_W,TDN,TDN_FLAG_W,TON,TON_FLAG_W,NEON,NEON_FLAG_W,CTDFLUOR,CTDFLUOR_FLAG_W,CTDXMISS,CTDXMISS_FLAG_W,CTDBETA700,CTDBETA700_FLAG_W,N2O,N2O_FLAG_W,ARGON,ARGON_FLAG_W,BTL_DATE,BTL_TIME,BTL_LAT,BTL_LON,KRYPTON,KRYPTON_FLAG_W,XENON,XENON_FLAG_W,HPLC,HPLC_FLAG_W,HE3_HE4_RATIO,HE3_HE4_RATIO_FLAG_W,Nd_143_144_D_EPSILON_BOTTLE,Nd_143_144_D_EPSILON_BOTTLE_FLAG_W,Nd_143_144_D_EPSILON_BOTTLE_ERROR,Nd_143_144_D_RATIO_BOTTLE,Nd_143_144_D_RATIO_BOTTLE_FLAG_W,Nd_143_144_D_RATIO_BOTTLE_ERROR,Nd_D_CONC,Nd_D_CONC_FLAG_W,La_D_CONC_BOTTLE,La_D_CONC_BOTTLE_FLAG_W,Ce_D_CONC_BOTTLE,Ce_D_CONC_BOTTLE_FLAG_W,Pr_D_CONC_BOTTLE,Pr_D_CONC_BOTTLE_FLAG_W,Sm_D_CONC_BOTTLE,Sm_D_CONC_BOTTLE_FLAG_W,Eu_D_CONC_BOTTLE,Eu_D_CONC_BOTTLE_FLAG_W,Gd_D_CONC_BOTTLE,Gd_D_CONC_BOTTLE_FLAG_W,Tb_D_CONC_BOTTLE,Tb_D_CONC_BOTTLE_FLAG_W,Dy_D_CONC_BOTTLE,Dy_D_CONC_BOTTLE_FLAG_W,Ho_D_CONC_BOTTLE,Ho_D_CONC_BOTTLE_FLAG_W,Er_D_CONC_BOTTLE,Er_D_CONC_BOTTLE_FLAG_W,Tm_D_CONC_BOTTLE,Tm_D_CONC_BOTTLE_FLAG_W,Yb_D_CONC_BOTTLE,Yb_D_CONC_BOTTLE_FLAG_W,Lu_D_CONC_BOTTLE,Lu_D_CONC_BOTTLE_FLAG_W
,,,,,,,,,,,METERS,DBAR,ITS-90,PSS-78,,PSS-78,,UMOL/KG,,UMOL/KG,,UMOL/KG,,UMOL/KG,,UMOL/KG,,UMOL/KG,,UMOL/KG,,PMOL/KG,,PMOL/KG,,FMOL/KG,,UMOL/KG,,UMOL/KG,,,,DEG C,UMOL/KG,,NMOL/L,,DEG C,,/MILLE,,/MILLE,,/MILLE,UG/KG,,UMOL/KG,,UMOL/KG,,NMOL/L,,VOLTS,,VOLTS,,VOLTS,,NMOL/KG,,UMOL/L,,,,,,NMOL/L,,NMOL/L,,,,,,10000,,10000,,,,PMOL/KG,,PMOL/L,,PMOL/L,,PMOL/L,,PMOL/L,,PMOL/L,,PMOL/L,,PMOL/L,,PMOL/L,,PMOL/L,,PMOL/L,,PMOL/L,,PMOL/L,,PMOL/L,
320620180309  ,S04P       ,84      ,  1,36         ,36         ,2,20180422,1837, -66.9997,-126.0017,     3659,      9.1,-1.5994694444444446102,33.653275710133052,2,  33.6542,2,351.15259872298981,2, 350.7051,2,    352.1,2,     35.0,2,    25.65,2,     0.23,2,     1.77,2,    5.958,2,    3.318,2,   3.8400,2,   2162.9,6,  2277.72,2,   7.6582,2,    24.89,     47.4,2,     -999,9,  -1.5999,2,1.40000000,2, -103.800,2,    0.002,     -999,9,    28.20,2,     -999,1,     -999,9,    0.265,1,    4.549,1,    0.240,1,  16.8600,2,     -999,9,20180422,2023, -67.0001,-126.0023,     -999,9,     -999,9,-999          ,9,     -999,9,     -999,9,     -999,     -999,9,     -999,     -999,9,     -999,9,     -999,9,     -999,9,     -999,9,     -999,9,     -999,9,     -999,9,     -999,9,     -999,9,     -999,9,     -999,9,     -999,9,     -999,9
320620180309  ,S04P       ,84      ,  1,35         ,35         ,2,20180422,1837, -66.9997,-126.0017,     3659,     19.6,-1.5987999999999997769,33.653336358554014,2,  33.6511,2,351.66106978259864,2, 350.6965,2,    350.6,2,     34.9,2,    25.59,2,     0.23,2,     1.76,2,    5.904,2,    3.304,2,   3.9400,2,   2161.6,2,  2277.20,2,   7.6584,2,    24.89,     46.1,2,     -999,9,  -1.5994,2,     -999,9,     -999,9,     -999,     -999,9,    28.70,2,     -999,1,     -999,9,    0.273,1,    4.551,1,    0.245,1,  16.5900,2,     -999,9,20180422,2022, -67.0001,-126.0022,     -999,9,     -999,9,-999          ,9,     -999,9,     -999,9,     -999,     -999,9,     -999,     -999,9,     -999,9,     -999,9,     -999,9,     -999,9,     -999,9,     -999,9,     -999,9,     -999,9,     -999,9,     -999,9,     -999,9,     -999,9,     -999,9
320620180309  ,S04P       ,84      ,  1,34         ,34         ,2,20180422,1837, -66.9997,-126.0017,     3659,     40.3,-1.5996888888888887159,33.653434014001526,2,  33.6509,2,352.65886587909228,2, 350.7044,2,    351.0,2,     34.9,2,    25.61,2,     0.23,2,     1.78,2,    5.881,6,    3.292,6,   3.8800,6,   2162.6,2,  2278.09,2,   7.6563,2,    24.89,     43.3,2,     -999,9,  -1.6001,2,     -999,9,     -999,9,     -999,     -999,9,    28.60,2,     -999,1,     -999,9,    0.291,1,    4.553,1,    0.266,1,  16.6100,6,     -999,9,20180422,2020, -67.0000,-126.0022,     -999,9,     -999,9,-999          ,9,     -999,9,     -999,9,     -999,     -999,9,     -999,     -999,9,     -999,9,     -999,9,     -999,9,     -999,9,     -999,9,     -999,9,     -999,9,     -999,9,     -999,9,     -999,9,     -999,9,     -999,9,     -999,9
320620180309  ,S04P       ,84      ,  1,33         ,33         ,2,20180422,1837, -66.9997,-126.0017,     3659,     64.9,-1.5966027777777778152,33.653957646783766,2,  33.6518,2,353.84385849876253,3, 350.7023,2,    350.3,2,     34.8,2,    25.62,2,     0.23,2,     1.78,2,     -999,9,     -999,9,     -999,9,   2163.1,2,  2278.42,2,   7.6592,2,    24.88,     43.1,2,     -999,9,  -1.5980,2,     -999,9,     -999,9,     -999,     -999,9,    28.60,2,     -999,1,     -999,9,    0.312,1,    4.556,1,    0.259,1,     -999,9,     -999,9,20180422,2019, -66.9999,-126.0021,     -999,9,     -999,9,-999          ,9,     -999,9,     -999,9,     -999,     -999,9,     -999,     -999,9,     -999,9,     -999,9,     -999,9,     -999,9,     -999,9,     -999,9,     -999,9,     -999,9,     -999,9,     -999,9,     -999,9,     -999,9,     -999,9
320620180309  ,S04P       ,84      ,  1,32         ,32         ,2,20180422,1837, -66.9997,-126.0017,     3659,     90.2,-1.5685611111111112947,33.701322623708137,3,  33.7433,2,348.06938793392436,3, 346.9987,3,    342.0,2,     39.2,2,    26.66,2,     0.21,2,     1.86,2,    5.672,2,    3.152,2,   3.8300,2,   2172.6,2,  2283.33,2,   7.6476,2,    24.90,     45.2,2,     -999,9,  -1.5605,2,1.24000000,2, -107.650,2,    0.002,     -999,9,    29.40,2,     -999,1,     -999,9,    0.302,1,    4.552,1,    0.259,1,  17.0600,2,     -999,9,20180422,2017, -66.9999,-126.0020,     -999,9,     -999,9,-999          ,9,     -999,9,     -999,9,     -999,     -999,9,     -999,     -999,9,     -999,9,     -999,9,     -999,9,     -999,9,     -999,9,     -999,9,     -999,9,     -999,9,     -999,9,     -999,9,     -999,9,     -999,9,     -999,9
320620180309  ,S04P       ,84      ,  1,31         ,31         ,2,20180422,1837, -66.9997,-126.0017,     3659,    115.9,-1.1741416666666666391,34.033061981503145,2,  34.0453,2,309.10610342310389,3, 301.8008,2,    302.3,2,     51.4,2,    30.07,2,     0.11,2,     2.06,2,    4.686,2,    2.616,2,   2.8700,2,   2201.4,2,  2299.46,2,   7.6053,2,    24.89,     -999,9,     -999,9,  -1.1750,2,     -999,9,     -999,9,     -999,     -999,9,     -999,9,     -999,9,     -999,9,    0.087,1,    4.627,1,    0.166,1,  18.7300,2,     -999,9,20180422,2015, -66.9999,-126.0021,     -999,9,     -999,9,-999          ,9,     -999,9,     -999,9,     -999,     -999,9,     -999,     -999,9,     -999,9,     -999,9,     -999,9,     -999,9,     -999,9,     -999,9,     -999,9,     -999,9,     -999,9,     -999,9,     -999,9,     -999,9,     -999,9
320620180309  ,S04P       ,84      ,  1,30         ,30         ,2,20180422,1837, -66.9997,-126.0017,     3659,    141.6,0.2738055555555555798,34.252099056751206,2,  34.2505,2,260.99089387430070,2, 259.8036,2,    258.4,2,     60.2,2,    32.60,2,     0.03,2,     2.22,2,     -999,9,     -999,9,     -999,9,   2223.3,2,  2312.81,2,   7.5761,2,    24.89,     42.0,2,     -999,9,   0.2917,2,     -999,9,     -999,9,     -999,     -999,9,    34.20,2,     -999,1,     -999,9,    0.077,1,    4.635,1,    0.151,1,     -999,9,     -999,9,20180422,2014, -66.9999,-126.0021,     -999,9,     -999,9,-999          ,9,     -999,9,     -999,9,     -999,     -999,9,     -999,     -999,9,     -999,9,     -999,9,     -999,9,     -999,9,     -999,9,     -999,9,     -999,9,     -999,9,     -999,9,     -999,9,     -999,9,     -999,9,     -999,9
320620180309  ,S04P       ,84      ,  1,29         ,29         ,2,20180422,1837, -66.9997,-126.0017,     3659,    187.4,1.4995722222222223063,34.484282968021525,2,  34.4840,2,202.28805373856198,2, 203.7983,3,    200.6,2,     73.3,2,    34.45,2,     0.01,2,     2.34,2,    1.845,2,    0.983,2,   0.9100,2,   2250.1,2,  2327.65,2,   7.5442,2,    24.88,     44.5,2,     -999,9,   1.4997,2,0.52000000,2, -133.190,2,    0.002,     -999,9,     -999,9,     -999,1,     -999,9,    0.076,1,    4.641,1,    0.152,1,  23.3600,2,     -999,9,20180422,2012, -67.0000,-126.0022,     -999,9,     -999,9,-999          ,9,     -999,9,     -999,9,     -999,     -999,9,     -999,     -999,9,     -999,9,     -999,9,     -999,9,     -999,9,     -999,9,     -999,9,     -999,9,     -999,9,     -999,9,     -999,9,     -999,9,     -999,9,     -999,9
320620180309  ,S04P       ,84      ,  1,28         ,28         ,2,20180422,1837, -66.9997,-126.0017,     3659,    236.1,1.7703694444444444400,34.555740602794195,2,  34.5564,2,190.31623890642746,3, 189.5026,2,    188.3,2,     76.4,2,    34.19,2,     0.00,2,     2.33,2,    1.253,2,    0.681,2,   0.5100,2,   2252.8,2,  2333.32,2,   7.5473,2,    24.88,     43.8,2,     -999,9,   1.7704,2,     -999,9,     -999,9,     -999,     -999,9,    36.90,2,     -999,1,     -999,9,    0.067,1,    4.648,1,    0.144,1,  22.6800,2,     -999,9,20180422,2010, -67.0001,-126.0022,     -999,9,     -999,9,-999          ,9,     -999,9,     -999,9,     -999,     -999,9,     -999,     -999,9,     -999,9,     -999,9,     -999,9,     -999,9,     -999,9,     -999,9,     -999,9,     -999,9,     -999,9,     -999,9,     -999,9,     -999,9,     -999,9
320620180309  ,S04P       ,84      ,  1,27         ,27         ,2,20180422,1837, -66.9997,-126.0017,     3659,    287.9,1.9169166666666666021,34.608772111478928,2,  34.6075,2,183.23980712652727,2, 183.5033,2,    181.9,2,     79.1,2,    33.77,2,     0.00,2,     2.28,2,    0.863,2,    0.463,2,   0.4100,2,   2255.8,2,  2338.91,2,   7.5544,2,    24.89,     43.2,2,     -999,9,   1.9160,2,0.50000000,2, -145.640,2,    0.002,     -999,9,    35.20,2,     -999,1,     -999,9,    0.065,1,    4.648,1,    0.144,1,  22.2100,2,     -999,9,20180422,2008, -67.0001,-126.0022,     -999,9,     -999,9,-999          ,9,     -999,9,     -999,9,     -999,     -999,9,     -999,     -999,9,     -999,9,     -999,9,     -999,9,     -999,9,     -999,9,     -999,9,     -999,9,     -999,9,     -999,9,     -999,9,     -999,9,     -999,9,     -999,9
320620180309  ,S04P       ,84      ,  1,26         ,38         ,2,20180422,1837, -66.9997,-126.0017,     3659,    338.3,1.9744333333333332625,34.641114441683698,2,  34.6466,2,180.76454486743549,2, 181.1029,2,    179.7,2,     80.8,2,    33.36,2,     0.00,2,     2.27,2,     -999,9,     -999,9,     -999,9,   2258.3,2,  2340.45,2,   7.5594,2,    24.87,     43.4,2,     -999,9,   1.9735,2,     -999,9,     -999,9,     -999,     -999,9,     -999,9,     -999,1,     -999,9,    0.065,1,    4.649,1,    0.143,1,     -999,9,     -999,9,20180422,2006, -67.0000,-126.0022,     -999,9,     -999,9,-999          ,9,     -999,9,     -999,9,     -999,     -999,9,     -999,     -999,9,     -999,9,     -999,9,     -999,9,     -999,9,     -999,9,     -999,9,     -999,9,     -999,9,     -999,9,     -999,9,     -999,9,     -999,9,     -999,9
320620180309  ,S04P       ,84      ,  1,25         ,25         ,2,20180422,1837, -66.9997,-126.0017,     3659,    388.9,1.9990916666666664891,34.664527818311967,2,  34.6642,2,179.67173161482839,2, 180.4016,2,    178.7,2,     82.3,2,    33.09,2,     0.00,2,     2.25,2,    0.508,2,    0.278,2,   0.1400,2,   2257.3,6,  2345.53,2,   7.5616,2,    24.89,     42.2,2,     -999,9,   1.9983,2,0.42000000,2, -144.730,2,    0.002,     -999,9,     -999,9,     -999,1,     -999,9,    0.063,1,    4.653,1,    0.138,1,  21.8600,2,     -999,9,20180422,2004, -67.0000,-126.0022,     -999,9,     -999,9,-999          ,9,     -999,9,     -999,9,     -999,     -999,9,     -999,     -999,9,     -999,9,     -999,9,     -999,9,     -999,9,     -999,9,     -999,9,     -999,9,     -999,9,     -999,9,     -999,9,     -999,9,     -999,9,     -999,9
320620180309  ,S04P       ,84      ,  1,24         ,24         ,2,20180422,1837, -66.9997,-126.0017,     3659,    439.4,2.0000999999999997669,34.683025277173130,2,  34.6856,2,179.94263100667629,2, 179.9997,2,    179.1,2,     83.9,2,    32.76,2,     0.00,2,     2.22,2,    0.411,2,    0.225,2,   0.1600,2,   2256.6,2,  2344.49,2,   7.5699,6,    24.90,     -999,9,     -999,9,   1.9993,2,     -999,9,     -999,9,     -999,     -999,9,     -999,9,     -999,9,     -999,9,    0.062,1,    4.654,1,    0.140,1,  21.5100,2,     -999,9,20180422,2002, -66.9999,-126.0021,     -999,9,     -999,9,-999          ,9,     -999,9,     -999,9,     -999,     -999,9,     -999,     -999,9,     -999,9,     -999,9,     -999,9,     -999,9,     -999,9,     -999,9,     -999,9,     -999,9,     -999,9,     -999,9,     -999,9,     -999,9,     -999,9
320620180309  ,S04P       ,84      ,  1,23         ,23         ,2,20180422,1837, -66.9997,-126.0017,     3659,    490.4,1.9857527777777777001,34.694273933166258,2,  34.6949,2,181.27521280947093,2, 180.6944,2,    180.7,2,     84.9,2,    32.52,2,     0.00,2,     2.18,2,     -999,9,     -999,9,     -999,9,   2259.0,2,  2346.91,2,   7.5772,2,    24.90,     39.2,2,     -999,9,   1.9849,2,0.41000000,2, -150.920,2,    0.002,     -999,9,     -999,9,     -999,1,     -999,9,    0.062,1,    4.652,1,    0.140,1,     -999,9,     -999,9,20180422,2000, -66.9999,-126.0021,     -999,9,     -999,9,-999          ,9,     -999,9,     -999,9,     -999,     -999,9,     -999,     -999,9,     -999,9,     -999,9,     -999,9,     -999,9,     -999,9,     -999,9,     -999,9,     -999,9,     -999,9,     -999,9,     -999,9,     -999,9,     -999,9
320620180309  ,S04P       ,84      ,  1,22         ,37         ,2,20180422,1837, -66.9997,-126.0017,     3659,    570.9,1.9206638888888885042,34.707998359877742,2,  34.7080,2,183.03349143667370,2, 182.5941,2,    182.6,2,     87.0,2,    32.24,2,     0.00,2,     2.18,2,    0.316,2,    0.172,2,   0.1000,2,   2257.5,2,  2347.83,2,   7.5791,2,    24.91,     41.9,2,     -999,9,   1.9196,2,0.43000000,2, -150.910,2,    0.002,     -999,9,     -999,9,     -999,1,     -999,9,    0.062,1,    4.654,1,    0.165,1,  20.9100,2,     -999,9,20180422,1957, -66.9999,-126.0021,     -999,9,     -999,9,-999          ,9,     -999,9,     -999,9,     -999,     -999,9,     -999,     -999,9,     -999,9,     -999,9,     -999,9,     -999,9,     -999,9,     -999,9,     -999,9,     -999,9,     -999,9,     -999,9,     -999,9,     -999,9,     -999,9
320620180309  ,S04P       ,84      ,  1,21         ,21         ,2,20180422,1837, -66.9997,-126.0017,     3659,    671.6,1.8478944444444442841,34.720685948538971,2,  34.7206,2,186.00665477043452,2, 185.4004,2,    185.7,2,     89.3,2,    31.88,2,     0.00,2,     2.17,2,    0.260,2,    0.140,2,   0.1300,2,   2257.7,2,  2351.03,2,   7.5831,2,    24.89,     40.6,2,     -999,9,   1.8486,2,0.42000000,2, -151.710,2,    0.002,     -999,9,     -999,9,     -999,1,     -999,9,    0.062,1,    4.654,1,    0.139,1,  20.9000,2,     -999,9,20180422,1954, -67.0000,-126.0022,     -999,9,     -999,9,-999          ,9,     -999,9,     -999,9,     -999,     -999,9,     -999,     -999,9,     -999,9,     -999,9,     -999,9,     -999,9,     -999,9,     -999,9,     -999,9,     -999,9,     -999,9,     -999,9,     -999,9,     -999,9,     -999,9
320620180309  ,S04P       ,84      ,  1,20         ,20         ,2,20180422,1837, -66.9997,-126.0017,     3659,    773.1,1.7603722222222217830,34.726994649272633,2,  34.7304,2,188.14532968947512,2, 187.3993,2,    188.5,2,     91.7,2,    31.67,2,     0.00,2,     2.17,2,     -999,9,     -999,9,     -999,9,   2256.2,2,  2351.84,2,   7.5909,2,    24.89,     43.4,2,     -999,9,   1.7599,2,0.39000000,2, -154.210,2,    0.002,     -999,9,     -999,9,     -999,1,     -999,9,    0.062,1,    4.654,1,    0.146,1,     -999,9,     -999,9,20180422,1951, -67.0001,-126.0023,     -999,9,     -999,9,-999          ,9,     -999,9,     -999,9,     -999,     -999,9,     -999,     -999,9,     -999,9,     -999,9,     -999,9,     -999,9,     -999,9,     -999,9,     -999,9,     -999,9,     -999,9,     -999,9,     -999,9,     -999,9,     -999,9
320620180309  ,S04P       ,84      ,  1,19         ,19         ,2,20180422,1837, -66.9997,-126.0017,     3659,    875.6,1.6603805555555557483,34.730761828087395,2,  34.7314,2,190.51117371261256,2, 190.0020,2,    190.3,2,     94.3,2,    31.55,2,     0.00,2,     2.16,2,    0.215,2,    0.119,2,   0.0100,2,   2257.9,2,  2353.11,2,   7.5944,2,    24.90,     41.6,2,     -999,9,   1.6596,2,0.43000000,2, -156.370,2,    0.002,     -999,9,     -999,9,     -999,1,     -999,9,    0.062,1,    4.654,1,    0.134,1,  19.9400,2,     -999,9,20180422,1948, -67.0002,-126.0023,     -999,9,     -999,9,-999          ,9,     -999,9,     -999,9,     -999,     -999,9,     -999,     -999,9,     -999,9,     -999,9,     -999,9,     -999,9,     -999,9,     -999,9,     -999,9,     -999,9,     -999,9,     -999,9,     -999,9,     -999,9,     -999,9
320620180309  ,S04P       ,84      ,  1,18         ,18         ,2,20180422,1837, -66.9997,-126.0017,     3659,    976.3,1.5750555555555554310,34.732145369847842,2,  34.7319,2,191.67554784060093,2, 191.2957,2,    191.9,2,     96.7,2,    31.57,2,     0.00,2,     2.16,2,     -999,9,     -999,9,     -999,9,   2258.6,2,  2357.39,2,   7.5967,2,    24.89,     39.4,2,     -999,9,   1.5740,2,0.43000000,2, -156.480,2,    0.002,     -999,9,     -999,9,     -999,1,     -999,9,    0.063,1,    4.655,1,    0.136,1,     -999,9,     -999,9,20180422,1945, -67.0000,-126.0021,     -999,9,     -999,9,-999          ,9,     -999,9,     -999,9,     -999,     -999,9,     -999,     -999,9,     -999,9,     -999,9,     -999,9,     -999,9,     -999,9,     -999,9,     -999,9,     -999,9,     -999,9,     -999,9,     -999,9,     -999,9,     -999,9
320620180309  ,S04P       ,84      ,  1,17         ,17         ,2,20180422,1837, -66.9997,-126.0017,     3659,   1078.3,1.4779361111111113392,34.731503232497033,2,  34.7312,2,192.51334544526961,2, 192.8017,2,    192.8,2,     99.9,2,    31.68,2,     0.00,2,     2.15,2,    0.186,2,    0.097,2,   0.0100,2,   2259.5,2,  2358.85,2,   7.5957,2,    24.89,     42.7,2,     -999,9,   1.4769,2,0.41000000,2, -154.100,2,    0.002,     -999,9,     -999,9,     -999,1,     -999,9,    0.061,1,    4.654,1,    0.132,1,  19.8000,2,     -999,9,20180422,1942, -66.9998,-126.0019,     -999,9,     -999,9,-999          ,9,     -999,9,     -999,9,     -999,     -999,9,     -999,     -999,9,     -999,9,     -999,9,     -999,9,     -999,9,     -999,9,     -999,9,     -999,9,     -999,9,     -999,9,     -999,9,     -999,9,     -999,9,     -999,9
320620180309  ,S04P       ,84      ,  1,16         ,16         ,2,20180422,1837, -66.9997,-126.0017,     3659,   1179.7,1.3933055555555555749,34.730289203608351,2,  34.7308,2,193.92632056805812,2, 193.9939,2,    194.3,2,    102.8,2,    31.75,2,     0.00,2,     2.15,2,    0.178,2,    0.087,2,   0.0900,2,   2259.4,2,  2357.85,2,   7.5969,2,    24.89,     41.5,2,     -999,9,   1.3940,2,0.44000000,2, -155.990,2,    0.002,     -999,9,     -999,9,     -999,1,     -999,9,    0.061,1,    4.654,1,    0.133,1,  19.5600,2,     -999,9,20180422,1939, -66.9998,-126.0019,     -999,9,     -999,9,-999          ,9,     -999,9,     -999,9,     -999,     -999,9,     -999,     -999,9,     -999,9,     -999,9,     -999,9,     -999,9,     -999,9,     -999,9,     -999,9,     -999,9,     -999,9,     -999,9,     -999,9,     -999,9,     -999,9