BOTTLE,20240515CCHHYDRO
EXPOCODE,SECT_ID,STNNBR,CASTNO,SAMPNO,BTLNBR,BTLNBR_FLAG_W,DATE,TIME,LATITUDE,LONGITUDE,DEPTH,CTDPRS,CTDTMP,CTDSAL,CTDSAL_FLAG_W,SALNTY,SALNTY_FLAG_W,CTDOXY,CTDOXY_FLAG_W,CTDOPTOXY,CTDOPTOXY_FLAG_W,OXYGEN,OXYGEN_FLAG_W,SILCAT,SILCAT_FLAG_W,NITRAT,NITRAT_FLAG_W,NITRIT,NITRIT_FLAG_W,PHSPHT,PHSPHT_FLAG_W,CFC-11,CFC-11_FLAG_W,CFC-12,CFC-12_FLAG_W,SF6,SF6_FLAG_W,TCARBN,TCARBN_FLAG_W,ALKALI,ALKALI_FLAG_W,PH_TOT,PH_TOT_FLAG_W,PH_TMP,DOC,DOC_FLAG_W,HELIUM,HELIUM_FLAG_W,REFTMP,REFTMP_FLAG_W,DELC13,DELC13_FLAG_W,DELC14,DELC14_FLAG_W,C14ERR,POC,POC_FLAG_W,TDN,TDN_FLAG_W,TON,TON_FLAG_W,NEON,NEON_FLAG_W,CTDFLUOR,CTDFLUOR_FLAG_W,CTDXMISS,CTDXMISS_FLAG_W,CTDBETA700,CTDBETA700_FLAG_W,N2O,N2O_FLAG_W,ARGON,ARGON_FLAG_W,BTL_DATE,BTL_TIME,BTL_LAT,BTL_LON,KRYPTON,KRYPTON_FLAG_W,XENON,XENON_FLAG_W,HPLC,HPLC_FLAG_W,HE3_HE4_RATIO,HE3_HE4_RATIO_FLAG_W,Nd_143_144_D_EPSILON_BOTTLE,Nd_143_144_D_EPSILON_BOTTLE_FLAG_W,Nd_143_144_D_EPSILON_BOTTLE_ERROR,Nd_143_144_D_RATIO_BOTTLE,Nd_143_144_D_RATIO_BOTTLE_FLAG_W,Nd_143_144_D_RATIO_BOTTLE_ERROR,Nd_D_CONC,Nd_D_CONC_FLAG_W,La_D_CONC_BOTTLE,La_D_CONC_BOTTLE_FLAG_W,Ce_D_CONC_BOTTLE,Ce_D_CONC_BOTTLE_FLAG_W,Pr_D_CONC_BOTTLE,Pr_D_CONC_BOTTLE_FLAG_W,Sm_D_CONC_BOTTLE,Sm_D_CONC_BOTTLE_FLAG_W,Eu_D_CONC_BOTTLE,Eu_D_CONC_BOTTLE_FLAG_W,Gd_D_CONC_BOTTLE,Gd_D_CONC_BOTTLE_FLAG_W,Tb_D_CONC_BOTTLE,Tb_D_CONC_BOTTLE_FLAG_W,Dy_D_CONC_BOTTLE,Dy_D_CONC_BOTTLE_FLAG_W,Ho_D_CONC_BOTTLE,Ho_D_CONC_BOTTLE_FLAG_W,Er_D_CONC_BOTTLE,Er_D_CONC_BOTTLE_FLAG_W,Tm_D_CONC_BOTTLE,Tm_D_CONC_BOTTLE_FLAG_W,Yb_D_CONC_BOTTLE,Yb_D_CONC_BOTTLE_FLAG_W,Lu_D_CONC_BOTTLE,Lu_D_CONC_BOTTLE_FLAG_W
,,,,,,,,,,,METERS,DBAR,ITS-90,PSS-78,,PSS-78,,UMOL/KG,,UMOL/KG,,UMOL/KG,,UMOL/KG,,UMOL/KG,,UMOL/KG,,UMOL/KG,,PMOL/KG,,PMOL/KG,,FMOL/KG,,UMOL/KG,,UMOL/KG,,,,DEG C,UMOL/KG,,NMOL/L,,DEG C,,/MILLE,,/MILLE,,/MILLE,UG/KG,,UMOL/KG,,UMOL/KG,,NMOL/L,,VOLTS,,VOLTS,,VOLTS,,NMOL/KG,,UMOL/L,,,,,,NMOL/L,,NMOL/L,,,,,,10000,,10000,,,,PMOL/KG,,PMOL/L,,PMOL/L,,PMOL/L,,PMOL/L,,PMOL/L,,PMOL/L,,PMOL/L,,PMOL/L,,PMOL/L,,PMOL/L,,PMOL/L,,PMOL/L,,PMOL/L,
320620180309  ,S04P       ,25      ,  1,15         ,15         ,2,20180327,1823, -67.0003,-178.0182,     3997,   1280.6,0.9173361111111110189,34.716600518033459,2,  34.7172,2,199.18389879216332,2, 198.1020,2,    199.2,2,    118.2,2,    32.26,2,     0.00,2,     2.23,2,     -999,9,     -999,9,     -999,9,     -999,9,     -999,9,     -999,9,     -999,     -999,9,     -999,9,   0.9169,2,     -999,9,     -999,9,     -999,     -999,9,     -999,9,     -999,9,     -999,9,    0.061,1,    4.679,1,    0.128,1,     -999,9,     -999,9,20180327,1947, -66.9996,-178.0209,     -999,9,     -999,9,-999          ,9,     -999,9,     -999,9,     -999,     -999,9,     -999,     -999,9,     -999,9,     -999,9,     -999,9,     -999,9,     -999,9,     -999,9,     -999,9,     -999,9,     -999,9,     -999,9,     -999,9,     -999,9,     -999,9
320620180309  ,S04P       ,25      ,  1,14         ,14         ,2,20180327,1823, -67.0003,-178.0182,     3997,   1381.9,0.8676611111111109942,34.714655751045193,2,  34.7157,2,200.53773935686448,2, 199.6016,2,    200.5,2,    119.9,2,    32.26,2,     0.00,2,     2.23,2,     -999,9,     -999,9,     -999,9,   2263.2,2,  2362.73,2,   7.5947,2,    24.95,     -999,9,     -999,9,   0.8671,2,     -999,9,     -999,9,     -999,     -999,9,     -999,9,     -999,9,     -999,9,    0.061,1,    4.679,1,    0.128,1,     -999,9,     -999,9,20180327,1943, -66.9995,-178.0213,     -999,9,     -999,9,-999          ,9,     -999,9,     -999,9,     -999,     -999,9,     -999,     -999,9,     -999,9,     -999,9,     -999,9,     -999,9,     -999,9,     -999,9,     -999,9,     -999,9,     -999,9,     -999,9,     -999,9,     -999,9,     -999,9
320620180309  ,S04P       ,25      ,  1,13         ,13         ,2,20180327,1823, -67.0003,-178.0182,     3997,   1483.9,0.8198333333333334139,34.712491170922164,2,  34.7145,2,201.89414904978736,2, 200.7061,2,    201.5,2,    121.2,2,    32.29,2,     0.00,2,     2.24,2,     -999,9,     -999,9,     -999,9,     -999,9,     -999,9,     -999,9,     -999,     -999,9,     -999,9,   0.8189,2,     -999,9,     -999,9,     -999,     -999,9,     -999,9,     -999,9,     -999,9,    0.062,1,    4.680,1,    0.127,1,     -999,9,     -999,9,20180327,1924, -66.9998,-178.0193,     -999,9,     -999,9,-999          ,9,     -999,9,     -999,9,     -999,     -999,9,     -999,     -999,9,     -999,9,     -999,9,     -999,9,     -999,9,     -999,9,     -999,9,     -999,9,     -999,9,     -999,9,     -999,9,     -999,9,     -999,9,     -999,9
320620180309  ,S04P       ,25      ,  1,12         ,12         ,2,20180327,1823, -67.0003,-178.0182,     3997,   1585.4,0.7770694444444444793,34.710904124397764,2,  34.7119,2,202.61222521267132,2, 201.3019,2,    202.6,2,    122.4,2,    32.29,2,     0.00,2,     2.24,2,    0.119,2,    0.093,2,   0.0200,2,   2264.0,2,  2364.03,2,   7.5961,2,    24.95,     -999,9,     -999,9,   0.7763,2,     -999,9,     -999,9,     -999,     -999,9,     -999,9,     -999,9,     -999,9,    0.062,1,    4.679,1,    0.126,1,  20.1000,2,     -999,9,20180327,1921, -67.0001,-178.0188,     -999,9,     -999,9,-999          ,9,     -999,9,     -999,9,     -999,     -999,9,     -999,     -999,9,     -999,9,     -999,9,     -999,9,     -999,9,     -999,9,     -999,9,     -999,9,     -999,9,     -999,9,     -999,9,     -999,9,     -999,9,     -999,9
320620180309  ,S04P       ,25      ,  1,11         ,11         ,2,20180327,1823, -67.0003,-178.0182,     3997,   1687.5,0.7426194444444444986,34.709698623037845,2,  34.7104,2,203.61493317486568,2, 202.2972,2,    203.5,2,    123.6,2,    32.35,2,     0.00,2,     2.26,2,     -999,9,     -999,9,     -999,9,     -999,9,     -999,9,     -999,9,     -999,     -999,9,     -999,9,   0.7420,2,     -999,9,     -999,9,     -999,     -999,9,     -999,9,     -999,9,     -999,9,    0.060,1,    4.679,1,    0.126,1,     -999,9,     -999,9,20180327,1918, -67.0003,-178.0182,     -999,9,     -999,9,-999          ,9,     -999,9,     -999,9,     -999,     -999,9,     -999,     -999,9,     -999,9,     -999,9,     -999,9,     -999,9,     -999,9,     -999,9,     -999,9,     -999,9,     -999,9,     -999,9,     -999,9,     -999,9,     -999,9
320620180309  ,S04P       ,25      ,  1,10         ,10         ,2,20180327,1823, -67.0003,-178.0182,     3997,   1788.8,0.7018638888888888427,34.708444508698769,2,  34.7088,2,204.13076588229194,2, 203.8014,2,    204.1,2,    125.4,2,    32.38,2,     0.00,2,     2.26,2,    0.134,2,    0.097,2,   0.0000,2,   2263.7,2,  2362.11,2,   7.5957,2,    24.94,     -999,9,     -999,9,   0.7011,2,     -999,9,     -999,9,     -999,     -999,9,     -999,9,     -999,9,     -999,9,    0.061,1,    4.679,1,    0.127,1,  19.9800,2,     -999,9,20180327,1915, -67.0005,-178.0177,     -999,9,     -999,9,-999          ,9,     -999,9,     -999,9,     -999,     -999,9,     -999,     -999,9,     -999,9,     -999,9,     -999,9,     -999,9,     -999,9,     -999,9,     -999,9,     -999,9,     -999,9,     -999,9,     -999,9,     -999,9,     -999,9
320620180309  ,S04P       ,25      ,  1,9          ,9          ,2,20180327,1823, -67.0003,-178.0182,     3997,   1962.0,0.6448305555555555735,34.706393423542103,2,  34.7074,2,205.59012281441974,2, 205.9017,2,    205.9,2,    126.7,2,    32.47,2,     0.00,2,     2.25,2,     -999,9,     -999,9,     -999,9,     -999,9,     -999,9,     -999,9,     -999,     -999,9,     -999,9,   0.6443,2,     -999,9,     -999,9,     -999,     -999,9,     -999,9,     -999,9,     -999,9,    0.061,1,    4.679,1,    0.127,1,     -999,9,     -999,9,20180327,1911, -67.0005,-178.0176,     -999,9,     -999,9,-999          ,9,     -999,9,     -999,9,     -999,     -999,9,     -999,     -999,9,     -999,9,     -999,9,     -999,9,     -999,9,     -999,9,     -999,9,     -999,9,     -999,9,     -999,9,     -999,9,     -999,9,     -999,9,     -999,9
320620180309  ,S04P       ,25      ,  1,8          ,8          ,2,20180327,1823, -67.0003,-178.0182,     3997,   2197.3,0.5671527777777778390,34.705006092285380,2,  34.7054,2,207.26049060884750,2, 208.5029,2,    207.6,2,    128.6,2,    32.55,2,     0.00,2,     2.26,2,    0.153,2,    0.107,2,   0.1600,2,   2263.1,2,  2363.28,2,   7.5960,2,    24.95,     -999,9,     -999,9,   0.5664,2,     -999,9,     -999,9,     -999,     -999,9,     -999,9,     -999,9,     -999,9,    0.061,1,    4.679,1,    0.125,1,  19.4500,2,     -999,9,20180327,1905, -67.0003,-178.0177,     -999,9,     -999,9,-999          ,9,     -999,9,     -999,9,     -999,     -999,9,     -999,     -999,9,     -999,9,     -999,9,     -999,9,     -999,9,     -999,9,     -999,9,     -999,9,     -999,9,     -999,9,     -999,9,     -999,9,     -999,9,     -999,9
320620180309  ,S04P       ,25      ,  1,7          ,7          ,2,20180327,1823, -67.0003,-178.0182,     3997,   2451.4,0.4853499999999998926,34.702896041441413,3,  34.7060,2,208.96544663702741,2, 210.0957,2,    209.7,2,    130.2,2,    32.63,2,     0.00,2,     2.26,2,     -999,9,     -999,9,     -999,9,     -999,9,     -999,9,     -999,9,     -999,     -999,9,     -999,9,   0.4848,2,     -999,9,     -999,9,     -999,     -999,9,     -999,9,     -999,9,     -999,9,    0.061,1,    4.679,1,    0.127,1,     -999,9,     -999,9,20180327,1900, -67.0001,-178.0186,     -999,9,     -999,9,-999          ,9,     -999,9,     -999,9,     -999,     -999,9,     -999,     -999,9,     -999,9,     -999,9,     -999,9,     -999,9,     -999,9,     -999,9,     -999,9,     -999,9,     -999,9,     -999,9,     -999,9,     -999,9,     -999,9
320620180309  ,S04P       ,25      ,  1,6          ,6          ,2,20180327,1823, -67.0003,-178.0182,     3997,   2707.9,0.4221472222222222848,34.701790639376519,2,  34.7027,2,211.09433914848276,2, 213.7010,2,    211.6,2,    131.2,2,    32.67,2,     0.00,2,     2.27,2,     -999,9,     -999,9,     -999,9,     -999,9,     -999,9,     -999,9,     -999,     -999,9,     -999,9,   0.4212,2,     -999,9,     -999,9,     -999,     -999,9,     -999,9,     -999,9,     -999,9,    0.061,1,    4.679,1,    0.126,1,     -999,9,     -999,9,20180327,1854, -66.9999,-178.0198,     -999,9,     -999,9,-999          ,9,     -999,9,     -999,9,     -999,     -999,9,     -999,     -999,9,     -999,9,     -999,9,     -999,9,     -999,9,     -999,9,     -999,9,     -999,9,     -999,9,     -999,9,     -999,9,     -999,9,     -999,9,     -999,9
320620180309  ,S04P       ,25      ,  1,5          ,5          ,2,20180327,1823, -67.0003,-178.0182,     3997,   2964.0,0.3476944444444444171,34.697908280848416,2,  34.6980,2,214.19306431812277,2, 214.7986,2,    214.2,2,    130.3,2,    32.66,2,     0.00,2,     2.26,2,     -999,9,     -999,9,     -999,9,   2263.2,2,  2362.73,2,   7.5930,6,    24.93,     -999,9,     -999,9,   0.3474,2,     -999,9,     -999,9,     -999,     -999,9,     -999,9,     -999,9,     -999,9,    0.061,1,    4.677,1,    0.126,1,     -999,9,     -999,9,20180327,1848, -66.9998,-178.0197,     -999,9,     -999,9,-999          ,9,     -999,9,     -999,9,     -999,     -999,9,     -999,     -999,9,     -999,9,     -999,9,     -999,9,     -999,9,     -999,9,     -999,9,     -999,9,     -999,9,     -999,9,     -999,9,     -999,9,     -999,9,     -999,9
320620180309  ,S04P       ,25      ,  1,4          ,4          ,2,20180327,1823, -67.0003,-178.0182,     3997,   3256.3,0.3020027777777777866,34.697808573915893,2,  34.6988,2,216.31155045210787,2, 220.8945,3,    215.9,2,    131.2,2,    32.65,2,     0.00,2,     2.27,2,    0.493,2,    0.287,2,   0.2500,2,   2263.8,2,  2364.92,2,   7.5940,2,    24.94,     -999,9,     -999,9,   0.3011,2,     -999,9,     -999,9,     -999,     -999,9,     -999,9,     -999,9,     -999,9,    0.061,1,    4.677,1,    0.127,1,  20.2800,2,     -999,9,20180327,1842, -66.9999,-178.0192,     -999,9,     -999,9,-999          ,9,     -999,9,     -999,9,     -999,     -999,9,     -999,     -999,9,     -999,9,     -999,9,     -999,9,     -999,9,     -999,9,     -999,9,     -999,9,     -999,9,     -999,9,     -999,9,     -999,9,     -999,9,     -999,9
320620180309  ,S04P       ,25      ,  1,3          ,3          ,2,20180327,1823, -67.0003,-178.0182,     3997,   3564.4,0.2205805555555555852,34.690454283995997,2,  34.6911,2,220.41519969531032,2, 221.0976,2,    220.9,2,    125.4,2,    32.52,2,     0.00,2,     2.25,2,     -999,9,     -999,9,     -999,9,   2263.7,2,  2362.53,2,   7.5970,2,    24.93,     -999,9,     -999,9,   0.2201,2,     -999,9,     -999,9,     -999,     -999,9,     -999,9,     -999,9,     -999,9,    0.060,1,    4.676,1,    0.126,1,     -999,9,     -999,9,20180327,1835, -67.0003,-178.0181,     -999,9,     -999,9,-999          ,9,     -999,9,     -999,9,     -999,     -999,9,     -999,     -999,9,     -999,9,     -999,9,     -999,9,     -999,9,     -999,9,     -999,9,     -999,9,     -999,9,     -999,9,     -999,9,     -999,9,     -999,9,     -999,9
320620180309  ,S04P       ,25      ,  1,2          ,2          ,2,20180327,1823, -67.0003,-178.0182,     3997,   3810.2,0.1840361111111110670,34.689117083146257,3,  34.6929,2,222.52645542031991,2, 222.1006,2,    222.2,2,    121.7,2,    32.48,2,     0.00,2,     2.25,2,    1.055,2,    0.589,2,   0.5900,2,   2262.3,2,  2360.74,2,   7.5894,2,    24.93,     -999,9,     -999,9,   0.1837,2,     -999,9,     -999,9,     -999,     -999,9,     -999,9,     -999,9,     -999,9,    0.062,1,    4.674,1,    0.130,1,  19.8900,2,     -999,9,20180327,1829, -67.0002,-178.0184,     -999,9,     -999,9,-999          ,9,     -999,9,     -999,9,     -999,     -999,9,     -999,     -999,9,     -999,9,     -999,9,     -999,9,     -999,9,     -999,9,     -999,9,     -999,9,     -999,9,     -999,9,     -999,9,     -999,9,     -999,9,     -999,9
320620180309  ,S04P       ,25      ,  1,1          ,1          ,2,20180327,1823, -67.0003,-178.0182,     3997,   4065.9,0.1581250000000000155,34.686537641932510,2,  34.6876,2,224.87076839273499,2, 222.1000,2,    224.0,2,    118.8,2,    32.40,2,     0.00,2,     2.25,2,    1.253,2,    0.692,2,   0.5700,2,   2262.4,6,  2361.48,2,   7.5884,2,    24.94,     -999,9,     -999,9,   0.1576,2,     -999,9,     -999,9,     -999,     -999,9,     -999,9,     -999,9,     -999,9,    0.061,1,    4.670,1,    0.139,1,  19.4000,2,     -999,9,20180327,1823, -67.0003,-178.0182,     -999,9,     -999,9,-999          ,9,     -999,9,     -999,9,     -999,     -999,9,     -999,     -999,9,     -999,9,     -999,9,     -999,9,     -999,9,     -999,9,     -999,9,     -999,9,     -999,9,     -999,9,     -999,9,     -999,9,     -999,9,     -999,9