BOTTLE,20240515CCHHYDRO
EXPOCODE,SECT_ID,STNNBR,CASTNO,SAMPNO,BTLNBR,BTLNBR_FLAG_W,DATE,TIME,LATITUDE,LONGITUDE,DEPTH,CTDPRS,CTDTMP,CTDSAL,CTDSAL_FLAG_W,SALNTY,SALNTY_FLAG_W,CTDOXY,CTDOXY_FLAG_W,CTDOPTOXY,CTDOPTOXY_FLAG_W,OXYGEN,OXYGEN_FLAG_W,SILCAT,SILCAT_FLAG_W,NITRAT,NITRAT_FLAG_W,NITRIT,NITRIT_FLAG_W,PHSPHT,PHSPHT_FLAG_W,CFC-11,CFC-11_FLAG_W,CFC-12,CFC-12_FLAG_W,SF6,SF6_FLAG_W,TCARBN,TCARBN_FLAG_W,ALKALI,ALKALI_FLAG_W,PH_TOT,PH_TOT_FLAG_W,PH_TMP,DOC,DOC_FLAG_W,HELIUM,HELIUM_FLAG_W,REFTMP,REFTMP_FLAG_W,DELC13,DELC13_FLAG_W,DELC14,DELC14_FLAG_W,C14ERR,POC,POC_FLAG_W,TDN,TDN_FLAG_W,TON,TON_FLAG_W,NEON,NEON_FLAG_W,CTDFLUOR,CTDFLUOR_FLAG_W,CTDXMISS,CTDXMISS_FLAG_W,CTDBETA700,CTDBETA700_FLAG_W,N2O,N2O_FLAG_W,ARGON,ARGON_FLAG_W,BTL_DATE,BTL_TIME,BTL_LAT,BTL_LON,KRYPTON,KRYPTON_FLAG_W,XENON,XENON_FLAG_W,HPLC,HPLC_FLAG_W,HE3_HE4_RATIO,HE3_HE4_RATIO_FLAG_W,Nd_143_144_D_EPSILON_BOTTLE,Nd_143_144_D_EPSILON_BOTTLE_FLAG_W,Nd_143_144_D_EPSILON_BOTTLE_ERROR,Nd_143_144_D_RATIO_BOTTLE,Nd_143_144_D_RATIO_BOTTLE_FLAG_W,Nd_143_144_D_RATIO_BOTTLE_ERROR,Nd_D_CONC,Nd_D_CONC_FLAG_W,La_D_CONC_BOTTLE,La_D_CONC_BOTTLE_FLAG_W,Ce_D_CONC_BOTTLE,Ce_D_CONC_BOTTLE_FLAG_W,Pr_D_CONC_BOTTLE,Pr_D_CONC_BOTTLE_FLAG_W,Sm_D_CONC_BOTTLE,Sm_D_CONC_BOTTLE_FLAG_W,Eu_D_CONC_BOTTLE,Eu_D_CONC_BOTTLE_FLAG_W,Gd_D_CONC_BOTTLE,Gd_D_CONC_BOTTLE_FLAG_W,Tb_D_CONC_BOTTLE,Tb_D_CONC_BOTTLE_FLAG_W,Dy_D_CONC_BOTTLE,Dy_D_CONC_BOTTLE_FLAG_W,Ho_D_CONC_BOTTLE,Ho_D_CONC_BOTTLE_FLAG_W,Er_D_CONC_BOTTLE,Er_D_CONC_BOTTLE_FLAG_W,Tm_D_CONC_BOTTLE,Tm_D_CONC_BOTTLE_FLAG_W,Yb_D_CONC_BOTTLE,Yb_D_CONC_BOTTLE_FLAG_W,Lu_D_CONC_BOTTLE,Lu_D_CONC_BOTTLE_FLAG_W
,,,,,,,,,,,METERS,DBAR,ITS-90,PSS-78,,PSS-78,,UMOL/KG,,UMOL/KG,,UMOL/KG,,UMOL/KG,,UMOL/KG,,UMOL/KG,,UMOL/KG,,PMOL/KG,,PMOL/KG,,FMOL/KG,,UMOL/KG,,UMOL/KG,,,,DEG C,UMOL/KG,,NMOL/L,,DEG C,,/MILLE,,/MILLE,,/MILLE,UG/KG,,UMOL/KG,,UMOL/KG,,NMOL/L,,VOLTS,,VOLTS,,VOLTS,,NMOL/KG,,UMOL/L,,,,,,NMOL/L,,NMOL/L,,,,,,10000,,10000,,,,PMOL/KG,,PMOL/L,,PMOL/L,,PMOL/L,,PMOL/L,,PMOL/L,,PMOL/L,,PMOL/L,,PMOL/L,,PMOL/L,,PMOL/L,,PMOL/L,,PMOL/L,,PMOL/L,
320620180309  ,P16        ,35      ,  1,15         ,15         ,2,20180402,2210, -75.2630,-147.4148,     2826,   1078.1,0.9448722222222220024,34.718357837730714,2,  34.7186,2,198.73142639836482,2, 197.8908,2,    199.0,2,    117.2,2,    32.55,2,     0.00,2,     2.25,2,     -999,9,     -999,9,     -999,9,     -999,9,     -999,9,     -999,9,     -999,     40.1,2,     -999,9,   0.9439,2,0.41000000,2, -165.110,2,    0.002,     -999,9,     -999,9,     -999,1,     -999,9,    0.062,1,    4.671,1,    0.135,1,     -999,9,     -999,9,20180402,2305, -75.2640,-147.4334,     -999,9,     -999,9,-999          ,9,     -999,9,     -999,9,     -999,     -999,9,     -999,     -999,9,     -999,9,     -999,9,     -999,9,     -999,9,     -999,9,     -999,9,     -999,9,     -999,9,     -999,9,     -999,9,     -999,9,     -999,9,     -999,9
320620180309  ,P16        ,35      ,  1,14         ,14         ,2,20180402,2210, -75.2630,-147.4148,     2826,   1181.0,0.8915361111111111958,34.716337756741588,2,  34.7168,2,199.90940128786619,2, 199.0993,2,    199.8,2,    119.0,2,    32.53,2,     0.00,2,     2.25,2,     -999,9,     -999,9,     -999,9,   2261.4,2,  2363.88,2,   7.5988,2,    24.94,     38.3,2,     -999,9,   0.8908,2,0.35000000,3, -162.850,2,    0.002,     -999,9,     -999,9,     -999,1,     -999,9,    0.062,1,    4.671,1,    0.141,1,     -999,9,     -999,9,20180402,2301, -75.2639,-147.4318,     -999,9,     -999,9,-999          ,9,     -999,9,     -999,9,     -999,     -999,9,     -999,     -999,9,     -999,1,     -999,1,     -999,1,     -999,1,     -999,1,     -999,1,     -999,1,     -999,1,     -999,1,     -999,1,     -999,1,     -999,1,     -999,1
320620180309  ,P16        ,35      ,  1,13         ,13         ,2,20180402,2210, -75.2630,-147.4148,     2826,   1282.1,0.8390749999999997932,34.714244508799496,2,  34.7143,2,200.03707634708059,2, 200.3970,2,    201.1,2,    121.0,2,    32.53,2,     0.00,2,     2.25,2,     -999,9,     -999,9,     -999,9,     -999,9,     -999,9,     -999,9,     -999,     39.4,2,     -999,9,   0.8377,2,0.35000000,3, -164.730,2,    0.002,     -999,9,     -999,9,     -999,1,     -999,9,    0.061,1,    4.673,1,    0.134,1,     -999,9,     -999,9,20180402,2257, -75.2639,-147.4306,     -999,9,     -999,9,-999          ,9,     -999,9,     -999,9,     -999,     -999,9,     -999,     -999,9,     -999,9,     -999,9,     -999,9,     -999,9,     -999,9,     -999,9,     -999,9,     -999,9,     -999,9,     -999,9,     -999,9,     -999,9,     -999,9
320620180309  ,P16        ,35      ,  1,12         ,12         ,2,20180402,2210, -75.2630,-147.4148,     2826,   1384.2,0.8011500000000001398,34.712919736040114,2,  34.7135,2,201.24709071552741,2, 201.3012,2,    202.0,2,    122.2,2,    32.51,2,     0.00,2,     2.25,2,    0.119,2,    0.066,2,   0.0600,2,   2264.2,2,  2363.08,2,   7.5952,2,    24.94,     40.3,2,     -999,9,   0.8003,2,     -999,5,     -999,5,     -999,     -999,9,     -999,9,     -999,1,     -999,9,    0.061,1,    4.673,1,    0.133,1,  19.1400,2,     -999,9,20180402,2254, -75.2638,-147.4297,     -999,9,     -999,9,-999          ,9,     -999,9,     -999,9,     -999,     -999,9,     -999,     -999,9,     -999,1,     -999,1,     -999,1,     -999,1,     -999,1,     -999,1,     -999,1,     -999,1,     -999,1,     -999,1,     -999,1,     -999,1,     -999,1
320620180309  ,P16        ,35      ,  1,11         ,11         ,2,20180402,2210, -75.2630,-147.4148,     2826,   1483.1,0.7597722222222221822,34.711473529219745,2,  34.7117,2,202.62581478082041,2, 202.3969,2,    203.1,2,    123.9,2,    32.57,2,     0.00,2,     2.24,2,     -999,9,     -999,9,     -999,9,     -999,9,     -999,9,     -999,9,     -999,     40.3,2,     -999,9,   0.7592,2,0.38000000,3, -162.420,2,    0.002,     -999,9,     -999,9,     -999,1,     -999,9,    0.061,1,    4.672,1,    0.156,1,     -999,9,     -999,9,20180402,2251, -75.2636,-147.4286,     -999,9,     -999,9,-999          ,9,     -999,9,     -999,9,     -999,     -999,9,     -999,     -999,9,     -999,9,     -999,9,     -999,9,     -999,9,     -999,9,     -999,9,     -999,9,     -999,9,     -999,9,     -999,9,     -999,9,     -999,9,     -999,9
320620180309  ,P16        ,35      ,  1,10         ,10         ,2,20180402,2210, -75.2630,-147.4148,     2826,   1586.4,0.7197861111111110155,34.710245196148541,2,  34.7104,2,203.85551810995901,2, 203.4028,2,    203.9,2,    125.1,2,    32.60,2,     0.00,2,     2.25,2,     -999,9,     -999,9,     -999,9,   2263.4,2,  2362.75,2,   7.5937,6,    24.94,     40.7,2,     -999,9,   0.7197,2,0.34000000,3, -163.790,2,    0.002,     -999,9,     -999,9,     -999,1,     -999,9,    0.061,1,    4.674,1,    0.133,1,     -999,9,     -999,9,20180402,2247, -75.2634,-147.4259,     -999,9,     -999,9,-999          ,9,     -999,9,     -999,9,     -999,     -999,9,     -999,     -999,9,     -999,1,     -999,1,     -999,1,     -999,1,     -999,1,     -999,1,     -999,1,     -999,1,     -999,1,     -999,1,     -999,1,     -999,1,     -999,1
320620180309  ,P16        ,35      ,  1,9          ,9          ,2,20180402,2210, -75.2630,-147.4148,     2826,   1688.9,0.6777166666666667449,34.709001352502177,2,  34.7094,2,204.36457193989847,2, 204.4942,2,    204.6,2,    126.1,2,    32.58,2,     0.00,2,     2.25,2,     -999,9,     -999,9,     -999,9,     -999,9,     -999,9,     -999,9,     -999,     40.9,2,     -999,9,   0.6769,2,0.33000000,3, -163.430,2,    0.002,     -999,9,     -999,9,     -999,1,     -999,9,    0.061,1,    4.674,1,    0.133,1,     -999,9,     -999,9,20180402,2244, -75.2634,-147.4249,     -999,9,     -999,9,-999          ,9,     -999,9,     -999,9,     -999,     -999,9,     -999,     -999,9,     -999,9,     -999,9,     -999,9,     -999,9,     -999,9,     -999,9,     -999,9,     -999,9,     -999,9,     -999,9,     -999,9,     -999,9,     -999,9
320620180309  ,P16        ,35      ,  1,8          ,8          ,2,20180402,2210, -75.2630,-147.4148,     2826,   1791.0,0.6521444444444445265,34.708214085120375,2,  34.7086,2,205.60887405588196,2, 204.9996,2,    205.2,2,    127.4,2,    32.68,2,     0.00,2,     2.25,2,    0.125,3,    0.078,3,   0.0200,3,   2263.4,2,  2361.83,2,   7.5998,2,    24.94,     40.4,2,     -999,9,   0.6512,2,0.33000000,3, -164.100,2,    0.002,     -999,9,     -999,9,     -999,1,     -999,9,    0.060,1,    4.673,1,    0.155,1,  20.2400,3,     -999,9,20180402,2241, -75.2632,-147.4236,     -999,9,     -999,9,-999          ,9,     -999,9,     -999,9,     -999,     -999,9,     -999,     -999,9,     -999,1,     -999,1,     -999,1,     -999,1,     -999,1,     -999,1,     -999,1,     -999,1,     -999,1,     -999,1,     -999,1,     -999,1,     -999,1
320620180309  ,P16        ,35      ,  1,7          ,7          ,2,20180402,2210, -75.2630,-147.4148,     2826,   1892.4,0.6250277777777777377,34.707594410114218,2,  34.7082,2,206.19428032823532,2, 205.8025,2,    205.7,2,    128.4,2,    32.71,2,     0.00,2,     2.25,2,     -999,9,     -999,9,     -999,9,     -999,9,     -999,9,     -999,9,     -999,     -999,9,     -999,9,   0.6240,2,0.35000000,3, -164.000,2,    0.003,     -999,9,     -999,9,     -999,9,     -999,9,    0.061,1,    4.673,1,    0.134,1,     -999,9,     -999,9,20180402,2238, -75.2632,-147.4227,     -999,9,     -999,9,-999          ,9,     -999,9,     -999,9,     -999,     -999,9,     -999,     -999,9,     -999,9,     -999,9,     -999,9,     -999,9,     -999,9,     -999,9,     -999,9,     -999,9,     -999,9,     -999,9,     -999,9,     -999,9,     -999,9
320620180309  ,P16        ,35      ,  1,6          ,6          ,2,20180402,2210, -75.2630,-147.4148,     2826,   1994.7,0.6014638888888890200,34.707007164701160,2,  34.7070,2,206.72396260787775,2, 206.3996,2,    206.2,2,    129.5,2,    32.72,2,     0.00,2,     2.25,2,    0.137,2,    0.080,2,   0.0900,2,   2262.5,2,  2364.19,2,   7.5918,2,    24.95,     41.3,2,     -999,9,   0.6007,2,0.31000000,3, -163.070,2,    0.002,     -999,9,     -999,9,     -999,1,     -999,9,    0.061,1,    4.673,1,    0.133,1,  20.3200,2,     -999,9,20180402,2235, -75.2631,-147.4220,     -999,9,     -999,9,-999          ,9,     -999,9,     -999,9,     -999,     -999,9,     -999,     -999,9,     -999,1,     -999,1,     -999,1,     -999,1,     -999,1,     -999,1,     -999,1,     -999,1,     -999,1,     -999,1,     -999,1,     -999,1,     -999,1
320620180309  ,P16        ,35      ,  1,5          ,5          ,2,20180402,2210, -75.2630,-147.4148,     2826,   2168.1,0.5840194444444444244,34.706305160095440,2,  34.7064,2,206.31788629680560,2, 207.1050,2,    207.0,2,    130.4,2,    32.76,2,     0.00,2,     2.25,2,    0.139,2,    0.080,2,   0.1500,2,     -999,9,     -999,9,     -999,9,     -999,     41.4,2,     -999,9,   0.5834,2,0.48000000,2, -161.890,2,    0.002,     -999,9,     -999,9,     -999,1,     -999,9,    0.061,1,    4.673,1,    0.143,1,  18.8200,2,     -999,9,20180402,2230, -75.2630,-147.4210,     -999,9,     -999,9,-999          ,9,     -999,9,     -999,9,     -999,     -999,9,     -999,     -999,9,     -999,1,     -999,1,     -999,1,     -999,1,     -999,1,     -999,1,     -999,1,     -999,1,     -999,1,     -999,1,     -999,1,     -999,1,     -999,1
320620180309  ,P16        ,35      ,  1,4          ,4          ,2,20180402,2210, -75.2630,-147.4148,     2826,   2372.2,0.5559500000000001663,34.705534087637005,2,  34.7058,2,207.27878588983219,2, 207.9084,2,    207.5,2,    131.8,2,    32.78,2,     0.00,2,     2.25,2,    0.142,2,    0.086,2,   0.0700,2,   2265.5,2,  2363.58,2,   7.5930,2,    24.94,     38.4,2,     -999,9,   0.5555,2,0.43000000,2, -163.200,2,    0.002,     -999,9,     -999,9,     -999,1,     -999,9,    0.061,1,    4.673,1,    0.141,1,  20.3200,2,     -999,9,20180402,2225, -75.2629,-147.4190,     -999,9,     -999,9,-999          ,9,     -999,9,     -999,9,     -999,     -999,9,     -999,     -999,9,     -999,1,     -999,1,     -999,1,     -999,1,     -999,1,     -999,1,     -999,1,     -999,1,     -999,1,     -999,1,     -999,1,     -999,1,     -999,1
320620180309  ,P16        ,35      ,  1,3          ,3          ,2,20180402,2210, -75.2630,-147.4148,     2826,   2576.9,0.5471722222222222820,34.704899575466825,2,  34.7045,2,208.86802200877901,2, 208.1976,2,    207.9,2,    132.6,2,    32.80,2,     0.00,2,     2.24,2,    0.147,2,    0.083,2,   0.0800,2,     -999,9,     -999,9,     -999,9,     -999,     40.5,2,     -999,9,   0.5464,2,0.44500000,6, -163.500,6,    0.002,     -999,9,     -999,9,     -999,1,     -999,9,    0.060,1,    4.673,1,    0.130,1,  18.9700,2,     -999,9,20180402,2219, -75.2627,-147.4171,     -999,9,     -999,9,-999          ,9,     -999,9,     -999,9,     -999,     -999,9,     -999,     -999,9,     -999,1,     -999,1,     -999,1,     -999,1,     -999,1,     -999,1,     -999,1,     -999,1,     -999,1,     -999,1,     -999,1,     -999,1,     -999,1
320620180309  ,P16        ,35      ,  1,2          ,2          ,2,20180402,2210, -75.2630,-147.4148,     2826,   2714.9,0.5376000000000000778,34.704617392270706,2,  34.7047,2,208.96966564866895,2, 208.5978,2,    209.1,2,    133.3,2,    32.80,2,     0.00,2,     2.24,2,    0.145,2,    0.086,2,   0.1700,2,   2266.4,2,  2364.01,2,   7.5951,2,    24.94,     40.4,2,     -999,9,   0.5369,2,0.44000000,2, -160.860,2,    0.002,     -999,9,     -999,9,     -999,1,     -999,9,    0.061,1,    4.673,1,    0.129,1,  20.4500,2,     -999,9,20180402,2215, -75.2628,-147.4165,     -999,9,     -999,9,-999          ,9,     -999,9,     -999,9,     -999,     -999,9,     -999,     -999,9,     -999,1,     -999,1,     -999,1,     -999,1,     -999,1,     -999,1,     -999,1,     -999,1,     -999,1,     -999,1,     -999,1,     -999,1,     -999,1
320620180309  ,P16        ,35      ,  1,1          ,1          ,2,20180402,2210, -75.2630,-147.4148,     2826,   2858.9,0.5243972222222221813,34.704274007199857,2,  34.7049,2,208.81291673887571,2, 208.8000,2,    208.8,2,    134.5,2,    32.79,2,     0.00,2,     2.25,2,     -999,5,     -999,5,     -999,5,   2264.3,6,  2364.83,2,   7.5939,2,    24.94,     40.8,2,     -999,9,   0.5240,2,0.38000000,2, -167.180,2,    0.002,     -999,9,     -999,9,     -999,1,     -999,9,    0.061,1,    4.671,1,    0.135,1,     -999,5,     -999,9,20180402,2210, -75.2630,-147.4148,     -999,9,     -999,9,-999          ,9,     -999,9,     -999,9,     -999,     -999,9,     -999,     -999,9,     -999,1,     -999,1,     -999,1,     -999,1,     -999,1,     -999,1,     -999,1,     -999,1,     -999,1,     -999,1,     -999,1,     -999,1,     -999,1