BOTTLE,20240515CCHHYDRO
EXPOCODE,SECT_ID,STNNBR,CASTNO,SAMPNO,BTLNBR,BTLNBR_FLAG_W,DATE,TIME,LATITUDE,LONGITUDE,DEPTH,CTDPRS,CTDTMP,CTDSAL,CTDSAL_FLAG_W,SALNTY,SALNTY_FLAG_W,CTDOXY,CTDOXY_FLAG_W,CTDOPTOXY,CTDOPTOXY_FLAG_W,OXYGEN,OXYGEN_FLAG_W,SILCAT,SILCAT_FLAG_W,NITRAT,NITRAT_FLAG_W,NITRIT,NITRIT_FLAG_W,PHSPHT,PHSPHT_FLAG_W,CFC-11,CFC-11_FLAG_W,CFC-12,CFC-12_FLAG_W,SF6,SF6_FLAG_W,TCARBN,TCARBN_FLAG_W,ALKALI,ALKALI_FLAG_W,PH_TOT,PH_TOT_FLAG_W,PH_TMP,DOC,DOC_FLAG_W,HELIUM,HELIUM_FLAG_W,REFTMP,REFTMP_FLAG_W,DELC13,DELC13_FLAG_W,DELC14,DELC14_FLAG_W,C14ERR,POC,POC_FLAG_W,TDN,TDN_FLAG_W,TON,TON_FLAG_W,NEON,NEON_FLAG_W,CTDFLUOR,CTDFLUOR_FLAG_W,CTDXMISS,CTDXMISS_FLAG_W,CTDBETA700,CTDBETA700_FLAG_W,N2O,N2O_FLAG_W,ARGON,ARGON_FLAG_W,BTL_DATE,BTL_TIME,BTL_LAT,BTL_LON,KRYPTON,KRYPTON_FLAG_W,XENON,XENON_FLAG_W,HPLC,HPLC_FLAG_W,HE3_HE4_RATIO,HE3_HE4_RATIO_FLAG_W,Nd_143_144_D_EPSILON_BOTTLE,Nd_143_144_D_EPSILON_BOTTLE_FLAG_W,Nd_143_144_D_EPSILON_BOTTLE_ERROR,Nd_143_144_D_RATIO_BOTTLE,Nd_143_144_D_RATIO_BOTTLE_FLAG_W,Nd_143_144_D_RATIO_BOTTLE_ERROR,Nd_D_CONC,Nd_D_CONC_FLAG_W,La_D_CONC_BOTTLE,La_D_CONC_BOTTLE_FLAG_W,Ce_D_CONC_BOTTLE,Ce_D_CONC_BOTTLE_FLAG_W,Pr_D_CONC_BOTTLE,Pr_D_CONC_BOTTLE_FLAG_W,Sm_D_CONC_BOTTLE,Sm_D_CONC_BOTTLE_FLAG_W,Eu_D_CONC_BOTTLE,Eu_D_CONC_BOTTLE_FLAG_W,Gd_D_CONC_BOTTLE,Gd_D_CONC_BOTTLE_FLAG_W,Tb_D_CONC_BOTTLE,Tb_D_CONC_BOTTLE_FLAG_W,Dy_D_CONC_BOTTLE,Dy_D_CONC_BOTTLE_FLAG_W,Ho_D_CONC_BOTTLE,Ho_D_CONC_BOTTLE_FLAG_W,Er_D_CONC_BOTTLE,Er_D_CONC_BOTTLE_FLAG_W,Tm_D_CONC_BOTTLE,Tm_D_CONC_BOTTLE_FLAG_W,Yb_D_CONC_BOTTLE,Yb_D_CONC_BOTTLE_FLAG_W,Lu_D_CONC_BOTTLE,Lu_D_CONC_BOTTLE_FLAG_W
,,,,,,,,,,,METERS,DBAR,ITS-90,PSS-78,,PSS-78,,UMOL/KG,,UMOL/KG,,UMOL/KG,,UMOL/KG,,UMOL/KG,,UMOL/KG,,UMOL/KG,,PMOL/KG,,PMOL/KG,,FMOL/KG,,UMOL/KG,,UMOL/KG,,,,DEG C,UMOL/KG,,NMOL/L,,DEG C,,/MILLE,,/MILLE,,/MILLE,UG/KG,,UMOL/KG,,UMOL/KG,,NMOL/L,,VOLTS,,VOLTS,,VOLTS,,NMOL/KG,,UMOL/L,,,,,,NMOL/L,,NMOL/L,,,,,,10000,,10000,,,,PMOL/KG,,PMOL/L,,PMOL/L,,PMOL/L,,PMOL/L,,PMOL/L,,PMOL/L,,PMOL/L,,PMOL/L,,PMOL/L,,PMOL/L,,PMOL/L,,PMOL/L,,PMOL/L,
320620180309  ,S04P       ,59      ,  1,36         ,36         ,2,20180412,0530, -67.0001,-162.0143,     4079,     13.1,-1.3764444444444445814,33.985528850793528,2,  33.9814,2,343.23322432479449,3, 361.2064,3,    347.6,2,     61.5,2,    26.95,2,     0.18,2,     1.86,2,    5.606,2,    3.133,2,   3.6800,2,   2189.4,6,  2300.50,2,   7.6447,2,    24.93,     -999,9,     -999,9,  -1.3773,2,     -999,9,     -999,9,     -999,     -999,9,     -999,9,     -999,9,     -999,9,    0.146,1,    4.611,1,    0.177,1,  16.1800,2,     -999,9,20180412,0739, -67.0008,-162.0135,     -999,9,     -999,9,-999          ,9,     -999,9,     -999,9,     -999,     -999,9,     -999,     -999,9,     -999,9,     -999,9,     -999,9,     -999,9,     -999,9,     -999,9,     -999,9,     -999,9,     -999,9,     -999,9,     -999,9,     -999,9,     -999,9
320620180309  ,S04P       ,59      ,  1,35         ,35         ,2,20180412,0530, -67.0001,-162.0143,     4079,     35.2,-1.3837361111111110556,33.985437013847530,2,  33.9819,2,344.17334875718950,2, 356.2979,3,    345.6,2,     61.5,2,    26.87,2,     0.18,2,     1.86,2,    5.632,2,    3.119,2,   3.6400,2,     -999,9,     -999,9,     -999,9,     -999,     -999,9,     -999,9,  -1.3846,2,     -999,9,     -999,9,     -999,     -999,9,     -999,9,     -999,9,     -999,9,    0.138,1,    4.610,1,    0.183,1,  16.8200,2,     -999,9,20180412,0737, -67.0010,-162.0135,     -999,9,     -999,9,-999          ,9,     -999,9,     -999,9,     -999,     -999,9,     -999,     -999,9,     -999,9,     -999,9,     -999,9,     -999,9,     -999,9,     -999,9,     -999,9,     -999,9,     -999,9,     -999,9,     -999,9,     -999,9,     -999,9
320620180309  ,S04P       ,59      ,  1,34         ,34         ,2,20180412,0530, -67.0001,-162.0143,     4079,     59.7,-1.3820999999999998842,33.985942809407796,2,  33.9825,2,345.28378787061524,2, 356.2990,3,    346.1,2,     61.4,2,    26.92,2,     0.18,2,     1.85,2,     -999,9,     -999,9,     -999,9,   2189.4,2,  2302.74,2,   7.6455,2,    24.92,     -999,9,     -999,9,  -1.3826,2,     -999,9,     -999,9,     -999,     -999,9,     -999,9,     -999,9,     -999,9,    0.135,1,    4.612,1,    0.191,1,     -999,9,     -999,9,20180412,0735, -67.0011,-162.0135,     -999,9,     -999,9,-999          ,9,     -999,9,     -999,9,     -999,     -999,9,     -999,     -999,9,     -999,9,     -999,9,     -999,9,     -999,9,     -999,9,     -999,9,     -999,9,     -999,9,     -999,9,     -999,9,     -999,9,     -999,9,     -999,9
320620180309  ,S04P       ,59      ,  1,33         ,33         ,2,20180412,0530, -67.0001,-162.0143,     4079,     85.0,-1.2718805555555556808,34.249758757666783,3,  34.2131,2,293.06322909837905,3, 317.0987,3,    287.1,2,     68.1,2,    29.38,2,     0.21,2,     2.03,2,    4.089,2,    2.259,2,   2.5900,2,   2217.6,2,  2314.57,2,   7.6086,2,    24.93,     -999,9,     -999,9,  -1.2731,2,     -999,9,     -999,9,     -999,     -999,9,     -999,9,     -999,9,     -999,9,    0.135,1,    4.613,1,    0.187,1,  18.4400,2,     -999,9,20180412,0734, -67.0013,-162.0135,     -999,9,     -999,9,-999          ,9,     -999,9,     -999,9,     -999,     -999,9,     -999,     -999,9,     -999,9,     -999,9,     -999,9,     -999,9,     -999,9,     -999,9,     -999,9,     -999,9,     -999,9,     -999,9,     -999,9,     -999,9,     -999,9
320620180309  ,S04P       ,59      ,  1,32         ,32         ,2,20180412,0530, -67.0001,-162.0143,     4079,    111.3,-1.1011138888888889475,34.340649710580195,2,  34.3441,2,257.25517093781406,2, 272.2020,3,    257.4,2,     72.2,2,    30.94,2,     0.14,2,     2.11,2,     -999,9,     -999,9,     -999,9,   2229.7,2,  2322.80,2,   7.5845,2,    24.93,     -999,9,     -999,9,  -1.1056,2,     -999,9,     -999,9,     -999,     -999,9,     -999,9,     -999,9,     -999,9,    0.079,1,    4.653,1,    0.148,1,     -999,9,     -999,9,20180412,0732, -67.0013,-162.0134,     -999,9,     -999,9,-999          ,9,     -999,9,     -999,9,     -999,     -999,9,     -999,     -999,9,     -999,9,     -999,9,     -999,9,     -999,9,     -999,9,     -999,9,     -999,9,     -999,9,     -999,9,     -999,9,     -999,9,     -999,9,     -999,9
320620180309  ,S04P       ,59      ,  1,31         ,31         ,2,20180412,0530, -67.0001,-162.0143,     4079,    136.4,-0.1179500000000000270,34.475551641544371,3,  34.4971,2,225.26751115506676,3, 234.9963,3,    221.0,2,     80.6,2,    32.32,2,     0.02,2,     2.20,2,    2.100,2,    1.132,2,   1.2800,2,     -999,9,     -999,9,     -999,9,     -999,     -999,9,     -999,9,  -0.1274,2,     -999,9,     -999,9,     -999,     -999,9,     -999,9,     -999,9,     -999,9,    0.069,1,    4.659,1,    0.138,1,  21.5900,2,     -999,9,20180412,0730, -67.0013,-162.0134,     -999,9,     -999,9,-999          ,9,     -999,9,     -999,9,     -999,     -999,9,     -999,     -999,9,     -999,9,     -999,9,     -999,9,     -999,9,     -999,9,     -999,9,     -999,9,     -999,9,     -999,9,     -999,9,     -999,9,     -999,9,     -999,9
320620180309  ,S04P       ,59      ,  1,30         ,30         ,2,20180412,0530, -67.0001,-162.0143,     4079,    165.7,1.0512694444444443675,34.633889860973106,2,  34.6366,2,191.55058867556448,2, 194.3965,3,    190.3,2,     89.4,2,    33.19,2,     0.01,2,     2.24,2,     -999,9,     -999,9,     -999,9,   2257.7,2,  2342.33,2,   7.5543,2,    24.93,     -999,9,     -999,9,   1.0598,2,     -999,9,     -999,9,     -999,     -999,9,     -999,9,     -999,9,     -999,9,    0.069,1,    4.657,1,    0.146,1,     -999,9,     -999,9,20180412,0729, -67.0013,-162.0134,     -999,9,     -999,9,-999          ,9,     -999,9,     -999,9,     -999,     -999,9,     -999,     -999,9,     -999,9,     -999,9,     -999,9,     -999,9,     -999,9,     -999,9,     -999,9,     -999,9,     -999,9,     -999,9,     -999,9,     -999,9,     -999,9
320620180309  ,S04P       ,59      ,  1,29         ,29         ,2,20180412,0530, -67.0001,-162.0143,     4079,    216.3,1.4903138888888887159,34.706984644032829,2,  34.7053,2,181.70270379534435,2, 181.9966,2,    181.8,2,     94.8,2,    33.10,2,     0.00,2,     2.25,2,    0.425,2,    0.229,2,   0.2200,2,   2262.5,6,  2349.72,2,   7.5625,2,    24.93,     -999,9,     -999,9,   1.4862,2,     -999,9,     -999,9,     -999,     -999,9,     -999,9,     -999,9,     -999,9,    0.065,1,    4.659,1,    0.139,1,  22.2000,2,     -999,9,20180412,0726, -67.0012,-162.0135,     -999,9,     -999,9,-999          ,9,     -999,9,     -999,9,     -999,     -999,9,     -999,     -999,9,     -999,9,     -999,9,     -999,9,     -999,9,     -999,9,     -999,9,     -999,9,     -999,9,     -999,9,     -999,9,     -999,9,     -999,9,     -999,9
320620180309  ,S04P       ,59      ,  1,28         ,28         ,2,20180412,0530, -67.0001,-162.0143,     4079,    267.9,1.5190583333333333993,34.724663653998896,2,  34.7217,2,182.60272529850855,2, 181.4956,2,    183.4,2,     97.5,2,    32.84,2,     0.00,2,     2.23,2,     -999,9,     -999,9,     -999,9,   2263.0,2,  2352.18,2,   7.5686,2,    24.93,     -999,9,     -999,9,   1.5167,2,     -999,9,     -999,9,     -999,     -999,9,     -999,9,     -999,9,     -999,9,    0.063,1,    4.660,1,    0.147,1,     -999,9,     -999,9,20180412,0724, -67.0011,-162.0135,     -999,9,     -999,9,-999          ,9,     -999,9,     -999,9,     -999,     -999,9,     -999,     -999,9,     -999,9,     -999,9,     -999,9,     -999,9,     -999,9,     -999,9,     -999,9,     -999,9,     -999,9,     -999,9,     -999,9,     -999,9,     -999,9
320620180309  ,S04P       ,59      ,  1,27         ,27         ,2,20180412,0530, -67.0001,-162.0143,     4079,    318.4,1.4752000000000000668,34.729353915174507,2,  34.7270,2,184.42721759516479,2, 183.0967,2,    184.7,2,     99.7,2,    32.80,2,     0.00,2,     2.22,2,    0.253,2,    0.133,2,   0.1100,2,   2262.6,2,  2353.05,2,   7.5740,2,    24.93,     -999,9,     -999,9,   1.4747,2,     -999,9,     -999,9,     -999,     -999,9,     -999,9,     -999,9,     -999,9,    0.063,1,    4.663,1,    0.137,1,  21.3900,2,     -999,9,20180412,0722, -67.0011,-162.0135,     -999,9,     -999,9,-999          ,9,     -999,9,     -999,9,     -999,     -999,9,     -999,     -999,9,     -999,9,     -999,9,     -999,9,     -999,9,     -999,9,     -999,9,     -999,9,     -999,9,     -999,9,     -999,9,     -999,9,     -999,9,     -999,9
320620180309  ,S04P       ,59      ,  1,26         ,26         ,2,20180412,0530, -67.0001,-162.0143,     4079,    368.9,1.4251500000000001389,34.731246702017096,2,  34.7286,2,185.19923015766960,2, 185.2998,2,    186.0,2,    101.4,2,    32.72,2,     0.00,2,     2.21,2,     -999,9,     -999,9,     -999,9,   2260.7,2,  2354.81,2,   7.5745,2,    24.93,     -999,9,     -999,9,   1.4260,2,     -999,9,     -999,9,     -999,     -999,9,     -999,9,     -999,9,     -999,9,    0.062,1,    4.664,1,    0.136,1,     -999,9,     -999,9,20180412,0720, -67.0010,-162.0135,     -999,9,     -999,9,-999          ,9,     -999,9,     -999,9,     -999,     -999,9,     -999,     -999,9,     -999,9,     -999,9,     -999,9,     -999,9,     -999,9,     -999,9,     -999,9,     -999,9,     -999,9,     -999,9,     -999,9,     -999,9,     -999,9
320620180309  ,S04P       ,59      ,  1,25         ,25         ,2,20180412,0530, -67.0001,-162.0143,     4079,    419.2,1.3791000000000002146,34.731611268901680,2,  34.7282,2,186.09641593222179,2, 186.0041,2,    186.1,2,    103.1,2,    32.67,2,     0.00,2,     2.22,2,    0.206,2,    0.113,2,   0.1000,2,     -999,9,     -999,9,     -999,9,     -999,     -999,9,     -999,9,   1.3778,2,     -999,9,     -999,9,     -999,     -999,9,     -999,9,     -999,9,     -999,9,    0.062,1,    4.665,1,    0.136,1,  21.3100,2,     -999,9,20180412,0718, -67.0009,-162.0136,     -999,9,     -999,9,-999          ,9,     -999,9,     -999,9,     -999,     -999,9,     -999,     -999,9,     -999,9,     -999,9,     -999,9,     -999,9,     -999,9,     -999,9,     -999,9,     -999,9,     -999,9,     -999,9,     -999,9,     -999,9,     -999,9
320620180309  ,S04P       ,59      ,  1,24         ,24         ,2,20180412,0530, -67.0001,-162.0143,     4079,    469.0,1.3364083333333331982,34.731364714657786,2,  34.7294,2,186.84661615279322,2, 186.7090,2,    188.1,2,    104.7,2,    32.68,2,     0.00,2,     2.22,2,     -999,9,     -999,9,     -999,9,   2264.4,2,  2357.16,2,   7.5844,2,    24.92,     -999,9,     -999,9,   1.3356,2,     -999,9,     -999,9,     -999,     -999,9,     -999,9,     -999,9,     -999,9,    0.062,1,    4.665,1,    0.134,1,     -999,9,     -999,9,20180412,0716, -67.0010,-162.0135,     -999,9,     -999,9,-999          ,9,     -999,9,     -999,9,     -999,     -999,9,     -999,     -999,9,     -999,9,     -999,9,     -999,9,     -999,9,     -999,9,     -999,9,     -999,9,     -999,9,     -999,9,     -999,9,     -999,9,     -999,9,     -999,9
320620180309  ,S04P       ,59      ,  1,23         ,23         ,2,20180412,0530, -67.0001,-162.0143,     4079,    539.9,1.2855916666666669101,34.730531370095413,2,  34.7288,2,188.16284096512084,2, 187.7010,2,    188.4,2,    106.7,2,    32.70,2,     0.00,2,     2.21,2,    0.173,2,    0.089,2,   0.0300,2,     -999,9,     -999,9,     -999,9,     -999,     -999,9,     -999,9,   1.2845,2,     -999,9,     -999,9,     -999,     -999,9,     -999,9,     -999,9,     -999,9,    0.062,1,    4.665,1,    0.133,1,  20.5600,2,     -999,9,20180412,0713, -67.0010,-162.0135,     -999,9,     -999,9,-999          ,9,     -999,9,     -999,9,     -999,     -999,9,     -999,     -999,9,     -999,9,     -999,9,     -999,9,     -999,9,     -999,9,     -999,9,     -999,9,     -999,9,     -999,9,     -999,9,     -999,9,     -999,9,     -999,9
320620180309  ,S04P       ,59      ,  1,22         ,37         ,2,20180412,0530, -67.0001,-162.0143,     4079,    641.1,1.2162944444444443448,34.728929233616007,2,  34.7276,2,190.47854817358714,2, 189.4035,2,    190.8,2,    109.1,2,    32.68,2,     0.00,2,     2.21,2,     -999,9,     -999,9,     -999,9,   2264.4,2,  2357.83,2,   7.5808,2,    24.93,     -999,9,     -999,9,   1.2156,2,     -999,9,     -999,9,     -999,     -999,9,     -999,9,     -999,9,     -999,9,    0.061,1,    4.665,1,    0.133,1,     -999,9,     -999,9,20180412,0710, -67.0011,-162.0135,     -999,9,     -999,9,-999          ,9,     -999,9,     -999,9,     -999,     -999,9,     -999,     -999,9,     -999,9,     -999,9,     -999,9,     -999,9,     -999,9,     -999,9,     -999,9,     -999,9,     -999,9,     -999,9,     -999,9,     -999,9,     -999,9
320620180309  ,S04P       ,59      ,  1,21         ,21         ,2,20180412,0530, -67.0001,-162.0143,     4079,    743.2,1.1386694444444445118,34.726783196507789,2,  34.7253,2,192.60179516700677,2, 191.2981,2,    192.7,2,    111.6,2,    32.60,2,     0.00,2,     2.21,2,    0.136,2,    0.072,2,   0.0800,2,     -999,9,     -999,9,     -999,9,     -999,     -999,9,     -999,9,   1.1381,2,     -999,9,     -999,9,     -999,     -999,9,     -999,9,     -999,9,     -999,9,    0.062,1,    4.665,1,    0.134,1,  20.4500,2,     -999,9,20180412,0707, -67.0011,-162.0135,     -999,9,     -999,9,-999          ,9,     -999,9,     -999,9,     -999,     -999,9,     -999,     -999,9,     -999,9,     -999,9,     -999,9,     -999,9,     -999,9,     -999,9,     -999,9,     -999,9,     -999,9,     -999,9,     -999,9,     -999,9,     -999,9
320620180309  ,S04P       ,59      ,  1,20         ,20         ,2,20180412,0530, -67.0001,-162.0143,     4079,    844.3,1.0770722222222222086,34.724351151278782,2,  34.7229,2,195.13202263432009,2, 192.9918,2,    194.7,2,    113.6,2,    32.56,2,     0.00,2,     2.21,2,     -999,9,     -999,9,     -999,9,   2264.5,2,  2360.13,2,   7.5856,6,    24.93,     -999,9,     -999,9,   1.0758,2,     -999,9,     -999,9,     -999,     -999,9,     -999,9,     -999,9,     -999,9,    0.061,1,    4.665,1,    0.130,1,     -999,9,     -999,9,20180412,0704, -67.0012,-162.0135,     -999,9,     -999,9,-999          ,9,     -999,9,     -999,9,     -999,     -999,9,     -999,     -999,9,     -999,9,     -999,9,     -999,9,     -999,9,     -999,9,     -999,9,     -999,9,     -999,9,     -999,9,     -999,9,     -999,9,     -999,9,     -999,9
320620180309  ,S04P       ,59      ,  1,19         ,19         ,2,20180412,0530, -67.0001,-162.0143,     4079,    945.9,1.0104499999999996263,34.721651339458653,2,  34.7208,2,198.20803837188285,2, 196.6996,2,    198.0,2,    115.3,2,    32.51,2,     0.00,2,     2.22,2,    0.136,2,    0.079,2,   0.1400,2,     -999,9,     -999,9,     -999,9,     -999,     -999,9,     -999,9,   1.0098,2,     -999,9,     -999,9,     -999,     -999,9,     -999,9,     -999,9,     -999,9,    0.061,1,    4.667,1,    0.129,1,  20.3800,2,     -999,9,20180412,0700, -67.0010,-162.0135,     -999,9,     -999,9,-999          ,9,     -999,9,     -999,9,     -999,     -999,9,     -999,     -999,9,     -999,9,     -999,9,     -999,9,     -999,9,     -999,9,     -999,9,     -999,9,     -999,9,     -999,9,     -999,9,     -999,9,     -999,9,     -999,9
320620180309  ,S04P       ,59      ,  1,18         ,18         ,2,20180412,0530, -67.0001,-162.0143,     4079,   1047.8,0.9510527777777778580,34.719367724522208,2,  34.7176,2,199.33554775885995,2, 199.4002,2,    199.0,2,    116.9,2,    32.53,2,     0.00,2,     2.21,2,     -999,9,     -999,9,     -999,9,   2264.6,2,  2361.29,2,   7.5887,2,    24.93,     -999,9,     -999,9,   0.9505,2,     -999,9,     -999,9,     -999,     -999,9,     -999,9,     -999,9,     -999,9,    0.062,1,    4.667,1,    0.130,1,     -999,9,     -999,9,20180412,0657, -67.0008,-162.0137,     -999,9,     -999,9,-999          ,9,     -999,9,     -999,9,     -999,     -999,9,     -999,     -999,9,     -999,9,     -999,9,     -999,9,     -999,9,     -999,9,     -999,9,     -999,9,     -999,9,     -999,9,     -999,9,     -999,9,     -999,9,     -999,9
320620180309  ,S04P       ,59      ,  1,17         ,17         ,2,20180412,0530, -67.0001,-162.0143,     4079,   1149.5,0.8923444444444444956,34.716879121215101,2,  34.7159,2,200.31709828561387,2, 200.2011,2,    199.9,2,    118.5,2,    32.56,2,     0.00,2,     2.21,2,     -999,9,     -999,9,     -999,9,     -999,9,     -999,9,     -999,9,     -999,     -999,9,     -999,9,   0.8923,2,     -999,9,     -999,9,     -999,     -999,9,     -999,9,     -999,9,     -999,9,    0.061,1,    4.667,1,    0.129,1,     -999,9,     -999,9,20180412,0654, -67.0006,-162.0138,     -999,9,     -999,9,-999          ,9,     -999,9,     -999,9,     -999,     -999,9,     -999,     -999,9,     -999,9,     -999,9,     -999,9,     -999,9,     -999,9,     -999,9,     -999,9,     -999,9,     -999,9,     -999,9,     -999,9,     -999,9,     -999,9
320620180309  ,S04P       ,59      ,  1,16         ,16         ,2,20180412,0530, -67.0001,-162.0143,     4079,   1251.4,0.8297527777777777835,34.714368865753386,2,  34.7133,2,201.47269919431560,2, 201.7052,2,    201.5,2,    120.1,2,    32.61,2,     0.00,2,     2.22,2,     -999,9,     -999,9,     -999,9,   2263.2,2,  2362.71,2,   7.5946,2,    24.92,     -999,9,     -999,9,   0.8289,2,     -999,9,     -999,9,     -999,     -999,9,     -999,9,     -999,9,     -999,9,    0.060,1,    4.667,1,    0.127,1,     -999,9,     -999,9,20180412,0651, -67.0003,-162.0141,     -999,9,     -999,9,-999          ,9,     -999,9,     -999,9,     -999,     -999,9,     -999,     -999,9,     -999,9,     -999,9,     -999,9,     -999,9,     -999,9,     -999,9,     -999,9,     -999,9,     -999,9,     -999,9,     -999,9,     -999,9,     -999,9