BOTTLE,20240515CCHHYDRO
EXPOCODE,SECT_ID,STNNBR,CASTNO,SAMPNO,BTLNBR,BTLNBR_FLAG_W,DATE,TIME,LATITUDE,LONGITUDE,DEPTH,CTDPRS,CTDTMP,CTDSAL,CTDSAL_FLAG_W,SALNTY,SALNTY_FLAG_W,CTDOXY,CTDOXY_FLAG_W,CTDOPTOXY,CTDOPTOXY_FLAG_W,OXYGEN,OXYGEN_FLAG_W,SILCAT,SILCAT_FLAG_W,NITRAT,NITRAT_FLAG_W,NITRIT,NITRIT_FLAG_W,PHSPHT,PHSPHT_FLAG_W,CFC-11,CFC-11_FLAG_W,CFC-12,CFC-12_FLAG_W,SF6,SF6_FLAG_W,TCARBN,TCARBN_FLAG_W,ALKALI,ALKALI_FLAG_W,PH_TOT,PH_TOT_FLAG_W,PH_TMP,DOC,DOC_FLAG_W,HELIUM,HELIUM_FLAG_W,REFTMP,REFTMP_FLAG_W,DELC13,DELC13_FLAG_W,DELC14,DELC14_FLAG_W,C14ERR,POC,POC_FLAG_W,TDN,TDN_FLAG_W,TON,TON_FLAG_W,NEON,NEON_FLAG_W,CTDFLUOR,CTDFLUOR_FLAG_W,CTDXMISS,CTDXMISS_FLAG_W,CTDBETA700,CTDBETA700_FLAG_W,N2O,N2O_FLAG_W,ARGON,ARGON_FLAG_W,BTL_DATE,BTL_TIME,BTL_LAT,BTL_LON,KRYPTON,KRYPTON_FLAG_W,XENON,XENON_FLAG_W,HPLC,HPLC_FLAG_W,HE3_HE4_RATIO,HE3_HE4_RATIO_FLAG_W,Nd_143_144_D_EPSILON_BOTTLE,Nd_143_144_D_EPSILON_BOTTLE_FLAG_W,Nd_143_144_D_EPSILON_BOTTLE_ERROR,Nd_143_144_D_RATIO_BOTTLE,Nd_143_144_D_RATIO_BOTTLE_FLAG_W,Nd_143_144_D_RATIO_BOTTLE_ERROR,Nd_D_CONC,Nd_D_CONC_FLAG_W,La_D_CONC_BOTTLE,La_D_CONC_BOTTLE_FLAG_W,Ce_D_CONC_BOTTLE,Ce_D_CONC_BOTTLE_FLAG_W,Pr_D_CONC_BOTTLE,Pr_D_CONC_BOTTLE_FLAG_W,Sm_D_CONC_BOTTLE,Sm_D_CONC_BOTTLE_FLAG_W,Eu_D_CONC_BOTTLE,Eu_D_CONC_BOTTLE_FLAG_W,Gd_D_CONC_BOTTLE,Gd_D_CONC_BOTTLE_FLAG_W,Tb_D_CONC_BOTTLE,Tb_D_CONC_BOTTLE_FLAG_W,Dy_D_CONC_BOTTLE,Dy_D_CONC_BOTTLE_FLAG_W,Ho_D_CONC_BOTTLE,Ho_D_CONC_BOTTLE_FLAG_W,Er_D_CONC_BOTTLE,Er_D_CONC_BOTTLE_FLAG_W,Tm_D_CONC_BOTTLE,Tm_D_CONC_BOTTLE_FLAG_W,Yb_D_CONC_BOTTLE,Yb_D_CONC_BOTTLE_FLAG_W,Lu_D_CONC_BOTTLE,Lu_D_CONC_BOTTLE_FLAG_W
,,,,,,,,,,,METERS,DBAR,ITS-90,PSS-78,,PSS-78,,UMOL/KG,,UMOL/KG,,UMOL/KG,,UMOL/KG,,UMOL/KG,,UMOL/KG,,UMOL/KG,,PMOL/KG,,PMOL/KG,,FMOL/KG,,UMOL/KG,,UMOL/KG,,,,DEG C,UMOL/KG,,NMOL/L,,DEG C,,/MILLE,,/MILLE,,/MILLE,UG/KG,,UMOL/KG,,UMOL/KG,,NMOL/L,,VOLTS,,VOLTS,,VOLTS,,NMOL/KG,,UMOL/L,,,,,,NMOL/L,,NMOL/L,,,,,,10000,,10000,,,,PMOL/KG,,PMOL/L,,PMOL/L,,PMOL/L,,PMOL/L,,PMOL/L,,PMOL/L,,PMOL/L,,PMOL/L,,PMOL/L,,PMOL/L,,PMOL/L,,PMOL/L,,PMOL/L,
320620180309  ,P15        ,16      ,  1,36         ,36         ,2,20180323,1137, -68.0021,-170.0028,     3615,      6.5,-0.9506527777777777910,34.038068030526439,2,  34.0377,2,336.52944496599929,3, 339.7020,2,    341.4,2,     53.3,2,    25.90,2,     0.17,2,     1.75,2,    5.746,2,    3.047,2,   3.7100,2,   2187.8,6,  2307.66,2,   7.6610,2,    24.93,     44.4,2,     -999,9,  -0.9589,2,     -999,9,     -999,9,     -999,     -999,9,    29.20,2,     -999,1,     -999,9,    0.246,1,    4.538,1,    0.246,1,  17.6700,2,     -999,9,20180323,1337, -68.0035,-170.0028,     -999,9,     -999,9,-999          ,9,     -999,9,     -999,9,     -999,     -999,9,     -999,     -999,9,     -999,1,     -999,1,     -999,1,     -999,1,     -999,1,     -999,1,     -999,1,     -999,1,     -999,1,     -999,1,     -999,1,     -999,1,     -999,1
320620180309  ,P15        ,16      ,  1,35         ,35         ,2,20180323,1137, -68.0021,-170.0028,     3615,     21.8,-0.9478805555555555040,34.037984407122742,2,  34.0371,2,337.34497933375974,2, 342.6979,2,    339.3,2,     53.4,2,    25.86,2,     0.18,2,     1.77,2,     -999,9,     -999,9,     -999,9,   2188.6,2,  2307.30,2,   7.6618,2,    24.93,     46.2,2,     -999,1,  -0.9491,2,     -999,9,     -999,9,     -999,     -999,9,    29.40,2,     -999,1,     -999,1,    0.242,1,    4.545,1,    0.236,1,     -999,9,     -999,1,20180323,1337, -68.0035,-170.0029,     -999,1,     -999,1,-999          ,9,     -999,1,     -999,9,     -999,     -999,9,     -999,     -999,9,     -999,9,     -999,9,     -999,9,     -999,9,     -999,9,     -999,9,     -999,9,     -999,9,     -999,9,     -999,9,     -999,9,     -999,9,     -999,9
320620180309  ,P15        ,16      ,  1,34         ,34         ,2,20180323,1137, -68.0021,-170.0028,     3615,     46.6,-0.9464111111111110919,34.037670353007790,2,  34.0373,2,338.67127144193444,2, 337.1032,2,    339.7,2,     53.2,2,    25.89,2,     0.17,2,     1.76,2,    5.768,2,    3.041,2,   4.1100,2,   2188.2,2,  2307.13,2,   7.6620,2,    24.94,     46.8,2,     -999,9,  -0.9478,2,     -999,9,     -999,9,     -999,     -999,9,    28.50,2,     -999,1,     -999,9,    0.253,1,    4.546,1,    0.230,1,  18.0200,2,     -999,9,20180323,1336, -68.0035,-170.0028,     -999,9,     -999,9,-999          ,9,     -999,9,     -999,9,     -999,     -999,9,     -999,     -999,9,     -999,1,     -999,1,     -999,1,     -999,1,     -999,1,     -999,1,     -999,1,     -999,1,     -999,1,     -999,1,     -999,1,     -999,1,     -999,1
320620180309  ,P15        ,16      ,  1,33         ,33         ,2,20180323,1137, -68.0021,-170.0028,     3615,     75.0,-1.4883305555555554900,34.234946428870458,2,  34.2420,2,319.98154302654655,3, 320.5983,3,    297.5,2,     64.9,2,    29.19,2,     0.14,2,     2.04,2,    4.595,2,    2.416,2,   3.3000,2,   2213.5,2,  2316.96,2,   7.6141,2,    24.93,     41.7,2,     -999,1,  -1.5172,2,     -999,9,     -999,9,     -999,     -999,9,    31.10,2,     -999,1,     -999,1,    0.222,1,    4.569,1,    0.226,1,  21.0200,2,     -999,1,20180323,1334, -68.0032,-170.0029,     -999,1,     -999,1,-999          ,9,     -999,1,     -999,9,     -999,     -999,9,     -999,     -999,9,     -999,1,     -999,1,     -999,1,     -999,1,     -999,1,     -999,1,     -999,1,     -999,1,     -999,1,     -999,1,     -999,1,     -999,1,     -999,1
320620180309  ,P15        ,16      ,  1,32         ,32         ,2,20180323,1137, -68.0021,-170.0028,     3615,    100.3,-1.4937499999999999112,34.338052723924761,2,  34.3494,2,280.25485130061173,2, 279.3004,2,    277.8,2,     71.8,2,    30.91,2,     0.09,2,     2.15,2,    3.853,2,    2.043,2,   2.4100,2,   2227.3,2,  2322.97,2,   7.5946,2,    24.94,     42.6,2,     -999,1,  -1.4879,2,     -999,9,     -999,9,     -999,     -999,9,     -999,9,     -999,1,     -999,1,    0.081,1,    4.646,1,    0.167,1,  20.4800,2,     -999,1,20180323,1332, -68.0030,-170.0031,     -999,1,     -999,1,-999          ,9,     -999,1,     -999,9,     -999,     -999,9,     -999,     -999,9,     -999,1,     -999,1,     -999,1,     -999,1,     -999,1,     -999,1,     -999,1,     -999,1,     -999,1,     -999,1,     -999,1,     -999,1,     -999,1
320620180309  ,P15        ,16      ,  1,31         ,31         ,2,20180323,1137, -68.0021,-170.0028,     3615,    124.6,-0.4015722222222222748,34.458883039557087,2,  34.4534,2,242.82633269370805,3, 236.1010,3,    247.6,2,     78.0,2,    31.69,2,     0.03,2,     2.20,2,     -999,9,     -999,9,     -999,9,   2236.7,2,  2329.23,2,   7.5831,2,    24.93,     44.5,2,     -999,9,  -0.3512,3,     -999,9,     -999,9,     -999,     -999,9,    33.80,2,     -999,1,     -999,9,    0.079,1,    4.652,1,    0.158,1,     -999,9,     -999,9,20180323,1330, -68.0027,-170.0033,     -999,9,     -999,9,-999          ,9,     -999,9,     -999,9,     -999,     -999,9,     -999,     -999,9,     -999,1,     -999,1,     -999,1,     -999,1,     -999,1,     -999,1,     -999,1,     -999,1,     -999,1,     -999,1,     -999,1,     -999,1,     -999,1
320620180309  ,P15        ,16      ,  1,30         ,30         ,2,20180323,1137, -68.0021,-170.0028,     3615,    150.2,0.4479555555555555513,34.558143560355667,2,  34.5673,2,220.51729751686602,3, 210.6978,2,    215.3,2,     83.9,2,    32.29,2,     0.02,2,     2.24,2,    1.683,2,    0.933,2,   0.9700,2,   2249.0,2,  2338.37,2,   7.5705,2,    24.95,     44.3,2,     -999,1,   0.4316,2,     -999,9,     -999,9,     -999,     -999,9,     -999,9,     -999,1,     -999,1,    0.075,1,    4.658,1,    0.184,1,  21.1400,2,     -999,1,20180323,1327, -68.0027,-170.0034,     -999,1,     -999,1,-999          ,9,     -999,1,     -999,9,     -999,     -999,9,     -999,     -999,9,     -999,1,     -999,1,     -999,1,     -999,1,     -999,1,     -999,1,     -999,1,     -999,1,     -999,1,     -999,1,     -999,1,     -999,1,     -999,1
320620180309  ,P15        ,16      ,  1,29         ,29         ,2,20180323,1137, -68.0021,-170.0028,     3615,    202.1,1.3271027777777779644,34.678883435973866,2,  34.6797,2,192.40092760966340,2, 193.9005,2,    191.3,2,     90.6,2,    32.35,2,     0.02,2,     2.24,2,    0.725,2,    0.379,2,   0.3000,2,   2255.6,6,  2347.28,2,   7.5703,2,    24.93,     43.2,2,     -999,9,   1.3305,2,     -999,9,     -999,9,     -999,     -999,9,    34.60,2,     -999,1,     -999,9,    0.067,1,    4.659,1,    0.150,1,  22.9100,2,     -999,9,20180323,1325, -68.0027,-170.0034,     -999,9,     -999,9,-999          ,9,     -999,9,     -999,9,     -999,     -999,9,     -999,     -999,9,     -999,9,     -999,9,     -999,9,     -999,9,     -999,9,     -999,9,     -999,9,     -999,9,     -999,9,     -999,9,     -999,9,     -999,9,     -999,9
320620180309  ,P15        ,16      ,  1,28         ,28         ,2,20180323,1137, -68.0021,-170.0028,     3615,    251.7,1.4520305555555552690,34.708850984171853,2,  34.7080,2,190.23338601385402,2, 192.5989,2,    188.9,2,     92.9,2,    32.27,2,     0.00,2,     2.24,2,    0.507,2,    0.270,2,   0.2600,2,   2257.8,2,  2349.44,2,   7.5759,2,    24.93,     44.4,2,     -999,9,   1.4513,2,     -999,9,     -999,9,     -999,     -999,9,     -999,9,     -999,1,     -999,9,    0.065,1,    4.662,1,    0.155,1,  22.1100,2,     -999,9,20180323,1323, -68.0028,-170.0034,     -999,9,     -999,9,-999          ,9,     -999,9,     -999,9,     -999,     -999,9,     -999,     -999,9,     -999,1,     -999,1,     -999,1,     -999,1,     -999,1,     -999,1,     -999,1,     -999,1,     -999,1,     -999,1,     -999,1,     -999,1,     -999,1
320620180309  ,P15        ,16      ,  1,27         ,27         ,2,20180323,1137, -68.0021,-170.0028,     3615,    302.7,1.4518222222222221252,34.717587947809449,2,  34.7151,2,192.01459363947899,2, 191.8025,2,    190.6,2,     94.6,2,    32.17,2,     0.00,2,     2.23,2,    0.439,2,    0.215,2,   0.1300,2,   2257.2,2,  2351.97,2,   7.5802,2,    24.93,     42.9,2,     -999,1,   1.4515,2,     -999,9,     -999,9,     -999,     -999,9,     -999,9,     -999,1,     -999,1,    0.066,1,    4.664,1,    0.147,1,  21.5000,2,     -999,1,20180323,1320, -68.0029,-170.0034,     -999,1,     -999,1,-999          ,9,     -999,1,     -999,9,     -999,     -999,9,     -999,     -999,9,     -999,9,     -999,9,     -999,9,     -999,9,     -999,9,     -999,9,     -999,9,     -999,9,     -999,9,     -999,9,     -999,9,     -999,9,     -999,9
320620180309  ,P15        ,16      ,  1,26         ,26         ,2,20180323,1137, -68.0021,-170.0028,     3615,    352.6,1.4343638888888885496,34.722505299897399,2,  34.7208,2,190.32372226788422,2, 191.8004,2,    188.7,2,     97.1,2,    32.30,2,     0.00,2,     2.23,2,     -999,9,     -999,9,     -999,9,   2257.7,2,  2353.16,2,   7.5796,2,    24.93,     39.6,2,     -999,9,   1.4328,2,     -999,9,     -999,9,     -999,     -999,9,     -999,9,     -999,1,     -999,9,    0.065,1,    4.667,1,    0.144,1,     -999,9,     -999,9,20180323,1317, -68.0028,-170.0034,     -999,9,     -999,9,-999          ,9,     -999,9,     -999,9,     -999,     -999,9,     -999,     -999,9,     -999,1,     -999,1,     -999,1,     -999,1,     -999,1,     -999,1,     -999,1,     -999,1,     -999,1,     -999,1,     -999,1,     -999,1,     -999,1
320620180309  ,P15        ,16      ,  1,25         ,25         ,2,20180323,1137, -68.0021,-170.0028,     3615,    403.5,1.4139444444444444482,34.724384110480209,2,  34.7225,2,191.04024445244113,2, 192.8055,2,    189.4,2,     98.3,2,    32.28,2,     0.00,2,     2.25,2,    0.313,2,    0.161,2,   0.0400,2,   2259.1,2,     -999,5,   7.5809,2,    24.93,     41.0,2,     -999,9,   1.4108,2,     -999,9,     -999,9,     -999,     -999,9,     -999,9,     -999,1,     -999,9,    0.064,1,    4.666,1,    0.145,1,  21.5700,2,     -999,9,20180323,1315, -68.0028,-170.0033,     -999,9,     -999,9,-999          ,9,     -999,9,     -999,9,     -999,     -999,9,     -999,     -999,9,     -999,9,     -999,9,     -999,9,     -999,9,     -999,9,     -999,9,     -999,9,     -999,9,     -999,9,     -999,9,     -999,9,     -999,9,     -999,9
320620180309  ,P15        ,16      ,  1,24         ,24         ,2,20180323,1137, -68.0021,-170.0028,     3615,    455.2,1.3668916666666666160,34.724320281204434,2,  34.7231,2,191.86716892479416,2, 192.6955,2,    191.6,2,     99.1,2,    32.17,2,     0.00,2,     2.24,2,     -999,9,     -999,9,     -999,9,   2258.1,2,  2353.39,2,   7.5833,2,    24.93,     -999,9,     -999,1,   1.3661,2,     -999,9,     -999,9,     -999,     -999,9,     -999,9,     -999,9,     -999,1,    0.062,1,    4.667,1,    0.146,1,     -999,9,     -999,1,20180323,1313, -68.0028,-170.0034,     -999,1,     -999,1,-999          ,9,     -999,1,     -999,9,     -999,     -999,9,     -999,     -999,9,     -999,1,     -999,1,     -999,1,     -999,1,     -999,1,     -999,1,     -999,1,     -999,1,     -999,1,     -999,1,     -999,1,     -999,1,     -999,1
320620180309  ,P15        ,16      ,  1,23         ,23         ,2,20180323,1137, -68.0021,-170.0028,     3615,    505.5,1.3365888888888888264,34.726006125558428,2,  34.7241,2,192.66721546957919,2, 192.9002,2,    192.0,2,    101.2,2,    32.27,2,     0.00,2,     2.25,2,    0.280,6,    0.148,6,   0.1800,6,   2259.0,2,  2354.33,2,   7.5847,6,    24.92,     42.6,2,     -999,9,   1.3358,2,     -999,9,     -999,9,     -999,     -999,9,     -999,9,     -999,1,     -999,9,    0.063,1,    4.667,1,    0.147,1,  21.6300,6,     -999,9,20180323,1310, -68.0028,-170.0033,     -999,9,     -999,9,-999          ,9,     -999,9,     -999,9,     -999,     -999,9,     -999,     -999,9,     -999,9,     -999,9,     -999,9,     -999,9,     -999,9,     -999,9,     -999,9,     -999,9,     -999,9,     -999,9,     -999,9,     -999,9,     -999,9
320620180309  ,P15        ,16      ,  1,22         ,22         ,2,20180323,1137, -68.0021,-170.0028,     3615,    605.8,1.2529888888888889298,34.725849087439990,2,  34.7245,2,193.18022660054896,2, 194.1935,2,    193.3,2,    104.1,2,    32.27,2,     0.00,2,     2.23,2,     -999,9,     -999,9,     -999,9,   2259.2,2,  2355.00,2,   7.5898,2,    24.92,     43.3,2,     -999,9,   1.2520,2,     -999,9,     -999,9,     -999,     -999,9,     -999,9,     -999,1,     -999,9,    0.062,1,    4.669,1,    0.143,1,     -999,9,     -999,9,20180323,1306, -68.0028,-170.0034,     -999,9,     -999,9,-999          ,9,     -999,9,     -999,9,     -999,     -999,9,     -999,     -999,9,     -999,1,     -999,1,     -999,1,     -999,1,     -999,1,     -999,1,     -999,1,     -999,1,     -999,1,     -999,1,     -999,1,     -999,1,     -999,1
320620180309  ,P15        ,16      ,  1,21         ,21         ,2,20180323,1137, -68.0021,-170.0028,     3615,    709.1,1.1753638888888886527,34.723633457076971,2,  34.7229,2,196.34415717324146,2, 196.6030,2,    196.2,2,    105.8,2,    32.13,2,     0.00,2,     2.23,2,    0.256,2,    0.129,2,   0.2100,2,   2258.7,2,  2355.49,2,   7.5920,2,    24.93,     43.6,2,     -999,1,   1.1746,2,     -999,9,     -999,9,     -999,     -999,9,     -999,9,     -999,1,     -999,1,    0.061,1,    4.671,1,    0.139,1,  19.7800,2,     -999,1,20180323,1302, -68.0027,-170.0034,     -999,1,     -999,1,-999          ,9,     -999,1,     -999,9,     -999,     -999,9,     -999,     -999,9,     -999,9,     -999,9,     -999,9,     -999,9,     -999,9,     -999,9,     -999,9,     -999,9,     -999,9,     -999,9,     -999,9,     -999,9,     -999,9
320620180309  ,P15        ,16      ,  1,20         ,20         ,2,20180323,1137, -68.0021,-170.0028,     3615,    808.2,1.1061361111111112088,34.722192018693924,2,  34.7202,2,197.19129251332532,2, 197.5981,2,    196.5,2,    109.0,2,    32.27,2,     0.00,2,     2.23,2,    0.203,2,    0.112,2,   0.0200,2,   2260.1,2,  2357.86,2,   7.5915,2,    24.92,     42.8,2,     -999,9,   1.1055,2,     -999,9,     -999,9,     -999,     -999,9,     -999,9,     -999,1,     -999,9,    0.062,1,    4.671,1,    0.142,1,  19.9100,2,     -999,9,20180323,1258, -68.0028,-170.0034,     -999,9,     -999,9,-999          ,9,     -999,9,     -999,9,     -999,     -999,9,     -999,     -999,9,     -999,1,     -999,1,     -999,1,     -999,1,     -999,1,     -999,1,     -999,1,     -999,1,     -999,1,     -999,1,     -999,1,     -999,1,     -999,1
320620180309  ,P15        ,16      ,  1,19         ,19         ,2,20180323,1137, -68.0021,-170.0028,     3615,    909.2,1.0476499999999999702,34.719900473851112,2,  34.7196,2,198.34878393295824,2, 198.2007,2,    198.8,2,    110.4,2,    32.26,2,     0.00,2,     2.23,2,    0.196,2,    0.105,2,   0.0900,2,   2259.7,2,  2358.87,2,   7.5949,6,    24.93,     44.2,2,     -999,9,   1.0475,2,     -999,9,     -999,9,     -999,     -999,9,     -999,9,     -999,1,     -999,9,    0.061,1,    4.671,1,    0.139,1,  19.8400,2,     -999,9,20180323,1255, -68.0028,-170.0034,     -999,9,     -999,9,-999          ,9,     -999,9,     -999,9,     -999,     -999,9,     -999,     -999,9,     -999,9,     -999,9,     -999,9,     -999,9,     -999,9,     -999,9,     -999,9,     -999,9,     -999,9,     -999,9,     -999,9,     -999,9,     -999,9
320620180309  ,P15        ,16      ,  1,18         ,18         ,2,20180323,1137, -68.0021,-170.0028,     3615,   1012.1,0.9756138888888887806,34.717332587113631,2,  34.7162,2,199.46402162764559,2, 200.1984,2,    199.9,2,    113.5,2,    32.42,2,     0.00,2,     2.23,2,     -999,9,     -999,9,     -999,9,   2260.5,2,  2359.57,2,   7.5935,2,    24.94,     40.6,2,     -999,1,   0.9745,2,     -999,9,     -999,9,     -999,     -999,9,     -999,9,     -999,1,     -999,1,    0.061,1,    4.672,1,    0.139,1,     -999,9,     -999,1,20180323,1251, -68.0030,-170.0029,     -999,1,     -999,1,-999          ,9,     -999,1,     -999,9,     -999,     -999,9,     -999,     -999,9,     -999,1,     -999,1,     -999,1,     -999,1,     -999,1,     -999,1,     -999,1,     -999,1,     -999,1,     -999,1,     -999,1,     -999,1,     -999,1
320620180309  ,P15        ,16      ,  1,17         ,17         ,2,20180323,1137, -68.0021,-170.0028,     3615,   1114.2,0.9212416666666667364,34.715079133740652,2,  34.7153,2,201.13705879664374,2, 200.7036,2,    200.7,2,    115.4,2,    32.49,2,     0.00,2,     2.23,2,    0.169,2,    0.089,2,   0.0500,2,   2261.1,2,  2360.80,2,   7.5934,2,    24.93,     42.6,2,     -999,9,   0.9207,2,     -999,9,     -999,9,     -999,     -999,9,     -999,9,     -999,1,     -999,9,    0.065,1,    4.673,1,    0.176,1,  20.2400,2,     -999,9,20180323,1247, -68.0033,-170.0030,     -999,9,     -999,9,-999          ,9,     -999,9,     -999,9,     -999,     -999,9,     -999,     -999,9,     -999,9,     -999,9,     -999,9,     -999,9,     -999,9,     -999,9,     -999,9,     -999,9,     -999,9,     -999,9,     -999,9,     -999,9,     -999,9
320620180309  ,P15        ,16      ,  1,16         ,16         ,2,20180323,1137, -68.0021,-170.0028,     3615,   1217.2,0.8639194444444444621,34.712637063511437,2,  34.7129,2,202.10793008311310,2, 200.8999,2,    202.4,2,    116.8,2,    32.48,2,     0.00,2,     2.24,2,    0.201,2,    0.091,2,   0.0900,2,   2260.6,2,  2360.89,2,   7.5934,2,    24.93,     42.5,2,     -999,1,   0.8633,2,     -999,9,     -999,9,     -999,     -999,9,     -999,9,     -999,1,     -999,1,    0.062,1,    4.674,1,    0.141,1,  19.5800,2,     -999,1,20180323,1244, -68.0033,-170.0031,     -999,1,     -999,1,-999          ,9,     -999,1,     -999,9,     -999,     -999,9,     -999,     -999,9,     -999,1,     -999,1,     -999,1,     -999,1,     -999,1,     -999,1,     -999,1,     -999,1,     -999,1,     -999,1,     -999,1,     -999,1,     -999,1