BOTTLE,20240515CCHHYDRO
EXPOCODE,SECT_ID,STNNBR,CASTNO,SAMPNO,BTLNBR,BTLNBR_FLAG_W,DATE,TIME,LATITUDE,LONGITUDE,DEPTH,CTDPRS,CTDTMP,CTDSAL,CTDSAL_FLAG_W,SALNTY,SALNTY_FLAG_W,CTDOXY,CTDOXY_FLAG_W,CTDOPTOXY,CTDOPTOXY_FLAG_W,OXYGEN,OXYGEN_FLAG_W,SILCAT,SILCAT_FLAG_W,NITRAT,NITRAT_FLAG_W,NITRIT,NITRIT_FLAG_W,PHSPHT,PHSPHT_FLAG_W,CFC-11,CFC-11_FLAG_W,CFC-12,CFC-12_FLAG_W,SF6,SF6_FLAG_W,TCARBN,TCARBN_FLAG_W,ALKALI,ALKALI_FLAG_W,PH_TOT,PH_TOT_FLAG_W,PH_TMP,DOC,DOC_FLAG_W,HELIUM,HELIUM_FLAG_W,REFTMP,REFTMP_FLAG_W,DELC13,DELC13_FLAG_W,DELC14,DELC14_FLAG_W,C14ERR,POC,POC_FLAG_W,TDN,TDN_FLAG_W,TON,TON_FLAG_W,NEON,NEON_FLAG_W,CTDFLUOR,CTDFLUOR_FLAG_W,CTDXMISS,CTDXMISS_FLAG_W,CTDBETA700,CTDBETA700_FLAG_W,N2O,N2O_FLAG_W,ARGON,ARGON_FLAG_W,BTL_DATE,BTL_TIME,BTL_LAT,BTL_LON,KRYPTON,KRYPTON_FLAG_W,XENON,XENON_FLAG_W,HPLC,HPLC_FLAG_W,HE3_HE4_RATIO,HE3_HE4_RATIO_FLAG_W,Nd_143_144_D_EPSILON_BOTTLE,Nd_143_144_D_EPSILON_BOTTLE_FLAG_W,Nd_143_144_D_EPSILON_BOTTLE_ERROR,Nd_143_144_D_RATIO_BOTTLE,Nd_143_144_D_RATIO_BOTTLE_FLAG_W,Nd_143_144_D_RATIO_BOTTLE_ERROR,Nd_D_CONC,Nd_D_CONC_FLAG_W,La_D_CONC_BOTTLE,La_D_CONC_BOTTLE_FLAG_W,Ce_D_CONC_BOTTLE,Ce_D_CONC_BOTTLE_FLAG_W,Pr_D_CONC_BOTTLE,Pr_D_CONC_BOTTLE_FLAG_W,Sm_D_CONC_BOTTLE,Sm_D_CONC_BOTTLE_FLAG_W,Eu_D_CONC_BOTTLE,Eu_D_CONC_BOTTLE_FLAG_W,Gd_D_CONC_BOTTLE,Gd_D_CONC_BOTTLE_FLAG_W,Tb_D_CONC_BOTTLE,Tb_D_CONC_BOTTLE_FLAG_W,Dy_D_CONC_BOTTLE,Dy_D_CONC_BOTTLE_FLAG_W,Ho_D_CONC_BOTTLE,Ho_D_CONC_BOTTLE_FLAG_W,Er_D_CONC_BOTTLE,Er_D_CONC_BOTTLE_FLAG_W,Tm_D_CONC_BOTTLE,Tm_D_CONC_BOTTLE_FLAG_W,Yb_D_CONC_BOTTLE,Yb_D_CONC_BOTTLE_FLAG_W,Lu_D_CONC_BOTTLE,Lu_D_CONC_BOTTLE_FLAG_W
,,,,,,,,,,,METERS,DBAR,ITS-90,PSS-78,,PSS-78,,UMOL/KG,,UMOL/KG,,UMOL/KG,,UMOL/KG,,UMOL/KG,,UMOL/KG,,UMOL/KG,,PMOL/KG,,PMOL/KG,,FMOL/KG,,UMOL/KG,,UMOL/KG,,,,DEG C,UMOL/KG,,NMOL/L,,DEG C,,/MILLE,,/MILLE,,/MILLE,UG/KG,,UMOL/KG,,UMOL/KG,,NMOL/L,,VOLTS,,VOLTS,,VOLTS,,NMOL/KG,,UMOL/L,,,,,,NMOL/L,,NMOL/L,,,,,,10000,,10000,,,,PMOL/KG,,PMOL/L,,PMOL/L,,PMOL/L,,PMOL/L,,PMOL/L,,PMOL/L,,PMOL/L,,PMOL/L,,PMOL/L,,PMOL/L,,PMOL/L,,PMOL/L,,PMOL/L,
320620180309  ,P18        ,102     ,  1,36         ,36         ,2,20180501,0225, -68.0005,-102.9997,     4485,      2.5,-1.8257978950580351363,33.668700036778318,2,  33.6659,2,346.48732249244438,2, 347.0031,2,    347.4,2,     35.0,2,    25.68,2,     0.20,2,     1.81,2,    6.709,2,    3.333,2,   3.7500,3,   2162.1,6,  2279.87,2,   7.6613,2,    24.95,     44.3,2,     -999,9,  -1.8307,2,     -999,9,     -999,9,     -999,     -999,9,    27.90,2,     -999,1,     -999,9,    0.155,1,    4.591,1,    0.179,1,  15.6800,2,     -999,9,20180501,0432, -67.9997,-102.9985,     -999,9,     -999,9,-999          ,9,     -999,9,     -999,9,     -999,     -999,9,     -999,     -999,9,     -999,1,     -999,1,     -999,1,     -999,1,     -999,1,     -999,1,     -999,1,     -999,1,     -999,1,     -999,1,     -999,1,     -999,1,     -999,1
320620180309  ,P18        ,102     ,  1,35         ,35         ,2,20180501,0225, -68.0005,-102.9997,     4485,     34.6,-1.8381052500752843581,33.668639989976548,2,  33.6665,2,347.97898869698577,2, 347.0033,2,    345.7,2,     35.2,2,    25.71,2,     0.20,2,     1.83,2,    6.624,2,    3.270,2,   3.8400,2,   2163.0,2,  2280.48,2,   7.6607,2,    24.95,     46.1,2,     -999,9,  -1.8372,2,     -999,9,     -999,9,     -999,     -999,9,    28.10,2,     -999,1,     -999,9,    0.155,1,    4.590,1,    0.186,1,  16.3400,2,     -999,9,20180501,0430, -67.9999,-102.9990,     -999,9,     -999,9,-999          ,9,     -999,9,     -999,9,     -999,     -999,9,     -999,     -999,9,     -999,1,     -999,1,     -999,1,     -999,1,     -999,1,     -999,1,     -999,1,     -999,1,     -999,1,     -999,1,     -999,1,     -999,1,     -999,1
320620180309  ,P18        ,102     ,  1,34         ,34         ,2,20180501,0225, -68.0005,-102.9997,     4485,     60.7,-1.6255583239057549427,33.727345880109922,2,  33.7253,2,348.68926309926115,3, 346.4990,3,    340.4,2,     36.9,2,    26.47,2,     0.20,2,     1.90,2,     -999,9,     -999,9,     -999,9,   2169.8,2,  2281.89,2,   7.6518,2,    24.96,     43.9,2,     -999,9,  -1.6307,2,     -999,9,     -999,9,     -999,     -999,9,    28.10,2,     -999,1,     -999,9,    0.156,1,    4.590,1,    0.185,1,     -999,9,     -999,9,20180501,0428, -68.0001,-102.9996,     -999,9,     -999,9,-999          ,9,     -999,9,     -999,9,     -999,     -999,9,     -999,     -999,9,     -999,1,     -999,1,     -999,1,     -999,1,     -999,1,     -999,1,     -999,1,     -999,1,     -999,1,     -999,1,     -999,1,     -999,1,     -999,1
320620180309  ,P18        ,102     ,  1,33         ,33         ,2,20180501,0225, -68.0005,-102.9997,     4485,     85.4,-1.2134311609309285096,33.897671130818047,2,  33.8943,2,326.75400658516674,3, 323.9066,3,    332.3,2,     39.6,2,    28.35,2,     0.24,2,     2.02,2,    6.299,2,    3.106,2,   4.0200,3,   2183.8,2,  2293.99,2,   7.6343,2,    24.96,     45.2,2,     -999,9,  -1.2111,2,     -999,9,     -999,9,     -999,     -999,9,    31.10,2,     -999,1,     -999,9,    0.114,1,    4.607,1,    0.177,1,  16.7900,2,     -999,9,20180501,0426, -68.0001,-102.9996,     -999,9,     -999,9,-999          ,9,     -999,9,     -999,9,     -999,     -999,9,     -999,     -999,9,     -999,9,     -999,9,     -999,9,     -999,9,     -999,9,     -999,9,     -999,9,     -999,9,     -999,9,     -999,9,     -999,9,     -999,9,     -999,9
320620180309  ,P18        ,102     ,  1,32         ,32         ,2,20180501,0225, -68.0005,-102.9997,     4485,    110.5,-1.0187039501446319978,34.033637582219498,2,  34.0295,2,314.22998153813091,3, 309.1994,2,    310.9,2,     50.0,2,    30.51,2,     0.12,2,     2.14,2,     -999,9,     -999,9,     -999,9,   2200.0,2,  2298.61,2,   7.6059,2,    24.96,     43.9,2,     -999,9,  -0.9859,2,     -999,9,     -999,9,     -999,     -999,9,    32.10,2,     -999,1,     -999,9,    0.081,1,    4.625,1,    0.162,1,     -999,9,     -999,9,20180501,0424, -68.0001,-102.9996,     -999,9,     -999,9,-999          ,9,     -999,9,     -999,9,     -999,     -999,9,     -999,     -999,9,     -999,1,     -999,1,     -999,1,     -999,1,     -999,1,     -999,1,     -999,1,     -999,1,     -999,1,     -999,1,     -999,1,     -999,1,     -999,1
320620180309  ,P18        ,102     ,  1,31         ,31         ,2,20180501,0225, -68.0005,-102.9997,     4485,    135.0,0.1749675632646116585,34.176751034062242,2,  34.1739,2,285.41306652424532,2, 285.4971,2,    285.1,2,     51.9,2,    32.11,2,     0.02,2,     2.23,2,    4.649,2,    2.328,2,   2.5100,3,   2210.5,2,  2307.40,2,   7.5932,2,    24.96,     43.5,2,     -999,9,   0.1529,2,     -999,9,     -999,9,     -999,     -999,9,    34.00,2,     -999,1,     -999,9,    0.076,1,    4.631,1,    0.160,1,  18.9900,2,     -999,9,20180501,0423, -68.0002,-102.9997,     -999,9,     -999,9,-999          ,9,     -999,9,     -999,9,     -999,     -999,9,     -999,     -999,9,     -999,9,     -999,9,     -999,9,     -999,9,     -999,9,     -999,9,     -999,9,     -999,9,     -999,9,     -999,9,     -999,9,     -999,9,     -999,9
320620180309  ,P18        ,102     ,  1,30         ,30         ,2,20180501,0225, -68.0005,-102.9997,     4485,    166.7,1.3924487715411990596,34.366914457387921,2,  34.3621,2,224.25096154261422,3, 223.1962,2,    221.5,2,     63.2,2,    34.41,2,     0.00,2,     2.36,2,     -999,9,     -999,9,     -999,9,   2238.3,2,  2320.02,2,   7.5516,2,    24.96,     42.9,2,     -999,9,   1.3803,2,     -999,9,     -999,9,     -999,     -999,9,    37.10,2,     -999,1,     -999,9,    0.064,1,    4.639,1,    0.151,1,     -999,9,     -999,9,20180501,0421, -68.0003,-102.9997,     -999,9,     -999,9,-999          ,9,     -999,9,     -999,9,     -999,     -999,9,     -999,     -999,9,     -999,1,     -999,1,     -999,1,     -999,1,     -999,1,     -999,1,     -999,1,     -999,1,     -999,1,     -999,1,     -999,1,     -999,1,     -999,1
320620180309  ,P18        ,102     ,  1,29         ,29         ,2,20180501,0225, -68.0005,-102.9997,     4485,    218.0,1.9376948069866355429,34.495499464773673,2,  34.4936,2,192.41983242183284,3, 190.3033,2,    189.0,2,     72.3,2,    34.91,2,     0.00,2,     2.41,2,    1.482,2,    0.774,2,   0.4600,2,   2251.5,2,  2331.95,2,   7.5446,6,    24.96,     42.1,2,     -999,9,   1.9341,2,     -999,9,     -999,9,     -999,     -999,9,    38.20,2,     -999,1,     -999,9,    0.063,1,    4.639,1,    0.150,1,  23.2900,2,     -999,9,20180501,0419, -68.0003,-102.9997,     -999,9,     -999,9,-999          ,9,     -999,9,     -999,9,     -999,     -999,9,     -999,     -999,9,     -999,9,     -999,9,     -999,9,     -999,9,     -999,9,     -999,9,     -999,9,     -999,9,     -999,9,     -999,9,     -999,9,     -999,9,     -999,9
320620180309  ,P18        ,102     ,  1,28         ,28         ,2,20180501,0225, -68.0005,-102.9997,     4485,    267.4,1.8921875836225785505,34.530830207953642,2,  34.5303,2,189.69201486312022,3, 188.3989,2,    186.9,2,     74.9,2,    34.78,2,     0.00,2,     2.41,2,    1.285,2,    0.675,2,   0.1300,3,   2254.5,2,  2333.58,2,   7.5460,2,    24.95,     45.0,2,     -999,9,   1.8924,2,     -999,9,     -999,9,     -999,     -999,9,    37.30,2,     -999,1,     -999,9,    0.062,1,    4.641,1,    0.145,1,  22.6000,2,     -999,9,20180501,0417, -68.0003,-102.9997,     -999,9,     -999,9,-999          ,9,     -999,9,     -999,9,     -999,     -999,9,     -999,     -999,9,     -999,1,     -999,1,     -999,1,     -999,1,     -999,1,     -999,1,     -999,1,     -999,1,     -999,1,     -999,1,     -999,1,     -999,1,     -999,1
320620180309  ,P18        ,102     ,  1,27         ,27         ,2,20180501,0225, -68.0005,-102.9997,     4485,    318.0,2.0024526521410974667,34.575154034011433,2,  34.5736,2,180.60437216344479,2, 181.6005,2,    180.3,2,     77.5,2,    34.51,2,     0.00,2,     2.39,2,    0.962,2,    0.502,2,   0.3900,2,   2256.9,2,  2336.95,2,   7.5497,2,    24.96,     42.3,2,     -999,9,   2.0024,2,     -999,9,     -999,9,     -999,     -999,9,     -999,9,     -999,1,     -999,9,    0.062,1,    4.644,1,    0.140,1,  22.9300,2,     -999,9,20180501,0414, -68.0003,-102.9997,     -999,9,     -999,9,-999          ,9,     -999,9,     -999,9,     -999,     -999,9,     -999,     -999,9,     -999,9,     -999,9,     -999,9,     -999,9,     -999,9,     -999,9,     -999,9,     -999,9,     -999,9,     -999,9,     -999,9,     -999,9,     -999,9
320620180309  ,P18        ,102     ,  1,26         ,38         ,2,20180501,0225, -68.0005,-102.9997,     4485,    369.4,2.0309344093779260199,34.608708140095551,2,  34.6072,2,179.35952575119444,2, 179.8009,2,    178.6,2,     79.4,2,    34.21,2,     0.00,2,     2.37,2,    0.770,2,    0.412,2,   0.3300,3,   2256.6,2,  2339.56,2,   7.5518,2,    24.94,     41.0,2,     -999,9,   2.0303,2,     -999,9,     -999,9,     -999,     -999,9,     -999,9,     -999,1,     -999,9,    0.062,1,    4.646,1,    0.141,1,  22.8800,2,     -999,9,20180501,0412, -68.0005,-102.9997,     -999,9,     -999,9,-999          ,9,     -999,9,     -999,9,     -999,     -999,9,     -999,     -999,9,     -999,1,     -999,1,     -999,1,     -999,1,     -999,1,     -999,1,     -999,1,     -999,1,     -999,1,     -999,1,     -999,1,     -999,1,     -999,1
320620180309  ,P18        ,102     ,  1,25         ,25         ,2,20180501,0225, -68.0005,-102.9997,     4485,    418.8,2.0652545495846266199,34.632654033662845,2,  34.6311,2,177.60042281588568,2, 177.7015,2,    177.3,2,     80.9,2,    33.96,2,     0.00,2,     2.36,2,    0.616,2,    0.324,2,   0.1800,3,   2257.8,2,  2343.41,2,   7.5550,2,    24.91,     41.0,2,     -999,9,   2.0669,2,     -999,9,     -999,9,     -999,     -999,9,     -999,9,     -999,1,     -999,9,    0.062,1,    4.646,1,    0.140,1,  22.0200,2,     -999,9,20180501,0410, -68.0005,-102.9997,     -999,9,     -999,9,-999          ,9,     -999,9,     -999,9,     -999,     -999,9,     -999,     -999,9,     -999,9,     -999,9,     -999,9,     -999,9,     -999,9,     -999,9,     -999,9,     -999,9,     -999,9,     -999,9,     -999,9,     -999,9,     -999,9
320620180309  ,P18        ,102     ,  1,24         ,24         ,2,20180501,0225, -68.0005,-102.9997,     4485,    470.3,2.0822276961825543218,34.655458767786925,2,  34.6546,2,177.02036879454423,2, 177.2980,2,    176.2,2,     82.4,2,    33.68,2,     0.00,2,     2.34,2,    0.490,2,    0.262,2,   0.0500,3,   2259.0,6,  2344.10,2,   7.5613,2,    24.93,     42.0,2,     -999,9,   2.0827,2,     -999,9,     -999,9,     -999,     -999,9,     -999,9,     -999,1,     -999,9,    0.061,1,    4.649,1,    0.138,1,  21.3400,2,     -999,9,20180501,0408, -68.0005,-102.9996,     -999,9,     -999,9,-999          ,9,     -999,9,     -999,9,     -999,     -999,9,     -999,     -999,9,     -999,1,     -999,1,     -999,1,     -999,1,     -999,1,     -999,1,     -999,1,     -999,1,     -999,1,     -999,1,     -999,1,     -999,1,     -999,1
320620180309  ,P18        ,102     ,  1,23         ,23         ,2,20180501,0225, -68.0005,-102.9997,     4485,    540.2,2.0631317169502589870,34.678837370408395,2,  34.6782,2,178.66541404937635,2, 178.7003,2,    177.9,2,     84.0,2,    33.20,2,     0.00,2,     2.30,2,    0.375,2,    0.203,2,   0.0000,3,   2257.5,2,  2347.67,2,   7.5693,2,    24.91,     44.4,2,     -999,9,   2.0627,2,     -999,9,     -999,9,     -999,     -999,9,     -999,9,     -999,1,     -999,9,    0.062,1,    4.648,1,    0.164,1,  20.9600,2,     -999,9,20180501,0405, -68.0005,-102.9997,     -999,9,     -999,9,-999          ,9,     -999,9,     -999,9,     -999,     -999,9,     -999,     -999,9,     -999,9,     -999,9,     -999,9,     -999,9,     -999,9,     -999,9,     -999,9,     -999,9,     -999,9,     -999,9,     -999,9,     -999,9,     -999,9
320620180309  ,P18        ,102     ,  1,22         ,37         ,2,20180501,0225, -68.0005,-102.9997,     4485,    642.0,2.0198825515977967271,34.699360026229705,2,  34.6990,2,180.95890674888440,2, 180.5973,2,    180.6,2,     85.8,2,    32.76,2,     0.00,2,     2.27,2,     -999,9,     -999,9,     -999,9,   2256.0,2,  2347.28,2,   7.5770,2,    24.92,     41.2,2,     -999,9,   2.0195,2,     -999,9,     -999,9,     -999,     -999,9,     -999,9,     -999,1,     -999,9,    0.061,1,    4.648,1,    0.135,1,     -999,9,     -999,9,20180501,0402, -68.0005,-102.9997,     -999,9,     -999,9,-999          ,9,     -999,9,     -999,9,     -999,     -999,9,     -999,     -999,9,     -999,1,     -999,1,     -999,1,     -999,1,     -999,1,     -999,1,     -999,1,     -999,1,     -999,1,     -999,1,     -999,1,     -999,1,     -999,1
320620180309  ,P18        ,102     ,  1,21         ,21         ,2,20180501,0225, -68.0005,-102.9997,     4485,    743.6,1.9269800158897596454,34.714660882757251,2,  34.7137,2,182.61845832117174,2, 182.6052,2,    183.6,2,     88.4,2,    32.45,2,     0.00,2,     2.24,2,    0.248,6,    0.131,6,   0.0000,6,   2255.8,2,  2348.18,2,   7.5867,2,    24.95,     40.0,2,     -999,9,   1.9266,2,     -999,9,     -999,9,     -999,     -999,9,     -999,9,     -999,1,     -999,9,    0.061,1,    4.649,1,    0.136,1,  20.8800,6,     -999,9,20180501,0359, -68.0004,-102.9997,     -999,9,     -999,9,-999          ,9,     -999,9,     -999,9,     -999,     -999,9,     -999,     -999,9,     -999,9,     -999,9,     -999,9,     -999,9,     -999,9,     -999,9,     -999,9,     -999,9,     -999,9,     -999,9,     -999,9,     -999,9,     -999,9
320620180309  ,P18        ,102     ,  1,20         ,20         ,2,20180501,0225, -68.0005,-102.9997,     4485,    844.8,1.8488379537316113055,34.722298781767776,2,  34.7213,2,185.93715746184725,2, 185.4998,2,    186.1,2,     90.0,2,    32.28,2,     0.00,2,     2.22,2,     -999,9,     -999,9,     -999,9,   2257.0,2,  2350.35,2,   7.5890,2,    24.92,     42.2,2,     -999,9,   1.8486,2,     -999,9,     -999,9,     -999,     -999,9,     -999,9,     -999,1,     -999,9,    0.061,1,    4.649,1,    0.138,1,     -999,9,     -999,9,20180501,0356, -68.0005,-102.9997,     -999,9,     -999,9,-999          ,9,     -999,9,     -999,9,     -999,     -999,9,     -999,     -999,9,     -999,1,     -999,1,     -999,1,     -999,1,     -999,1,     -999,1,     -999,1,     -999,1,     -999,1,     -999,1,     -999,1,     -999,1,     -999,1
320620180309  ,P18        ,102     ,  1,19         ,19         ,2,20180501,0225, -68.0005,-102.9997,     4485,    946.0,1.7602508949935482541,34.728446748221636,2,  34.7280,2,188.44803858357025,2, 187.9006,2,    188.9,2,     92.7,2,    32.07,2,     0.00,2,     2.22,2,    0.196,2,    0.110,2,   0.0000,2,   2257.8,2,  2355.17,2,   7.5888,2,    24.93,     41.1,2,     -999,9,   1.7598,2,     -999,9,     -999,9,     -999,     -999,9,     -999,9,     -999,1,     -999,9,    0.061,1,    4.649,1,    0.133,1,  19.9400,2,     -999,9,20180501,0353, -68.0004,-102.9997,     -999,9,     -999,9,-999          ,9,     -999,9,     -999,9,     -999,     -999,9,     -999,     -999,9,     -999,9,     -999,9,     -999,9,     -999,9,     -999,9,     -999,9,     -999,9,     -999,9,     -999,9,     -999,9,     -999,9,     -999,9,     -999,9
320620180309  ,P18        ,102     ,  1,18         ,18         ,2,20180501,0225, -68.0005,-102.9997,     4485,   1047.9,1.6693355943700214361,34.731202247020917,2,  34.7306,2,190.48638419974478,2, 189.8994,2,    190.2,2,     94.9,2,    31.99,2,     0.00,2,     2.20,2,    0.182,2,    0.101,2,   0.0000,3,   2257.1,2,  2356.90,2,   7.5972,2,    24.91,     -999,5,     -999,9,   1.6687,2,     -999,9,     -999,9,     -999,     -999,9,     -999,9,     -999,1,     -999,9,    0.061,1,    4.650,1,    0.132,1,  19.2500,2,     -999,9,20180501,0349, -68.0004,-102.9997,     -999,9,     -999,9,-999          ,9,     -999,9,     -999,9,     -999,     -999,9,     -999,     -999,9,     -999,1,     -999,1,     -999,1,     -999,1,     -999,1,     -999,1,     -999,1,     -999,1,     -999,1,     -999,1,     -999,1,     -999,1,     -999,1
320620180309  ,P18        ,102     ,  1,17         ,17         ,2,20180501,0225, -68.0005,-102.9997,     4485,   1149.2,1.5710418792730351800,34.732036746954876,2,  34.7317,2,191.49744467610367,2, 191.3002,2,    191.7,2,     98.1,2,    31.97,2,     0.00,2,     2.19,2,    0.168,2,    0.086,2,   0.1000,2,   2259.3,2,  2358.03,2,   7.5947,6,    24.92,     41.2,2,     -999,9,   1.5710,2,     -999,9,     -999,9,     -999,     -999,9,     -999,9,     -999,1,     -999,9,    0.061,1,    4.651,1,    0.130,1,  19.8400,2,     -999,9,20180501,0346, -68.0005,-102.9997,     -999,9,     -999,9,-999          ,9,     -999,9,     -999,9,     -999,     -999,9,     -999,     -999,9,     -999,9,     -999,9,     -999,9,     -999,9,     -999,9,     -999,9,     -999,9,     -999,9,     -999,9,     -999,9,     -999,9,     -999,9,     -999,9
320620180309  ,P18        ,102     ,  1,16         ,16         ,2,20180501,0225, -68.0005,-102.9997,     4485,   1250.8,1.4995143050275969721,34.731441819020759,2,  34.7310,2,193.46620724128400,2, 192.8051,2,    193.4,2,    100.4,2,    31.95,2,     0.00,2,     2.19,2,     -999,9,     -999,9,     -999,9,   2258.4,2,  2358.96,2,   7.5996,2,    24.92,     41.7,2,     -999,9,   1.4993,2,     -999,9,     -999,9,     -999,     -999,9,     -999,9,     -999,1,     -999,9,    0.061,1,    4.651,1,    0.132,1,     -999,9,     -999,9,20180501,0343, -68.0005,-102.9997,     -999,9,     -999,9,-999          ,9,     -999,9,     -999,9,     -999,     -999,9,     -999,     -999,9,     -999,1,     -999,1,     -999,1,     -999,1,     -999,1,     -999,1,     -999,1,     -999,1,     -999,1,     -999,1,     -999,1,     -999,1,     -999,1