BOTTLE,20240515CCHHYDRO
EXPOCODE,SECT_ID,STNNBR,CASTNO,SAMPNO,BTLNBR,BTLNBR_FLAG_W,DATE,TIME,LATITUDE,LONGITUDE,DEPTH,CTDPRS,CTDTMP,CTDSAL,CTDSAL_FLAG_W,SALNTY,SALNTY_FLAG_W,CTDOXY,CTDOXY_FLAG_W,CTDOPTOXY,CTDOPTOXY_FLAG_W,OXYGEN,OXYGEN_FLAG_W,SILCAT,SILCAT_FLAG_W,NITRAT,NITRAT_FLAG_W,NITRIT,NITRIT_FLAG_W,PHSPHT,PHSPHT_FLAG_W,CFC-11,CFC-11_FLAG_W,CFC-12,CFC-12_FLAG_W,SF6,SF6_FLAG_W,TCARBN,TCARBN_FLAG_W,ALKALI,ALKALI_FLAG_W,PH_TOT,PH_TOT_FLAG_W,PH_TMP,DOC,DOC_FLAG_W,HELIUM,HELIUM_FLAG_W,REFTMP,REFTMP_FLAG_W,DELC13,DELC13_FLAG_W,DELC14,DELC14_FLAG_W,C14ERR,POC,POC_FLAG_W,TDN,TDN_FLAG_W,TON,TON_FLAG_W,NEON,NEON_FLAG_W,CTDFLUOR,CTDFLUOR_FLAG_W,CTDXMISS,CTDXMISS_FLAG_W,CTDBETA700,CTDBETA700_FLAG_W,N2O,N2O_FLAG_W,ARGON,ARGON_FLAG_W,BTL_DATE,BTL_TIME,BTL_LAT,BTL_LON,KRYPTON,KRYPTON_FLAG_W,XENON,XENON_FLAG_W,HPLC,HPLC_FLAG_W,HE3_HE4_RATIO,HE3_HE4_RATIO_FLAG_W,Nd_143_144_D_EPSILON_BOTTLE,Nd_143_144_D_EPSILON_BOTTLE_FLAG_W,Nd_143_144_D_EPSILON_BOTTLE_ERROR,Nd_143_144_D_RATIO_BOTTLE,Nd_143_144_D_RATIO_BOTTLE_FLAG_W,Nd_143_144_D_RATIO_BOTTLE_ERROR,Nd_D_CONC,Nd_D_CONC_FLAG_W,La_D_CONC_BOTTLE,La_D_CONC_BOTTLE_FLAG_W,Ce_D_CONC_BOTTLE,Ce_D_CONC_BOTTLE_FLAG_W,Pr_D_CONC_BOTTLE,Pr_D_CONC_BOTTLE_FLAG_W,Sm_D_CONC_BOTTLE,Sm_D_CONC_BOTTLE_FLAG_W,Eu_D_CONC_BOTTLE,Eu_D_CONC_BOTTLE_FLAG_W,Gd_D_CONC_BOTTLE,Gd_D_CONC_BOTTLE_FLAG_W,Tb_D_CONC_BOTTLE,Tb_D_CONC_BOTTLE_FLAG_W,Dy_D_CONC_BOTTLE,Dy_D_CONC_BOTTLE_FLAG_W,Ho_D_CONC_BOTTLE,Ho_D_CONC_BOTTLE_FLAG_W,Er_D_CONC_BOTTLE,Er_D_CONC_BOTTLE_FLAG_W,Tm_D_CONC_BOTTLE,Tm_D_CONC_BOTTLE_FLAG_W,Yb_D_CONC_BOTTLE,Yb_D_CONC_BOTTLE_FLAG_W,Lu_D_CONC_BOTTLE,Lu_D_CONC_BOTTLE_FLAG_W
,,,,,,,,,,,METERS,DBAR,ITS-90,PSS-78,,PSS-78,,UMOL/KG,,UMOL/KG,,UMOL/KG,,UMOL/KG,,UMOL/KG,,UMOL/KG,,UMOL/KG,,PMOL/KG,,PMOL/KG,,FMOL/KG,,UMOL/KG,,UMOL/KG,,,,DEG C,UMOL/KG,,NMOL/L,,DEG C,,/MILLE,,/MILLE,,/MILLE,UG/KG,,UMOL/KG,,UMOL/KG,,NMOL/L,,VOLTS,,VOLTS,,VOLTS,,NMOL/KG,,UMOL/L,,,,,,NMOL/L,,NMOL/L,,,,,,10000,,10000,,,,PMOL/KG,,PMOL/L,,PMOL/L,,PMOL/L,,PMOL/L,,PMOL/L,,PMOL/L,,PMOL/L,,PMOL/L,,PMOL/L,,PMOL/L,,PMOL/L,,PMOL/L,,PMOL/L,
320620180309  ,P16        ,49      ,  1,36         ,36         ,2,20180407,0511, -69.5009,-149.9918,     4358,     10.2,-1.5102083333333333748,33.796732913387601,2,  33.7944,2,347.58633382829879,2, 347.8973,2,    348.2,2,     42.6,2,    24.60,2,     0.21,2,     1.77,2,    6.476,2,    3.291,2,   3.7500,2,   2172.8,6,  2290.49,2,   7.6626,2,    24.94,     -999,9,     -999,9,  -1.5109,2,     -999,9,     -999,9,     -999,     -999,9,     -999,9,     -999,9,     -999,9,    0.107,1,    4.643,1,    0.150,1,  17.6100,2,     -999,9,20180407,0712, -69.4973,-149.9862,     -999,9,     -999,9,-999          ,9,     -999,9,     -999,9,     -999,     -999,9,     -999,     -999,9,     -999,1,     -999,1,     -999,1,     -999,1,     -999,1,     -999,1,     -999,1,     -999,1,     -999,1,     -999,1,     -999,1,     -999,1,     -999,1
320620180309  ,P16        ,49      ,  1,35         ,35         ,2,20180407,0511, -69.5009,-149.9918,     4358,     34.7,-1.5099388888888889415,33.796542188248374,2,  33.7943,2,349.01050117136583,2, 347.9026,2,    347.8,2,     42.6,2,    24.54,2,     0.21,2,     1.78,2,     -999,9,     -999,9,     -999,9,   2174.2,2,  2289.25,2,   7.6608,2,    24.94,     -999,9,     -999,9,  -1.5108,2,     -999,9,     -999,9,     -999,     -999,9,     -999,9,     -999,9,     -999,9,    0.103,1,    4.640,1,    0.155,1,     -999,9,     -999,9,20180407,0710, -69.4973,-149.9863,     -999,9,     -999,9,-999          ,9,     -999,9,     -999,9,     -999,     -999,9,     -999,     -999,9,     -999,1,     -999,1,     -999,1,     -999,1,     -999,1,     -999,1,     -999,1,     -999,1,     -999,1,     -999,1,     -999,1,     -999,1,     -999,1
320620180309  ,P16        ,49      ,  1,34         ,34         ,2,20180407,0511, -69.5009,-149.9918,     4358,     60.0,-1.5086999999999999300,33.797239576979052,2,  33.7950,2,350.48997015930848,2, 347.9008,2,    347.9,2,     42.7,2,    24.55,2,     0.21,2,     1.79,2,     -999,9,     -999,9,     -999,9,   2174.2,2,  2291.48,2,   7.6624,2,    24.93,     -999,9,     -999,9,  -1.5089,2,     -999,9,     -999,9,     -999,     -999,9,     -999,9,     -999,9,     -999,9,    0.103,1,    4.642,1,    0.158,1,     -999,9,     -999,9,20180407,0709, -69.4973,-149.9865,     -999,9,     -999,9,-999          ,9,     -999,9,     -999,9,     -999,     -999,9,     -999,     -999,9,     -999,9,     -999,9,     -999,9,     -999,9,     -999,9,     -999,9,     -999,9,     -999,9,     -999,9,     -999,9,     -999,9,     -999,9,     -999,9
320620180309  ,P16        ,49      ,  1,33         ,33         ,2,20180407,0511, -69.5009,-149.9918,     4358,     85.6,-1.4816611111111113175,33.833079033912135,2,  33.8478,2,348.41098014015779,3, 350.6007,3,    341.2,2,     43.6,2,    25.11,2,     0.21,2,     1.83,2,     -999,9,     -999,9,     -999,9,     -999,9,     -999,9,     -999,9,     -999,     -999,9,     -999,9,  -1.4855,2,     -999,9,     -999,9,     -999,     -999,9,     -999,9,     -999,9,     -999,9,    0.094,1,    4.646,1,    0.150,1,     -999,9,     -999,9,20180407,0707, -69.4973,-149.9868,     -999,9,     -999,9,-999          ,9,     -999,9,     -999,9,     -999,     -999,9,     -999,     -999,9,     -999,1,     -999,1,     -999,1,     -999,1,     -999,1,     -999,1,     -999,1,     -999,1,     -999,1,     -999,1,     -999,1,     -999,1,     -999,1
320620180309  ,P16        ,49      ,  1,32         ,32         ,2,20180407,0511, -69.5009,-149.9918,     4358,    110.7,-1.2561805555555556335,34.117919908379747,2,  34.1185,2,299.82000707736512,2, 310.2993,3,    299.4,2,     53.4,2,    28.57,2,     0.17,2,     2.05,2,     -999,9,     -999,9,     -999,9,   2205.9,2,  2307.87,2,   7.6110,2,    24.93,     -999,9,     -999,9,  -1.2594,2,     -999,9,     -999,9,     -999,     -999,9,     -999,9,     -999,9,     -999,9,    0.082,1,    4.652,1,    0.145,1,     -999,9,     -999,9,20180407,0705, -69.4973,-149.9869,     -999,9,     -999,9,-999          ,9,     -999,9,     -999,9,     -999,     -999,9,     -999,     -999,9,     -999,9,     -999,9,     -999,9,     -999,9,     -999,9,     -999,9,     -999,9,     -999,9,     -999,9,     -999,9,     -999,9,     -999,9,     -999,9
320620180309  ,P16        ,49      ,  1,31         ,31         ,2,20180407,0511, -69.5009,-149.9918,     4358,    135.8,-0.4680138888888889515,34.269599122716933,2,  34.2591,2,274.43524794452543,3, 267.1030,2,    265.6,2,     62.9,2,    30.60,2,     0.06,2,     2.15,2,    3.827,2,    2.017,2,   2.2200,2,     -999,9,     -999,9,     -999,9,     -999,     -999,9,     -999,9,  -0.4816,2,     -999,9,     -999,9,     -999,     -999,9,     -999,9,     -999,9,     -999,9,    0.079,1,    4.656,1,    0.150,1,  21.3700,2,     -999,9,20180407,0703, -69.4973,-149.9870,     -999,9,     -999,9,-999          ,9,     -999,9,     -999,9,     -999,     -999,9,     -999,     -999,9,     -999,1,     -999,1,     -999,1,     -999,1,     -999,1,     -999,1,     -999,1,     -999,1,     -999,1,     -999,1,     -999,1,     -999,1,     -999,1
320620180309  ,P16        ,49      ,  1,30         ,30         ,2,20180407,0511, -69.5009,-149.9918,     4358,    166.4,0.7246861111111110310,34.498332183237004,2,  34.4952,2,220.10794111030788,3, 212.4992,2,    214.9,2,     78.5,2,    32.78,2,     0.03,2,     2.29,2,     -999,9,     -999,9,     -999,9,     -999,9,     -999,9,     -999,9,     -999,     -999,9,     -999,9,   0.7262,2,     -999,9,     -999,9,     -999,     -999,9,     -999,9,     -999,9,     -999,9,    0.076,1,    4.655,1,    0.139,1,     -999,9,     -999,9,20180407,0701, -69.4973,-149.9870,     -999,9,     -999,9,-999          ,9,     -999,9,     -999,9,     -999,     -999,9,     -999,     -999,9,     -999,9,     -999,9,     -999,9,     -999,9,     -999,9,     -999,9,     -999,9,     -999,9,     -999,9,     -999,9,     -999,9,     -999,9,     -999,9
320620180309  ,P16        ,49      ,  1,29         ,29         ,2,20180407,0511, -69.5009,-149.9918,     4358,    217.2,1.4849416666666668263,34.657426289544787,2,  34.6639,2,186.21191261532016,3, 187.0973,2,    184.3,2,     87.7,2,    33.29,2,     0.02,2,     2.31,2,    0.730,2,    0.390,2,   0.2900,2,   2258.8,2,  2343.49,2,   7.5658,2,    24.95,     -999,9,     -999,9,   1.4811,2,     -999,9,     -999,9,     -999,     -999,9,     -999,9,     -999,9,     -999,9,    0.067,1,    4.659,1,    0.141,1,  23.7900,2,     -999,9,20180407,0659, -69.4973,-149.9869,     -999,9,     -999,9,-999          ,9,     -999,9,     -999,9,     -999,     -999,9,     -999,     -999,9,     -999,1,     -999,1,     -999,1,     -999,1,     -999,1,     -999,1,     -999,1,     -999,1,     -999,1,     -999,1,     -999,1,     -999,1,     -999,1
320620180309  ,P16        ,49      ,  1,28         ,28         ,2,20180407,0511, -69.5009,-149.9918,     4358,    268.3,1.6040916666666666934,34.705854828054562,2,  34.7047,2,183.20443219773068,2, 181.6991,2,    182.4,2,     91.6,2,    32.96,2,     0.02,2,     2.30,2,     -999,9,     -999,9,     -999,9,   2261.6,2,  2348.78,2,   7.5679,2,    24.94,     -999,9,     -999,9,   1.6044,2,     -999,9,     -999,9,     -999,     -999,9,     -999,9,     -999,9,     -999,9,    0.064,1,    4.664,1,    0.135,1,     -999,9,     -999,9,20180407,0657, -69.4973,-149.9868,     -999,9,     -999,9,-999          ,9,     -999,9,     -999,9,     -999,     -999,9,     -999,     -999,9,     -999,1,     -999,1,     -999,1,     -999,1,     -999,1,     -999,1,     -999,1,     -999,1,     -999,1,     -999,1,     -999,1,     -999,1,     -999,1
320620180309  ,P16        ,49      ,  1,27         ,27         ,2,20180407,0511, -69.5009,-149.9918,     4358,    318.7,1.5689138888888891632,34.720505540306192,2,  34.7202,2,183.50279280650750,2, 182.3993,2,    183.1,2,     94.7,2,    32.83,2,     0.00,2,     2.26,2,    0.320,2,    0.171,2,   0.0800,2,   2259.8,6,  2352.07,2,   7.5726,2,    24.93,     -999,9,     -999,9,   1.5672,2,     -999,9,     -999,9,     -999,     -999,9,     -999,9,     -999,9,     -999,9,    0.061,1,    4.666,1,    0.136,1,  22.2000,2,     -999,9,20180407,0655, -69.4973,-149.9867,     -999,9,     -999,9,-999          ,9,     -999,9,     -999,9,     -999,     -999,9,     -999,     -999,9,     -999,1,     -999,1,     -999,1,     -999,1,     -999,1,     -999,1,     -999,1,     -999,1,     -999,1,     -999,1,     -999,1,     -999,1,     -999,1
320620180309  ,P16        ,49      ,  1,26         ,26         ,2,20180407,0511, -69.5009,-149.9918,     4358,    368.2,1.5102888888888890140,34.725518743572565,2,  34.7247,2,183.22633390043754,2, 183.3967,2,    182.6,2,     97.6,2,    32.91,2,     0.00,2,     2.26,2,     -999,9,     -999,9,     -999,9,   2261.5,2,  2353.23,2,   7.5734,2,    24.93,     -999,9,     -999,9,   1.5090,2,     -999,9,     -999,9,     -999,     -999,9,     -999,9,     -999,9,     -999,9,    0.061,1,    4.668,1,    0.132,1,     -999,9,     -999,9,20180407,0652, -69.4973,-149.9867,     -999,9,     -999,9,-999          ,9,     -999,9,     -999,9,     -999,     -999,9,     -999,     -999,9,     -999,9,     -999,9,     -999,9,     -999,9,     -999,9,     -999,9,     -999,9,     -999,9,     -999,9,     -999,9,     -999,9,     -999,9,     -999,9
320620180309  ,P16        ,49      ,  1,25         ,25         ,2,20180407,0511, -69.5009,-149.9918,     4358,    418.4,1.4597749999999998227,34.728870579347365,2,  34.7278,2,183.48382088492173,2, 184.3990,2,    182.9,2,     99.9,2,    32.98,2,     0.00,2,     2.26,2,    0.233,2,    0.121,2,   0.1400,2,   2263.9,2,  2352.63,2,   7.5717,2,    24.93,     -999,9,     -999,9,   1.4605,2,     -999,9,     -999,9,     -999,     -999,9,     -999,9,     -999,9,     -999,9,    0.061,1,    4.669,1,    0.132,1,  22.2900,2,     -999,9,20180407,0650, -69.4973,-149.9867,     -999,9,     -999,9,-999          ,9,     -999,9,     -999,9,     -999,     -999,9,     -999,     -999,9,     -999,1,     -999,1,     -999,1,     -999,1,     -999,1,     -999,1,     -999,1,     -999,1,     -999,1,     -999,1,     -999,1,     -999,1,     -999,1
320620180309  ,P16        ,49      ,  1,24         ,24         ,2,20180407,0511, -69.5009,-149.9918,     4358,    470.3,1.4266694444444447676,34.730127798975630,2,  34.7296,2,183.90717912655592,2, 185.1016,2,    183.9,2,    101.7,2,    32.90,2,     0.00,2,     2.25,2,     -999,9,     -999,9,     -999,9,   2263.4,2,  2354.49,2,   7.5769,6,    24.93,     -999,9,     -999,9,   1.4250,2,     -999,9,     -999,9,     -999,     -999,9,     -999,9,     -999,9,     -999,9,    0.061,1,    4.668,1,    0.133,1,     -999,9,     -999,9,20180407,0648, -69.4973,-149.9866,     -999,9,     -999,9,-999          ,9,     -999,9,     -999,9,     -999,     -999,9,     -999,     -999,9,     -999,9,     -999,9,     -999,9,     -999,9,     -999,9,     -999,9,     -999,9,     -999,9,     -999,9,     -999,9,     -999,9,     -999,9,     -999,9
320620180309  ,P16        ,49      ,  1,23         ,23         ,2,20180407,0511, -69.5009,-149.9918,     4358,    540.4,1.3645750000000003155,34.730410207841437,2,  34.7298,2,183.56870577477846,2, 186.3005,2,    184.8,2,    104.2,2,    33.01,2,     0.00,2,     2.26,2,    0.183,2,    0.098,2,   0.1200,2,     -999,9,     -999,9,     -999,9,     -999,     -999,9,     -999,9,   1.3631,2,     -999,9,     -999,9,     -999,     -999,9,     -999,9,     -999,9,     -999,9,    0.061,1,    4.668,1,    0.132,1,  22.1600,2,     -999,9,20180407,0645, -69.4973,-149.9866,     -999,9,     -999,9,-999          ,9,     -999,9,     -999,9,     -999,     -999,9,     -999,     -999,9,     -999,1,     -999,1,     -999,1,     -999,1,     -999,1,     -999,1,     -999,1,     -999,1,     -999,1,     -999,1,     -999,1,     -999,1,     -999,1
320620180309  ,P16        ,49      ,  1,22         ,37         ,2,20180407,0511, -69.5009,-149.9918,     4358,    642.9,1.2846055555555553340,34.729497725162318,2,  34.7288,2,185.51861044291309,2, 188.0030,2,    186.6,2,    106.9,2,    32.95,2,     0.00,2,     2.26,2,     -999,9,     -999,9,     -999,9,     -999,9,     -999,9,     -999,9,     -999,     -999,9,     -999,9,   1.2839,2,     -999,9,     -999,9,     -999,     -999,9,     -999,9,     -999,9,     -999,9,    0.062,1,    4.667,1,    0.132,1,     -999,9,     -999,9,20180407,0642, -69.4973,-149.9865,     -999,9,     -999,9,-999          ,9,     -999,9,     -999,9,     -999,     -999,9,     -999,     -999,9,     -999,9,     -999,9,     -999,9,     -999,9,     -999,9,     -999,9,     -999,9,     -999,9,     -999,9,     -999,9,     -999,9,     -999,9,     -999,9
320620180309  ,P16        ,49      ,  1,21         ,21         ,2,20180407,0511, -69.5009,-149.9918,     4358,    743.3,1.2118277777777779480,34.727505455522902,2,  34.7270,2,187.59884038647712,2, 189.8042,2,    188.6,2,    109.5,2,    32.93,2,     0.00,2,     2.24,2,     -999,9,     -999,9,     -999,9,   2264.8,2,  2359.81,2,   7.5810,6,    24.93,     -999,9,     -999,9,   1.2108,2,     -999,9,     -999,9,     -999,     -999,9,     -999,9,     -999,9,     -999,9,    0.061,1,    4.667,1,    0.132,1,     -999,9,     -999,9,20180407,0639, -69.4973,-149.9864,     -999,9,     -999,9,-999          ,9,     -999,9,     -999,9,     -999,     -999,9,     -999,     -999,9,     -999,1,     -999,1,     -999,1,     -999,1,     -999,1,     -999,1,     -999,1,     -999,1,     -999,1,     -999,1,     -999,1,     -999,1,     -999,1
320620180309  ,P16        ,49      ,  1,20         ,20         ,2,20180407,0511, -69.5009,-149.9918,     4358,    843.2,1.1558777777777775597,34.725742692365692,2,  34.7263,2,190.97875386000993,2, 191.0007,2,    190.3,2,    111.4,2,    32.84,2,     0.00,2,     2.23,2,     -999,9,     -999,9,     -999,9,     -999,9,     -999,9,     -999,9,     -999,     -999,9,     -999,9,   1.1547,2,     -999,9,     -999,9,     -999,     -999,9,     -999,9,     -999,9,     -999,9,    0.062,1,    4.668,1,    0.129,1,     -999,9,     -999,9,20180407,0636, -69.4973,-149.9863,     -999,9,     -999,9,-999          ,9,     -999,9,     -999,9,     -999,     -999,9,     -999,     -999,9,     -999,9,     -999,9,     -999,9,     -999,9,     -999,9,     -999,9,     -999,9,     -999,9,     -999,9,     -999,9,     -999,9,     -999,9,     -999,9
320620180309  ,P16        ,49      ,  1,19         ,19         ,2,20180407,0511, -69.5009,-149.9918,     4358,    943.9,1.0935194444444442663,34.723380699695781,2,  34.7235,2,193.04580755304863,2, 192.5982,2,    192.8,2,    112.8,2,    32.79,2,     0.00,2,     2.21,2,     -999,9,     -999,9,     -999,9,   2265.1,2,  2362.17,2,   7.5845,2,    24.93,     -999,9,     -999,9,   1.0921,2,     -999,9,     -999,9,     -999,     -999,9,     -999,9,     -999,9,     -999,9,    0.061,1,    4.668,1,    0.128,1,     -999,9,     -999,9,20180407,0634, -69.4972,-149.9860,     -999,9,     -999,9,-999          ,9,     -999,9,     -999,9,     -999,     -999,9,     -999,     -999,9,     -999,1,     -999,1,     -999,1,     -999,1,     -999,1,     -999,1,     -999,1,     -999,1,     -999,1,     -999,1,     -999,1,     -999,1,     -999,1
320620180309  ,P16        ,49      ,  1,18         ,18         ,2,20180407,0511, -69.5009,-149.9918,     4358,   1048.3,1.0292277777777778525,34.720858727172057,2,  34.7233,2,195.02854294651840,2, 194.2952,2,    195.1,2,    114.3,2,    32.72,2,     0.00,2,     2.22,2,     -999,9,     -999,9,     -999,9,   2263.4,2,  2360.85,2,   7.5896,2,    24.92,     -999,9,     -999,9,   1.0283,2,     -999,9,     -999,9,     -999,     -999,9,     -999,9,     -999,9,     -999,9,    0.061,1,    4.669,1,    0.128,1,     -999,9,     -999,9,20180407,0631, -69.4972,-149.9860,     -999,9,     -999,9,-999          ,9,     -999,9,     -999,9,     -999,     -999,9,     -999,     -999,9,     -999,9,     -999,9,     -999,9,     -999,9,     -999,9,     -999,9,     -999,9,     -999,9,     -999,9,     -999,9,     -999,9,     -999,9,     -999,9
320620180309  ,P16        ,49      ,  1,17         ,17         ,2,20180407,0511, -69.5009,-149.9918,     4358,   1150.1,0.9705722222222222806,34.718396648307134,2,  34.7196,2,196.70341181843230,2, 195.6010,2,    196.8,2,    116.2,2,    32.70,2,     0.00,2,     2.24,2,     -999,9,     -999,9,     -999,9,     -999,9,     -999,9,     -999,9,     -999,     -999,9,     -999,9,   0.9714,2,     -999,9,     -999,9,     -999,     -999,9,     -999,9,     -999,9,     -999,9,    0.062,1,    4.669,1,    0.128,1,     -999,9,     -999,9,20180407,0627, -69.4972,-149.9858,     -999,9,     -999,9,-999          ,9,     -999,9,     -999,9,     -999,     -999,9,     -999,     -999,9,     -999,1,     -999,1,     -999,1,     -999,1,     -999,1,     -999,1,     -999,1,     -999,1,     -999,1,     -999,1,     -999,1,     -999,1,     -999,1
320620180309  ,P16        ,49      ,  1,16         ,16         ,2,20180407,0511, -69.5009,-149.9918,     4358,   1250.0,0.9198972222222222550,34.716146181640056,2,  34.7162,2,198.24000714266543,2, 197.1057,2,    198.4,2,    117.9,2,    32.70,2,     0.00,2,     2.23,2,     -999,9,     -999,9,     -999,9,   2261.3,2,  2361.06,2,   7.5910,2,    24.93,     -999,9,     -999,9,   0.9189,2,     -999,9,     -999,9,     -999,     -999,9,     -999,9,     -999,9,     -999,9,    0.062,1,    4.669,1,    0.128,1,     -999,9,     -999,9,20180407,0625, -69.4972,-149.9856,     -999,9,     -999,9,-999          ,9,     -999,9,     -999,9,     -999,     -999,9,     -999,     -999,9,     -999,9,     -999,9,     -999,9,     -999,9,     -999,9,     -999,9,     -999,9,     -999,9,     -999,9,     -999,9,     -999,9,     -999,9,     -999,9