BOTTLE,20240515CCHHYDRO
EXPOCODE,SECT_ID,STNNBR,CASTNO,SAMPNO,BTLNBR,BTLNBR_FLAG_W,DATE,TIME,LATITUDE,LONGITUDE,DEPTH,CTDPRS,CTDTMP,CTDSAL,CTDSAL_FLAG_W,SALNTY,SALNTY_FLAG_W,CTDOXY,CTDOXY_FLAG_W,CTDOPTOXY,CTDOPTOXY_FLAG_W,OXYGEN,OXYGEN_FLAG_W,SILCAT,SILCAT_FLAG_W,NITRAT,NITRAT_FLAG_W,NITRIT,NITRIT_FLAG_W,PHSPHT,PHSPHT_FLAG_W,CFC-11,CFC-11_FLAG_W,CFC-12,CFC-12_FLAG_W,SF6,SF6_FLAG_W,TCARBN,TCARBN_FLAG_W,ALKALI,ALKALI_FLAG_W,PH_TOT,PH_TOT_FLAG_W,PH_TMP,DOC,DOC_FLAG_W,HELIUM,HELIUM_FLAG_W,REFTMP,REFTMP_FLAG_W,DELC13,DELC13_FLAG_W,DELC14,DELC14_FLAG_W,C14ERR,POC,POC_FLAG_W,TDN,TDN_FLAG_W,TON,TON_FLAG_W,NEON,NEON_FLAG_W,CTDFLUOR,CTDFLUOR_FLAG_W,CTDXMISS,CTDXMISS_FLAG_W,CTDBETA700,CTDBETA700_FLAG_W,N2O,N2O_FLAG_W,ARGON,ARGON_FLAG_W,BTL_DATE,BTL_TIME,BTL_LAT,BTL_LON,KRYPTON,KRYPTON_FLAG_W,XENON,XENON_FLAG_W,HPLC,HPLC_FLAG_W,HE3_HE4_RATIO,HE3_HE4_RATIO_FLAG_W,Nd_143_144_D_EPSILON_BOTTLE,Nd_143_144_D_EPSILON_BOTTLE_FLAG_W,Nd_143_144_D_EPSILON_BOTTLE_ERROR,Nd_143_144_D_RATIO_BOTTLE,Nd_143_144_D_RATIO_BOTTLE_FLAG_W,Nd_143_144_D_RATIO_BOTTLE_ERROR,Nd_D_CONC,Nd_D_CONC_FLAG_W,La_D_CONC_BOTTLE,La_D_CONC_BOTTLE_FLAG_W,Ce_D_CONC_BOTTLE,Ce_D_CONC_BOTTLE_FLAG_W,Pr_D_CONC_BOTTLE,Pr_D_CONC_BOTTLE_FLAG_W,Sm_D_CONC_BOTTLE,Sm_D_CONC_BOTTLE_FLAG_W,Eu_D_CONC_BOTTLE,Eu_D_CONC_BOTTLE_FLAG_W,Gd_D_CONC_BOTTLE,Gd_D_CONC_BOTTLE_FLAG_W,Tb_D_CONC_BOTTLE,Tb_D_CONC_BOTTLE_FLAG_W,Dy_D_CONC_BOTTLE,Dy_D_CONC_BOTTLE_FLAG_W,Ho_D_CONC_BOTTLE,Ho_D_CONC_BOTTLE_FLAG_W,Er_D_CONC_BOTTLE,Er_D_CONC_BOTTLE_FLAG_W,Tm_D_CONC_BOTTLE,Tm_D_CONC_BOTTLE_FLAG_W,Yb_D_CONC_BOTTLE,Yb_D_CONC_BOTTLE_FLAG_W,Lu_D_CONC_BOTTLE,Lu_D_CONC_BOTTLE_FLAG_W
,,,,,,,,,,,METERS,DBAR,ITS-90,PSS-78,,PSS-78,,UMOL/KG,,UMOL/KG,,UMOL/KG,,UMOL/KG,,UMOL/KG,,UMOL/KG,,UMOL/KG,,PMOL/KG,,PMOL/KG,,FMOL/KG,,UMOL/KG,,UMOL/KG,,,,DEG C,UMOL/KG,,NMOL/L,,DEG C,,/MILLE,,/MILLE,,/MILLE,UG/KG,,UMOL/KG,,UMOL/KG,,NMOL/L,,VOLTS,,VOLTS,,VOLTS,,NMOL/KG,,UMOL/L,,,,,,NMOL/L,,NMOL/L,,,,,,10000,,10000,,,,PMOL/KG,,PMOL/L,,PMOL/L,,PMOL/L,,PMOL/L,,PMOL/L,,PMOL/L,,PMOL/L,,PMOL/L,,PMOL/L,,PMOL/L,,PMOL/L,,PMOL/L,,PMOL/L,
320620180309  ,S04P       ,113     ,  1,15         ,15         ,2,20180504,2013, -67.1003, -89.6692,     4365,   1350.4,1.4636914493190362752,34.729960161708597,2,  34.7302,2,194.03289375794563,2, 193.3964,2,    193.6,2,    101.5,2,    32.05,2,     0.00,2,     2.17,2,     -999,9,     -999,9,     -999,9,     -999,9,     -999,9,     -999,9,     -999,     -999,9,     -999,9,   1.4641,2,     -999,9,     -999,9,     -999,     -999,9,     -999,9,     -999,9,     -999,9,    0.061,1,    4.646,1,    0.130,1,     -999,9,     -999,9,20180504,2127, -67.0994, -89.6730,     -999,9,     -999,9,-999          ,9,     -999,9,     -999,9,     -999,     -999,9,     -999,     -999,9,     -999,9,     -999,9,     -999,9,     -999,9,     -999,9,     -999,9,     -999,9,     -999,9,     -999,9,     -999,9,     -999,9,     -999,9,     -999,9
320620180309  ,S04P       ,113     ,  1,14         ,14         ,2,20180504,2013, -67.1003, -89.6692,     4365,   1452.5,1.3944461529294196467,34.729192241243034,2,  34.7294,2,194.69708438190682,2, 194.4960,2,    194.9,2,    103.6,2,    32.12,2,     0.00,2,     2.20,2,    0.142,2,    0.072,2,   0.1500,2,   2260.6,2,  2360.42,2,   7.5956,2,    25.00,     -999,9,     -999,9,   1.3944,2,     -999,9,     -999,9,     -999,     -999,9,     -999,9,     -999,9,     -999,9,    0.061,1,    4.647,1,    0.130,1,  19.9600,2,     -999,9,20180504,2124, -67.0994, -89.6728,     -999,9,     -999,9,-999          ,9,     -999,9,     -999,9,     -999,     -999,9,     -999,     -999,9,     -999,9,     -999,9,     -999,9,     -999,9,     -999,9,     -999,9,     -999,9,     -999,9,     -999,9,     -999,9,     -999,9,     -999,9,     -999,9
320620180309  ,S04P       ,113     ,  1,13         ,13         ,2,20180504,2013, -67.1003, -89.6692,     4365,   1557.8,1.3336534509956525785,34.727734102754006,2,  34.7282,2,195.85879425383780,2, 195.6026,2,    195.8,2,    106.0,2,    32.16,2,     0.00,2,     2.20,2,     -999,9,     -999,9,     -999,9,     -999,9,     -999,9,     -999,9,     -999,     -999,9,     -999,9,   1.3344,2,     -999,9,     -999,9,     -999,     -999,9,     -999,9,     -999,9,     -999,9,    0.061,1,    4.647,1,    0.129,1,     -999,9,     -999,9,20180504,2121, -67.0996, -89.6724,     -999,9,     -999,9,-999          ,9,     -999,9,     -999,9,     -999,     -999,9,     -999,     -999,9,     -999,9,     -999,9,     -999,9,     -999,9,     -999,9,     -999,9,     -999,9,     -999,9,     -999,9,     -999,9,     -999,9,     -999,9,     -999,9
320620180309  ,S04P       ,113     ,  1,12         ,12         ,2,20180504,2013, -67.1003, -89.6692,     4365,   1665.1,1.2653714787992624835,34.725439641528787,2,  34.7261,2,197.38008529739545,2, 196.7057,2,    197.4,2,    108.2,2,    32.20,2,     0.00,2,     2.20,2,    0.128,2,    0.077,2,   0.1200,2,   2259.8,2,  2362.50,2,   7.5980,2,    25.01,     -999,9,     -999,9,   1.2659,2,     -999,9,     -999,9,     -999,     -999,9,     -999,9,     -999,9,     -999,9,    0.061,1,    4.647,1,    0.130,1,  19.2900,2,     -999,9,20180504,2118, -67.0997, -89.6722,     -999,9,     -999,9,-999          ,9,     -999,9,     -999,9,     -999,     -999,9,     -999,     -999,9,     -999,9,     -999,9,     -999,9,     -999,9,     -999,9,     -999,9,     -999,9,     -999,9,     -999,9,     -999,9,     -999,9,     -999,9,     -999,9
320620180309  ,S04P       ,113     ,  1,11         ,11         ,2,20180504,2013, -67.1003, -89.6692,     4365,   1892.7,1.1458680770746261235,34.721333960556116,2,  34.7219,2,199.87150884997115,2, 198.7024,2,    199.2,2,    112.5,2,    32.32,2,     0.00,2,     2.19,2,     -999,9,     -999,9,     -999,9,     -999,9,     -999,9,     -999,9,     -999,     -999,9,     -999,9,   1.1456,2,     -999,9,     -999,9,     -999,     -999,9,     -999,9,     -999,9,     -999,9,    0.061,1,    4.647,1,    0.130,1,     -999,9,     -999,9,20180504,2112, -67.0996, -89.6723,     -999,9,     -999,9,-999          ,9,     -999,9,     -999,9,     -999,     -999,9,     -999,     -999,9,     -999,9,     -999,9,     -999,9,     -999,9,     -999,9,     -999,9,     -999,9,     -999,9,     -999,9,     -999,9,     -999,9,     -999,9,     -999,9
320620180309  ,S04P       ,113     ,  1,10         ,10         ,2,20180504,2013, -67.1003, -89.6692,     4365,   2113.9,1.0371112832458386777,34.717309837098561,2,  34.7176,2,201.88105179949491,2, 201.1006,2,    200.8,2,    115.9,2,    32.39,2,     0.00,2,     2.20,2,    0.129,2,    0.063,2,   0.0400,2,   2263.1,2,  2363.33,2,   7.5992,2,    25.00,     -999,9,     -999,9,   1.0374,2,     -999,9,     -999,9,     -999,     -999,9,     -999,9,     -999,9,     -999,9,    0.061,1,    4.647,1,    0.128,1,  18.8400,2,     -999,9,20180504,2107, -67.0995, -89.6726,     -999,9,     -999,9,-999          ,9,     -999,9,     -999,9,     -999,     -999,9,     -999,     -999,9,     -999,9,     -999,9,     -999,9,     -999,9,     -999,9,     -999,9,     -999,9,     -999,9,     -999,9,     -999,9,     -999,9,     -999,9,     -999,9
320620180309  ,S04P       ,113     ,  1,9          ,9          ,2,20180504,2013, -67.1003, -89.6692,     4365,   2370.8,0.9156128518659739646,34.712750247833007,2,  34.7137,2,203.52182703847257,2, 203.5985,2,    203.3,2,    120.1,2,    32.52,2,     0.00,2,     2.21,2,     -999,9,     -999,9,     -999,9,     -999,9,     -999,9,     -999,9,     -999,     -999,9,     -999,9,   0.9157,2,     -999,9,     -999,9,     -999,     -999,9,     -999,9,     -999,9,     -999,9,    0.061,1,    4.647,1,    0.128,1,     -999,9,     -999,9,20180504,2101, -67.0994, -89.6730,     -999,9,     -999,9,-999          ,9,     -999,9,     -999,9,     -999,     -999,9,     -999,     -999,9,     -999,9,     -999,9,     -999,9,     -999,9,     -999,9,     -999,9,     -999,9,     -999,9,     -999,9,     -999,9,     -999,9,     -999,9,     -999,9
320620180309  ,S04P       ,113     ,  1,8          ,8          ,2,20180504,2013, -67.1003, -89.6692,     4365,   2574.9,0.8533908651102426468,34.710256378241944,2,  34.7107,2,204.69057158318998,2, 204.6985,2,    205.0,2,    122.4,2,    32.65,2,     0.00,2,     2.22,2,    0.155,2,    0.079,2,   0.0000,2,   2261.4,2,  2363.67,2,   7.5984,2,    25.00,     -999,9,     -999,9,   0.8535,2,     -999,9,     -999,9,     -999,     -999,9,     -999,9,     -999,9,     -999,9,    0.061,1,    4.647,1,    0.128,1,  19.2200,2,     -999,9,20180504,2056, -67.0992, -89.6735,     -999,9,     -999,9,-999          ,9,     -999,9,     -999,9,     -999,     -999,9,     -999,     -999,9,     -999,9,     -999,9,     -999,9,     -999,9,     -999,9,     -999,9,     -999,9,     -999,9,     -999,9,     -999,9,     -999,9,     -999,9,     -999,9
320620180309  ,S04P       ,113     ,  1,7          ,7          ,2,20180504,2013, -67.1003, -89.6692,     4365,   2883.2,0.7339384505634456435,34.706524838862265,2,  34.7072,2,206.32625763088600,2, 207.1054,2,    206.5,2,    126.3,2,    32.72,2,     0.00,2,     2.22,2,     -999,9,     -999,9,     -999,9,     -999,9,     -999,9,     -999,9,     -999,     -999,9,     -999,9,   0.7346,2,     -999,9,     -999,9,     -999,     -999,9,     -999,9,     -999,9,     -999,9,    0.061,1,    4.647,1,    0.125,1,     -999,9,     -999,9,20180504,2049, -67.0993, -89.6729,     -999,9,     -999,9,-999          ,9,     -999,9,     -999,9,     -999,     -999,9,     -999,     -999,9,     -999,9,     -999,9,     -999,9,     -999,9,     -999,9,     -999,9,     -999,9,     -999,9,     -999,9,     -999,9,     -999,9,     -999,9,     -999,9
320620180309  ,S04P       ,113     ,  1,6          ,6          ,2,20180504,2013, -67.1003, -89.6692,     4365,   3154.6,0.6351602604059936041,34.703936449827836,2,  34.7041,2,208.20491128121770,2, 209.0960,2,    208.8,2,    128.5,2,    32.84,2,     0.00,2,     2.24,2,    0.210,2,    0.111,2,   0.0700,2,   2262.8,2,  2364.75,2,   7.5970,2,    25.02,     -999,9,     -999,9,   0.6353,2,     -999,9,     -999,9,     -999,     -999,9,     -999,9,     -999,9,     -999,9,    0.061,1,    4.647,1,    0.124,1,  19.0500,2,     -999,9,20180504,2043, -67.0997, -89.6721,     -999,9,     -999,9,-999          ,9,     -999,9,     -999,9,     -999,     -999,9,     -999,     -999,9,     -999,9,     -999,9,     -999,9,     -999,9,     -999,9,     -999,9,     -999,9,     -999,9,     -999,9,     -999,9,     -999,9,     -999,9,     -999,9
320620180309  ,S04P       ,113     ,  1,5          ,5          ,2,20180504,2013, -67.1003, -89.6692,     4365,   3462.7,0.5374453103265984799,34.702434520308572,2,  34.7019,2,211.06880320048992,2, 211.1008,2,    211.7,2,    132.8,2,    32.94,2,     0.00,2,     2.24,2,     -999,9,     -999,9,     -999,9,     -999,9,     -999,9,     -999,9,     -999,     -999,9,     -999,9,   0.5378,2,     -999,9,     -999,9,     -999,     -999,9,     -999,9,     -999,9,     -999,9,    0.060,1,    4.648,1,    0.126,1,     -999,9,     -999,9,20180504,2036, -67.0997, -89.6721,     -999,9,     -999,9,-999          ,9,     -999,9,     -999,9,     -999,     -999,9,     -999,     -999,9,     -999,9,     -999,9,     -999,9,     -999,9,     -999,9,     -999,9,     -999,9,     -999,9,     -999,9,     -999,9,     -999,9,     -999,9,     -999,9
320620180309  ,S04P       ,113     ,  1,4          ,4          ,2,20180504,2013, -67.1003, -89.6692,     4365,   3770.0,0.4748557354535691832,34.701570373667778,2,  34.7007,2,212.22254591065263,2, 212.4006,2,    212.9,2,    136.3,2,    32.99,2,     0.00,2,     2.24,2,    0.224,2,    0.107,2,   0.1300,2,   2264.4,2,  2365.79,2,   7.5964,2,    25.01,     -999,9,     -999,9,   0.4750,2,     -999,9,     -999,9,     -999,     -999,9,     -999,9,     -999,9,     -999,9,    0.061,1,    4.647,1,    0.127,1,  18.7700,2,     -999,9,20180504,2030, -67.1001, -89.6706,     -999,9,     -999,9,-999          ,9,     -999,9,     -999,9,     -999,     -999,9,     -999,     -999,9,     -999,9,     -999,9,     -999,9,     -999,9,     -999,9,     -999,9,     -999,9,     -999,9,     -999,9,     -999,9,     -999,9,     -999,9,     -999,9
320620180309  ,S04P       ,113     ,  1,3          ,3          ,2,20180504,2013, -67.1003, -89.6692,     4365,   4077.2,0.4453304538560899917,34.700821555344127,2,  34.7011,2,213.63414971812261,2, 213.1007,2,    213.4,2,    139.9,2,    33.10,2,     0.00,2,     2.25,2,     -999,9,     -999,9,     -999,9,   2265.0,2,  2367.57,2,   7.5968,2,    25.03,     -999,9,     -999,9,   0.4454,2,     -999,9,     -999,9,     -999,     -999,9,     -999,9,     -999,9,     -999,9,    0.061,1,    4.645,1,    0.129,1,     -999,9,     -999,9,20180504,2023, -67.1008, -89.6689,     -999,9,     -999,9,-999          ,9,     -999,9,     -999,9,     -999,     -999,9,     -999,     -999,9,     -999,9,     -999,9,     -999,9,     -999,9,     -999,9,     -999,9,     -999,9,     -999,9,     -999,9,     -999,9,     -999,9,     -999,9,     -999,9
320620180309  ,S04P       ,113     ,  1,2          ,2          ,2,20180504,2013, -67.1003, -89.6692,     4365,   4335.9,0.4235349932862096933,34.700070271762819,2,  34.6994,2,213.22215235905145,2, 213.6014,2,    213.3,2,    146.1,2,    33.20,2,     0.00,2,     2.24,2,    0.313,2,    0.154,2,   0.0200,2,   2266.6,6,  2367.17,2,   7.5946,2,    25.00,     -999,9,     -999,9,   0.4239,2,     -999,9,     -999,9,     -999,     -999,9,     -999,9,     -999,9,     -999,9,    0.061,1,    4.638,1,    0.141,1,  18.8100,2,     -999,9,20180504,2017, -67.1007, -89.6689,     -999,9,     -999,9,-999          ,9,     -999,9,     -999,9,     -999,     -999,9,     -999,     -999,9,     -999,9,     -999,9,     -999,9,     -999,9,     -999,9,     -999,9,     -999,9,     -999,9,     -999,9,     -999,9,     -999,9,     -999,9,     -999,9
320620180309  ,S04P       ,113     ,  1,1          ,1          ,2,20180504,2013, -67.1003, -89.6692,     4365,   4443.1,0.4082284192856296956,34.699378951191477,2,  34.7002,2,213.70182615533020,2, 213.6016,2,    213.4,2,    146.7,2,    33.22,2,     0.00,2,     2.24,2,    0.361,2,    0.175,2,   0.0000,2,   2266.6,2,  2369.22,2,   7.5912,6,    25.04,     -999,9,     -999,9,   0.4084,2,     -999,9,     -999,9,     -999,     -999,9,     -999,9,     -999,9,     -999,9,    0.061,1,    4.637,1,    0.140,1,  18.9200,2,     -999,9,20180504,2013, -67.1003, -89.6692,     -999,9,     -999,9,-999          ,9,     -999,9,     -999,9,     -999,     -999,9,     -999,     -999,9,     -999,9,     -999,9,     -999,9,     -999,9,     -999,9,     -999,9,     -999,9,     -999,9,     -999,9,     -999,9,     -999,9,     -999,9,     -999,9