BOTTLE,20240515CCHHYDRO
EXPOCODE,SECT_ID,STNNBR,CASTNO,SAMPNO,BTLNBR,BTLNBR_FLAG_W,DATE,TIME,LATITUDE,LONGITUDE,DEPTH,CTDPRS,CTDTMP,CTDSAL,CTDSAL_FLAG_W,SALNTY,SALNTY_FLAG_W,CTDOXY,CTDOXY_FLAG_W,CTDOPTOXY,CTDOPTOXY_FLAG_W,OXYGEN,OXYGEN_FLAG_W,SILCAT,SILCAT_FLAG_W,NITRAT,NITRAT_FLAG_W,NITRIT,NITRIT_FLAG_W,PHSPHT,PHSPHT_FLAG_W,CFC-11,CFC-11_FLAG_W,CFC-12,CFC-12_FLAG_W,SF6,SF6_FLAG_W,TCARBN,TCARBN_FLAG_W,ALKALI,ALKALI_FLAG_W,PH_TOT,PH_TOT_FLAG_W,PH_TMP,DOC,DOC_FLAG_W,HELIUM,HELIUM_FLAG_W,REFTMP,REFTMP_FLAG_W,DELC13,DELC13_FLAG_W,DELC14,DELC14_FLAG_W,C14ERR,POC,POC_FLAG_W,TDN,TDN_FLAG_W,TON,TON_FLAG_W,NEON,NEON_FLAG_W,CTDFLUOR,CTDFLUOR_FLAG_W,CTDXMISS,CTDXMISS_FLAG_W,CTDBETA700,CTDBETA700_FLAG_W,N2O,N2O_FLAG_W,ARGON,ARGON_FLAG_W,BTL_DATE,BTL_TIME,BTL_LAT,BTL_LON,KRYPTON,KRYPTON_FLAG_W,XENON,XENON_FLAG_W,HPLC,HPLC_FLAG_W,HE3_HE4_RATIO,HE3_HE4_RATIO_FLAG_W,Nd_143_144_D_EPSILON_BOTTLE,Nd_143_144_D_EPSILON_BOTTLE_FLAG_W,Nd_143_144_D_EPSILON_BOTTLE_ERROR,Nd_143_144_D_RATIO_BOTTLE,Nd_143_144_D_RATIO_BOTTLE_FLAG_W,Nd_143_144_D_RATIO_BOTTLE_ERROR,Nd_D_CONC,Nd_D_CONC_FLAG_W,La_D_CONC_BOTTLE,La_D_CONC_BOTTLE_FLAG_W,Ce_D_CONC_BOTTLE,Ce_D_CONC_BOTTLE_FLAG_W,Pr_D_CONC_BOTTLE,Pr_D_CONC_BOTTLE_FLAG_W,Sm_D_CONC_BOTTLE,Sm_D_CONC_BOTTLE_FLAG_W,Eu_D_CONC_BOTTLE,Eu_D_CONC_BOTTLE_FLAG_W,Gd_D_CONC_BOTTLE,Gd_D_CONC_BOTTLE_FLAG_W,Tb_D_CONC_BOTTLE,Tb_D_CONC_BOTTLE_FLAG_W,Dy_D_CONC_BOTTLE,Dy_D_CONC_BOTTLE_FLAG_W,Ho_D_CONC_BOTTLE,Ho_D_CONC_BOTTLE_FLAG_W,Er_D_CONC_BOTTLE,Er_D_CONC_BOTTLE_FLAG_W,Tm_D_CONC_BOTTLE,Tm_D_CONC_BOTTLE_FLAG_W,Yb_D_CONC_BOTTLE,Yb_D_CONC_BOTTLE_FLAG_W,Lu_D_CONC_BOTTLE,Lu_D_CONC_BOTTLE_FLAG_W
,,,,,,,,,,,METERS,DBAR,ITS-90,PSS-78,,PSS-78,,UMOL/KG,,UMOL/KG,,UMOL/KG,,UMOL/KG,,UMOL/KG,,UMOL/KG,,UMOL/KG,,PMOL/KG,,PMOL/KG,,FMOL/KG,,UMOL/KG,,UMOL/KG,,,,DEG C,UMOL/KG,,NMOL/L,,DEG C,,/MILLE,,/MILLE,,/MILLE,UG/KG,,UMOL/KG,,UMOL/KG,,NMOL/L,,VOLTS,,VOLTS,,VOLTS,,NMOL/KG,,UMOL/L,,,,,,NMOL/L,,NMOL/L,,,,,,10000,,10000,,,,PMOL/KG,,PMOL/L,,PMOL/L,,PMOL/L,,PMOL/L,,PMOL/L,,PMOL/L,,PMOL/L,,PMOL/L,,PMOL/L,,PMOL/L,,PMOL/L,,PMOL/L,,PMOL/L,
320620180309  ,S04P       ,92      ,  1,36         ,36         ,2,20180426,0441, -66.9998,-112.9043,     4576,      6.6,-1.4593887237543829993,33.580628406942708,2,  33.5780,2,351.76480961149997,2, 352.7047,2,    352.3,2,     28.0,2,    25.24,2,     0.24,2,     1.78,2,    5.994,2,    3.310,2,   4.0000,2,   2155.8,6,  2270.00,2,   7.6660,2,    24.89,     46.0,2,     -999,9,  -1.4046,3,     -999,9,     -999,9,     -999,     -999,9,    27.10,2,     -999,1,     -999,9,    0.375,1,    4.517,1,    0.276,1,  16.4600,2,     -999,9,20180426,0647, -66.9998,-112.9043,     -999,9,     -999,9,-999          ,9,     -999,9,     -999,9,     -999,     -999,9,     -999,     -999,9,     -999,9,     -999,9,     -999,9,     -999,9,     -999,9,     -999,9,     -999,9,     -999,9,     -999,9,     -999,9,     -999,9,     -999,9,     -999,9
320620180309  ,S04P       ,92      ,  1,35         ,35         ,2,20180426,0441, -66.9998,-112.9043,     4576,     33.2,-1.4876944360313979487,33.585000347196697,2,  33.5876,2,353.12817625654026,2, 352.6999,2,    352.6,2,     29.0,2,    25.34,2,     0.24,2,     1.77,2,    6.011,2,    3.293,2,   3.9100,2,   2155.4,2,  2270.49,2,   7.6659,2,    24.89,     44.5,2,     -999,9,  -1.4868,2,     -999,9,     -999,9,     -999,     -999,9,    27.40,2,     -999,1,     -999,9,    0.378,1,    4.517,1,    0.279,1,  16.1000,2,     -999,9,20180426,0646, -66.9998,-112.9043,     -999,9,     -999,9,-999          ,9,     -999,9,     -999,9,     -999,     -999,9,     -999,     -999,9,     -999,9,     -999,9,     -999,9,     -999,9,     -999,9,     -999,9,     -999,9,     -999,9,     -999,9,     -999,9,     -999,9,     -999,9,     -999,9
320620180309  ,S04P       ,92      ,  1,34         ,34         ,2,20180426,0441, -66.9998,-112.9043,     4576,     58.9,-1.5533364603553168060,33.611173116510514,2,  33.6130,2,351.73465099930962,2, 349.5049,2,    350.8,2,     31.6,2,    25.64,2,     0.24,2,     1.80,2,     -999,9,     -999,9,     -999,9,   2159.1,2,  2274.19,2,   7.6616,2,    24.89,     46.3,2,     -999,9,  -1.5535,2,     -999,9,     -999,9,     -999,     -999,9,    27.70,2,     -999,1,     -999,9,    0.365,1,    4.521,1,    0.284,1,     -999,9,     -999,9,20180426,0644, -66.9998,-112.9044,     -999,9,     -999,9,-999          ,9,     -999,9,     -999,9,     -999,     -999,9,     -999,     -999,9,     -999,9,     -999,9,     -999,9,     -999,9,     -999,9,     -999,9,     -999,9,     -999,9,     -999,9,     -999,9,     -999,9,     -999,9,     -999,9
320620180309  ,S04P       ,92      ,  1,33         ,33         ,2,20180426,0441, -66.9998,-112.9043,     4576,     84.7,-1.2143535285446960259,33.939895094614002,2,  33.9307,2,333.77028985504739,2, 329.8020,3,    333.2,2,     39.4,2,    28.43,2,     0.29,2,     2.01,2,    5.515,2,    3.056,2,   3.5000,2,   2186.3,2,  2290.53,2,   7.6366,2,    24.92,     44.2,2,     -999,9,  -1.2212,2,     -999,9,     -999,9,     -999,     -999,9,    30.10,2,     -999,1,     -999,9,    0.102,1,    4.611,1,    0.192,1,  16.7300,2,     -999,9,20180426,0642, -66.9999,-112.9045,     -999,9,     -999,9,-999          ,9,     -999,9,     -999,9,     -999,     -999,9,     -999,     -999,9,     -999,9,     -999,9,     -999,9,     -999,9,     -999,9,     -999,9,     -999,9,     -999,9,     -999,9,     -999,9,     -999,9,     -999,9,     -999,9
320620180309  ,S04P       ,92      ,  1,32         ,32         ,2,20180426,0441, -66.9998,-112.9043,     4576,    109.7,-0.8474346602333971967,34.026174505359883,2,  34.0099,2,327.38964890006451,2, 327.3006,2,    326.6,2,     42.3,2,    29.95,2,     0.07,2,     2.07,2,     -999,9,     -999,9,     -999,9,   2192.0,2,  2296.35,2,   7.6235,2,    24.90,     42.9,2,     -999,9,  -0.8565,2,     -999,9,     -999,9,     -999,     -999,9,    31.50,2,     -999,1,     -999,9,    0.079,1,    4.630,1,    0.167,1,     -999,9,     -999,9,20180426,0641, -66.9999,-112.9044,     -999,9,     -999,9,-999          ,9,     -999,9,     -999,9,     -999,     -999,9,     -999,     -999,9,     -999,9,     -999,9,     -999,9,     -999,9,     -999,9,     -999,9,     -999,9,     -999,9,     -999,9,     -999,9,     -999,9,     -999,9,     -999,9
320620180309  ,S04P       ,92      ,  1,31         ,31         ,2,20180426,0441, -66.9998,-112.9043,     4576,    135.3,0.1707037255944773013,34.185751413860871,2,  34.1794,2,296.03250700758150,3, 290.8982,3,    286.7,2,     51.7,2,    31.89,2,     0.03,2,     2.17,2,    4.318,2,    2.372,2,   2.4800,2,   2213.3,2,  2305.98,2,   7.5943,2,    24.91,     -999,9,     -999,9,   0.1590,2,     -999,9,     -999,9,     -999,     -999,9,     -999,9,     -999,9,     -999,9,    0.076,1,    4.635,1,    0.161,1,  18.5400,2,     -999,9,20180426,0639, -66.9998,-112.9044,     -999,9,     -999,9,-999          ,9,     -999,9,     -999,9,     -999,     -999,9,     -999,     -999,9,     -999,9,     -999,9,     -999,9,     -999,9,     -999,9,     -999,9,     -999,9,     -999,9,     -999,9,     -999,9,     -999,9,     -999,9,     -999,9
320620180309  ,S04P       ,92      ,  1,30         ,30         ,2,20180426,0441, -66.9998,-112.9043,     4576,    165.1,0.8698401269492482824,34.311507699848569,2,  34.3145,2,247.62652503462567,3, 244.4942,2,    243.7,2,     61.1,2,    33.43,2,     0.03,2,     2.28,2,    3.175,2,    1.744,2,   1.6000,2,   2232.9,2,  2316.25,2,   7.5658,2,    24.89,     42.0,2,     -999,9,   0.8719,2,     -999,9,     -999,9,     -999,     -999,9,    36.00,2,     -999,1,     -999,9,    0.068,1,    4.638,1,    0.159,1,  20.5600,2,     -999,9,20180426,0638, -66.9998,-112.9043,     -999,9,     -999,9,-999          ,9,     -999,9,     -999,9,     -999,     -999,9,     -999,     -999,9,     -999,9,     -999,9,     -999,9,     -999,9,     -999,9,     -999,9,     -999,9,     -999,9,     -999,9,     -999,9,     -999,9,     -999,9,     -999,9
320620180309  ,S04P       ,92      ,  1,29         ,29         ,2,20180426,0441, -66.9998,-112.9043,     4576,    215.7,1.4826249239143023395,34.456993210409713,2,  34.4632,2,209.00719289649817,3, 208.6052,3,    204.7,2,     71.1,2,    34.48,2,     0.01,2,     2.35,2,    1.964,2,    1.051,2,   1.0500,2,   2246.9,2,  2328.56,2,   7.5452,2,    24.90,     44.1,2,     -999,9,   1.4874,2,     -999,9,     -999,9,     -999,     -999,9,     -999,9,     -999,1,     -999,9,    0.065,1,    4.642,1,    0.155,1,  22.4500,2,     -999,9,20180426,0636, -66.9997,-112.9042,     -999,9,     -999,9,-999          ,9,     -999,9,     -999,9,     -999,     -999,9,     -999,     -999,9,     -999,9,     -999,9,     -999,9,     -999,9,     -999,9,     -999,9,     -999,9,     -999,9,     -999,9,     -999,9,     -999,9,     -999,9,     -999,9
320620180309  ,S04P       ,92      ,  1,28         ,28         ,2,20180426,0441, -66.9998,-112.9043,     4576,    267.3,1.9716070087817481049,34.555108624314173,2,  34.5536,2,191.88173328187941,3, 190.4017,3,    184.6,2,     75.3,2,    34.34,2,     0.00,2,     2.33,2,     -999,9,     -999,9,     -999,9,   2254.3,2,  2336.42,2,   7.5473,2,    24.90,     40.0,2,     -999,9,   1.9707,2,     -999,9,     -999,9,     -999,     -999,9,    36.60,2,     -999,1,     -999,9,    0.063,1,    4.646,1,    0.148,1,     -999,9,     -999,9,20180426,0633, -66.9997,-112.9043,     -999,9,     -999,9,-999          ,9,     -999,9,     -999,9,     -999,     -999,9,     -999,     -999,9,     -999,9,     -999,9,     -999,9,     -999,9,     -999,9,     -999,9,     -999,9,     -999,9,     -999,9,     -999,9,     -999,9,     -999,9,     -999,9
320620180309  ,S04P       ,92      ,  1,27         ,27         ,2,20180426,0441, -66.9998,-112.9043,     4576,    318.2,1.9467026979084733895,34.582021057138718,2,  34.5801,2,183.95899087903811,3, 183.7010,2,    181.9,2,     77.5,2,    34.15,2,     0.00,2,     2.32,2,    0.989,2,    0.529,2,   0.4400,2,   2255.8,2,  2337.70,2,   7.5485,2,    24.90,     40.6,2,     -999,9,   1.9445,2,     -999,9,     -999,9,     -999,     -999,9,     -999,9,     -999,1,     -999,9,    0.062,1,    4.647,1,    0.144,1,  22.3100,2,     -999,9,20180426,0631, -66.9999,-112.9046,     -999,9,     -999,9,-999          ,9,     -999,9,     -999,9,     -999,     -999,9,     -999,     -999,9,     -999,9,     -999,9,     -999,9,     -999,9,     -999,9,     -999,9,     -999,9,     -999,9,     -999,9,     -999,9,     -999,9,     -999,9,     -999,9
320620180309  ,S04P       ,92      ,  1,26         ,38         ,2,20180426,0441, -66.9998,-112.9043,     4576,    368.1,1.9336897205418299706,34.605898343717165,2,  34.6070,2,182.92669447716477,2, 182.3994,2,    182.4,2,     79.1,2,    33.83,2,     0.00,2,     2.30,2,    0.859,2,    0.455,2,   0.3700,2,   2256.3,2,  2339.97,2,   7.5519,6,    24.92,     43.3,2,     -999,9,   1.9337,2,     -999,9,     -999,9,     -999,     -999,9,     -999,9,     -999,1,     -999,9,    0.062,1,    4.648,1,    0.142,1,  22.1600,2,     -999,9,20180426,0629, -67.0000,-112.9049,     -999,9,     -999,9,-999          ,9,     -999,9,     -999,9,     -999,     -999,9,     -999,     -999,9,     -999,9,     -999,9,     -999,9,     -999,9,     -999,9,     -999,9,     -999,9,     -999,9,     -999,9,     -999,9,     -999,9,     -999,9,     -999,9
320620180309  ,S04P       ,92      ,  1,25         ,25         ,2,20180426,0441, -66.9998,-112.9043,     4576,    419.1,2.0160851585220336268,34.638477202504554,2,  34.6380,2,180.12829953091588,2, 180.3018,2,    178.9,2,     81.1,2,    33.55,2,     0.00,2,     2.29,2,    0.639,2,    0.334,2,   0.1700,2,   2256.9,2,  2343.84,2,   7.5593,2,    24.89,     -999,9,     -999,9,   2.0160,2,     -999,9,     -999,9,     -999,     -999,9,     -999,9,     -999,9,     -999,9,    0.062,1,    4.650,1,    0.140,1,  21.5900,2,     -999,9,20180426,0627, -67.0000,-112.9048,     -999,9,     -999,9,-999          ,9,     -999,9,     -999,9,     -999,     -999,9,     -999,     -999,9,     -999,9,     -999,9,     -999,9,     -999,9,     -999,9,     -999,9,     -999,9,     -999,9,     -999,9,     -999,9,     -999,9,     -999,9,     -999,9
320620180309  ,S04P       ,92      ,  1,24         ,24         ,2,20180426,0441, -66.9998,-112.9043,     4576,    469.5,2.0278108883499514903,34.654729794680755,2,  34.6544,2,180.20666482802639,2, 179.8031,2,    179.3,2,     81.8,2,    33.27,2,     0.00,2,     2.26,2,     -999,9,     -999,9,     -999,9,   2257.6,2,  2343.96,2,   7.5644,2,    24.91,     41.6,2,     -999,9,   2.0277,2,     -999,9,     -999,9,     -999,     -999,9,     -999,9,     -999,1,     -999,9,    0.062,1,    4.648,1,    0.143,1,     -999,9,     -999,9,20180426,0625, -67.0000,-112.9047,     -999,9,     -999,9,-999          ,9,     -999,9,     -999,9,     -999,     -999,9,     -999,     -999,9,     -999,9,     -999,9,     -999,9,     -999,9,     -999,9,     -999,9,     -999,9,     -999,9,     -999,9,     -999,9,     -999,9,     -999,9,     -999,9
320620180309  ,S04P       ,92      ,  1,23         ,23         ,2,20180426,0441, -66.9998,-112.9043,     4576,    540.2,2.0243817055873054578,34.679847390000340,2,  34.6795,2,180.04803361631835,2, 180.2986,2,    179.4,2,     83.7,2,    32.87,2,     0.00,2,     2.23,2,    0.417,2,    0.223,2,   0.1500,2,   2255.7,6,  2345.91,2,   7.5704,2,    24.90,     42.2,2,     -999,9,   2.0240,2,     -999,9,     -999,9,     -999,     -999,9,     -999,9,     -999,1,     -999,9,    0.062,1,    4.648,1,    0.141,1,  20.7000,2,     -999,9,20180426,0623, -66.9999,-112.9046,     -999,9,     -999,9,-999          ,9,     -999,9,     -999,9,     -999,     -999,9,     -999,     -999,9,     -999,9,     -999,9,     -999,9,     -999,9,     -999,9,     -999,9,     -999,9,     -999,9,     -999,9,     -999,9,     -999,9,     -999,9,     -999,9
320620180309  ,S04P       ,92      ,  1,22         ,37         ,2,20180426,0441, -66.9998,-112.9043,     4576,    642.3,1.9681742579232097690,34.701586529510223,2,  34.7013,2,182.83466415350665,2, 182.3009,2,    182.3,2,     86.1,2,    32.39,2,     0.00,2,     2.21,2,    0.335,2,    0.175,2,   0.0600,2,   2257.3,2,  2349.06,2,   7.5771,2,    24.91,     41.6,2,     -999,9,   1.9681,2,     -999,9,     -999,9,     -999,     -999,9,     -999,9,     -999,1,     -999,9,    0.062,1,    4.646,1,    0.139,1,  20.6400,2,     -999,9,20180426,0620, -66.9998,-112.9044,     -999,9,     -999,9,-999          ,9,     -999,9,     -999,9,     -999,     -999,9,     -999,     -999,9,     -999,9,     -999,9,     -999,9,     -999,9,     -999,9,     -999,9,     -999,9,     -999,9,     -999,9,     -999,9,     -999,9,     -999,9,     -999,9
320620180309  ,S04P       ,92      ,  1,21         ,21         ,2,20180426,0441, -66.9998,-112.9043,     4576,    743.6,1.9007244545055417273,34.716765849818280,2,  34.7160,2,186.12956758366423,2, 185.2028,2,    185.4,2,     88.1,2,    32.01,2,     0.00,2,     2.18,2,    0.279,2,    0.151,2,   0.1400,2,   2255.7,2,  2351.43,2,   7.5858,2,    24.91,     42.0,2,     -999,9,   1.9015,2,     -999,9,     -999,9,     -999,     -999,9,     -999,9,     -999,1,     -999,9,    0.061,1,    4.650,1,    0.141,1,  20.0600,2,     -999,9,20180426,0617, -66.9998,-112.9045,     -999,9,     -999,9,-999          ,9,     -999,9,     -999,9,     -999,     -999,9,     -999,     -999,9,     -999,9,     -999,9,     -999,9,     -999,9,     -999,9,     -999,9,     -999,9,     -999,9,     -999,9,     -999,9,     -999,9,     -999,9,     -999,9
320620180309  ,S04P       ,92      ,  1,20         ,20         ,2,20180426,0441, -66.9998,-112.9043,     4576,    844.3,1.8083906446285595848,34.726227534664389,2,  34.7259,2,188.55249631546005,2, 187.9022,2,    188.7,2,     90.4,2,    31.72,2,     0.00,2,     2.17,2,     -999,9,     -999,9,     -999,9,   2254.5,2,  2353.53,2,   7.5915,2,    24.89,     43.2,2,     -999,9,   1.8105,2,     -999,9,     -999,9,     -999,     -999,9,     -999,9,     -999,1,     -999,9,    0.062,1,    4.651,1,    0.137,1,     -999,9,     -999,9,20180426,0614, -66.9998,-112.9044,     -999,9,     -999,9,-999          ,9,     -999,9,     -999,9,     -999,     -999,9,     -999,     -999,9,     -999,9,     -999,9,     -999,9,     -999,9,     -999,9,     -999,9,     -999,9,     -999,9,     -999,9,     -999,9,     -999,9,     -999,9,     -999,9
320620180309  ,S04P       ,92      ,  1,19         ,19         ,2,20180426,0441, -66.9998,-112.9043,     4576,    944.8,1.7264646050098240160,34.729798707520025,2,  34.7292,2,190.37666702319763,2, 189.4971,2,    190.7,2,     93.1,2,    31.68,2,     0.00,2,     2.14,2,    0.227,2,    0.125,2,   0.0000,2,   2255.4,2,  2355.52,2,   7.5922,2,    24.90,     40.8,2,     -999,9,   1.7270,2,     -999,9,     -999,9,     -999,     -999,9,     -999,9,     -999,1,     -999,9,    0.062,1,    4.652,1,    0.138,1,  19.8900,2,     -999,9,20180426,0611, -66.9999,-112.9045,     -999,9,     -999,9,-999          ,9,     -999,9,     -999,9,     -999,     -999,9,     -999,     -999,9,     -999,9,     -999,9,     -999,9,     -999,9,     -999,9,     -999,9,     -999,9,     -999,9,     -999,9,     -999,9,     -999,9,     -999,9,     -999,9
320620180309  ,S04P       ,92      ,  1,18         ,18         ,2,20180426,0441, -66.9998,-112.9043,     4576,   1046.4,1.6412242609332048371,34.732065254026345,2,  34.7314,2,191.92469493546062,2, 191.6016,2,    192.5,2,     95.3,2,    31.62,2,     0.00,2,     2.16,2,     -999,9,     -999,9,     -999,9,   2255.4,2,  2356.96,2,   7.5955,2,    24.91,     42.1,2,     -999,9,   1.6413,2,     -999,9,     -999,9,     -999,     -999,9,     -999,9,     -999,1,     -999,9,    0.061,1,    4.651,1,    0.140,1,     -999,9,     -999,9,20180426,0608, -66.9998,-112.9044,     -999,9,     -999,9,-999          ,9,     -999,9,     -999,9,     -999,     -999,9,     -999,     -999,9,     -999,9,     -999,9,     -999,9,     -999,9,     -999,9,     -999,9,     -999,9,     -999,9,     -999,9,     -999,9,     -999,9,     -999,9,     -999,9
320620180309  ,S04P       ,92      ,  1,17         ,17         ,2,20180426,0441, -66.9998,-112.9043,     4576,   1146.4,1.5601220388070702327,34.732602576893441,2,  34.7325,2,193.06059226597100,2, 192.7993,2,    191.9,3,     97.9,2,    31.64,2,     0.00,2,     2.16,2,    0.171,2,    0.091,2,   0.0000,2,   2257.7,2,  2357.67,2,   7.5964,2,    24.90,     40.9,2,     -999,9,   1.5600,2,     -999,9,     -999,9,     -999,     -999,9,     -999,9,     -999,1,     -999,9,    0.062,1,    4.652,1,    0.134,1,  14.7600,3,     -999,9,20180426,0605, -66.9998,-112.9044,     -999,9,     -999,9,-999          ,9,     -999,9,     -999,9,     -999,     -999,9,     -999,     -999,9,     -999,9,     -999,9,     -999,9,     -999,9,     -999,9,     -999,9,     -999,9,     -999,9,     -999,9,     -999,9,     -999,9,     -999,9,     -999,9
320620180309  ,S04P       ,92      ,  1,16         ,16         ,2,20180426,0441, -66.9998,-112.9043,     4576,   1250.2,1.4829086663019246384,34.731937116900312,2,  34.7319,2,193.81756815605658,2, 193.6967,2,    193.9,2,    100.2,2,    31.69,2,     0.00,2,     2.17,2,     -999,9,     -999,9,     -999,9,   2257.5,2,  2358.91,2,   7.5968,2,    24.90,     42.2,2,     -999,9,   1.4826,2,     -999,9,     -999,9,     -999,     -999,9,     -999,9,     -999,1,     -999,9,    0.061,1,    4.652,1,    0.131,1,     -999,9,     -999,9,20180426,0602, -66.9999,-112.9045,     -999,9,     -999,9,-999          ,9,     -999,9,     -999,9,     -999,     -999,9,     -999,     -999,9,     -999,9,     -999,9,     -999,9,     -999,9,     -999,9,     -999,9,     -999,9,     -999,9,     -999,9,     -999,9,     -999,9,     -999,9,     -999,9