BOTTLE,20240515CCHHYDRO
EXPOCODE,SECT_ID,STNNBR,CASTNO,SAMPNO,BTLNBR,BTLNBR_FLAG_W,DATE,TIME,LATITUDE,LONGITUDE,DEPTH,CTDPRS,CTDTMP,CTDSAL,CTDSAL_FLAG_W,SALNTY,SALNTY_FLAG_W,CTDOXY,CTDOXY_FLAG_W,CTDOPTOXY,CTDOPTOXY_FLAG_W,OXYGEN,OXYGEN_FLAG_W,SILCAT,SILCAT_FLAG_W,NITRAT,NITRAT_FLAG_W,NITRIT,NITRIT_FLAG_W,PHSPHT,PHSPHT_FLAG_W,CFC-11,CFC-11_FLAG_W,CFC-12,CFC-12_FLAG_W,SF6,SF6_FLAG_W,TCARBN,TCARBN_FLAG_W,ALKALI,ALKALI_FLAG_W,PH_TOT,PH_TOT_FLAG_W,PH_TMP,DOC,DOC_FLAG_W,HELIUM,HELIUM_FLAG_W,REFTMP,REFTMP_FLAG_W,DELC13,DELC13_FLAG_W,DELC14,DELC14_FLAG_W,C14ERR,POC,POC_FLAG_W,TDN,TDN_FLAG_W,TON,TON_FLAG_W,NEON,NEON_FLAG_W,CTDFLUOR,CTDFLUOR_FLAG_W,CTDXMISS,CTDXMISS_FLAG_W,CTDBETA700,CTDBETA700_FLAG_W,N2O,N2O_FLAG_W,ARGON,ARGON_FLAG_W,BTL_DATE,BTL_TIME,BTL_LAT,BTL_LON,KRYPTON,KRYPTON_FLAG_W,XENON,XENON_FLAG_W,HPLC,HPLC_FLAG_W,HE3_HE4_RATIO,HE3_HE4_RATIO_FLAG_W,Nd_143_144_D_EPSILON_BOTTLE,Nd_143_144_D_EPSILON_BOTTLE_FLAG_W,Nd_143_144_D_EPSILON_BOTTLE_ERROR,Nd_143_144_D_RATIO_BOTTLE,Nd_143_144_D_RATIO_BOTTLE_FLAG_W,Nd_143_144_D_RATIO_BOTTLE_ERROR,Nd_D_CONC,Nd_D_CONC_FLAG_W,La_D_CONC_BOTTLE,La_D_CONC_BOTTLE_FLAG_W,Ce_D_CONC_BOTTLE,Ce_D_CONC_BOTTLE_FLAG_W,Pr_D_CONC_BOTTLE,Pr_D_CONC_BOTTLE_FLAG_W,Sm_D_CONC_BOTTLE,Sm_D_CONC_BOTTLE_FLAG_W,Eu_D_CONC_BOTTLE,Eu_D_CONC_BOTTLE_FLAG_W,Gd_D_CONC_BOTTLE,Gd_D_CONC_BOTTLE_FLAG_W,Tb_D_CONC_BOTTLE,Tb_D_CONC_BOTTLE_FLAG_W,Dy_D_CONC_BOTTLE,Dy_D_CONC_BOTTLE_FLAG_W,Ho_D_CONC_BOTTLE,Ho_D_CONC_BOTTLE_FLAG_W,Er_D_CONC_BOTTLE,Er_D_CONC_BOTTLE_FLAG_W,Tm_D_CONC_BOTTLE,Tm_D_CONC_BOTTLE_FLAG_W,Yb_D_CONC_BOTTLE,Yb_D_CONC_BOTTLE_FLAG_W,Lu_D_CONC_BOTTLE,Lu_D_CONC_BOTTLE_FLAG_W
,,,,,,,,,,,METERS,DBAR,ITS-90,PSS-78,,PSS-78,,UMOL/KG,,UMOL/KG,,UMOL/KG,,UMOL/KG,,UMOL/KG,,UMOL/KG,,UMOL/KG,,PMOL/KG,,PMOL/KG,,FMOL/KG,,UMOL/KG,,UMOL/KG,,,,DEG C,UMOL/KG,,NMOL/L,,DEG C,,/MILLE,,/MILLE,,/MILLE,UG/KG,,UMOL/KG,,UMOL/KG,,NMOL/L,,VOLTS,,VOLTS,,VOLTS,,NMOL/KG,,UMOL/L,,,,,,NMOL/L,,NMOL/L,,,,,,10000,,10000,,,,PMOL/KG,,PMOL/L,,PMOL/L,,PMOL/L,,PMOL/L,,PMOL/L,,PMOL/L,,PMOL/L,,PMOL/L,,PMOL/L,,PMOL/L,,PMOL/L,,PMOL/L,,PMOL/L,
320620180309  ,P16        ,40      ,  1,15         ,15         ,2,20180404,0756, -74.0059,-150.0326,     4030,   1354.6,1.0008499999999995733,34.719027890008498,2,  34.7180,2,198.42459596915725,2, 198.6026,2,    198.9,2,    115.3,2,    32.08,2,     0.00,2,     2.18,2,    0.123,2,    0.057,2,   0.0000,2,   2263.5,2,  2356.74,3,   7.5946,2,    24.94,     38.6,2,     -999,9,   1.0002,2,     -999,9,     -999,9,     -999,     -999,9,     -999,9,     -999,1,     -999,9,    0.061,1,    4.673,1,    0.128,1,  21.2300,2,     -999,9,20180404,0904, -74.0123,-150.0774,     -999,9,     -999,9,-999          ,9,     -999,9,     -999,9,     -999,     -999,9,     -999,     -999,9,     -999,9,     -999,9,     -999,9,     -999,9,     -999,9,     -999,9,     -999,9,     -999,9,     -999,9,     -999,9,     -999,9,     -999,9,     -999,9
320620180309  ,P16        ,40      ,  1,14         ,14         ,2,20180404,0756, -74.0059,-150.0326,     4030,   1457.0,0.9497722222222222399,34.716717209558709,2,  34.7160,2,199.78691224098256,2, 199.7034,2,    200.1,2,    116.6,2,    32.10,2,     0.00,2,     2.17,2,     -999,9,     -999,9,     -999,9,   2262.9,2,  2361.21,2,   7.5959,2,    24.95,     40.7,2,     -999,9,   0.9490,2,     -999,9,     -999,9,     -999,     -999,9,     -999,9,     -999,1,     -999,9,    0.062,1,    4.673,1,    0.127,1,     -999,9,     -999,9,20180404,0900, -74.0120,-150.0754,     -999,9,     -999,9,-999          ,9,     -999,9,     -999,9,     -999,     -999,9,     -999,     -999,9,     -999,9,     -999,9,     -999,9,     -999,9,     -999,9,     -999,9,     -999,9,     -999,9,     -999,9,     -999,9,     -999,9,     -999,9,     -999,9
320620180309  ,P16        ,40      ,  1,13         ,13         ,2,20180404,0756, -74.0059,-150.0326,     4030,   1558.8,0.9122583333333332822,34.715158372374866,2,  34.7147,2,200.97591410047696,2, 200.5989,2,    201.0,2,    118.4,2,    32.14,2,     0.00,2,     2.17,2,    0.119,2,    0.061,2,   0.0400,2,   2263.2,2,  2363.13,2,   7.5968,6,    24.95,     -999,9,     -999,9,   0.9110,2,     -999,9,     -999,9,     -999,     -999,9,     -999,9,     -999,9,     -999,9,    0.062,1,    4.673,1,    0.128,1,  20.4700,2,     -999,9,20180404,0857, -74.0117,-150.0735,     -999,9,     -999,9,-999          ,9,     -999,9,     -999,9,     -999,     -999,9,     -999,     -999,9,     -999,9,     -999,9,     -999,9,     -999,9,     -999,9,     -999,9,     -999,9,     -999,9,     -999,9,     -999,9,     -999,9,     -999,9,     -999,9
320620180309  ,P16        ,40      ,  1,12         ,12         ,2,20180404,0756, -74.0059,-150.0326,     4030,   1660.3,0.8617472222222221090,34.713058639503409,2,  34.7125,2,201.84610697152951,2, 201.7023,2,    202.0,2,    120.1,2,    32.18,2,     0.00,2,     2.18,2,     -999,9,     -999,9,     -999,9,   2263.5,6,  2361.71,2,   7.5959,2,    24.96,     38.7,2,     -999,9,   0.8608,2,     -999,9,     -999,9,     -999,     -999,9,     -999,9,     -999,1,     -999,9,    0.062,1,    4.674,1,    0.127,1,     -999,9,     -999,9,20180404,0854, -74.0114,-150.0716,     -999,9,     -999,9,-999          ,9,     -999,9,     -999,9,     -999,     -999,9,     -999,     -999,9,     -999,9,     -999,9,     -999,9,     -999,9,     -999,9,     -999,9,     -999,9,     -999,9,     -999,9,     -999,9,     -999,9,     -999,9,     -999,9
320620180309  ,P16        ,40      ,  1,11         ,11         ,2,20180404,0756, -74.0059,-150.0326,     4030,   1762.5,0.8266249999999999432,34.711584092162148,2,  34.7109,2,202.96238787451719,2, 202.5015,2,    202.6,2,    121.4,2,    32.22,2,     0.00,2,     2.20,2,    0.127,2,    0.087,2,   0.0000,2,   2264.0,2,  2365.51,2,   7.5963,2,    24.95,     -999,9,     -999,9,   0.8255,2,     -999,9,     -999,9,     -999,     -999,9,     -999,9,     -999,9,     -999,9,    0.061,1,    4.674,1,    0.127,1,  21.6300,2,     -999,9,20180404,0851, -74.0111,-150.0696,     -999,9,     -999,9,-999          ,9,     -999,9,     -999,9,     -999,     -999,9,     -999,     -999,9,     -999,9,     -999,9,     -999,9,     -999,9,     -999,9,     -999,9,     -999,9,     -999,9,     -999,9,     -999,9,     -999,9,     -999,9,     -999,9
320620180309  ,P16        ,40      ,  1,10         ,10         ,2,20180404,0756, -74.0059,-150.0326,     4030,   1894.9,0.7813583333333333769,34.709742359660481,2,  34.7066,2,204.06858464714955,2, 203.5942,2,    203.7,2,    123.4,2,    32.22,2,     0.00,2,     2.20,2,     -999,9,     -999,9,     -999,9,   2262.3,2,  2364.36,2,   7.5956,2,    24.97,     38.0,2,     -999,9,   0.7804,2,     -999,9,     -999,9,     -999,     -999,9,     -999,9,     -999,1,     -999,9,    0.062,1,    4.674,1,    0.125,1,     -999,9,     -999,9,20180404,0848, -74.0108,-150.0673,     -999,9,     -999,9,-999          ,9,     -999,9,     -999,9,     -999,     -999,9,     -999,     -999,9,     -999,9,     -999,9,     -999,9,     -999,9,     -999,9,     -999,9,     -999,9,     -999,9,     -999,9,     -999,9,     -999,9,     -999,9,     -999,9
320620180309  ,P16        ,40      ,  1,9          ,9          ,2,20180404,0756, -74.0059,-150.0326,     4030,   2118.9,0.7008750000000000258,34.706690281973096,2,  34.7053,2,205.25313506744570,2, 205.6009,2,    205.4,2,    126.0,2,    32.30,2,     0.00,2,     2.20,2,    0.145,2,    0.082,2,   0.0600,2,   2262.8,2,  2366.20,2,   7.5978,6,    24.96,     40.9,2,     -999,9,   0.6999,2,     -999,9,     -999,9,     -999,     -999,9,     -999,9,     -999,1,     -999,9,    0.060,1,    4.674,1,    0.126,1,  21.3500,2,     -999,9,20180404,0842, -74.0103,-150.0638,     -999,9,     -999,9,-999          ,9,     -999,9,     -999,9,     -999,     -999,9,     -999,     -999,9,     -999,9,     -999,9,     -999,9,     -999,9,     -999,9,     -999,9,     -999,9,     -999,9,     -999,9,     -999,9,     -999,9,     -999,9,     -999,9
320620180309  ,P16        ,40      ,  1,8          ,8          ,2,20180404,0756, -74.0059,-150.0326,     4030,   2374.0,0.6149499999999998856,34.704417216786197,3,  34.7015,2,207.29820001810182,2, 207.5000,2,    207.8,2,    127.8,2,    32.37,2,     0.00,2,     2.21,2,     -999,9,     -999,9,     -999,9,   2261.1,2,  2363.09,2,   7.5956,2,    24.92,     41.1,2,     -999,9,   0.6142,2,     -999,9,     -999,9,     -999,     -999,9,     -999,9,     -999,1,     -999,9,    0.061,1,    4.674,1,    0.130,1,     -999,9,     -999,9,20180404,0836, -74.0097,-150.0598,     -999,9,     -999,9,-999          ,9,     -999,9,     -999,9,     -999,     -999,9,     -999,     -999,9,     -999,9,     -999,9,     -999,9,     -999,9,     -999,9,     -999,9,     -999,9,     -999,9,     -999,9,     -999,9,     -999,9,     -999,9,     -999,9
320620180309  ,P16        ,40      ,  1,7          ,7          ,2,20180404,0756, -74.0059,-150.0326,     4030,   2629.3,0.5257749999999999924,34.702892024083482,2,  34.7017,2,208.69093332778789,2, 209.4995,2,    209.3,2,    129.3,2,    32.48,2,     0.00,2,     2.22,2,    0.173,2,    0.098,2,   0.0200,2,   2262.5,2,  2361.99,2,   7.5990,2,    24.96,     41.1,2,     -999,9,   0.5250,2,     -999,9,     -999,9,     -999,     -999,9,     -999,9,     -999,1,     -999,9,    0.060,1,    4.674,1,    0.127,1,  19.9400,2,     -999,9,20180404,0830, -74.0091,-150.0558,     -999,9,     -999,9,-999          ,9,     -999,9,     -999,9,     -999,     -999,9,     -999,     -999,9,     -999,9,     -999,9,     -999,9,     -999,9,     -999,9,     -999,9,     -999,9,     -999,9,     -999,9,     -999,9,     -999,9,     -999,9,     -999,9
320620180309  ,P16        ,40      ,  1,6          ,6          ,2,20180404,0756, -74.0059,-150.0326,     4030,   2885.1,0.4577027777777776807,34.702210776860092,3,  34.7000,2,210.17580914325285,2, 211.0990,2,    211.0,2,    132.0,2,    32.57,2,     0.00,2,     2.23,2,    0.176,2,    0.094,2,   0.2300,2,   2263.3,2,  2363.49,2,   7.5966,2,    24.95,     -999,5,     -999,9,   0.4568,2,     -999,9,     -999,9,     -999,     -999,9,     -999,9,     -999,1,     -999,9,    0.061,1,    4.674,1,    0.125,1,  20.6400,2,     -999,9,20180404,0824, -74.0085,-150.0519,     -999,9,     -999,9,-999          ,9,     -999,9,     -999,9,     -999,     -999,9,     -999,     -999,9,     -999,9,     -999,9,     -999,9,     -999,9,     -999,9,     -999,9,     -999,9,     -999,9,     -999,9,     -999,9,     -999,9,     -999,9,     -999,9
320620180309  ,P16        ,40      ,  1,5          ,5          ,2,20180404,0756, -74.0059,-150.0326,     4030,   3141.1,0.4144944444444444431,34.701827626156323,3,  34.6990,2,211.91515122984654,2, 212.4057,2,    211.9,2,    134.7,2,    32.69,2,     0.00,2,     2.23,2,    0.177,2,    0.110,2,   0.0000,2,   2265.3,2,  2368.10,2,   7.5958,2,    24.94,     39.0,2,     -999,9,   0.4136,2,     -999,9,     -999,9,     -999,     -999,9,     -999,9,     -999,1,     -999,9,    0.061,1,    4.673,1,    0.125,1,  19.7400,2,     -999,9,20180404,0818, -74.0080,-150.0479,     -999,9,     -999,9,-999          ,9,     -999,9,     -999,9,     -999,     -999,9,     -999,     -999,9,     -999,9,     -999,9,     -999,9,     -999,9,     -999,9,     -999,9,     -999,9,     -999,9,     -999,9,     -999,9,     -999,9,     -999,9,     -999,9
320620180309  ,P16        ,40      ,  1,4          ,4          ,2,20180404,0756, -74.0059,-150.0326,     4030,   3396.7,0.3815000000000001168,34.701457905193045,3,  34.6984,2,213.23362755149603,2, 213.4996,2,    213.1,2,    136.5,2,    32.72,2,     0.00,2,     2.24,2,    0.195,2,    0.107,2,   0.1000,2,   2262.9,2,  2367.58,2,   7.5946,2,    24.96,     -999,9,     -999,9,   0.3807,2,     -999,9,     -999,9,     -999,     -999,9,     -999,9,     -999,9,     -999,9,    0.061,1,    4.673,1,    0.124,1,  24.0000,4,     -999,9,20180404,0812, -74.0074,-150.0439,     -999,9,     -999,9,-999          ,9,     -999,9,     -999,9,     -999,     -999,9,     -999,     -999,9,     -999,9,     -999,9,     -999,9,     -999,9,     -999,9,     -999,9,     -999,9,     -999,9,     -999,9,     -999,9,     -999,9,     -999,9,     -999,9
320620180309  ,P16        ,40      ,  1,3          ,3          ,2,20180404,0756, -74.0059,-150.0326,     4030,   3653.0,0.3502833333333333354,34.700752557806496,3,  34.6980,2,214.42528387917184,2, 214.7004,2,    214.4,2,    138.7,2,    32.75,2,     0.00,2,     2.23,2,    0.246,2,    0.135,2,   0.0400,2,   2264.0,2,  2366.78,2,   7.5947,2,    24.94,     41.7,2,     -999,9,   0.3495,2,     -999,9,     -999,9,     -999,     -999,9,     -999,9,     -999,1,     -999,9,    0.061,1,    4.672,1,    0.128,1,  21.0300,2,     -999,9,20180404,0807, -74.0069,-150.0399,     -999,9,     -999,9,-999          ,9,     -999,9,     -999,9,     -999,     -999,9,     -999,     -999,9,     -999,9,     -999,9,     -999,9,     -999,9,     -999,9,     -999,9,     -999,9,     -999,9,     -999,9,     -999,9,     -999,9,     -999,9,     -999,9
320620180309  ,P16        ,40      ,  1,2          ,2          ,2,20180404,0756, -74.0059,-150.0326,     4030,   3873.7,0.3244694444444445325,34.699479051219335,2,  34.6980,2,215.97334813231095,2, 215.4982,2,    215.9,2,    138.9,2,    32.79,2,     0.00,2,     2.23,2,    0.345,2,    0.183,2,   0.1300,2,   2264.2,2,  2364.13,2,   7.5947,6,    24.96,     40.0,2,     -999,9,   0.3238,2,     -999,9,     -999,9,     -999,     -999,9,     -999,9,     -999,1,     -999,9,    0.061,1,    4.671,1,    0.124,1,  20.0400,2,     -999,9,20180404,0801, -74.0064,-150.0363,     -999,9,     -999,9,-999          ,9,     -999,9,     -999,9,     -999,     -999,9,     -999,     -999,9,     -999,9,     -999,9,     -999,9,     -999,9,     -999,9,     -999,9,     -999,9,     -999,9,     -999,9,     -999,9,     -999,9,     -999,9,     -999,9
320620180309  ,P16        ,40      ,  1,1          ,1          ,2,20180404,0756, -74.0059,-150.0326,     4030,   4100.7,0.2425777777777778088,34.695674187898923,2,  34.6945,2,218.99018119475798,2, 217.0979,2,    217.5,2,    133.9,2,    32.87,2,     0.00,2,     2.25,2,    0.691,2,    0.345,2,   0.0700,2,   2264.2,6,  2361.31,2,   7.5883,2,    24.94,     39.3,2,     -999,9,   0.2421,2,     -999,9,     -999,9,     -999,     -999,9,     -999,9,     -999,1,     -999,9,    0.061,1,    4.655,1,    0.152,1,  20.1400,2,     -999,9,20180404,0756, -74.0059,-150.0326,     -999,9,     -999,9,-999          ,9,     -999,9,     -999,9,     -999,     -999,9,     -999,     -999,9,     -999,9,     -999,9,     -999,9,     -999,9,     -999,9,     -999,9,     -999,9,     -999,9,     -999,9,     -999,9,     -999,9,     -999,9,     -999,9