BOTTLE,20240515CCHHYDRO
EXPOCODE,SECT_ID,STNNBR,CASTNO,SAMPNO,BTLNBR,BTLNBR_FLAG_W,DATE,TIME,LATITUDE,LONGITUDE,DEPTH,CTDPRS,CTDTMP,CTDSAL,CTDSAL_FLAG_W,SALNTY,SALNTY_FLAG_W,CTDOXY,CTDOXY_FLAG_W,CTDOPTOXY,CTDOPTOXY_FLAG_W,OXYGEN,OXYGEN_FLAG_W,SILCAT,SILCAT_FLAG_W,NITRAT,NITRAT_FLAG_W,NITRIT,NITRIT_FLAG_W,PHSPHT,PHSPHT_FLAG_W,CFC-11,CFC-11_FLAG_W,CFC-12,CFC-12_FLAG_W,SF6,SF6_FLAG_W,TCARBN,TCARBN_FLAG_W,ALKALI,ALKALI_FLAG_W,PH_TOT,PH_TOT_FLAG_W,PH_TMP,DOC,DOC_FLAG_W,HELIUM,HELIUM_FLAG_W,REFTMP,REFTMP_FLAG_W,DELC13,DELC13_FLAG_W,DELC14,DELC14_FLAG_W,C14ERR,POC,POC_FLAG_W,TDN,TDN_FLAG_W,TON,TON_FLAG_W,NEON,NEON_FLAG_W,CTDFLUOR,CTDFLUOR_FLAG_W,CTDXMISS,CTDXMISS_FLAG_W,CTDBETA700,CTDBETA700_FLAG_W,N2O,N2O_FLAG_W,ARGON,ARGON_FLAG_W,BTL_DATE,BTL_TIME,BTL_LAT,BTL_LON,KRYPTON,KRYPTON_FLAG_W,XENON,XENON_FLAG_W,HPLC,HPLC_FLAG_W,HE3_HE4_RATIO,HE3_HE4_RATIO_FLAG_W,Nd_143_144_D_EPSILON_BOTTLE,Nd_143_144_D_EPSILON_BOTTLE_FLAG_W,Nd_143_144_D_EPSILON_BOTTLE_ERROR,Nd_143_144_D_RATIO_BOTTLE,Nd_143_144_D_RATIO_BOTTLE_FLAG_W,Nd_143_144_D_RATIO_BOTTLE_ERROR,Nd_D_CONC,Nd_D_CONC_FLAG_W,La_D_CONC_BOTTLE,La_D_CONC_BOTTLE_FLAG_W,Ce_D_CONC_BOTTLE,Ce_D_CONC_BOTTLE_FLAG_W,Pr_D_CONC_BOTTLE,Pr_D_CONC_BOTTLE_FLAG_W,Sm_D_CONC_BOTTLE,Sm_D_CONC_BOTTLE_FLAG_W,Eu_D_CONC_BOTTLE,Eu_D_CONC_BOTTLE_FLAG_W,Gd_D_CONC_BOTTLE,Gd_D_CONC_BOTTLE_FLAG_W,Tb_D_CONC_BOTTLE,Tb_D_CONC_BOTTLE_FLAG_W,Dy_D_CONC_BOTTLE,Dy_D_CONC_BOTTLE_FLAG_W,Ho_D_CONC_BOTTLE,Ho_D_CONC_BOTTLE_FLAG_W,Er_D_CONC_BOTTLE,Er_D_CONC_BOTTLE_FLAG_W,Tm_D_CONC_BOTTLE,Tm_D_CONC_BOTTLE_FLAG_W,Yb_D_CONC_BOTTLE,Yb_D_CONC_BOTTLE_FLAG_W,Lu_D_CONC_BOTTLE,Lu_D_CONC_BOTTLE_FLAG_W
,,,,,,,,,,,METERS,DBAR,ITS-90,PSS-78,,PSS-78,,UMOL/KG,,UMOL/KG,,UMOL/KG,,UMOL/KG,,UMOL/KG,,UMOL/KG,,UMOL/KG,,PMOL/KG,,PMOL/KG,,FMOL/KG,,UMOL/KG,,UMOL/KG,,,,DEG C,UMOL/KG,,NMOL/L,,DEG C,,/MILLE,,/MILLE,,/MILLE,UG/KG,,UMOL/KG,,UMOL/KG,,NMOL/L,,VOLTS,,VOLTS,,VOLTS,,NMOL/KG,,UMOL/L,,,,,,NMOL/L,,NMOL/L,,,,,,10000,,10000,,,,PMOL/KG,,PMOL/L,,PMOL/L,,PMOL/L,,PMOL/L,,PMOL/L,,PMOL/L,,PMOL/L,,PMOL/L,,PMOL/L,,PMOL/L,,PMOL/L,,PMOL/L,,PMOL/L,
320620180309  ,S04P       ,90      ,  1,36         ,36         ,2,20180425,1108, -67.0006,-116.1423,     4604,      9.2,-1.6581937578702694580,33.538990094568391,2,  33.5349,2,353.71212968090492,2, 353.2989,2,    353.1,2,     31.3,2,    25.29,2,     0.24,2,     1.73,2,    5.961,2,    3.330,2,   4.2600,2,   2153.2,6,  2271.35,2,   7.6634,2,    24.90,     46.6,2,     -999,9,  -1.6607,2,     -999,9,     -999,9,     -999,     -999,9,    28.70,2,     -999,1,     -999,9,    0.357,1,    4.515,1,    0.273,1,  16.5600,2,     -999,9,20180425,1332, -67.0035,-116.1382,     -999,9,     -999,9,-999          ,9,     -999,9,     -999,9,     -999,     -999,9,     -999,     -999,9,     -999,9,     -999,9,     -999,9,     -999,9,     -999,9,     -999,9,     -999,9,     -999,9,     -999,9,     -999,9,     -999,9,     -999,9,     -999,9
320620180309  ,S04P       ,90      ,  1,35         ,35         ,2,20180425,1108, -67.0006,-116.1423,     4604,     19.0,-1.6556889783008941208,33.539855261722622,2,  33.5357,2,354.19613473356617,2, 353.3022,2,    352.7,2,     31.3,2,    25.29,2,     0.24,2,     1.74,2,     -999,9,     -999,9,     -999,9,   2154.3,2,  2272.04,2,   7.6652,2,    24.90,     46.9,2,     -999,9,  -1.6573,2,     -999,9,     -999,9,     -999,     -999,9,    29.20,2,     -999,1,     -999,9,    0.354,1,    4.519,1,    0.296,1,     -999,9,     -999,9,20180425,1332, -67.0036,-116.1382,     -999,9,     -999,9,-999          ,9,     -999,9,     -999,9,     -999,     -999,9,     -999,     -999,9,     -999,9,     -999,9,     -999,9,     -999,9,     -999,9,     -999,9,     -999,9,     -999,9,     -999,9,     -999,9,     -999,9,     -999,9,     -999,9
320620180309  ,S04P       ,90      ,  1,34         ,34         ,2,20180425,1108, -67.0006,-116.1423,     4604,     39.3,-1.6545459779555682367,33.540359056976364,2,  33.5364,2,353.23037366896415,2, 353.3014,2,    352.9,2,     31.3,2,    25.27,2,     0.24,2,     1.76,2,    5.917,2,    3.268,2,   3.5500,2,   2152.5,2,  2269.21,2,   7.6639,2,    24.89,     43.9,2,     -999,9,  -1.6544,2,     -999,9,     -999,9,     -999,     -999,9,    27.00,2,     -999,1,     -999,9,    0.354,1,    4.519,1,    0.310,1,  16.5600,2,     -999,9,20180425,1331, -67.0037,-116.1382,     -999,9,     -999,9,-999          ,9,     -999,9,     -999,9,     -999,     -999,9,     -999,     -999,9,     -999,9,     -999,9,     -999,9,     -999,9,     -999,9,     -999,9,     -999,9,     -999,9,     -999,9,     -999,9,     -999,9,     -999,9,     -999,9
320620180309  ,S04P       ,90      ,  1,33         ,33         ,2,20180425,1108, -67.0006,-116.1423,     4604,     64.3,-1.6293159364656784049,33.571847663159794,2,  33.5753,2,348.48783279854575,2, 348.2983,2,    349.9,2,     32.0,2,    25.55,2,     0.24,2,     1.78,2,     -999,9,     -999,9,     -999,9,   2156.3,2,  2273.12,2,   7.6620,2,    24.89,     44.3,2,     -999,9,  -1.6290,2,     -999,9,     -999,9,     -999,     -999,9,    28.10,2,     -999,1,     -999,9,    0.357,1,    4.515,1,    0.321,1,     -999,9,     -999,9,20180425,1330, -67.0038,-116.1381,     -999,9,     -999,9,-999          ,9,     -999,9,     -999,9,     -999,     -999,9,     -999,     -999,9,     -999,9,     -999,9,     -999,9,     -999,9,     -999,9,     -999,9,     -999,9,     -999,9,     -999,9,     -999,9,     -999,9,     -999,9,     -999,9
320620180309  ,S04P       ,90      ,  1,32         ,32         ,2,20180425,1108, -67.0006,-116.1423,     4604,     89.3,-1.5738970439191477535,33.902938253928681,2,  33.8988,2,332.93148528278192,2, 328.8001,3,    332.0,2,     40.9,2,    28.50,2,     0.26,2,     1.99,2,    5.415,2,    3.043,2,   3.6500,2,   2183.8,2,  2291.05,2,   7.6312,2,    24.90,     45.7,2,     -999,9,  -1.5901,2,     -999,9,     -999,9,     -999,     -999,9,    31.10,2,     -999,1,     -999,9,    0.112,1,    4.597,1,    0.180,1,  17.1900,2,     -999,9,20180425,1328, -67.0040,-116.1381,     -999,9,     -999,9,-999          ,9,     -999,9,     -999,9,     -999,     -999,9,     -999,     -999,9,     -999,9,     -999,9,     -999,9,     -999,9,     -999,9,     -999,9,     -999,9,     -999,9,     -999,9,     -999,9,     -999,9,     -999,9,     -999,9
320620180309  ,S04P       ,90      ,  1,31         ,31         ,2,20180425,1108, -67.0006,-116.1423,     4604,    135.7,-0.3497461888886273518,34.112387365734371,2,  34.1087,2,312.84305103724444,2, 311.1993,2,    310.9,2,     47.4,2,    30.98,2,     0.02,2,     2.10,2,    4.808,2,    2.703,2,   3.1200,2,   2200.3,2,  2302.11,2,   7.6136,2,    24.89,     45.2,2,     -999,9,  -0.3378,2,     -999,9,     -999,9,     -999,     -999,9,    33.00,2,     -999,1,     -999,9,    0.077,1,    4.638,1,    0.157,1,  17.5800,2,     -999,9,20180425,1325, -67.0041,-116.1381,     -999,9,     -999,9,-999          ,9,     -999,9,     -999,9,     -999,     -999,9,     -999,     -999,9,     -999,9,     -999,9,     -999,9,     -999,9,     -999,9,     -999,9,     -999,9,     -999,9,     -999,9,     -999,9,     -999,9,     -999,9,     -999,9
320620180309  ,S04P       ,90      ,  1,30         ,30         ,2,20180425,1108, -67.0006,-116.1423,     4604,    186.2,1.3151442300020301790,34.407024579303922,2,  34.4021,2,219.13381671133598,2, 218.7007,2,    218.2,2,     67.2,2,    34.38,2,     0.01,2,     2.31,2,     -999,9,     -999,9,     -999,9,   2241.2,2,  2322.61,2,   7.5541,2,    24.89,     40.8,2,     -999,9,   1.3153,2,     -999,9,     -999,9,     -999,     -999,9,    36.00,2,     -999,1,     -999,9,    0.072,1,    4.640,1,    0.154,1,     -999,9,     -999,9,20180425,1323, -67.0038,-116.1382,     -999,9,     -999,9,-999          ,9,     -999,9,     -999,9,     -999,     -999,9,     -999,     -999,9,     -999,9,     -999,9,     -999,9,     -999,9,     -999,9,     -999,9,     -999,9,     -999,9,     -999,9,     -999,9,     -999,9,     -999,9,     -999,9
320620180309  ,S04P       ,90      ,  1,29         ,29         ,2,20180425,1108, -67.0006,-116.1423,     4604,    237.8,1.7258819444004027677,34.518313046859696,2,  34.5148,2,195.24699564187028,2, 195.3004,2,    193.5,2,     74.3,2,    34.60,2,     0.00,2,     2.35,2,    1.518,2,    0.804,2,   0.8100,2,   2249.9,2,  2333.30,2,   7.5473,2,    24.89,     41.9,2,     -999,9,   1.7257,2,     -999,9,     -999,9,     -999,     -999,9,    36.70,2,     -999,1,     -999,9,    0.065,1,    4.646,1,    0.149,1,  23.0200,2,     -999,9,20180425,1321, -67.0035,-116.1384,     -999,9,     -999,9,-999          ,9,     -999,9,     -999,9,     -999,     -999,9,     -999,     -999,9,     -999,9,     -999,9,     -999,9,     -999,9,     -999,9,     -999,9,     -999,9,     -999,9,     -999,9,     -999,9,     -999,9,     -999,9,     -999,9
320620180309  ,S04P       ,90      ,  1,28         ,28         ,2,20180425,1108, -67.0006,-116.1423,     4604,    289.0,1.8025583284195654254,34.559217465190969,2,  34.5548,2,189.92330116552498,2, 189.4939,2,    188.4,2,     76.6,2,    34.33,2,     0.00,2,     2.32,2,    1.241,2,    0.671,2,   0.6100,2,   2252.3,2,  2334.04,2,   7.5499,2,    24.90,     40.9,2,     -999,9,   1.8005,2,     -999,9,     -999,9,     -999,     -999,9,     -999,9,     -999,1,     -999,9,    0.064,1,    4.646,1,    0.146,1,  22.6800,2,     -999,9,20180425,1318, -67.0031,-116.1387,     -999,9,     -999,9,-999          ,9,     -999,9,     -999,9,     -999,     -999,9,     -999,     -999,9,     -999,9,     -999,9,     -999,9,     -999,9,     -999,9,     -999,9,     -999,9,     -999,9,     -999,9,     -999,9,     -999,9,     -999,9,     -999,9
320620180309  ,S04P       ,90      ,  1,27         ,27         ,2,20180425,1108, -67.0006,-116.1423,     4604,    336.9,1.9215061857462567563,34.599869314930835,2,  34.5977,2,183.57651492634082,2, 184.2048,2,    182.6,2,     78.8,2,    34.02,2,     0.00,2,     2.29,2,     -999,9,     -999,9,     -999,9,   2255.9,2,  2340.01,2,   7.5529,2,    24.90,     43.7,2,     -999,9,   1.9230,2,     -999,9,     -999,9,     -999,     -999,9,     -999,9,     -999,1,     -999,9,    0.063,1,    4.649,1,    0.140,1,     -999,9,     -999,9,20180425,1316, -67.0026,-116.1391,     -999,9,     -999,9,-999          ,9,     -999,9,     -999,9,     -999,     -999,9,     -999,     -999,9,     -999,9,     -999,9,     -999,9,     -999,9,     -999,9,     -999,9,     -999,9,     -999,9,     -999,9,     -999,9,     -999,9,     -999,9,     -999,9
320620180309  ,S04P       ,90      ,  1,26         ,38         ,2,20180425,1108, -67.0006,-116.1423,     4604,    388.6,2.0105462697847671372,34.633064444500697,2,  34.6303,2,179.71202981060102,2, 180.2017,3,    178.0,2,     81.0,2,    33.84,2,     0.00,2,     2.28,2,    0.665,2,    0.359,2,   0.5300,2,   2256.6,2,  2342.05,2,   7.5547,2,    24.91,     43.1,2,     -999,9,   2.0107,2,     -999,9,     -999,9,     -999,     -999,9,     -999,9,     -999,1,     -999,9,    0.062,1,    4.651,1,    0.139,1,  22.2700,2,     -999,9,20180425,1313, -67.0022,-116.1395,     -999,9,     -999,9,-999          ,9,     -999,9,     -999,9,     -999,     -999,9,     -999,     -999,9,     -999,9,     -999,9,     -999,9,     -999,9,     -999,9,     -999,9,     -999,9,     -999,9,     -999,9,     -999,9,     -999,9,     -999,9,     -999,9
320620180309  ,S04P       ,90      ,  1,25         ,25         ,2,20180425,1108, -67.0006,-116.1423,     4604,    468.9,2.0571163412079722654,34.670905146565417,2,  34.6690,2,178.62963476027420,2, 179.0985,2,    178.2,2,     83.3,2,    33.23,2,     0.00,2,     2.23,2,    0.437,2,    0.231,2,   0.2200,2,   2256.8,6,  2343.94,2,   7.5661,2,    24.90,     43.5,2,     -999,9,   2.0571,2,     -999,9,     -999,9,     -999,     -999,9,     -999,9,     -999,1,     -999,9,    0.062,1,    4.653,1,    0.136,1,  21.9400,2,     -999,9,20180425,1311, -67.0018,-116.1400,     -999,9,     -999,9,-999          ,9,     -999,9,     -999,9,     -999,     -999,9,     -999,     -999,9,     -999,9,     -999,9,     -999,9,     -999,9,     -999,9,     -999,9,     -999,9,     -999,9,     -999,9,     -999,9,     -999,9,     -999,9,     -999,9
320620180309  ,S04P       ,90      ,  1,24         ,24         ,2,20180425,1108, -67.0006,-116.1423,     4604,    570.0,2.0005452210914809186,34.693191704731099,2,  34.6925,2,180.95366299942972,2, 180.9981,2,    180.5,2,     85.3,2,    32.75,2,     0.00,2,     2.20,2,     -999,9,     -999,9,     -999,9,   2258.0,2,  2347.37,2,   7.5737,6,    24.89,     41.3,2,     -999,9,   2.0004,2,     -999,9,     -999,9,     -999,     -999,9,     -999,9,     -999,1,     -999,9,    0.061,1,    4.652,1,    0.138,1,     -999,9,     -999,9,20180425,1307, -67.0014,-116.1404,     -999,9,     -999,9,-999          ,9,     -999,9,     -999,9,     -999,     -999,9,     -999,     -999,9,     -999,9,     -999,9,     -999,9,     -999,9,     -999,9,     -999,9,     -999,9,     -999,9,     -999,9,     -999,9,     -999,9,     -999,9,     -999,9
320620180309  ,S04P       ,90      ,  1,23         ,23         ,2,20180425,1108, -67.0006,-116.1423,     4604,    672.3,1.9344598746539398704,34.710439455488007,2,  34.7094,2,183.79892096519956,2, 183.6019,2,    183.8,2,     87.3,2,    32.34,2,     0.00,2,     2.16,2,    0.299,2,    0.151,2,   0.0300,2,   2257.7,2,  2350.98,2,   7.5807,2,    24.89,     41.9,2,     -999,9,   1.9345,2,     -999,9,     -999,9,     -999,     -999,9,     -999,9,     -999,1,     -999,9,    0.062,1,    4.653,1,    0.138,1,  20.7200,2,     -999,9,20180425,1304, -67.0012,-116.1406,     -999,9,     -999,9,-999          ,9,     -999,9,     -999,9,     -999,     -999,9,     -999,     -999,9,     -999,9,     -999,9,     -999,9,     -999,9,     -999,9,     -999,9,     -999,9,     -999,9,     -999,9,     -999,9,     -999,9,     -999,9,     -999,9
320620180309  ,S04P       ,90      ,  1,22         ,37         ,2,20180425,1108, -67.0006,-116.1423,     4604,    774.4,1.8663489152886274525,34.720670897502210,2,  34.7194,2,186.38698220724456,2, 186.0060,2,    186.2,2,     89.2,2,    32.09,2,     0.00,2,     2.15,2,    0.259,2,    0.132,2,   0.2000,2,   2258.5,2,  2350.56,2,   7.5865,2,    24.89,     41.5,2,     -999,9,   1.8668,2,     -999,9,     -999,9,     -999,     -999,9,     -999,9,     -999,1,     -999,9,    0.062,1,    4.653,1,    0.133,1,  20.3500,2,     -999,9,20180425,1301, -67.0011,-116.1407,     -999,9,     -999,9,-999          ,9,     -999,9,     -999,9,     -999,     -999,9,     -999,     -999,9,     -999,9,     -999,9,     -999,9,     -999,9,     -999,9,     -999,9,     -999,9,     -999,9,     -999,9,     -999,9,     -999,9,     -999,9,     -999,9
320620180309  ,S04P       ,90      ,  1,21         ,21         ,2,20180425,1108, -67.0006,-116.1423,     4604,    873.1,1.7802174014668168400,34.727520011520213,2,  34.7263,2,188.70961570988501,2, 188.2026,2,    188.6,2,     91.7,2,    31.88,2,     0.00,2,     2.16,2,     -999,9,     -999,9,     -999,9,   2256.9,2,  2353.51,2,   7.5925,2,    24.88,     40.5,2,     -999,9,   1.7797,2,     -999,9,     -999,9,     -999,     -999,9,     -999,9,     -999,1,     -999,9,    0.062,1,    4.655,1,    0.130,1,     -999,9,     -999,9,20180425,1258, -67.0011,-116.1407,     -999,9,     -999,9,-999          ,9,     -999,9,     -999,9,     -999,     -999,9,     -999,     -999,9,     -999,9,     -999,9,     -999,9,     -999,9,     -999,9,     -999,9,     -999,9,     -999,9,     -999,9,     -999,9,     -999,9,     -999,9,     -999,9
320620180309  ,S04P       ,90      ,  1,20         ,20         ,2,20180425,1108, -67.0006,-116.1423,     4604,    976.0,1.6957498888435293960,34.730997978221566,2,  34.7300,2,191.02410204943209,2, 190.1005,2,    190.6,2,     94.1,2,    31.79,2,     0.00,2,     2.16,2,    0.212,2,    0.112,2,   0.1100,2,   2256.6,2,  2355.19,2,   7.5947,2,    24.91,     40.7,2,     -999,9,   1.6963,2,     -999,9,     -999,9,     -999,     -999,9,     -999,9,     -999,1,     -999,9,    0.061,1,    4.656,1,    0.131,1,  19.8800,2,     -999,9,20180425,1254, -67.0014,-116.1405,     -999,9,     -999,9,-999          ,9,     -999,9,     -999,9,     -999,     -999,9,     -999,     -999,9,     -999,9,     -999,9,     -999,9,     -999,9,     -999,9,     -999,9,     -999,9,     -999,9,     -999,9,     -999,9,     -999,9,     -999,9,     -999,9
320620180309  ,S04P       ,90      ,  1,19         ,19         ,2,20180425,1108, -67.0006,-116.1423,     4604,   1077.3,1.6144482307933230025,34.732600547304564,2,  34.7317,2,192.43425926962459,2, 191.7033,2,    192.4,2,     96.4,2,    31.76,2,     0.00,2,     2.16,2,    0.208,2,    0.118,2,   0.0700,2,   2259.1,2,  2356.99,2,   7.5976,2,    24.89,     43.8,2,     -999,9,   1.6151,2,     -999,9,     -999,9,     -999,     -999,9,     -999,9,     -999,1,     -999,9,    0.061,1,    4.656,1,    0.131,1,  19.8000,2,     -999,9,20180425,1251, -67.0017,-116.1404,     -999,9,     -999,9,-999          ,9,     -999,9,     -999,9,     -999,     -999,9,     -999,     -999,9,     -999,9,     -999,9,     -999,9,     -999,9,     -999,9,     -999,9,     -999,9,     -999,9,     -999,9,     -999,9,     -999,9,     -999,9,     -999,9
320620180309  ,S04P       ,90      ,  1,18         ,18         ,2,20180425,1108, -67.0006,-116.1423,     4604,   1179.7,1.5254906128409158050,34.732494389846721,2,  34.7316,2,193.75675692807297,2, 193.0025,2,    193.3,2,     99.3,2,    31.77,2,     0.00,2,     2.17,2,     -999,9,     -999,9,     -999,9,   2257.1,2,  2358.29,2,   7.5972,2,    24.89,     40.8,2,     -999,9,   1.5252,2,     -999,9,     -999,9,     -999,     -999,9,     -999,9,     -999,1,     -999,9,    0.061,1,    4.655,1,    0.130,1,     -999,9,     -999,9,20180425,1248, -67.0021,-116.1404,     -999,9,     -999,9,-999          ,9,     -999,9,     -999,9,     -999,     -999,9,     -999,     -999,9,     -999,9,     -999,9,     -999,9,     -999,9,     -999,9,     -999,9,     -999,9,     -999,9,     -999,9,     -999,9,     -999,9,     -999,9,     -999,9
320620180309  ,S04P       ,90      ,  1,17         ,17         ,2,20180425,1108, -67.0006,-116.1423,     4604,   1281.2,1.4429795222741246263,34.731428304009626,2,  34.7306,2,194.26252758080133,2, 194.1987,2,    194.4,2,    101.8,2,    31.84,2,     0.00,2,     2.18,2,    0.170,2,    0.085,2,   0.1000,2,   2259.5,2,  2359.47,2,   7.5979,2,    24.89,     -999,9,     -999,9,   1.4427,2,     -999,9,     -999,9,     -999,     -999,9,     -999,9,     -999,9,     -999,9,    0.062,1,    4.656,1,    0.133,1,  19.3600,2,     -999,9,20180425,1245, -67.0021,-116.1404,     -999,9,     -999,9,-999          ,9,     -999,9,     -999,9,     -999,     -999,9,     -999,     -999,9,     -999,9,     -999,9,     -999,9,     -999,9,     -999,9,     -999,9,     -999,9,     -999,9,     -999,9,     -999,9,     -999,9,     -999,9,     -999,9
320620180309  ,S04P       ,90      ,  1,16         ,16         ,2,20180425,1108, -67.0006,-116.1423,     4604,   1382.3,1.3529150374607212814,34.729616345646832,2,  34.7290,2,194.85574816309605,2, 195.3970,2,    195.5,2,    105.0,2,    31.96,2,     0.00,2,     2.21,3,    0.170,2,    0.083,2,   0.0300,2,   2261.5,2,  2360.57,2,   7.5976,2,    24.89,     -999,9,     -999,9,   1.3528,2,     -999,9,     -999,9,     -999,     -999,9,     -999,9,     -999,1,     -999,9,    0.061,1,    4.657,1,    0.129,1,  19.2000,2,     -999,9,20180425,1241, -67.0020,-116.1404,     -999,9,     -999,9,-999          ,9,     -999,9,     -999,9,     -999,     -999,9,     -999,     -999,9,     -999,9,     -999,9,     -999,9,     -999,9,     -999,9,     -999,9,     -999,9,     -999,9,     -999,9,     -999,9,     -999,9,     -999,9,     -999,9