BOTTLE,20240515CCHHYDRO
EXPOCODE,SECT_ID,STNNBR,CASTNO,SAMPNO,BTLNBR,BTLNBR_FLAG_W,DATE,TIME,LATITUDE,LONGITUDE,DEPTH,CTDPRS,CTDTMP,CTDSAL,CTDSAL_FLAG_W,SALNTY,SALNTY_FLAG_W,CTDOXY,CTDOXY_FLAG_W,CTDOPTOXY,CTDOPTOXY_FLAG_W,OXYGEN,OXYGEN_FLAG_W,SILCAT,SILCAT_FLAG_W,NITRAT,NITRAT_FLAG_W,NITRIT,NITRIT_FLAG_W,PHSPHT,PHSPHT_FLAG_W,CFC-11,CFC-11_FLAG_W,CFC-12,CFC-12_FLAG_W,SF6,SF6_FLAG_W,TCARBN,TCARBN_FLAG_W,ALKALI,ALKALI_FLAG_W,PH_TOT,PH_TOT_FLAG_W,PH_TMP,DOC,DOC_FLAG_W,HELIUM,HELIUM_FLAG_W,REFTMP,REFTMP_FLAG_W,DELC13,DELC13_FLAG_W,DELC14,DELC14_FLAG_W,C14ERR,POC,POC_FLAG_W,TDN,TDN_FLAG_W,TON,TON_FLAG_W,NEON,NEON_FLAG_W,CTDFLUOR,CTDFLUOR_FLAG_W,CTDXMISS,CTDXMISS_FLAG_W,CTDBETA700,CTDBETA700_FLAG_W,N2O,N2O_FLAG_W,ARGON,ARGON_FLAG_W,BTL_DATE,BTL_TIME,BTL_LAT,BTL_LON,KRYPTON,KRYPTON_FLAG_W,XENON,XENON_FLAG_W,HPLC,HPLC_FLAG_W,HE3_HE4_RATIO,HE3_HE4_RATIO_FLAG_W,Nd_143_144_D_EPSILON_BOTTLE,Nd_143_144_D_EPSILON_BOTTLE_FLAG_W,Nd_143_144_D_EPSILON_BOTTLE_ERROR,Nd_143_144_D_RATIO_BOTTLE,Nd_143_144_D_RATIO_BOTTLE_FLAG_W,Nd_143_144_D_RATIO_BOTTLE_ERROR,Nd_D_CONC,Nd_D_CONC_FLAG_W,La_D_CONC_BOTTLE,La_D_CONC_BOTTLE_FLAG_W,Ce_D_CONC_BOTTLE,Ce_D_CONC_BOTTLE_FLAG_W,Pr_D_CONC_BOTTLE,Pr_D_CONC_BOTTLE_FLAG_W,Sm_D_CONC_BOTTLE,Sm_D_CONC_BOTTLE_FLAG_W,Eu_D_CONC_BOTTLE,Eu_D_CONC_BOTTLE_FLAG_W,Gd_D_CONC_BOTTLE,Gd_D_CONC_BOTTLE_FLAG_W,Tb_D_CONC_BOTTLE,Tb_D_CONC_BOTTLE_FLAG_W,Dy_D_CONC_BOTTLE,Dy_D_CONC_BOTTLE_FLAG_W,Ho_D_CONC_BOTTLE,Ho_D_CONC_BOTTLE_FLAG_W,Er_D_CONC_BOTTLE,Er_D_CONC_BOTTLE_FLAG_W,Tm_D_CONC_BOTTLE,Tm_D_CONC_BOTTLE_FLAG_W,Yb_D_CONC_BOTTLE,Yb_D_CONC_BOTTLE_FLAG_W,Lu_D_CONC_BOTTLE,Lu_D_CONC_BOTTLE_FLAG_W
,,,,,,,,,,,METERS,DBAR,ITS-90,PSS-78,,PSS-78,,UMOL/KG,,UMOL/KG,,UMOL/KG,,UMOL/KG,,UMOL/KG,,UMOL/KG,,UMOL/KG,,PMOL/KG,,PMOL/KG,,FMOL/KG,,UMOL/KG,,UMOL/KG,,,,DEG C,UMOL/KG,,NMOL/L,,DEG C,,/MILLE,,/MILLE,,/MILLE,UG/KG,,UMOL/KG,,UMOL/KG,,NMOL/L,,VOLTS,,VOLTS,,VOLTS,,NMOL/KG,,UMOL/L,,,,,,NMOL/L,,NMOL/L,,,,,,10000,,10000,,,,PMOL/KG,,PMOL/L,,PMOL/L,,PMOL/L,,PMOL/L,,PMOL/L,,PMOL/L,,PMOL/L,,PMOL/L,,PMOL/L,,PMOL/L,,PMOL/L,,PMOL/L,,PMOL/L,
320620180309  ,S04P       ,85      ,  1,15         ,15         ,2,20180423,0156, -66.9998,-124.3571,     4331,   1316.7,1.2278638888888890879,34.726011657925426,2,  34.7255,2,196.61035715098021,2, 195.9982,2,    196.8,2,    108.4,2,    32.19,2,     0.00,2,     2.20,2,    0.144,2,    0.075,2,   0.1000,2,     -999,9,     -999,9,     -999,9,     -999,     -999,9,     -999,9,   1.2271,2,     -999,9,     -999,9,     -999,     -999,9,     -999,9,     -999,9,     -999,9,    0.061,1,    4.660,1,    0.131,1,  19.6500,2,     -999,9,20180423,0314, -66.9978,-124.3573,     -999,9,     -999,9,-999          ,9,     -999,9,     -999,9,     -999,     -999,9,     -999,     -999,9,     -999,9,     -999,9,     -999,9,     -999,9,     -999,9,     -999,9,     -999,9,     -999,9,     -999,9,     -999,9,     -999,9,     -999,9,     -999,9
320620180309  ,S04P       ,85      ,  1,14         ,14         ,2,20180423,0156, -66.9998,-124.3571,     4331,   1418.3,1.1562527777777777960,34.723521420696080,2,  34.7235,2,198.79044498038132,2, 197.3976,2,    198.2,2,    110.2,2,    32.24,2,     0.00,2,     2.20,2,     -999,9,     -999,9,     -999,9,   2262.9,2,  2361.96,2,   7.5984,2,    24.88,     -999,9,     -999,1,   1.1545,2,     -999,9,     -999,9,     -999,     -999,9,     -999,9,     -999,9,     -999,1,    0.061,1,    4.660,1,    0.129,1,     -999,9,     -999,1,20180423,0311, -66.9978,-124.3573,     -999,1,     -999,1,-999          ,9,     -999,1,     -999,9,     -999,     -999,9,     -999,     -999,9,     -999,1,     -999,1,     -999,1,     -999,1,     -999,1,     -999,1,     -999,1,     -999,1,     -999,1,     -999,1,     -999,1,     -999,1,     -999,1
320620180309  ,S04P       ,85      ,  1,13         ,13         ,2,20180423,0156, -66.9998,-124.3571,     4331,   1519.7,1.1062722222222221014,34.721638276451216,2,  34.7215,2,199.36507753895970,2, 198.3983,2,    198.6,2,    112.0,2,    32.32,2,     0.00,2,     2.22,2,    0.136,2,    0.070,2,   0.1500,2,     -999,9,     -999,9,     -999,9,     -999,     -999,9,     -999,9,   1.1058,2,     -999,9,     -999,9,     -999,     -999,9,     -999,9,     -999,9,     -999,9,    0.062,1,    4.660,1,    0.128,1,  20.0600,2,     -999,9,20180423,0308, -66.9977,-124.3573,     -999,9,     -999,9,-999          ,9,     -999,9,     -999,9,     -999,     -999,9,     -999,     -999,9,     -999,9,     -999,9,     -999,9,     -999,9,     -999,9,     -999,9,     -999,9,     -999,9,     -999,9,     -999,9,     -999,9,     -999,9,     -999,9
320620180309  ,S04P       ,85      ,  1,12         ,12         ,2,20180423,0156, -66.9998,-124.3571,     4331,   1621.3,1.0302472222222223142,34.718859831207489,2,  34.7190,2,200.23295856556911,2, 199.8019,2,    200.0,2,    114.8,2,    32.40,2,     0.00,2,     2.22,2,     -999,9,     -999,9,     -999,9,   2259.7,2,  2362.54,2,   7.5992,2,    24.89,     -999,9,     -999,9,   1.0293,2,     -999,9,     -999,9,     -999,     -999,9,     -999,9,     -999,9,     -999,9,    0.061,1,    4.660,1,    0.129,1,     -999,9,     -999,9,20180423,0305, -66.9976,-124.3573,     -999,9,     -999,9,-999          ,9,     -999,9,     -999,9,     -999,     -999,9,     -999,     -999,9,     -999,1,     -999,1,     -999,1,     -999,1,     -999,1,     -999,1,     -999,1,     -999,1,     -999,1,     -999,1,     -999,1,     -999,1,     -999,1
320620180309  ,S04P       ,85      ,  1,11         ,11         ,2,20180423,0156, -66.9998,-124.3571,     4331,   1825.9,0.9245222222222220232,34.714953930558409,2,  34.7149,2,201.58455060349280,2, 202.0005,2,    202.1,2,    118.4,2,    32.53,2,     0.00,2,     2.23,2,    0.138,2,    0.088,2,   0.0400,2,     -999,9,     -999,9,     -999,9,     -999,     -999,9,     -999,9,   0.9237,2,     -999,9,     -999,9,     -999,     -999,9,     -999,9,     -999,9,     -999,9,    0.061,1,    4.660,1,    0.128,1,  19.2100,2,     -999,9,20180423,0300, -66.9974,-124.3572,     -999,9,     -999,9,-999          ,9,     -999,9,     -999,9,     -999,     -999,9,     -999,     -999,9,     -999,9,     -999,9,     -999,9,     -999,9,     -999,9,     -999,9,     -999,9,     -999,9,     -999,9,     -999,9,     -999,9,     -999,9,     -999,9
320620180309  ,S04P       ,85      ,  1,10         ,10         ,2,20180423,0156, -66.9998,-124.3571,     4331,   2028.9,0.8470694444444444304,34.711717471073186,2,  34.7123,2,203.95501521972989,2, 203.6046,2,    203.5,2,    121.2,2,    32.61,2,     0.00,2,     2.24,2,     -999,9,     -999,9,     -999,9,     -999,9,     -999,9,     -999,9,     -999,     -999,9,     -999,1,   0.8463,2,     -999,9,     -999,9,     -999,     -999,9,     -999,9,     -999,9,     -999,1,    0.061,1,    4.660,1,    0.129,1,     -999,9,     -999,1,20180423,0255, -66.9977,-124.3573,     -999,1,     -999,1,-999          ,9,     -999,1,     -999,9,     -999,     -999,9,     -999,     -999,9,     -999,1,     -999,1,     -999,1,     -999,1,     -999,1,     -999,1,     -999,1,     -999,1,     -999,1,     -999,1,     -999,1,     -999,1,     -999,1
320620180309  ,S04P       ,85      ,  1,9          ,9          ,2,20180423,0156, -66.9998,-124.3571,     4331,   2284.2,0.7519972222222223168,34.708266076832523,2,  34.7078,2,206.37701874219857,2, 205.4016,2,    205.4,2,    124.5,2,    32.68,2,     0.00,2,     2.24,2,    0.173,2,    0.104,2,   0.2000,2,   2265.0,2,  2363.92,2,   7.5982,2,    24.88,     -999,9,     -999,9,   0.7514,2,     -999,9,     -999,9,     -999,     -999,9,     -999,9,     -999,9,     -999,9,    0.060,1,    4.660,1,    0.138,1,  19.2400,2,     -999,9,20180423,0249, -66.9980,-124.3574,     -999,9,     -999,9,-999          ,9,     -999,9,     -999,9,     -999,     -999,9,     -999,     -999,9,     -999,9,     -999,9,     -999,9,     -999,9,     -999,9,     -999,9,     -999,9,     -999,9,     -999,9,     -999,9,     -999,9,     -999,9,     -999,9
320620180309  ,S04P       ,85      ,  1,8          ,8          ,2,20180423,0156, -66.9998,-124.3571,     4331,   2539.1,0.6450277777777777555,34.705002374680596,2,  34.7058,2,207.43577569946842,2, 207.4013,2,    207.7,2,    127.5,2,    32.76,2,     0.00,2,     2.24,2,     -999,9,     -999,9,     -999,9,     -999,9,     -999,9,     -999,9,     -999,     -999,9,     -999,9,   0.6441,2,     -999,9,     -999,9,     -999,     -999,9,     -999,9,     -999,9,     -999,9,    0.060,1,    4.660,1,    0.127,1,     -999,9,     -999,9,20180423,0244, -66.9983,-124.3575,     -999,9,     -999,9,-999          ,9,     -999,9,     -999,9,     -999,     -999,9,     -999,     -999,9,     -999,1,     -999,1,     -999,1,     -999,1,     -999,1,     -999,1,     -999,1,     -999,1,     -999,1,     -999,1,     -999,1,     -999,1,     -999,1
320620180309  ,S04P       ,85      ,  1,7          ,7          ,2,20180423,0156, -66.9998,-124.3571,     4331,   2795.1,0.5555805555555555220,34.703435567625220,2,  34.7033,2,209.09938227975485,2, 209.2016,2,    209.7,2,    129.9,2,    32.85,2,     0.00,2,     2.24,2,    0.210,2,    0.119,2,   0.0700,2,   2264.0,2,  2363.25,2,   7.5926,2,    24.90,     -999,9,     -999,1,   0.5549,2,     -999,9,     -999,9,     -999,     -999,9,     -999,9,     -999,9,     -999,1,    0.061,1,    4.660,1,    0.127,1,  19.1400,2,     -999,1,20180423,0238, -66.9982,-124.3575,     -999,1,     -999,1,-999          ,9,     -999,1,     -999,9,     -999,     -999,9,     -999,     -999,9,     -999,9,     -999,9,     -999,9,     -999,9,     -999,9,     -999,9,     -999,9,     -999,9,     -999,9,     -999,9,     -999,9,     -999,9,     -999,9
320620180309  ,S04P       ,85      ,  1,6          ,6          ,2,20180423,0156, -66.9998,-124.3571,     4331,   3050.5,0.4928499999999998993,34.702493803422705,2,  34.7027,2,210.36493190160550,2, 210.3973,2,    210.6,2,    132.6,2,    32.93,2,     0.00,2,     2.24,2,     -999,9,     -999,9,     -999,9,   2266.6,2,  2365.03,2,   7.5954,2,    24.89,     -999,9,     -999,9,   0.4924,2,     -999,9,     -999,9,     -999,     -999,9,     -999,9,     -999,9,     -999,9,    0.061,1,    4.659,1,    0.127,1,     -999,9,     -999,9,20180423,0232, -66.9979,-124.3571,     -999,9,     -999,9,-999          ,9,     -999,9,     -999,9,     -999,     -999,9,     -999,     -999,9,     -999,1,     -999,1,     -999,1,     -999,1,     -999,1,     -999,1,     -999,1,     -999,1,     -999,1,     -999,1,     -999,1,     -999,1,     -999,1
320620180309  ,S04P       ,85      ,  1,5          ,5          ,2,20180423,0156, -66.9998,-124.3571,     4331,   3358.9,0.4476499999999999369,34.701841913385856,2,  34.7009,2,211.71354960067961,2, 211.8986,2,    211.6,2,    136.2,2,    33.02,2,     0.00,2,     2.24,2,    0.212,2,    0.122,2,   0.0200,2,     -999,9,     -999,9,     -999,9,     -999,     -999,9,     -999,9,   0.4471,2,     -999,9,     -999,9,     -999,     -999,9,     -999,9,     -999,9,     -999,9,    0.061,1,    4.658,1,    0.128,1,  18.7800,2,     -999,9,20180423,0225, -66.9978,-124.3571,     -999,9,     -999,9,-999          ,9,     -999,9,     -999,9,     -999,     -999,9,     -999,     -999,9,     -999,9,     -999,9,     -999,9,     -999,9,     -999,9,     -999,9,     -999,9,     -999,9,     -999,9,     -999,9,     -999,9,     -999,9,     -999,9
320620180309  ,S04P       ,85      ,  1,4          ,4          ,2,20180423,0156, -66.9998,-124.3571,     4331,   3615.1,0.4192972222222222101,34.701191595274494,2,  34.7013,2,213.24132902976348,2, 212.9010,2,    213.5,2,    137.8,2,    33.02,2,     0.00,2,     2.23,2,     -999,9,     -999,9,     -999,9,   2267.7,2,  2367.55,2,   7.5918,2,    24.88,     -999,9,     -999,1,   0.4188,2,     -999,9,     -999,9,     -999,     -999,9,     -999,9,     -999,9,     -999,1,    0.061,1,    4.658,1,    0.127,1,     -999,9,     -999,1,20180423,0219, -66.9979,-124.3572,     -999,1,     -999,1,-999          ,9,     -999,1,     -999,9,     -999,     -999,9,     -999,     -999,9,     -999,1,     -999,1,     -999,1,     -999,1,     -999,1,     -999,1,     -999,1,     -999,1,     -999,1,     -999,1,     -999,1,     -999,1,     -999,1
320620180309  ,S04P       ,85      ,  1,3          ,3          ,2,20180423,0156, -66.9998,-124.3571,     4331,   3924.0,0.3822972222222222882,34.699888751037989,3,  34.6976,2,214.50265043180460,2, 214.1966,2,    214.1,2,    140.0,2,    33.05,2,     0.00,2,     2.24,2,    0.326,2,    0.177,2,   0.0300,2,   2267.7,2,  2365.48,2,   7.5944,2,    24.88,     -999,9,     -999,9,   0.3817,2,     -999,9,     -999,9,     -999,     -999,9,     -999,9,     -999,9,     -999,9,    0.061,1,    4.657,1,    0.128,1,  19.1300,2,     -999,9,20180423,0212, -66.9980,-124.3572,     -999,9,     -999,9,-999          ,9,     -999,9,     -999,9,     -999,     -999,9,     -999,     -999,9,     -999,1,     -999,1,     -999,1,     -999,1,     -999,1,     -999,1,     -999,1,     -999,1,     -999,1,     -999,1,     -999,1,     -999,1,     -999,1
320620180309  ,S04P       ,85      ,  1,2          ,2          ,2,20180423,0156, -66.9998,-124.3571,     4331,   4129.5,0.3743166666666666864,34.699344521291962,2,  34.6988,2,215.11704159810154,2, 214.8992,2,    215.4,2,    141.9,2,    33.07,2,     0.00,2,     2.24,2,     -999,9,     -999,9,     -999,9,   2266.5,2,  2364.42,2,   7.5919,6,    24.88,     -999,9,     -999,1,   0.3737,2,     -999,9,     -999,9,     -999,     -999,9,     -999,9,     -999,9,     -999,1,    0.061,1,    4.654,1,    0.131,1,     -999,9,     -999,1,20180423,0206, -66.9986,-124.3575,     -999,1,     -999,1,-999          ,9,     -999,1,     -999,9,     -999,     -999,9,     -999,     -999,9,     -999,1,     -999,1,     -999,1,     -999,1,     -999,1,     -999,1,     -999,1,     -999,1,     -999,1,     -999,1,     -999,1,     -999,1,     -999,1
320620180309  ,S04P       ,85      ,  1,1          ,1          ,2,20180423,0156, -66.9998,-124.3571,     4331,   4410.9,0.3748166666666666313,34.698387634138768,2,  34.6980,2,214.97270136134006,2, 215.3960,2,    214.8,2,    144.7,2,    33.10,2,     0.00,2,     2.24,2,    0.445,2,    0.229,2,   0.0200,2,   2267.2,6,  2365.03,2,   7.5930,2,    24.88,     -999,9,     -999,1,   0.3743,2,     -999,9,     -999,9,     -999,     -999,9,     -999,9,     -999,9,     -999,1,    0.061,1,    4.647,1,    0.142,1,  18.8500,2,     -999,1,20180423,0156, -66.9998,-124.3571,     -999,1,     -999,1,-999          ,9,     -999,1,     -999,9,     -999,     -999,9,     -999,     -999,9,     -999,1,     -999,1,     -999,1,     -999,1,     -999,1,     -999,1,     -999,1,     -999,1,     -999,1,     -999,1,     -999,1,     -999,1,     -999,1