BOTTLE,20240515CCHHYDRO
EXPOCODE,SECT_ID,STNNBR,CASTNO,SAMPNO,BTLNBR,BTLNBR_FLAG_W,DATE,TIME,LATITUDE,LONGITUDE,DEPTH,CTDPRS,CTDTMP,CTDSAL,CTDSAL_FLAG_W,SALNTY,SALNTY_FLAG_W,CTDOXY,CTDOXY_FLAG_W,CTDOPTOXY,CTDOPTOXY_FLAG_W,OXYGEN,OXYGEN_FLAG_W,SILCAT,SILCAT_FLAG_W,NITRAT,NITRAT_FLAG_W,NITRIT,NITRIT_FLAG_W,PHSPHT,PHSPHT_FLAG_W,CFC-11,CFC-11_FLAG_W,CFC-12,CFC-12_FLAG_W,SF6,SF6_FLAG_W,TCARBN,TCARBN_FLAG_W,ALKALI,ALKALI_FLAG_W,PH_TOT,PH_TOT_FLAG_W,PH_TMP,DOC,DOC_FLAG_W,HELIUM,HELIUM_FLAG_W,REFTMP,REFTMP_FLAG_W,DELC13,DELC13_FLAG_W,DELC14,DELC14_FLAG_W,C14ERR,POC,POC_FLAG_W,TDN,TDN_FLAG_W,TON,TON_FLAG_W,NEON,NEON_FLAG_W,CTDFLUOR,CTDFLUOR_FLAG_W,CTDXMISS,CTDXMISS_FLAG_W,CTDBETA700,CTDBETA700_FLAG_W,N2O,N2O_FLAG_W,ARGON,ARGON_FLAG_W,BTL_DATE,BTL_TIME,BTL_LAT,BTL_LON,KRYPTON,KRYPTON_FLAG_W,XENON,XENON_FLAG_W,HPLC,HPLC_FLAG_W,HE3_HE4_RATIO,HE3_HE4_RATIO_FLAG_W,Nd_143_144_D_EPSILON_BOTTLE,Nd_143_144_D_EPSILON_BOTTLE_FLAG_W,Nd_143_144_D_EPSILON_BOTTLE_ERROR,Nd_143_144_D_RATIO_BOTTLE,Nd_143_144_D_RATIO_BOTTLE_FLAG_W,Nd_143_144_D_RATIO_BOTTLE_ERROR,Nd_D_CONC,Nd_D_CONC_FLAG_W,La_D_CONC_BOTTLE,La_D_CONC_BOTTLE_FLAG_W,Ce_D_CONC_BOTTLE,Ce_D_CONC_BOTTLE_FLAG_W,Pr_D_CONC_BOTTLE,Pr_D_CONC_BOTTLE_FLAG_W,Sm_D_CONC_BOTTLE,Sm_D_CONC_BOTTLE_FLAG_W,Eu_D_CONC_BOTTLE,Eu_D_CONC_BOTTLE_FLAG_W,Gd_D_CONC_BOTTLE,Gd_D_CONC_BOTTLE_FLAG_W,Tb_D_CONC_BOTTLE,Tb_D_CONC_BOTTLE_FLAG_W,Dy_D_CONC_BOTTLE,Dy_D_CONC_BOTTLE_FLAG_W,Ho_D_CONC_BOTTLE,Ho_D_CONC_BOTTLE_FLAG_W,Er_D_CONC_BOTTLE,Er_D_CONC_BOTTLE_FLAG_W,Tm_D_CONC_BOTTLE,Tm_D_CONC_BOTTLE_FLAG_W,Yb_D_CONC_BOTTLE,Yb_D_CONC_BOTTLE_FLAG_W,Lu_D_CONC_BOTTLE,Lu_D_CONC_BOTTLE_FLAG_W
,,,,,,,,,,,METERS,DBAR,ITS-90,PSS-78,,PSS-78,,UMOL/KG,,UMOL/KG,,UMOL/KG,,UMOL/KG,,UMOL/KG,,UMOL/KG,,UMOL/KG,,PMOL/KG,,PMOL/KG,,FMOL/KG,,UMOL/KG,,UMOL/KG,,,,DEG C,UMOL/KG,,NMOL/L,,DEG C,,/MILLE,,/MILLE,,/MILLE,UG/KG,,UMOL/KG,,UMOL/KG,,NMOL/L,,VOLTS,,VOLTS,,VOLTS,,NMOL/KG,,UMOL/L,,,,,,NMOL/L,,NMOL/L,,,,,,10000,,10000,,,,PMOL/KG,,PMOL/L,,PMOL/L,,PMOL/L,,PMOL/L,,PMOL/L,,PMOL/L,,PMOL/L,,PMOL/L,,PMOL/L,,PMOL/L,,PMOL/L,,PMOL/L,,PMOL/L,
320620180309  ,P18        ,100     ,  1,36         ,36         ,2,20180430,1001, -68.9756,-103.0162,     4068,      6.4,-1.8168665304833586660,33.712908130795576,2,  33.7093,2,326.09747371305826,3, 328.9041,2,    330.1,2,     46.9,2,    25.74,2,     0.15,2,     1.87,2,    6.149,2,    3.038,2,   3.8200,3,   2170.6,6,  2287.69,2,   7.6503,2,    24.95,     42.3,2,     -999,9,  -1.8173,2,     -999,9,     -999,9,     -999,     -999,9,    29.10,2,     -999,1,     -999,9,    0.110,1,    4.609,1,    0.161,1,  16.8800,2,     -999,9,20180430,1214, -68.9567,-103.0010,     -999,9,     -999,9,-999          ,9,     -999,9,     -999,9,     -999,     -999,9,     -999,     -999,9,     -999,1,     -999,1,     -999,1,     -999,1,     -999,1,     -999,1,     -999,1,     -999,1,     -999,1,     -999,1,     -999,1,     -999,1,     -999,1
320620180309  ,P18        ,100     ,  1,35         ,35         ,2,20180430,1001, -68.9756,-103.0162,     4068,     18.5,-1.8183279761109856221,33.714490533578569,2,  33.7108,2,326.72873578874129,2, 328.5027,2,    328.3,2,     46.9,2,    25.72,2,     0.15,2,     1.88,2,     -999,9,     -999,9,     -999,9,   2170.6,2,  2285.79,2,   7.6510,2,    24.97,     46.4,2,     -999,1,  -1.8187,2,     -999,9,     -999,9,     -999,     -999,9,    28.30,2,     -999,1,     -999,1,    0.106,1,    4.609,1,    0.162,1,     -999,9,     -999,1,20180430,1213, -68.9569,-103.0010,     -999,1,     -999,1,-999          ,9,     -999,1,     -999,9,     -999,     -999,9,     -999,     -999,9,     -999,1,     -999,1,     -999,1,     -999,1,     -999,1,     -999,1,     -999,1,     -999,1,     -999,1,     -999,1,     -999,1,     -999,1,     -999,1
320620180309  ,P18        ,100     ,  1,34         ,34         ,2,20180430,1001, -68.9756,-103.0162,     4068,     39.9,-1.8077375254047693964,33.720623911391876,2,  33.7225,2,327.69140283504527,2, 328.4000,2,    328.0,2,     47.0,2,    25.80,2,     0.15,2,     1.88,2,    6.099,2,    3.058,2,   3.3200,3,   2172.4,2,  2286.48,2,   7.6488,2,    24.96,     46.7,2,     -999,9,  -1.8062,2,     -999,9,     -999,9,     -999,     -999,9,    28.50,2,     -999,1,     -999,9,    0.109,1,    4.609,1,    0.158,1,  17.0400,2,     -999,9,20180430,1211, -68.9571,-103.0011,     -999,9,     -999,9,-999          ,9,     -999,9,     -999,9,     -999,     -999,9,     -999,     -999,9,     -999,9,     -999,9,     -999,9,     -999,9,     -999,9,     -999,9,     -999,9,     -999,9,     -999,9,     -999,9,     -999,9,     -999,9,     -999,9
320620180309  ,P18        ,100     ,  1,33         ,33         ,2,20180430,1001, -68.9756,-103.0162,     4068,     69.8,-1.5870870618893617721,33.843431122831326,2,  33.8617,2,322.02425801109342,3, 315.4034,3,    313.0,2,     51.3,2,    27.65,2,     0.16,2,     2.01,2,    5.616,2,    2.804,2,   3.3100,3,   2187.3,2,  2293.65,2,   7.6276,2,    24.94,     43.8,2,     -999,1,  -1.5871,2,     -999,9,     -999,9,     -999,     -999,9,    30.90,2,     -999,1,     -999,1,    0.117,1,    4.607,1,    0.167,1,  18.0300,2,     -999,1,20180430,1209, -68.9573,-103.0015,     -999,1,     -999,1,-999          ,9,     -999,1,     -999,9,     -999,     -999,9,     -999,     -999,9,     -999,1,     -999,1,     -999,1,     -999,1,     -999,1,     -999,1,     -999,1,     -999,1,     -999,1,     -999,1,     -999,1,     -999,1,     -999,1
320620180309  ,P18        ,100     ,  1,32         ,32         ,2,20180430,1001, -68.9756,-103.0162,     4068,     90.2,-0.8683857634185525587,34.142966134314086,2,  34.1500,2,270.14999408978599,3, 266.8034,2,    266.2,2,     65.4,2,    31.99,2,     0.14,2,     2.25,2,     -999,9,     -999,9,     -999,9,   2219.8,2,  2308.82,2,   7.5732,2,    24.99,     40.6,2,     -999,9,  -0.8667,2,     -999,9,     -999,9,     -999,     -999,9,    33.90,2,     -999,1,     -999,9,    0.075,1,    4.635,1,    0.145,1,     -999,9,     -999,9,20180430,1207, -68.9575,-103.0019,     -999,9,     -999,9,-999          ,9,     -999,9,     -999,9,     -999,     -999,9,     -999,     -999,9,     -999,9,     -999,9,     -999,9,     -999,9,     -999,9,     -999,9,     -999,9,     -999,9,     -999,9,     -999,9,     -999,9,     -999,9,     -999,9
320620180309  ,P18        ,100     ,  1,31         ,31         ,2,20180430,1001, -68.9756,-103.0162,     4068,    115.1,-0.3004752677888073431,34.241749901078364,2,  34.2499,2,250.56990693584936,3, 247.2986,3,    244.6,2,     69.1,2,    32.89,2,     0.06,2,     2.31,2,    3.322,2,    1.706,2,   1.8000,3,   2229.3,2,  2316.06,2,   7.5618,2,    24.97,     43.2,2,     -999,1,  -0.2990,2,     -999,9,     -999,9,     -999,     -999,9,    34.40,2,     -999,1,     -999,1,    0.068,1,    4.641,1,    0.140,1,  21.1800,2,     -999,1,20180430,1206, -68.9577,-103.0021,     -999,1,     -999,1,-999          ,9,     -999,1,     -999,9,     -999,     -999,9,     -999,     -999,9,     -999,1,     -999,1,     -999,1,     -999,1,     -999,1,     -999,1,     -999,1,     -999,1,     -999,1,     -999,1,     -999,1,     -999,1,     -999,1
320620180309  ,P18        ,100     ,  1,30         ,30         ,2,20180430,1001, -68.9756,-103.0162,     4068,    140.4,0.4407908485678736499,34.364026247597828,2,  34.3743,2,224.28648491970517,3, 222.0994,3,    219.1,2,     73.4,2,    33.78,2,     0.03,2,     2.35,2,    2.424,2,    1.264,2,   1.0400,3,   2240.2,2,  2323.83,2,   7.5504,2,    24.96,     -999,9,     -999,9,   0.4422,2,     -999,9,     -999,9,     -999,     -999,9,     -999,9,     -999,9,     -999,9,    0.066,1,    4.644,1,    0.137,1,  22.4900,2,     -999,9,20180430,1204, -68.9579,-103.0024,     -999,9,     -999,9,-999          ,9,     -999,9,     -999,9,     -999,     -999,9,     -999,     -999,9,     -999,9,     -999,9,     -999,9,     -999,9,     -999,9,     -999,9,     -999,9,     -999,9,     -999,9,     -999,9,     -999,9,     -999,9,     -999,9
320620180309  ,P18        ,100     ,  1,29         ,29         ,2,20180430,1001, -68.9756,-103.0162,     4068,    185.7,1.4657191325388647662,34.538699539599577,2,  34.5417,2,191.99039819559644,3, 191.8028,3,    186.0,2,     79.7,2,    34.55,2,     0.02,2,     2.42,2,    1.223,2,    0.638,2,   0.6300,3,   2254.4,2,  2334.86,2,   7.5410,2,    24.98,     40.7,2,     -999,1,   1.4622,2,     -999,9,     -999,9,     -999,     -999,9,     -999,9,     -999,1,     -999,1,    0.064,1,    4.643,1,    0.139,1,  23.2500,2,     -999,1,20180430,1201, -68.9582,-103.0026,     -999,1,     -999,1,-999          ,9,     -999,1,     -999,9,     -999,     -999,9,     -999,     -999,9,     -999,1,     -999,1,     -999,1,     -999,1,     -999,1,     -999,1,     -999,1,     -999,1,     -999,1,     -999,1,     -999,1,     -999,1,     -999,1
320620180309  ,P18        ,100     ,  1,28         ,28         ,2,20180430,1001, -68.9756,-103.0162,     4068,    236.3,1.7880538807200356821,34.611482362857373,2,  34.6099,2,176.42867888796437,2, 178.3012,3,    176.4,2,     82.6,2,    34.39,2,     0.00,2,     2.39,2,     -999,9,     -999,9,     -999,9,   2258.6,2,  2341.10,2,   7.5442,6,    24.96,     44.0,2,     -999,9,   1.7871,2,     -999,9,     -999,9,     -999,     -999,9,     -999,9,     -999,1,     -999,9,    0.062,1,    4.647,1,    0.142,1,     -999,9,     -999,9,20180430,1159, -68.9585,-103.0029,     -999,9,     -999,9,-999          ,9,     -999,9,     -999,9,     -999,     -999,9,     -999,     -999,9,     -999,9,     -999,9,     -999,9,     -999,9,     -999,9,     -999,9,     -999,9,     -999,9,     -999,9,     -999,9,     -999,9,     -999,9,     -999,9
320620180309  ,P18        ,100     ,  1,27         ,27         ,2,20180430,1001, -68.9756,-103.0162,     4068,    287.3,1.9149468948738617158,34.653955545095293,2,  34.6564,2,173.90120528936430,2, 175.5958,2,    174.3,2,     84.9,2,    34.02,2,     0.00,2,     2.36,2,    0.507,2,    0.258,2,   0.0900,3,   2260.7,6,  2346.98,2,   7.5521,2,    24.96,     43.5,2,     -999,1,   1.9149,2,     -999,9,     -999,9,     -999,     -999,9,     -999,9,     -999,1,     -999,1,    0.062,1,    4.647,1,    0.139,1,  22.6100,2,     -999,1,20180430,1157, -68.9589,-103.0032,     -999,1,     -999,1,-999          ,9,     -999,1,     -999,9,     -999,     -999,9,     -999,     -999,9,     -999,1,     -999,1,     -999,1,     -999,1,     -999,1,     -999,1,     -999,1,     -999,1,     -999,1,     -999,1,     -999,1,     -999,1,     -999,1
320620180309  ,P18        ,100     ,  1,26         ,38         ,2,20180430,1001, -68.9756,-103.0162,     4068,    337.4,1.9475118210544566377,34.679475466463337,2,  34.6772,2,174.91070292727645,2, 175.7040,2,    174.9,2,     86.0,2,    33.68,2,     0.00,2,     2.33,2,    0.402,2,    0.215,2,   0.4000,3,   2257.8,2,  2348.90,2,   7.5577,2,    24.96,     42.3,2,     -999,9,   1.9475,2,     -999,9,     -999,9,     -999,     -999,9,     -999,9,     -999,1,     -999,9,    0.061,1,    4.647,1,    0.136,1,  22.1800,2,     -999,9,20180430,1154, -68.9592,-103.0034,     -999,9,     -999,9,-999          ,9,     -999,9,     -999,9,     -999,     -999,9,     -999,     -999,9,     -999,9,     -999,9,     -999,9,     -999,9,     -999,9,     -999,9,     -999,9,     -999,9,     -999,9,     -999,9,     -999,9,     -999,9,     -999,9
320620180309  ,P18        ,100     ,  1,25         ,25         ,2,20180430,1001, -68.9756,-103.0162,     4068,    388.5,1.9494962543683596046,34.691983424039790,2,  34.6907,2,176.08154563478939,2, 176.6014,2,    175.7,2,     86.9,2,    33.37,2,     0.00,2,     2.30,2,    0.340,2,    0.184,2,   0.0100,3,   2258.4,2,  2349.25,2,   7.5634,2,    24.97,     42.8,2,     -999,9,   1.9496,2,     -999,9,     -999,9,     -999,     -999,9,     -999,9,     -999,1,     -999,9,    0.062,1,    4.648,1,    0.137,1,  21.5700,2,     -999,9,20180430,1152, -68.9594,-103.0036,     -999,9,     -999,9,-999          ,9,     -999,9,     -999,9,     -999,     -999,9,     -999,     -999,9,     -999,1,     -999,1,     -999,1,     -999,1,     -999,1,     -999,1,     -999,1,     -999,1,     -999,1,     -999,1,     -999,1,     -999,1,     -999,1
320620180309  ,P18        ,100     ,  1,24         ,24         ,2,20180430,1001, -68.9756,-103.0162,     4068,    438.6,1.9325109014408030639,34.703645206853899,2,  34.7017,2,177.77242954512502,2, 177.9963,2,    178.5,2,     87.5,2,    33.08,2,     0.00,2,     2.28,2,     -999,9,     -999,9,     -999,9,   2258.2,2,  2347.67,2,   7.5695,2,    24.96,     -999,9,     -999,1,   1.9327,2,     -999,9,     -999,9,     -999,     -999,9,     -999,9,     -999,9,     -999,1,    0.062,1,    4.649,1,    0.136,1,     -999,9,     -999,1,20180430,1149, -68.9597,-103.0039,     -999,1,     -999,1,-999          ,9,     -999,1,     -999,9,     -999,     -999,9,     -999,     -999,9,     -999,9,     -999,9,     -999,9,     -999,9,     -999,9,     -999,9,     -999,9,     -999,9,     -999,9,     -999,9,     -999,9,     -999,9,     -999,9
320620180309  ,P18        ,100     ,  1,23         ,23         ,2,20180430,1001, -68.9756,-103.0162,     4068,    489.7,1.8901756065752228775,34.713556801180445,2,  34.7121,2,180.49497018163464,2, 180.6003,2,    180.8,2,     88.9,2,    32.75,2,     0.00,2,     2.24,2,    0.253,2,    0.140,2,   0.0600,3,   2255.6,2,  2349.74,2,   7.5766,2,    24.95,     42.6,2,     -999,9,   1.8901,2,     -999,9,     -999,9,     -999,     -999,9,     -999,9,     -999,1,     -999,9,    0.062,1,    4.649,1,    0.137,1,  21.0300,2,     -999,9,20180430,1147, -68.9600,-103.0042,     -999,9,     -999,9,-999          ,9,     -999,9,     -999,9,     -999,     -999,9,     -999,     -999,9,     -999,1,     -999,1,     -999,1,     -999,1,     -999,1,     -999,1,     -999,1,     -999,1,     -999,1,     -999,1,     -999,1,     -999,1,     -999,1
320620180309  ,P18        ,100     ,  1,22         ,37         ,2,20180430,1001, -68.9756,-103.0162,     4068,    571.4,1.8341149095369402300,34.722391996798457,2,  34.7211,2,183.77110923814587,2, 183.4026,2,    185.0,2,     90.2,2,    32.43,2,     0.00,2,     2.24,2,     -999,9,     -999,9,     -999,9,   2254.6,2,  2351.73,2,   7.5837,2,    24.96,     39.2,2,     -999,9,   1.8337,2,     -999,9,     -999,9,     -999,     -999,9,     -999,9,     -999,1,     -999,9,    0.061,1,    4.649,1,    0.137,1,     -999,9,     -999,9,20180430,1144, -68.9604,-103.0046,     -999,9,     -999,9,-999          ,9,     -999,9,     -999,9,     -999,     -999,9,     -999,     -999,9,     -999,9,     -999,9,     -999,9,     -999,9,     -999,9,     -999,9,     -999,9,     -999,9,     -999,9,     -999,9,     -999,9,     -999,9,     -999,9
320620180309  ,P18        ,100     ,  1,21         ,21         ,2,20180430,1001, -68.9756,-103.0162,     4068,    672.3,1.7589654217576506934,34.727904013801798,2,  34.7257,2,188.06990502773235,2, 187.2949,2,    187.0,2,     92.3,2,    32.23,2,     0.00,2,     2.22,2,    0.195,2,    0.104,2,   0.0500,3,   2255.0,2,  2354.12,2,   7.5889,2,    24.97,     40.2,2,     -999,1,   1.7587,2,     -999,9,     -999,9,     -999,     -999,9,     -999,9,     -999,1,     -999,1,    0.062,1,    4.650,1,    0.133,1,  20.4100,2,     -999,1,20180430,1141, -68.9608,-103.0049,     -999,1,     -999,1,-999          ,9,     -999,1,     -999,9,     -999,     -999,9,     -999,     -999,9,     -999,1,     -999,1,     -999,1,     -999,1,     -999,1,     -999,1,     -999,1,     -999,1,     -999,1,     -999,1,     -999,1,     -999,1,     -999,1
320620180309  ,P18        ,100     ,  1,20         ,20         ,2,20180430,1001, -68.9756,-103.0162,     4068,    774.1,1.6735544247368279169,34.731255208244903,2,  34.7296,2,190.30638782788265,2, 188.9063,2,    189.4,2,     94.9,2,    32.13,2,     0.00,2,     2.21,2,    0.184,2,    0.110,2,   0.0500,3,   2254.9,2,  2355.77,2,   7.5930,2,    24.95,     44.3,2,     -999,9,   1.6737,2,     -999,9,     -999,9,     -999,     -999,9,     -999,9,     -999,1,     -999,9,    0.062,1,    4.650,1,    0.132,1,  20.0700,2,     -999,9,20180430,1137, -68.9612,-103.0053,     -999,9,     -999,9,-999          ,9,     -999,9,     -999,9,     -999,     -999,9,     -999,     -999,9,     -999,9,     -999,9,     -999,9,     -999,9,     -999,9,     -999,9,     -999,9,     -999,9,     -999,9,     -999,9,     -999,9,     -999,9,     -999,9
320620180309  ,P18        ,100     ,  1,19         ,19         ,2,20180430,1001, -68.9756,-103.0162,     4068,    875.3,1.5799983030557516184,34.732252790255004,2,  34.7310,2,191.93012418619961,2, 190.7969,2,    190.7,2,     96.9,2,    32.09,2,     0.00,2,     2.21,2,    0.161,2,    0.094,2,   0.0100,3,   2257.8,2,  2357.59,2,   7.5940,2,    24.98,     42.5,2,     -999,9,   1.5789,2,     -999,9,     -999,9,     -999,     -999,9,     -999,9,     -999,1,     -999,9,    0.061,1,    4.651,1,    0.132,1,  19.3400,2,     -999,9,20180430,1134, -68.9617,-103.0057,     -999,9,     -999,9,-999          ,9,     -999,9,     -999,9,     -999,     -999,9,     -999,     -999,9,     -999,1,     -999,1,     -999,1,     -999,1,     -999,1,     -999,1,     -999,1,     -999,1,     -999,1,     -999,1,     -999,1,     -999,1,     -999,1
320620180309  ,P18        ,100     ,  1,18         ,18         ,2,20180430,1001, -68.9756,-103.0162,     4068,    977.0,1.4811083741090367294,34.731988076762761,2,  34.7308,2,193.76987921878879,2, 192.6066,2,    192.8,2,    100.5,2,    32.08,2,     0.00,2,     2.18,2,     -999,9,     -999,9,     -999,9,   2261.3,2,  2357.60,2,   7.5955,2,    25.00,     42.9,2,     -999,1,   1.4807,2,     -999,9,     -999,9,     -999,     -999,9,     -999,9,     -999,1,     -999,1,    0.060,1,    4.652,1,    0.132,1,     -999,9,     -999,1,20180430,1131, -68.9621,-103.0061,     -999,1,     -999,1,-999          ,9,     -999,1,     -999,9,     -999,     -999,9,     -999,     -999,9,     -999,9,     -999,9,     -999,9,     -999,9,     -999,9,     -999,9,     -999,9,     -999,9,     -999,9,     -999,9,     -999,9,     -999,9,     -999,9
320620180309  ,P18        ,100     ,  1,17         ,17         ,2,20180430,1001, -68.9756,-103.0162,     4068,   1078.3,1.4162150418639369853,34.730973855178689,2,  34.7294,2,194.99127278174151,2, 194.3976,2,    193.8,2,    102.7,2,    32.13,2,     0.00,2,     2.18,2,    0.149,2,    0.077,2,   0.0000,3,   2258.6,2,  2360.00,2,   7.5980,2,    24.99,     40.6,2,     -999,9,   1.4160,2,     -999,9,     -999,9,     -999,     -999,9,     -999,9,     -999,1,     -999,9,    0.061,1,    4.652,1,    0.131,1,  19.7100,2,     -999,9,20180430,1127, -68.9625,-103.0065,     -999,9,     -999,9,-999          ,9,     -999,9,     -999,9,     -999,     -999,9,     -999,     -999,9,     -999,1,     -999,1,     -999,1,     -999,1,     -999,1,     -999,1,     -999,1,     -999,1,     -999,1,     -999,1,     -999,1,     -999,1,     -999,1
320620180309  ,P18        ,100     ,  1,16         ,16         ,2,20180430,1001, -68.9756,-103.0162,     4068,   1180.0,1.3231767607799811426,34.728782255423241,2,  34.7278,2,195.30126116565779,2, 195.2998,2,    195.2,2,    105.4,2,    32.13,2,     0.00,2,     2.18,2,     -999,9,     -999,9,     -999,9,   2260.9,2,  2361.08,2,   7.5985,2,    24.99,     41.4,2,     -999,9,   1.3231,2,     -999,9,     -999,9,     -999,     -999,9,     -999,9,     -999,1,     -999,9,    0.062,1,    4.652,1,    0.131,1,     -999,9,     -999,9,20180430,1124, -68.9630,-103.0069,     -999,9,     -999,9,-999          ,9,     -999,9,     -999,9,     -999,     -999,9,     -999,     -999,9,     -999,9,     -999,9,     -999,9,     -999,9,     -999,9,     -999,9,     -999,9,     -999,9,     -999,9,     -999,9,     -999,9,     -999,9,     -999,9