BOTTLE,20240515CCHHYDRO
EXPOCODE,SECT_ID,STNNBR,CASTNO,SAMPNO,BTLNBR,BTLNBR_FLAG_W,DATE,TIME,LATITUDE,LONGITUDE,DEPTH,CTDPRS,CTDTMP,CTDSAL,CTDSAL_FLAG_W,SALNTY,SALNTY_FLAG_W,CTDOXY,CTDOXY_FLAG_W,CTDOPTOXY,CTDOPTOXY_FLAG_W,OXYGEN,OXYGEN_FLAG_W,SILCAT,SILCAT_FLAG_W,NITRAT,NITRAT_FLAG_W,NITRIT,NITRIT_FLAG_W,PHSPHT,PHSPHT_FLAG_W,CFC-11,CFC-11_FLAG_W,CFC-12,CFC-12_FLAG_W,SF6,SF6_FLAG_W,TCARBN,TCARBN_FLAG_W,ALKALI,ALKALI_FLAG_W,PH_TOT,PH_TOT_FLAG_W,PH_TMP,DOC,DOC_FLAG_W,HELIUM,HELIUM_FLAG_W,REFTMP,REFTMP_FLAG_W,DELC13,DELC13_FLAG_W,DELC14,DELC14_FLAG_W,C14ERR,POC,POC_FLAG_W,TDN,TDN_FLAG_W,TON,TON_FLAG_W,NEON,NEON_FLAG_W,CTDFLUOR,CTDFLUOR_FLAG_W,CTDXMISS,CTDXMISS_FLAG_W,CTDBETA700,CTDBETA700_FLAG_W,N2O,N2O_FLAG_W,ARGON,ARGON_FLAG_W,BTL_DATE,BTL_TIME,BTL_LAT,BTL_LON,KRYPTON,KRYPTON_FLAG_W,XENON,XENON_FLAG_W,HPLC,HPLC_FLAG_W,HE3_HE4_RATIO,HE3_HE4_RATIO_FLAG_W,Nd_143_144_D_EPSILON_BOTTLE,Nd_143_144_D_EPSILON_BOTTLE_FLAG_W,Nd_143_144_D_EPSILON_BOTTLE_ERROR,Nd_143_144_D_RATIO_BOTTLE,Nd_143_144_D_RATIO_BOTTLE_FLAG_W,Nd_143_144_D_RATIO_BOTTLE_ERROR,Nd_D_CONC,Nd_D_CONC_FLAG_W,La_D_CONC_BOTTLE,La_D_CONC_BOTTLE_FLAG_W,Ce_D_CONC_BOTTLE,Ce_D_CONC_BOTTLE_FLAG_W,Pr_D_CONC_BOTTLE,Pr_D_CONC_BOTTLE_FLAG_W,Sm_D_CONC_BOTTLE,Sm_D_CONC_BOTTLE_FLAG_W,Eu_D_CONC_BOTTLE,Eu_D_CONC_BOTTLE_FLAG_W,Gd_D_CONC_BOTTLE,Gd_D_CONC_BOTTLE_FLAG_W,Tb_D_CONC_BOTTLE,Tb_D_CONC_BOTTLE_FLAG_W,Dy_D_CONC_BOTTLE,Dy_D_CONC_BOTTLE_FLAG_W,Ho_D_CONC_BOTTLE,Ho_D_CONC_BOTTLE_FLAG_W,Er_D_CONC_BOTTLE,Er_D_CONC_BOTTLE_FLAG_W,Tm_D_CONC_BOTTLE,Tm_D_CONC_BOTTLE_FLAG_W,Yb_D_CONC_BOTTLE,Yb_D_CONC_BOTTLE_FLAG_W,Lu_D_CONC_BOTTLE,Lu_D_CONC_BOTTLE_FLAG_W
,,,,,,,,,,,METERS,DBAR,ITS-90,PSS-78,,PSS-78,,UMOL/KG,,UMOL/KG,,UMOL/KG,,UMOL/KG,,UMOL/KG,,UMOL/KG,,UMOL/KG,,PMOL/KG,,PMOL/KG,,FMOL/KG,,UMOL/KG,,UMOL/KG,,,,DEG C,UMOL/KG,,NMOL/L,,DEG C,,/MILLE,,/MILLE,,/MILLE,UG/KG,,UMOL/KG,,UMOL/KG,,NMOL/L,,VOLTS,,VOLTS,,VOLTS,,NMOL/KG,,UMOL/L,,,,,,NMOL/L,,NMOL/L,,,,,,10000,,10000,,,,PMOL/KG,,PMOL/L,,PMOL/L,,PMOL/L,,PMOL/L,,PMOL/L,,PMOL/L,,PMOL/L,,PMOL/L,,PMOL/L,,PMOL/L,,PMOL/L,,PMOL/L,,PMOL/L,
320620180309  ,S04P       ,89      ,  1,36         ,36         ,2,20180425,0221, -67.0001,-117.7855,     4583,      9.8,-1.5342325194534407462,33.535054126823049,2,  33.5320,2,349.04487767320813,3, 351.6045,2,    352.8,2,     25.7,2,    24.78,2,     0.25,2,     1.68,2,    6.048,2,    3.355,2,   4.0800,2,   2153.0,6,  2268.00,2,   7.6665,2,    24.90,     -999,9,     -999,9,  -1.5339,2,     -999,9,     -999,9,     -999,     -999,9,     -999,9,     -999,9,     -999,9,    0.374,1,    4.512,1,    0.290,1,  16.3900,2,     -999,9,20180425,0437, -67.0002,-117.7848,     -999,9,     -999,9,-999          ,9,     -999,9,     -999,9,     -999,     -999,9,     -999,     -999,9,     -999,1,     -999,1,     -999,1,     -999,1,     -999,1,     -999,1,     -999,1,     -999,1,     -999,1,     -999,1,     -999,1,     -999,1,     -999,1
320620180309  ,S04P       ,89      ,  1,35         ,35         ,2,20180425,0221, -67.0001,-117.7855,     4583,     39.7,-1.5111653454210896008,33.537617142044333,2,  33.5361,2,350.40253696296486,2, 351.4010,2,    351.1,2,     25.2,2,    24.76,2,     0.26,2,     1.71,2,     -999,9,     -999,9,     -999,9,   2153.9,2,  2269.72,2,   7.6655,6,    24.90,     -999,9,     -999,1,  -1.5114,2,     -999,9,     -999,9,     -999,     -999,9,     -999,9,     -999,9,     -999,1,    0.371,1,    4.513,1,    0.305,1,     -999,9,     -999,1,20180425,0436, -67.0002,-117.7848,     -999,1,     -999,1,-999          ,9,     -999,1,     -999,9,     -999,     -999,9,     -999,     -999,9,     -999,1,     -999,1,     -999,1,     -999,1,     -999,1,     -999,1,     -999,1,     -999,1,     -999,1,     -999,1,     -999,1,     -999,1,     -999,1
320620180309  ,S04P       ,89      ,  1,34         ,34         ,2,20180425,0221, -67.0001,-117.7855,     4583,     60.1,-1.5330528883836973542,33.548175472379448,2,  33.5460,2,350.67581898867411,2, 350.5985,2,    350.6,2,     26.6,2,    24.92,2,     0.25,2,     1.74,2,     -999,9,     -999,9,     -999,9,   2155.1,2,  2270.49,2,   7.6660,2,    24.89,     -999,9,     -999,9,  -1.5338,2,     -999,9,     -999,9,     -999,     -999,9,     -999,9,     -999,9,     -999,9,    0.359,1,    4.516,1,    0.375,1,     -999,9,     -999,9,20180425,0433, -67.0002,-117.7849,     -999,9,     -999,9,-999          ,9,     -999,9,     -999,9,     -999,     -999,9,     -999,     -999,9,     -999,9,     -999,9,     -999,9,     -999,9,     -999,9,     -999,9,     -999,9,     -999,9,     -999,9,     -999,9,     -999,9,     -999,9,     -999,9
320620180309  ,S04P       ,89      ,  1,33         ,33         ,2,20180425,0221, -67.0001,-117.7855,     4583,     85.7,-1.4409366669530101479,33.909043859779949,2,  33.9057,2,332.70754491592953,2, 331.5983,2,    332.2,2,     40.0,2,    28.38,2,     0.26,2,     1.99,2,    5.486,2,    3.063,2,   3.7600,2,     -999,9,     -999,9,     -999,9,     -999,     -999,9,     -999,1,  -1.3952,3,     -999,9,     -999,9,     -999,     -999,9,     -999,9,     -999,9,     -999,1,    0.099,1,    4.615,1,    0.182,1,  16.8900,2,     -999,1,20180425,0431, -67.0001,-117.7850,     -999,1,     -999,1,-999          ,9,     -999,1,     -999,9,     -999,     -999,9,     -999,     -999,9,     -999,1,     -999,1,     -999,1,     -999,1,     -999,1,     -999,1,     -999,1,     -999,1,     -999,1,     -999,1,     -999,1,     -999,1,     -999,1
320620180309  ,S04P       ,89      ,  1,32         ,32         ,2,20180425,0221, -67.0001,-117.7855,     4583,    111.0,-1.1249371840739332828,33.984920254487598,2,  33.9770,2,325.98357980417438,2, 320.3004,3,    325.2,2,     42.7,2,    29.65,2,     0.12,2,     2.04,2,     -999,9,     -999,9,     -999,9,   2194.3,2,  2294.59,2,   7.6225,2,    24.92,     -999,9,     -999,9,  -1.1382,2,     -999,9,     -999,9,     -999,     -999,9,     -999,9,     -999,9,     -999,9,    0.080,1,    4.625,1,    0.166,1,     -999,9,     -999,9,20180425,0430, -67.0001,-117.7849,     -999,9,     -999,9,-999          ,9,     -999,9,     -999,9,     -999,     -999,9,     -999,     -999,9,     -999,9,     -999,9,     -999,9,     -999,9,     -999,9,     -999,9,     -999,9,     -999,9,     -999,9,     -999,9,     -999,9,     -999,9,     -999,9
320620180309  ,S04P       ,89      ,  1,31         ,31         ,2,20180425,0221, -67.0001,-117.7855,     4583,    136.7,-0.1540376645409119449,34.142263893972114,3,  34.1639,2,309.96981605372144,3, 296.3009,2,    294.4,2,     51.0,2,    31.68,2,     0.03,2,     2.13,2,    4.523,2,    2.527,2,   2.8700,2,   2210.1,2,  2305.04,2,   7.5999,2,    24.87,     -999,9,     -999,1,  -0.1606,2,     -999,9,     -999,9,     -999,     -999,9,     -999,9,     -999,9,     -999,1,    0.076,1,    4.636,1,    0.160,1,  18.5200,2,     -999,1,20180425,0428, -67.0001,-117.7849,     -999,1,     -999,1,-999          ,9,     -999,1,     -999,9,     -999,     -999,9,     -999,     -999,9,     -999,1,     -999,1,     -999,1,     -999,1,     -999,1,     -999,1,     -999,1,     -999,1,     -999,1,     -999,1,     -999,1,     -999,1,     -999,1
320620180309  ,S04P       ,89      ,  1,30         ,30         ,2,20180425,0221, -67.0001,-117.7855,     4583,    165.7,0.9993041204392346666,34.327658699060670,2,  34.3427,2,241.80532101561323,3, 238.1971,3,    232.4,2,     63.0,2,    34.01,2,     0.00,2,     2.30,2,     -999,9,     -999,9,     -999,9,   2234.3,2,  2318.12,2,   7.5592,2,    24.89,     -999,9,     -999,9,   0.9903,2,     -999,9,     -999,9,     -999,     -999,9,     -999,9,     -999,9,     -999,9,    0.070,1,    4.640,1,    0.152,1,     -999,9,     -999,9,20180425,0426, -67.0002,-117.7848,     -999,9,     -999,9,-999          ,9,     -999,9,     -999,9,     -999,     -999,9,     -999,     -999,9,     -999,9,     -999,9,     -999,9,     -999,9,     -999,9,     -999,9,     -999,9,     -999,9,     -999,9,     -999,9,     -999,9,     -999,9,     -999,9
320620180309  ,S04P       ,89      ,  1,29         ,29         ,2,20180425,0221, -67.0001,-117.7855,     4583,    217.8,1.6836114447692214213,34.481652387931454,2,  34.4785,2,199.29747800447325,2, 198.6027,2,    197.7,2,     72.0,2,    34.72,2,     0.00,2,     2.33,2,    1.772,2,    0.946,2,   0.8300,2,     -999,9,     -999,9,     -999,9,     -999,     -999,9,     -999,1,   1.6700,2,     -999,9,     -999,9,     -999,     -999,9,     -999,9,     -999,9,     -999,1,    0.066,1,    4.644,1,    0.148,1,  22.7800,2,     -999,1,20180425,0424, -67.0003,-117.7847,     -999,1,     -999,1,-999          ,9,     -999,1,     -999,9,     -999,     -999,9,     -999,     -999,9,     -999,1,     -999,1,     -999,1,     -999,1,     -999,1,     -999,1,     -999,1,     -999,1,     -999,1,     -999,1,     -999,1,     -999,1,     -999,1
320620180309  ,S04P       ,89      ,  1,28         ,28         ,2,20180425,0221, -67.0001,-117.7855,     4583,    268.2,1.8873071794067286522,34.541408654657722,2,  34.5420,2,186.05027008587064,2, 186.6963,2,    185.0,2,     75.9,2,    34.59,2,     0.00,2,     2.34,2,     -999,9,     -999,9,     -999,9,   2254.9,2,  2333.18,2,   7.5416,2,    24.89,     -999,9,     -999,9,   1.8872,2,     -999,9,     -999,9,     -999,     -999,9,     -999,9,     -999,9,     -999,9,    0.066,1,    4.646,1,    0.150,1,     -999,9,     -999,9,20180425,0421, -67.0004,-117.7845,     -999,9,     -999,9,-999          ,9,     -999,9,     -999,9,     -999,     -999,9,     -999,     -999,9,     -999,9,     -999,9,     -999,9,     -999,9,     -999,9,     -999,9,     -999,9,     -999,9,     -999,9,     -999,9,     -999,9,     -999,9,     -999,9
320620180309  ,S04P       ,89      ,  1,27         ,27         ,2,20180425,0221, -67.0001,-117.7855,     4583,    319.5,2.0034751517207429750,34.586199057641409,2,  34.5856,2,179.07675316544066,2, 180.3010,2,    178.8,2,     78.0,2,    34.33,2,     0.00,2,     2.33,2,    0.907,2,    0.472,2,   0.6700,2,     -999,9,     -999,9,     -999,9,     -999,     -999,9,     -999,1,   2.0024,2,     -999,9,     -999,9,     -999,     -999,9,     -999,9,     -999,9,     -999,1,    0.063,1,    4.649,1,    0.144,1,  22.8600,2,     -999,1,20180425,0419, -67.0003,-117.7847,     -999,1,     -999,1,-999          ,9,     -999,1,     -999,9,     -999,     -999,9,     -999,     -999,9,     -999,1,     -999,1,     -999,1,     -999,1,     -999,1,     -999,1,     -999,1,     -999,1,     -999,1,     -999,1,     -999,1,     -999,1,     -999,1
320620180309  ,S04P       ,89      ,  1,26         ,38         ,2,20180425,0221, -67.0001,-117.7855,     4583,    367.9,2.0500480263116092061,34.623960408937045,2,  34.6242,2,177.18836571915602,2, 178.4983,2,    176.6,2,     80.0,2,    33.88,2,     0.00,2,     2.29,2,     -999,9,     -999,9,     -999,9,   2258.4,2,  2341.90,2,   7.5546,2,    24.89,     -999,9,     -999,9,   2.0500,2,     -999,9,     -999,9,     -999,     -999,9,     -999,9,     -999,9,     -999,9,    0.062,1,    4.650,1,    0.141,1,     -999,9,     -999,9,20180425,0417, -67.0001,-117.7850,     -999,9,     -999,9,-999          ,9,     -999,9,     -999,9,     -999,     -999,9,     -999,     -999,9,     -999,1,     -999,1,     -999,1,     -999,1,     -999,1,     -999,1,     -999,1,     -999,1,     -999,1,     -999,1,     -999,1,     -999,1,     -999,1
320620180309  ,S04P       ,89      ,  1,25         ,25         ,2,20180425,0221, -67.0001,-117.7855,     4583,    419.1,2.0487879345869224323,34.643445746549183,2,  34.6419,2,177.70011578030176,2, 178.4972,2,    177.3,2,     80.9,2,    33.53,2,     0.00,2,     2.27,2,    0.591,2,    0.314,2,   0.2700,2,   2259.2,2,  2342.34,2,   7.5590,2,    24.89,     -999,9,     -999,1,   2.0486,2,     -999,9,     -999,9,     -999,     -999,9,     -999,9,     -999,9,     -999,1,    0.062,1,    4.653,1,    0.136,1,  22.3000,2,     -999,1,20180425,0414, -67.0000,-117.7851,     -999,1,     -999,1,-999          ,9,     -999,1,     -999,9,     -999,     -999,9,     -999,     -999,9,     -999,1,     -999,1,     -999,1,     -999,1,     -999,1,     -999,1,     -999,1,     -999,1,     -999,1,     -999,1,     -999,1,     -999,1,     -999,1
320620180309  ,S04P       ,89      ,  1,24         ,24         ,2,20180425,0221, -67.0001,-117.7855,     4583,    471.4,2.0520306816335009970,34.665328123186868,2,  34.6633,2,177.37976584225555,2, 178.0999,2,    177.6,2,     82.4,2,    33.23,2,     0.00,2,     2.25,2,     -999,9,     -999,9,     -999,9,   2258.7,6,  2346.02,2,   7.5635,2,    24.90,     -999,9,     -999,9,   2.0521,2,     -999,9,     -999,9,     -999,     -999,9,     -999,9,     -999,9,     -999,9,    0.063,1,    4.653,1,    0.140,1,     -999,9,     -999,9,20180425,0412, -67.0000,-117.7849,     -999,9,     -999,9,-999          ,9,     -999,9,     -999,9,     -999,     -999,9,     -999,     -999,9,     -999,9,     -999,9,     -999,9,     -999,9,     -999,9,     -999,9,     -999,9,     -999,9,     -999,9,     -999,9,     -999,9,     -999,9,     -999,9
320620180309  ,S04P       ,89      ,  1,23         ,23         ,2,20180425,0221, -67.0001,-117.7855,     4583,    538.7,2.0262897781600415215,34.685857973319258,2,  34.6843,2,178.42260449169282,2, 179.1030,2,    178.7,2,     84.3,2,    32.85,2,     0.00,2,     2.22,2,    0.388,2,    0.205,2,   0.0500,2,   2258.8,2,  2346.11,2,   7.5718,2,    24.91,     -999,9,     -999,9,   2.0261,2,     -999,9,     -999,9,     -999,     -999,9,     -999,9,     -999,9,     -999,9,    0.062,1,    4.654,1,    0.135,1,  21.3000,2,     -999,9,20180425,0410, -67.0002,-117.7848,     -999,9,     -999,9,-999          ,9,     -999,9,     -999,9,     -999,     -999,9,     -999,     -999,9,     -999,1,     -999,1,     -999,1,     -999,1,     -999,1,     -999,1,     -999,1,     -999,1,     -999,1,     -999,1,     -999,1,     -999,1,     -999,1
320620180309  ,S04P       ,89      ,  1,22         ,37         ,2,20180425,0221, -67.0001,-117.7855,     4583,    641.3,1.9689129786748933437,34.704494450845758,2,  34.7047,2,181.40891275870391,2, 181.3052,2,    181.9,2,     86.3,2,    32.42,2,     0.00,2,     2.20,2,     -999,9,     -999,9,     -999,9,   2256.4,2,  2349.62,2,   7.5781,2,    24.90,     -999,9,     -999,1,   1.9683,2,     -999,9,     -999,9,     -999,     -999,9,     -999,9,     -999,9,     -999,1,    0.061,1,    4.655,1,    0.136,1,     -999,9,     -999,1,20180425,0406, -67.0003,-117.7845,     -999,1,     -999,1,-999          ,9,     -999,1,     -999,9,     -999,     -999,9,     -999,     -999,9,     -999,9,     -999,9,     -999,9,     -999,9,     -999,9,     -999,9,     -999,9,     -999,9,     -999,9,     -999,9,     -999,9,     -999,9,     -999,9
320620180309  ,S04P       ,89      ,  1,21         ,21         ,2,20180425,0221, -67.0001,-117.7855,     4583,    742.1,1.8942325412015461605,34.716830634375413,2,  34.7159,2,184.51530046342853,2, 183.9980,2,    184.1,2,     88.3,2,    32.11,2,     0.00,2,     2.18,2,    0.275,2,    0.146,2,   0.1500,2,     -999,9,     -999,9,     -999,9,     -999,     -999,9,     -999,9,   1.8930,2,     -999,9,     -999,9,     -999,     -999,9,     -999,9,     -999,9,     -999,9,    0.061,1,    4.656,1,    0.132,1,  20.5200,2,     -999,9,20180425,0403, -67.0004,-117.7844,     -999,9,     -999,9,-999          ,9,     -999,9,     -999,9,     -999,     -999,9,     -999,     -999,9,     -999,1,     -999,1,     -999,1,     -999,1,     -999,1,     -999,1,     -999,1,     -999,1,     -999,1,     -999,1,     -999,1,     -999,1,     -999,1
320620180309  ,S04P       ,89      ,  1,20         ,20         ,2,20180425,0221, -67.0001,-117.7855,     4583,    845.5,1.8061297347486853226,34.725653378887095,2,  34.7247,2,187.43375617283058,2, 186.7003,2,    187.5,2,     90.7,2,    31.82,2,     0.00,2,     2.17,2,     -999,9,     -999,9,     -999,9,   2256.6,2,  2353.21,2,   7.5894,2,    24.89,     -999,9,     -999,9,   1.8064,2,     -999,9,     -999,9,     -999,     -999,9,     -999,9,     -999,9,     -999,9,    0.061,1,    4.656,1,    0.130,1,     -999,9,     -999,9,20180425,0400, -67.0006,-117.7844,     -999,9,     -999,9,-999          ,9,     -999,9,     -999,9,     -999,     -999,9,     -999,     -999,9,     -999,9,     -999,9,     -999,9,     -999,9,     -999,9,     -999,9,     -999,9,     -999,9,     -999,9,     -999,9,     -999,9,     -999,9,     -999,9
320620180309  ,S04P       ,89      ,  1,19         ,19         ,2,20180425,0221, -67.0001,-117.7855,     4583,    945.9,1.7133647636030735484,34.730319255959131,2,  34.7296,2,189.38593275926323,2, 189.1034,2,    189.6,2,     93.3,2,    31.69,2,     0.00,2,     2.14,2,    0.216,2,    0.118,2,   0.0000,2,     -999,9,     -999,9,     -999,9,     -999,     -999,9,     -999,1,   1.7133,2,     -999,9,     -999,9,     -999,     -999,9,     -999,9,     -999,9,     -999,1,    0.061,1,    4.656,1,    0.130,1,  19.7100,2,     -999,1,20180425,0357, -67.0005,-117.7844,     -999,1,     -999,1,-999          ,9,     -999,1,     -999,9,     -999,     -999,9,     -999,     -999,9,     -999,1,     -999,1,     -999,1,     -999,1,     -999,1,     -999,1,     -999,1,     -999,1,     -999,1,     -999,1,     -999,1,     -999,1,     -999,1
320620180309  ,S04P       ,89      ,  1,18         ,18         ,2,20180425,0221, -67.0001,-117.7855,     4583,   1048.2,1.6344328603493323282,34.732329079687567,2,  34.7314,2,191.30112163112966,2, 190.8016,2,    191.0,2,     95.4,2,    31.65,2,     0.00,2,     2.16,2,     -999,9,     -999,9,     -999,9,   2255.7,2,  2356.52,2,   7.5968,2,    24.91,     -999,9,     -999,9,   1.6341,2,     -999,9,     -999,9,     -999,     -999,9,     -999,9,     -999,9,     -999,9,    0.061,1,    4.657,1,    0.130,1,     -999,9,     -999,9,20180425,0354, -67.0004,-117.7844,     -999,9,     -999,9,-999          ,9,     -999,9,     -999,9,     -999,     -999,9,     -999,     -999,9,     -999,9,     -999,9,     -999,9,     -999,9,     -999,9,     -999,9,     -999,9,     -999,9,     -999,9,     -999,9,     -999,9,     -999,9,     -999,9
320620180309  ,S04P       ,89      ,  1,17         ,17         ,2,20180425,0221, -67.0001,-117.7855,     4583,   1149.8,1.5508308501520458034,34.732556699118526,2,  34.7319,2,192.75932299867029,2, 192.0998,2,    192.4,2,     98.1,2,    31.71,2,     0.00,2,     2.13,2,    0.188,2,    0.091,2,   0.0300,2,     -999,9,     -999,9,     -999,9,     -999,     -999,9,     -999,9,   1.5507,2,     -999,9,     -999,9,     -999,     -999,9,     -999,9,     -999,9,     -999,9,    0.061,1,    4.657,1,    0.129,1,  19.6400,2,     -999,9,20180425,0351, -67.0002,-117.7846,     -999,9,     -999,9,-999          ,9,     -999,9,     -999,9,     -999,     -999,9,     -999,     -999,9,     -999,1,     -999,1,     -999,1,     -999,1,     -999,1,     -999,1,     -999,1,     -999,1,     -999,1,     -999,1,     -999,1,     -999,1,     -999,1
320620180309  ,S04P       ,89      ,  1,16         ,16         ,2,20180425,0221, -67.0001,-117.7855,     4583,   1250.6,1.4647448250914885115,34.731961279659352,2,  34.7317,2,193.18108073725361,2, 193.2988,2,    193.8,2,    100.9,2,    31.74,2,     0.00,2,     2.14,2,     -999,9,     -999,9,     -999,9,     -999,9,     -999,9,     -999,9,     -999,     -999,9,     -999,1,   1.4648,2,     -999,9,     -999,9,     -999,     -999,9,     -999,9,     -999,9,     -999,1,    0.062,1,    4.657,1,    0.129,1,     -999,9,     -999,1,20180425,0347, -67.0002,-117.7846,     -999,1,     -999,1,-999          ,9,     -999,1,     -999,9,     -999,     -999,9,     -999,     -999,9,     -999,9,     -999,9,     -999,9,     -999,9,     -999,9,     -999,9,     -999,9,     -999,9,     -999,9,     -999,9,     -999,9,     -999,9,     -999,9