BOTTLE,20240515CCHHYDRO
EXPOCODE,SECT_ID,STNNBR,CASTNO,SAMPNO,BTLNBR,BTLNBR_FLAG_W,DATE,TIME,LATITUDE,LONGITUDE,DEPTH,CTDPRS,CTDTMP,CTDSAL,CTDSAL_FLAG_W,SALNTY,SALNTY_FLAG_W,CTDOXY,CTDOXY_FLAG_W,CTDOPTOXY,CTDOPTOXY_FLAG_W,OXYGEN,OXYGEN_FLAG_W,SILCAT,SILCAT_FLAG_W,NITRAT,NITRAT_FLAG_W,NITRIT,NITRIT_FLAG_W,PHSPHT,PHSPHT_FLAG_W,CFC-11,CFC-11_FLAG_W,CFC-12,CFC-12_FLAG_W,SF6,SF6_FLAG_W,TCARBN,TCARBN_FLAG_W,ALKALI,ALKALI_FLAG_W,PH_TOT,PH_TOT_FLAG_W,PH_TMP,DOC,DOC_FLAG_W,HELIUM,HELIUM_FLAG_W,REFTMP,REFTMP_FLAG_W,DELC13,DELC13_FLAG_W,DELC14,DELC14_FLAG_W,C14ERR,POC,POC_FLAG_W,TDN,TDN_FLAG_W,TON,TON_FLAG_W,NEON,NEON_FLAG_W,CTDFLUOR,CTDFLUOR_FLAG_W,CTDXMISS,CTDXMISS_FLAG_W,CTDBETA700,CTDBETA700_FLAG_W,N2O,N2O_FLAG_W,ARGON,ARGON_FLAG_W,BTL_DATE,BTL_TIME,BTL_LAT,BTL_LON,KRYPTON,KRYPTON_FLAG_W,XENON,XENON_FLAG_W,HPLC,HPLC_FLAG_W,HE3_HE4_RATIO,HE3_HE4_RATIO_FLAG_W,Nd_143_144_D_EPSILON_BOTTLE,Nd_143_144_D_EPSILON_BOTTLE_FLAG_W,Nd_143_144_D_EPSILON_BOTTLE_ERROR,Nd_143_144_D_RATIO_BOTTLE,Nd_143_144_D_RATIO_BOTTLE_FLAG_W,Nd_143_144_D_RATIO_BOTTLE_ERROR,Nd_D_CONC,Nd_D_CONC_FLAG_W,La_D_CONC_BOTTLE,La_D_CONC_BOTTLE_FLAG_W,Ce_D_CONC_BOTTLE,Ce_D_CONC_BOTTLE_FLAG_W,Pr_D_CONC_BOTTLE,Pr_D_CONC_BOTTLE_FLAG_W,Sm_D_CONC_BOTTLE,Sm_D_CONC_BOTTLE_FLAG_W,Eu_D_CONC_BOTTLE,Eu_D_CONC_BOTTLE_FLAG_W,Gd_D_CONC_BOTTLE,Gd_D_CONC_BOTTLE_FLAG_W,Tb_D_CONC_BOTTLE,Tb_D_CONC_BOTTLE_FLAG_W,Dy_D_CONC_BOTTLE,Dy_D_CONC_BOTTLE_FLAG_W,Ho_D_CONC_BOTTLE,Ho_D_CONC_BOTTLE_FLAG_W,Er_D_CONC_BOTTLE,Er_D_CONC_BOTTLE_FLAG_W,Tm_D_CONC_BOTTLE,Tm_D_CONC_BOTTLE_FLAG_W,Yb_D_CONC_BOTTLE,Yb_D_CONC_BOTTLE_FLAG_W,Lu_D_CONC_BOTTLE,Lu_D_CONC_BOTTLE_FLAG_W
,,,,,,,,,,,METERS,DBAR,ITS-90,PSS-78,,PSS-78,,UMOL/KG,,UMOL/KG,,UMOL/KG,,UMOL/KG,,UMOL/KG,,UMOL/KG,,UMOL/KG,,PMOL/KG,,PMOL/KG,,FMOL/KG,,UMOL/KG,,UMOL/KG,,,,DEG C,UMOL/KG,,NMOL/L,,DEG C,,/MILLE,,/MILLE,,/MILLE,UG/KG,,UMOL/KG,,UMOL/KG,,NMOL/L,,VOLTS,,VOLTS,,VOLTS,,NMOL/KG,,UMOL/L,,,,,,NMOL/L,,NMOL/L,,,,,,10000,,10000,,,,PMOL/KG,,PMOL/L,,PMOL/L,,PMOL/L,,PMOL/L,,PMOL/L,,PMOL/L,,PMOL/L,,PMOL/L,,PMOL/L,,PMOL/L,,PMOL/L,,PMOL/L,,PMOL/L,
320620180309  ,S04P       ,84      ,  1,15         ,15         ,2,20180422,1837, -66.9997,-126.0017,     3659,   1281.5,1.3174749999999997296,34.728323401193478,2,  34.7284,2,194.67895183471722,2, 194.9993,2,    195.4,2,    105.2,2,    31.83,2,     0.00,2,     2.16,2,     -999,9,     -999,9,     -999,9,   2260.4,2,  2359.92,2,   7.5980,2,    24.90,     40.7,2,     -999,9,   1.3160,2,0.39000000,2, -159.960,2,    0.002,     -999,9,     -999,9,     -999,1,     -999,9,    0.061,1,    4.656,1,    0.131,1,     -999,9,     -999,9,20180422,1936, -66.9997,-126.0018,     -999,9,     -999,9,-999          ,9,     -999,9,     -999,9,     -999,     -999,9,     -999,     -999,9,     -999,9,     -999,9,     -999,9,     -999,9,     -999,9,     -999,9,     -999,9,     -999,9,     -999,9,     -999,9,     -999,9,     -999,9,     -999,9
320620180309  ,S04P       ,84      ,  1,14         ,14         ,2,20180422,1837, -66.9997,-126.0017,     3659,   1383.5,1.2395861111111110553,34.726069928016827,2,  34.7264,2,195.48646356236173,2, 196.1977,2,    196.7,2,    107.8,2,    31.88,2,     0.00,2,     2.16,2,    0.153,2,    0.081,2,   0.0900,2,   2261.0,2,  2363.94,2,   7.5988,2,    24.90,     40.3,2,     -999,9,   1.2404,2,     -999,9,     -999,9,     -999,     -999,9,     -999,9,     -999,1,     -999,9,    0.061,1,    4.657,1,    0.131,1,  19.9400,2,     -999,9,20180422,1934, -66.9995,-126.0017,     -999,9,     -999,9,-999          ,9,     -999,9,     -999,9,     -999,     -999,9,     -999,     -999,9,     -999,9,     -999,9,     -999,9,     -999,9,     -999,9,     -999,9,     -999,9,     -999,9,     -999,9,     -999,9,     -999,9,     -999,9,     -999,9
320620180309  ,S04P       ,84      ,  1,13         ,13         ,2,20180422,1837, -66.9997,-126.0017,     3659,   1484.9,1.1947111111111108350,34.724514892474417,2,  34.7257,2,196.91449233843073,2, 196.9980,2,    197.0,2,    109.4,2,    31.89,2,     0.00,2,     2.16,2,    0.155,2,    0.078,2,   0.0900,2,   2260.8,2,  2361.59,2,   7.5982,2,    24.90,     -999,9,     -999,9,   1.1938,2,0.43000000,2, -160.560,2,    0.002,     -999,9,     -999,9,     -999,9,     -999,9,    0.061,1,    4.657,1,    0.130,1,  19.4900,2,     -999,9,20180422,1931, -66.9995,-126.0016,     -999,9,     -999,9,-999          ,9,     -999,9,     -999,9,     -999,     -999,9,     -999,     -999,9,     -999,9,     -999,9,     -999,9,     -999,9,     -999,9,     -999,9,     -999,9,     -999,9,     -999,9,     -999,9,     -999,9,     -999,9,     -999,9
320620180309  ,S04P       ,84      ,  1,12         ,12         ,2,20180422,1837, -66.9997,-126.0017,     3659,   1586.7,1.1374694444444446439,34.722347685791881,2,  34.7237,2,198.31421439199980,2, 198.1023,2,    198.5,2,    111.7,2,    31.97,2,     0.00,2,     2.15,2,     -999,9,     -999,9,     -999,9,   2260.7,2,  2362.62,2,   7.6007,6,    24.89,     41.4,2,     -999,9,   1.1365,2,     -999,9,     -999,9,     -999,     -999,9,     -999,9,     -999,1,     -999,9,    0.061,1,    4.656,1,    0.129,1,     -999,9,     -999,9,20180422,1928, -66.9994,-126.0015,     -999,9,     -999,9,-999          ,9,     -999,9,     -999,9,     -999,     -999,9,     -999,     -999,9,     -999,9,     -999,9,     -999,9,     -999,9,     -999,9,     -999,9,     -999,9,     -999,9,     -999,9,     -999,9,     -999,9,     -999,9,     -999,9
320620180309  ,S04P       ,84      ,  1,11         ,11         ,2,20180422,1837, -66.9997,-126.0017,     3659,   1687.5,1.0745499999999998941,34.720074650748444,2,  34.7206,2,199.47647400639187,2, 199.3012,2,    199.7,2,    113.2,2,    32.02,2,     0.00,2,     2.16,2,    0.147,2,    0.086,2,   0.0700,2,   2262.1,2,  2363.48,2,   7.6001,2,    24.90,     -999,9,     -999,9,   1.0743,2,0.40000000,2, -159.760,2,    0.002,     -999,9,     -999,9,     -999,9,     -999,9,    0.061,1,    4.657,1,    0.130,1,  19.2500,2,     -999,9,20180422,1925, -66.9992,-126.0013,     -999,9,     -999,9,-999          ,9,     -999,9,     -999,9,     -999,     -999,9,     -999,     -999,9,     -999,9,     -999,9,     -999,9,     -999,9,     -999,9,     -999,9,     -999,9,     -999,9,     -999,9,     -999,9,     -999,9,     -999,9,     -999,9
320620180309  ,S04P       ,84      ,  1,10         ,10         ,2,20180422,1837, -66.9997,-126.0017,     3659,   1789.5,1.0243861111111109974,34.718027610324512,2,  34.7190,2,200.65525248093653,2, 200.3979,2,    200.6,2,    115.1,2,    32.08,2,     0.00,2,     2.15,2,    0.150,2,    0.086,2,   0.1900,2,   2260.8,2,  2361.24,2,   7.6010,2,    24.89,     40.3,2,     -999,9,   1.0234,2,     -999,9,     -999,9,     -999,     -999,9,     -999,9,     -999,1,     -999,9,    0.061,1,    4.657,1,    0.129,1,  19.2200,2,     -999,9,20180422,1922, -66.9990,-126.0010,     -999,9,     -999,9,-999          ,9,     -999,9,     -999,9,     -999,     -999,9,     -999,     -999,9,     -999,9,     -999,9,     -999,9,     -999,9,     -999,9,     -999,9,     -999,9,     -999,9,     -999,9,     -999,9,     -999,9,     -999,9,     -999,9
320620180309  ,S04P       ,84      ,  1,9          ,9          ,2,20180422,1837, -66.9997,-126.0017,     3659,   1963.5,0.9437166666666667592,34.714790216711130,2,  34.7153,2,202.37161707347022,2, 202.2002,2,    202.4,2,    118.1,2,    32.18,2,     0.00,2,     2.19,2,     -999,9,     -999,9,     -999,9,   2264.1,6,  2363.51,2,   7.6019,2,    24.89,     42.6,2,     -999,9,   0.9429,2,     -999,9,     -999,9,     -999,     -999,9,     -999,9,     -999,1,     -999,9,    0.061,1,    4.657,1,    0.130,1,     -999,9,     -999,9,20180422,1917, -66.9990,-126.0010,     -999,9,     -999,9,-999          ,9,     -999,9,     -999,9,     -999,     -999,9,     -999,     -999,9,     -999,9,     -999,9,     -999,9,     -999,9,     -999,9,     -999,9,     -999,9,     -999,9,     -999,9,     -999,9,     -999,9,     -999,9,     -999,9
320620180309  ,S04P       ,84      ,  1,8          ,8          ,2,20180422,1837, -66.9997,-126.0017,     3659,   2197.4,0.8446194444444442562,34.710801254444604,2,  34.7117,2,203.48523131272663,2, 203.8980,2,    204.1,2,    122.3,2,    32.28,2,     0.00,2,     2.19,2,    0.167,2,    0.099,2,   0.0800,2,   2263.2,2,  2365.71,2,   7.6004,2,    24.90,     41.5,2,     -999,9,   0.8455,2,     -999,9,     -999,9,     -999,     -999,9,     -999,9,     -999,1,     -999,9,    0.061,1,    4.657,1,    0.129,1,  19.2800,2,     -999,9,20180422,1912, -66.9991,-126.0012,     -999,9,     -999,9,-999          ,9,     -999,9,     -999,9,     -999,     -999,9,     -999,     -999,9,     -999,9,     -999,9,     -999,9,     -999,9,     -999,9,     -999,9,     -999,9,     -999,9,     -999,9,     -999,9,     -999,9,     -999,9,     -999,9
320620180309  ,S04P       ,84      ,  1,7          ,7          ,2,20180422,1837, -66.9997,-126.0017,     3659,   2452.8,0.7360555555555554630,34.706924452429966,2,  34.7080,2,205.48603663283654,2, 205.8062,2,    206.0,2,    126.0,2,    32.42,2,     0.00,2,     2.21,2,    0.189,2,    0.100,2,   0.0400,2,   2263.8,2,  2364.43,2,   7.5978,2,    24.89,     39.5,2,     -999,9,   0.7360,2,     -999,9,     -999,9,     -999,     -999,9,     -999,9,     -999,1,     -999,9,    0.060,1,    4.657,1,    0.128,1,  19.4600,2,     -999,9,20180422,1906, -66.9994,-126.0015,     -999,9,     -999,9,-999          ,9,     -999,9,     -999,9,     -999,     -999,9,     -999,     -999,9,     -999,9,     -999,9,     -999,9,     -999,9,     -999,9,     -999,9,     -999,9,     -999,9,     -999,9,     -999,9,     -999,9,     -999,9,     -999,9
320620180309  ,S04P       ,84      ,  1,6          ,6          ,2,20180422,1837, -66.9997,-126.0017,     3659,   2708.4,0.6579638888888890147,34.705103707246550,2,  34.7056,2,206.91467872193002,2, 207.4988,2,    207.3,2,    128.0,2,    32.50,2,     0.00,2,     2.21,2,     -999,9,     -999,9,     -999,9,   2265.7,2,  2367.11,2,   7.5956,2,    24.88,     39.6,2,     -999,9,   0.6572,2,     -999,9,     -999,9,     -999,     -999,9,     -999,9,     -999,1,     -999,9,    0.061,1,    4.658,1,    0.128,1,     -999,9,     -999,9,20180422,1901, -66.9996,-126.0016,     -999,9,     -999,9,-999          ,9,     -999,9,     -999,9,     -999,     -999,9,     -999,     -999,9,     -999,9,     -999,9,     -999,9,     -999,9,     -999,9,     -999,9,     -999,9,     -999,9,     -999,9,     -999,9,     -999,9,     -999,9,     -999,9
320620180309  ,S04P       ,84      ,  1,5          ,5          ,2,20180422,1837, -66.9997,-126.0017,     3659,   2964.5,0.5671222222222221943,34.703248962614538,2,  34.7033,2,209.35019305387931,2, 209.0994,2,    209.0,2,    130.6,2,    32.61,2,     0.00,2,     2.24,2,    0.202,2,    0.107,2,   0.1500,2,   2264.7,2,  2364.46,2,   7.5978,2,    24.89,     42.0,2,     -999,9,   0.5662,2,     -999,9,     -999,9,     -999,     -999,9,     -999,9,     -999,1,     -999,9,    0.061,1,    4.658,1,    0.128,1,  18.9600,2,     -999,9,20180422,1855, -66.9995,-126.0015,     -999,9,     -999,9,-999          ,9,     -999,9,     -999,9,     -999,     -999,9,     -999,     -999,9,     -999,9,     -999,9,     -999,9,     -999,9,     -999,9,     -999,9,     -999,9,     -999,9,     -999,9,     -999,9,     -999,9,     -999,9,     -999,9
320620180309  ,S04P       ,84      ,  1,4          ,4          ,2,20180422,1837, -66.9997,-126.0017,     3659,   3256.9,0.4834972222222221894,34.701923168441972,2,  34.7027,2,210.97682889104982,2, 210.9003,2,    210.9,2,    134.3,2,    32.75,2,     0.00,2,     2.24,2,    0.213,2,    0.119,2,   0.1000,2,   2265.8,2,  2367.60,2,   7.5984,2,    24.89,     41.8,2,     -999,9,   0.4828,2,     -999,9,     -999,9,     -999,     -999,9,     -999,9,     -999,1,     -999,9,    0.060,1,    4.657,1,    0.127,1,  19.4700,2,     -999,9,20180422,1849, -66.9995,-126.0016,     -999,9,     -999,9,-999          ,9,     -999,9,     -999,9,     -999,     -999,9,     -999,     -999,9,     -999,9,     -999,9,     -999,9,     -999,9,     -999,9,     -999,9,     -999,9,     -999,9,     -999,9,     -999,9,     -999,9,     -999,9,     -999,9
320620180309  ,S04P       ,84      ,  1,3          ,3          ,2,20180422,1837, -66.9997,-126.0017,     3659,   3409.7,0.4464277777777777012,34.701373495344704,2,  34.7000,2,211.64005452579337,2, 211.7015,2,    211.8,2,    136.0,2,    32.80,2,     0.00,2,     2.24,2,    0.229,2,    0.124,2,   0.0300,2,   2267.0,2,  2365.46,2,   7.5975,2,    24.88,     41.4,2,     -999,9,   0.4454,2,     -999,9,     -999,9,     -999,     -999,9,     -999,9,     -999,1,     -999,9,    0.061,1,    4.657,1,    0.127,1,  19.0800,2,     -999,9,20180422,1845, -66.9995,-126.0015,     -999,9,     -999,9,-999          ,9,     -999,9,     -999,9,     -999,     -999,9,     -999,     -999,9,     -999,9,     -999,9,     -999,9,     -999,9,     -999,9,     -999,9,     -999,9,     -999,9,     -999,9,     -999,9,     -999,9,     -999,9,     -999,9
320620180309  ,S04P       ,84      ,  1,2          ,2          ,2,20180422,1837, -66.9997,-126.0017,     3659,   3538.0,0.4393611111111110912,34.701017122051120,2,  34.7009,2,213.72198669119533,2, 212.1001,2,    212.2,2,    136.3,2,    32.83,2,     0.00,2,     2.24,2,    0.253,2,    0.141,2,   0.0400,2,   2267.0,2,  2365.94,2,   7.5979,2,    24.89,     -999,9,     -999,9,   0.4335,2,     -999,9,     -999,9,     -999,     -999,9,     -999,9,     -999,9,     -999,9,    0.061,1,    4.657,1,    0.128,1,  19.2400,2,     -999,9,20180422,1841, -66.9994,-126.0014,     -999,9,     -999,9,-999          ,9,     -999,9,     -999,9,     -999,     -999,9,     -999,     -999,9,     -999,9,     -999,9,     -999,9,     -999,9,     -999,9,     -999,9,     -999,9,     -999,9,     -999,9,     -999,9,     -999,9,     -999,9,     -999,9
320620180309  ,S04P       ,84      ,  1,1          ,1          ,2,20180422,1837, -66.9997,-126.0017,     3659,   3719.2,0.4082694444444444626,34.700402771171305,2,  34.7003,2,213.88961160511536,2, 212.9025,2,    213.1,2,    138.0,2,    32.88,2,     0.00,2,     2.25,2,    0.287,2,    0.150,2,   0.0900,2,   2266.8,6,  2367.56,2,   7.5978,2,    24.88,     41.4,2,     -999,9,   0.4082,2,     -999,9,     -999,9,     -999,     -999,9,     -999,9,     -999,1,     -999,9,    0.061,1,    4.655,1,    0.128,1,  18.8600,2,     -999,9,20180422,1837, -66.9997,-126.0017,     -999,9,     -999,9,-999          ,9,     -999,9,     -999,9,     -999,     -999,9,     -999,     -999,9,     -999,9,     -999,9,     -999,9,     -999,9,     -999,9,     -999,9,     -999,9,     -999,9,     -999,9,     -999,9,     -999,9,     -999,9,     -999,9