BOTTLE,20240515CCHHYDRO
EXPOCODE,SECT_ID,STNNBR,CASTNO,SAMPNO,BTLNBR,BTLNBR_FLAG_W,DATE,TIME,LATITUDE,LONGITUDE,DEPTH,CTDPRS,CTDTMP,CTDSAL,CTDSAL_FLAG_W,SALNTY,SALNTY_FLAG_W,CTDOXY,CTDOXY_FLAG_W,CTDOPTOXY,CTDOPTOXY_FLAG_W,OXYGEN,OXYGEN_FLAG_W,SILCAT,SILCAT_FLAG_W,NITRAT,NITRAT_FLAG_W,NITRIT,NITRIT_FLAG_W,PHSPHT,PHSPHT_FLAG_W,CFC-11,CFC-11_FLAG_W,CFC-12,CFC-12_FLAG_W,SF6,SF6_FLAG_W,TCARBN,TCARBN_FLAG_W,ALKALI,ALKALI_FLAG_W,PH_TOT,PH_TOT_FLAG_W,PH_TMP,DOC,DOC_FLAG_W,HELIUM,HELIUM_FLAG_W,REFTMP,REFTMP_FLAG_W,DELC13,DELC13_FLAG_W,DELC14,DELC14_FLAG_W,C14ERR,POC,POC_FLAG_W,TDN,TDN_FLAG_W,TON,TON_FLAG_W,NEON,NEON_FLAG_W,CTDFLUOR,CTDFLUOR_FLAG_W,CTDXMISS,CTDXMISS_FLAG_W,CTDBETA700,CTDBETA700_FLAG_W,N2O,N2O_FLAG_W,ARGON,ARGON_FLAG_W,BTL_DATE,BTL_TIME,BTL_LAT,BTL_LON,KRYPTON,KRYPTON_FLAG_W,XENON,XENON_FLAG_W,HPLC,HPLC_FLAG_W,HE3_HE4_RATIO,HE3_HE4_RATIO_FLAG_W,Nd_143_144_D_EPSILON_BOTTLE,Nd_143_144_D_EPSILON_BOTTLE_FLAG_W,Nd_143_144_D_EPSILON_BOTTLE_ERROR,Nd_143_144_D_RATIO_BOTTLE,Nd_143_144_D_RATIO_BOTTLE_FLAG_W,Nd_143_144_D_RATIO_BOTTLE_ERROR,Nd_D_CONC,Nd_D_CONC_FLAG_W,La_D_CONC_BOTTLE,La_D_CONC_BOTTLE_FLAG_W,Ce_D_CONC_BOTTLE,Ce_D_CONC_BOTTLE_FLAG_W,Pr_D_CONC_BOTTLE,Pr_D_CONC_BOTTLE_FLAG_W,Sm_D_CONC_BOTTLE,Sm_D_CONC_BOTTLE_FLAG_W,Eu_D_CONC_BOTTLE,Eu_D_CONC_BOTTLE_FLAG_W,Gd_D_CONC_BOTTLE,Gd_D_CONC_BOTTLE_FLAG_W,Tb_D_CONC_BOTTLE,Tb_D_CONC_BOTTLE_FLAG_W,Dy_D_CONC_BOTTLE,Dy_D_CONC_BOTTLE_FLAG_W,Ho_D_CONC_BOTTLE,Ho_D_CONC_BOTTLE_FLAG_W,Er_D_CONC_BOTTLE,Er_D_CONC_BOTTLE_FLAG_W,Tm_D_CONC_BOTTLE,Tm_D_CONC_BOTTLE_FLAG_W,Yb_D_CONC_BOTTLE,Yb_D_CONC_BOTTLE_FLAG_W,Lu_D_CONC_BOTTLE,Lu_D_CONC_BOTTLE_FLAG_W
,,,,,,,,,,,METERS,DBAR,ITS-90,PSS-78,,PSS-78,,UMOL/KG,,UMOL/KG,,UMOL/KG,,UMOL/KG,,UMOL/KG,,UMOL/KG,,UMOL/KG,,PMOL/KG,,PMOL/KG,,FMOL/KG,,UMOL/KG,,UMOL/KG,,,,DEG C,UMOL/KG,,NMOL/L,,DEG C,,/MILLE,,/MILLE,,/MILLE,UG/KG,,UMOL/KG,,UMOL/KG,,NMOL/L,,VOLTS,,VOLTS,,VOLTS,,NMOL/KG,,UMOL/L,,,,,,NMOL/L,,NMOL/L,,,,,,10000,,10000,,,,PMOL/KG,,PMOL/L,,PMOL/L,,PMOL/L,,PMOL/L,,PMOL/L,,PMOL/L,,PMOL/L,,PMOL/L,,PMOL/L,,PMOL/L,,PMOL/L,,PMOL/L,,PMOL/L,
320620180309  ,P15        ,10      ,  1,36         ,36         ,2,20180321,1725, -71.0117,-170.0034,     3995,      8.6,-1.8301388888888889817,33.842777905855584,3,     -999,9,253.22836126103309,2, 304.1942,2,     -999,9,     55.9,2,    26.44,2,     0.13,2,     1.86,2,     -999,9,     -999,9,     -999,9,     -999,9,     -999,9,     -999,9,     -999,     -999,9,     -999,9,     -999,9,     -999,9,     -999,9,     -999,     -999,1,     -999,9,     -999,9,     -999,9,    0.172,1,    4.586,1,    0.181,1,     -999,9,     -999,9,20180321,1929, -71.0087,-170.0016,     -999,9,     -999,9,-999          ,1,     -999,9,     -999,9,     -999,     -999,9,     -999,     -999,9,     -999,9,     -999,9,     -999,9,     -999,9,     -999,9,     -999,9,     -999,9,     -999,9,     -999,9,     -999,9,     -999,9,     -999,9,     -999,9
320620180309  ,P15        ,10      ,  1,35         ,35         ,2,20180321,1725, -71.0117,-170.0034,     3995,     14.3,-1.8311027777777775238,33.843901978686617,2,  33.8400,2,253.27895590875755,3, 308.4028,3,    328.1,2,     56.1,2,    26.44,2,     0.13,2,     1.86,2,    5.295,6,    2.786,6,   4.5200,6,   2181.6,6,  2293.55,2,   7.6450,2,    24.94,     41.4,3,     -999,1,  -1.8303,2,1.00000000,2, -122.170,2,    0.002,     -999,9,    28.60,2,     -999,1,     -999,1,    0.179,1,    4.619,1,    0.185,1,  18.2100,6,     -999,1,20180321,1928, -71.0087,-170.0016,     -999,1,     -999,1,-999          ,9,     -999,1,     -999,9,     -999,     -999,9,     -999,     -999,9,     -999,1,     -999,1,     -999,1,     -999,1,     -999,1,     -999,1,     -999,1,     -999,1,     -999,1,     -999,1,     -999,1,     -999,1,     -999,1
320620180309  ,P15        ,10      ,  1,34         ,34         ,2,20180321,1725, -71.0117,-170.0034,     3995,     21.1,-1.8251083333333335545,33.845761692322419,2,  33.8427,2,253.24529776820782,3, 303.7002,3,    326.0,2,     56.1,2,    26.51,2,     0.13,2,     1.87,2,    5.327,2,    2.822,2,   4.4100,2,   2181.4,2,  2292.35,2,   7.6443,2,    24.96,     45.5,2,     -999,9,  -1.8305,2,     -999,9,     -999,9,     -999,     -999,9,    28.60,2,     -999,1,     -999,9,    0.175,1,    4.617,1,    0.229,1,  18.7100,2,     -999,9,20180321,1928, -71.0087,-170.0017,     -999,9,     -999,9,-999          ,9,     -999,9,     -999,9,     -999,     -999,9,     -999,     -999,9,     -999,1,     -999,1,     -999,1,     -999,1,     -999,1,     -999,1,     -999,1,     -999,1,     -999,1,     -999,1,     -999,1,     -999,1,     -999,1
320620180309  ,P15        ,10      ,  1,33         ,33         ,2,20180321,1725, -71.0117,-170.0034,     3995,     44.5,-1.7693666666666665321,33.900242908052299,2,  33.9041,2,251.40261159312959,3, 289.4005,3,    317.8,2,     57.1,2,    26.84,2,     0.12,2,     1.90,2,    5.055,2,    2.653,2,   4.1900,2,   2187.9,2,  2295.68,2,   7.6378,2,    24.96,     44.7,2,     -999,1,     -999,9,     -999,9,     -999,9,     -999,     -999,9,    28.90,2,     -999,1,     -999,1,    0.188,1,    4.618,1,    0.194,1,  18.4200,2,     -999,1,20180321,1927, -71.0088,-170.0018,     -999,1,     -999,1,-999          ,9,     -999,1,     -999,9,     -999,     -999,9,     -999,     -999,9,     -999,1,     -999,1,     -999,1,     -999,1,     -999,1,     -999,1,     -999,1,     -999,1,     -999,1,     -999,1,     -999,1,     -999,1,     -999,1
320620180309  ,P15        ,10      ,  1,32         ,32         ,2,20180321,1725, -71.0117,-170.0034,     3995,     48.9,-1.7553777777777774816,33.914920879798174,3,     -999,9,250.99994134090912,2, 302.2965,2,     -999,9,     57.5,2,    26.96,2,     0.12,2,     1.91,2,     -999,9,     -999,9,     -999,9,     -999,9,     -999,9,     -999,9,     -999,     -999,9,     -999,9,  -1.7679,2,     -999,9,     -999,9,     -999,     -999,1,     -999,9,     -999,9,     -999,9,    0.181,1,    4.621,1,    0.194,1,     -999,9,     -999,9,20180321,1927, -71.0088,-170.0017,     -999,9,     -999,9,-999          ,1,     -999,9,     -999,9,     -999,     -999,9,     -999,     -999,9,     -999,9,     -999,9,     -999,9,     -999,9,     -999,9,     -999,9,     -999,9,     -999,9,     -999,9,     -999,9,     -999,9,     -999,9,     -999,9
320620180309  ,P15        ,10      ,  1,31         ,31         ,2,20180321,1725, -71.0117,-170.0034,     3995,     75.6,-1.4876638888888891188,34.172062809481048,2,  34.1690,2,242.71690557889849,3, 237.8030,3,    283.2,2,     62.4,2,    28.71,2,     0.10,2,     2.02,2,     -999,9,     -999,9,     -999,9,   2211.6,2,  2310.23,2,   7.6119,2,    24.95,     41.9,2,     -999,9,  -1.4877,2,0.78000000,2, -122.430,2,    0.002,     -999,9,    30.90,2,     -999,1,     -999,9,    0.141,1,    4.644,1,    0.181,1,     -999,9,     -999,9,20180321,1926, -71.0087,-170.0017,     -999,9,     -999,9,-999          ,9,     -999,9,     -999,9,     -999,     -999,9,     -999,     -999,9,     -999,9,     -999,9,     -999,9,     -999,9,     -999,9,     -999,9,     -999,9,     -999,9,     -999,9,     -999,9,     -999,9,     -999,9,     -999,9
320620180309  ,P15        ,10      ,  1,30         ,30         ,2,20180321,1725, -71.0117,-170.0034,     3995,    103.9,-0.9866666666666665808,34.326016307090597,2,  34.3204,2,229.59843437623331,3, 221.9004,3,    257.8,2,     68.4,2,    30.33,2,     0.07,2,     2.11,2,    3.357,2,    1.801,2,   2.8700,2,   2225.6,2,  2319.46,2,   7.5932,6,    24.96,     43.6,2,     -999,1,  -0.9884,2,0.44000000,2, -128.140,2,    0.002,     -999,9,    32.60,2,     -999,1,     -999,1,    0.112,1,    4.656,1,    0.176,1,  21.4200,2,     -999,1,20180321,1924, -71.0087,-170.0016,     -999,1,     -999,1,-999          ,9,     -999,1,     -999,9,     -999,     -999,9,     -999,     -999,9,     -999,1,     -999,1,     -999,1,     -999,1,     -999,1,     -999,1,     -999,1,     -999,1,     -999,1,     -999,1,     -999,1,     -999,1,     -999,1
320620180309  ,P15        ,10      ,  1,29         ,29         ,2,20180321,1725, -71.0117,-170.0034,     3995,    149.9,0.0339138888888888823,34.450762397709155,2,  34.4466,2,209.88070169766058,3, 189.4024,3,    226.2,2,     76.5,2,    31.67,2,     0.02,2,     2.18,2,    2.166,3,    1.224,3,   0.8200,3,   2241.7,2,  2329.00,2,   7.5723,2,    24.95,     41.9,2,     -999,9,   0.0306,2,0.54000000,2, -134.790,2,    0.002,     -999,9,    33.10,2,     -999,1,     -999,9,    0.092,1,    4.669,1,    0.156,1,  19.3800,3,     -999,9,20180321,1921, -71.0085,-170.0016,     -999,9,     -999,9,-999          ,9,     -999,9,     -999,9,     -999,     -999,9,     -999,     -999,9,     -999,9,     -999,9,     -999,9,     -999,9,     -999,9,     -999,9,     -999,9,     -999,9,     -999,9,     -999,9,     -999,9,     -999,9,     -999,9
320620180309  ,P15        ,10      ,  1,28         ,28         ,2,20180321,1725, -71.0117,-170.0034,     3995,    202.9,1.2257166666666667876,34.627031779855827,2,  34.6254,2,189.86419366306271,2, 188.9995,2,    191.6,2,     87.4,2,    32.52,2,     0.01,2,     2.24,2,    0.939,2,    0.523,2,   0.7600,2,   2256.7,2,  2341.95,2,   7.5643,2,    24.96,     42.7,2,     -999,9,   1.2220,2,0.36000000,2, -144.940,2,    0.002,     -999,9,    34.20,2,     -999,1,     -999,9,    0.067,1,    4.678,1,    0.144,1,  22.3600,2,     -999,9,20180321,1918, -71.0084,-170.0014,     -999,9,     -999,9,-999          ,9,     -999,9,     -999,9,     -999,     -999,9,     -999,     -999,9,     -999,1,     -999,1,     -999,1,     -999,1,     -999,1,     -999,1,     -999,1,     -999,1,     -999,1,     -999,1,     -999,1,     -999,1,     -999,1
320620180309  ,P15        ,10      ,  1,27         ,27         ,2,20180321,1725, -71.0117,-170.0034,     3995,    251.2,1.5317694444444445168,34.693247836172311,2,  34.6905,2,185.17713402252278,2, 185.7967,2,    184.1,2,     92.5,2,    32.54,2,     0.00,2,     2.23,2,    0.497,2,    0.272,2,   0.6100,2,   2261.2,6,  2346.64,2,   7.5655,2,    24.95,     39.9,2,     -999,1,   1.5333,2,0.22000000,2, -146.770,2,    0.002,     -999,9,    35.30,2,     -999,1,     -999,1,    0.064,1,    4.679,1,    0.142,1,  22.3800,2,     -999,1,20180321,1915, -71.0085,-170.0016,     -999,1,     -999,1,-999          ,9,     -999,1,     -999,9,     -999,     -999,9,     -999,     -999,9,     -999,9,     -999,9,     -999,9,     -999,9,     -999,9,     -999,9,     -999,9,     -999,9,     -999,9,     -999,9,     -999,9,     -999,9,     -999,9
320620180309  ,P15        ,10      ,  1,26         ,26         ,2,20180321,1725, -71.0117,-170.0034,     3995,    301.8,1.5837611111111111750,34.723295479368041,2,  34.7213,2,184.44734993564381,2, 185.4999,2,    182.9,2,     95.5,2,    32.36,2,     0.00,2,     2.21,2,    0.289,2,    0.151,2,   0.3100,2,   2261.9,2,  2349.28,2,   7.5726,2,    24.95,     41.0,2,     -999,9,   1.5828,2,0.33000000,2, -151.360,2,    0.002,     -999,9,     -999,9,     -999,1,     -999,9,    0.063,1,    4.683,1,    0.137,1,  22.4300,2,     -999,9,20180321,1913, -71.0083,-170.0015,     -999,9,     -999,9,-999          ,9,     -999,9,     -999,9,     -999,     -999,9,     -999,     -999,9,     -999,1,     -999,1,     -999,1,     -999,1,     -999,1,     -999,1,     -999,1,     -999,1,     -999,1,     -999,1,     -999,1,     -999,1,     -999,1
320620180309  ,P15        ,10      ,  1,25         ,25         ,2,20180321,1725, -71.0117,-170.0034,     3995,    349.5,1.5391277777777778724,34.728796822973088,2,  34.7268,2,185.28030001366179,2, 186.2055,2,    184.3,2,     98.4,2,    32.18,2,     0.00,2,     2.22,2,    0.246,2,    0.146,2,   0.1700,2,   2261.3,2,  2352.32,2,   7.5752,2,    24.96,     38.9,2,     -999,9,   1.5386,2,-0.35000000,4, -172.230,4,    0.002,     -999,9,     -999,9,     -999,1,     -999,9,    0.063,1,    4.683,1,    0.137,1,  21.9900,2,     -999,9,20180321,1911, -71.0082,-170.0014,     -999,9,     -999,9,-999          ,9,     -999,9,     -999,9,     -999,     -999,9,     -999,     -999,9,     -999,9,     -999,9,     -999,9,     -999,9,     -999,9,     -999,9,     -999,9,     -999,9,     -999,9,     -999,9,     -999,9,     -999,9,     -999,9
320620180309  ,P15        ,10      ,  1,24         ,24         ,2,20180321,1725, -71.0117,-170.0034,     3995,    401.6,1.4926527777777778283,34.730341606642234,2,  34.7290,2,186.10908060581778,2, 187.0988,2,    184.8,2,     99.4,2,    32.20,2,     0.00,2,     2.21,2,     -999,9,     -999,9,     -999,9,   2264.9,2,  2357.89,2,   7.5758,2,    24.95,     41.9,2,     -999,1,   1.4917,2,0.60799998,2, -157.540,2,    0.002,     -999,9,     -999,9,     -999,1,     -999,1,    0.063,1,    4.684,1,    0.138,1,     -999,9,     -999,1,20180321,1908, -71.0082,-170.0012,     -999,1,     -999,1,-999          ,9,     -999,1,     -999,9,     -999,     -999,9,     -999,     -999,9,     -999,1,     -999,1,     -999,1,     -999,1,     -999,1,     -999,1,     -999,1,     -999,1,     -999,1,     -999,1,     -999,1,     -999,1,     -999,1
320620180309  ,P15        ,10      ,  1,23         ,23         ,2,20180321,1725, -71.0117,-170.0034,     3995,    506.8,1.3924722222222225554,34.731226309291706,2,  34.7300,2,187.87844815848493,2, 188.5968,2,    186.1,2,    103.3,2,    32.24,2,     0.00,2,     2.22,2,    0.186,2,    0.093,2,   0.0000,2,   2266.3,2,  2354.46,2,   7.5773,2,    24.95,     41.8,2,     -999,9,   1.3924,2,0.68000000,2, -155.480,2,    0.002,     -999,9,     -999,9,     -999,1,     -999,9,    0.062,1,    4.684,1,    0.133,1,  20.9100,2,     -999,9,20180321,1904, -71.0081,-170.0010,     -999,9,     -999,9,-999          ,9,     -999,9,     -999,9,     -999,     -999,9,     -999,     -999,9,     -999,9,     -999,9,     -999,9,     -999,9,     -999,9,     -999,9,     -999,9,     -999,9,     -999,9,     -999,9,     -999,9,     -999,9,     -999,9
320620180309  ,P15        ,10      ,  1,22         ,22         ,2,20180321,1725, -71.0117,-170.0034,     3995,    606.6,1.3197583333333333666,34.730128780427748,2,  34.7292,2,189.28712200583550,3, 189.8996,2,    191.6,4,    104.7,2,    32.27,2,     0.00,2,     2.21,2,    0.168,2,    0.099,2,   0.1900,2,   2267.1,2,  2354.86,2,   7.5778,2,    24.95,     40.3,2,     -999,9,   1.3193,2,0.70000000,2, -157.950,2,    0.003,     -999,9,     -999,9,     -999,1,     -999,9,    0.062,1,    4.683,1,    0.134,1,  21.6700,2,     -999,9,20180321,1901, -71.0082,-170.0010,     -999,9,     -999,9,-999          ,9,     -999,9,     -999,9,     -999,     -999,9,     -999,     -999,9,     -999,1,     -999,1,     -999,1,     -999,1,     -999,1,     -999,1,     -999,1,     -999,1,     -999,1,     -999,1,     -999,1,     -999,1,     -999,1
320620180309  ,P15        ,10      ,  1,21         ,21         ,2,20180321,1725, -71.0117,-170.0034,     3995,    708.3,1.2413361111111109736,34.728191506118137,2,  34.7276,2,190.85766745712607,2, 191.4036,2,    189.5,2,    108.9,2,    32.18,2,     0.00,2,     2.23,2,     -999,9,     -999,9,     -999,9,   2267.7,2,  2357.10,2,   7.5811,2,    24.95,     40.4,2,     -999,1,   1.2406,2,0.62000000,2, -156.100,2,    0.003,     -999,9,     -999,9,     -999,1,     -999,1,    0.061,1,    4.683,1,    0.145,1,     -999,9,     -999,1,20180321,1857, -71.0081,-170.0007,     -999,1,     -999,1,-999          ,9,     -999,1,     -999,9,     -999,     -999,9,     -999,     -999,9,     -999,9,     -999,9,     -999,9,     -999,9,     -999,9,     -999,9,     -999,9,     -999,9,     -999,9,     -999,9,     -999,9,     -999,9,     -999,9
320620180309  ,P15        ,10      ,  1,20         ,20         ,2,20180321,1725, -71.0117,-170.0034,     3995,    808.1,1.1650111111111112194,34.725638266017960,2,  34.7259,2,192.45349070395960,3, 194.8016,3,    207.2,4,    112.0,2,    32.22,2,     0.00,2,     2.24,2,    0.128,2,    0.070,2,   0.0000,2,   2267.1,2,  2358.18,2,   7.5850,2,    24.94,     39.0,2,     -999,9,   1.1652,2,0.70000000,2, -158.710,2,    0.002,     -999,9,     -999,9,     -999,1,     -999,9,    0.061,1,    4.684,1,    0.134,1,  20.7000,2,     -999,9,20180321,1854, -71.0080,-170.0007,     -999,9,     -999,9,-999          ,9,     -999,9,     -999,9,     -999,     -999,9,     -999,     -999,9,     -999,1,     -999,1,     -999,1,     -999,1,     -999,1,     -999,1,     -999,1,     -999,1,     -999,1,     -999,1,     -999,1,     -999,1,     -999,1
320620180309  ,P15        ,10      ,  1,19         ,19         ,2,20180321,1725, -71.0117,-170.0034,     3995,    911.5,1.1052999999999999492,34.723134677485824,2,  34.7233,2,193.80786579945547,2, 194.1968,2,    193.7,2,    113.1,2,    32.20,2,     0.00,2,     2.23,2,    0.121,2,    0.071,2,   0.0000,2,   2266.1,2,  2358.25,2,   7.5863,2,    24.95,     40.8,2,     -999,9,   1.1049,2,0.37000000,4, -159.890,2,    0.002,     -999,9,     -999,9,     -999,1,     -999,9,    0.062,1,    4.683,1,    0.134,1,  20.4100,2,     -999,9,20180321,1851, -71.0079,-170.0006,     -999,9,     -999,9,-999          ,9,     -999,9,     -999,9,     -999,     -999,9,     -999,     -999,9,     -999,9,     -999,9,     -999,9,     -999,9,     -999,9,     -999,9,     -999,9,     -999,9,     -999,9,     -999,9,     -999,9,     -999,9,     -999,9
320620180309  ,P15        ,10      ,  1,18         ,18         ,2,20180321,1725, -71.0117,-170.0034,     3995,   1015.6,1.0456388888888892286,34.720613728827182,2,  34.7215,2,195.18218718640807,3, 195.1003,2,    198.7,4,    114.6,2,    32.20,2,     0.00,2,     2.24,2,     -999,9,     -999,9,     -999,9,   2268.3,2,  2360.78,2,   7.5879,2,    24.94,     39.2,2,     -999,1,   1.0459,2,0.63249999,6, -159.110,6,    0.002,     -999,9,     -999,9,     -999,1,     -999,1,    0.062,1,    4.685,1,    0.131,1,     -999,9,     -999,1,20180321,1847, -71.0079,-170.0005,     -999,1,     -999,1,-999          ,9,     -999,1,     -999,9,     -999,     -999,9,     -999,     -999,9,     -999,1,     -999,1,     -999,1,     -999,1,     -999,1,     -999,1,     -999,1,     -999,1,     -999,1,     -999,1,     -999,1,     -999,1,     -999,1
320620180309  ,P15        ,10      ,  1,17         ,17         ,2,20180321,1725, -71.0117,-170.0034,     3995,   1112.8,0.9837444444444444214,34.717979647787097,2,  34.7194,2,196.51049686606726,2, 196.6027,2,    197.4,2,    116.5,2,    32.27,2,     0.00,2,     2.24,2,    0.110,2,    0.062,2,   0.0000,2,   2266.7,2,  2358.50,2,   7.5900,2,    24.94,     40.3,2,     -999,9,   0.9833,2,0.57000000,2, -159.250,2,    0.002,     -999,9,     -999,9,     -999,1,     -999,9,    0.061,1,    4.684,1,    0.153,1,  20.9300,2,     -999,9,20180321,1844, -71.0079,-170.0004,     -999,9,     -999,9,-999          ,9,     -999,9,     -999,9,     -999,     -999,9,     -999,     -999,9,     -999,9,     -999,9,     -999,9,     -999,9,     -999,9,     -999,9,     -999,9,     -999,9,     -999,9,     -999,9,     -999,9,     -999,9,     -999,9
320620180309  ,P15        ,10      ,  1,16         ,16         ,2,20180321,1725, -71.0117,-170.0034,     3995,   1215.7,0.9310583333333334322,34.715596011099116,2,  34.7174,2,197.82535095875542,2, 197.7987,2,    198.7,2,    117.2,2,    32.23,2,     0.00,2,     2.23,2,    0.108,2,    0.057,2,   0.0000,2,   2266.6,2,  2360.56,2,   7.5908,2,    24.93,     41.8,2,     -999,9,   0.9309,2,0.60000000,2, -159.800,2,    0.002,     -999,9,     -999,9,     -999,1,     -999,9,    0.061,1,    4.685,1,    0.129,1,  20.1100,2,     -999,9,20180321,1840, -71.0078,-170.0004,     -999,9,     -999,9,-999          ,9,     -999,9,     -999,9,     -999,     -999,9,     -999,     -999,9,     -999,1,     -999,1,     -999,1,     -999,1,     -999,1,     -999,1,     -999,1,     -999,1,     -999,1,     -999,1,     -999,1,     -999,1,     -999,1