BOTTLE,20240515CCHHYDRO
EXPOCODE,SECT_ID,STNNBR,CASTNO,SAMPNO,BTLNBR,BTLNBR_FLAG_W,DATE,TIME,LATITUDE,LONGITUDE,DEPTH,CTDPRS,CTDTMP,CTDSAL,CTDSAL_FLAG_W,SALNTY,SALNTY_FLAG_W,CTDOXY,CTDOXY_FLAG_W,CTDOPTOXY,CTDOPTOXY_FLAG_W,OXYGEN,OXYGEN_FLAG_W,SILCAT,SILCAT_FLAG_W,NITRAT,NITRAT_FLAG_W,NITRIT,NITRIT_FLAG_W,PHSPHT,PHSPHT_FLAG_W,CFC-11,CFC-11_FLAG_W,CFC-12,CFC-12_FLAG_W,SF6,SF6_FLAG_W,TCARBN,TCARBN_FLAG_W,ALKALI,ALKALI_FLAG_W,PH_TOT,PH_TOT_FLAG_W,PH_TMP,DOC,DOC_FLAG_W,HELIUM,HELIUM_FLAG_W,REFTMP,REFTMP_FLAG_W,DELC13,DELC13_FLAG_W,DELC14,DELC14_FLAG_W,C14ERR,POC,POC_FLAG_W,TDN,TDN_FLAG_W,TON,TON_FLAG_W,NEON,NEON_FLAG_W,CTDFLUOR,CTDFLUOR_FLAG_W,CTDXMISS,CTDXMISS_FLAG_W,CTDBETA700,CTDBETA700_FLAG_W,N2O,N2O_FLAG_W,ARGON,ARGON_FLAG_W,BTL_DATE,BTL_TIME,BTL_LAT,BTL_LON,KRYPTON,KRYPTON_FLAG_W,XENON,XENON_FLAG_W,HPLC,HPLC_FLAG_W,HE3_HE4_RATIO,HE3_HE4_RATIO_FLAG_W,Nd_143_144_D_EPSILON_BOTTLE,Nd_143_144_D_EPSILON_BOTTLE_FLAG_W,Nd_143_144_D_EPSILON_BOTTLE_ERROR,Nd_143_144_D_RATIO_BOTTLE,Nd_143_144_D_RATIO_BOTTLE_FLAG_W,Nd_143_144_D_RATIO_BOTTLE_ERROR,Nd_D_CONC,Nd_D_CONC_FLAG_W,La_D_CONC_BOTTLE,La_D_CONC_BOTTLE_FLAG_W,Ce_D_CONC_BOTTLE,Ce_D_CONC_BOTTLE_FLAG_W,Pr_D_CONC_BOTTLE,Pr_D_CONC_BOTTLE_FLAG_W,Sm_D_CONC_BOTTLE,Sm_D_CONC_BOTTLE_FLAG_W,Eu_D_CONC_BOTTLE,Eu_D_CONC_BOTTLE_FLAG_W,Gd_D_CONC_BOTTLE,Gd_D_CONC_BOTTLE_FLAG_W,Tb_D_CONC_BOTTLE,Tb_D_CONC_BOTTLE_FLAG_W,Dy_D_CONC_BOTTLE,Dy_D_CONC_BOTTLE_FLAG_W,Ho_D_CONC_BOTTLE,Ho_D_CONC_BOTTLE_FLAG_W,Er_D_CONC_BOTTLE,Er_D_CONC_BOTTLE_FLAG_W,Tm_D_CONC_BOTTLE,Tm_D_CONC_BOTTLE_FLAG_W,Yb_D_CONC_BOTTLE,Yb_D_CONC_BOTTLE_FLAG_W,Lu_D_CONC_BOTTLE,Lu_D_CONC_BOTTLE_FLAG_W
,,,,,,,,,,,METERS,DBAR,ITS-90,PSS-78,,PSS-78,,UMOL/KG,,UMOL/KG,,UMOL/KG,,UMOL/KG,,UMOL/KG,,UMOL/KG,,UMOL/KG,,PMOL/KG,,PMOL/KG,,FMOL/KG,,UMOL/KG,,UMOL/KG,,,,DEG C,UMOL/KG,,NMOL/L,,DEG C,,/MILLE,,/MILLE,,/MILLE,UG/KG,,UMOL/KG,,UMOL/KG,,NMOL/L,,VOLTS,,VOLTS,,VOLTS,,NMOL/KG,,UMOL/L,,,,,,NMOL/L,,NMOL/L,,,,,,10000,,10000,,,,PMOL/KG,,PMOL/L,,PMOL/L,,PMOL/L,,PMOL/L,,PMOL/L,,PMOL/L,,PMOL/L,,PMOL/L,,PMOL/L,,PMOL/L,,PMOL/L,,PMOL/L,,PMOL/L,
320620180309  ,S04P       ,59      ,  1,15         ,15         ,2,20180412,0530, -67.0001,-162.0143,     4079,   1351.9,0.7863888888888888040,34.712486530167823,2,  34.7115,2,202.70315296622306,2, 203.1034,2,    203.4,2,    121.9,2,    32.62,2,     0.00,2,     2.22,2,    0.132,2,    0.069,2,   0.0400,2,     -999,9,     -999,9,     -999,9,     -999,     -999,9,     -999,9,   0.7860,2,     -999,9,     -999,9,     -999,     -999,9,     -999,9,     -999,9,     -999,9,    0.061,1,    4.668,1,    0.128,1,  19.9000,2,     -999,9,20180412,0648, -67.0000,-162.0143,     -999,9,     -999,9,-999          ,9,     -999,9,     -999,9,     -999,     -999,9,     -999,     -999,9,     -999,9,     -999,9,     -999,9,     -999,9,     -999,9,     -999,9,     -999,9,     -999,9,     -999,9,     -999,9,     -999,9,     -999,9,     -999,9
320620180309  ,S04P       ,59      ,  1,14         ,14         ,2,20180412,0530, -67.0001,-162.0143,     4079,   1453.9,0.7388000000000001233,34.710644392192570,2,  34.7090,2,203.40708556485055,2, 204.5034,2,    204.0,2,    123.9,2,    32.66,2,     0.00,2,     2.21,2,     -999,9,     -999,9,     -999,9,   2263.8,2,  2362.31,2,   7.5943,2,    24.92,     -999,9,     -999,9,   0.7378,2,     -999,9,     -999,9,     -999,     -999,9,     -999,9,     -999,9,     -999,9,    0.062,1,    4.668,1,    0.127,1,     -999,9,     -999,9,20180412,0645, -66.9999,-162.0144,     -999,9,     -999,9,-999          ,9,     -999,9,     -999,9,     -999,     -999,9,     -999,     -999,9,     -999,9,     -999,9,     -999,9,     -999,9,     -999,9,     -999,9,     -999,9,     -999,9,     -999,9,     -999,9,     -999,9,     -999,9,     -999,9
320620180309  ,S04P       ,59      ,  1,13         ,13         ,2,20180412,0530, -67.0001,-162.0143,     4079,   1555.5,0.6997749999999999249,34.709172271903164,2,  34.7084,2,203.99431472938693,2, 205.2968,2,    205.1,2,    125.0,2,    32.63,2,     0.00,2,     2.21,2,     -999,9,     -999,9,     -999,9,   2264.9,2,  2363.08,2,   7.5950,2,    24.92,     -999,9,     -999,9,   0.6999,2,     -999,9,     -999,9,     -999,     -999,9,     -999,9,     -999,9,     -999,9,    0.060,1,    4.668,1,    0.127,1,     -999,9,     -999,9,20180412,0642, -66.9999,-162.0145,     -999,9,     -999,9,-999          ,9,     -999,9,     -999,9,     -999,     -999,9,     -999,     -999,9,     -999,9,     -999,9,     -999,9,     -999,9,     -999,9,     -999,9,     -999,9,     -999,9,     -999,9,     -999,9,     -999,9,     -999,9,     -999,9
320620180309  ,S04P       ,59      ,  1,12         ,12         ,2,20180412,0530, -67.0001,-162.0143,     4079,   1658.2,0.6665861111111108794,34.707845402769358,2,  34.7076,2,205.57253959349413,2, 206.1984,2,    206.4,2,    125.8,2,    32.65,2,     0.00,2,     2.22,2,    0.158,2,    0.089,2,   0.0100,2,     -999,9,     -999,9,     -999,9,     -999,     -999,9,     -999,9,   0.6660,2,     -999,9,     -999,9,     -999,     -999,9,     -999,9,     -999,9,     -999,9,    0.061,1,    4.666,1,    0.126,1,  19.3800,2,     -999,9,20180412,0638, -66.9999,-162.0144,     -999,9,     -999,9,-999          ,9,     -999,9,     -999,9,     -999,     -999,9,     -999,     -999,9,     -999,9,     -999,9,     -999,9,     -999,9,     -999,9,     -999,9,     -999,9,     -999,9,     -999,9,     -999,9,     -999,9,     -999,9,     -999,9
320620180309  ,S04P       ,59      ,  1,11         ,11         ,2,20180412,0530, -67.0001,-162.0143,     4079,   1760.1,0.6337333333333334817,34.706758912453729,2,  34.7056,2,205.91591682222997,2, 206.9996,2,    206.7,2,    126.5,2,    32.70,2,     0.00,2,     2.23,2,     -999,9,     -999,9,     -999,9,   2263.9,2,  2362.81,2,   7.5941,2,    24.93,     -999,9,     -999,9,   0.6325,2,     -999,9,     -999,9,     -999,     -999,9,     -999,9,     -999,9,     -999,9,    0.061,1,    4.668,1,    0.127,1,     -999,9,     -999,9,20180412,0635, -66.9999,-162.0144,     -999,9,     -999,9,-999          ,9,     -999,9,     -999,9,     -999,     -999,9,     -999,     -999,9,     -999,9,     -999,9,     -999,9,     -999,9,     -999,9,     -999,9,     -999,9,     -999,9,     -999,9,     -999,9,     -999,9,     -999,9,     -999,9
320620180309  ,S04P       ,59      ,  1,10         ,10         ,2,20180412,0530, -67.0001,-162.0143,     4079,   1890.8,0.5919972222222221747,34.705252364226126,2,  34.7049,2,207.30940860074077,2, 207.9926,2,    208.1,2,    127.2,2,    32.74,2,     0.00,2,     2.23,2,     -999,9,     -999,9,     -999,9,     -999,9,     -999,9,     -999,9,     -999,     -999,9,     -999,9,   0.5915,2,     -999,9,     -999,9,     -999,     -999,9,     -999,9,     -999,9,     -999,9,    0.061,1,    4.667,1,    0.127,1,     -999,9,     -999,9,20180412,0631, -67.0001,-162.0143,     -999,9,     -999,9,-999          ,9,     -999,9,     -999,9,     -999,     -999,9,     -999,     -999,9,     -999,9,     -999,9,     -999,9,     -999,9,     -999,9,     -999,9,     -999,9,     -999,9,     -999,9,     -999,9,     -999,9,     -999,9,     -999,9
320620180309  ,S04P       ,59      ,  1,9          ,9          ,2,20180412,0530, -67.0001,-162.0143,     4079,   2116.0,0.5141166666666666663,34.703635496350898,2,  34.7035,2,209.44317591981576,2, 209.5975,2,    209.4,2,    128.0,2,    32.80,2,     0.00,2,     2.24,2,    0.204,2,    0.109,2,   0.0400,2,   2263.2,2,  2362.37,2,   7.5944,2,    24.92,     -999,9,     -999,9,   0.5136,2,     -999,9,     -999,9,     -999,     -999,9,     -999,9,     -999,9,     -999,9,    0.061,1,    4.668,1,    0.126,1,  19.6000,2,     -999,9,20180412,0625, -67.0005,-162.0140,     -999,9,     -999,9,-999          ,9,     -999,9,     -999,9,     -999,     -999,9,     -999,     -999,9,     -999,9,     -999,9,     -999,9,     -999,9,     -999,9,     -999,9,     -999,9,     -999,9,     -999,9,     -999,9,     -999,9,     -999,9,     -999,9
320620180309  ,S04P       ,59      ,  1,8          ,8          ,2,20180412,0530, -67.0001,-162.0143,     4079,   2370.3,0.4287472222222221685,34.701588923521477,2,  34.7002,2,211.71673683340003,2, 211.5994,2,    211.7,2,    129.5,2,    32.84,2,     0.00,2,     2.24,2,     -999,9,     -999,9,     -999,9,     -999,9,     -999,9,     -999,9,     -999,     -999,9,     -999,9,   0.4282,2,     -999,9,     -999,9,     -999,     -999,9,     -999,9,     -999,9,     -999,9,    0.061,1,    4.667,1,    0.125,1,     -999,9,     -999,9,20180412,0618, -67.0007,-162.0136,     -999,9,     -999,9,-999          ,9,     -999,9,     -999,9,     -999,     -999,9,     -999,     -999,9,     -999,9,     -999,9,     -999,9,     -999,9,     -999,9,     -999,9,     -999,9,     -999,9,     -999,9,     -999,9,     -999,9,     -999,9,     -999,9
320620180309  ,S04P       ,59      ,  1,7          ,7          ,2,20180412,0530, -67.0001,-162.0143,     4079,   2628.1,0.3643166666666666220,34.699792126085690,2,  34.6990,2,213.29054144454696,2, 213.6961,2,    213.8,2,    130.8,2,    32.87,2,     0.00,2,     2.24,2,    0.311,2,    0.177,2,   0.1500,2,   2264.5,2,  2362.60,2,   7.5925,2,    24.93,     -999,9,     -999,9,   0.3642,2,     -999,9,     -999,9,     -999,     -999,9,     -999,9,     -999,9,     -999,9,    0.061,1,    4.668,1,    0.126,1,  19.5800,2,     -999,9,20180412,0611, -66.9999,-162.0145,     -999,9,     -999,9,-999          ,9,     -999,9,     -999,9,     -999,     -999,9,     -999,     -999,9,     -999,9,     -999,9,     -999,9,     -999,9,     -999,9,     -999,9,     -999,9,     -999,9,     -999,9,     -999,9,     -999,9,     -999,9,     -999,9
320620180309  ,S04P       ,59      ,  1,6          ,6          ,2,20180412,0530, -67.0001,-162.0143,     4079,   2882.5,0.2892500000000000626,34.695875151231192,2,  34.6941,2,216.26599250948797,2, 217.3974,2,    216.2,2,    129.5,2,    32.88,2,     0.00,2,     2.23,2,     -999,9,     -999,9,     -999,9,   2264.0,2,     -999,5,   7.5932,2,    24.93,     -999,9,     -999,9,   0.2886,2,     -999,9,     -999,9,     -999,     -999,9,     -999,9,     -999,9,     -999,9,    0.061,1,    4.667,1,    0.124,1,     -999,9,     -999,9,20180412,0604, -66.9996,-162.0148,     -999,9,     -999,9,-999          ,9,     -999,9,     -999,9,     -999,     -999,9,     -999,     -999,9,     -999,9,     -999,9,     -999,9,     -999,9,     -999,9,     -999,9,     -999,9,     -999,9,     -999,9,     -999,9,     -999,9,     -999,9,     -999,9
320620180309  ,S04P       ,59      ,  1,5          ,5          ,2,20180412,0530, -67.0001,-162.0143,     4079,   3138.9,0.2395472222222221614,34.691818552848737,2,  34.6911,2,219.04131413047705,2, 218.2008,2,    219.4,2,    127.9,2,    32.81,2,     0.00,2,     2.24,2,    0.707,2,    0.395,2,   0.3100,2,     -999,9,     -999,9,     -999,9,     -999,     -999,9,     -999,9,   0.2390,2,     -999,9,     -999,9,     -999,     -999,9,     -999,9,     -999,9,     -999,9,    0.061,1,    4.667,1,    0.127,1,  20.1400,4,     -999,9,20180412,0557, -67.0001,-162.0143,     -999,9,     -999,9,-999          ,9,     -999,9,     -999,9,     -999,     -999,9,     -999,     -999,9,     -999,9,     -999,9,     -999,9,     -999,9,     -999,9,     -999,9,     -999,9,     -999,9,     -999,9,     -999,9,     -999,9,     -999,9,     -999,9
320620180309  ,S04P       ,59      ,  1,4          ,4          ,2,20180412,0530, -67.0001,-162.0143,     4079,   3394.2,0.2242027777777778064,34.689305374530292,2,  34.6876,2,221.13748983328523,2, 219.9963,2,    221.0,2,    126.5,2,    32.81,2,     0.00,2,     2.23,2,     -999,9,     -999,9,     -999,9,   2264.3,2,  2360.47,2,   7.5918,6,    24.93,     -999,9,     -999,9,   0.2236,2,     -999,9,     -999,9,     -999,     -999,9,     -999,9,     -999,9,     -999,9,    0.061,1,    4.666,1,    0.125,1,     -999,9,     -999,9,20180412,0550, -67.0006,-162.0138,     -999,9,     -999,9,-999          ,9,     -999,9,     -999,9,     -999,     -999,9,     -999,     -999,9,     -999,9,     -999,9,     -999,9,     -999,9,     -999,9,     -999,9,     -999,9,     -999,9,     -999,9,     -999,9,     -999,9,     -999,9,     -999,9
320620180309  ,S04P       ,59      ,  1,3          ,3          ,2,20180412,0530, -67.0001,-162.0143,     4079,   3650.5,0.2340749999999999498,34.688613038694832,3,  34.6860,2,222.39153840696693,2, 221.5968,2,    220.6,2,    125.7,2,    32.85,2,     0.00,2,     2.23,2,    0.894,2,    0.486,2,   0.3700,2,   2263.9,2,  2361.17,2,   7.5933,2,    24.94,     -999,9,     -999,9,   0.2333,2,     -999,9,     -999,9,     -999,     -999,9,     -999,9,     -999,9,     -999,9,    0.060,1,    4.665,1,    0.127,1,  18.9000,2,     -999,9,20180412,0543, -67.0000,-162.0144,     -999,9,     -999,9,-999          ,9,     -999,9,     -999,9,     -999,     -999,9,     -999,     -999,9,     -999,9,     -999,9,     -999,9,     -999,9,     -999,9,     -999,9,     -999,9,     -999,9,     -999,9,     -999,9,     -999,9,     -999,9,     -999,9
320620180309  ,S04P       ,59      ,  1,2          ,2          ,2,20180412,0530, -67.0001,-162.0143,     4079,   3891.9,0.2525361111111110723,34.688447316981176,2,  34.6872,2,223.26649167392020,2, 221.4956,2,    221.4,2,    125.7,2,    32.75,2,     0.00,2,     2.23,2,     -999,9,     -999,9,     -999,9,   2263.2,2,  2360.86,2,   7.5921,2,    24.91,     -999,9,     -999,9,   0.2518,2,     -999,9,     -999,9,     -999,     -999,9,     -999,9,     -999,9,     -999,9,    0.060,1,    4.664,1,    0.126,1,     -999,9,     -999,9,20180412,0536, -66.9996,-162.0149,     -999,9,     -999,9,-999          ,9,     -999,9,     -999,9,     -999,     -999,9,     -999,     -999,9,     -999,9,     -999,9,     -999,9,     -999,9,     -999,9,     -999,9,     -999,9,     -999,9,     -999,9,     -999,9,     -999,9,     -999,9,     -999,9
320620180309  ,S04P       ,59      ,  1,1          ,1          ,2,20180412,0530, -67.0001,-162.0143,     4079,   4149.6,0.2741666666666667251,34.688713905813039,2,  34.6880,2,220.69075622250998,2, 220.5982,2,    221.4,2,    126.0,2,    32.77,2,     0.00,2,     2.23,2,    0.909,2,    0.488,2,   0.3100,2,   2263.1,6,  2361.33,2,   7.5920,2,    24.94,     -999,9,     -999,9,   0.2735,2,     -999,9,     -999,9,     -999,     -999,9,     -999,9,     -999,9,     -999,9,    0.061,1,    4.663,1,    0.128,1,  19.3400,2,     -999,9,20180412,0530, -67.0001,-162.0143,     -999,9,     -999,9,-999          ,9,     -999,9,     -999,9,     -999,     -999,9,     -999,     -999,9,     -999,9,     -999,9,     -999,9,     -999,9,     -999,9,     -999,9,     -999,9,     -999,9,     -999,9,     -999,9,     -999,9,     -999,9,     -999,9