BOTTLE,20240515CCHHYDRO
EXPOCODE,SECT_ID,STNNBR,CASTNO,SAMPNO,BTLNBR,BTLNBR_FLAG_W,DATE,TIME,LATITUDE,LONGITUDE,DEPTH,CTDPRS,CTDTMP,CTDSAL,CTDSAL_FLAG_W,SALNTY,SALNTY_FLAG_W,CTDOXY,CTDOXY_FLAG_W,CTDOPTOXY,CTDOPTOXY_FLAG_W,OXYGEN,OXYGEN_FLAG_W,SILCAT,SILCAT_FLAG_W,NITRAT,NITRAT_FLAG_W,NITRIT,NITRIT_FLAG_W,PHSPHT,PHSPHT_FLAG_W,CFC-11,CFC-11_FLAG_W,CFC-12,CFC-12_FLAG_W,SF6,SF6_FLAG_W,TCARBN,TCARBN_FLAG_W,ALKALI,ALKALI_FLAG_W,PH_TOT,PH_TOT_FLAG_W,PH_TMP,DOC,DOC_FLAG_W,HELIUM,HELIUM_FLAG_W,REFTMP,REFTMP_FLAG_W,DELC13,DELC13_FLAG_W,DELC14,DELC14_FLAG_W,C14ERR,POC,POC_FLAG_W,TDN,TDN_FLAG_W,TON,TON_FLAG_W,NEON,NEON_FLAG_W,CTDFLUOR,CTDFLUOR_FLAG_W,CTDXMISS,CTDXMISS_FLAG_W,CTDBETA700,CTDBETA700_FLAG_W,N2O,N2O_FLAG_W,ARGON,ARGON_FLAG_W,BTL_DATE,BTL_TIME,BTL_LAT,BTL_LON,KRYPTON,KRYPTON_FLAG_W,XENON,XENON_FLAG_W,HPLC,HPLC_FLAG_W,HE3_HE4_RATIO,HE3_HE4_RATIO_FLAG_W,Nd_143_144_D_EPSILON_BOTTLE,Nd_143_144_D_EPSILON_BOTTLE_FLAG_W,Nd_143_144_D_EPSILON_BOTTLE_ERROR,Nd_143_144_D_RATIO_BOTTLE,Nd_143_144_D_RATIO_BOTTLE_FLAG_W,Nd_143_144_D_RATIO_BOTTLE_ERROR,Nd_D_CONC,Nd_D_CONC_FLAG_W,La_D_CONC_BOTTLE,La_D_CONC_BOTTLE_FLAG_W,Ce_D_CONC_BOTTLE,Ce_D_CONC_BOTTLE_FLAG_W,Pr_D_CONC_BOTTLE,Pr_D_CONC_BOTTLE_FLAG_W,Sm_D_CONC_BOTTLE,Sm_D_CONC_BOTTLE_FLAG_W,Eu_D_CONC_BOTTLE,Eu_D_CONC_BOTTLE_FLAG_W,Gd_D_CONC_BOTTLE,Gd_D_CONC_BOTTLE_FLAG_W,Tb_D_CONC_BOTTLE,Tb_D_CONC_BOTTLE_FLAG_W,Dy_D_CONC_BOTTLE,Dy_D_CONC_BOTTLE_FLAG_W,Ho_D_CONC_BOTTLE,Ho_D_CONC_BOTTLE_FLAG_W,Er_D_CONC_BOTTLE,Er_D_CONC_BOTTLE_FLAG_W,Tm_D_CONC_BOTTLE,Tm_D_CONC_BOTTLE_FLAG_W,Yb_D_CONC_BOTTLE,Yb_D_CONC_BOTTLE_FLAG_W,Lu_D_CONC_BOTTLE,Lu_D_CONC_BOTTLE_FLAG_W
,,,,,,,,,,,METERS,DBAR,ITS-90,PSS-78,,PSS-78,,UMOL/KG,,UMOL/KG,,UMOL/KG,,UMOL/KG,,UMOL/KG,,UMOL/KG,,UMOL/KG,,PMOL/KG,,PMOL/KG,,FMOL/KG,,UMOL/KG,,UMOL/KG,,,,DEG C,UMOL/KG,,NMOL/L,,DEG C,,/MILLE,,/MILLE,,/MILLE,UG/KG,,UMOL/KG,,UMOL/KG,,NMOL/L,,VOLTS,,VOLTS,,VOLTS,,NMOL/KG,,UMOL/L,,,,,,NMOL/L,,NMOL/L,,,,,,10000,,10000,,,,PMOL/KG,,PMOL/L,,PMOL/L,,PMOL/L,,PMOL/L,,PMOL/L,,PMOL/L,,PMOL/L,,PMOL/L,,PMOL/L,,PMOL/L,,PMOL/L,,PMOL/L,,PMOL/L,
320620180309  ,S04P       ,21      ,  1,36         ,36         ,2,20180326,1551, -66.9985, 176.8609,     3555,      8.5,-0.9698833333333334306,34.023203131023820,2,  34.0207,2,339.55829554602678,2, 352.4048,3,    342.3,2,     54.6,2,    26.58,2,     0.17,2,     1.82,2,    5.422,2,    3.093,2,   3.5200,2,   2194.7,6,  2307.58,2,   7.6490,2,    24.94,     -999,9,     -999,9,  -0.9707,2,     -999,9,     -999,9,     -999,     -999,9,     -999,9,     -999,9,     -999,9,    0.154,1,    4.595,1,    0.234,1,  15.2400,2,     -999,9,20180326,1808, -66.9975, 176.8622,     -999,9,     -999,9,-999          ,9,     -999,9,     -999,9,     -999,     -999,9,     -999,     -999,9,     -999,1,     -999,1,     -999,1,     -999,1,     -999,1,     -999,1,     -999,1,     -999,1,     -999,1,     -999,1,     -999,1,     -999,1,     -999,1
320620180309  ,S04P       ,21      ,  1,35         ,35         ,2,20180326,1551, -66.9985, 176.8609,     3555,     34.1,-0.9717361111111109118,34.022874856399426,2,  34.0201,2,340.78071088381745,2, 352.4973,3,    341.8,2,     54.3,2,    26.63,2,     0.17,2,     1.82,2,     -999,9,     -999,9,     -999,9,   2194.2,2,  2306.19,2,   7.6487,2,    24.95,     -999,9,     -999,1,  -0.9724,2,     -999,9,     -999,9,     -999,     -999,9,     -999,9,     -999,9,     -999,1,    0.155,1,    4.595,1,    0.214,1,     -999,9,     -999,1,20180326,1805, -66.9975, 176.8620,     -999,1,     -999,1,-999          ,9,     -999,1,     -999,9,     -999,     -999,9,     -999,     -999,9,     -999,1,     -999,1,     -999,1,     -999,1,     -999,1,     -999,1,     -999,1,     -999,1,     -999,1,     -999,1,     -999,1,     -999,1,     -999,1
320620180309  ,S04P       ,21      ,  1,34         ,34         ,2,20180326,1551, -66.9985, 176.8609,     3555,     58.8,-0.9730527777777778775,34.023189584558942,2,  34.0211,2,341.05113303267120,2, 352.3038,3,    342.1,2,     54.4,2,    26.64,2,     0.17,2,     1.82,2,     -999,9,     -999,9,     -999,9,     -999,9,     -999,9,     -999,9,     -999,     -999,9,     -999,9,  -0.9737,2,     -999,9,     -999,9,     -999,     -999,9,     -999,9,     -999,9,     -999,9,    0.155,1,    4.587,1,    0.223,1,     -999,9,     -999,9,20180326,1803, -66.9975, 176.8618,     -999,9,     -999,9,-999          ,9,     -999,9,     -999,9,     -999,     -999,9,     -999,     -999,9,     -999,1,     -999,1,     -999,1,     -999,1,     -999,1,     -999,1,     -999,1,     -999,1,     -999,1,     -999,1,     -999,1,     -999,1,     -999,1
320620180309  ,S04P       ,21      ,  1,33         ,33         ,2,20180326,1551, -66.9985, 176.8609,     3555,     84.2,-1.4060555555555556140,34.272510189375261,2,  34.2691,2,288.47735849168112,2, 321.4025,3,    287.3,2,     68.5,2,    29.93,2,     0.22,2,     2.08,2,     -999,9,     -999,9,     -999,9,   2222.6,2,  2320.93,2,   7.6036,2,    24.95,     -999,9,     -999,1,  -1.4053,2,     -999,9,     -999,9,     -999,     -999,9,     -999,9,     -999,9,     -999,1,    0.146,1,    4.611,1,    0.221,1,     -999,9,     -999,1,20180326,1801, -66.9974, 176.8616,     -999,1,     -999,1,-999          ,9,     -999,1,     -999,9,     -999,     -999,9,     -999,     -999,9,     -999,1,     -999,1,     -999,1,     -999,1,     -999,1,     -999,1,     -999,1,     -999,1,     -999,1,     -999,1,     -999,1,     -999,1,     -999,1
320620180309  ,S04P       ,21      ,  1,32         ,32         ,2,20180326,1551, -66.9985, 176.8609,     3555,    110.0,-1.0770888888888885404,34.359259472456799,2,  34.3547,2,268.83799719068946,3, 289.2987,3,    265.4,2,     73.7,2,    31.20,2,     0.21,2,     2.15,2,     -999,9,     -999,9,     -999,9,     -999,9,     -999,9,     -999,9,     -999,     -999,9,     -999,9,  -1.0699,2,     -999,9,     -999,9,     -999,     -999,9,     -999,9,     -999,9,     -999,9,    0.092,1,    4.643,1,    0.187,1,     -999,9,     -999,9,20180326,1759, -66.9975, 176.8615,     -999,9,     -999,9,-999          ,9,     -999,9,     -999,9,     -999,     -999,9,     -999,     -999,9,     -999,1,     -999,1,     -999,1,     -999,1,     -999,1,     -999,1,     -999,1,     -999,1,     -999,1,     -999,1,     -999,1,     -999,1,     -999,1
320620180309  ,S04P       ,21      ,  1,31         ,31         ,2,20180326,1551, -66.9985, 176.8609,     3555,    134.9,-0.1562861111111111256,34.472297347360794,2,  34.4679,2,232.35652707643976,2, 266.7968,3,    233.3,2,     80.3,2,    32.23,2,     0.06,2,     2.21,2,    2.318,2,    1.288,2,   1.4200,2,   2242.2,2,  2332.58,2,   7.5738,2,    24.92,     -999,9,     -999,1,  -0.1517,2,     -999,9,     -999,9,     -999,     -999,9,     -999,9,     -999,9,     -999,1,    0.076,1,    4.657,1,    0.169,1,  18.8900,2,     -999,1,20180326,1758, -66.9974, 176.8611,     -999,1,     -999,1,-999          ,9,     -999,1,     -999,9,     -999,     -999,9,     -999,     -999,9,     -999,1,     -999,1,     -999,1,     -999,1,     -999,1,     -999,1,     -999,1,     -999,1,     -999,1,     -999,1,     -999,1,     -999,1,     -999,1
320620180309  ,S04P       ,21      ,  1,30         ,30         ,2,20180326,1551, -66.9985, 176.8609,     3555,    164.9,0.7941944444444444251,34.601486329362999,2,  34.5991,2,203.00307301769499,2, 210.9025,3,    204.2,2,     87.6,2,    32.73,2,     0.03,2,     2.25,2,     -999,9,     -999,9,     -999,9,   2255.8,2,  2341.00,2,   7.5698,2,    24.95,     -999,9,     -999,9,   0.8031,2,     -999,9,     -999,9,     -999,     -999,9,     -999,9,     -999,9,     -999,9,    0.066,1,    4.659,1,    0.164,1,     -999,9,     -999,9,20180326,1756, -66.9974, 176.8608,     -999,9,     -999,9,-999          ,9,     -999,9,     -999,9,     -999,     -999,9,     -999,     -999,9,     -999,9,     -999,9,     -999,9,     -999,9,     -999,9,     -999,9,     -999,9,     -999,9,     -999,9,     -999,9,     -999,9,     -999,9,     -999,9
320620180309  ,S04P       ,21      ,  1,29         ,29         ,2,20180326,1551, -66.9985, 176.8609,     3555,    216.1,1.2255249999999999755,34.676445089415004,2,  34.6731,2,194.89334697726497,2, 196.0963,2,    193.3,2,     91.9,2,    32.67,2,     0.00,2,     2.25,2,     -999,9,     -999,9,     -999,9,     -999,9,     -999,9,     -999,9,     -999,     -999,9,     -999,1,   1.2380,2,     -999,9,     -999,9,     -999,     -999,9,     -999,9,     -999,9,     -999,1,    0.064,1,    4.665,1,    0.151,1,     -999,9,     -999,1,20180326,1753, -66.9974, 176.8608,     -999,1,     -999,1,-999          ,9,     -999,1,     -999,9,     -999,     -999,9,     -999,     -999,9,     -999,1,     -999,1,     -999,1,     -999,1,     -999,1,     -999,1,     -999,1,     -999,1,     -999,1,     -999,1,     -999,1,     -999,1,     -999,1
320620180309  ,S04P       ,21      ,  1,28         ,28         ,2,20180326,1551, -66.9985, 176.8609,     3555,    266.4,1.4424916666666669496,34.712080902075016,2,  34.7100,2,186.48924637691144,2, 184.3004,2,    186.3,2,     95.4,2,    32.60,2,     0.00,2,     2.24,2,     -999,9,     -999,9,     -999,9,   2263.5,6,  2351.42,2,   7.5721,2,    24.93,     -999,9,     -999,9,   1.4409,2,     -999,9,     -999,9,     -999,     -999,9,     -999,9,     -999,9,     -999,9,    0.063,1,    4.668,1,    0.154,1,     -999,9,     -999,9,20180326,1751, -66.9974, 176.8608,     -999,9,     -999,9,-999          ,9,     -999,9,     -999,9,     -999,     -999,9,     -999,     -999,9,     -999,9,     -999,9,     -999,9,     -999,9,     -999,9,     -999,9,     -999,9,     -999,9,     -999,9,     -999,9,     -999,9,     -999,9,     -999,9
320620180309  ,S04P       ,21      ,  1,27         ,27         ,2,20180326,1551, -66.9985, 176.8609,     3555,    317.2,1.4616111111111107501,34.722223312370446,2,  34.7192,2,186.68684135206323,2, 182.9001,2,    186.1,2,     97.3,2,    32.49,2,     0.00,2,     2.24,2,    0.312,2,    0.162,2,   0.0800,2,   2261.6,2,  2351.11,2,   7.5748,2,    24.95,     -999,9,     -999,1,   1.4605,2,     -999,9,     -999,9,     -999,     -999,9,     -999,9,     -999,9,     -999,1,    0.063,1,    4.670,1,    0.152,1,  19.5700,2,     -999,1,20180326,1748, -66.9974, 176.8611,     -999,1,     -999,1,-999          ,9,     -999,1,     -999,9,     -999,     -999,9,     -999,     -999,9,     -999,1,     -999,1,     -999,1,     -999,1,     -999,1,     -999,1,     -999,1,     -999,1,     -999,1,     -999,1,     -999,1,     -999,1,     -999,1
320620180309  ,S04P       ,21      ,  1,26         ,26         ,2,20180326,1551, -66.9985, 176.8609,     3555,    367.6,1.4422000000000001485,34.726000467415368,2,  34.7235,2,187.54458217490034,2, 182.9956,2,    186.2,2,     98.9,2,    32.42,2,     0.00,2,     2.23,2,     -999,9,     -999,9,     -999,9,   2263.9,2,  2354.25,2,   7.5765,6,    24.94,     -999,9,     -999,9,   1.4413,2,     -999,9,     -999,9,     -999,     -999,9,     -999,9,     -999,9,     -999,9,    0.061,1,    4.672,1,    0.143,1,     -999,9,     -999,9,20180326,1745, -66.9974, 176.8611,     -999,9,     -999,9,-999          ,9,     -999,9,     -999,9,     -999,     -999,9,     -999,     -999,9,     -999,9,     -999,9,     -999,9,     -999,9,     -999,9,     -999,9,     -999,9,     -999,9,     -999,9,     -999,9,     -999,9,     -999,9,     -999,9
320620180309  ,S04P       ,21      ,  1,25         ,25         ,2,20180326,1551, -66.9985, 176.8609,     3555,    419.0,1.4097305555555552647,34.727510271937696,2,  34.7249,2,188.70408982511850,2, 183.6996,2,    187.5,2,    100.2,2,    32.34,2,     0.00,2,     2.22,2,     -999,9,     -999,9,     -999,9,   2263.1,2,  2354.23,2,   7.5800,2,    24.93,     -999,9,     -999,1,   1.4086,2,     -999,9,     -999,9,     -999,     -999,9,     -999,9,     -999,9,     -999,1,    0.063,1,    4.673,1,    0.141,1,     -999,9,     -999,1,20180326,1743, -66.9974, 176.8610,     -999,1,     -999,1,-999          ,9,     -999,1,     -999,9,     -999,     -999,9,     -999,     -999,9,     -999,1,     -999,1,     -999,1,     -999,1,     -999,1,     -999,1,     -999,1,     -999,1,     -999,1,     -999,1,     -999,1,     -999,1,     -999,1
320620180309  ,S04P       ,21      ,  1,24         ,24         ,2,20180326,1551, -66.9985, 176.8609,     3555,    469.5,1.3598527777777777992,34.728137884087744,2,  34.7261,2,189.29411473565420,2, 185.3981,2,    188.3,2,    101.8,2,    32.33,2,     0.00,2,     2.22,2,     -999,9,     -999,9,     -999,9,   2264.5,2,  2356.77,2,   7.5808,2,    24.93,     -999,9,     -999,9,   1.3601,2,     -999,9,     -999,9,     -999,     -999,9,     -999,9,     -999,9,     -999,9,    0.061,1,    4.674,1,    0.140,1,     -999,9,     -999,9,20180326,1740, -66.9974, 176.8606,     -999,9,     -999,9,-999          ,9,     -999,9,     -999,9,     -999,     -999,9,     -999,     -999,9,     -999,9,     -999,9,     -999,9,     -999,9,     -999,9,     -999,9,     -999,9,     -999,9,     -999,9,     -999,9,     -999,9,     -999,9,     -999,9
320620180309  ,S04P       ,21      ,  1,23         ,23         ,2,20180326,1551, -66.9985, 176.8609,     3555,    540.0,1.3023833333333332263,34.727613340722598,2,  34.7259,2,189.52188901738751,2, 187.8009,2,    189.7,2,    104.9,2,    32.36,2,     0.00,2,     2.22,2,    0.197,2,    0.105,2,   0.0700,2,   2263.6,2,  2355.73,2,   7.5826,6,    24.94,     -999,9,     -999,9,   1.3014,2,     -999,9,     -999,9,     -999,     -999,9,     -999,9,     -999,9,     -999,9,    0.062,1,    4.676,1,    0.138,1,  19.0400,2,     -999,9,20180326,1737, -66.9974, 176.8601,     -999,9,     -999,9,-999          ,9,     -999,9,     -999,9,     -999,     -999,9,     -999,     -999,9,     -999,1,     -999,1,     -999,1,     -999,1,     -999,1,     -999,1,     -999,1,     -999,1,     -999,1,     -999,1,     -999,1,     -999,1,     -999,1
320620180309  ,S04P       ,21      ,  1,22         ,37         ,2,20180326,1551, -66.9985, 176.8609,     3555,    641.4,1.2024194444444440411,34.723204383923282,2,  34.7208,2,190.98058413811370,2, 189.2012,2,    191.3,2,    107.6,2,    32.47,2,     0.00,2,     2.24,2,     -999,9,     -999,9,     -999,9,     -999,9,     -999,9,     -999,9,     -999,     -999,9,     -999,1,   1.2012,2,     -999,9,     -999,9,     -999,     -999,9,     -999,9,     -999,9,     -999,1,    0.061,1,    4.678,1,    0.136,1,     -999,9,     -999,1,20180326,1734, -66.9974, 176.8594,     -999,1,     -999,1,-999          ,9,     -999,1,     -999,9,     -999,     -999,9,     -999,     -999,9,     -999,9,     -999,9,     -999,9,     -999,9,     -999,9,     -999,9,     -999,9,     -999,9,     -999,9,     -999,9,     -999,9,     -999,9,     -999,9
320620180309  ,S04P       ,21      ,  1,21         ,21         ,2,20180326,1551, -66.9985, 176.8609,     3555,    743.8,1.1562138888888886523,34.723349928401781,2,  34.7211,2,193.36197766049091,2, 192.2996,2,    192.7,2,    109.6,2,    32.42,2,     0.00,2,     2.24,2,     -999,9,     -999,9,     -999,9,   2265.6,2,  2359.31,2,   7.5844,2,    24.93,     -999,9,     -999,9,   1.1534,2,     -999,9,     -999,9,     -999,     -999,9,     -999,9,     -999,9,     -999,9,    0.061,1,    4.680,1,    0.133,1,     -999,9,     -999,9,20180326,1731, -66.9973, 176.8585,     -999,9,     -999,9,-999          ,9,     -999,9,     -999,9,     -999,     -999,9,     -999,     -999,9,     -999,1,     -999,1,     -999,1,     -999,1,     -999,1,     -999,1,     -999,1,     -999,1,     -999,1,     -999,1,     -999,1,     -999,1,     -999,1
320620180309  ,S04P       ,21      ,  1,20         ,20         ,2,20180326,1551, -66.9985, 176.8609,     3555,    843.8,1.0887416666666669407,34.721314641520287,2,  34.7198,2,195.18048271555779,2, 194.2031,2,    194.6,2,    111.6,2,    32.41,2,     0.00,2,     2.23,2,    0.143,2,    0.080,2,   0.1800,2,   2263.4,2,  2358.41,2,   7.5892,2,    24.93,     -999,9,     -999,9,   1.0881,2,     -999,9,     -999,9,     -999,     -999,9,     -999,9,     -999,9,     -999,9,    0.061,1,    4.680,1,    0.132,1,  18.6100,2,     -999,9,20180326,1727, -66.9973, 176.8578,     -999,9,     -999,9,-999          ,9,     -999,9,     -999,9,     -999,     -999,9,     -999,     -999,9,     -999,9,     -999,9,     -999,9,     -999,9,     -999,9,     -999,9,     -999,9,     -999,9,     -999,9,     -999,9,     -999,9,     -999,9,     -999,9
320620180309  ,S04P       ,21      ,  1,19         ,19         ,2,20180326,1551, -66.9985, 176.8609,     3555,    946.5,1.0264083333333333670,34.719436360313672,2,  34.7190,2,196.28466623968532,2, 195.9028,2,    196.2,2,    113.6,2,    32.40,2,     0.00,2,     2.22,2,     -999,9,     -999,9,     -999,9,   2264.8,2,  2360.72,2,   7.5885,2,    24.94,     -999,9,     -999,1,   1.0257,2,     -999,9,     -999,9,     -999,     -999,9,     -999,9,     -999,9,     -999,1,    0.061,1,    4.680,1,    0.130,1,     -999,9,     -999,1,20180326,1724, -66.9974, 176.8571,     -999,1,     -999,1,-999          ,9,     -999,1,     -999,9,     -999,     -999,9,     -999,     -999,9,     -999,1,     -999,1,     -999,1,     -999,1,     -999,1,     -999,1,     -999,1,     -999,1,     -999,1,     -999,1,     -999,1,     -999,1,     -999,1
320620180309  ,S04P       ,21      ,  1,18         ,18         ,2,20180326,1551, -66.9985, 176.8609,     3555,   1048.5,0.9819194444444446779,34.718704563842003,2,  34.7170,2,198.32751703969370,2, 197.3065,2,    198.3,2,    115.3,2,    32.42,2,     0.00,2,     2.22,2,     -999,9,     -999,9,     -999,9,     -999,9,     -999,9,     -999,9,     -999,     -999,9,     -999,9,   0.9811,2,     -999,9,     -999,9,     -999,     -999,9,     -999,9,     -999,9,     -999,9,    0.061,1,    4.680,1,    0.133,1,     -999,9,     -999,9,20180326,1720, -66.9973, 176.8571,     -999,9,     -999,9,-999          ,9,     -999,9,     -999,9,     -999,     -999,9,     -999,     -999,9,     -999,9,     -999,9,     -999,9,     -999,9,     -999,9,     -999,9,     -999,9,     -999,9,     -999,9,     -999,9,     -999,9,     -999,9,     -999,9
320620180309  ,S04P       ,21      ,  1,17         ,17         ,2,20180326,1551, -66.9985, 176.8609,     3555,   1149.0,0.9141472222222222221,34.715949294853573,2,  34.7143,2,199.36268198139427,2, 199.5002,2,    199.0,2,    117.2,2,    32.42,2,     0.00,2,     2.23,2,    0.126,2,    0.065,2,   0.0800,2,   2265.2,2,  2362.96,2,   7.5914,2,    24.93,     -999,9,     -999,9,   0.9139,2,     -999,9,     -999,9,     -999,     -999,9,     -999,9,     -999,9,     -999,9,    0.061,1,    4.679,1,    0.131,1,  18.5100,2,     -999,9,20180326,1717, -66.9974, 176.8582,     -999,9,     -999,9,-999          ,9,     -999,9,     -999,9,     -999,     -999,9,     -999,     -999,9,     -999,1,     -999,1,     -999,1,     -999,1,     -999,1,     -999,1,     -999,1,     -999,1,     -999,1,     -999,1,     -999,1,     -999,1,     -999,1
320620180309  ,S04P       ,21      ,  1,16         ,16         ,2,20180326,1551, -66.9985, 176.8609,     3555,   1248.5,0.8678999999999998938,34.714419567094595,2,  34.7129,2,200.69104276104244,2, 200.6993,2,    200.0,2,    118.6,2,    32.42,2,     0.00,2,     2.22,2,     -999,9,     -999,9,     -999,9,     -999,9,     -999,9,     -999,9,     -999,     -999,9,     -999,1,   0.8672,2,     -999,9,     -999,9,     -999,     -999,9,     -999,9,     -999,9,     -999,1,    0.060,1,    4.680,1,    0.131,1,     -999,9,     -999,1,20180326,1714, -66.9976, 176.8599,     -999,1,     -999,1,-999          ,9,     -999,1,     -999,9,     -999,     -999,9,     -999,     -999,9,     -999,9,     -999,9,     -999,9,     -999,9,     -999,9,     -999,9,     -999,9,     -999,9,     -999,9,     -999,9,     -999,9,     -999,9,     -999,9