BOTTLE,20240515CCHHYDRO
EXPOCODE,SECT_ID,STNNBR,CASTNO,SAMPNO,BTLNBR,BTLNBR_FLAG_W,DATE,TIME,LATITUDE,LONGITUDE,DEPTH,CTDPRS,CTDTMP,CTDSAL,CTDSAL_FLAG_W,SALNTY,SALNTY_FLAG_W,CTDOXY,CTDOXY_FLAG_W,CTDOPTOXY,CTDOPTOXY_FLAG_W,OXYGEN,OXYGEN_FLAG_W,SILCAT,SILCAT_FLAG_W,NITRAT,NITRAT_FLAG_W,NITRIT,NITRIT_FLAG_W,PHSPHT,PHSPHT_FLAG_W,CFC-11,CFC-11_FLAG_W,CFC-12,CFC-12_FLAG_W,SF6,SF6_FLAG_W,TCARBN,TCARBN_FLAG_W,ALKALI,ALKALI_FLAG_W,PH_TOT,PH_TOT_FLAG_W,PH_TMP,DOC,DOC_FLAG_W,HELIUM,HELIUM_FLAG_W,REFTMP,REFTMP_FLAG_W,DELC13,DELC13_FLAG_W,DELC14,DELC14_FLAG_W,C14ERR,POC,POC_FLAG_W,TDN,TDN_FLAG_W,TON,TON_FLAG_W,NEON,NEON_FLAG_W,CTDFLUOR,CTDFLUOR_FLAG_W,CTDXMISS,CTDXMISS_FLAG_W,CTDBETA700,CTDBETA700_FLAG_W,N2O,N2O_FLAG_W,ARGON,ARGON_FLAG_W,BTL_DATE,BTL_TIME,BTL_LAT,BTL_LON,KRYPTON,KRYPTON_FLAG_W,XENON,XENON_FLAG_W,HPLC,HPLC_FLAG_W,HE3_HE4_RATIO,HE3_HE4_RATIO_FLAG_W,Nd_143_144_D_EPSILON_BOTTLE,Nd_143_144_D_EPSILON_BOTTLE_FLAG_W,Nd_143_144_D_EPSILON_BOTTLE_ERROR,Nd_143_144_D_RATIO_BOTTLE,Nd_143_144_D_RATIO_BOTTLE_FLAG_W,Nd_143_144_D_RATIO_BOTTLE_ERROR,Nd_D_CONC,Nd_D_CONC_FLAG_W,La_D_CONC_BOTTLE,La_D_CONC_BOTTLE_FLAG_W,Ce_D_CONC_BOTTLE,Ce_D_CONC_BOTTLE_FLAG_W,Pr_D_CONC_BOTTLE,Pr_D_CONC_BOTTLE_FLAG_W,Sm_D_CONC_BOTTLE,Sm_D_CONC_BOTTLE_FLAG_W,Eu_D_CONC_BOTTLE,Eu_D_CONC_BOTTLE_FLAG_W,Gd_D_CONC_BOTTLE,Gd_D_CONC_BOTTLE_FLAG_W,Tb_D_CONC_BOTTLE,Tb_D_CONC_BOTTLE_FLAG_W,Dy_D_CONC_BOTTLE,Dy_D_CONC_BOTTLE_FLAG_W,Ho_D_CONC_BOTTLE,Ho_D_CONC_BOTTLE_FLAG_W,Er_D_CONC_BOTTLE,Er_D_CONC_BOTTLE_FLAG_W,Tm_D_CONC_BOTTLE,Tm_D_CONC_BOTTLE_FLAG_W,Yb_D_CONC_BOTTLE,Yb_D_CONC_BOTTLE_FLAG_W,Lu_D_CONC_BOTTLE,Lu_D_CONC_BOTTLE_FLAG_W
,,,,,,,,,,,METERS,DBAR,ITS-90,PSS-78,,PSS-78,,UMOL/KG,,UMOL/KG,,UMOL/KG,,UMOL/KG,,UMOL/KG,,UMOL/KG,,UMOL/KG,,PMOL/KG,,PMOL/KG,,FMOL/KG,,UMOL/KG,,UMOL/KG,,,,DEG C,UMOL/KG,,NMOL/L,,DEG C,,/MILLE,,/MILLE,,/MILLE,UG/KG,,UMOL/KG,,UMOL/KG,,NMOL/L,,VOLTS,,VOLTS,,VOLTS,,NMOL/KG,,UMOL/L,,,,,,NMOL/L,,NMOL/L,,,,,,10000,,10000,,,,PMOL/KG,,PMOL/L,,PMOL/L,,PMOL/L,,PMOL/L,,PMOL/L,,PMOL/L,,PMOL/L,,PMOL/L,,PMOL/L,,PMOL/L,,PMOL/L,,PMOL/L,,PMOL/L,
320620180309  ,P16        ,46      ,  1,15         ,15         ,2,20180406,0721, -71.0005,-149.9974,     4263,   1353.2,0.9713000000000001632,34.717438158838455,2,  34.7178,2,198.23977034570734,2, 198.2985,2,    198.4,2,    116.5,2,    32.38,2,     0.00,2,     2.20,2,    0.119,2,    0.062,2,   0.0500,2,   2263.4,2,  2363.73,2,   7.5935,2,    24.94,     41.8,2,     -999,9,   0.9698,2,     -999,9,     -999,9,     -999,     -999,9,     -999,9,     -999,1,     -999,9,    0.061,1,    4.673,1,    0.127,1,  20.7500,2,     -999,9,20180406,0831, -71.0006,-149.9969,     -999,9,     -999,9,-999          ,9,     -999,9,     -999,9,     -999,     -999,9,     -999,     -999,9,     -999,9,     -999,9,     -999,9,     -999,9,     -999,9,     -999,9,     -999,9,     -999,9,     -999,9,     -999,9,     -999,9,     -999,9,     -999,9
320620180309  ,P16        ,46      ,  1,14         ,14         ,2,20180406,0721, -71.0005,-149.9974,     4263,   1454.5,0.9150305555555555692,34.715346899592518,2,  34.7190,2,199.34773766991535,2, 199.1020,2,    200.5,2,    118.4,2,    32.38,2,     0.00,2,     2.18,2,     -999,9,     -999,9,     -999,9,   2264.8,2,  2361.34,2,   7.5950,2,    24.95,     41.1,2,     -999,9,   0.9144,2,     -999,9,     -999,9,     -999,     -999,9,     -999,9,     -999,1,     -999,9,    0.060,1,    4.672,1,    0.128,1,     -999,9,     -999,9,20180406,0828, -71.0007,-149.9981,     -999,9,     -999,9,-999          ,9,     -999,9,     -999,9,     -999,     -999,9,     -999,     -999,9,     -999,9,     -999,9,     -999,9,     -999,9,     -999,9,     -999,9,     -999,9,     -999,9,     -999,9,     -999,9,     -999,9,     -999,9,     -999,9
320620180309  ,P16        ,46      ,  1,13         ,13         ,2,20180406,0721, -71.0005,-149.9974,     4263,   1556.3,0.8680944444444443908,34.713378894757057,2,  34.7145,2,200.44310604416117,2, 200.6943,2,    200.6,2,    120.6,2,    32.42,2,     0.00,2,     2.18,2,    0.115,2,    0.060,2,   0.0800,2,   2264.8,2,  2364.51,2,   7.5939,2,    24.96,     -999,9,     -999,9,   0.8671,2,     -999,9,     -999,9,     -999,     -999,9,     -999,9,     -999,9,     -999,9,    0.061,1,    4.672,1,    0.129,1,  20.9200,2,     -999,9,20180406,0825, -71.0007,-149.9991,     -999,9,     -999,9,-999          ,9,     -999,9,     -999,9,     -999,     -999,9,     -999,     -999,9,     -999,9,     -999,9,     -999,9,     -999,9,     -999,9,     -999,9,     -999,9,     -999,9,     -999,9,     -999,9,     -999,9,     -999,9,     -999,9
320620180309  ,P16        ,46      ,  1,12         ,12         ,2,20180406,0721, -71.0005,-149.9974,     4263,   1656.9,0.8244500000000000162,34.711317135576373,2,  34.7121,2,201.57554124011884,2, 201.7017,2,    201.5,2,    122.1,2,    32.44,2,     0.00,2,     2.20,2,     -999,9,     -999,9,     -999,9,   2264.7,2,  2362.03,2,   7.5935,2,    24.94,     43.4,3,     -999,9,   0.8237,2,     -999,9,     -999,9,     -999,     -999,9,     -999,9,     -999,1,     -999,9,    0.061,1,    4.672,1,    0.129,1,     -999,9,     -999,9,20180406,0822, -71.0008,-149.9998,     -999,9,     -999,9,-999          ,9,     -999,9,     -999,9,     -999,     -999,9,     -999,     -999,9,     -999,9,     -999,9,     -999,9,     -999,9,     -999,9,     -999,9,     -999,9,     -999,9,     -999,9,     -999,9,     -999,9,     -999,9,     -999,9
320620180309  ,P16        ,46      ,  1,11         ,11         ,2,20180406,0721, -71.0005,-149.9974,     4263,   1760.6,0.7763305555555554127,34.709592820225119,2,  34.7107,2,202.84659844037495,2, 203.0995,2,    203.3,2,    123.7,2,    32.43,2,     0.00,2,     2.20,2,    0.129,2,    0.083,2,   0.1000,3,   2265.3,6,  2363.58,2,   7.5953,2,    24.95,     -999,9,     -999,9,   0.7756,2,     -999,9,     -999,9,     -999,     -999,9,     -999,9,     -999,9,     -999,9,    0.061,1,    4.672,1,    0.126,1,  19.5000,2,     -999,9,20180406,0819, -71.0008,-150.0010,     -999,9,     -999,9,-999          ,9,     -999,9,     -999,9,     -999,     -999,9,     -999,     -999,9,     -999,9,     -999,9,     -999,9,     -999,9,     -999,9,     -999,9,     -999,9,     -999,9,     -999,9,     -999,9,     -999,9,     -999,9,     -999,9
320620180309  ,P16        ,46      ,  1,10         ,10         ,2,20180406,0721, -71.0005,-149.9974,     4263,   1893.2,0.7304194444444445100,34.707645888138828,2,  34.7082,2,203.84484192837547,2, 203.8010,2,    204.9,2,    125.4,2,    32.45,2,     0.00,2,     2.19,2,     -999,9,     -999,9,     -999,9,   2264.9,2,  2364.48,2,   7.5945,2,    24.96,     42.1,2,     -999,9,   0.7295,2,     -999,9,     -999,9,     -999,     -999,9,     -999,9,     -999,1,     -999,9,    0.061,1,    4.672,1,    0.126,1,     -999,9,     -999,9,20180406,0815, -71.0009,-150.0011,     -999,9,     -999,9,-999          ,9,     -999,9,     -999,9,     -999,     -999,9,     -999,     -999,9,     -999,9,     -999,9,     -999,9,     -999,9,     -999,9,     -999,9,     -999,9,     -999,9,     -999,9,     -999,9,     -999,9,     -999,9,     -999,9
320620180309  ,P16        ,46      ,  1,9          ,9          ,2,20180406,0721, -71.0005,-149.9974,     4263,   2116.9,0.6550833333333334618,34.705063355731475,2,  34.7056,2,205.50774831824990,2, 206.1042,2,    205.9,2,    126.9,2,    32.54,2,     0.00,2,     2.20,2,    0.147,2,    0.087,2,   0.1500,2,   2264.4,2,  2364.73,2,   7.5943,2,    24.95,     39.9,2,     -999,9,   0.6547,2,     -999,9,     -999,9,     -999,     -999,9,     -999,9,     -999,1,     -999,9,    0.061,1,    4.673,1,    0.126,1,  20.7900,2,     -999,9,20180406,0810, -71.0008,-149.9996,     -999,9,     -999,9,-999          ,9,     -999,9,     -999,9,     -999,     -999,9,     -999,     -999,9,     -999,9,     -999,9,     -999,9,     -999,9,     -999,9,     -999,9,     -999,9,     -999,9,     -999,9,     -999,9,     -999,9,     -999,9,     -999,9
320620180309  ,P16        ,46      ,  1,8          ,8          ,2,20180406,0721, -71.0005,-149.9974,     4263,   2371.6,0.5681611111111111168,34.703043637536382,2,  34.7037,2,207.49209020022397,2, 208.2019,2,    207.7,2,    127.8,2,    32.61,2,     0.00,2,     2.20,2,     -999,9,     -999,9,     -999,9,   2265.0,2,  2362.12,2,   7.5956,2,    24.95,     39.5,2,     -999,9,   0.5675,2,     -999,9,     -999,9,     -999,     -999,9,     -999,9,     -999,1,     -999,9,    0.060,1,    4.672,1,    0.125,1,     -999,9,     -999,9,20180406,0805, -71.0007,-149.9986,     -999,9,     -999,9,-999          ,9,     -999,9,     -999,9,     -999,     -999,9,     -999,     -999,9,     -999,9,     -999,9,     -999,9,     -999,9,     -999,9,     -999,9,     -999,9,     -999,9,     -999,9,     -999,9,     -999,9,     -999,9,     -999,9
320620180309  ,P16        ,46      ,  1,7          ,7          ,2,20180406,0721, -71.0005,-149.9974,     4263,   2627.1,0.4840888888888889574,34.701621077718158,3,  34.7037,2,209.62554130026942,2, 210.3015,2,    210.5,2,    130.0,2,    32.67,2,     0.00,2,     2.21,2,    0.157,2,    0.092,2,   0.0000,2,   2263.5,2,  2362.92,2,   7.5940,2,    24.94,     -999,9,     -999,9,   0.4836,2,     -999,9,     -999,9,     -999,     -999,9,     -999,9,     -999,9,     -999,9,    0.061,1,    4.672,1,    0.124,1,  20.2200,2,     -999,9,20180406,0759, -71.0007,-149.9985,     -999,9,     -999,9,-999          ,9,     -999,9,     -999,9,     -999,     -999,9,     -999,     -999,9,     -999,9,     -999,9,     -999,9,     -999,9,     -999,9,     -999,9,     -999,9,     -999,9,     -999,9,     -999,9,     -999,9,     -999,9,     -999,9
320620180309  ,P16        ,46      ,  1,6          ,6          ,2,20180406,0721, -71.0005,-149.9974,     4263,   2883.8,0.4166694444444444811,34.701076754262630,2,  34.7021,2,211.98424889619349,2, 212.2999,2,    212.4,2,    132.2,2,    32.69,2,     0.00,2,     2.20,2,    0.171,2,    0.095,2,   0.0800,3,   2265.6,2,  2362.23,2,   7.5954,2,    24.95,     40.6,2,     -999,9,   0.4155,2,     -999,9,     -999,9,     -999,     -999,9,     -999,9,     -999,1,     -999,9,    0.060,1,    4.672,1,    0.124,1,  19.6000,2,     -999,9,20180406,0753, -71.0007,-149.9983,     -999,9,     -999,9,-999          ,9,     -999,9,     -999,9,     -999,     -999,9,     -999,     -999,9,     -999,9,     -999,9,     -999,9,     -999,9,     -999,9,     -999,9,     -999,9,     -999,9,     -999,9,     -999,9,     -999,9,     -999,9,     -999,9
320620180309  ,P16        ,46      ,  1,5          ,5          ,2,20180406,0721, -71.0005,-149.9974,     4263,   3154.3,0.3622083333333333544,34.700376870194823,2,  34.7011,2,213.53772787757430,2, 213.3996,2,    213.4,2,    134.0,2,    32.72,2,     0.00,2,     2.21,2,    0.207,2,    0.114,2,   0.1800,2,   2264.2,2,  2361.52,2,   7.6006,2,    24.95,     -999,9,     -999,9,   0.3618,2,     -999,9,     -999,9,     -999,     -999,9,     -999,9,     -999,9,     -999,9,    0.061,1,    4.672,1,    0.124,1,  20.2000,2,     -999,9,20180406,0747, -71.0007,-149.9982,     -999,9,     -999,9,-999          ,9,     -999,9,     -999,9,     -999,     -999,9,     -999,     -999,9,     -999,9,     -999,9,     -999,9,     -999,9,     -999,9,     -999,9,     -999,9,     -999,9,     -999,9,     -999,9,     -999,9,     -999,9,     -999,9
320620180309  ,P16        ,46      ,  1,4          ,4          ,2,20180406,0721, -71.0005,-149.9974,     4263,   3462.4,0.3129444444444444695,34.699330291366536,2,  34.6992,2,215.57162717034808,2, 215.8007,2,    215.2,2,    137.0,2,    32.77,2,     0.00,2,     2.23,2,    0.303,2,    0.164,2,   0.1900,3,   2264.6,2,  2362.09,2,   7.5946,2,    24.94,     41.9,2,     -999,9,   0.3121,2,     -999,9,     -999,9,     -999,     -999,9,     -999,9,     -999,1,     -999,9,    0.061,1,    4.671,1,    0.125,1,  22.3900,4,     -999,9,20180406,0740, -71.0008,-150.0010,     -999,9,     -999,9,-999          ,9,     -999,9,     -999,9,     -999,     -999,9,     -999,     -999,9,     -999,9,     -999,9,     -999,9,     -999,9,     -999,9,     -999,9,     -999,9,     -999,9,     -999,9,     -999,9,     -999,9,     -999,9,     -999,9
320620180309  ,P16        ,46      ,  1,3          ,3          ,2,20180406,0721, -71.0005,-149.9974,     4263,   3772.0,0.2534000000000000141,34.695328980659873,2,  34.6956,2,218.93275984772168,2, 219.2007,2,    218.6,2,    130.4,2,    32.67,2,     0.00,2,     2.22,2,    0.583,2,    0.304,2,   0.1000,2,   2263.1,2,  2361.63,2,   7.5935,2,    24.95,     41.1,2,     -999,9,   0.2523,2,     -999,9,     -999,9,     -999,     -999,9,     -999,9,     -999,1,     -999,9,    0.060,1,    4.671,1,    0.124,1,  20.1500,2,     -999,9,20180406,0733, -71.0010,-150.0020,     -999,9,     -999,9,-999          ,9,     -999,9,     -999,9,     -999,     -999,9,     -999,     -999,9,     -999,9,     -999,9,     -999,9,     -999,9,     -999,9,     -999,9,     -999,9,     -999,9,     -999,9,     -999,9,     -999,9,     -999,9,     -999,9
320620180309  ,P16        ,46      ,  1,2          ,2          ,2,20180406,0721, -71.0005,-149.9974,     4263,   4054.6,0.2399333333333333595,34.694708811245697,2,  34.6943,2,220.12157919893460,2, 220.0055,2,    221.0,2,    128.2,2,    32.68,2,     0.00,2,     2.23,2,    0.684,2,    0.349,2,   0.1900,3,   2264.3,2,  2360.31,2,   7.5932,2,    24.95,     40.4,2,     -999,9,   0.2392,2,     -999,9,     -999,9,     -999,     -999,9,     -999,9,     -999,1,     -999,9,    0.060,1,    4.670,1,    0.126,1,  19.0900,2,     -999,9,20180406,0727, -71.0008,-149.9994,     -999,9,     -999,9,-999          ,9,     -999,9,     -999,9,     -999,     -999,9,     -999,     -999,9,     -999,9,     -999,9,     -999,9,     -999,9,     -999,9,     -999,9,     -999,9,     -999,9,     -999,9,     -999,9,     -999,9,     -999,9,     -999,9
320620180309  ,P16        ,46      ,  1,1          ,1          ,2,20180406,0721, -71.0005,-149.9974,     4263,   4339.9,0.2554250000000000131,34.695079885447214,3,  34.6972,2,220.98650262187360,2, 220.0955,2,    219.0,2,    130.8,2,    32.81,2,     0.00,2,     2.24,2,    0.710,2,    0.347,2,   0.1400,3,   2265.2,6,  2359.95,2,   7.5963,2,    24.96,     41.9,2,     -999,9,   0.2548,2,     -999,9,     -999,9,     -999,     -999,9,     -999,9,     -999,1,     -999,9,    0.059,1,    4.662,1,    0.141,1,  19.1400,2,     -999,9,20180406,0721, -71.0005,-149.9974,     -999,9,     -999,9,-999          ,9,     -999,9,     -999,9,     -999,     -999,9,     -999,     -999,9,     -999,9,     -999,9,     -999,9,     -999,9,     -999,9,     -999,9,     -999,9,     -999,9,     -999,9,     -999,9,     -999,9,     -999,9,     -999,9