BOTTLE,20240515CCHHYDRO
EXPOCODE,SECT_ID,STNNBR,CASTNO,SAMPNO,BTLNBR,BTLNBR_FLAG_W,DATE,TIME,LATITUDE,LONGITUDE,DEPTH,CTDPRS,CTDTMP,CTDSAL,CTDSAL_FLAG_W,SALNTY,SALNTY_FLAG_W,CTDOXY,CTDOXY_FLAG_W,CTDOPTOXY,CTDOPTOXY_FLAG_W,OXYGEN,OXYGEN_FLAG_W,SILCAT,SILCAT_FLAG_W,NITRAT,NITRAT_FLAG_W,NITRIT,NITRIT_FLAG_W,PHSPHT,PHSPHT_FLAG_W,CFC-11,CFC-11_FLAG_W,CFC-12,CFC-12_FLAG_W,SF6,SF6_FLAG_W,TCARBN,TCARBN_FLAG_W,ALKALI,ALKALI_FLAG_W,PH_TOT,PH_TOT_FLAG_W,PH_TMP,DOC,DOC_FLAG_W,HELIUM,HELIUM_FLAG_W,REFTMP,REFTMP_FLAG_W,DELC13,DELC13_FLAG_W,DELC14,DELC14_FLAG_W,C14ERR,POC,POC_FLAG_W,TDN,TDN_FLAG_W,TON,TON_FLAG_W,NEON,NEON_FLAG_W,CTDFLUOR,CTDFLUOR_FLAG_W,CTDXMISS,CTDXMISS_FLAG_W,CTDBETA700,CTDBETA700_FLAG_W,N2O,N2O_FLAG_W,ARGON,ARGON_FLAG_W,BTL_DATE,BTL_TIME,BTL_LAT,BTL_LON,KRYPTON,KRYPTON_FLAG_W,XENON,XENON_FLAG_W,HPLC,HPLC_FLAG_W,HE3_HE4_RATIO,HE3_HE4_RATIO_FLAG_W,Nd_143_144_D_EPSILON_BOTTLE,Nd_143_144_D_EPSILON_BOTTLE_FLAG_W,Nd_143_144_D_EPSILON_BOTTLE_ERROR,Nd_143_144_D_RATIO_BOTTLE,Nd_143_144_D_RATIO_BOTTLE_FLAG_W,Nd_143_144_D_RATIO_BOTTLE_ERROR,Nd_D_CONC,Nd_D_CONC_FLAG_W,La_D_CONC_BOTTLE,La_D_CONC_BOTTLE_FLAG_W,Ce_D_CONC_BOTTLE,Ce_D_CONC_BOTTLE_FLAG_W,Pr_D_CONC_BOTTLE,Pr_D_CONC_BOTTLE_FLAG_W,Sm_D_CONC_BOTTLE,Sm_D_CONC_BOTTLE_FLAG_W,Eu_D_CONC_BOTTLE,Eu_D_CONC_BOTTLE_FLAG_W,Gd_D_CONC_BOTTLE,Gd_D_CONC_BOTTLE_FLAG_W,Tb_D_CONC_BOTTLE,Tb_D_CONC_BOTTLE_FLAG_W,Dy_D_CONC_BOTTLE,Dy_D_CONC_BOTTLE_FLAG_W,Ho_D_CONC_BOTTLE,Ho_D_CONC_BOTTLE_FLAG_W,Er_D_CONC_BOTTLE,Er_D_CONC_BOTTLE_FLAG_W,Tm_D_CONC_BOTTLE,Tm_D_CONC_BOTTLE_FLAG_W,Yb_D_CONC_BOTTLE,Yb_D_CONC_BOTTLE_FLAG_W,Lu_D_CONC_BOTTLE,Lu_D_CONC_BOTTLE_FLAG_W
,,,,,,,,,,,METERS,DBAR,ITS-90,PSS-78,,PSS-78,,UMOL/KG,,UMOL/KG,,UMOL/KG,,UMOL/KG,,UMOL/KG,,UMOL/KG,,UMOL/KG,,PMOL/KG,,PMOL/KG,,FMOL/KG,,UMOL/KG,,UMOL/KG,,,,DEG C,UMOL/KG,,NMOL/L,,DEG C,,/MILLE,,/MILLE,,/MILLE,UG/KG,,UMOL/KG,,UMOL/KG,,NMOL/L,,VOLTS,,VOLTS,,VOLTS,,NMOL/KG,,UMOL/L,,,,,,NMOL/L,,NMOL/L,,,,,,10000,,10000,,,,PMOL/KG,,PMOL/L,,PMOL/L,,PMOL/L,,PMOL/L,,PMOL/L,,PMOL/L,,PMOL/L,,PMOL/L,,PMOL/L,,PMOL/L,,PMOL/L,,PMOL/L,,PMOL/L,
320620180309  ,S04P       ,112     ,  1,15         ,15         ,2,20180504,1144, -67.2011, -91.3328,     4546,   1419.0,1.5247836099436755664,34.731117984792839,2,  34.7314,2,193.13038630559726,2, 193.4985,2,    193.5,2,    100.4,2,    31.88,2,     0.00,2,     2.17,2,     -999,9,     -999,9,     -999,9,   2258.3,2,  2359.78,2,   7.5971,2,    25.02,     39.4,2,     -999,1,   1.5248,2,     -999,9,     -999,9,     -999,     -999,9,     -999,9,     -999,1,     -999,1,    0.061,1,    4.646,1,    0.129,1,     -999,9,     -999,1,20180504,1306, -67.1997, -91.3324,     -999,1,     -999,1,-999          ,9,     -999,1,     -999,9,     -999,     -999,9,     -999,     -999,9,     -999,1,     -999,1,     -999,1,     -999,1,     -999,1,     -999,1,     -999,1,     -999,1,     -999,1,     -999,1,     -999,1,     -999,1,     -999,1
320620180309  ,S04P       ,112     ,  1,14         ,14         ,2,20180504,1144, -67.2011, -91.3328,     4546,   1520.0,1.4473433584278945219,34.729766595812187,2,  34.7298,2,194.28996595409458,2, 194.6987,2,    194.5,2,    102.9,2,    31.96,2,     0.00,2,     2.18,2,    0.141,2,    0.079,2,   0.0000,2,   2259.8,2,  2359.62,2,   7.5989,2,    25.04,     42.9,2,     -999,9,   1.4470,2,     -999,9,     -999,9,     -999,     -999,9,     -999,9,     -999,1,     -999,9,    0.061,1,    4.645,1,    0.129,1,  19.4700,2,     -999,9,20180504,1303, -67.1999, -91.3324,     -999,9,     -999,9,-999          ,9,     -999,9,     -999,9,     -999,     -999,9,     -999,     -999,9,     -999,9,     -999,9,     -999,9,     -999,9,     -999,9,     -999,9,     -999,9,     -999,9,     -999,9,     -999,9,     -999,9,     -999,9,     -999,9
320620180309  ,S04P       ,112     ,  1,13         ,13         ,2,20180504,1144, -67.2011, -91.3328,     4546,   1620.6,1.3735719408194420055,34.728117366556958,2,  34.7290,2,195.22242912219559,2, 195.8002,2,    195.5,2,    105.3,2,    31.99,2,     0.00,2,     2.20,2,    0.134,2,    0.068,2,   0.0100,2,   2261.2,2,  2361.86,2,   7.5996,2,    25.03,     42.4,2,     -999,9,   1.3730,2,     -999,9,     -999,9,     -999,     -999,9,     -999,9,     -999,1,     -999,9,    0.062,1,    4.646,1,    0.130,1,  19.5000,2,     -999,9,20180504,1300, -67.2001, -91.3323,     -999,9,     -999,9,-999          ,9,     -999,9,     -999,9,     -999,     -999,9,     -999,     -999,9,     -999,1,     -999,1,     -999,1,     -999,1,     -999,1,     -999,1,     -999,1,     -999,1,     -999,1,     -999,1,     -999,1,     -999,1,     -999,1
320620180309  ,S04P       ,112     ,  1,12         ,12         ,2,20180504,1144, -67.2011, -91.3328,     4546,   1825.2,1.2435278060667043221,34.724222538818772,2,  34.7253,2,197.77266532130503,2, 197.9959,2,    197.9,2,    109.8,2,    32.18,2,     0.00,2,     2.19,2,    0.121,2,    0.074,2,   0.0000,2,   2260.6,2,  2363.18,2,   7.6006,2,    25.02,     43.1,2,     -999,1,   1.2433,2,     -999,9,     -999,9,     -999,     -999,9,     -999,9,     -999,1,     -999,1,    0.061,1,    4.646,1,    0.132,1,  19.6200,2,     -999,1,20180504,1255, -67.2002, -91.3323,     -999,1,     -999,1,-999          ,9,     -999,1,     -999,9,     -999,     -999,9,     -999,     -999,9,     -999,9,     -999,9,     -999,9,     -999,9,     -999,9,     -999,9,     -999,9,     -999,9,     -999,9,     -999,9,     -999,9,     -999,9,     -999,9
320620180309  ,S04P       ,112     ,  1,11         ,11         ,2,20180504,1144, -67.2011, -91.3328,     4546,   2029.1,1.1285257797377084010,34.720694616250405,2,  34.7215,2,199.36285221577475,2, 200.1008,2,    199.8,2,    113.3,2,    32.30,2,     0.00,2,     2.19,2,     -999,9,     -999,9,     -999,9,   2262.3,6,  2365.22,2,   7.5977,2,    25.04,     41.7,2,     -999,9,   1.1285,2,     -999,9,     -999,9,     -999,     -999,9,     -999,9,     -999,1,     -999,9,    0.061,1,    4.646,1,    0.131,1,     -999,9,     -999,9,20180504,1250, -67.1999, -91.3324,     -999,9,     -999,9,-999          ,9,     -999,9,     -999,9,     -999,     -999,9,     -999,     -999,9,     -999,1,     -999,1,     -999,1,     -999,1,     -999,1,     -999,1,     -999,1,     -999,1,     -999,1,     -999,1,     -999,1,     -999,1,     -999,1
320620180309  ,S04P       ,112     ,  1,10         ,10         ,2,20180504,1144, -67.2011, -91.3328,     4546,   2285.9,1.0050896373751754265,34.715773115503701,2,  34.7159,2,201.81119814192047,3, 202.4984,2,    203.9,2,    117.5,2,    32.34,2,     0.00,2,     2.19,2,    0.134,2,    0.081,2,   0.0000,2,   2262.7,2,  2364.09,2,   7.6003,2,    25.04,     41.4,2,     -999,9,   1.0052,2,     -999,9,     -999,9,     -999,     -999,9,     -999,9,     -999,1,     -999,9,    0.061,1,    4.646,1,    0.128,1,  19.0200,2,     -999,9,20180504,1244, -67.1999, -91.3324,     -999,9,     -999,9,-999          ,9,     -999,9,     -999,9,     -999,     -999,9,     -999,     -999,9,     -999,9,     -999,9,     -999,9,     -999,9,     -999,9,     -999,9,     -999,9,     -999,9,     -999,9,     -999,9,     -999,9,     -999,9,     -999,9
320620180309  ,S04P       ,112     ,  1,9          ,9          ,2,20180504,1144, -67.2011, -91.3328,     4546,   2539.6,0.8975858059158919877,34.711681784204622,2,  34.7123,2,204.24013785181558,2, 204.6008,2,    204.6,2,    121.9,2,    32.51,2,     0.00,2,     2.20,2,    0.149,2,    0.078,2,   0.0000,2,   2262.5,2,  2366.12,2,   7.6001,2,    25.04,     40.2,2,     -999,1,   0.8975,2,     -999,9,     -999,9,     -999,     -999,9,     -999,9,     -999,1,     -999,1,    0.061,1,    4.646,1,    0.127,1,  19.2600,2,     -999,1,20180504,1238, -67.2003, -91.3324,     -999,1,     -999,1,-999          ,9,     -999,1,     -999,9,     -999,     -999,9,     -999,     -999,9,     -999,1,     -999,1,     -999,1,     -999,1,     -999,1,     -999,1,     -999,1,     -999,1,     -999,1,     -999,1,     -999,1,     -999,1,     -999,1
320620180309  ,S04P       ,112     ,  1,8          ,8          ,2,20180504,1144, -67.2011, -91.3328,     4546,   2796.2,0.8051286145638327785,34.708239903677431,2,  34.7086,2,205.64990936780501,2, 206.2988,2,    205.8,2,    125.2,2,    32.60,2,     0.00,2,     2.21,2,    0.168,2,    0.098,2,   0.0000,2,   2262.0,2,  2364.49,2,   7.5995,2,    25.03,     42.2,2,     -999,9,   0.8056,2,     -999,9,     -999,9,     -999,     -999,9,     -999,9,     -999,1,     -999,9,    0.061,1,    4.647,1,    0.127,1,  18.9800,2,     -999,9,20180504,1232, -67.2010, -91.3327,     -999,9,     -999,9,-999          ,9,     -999,9,     -999,9,     -999,     -999,9,     -999,     -999,9,     -999,9,     -999,9,     -999,9,     -999,9,     -999,9,     -999,9,     -999,9,     -999,9,     -999,9,     -999,9,     -999,9,     -999,9,     -999,9
320620180309  ,S04P       ,112     ,  1,7          ,7          ,2,20180504,1144, -67.2011, -91.3328,     4546,   3052.0,0.7136816903428049308,34.705312756893882,2,  34.7064,2,207.72548336141870,2, 208.0961,2,    208.1,2,    127.7,2,    32.77,2,     0.00,2,     2.23,2,     -999,9,     -999,9,     -999,9,   2265.0,2,  2364.91,2,   7.5975,2,    25.04,     41.6,2,     -999,1,   0.7143,2,     -999,9,     -999,9,     -999,     -999,9,     -999,9,     -999,1,     -999,1,    0.061,1,    4.647,1,    0.126,1,     -999,9,     -999,1,20180504,1225, -67.2011, -91.3328,     -999,1,     -999,1,-999          ,9,     -999,1,     -999,9,     -999,     -999,9,     -999,     -999,9,     -999,1,     -999,1,     -999,1,     -999,1,     -999,1,     -999,1,     -999,1,     -999,1,     -999,1,     -999,1,     -999,1,     -999,1,     -999,1
320620180309  ,S04P       ,112     ,  1,6          ,6          ,2,20180504,1144, -67.2011, -91.3328,     4546,   3359.4,0.6047823381251338226,34.703220909406802,2,  34.7037,2,210.36436854548444,2, 210.1003,2,    210.4,2,    130.4,2,    32.81,2,     0.00,2,     2.21,2,    0.222,2,    0.111,2,   0.0000,2,   2263.9,2,  2365.41,2,   7.5972,2,    25.00,     40.4,2,     -999,9,   0.6045,2,     -999,9,     -999,9,     -999,     -999,9,     -999,9,     -999,1,     -999,9,    0.060,1,    4.647,1,    0.126,1,  18.9500,2,     -999,9,20180504,1218, -67.2011, -91.3328,     -999,9,     -999,9,-999          ,9,     -999,9,     -999,9,     -999,     -999,9,     -999,     -999,9,     -999,9,     -999,9,     -999,9,     -999,9,     -999,9,     -999,9,     -999,9,     -999,9,     -999,9,     -999,9,     -999,9,     -999,9,     -999,9
320620180309  ,S04P       ,112     ,  1,5          ,5          ,2,20180504,1144, -67.2011, -91.3328,     4546,   3668.2,0.5096417242516120272,34.701803751034511,2,  34.7017,2,212.74181341438975,2, 211.9990,2,    212.2,2,    133.8,2,    32.94,2,     0.00,2,     2.23,2,    0.233,2,    0.132,2,   0.0200,2,   2264.2,2,  2365.49,2,   7.5969,2,    25.04,     39.3,2,     -999,1,   0.5098,2,     -999,9,     -999,9,     -999,     -999,9,     -999,9,     -999,1,     -999,1,    0.061,1,    4.646,1,    0.127,1,  18.7500,2,     -999,1,20180504,1212, -67.2011, -91.3327,     -999,1,     -999,1,-999          ,9,     -999,1,     -999,9,     -999,     -999,9,     -999,     -999,9,     -999,1,     -999,1,     -999,1,     -999,1,     -999,1,     -999,1,     -999,1,     -999,1,     -999,1,     -999,1,     -999,1,     -999,1,     -999,1
320620180309  ,S04P       ,112     ,  1,4          ,4          ,2,20180504,1144, -67.2011, -91.3328,     4546,   3975.9,0.4535875863065636504,34.701041084211319,2,  34.7011,2,213.41211355249052,2, 213.8031,2,    213.1,2,    138.2,2,    33.00,2,     0.00,2,     2.24,2,    0.249,2,    0.135,2,   0.0000,2,   2265.3,2,  2367.83,2,   7.5964,6,    25.04,     39.2,2,     -999,9,   0.4537,2,     -999,9,     -999,9,     -999,     -999,9,     -999,9,     -999,1,     -999,9,    0.060,1,    4.645,1,    0.128,1,  18.7900,2,     -999,9,20180504,1204, -67.2011, -91.3328,     -999,9,     -999,9,-999          ,9,     -999,9,     -999,9,     -999,     -999,9,     -999,     -999,9,     -999,9,     -999,9,     -999,9,     -999,9,     -999,9,     -999,9,     -999,9,     -999,9,     -999,9,     -999,9,     -999,9,     -999,9,     -999,9
320620180309  ,S04P       ,112     ,  1,3          ,3          ,2,20180504,1144, -67.2011, -91.3328,     4546,   4258.2,0.4320067931323572918,34.700357968521359,2,  34.6992,2,214.39723770252098,2, 214.7020,2,    214.7,2,    140.5,2,    33.03,2,     0.00,2,     2.23,2,    0.301,2,    0.164,2,   0.0900,2,   2265.8,2,  2366.46,2,   7.5969,2,    25.01,     40.2,2,     -999,1,   0.4324,2,     -999,9,     -999,9,     -999,     -999,9,     -999,9,     -999,1,     -999,1,    0.061,1,    4.644,1,    0.129,1,  18.6800,2,     -999,1,20180504,1158, -67.2012, -91.3328,     -999,1,     -999,1,-999          ,9,     -999,1,     -999,9,     -999,     -999,9,     -999,     -999,9,     -999,1,     -999,1,     -999,1,     -999,1,     -999,1,     -999,1,     -999,1,     -999,1,     -999,1,     -999,1,     -999,1,     -999,1,     -999,1
320620180309  ,S04P       ,112     ,  1,2          ,2          ,2,20180504,1144, -67.2011, -91.3328,     4546,   4568.8,0.4191481718843900195,34.699353417970464,2,  34.6992,2,215.17400896280355,2, 214.4996,2,    215.1,2,    144.1,2,    33.09,2,     0.00,2,     2.25,2,    0.364,2,    0.193,2,   0.1900,2,   2266.4,2,  2367.82,2,   7.5950,2,    25.05,     39.8,2,     -999,9,   0.4193,2,     -999,9,     -999,9,     -999,     -999,9,     -999,9,     -999,1,     -999,9,    0.061,1,    4.641,1,    0.136,1,  18.5700,2,     -999,9,20180504,1148, -67.2011, -91.3328,     -999,9,     -999,9,-999          ,9,     -999,9,     -999,9,     -999,     -999,9,     -999,     -999,9,     -999,1,     -999,1,     -999,1,     -999,1,     -999,1,     -999,1,     -999,1,     -999,1,     -999,1,     -999,1,     -999,1,     -999,1,     -999,1
320620180309  ,S04P       ,112     ,  1,1          ,1          ,2,20180504,1144, -67.2011, -91.3328,     4546,   4632.0,0.4186452097861001476,34.699284423161714,2,  34.7002,2,214.33024712607173,2, 214.4980,2,    214.5,2,    147.8,2,    33.21,2,     0.00,2,     2.26,2,    0.380,2,    0.197,2,   0.2200,2,   2267.4,6,  2367.62,2,   7.5931,2,    25.04,     39.3,2,     -999,1,   0.4189,2,     -999,9,     -999,9,     -999,     -999,9,     -999,9,     -999,1,     -999,1,    0.061,1,    4.636,1,    0.138,1,  18.7700,2,     -999,1,20180504,1144, -67.2011, -91.3328,     -999,1,     -999,1,-999          ,9,     -999,1,     -999,9,     -999,     -999,9,     -999,     -999,9,     -999,1,     -999,1,     -999,1,     -999,1,     -999,1,     -999,1,     -999,1,     -999,1,     -999,1,     -999,1,     -999,1,     -999,1,     -999,1