BOTTLE,20240515CCHHYDRO
EXPOCODE,SECT_ID,STNNBR,CASTNO,SAMPNO,BTLNBR,BTLNBR_FLAG_W,DATE,TIME,LATITUDE,LONGITUDE,DEPTH,CTDPRS,CTDTMP,CTDSAL,CTDSAL_FLAG_W,SALNTY,SALNTY_FLAG_W,CTDOXY,CTDOXY_FLAG_W,CTDOPTOXY,CTDOPTOXY_FLAG_W,OXYGEN,OXYGEN_FLAG_W,SILCAT,SILCAT_FLAG_W,NITRAT,NITRAT_FLAG_W,NITRIT,NITRIT_FLAG_W,PHSPHT,PHSPHT_FLAG_W,CFC-11,CFC-11_FLAG_W,CFC-12,CFC-12_FLAG_W,SF6,SF6_FLAG_W,TCARBN,TCARBN_FLAG_W,ALKALI,ALKALI_FLAG_W,PH_TOT,PH_TOT_FLAG_W,PH_TMP,DOC,DOC_FLAG_W,HELIUM,HELIUM_FLAG_W,REFTMP,REFTMP_FLAG_W,DELC13,DELC13_FLAG_W,DELC14,DELC14_FLAG_W,C14ERR,POC,POC_FLAG_W,TDN,TDN_FLAG_W,TON,TON_FLAG_W,NEON,NEON_FLAG_W,CTDFLUOR,CTDFLUOR_FLAG_W,CTDXMISS,CTDXMISS_FLAG_W,CTDBETA700,CTDBETA700_FLAG_W,N2O,N2O_FLAG_W,ARGON,ARGON_FLAG_W,BTL_DATE,BTL_TIME,BTL_LAT,BTL_LON,KRYPTON,KRYPTON_FLAG_W,XENON,XENON_FLAG_W,HPLC,HPLC_FLAG_W,HE3_HE4_RATIO,HE3_HE4_RATIO_FLAG_W,Nd_143_144_D_EPSILON_BOTTLE,Nd_143_144_D_EPSILON_BOTTLE_FLAG_W,Nd_143_144_D_EPSILON_BOTTLE_ERROR,Nd_143_144_D_RATIO_BOTTLE,Nd_143_144_D_RATIO_BOTTLE_FLAG_W,Nd_143_144_D_RATIO_BOTTLE_ERROR,Nd_D_CONC,Nd_D_CONC_FLAG_W,La_D_CONC_BOTTLE,La_D_CONC_BOTTLE_FLAG_W,Ce_D_CONC_BOTTLE,Ce_D_CONC_BOTTLE_FLAG_W,Pr_D_CONC_BOTTLE,Pr_D_CONC_BOTTLE_FLAG_W,Sm_D_CONC_BOTTLE,Sm_D_CONC_BOTTLE_FLAG_W,Eu_D_CONC_BOTTLE,Eu_D_CONC_BOTTLE_FLAG_W,Gd_D_CONC_BOTTLE,Gd_D_CONC_BOTTLE_FLAG_W,Tb_D_CONC_BOTTLE,Tb_D_CONC_BOTTLE_FLAG_W,Dy_D_CONC_BOTTLE,Dy_D_CONC_BOTTLE_FLAG_W,Ho_D_CONC_BOTTLE,Ho_D_CONC_BOTTLE_FLAG_W,Er_D_CONC_BOTTLE,Er_D_CONC_BOTTLE_FLAG_W,Tm_D_CONC_BOTTLE,Tm_D_CONC_BOTTLE_FLAG_W,Yb_D_CONC_BOTTLE,Yb_D_CONC_BOTTLE_FLAG_W,Lu_D_CONC_BOTTLE,Lu_D_CONC_BOTTLE_FLAG_W
,,,,,,,,,,,METERS,DBAR,ITS-90,PSS-78,,PSS-78,,UMOL/KG,,UMOL/KG,,UMOL/KG,,UMOL/KG,,UMOL/KG,,UMOL/KG,,UMOL/KG,,PMOL/KG,,PMOL/KG,,FMOL/KG,,UMOL/KG,,UMOL/KG,,,,DEG C,UMOL/KG,,NMOL/L,,DEG C,,/MILLE,,/MILLE,,/MILLE,UG/KG,,UMOL/KG,,UMOL/KG,,NMOL/L,,VOLTS,,VOLTS,,VOLTS,,NMOL/KG,,UMOL/L,,,,,,NMOL/L,,NMOL/L,,,,,,10000,,10000,,,,PMOL/KG,,PMOL/L,,PMOL/L,,PMOL/L,,PMOL/L,,PMOL/L,,PMOL/L,,PMOL/L,,PMOL/L,,PMOL/L,,PMOL/L,,PMOL/L,,PMOL/L,,PMOL/L,
320620180309  ,S04P       ,55      ,  1,15         ,15         ,2,20180410,2106, -66.9999,-167.5066,     3521,   1317.1,0.8012722222222223856,34.712601175011564,2,  34.7107,2,202.76276745562856,2, 202.8040,2,    203.7,2,    120.4,2,    32.61,2,     0.00,2,     2.25,2,     -999,9,     -999,9,     -999,9,   2263.5,2,  2361.69,2,   7.5938,2,    24.92,     -999,9,     -999,9,     -999,9,     -999,9,     -999,9,     -999,     -999,9,     -999,9,     -999,9,     -999,9,    0.061,1,    4.667,1,    0.131,1,     -999,9,     -999,9,20180410,2200, -66.9998,-167.5049,     -999,9,     -999,9,-999          ,9,     -999,9,     -999,9,     -999,     -999,9,     -999,     -999,9,     -999,9,     -999,9,     -999,9,     -999,9,     -999,9,     -999,9,     -999,9,     -999,9,     -999,9,     -999,9,     -999,9,     -999,9,     -999,9
320620180309  ,S04P       ,55      ,  1,14         ,14         ,2,20180410,2106, -66.9999,-167.5066,     3521,   1417.9,0.7513361111111112045,34.710470710576281,2,  34.7090,2,203.58329341781374,2, 203.8043,2,    205.1,2,    121.9,2,    32.64,2,     0.00,2,     2.25,2,     -999,9,     -999,9,     -999,9,     -999,9,     -999,9,     -999,9,     -999,     -999,9,     -999,9,     -999,9,     -999,9,     -999,9,     -999,     -999,9,     -999,9,     -999,9,     -999,9,    0.061,1,    4.668,1,    0.131,1,     -999,9,     -999,9,20180410,2157, -66.9998,-167.5049,     -999,9,     -999,9,-999          ,9,     -999,9,     -999,9,     -999,     -999,9,     -999,     -999,9,     -999,9,     -999,9,     -999,9,     -999,9,     -999,9,     -999,9,     -999,9,     -999,9,     -999,9,     -999,9,     -999,9,     -999,9,     -999,9
320620180309  ,S04P       ,55      ,  1,13         ,13         ,2,20180410,2106, -66.9999,-167.5066,     3521,   1519.3,0.7128277777777779489,34.708790224252148,2,  34.7072,2,205.07729609542383,2, 204.7020,2,    205.0,2,    123.1,2,    32.66,2,     0.00,2,     2.24,2,    0.217,2,    0.115,2,   0.0300,2,   2264.3,2,  2365.67,2,   7.5951,2,    24.92,     -999,9,     -999,9,     -999,9,     -999,9,     -999,9,     -999,     -999,9,     -999,9,     -999,9,     -999,9,    0.060,1,    4.669,1,    0.128,1,  19.7500,2,     -999,9,20180410,2154, -66.9998,-167.5049,     -999,9,     -999,9,-999          ,9,     -999,9,     -999,9,     -999,     -999,9,     -999,     -999,9,     -999,9,     -999,9,     -999,9,     -999,9,     -999,9,     -999,9,     -999,9,     -999,9,     -999,9,     -999,9,     -999,9,     -999,9,     -999,9
320620180309  ,S04P       ,55      ,  1,12         ,12         ,2,20180410,2106, -66.9999,-167.5066,     3521,   1622.4,0.6723055555555554896,34.707346906634804,2,  34.7056,2,206.12515733565013,2, 205.6986,2,    205.8,2,    124.4,2,    32.69,2,     0.00,2,     2.25,2,     -999,9,     -999,9,     -999,9,     -999,9,     -999,9,     -999,9,     -999,     -999,9,     -999,9,     -999,9,     -999,9,     -999,9,     -999,     -999,9,     -999,9,     -999,9,     -999,9,    0.062,1,    4.668,1,    0.128,1,     -999,9,     -999,9,20180410,2151, -66.9998,-167.5049,     -999,9,     -999,9,-999          ,9,     -999,9,     -999,9,     -999,     -999,9,     -999,     -999,9,     -999,9,     -999,9,     -999,9,     -999,9,     -999,9,     -999,9,     -999,9,     -999,9,     -999,9,     -999,9,     -999,9,     -999,9,     -999,9
320620180309  ,S04P       ,55      ,  1,11         ,11         ,2,20180410,2106, -66.9999,-167.5066,     3521,   1724.4,0.6221666666666667567,34.705505107928133,2,  34.7037,2,206.71009439992579,2, 206.9013,2,    206.8,2,    125.0,2,    32.67,2,     0.00,2,     2.25,2,    0.243,2,    0.136,2,  -0.0900,2,   2264.3,2,  2362.12,2,   7.5941,2,    24.92,     -999,9,     -999,9,     -999,9,     -999,9,     -999,9,     -999,     -999,9,     -999,9,     -999,9,     -999,9,    0.061,1,    4.668,1,    0.128,1,  19.5400,2,     -999,9,20180410,2148, -66.9998,-167.5051,     -999,9,     -999,9,-999          ,9,     -999,9,     -999,9,     -999,     -999,9,     -999,     -999,9,     -999,9,     -999,9,     -999,9,     -999,9,     -999,9,     -999,9,     -999,9,     -999,9,     -999,9,     -999,9,     -999,9,     -999,9,     -999,9
320620180309  ,S04P       ,55      ,  1,10         ,10         ,2,20180410,2106, -66.9999,-167.5066,     3521,   1824.3,0.5899972222222221729,34.704507534054571,2,  34.7033,2,208.05490438361741,2, 207.6043,2,    207.6,2,    125.7,2,    32.72,2,     0.00,2,     2.25,2,     -999,9,     -999,9,     -999,9,     -999,9,     -999,9,     -999,9,     -999,     -999,9,     -999,9,     -999,9,     -999,9,     -999,9,     -999,     -999,9,     -999,9,     -999,9,     -999,9,    0.061,1,    4.668,1,    0.127,1,     -999,9,     -999,9,20180410,2146, -66.9998,-167.5057,     -999,9,     -999,9,-999          ,9,     -999,9,     -999,9,     -999,     -999,9,     -999,     -999,9,     -999,9,     -999,9,     -999,9,     -999,9,     -999,9,     -999,9,     -999,9,     -999,9,     -999,9,     -999,9,     -999,9,     -999,9,     -999,9
320620180309  ,S04P       ,55      ,  1,9          ,9          ,2,20180410,2106, -66.9999,-167.5066,     3521,   2029.5,0.5128694444444443779,34.702322273324341,2,  34.7009,2,209.51542556545951,2, 209.4997,2,    209.4,2,    127.7,2,    32.75,2,     0.00,2,     2.25,2,    0.285,2,    0.155,2,   0.0300,2,   2265.1,2,  2365.18,2,   7.5944,2,    24.92,     -999,9,     -999,9,     -999,9,     -999,9,     -999,9,     -999,     -999,9,     -999,9,     -999,9,     -999,9,    0.061,1,    4.668,1,    0.127,1,  19.9200,2,     -999,9,20180410,2141, -67.0000,-167.5065,     -999,9,     -999,9,-999          ,9,     -999,9,     -999,9,     -999,     -999,9,     -999,     -999,9,     -999,9,     -999,9,     -999,9,     -999,9,     -999,9,     -999,9,     -999,9,     -999,9,     -999,9,     -999,9,     -999,9,     -999,9,     -999,9
320620180309  ,S04P       ,55      ,  1,8          ,8          ,2,20180410,2106, -66.9999,-167.5066,     3521,   2233.5,0.4504666666666667374,34.700243151411627,2,  34.6994,2,211.29797746468398,2, 211.3014,2,    210.8,2,    128.5,2,    32.76,2,     0.00,2,     2.25,2,     -999,9,     -999,9,     -999,9,     -999,9,     -999,9,     -999,9,     -999,     -999,9,     -999,9,     -999,9,     -999,9,     -999,9,     -999,     -999,9,     -999,9,     -999,9,     -999,9,    0.061,1,    4.669,1,    0.126,1,     -999,9,     -999,9,20180410,2136, -67.0000,-167.5067,     -999,9,     -999,9,-999          ,9,     -999,9,     -999,9,     -999,     -999,9,     -999,     -999,9,     -999,9,     -999,9,     -999,9,     -999,9,     -999,9,     -999,9,     -999,9,     -999,9,     -999,9,     -999,9,     -999,9,     -999,9,     -999,9
320620180309  ,S04P       ,55      ,  1,7          ,7          ,2,20180410,2106, -66.9999,-167.5066,     3521,   2438.3,0.3832527777777777755,34.698000709774192,2,  34.6966,2,213.43919624363568,2, 213.1023,2,    213.1,2,    128.7,2,    32.82,2,     0.00,2,     2.27,2,    0.418,2,    0.232,2,   0.1400,2,   2265.7,2,  2361.33,2,   7.5935,2,    24.92,     -999,9,     -999,9,     -999,9,     -999,9,     -999,9,     -999,     -999,9,     -999,9,     -999,9,     -999,9,    0.061,1,    4.668,1,    0.126,1,  19.2900,2,     -999,9,20180410,2132, -67.0000,-167.5066,     -999,9,     -999,9,-999          ,9,     -999,9,     -999,9,     -999,     -999,9,     -999,     -999,9,     -999,9,     -999,9,     -999,9,     -999,9,     -999,9,     -999,9,     -999,9,     -999,9,     -999,9,     -999,9,     -999,9,     -999,9,     -999,9
320620180309  ,S04P       ,55      ,  1,6          ,6          ,2,20180410,2106, -66.9999,-167.5066,     3521,   2644.2,0.3089916666666667755,34.694371300054478,2,  34.6929,2,215.80644934762500,2, 215.8022,2,    215.6,2,    128.2,2,    32.78,2,     0.00,2,     2.26,2,     -999,9,     -999,9,     -999,9,     -999,9,     -999,9,     -999,9,     -999,     -999,9,     -999,9,     -999,9,     -999,9,     -999,9,     -999,     -999,9,     -999,9,     -999,9,     -999,9,    0.061,1,    4.669,1,    0.126,1,     -999,9,     -999,9,20180410,2127, -66.9999,-167.5066,     -999,9,     -999,9,-999          ,9,     -999,9,     -999,9,     -999,     -999,9,     -999,     -999,9,     -999,9,     -999,9,     -999,9,     -999,9,     -999,9,     -999,9,     -999,9,     -999,9,     -999,9,     -999,9,     -999,9,     -999,9,     -999,9
320620180309  ,S04P       ,55      ,  1,5          ,5          ,2,20180410,2106, -66.9999,-167.5066,     3521,   2847.9,0.2572027777777778357,34.690935950234646,2,  34.6892,2,218.02263309245998,2, 218.5007,2,    218.2,2,    126.0,2,    32.79,2,     0.00,2,     2.26,2,    0.742,2,    0.401,2,   0.2900,2,   2265.4,2,  2361.12,2,   7.5913,6,    24.93,     -999,9,     -999,9,     -999,9,     -999,9,     -999,9,     -999,     -999,9,     -999,9,     -999,9,     -999,9,    0.061,1,    4.659,1,    0.126,1,  19.1400,2,     -999,9,20180410,2123, -66.9999,-167.5069,     -999,9,     -999,9,-999          ,9,     -999,9,     -999,9,     -999,     -999,9,     -999,     -999,9,     -999,9,     -999,9,     -999,9,     -999,9,     -999,9,     -999,9,     -999,9,     -999,9,     -999,9,     -999,9,     -999,9,     -999,9,     -999,9
320620180309  ,S04P       ,55      ,  1,4          ,4          ,2,20180410,2106, -66.9999,-167.5066,     3521,   3052.6,0.2311194444444444329,34.688558038727777,3,  34.6848,2,219.63919126207080,2, 220.9969,2,    219.8,2,    125.5,2,    32.69,2,     0.00,2,     2.25,2,     -999,9,     -999,9,     -999,9,   2263.1,2,  2359.11,2,   7.5910,2,    24.92,     -999,9,     -999,9,     -999,9,     -999,9,     -999,9,     -999,     -999,9,     -999,9,     -999,9,     -999,9,    0.061,1,    4.656,1,    0.126,1,     -999,9,     -999,9,20180410,2118, -66.9999,-167.5069,     -999,9,     -999,9,-999          ,9,     -999,9,     -999,9,     -999,     -999,9,     -999,     -999,9,     -999,9,     -999,9,     -999,9,     -999,9,     -999,9,     -999,9,     -999,9,     -999,9,     -999,9,     -999,9,     -999,9,     -999,9,     -999,9
320620180309  ,S04P       ,55      ,  1,3          ,3          ,2,20180410,2106, -66.9999,-167.5066,     3521,   3258.1,0.2237472222222222085,34.687319309201236,2,  34.6854,2,220.69732361621843,2, 219.7010,2,    220.5,2,    124.6,2,    32.74,2,     0.00,2,     2.27,2,     -999,9,     -999,9,     -999,9,   2261.8,2,  2358.88,2,   7.5912,2,    24.91,     -999,9,     -999,9,     -999,9,     -999,9,     -999,9,     -999,     -999,9,     -999,9,     -999,9,     -999,9,    0.061,1,    4.663,1,    0.130,1,     -999,9,     -999,9,20180410,2114, -67.0000,-167.5074,     -999,9,     -999,9,-999          ,9,     -999,9,     -999,9,     -999,     -999,9,     -999,     -999,9,     -999,9,     -999,9,     -999,9,     -999,9,     -999,9,     -999,9,     -999,9,     -999,9,     -999,9,     -999,9,     -999,9,     -999,9,     -999,9
320620180309  ,S04P       ,55      ,  1,2          ,2          ,2,20180410,2106, -66.9999,-167.5066,     3521,   3414.4,0.2265166666666666717,34.686573411870704,2,  34.6846,2,221.37987358066951,2, 219.9967,2,    221.5,2,    123.9,2,    32.70,2,     0.01,2,     2.26,2,    0.996,2,    0.539,2,   0.5200,2,   2263.0,2,  2360.20,2,   7.5909,2,    24.92,     -999,9,     -999,9,     -999,9,     -999,9,     -999,9,     -999,     -999,9,     -999,9,     -999,9,     -999,9,    0.060,1,    4.665,1,    0.127,1,  19.9900,2,     -999,9,20180410,2110, -67.0000,-167.5071,     -999,9,     -999,9,-999          ,9,     -999,9,     -999,9,     -999,     -999,9,     -999,     -999,9,     -999,9,     -999,9,     -999,9,     -999,9,     -999,9,     -999,9,     -999,9,     -999,9,     -999,9,     -999,9,     -999,9,     -999,9,     -999,9
320620180309  ,S04P       ,55      ,  1,1          ,1          ,2,20180410,2106, -66.9999,-167.5066,     3521,   3577.0,0.2384722222222221966,34.686280401326734,2,  34.6864,2,222.07180446189639,2, 219.7022,2,    220.8,2,    124.5,2,    32.72,2,     0.01,2,     2.26,2,    1.014,2,    0.547,2,   0.2500,2,   2262.1,6,  2361.64,2,   7.5910,2,    24.93,     -999,9,     -999,9,     -999,9,     -999,9,     -999,9,     -999,     -999,9,     -999,9,     -999,9,     -999,9,    0.061,1,    4.665,1,    0.128,1,  19.2800,2,     -999,9,20180410,2106, -66.9999,-167.5066,     -999,9,     -999,9,-999          ,9,     -999,9,     -999,9,     -999,     -999,9,     -999,     -999,9,     -999,9,     -999,9,     -999,9,     -999,9,     -999,9,     -999,9,     -999,9,     -999,9,     -999,9,     -999,9,     -999,9,     -999,9,     -999,9