BOTTLE,20240515CCHHYDRO
EXPOCODE,SECT_ID,STNNBR,CASTNO,SAMPNO,BTLNBR,BTLNBR_FLAG_W,DATE,TIME,LATITUDE,LONGITUDE,DEPTH,CTDPRS,CTDTMP,CTDSAL,CTDSAL_FLAG_W,SALNTY,SALNTY_FLAG_W,CTDOXY,CTDOXY_FLAG_W,CTDOPTOXY,CTDOPTOXY_FLAG_W,OXYGEN,OXYGEN_FLAG_W,SILCAT,SILCAT_FLAG_W,NITRAT,NITRAT_FLAG_W,NITRIT,NITRIT_FLAG_W,PHSPHT,PHSPHT_FLAG_W,CFC-11,CFC-11_FLAG_W,CFC-12,CFC-12_FLAG_W,SF6,SF6_FLAG_W,TCARBN,TCARBN_FLAG_W,ALKALI,ALKALI_FLAG_W,PH_TOT,PH_TOT_FLAG_W,PH_TMP,DOC,DOC_FLAG_W,HELIUM,HELIUM_FLAG_W,REFTMP,REFTMP_FLAG_W,DELC13,DELC13_FLAG_W,DELC14,DELC14_FLAG_W,C14ERR,POC,POC_FLAG_W,TDN,TDN_FLAG_W,TON,TON_FLAG_W,NEON,NEON_FLAG_W,CTDFLUOR,CTDFLUOR_FLAG_W,CTDXMISS,CTDXMISS_FLAG_W,CTDBETA700,CTDBETA700_FLAG_W,N2O,N2O_FLAG_W,ARGON,ARGON_FLAG_W,BTL_DATE,BTL_TIME,BTL_LAT,BTL_LON,KRYPTON,KRYPTON_FLAG_W,XENON,XENON_FLAG_W,HPLC,HPLC_FLAG_W,HE3_HE4_RATIO,HE3_HE4_RATIO_FLAG_W,Nd_143_144_D_EPSILON_BOTTLE,Nd_143_144_D_EPSILON_BOTTLE_FLAG_W,Nd_143_144_D_EPSILON_BOTTLE_ERROR,Nd_143_144_D_RATIO_BOTTLE,Nd_143_144_D_RATIO_BOTTLE_FLAG_W,Nd_143_144_D_RATIO_BOTTLE_ERROR,Nd_D_CONC,Nd_D_CONC_FLAG_W,La_D_CONC_BOTTLE,La_D_CONC_BOTTLE_FLAG_W,Ce_D_CONC_BOTTLE,Ce_D_CONC_BOTTLE_FLAG_W,Pr_D_CONC_BOTTLE,Pr_D_CONC_BOTTLE_FLAG_W,Sm_D_CONC_BOTTLE,Sm_D_CONC_BOTTLE_FLAG_W,Eu_D_CONC_BOTTLE,Eu_D_CONC_BOTTLE_FLAG_W,Gd_D_CONC_BOTTLE,Gd_D_CONC_BOTTLE_FLAG_W,Tb_D_CONC_BOTTLE,Tb_D_CONC_BOTTLE_FLAG_W,Dy_D_CONC_BOTTLE,Dy_D_CONC_BOTTLE_FLAG_W,Ho_D_CONC_BOTTLE,Ho_D_CONC_BOTTLE_FLAG_W,Er_D_CONC_BOTTLE,Er_D_CONC_BOTTLE_FLAG_W,Tm_D_CONC_BOTTLE,Tm_D_CONC_BOTTLE_FLAG_W,Yb_D_CONC_BOTTLE,Yb_D_CONC_BOTTLE_FLAG_W,Lu_D_CONC_BOTTLE,Lu_D_CONC_BOTTLE_FLAG_W
,,,,,,,,,,,METERS,DBAR,ITS-90,PSS-78,,PSS-78,,UMOL/KG,,UMOL/KG,,UMOL/KG,,UMOL/KG,,UMOL/KG,,UMOL/KG,,UMOL/KG,,PMOL/KG,,PMOL/KG,,FMOL/KG,,UMOL/KG,,UMOL/KG,,,,DEG C,UMOL/KG,,NMOL/L,,DEG C,,/MILLE,,/MILLE,,/MILLE,UG/KG,,UMOL/KG,,UMOL/KG,,NMOL/L,,VOLTS,,VOLTS,,VOLTS,,NMOL/KG,,UMOL/L,,,,,,NMOL/L,,NMOL/L,,,,,,10000,,10000,,,,PMOL/KG,,PMOL/L,,PMOL/L,,PMOL/L,,PMOL/L,,PMOL/L,,PMOL/L,,PMOL/L,,PMOL/L,,PMOL/L,,PMOL/L,,PMOL/L,,PMOL/L,,PMOL/L,
320620180309  ,P16        ,36      ,  1,36         ,36         ,2,20180403,0313, -75.2094,-148.1186,     3403,      1.9,-1.8247944444444443857,33.739904870600263,2,  33.7356,2,334.47774776891498,2, 333.7006,2,    335.9,2,     71.3,2,    20.73,2,     0.12,2,     1.61,2,    5.385,2,    3.029,2,   3.4800,2,   2165.7,2,  2299.40,2,   7.7017,6,    24.93,     48.1,2,     -999,9,  -1.8224,2,     -999,9,     -999,9,     -999,     -999,9,    24.60,2,     -999,1,     -999,9,    0.106,1,    4.602,1,    0.186,1,  18.1500,2,     -999,9,20180403,0522, -75.2074,-148.1851,     -999,9,     -999,9,-999          ,9,     -999,9,     -999,9,     -999,     -999,9,     -999,     -999,9,     -999,9,     -999,9,     -999,9,     -999,9,     -999,9,     -999,9,     -999,9,     -999,9,     -999,9,     -999,9,     -999,9,     -999,9,     -999,9
320620180309  ,P16        ,36      ,  1,35         ,35         ,2,20180403,0313, -75.2094,-148.1186,     3403,     24.9,-1.8137638888888889532,33.739074890571487,2,  33.7372,2,335.75707549270857,2, 337.1986,2,    335.6,2,     71.1,2,    20.71,2,     0.12,2,     1.58,2,    5.381,2,    2.944,2,   3.4500,2,   2166.4,6,  2299.44,2,   7.7021,2,    24.92,     49.8,2,     -999,9,  -1.8145,2,     -999,9,     -999,9,     -999,     -999,9,    24.80,2,     -999,1,     -999,9,    0.107,1,    4.603,1,    0.205,1,  18.0400,2,     -999,9,20180403,0520, -75.2074,-148.1842,     -999,9,     -999,9,-999          ,9,     -999,9,     -999,9,     -999,     -999,9,     -999,     -999,9,     -999,9,     -999,9,     -999,9,     -999,9,     -999,9,     -999,9,     -999,9,     -999,9,     -999,9,     -999,9,     -999,9,     -999,9,     -999,9
320620180309  ,P16        ,36      ,  1,34         ,34         ,2,20180403,0313, -75.2094,-148.1186,     3403,     50.4,-1.8014638888888887536,33.741105501724164,2,  33.7391,2,336.92443710984799,2, 335.4989,2,    335.3,2,     71.0,2,    21.14,2,     0.12,2,     1.62,2,     -999,9,     -999,9,     -999,9,   2169.1,2,  2298.94,2,   7.6975,6,    24.94,     46.3,2,     -999,9,  -1.7990,2,     -999,9,     -999,9,     -999,     -999,9,    24.80,2,     -999,1,     -999,9,    0.111,1,    4.598,1,    0.207,1,     -999,9,     -999,9,20180403,0518, -75.2073,-148.1832,     -999,9,     -999,9,-999          ,9,     -999,9,     -999,9,     -999,     -999,9,     -999,     -999,9,     -999,9,     -999,9,     -999,9,     -999,9,     -999,9,     -999,9,     -999,9,     -999,9,     -999,9,     -999,9,     -999,9,     -999,9,     -999,9
320620180309  ,P16        ,36      ,  1,33         ,33         ,2,20180403,0313, -75.2094,-148.1186,     3403,     75.6,-1.6169027777777775778,33.808518650179010,2,  33.7911,2,323.70141247767720,2, 307.7038,3,    323.7,2,     74.3,2,    22.56,2,     0.12,2,     1.73,2,    5.072,2,    2.872,2,   3.3000,2,   2177.6,2,  2300.90,2,   7.6761,2,    24.93,     43.7,2,     -999,9,  -1.6173,2,     -999,9,     -999,9,     -999,     -999,9,    25.30,2,     -999,1,     -999,9,    0.103,1,    4.597,1,    0.211,1,  17.9300,2,     -999,9,20180403,0516, -75.2073,-148.1823,     -999,9,     -999,9,-999          ,9,     -999,9,     -999,9,     -999,     -999,9,     -999,     -999,9,     -999,9,     -999,9,     -999,9,     -999,9,     -999,9,     -999,9,     -999,9,     -999,9,     -999,9,     -999,9,     -999,9,     -999,9,     -999,9
320620180309  ,P16        ,36      ,  1,32         ,32         ,2,20180403,0313, -75.2094,-148.1186,     3403,    100.9,-1.5758861111111110986,33.919196206894618,2,  33.9256,2,311.10521205399652,3, 304.9050,2,    304.7,2,     78.5,2,    25.79,2,     0.13,2,     1.92,2,     -999,9,     -999,9,     -999,9,   2197.8,2,  2305.49,2,   7.6315,2,    24.93,     45.2,2,     -999,9,  -1.5766,2,     -999,9,     -999,9,     -999,     -999,9,    28.80,2,     -999,1,     -999,9,    0.086,1,    4.612,1,    0.200,1,     -999,9,     -999,9,20180403,0514, -75.2073,-148.1808,     -999,9,     -999,9,-999          ,9,     -999,9,     -999,9,     -999,     -999,9,     -999,     -999,9,     -999,9,     -999,9,     -999,9,     -999,9,     -999,9,     -999,9,     -999,9,     -999,9,     -999,9,     -999,9,     -999,9,     -999,9,     -999,9
320620180309  ,P16        ,36      ,  1,31         ,31         ,2,20180403,0313, -75.2094,-148.1186,     3403,    125.7,-1.6166861111111110461,34.042460739724440,2,  34.0438,2,289.81814787674125,2, 306.4051,3,    287.8,2,     83.2,2,    28.62,2,     0.14,2,     2.09,2,    4.088,2,    2.277,2,   2.5800,2,   2216.4,2,  2311.34,2,   7.5943,2,    24.93,     -999,9,     -999,9,  -1.6177,2,     -999,9,     -999,9,     -999,     -999,9,     -999,9,     -999,9,     -999,9,    0.079,1,    4.628,1,    0.191,1,  19.6300,2,     -999,9,20180403,0512, -75.2073,-148.1799,     -999,9,     -999,9,-999          ,9,     -999,9,     -999,9,     -999,     -999,9,     -999,     -999,9,     -999,9,     -999,9,     -999,9,     -999,9,     -999,9,     -999,9,     -999,9,     -999,9,     -999,9,     -999,9,     -999,9,     -999,9,     -999,9
320620180309  ,P16        ,36      ,  1,30         ,30         ,2,20180403,0313, -75.2094,-148.1186,     3403,    151.1,-1.6656222222222221152,34.088869758544384,2,  34.0864,2,282.53805830403786,2, 292.1996,3,    284.5,2,     84.8,2,    29.66,2,     0.15,2,     2.14,2,    4.005,2,    2.227,2,   2.4200,2,   2220.5,2,  2314.70,2,   7.5804,2,    24.92,     43.4,2,     -999,9,  -1.6660,2,     -999,9,     -999,9,     -999,     -999,9,    31.90,2,     -999,1,     -999,9,    0.069,1,    4.639,1,    0.178,1,  19.6300,2,     -999,9,20180403,0510, -75.2073,-148.1790,     -999,9,     -999,9,-999          ,9,     -999,9,     -999,9,     -999,     -999,9,     -999,     -999,9,     -999,9,     -999,9,     -999,9,     -999,9,     -999,9,     -999,9,     -999,9,     -999,9,     -999,9,     -999,9,     -999,9,     -999,9,     -999,9
320620180309  ,P16        ,36      ,  1,29         ,29         ,2,20180403,0313, -75.2094,-148.1186,     3403,    176.3,-1.6870666666666667144,34.102189780938723,2,  34.1023,2,282.83625154583882,2, 288.3001,3,    284.7,2,     84.5,2,    30.01,2,     0.14,2,     2.16,2,     -999,9,     -999,9,     -999,9,   2222.8,2,  2313.94,2,   7.5805,2,    24.99,     -999,9,     -999,9,  -1.6878,2,     -999,9,     -999,9,     -999,     -999,9,     -999,9,     -999,9,     -999,9,    0.069,1,    4.642,1,    0.176,1,     -999,9,     -999,9,20180403,0508, -75.2073,-148.1780,     -999,9,     -999,9,-999          ,9,     -999,9,     -999,9,     -999,     -999,9,     -999,     -999,9,     -999,9,     -999,9,     -999,9,     -999,9,     -999,9,     -999,9,     -999,9,     -999,9,     -999,9,     -999,9,     -999,9,     -999,9,     -999,9
320620180309  ,P16        ,36      ,  1,28         ,28         ,2,20180403,0313, -75.2094,-148.1186,     3403,    201.9,-1.7126055555555557142,34.117165577097573,2,  34.1167,2,282.72441437044580,3, 284.0032,2,    285.6,2,     84.8,2,    30.24,2,     0.13,2,     2.16,2,    4.017,2,    2.239,2,   2.5100,2,   2225.3,2,  2315.27,2,   7.5797,2,    24.94,     43.4,2,     -999,9,  -1.7132,2,     -999,9,     -999,9,     -999,     -999,9,     -999,9,     -999,1,     -999,9,    0.067,1,    4.646,1,    0.182,1,  19.6800,2,     -999,9,20180403,0506, -75.2073,-148.1771,     -999,9,     -999,9,-999          ,9,     -999,9,     -999,9,     -999,     -999,9,     -999,     -999,9,     -999,9,     -999,9,     -999,9,     -999,9,     -999,9,     -999,9,     -999,9,     -999,9,     -999,9,     -999,9,     -999,9,     -999,9,     -999,9
320620180309  ,P16        ,36      ,  1,27         ,27         ,2,20180403,0313, -75.2094,-148.1186,     3403,    252.3,-1.6328611111111113186,34.148018768066265,2,  34.1463,2,280.78393186853714,2, 281.1989,2,    279.8,2,     81.7,2,    30.77,2,     0.14,2,     2.17,2,    3.928,2,    2.193,2,   2.5100,2,   2226.3,2,  2314.81,2,   7.5770,2,    24.92,     42.3,2,     -999,9,  -1.6332,2,     -999,9,     -999,9,     -999,     -999,9,     -999,9,     -999,1,     -999,9,    0.066,1,    4.655,1,    0.180,1,  20.3000,2,     -999,9,20180403,0504, -75.2073,-148.1759,     -999,9,     -999,9,-999          ,9,     -999,9,     -999,9,     -999,     -999,9,     -999,     -999,9,     -999,9,     -999,9,     -999,9,     -999,9,     -999,9,     -999,9,     -999,9,     -999,9,     -999,9,     -999,9,     -999,9,     -999,9,     -999,9
320620180309  ,P16        ,36      ,  1,26         ,26         ,2,20180403,0313, -75.2094,-148.1186,     3403,    302.8,-1.3188555555555554477,34.202052913448817,2,  34.2025,2,266.52628063943325,2, 267.3018,2,    266.6,2,     85.6,2,    31.28,2,     0.06,2,     2.19,2,    3.409,2,    1.877,2,   2.0100,2,   2230.4,2,  2318.70,2,   7.5731,2,    24.91,     43.9,2,     -999,9,  -1.3182,2,     -999,9,     -999,9,     -999,     -999,9,     -999,9,     -999,1,     -999,9,    0.066,1,    4.656,1,    0.162,1,  20.5100,2,     -999,9,20180403,0501, -75.2073,-148.1747,     -999,9,     -999,9,-999          ,9,     -999,9,     -999,9,     -999,     -999,9,     -999,     -999,9,     -999,9,     -999,9,     -999,9,     -999,9,     -999,9,     -999,9,     -999,9,     -999,9,     -999,9,     -999,9,     -999,9,     -999,9,     -999,9
320620180309  ,P16        ,36      ,  1,25         ,25         ,2,20180403,0313, -75.2094,-148.1186,     3403,    353.9,-0.8931166666666666698,34.271204056719412,2,  34.2698,2,248.94805302398535,2, 249.8007,2,    250.1,2,     88.5,2,    31.83,2,     0.05,2,     2.24,2,    2.863,2,    1.593,2,   1.7300,2,   2236.7,2,  2322.00,2,   7.5676,2,    24.95,     43.2,2,     -999,9,  -0.8949,2,     -999,9,     -999,9,     -999,     -999,9,     -999,9,     -999,1,     -999,9,    0.065,1,    4.652,1,    0.173,1,  21.3700,2,     -999,9,20180403,0459, -75.2073,-148.1735,     -999,9,     -999,9,-999          ,9,     -999,9,     -999,9,     -999,     -999,9,     -999,     -999,9,     -999,9,     -999,9,     -999,9,     -999,9,     -999,9,     -999,9,     -999,9,     -999,9,     -999,9,     -999,9,     -999,9,     -999,9,     -999,9
320620180309  ,P16        ,36      ,  1,24         ,24         ,2,20180403,0313, -75.2094,-148.1186,     3403,    404.5,0.0454749999999999946,34.421107357452257,2,  34.4250,2,229.83340108101959,3, 221.4949,2,    220.5,2,     88.4,2,    32.68,2,     0.02,2,     2.26,2,    1.955,2,    1.092,2,   1.0800,2,   2248.4,2,  2332.30,2,   7.5626,2,    24.96,     43.9,2,     -999,9,   0.0449,2,     -999,9,     -999,9,     -999,     -999,9,     -999,9,     -999,1,     -999,9,    0.064,1,    4.657,1,    0.157,1,  22.5100,2,     -999,9,20180403,0456, -75.2074,-148.1723,     -999,9,     -999,9,-999          ,9,     -999,9,     -999,9,     -999,     -999,9,     -999,     -999,9,     -999,9,     -999,9,     -999,9,     -999,9,     -999,9,     -999,9,     -999,9,     -999,9,     -999,9,     -999,9,     -999,9,     -999,9,     -999,9
320620180309  ,P16        ,36      ,  1,23         ,23         ,2,20180403,0313, -75.2094,-148.1186,     3403,    455.0,1.4556638888888888683,34.674570985713949,2,  34.6807,2,192.52050587661856,3, 191.0022,3,    185.7,2,     92.3,2,    32.79,2,     0.01,2,     2.25,2,    0.490,2,    0.263,2,   0.3600,2,   2259.4,2,  2346.60,2,   7.5688,2,    24.95,     43.2,2,     -999,9,   1.4552,2,     -999,9,     -999,9,     -999,     -999,9,     -999,9,     -999,1,     -999,9,    0.063,1,    4.665,1,    0.149,1,  23.5400,2,     -999,9,20180403,0454, -75.2074,-148.1712,     -999,9,     -999,9,-999          ,9,     -999,9,     -999,9,     -999,     -999,9,     -999,     -999,9,     -999,9,     -999,9,     -999,9,     -999,9,     -999,9,     -999,9,     -999,9,     -999,9,     -999,9,     -999,9,     -999,9,     -999,9,     -999,9
320620180309  ,P16        ,36      ,  1,22         ,37         ,2,20180403,0313, -75.2094,-148.1186,     3403,    505.2,1.5969249999999999279,34.713157025844652,2,  34.7135,2,186.58131541779366,3, 186.9016,2,    184.6,2,     94.2,2,    32.62,2,     0.01,2,     2.24,2,     -999,9,     -999,9,     -999,9,   2260.1,6,  2350.62,2,   7.5735,2,    24.94,     42.8,2,     -999,9,   1.5958,2,     -999,9,     -999,9,     -999,     -999,9,     -999,9,     -999,1,     -999,9,    0.062,1,    4.669,1,    0.141,1,     -999,9,     -999,9,20180403,0452, -75.2074,-148.1701,     -999,9,     -999,9,-999          ,9,     -999,9,     -999,9,     -999,     -999,9,     -999,     -999,9,     -999,9,     -999,9,     -999,9,     -999,9,     -999,9,     -999,9,     -999,9,     -999,9,     -999,9,     -999,9,     -999,9,     -999,9,     -999,9
320620180309  ,P16        ,36      ,  1,21         ,21         ,2,20180403,0313, -75.2094,-148.1186,     3403,    606.4,1.3908444444444443278,34.727975313187976,2,  34.7264,2,189.53228272304091,2, 189.1006,2,    188.6,2,    102.3,2,    32.42,2,     0.01,2,     2.22,2,    0.194,2,    0.096,2,   0.1400,2,   2261.4,2,  2355.18,2,   7.5837,2,    24.95,     40.0,2,     -999,9,   1.3900,2,     -999,9,     -999,9,     -999,     -999,9,     -999,9,     -999,1,     -999,9,    0.062,1,    4.669,1,    0.140,1,  22.8300,2,     -999,9,20180403,0446, -75.2074,-148.1673,     -999,9,     -999,9,-999          ,9,     -999,9,     -999,9,     -999,     -999,9,     -999,     -999,9,     -999,9,     -999,9,     -999,9,     -999,9,     -999,9,     -999,9,     -999,9,     -999,9,     -999,9,     -999,9,     -999,9,     -999,9,     -999,9
320620180309  ,P16        ,36      ,  1,20         ,20         ,2,20180403,0313, -75.2094,-148.1186,     3403,    708.0,1.2885361111111111043,34.729009506616720,2,  34.7278,2,192.25309039498984,2, 191.4016,2,    190.7,2,    106.2,2,    32.46,2,     0.01,2,     2.21,2,    0.152,2,    0.082,2,   0.0400,2,   2262.5,2,  2357.21,2,   7.5865,2,    24.94,     42.6,2,     -999,9,   1.2872,2,     -999,9,     -999,9,     -999,     -999,9,     -999,9,     -999,1,     -999,9,    0.062,1,    4.672,1,    0.140,1,  22.2000,2,     -999,9,20180403,0443, -75.2075,-148.1655,     -999,9,     -999,9,-999          ,9,     -999,9,     -999,9,     -999,     -999,9,     -999,     -999,9,     -999,9,     -999,9,     -999,9,     -999,9,     -999,9,     -999,9,     -999,9,     -999,9,     -999,9,     -999,9,     -999,9,     -999,9,     -999,9
320620180309  ,P16        ,36      ,  1,19         ,19         ,2,20180403,0313, -75.2094,-148.1186,     3403,    809.2,1.1791750000000000842,34.726267649282043,2,  34.7255,2,194.05262537804475,2, 193.5018,2,    193.6,2,    110.0,2,    32.45,2,     0.00,2,     2.22,2,     -999,9,     -999,9,     -999,9,   2264.2,2,  2360.80,2,   7.5876,2,    24.95,     41.5,2,     -999,9,   1.1782,2,     -999,9,     -999,9,     -999,     -999,9,     -999,9,     -999,1,     -999,9,    0.062,1,    4.670,1,    0.137,1,     -999,9,     -999,9,20180403,0439, -75.2075,-148.1638,     -999,9,     -999,9,-999          ,9,     -999,9,     -999,9,     -999,     -999,9,     -999,     -999,9,     -999,9,     -999,9,     -999,9,     -999,9,     -999,9,     -999,9,     -999,9,     -999,9,     -999,9,     -999,9,     -999,9,     -999,9,     -999,9
320620180309  ,P16        ,36      ,  1,18         ,18         ,2,20180403,0313, -75.2094,-148.1186,     3403,    910.2,1.0828583333333334782,34.723348804943967,2,  34.7223,2,195.91018287025557,2, 195.4008,2,    195.6,2,    112.7,2,    32.48,2,     0.00,2,     2.22,2,    0.120,2,    0.063,2,   0.1900,2,   2263.9,2,  2360.47,2,   7.5913,2,    24.94,     40.7,2,     -999,9,   1.0821,2,     -999,9,     -999,9,     -999,     -999,9,     -999,9,     -999,1,     -999,9,    0.062,1,    4.671,1,    0.144,1,  21.5000,2,     -999,9,20180403,0436, -75.2075,-148.1620,     -999,9,     -999,9,-999          ,9,     -999,9,     -999,9,     -999,     -999,9,     -999,     -999,9,     -999,9,     -999,9,     -999,9,     -999,9,     -999,9,     -999,9,     -999,9,     -999,9,     -999,9,     -999,9,     -999,9,     -999,9,     -999,9
320620180309  ,P16        ,36      ,  1,17         ,17         ,2,20180403,0313, -75.2094,-148.1186,     3403,   1012.4,1.0113722222222223390,34.720558263099051,2,  34.7194,2,198.17509082473171,2, 196.6983,2,    197.2,2,    115.2,2,    32.52,2,     0.00,2,     2.24,2,    0.113,2,    0.054,2,   0.1100,2,   2265.0,2,  2359.66,2,   7.5920,2,    24.94,     40.4,2,     -999,9,   1.0106,2,     -999,9,     -999,9,     -999,     -999,9,     -999,9,     -999,1,     -999,9,    0.061,1,    4.673,1,    0.136,1,  21.8700,2,     -999,9,20180403,0432, -75.2076,-148.1602,     -999,9,     -999,9,-999          ,9,     -999,9,     -999,9,     -999,     -999,9,     -999,     -999,9,     -999,9,     -999,9,     -999,9,     -999,9,     -999,9,     -999,9,     -999,9,     -999,9,     -999,9,     -999,9,     -999,9,     -999,9,     -999,9
320620180309  ,P16        ,36      ,  1,16         ,16         ,2,20180403,0313, -75.2094,-148.1186,     3403,   1112.8,0.9553749999999998632,34.718588064670357,2,  34.7180,2,199.35183432313175,2, 197.8961,2,    198.7,2,    117.1,2,    32.50,2,     0.00,2,     2.24,2,     -999,9,     -999,9,     -999,9,   2262.9,2,  2364.56,3,   7.5934,2,    24.94,     41.2,2,     -999,9,   0.9543,2,     -999,9,     -999,9,     -999,     -999,9,     -999,9,     -999,1,     -999,9,    0.061,1,    4.672,1,    0.141,1,     -999,9,     -999,9,20180403,0429, -75.2076,-148.1584,     -999,9,     -999,9,-999          ,9,     -999,9,     -999,9,     -999,     -999,9,     -999,     -999,9,     -999,9,     -999,9,     -999,9,     -999,9,     -999,9,     -999,9,     -999,9,     -999,9,     -999,9,     -999,9,     -999,9,     -999,9,     -999,9