BOTTLE,20240515CCHHYDRO
EXPOCODE,SECT_ID,STNNBR,CASTNO,SAMPNO,BTLNBR,BTLNBR_FLAG_W,DATE,TIME,LATITUDE,LONGITUDE,DEPTH,CTDPRS,CTDTMP,CTDSAL,CTDSAL_FLAG_W,SALNTY,SALNTY_FLAG_W,CTDOXY,CTDOXY_FLAG_W,CTDOPTOXY,CTDOPTOXY_FLAG_W,OXYGEN,OXYGEN_FLAG_W,SILCAT,SILCAT_FLAG_W,NITRAT,NITRAT_FLAG_W,NITRIT,NITRIT_FLAG_W,PHSPHT,PHSPHT_FLAG_W,CFC-11,CFC-11_FLAG_W,CFC-12,CFC-12_FLAG_W,SF6,SF6_FLAG_W,TCARBN,TCARBN_FLAG_W,ALKALI,ALKALI_FLAG_W,PH_TOT,PH_TOT_FLAG_W,PH_TMP,DOC,DOC_FLAG_W,HELIUM,HELIUM_FLAG_W,REFTMP,REFTMP_FLAG_W,DELC13,DELC13_FLAG_W,DELC14,DELC14_FLAG_W,C14ERR,POC,POC_FLAG_W,TDN,TDN_FLAG_W,TON,TON_FLAG_W,NEON,NEON_FLAG_W,CTDFLUOR,CTDFLUOR_FLAG_W,CTDXMISS,CTDXMISS_FLAG_W,CTDBETA700,CTDBETA700_FLAG_W,N2O,N2O_FLAG_W,ARGON,ARGON_FLAG_W,BTL_DATE,BTL_TIME,BTL_LAT,BTL_LON,KRYPTON,KRYPTON_FLAG_W,XENON,XENON_FLAG_W,HPLC,HPLC_FLAG_W,HE3_HE4_RATIO,HE3_HE4_RATIO_FLAG_W,Nd_143_144_D_EPSILON_BOTTLE,Nd_143_144_D_EPSILON_BOTTLE_FLAG_W,Nd_143_144_D_EPSILON_BOTTLE_ERROR,Nd_143_144_D_RATIO_BOTTLE,Nd_143_144_D_RATIO_BOTTLE_FLAG_W,Nd_143_144_D_RATIO_BOTTLE_ERROR,Nd_D_CONC,Nd_D_CONC_FLAG_W,La_D_CONC_BOTTLE,La_D_CONC_BOTTLE_FLAG_W,Ce_D_CONC_BOTTLE,Ce_D_CONC_BOTTLE_FLAG_W,Pr_D_CONC_BOTTLE,Pr_D_CONC_BOTTLE_FLAG_W,Sm_D_CONC_BOTTLE,Sm_D_CONC_BOTTLE_FLAG_W,Eu_D_CONC_BOTTLE,Eu_D_CONC_BOTTLE_FLAG_W,Gd_D_CONC_BOTTLE,Gd_D_CONC_BOTTLE_FLAG_W,Tb_D_CONC_BOTTLE,Tb_D_CONC_BOTTLE_FLAG_W,Dy_D_CONC_BOTTLE,Dy_D_CONC_BOTTLE_FLAG_W,Ho_D_CONC_BOTTLE,Ho_D_CONC_BOTTLE_FLAG_W,Er_D_CONC_BOTTLE,Er_D_CONC_BOTTLE_FLAG_W,Tm_D_CONC_BOTTLE,Tm_D_CONC_BOTTLE_FLAG_W,Yb_D_CONC_BOTTLE,Yb_D_CONC_BOTTLE_FLAG_W,Lu_D_CONC_BOTTLE,Lu_D_CONC_BOTTLE_FLAG_W
,,,,,,,,,,,METERS,DBAR,ITS-90,PSS-78,,PSS-78,,UMOL/KG,,UMOL/KG,,UMOL/KG,,UMOL/KG,,UMOL/KG,,UMOL/KG,,UMOL/KG,,PMOL/KG,,PMOL/KG,,FMOL/KG,,UMOL/KG,,UMOL/KG,,,,DEG C,UMOL/KG,,NMOL/L,,DEG C,,/MILLE,,/MILLE,,/MILLE,UG/KG,,UMOL/KG,,UMOL/KG,,NMOL/L,,VOLTS,,VOLTS,,VOLTS,,NMOL/KG,,UMOL/L,,,,,,NMOL/L,,NMOL/L,,,,,,10000,,10000,,,,PMOL/KG,,PMOL/L,,PMOL/L,,PMOL/L,,PMOL/L,,PMOL/L,,PMOL/L,,PMOL/L,,PMOL/L,,PMOL/L,,PMOL/L,,PMOL/L,,PMOL/L,,PMOL/L,
320620180309  ,P16        ,43      ,  1,15         ,15         ,2,20180405,0905, -72.3744,-149.9851,     4136,   1352.6,0.9632277777777777938,34.717527032649144,2,  34.7178,2,198.95910443143401,2, 198.5012,2,    199.8,2,    117.6,2,    32.68,2,     0.00,2,     2.25,2,     -999,9,     -999,9,     -999,9,   2263.3,2,  2360.44,2,   7.5945,2,    24.94,     -999,9,     -999,1,   0.9622,2,     -999,9,     -999,9,     -999,     -999,9,     -999,9,     -999,9,     -999,1,    0.061,1,    4.672,1,    0.129,1,     -999,9,     -999,1,20180405,1015, -72.3721,-149.9884,     -999,1,     -999,1,-999          ,9,     -999,1,     -999,9,     -999,     -999,9,     -999,     -999,9,     -999,1,     -999,1,     -999,1,     -999,1,     -999,1,     -999,1,     -999,1,     -999,1,     -999,1,     -999,1,     -999,1,     -999,1,     -999,1
320620180309  ,P16        ,43      ,  1,14         ,14         ,2,20180405,0905, -72.3744,-149.9851,     4136,   1454.3,0.9195833333333334192,34.715537160927020,2,  34.7162,2,200.57493712957094,2, 200.4986,2,    200.0,2,    119.2,2,    32.69,2,     0.00,2,     2.25,2,     -999,9,     -999,9,     -999,9,     -999,9,     -999,9,     -999,9,     -999,     -999,9,     -999,9,   0.9184,2,     -999,9,     -999,9,     -999,     -999,9,     -999,9,     -999,9,     -999,9,    0.060,1,    4.672,1,    0.127,1,     -999,9,     -999,9,20180405,1012, -72.3722,-149.9882,     -999,9,     -999,9,-999          ,9,     -999,9,     -999,9,     -999,     -999,9,     -999,     -999,9,     -999,9,     -999,9,     -999,9,     -999,9,     -999,9,     -999,9,     -999,9,     -999,9,     -999,9,     -999,9,     -999,9,     -999,9,     -999,9
320620180309  ,P16        ,43      ,  1,13         ,13         ,2,20180405,0905, -72.3744,-149.9851,     4136,   1556.8,0.8696666666666666989,34.713490532152115,2,  34.7143,2,201.51735235181874,2, 202.0016,2,    201.3,2,    121.1,2,    32.73,2,     0.00,2,     2.24,2,    0.121,2,    0.064,2,   0.0200,3,   2261.1,2,  2360.86,2,   7.5958,2,    24.95,     -999,9,     -999,9,   0.8686,2,     -999,9,     -999,9,     -999,     -999,9,     -999,9,     -999,9,     -999,9,    0.060,1,    4.673,1,    0.127,1,  21.0200,2,     -999,9,20180405,1009, -72.3724,-149.9880,     -999,9,     -999,9,-999          ,9,     -999,9,     -999,9,     -999,     -999,9,     -999,     -999,9,     -999,1,     -999,1,     -999,1,     -999,1,     -999,1,     -999,1,     -999,1,     -999,1,     -999,1,     -999,1,     -999,1,     -999,1,     -999,1
320620180309  ,P16        ,43      ,  1,12         ,12         ,2,20180405,0905, -72.3744,-149.9851,     4136,   1658.1,0.8265972222222220944,34.711623376025017,2,  34.7125,2,202.40895966538906,2, 202.8985,2,    202.2,2,    122.8,2,    32.75,2,     0.00,2,     2.23,2,     -999,9,     -999,9,     -999,9,     -999,9,     -999,9,     -999,9,     -999,     -999,9,     -999,9,   0.8257,2,     -999,9,     -999,9,     -999,     -999,9,     -999,9,     -999,9,     -999,9,    0.061,1,    4.673,1,    0.127,1,     -999,9,     -999,9,20180405,1006, -72.3725,-149.9878,     -999,9,     -999,9,-999          ,9,     -999,9,     -999,9,     -999,     -999,9,     -999,     -999,9,     -999,9,     -999,9,     -999,9,     -999,9,     -999,9,     -999,9,     -999,9,     -999,9,     -999,9,     -999,9,     -999,9,     -999,9,     -999,9
320620180309  ,P16        ,43      ,  1,11         ,11         ,2,20180405,0905, -72.3744,-149.9851,     4136,   1759.8,0.7844361111111113338,34.709890732855825,2,  34.7113,2,203.08764200310955,2, 203.8996,2,    203.0,2,    124.6,2,    32.82,2,     0.00,2,     2.22,2,     -999,9,     -999,9,     -999,9,   2263.9,2,  2359.26,2,   7.5952,2,    24.94,     -999,9,     -999,1,   0.7837,2,     -999,9,     -999,9,     -999,     -999,9,     -999,9,     -999,9,     -999,1,    0.061,1,    4.673,1,    0.128,1,     -999,9,     -999,1,20180405,1003, -72.3728,-149.9874,     -999,1,     -999,1,-999          ,9,     -999,1,     -999,9,     -999,     -999,9,     -999,     -999,9,     -999,1,     -999,1,     -999,1,     -999,1,     -999,1,     -999,1,     -999,1,     -999,1,     -999,1,     -999,1,     -999,1,     -999,1,     -999,1
320620180309  ,P16        ,43      ,  1,10         ,10         ,2,20180405,0905, -72.3744,-149.9851,     4136,   1892.7,0.7393750000000001155,34.707998736780702,2,  34.7096,2,204.35562949890991,2, 204.5958,2,    204.2,2,    126.4,2,    32.83,2,     0.00,2,     2.23,2,     -999,9,     -999,9,     -999,9,     -999,9,     -999,9,     -999,9,     -999,     -999,9,     -999,9,   0.7384,2,     -999,9,     -999,9,     -999,     -999,9,     -999,9,     -999,9,     -999,9,    0.060,1,    4.673,1,    0.126,1,     -999,9,     -999,9,20180405,0959, -72.3730,-149.9872,     -999,9,     -999,9,-999          ,9,     -999,9,     -999,9,     -999,     -999,9,     -999,     -999,9,     -999,9,     -999,9,     -999,9,     -999,9,     -999,9,     -999,9,     -999,9,     -999,9,     -999,9,     -999,9,     -999,9,     -999,9,     -999,9
320620180309  ,P16        ,43      ,  1,9          ,9          ,2,20180405,0905, -72.3744,-149.9851,     4136,   2117.5,0.6606583333333333474,34.705434249006188,2,  34.7064,2,206.42523991284020,2, 206.9914,2,    206.1,2,    128.3,2,    32.85,2,     0.00,2,     2.23,2,    0.151,2,    0.079,2,   0.1600,3,   2263.9,2,  2359.25,2,   7.5958,2,    24.94,     -999,9,     -999,9,   0.6598,2,     -999,9,     -999,9,     -999,     -999,9,     -999,9,     -999,9,     -999,9,    0.061,1,    4.673,1,    0.125,1,  20.9200,2,     -999,9,20180405,0954, -72.3731,-149.9869,     -999,9,     -999,9,-999          ,9,     -999,9,     -999,9,     -999,     -999,9,     -999,     -999,9,     -999,1,     -999,1,     -999,1,     -999,1,     -999,1,     -999,1,     -999,1,     -999,1,     -999,1,     -999,1,     -999,1,     -999,1,     -999,1
320620180309  ,P16        ,43      ,  1,8          ,8          ,2,20180405,0905, -72.3744,-149.9851,     4136,   2371.8,0.5787861111111112233,34.703418601217386,2,  34.7039,2,208.23538988799311,2, 208.5991,2,    207.8,2,    129.5,2,    32.89,2,     0.00,2,     2.23,2,     -999,9,     -999,9,     -999,9,     -999,9,     -999,9,     -999,9,     -999,     -999,9,     -999,9,   0.5781,2,     -999,9,     -999,9,     -999,     -999,9,     -999,9,     -999,9,     -999,9,    0.060,1,    4.673,1,    0.126,1,     -999,9,     -999,9,20180405,0948, -72.3734,-149.9866,     -999,9,     -999,9,-999          ,9,     -999,9,     -999,9,     -999,     -999,9,     -999,     -999,9,     -999,9,     -999,9,     -999,9,     -999,9,     -999,9,     -999,9,     -999,9,     -999,9,     -999,9,     -999,9,     -999,9,     -999,9,     -999,9
320620180309  ,P16        ,43      ,  1,7          ,7          ,2,20180405,0905, -72.3744,-149.9851,     4136,   2628.1,0.4937611111111111506,34.702286868049484,2,  34.7037,2,210.42887180330320,2, 210.5991,2,    210.5,2,    131.5,2,    32.95,2,     0.00,2,     2.24,2,     -999,9,     -999,9,     -999,9,   2263.8,2,  2366.15,3,   7.5959,2,    24.94,     -999,9,     -999,1,   0.4932,2,     -999,9,     -999,9,     -999,     -999,9,     -999,9,     -999,9,     -999,1,    0.061,1,    4.673,1,    0.125,1,     -999,9,     -999,1,20180405,0942, -72.3738,-149.9860,     -999,1,     -999,1,-999          ,9,     -999,1,     -999,9,     -999,     -999,9,     -999,     -999,9,     -999,1,     -999,1,     -999,1,     -999,1,     -999,1,     -999,1,     -999,1,     -999,1,     -999,1,     -999,1,     -999,1,     -999,1,     -999,1
320620180309  ,P16        ,43      ,  1,6          ,6          ,2,20180405,0905, -72.3744,-149.9851,     4136,   2883.5,0.4309222222222222065,34.701532512421608,2,  34.7031,2,211.97322178292146,2, 211.7921,2,    211.9,2,    133.8,2,    33.02,2,     0.00,2,     2.24,2,     -999,9,     -999,9,     -999,9,     -999,9,     -999,9,     -999,9,     -999,     -999,9,     -999,9,   0.4301,2,     -999,9,     -999,9,     -999,     -999,9,     -999,9,     -999,9,     -999,9,    0.061,1,    4.673,1,    0.125,1,     -999,9,     -999,9,20180405,0936, -72.3740,-149.9857,     -999,9,     -999,9,-999          ,9,     -999,9,     -999,9,     -999,     -999,9,     -999,     -999,9,     -999,9,     -999,9,     -999,9,     -999,9,     -999,9,     -999,9,     -999,9,     -999,9,     -999,9,     -999,9,     -999,9,     -999,9,     -999,9
320620180309  ,P16        ,43      ,  1,5          ,5          ,2,20180405,0905, -72.3744,-149.9851,     4136,   3129.6,0.3790861111111110682,34.701086634389519,2,  34.7021,2,213.15052182391383,2, 213.0970,2,    213.4,2,    136.4,2,    33.06,2,     0.00,2,     2.25,2,    0.201,2,    0.110,2,   0.0100,3,   2264.0,2,  2365.16,2,   7.5961,6,    24.94,     -999,9,     -999,9,   0.3781,2,     -999,9,     -999,9,     -999,     -999,9,     -999,9,     -999,9,     -999,9,    0.061,1,    4.673,1,    0.125,1,  20.5700,2,     -999,9,20180405,0930, -72.3741,-149.9854,     -999,9,     -999,9,-999          ,9,     -999,9,     -999,9,     -999,     -999,9,     -999,     -999,9,     -999,1,     -999,1,     -999,1,     -999,1,     -999,1,     -999,1,     -999,1,     -999,1,     -999,1,     -999,1,     -999,1,     -999,1,     -999,1
320620180309  ,P16        ,43      ,  1,4          ,4          ,2,20180405,0905, -72.3744,-149.9851,     4136,   3395.5,0.3400749999999999607,34.700330955252895,2,  34.7009,2,214.46848717150240,2, 213.9995,2,    214.0,2,     -999,9,     -999,9,     -999,9,     -999,9,    0.254,2,    0.136,2,   0.1000,3,   2264.5,2,  2365.02,2,   7.5943,2,    24.95,     -999,9,     -999,1,   0.3396,2,     -999,9,     -999,9,     -999,     -999,9,     -999,9,     -999,9,     -999,1,    0.061,1,    4.672,1,    0.125,1,  20.3500,2,     -999,1,20180405,0924, -72.3742,-149.9854,     -999,1,     -999,1,-999          ,9,     -999,1,     -999,9,     -999,     -999,9,     -999,     -999,9,     -999,9,     -999,9,     -999,9,     -999,9,     -999,9,     -999,9,     -999,9,     -999,9,     -999,9,     -999,9,     -999,9,     -999,9,     -999,9
320620180309  ,P16        ,43      ,  1,3          ,3          ,2,20180405,0905, -72.3744,-149.9851,     4136,   3703.6,0.2970472222222222403,34.698373038765141,2,  34.6988,2,216.75884943410784,2, 216.8977,2,    215.9,2,    137.8,2,    33.05,2,     0.00,2,     2.25,2,    0.397,2,    0.211,2,   0.0800,3,   2264.2,2,  2366.86,2,   7.5961,2,    24.95,     -999,9,     -999,9,   0.2971,2,     -999,9,     -999,9,     -999,     -999,9,     -999,9,     -999,9,     -999,9,    0.061,1,    4.671,1,    0.125,1,  21.0500,2,     -999,9,20180405,0917, -72.3742,-149.9854,     -999,9,     -999,9,-999          ,9,     -999,9,     -999,9,     -999,     -999,9,     -999,     -999,9,     -999,1,     -999,1,     -999,1,     -999,1,     -999,1,     -999,1,     -999,1,     -999,1,     -999,1,     -999,1,     -999,1,     -999,1,     -999,1
320620180309  ,P16        ,43      ,  1,2          ,2          ,2,20180405,0905, -72.3744,-149.9851,     4136,   3987.0,0.2421222222222222387,34.695234317748586,2,  34.6947,2,220.38616389350048,2, 220.2946,2,    220.6,2,    130.5,2,    32.89,2,     0.00,2,     2.24,2,    0.662,2,    0.335,2,   0.0700,3,   2261.0,2,  2362.45,2,   7.5946,2,    24.94,     -999,9,     -999,1,   0.2415,2,     -999,9,     -999,9,     -999,     -999,9,     -999,9,     -999,9,     -999,1,    0.061,1,    4.670,1,    0.125,1,  21.1000,2,     -999,1,20180405,0911, -72.3743,-149.9852,     -999,1,     -999,1,-999          ,9,     -999,1,     -999,9,     -999,     -999,9,     -999,     -999,9,     -999,1,     -999,1,     -999,1,     -999,1,     -999,1,     -999,1,     -999,1,     -999,1,     -999,1,     -999,1,     -999,1,     -999,1,     -999,1
320620180309  ,P16        ,43      ,  1,1          ,1          ,2,20180405,0905, -72.3744,-149.9851,     4136,   4210.1,0.2452722222222222248,34.695297924202364,2,  34.6964,2,219.49960611693706,2, 219.3046,2,    218.9,2,    133.5,2,    33.02,2,     0.00,2,     2.25,2,    0.704,2,    0.351,2,   0.1100,3,   2262.4,6,  2364.33,2,   7.5935,6,    24.93,     -999,9,     -999,1,   0.2446,2,     -999,9,     -999,9,     -999,     -999,9,     -999,9,     -999,9,     -999,1,    0.061,1,    4.660,1,    0.142,1,  21.1300,2,     -999,1,20180405,0905, -72.3744,-149.9851,     -999,1,     -999,1,-999          ,9,     -999,1,     -999,9,     -999,     -999,9,     -999,     -999,9,     -999,1,     -999,1,     -999,1,     -999,1,     -999,1,     -999,1,     -999,1,     -999,1,     -999,1,     -999,1,     -999,1,     -999,1,     -999,1