BOTTLE,20240515CCHHYDRO
EXPOCODE,SECT_ID,STNNBR,CASTNO,SAMPNO,BTLNBR,BTLNBR_FLAG_W,DATE,TIME,LATITUDE,LONGITUDE,DEPTH,CTDPRS,CTDTMP,CTDSAL,CTDSAL_FLAG_W,SALNTY,SALNTY_FLAG_W,CTDOXY,CTDOXY_FLAG_W,CTDOPTOXY,CTDOPTOXY_FLAG_W,OXYGEN,OXYGEN_FLAG_W,SILCAT,SILCAT_FLAG_W,NITRAT,NITRAT_FLAG_W,NITRIT,NITRIT_FLAG_W,PHSPHT,PHSPHT_FLAG_W,CFC-11,CFC-11_FLAG_W,CFC-12,CFC-12_FLAG_W,SF6,SF6_FLAG_W,TCARBN,TCARBN_FLAG_W,ALKALI,ALKALI_FLAG_W,PH_TOT,PH_TOT_FLAG_W,PH_TMP,DOC,DOC_FLAG_W,HELIUM,HELIUM_FLAG_W,REFTMP,REFTMP_FLAG_W,DELC13,DELC13_FLAG_W,DELC14,DELC14_FLAG_W,C14ERR,POC,POC_FLAG_W,TDN,TDN_FLAG_W,TON,TON_FLAG_W,NEON,NEON_FLAG_W,CTDFLUOR,CTDFLUOR_FLAG_W,CTDXMISS,CTDXMISS_FLAG_W,CTDBETA700,CTDBETA700_FLAG_W,N2O,N2O_FLAG_W,ARGON,ARGON_FLAG_W,BTL_DATE,BTL_TIME,BTL_LAT,BTL_LON,KRYPTON,KRYPTON_FLAG_W,XENON,XENON_FLAG_W,HPLC,HPLC_FLAG_W,HE3_HE4_RATIO,HE3_HE4_RATIO_FLAG_W,Nd_143_144_D_EPSILON_BOTTLE,Nd_143_144_D_EPSILON_BOTTLE_FLAG_W,Nd_143_144_D_EPSILON_BOTTLE_ERROR,Nd_143_144_D_RATIO_BOTTLE,Nd_143_144_D_RATIO_BOTTLE_FLAG_W,Nd_143_144_D_RATIO_BOTTLE_ERROR,Nd_D_CONC,Nd_D_CONC_FLAG_W,La_D_CONC_BOTTLE,La_D_CONC_BOTTLE_FLAG_W,Ce_D_CONC_BOTTLE,Ce_D_CONC_BOTTLE_FLAG_W,Pr_D_CONC_BOTTLE,Pr_D_CONC_BOTTLE_FLAG_W,Sm_D_CONC_BOTTLE,Sm_D_CONC_BOTTLE_FLAG_W,Eu_D_CONC_BOTTLE,Eu_D_CONC_BOTTLE_FLAG_W,Gd_D_CONC_BOTTLE,Gd_D_CONC_BOTTLE_FLAG_W,Tb_D_CONC_BOTTLE,Tb_D_CONC_BOTTLE_FLAG_W,Dy_D_CONC_BOTTLE,Dy_D_CONC_BOTTLE_FLAG_W,Ho_D_CONC_BOTTLE,Ho_D_CONC_BOTTLE_FLAG_W,Er_D_CONC_BOTTLE,Er_D_CONC_BOTTLE_FLAG_W,Tm_D_CONC_BOTTLE,Tm_D_CONC_BOTTLE_FLAG_W,Yb_D_CONC_BOTTLE,Yb_D_CONC_BOTTLE_FLAG_W,Lu_D_CONC_BOTTLE,Lu_D_CONC_BOTTLE_FLAG_W
,,,,,,,,,,,METERS,DBAR,ITS-90,PSS-78,,PSS-78,,UMOL/KG,,UMOL/KG,,UMOL/KG,,UMOL/KG,,UMOL/KG,,UMOL/KG,,UMOL/KG,,PMOL/KG,,PMOL/KG,,FMOL/KG,,UMOL/KG,,UMOL/KG,,,,DEG C,UMOL/KG,,NMOL/L,,DEG C,,/MILLE,,/MILLE,,/MILLE,UG/KG,,UMOL/KG,,UMOL/KG,,NMOL/L,,VOLTS,,VOLTS,,VOLTS,,NMOL/KG,,UMOL/L,,,,,,NMOL/L,,NMOL/L,,,,,,10000,,10000,,,,PMOL/KG,,PMOL/L,,PMOL/L,,PMOL/L,,PMOL/L,,PMOL/L,,PMOL/L,,PMOL/L,,PMOL/L,,PMOL/L,,PMOL/L,,PMOL/L,,PMOL/L,,PMOL/L,
320620180309  ,S04P       ,58      ,  2,36         ,36         ,2,20180411,2132, -67.0013,-163.3845,     3984,      5.7,-1.2788444444444444503,33.979469822241406,2,  33.9763,2,341.98213441748612,3, 346.8999,2,    347.2,2,     63.3,2,    26.60,2,     0.16,2,     1.86,2,    5.674,2,    3.136,2,   3.7600,2,   2189.1,6,  2302.41,2,   7.6467,2,    24.92,     46.5,2,     -999,9,  -1.9330,4,     -999,9,     -999,9,     -999,     -999,9,    29.10,2,     -999,1,     -999,9,    0.173,1,    4.611,1,    0.180,1,  16.3100,2,     -999,9,20180411,2358, -67.0059,-163.3764,     -999,9,     -999,9,-999          ,9,     -999,9,     -999,9,     -999,     -999,9,     -999,     -999,9,     -999,9,     -999,9,     -999,9,     -999,9,     -999,9,     -999,9,     -999,9,     -999,9,     -999,9,     -999,9,     -999,9,     -999,9,     -999,9
320620180309  ,S04P       ,58      ,  2,35         ,35         ,2,20180411,2132, -67.0013,-163.3845,     3984,     23.1,-1.2793055555555554736,33.979409115005161,2,  33.9755,2,343.09781393670659,3, 346.8938,2,    347.1,2,     63.1,2,    26.57,2,     0.17,2,     1.85,2,    5.669,2,    3.118,2,   3.7600,2,   2188.4,2,  2302.15,2,   7.6471,2,    24.94,     -999,5,     -999,9,  -1.2817,2,     -999,9,     -999,9,     -999,     -999,9,     -999,5,     -999,1,     -999,9,    0.145,1,    4.609,1,    0.182,1,  16.7200,2,     -999,9,20180411,2357, -67.0059,-163.3764,     -999,9,     -999,9,-999          ,9,     -999,9,     -999,9,     -999,     -999,9,     -999,     -999,9,     -999,9,     -999,9,     -999,9,     -999,9,     -999,9,     -999,9,     -999,9,     -999,9,     -999,9,     -999,9,     -999,9,     -999,9,     -999,9
320620180309  ,S04P       ,58      ,  2,34         ,34         ,2,20180411,2132, -67.0013,-163.3845,     3984,     52.8,-1.2829611111111112187,33.979813892975947,2,  33.9761,2,344.41542519141416,2, 346.8993,2,    347.0,2,     63.1,2,    26.61,2,     0.17,2,     1.85,2,    5.644,2,    3.120,2,   3.6100,2,   2190.7,2,  2304.21,2,   7.6480,2,    24.93,     49.8,2,     -999,9,  -1.2839,2,     -999,9,     -999,9,     -999,     -999,9,    28.90,2,     -999,1,     -999,9,    0.142,1,    4.610,1,    0.184,1,  16.2300,2,     -999,9,20180411,2357, -67.0058,-163.3767,     -999,9,     -999,9,-999          ,9,     -999,9,     -999,9,     -999,     -999,9,     -999,     -999,9,     -999,9,     -999,9,     -999,9,     -999,9,     -999,9,     -999,9,     -999,9,     -999,9,     -999,9,     -999,9,     -999,9,     -999,9,     -999,9
320620180309  ,S04P       ,58      ,  2,33         ,33         ,2,20180411,2132, -67.0013,-163.3845,     3984,     73.5,-1.2764750000000000263,33.981906195706884,2,  33.9774,2,344.94798524387755,2, 346.4007,2,    346.3,2,     63.0,2,    26.65,2,     0.17,2,     1.86,2,    5.665,2,    3.137,2,   3.8900,2,   2188.8,2,  2304.71,2,   7.6441,2,    24.93,     47.2,2,     -999,9,  -1.2807,2,     -999,9,     -999,9,     -999,     -999,9,    29.70,2,     -999,1,     -999,9,    0.144,1,    4.611,1,    0.188,1,  16.5100,2,     -999,9,20180411,2356, -67.0057,-163.3768,     -999,9,     -999,9,-999          ,9,     -999,9,     -999,9,     -999,     -999,9,     -999,     -999,9,     -999,9,     -999,9,     -999,9,     -999,9,     -999,9,     -999,9,     -999,9,     -999,9,     -999,9,     -999,9,     -999,9,     -999,9,     -999,9
320620180309  ,S04P       ,58      ,  2,32         ,32         ,2,20180411,2132, -67.0013,-163.3845,     3984,     99.8,-0.8896472222222221449,34.367354543666266,2,  34.3631,2,261.61054940959940,3, 252.2002,2,    252.4,2,     74.5,2,    31.28,2,     0.16,2,     2.14,2,    3.141,6,    1.713,6,   1.7300,6,   2232.7,2,  2326.01,2,   7.5809,2,    24.93,     44.3,2,     -999,9,  -0.8880,2,     -999,9,     -999,9,     -999,     -999,9,    33.60,2,     -999,1,     -999,9,    0.111,1,    4.621,1,    0.168,1,  20.0100,6,     -999,9,20180411,2355, -67.0056,-163.3775,     -999,9,     -999,9,-999          ,9,     -999,9,     -999,9,     -999,     -999,9,     -999,     -999,9,     -999,9,     -999,9,     -999,9,     -999,9,     -999,9,     -999,9,     -999,9,     -999,9,     -999,9,     -999,9,     -999,9,     -999,9,     -999,9
320620180309  ,S04P       ,58      ,  2,31         ,31         ,2,20180411,2132, -67.0013,-163.3845,     3984,    126.4,0.4880722222222220741,34.561008759274969,2,  34.5554,2,205.01676137299111,2, 206.7021,2,    206.4,2,     84.5,2,    33.03,2,     0.02,2,     2.23,2,     -999,9,     -999,9,     -999,9,   2252.2,2,  2334.94,2,   7.5592,2,    24.93,     43.0,2,     -999,9,   0.4784,2,     -999,9,     -999,9,     -999,     -999,9,    35.00,2,     -999,1,     -999,9,    0.074,1,    4.655,1,    0.144,1,     -999,9,     -999,9,20180411,2353, -67.0055,-163.3788,     -999,9,     -999,9,-999          ,9,     -999,9,     -999,9,     -999,     -999,9,     -999,     -999,9,     -999,9,     -999,9,     -999,9,     -999,9,     -999,9,     -999,9,     -999,9,     -999,9,     -999,9,     -999,9,     -999,9,     -999,9,     -999,9
320620180309  ,S04P       ,58      ,  2,30         ,30         ,2,20180411,2132, -67.0013,-163.3845,     3984,    149.9,1.0819916666666666849,34.639980095457304,2,  34.6346,2,188.49270636343726,2, 193.0968,3,    189.6,2,     89.6,2,    33.43,2,     0.02,2,     2.25,2,    0.986,2,    0.533,2,   0.6000,2,   2258.6,2,  2343.10,2,   7.5553,2,    24.94,     43.1,2,     -999,9,   1.0782,2,     -999,9,     -999,9,     -999,     -999,9,     -999,9,     -999,1,     -999,9,    0.071,1,    4.657,1,    0.139,1,  21.9600,2,     -999,9,20180411,2351, -67.0053,-163.3791,     -999,9,     -999,9,-999          ,9,     -999,9,     -999,9,     -999,     -999,9,     -999,     -999,9,     -999,9,     -999,9,     -999,9,     -999,9,     -999,9,     -999,9,     -999,9,     -999,9,     -999,9,     -999,9,     -999,9,     -999,9,     -999,9
320620180309  ,S04P       ,58      ,  2,29         ,29         ,2,20180411,2132, -67.0013,-163.3845,     3984,    201.7,1.4781499999999998529,34.704488629918274,2,  34.7035,2,181.37260451198824,2, 182.3041,2,    181.4,2,     94.1,2,    33.31,2,     0.02,2,     2.25,2,    0.452,2,    0.247,2,   0.2600,2,   2262.2,6,  2351.96,2,   7.5595,2,    24.92,     41.4,2,     -999,9,   1.4769,2,     -999,9,     -999,9,     -999,     -999,9,     -999,9,     -999,1,     -999,9,    0.067,1,    4.657,1,    0.141,1,  21.9900,2,     -999,9,20180411,2348, -67.0050,-163.3798,     -999,9,     -999,9,-999          ,9,     -999,9,     -999,9,     -999,     -999,9,     -999,     -999,9,     -999,9,     -999,9,     -999,9,     -999,9,     -999,9,     -999,9,     -999,9,     -999,9,     -999,9,     -999,9,     -999,9,     -999,9,     -999,9
320620180309  ,S04P       ,58      ,  2,28         ,28         ,2,20180411,2132, -67.0013,-163.3845,     3984,    251.4,1.5149361111111110390,34.722101741244423,2,  34.7202,2,181.51898309139168,2, 181.8035,2,    181.9,2,     96.5,2,    33.04,2,     0.00,2,     2.23,2,    0.331,2,    0.178,2,   0.1100,2,   2262.2,2,  2351.61,2,   7.5681,6,    24.93,     41.5,2,     -999,9,   1.5139,2,     -999,9,     -999,9,     -999,     -999,9,     -999,9,     -999,1,     -999,9,    0.065,1,    4.660,1,    0.140,1,  21.0800,2,     -999,9,20180411,2346, -67.0048,-163.3801,     -999,9,     -999,9,-999          ,9,     -999,9,     -999,9,     -999,     -999,9,     -999,     -999,9,     -999,9,     -999,9,     -999,9,     -999,9,     -999,9,     -999,9,     -999,9,     -999,9,     -999,9,     -999,9,     -999,9,     -999,9,     -999,9
320620180309  ,S04P       ,58      ,  2,27         ,27         ,2,20180411,2132, -67.0013,-163.3845,     3984,    303.7,1.4851694444444445420,34.727499628033812,2,  34.7251,2,183.35722449136452,2, 183.2959,2,    182.9,2,     98.0,2,    32.89,2,     0.00,2,     2.21,2,    0.284,2,    0.152,2,   0.0300,2,   2260.1,2,  2351.66,2,   7.5742,2,    24.93,     39.1,2,     -999,9,   1.4846,2,     -999,9,     -999,9,     -999,     -999,9,     -999,9,     -999,1,     -999,9,    0.063,1,    4.662,1,    0.139,1,  21.3500,2,     -999,9,20180411,2343, -67.0047,-163.3803,     -999,9,     -999,9,-999          ,9,     -999,9,     -999,9,     -999,     -999,9,     -999,     -999,9,     -999,9,     -999,9,     -999,9,     -999,9,     -999,9,     -999,9,     -999,9,     -999,9,     -999,9,     -999,9,     -999,9,     -999,9,     -999,9
320620180309  ,S04P       ,58      ,  2,26         ,26         ,2,20180411,2132, -67.0013,-163.3845,     3984,    351.8,1.4443555555555558367,34.729556175341592,2,  34.7270,2,184.56889750149210,2, 184.6011,2,    185.2,2,    100.1,2,    32.80,2,     0.00,2,     2.20,2,    0.252,2,    0.135,2,   0.1000,2,   2262.5,2,  2354.91,2,   7.5739,2,    24.92,     40.9,2,     -999,9,   1.4417,2,     -999,9,     -999,9,     -999,     -999,9,     -999,9,     -999,1,     -999,9,    0.064,1,    4.663,1,    0.136,1,  20.8500,2,     -999,9,20180411,2340, -67.0046,-163.3803,     -999,9,     -999,9,-999          ,9,     -999,9,     -999,9,     -999,     -999,9,     -999,     -999,9,     -999,9,     -999,9,     -999,9,     -999,9,     -999,9,     -999,9,     -999,9,     -999,9,     -999,9,     -999,9,     -999,9,     -999,9,     -999,9
320620180309  ,S04P       ,58      ,  2,25         ,25         ,2,20180411,2132, -67.0013,-163.3845,     3984,    402.7,1.3964555555555560051,34.730630724566701,2,  34.7280,2,185.90375792306884,2, 185.7016,2,    186.1,2,    102.1,2,    32.76,2,     0.00,2,     2.21,2,     -999,9,     -999,9,     -999,9,   2263.6,2,  2354.76,2,   7.5777,2,    24.92,     41.8,2,     -999,9,   1.3948,2,     -999,9,     -999,9,     -999,     -999,9,     -999,9,     -999,1,     -999,9,    0.064,1,    4.665,1,    0.135,1,     -999,9,     -999,9,20180411,2338, -67.0047,-163.3803,     -999,9,     -999,9,-999          ,9,     -999,9,     -999,9,     -999,     -999,9,     -999,     -999,9,     -999,9,     -999,9,     -999,9,     -999,9,     -999,9,     -999,9,     -999,9,     -999,9,     -999,9,     -999,9,     -999,9,     -999,9,     -999,9
320620180309  ,S04P       ,58      ,  2,24         ,24         ,2,20180411,2132, -67.0013,-163.3845,     3984,    455.5,1.3530444444444444940,34.730860013417747,2,  34.7302,2,186.76808901475366,2, 186.9987,2,    186.9,2,    103.7,2,    32.73,2,     0.00,2,     2.21,2,    0.210,2,    0.112,2,  -0.0200,2,   2262.7,2,  2354.80,2,   7.5807,2,    24.92,     -999,9,     -999,9,   1.3521,2,     -999,9,     -999,9,     -999,     -999,9,     -999,9,     -999,9,     -999,9,    0.062,1,    4.665,1,    0.133,1,  20.9900,2,     -999,9,20180411,2335, -67.0045,-163.3805,     -999,9,     -999,9,-999          ,9,     -999,9,     -999,9,     -999,     -999,9,     -999,     -999,9,     -999,9,     -999,9,     -999,9,     -999,9,     -999,9,     -999,9,     -999,9,     -999,9,     -999,9,     -999,9,     -999,9,     -999,9,     -999,9
320620180309  ,S04P       ,58      ,  2,23         ,23         ,2,20180411,2132, -67.0013,-163.3845,     3984,    504.3,1.3173777777777777587,34.730605962482400,2,  34.7280,2,187.37446505065859,2, 187.7981,2,    187.8,2,    104.8,2,    32.75,2,     0.00,2,     2.19,2,     -999,9,     -999,9,     -999,9,   2262.7,2,  2354.81,2,   7.5800,2,    24.93,     43.0,2,     -999,9,   1.3165,2,     -999,9,     -999,9,     -999,     -999,9,     -999,9,     -999,1,     -999,9,    0.062,1,    4.666,1,    0.133,1,     -999,9,     -999,9,20180411,2332, -67.0043,-163.3810,     -999,9,     -999,9,-999          ,9,     -999,9,     -999,9,     -999,     -999,9,     -999,     -999,9,     -999,9,     -999,9,     -999,9,     -999,9,     -999,9,     -999,9,     -999,9,     -999,9,     -999,9,     -999,9,     -999,9,     -999,9,     -999,9
320620180309  ,S04P       ,58      ,  2,22         ,37         ,2,20180411,2132, -67.0013,-163.3845,     3984,    606.1,1.2527138888888889046,34.729408493300667,2,  34.7278,2,189.37292134110905,2, 189.0977,2,    189.5,2,    107.6,2,    32.72,2,     0.00,2,     2.21,2,    0.172,2,    0.087,2,   0.0200,2,   2263.5,2,  2358.32,2,   7.5828,2,    24.93,     43.2,2,     -999,9,   1.2517,2,     -999,9,     -999,9,     -999,     -999,9,     -999,9,     -999,1,     -999,9,    0.061,1,    4.666,1,    0.132,1,  20.7100,2,     -999,9,20180411,2328, -67.0039,-163.3818,     -999,9,     -999,9,-999          ,9,     -999,9,     -999,9,     -999,     -999,9,     -999,     -999,9,     -999,9,     -999,9,     -999,9,     -999,9,     -999,9,     -999,9,     -999,9,     -999,9,     -999,9,     -999,9,     -999,9,     -999,9,     -999,9
320620180309  ,S04P       ,58      ,  2,21         ,21         ,2,20180411,2132, -67.0013,-163.3845,     3984,    706.4,1.1712055555555553887,34.727326731788857,2,  34.7247,2,191.23907284853155,2, 190.6005,2,    191.7,2,    110.0,2,    32.63,2,     0.00,2,     2.21,2,     -999,9,     -999,9,     -999,9,   2263.1,2,  2358.43,2,   7.5844,2,    24.93,     42.2,2,     -999,9,   1.1688,2,     -999,9,     -999,9,     -999,     -999,9,     -999,9,     -999,1,     -999,9,    0.062,1,    4.667,1,    0.137,1,     -999,9,     -999,9,20180411,2325, -67.0037,-163.3822,     -999,9,     -999,9,-999          ,9,     -999,9,     -999,9,     -999,     -999,9,     -999,     -999,9,     -999,9,     -999,9,     -999,9,     -999,9,     -999,9,     -999,9,     -999,9,     -999,9,     -999,9,     -999,9,     -999,9,     -999,9,     -999,9
320620180309  ,S04P       ,58      ,  2,20         ,20         ,2,20180411,2132, -67.0013,-163.3845,     3984,    810.0,1.0920611111111111491,34.724575947868857,2,  34.7241,2,193.80205423577459,2, 193.0018,3,    194.6,2,    111.9,2,    32.58,2,     0.00,2,     2.20,2,    0.148,2,    0.080,2,  -0.0100,2,   2263.7,2,  2360.49,2,   7.5872,2,    24.93,     41.0,2,     -999,9,   1.0915,2,     -999,9,     -999,9,     -999,     -999,9,     -999,9,     -999,1,     -999,9,    0.061,1,    4.667,1,    0.132,1,  20.2400,2,     -999,9,20180411,2321, -67.0034,-163.3828,     -999,9,     -999,9,-999          ,9,     -999,9,     -999,9,     -999,     -999,9,     -999,     -999,9,     -999,9,     -999,9,     -999,9,     -999,9,     -999,9,     -999,9,     -999,9,     -999,9,     -999,9,     -999,9,     -999,9,     -999,9,     -999,9
320620180309  ,S04P       ,58      ,  2,19         ,19         ,2,20180411,2132, -67.0013,-163.3845,     3984,    910.9,1.0340555555555559497,34.722434742666749,2,  34.7225,2,195.44698433445234,2, 195.9919,2,    196.2,2,    114.0,2,    32.55,2,     0.00,2,     2.20,2,    0.139,2,    0.079,2,   0.0500,2,   2262.1,2,  2361.32,2,   7.5901,2,    24.91,     40.2,2,     -999,9,   1.0334,2,     -999,9,     -999,9,     -999,     -999,9,     -999,9,     -999,1,     -999,9,    0.061,1,    4.667,1,    0.132,1,  20.1800,2,     -999,9,20180411,2318, -67.0033,-163.3830,     -999,9,     -999,9,-999          ,9,     -999,9,     -999,9,     -999,     -999,9,     -999,     -999,9,     -999,9,     -999,9,     -999,9,     -999,9,     -999,9,     -999,9,     -999,9,     -999,9,     -999,9,     -999,9,     -999,9,     -999,9,     -999,9
320620180309  ,S04P       ,58      ,  2,18         ,18         ,2,20180411,2132, -67.0013,-163.3845,     3984,   1015.5,0.9842888888888887688,34.720359091563296,2,  34.7188,2,197.98729056638300,2, 197.3922,2,    197.5,2,    115.4,2,    32.59,2,     0.00,2,     2.20,2,     -999,9,     -999,9,     -999,9,   2261.3,2,  2361.26,2,   7.5916,2,    24.92,     42.2,2,     -999,9,   0.9842,2,     -999,9,     -999,9,     -999,     -999,9,     -999,9,     -999,1,     -999,9,    0.061,1,    4.667,1,    0.129,1,     -999,9,     -999,9,20180411,2314, -67.0030,-163.3837,     -999,9,     -999,9,-999          ,9,     -999,9,     -999,9,     -999,     -999,9,     -999,     -999,9,     -999,9,     -999,9,     -999,9,     -999,9,     -999,9,     -999,9,     -999,9,     -999,9,     -999,9,     -999,9,     -999,9,     -999,9,     -999,9
320620180309  ,S04P       ,58      ,  2,17         ,17         ,2,20180411,2132, -67.0013,-163.3845,     3984,   1112.0,0.9221138888888888996,34.717729640134976,2,  34.7157,2,199.80315705401543,2, 199.2998,2,    199.1,2,    117.4,2,    32.60,2,     0.00,2,     2.21,2,    0.142,2,    0.076,2,  -0.0100,2,   2263.1,2,  2362.57,2,   7.5945,2,    24.93,     41.9,2,     -999,9,   0.9207,2,     -999,9,     -999,9,     -999,     -999,9,     -999,9,     -999,1,     -999,9,    0.061,1,    4.668,1,    0.128,1,  20.0900,2,     -999,9,20180411,2310, -67.0029,-163.3839,     -999,9,     -999,9,-999          ,9,     -999,9,     -999,9,     -999,     -999,9,     -999,     -999,9,     -999,9,     -999,9,     -999,9,     -999,9,     -999,9,     -999,9,     -999,9,     -999,9,     -999,9,     -999,9,     -999,9,     -999,9,     -999,9
320620180309  ,S04P       ,58      ,  2,16         ,16         ,2,20180411,2132, -67.0013,-163.3845,     3984,   1214.6,0.8637694444444445896,34.715445090000976,2,  34.7141,2,200.71271338043033,2, 200.3036,2,    200.6,2,    119.4,2,    32.64,2,     0.00,2,     2.22,2,     -999,9,     -999,9,     -999,9,   2262.1,2,  2360.47,2,   7.5932,2,    24.92,     42.0,2,     -999,9,   0.8629,2,     -999,9,     -999,9,     -999,     -999,9,     -999,9,     -999,1,     -999,9,    0.061,1,    4.668,1,    0.128,1,     -999,9,     -999,9,20180411,2306, -67.0033,-163.3831,     -999,9,     -999,9,-999          ,9,     -999,9,     -999,9,     -999,     -999,9,     -999,     -999,9,     -999,9,     -999,9,     -999,9,     -999,9,     -999,9,     -999,9,     -999,9,     -999,9,     -999,9,     -999,9,     -999,9,     -999,9,     -999,9