BOTTLE,20240515CCHHYDRO
EXPOCODE,SECT_ID,STNNBR,CASTNO,SAMPNO,BTLNBR,BTLNBR_FLAG_W,DATE,TIME,LATITUDE,LONGITUDE,DEPTH,CTDPRS,CTDTMP,CTDSAL,CTDSAL_FLAG_W,SALNTY,SALNTY_FLAG_W,CTDOXY,CTDOXY_FLAG_W,CTDOPTOXY,CTDOPTOXY_FLAG_W,OXYGEN,OXYGEN_FLAG_W,SILCAT,SILCAT_FLAG_W,NITRAT,NITRAT_FLAG_W,NITRIT,NITRIT_FLAG_W,PHSPHT,PHSPHT_FLAG_W,CFC-11,CFC-11_FLAG_W,CFC-12,CFC-12_FLAG_W,SF6,SF6_FLAG_W,TCARBN,TCARBN_FLAG_W,ALKALI,ALKALI_FLAG_W,PH_TOT,PH_TOT_FLAG_W,PH_TMP,DOC,DOC_FLAG_W,HELIUM,HELIUM_FLAG_W,REFTMP,REFTMP_FLAG_W,DELC13,DELC13_FLAG_W,DELC14,DELC14_FLAG_W,C14ERR,POC,POC_FLAG_W,TDN,TDN_FLAG_W,TON,TON_FLAG_W,NEON,NEON_FLAG_W,CTDFLUOR,CTDFLUOR_FLAG_W,CTDXMISS,CTDXMISS_FLAG_W,CTDBETA700,CTDBETA700_FLAG_W,N2O,N2O_FLAG_W,ARGON,ARGON_FLAG_W,BTL_DATE,BTL_TIME,BTL_LAT,BTL_LON,KRYPTON,KRYPTON_FLAG_W,XENON,XENON_FLAG_W,HPLC,HPLC_FLAG_W,HE3_HE4_RATIO,HE3_HE4_RATIO_FLAG_W,Nd_143_144_D_EPSILON_BOTTLE,Nd_143_144_D_EPSILON_BOTTLE_FLAG_W,Nd_143_144_D_EPSILON_BOTTLE_ERROR,Nd_143_144_D_RATIO_BOTTLE,Nd_143_144_D_RATIO_BOTTLE_FLAG_W,Nd_143_144_D_RATIO_BOTTLE_ERROR,Nd_D_CONC,Nd_D_CONC_FLAG_W,La_D_CONC_BOTTLE,La_D_CONC_BOTTLE_FLAG_W,Ce_D_CONC_BOTTLE,Ce_D_CONC_BOTTLE_FLAG_W,Pr_D_CONC_BOTTLE,Pr_D_CONC_BOTTLE_FLAG_W,Sm_D_CONC_BOTTLE,Sm_D_CONC_BOTTLE_FLAG_W,Eu_D_CONC_BOTTLE,Eu_D_CONC_BOTTLE_FLAG_W,Gd_D_CONC_BOTTLE,Gd_D_CONC_BOTTLE_FLAG_W,Tb_D_CONC_BOTTLE,Tb_D_CONC_BOTTLE_FLAG_W,Dy_D_CONC_BOTTLE,Dy_D_CONC_BOTTLE_FLAG_W,Ho_D_CONC_BOTTLE,Ho_D_CONC_BOTTLE_FLAG_W,Er_D_CONC_BOTTLE,Er_D_CONC_BOTTLE_FLAG_W,Tm_D_CONC_BOTTLE,Tm_D_CONC_BOTTLE_FLAG_W,Yb_D_CONC_BOTTLE,Yb_D_CONC_BOTTLE_FLAG_W,Lu_D_CONC_BOTTLE,Lu_D_CONC_BOTTLE_FLAG_W
,,,,,,,,,,,METERS,DBAR,ITS-90,PSS-78,,PSS-78,,UMOL/KG,,UMOL/KG,,UMOL/KG,,UMOL/KG,,UMOL/KG,,UMOL/KG,,UMOL/KG,,PMOL/KG,,PMOL/KG,,FMOL/KG,,UMOL/KG,,UMOL/KG,,,,DEG C,UMOL/KG,,NMOL/L,,DEG C,,/MILLE,,/MILLE,,/MILLE,UG/KG,,UMOL/KG,,UMOL/KG,,NMOL/L,,VOLTS,,VOLTS,,VOLTS,,NMOL/KG,,UMOL/L,,,,,,NMOL/L,,NMOL/L,,,,,,10000,,10000,,,,PMOL/KG,,PMOL/L,,PMOL/L,,PMOL/L,,PMOL/L,,PMOL/L,,PMOL/L,,PMOL/L,,PMOL/L,,PMOL/L,,PMOL/L,,PMOL/L,,PMOL/L,,PMOL/L,
320620180309  ,S04P       ,116     ,  1,36         ,36         ,2,20180506,1150, -67.0005, -83.4674,     4233,     12.4,-1.1891819814569446478,33.713326226695493,2,  33.7106,2,344.81080309590283,2, 342.8026,2,    344.0,2,     20.8,2,    24.56,2,     0.21,2,     1.77,2,    6.636,2,    3.294,2,   4.1600,3,   2160.5,6,  2279.26,2,   7.6698,2,    24.96,     45.1,2,     -999,9,  -1.1879,2,     -999,9,     -999,9,     -999,     -999,9,    26.40,2,     -999,1,     -999,9,    0.176,1,    4.569,1,    0.184,1,  15.4800,2,     -999,9,20180506,1358, -67.0004, -83.4641,     -999,9,     -999,9,-999          ,9,     -999,9,     -999,9,     -999,     -999,9,     -999,     -999,9,     -999,9,     -999,9,     -999,9,     -999,9,     -999,9,     -999,9,     -999,9,     -999,9,     -999,9,     -999,9,     -999,9,     -999,9,     -999,9
320620180309  ,S04P       ,116     ,  1,35         ,35         ,2,20180506,1150, -67.0005, -83.4674,     4233,     33.6,-1.1876860091677925446,33.713850277670261,2,  33.7114,2,346.09639104009545,2, 342.8025,2,    343.9,2,     20.8,2,    24.66,2,     0.21,2,     1.77,2,     -999,9,     -999,9,     -999,9,   2160.5,2,  2280.84,2,   7.6681,2,    24.94,     45.6,2,     -999,9,  -1.1879,2,     -999,9,     -999,9,     -999,     -999,9,     -999,9,     -999,1,     -999,9,    0.176,1,    4.575,1,    0.182,1,     -999,9,     -999,9,20180506,1357, -67.0004, -83.4641,     -999,9,     -999,9,-999          ,9,     -999,9,     -999,9,     -999,     -999,9,     -999,     -999,9,     -999,9,     -999,9,     -999,9,     -999,9,     -999,9,     -999,9,     -999,9,     -999,9,     -999,9,     -999,9,     -999,9,     -999,9,     -999,9
320620180309  ,S04P       ,116     ,  1,34         ,34         ,2,20180506,1150, -67.0005, -83.4674,     4233,     59.7,-1.1655224235846495251,33.739035750652988,2,  33.7241,2,342.56830655025766,2, 340.7019,2,    342.9,2,     21.7,2,    24.83,2,     0.21,2,     1.80,2,    6.596,2,    3.351,2,   3.7600,3,   2162.5,2,  2279.11,2,   7.6661,6,    24.96,     47.9,2,     -999,9,  -1.1792,2,     -999,9,     -999,9,     -999,     -999,9,     -999,9,     -999,1,     -999,9,    0.173,1,    4.575,1,    0.178,1,  15.6700,2,     -999,9,20180506,1355, -67.0004, -83.4639,     -999,9,     -999,9,-999          ,9,     -999,9,     -999,9,     -999,     -999,9,     -999,     -999,9,     -999,9,     -999,9,     -999,9,     -999,9,     -999,9,     -999,9,     -999,9,     -999,9,     -999,9,     -999,9,     -999,9,     -999,9,     -999,9
320620180309  ,S04P       ,116     ,  1,33         ,33         ,2,20180506,1150, -67.0005, -83.4674,     4233,     85.1,-0.6018562201692346791,33.991517740411410,2,  33.9927,2,315.51068529384264,3, 314.5027,2,    311.8,2,     36.7,2,    30.09,2,     0.05,2,     2.09,2,     -999,9,     -999,9,     -999,9,   2189.3,2,  2290.49,2,   7.6183,2,    24.96,     44.4,2,     -999,9,  -0.6049,2,     -999,9,     -999,9,     -999,     -999,9,     -999,9,     -999,1,     -999,9,    0.085,1,    4.615,1,    0.153,1,     -999,9,     -999,9,20180506,1353, -67.0004, -83.4640,     -999,9,     -999,9,-999          ,9,     -999,9,     -999,9,     -999,     -999,9,     -999,     -999,9,     -999,9,     -999,9,     -999,9,     -999,9,     -999,9,     -999,9,     -999,9,     -999,9,     -999,9,     -999,9,     -999,9,     -999,9,     -999,9
320620180309  ,S04P       ,116     ,  1,32         ,32         ,2,20180506,1150, -67.0005, -83.4674,     4233,    110.6,0.0125127357152611095,34.074362466752191,2,  34.0729,2,298.67646005752556,3, 294.3060,2,    291.8,2,     42.1,2,    31.10,2,     0.02,2,     2.17,2,    4.962,2,    2.565,2,   2.7400,2,   2198.4,2,  2295.76,2,   7.6027,2,    24.96,     42.2,2,     -999,9,   0.0129,2,     -999,9,     -999,9,     -999,     -999,9,     -999,9,     -999,1,     -999,9,    0.071,1,    4.624,1,    0.146,1,  17.9400,2,     -999,9,20180506,1351, -67.0004, -83.4641,     -999,9,     -999,9,-999          ,9,     -999,9,     -999,9,     -999,     -999,9,     -999,     -999,9,     -999,9,     -999,9,     -999,9,     -999,9,     -999,9,     -999,9,     -999,9,     -999,9,     -999,9,     -999,9,     -999,9,     -999,9,     -999,9
320620180309  ,S04P       ,116     ,  1,31         ,31         ,2,20180506,1150, -67.0005, -83.4674,     4233,    134.6,0.6556424805476674944,34.159535834634816,2,  34.1620,2,275.56227465940481,3, 269.9018,3,    265.9,2,     47.9,2,    32.36,2,     0.00,2,     2.25,2,     -999,9,     -999,9,     -999,9,   2209.6,2,  2303.30,2,   7.5848,2,    24.97,     41.6,2,     -999,9,   0.6754,2,     -999,9,     -999,9,     -999,     -999,9,     -999,9,     -999,1,     -999,9,    0.066,1,    4.612,1,    0.144,1,     -999,9,     -999,9,20180506,1349, -67.0004, -83.4639,     -999,9,     -999,9,-999          ,9,     -999,9,     -999,9,     -999,     -999,9,     -999,     -999,9,     -999,9,     -999,9,     -999,9,     -999,9,     -999,9,     -999,9,     -999,9,     -999,9,     -999,9,     -999,9,     -999,9,     -999,9,     -999,9
320620180309  ,S04P       ,116     ,  1,30         ,30         ,2,20180506,1150, -67.0005, -83.4674,     4233,    165.7,1.3385319117706986347,34.265484579748495,2,  34.2671,2,244.05517646816000,3, 237.8981,2,    236.8,2,     54.9,2,    33.60,2,     0.00,2,     2.31,2,    3.230,2,    1.700,2,   1.3700,2,   2223.8,2,  2308.94,2,   7.5651,2,    25.02,     39.8,2,     -999,9,   1.3425,2,     -999,9,     -999,9,     -999,     -999,9,     -999,9,     -999,1,     -999,9,    0.063,1,    4.628,1,    0.143,1,  20.7300,2,     -999,9,20180506,1348, -67.0003, -83.4638,     -999,9,     -999,9,-999          ,9,     -999,9,     -999,9,     -999,     -999,9,     -999,     -999,9,     -999,9,     -999,9,     -999,9,     -999,9,     -999,9,     -999,9,     -999,9,     -999,9,     -999,9,     -999,9,     -999,9,     -999,9,     -999,9
320620180309  ,S04P       ,116     ,  1,29         ,29         ,2,20180506,1150, -67.0005, -83.4674,     4233,    216.3,1.8631917067066663396,34.366307040970675,2,  34.3680,2,211.54985848396481,3, 206.7939,2,    208.0,2,     62.1,2,    34.47,2,     0.00,2,     2.36,2,     -999,9,     -999,9,     -999,9,   2239.3,2,  2317.83,2,   7.5502,2,    24.97,     40.9,2,     -999,9,   1.8665,2,     -999,9,     -999,9,     -999,     -999,9,    36.30,2,     -999,1,     -999,9,    0.061,1,    4.633,1,    0.145,1,     -999,9,     -999,9,20180506,1345, -67.0004, -83.4644,     -999,9,     -999,9,-999          ,9,     -999,9,     -999,9,     -999,     -999,9,     -999,     -999,9,     -999,9,     -999,9,     -999,9,     -999,9,     -999,9,     -999,9,     -999,9,     -999,9,     -999,9,     -999,9,     -999,9,     -999,9,     -999,9
320620180309  ,S04P       ,116     ,  1,28         ,28         ,2,20180506,1150, -67.0005, -83.4674,     4233,    265.2,2.0388066071733401685,34.441577532551165,2,  34.4423,2,190.11115945727482,2, 188.4987,2,    189.7,2,     68.4,2,    34.95,2,     0.00,2,     2.40,2,    1.658,6,    0.863,6,   0.6200,2,   2247.9,2,  2325.23,2,   7.5405,2,    24.96,     42.7,2,     -999,9,   2.0452,2,     -999,9,     -999,9,     -999,     -999,9,    36.50,2,     -999,1,     -999,9,    0.061,1,    4.637,1,    0.140,1,  23.9800,6,     -999,9,20180506,1343, -67.0005, -83.4649,     -999,9,     -999,9,-999          ,9,     -999,9,     -999,9,     -999,     -999,9,     -999,     -999,9,     -999,9,     -999,9,     -999,9,     -999,9,     -999,9,     -999,9,     -999,9,     -999,9,     -999,9,     -999,9,     -999,9,     -999,9,     -999,9
320620180309  ,S04P       ,116     ,  1,27         ,27         ,2,20180506,1150, -67.0005, -83.4674,     4233,    316.9,2.2039774500785709321,34.502181636445208,2,  34.5013,2,181.26408185233399,3, 181.7027,2,    179.2,2,     72.4,2,    34.95,2,     0.00,2,     2.40,2,     -999,9,     -999,9,     -999,9,   2253.1,2,  2332.34,2,   7.5403,2,    24.96,     41.6,2,     -999,9,   2.2040,2,     -999,9,     -999,9,     -999,     -999,9,     -999,9,     -999,1,     -999,9,    0.061,1,    4.639,1,    0.138,1,     -999,9,     -999,9,20180506,1341, -67.0005, -83.4650,     -999,9,     -999,9,-999          ,9,     -999,9,     -999,9,     -999,     -999,9,     -999,     -999,9,     -999,9,     -999,9,     -999,9,     -999,9,     -999,9,     -999,9,     -999,9,     -999,9,     -999,9,     -999,9,     -999,9,     -999,9,     -999,9
320620180309  ,S04P       ,116     ,  1,26         ,38         ,2,20180506,1150, -67.0005, -83.4674,     4233,    368.2,2.2289703105481901702,34.543941156588353,2,  34.5428,2,175.19174857375384,2, 176.5007,2,    175.9,2,     75.2,2,    34.78,2,     0.00,2,     2.38,2,    0.948,2,    0.508,2,   0.3400,2,   2252.4,2,  2332.85,2,   7.5404,2,    24.99,     -999,5,     -999,9,   2.2288,2,     -999,9,     -999,9,     -999,     -999,9,     -999,9,     -999,1,     -999,9,    0.061,1,    4.642,1,    0.139,1,  23.1000,2,     -999,9,20180506,1339, -67.0004, -83.4647,     -999,9,     -999,9,-999          ,9,     -999,9,     -999,9,     -999,     -999,9,     -999,     -999,9,     -999,9,     -999,9,     -999,9,     -999,9,     -999,9,     -999,9,     -999,9,     -999,9,     -999,9,     -999,9,     -999,9,     -999,9,     -999,9
320620180309  ,S04P       ,116     ,  1,25         ,25         ,2,20180506,1150, -67.0005, -83.4674,     4233,    418.7,2.2193934191104891518,34.573432596302148,2,  34.5734,2,173.51868308870294,2, 175.2009,2,    173.8,2,     77.1,2,    34.40,2,     0.00,2,     2.35,2,    0.774,2,    0.396,2,   0.0300,2,   2256.6,2,  2336.08,2,   7.5459,2,    24.98,     41.7,2,     -999,9,   2.2201,2,     -999,9,     -999,9,     -999,     -999,9,     -999,9,     -999,1,     -999,9,    0.061,1,    4.643,1,    0.136,1,  22.9500,2,     -999,9,20180506,1337, -67.0004, -83.4643,     -999,9,     -999,9,-999          ,9,     -999,9,     -999,9,     -999,     -999,9,     -999,     -999,9,     -999,9,     -999,9,     -999,9,     -999,9,     -999,9,     -999,9,     -999,9,     -999,9,     -999,9,     -999,9,     -999,9,     -999,9,     -999,9
320620180309  ,S04P       ,116     ,  1,24         ,24         ,2,20180506,1150, -67.0005, -83.4674,     4233,    468.6,2.2110107254504565155,34.598409592260865,2,  34.5977,2,173.41852309643846,2, 174.6968,2,    173.2,2,     78.9,2,    34.20,2,     0.00,2,     2.35,2,    0.657,2,    0.351,2,   0.3200,3,   2256.6,6,  2338.35,2,   7.5484,2,    24.98,     43.7,2,     -999,9,   2.2113,2,     -999,9,     -999,9,     -999,     -999,9,     -999,9,     -999,1,     -999,9,    0.061,1,    4.644,1,    0.134,1,  23.3100,2,     -999,9,20180506,1334, -67.0003, -83.4639,     -999,9,     -999,9,-999          ,9,     -999,9,     -999,9,     -999,     -999,9,     -999,     -999,9,     -999,9,     -999,9,     -999,9,     -999,9,     -999,9,     -999,9,     -999,9,     -999,9,     -999,9,     -999,9,     -999,9,     -999,9,     -999,9
320620180309  ,S04P       ,116     ,  1,23         ,23         ,2,20180506,1150, -67.0005, -83.4674,     4233,    540.6,2.1787290041433755583,34.630717565273564,2,  34.6307,2,173.68978756706295,2, 175.0012,2,    173.8,2,     80.9,2,    33.70,2,     0.00,2,     2.33,2,     -999,9,     -999,9,     -999,9,   2258.1,2,  2344.14,2,   7.5566,2,    25.01,     42.5,2,     -999,9,   2.1797,2,     -999,9,     -999,9,     -999,     -999,9,     -999,9,     -999,1,     -999,9,    0.062,1,    4.644,1,    0.133,1,     -999,9,     -999,9,20180506,1332, -67.0002, -83.4635,     -999,9,     -999,9,-999          ,9,     -999,9,     -999,9,     -999,     -999,9,     -999,     -999,9,     -999,9,     -999,9,     -999,9,     -999,9,     -999,9,     -999,9,     -999,9,     -999,9,     -999,9,     -999,9,     -999,9,     -999,9,     -999,9
320620180309  ,S04P       ,116     ,  1,22         ,37         ,2,20180506,1150, -67.0005, -83.4674,     4233,    640.3,2.1357183700347937005,34.665938026657606,2,  34.6672,2,175.58415688321978,2, 176.3976,2,    175.5,2,     83.3,2,    33.06,2,     0.00,2,     2.27,2,    0.363,2,    0.199,2,   0.0700,2,   2258.4,2,  2344.73,2,   7.5654,2,    24.97,     43.2,2,     -999,9,   2.1353,2,     -999,9,     -999,9,     -999,     -999,9,     -999,9,     -999,1,     -999,9,    0.061,1,    4.646,1,    0.132,1,  21.5500,2,     -999,9,20180506,1329, -67.0003, -83.4639,     -999,9,     -999,9,-999          ,9,     -999,9,     -999,9,     -999,     -999,9,     -999,     -999,9,     -999,9,     -999,9,     -999,9,     -999,9,     -999,9,     -999,9,     -999,9,     -999,9,     -999,9,     -999,9,     -999,9,     -999,9,     -999,9
320620180309  ,S04P       ,116     ,  1,21         ,21         ,2,20180506,1150, -67.0005, -83.4674,     4233,    743.4,2.0592633097357988525,34.691111692287905,2,  34.6903,2,178.26833249521258,2, 178.7018,2,    178.7,2,     85.6,2,    32.59,2,     0.00,2,     2.25,2,    0.291,2,    0.145,2,   0.1100,2,   2255.3,2,  2347.88,2,   7.5738,2,    24.99,     44.0,2,     -999,9,   2.0595,2,     -999,9,     -999,9,     -999,     -999,9,     -999,9,     -999,1,     -999,9,    0.061,1,    4.646,1,    0.132,1,  20.7600,2,     -999,9,20180506,1326, -67.0003, -83.4641,     -999,9,     -999,9,-999          ,9,     -999,9,     -999,9,     -999,     -999,9,     -999,     -999,9,     -999,9,     -999,9,     -999,9,     -999,9,     -999,9,     -999,9,     -999,9,     -999,9,     -999,9,     -999,9,     -999,9,     -999,9,     -999,9
320620180309  ,S04P       ,116     ,  1,20         ,20         ,2,20180506,1150, -67.0005, -83.4674,     4233,    844.5,1.9846240192841833050,34.708270779831970,2,  34.7086,2,182.16265168121740,2, 181.4982,2,    181.6,2,     87.8,2,    31.71,2,     0.00,2,     2.20,2,    0.233,2,    0.131,2,   0.0000,2,   2256.7,2,  2349.78,2,   7.5810,2,    24.96,     44.5,2,     -999,9,   1.9852,2,     -999,9,     -999,9,     -999,     -999,9,     -999,9,     -999,1,     -999,9,    0.061,1,    4.646,1,    0.129,1,  20.4200,2,     -999,9,20180506,1322, -67.0003, -83.4645,     -999,9,     -999,9,-999          ,9,     -999,9,     -999,9,     -999,     -999,9,     -999,     -999,9,     -999,9,     -999,9,     -999,9,     -999,9,     -999,9,     -999,9,     -999,9,     -999,9,     -999,9,     -999,9,     -999,9,     -999,9,     -999,9
320620180309  ,S04P       ,116     ,  1,19         ,19         ,2,20180506,1150, -67.0005, -83.4674,     4233,    945.4,1.9028813584953816473,34.719041997358545,2,  34.7196,2,184.74304972117238,2, 183.9963,2,    184.7,2,     89.6,2,    31.74,2,     0.00,2,     2.18,2,     -999,9,     -999,9,     -999,9,   2255.1,2,  2350.82,2,   7.5857,2,    25.01,     40.4,2,     -999,9,   1.9032,2,     -999,9,     -999,9,     -999,     -999,9,     -999,9,     -999,1,     -999,9,    0.062,1,    4.646,1,    0.138,1,     -999,9,     -999,9,20180506,1319, -67.0003, -83.4643,     -999,9,     -999,9,-999          ,9,     -999,9,     -999,9,     -999,     -999,9,     -999,     -999,9,     -999,9,     -999,9,     -999,9,     -999,9,     -999,9,     -999,9,     -999,9,     -999,9,     -999,9,     -999,9,     -999,9,     -999,9,     -999,9
320620180309  ,S04P       ,116     ,  1,18         ,18         ,2,20180506,1150, -67.0005, -83.4674,     4233,   1046.5,1.8204659544529711024,34.725171779121908,2,  34.7259,2,187.25468830311198,2, 186.3023,2,    186.9,2,     92.2,2,    31.56,2,     0.00,2,     2.17,2,    0.187,2,    0.098,2,   0.0100,3,   2255.8,2,  2353.20,2,   7.5907,6,    24.97,     40.3,2,     -999,9,   1.8204,2,     -999,9,     -999,9,     -999,     -999,9,     -999,9,     -999,1,     -999,9,    0.061,1,    4.647,1,    0.129,1,  20.1900,2,     -999,9,20180506,1316, -67.0003, -83.4641,     -999,9,     -999,9,-999          ,9,     -999,9,     -999,9,     -999,     -999,9,     -999,     -999,9,     -999,9,     -999,9,     -999,9,     -999,9,     -999,9,     -999,9,     -999,9,     -999,9,     -999,9,     -999,9,     -999,9,     -999,9,     -999,9
320620180309  ,S04P       ,116     ,  1,17         ,17         ,2,20180506,1150, -67.0005, -83.4674,     4233,   1149.5,1.7422585823744236588,34.728946270401472,2,  34.7296,2,189.43845767452726,2, 188.1011,2,    189.3,2,     94.2,2,    31.50,2,     0.00,2,     2.18,2,    0.176,2,    0.097,2,   0.0300,3,   2256.6,2,  2354.90,2,   7.5946,2,    25.05,     43.1,2,     -999,9,   1.7423,2,     -999,9,     -999,9,     -999,     -999,9,     -999,9,     -999,1,     -999,9,    0.061,1,    4.646,1,    0.131,1,  19.4600,2,     -999,9,20180506,1313, -67.0003, -83.4642,     -999,9,     -999,9,-999          ,9,     -999,9,     -999,9,     -999,     -999,9,     -999,     -999,9,     -999,9,     -999,9,     -999,9,     -999,9,     -999,9,     -999,9,     -999,9,     -999,9,     -999,9,     -999,9,     -999,9,     -999,9,     -999,9
320620180309  ,S04P       ,116     ,  1,16         ,16         ,2,20180506,1150, -67.0005, -83.4674,     4233,   1250.7,1.6475365074010430710,34.731208916916998,2,  34.7323,2,190.67302314284549,2, 190.4012,2,    191.2,2,     96.4,2,    31.46,2,     0.00,2,     2.17,2,    0.170,2,    0.091,2,   0.1000,3,   2256.2,2,  2356.21,2,   7.5970,2,    24.95,     40.7,2,     -999,9,   1.6475,2,     -999,9,     -999,9,     -999,     -999,9,     -999,9,     -999,1,     -999,9,    0.061,1,    4.646,1,    0.129,1,  20.2800,2,     -999,9,20180506,1310, -67.0004, -83.4647,     -999,9,     -999,9,-999          ,9,     -999,9,     -999,9,     -999,     -999,9,     -999,     -999,9,     -999,9,     -999,9,     -999,9,     -999,9,     -999,9,     -999,9,     -999,9,     -999,9,     -999,9,     -999,9,     -999,9,     -999,9,     -999,9