BOTTLE,20240515CCHHYDRO
EXPOCODE,SECT_ID,STNNBR,CASTNO,SAMPNO,BTLNBR,BTLNBR_FLAG_W,DATE,TIME,LATITUDE,LONGITUDE,DEPTH,CTDPRS,CTDTMP,CTDSAL,CTDSAL_FLAG_W,SALNTY,SALNTY_FLAG_W,CTDOXY,CTDOXY_FLAG_W,CTDOPTOXY,CTDOPTOXY_FLAG_W,OXYGEN,OXYGEN_FLAG_W,SILCAT,SILCAT_FLAG_W,NITRAT,NITRAT_FLAG_W,NITRIT,NITRIT_FLAG_W,PHSPHT,PHSPHT_FLAG_W,CFC-11,CFC-11_FLAG_W,CFC-12,CFC-12_FLAG_W,SF6,SF6_FLAG_W,TCARBN,TCARBN_FLAG_W,ALKALI,ALKALI_FLAG_W,PH_TOT,PH_TOT_FLAG_W,PH_TMP,DOC,DOC_FLAG_W,HELIUM,HELIUM_FLAG_W,REFTMP,REFTMP_FLAG_W,DELC13,DELC13_FLAG_W,DELC14,DELC14_FLAG_W,C14ERR,POC,POC_FLAG_W,TDN,TDN_FLAG_W,TON,TON_FLAG_W,NEON,NEON_FLAG_W,CTDFLUOR,CTDFLUOR_FLAG_W,CTDXMISS,CTDXMISS_FLAG_W,CTDBETA700,CTDBETA700_FLAG_W,N2O,N2O_FLAG_W,ARGON,ARGON_FLAG_W,BTL_DATE,BTL_TIME,BTL_LAT,BTL_LON,KRYPTON,KRYPTON_FLAG_W,XENON,XENON_FLAG_W,HPLC,HPLC_FLAG_W,HE3_HE4_RATIO,HE3_HE4_RATIO_FLAG_W,Nd_143_144_D_EPSILON_BOTTLE,Nd_143_144_D_EPSILON_BOTTLE_FLAG_W,Nd_143_144_D_EPSILON_BOTTLE_ERROR,Nd_143_144_D_RATIO_BOTTLE,Nd_143_144_D_RATIO_BOTTLE_FLAG_W,Nd_143_144_D_RATIO_BOTTLE_ERROR,Nd_D_CONC,Nd_D_CONC_FLAG_W,La_D_CONC_BOTTLE,La_D_CONC_BOTTLE_FLAG_W,Ce_D_CONC_BOTTLE,Ce_D_CONC_BOTTLE_FLAG_W,Pr_D_CONC_BOTTLE,Pr_D_CONC_BOTTLE_FLAG_W,Sm_D_CONC_BOTTLE,Sm_D_CONC_BOTTLE_FLAG_W,Eu_D_CONC_BOTTLE,Eu_D_CONC_BOTTLE_FLAG_W,Gd_D_CONC_BOTTLE,Gd_D_CONC_BOTTLE_FLAG_W,Tb_D_CONC_BOTTLE,Tb_D_CONC_BOTTLE_FLAG_W,Dy_D_CONC_BOTTLE,Dy_D_CONC_BOTTLE_FLAG_W,Ho_D_CONC_BOTTLE,Ho_D_CONC_BOTTLE_FLAG_W,Er_D_CONC_BOTTLE,Er_D_CONC_BOTTLE_FLAG_W,Tm_D_CONC_BOTTLE,Tm_D_CONC_BOTTLE_FLAG_W,Yb_D_CONC_BOTTLE,Yb_D_CONC_BOTTLE_FLAG_W,Lu_D_CONC_BOTTLE,Lu_D_CONC_BOTTLE_FLAG_W
,,,,,,,,,,,METERS,DBAR,ITS-90,PSS-78,,PSS-78,,UMOL/KG,,UMOL/KG,,UMOL/KG,,UMOL/KG,,UMOL/KG,,UMOL/KG,,UMOL/KG,,PMOL/KG,,PMOL/KG,,FMOL/KG,,UMOL/KG,,UMOL/KG,,,,DEG C,UMOL/KG,,NMOL/L,,DEG C,,/MILLE,,/MILLE,,/MILLE,UG/KG,,UMOL/KG,,UMOL/KG,,NMOL/L,,VOLTS,,VOLTS,,VOLTS,,NMOL/KG,,UMOL/L,,,,,,NMOL/L,,NMOL/L,,,,,,10000,,10000,,,,PMOL/KG,,PMOL/L,,PMOL/L,,PMOL/L,,PMOL/L,,PMOL/L,,PMOL/L,,PMOL/L,,PMOL/L,,PMOL/L,,PMOL/L,,PMOL/L,,PMOL/L,,PMOL/L,
320620180309  ,S04P       ,105     ,  1,15         ,15         ,2,20180502,0008, -67.4996,-101.3306,     4633,   1416.5,1.5153860761739095242,34.731291822549160,2,  34.7316,2,193.03908298713290,2, 193.0981,2,    193.6,2,    100.1,2,    31.76,2,     0.00,2,     2.18,2,    0.164,2,    0.091,2,   0.0000,2,   2258.2,2,  2356.92,2,   7.6014,2,    24.94,     43.5,2,     -999,1,   1.5149,2,0.65000000,2, -156.250,2,    0.002,     -999,9,     -999,9,     -999,1,     -999,1,    0.061,1,    4.646,1,    0.129,1,  19.4800,2,     -999,1,20180502,0128, -67.4980,-101.3352,     -999,1,     -999,1,-999          ,9,     -999,1,     -999,9,     -999,     -999,9,     -999,     -999,9,     -999,1,     -999,1,     -999,1,     -999,1,     -999,1,     -999,1,     -999,1,     -999,1,     -999,1,     -999,1,     -999,1,     -999,1,     -999,1
320620180309  ,S04P       ,105     ,  1,14         ,14         ,2,20180502,0008, -67.4996,-101.3306,     4633,   1515.1,1.4444038757899495540,34.730070836875264,2,  34.7304,2,194.19802969414573,2, 194.4027,2,    194.7,2,    102.4,2,    31.85,2,     0.00,2,     2.18,2,    0.151,2,    0.085,2,   0.1000,2,   2257.8,2,  2356.59,2,   7.5967,2,    24.96,     42.9,2,     -999,9,   1.4445,2,0.68000000,2, -164.160,2,    0.003,     -999,9,     -999,9,     -999,1,     -999,9,    0.061,1,    4.646,1,    0.130,1,  19.9400,2,     -999,9,20180502,0125, -67.4980,-101.3354,     -999,9,     -999,9,-999          ,9,     -999,9,     -999,9,     -999,     -999,9,     -999,     -999,9,     -999,9,     -999,9,     -999,9,     -999,9,     -999,9,     -999,9,     -999,9,     -999,9,     -999,9,     -999,9,     -999,9,     -999,9,     -999,9
320620180309  ,S04P       ,105     ,  1,13         ,13         ,2,20180502,0008, -67.4996,-101.3306,     4633,   1620.7,1.3636358383609328282,34.728399262971976,2,  34.7288,2,195.43177388186382,2, 195.1996,2,    195.7,2,    104.9,2,    31.91,2,     0.00,2,     2.19,2,     -999,9,     -999,9,     -999,9,   2258.0,2,  2358.87,2,   7.6016,2,    24.95,     42.6,2,     -999,9,   1.3638,2,0.68000000,2, -158.240,2,    0.003,     -999,9,     -999,9,     -999,1,     -999,9,    0.061,1,    4.646,1,    0.129,1,     -999,9,     -999,9,20180502,0122, -67.4978,-101.3359,     -999,9,     -999,9,-999          ,9,     -999,9,     -999,9,     -999,     -999,9,     -999,     -999,9,     -999,1,     -999,1,     -999,1,     -999,1,     -999,1,     -999,1,     -999,1,     -999,1,     -999,1,     -999,1,     -999,1,     -999,1,     -999,1
320620180309  ,S04P       ,105     ,  1,12         ,12         ,2,20180502,0008, -67.4996,-101.3306,     4633,   1824.5,1.2428471840362578238,34.724800965144645,2,  34.7253,2,197.51788023305281,2, 197.3014,2,    197.8,2,    108.9,2,    32.03,2,     0.00,2,     2.20,2,    0.133,2,    0.083,2,   0.0500,2,   2263.3,2,  2361.08,2,   7.6014,2,    24.96,     40.2,2,     -999,1,   1.2428,2,0.62000000,2, -156.060,2,    0.002,     -999,9,     -999,9,     -999,1,     -999,1,    0.061,1,    4.647,1,    0.130,1,  19.7800,2,     -999,1,20180502,0117, -67.4978,-101.3362,     -999,1,     -999,1,-999          ,9,     -999,1,     -999,9,     -999,     -999,9,     -999,     -999,9,     -999,9,     -999,9,     -999,9,     -999,9,     -999,9,     -999,9,     -999,9,     -999,9,     -999,9,     -999,9,     -999,9,     -999,9,     -999,9
320620180309  ,S04P       ,105     ,  1,11         ,11         ,2,20180502,0008, -67.4996,-101.3306,     4633,   2028.7,1.1161868472888523129,34.720365947410478,2,  34.7211,2,199.92084224985129,2, 199.8029,2,    199.7,2,    113.5,2,    32.14,2,     0.00,2,     2.21,2,    0.127,2,    0.084,2,   0.0400,2,   2263.9,2,  2359.31,2,   7.6019,2,    24.95,     40.2,2,     -999,9,   1.1162,2,0.63000000,2, -158.600,2,    0.002,     -999,9,     -999,9,     -999,1,     -999,9,    0.060,1,    4.646,1,    0.150,1,  19.4900,2,     -999,9,20180502,0113, -67.4980,-101.3354,     -999,9,     -999,9,-999          ,9,     -999,9,     -999,9,     -999,     -999,9,     -999,     -999,9,     -999,1,     -999,1,     -999,1,     -999,1,     -999,1,     -999,1,     -999,1,     -999,1,     -999,1,     -999,1,     -999,1,     -999,1,     -999,1
320620180309  ,S04P       ,105     ,  1,10         ,10         ,2,20180502,0008, -67.4996,-101.3306,     4633,   2285.4,0.9915340404352744885,34.715668329220470,2,  34.7166,2,202.27355109359837,2, 202.2034,2,    202.0,2,    118.0,2,    32.25,2,     0.00,2,     2.22,2,     -999,9,     -999,9,     -999,9,   2261.8,6,  2359.05,2,   7.5985,2,    24.95,     40.8,2,     -999,9,   0.9915,2,0.63000000,2, -165.450,2,    0.003,     -999,9,     -999,9,     -999,1,     -999,9,    0.061,1,    4.647,1,    0.126,1,     -999,9,     -999,9,20180502,0107, -67.4979,-101.3357,     -999,9,     -999,9,-999          ,9,     -999,9,     -999,9,     -999,     -999,9,     -999,     -999,9,     -999,9,     -999,9,     -999,9,     -999,9,     -999,9,     -999,9,     -999,9,     -999,9,     -999,9,     -999,9,     -999,9,     -999,9,     -999,9
320620180309  ,S04P       ,105     ,  1,9          ,9          ,2,20180502,0008, -67.4996,-101.3306,     4633,   2538.7,0.8974385245565954516,34.711816748423239,2,  34.7127,2,204.05878797749054,2, 204.0988,2,    204.0,2,    121.4,2,    32.39,2,     0.00,2,     2.22,2,    0.153,2,    0.082,2,   0.0600,2,   2264.5,2,  2358.24,2,   7.5990,2,    24.96,     42.4,2,     -999,1,   0.8975,2,0.71000000,2, -158.810,2,    0.002,     -999,9,     -999,9,     -999,1,     -999,1,    0.061,1,    4.647,1,    0.126,1,  19.3800,2,     -999,1,20180502,0101, -67.4979,-101.3361,     -999,1,     -999,1,-999          ,9,     -999,1,     -999,9,     -999,     -999,9,     -999,     -999,9,     -999,1,     -999,1,     -999,1,     -999,1,     -999,1,     -999,1,     -999,1,     -999,1,     -999,1,     -999,1,     -999,1,     -999,1,     -999,1
320620180309  ,S04P       ,105     ,  1,8          ,8          ,2,20180502,0008, -67.4996,-101.3306,     4633,   2793.8,0.8059312724946993134,34.708153591093456,2,  34.7090,2,205.70188735872566,2, 205.6949,2,    205.7,2,    124.6,2,    32.51,2,     0.00,2,     2.24,2,    0.173,2,    0.100,2,   0.0000,2,   2265.6,2,  2361.90,2,   7.5987,6,    24.94,     41.1,2,     -999,9,   0.8057,2,0.72000000,2, -165.740,2,    0.002,     -999,9,     -999,9,     -999,1,     -999,9,    0.061,1,    4.647,1,    0.125,1,  19.0400,2,     -999,9,20180502,0055, -67.4983,-101.3346,     -999,9,     -999,9,-999          ,9,     -999,9,     -999,9,     -999,     -999,9,     -999,     -999,9,     -999,9,     -999,9,     -999,9,     -999,9,     -999,9,     -999,9,     -999,9,     -999,9,     -999,9,     -999,9,     -999,9,     -999,9,     -999,9
320620180309  ,S04P       ,105     ,  1,7          ,7          ,2,20180502,0008, -67.4996,-101.3306,     4633,   3053.2,0.7105678445357709316,34.705375854528249,2,  34.7060,2,207.64855344104845,2, 207.7028,2,    207.8,2,    127.4,2,    32.62,2,     0.00,2,     2.23,2,     -999,9,     -999,9,     -999,9,   2264.1,2,  2360.91,2,   7.5977,2,    24.95,     43.5,2,     -999,1,   0.7105,2,0.70000000,2, -168.000,2,    0.002,     -999,9,     -999,9,     -999,1,     -999,1,    0.061,1,    4.646,1,    0.125,1,     -999,9,     -999,1,20180502,0050, -67.4982,-101.3346,     -999,1,     -999,1,-999          ,9,     -999,1,     -999,9,     -999,     -999,9,     -999,     -999,9,     -999,1,     -999,1,     -999,1,     -999,1,     -999,1,     -999,1,     -999,1,     -999,1,     -999,1,     -999,1,     -999,1,     -999,1,     -999,1
320620180309  ,S04P       ,105     ,  1,6          ,6          ,2,20180502,0008, -67.4996,-101.3306,     4633,   3359.8,0.5870823471014332551,34.702696488703694,2,  34.7033,2,210.07797822142138,2, 210.1016,2,    210.1,2,    130.2,2,    32.73,2,     0.00,2,     2.23,2,    0.241,2,    0.129,2,   0.0700,2,   2263.4,2,  2361.31,2,   7.5978,2,    24.95,     42.6,2,     -999,9,   0.5871,2,0.79000000,2, -162.310,2,    0.002,     -999,9,     -999,9,     -999,1,     -999,9,    0.061,1,    4.646,1,    0.124,1,  18.9600,2,     -999,9,20180502,0043, -67.4984,-101.3340,     -999,9,     -999,9,-999          ,9,     -999,9,     -999,9,     -999,     -999,9,     -999,     -999,9,     -999,9,     -999,9,     -999,9,     -999,9,     -999,9,     -999,9,     -999,9,     -999,9,     -999,9,     -999,9,     -999,9,     -999,9,     -999,9
320620180309  ,S04P       ,105     ,  1,5          ,5          ,2,20180502,0008, -67.4996,-101.3306,     4633,   3667.4,0.4915028323664275556,34.701413363676402,2,  34.7019,2,212.16225588148515,2, 212.2979,2,    212.3,3,    133.6,2,    32.80,2,     0.00,2,     2.24,2,    0.268,2,    0.143,2,   0.0300,2,   2265.3,2,  2359.86,2,   7.5974,2,    24.94,     -999,5,     -999,1,   0.4915,2,0.74000000,2, -166.800,2,    0.002,     -999,9,     -999,9,     -999,1,     -999,1,    0.061,1,    4.646,1,    0.125,1,  18.8400,2,     -999,1,20180502,0037, -67.4989,-101.3325,     -999,1,     -999,1,-999          ,9,     -999,1,     -999,9,     -999,     -999,9,     -999,     -999,9,     -999,1,     -999,1,     -999,1,     -999,1,     -999,1,     -999,1,     -999,1,     -999,1,     -999,1,     -999,1,     -999,1,     -999,1,     -999,1
320620180309  ,S04P       ,105     ,  1,4          ,4          ,2,20180502,0008, -67.4996,-101.3306,     4633,   3975.7,0.4388153675418343114,34.700511582855079,2,  34.7005,2,213.58302206501679,2, 213.8040,2,    213.4,2,    137.0,2,    32.85,2,     0.00,2,     2.24,2,    0.295,2,    0.156,2,   0.0600,2,   2265.5,2,  2362.83,2,   7.5971,2,    24.92,     38.3,2,     -999,9,   0.4389,2,0.76000000,6, -163.650,6,    0.002,     -999,9,     -999,9,     -999,1,     -999,9,    0.060,1,    4.645,1,    0.124,1,  18.8100,2,     -999,9,20180502,0030, -67.4988,-101.3330,     -999,9,     -999,9,-999          ,9,     -999,9,     -999,9,     -999,     -999,9,     -999,     -999,9,     -999,9,     -999,9,     -999,9,     -999,9,     -999,9,     -999,9,     -999,9,     -999,9,     -999,9,     -999,9,     -999,9,     -999,9,     -999,9
320620180309  ,S04P       ,105     ,  1,3          ,3          ,2,20180502,0008, -67.4996,-101.3306,     4633,   4284.3,0.4153421485190798568,34.699870580456619,2,  34.6996,2,214.47769671378558,2, 214.8010,2,    214.9,2,    140.0,2,    32.91,2,     0.00,2,     2.24,2,    0.336,2,    0.171,2,   0.0300,2,   2266.6,2,  2362.35,2,   7.5959,2,    24.96,     39.6,2,     -999,1,   0.4153,2,0.78000000,2, -162.760,2,    0.002,     -999,9,     -999,9,     -999,1,     -999,1,    0.061,1,    4.644,1,    0.129,1,  18.6200,2,     -999,1,20180502,0022, -67.4987,-101.3332,     -999,1,     -999,1,-999          ,9,     -999,1,     -999,9,     -999,     -999,9,     -999,     -999,9,     -999,1,     -999,1,     -999,1,     -999,1,     -999,1,     -999,1,     -999,1,     -999,1,     -999,1,     -999,1,     -999,1,     -999,1,     -999,1
320620180309  ,S04P       ,105     ,  1,2          ,2          ,2,20180502,0008, -67.4996,-101.3306,     4633,   4541.7,0.4051688217138180170,34.699214861344025,2,  34.6996,2,215.15962972026028,2, 214.7990,2,    215.3,2,    143.3,2,    33.01,2,     0.00,2,     2.24,2,    0.387,2,    0.206,2,   0.0400,2,   2268.8,2,  2365.34,2,   7.5938,2,    24.95,     43.5,2,     -999,9,   0.4053,2,0.73000000,2, -165.850,2,    0.002,     -999,9,     -999,9,     -999,1,     -999,9,    0.060,1,    4.642,1,    0.130,1,  18.5900,2,     -999,9,20180502,0015, -67.4993,-101.3315,     -999,9,     -999,9,-999          ,9,     -999,9,     -999,9,     -999,     -999,9,     -999,     -999,9,     -999,1,     -999,1,     -999,1,     -999,1,     -999,1,     -999,1,     -999,1,     -999,1,     -999,1,     -999,1,     -999,1,     -999,1,     -999,1
320620180309  ,S04P       ,105     ,  1,1          ,1          ,2,20180502,0008, -67.4996,-101.3306,     4633,   4722.8,0.4141461256188826989,34.698860490073500,2,  34.6996,2,214.99839686007286,2, 214.9992,2,    214.5,2,    148.4,2,    33.08,2,     0.00,2,     2.24,2,    0.418,2,    0.214,2,   0.0400,2,   2269.1,2,  2366.22,2,   7.5944,2,    24.96,     43.4,2,     -999,1,   0.4143,2,0.62000000,2, -161.150,2,    0.002,     -999,9,     -999,9,     -999,1,     -999,1,    0.061,1,    4.627,1,    0.155,1,  18.3700,2,     -999,1,20180502,0008, -67.4996,-101.3306,     -999,1,     -999,1,-999          ,9,     -999,1,     -999,9,     -999,     -999,9,     -999,     -999,9,     -999,1,     -999,1,     -999,1,     -999,1,     -999,1,     -999,1,     -999,1,     -999,1,     -999,1,     -999,1,     -999,1,     -999,1,     -999,1