BOTTLE,20240515CCHHYDRO
EXPOCODE,SECT_ID,STNNBR,CASTNO,SAMPNO,BTLNBR,BTLNBR_FLAG_W,DATE,TIME,LATITUDE,LONGITUDE,DEPTH,CTDPRS,CTDTMP,CTDSAL,CTDSAL_FLAG_W,SALNTY,SALNTY_FLAG_W,CTDOXY,CTDOXY_FLAG_W,CTDOPTOXY,CTDOPTOXY_FLAG_W,OXYGEN,OXYGEN_FLAG_W,SILCAT,SILCAT_FLAG_W,NITRAT,NITRAT_FLAG_W,NITRIT,NITRIT_FLAG_W,PHSPHT,PHSPHT_FLAG_W,CFC-11,CFC-11_FLAG_W,CFC-12,CFC-12_FLAG_W,SF6,SF6_FLAG_W,TCARBN,TCARBN_FLAG_W,ALKALI,ALKALI_FLAG_W,PH_TOT,PH_TOT_FLAG_W,PH_TMP,DOC,DOC_FLAG_W,HELIUM,HELIUM_FLAG_W,REFTMP,REFTMP_FLAG_W,DELC13,DELC13_FLAG_W,DELC14,DELC14_FLAG_W,C14ERR,POC,POC_FLAG_W,TDN,TDN_FLAG_W,TON,TON_FLAG_W,NEON,NEON_FLAG_W,CTDFLUOR,CTDFLUOR_FLAG_W,CTDXMISS,CTDXMISS_FLAG_W,CTDBETA700,CTDBETA700_FLAG_W,N2O,N2O_FLAG_W,ARGON,ARGON_FLAG_W,BTL_DATE,BTL_TIME,BTL_LAT,BTL_LON,KRYPTON,KRYPTON_FLAG_W,XENON,XENON_FLAG_W,HPLC,HPLC_FLAG_W,HE3_HE4_RATIO,HE3_HE4_RATIO_FLAG_W,Nd_143_144_D_EPSILON_BOTTLE,Nd_143_144_D_EPSILON_BOTTLE_FLAG_W,Nd_143_144_D_EPSILON_BOTTLE_ERROR,Nd_143_144_D_RATIO_BOTTLE,Nd_143_144_D_RATIO_BOTTLE_FLAG_W,Nd_143_144_D_RATIO_BOTTLE_ERROR,Nd_D_CONC,Nd_D_CONC_FLAG_W,La_D_CONC_BOTTLE,La_D_CONC_BOTTLE_FLAG_W,Ce_D_CONC_BOTTLE,Ce_D_CONC_BOTTLE_FLAG_W,Pr_D_CONC_BOTTLE,Pr_D_CONC_BOTTLE_FLAG_W,Sm_D_CONC_BOTTLE,Sm_D_CONC_BOTTLE_FLAG_W,Eu_D_CONC_BOTTLE,Eu_D_CONC_BOTTLE_FLAG_W,Gd_D_CONC_BOTTLE,Gd_D_CONC_BOTTLE_FLAG_W,Tb_D_CONC_BOTTLE,Tb_D_CONC_BOTTLE_FLAG_W,Dy_D_CONC_BOTTLE,Dy_D_CONC_BOTTLE_FLAG_W,Ho_D_CONC_BOTTLE,Ho_D_CONC_BOTTLE_FLAG_W,Er_D_CONC_BOTTLE,Er_D_CONC_BOTTLE_FLAG_W,Tm_D_CONC_BOTTLE,Tm_D_CONC_BOTTLE_FLAG_W,Yb_D_CONC_BOTTLE,Yb_D_CONC_BOTTLE_FLAG_W,Lu_D_CONC_BOTTLE,Lu_D_CONC_BOTTLE_FLAG_W
,,,,,,,,,,,METERS,DBAR,ITS-90,PSS-78,,PSS-78,,UMOL/KG,,UMOL/KG,,UMOL/KG,,UMOL/KG,,UMOL/KG,,UMOL/KG,,UMOL/KG,,PMOL/KG,,PMOL/KG,,FMOL/KG,,UMOL/KG,,UMOL/KG,,,,DEG C,UMOL/KG,,NMOL/L,,DEG C,,/MILLE,,/MILLE,,/MILLE,UG/KG,,UMOL/KG,,UMOL/KG,,NMOL/L,,VOLTS,,VOLTS,,VOLTS,,NMOL/KG,,UMOL/L,,,,,,NMOL/L,,NMOL/L,,,,,,10000,,10000,,,,PMOL/KG,,PMOL/L,,PMOL/L,,PMOL/L,,PMOL/L,,PMOL/L,,PMOL/L,,PMOL/L,,PMOL/L,,PMOL/L,,PMOL/L,,PMOL/L,,PMOL/L,,PMOL/L,
320620180309  ,S04P       ,75      ,  1,15         ,15         ,2,20180419,2150, -67.0000,-139.4958,     4329,   1280.2,1.0934500000000002551,34.723550696752014,2,  34.7227,2,196.74828128365434,2, 196.0973,2,    196.4,2,    113.0,2,    32.30,2,     0.00,2,     2.22,2,     -999,9,     -999,9,     -999,9,     -999,9,     -999,9,     -999,9,     -999,     -999,9,     -999,9,   1.0928,2,     -999,9,     -999,9,     -999,     -999,9,     -999,9,     -999,9,     -999,9,    0.061,1,    4.658,1,    0.130,1,     -999,9,     -999,9,20180419,2305, -67.0005,-139.4968,     -999,9,     -999,9,-999          ,9,     -999,9,     -999,9,     -999,     -999,9,     -999,     -999,9,     -999,9,     -999,9,     -999,9,     -999,9,     -999,9,     -999,9,     -999,9,     -999,9,     -999,9,     -999,9,     -999,9,     -999,9,     -999,9
320620180309  ,S04P       ,75      ,  1,14         ,14         ,2,20180419,2150, -67.0000,-139.4958,     4329,   1381.9,1.0251472222222222097,34.720792194948018,2,  34.7202,2,198.41776846280609,2, 197.7051,2,    198.2,2,    114.6,2,    32.27,2,     0.00,2,     2.22,2,     -999,9,     -999,9,     -999,9,   2262.8,2,  2362.49,2,   7.5934,2,    24.91,     -999,9,     -999,9,   1.0237,2,     -999,9,     -999,9,     -999,     -999,9,     -999,9,     -999,9,     -999,9,    0.062,1,    4.658,1,    0.128,1,     -999,9,     -999,9,20180419,2302, -67.0005,-139.4967,     -999,9,     -999,9,-999          ,9,     -999,9,     -999,9,     -999,     -999,9,     -999,     -999,9,     -999,9,     -999,9,     -999,9,     -999,9,     -999,9,     -999,9,     -999,9,     -999,9,     -999,9,     -999,9,     -999,9,     -999,9,     -999,9
320620180309  ,S04P       ,75      ,  1,13         ,13         ,2,20180419,2150, -67.0000,-139.4958,     4329,   1484.5,0.9701527777777779749,34.718607470026896,2,  34.7178,2,199.78050597330363,2, 199.1987,2,    199.5,2,    116.3,2,    32.27,2,     0.00,2,     2.21,2,     -999,9,     -999,9,     -999,9,     -999,9,     -999,9,     -999,9,     -999,     -999,9,     -999,9,   0.9690,2,     -999,9,     -999,9,     -999,     -999,9,     -999,9,     -999,9,     -999,9,    0.062,1,    4.658,1,    0.129,1,     -999,9,     -999,9,20180419,2258, -67.0005,-139.4967,     -999,9,     -999,9,-999          ,9,     -999,9,     -999,9,     -999,     -999,9,     -999,     -999,9,     -999,9,     -999,9,     -999,9,     -999,9,     -999,9,     -999,9,     -999,9,     -999,9,     -999,9,     -999,9,     -999,9,     -999,9,     -999,9
320620180309  ,S04P       ,75      ,  1,12         ,12         ,2,20180419,2150, -67.0000,-139.4958,     4329,   1585.9,0.9160499999999998089,34.716113752239238,2,  34.7160,2,200.82230140062003,2, 200.6015,2,    200.8,2,    118.4,2,    32.29,2,     0.00,2,     2.23,2,     -999,9,     -999,9,     -999,9,   2263.5,2,  2363.23,2,   7.5932,2,    24.92,     -999,9,     -999,9,   0.9154,2,     -999,9,     -999,9,     -999,     -999,9,     -999,9,     -999,9,     -999,9,    0.061,1,    4.656,1,    0.130,1,     -999,9,     -999,9,20180419,2255, -67.0004,-139.4967,     -999,9,     -999,9,-999          ,9,     -999,9,     -999,9,     -999,     -999,9,     -999,     -999,9,     -999,9,     -999,9,     -999,9,     -999,9,     -999,9,     -999,9,     -999,9,     -999,9,     -999,9,     -999,9,     -999,9,     -999,9,     -999,9
320620180309  ,S04P       ,75      ,  1,11         ,11         ,2,20180419,2150, -67.0000,-139.4958,     4329,   1758.4,0.8401611111111110253,34.712904923846885,2,  34.7129,2,202.11262322506590,3, 202.2963,2,    201.8,2,    122.1,2,    32.44,2,     0.00,2,     2.22,2,    0.148,2,    0.084,2,   0.0500,2,   2265.0,2,  2362.48,2,   7.5927,2,    24.92,     -999,9,     -999,9,   0.8398,2,     -999,9,     -999,9,     -999,     -999,9,     -999,9,     -999,9,     -999,9,    0.062,1,    4.659,1,    0.129,1,  19.5500,2,     -999,9,20180419,2250, -67.0004,-139.4965,     -999,9,     -999,9,-999          ,9,     -999,9,     -999,9,     -999,     -999,9,     -999,     -999,9,     -999,9,     -999,9,     -999,9,     -999,9,     -999,9,     -999,9,     -999,9,     -999,9,     -999,9,     -999,9,     -999,9,     -999,9,     -999,9
320620180309  ,S04P       ,75      ,  1,10         ,10         ,2,20180419,2150, -67.0000,-139.4958,     4329,   1963.2,0.7681611111111110723,34.709820285824073,2,  34.7098,2,204.08509395285020,2, 204.2030,2,    204.1,2,    124.7,2,    32.48,2,     0.00,2,     2.24,2,     -999,9,     -999,9,     -999,9,     -999,9,     -999,9,     -999,9,     -999,     -999,9,     -999,9,   0.7674,2,     -999,9,     -999,9,     -999,     -999,9,     -999,9,     -999,9,     -999,9,    0.061,1,    4.660,1,    0.128,1,     -999,9,     -999,9,20180419,2245, -67.0004,-139.4965,     -999,9,     -999,9,-999          ,9,     -999,9,     -999,9,     -999,     -999,9,     -999,     -999,9,     -999,9,     -999,9,     -999,9,     -999,9,     -999,9,     -999,9,     -999,9,     -999,9,     -999,9,     -999,9,     -999,9,     -999,9,     -999,9
320620180309  ,S04P       ,75      ,  1,9          ,9          ,2,20180419,2150, -67.0000,-139.4958,     4329,   2197.4,0.6916916666666668156,34.706791242788576,2,  34.7070,2,205.63979157199333,2, 206.5008,2,    205.8,2,    127.1,2,    32.51,2,     0.00,2,     2.24,2,    0.187,2,    0.096,2,   0.0300,2,   2262.5,2,  2362.73,2,   7.5945,2,    24.92,     -999,9,     -999,9,   0.6914,2,     -999,9,     -999,9,     -999,     -999,9,     -999,9,     -999,9,     -999,9,    0.061,1,    4.660,1,    0.126,1,  19.5700,2,     -999,9,20180419,2239, -67.0004,-139.4967,     -999,9,     -999,9,-999          ,9,     -999,9,     -999,9,     -999,     -999,9,     -999,     -999,9,     -999,9,     -999,9,     -999,9,     -999,9,     -999,9,     -999,9,     -999,9,     -999,9,     -999,9,     -999,9,     -999,9,     -999,9,     -999,9
320620180309  ,S04P       ,75      ,  1,8          ,8          ,2,20180419,2150, -67.0000,-139.4958,     4329,   2453.0,0.6040194444444444422,34.704346140794570,2,  34.7049,2,207.28227435190968,3, 208.3977,2,    207.7,2,    128.2,2,    32.62,2,     0.00,2,     2.25,2,     -999,9,     -999,9,     -999,9,     -999,9,     -999,9,     -999,9,     -999,     -999,9,     -999,9,   0.6031,2,     -999,9,     -999,9,     -999,     -999,9,     -999,9,     -999,9,     -999,9,    0.060,1,    4.658,1,    0.126,1,     -999,9,     -999,9,20180419,2234, -67.0004,-139.4963,     -999,9,     -999,9,-999          ,9,     -999,9,     -999,9,     -999,     -999,9,     -999,     -999,9,     -999,9,     -999,9,     -999,9,     -999,9,     -999,9,     -999,9,     -999,9,     -999,9,     -999,9,     -999,9,     -999,9,     -999,9,     -999,9
320620180309  ,S04P       ,75      ,  1,7          ,7          ,2,20180419,2150, -67.0000,-139.4958,     4329,   2707.6,0.5028694444444444800,34.702772809477395,2,  34.7031,2,209.44864210341112,3, 210.8055,2,    209.5,2,    129.7,2,    32.70,2,     0.00,2,     2.25,2,    0.202,2,    0.106,2,   0.0300,2,   2264.0,2,  2365.01,2,   7.5940,2,    24.91,     -999,9,     -999,9,   0.5031,2,     -999,9,     -999,9,     -999,     -999,9,     -999,9,     -999,9,     -999,9,    0.061,1,    4.659,1,    0.125,1,  19.1900,2,     -999,9,20180419,2228, -67.0002,-139.4960,     -999,9,     -999,9,-999          ,9,     -999,9,     -999,9,     -999,     -999,9,     -999,     -999,9,     -999,9,     -999,9,     -999,9,     -999,9,     -999,9,     -999,9,     -999,9,     -999,9,     -999,9,     -999,9,     -999,9,     -999,9,     -999,9
320620180309  ,S04P       ,75      ,  1,6          ,6          ,2,20180419,2150, -67.0000,-139.4958,     4329,   2964.5,0.4273944444444444657,34.701750368509629,3,  34.7045,2,211.20674751640675,3, 212.8017,2,    211.2,2,    132.3,2,    32.72,2,     0.00,2,     2.25,2,     -999,9,     -999,9,     -999,9,     -999,9,     -999,9,     -999,9,     -999,     -999,9,     -999,9,   0.4275,2,     -999,9,     -999,9,     -999,     -999,9,     -999,9,     -999,9,     -999,9,    0.061,1,    4.660,1,    0.125,1,     -999,9,     -999,9,20180419,2222, -67.0001,-139.4960,     -999,9,     -999,9,-999          ,9,     -999,9,     -999,9,     -999,     -999,9,     -999,     -999,9,     -999,9,     -999,9,     -999,9,     -999,9,     -999,9,     -999,9,     -999,9,     -999,9,     -999,9,     -999,9,     -999,9,     -999,9,     -999,9
320620180309  ,S04P       ,75      ,  1,5          ,5          ,2,20180419,2150, -67.0000,-139.4958,     4329,   3256.9,0.3672500000000000209,34.700962897875655,2,  34.7011,2,213.06028853384794,3, 211.9947,2,    212.8,2,    134.8,2,    32.80,2,     0.00,2,     2.25,2,     -999,9,     -999,9,     -999,9,   2263.3,2,  2365.15,2,   7.5944,2,    24.92,     -999,9,     -999,9,   0.3665,2,     -999,9,     -999,9,     -999,     -999,9,     -999,9,     -999,9,     -999,9,    0.059,1,    4.660,1,    0.126,1,     -999,9,     -999,9,20180419,2216, -67.0000,-139.4957,     -999,9,     -999,9,-999          ,9,     -999,9,     -999,9,     -999,     -999,9,     -999,     -999,9,     -999,9,     -999,9,     -999,9,     -999,9,     -999,9,     -999,9,     -999,9,     -999,9,     -999,9,     -999,9,     -999,9,     -999,9,     -999,9
320620180309  ,S04P       ,75      ,  1,4          ,4          ,2,20180419,2150, -67.0000,-139.4958,     4329,   3563.4,0.3109666666666666690,34.698973178714859,2,  34.6990,2,215.14597529354472,2, 216.0987,2,    215.2,2,    136.5,2,    32.84,2,     0.00,2,     2.27,2,    0.384,2,    0.200,2,   0.1000,2,   2264.6,2,  2363.33,2,   7.5932,2,    24.92,     -999,9,     -999,9,   0.3101,2,     -999,9,     -999,9,     -999,     -999,9,     -999,9,     -999,9,     -999,9,    0.061,1,    4.659,1,    0.125,1,  19.1800,2,     -999,9,20180419,2209, -66.9999,-139.4956,     -999,9,     -999,9,-999          ,9,     -999,9,     -999,9,     -999,     -999,9,     -999,     -999,9,     -999,9,     -999,9,     -999,9,     -999,9,     -999,9,     -999,9,     -999,9,     -999,9,     -999,9,     -999,9,     -999,9,     -999,9,     -999,9
320620180309  ,S04P       ,75      ,  1,3          ,3          ,2,20180419,2150, -67.0000,-139.4958,     4329,   3872.4,0.2747138888888889796,34.696491729108132,2,  34.6964,2,217.17679234889417,2, 214.4986,2,    217.3,2,    134.3,2,    32.76,2,     0.00,2,     2.25,2,     -999,9,     -999,9,     -999,9,   2264.8,2,  2362.99,2,   7.5919,2,    24.91,     -999,9,     -999,9,   0.2738,2,     -999,9,     -999,9,     -999,     -999,9,     -999,9,     -999,9,     -999,9,    0.061,1,    4.658,1,    0.126,1,     -999,9,     -999,9,20180419,2203, -66.9999,-139.4957,     -999,9,     -999,9,-999          ,9,     -999,9,     -999,9,     -999,     -999,9,     -999,     -999,9,     -999,9,     -999,9,     -999,9,     -999,9,     -999,9,     -999,9,     -999,9,     -999,9,     -999,9,     -999,9,     -999,9,     -999,9,     -999,9
320620180309  ,S04P       ,75      ,  1,2          ,2          ,2,20180419,2150, -67.0000,-139.4958,     4329,   4103.6,0.2613333333333333619,34.695156752701060,2,  34.6958,2,218.41207785680231,3, 216.0969,2,    218.6,2,    131.8,2,    32.71,2,     0.00,2,     2.24,2,    0.660,2,    0.340,2,   0.2400,2,   2263.8,6,  2361.03,2,   7.5898,2,    24.92,     -999,9,     -999,9,   0.2601,2,     -999,9,     -999,9,     -999,     -999,9,     -999,9,     -999,9,     -999,9,    0.060,1,    4.657,1,    0.129,1,  19.1800,2,     -999,9,20180419,2157, -67.0001,-139.4958,     -999,9,     -999,9,-999          ,9,     -999,9,     -999,9,     -999,     -999,9,     -999,     -999,9,     -999,9,     -999,9,     -999,9,     -999,9,     -999,9,     -999,9,     -999,9,     -999,9,     -999,9,     -999,9,     -999,9,     -999,9,     -999,9
320620180309  ,S04P       ,75      ,  1,1          ,1          ,2,20180419,2150, -67.0000,-139.4958,     4329,   4407.5,0.2837611111111110751,34.694465784556073,2,  34.6958,2,219.20355889802769,3, 220.0973,2,    218.9,2,    130.6,2,    32.75,2,     0.00,2,     2.25,2,    0.690,2,    0.349,2,   0.2200,2,   2267.6,2,  2362.58,2,   7.5924,6,    24.92,     -999,9,     -999,9,   0.2824,2,     -999,9,     -999,9,     -999,     -999,9,     -999,9,     -999,9,     -999,9,    0.061,1,    4.654,1,    0.131,1,  19.0000,2,     -999,9,20180419,2150, -67.0000,-139.4958,     -999,9,     -999,9,-999          ,9,     -999,9,     -999,9,     -999,     -999,9,     -999,     -999,9,     -999,9,     -999,9,     -999,9,     -999,9,     -999,9,     -999,9,     -999,9,     -999,9,     -999,9,     -999,9,     -999,9,     -999,9,     -999,9