BOTTLE,20240515CCHHYDRO
EXPOCODE,SECT_ID,STNNBR,CASTNO,SAMPNO,BTLNBR,BTLNBR_FLAG_W,DATE,TIME,LATITUDE,LONGITUDE,DEPTH,CTDPRS,CTDTMP,CTDSAL,CTDSAL_FLAG_W,SALNTY,SALNTY_FLAG_W,CTDOXY,CTDOXY_FLAG_W,CTDOPTOXY,CTDOPTOXY_FLAG_W,OXYGEN,OXYGEN_FLAG_W,SILCAT,SILCAT_FLAG_W,NITRAT,NITRAT_FLAG_W,NITRIT,NITRIT_FLAG_W,PHSPHT,PHSPHT_FLAG_W,CFC-11,CFC-11_FLAG_W,CFC-12,CFC-12_FLAG_W,SF6,SF6_FLAG_W,TCARBN,TCARBN_FLAG_W,ALKALI,ALKALI_FLAG_W,PH_TOT,PH_TOT_FLAG_W,PH_TMP,DOC,DOC_FLAG_W,HELIUM,HELIUM_FLAG_W,REFTMP,REFTMP_FLAG_W,DELC13,DELC13_FLAG_W,DELC14,DELC14_FLAG_W,C14ERR,POC,POC_FLAG_W,TDN,TDN_FLAG_W,TON,TON_FLAG_W,NEON,NEON_FLAG_W,CTDFLUOR,CTDFLUOR_FLAG_W,CTDXMISS,CTDXMISS_FLAG_W,CTDBETA700,CTDBETA700_FLAG_W,N2O,N2O_FLAG_W,ARGON,ARGON_FLAG_W,BTL_DATE,BTL_TIME,BTL_LAT,BTL_LON,KRYPTON,KRYPTON_FLAG_W,XENON,XENON_FLAG_W,HPLC,HPLC_FLAG_W,HE3_HE4_RATIO,HE3_HE4_RATIO_FLAG_W,Nd_143_144_D_EPSILON_BOTTLE,Nd_143_144_D_EPSILON_BOTTLE_FLAG_W,Nd_143_144_D_EPSILON_BOTTLE_ERROR,Nd_143_144_D_RATIO_BOTTLE,Nd_143_144_D_RATIO_BOTTLE_FLAG_W,Nd_143_144_D_RATIO_BOTTLE_ERROR,Nd_D_CONC,Nd_D_CONC_FLAG_W,La_D_CONC_BOTTLE,La_D_CONC_BOTTLE_FLAG_W,Ce_D_CONC_BOTTLE,Ce_D_CONC_BOTTLE_FLAG_W,Pr_D_CONC_BOTTLE,Pr_D_CONC_BOTTLE_FLAG_W,Sm_D_CONC_BOTTLE,Sm_D_CONC_BOTTLE_FLAG_W,Eu_D_CONC_BOTTLE,Eu_D_CONC_BOTTLE_FLAG_W,Gd_D_CONC_BOTTLE,Gd_D_CONC_BOTTLE_FLAG_W,Tb_D_CONC_BOTTLE,Tb_D_CONC_BOTTLE_FLAG_W,Dy_D_CONC_BOTTLE,Dy_D_CONC_BOTTLE_FLAG_W,Ho_D_CONC_BOTTLE,Ho_D_CONC_BOTTLE_FLAG_W,Er_D_CONC_BOTTLE,Er_D_CONC_BOTTLE_FLAG_W,Tm_D_CONC_BOTTLE,Tm_D_CONC_BOTTLE_FLAG_W,Yb_D_CONC_BOTTLE,Yb_D_CONC_BOTTLE_FLAG_W,Lu_D_CONC_BOTTLE,Lu_D_CONC_BOTTLE_FLAG_W
,,,,,,,,,,,METERS,DBAR,ITS-90,PSS-78,,PSS-78,,UMOL/KG,,UMOL/KG,,UMOL/KG,,UMOL/KG,,UMOL/KG,,UMOL/KG,,UMOL/KG,,PMOL/KG,,PMOL/KG,,FMOL/KG,,UMOL/KG,,UMOL/KG,,,,DEG C,UMOL/KG,,NMOL/L,,DEG C,,/MILLE,,/MILLE,,/MILLE,UG/KG,,UMOL/KG,,UMOL/KG,,NMOL/L,,VOLTS,,VOLTS,,VOLTS,,NMOL/KG,,UMOL/L,,,,,,NMOL/L,,NMOL/L,,,,,,10000,,10000,,,,PMOL/KG,,PMOL/L,,PMOL/L,,PMOL/L,,PMOL/L,,PMOL/L,,PMOL/L,,PMOL/L,,PMOL/L,,PMOL/L,,PMOL/L,,PMOL/L,,PMOL/L,,PMOL/L,
320620180309  ,P15        ,13      ,  1,36         ,36         ,2,20180322,1510, -69.5000,-169.9996,     4183,      3.5,-1.2624999999999999556,33.970230513410876,2,  33.9681,2,339.50699237262222,2, 338.3022,2,    338.4,2,     57.4,2,    25.58,2,     0.12,2,     1.85,2,    5.770,2,    3.070,2,   4.0800,2,   2183.0,6,  2303.82,2,   7.6647,2,    24.93,     -999,9,     -999,9,  -1.2635,2,     -999,9,     -999,9,     -999,     -999,9,     -999,9,     -999,9,     -999,9,    0.189,1,    4.603,1,    0.197,1,  17.8300,2,     -999,9,20180322,1732, -69.4999,-169.9991,     -999,9,     -999,9,-999          ,9,     -999,9,     -999,9,     -999,     -999,9,     -999,     -999,9,     -999,9,     -999,9,     -999,9,     -999,9,     -999,9,     -999,9,     -999,9,     -999,9,     -999,9,     -999,9,     -999,9,     -999,9,     -999,9
320620180309  ,P15        ,13      ,  1,35         ,35         ,2,20180322,1510, -69.5000,-169.9996,     4183,     24.5,-1.2549777777777777477,33.970267795195760,2,  33.9677,2,340.50225148217152,2, 338.2934,2,    338.5,2,     57.1,2,    25.60,2,     0.12,2,     1.81,2,     -999,9,     -999,9,     -999,9,   2181.9,2,  2302.98,2,   7.6646,2,    24.93,     -999,9,     -999,9,  -1.2547,2,     -999,9,     -999,9,     -999,     -999,9,     -999,9,     -999,9,     -999,9,    0.192,1,    4.598,1,    0.219,1,     -999,9,     -999,9,20180322,1730, -69.5000,-169.9991,     -999,9,     -999,9,-999          ,9,     -999,9,     -999,9,     -999,     -999,9,     -999,     -999,9,     -999,9,     -999,9,     -999,9,     -999,9,     -999,9,     -999,9,     -999,9,     -999,9,     -999,9,     -999,9,     -999,9,     -999,9,     -999,9
320620180309  ,P15        ,13      ,  1,34         ,34         ,2,20180322,1510, -69.5000,-169.9996,     4183,     50.4,-1.2510277777777778496,33.973138608985280,2,  33.9857,2,341.73572542341486,3, 337.1002,3,    334.8,2,     57.5,2,    25.85,2,     0.12,2,     1.82,2,     -999,9,     -999,9,     -999,9,     -999,9,     -999,9,     -999,9,     -999,     -999,9,     -999,9,  -1.2531,2,     -999,9,     -999,9,     -999,     -999,9,     -999,9,     -999,9,     -999,9,    0.192,1,    4.597,1,    0.231,1,     -999,9,     -999,9,20180322,1728, -69.5000,-169.9991,     -999,9,     -999,9,-999          ,9,     -999,9,     -999,9,     -999,     -999,9,     -999,     -999,9,     -999,9,     -999,9,     -999,9,     -999,9,     -999,9,     -999,9,     -999,9,     -999,9,     -999,9,     -999,9,     -999,9,     -999,9,     -999,9
320620180309  ,P15        ,13      ,  1,33         ,33         ,2,20180322,1510, -69.5000,-169.9996,     4183,     74.2,-1.6096527777777780432,34.234776571331508,2,  34.2350,2,302.99087704593313,3, 293.8942,2,    294.2,2,     65.6,2,    29.12,2,     0.12,2,     2.04,2,     -999,9,     -999,9,     -999,9,   2211.8,2,  2317.97,2,   7.6183,6,    24.93,     -999,9,     -999,9,  -1.6188,2,     -999,9,     -999,9,     -999,     -999,9,     -999,9,     -999,9,     -999,9,    0.167,1,    4.613,1,    0.222,1,     -999,9,     -999,9,20180322,1726, -69.5000,-169.9990,     -999,9,     -999,9,-999          ,9,     -999,9,     -999,9,     -999,     -999,9,     -999,     -999,9,     -999,9,     -999,9,     -999,9,     -999,9,     -999,9,     -999,9,     -999,9,     -999,9,     -999,9,     -999,9,     -999,9,     -999,9,     -999,9
320620180309  ,P15        ,13      ,  1,32         ,32         ,2,20180322,1510, -69.5000,-169.9996,     4183,    101.4,-1.5457166666666664057,34.343820897363102,2,  34.3400,2,278.88551225760608,3, 274.6984,2,    274.9,2,     67.7,2,    30.61,2,     0.11,2,     2.12,2,    3.939,2,    2.123,2,   2.2700,2,   2223.9,2,  2320.47,2,   7.5971,2,    24.93,     -999,9,     -999,9,  -1.5095,2,     -999,9,     -999,9,     -999,     -999,9,     -999,9,     -999,9,     -999,9,    0.116,1,    4.653,1,    0.162,1,  20.2600,2,     -999,9,20180322,1724, -69.5000,-169.9989,     -999,9,     -999,9,-999          ,9,     -999,9,     -999,9,     -999,     -999,9,     -999,     -999,9,     -999,9,     -999,9,     -999,9,     -999,9,     -999,9,     -999,9,     -999,9,     -999,9,     -999,9,     -999,9,     -999,9,     -999,9,     -999,9
320620180309  ,P15        ,13      ,  1,31         ,31         ,2,20180322,1510, -69.5000,-169.9996,     4183,    125.3,0.5397833333333331707,34.557684932378379,2,  34.5554,2,209.26336940858761,2, 207.7046,2,    207.9,2,     83.3,2,    32.60,2,     0.04,2,     2.23,2,     -999,9,     -999,9,     -999,9,   2251.5,2,  2335.33,2,   7.5672,2,    24.94,     -999,9,     -999,9,   0.5417,2,     -999,9,     -999,9,     -999,     -999,9,     -999,9,     -999,9,     -999,9,    0.082,1,    4.666,1,    0.149,1,     -999,9,     -999,9,20180322,1722, -69.5001,-169.9987,     -999,9,     -999,9,-999          ,9,     -999,9,     -999,9,     -999,     -999,9,     -999,     -999,9,     -999,9,     -999,9,     -999,9,     -999,9,     -999,9,     -999,9,     -999,9,     -999,9,     -999,9,     -999,9,     -999,9,     -999,9,     -999,9
320620180309  ,P15        ,13      ,  1,30         ,30         ,2,20180322,1510, -69.5000,-169.9996,     4183,    151.6,0.9598944444444443835,34.613944789445505,2,  34.6144,2,197.78772375995769,3, 196.0037,2,    195.8,2,     86.7,2,    32.86,2,     0.04,2,     2.26,2,     -999,9,     -999,9,     -999,9,   2252.8,2,  2338.96,2,   7.5622,2,    24.94,     -999,9,     -999,9,   0.9508,2,     -999,9,     -999,9,     -999,     -999,9,     -999,9,     -999,9,     -999,9,    0.078,1,    4.666,1,    0.145,1,     -999,9,     -999,9,20180322,1720, -69.5001,-169.9985,     -999,9,     -999,9,-999          ,9,     -999,9,     -999,9,     -999,     -999,9,     -999,     -999,9,     -999,9,     -999,9,     -999,9,     -999,9,     -999,9,     -999,9,     -999,9,     -999,9,     -999,9,     -999,9,     -999,9,     -999,9,     -999,9
320620180309  ,P15        ,13      ,  1,29         ,29         ,2,20180322,1510, -69.5000,-169.9996,     4183,    201.7,1.4747472222222219873,34.690541174685777,2,  34.6886,2,187.30816145828737,2, 186.8968,2,    185.8,2,     91.7,2,    32.70,2,     0.02,2,     2.25,2,     -999,9,     -999,9,     -999,9,   2256.7,6,  2345.20,2,   7.5677,2,    24.93,     -999,9,     -999,9,   1.4746,2,     -999,9,     -999,9,     -999,     -999,9,     -999,9,     -999,9,     -999,9,    0.070,1,    4.669,1,    0.144,1,     -999,9,     -999,9,20180322,1718, -69.5002,-169.9983,     -999,9,     -999,9,-999          ,9,     -999,9,     -999,9,     -999,     -999,9,     -999,     -999,9,     -999,9,     -999,9,     -999,9,     -999,9,     -999,9,     -999,9,     -999,9,     -999,9,     -999,9,     -999,9,     -999,9,     -999,9,     -999,9
320620180309  ,P15        ,13      ,  1,28         ,28         ,2,20180322,1510, -69.5000,-169.9996,     4183,    252.5,1.5222611111111108428,34.711851637503628,2,  34.7092,2,187.06428879449766,2, 185.8068,2,    185.7,2,     93.2,2,    32.51,2,     0.01,2,     2.22,2,    0.465,2,    0.250,2,   0.1600,2,   2259.4,2,  2348.05,2,   7.5733,2,    24.93,     -999,9,     -999,9,   1.5215,2,     -999,9,     -999,9,     -999,     -999,9,     -999,9,     -999,9,     -999,9,    0.069,1,    4.673,1,    0.138,1,  22.7100,2,     -999,9,20180322,1715, -69.5001,-169.9985,     -999,9,     -999,9,-999          ,9,     -999,9,     -999,9,     -999,     -999,9,     -999,     -999,9,     -999,9,     -999,9,     -999,9,     -999,9,     -999,9,     -999,9,     -999,9,     -999,9,     -999,9,     -999,9,     -999,9,     -999,9,     -999,9
320620180309  ,P15        ,13      ,  1,27         ,27         ,2,20180322,1510, -69.5000,-169.9996,     4183,    302.9,1.5078444444444443207,34.720511491626702,2,  34.7186,2,188.01226288424553,2, 186.1007,2,    187.6,2,     95.2,2,    32.36,2,     0.01,2,     2.18,2,     -999,9,     -999,9,     -999,9,   2260.1,2,  2349.07,2,   7.5769,2,    24.94,     -999,9,     -999,9,   1.5071,2,     -999,9,     -999,9,     -999,     -999,9,     -999,9,     -999,9,     -999,9,    0.067,1,    4.677,1,    0.139,1,     -999,9,     -999,9,20180322,1713, -69.5001,-169.9986,     -999,9,     -999,9,-999          ,9,     -999,9,     -999,9,     -999,     -999,9,     -999,     -999,9,     -999,9,     -999,9,     -999,9,     -999,9,     -999,9,     -999,9,     -999,9,     -999,9,     -999,9,     -999,9,     -999,9,     -999,9,     -999,9
320620180309  ,P15        ,13      ,  1,26         ,26         ,2,20180322,1510, -69.5000,-169.9996,     4183,    351.5,1.4636250000000003979,34.724344782066630,2,  34.7227,2,187.76790420540163,2, 186.9937,2,    186.7,2,     97.9,2,    32.38,2,     0.01,2,     2.19,2,     -999,9,     -999,9,     -999,9,   2260.1,2,  2350.06,2,   7.5790,2,    24.94,     -999,9,     -999,9,   1.4621,2,     -999,9,     -999,9,     -999,     -999,9,     -999,9,     -999,9,     -999,9,    0.066,1,    4.677,1,    0.138,1,     -999,9,     -999,9,20180322,1710, -69.5000,-169.9986,     -999,9,     -999,9,-999          ,9,     -999,9,     -999,9,     -999,     -999,9,     -999,     -999,9,     -999,9,     -999,9,     -999,9,     -999,9,     -999,9,     -999,9,     -999,9,     -999,9,     -999,9,     -999,9,     -999,9,     -999,9,     -999,9
320620180309  ,P15        ,13      ,  1,25         ,25         ,2,20180322,1510, -69.5000,-169.9996,     4183,    406.4,1.4360805555555553603,34.726486609799693,2,  34.7247,2,188.54192738002590,2, 187.6039,2,    188.2,2,     99.0,2,    32.24,2,     0.00,2,     2.19,2,     -999,9,     -999,9,     -999,9,   2260.4,2,  2351.69,2,   7.5802,2,    24.95,     -999,9,     -999,9,   1.4361,2,     -999,9,     -999,9,     -999,     -999,9,     -999,9,     -999,9,     -999,9,    0.066,1,    4.678,1,    0.143,1,     -999,9,     -999,9,20180322,1708, -69.5000,-169.9988,     -999,9,     -999,9,-999          ,9,     -999,9,     -999,9,     -999,     -999,9,     -999,     -999,9,     -999,9,     -999,9,     -999,9,     -999,9,     -999,9,     -999,9,     -999,9,     -999,9,     -999,9,     -999,9,     -999,9,     -999,9,     -999,9
320620180309  ,P15        ,13      ,  1,24         ,24         ,2,20180322,1510, -69.5000,-169.9996,     4183,    455.7,1.3958055555555555216,34.728168271375026,2,  34.7253,2,189.76613041673704,2, 188.3999,2,    189.4,2,    100.9,2,    32.18,2,     0.00,2,     2.18,2,    0.247,2,    0.145,2,   0.0000,3,     -999,9,     -999,9,     -999,9,     -999,     -999,9,     -999,9,   1.3977,2,     -999,9,     -999,9,     -999,     -999,9,     -999,9,     -999,9,     -999,9,    0.067,1,    4.679,1,    0.137,1,  22.1100,2,     -999,9,20180322,1706, -69.4999,-169.9991,     -999,9,     -999,9,-999          ,9,     -999,9,     -999,9,     -999,     -999,9,     -999,     -999,9,     -999,9,     -999,9,     -999,9,     -999,9,     -999,9,     -999,9,     -999,9,     -999,9,     -999,9,     -999,9,     -999,9,     -999,9,     -999,9
320620180309  ,P15        ,13      ,  1,23         ,23         ,2,20180322,1510, -69.5000,-169.9996,     4183,    507.1,1.3520916666666671357,34.728407628274773,2,  34.7263,2,190.43979563437233,2, 189.3968,2,    190.4,2,    102.5,2,    32.18,2,     0.00,2,     2.18,2,     -999,9,     -999,9,     -999,9,   2259.8,2,  2353.57,2,   7.5851,2,    24.94,     -999,9,     -999,9,   1.3509,2,     -999,9,     -999,9,     -999,     -999,9,     -999,9,     -999,9,     -999,9,    0.065,1,    4.680,1,    0.136,1,     -999,9,     -999,9,20180322,1703, -69.4999,-169.9992,     -999,9,     -999,9,-999          ,9,     -999,9,     -999,9,     -999,     -999,9,     -999,     -999,9,     -999,9,     -999,9,     -999,9,     -999,9,     -999,9,     -999,9,     -999,9,     -999,9,     -999,9,     -999,9,     -999,9,     -999,9,     -999,9
320620180309  ,P15        ,13      ,  1,22         ,22         ,2,20180322,1510, -69.5000,-169.9996,     4183,    607.1,1.2775444444444445935,34.727885382063668,2,  34.7263,2,191.31873081511381,2, 191.0027,2,    190.3,2,    105.9,2,    32.30,2,     0.00,2,     2.22,2,     -999,9,     -999,9,     -999,9,     -999,9,     -999,9,     -999,9,     -999,     -999,9,     -999,9,   1.2782,2,     -999,9,     -999,9,     -999,     -999,9,     -999,9,     -999,9,     -999,9,    0.063,1,    4.681,1,    0.133,1,     -999,9,     -999,9,20180322,1700, -69.4999,-169.9994,     -999,9,     -999,9,-999          ,9,     -999,9,     -999,9,     -999,     -999,9,     -999,     -999,9,     -999,9,     -999,9,     -999,9,     -999,9,     -999,9,     -999,9,     -999,9,     -999,9,     -999,9,     -999,9,     -999,9,     -999,9,     -999,9
320620180309  ,P15        ,13      ,  1,21         ,21         ,2,20180322,1510, -69.5000,-169.9996,     4183,    708.5,1.2069694444444443171,34.726213138291321,2,  34.7243,2,193.84651129105663,2, 192.7997,2,    192.7,2,    108.2,2,    32.28,2,     0.00,2,     2.21,2,    0.192,2,    0.089,2,   0.0000,3,   2261.6,2,  2357.52,2,   7.5870,2,    24.93,     -999,9,     -999,9,   1.2068,2,     -999,9,     -999,9,     -999,     -999,9,     -999,9,     -999,9,     -999,9,    0.062,1,    4.681,1,    0.131,1,  21.6500,2,     -999,9,20180322,1656, -69.4998,-169.9995,     -999,9,     -999,9,-999          ,9,     -999,9,     -999,9,     -999,     -999,9,     -999,     -999,9,     -999,9,     -999,9,     -999,9,     -999,9,     -999,9,     -999,9,     -999,9,     -999,9,     -999,9,     -999,9,     -999,9,     -999,9,     -999,9
320620180309  ,P15        ,13      ,  1,20         ,20         ,2,20180322,1510, -69.5000,-169.9996,     4183,    809.0,1.1384861111111110876,34.723991411849440,2,  34.7223,2,194.74498009824100,2, 194.4010,2,    194.7,2,    109.8,2,    32.20,2,     0.00,2,     2.20,2,     -999,9,     -999,9,     -999,9,     -999,9,     -999,9,     -999,9,     -999,     -999,9,     -999,9,   1.1387,2,     -999,9,     -999,9,     -999,     -999,9,     -999,9,     -999,9,     -999,9,    0.062,1,    4.682,1,    0.131,1,     -999,9,     -999,9,20180322,1653, -69.4998,-169.9996,     -999,9,     -999,9,-999          ,9,     -999,9,     -999,9,     -999,     -999,9,     -999,     -999,9,     -999,9,     -999,9,     -999,9,     -999,9,     -999,9,     -999,9,     -999,9,     -999,9,     -999,9,     -999,9,     -999,9,     -999,9,     -999,9
320620180309  ,P15        ,13      ,  1,19         ,19         ,2,20180322,1510, -69.5000,-169.9996,     4183,    910.4,1.0845777777777776407,34.722269270357820,2,  34.7206,2,196.32922811568909,2, 195.9932,2,    195.4,2,    113.0,2,    32.29,2,     0.00,2,     2.21,2,     -999,9,     -999,9,     -999,9,   2265.0,2,  2358.64,2,   7.5885,2,    24.94,     -999,9,     -999,9,   1.0837,2,     -999,9,     -999,9,     -999,     -999,9,     -999,9,     -999,9,     -999,9,    0.062,1,    4.683,1,    0.131,1,     -999,9,     -999,9,20180322,1649, -69.4998,-169.9997,     -999,9,     -999,9,-999          ,9,     -999,9,     -999,9,     -999,     -999,9,     -999,     -999,9,     -999,9,     -999,9,     -999,9,     -999,9,     -999,9,     -999,9,     -999,9,     -999,9,     -999,9,     -999,9,     -999,9,     -999,9,     -999,9
320620180309  ,P15        ,13      ,  1,18         ,18         ,2,20180322,1510, -69.5000,-169.9996,     4183,   1012.3,1.0024444444444442492,34.718792169469673,2,  34.7176,2,198.65028598003806,2, 197.7010,2,    198.4,2,    113.5,2,    32.18,2,     0.00,2,     2.20,2,     -999,9,     -999,9,     -999,9,     -999,9,     -999,9,     -999,9,     -999,     -999,9,     -999,9,   1.0024,2,     -999,9,     -999,9,     -999,     -999,9,     -999,9,     -999,9,     -999,9,    0.062,1,    4.683,1,    0.131,1,     -999,9,     -999,9,20180322,1645, -69.4997,-170.0004,     -999,9,     -999,9,-999          ,9,     -999,9,     -999,9,     -999,     -999,9,     -999,     -999,9,     -999,9,     -999,9,     -999,9,     -999,9,     -999,9,     -999,9,     -999,9,     -999,9,     -999,9,     -999,9,     -999,9,     -999,9,     -999,9
320620180309  ,P15        ,13      ,  1,17         ,17         ,2,20180322,1510, -69.5000,-169.9996,     4183,   1113.7,0.9493916666666666337,34.716476985598099,2,  34.7157,2,199.90083619539129,2, 198.9016,2,    199.2,2,    114.9,2,    32.20,2,     0.00,2,     2.21,2,    0.159,2,    0.081,2,   0.0000,3,     -999,9,     -999,9,     -999,9,     -999,     -999,9,     -999,9,   0.9489,2,     -999,9,     -999,9,     -999,     -999,9,     -999,9,     -999,9,     -999,9,    0.061,1,    4.683,1,    0.130,1,  21.0800,2,     -999,9,20180322,1641, -69.4996,-170.0007,     -999,9,     -999,9,-999          ,9,     -999,9,     -999,9,     -999,     -999,9,     -999,     -999,9,     -999,9,     -999,9,     -999,9,     -999,9,     -999,9,     -999,9,     -999,9,     -999,9,     -999,9,     -999,9,     -999,9,     -999,9,     -999,9
320620180309  ,P15        ,13      ,  1,16         ,16         ,2,20180322,1510, -69.5000,-169.9996,     4183,   1212.5,0.9010638888888888864,34.714961955080938,2,  34.7147,2,201.42747762073728,2, 200.4015,2,    200.2,2,    117.9,2,    32.29,2,     0.00,2,     2.21,2,     -999,9,     -999,9,     -999,9,     -999,9,     -999,9,     -999,9,     -999,     -999,9,     -999,9,   0.9002,2,     -999,9,     -999,9,     -999,     -999,9,     -999,9,     -999,9,     -999,9,    0.061,1,    4.684,1,    0.128,1,     -999,9,     -999,9,20180322,1637, -69.4997,-170.0005,     -999,9,     -999,9,-999          ,9,     -999,9,     -999,9,     -999,     -999,9,     -999,     -999,9,     -999,9,     -999,9,     -999,9,     -999,9,     -999,9,     -999,9,     -999,9,     -999,9,     -999,9,     -999,9,     -999,9,     -999,9,     -999,9