BOTTLE,20240515CCHHYDRO
EXPOCODE,SECT_ID,STNNBR,CASTNO,SAMPNO,BTLNBR,BTLNBR_FLAG_W,DATE,TIME,LATITUDE,LONGITUDE,DEPTH,CTDPRS,CTDTMP,CTDSAL,CTDSAL_FLAG_W,SALNTY,SALNTY_FLAG_W,CTDOXY,CTDOXY_FLAG_W,CTDOPTOXY,CTDOPTOXY_FLAG_W,OXYGEN,OXYGEN_FLAG_W,SILCAT,SILCAT_FLAG_W,NITRAT,NITRAT_FLAG_W,NITRIT,NITRIT_FLAG_W,PHSPHT,PHSPHT_FLAG_W,CFC-11,CFC-11_FLAG_W,CFC-12,CFC-12_FLAG_W,SF6,SF6_FLAG_W,TCARBN,TCARBN_FLAG_W,ALKALI,ALKALI_FLAG_W,PH_TOT,PH_TOT_FLAG_W,PH_TMP,DOC,DOC_FLAG_W,HELIUM,HELIUM_FLAG_W,REFTMP,REFTMP_FLAG_W,DELC13,DELC13_FLAG_W,DELC14,DELC14_FLAG_W,C14ERR,POC,POC_FLAG_W,TDN,TDN_FLAG_W,TON,TON_FLAG_W,NEON,NEON_FLAG_W,CTDFLUOR,CTDFLUOR_FLAG_W,CTDXMISS,CTDXMISS_FLAG_W,CTDBETA700,CTDBETA700_FLAG_W,N2O,N2O_FLAG_W,ARGON,ARGON_FLAG_W,BTL_DATE,BTL_TIME,BTL_LAT,BTL_LON,KRYPTON,KRYPTON_FLAG_W,XENON,XENON_FLAG_W,HPLC,HPLC_FLAG_W,HE3_HE4_RATIO,HE3_HE4_RATIO_FLAG_W,Nd_143_144_D_EPSILON_BOTTLE,Nd_143_144_D_EPSILON_BOTTLE_FLAG_W,Nd_143_144_D_EPSILON_BOTTLE_ERROR,Nd_143_144_D_RATIO_BOTTLE,Nd_143_144_D_RATIO_BOTTLE_FLAG_W,Nd_143_144_D_RATIO_BOTTLE_ERROR,Nd_D_CONC,Nd_D_CONC_FLAG_W,La_D_CONC_BOTTLE,La_D_CONC_BOTTLE_FLAG_W,Ce_D_CONC_BOTTLE,Ce_D_CONC_BOTTLE_FLAG_W,Pr_D_CONC_BOTTLE,Pr_D_CONC_BOTTLE_FLAG_W,Sm_D_CONC_BOTTLE,Sm_D_CONC_BOTTLE_FLAG_W,Eu_D_CONC_BOTTLE,Eu_D_CONC_BOTTLE_FLAG_W,Gd_D_CONC_BOTTLE,Gd_D_CONC_BOTTLE_FLAG_W,Tb_D_CONC_BOTTLE,Tb_D_CONC_BOTTLE_FLAG_W,Dy_D_CONC_BOTTLE,Dy_D_CONC_BOTTLE_FLAG_W,Ho_D_CONC_BOTTLE,Ho_D_CONC_BOTTLE_FLAG_W,Er_D_CONC_BOTTLE,Er_D_CONC_BOTTLE_FLAG_W,Tm_D_CONC_BOTTLE,Tm_D_CONC_BOTTLE_FLAG_W,Yb_D_CONC_BOTTLE,Yb_D_CONC_BOTTLE_FLAG_W,Lu_D_CONC_BOTTLE,Lu_D_CONC_BOTTLE_FLAG_W
,,,,,,,,,,,METERS,DBAR,ITS-90,PSS-78,,PSS-78,,UMOL/KG,,UMOL/KG,,UMOL/KG,,UMOL/KG,,UMOL/KG,,UMOL/KG,,UMOL/KG,,PMOL/KG,,PMOL/KG,,FMOL/KG,,UMOL/KG,,UMOL/KG,,,,DEG C,UMOL/KG,,NMOL/L,,DEG C,,/MILLE,,/MILLE,,/MILLE,UG/KG,,UMOL/KG,,UMOL/KG,,NMOL/L,,VOLTS,,VOLTS,,VOLTS,,NMOL/KG,,UMOL/L,,,,,,NMOL/L,,NMOL/L,,,,,,10000,,10000,,,,PMOL/KG,,PMOL/L,,PMOL/L,,PMOL/L,,PMOL/L,,PMOL/L,,PMOL/L,,PMOL/L,,PMOL/L,,PMOL/L,,PMOL/L,,PMOL/L,,PMOL/L,,PMOL/L,
320620180309  ,P16        ,38      ,  1,36         ,36         ,2,20180403,1540, -74.9946,-150.0433,     3749,      5.5,-1.8144888888888890399,33.816377217284824,2,  33.8128,2,328.09350414425836,2, 330.2022,2,    330.4,2,     57.7,2,    25.13,2,     0.17,2,     1.86,2,    5.579,2,    3.056,2,   3.5900,2,   2184.1,6,  2294.53,2,   7.6433,2,  -237.15,     48.0,2,     -999,9,  -1.8104,2,1.21000000,2, -126.670,2,    0.002,     -999,9,    29.60,2,     -999,1,     -999,9,    0.156,1,    4.575,1,    0.174,1,  18.8300,2,     -999,9,20180403,1759, -74.9995,-150.1162,     -999,9,     -999,9,-999          ,9,     -999,9,     -999,9,     -999,     -999,9,     -999,     -999,9,     -999,9,     -999,9,     -999,9,     -999,9,     -999,9,     -999,9,     -999,9,     -999,9,     -999,9,     -999,9,     -999,9,     -999,9,     -999,9
320620180309  ,P16        ,38      ,  1,35         ,35         ,2,20180403,1540, -74.9946,-150.0433,     3749,     20.1,-1.8303361111111111637,33.814142308981502,2,  33.8111,2,328.86607965004890,2, 331.0998,2,    330.6,2,     57.9,2,    25.08,2,     0.17,2,     1.82,2,     -999,9,     -999,9,     -999,9,   2185.5,2,  2295.38,2,   7.6431,2,  -238.15,     44.6,2,     -999,9,  -1.8312,2,     -999,9,     -999,9,     -999,     -999,9,    29.00,2,     -999,1,     -999,9,    0.153,1,    4.575,1,    0.166,1,     -999,9,     -999,9,20180403,1757, -74.9995,-150.1152,     -999,9,     -999,9,-999          ,9,     -999,9,     -999,9,     -999,     -999,9,     -999,     -999,9,     -999,9,     -999,9,     -999,9,     -999,9,     -999,9,     -999,9,     -999,9,     -999,9,     -999,9,     -999,9,     -999,9,     -999,9,     -999,9
320620180309  ,P16        ,38      ,  1,34         ,34         ,2,20180403,1540, -74.9946,-150.0433,     3749,     40.1,-1.8314916666666662959,33.814413628785587,2,  33.8111,2,329.93322487777164,2, 330.2023,2,    330.6,2,     57.8,2,    25.09,2,     0.17,2,     1.84,2,    5.608,2,    3.019,2,   3.4400,2,   2183.0,2,  2294.46,2,   7.6420,2,  -239.15,     45.4,2,     -999,9,  -1.8323,2,     -999,9,     -999,9,     -999,     -999,9,    28.20,3,     -999,1,     -999,9,    0.154,1,    4.576,1,    0.169,1,  18.5600,2,     -999,9,20180403,1755, -74.9994,-150.1142,     -999,9,     -999,9,-999          ,9,     -999,9,     -999,9,     -999,     -999,9,     -999,     -999,9,     -999,9,     -999,9,     -999,9,     -999,9,     -999,9,     -999,9,     -999,9,     -999,9,     -999,9,     -999,9,     -999,9,     -999,9,     -999,9
320620180309  ,P16        ,38      ,  1,33         ,33         ,2,20180403,1540, -74.9946,-150.0433,     3749,     65.3,-1.6261222222222220246,33.991142183789890,3,  34.0152,2,305.72073258514285,3, 282.6978,3,    288.2,2,     72.1,2,    28.65,2,     0.19,2,     2.08,2,     -999,9,     -999,9,     -999,9,   2212.9,2,  2305.33,2,   7.5927,2,  -240.15,     45.9,2,     -999,9,  -1.6265,2,0.82000000,2, -133.320,2,    0.002,     -999,9,    32.00,2,     -999,1,     -999,9,    0.088,1,    4.632,1,    0.157,1,     -999,9,     -999,9,20180403,1753, -74.9993,-150.1132,     -999,9,     -999,9,-999          ,9,     -999,9,     -999,9,     -999,     -999,9,     -999,     -999,9,     -999,9,     -999,9,     -999,9,     -999,9,     -999,9,     -999,9,     -999,9,     -999,9,     -999,9,     -999,9,     -999,9,     -999,9,     -999,9
320620180309  ,P16        ,38      ,  1,32         ,32         ,2,20180403,1540, -74.9946,-150.0433,     3749,     90.9,-1.6637611111111112461,34.137609716820556,2,  34.1375,2,275.48231174544605,3, 278.1041,2,    278.6,2,     79.8,2,    30.35,2,     0.17,2,     2.15,2,     -999,9,     -999,9,     -999,9,   2225.0,2,  2313.91,2,   7.5760,2,  -241.15,     46.2,2,     -999,9,  -1.6644,2,     -999,9,     -999,9,     -999,     -999,9,    33.00,2,     -999,1,     -999,9,    0.070,1,    4.648,1,    0.150,1,     -999,9,     -999,9,20180403,1751, -74.9992,-150.1122,     -999,9,     -999,9,-999          ,9,     -999,9,     -999,9,     -999,     -999,9,     -999,     -999,9,     -999,9,     -999,9,     -999,9,     -999,9,     -999,9,     -999,9,     -999,9,     -999,9,     -999,9,     -999,9,     -999,9,     -999,9,     -999,9
320620180309  ,P16        ,38      ,  1,31         ,31         ,2,20180403,1540, -74.9946,-150.0433,     3749,    116.3,-1.4140833333333333588,34.175370764752863,2,  34.1762,2,270.69777907937657,2, 270.9992,2,    270.3,2,     79.4,2,    30.89,2,     0.12,2,     2.16,2,    3.703,2,    2.059,2,   2.2700,2,   2225.6,2,  2315.53,2,   7.5763,2,  -242.15,     -999,9,     -999,9,  -1.4149,2,0.69000000,2, -138.860,2,    0.002,     -999,9,     -999,9,     -999,9,     -999,9,    0.068,1,    4.649,1,    0.152,1,  19.8900,2,     -999,9,20180403,1750, -74.9991,-150.1112,     -999,9,     -999,9,-999          ,9,     -999,9,     -999,9,     -999,     -999,9,     -999,     -999,9,     -999,9,     -999,9,     -999,9,     -999,9,     -999,9,     -999,9,     -999,9,     -999,9,     -999,9,     -999,9,     -999,9,     -999,9,     -999,9
320620180309  ,P16        ,38      ,  1,30         ,30         ,2,20180403,1540, -74.9946,-150.0433,     3749,    140.9,-1.2175833333333332398,34.209082937074449,2,  34.2074,2,261.31477423481061,2, 259.9965,3,    263.0,2,     79.9,2,    31.18,2,     0.08,2,     2.17,2,    3.502,2,    1.943,2,   2.1300,2,   2228.4,2,  2315.11,2,   7.5742,2,  -243.15,     46.5,2,     -999,9,  -1.2221,2,0.62000000,2, -137.610,2,    0.002,     -999,9,    32.80,2,     -999,1,     -999,9,    0.067,1,    4.651,1,    0.148,1,  20.6500,2,     -999,9,20180403,1748, -74.9991,-150.1102,     -999,9,     -999,9,-999          ,9,     -999,9,     -999,9,     -999,     -999,9,     -999,     -999,9,     -999,9,     -999,9,     -999,9,     -999,9,     -999,9,     -999,9,     -999,9,     -999,9,     -999,9,     -999,9,     -999,9,     -999,9,     -999,9
320620180309  ,P16        ,38      ,  1,29         ,29         ,2,20180403,1540, -74.9946,-150.0433,     3749,    186.6,-0.5195194444444445336,34.307353429219901,2,  34.3163,2,242.70531819082936,3, 239.6979,2,    239.8,2,     81.5,2,    31.96,2,     0.04,2,     2.18,2,    2.753,2,    1.524,2,   1.5700,2,   2236.1,2,  2320.98,2,   7.5666,2,  -244.15,     45.9,2,     -999,9,  -0.5204,2,0.64000000,2, -137.910,2,    0.002,     -999,9,    33.70,2,     -999,1,     -999,9,    0.066,1,    4.651,1,    0.149,1,  21.8200,2,     -999,9,20180403,1745, -74.9990,-150.1089,     -999,9,     -999,9,-999          ,9,     -999,9,     -999,9,     -999,     -999,9,     -999,     -999,9,     -999,9,     -999,9,     -999,9,     -999,9,     -999,9,     -999,9,     -999,9,     -999,9,     -999,9,     -999,9,     -999,9,     -999,9,     -999,9
320620180309  ,P16        ,38      ,  1,28         ,28         ,2,20180403,1540, -74.9946,-150.0433,     3749,    237.2,0.2619555555555554971,34.440268749761458,2,  34.4432,2,217.52256309969837,2, 217.1968,2,    217.6,2,     83.9,2,    32.42,2,     0.03,2,     2.23,2,     -999,9,     -999,9,     -999,9,     -999,9,     -999,9,     -999,9,     -999,     46.8,2,     -999,9,   0.2621,2,0.52000000,2, -147.350,2,    0.002,     -999,9,    34.30,2,     -999,1,     -999,9,    0.066,1,    4.652,1,    0.152,1,     -999,9,     -999,9,20180403,1743, -74.9989,-150.1076,     -999,9,     -999,9,-999          ,9,     -999,9,     -999,9,     -999,     -999,9,     -999,     -999,9,     -999,9,     -999,9,     -999,9,     -999,9,     -999,9,     -999,9,     -999,9,     -999,9,     -999,9,     -999,9,     -999,9,     -999,9,     -999,9
320620180309  ,P16        ,38      ,  1,27         ,27         ,2,20180403,1540, -74.9946,-150.0433,     3749,    287.7,1.0869333333333335290,34.578237978809490,2,  34.5856,2,197.09933310884932,3, 198.4024,3,    193.9,2,     87.1,2,    32.76,2,     0.03,2,     2.25,2,     -999,9,     -999,9,     -999,9,     -999,9,     -999,9,     -999,9,     -999,     42.7,3,     -999,9,   1.0936,2,0.54000000,2, -146.430,2,    0.002,     -999,9,     -999,9,     -999,1,     -999,9,    0.064,1,    4.654,1,    0.150,1,     -999,9,     -999,9,20180403,1740, -74.9988,-150.1062,     -999,9,     -999,9,-999          ,9,     -999,9,     -999,9,     -999,     -999,9,     -999,     -999,9,     -999,9,     -999,9,     -999,9,     -999,9,     -999,9,     -999,9,     -999,9,     -999,9,     -999,9,     -999,9,     -999,9,     -999,9,     -999,9
320620180309  ,P16        ,38      ,  1,26         ,26         ,2,20180403,1540, -74.9946,-150.0433,     3749,    338.1,1.6161250000000000338,34.682341494884284,2,  34.6839,2,182.11835696183567,2, 185.0976,3,    182.2,2,     90.4,2,    32.70,2,     0.03,2,     2.24,2,    0.475,2,    0.247,2,   0.0700,2,   2259.6,2,  2344.56,2,   7.5649,6,  -247.15,     40.1,3,     -999,9,   1.6151,2,0.51000000,2, -148.990,2,    0.002,     -999,9,     -999,9,     -999,1,     -999,9,    0.063,1,    4.657,1,    0.150,1,  23.7000,2,     -999,9,20180403,1737, -74.9986,-150.1048,     -999,9,     -999,9,-999          ,9,     -999,9,     -999,9,     -999,     -999,9,     -999,     -999,9,     -999,9,     -999,9,     -999,9,     -999,9,     -999,9,     -999,9,     -999,9,     -999,9,     -999,9,     -999,9,     -999,9,     -999,9,     -999,9
320620180309  ,P16        ,38      ,  1,25         ,25         ,2,20180403,1540, -74.9946,-150.0433,     3749,    389.4,1.7082138888888889205,34.715014045897803,2,  34.7159,2,181.85846358041141,2, 182.6980,2,    181.8,2,     92.1,2,    32.34,2,     0.02,2,     2.22,2,    0.314,2,    0.161,2,   0.1000,2,   2258.8,6,  2347.63,2,   7.5736,2,  -248.15,     -999,9,     -999,9,   1.7072,2,     -999,9,     -999,9,     -999,     -999,9,     -999,9,     -999,9,     -999,9,    0.062,1,    4.659,1,    0.144,1,  23.1600,2,     -999,9,20180403,1735, -74.9985,-150.1034,     -999,9,     -999,9,-999          ,9,     -999,9,     -999,9,     -999,     -999,9,     -999,     -999,9,     -999,9,     -999,9,     -999,9,     -999,9,     -999,9,     -999,9,     -999,9,     -999,9,     -999,9,     -999,9,     -999,9,     -999,9,     -999,9
320620180309  ,P16        ,38      ,  1,24         ,24         ,2,20180403,1540, -74.9946,-150.0433,     3749,    439.2,1.6949777777777779164,34.723025891620942,2,  34.7219,2,183.82401922825579,2, 183.5001,2,    183.7,2,     92.9,2,    32.19,2,     0.01,2,     2.20,2,    0.273,2,    0.152,2,   0.2600,2,   2257.7,2,  2350.01,2,   7.5771,2,  -249.15,     45.3,2,     -999,9,   1.6938,2,0.53000000,2, -151.740,2,    0.002,     -999,9,     -999,9,     -999,1,     -999,9,    0.063,1,    4.660,1,    0.141,1,  23.9600,2,     -999,9,20180403,1732, -74.9984,-150.1021,     -999,9,     -999,9,-999          ,9,     -999,9,     -999,9,     -999,     -999,9,     -999,     -999,9,     -999,9,     -999,9,     -999,9,     -999,9,     -999,9,     -999,9,     -999,9,     -999,9,     -999,9,     -999,9,     -999,9,     -999,9,     -999,9
320620180309  ,P16        ,38      ,  1,23         ,23         ,2,20180403,1540, -74.9946,-150.0433,     3749,    490.1,1.6355722222222219830,34.727557102267674,2,  34.7257,2,185.83940131781787,2, 184.3003,2,    185.0,2,     95.8,2,    32.11,2,     0.01,2,     2.21,2,     -999,9,     -999,9,     -999,9,     -999,9,     -999,9,     -999,9,     -999,     45.9,2,     -999,9,   1.6343,2,     -999,9,     -999,9,     -999,     -999,9,     -999,9,     -999,1,     -999,9,    0.062,1,    4.661,1,    0.147,1,     -999,9,     -999,9,20180403,1729, -74.9983,-150.1004,     -999,9,     -999,9,-999          ,9,     -999,9,     -999,9,     -999,     -999,9,     -999,     -999,9,     -999,9,     -999,9,     -999,9,     -999,9,     -999,9,     -999,9,     -999,9,     -999,9,     -999,9,     -999,9,     -999,9,     -999,9,     -999,9
320620180309  ,P16        ,38      ,  1,22         ,37         ,2,20180403,1540, -74.9946,-150.0433,     3749,    571.4,1.5297666666666669411,34.728720736149938,2,  34.7253,2,187.69721261958762,2, 186.0979,2,    186.6,2,     99.0,2,    32.11,2,     0.01,2,     2.19,2,    0.216,2,    0.111,2,   0.0000,2,   2259.9,2,  2353.60,2,   7.5823,2,  -251.15,     44.1,2,     -999,9,   1.5282,2,0.54000000,2, -156.490,2,    0.002,     -999,9,     -999,9,     -999,1,     -999,9,    0.062,1,    4.660,1,    0.138,1,  21.6300,2,     -999,9,20180403,1726, -74.9982,-150.0986,     -999,9,     -999,9,-999          ,9,     -999,9,     -999,9,     -999,     -999,9,     -999,     -999,9,     -999,9,     -999,9,     -999,9,     -999,9,     -999,9,     -999,9,     -999,9,     -999,9,     -999,9,     -999,9,     -999,9,     -999,9,     -999,9
320620180309  ,P16        ,38      ,  1,21         ,21         ,2,20180403,1540, -74.9946,-150.0433,     3749,    673.4,1.4338638888888890488,34.730216400438046,2,  34.7268,2,188.80931735296048,2, 188.4016,2,    189.2,2,    102.2,2,    32.12,2,     0.00,2,     2.20,2,     -999,9,     -999,9,     -999,9,     -999,9,     -999,9,     -999,9,     -999,     43.6,2,     -999,9,   1.4329,2,0.54000000,2, -160.420,2,    0.002,     -999,9,     -999,9,     -999,1,     -999,9,    0.061,1,    4.661,1,    0.136,1,     -999,9,     -999,9,20180403,1722, -74.9980,-150.0967,     -999,9,     -999,9,-999          ,9,     -999,9,     -999,9,     -999,     -999,9,     -999,     -999,9,     -999,9,     -999,9,     -999,9,     -999,9,     -999,9,     -999,9,     -999,9,     -999,9,     -999,9,     -999,9,     -999,9,     -999,9,     -999,9
320620180309  ,P16        ,38      ,  1,20         ,20         ,2,20180403,1540, -74.9946,-150.0433,     3749,    774.5,1.3592527777777778653,34.731046205292770,2,  34.7288,2,189.82377000811067,2, 190.3949,2,    190.2,2,    104.9,2,    32.09,2,     0.00,2,     2.20,2,    0.170,2,    0.091,2,   0.0700,2,   2261.4,2,  2356.63,2,   7.5865,2,  -253.15,     42.5,2,     -999,9,   1.3581,2,0.53000000,2, -157.030,2,    0.002,     -999,9,     -999,9,     -999,1,     -999,9,    0.062,1,    4.660,1,    0.137,1,  22.3700,2,     -999,9,20180403,1719, -74.9979,-150.0949,     -999,9,     -999,9,-999          ,9,     -999,9,     -999,9,     -999,     -999,9,     -999,     -999,9,     -999,9,     -999,9,     -999,9,     -999,9,     -999,9,     -999,9,     -999,9,     -999,9,     -999,9,     -999,9,     -999,9,     -999,9,     -999,9
320620180309  ,P16        ,38      ,  1,19         ,19         ,2,20180403,1540, -74.9946,-150.0433,     3749,    876.0,1.2609000000000001318,34.728629951097517,2,  34.7274,2,191.45282663392678,2, 192.5960,2,    192.7,2,    107.8,2,    32.06,2,     0.00,2,     2.19,2,    0.147,2,    0.083,2,   0.0600,2,   2260.5,2,  2358.64,2,   7.5875,2,  -254.15,     42.4,2,     -999,9,   1.2604,2,0.57000000,2, -160.550,2,    0.002,     -999,9,     -999,9,     -999,1,     -999,9,    0.062,1,    4.660,1,    0.137,1,  21.6300,2,     -999,9,20180403,1715, -74.9978,-150.0930,     -999,9,     -999,9,-999          ,9,     -999,9,     -999,9,     -999,     -999,9,     -999,     -999,9,     -999,9,     -999,9,     -999,9,     -999,9,     -999,9,     -999,9,     -999,9,     -999,9,     -999,9,     -999,9,     -999,9,     -999,9,     -999,9
320620180309  ,P16        ,38      ,  1,18         ,18         ,2,20180403,1540, -74.9946,-150.0433,     3749,    977.5,1.1790249999999999897,34.726054766774595,2,  34.7253,2,192.99140037502650,2, 194.3998,2,    193.8,2,    110.8,2,    32.12,2,     0.00,2,     2.19,2,    0.130,2,    0.063,2,   0.1300,2,   2261.0,2,  2358.65,2,   7.5912,2,  -255.15,     38.9,2,     -999,9,   1.1782,2,0.59000000,2, -160.550,2,    0.002,     -999,9,     -999,9,     -999,1,     -999,9,    0.061,1,    4.660,1,    0.141,1,  21.7600,2,     -999,9,20180403,1712, -74.9976,-150.0913,     -999,9,     -999,9,-999          ,9,     -999,9,     -999,9,     -999,     -999,9,     -999,     -999,9,     -999,9,     -999,9,     -999,9,     -999,9,     -999,9,     -999,9,     -999,9,     -999,9,     -999,9,     -999,9,     -999,9,     -999,9,     -999,9
320620180309  ,P16        ,38      ,  1,17         ,17         ,2,20180403,1540, -74.9946,-150.0433,     3749,   1078.7,1.1154194444444440748,34.723995836791389,2,  34.7247,2,194.68221698750671,2, 195.9007,2,    195.1,2,    112.8,2,    32.18,2,     0.00,2,     2.20,2,     -999,9,     -999,9,     -999,9,     -999,9,     -999,9,     -999,9,     -999,     39.6,2,     -999,9,   1.1148,2,0.61500000,6, -160.820,6,    0.002,     -999,9,     -999,9,     -999,1,     -999,9,    0.061,1,    4.660,1,    0.138,1,     -999,9,     -999,9,20180403,1708, -74.9975,-150.0894,     -999,9,     -999,9,-999          ,9,     -999,9,     -999,9,     -999,     -999,9,     -999,     -999,9,     -999,9,     -999,9,     -999,9,     -999,9,     -999,9,     -999,9,     -999,9,     -999,9,     -999,9,     -999,9,     -999,9,     -999,9,     -999,9
320620180309  ,P16        ,38      ,  1,16         ,16         ,2,20180403,1540, -74.9946,-150.0433,     3749,   1180.8,1.0543333333333333446,34.721626832183922,2,  34.7206,2,196.55599638565428,2, 197.1007,2,    197.3,2,    114.7,2,    32.16,2,     0.00,2,     2.20,2,    0.117,6,    0.056,6,   0.0400,6,   2261.2,2,  2361.12,2,   7.5942,2,  -257.15,     40.8,2,     -999,9,   1.0533,2,0.42000000,3, -160.390,2,    0.002,     -999,9,     -999,9,     -999,1,     -999,9,    0.062,1,    4.660,1,    0.136,1,  21.4300,6,     -999,9,20180403,1704, -74.9973,-150.0870,     -999,9,     -999,9,-999          ,9,     -999,9,     -999,9,     -999,     -999,9,     -999,     -999,9,     -999,9,     -999,9,     -999,9,     -999,9,     -999,9,     -999,9,     -999,9,     -999,9,     -999,9,     -999,9,     -999,9,     -999,9,     -999,9