BOTTLE,20240515CCHHYDRO
EXPOCODE,SECT_ID,STNNBR,CASTNO,SAMPNO,BTLNBR,BTLNBR_FLAG_W,DATE,TIME,LATITUDE,LONGITUDE,DEPTH,CTDPRS,CTDTMP,CTDSAL,CTDSAL_FLAG_W,SALNTY,SALNTY_FLAG_W,CTDOXY,CTDOXY_FLAG_W,CTDOPTOXY,CTDOPTOXY_FLAG_W,OXYGEN,OXYGEN_FLAG_W,SILCAT,SILCAT_FLAG_W,NITRAT,NITRAT_FLAG_W,NITRIT,NITRIT_FLAG_W,PHSPHT,PHSPHT_FLAG_W,CFC-11,CFC-11_FLAG_W,CFC-12,CFC-12_FLAG_W,SF6,SF6_FLAG_W,TCARBN,TCARBN_FLAG_W,ALKALI,ALKALI_FLAG_W,PH_TOT,PH_TOT_FLAG_W,PH_TMP,DOC,DOC_FLAG_W,HELIUM,HELIUM_FLAG_W,REFTMP,REFTMP_FLAG_W,DELC13,DELC13_FLAG_W,DELC14,DELC14_FLAG_W,C14ERR,POC,POC_FLAG_W,TDN,TDN_FLAG_W,TON,TON_FLAG_W,NEON,NEON_FLAG_W,CTDFLUOR,CTDFLUOR_FLAG_W,CTDXMISS,CTDXMISS_FLAG_W,CTDBETA700,CTDBETA700_FLAG_W,N2O,N2O_FLAG_W,ARGON,ARGON_FLAG_W,BTL_DATE,BTL_TIME,BTL_LAT,BTL_LON,KRYPTON,KRYPTON_FLAG_W,XENON,XENON_FLAG_W,HPLC,HPLC_FLAG_W,HE3_HE4_RATIO,HE3_HE4_RATIO_FLAG_W,Nd_143_144_D_EPSILON_BOTTLE,Nd_143_144_D_EPSILON_BOTTLE_FLAG_W,Nd_143_144_D_EPSILON_BOTTLE_ERROR,Nd_143_144_D_RATIO_BOTTLE,Nd_143_144_D_RATIO_BOTTLE_FLAG_W,Nd_143_144_D_RATIO_BOTTLE_ERROR,Nd_D_CONC,Nd_D_CONC_FLAG_W,La_D_CONC_BOTTLE,La_D_CONC_BOTTLE_FLAG_W,Ce_D_CONC_BOTTLE,Ce_D_CONC_BOTTLE_FLAG_W,Pr_D_CONC_BOTTLE,Pr_D_CONC_BOTTLE_FLAG_W,Sm_D_CONC_BOTTLE,Sm_D_CONC_BOTTLE_FLAG_W,Eu_D_CONC_BOTTLE,Eu_D_CONC_BOTTLE_FLAG_W,Gd_D_CONC_BOTTLE,Gd_D_CONC_BOTTLE_FLAG_W,Tb_D_CONC_BOTTLE,Tb_D_CONC_BOTTLE_FLAG_W,Dy_D_CONC_BOTTLE,Dy_D_CONC_BOTTLE_FLAG_W,Ho_D_CONC_BOTTLE,Ho_D_CONC_BOTTLE_FLAG_W,Er_D_CONC_BOTTLE,Er_D_CONC_BOTTLE_FLAG_W,Tm_D_CONC_BOTTLE,Tm_D_CONC_BOTTLE_FLAG_W,Yb_D_CONC_BOTTLE,Yb_D_CONC_BOTTLE_FLAG_W,Lu_D_CONC_BOTTLE,Lu_D_CONC_BOTTLE_FLAG_W
,,,,,,,,,,,METERS,DBAR,ITS-90,PSS-78,,PSS-78,,UMOL/KG,,UMOL/KG,,UMOL/KG,,UMOL/KG,,UMOL/KG,,UMOL/KG,,UMOL/KG,,PMOL/KG,,PMOL/KG,,FMOL/KG,,UMOL/KG,,UMOL/KG,,,,DEG C,UMOL/KG,,NMOL/L,,DEG C,,/MILLE,,/MILLE,,/MILLE,UG/KG,,UMOL/KG,,UMOL/KG,,NMOL/L,,VOLTS,,VOLTS,,VOLTS,,NMOL/KG,,UMOL/L,,,,,,NMOL/L,,NMOL/L,,,,,,10000,,10000,,,,PMOL/KG,,PMOL/L,,PMOL/L,,PMOL/L,,PMOL/L,,PMOL/L,,PMOL/L,,PMOL/L,,PMOL/L,,PMOL/L,,PMOL/L,,PMOL/L,,PMOL/L,,PMOL/L,
320620180309  ,S04P       ,24      ,  1,15         ,15         ,2,20180327,1135, -67.0002,-179.2944,     3616,   1352.0,0.8250000000000000666,34.711705117031045,2,  34.7107,2,205.31458711912259,2, 204.0022,2,    203.5,2,    118.6,2,    32.37,2,     0.00,2,     2.25,2,     -999,9,     -999,9,     -999,9,   2263.3,2,  2361.91,2,   7.5954,2,    24.96,     38.5,2,     -999,9,   0.8263,2,     -999,9,     -999,9,     -999,     -999,9,     -999,9,     -999,1,     -999,9,    0.061,1,    4.676,1,    0.132,1,     -999,9,     -999,9,20180327,1239, -67.0006,-179.2925,     -999,9,     -999,9,-999          ,9,     -999,9,     -999,9,     -999,     -999,9,     -999,     -999,9,     -999,9,     -999,9,     -999,9,     -999,9,     -999,9,     -999,9,     -999,9,     -999,9,     -999,9,     -999,9,     -999,9,     -999,9,     -999,9
320620180309  ,S04P       ,24      ,  1,14         ,14         ,2,20180327,1135, -67.0002,-179.2944,     3616,   1453.7,0.7810111111111112114,34.710142821571573,2,  34.7084,2,205.85799552255313,2, 205.5047,2,    204.4,2,    119.6,2,    32.42,2,     0.00,2,     2.25,2,    0.200,2,    0.114,2,   0.1000,2,   2262.1,2,  2362.73,2,   7.5965,2,    24.94,     40.1,2,     -999,9,   0.7798,2,     -999,9,     -999,9,     -999,     -999,9,     -999,9,     -999,1,     -999,9,    0.061,1,    4.674,1,    0.135,1,  19.4700,2,     -999,9,20180327,1236, -67.0007,-179.2923,     -999,9,     -999,9,-999          ,9,     -999,9,     -999,9,     -999,     -999,9,     -999,     -999,9,     -999,9,     -999,9,     -999,9,     -999,9,     -999,9,     -999,9,     -999,9,     -999,9,     -999,9,     -999,9,     -999,9,     -999,9,     -999,9
320620180309  ,S04P       ,24      ,  1,13         ,13         ,2,20180327,1135, -67.0002,-179.2944,     3616,   1555.1,0.7065277777777779766,34.704890288936795,2,  34.7072,2,206.72506949304801,2, 206.3004,2,    207.9,2,    119.0,2,    32.28,2,     0.00,2,     2.25,2,     -999,9,     -999,9,     -999,9,   2261.9,2,  2363.06,2,   7.5985,2,    24.95,     -999,9,     -999,9,   0.7057,2,     -999,9,     -999,9,     -999,     -999,9,     -999,9,     -999,9,     -999,9,    0.062,1,    4.674,1,    0.137,1,     -999,9,     -999,9,20180327,1232, -67.0006,-179.2924,     -999,9,     -999,9,-999          ,9,     -999,9,     -999,9,     -999,     -999,9,     -999,     -999,9,     -999,9,     -999,9,     -999,9,     -999,9,     -999,9,     -999,9,     -999,9,     -999,9,     -999,9,     -999,9,     -999,9,     -999,9,     -999,9
320620180309  ,S04P       ,24      ,  1,12         ,12         ,2,20180327,1135, -67.0002,-179.2944,     3616,   1657.3,0.6663916666666664934,34.702975098225892,2,  34.7023,2,207.07228754913515,2, 207.0958,2,    209.0,2,    120.5,2,    32.35,2,     0.00,2,     2.24,2,    0.357,2,    0.200,2,   0.1000,2,   2262.0,2,  2363.26,2,   7.5958,2,    24.95,     40.7,2,     -999,9,   0.6653,2,     -999,9,     -999,9,     -999,     -999,9,     -999,9,     -999,1,     -999,9,    0.061,1,    4.673,1,    0.135,1,  19.1700,2,     -999,9,20180327,1229, -67.0006,-179.2924,     -999,9,     -999,9,-999          ,9,     -999,9,     -999,9,     -999,     -999,9,     -999,     -999,9,     -999,9,     -999,9,     -999,9,     -999,9,     -999,9,     -999,9,     -999,9,     -999,9,     -999,9,     -999,9,     -999,9,     -999,9,     -999,9
320620180309  ,S04P       ,24      ,  1,11         ,11         ,2,20180327,1135, -67.0002,-179.2944,     3616,   1759.5,0.6256805555555555731,34.701733057183411,2,  34.7013,2,207.76718529592515,2, 208.0020,2,    209.6,2,    121.7,2,    32.34,2,     0.00,2,     2.25,2,    0.361,2,    0.211,2,   0.1200,2,   2263.3,2,  2363.00,2,   7.5955,2,    24.96,     -999,9,     -999,9,   0.6248,2,     -999,9,     -999,9,     -999,     -999,9,     -999,9,     -999,9,     -999,9,    0.061,1,    4.673,1,    0.135,1,  18.7100,2,     -999,9,20180327,1226, -67.0006,-179.2926,     -999,9,     -999,9,-999          ,9,     -999,9,     -999,9,     -999,     -999,9,     -999,     -999,9,     -999,9,     -999,9,     -999,9,     -999,9,     -999,9,     -999,9,     -999,9,     -999,9,     -999,9,     -999,9,     -999,9,     -999,9,     -999,9
320620180309  ,S04P       ,24      ,  1,10         ,10         ,2,20180327,1135, -67.0002,-179.2944,     3616,   1891.4,0.6027305555555555472,34.703425712636722,2,  34.7025,2,208.43226490892900,2, 209.0978,2,    208.3,2,    124.9,2,    32.47,2,     0.00,2,     2.25,2,    0.249,2,    0.151,2,   0.0200,2,   2265.5,2,  2362.29,2,   7.5961,2,    24.95,     39.9,2,     -999,9,   0.6014,2,     -999,9,     -999,9,     -999,     -999,9,     -999,9,     -999,1,     -999,9,    0.060,1,    4.676,1,    0.129,1,  19.7300,2,     -999,9,20180327,1223, -67.0006,-179.2926,     -999,9,     -999,9,-999          ,9,     -999,9,     -999,9,     -999,     -999,9,     -999,     -999,9,     -999,9,     -999,9,     -999,9,     -999,9,     -999,9,     -999,9,     -999,9,     -999,9,     -999,9,     -999,9,     -999,9,     -999,9,     -999,9
320620180309  ,S04P       ,24      ,  1,9          ,9          ,2,20180327,1135, -67.0002,-179.2944,     3616,   2095.9,0.5379111111111111176,34.700907881313235,2,  34.6998,2,210.82159751342095,2, 210.4013,2,    209.8,2,    125.7,2,    32.51,2,     0.00,2,     2.25,2,    0.296,2,    0.161,2,   0.1300,2,   2263.6,6,  2363.42,2,   7.5942,2,    24.95,     39.0,2,     -999,9,   0.5372,2,     -999,9,     -999,9,     -999,     -999,9,     -999,9,     -999,1,     -999,9,    0.061,1,    4.676,1,    0.130,1,  18.5100,2,     -999,9,20180327,1217, -67.0006,-179.2926,     -999,9,     -999,9,-999          ,9,     -999,9,     -999,9,     -999,     -999,9,     -999,     -999,9,     -999,9,     -999,9,     -999,9,     -999,9,     -999,9,     -999,9,     -999,9,     -999,9,     -999,9,     -999,9,     -999,9,     -999,9,     -999,9
320620180309  ,S04P       ,24      ,  1,8          ,8          ,2,20180327,1135, -67.0002,-179.2944,     3616,   2299.7,0.4697861111111111820,34.699905946483760,2,  34.6994,2,212.42159224841308,2, 214.0004,2,    211.4,2,    127.8,2,    32.57,2,     0.00,2,     2.25,2,    0.291,2,    0.170,2,   0.1200,2,   2265.8,2,  2363.56,2,   7.5943,2,    24.95,     40.2,2,     -999,9,   0.4689,2,     -999,9,     -999,9,     -999,     -999,9,     -999,9,     -999,1,     -999,9,    0.061,1,    4.676,1,    0.128,1,  18.7300,2,     -999,9,20180327,1212, -67.0006,-179.2925,     -999,9,     -999,9,-999          ,9,     -999,9,     -999,9,     -999,     -999,9,     -999,     -999,9,     -999,9,     -999,9,     -999,9,     -999,9,     -999,9,     -999,9,     -999,9,     -999,9,     -999,9,     -999,9,     -999,9,     -999,9,     -999,9
320620180309  ,S04P       ,24      ,  1,7          ,7          ,2,20180327,1135, -67.0002,-179.2944,     3616,   2504.7,0.3897194444444444517,34.696071117210700,2,  34.6952,2,214.43477414455839,3, 215.6004,2,    214.5,2,    127.6,2,    32.54,2,     0.00,2,     2.25,2,     -999,9,     -999,9,     -999,9,   2264.7,2,  2362.13,2,   7.5940,6,    24.96,     43.3,2,     -999,9,   0.3898,2,     -999,9,     -999,9,     -999,     -999,9,     -999,9,     -999,1,     -999,9,    0.060,1,    4.676,1,    0.129,1,     -999,9,     -999,9,20180327,1207, -67.0005,-179.2930,     -999,9,     -999,9,-999          ,9,     -999,9,     -999,9,     -999,     -999,9,     -999,     -999,9,     -999,9,     -999,9,     -999,9,     -999,9,     -999,9,     -999,9,     -999,9,     -999,9,     -999,9,     -999,9,     -999,9,     -999,9,     -999,9
320620180309  ,S04P       ,24      ,  1,6          ,6          ,2,20180327,1135, -67.0002,-179.2944,     3616,   2709.6,0.3522944444444444101,34.696364842722872,2,  34.6949,2,217.48720493530865,2, 216.8985,2,    215.0,2,    128.3,2,    32.56,2,     0.00,2,     2.25,2,    0.442,2,    0.254,2,   0.2200,2,   2264.5,2,  2363.83,2,   7.5929,6,    24.95,     42.1,2,     -999,9,   0.3516,2,     -999,9,     -999,9,     -999,     -999,9,     -999,9,     -999,1,     -999,9,    0.060,1,    4.674,1,    0.128,1,  19.2900,2,     -999,9,20180327,1202, -67.0005,-179.2932,     -999,9,     -999,9,-999          ,9,     -999,9,     -999,9,     -999,     -999,9,     -999,     -999,9,     -999,9,     -999,9,     -999,9,     -999,9,     -999,9,     -999,9,     -999,9,     -999,9,     -999,9,     -999,9,     -999,9,     -999,9,     -999,9
320620180309  ,S04P       ,24      ,  1,5          ,5          ,2,20180327,1135, -67.0002,-179.2944,     3616,   2913.2,0.3058555555555555472,34.695709600989602,3,  34.6937,2,220.08575910261482,2, 218.3011,2,    217.2,2,    129.0,2,    32.56,2,     0.00,2,     2.25,2,    0.520,2,    0.300,2,   0.1900,2,   2263.2,2,  2363.50,2,   7.5927,2,    24.95,     38.8,2,     -999,9,   0.3052,2,     -999,9,     -999,9,     -999,     -999,9,     -999,9,     -999,1,     -999,9,    0.061,1,    4.675,1,    0.129,1,  19.1200,2,     -999,9,20180327,1156, -67.0004,-179.2934,     -999,9,     -999,9,-999          ,9,     -999,9,     -999,9,     -999,     -999,9,     -999,     -999,9,     -999,9,     -999,9,     -999,9,     -999,9,     -999,9,     -999,9,     -999,9,     -999,9,     -999,9,     -999,9,     -999,9,     -999,9,     -999,9
320620180309  ,S04P       ,24      ,  1,4          ,4          ,2,20180327,1135, -67.0002,-179.2944,     3616,   3153.6,0.2163166666666666293,34.688187521861103,2,  34.6866,2,222.49461391909841,3, 218.2990,2,    221.0,2,    124.2,2,    32.43,2,     0.00,2,     2.25,2,    0.859,2,    0.480,2,   0.3600,2,   2264.3,2,  2362.22,2,   7.5926,2,    24.95,     39.7,2,     -999,9,   0.2180,2,     -999,9,     -999,9,     -999,     -999,9,     -999,9,     -999,1,     -999,9,    0.060,1,    4.677,1,    0.128,1,  18.7600,2,     -999,9,20180327,1150, -67.0004,-179.2937,     -999,9,     -999,9,-999          ,9,     -999,9,     -999,9,     -999,     -999,9,     -999,     -999,9,     -999,9,     -999,9,     -999,9,     -999,9,     -999,9,     -999,9,     -999,9,     -999,9,     -999,9,     -999,9,     -999,9,     -999,9,     -999,9
320620180309  ,S04P       ,24      ,  1,3          ,3          ,2,20180327,1135, -67.0002,-179.2944,     3616,   3461.1,0.1288527777777777605,34.683000408059932,3,  34.6809,2,224.19853802655174,2, 224.3965,2,    225.7,2,    117.4,2,    32.25,2,     0.00,2,     2.24,2,    1.304,2,    0.714,2,   0.5900,2,   2261.1,2,  2359.93,2,   7.5900,2,    24.95,     42.2,2,     -999,9,   0.1290,2,     -999,9,     -999,9,     -999,     -999,9,     -999,9,     -999,1,     -999,9,    0.061,1,    4.675,1,    0.131,1,  19.4400,2,     -999,9,20180327,1143, -67.0004,-179.2935,     -999,9,     -999,9,-999          ,9,     -999,9,     -999,9,     -999,     -999,9,     -999,     -999,9,     -999,9,     -999,9,     -999,9,     -999,9,     -999,9,     -999,9,     -999,9,     -999,9,     -999,9,     -999,9,     -999,9,     -999,9,     -999,9
320620180309  ,S04P       ,24      ,  1,2          ,2          ,2,20180327,1135, -67.0002,-179.2944,     3616,   3564.9,0.1246472222222222009,34.682859954753852,2,  34.6815,2,224.30742043621080,2, 224.4002,2,    226.0,2,    116.1,2,    32.22,2,     0.00,2,     2.23,2,    1.374,2,    0.760,2,   0.6600,2,   2261.3,2,  2359.24,2,   7.5919,2,    24.95,     -999,9,     -999,9,   0.1240,2,     -999,9,     -999,9,     -999,     -999,9,     -999,9,     -999,9,     -999,9,    0.061,1,    4.673,1,    0.137,1,  19.0000,2,     -999,9,20180327,1140, -67.0004,-179.2937,     -999,9,     -999,9,-999          ,9,     -999,9,     -999,9,     -999,     -999,9,     -999,     -999,9,     -999,9,     -999,9,     -999,9,     -999,9,     -999,9,     -999,9,     -999,9,     -999,9,     -999,9,     -999,9,     -999,9,     -999,9,     -999,9
320620180309  ,S04P       ,24      ,  1,1          ,1          ,2,20180327,1135, -67.0002,-179.2944,     3616,   3674.3,0.1155388888888888854,34.683174036099423,2,  34.6835,2,224.39712250872910,2, 224.4010,2,    226.8,2,    115.6,2,    32.18,2,     0.00,2,     2.24,2,    1.450,2,    0.784,2,   0.6800,2,   2262.3,6,  2358.99,2,   7.5891,2,    24.95,     40.2,2,     -999,9,   0.1151,2,     -999,9,     -999,9,     -999,     -999,9,     -999,9,     -999,1,     -999,9,    0.060,1,    4.657,1,    0.159,1,  19.1100,2,     -999,9,20180327,1135, -67.0002,-179.2944,     -999,9,     -999,9,-999          ,9,     -999,9,     -999,9,     -999,     -999,9,     -999,     -999,9,     -999,9,     -999,9,     -999,9,     -999,9,     -999,9,     -999,9,     -999,9,     -999,9,     -999,9,     -999,9,     -999,9,     -999,9,     -999,9