BOTTLE,20240515CCHHYDRO
EXPOCODE,SECT_ID,STNNBR,CASTNO,SAMPNO,BTLNBR,BTLNBR_FLAG_W,DATE,TIME,LATITUDE,LONGITUDE,DEPTH,CTDPRS,CTDTMP,CTDSAL,CTDSAL_FLAG_W,SALNTY,SALNTY_FLAG_W,CTDOXY,CTDOXY_FLAG_W,CTDOPTOXY,CTDOPTOXY_FLAG_W,OXYGEN,OXYGEN_FLAG_W,SILCAT,SILCAT_FLAG_W,NITRAT,NITRAT_FLAG_W,NITRIT,NITRIT_FLAG_W,PHSPHT,PHSPHT_FLAG_W,CFC-11,CFC-11_FLAG_W,CFC-12,CFC-12_FLAG_W,SF6,SF6_FLAG_W,TCARBN,TCARBN_FLAG_W,ALKALI,ALKALI_FLAG_W,PH_TOT,PH_TOT_FLAG_W,PH_TMP,DOC,DOC_FLAG_W,HELIUM,HELIUM_FLAG_W,REFTMP,REFTMP_FLAG_W,DELC13,DELC13_FLAG_W,DELC14,DELC14_FLAG_W,C14ERR,POC,POC_FLAG_W,TDN,TDN_FLAG_W,TON,TON_FLAG_W,NEON,NEON_FLAG_W,CTDFLUOR,CTDFLUOR_FLAG_W,CTDXMISS,CTDXMISS_FLAG_W,CTDBETA700,CTDBETA700_FLAG_W,N2O,N2O_FLAG_W,ARGON,ARGON_FLAG_W,BTL_DATE,BTL_TIME,BTL_LAT,BTL_LON,KRYPTON,KRYPTON_FLAG_W,XENON,XENON_FLAG_W,HPLC,HPLC_FLAG_W,HE3_HE4_RATIO,HE3_HE4_RATIO_FLAG_W,Nd_143_144_D_EPSILON_BOTTLE,Nd_143_144_D_EPSILON_BOTTLE_FLAG_W,Nd_143_144_D_EPSILON_BOTTLE_ERROR,Nd_143_144_D_RATIO_BOTTLE,Nd_143_144_D_RATIO_BOTTLE_FLAG_W,Nd_143_144_D_RATIO_BOTTLE_ERROR,Nd_D_CONC,Nd_D_CONC_FLAG_W,La_D_CONC_BOTTLE,La_D_CONC_BOTTLE_FLAG_W,Ce_D_CONC_BOTTLE,Ce_D_CONC_BOTTLE_FLAG_W,Pr_D_CONC_BOTTLE,Pr_D_CONC_BOTTLE_FLAG_W,Sm_D_CONC_BOTTLE,Sm_D_CONC_BOTTLE_FLAG_W,Eu_D_CONC_BOTTLE,Eu_D_CONC_BOTTLE_FLAG_W,Gd_D_CONC_BOTTLE,Gd_D_CONC_BOTTLE_FLAG_W,Tb_D_CONC_BOTTLE,Tb_D_CONC_BOTTLE_FLAG_W,Dy_D_CONC_BOTTLE,Dy_D_CONC_BOTTLE_FLAG_W,Ho_D_CONC_BOTTLE,Ho_D_CONC_BOTTLE_FLAG_W,Er_D_CONC_BOTTLE,Er_D_CONC_BOTTLE_FLAG_W,Tm_D_CONC_BOTTLE,Tm_D_CONC_BOTTLE_FLAG_W,Yb_D_CONC_BOTTLE,Yb_D_CONC_BOTTLE_FLAG_W,Lu_D_CONC_BOTTLE,Lu_D_CONC_BOTTLE_FLAG_W
,,,,,,,,,,,METERS,DBAR,ITS-90,PSS-78,,PSS-78,,UMOL/KG,,UMOL/KG,,UMOL/KG,,UMOL/KG,,UMOL/KG,,UMOL/KG,,UMOL/KG,,PMOL/KG,,PMOL/KG,,FMOL/KG,,UMOL/KG,,UMOL/KG,,,,DEG C,UMOL/KG,,NMOL/L,,DEG C,,/MILLE,,/MILLE,,/MILLE,UG/KG,,UMOL/KG,,UMOL/KG,,NMOL/L,,VOLTS,,VOLTS,,VOLTS,,NMOL/KG,,UMOL/L,,,,,,NMOL/L,,NMOL/L,,,,,,10000,,10000,,,,PMOL/KG,,PMOL/L,,PMOL/L,,PMOL/L,,PMOL/L,,PMOL/L,,PMOL/L,,PMOL/L,,PMOL/L,,PMOL/L,,PMOL/L,,PMOL/L,,PMOL/L,,PMOL/L,
320620180309  ,S04P       ,120     ,  1,36         ,36         ,2,20180509,0151, -66.5997, -73.4998,     3581,      6.4,-0.7090082105522098610,33.785594769669068,2,  33.7839,2,334.94004173498246,2, 334.2999,2,    334.9,2,     46.9,2,    26.92,2,     0.21,2,     1.83,2,    5.557,2,    2.983,2,   4.0300,2,   2176.5,6,  2288.18,2,   7.6484,2,    24.98,     42.8,2,     -999,9,  -0.7078,2,1.29000000,2, -110.450,2,    0.003,     -999,9,    29.50,2,     -999,1,     -999,9,    0.124,1,    4.598,1,    0.167,1,  15.5100,2,     -999,9,20180509,0342, -66.5995, -73.4999,     -999,9,     -999,9,-999          ,9,     -999,9,     -999,9,     -999,     -999,9,     -999,     -999,9,     -999,1,     -999,1,     -999,1,     -999,1,     -999,1,     -999,1,     -999,1,     -999,1,     -999,1,     -999,1,     -999,1,     -999,1,     -999,1
320620180309  ,S04P       ,120     ,  1,35         ,35         ,2,20180509,0151, -66.5997, -73.4998,     3581,     19.9,-0.7083221343035283057,33.785420168440368,2,  33.7835,2,335.78041597630295,2, 334.3035,2,    334.9,2,     46.9,2,    26.95,2,     0.20,2,     1.83,2,     -999,9,     -999,9,     -999,9,   2177.2,2,  2288.23,2,   7.6487,6,    24.98,     42.8,2,     -999,1,  -0.7074,2,1.24000000,2, -107.080,2,    0.002,     -999,9,    28.50,2,     -999,1,     -999,1,    0.119,1,    4.598,1,    0.167,1,     -999,9,     -999,1,20180509,0340, -66.5995, -73.5000,     -999,1,     -999,1,-999          ,9,     -999,1,     -999,9,     -999,     -999,9,     -999,     -999,9,     -999,1,     -999,1,     -999,1,     -999,1,     -999,1,     -999,1,     -999,1,     -999,1,     -999,1,     -999,1,     -999,1,     -999,1,     -999,1
320620180309  ,S04P       ,120     ,  1,34         ,34         ,2,20180509,0151, -66.5997, -73.4998,     3581,     40.2,-0.7045763474568019769,33.785282239625829,2,  33.7833,2,337.07873228669018,2, 334.3029,2,    334.8,2,     46.8,2,    26.93,2,     0.21,2,     1.85,2,     -999,9,     -999,9,     -999,9,   2176.9,2,  2289.66,2,   7.6482,2,    24.96,     42.7,2,     -999,9,  -0.7020,2,1.26000000,2, -105.790,2,    0.002,     -999,9,    29.30,2,     -999,1,     -999,9,    0.118,1,    4.598,1,    0.168,1,     -999,9,     -999,9,20180509,0339, -66.5995, -73.5001,     -999,9,     -999,9,-999          ,9,     -999,9,     -999,9,     -999,     -999,9,     -999,     -999,9,     -999,9,     -999,9,     -999,9,     -999,9,     -999,9,     -999,9,     -999,9,     -999,9,     -999,9,     -999,9,     -999,9,     -999,9,     -999,9
320620180309  ,S04P       ,120     ,  1,33         ,33         ,2,20180509,0151, -66.5997, -73.4998,     3581,     65.8,-0.6791934165619818442,33.789890886052177,2,  33.7888,2,338.92073730686451,3, 334.2965,2,    332.9,2,     47.2,2,    27.03,2,     0.20,2,     1.86,2,    5.542,2,    2.991,2,   3.7500,2,   2175.8,2,  2287.87,2,   7.6473,2,    24.97,     42.1,2,     -999,1,  -0.6823,2,1.24000000,2, -107.520,2,    0.002,     -999,9,    29.90,2,     -999,1,     -999,1,    0.118,1,    4.598,1,    0.173,1,  16.1300,2,     -999,1,20180509,0337, -66.5995, -73.5001,     -999,1,     -999,1,-999          ,9,     -999,1,     -999,9,     -999,     -999,9,     -999,     -999,9,     -999,1,     -999,1,     -999,1,     -999,1,     -999,1,     -999,1,     -999,1,     -999,1,     -999,1,     -999,1,     -999,1,     -999,1,     -999,1
320620180309  ,S04P       ,120     ,  1,32         ,32         ,2,20180509,0151, -66.5997, -73.4998,     3581,     90.0,-0.6406913491968606600,33.828693815564812,2,  33.8382,2,332.88788457527522,3, 332.2037,3,    323.9,2,     50.1,2,    27.74,2,     0.19,2,     1.90,2,     -999,9,     -999,9,     -999,9,   2183.7,2,  2292.27,2,   7.6358,2,    24.97,     42.5,2,     -999,9,  -0.6405,2,1.17000000,2, -111.040,2,    0.002,     -999,9,    29.60,2,     -999,1,     -999,9,    0.111,1,    4.600,1,    0.170,1,     -999,9,     -999,9,20180509,0335, -66.5995, -73.5001,     -999,9,     -999,9,-999          ,9,     -999,9,     -999,9,     -999,     -999,9,     -999,     -999,9,     -999,9,     -999,9,     -999,9,     -999,9,     -999,9,     -999,9,     -999,9,     -999,9,     -999,9,     -999,9,     -999,9,     -999,9,     -999,9
320620180309  ,S04P       ,120     ,  1,31         ,31         ,2,20180509,0151, -66.5997, -73.4998,     3581,    115.5,0.3593998259594378686,34.327753813216610,2,  34.3308,2,229.41605618098347,3, 225.3037,3,    223.2,2,     73.7,2,    33.45,2,     0.04,2,     2.25,2,    2.551,2,    1.369,2,   1.3500,2,   2241.5,2,  2320.67,2,   7.5493,2,    24.97,     41.3,2,     -999,1,   0.3689,2,0.59000000,2, -135.230,2,    0.002,     -999,9,     -999,9,     -999,1,     -999,1,    0.085,1,    4.618,1,    0.157,1,  21.1800,2,     -999,1,20180509,0333, -66.5995, -73.5001,     -999,1,     -999,1,-999          ,9,     -999,1,     -999,9,     -999,     -999,9,     -999,     -999,9,     -999,1,     -999,1,     -999,1,     -999,1,     -999,1,     -999,1,     -999,1,     -999,1,     -999,1,     -999,1,     -999,1,     -999,1,     -999,1
320620180309  ,S04P       ,120     ,  1,30         ,30         ,2,20180509,0151, -66.5997, -73.4998,     3581,    140.1,1.2303102211778285113,34.473655300773125,2,  34.4732,2,196.69484327764286,3, 201.2987,3,    194.3,2,     77.5,2,    34.27,2,     0.02,2,     2.29,2,    1.602,2,    0.852,2,   0.8700,2,   2253.5,2,  2332.55,2,   7.5392,2,    24.97,     39.8,2,     -999,9,   1.2270,2,0.52000000,2, -142.760,2,    0.002,     -999,9,     -999,9,     -999,1,     -999,9,    0.069,1,    4.629,1,    0.150,1,  21.9600,2,     -999,9,20180509,0332, -66.5995, -73.4999,     -999,9,     -999,9,-999          ,9,     -999,9,     -999,9,     -999,     -999,9,     -999,     -999,9,     -999,9,     -999,9,     -999,9,     -999,9,     -999,9,     -999,9,     -999,9,     -999,9,     -999,9,     -999,9,     -999,9,     -999,9,     -999,9
320620180309  ,S04P       ,120     ,  1,29         ,29         ,2,20180509,0151, -66.5997, -73.4998,     3581,    186.7,1.7450332200994917997,34.577277846972088,2,  34.5777,2,178.66737880118598,2, 181.5983,3,    179.2,2,     81.3,2,    34.23,2,     0.01,2,     2.29,2,    0.923,2,    0.488,2,   0.3600,2,   2259.7,2,  2336.80,2,   7.5427,2,    24.97,     -999,5,     -999,1,   1.7451,2,0.58000000,2, -147.190,2,    0.002,     -999,9,     -999,5,     -999,1,     -999,1,    0.063,1,    4.633,1,    0.143,1,  22.7400,2,     -999,1,20180509,0329, -66.5997, -73.4995,     -999,1,     -999,1,-999          ,9,     -999,1,     -999,9,     -999,     -999,9,     -999,     -999,9,     -999,1,     -999,1,     -999,1,     -999,1,     -999,1,     -999,1,     -999,1,     -999,1,     -999,1,     -999,1,     -999,1,     -999,1,     -999,1
320620180309  ,S04P       ,120     ,  1,28         ,28         ,2,20180509,0151, -66.5997, -73.4998,     3581,    235.9,1.8762482563827629356,34.632777058243732,2,  34.6325,2,173.35308892837057,2, 175.8987,2,    174.3,2,     84.1,2,    33.91,2,     0.00,2,     2.27,2,    0.625,2,    0.333,2,   0.4000,2,   2261.9,2,  2345.17,3,   7.5476,2,    24.97,     39.4,2,     -999,9,   1.8794,2,0.54000000,2, -145.500,2,    0.002,     -999,9,    35.60,2,     -999,1,     -999,9,    0.062,1,    4.636,1,    0.140,1,  22.6200,2,     -999,9,20180509,0327, -66.5999, -73.4990,     -999,9,     -999,9,-999          ,9,     -999,9,     -999,9,     -999,     -999,9,     -999,     -999,9,     -999,9,     -999,9,     -999,9,     -999,9,     -999,9,     -999,9,     -999,9,     -999,9,     -999,9,     -999,9,     -999,9,     -999,9,     -999,9
320620180309  ,S04P       ,120     ,  1,27         ,27         ,2,20180509,0151, -66.5997, -73.4998,     3581,    287.6,1.9499858354358841073,34.660496212337236,2,  34.6597,2,173.36992612203281,2, 174.5019,2,    173.5,2,     85.1,2,    33.54,2,     0.00,2,     2.25,2,    0.472,2,    0.251,2,   0.1500,2,   2262.6,6,  2343.56,2,   7.5533,2,    24.99,     -999,5,     -999,1,   1.9500,2,0.59000000,2, -143.790,2,    0.001,     -999,9,     -999,5,     -999,1,     -999,1,    0.062,1,    4.638,1,    0.138,1,  21.6100,2,     -999,1,20180509,0325, -66.6001, -73.4986,     -999,1,     -999,1,-999          ,9,     -999,1,     -999,9,     -999,     -999,9,     -999,     -999,9,     -999,1,     -999,1,     -999,1,     -999,1,     -999,1,     -999,1,     -999,1,     -999,1,     -999,1,     -999,1,     -999,1,     -999,1,     -999,1
320620180309  ,S04P       ,120     ,  1,26         ,38         ,2,20180509,0151, -66.5997, -73.4998,     3581,    337.3,1.9722368149822377958,34.677883507198892,2,  34.6774,2,174.88007378108955,2, 174.8007,2,    174.7,2,     85.8,2,    33.24,2,     0.00,2,     2.24,2,    0.393,2,    0.208,2,   0.2200,2,   2258.8,2,  2346.75,2,   7.5588,2,    24.99,     39.6,2,     -999,9,   1.9726,2,0.51000000,2, -152.990,2,    0.002,     -999,9,     -999,9,     -999,1,     -999,9,    0.061,1,    4.640,1,    0.135,1,  21.7500,2,     -999,9,20180509,0322, -66.6001, -73.4985,     -999,9,     -999,9,-999          ,9,     -999,9,     -999,9,     -999,     -999,9,     -999,     -999,9,     -999,9,     -999,9,     -999,9,     -999,9,     -999,9,     -999,9,     -999,9,     -999,9,     -999,9,     -999,9,     -999,9,     -999,9,     -999,9
320620180309  ,S04P       ,120     ,  1,25         ,25         ,2,20180509,0151, -66.5997, -73.4998,     3581,    387.8,1.9471127933863576764,34.696396945102755,2,  34.6958,2,176.93538539309634,2, 177.1029,2,    177.1,2,     87.1,2,    32.83,2,     0.00,2,     2.21,2,    0.318,2,    0.166,2,   0.0800,2,   2259.7,2,  2348.34,2,   7.5665,2,    24.98,     40.2,2,     -999,1,   1.9471,2,0.60000000,2, -155.290,2,    0.002,     -999,9,     -999,9,     -999,1,     -999,1,    0.061,1,    4.641,1,    0.134,1,  21.4100,2,     -999,1,20180509,0320, -66.6000, -73.4987,     -999,1,     -999,1,-999          ,9,     -999,1,     -999,9,     -999,     -999,9,     -999,     -999,9,     -999,1,     -999,1,     -999,1,     -999,1,     -999,1,     -999,1,     -999,1,     -999,1,     -999,1,     -999,1,     -999,1,     -999,1,     -999,1
320620180309  ,S04P       ,120     ,  1,24         ,24         ,2,20180509,0151, -66.5997, -73.4998,     3581,    438.5,1.9142053348900105458,34.702445598881269,2,  34.7031,2,178.00552841598594,2, 177.4989,2,    177.9,2,     88.4,2,    32.65,2,     0.00,2,     2.19,2,    0.292,2,    0.153,2,   0.0900,2,   2260.4,2,  2350.45,2,   7.5662,2,    24.98,     41.3,2,     -999,9,   1.9143,2,0.63000000,2, -151.070,2,    0.002,     -999,9,     -999,9,     -999,1,     -999,9,    0.062,1,    4.642,1,    0.133,1,  21.1300,2,     -999,9,20180509,0318, -66.5998, -73.4995,     -999,9,     -999,9,-999          ,9,     -999,9,     -999,9,     -999,     -999,9,     -999,     -999,9,     -999,9,     -999,9,     -999,9,     -999,9,     -999,9,     -999,9,     -999,9,     -999,9,     -999,9,     -999,9,     -999,9,     -999,9,     -999,9
320620180309  ,S04P       ,120     ,  1,23         ,23         ,2,20180509,0151, -66.5997, -73.4998,     3581,    490.5,1.8846118584006452679,34.711775588121029,2,  34.7123,2,180.05453417341667,2, 179.7029,2,    180.8,2,     89.5,2,    32.42,2,     0.00,2,     2.18,2,    0.259,2,    0.136,2,   0.2300,2,   2258.4,2,  2349.56,2,   7.5693,2,    24.99,     38.7,2,     -999,1,   1.8848,2,0.60500000,6, -151.630,6,    0.002,     -999,9,     -999,9,     -999,1,     -999,1,    0.062,1,    4.643,1,    0.139,1,  20.4700,2,     -999,1,20180509,0315, -66.5997, -73.4997,     -999,1,     -999,1,-999          ,9,     -999,1,     -999,9,     -999,     -999,9,     -999,     -999,9,     -999,1,     -999,1,     -999,1,     -999,1,     -999,1,     -999,1,     -999,1,     -999,1,     -999,1,     -999,1,     -999,1,     -999,1,     -999,1
320620180309  ,S04P       ,120     ,  1,22         ,37         ,2,20180509,0151, -66.5997, -73.4998,     3581,    570.8,1.8389009152168904748,34.719125758952991,2,  34.7196,2,183.16352448707099,2, 181.9961,2,    182.4,2,     91.0,2,    32.20,2,     0.00,2,     2.17,2,    0.233,2,    0.117,2,   0.1300,2,   2257.3,2,  2351.79,2,   7.5792,2,    24.98,     39.2,2,     -999,9,   1.8396,2,0.62000000,2, -156.620,2,    0.002,     -999,9,     -999,9,     -999,1,     -999,9,    0.061,1,    4.643,1,    0.131,1,  20.6000,2,     -999,9,20180509,0313, -66.5998, -73.4995,     -999,9,     -999,9,-999          ,9,     -999,9,     -999,9,     -999,     -999,9,     -999,     -999,9,     -999,9,     -999,9,     -999,9,     -999,9,     -999,9,     -999,9,     -999,9,     -999,9,     -999,9,     -999,9,     -999,9,     -999,9,     -999,9
320620180309  ,S04P       ,120     ,  1,21         ,21         ,2,20180509,0151, -66.5997, -73.4998,     3581,    672.1,1.7511570555526427828,34.726039947474071,2,  34.7264,2,187.26107168027400,2, 185.2981,2,    185.4,2,     93.5,2,    31.93,2,     0.00,2,     2.14,2,    0.206,6,    0.104,6,   0.0000,6,   2257.8,2,  2353.51,2,   7.5889,2,    24.98,     39.1,2,     -999,1,   1.7512,2,0.61000000,2, -159.100,2,    0.002,     -999,9,     -999,9,     -999,1,     -999,1,    0.062,1,    4.644,1,    0.130,1,  20.0900,6,     -999,1,20180509,0310, -66.5999, -73.4991,     -999,1,     -999,1,-999          ,9,     -999,1,     -999,9,     -999,     -999,9,     -999,     -999,9,     -999,1,     -999,1,     -999,1,     -999,1,     -999,1,     -999,1,     -999,1,     -999,1,     -999,1,     -999,1,     -999,1,     -999,1,     -999,1
320620180309  ,S04P       ,120     ,  1,20         ,20         ,2,20180509,0151, -66.5997, -73.4998,     3581,    772.8,1.6762569848167920838,34.729872154812377,2,  34.7310,2,190.25916424041125,2, 188.3059,2,    188.7,2,     95.9,2,    31.73,2,     0.00,2,     2.13,2,     -999,9,     -999,9,     -999,9,   2257.6,2,  2356.71,2,   7.5926,2,    24.96,     37.9,2,     -999,9,   1.6763,2,0.70000000,3, -156.860,2,    0.002,     -999,9,     -999,9,     -999,1,     -999,9,    0.062,1,    4.644,1,    0.130,1,     -999,9,     -999,9,20180509,0306, -66.5997, -73.4996,     -999,9,     -999,9,-999          ,9,     -999,9,     -999,9,     -999,     -999,9,     -999,     -999,9,     -999,9,     -999,9,     -999,9,     -999,9,     -999,9,     -999,9,     -999,9,     -999,9,     -999,9,     -999,9,     -999,9,     -999,9,     -999,9
320620180309  ,S04P       ,120     ,  1,19         ,19         ,2,20180509,0151, -66.5997, -73.4998,     3581,    875.3,1.5693233053689110701,34.731195947422677,2,  34.7321,2,192.52867520830972,2, 190.8967,2,    191.4,2,     98.6,2,    31.61,2,     0.00,2,     2.12,2,    0.159,2,    0.087,2,   0.0000,2,   2258.6,2,  2357.85,2,   7.5929,2,    24.97,     40.5,2,     -999,1,   1.5690,2,0.62000000,2, -159.210,2,    0.002,     -999,9,     -999,9,     -999,1,     -999,1,    0.061,1,    4.644,1,    0.129,1,  19.1400,2,     -999,1,20180509,0303, -66.5997, -73.4999,     -999,1,     -999,1,-999          ,9,     -999,1,     -999,9,     -999,     -999,9,     -999,     -999,9,     -999,1,     -999,1,     -999,1,     -999,1,     -999,1,     -999,1,     -999,1,     -999,1,     -999,1,     -999,1,     -999,1,     -999,1,     -999,1
320620180309  ,S04P       ,120     ,  1,18         ,18         ,2,20180509,0151, -66.5997, -73.4998,     3581,    976.7,1.4906722132346970078,34.730954971827124,2,  34.7319,2,192.54230488142065,2, 192.8972,2,    192.3,2,    101.0,2,    31.64,2,     0.00,2,     2.12,2,     -999,9,     -999,9,     -999,9,   2260.0,2,  2359.64,2,   7.5947,2,    24.95,     39.9,2,     -999,9,   1.4901,2,0.60000000,2, -159.970,2,    0.002,     -999,9,     -999,9,     -999,1,     -999,9,    0.061,1,    4.645,1,    0.129,1,     -999,9,     -999,9,20180509,0300, -66.5997, -73.4999,     -999,9,     -999,9,-999          ,9,     -999,9,     -999,9,     -999,     -999,9,     -999,     -999,9,     -999,9,     -999,9,     -999,9,     -999,9,     -999,9,     -999,9,     -999,9,     -999,9,     -999,9,     -999,9,     -999,9,     -999,9,     -999,9
320620180309  ,S04P       ,120     ,  1,17         ,17         ,2,20180509,0151, -66.5997, -73.4998,     3581,   1077.6,1.4049038295437139556,34.729411987797924,2,  34.7306,2,194.50713887041974,2, 193.4019,2,    193.1,2,    103.7,2,    31.79,2,     0.00,2,     2.14,2,    0.138,2,    0.062,2,   0.0900,2,   2261.3,2,  2360.66,2,   7.5970,2,    25.00,     39.5,2,     -999,1,   1.4052,2,0.58000000,2, -156.490,2,    0.002,     -999,9,     -999,9,     -999,1,     -999,1,    0.060,1,    4.645,1,    0.129,1,  19.3600,2,     -999,1,20180509,0257, -66.5998, -73.4996,     -999,1,     -999,1,-999          ,9,     -999,1,     -999,9,     -999,     -999,9,     -999,     -999,9,     -999,1,     -999,1,     -999,1,     -999,1,     -999,1,     -999,1,     -999,1,     -999,1,     -999,1,     -999,1,     -999,1,     -999,1,     -999,1
320620180309  ,S04P       ,120     ,  1,16         ,16         ,2,20180509,0151, -66.5997, -73.4998,     3581,   1180.7,1.3187351861019958044,34.727601119200820,2,  34.7288,2,195.46587664051432,2, 195.0987,2,    195.2,2,    106.6,2,    31.73,2,     0.00,2,     2.14,2,     -999,9,     -999,9,     -999,9,   2262.1,2,  2363.77,2,   7.5972,2,    24.95,     39.6,2,     -999,9,   1.3189,2,0.61000000,2, -158.660,2,    0.002,     -999,9,     -999,9,     -999,1,     -999,9,    0.061,1,    4.645,1,    0.128,1,     -999,9,     -999,9,20180509,0254, -66.6000, -73.4991,     -999,9,     -999,9,-999          ,9,     -999,9,     -999,9,     -999,     -999,9,     -999,     -999,9,     -999,9,     -999,9,     -999,9,     -999,9,     -999,9,     -999,9,     -999,9,     -999,9,     -999,9,     -999,9,     -999,9,     -999,9,     -999,9