BOTTLE,20240515CCHHYDRO
EXPOCODE,SECT_ID,STNNBR,CASTNO,SAMPNO,BTLNBR,BTLNBR_FLAG_W,DATE,TIME,LATITUDE,LONGITUDE,DEPTH,CTDPRS,CTDTMP,CTDSAL,CTDSAL_FLAG_W,SALNTY,SALNTY_FLAG_W,CTDOXY,CTDOXY_FLAG_W,CTDOPTOXY,CTDOPTOXY_FLAG_W,OXYGEN,OXYGEN_FLAG_W,SILCAT,SILCAT_FLAG_W,NITRAT,NITRAT_FLAG_W,NITRIT,NITRIT_FLAG_W,PHSPHT,PHSPHT_FLAG_W,CFC-11,CFC-11_FLAG_W,CFC-12,CFC-12_FLAG_W,SF6,SF6_FLAG_W,TCARBN,TCARBN_FLAG_W,ALKALI,ALKALI_FLAG_W,PH_TOT,PH_TOT_FLAG_W,PH_TMP,DOC,DOC_FLAG_W,HELIUM,HELIUM_FLAG_W,REFTMP,REFTMP_FLAG_W,DELC13,DELC13_FLAG_W,DELC14,DELC14_FLAG_W,C14ERR,POC,POC_FLAG_W,TDN,TDN_FLAG_W,TON,TON_FLAG_W,NEON,NEON_FLAG_W,CTDFLUOR,CTDFLUOR_FLAG_W,CTDXMISS,CTDXMISS_FLAG_W,CTDBETA700,CTDBETA700_FLAG_W,N2O,N2O_FLAG_W,ARGON,ARGON_FLAG_W,BTL_DATE,BTL_TIME,BTL_LAT,BTL_LON,KRYPTON,KRYPTON_FLAG_W,XENON,XENON_FLAG_W,HPLC,HPLC_FLAG_W,HE3_HE4_RATIO,HE3_HE4_RATIO_FLAG_W,Nd_143_144_D_EPSILON_BOTTLE,Nd_143_144_D_EPSILON_BOTTLE_FLAG_W,Nd_143_144_D_EPSILON_BOTTLE_ERROR,Nd_143_144_D_RATIO_BOTTLE,Nd_143_144_D_RATIO_BOTTLE_FLAG_W,Nd_143_144_D_RATIO_BOTTLE_ERROR,Nd_D_CONC,Nd_D_CONC_FLAG_W,La_D_CONC_BOTTLE,La_D_CONC_BOTTLE_FLAG_W,Ce_D_CONC_BOTTLE,Ce_D_CONC_BOTTLE_FLAG_W,Pr_D_CONC_BOTTLE,Pr_D_CONC_BOTTLE_FLAG_W,Sm_D_CONC_BOTTLE,Sm_D_CONC_BOTTLE_FLAG_W,Eu_D_CONC_BOTTLE,Eu_D_CONC_BOTTLE_FLAG_W,Gd_D_CONC_BOTTLE,Gd_D_CONC_BOTTLE_FLAG_W,Tb_D_CONC_BOTTLE,Tb_D_CONC_BOTTLE_FLAG_W,Dy_D_CONC_BOTTLE,Dy_D_CONC_BOTTLE_FLAG_W,Ho_D_CONC_BOTTLE,Ho_D_CONC_BOTTLE_FLAG_W,Er_D_CONC_BOTTLE,Er_D_CONC_BOTTLE_FLAG_W,Tm_D_CONC_BOTTLE,Tm_D_CONC_BOTTLE_FLAG_W,Yb_D_CONC_BOTTLE,Yb_D_CONC_BOTTLE_FLAG_W,Lu_D_CONC_BOTTLE,Lu_D_CONC_BOTTLE_FLAG_W
,,,,,,,,,,,METERS,DBAR,ITS-90,PSS-78,,PSS-78,,UMOL/KG,,UMOL/KG,,UMOL/KG,,UMOL/KG,,UMOL/KG,,UMOL/KG,,UMOL/KG,,PMOL/KG,,PMOL/KG,,FMOL/KG,,UMOL/KG,,UMOL/KG,,,,DEG C,UMOL/KG,,NMOL/L,,DEG C,,/MILLE,,/MILLE,,/MILLE,UG/KG,,UMOL/KG,,UMOL/KG,,NMOL/L,,VOLTS,,VOLTS,,VOLTS,,NMOL/KG,,UMOL/L,,,,,,NMOL/L,,NMOL/L,,,,,,10000,,10000,,,,PMOL/KG,,PMOL/L,,PMOL/L,,PMOL/L,,PMOL/L,,PMOL/L,,PMOL/L,,PMOL/L,,PMOL/L,,PMOL/L,,PMOL/L,,PMOL/L,,PMOL/L,,PMOL/L,
320620180309  ,P18        ,99      ,  1,36         ,36         ,2,20180430,0029, -69.4968,-102.9734,     4081,      1.7,-1.8259313820759408564,33.743185780933544,2,  33.7388,2,324.69174964056413,2, 326.4986,2,    327.9,2,     46.7,2,    25.62,2,     0.15,2,     1.84,2,    6.028,2,    3.035,2,   3.8300,3,   2176.0,6,  2286.92,2,   7.6498,2,    24.89,     -999,9,     -999,9,  -1.8254,2,     -999,9,     -999,9,     -999,     -999,9,     -999,9,     -999,9,     -999,9,    0.123,1,    4.606,1,    0.160,1,  16.8900,2,     -999,9,20180430,0238, -69.4952,-102.9214,     -999,9,     -999,9,-999          ,9,     -999,9,     -999,9,     -999,     -999,9,     -999,     -999,9,     -999,9,     -999,9,     -999,9,     -999,9,     -999,9,     -999,9,     -999,9,     -999,9,     -999,9,     -999,9,     -999,9,     -999,9,     -999,9
320620180309  ,P18        ,99      ,  1,35         ,35         ,2,20180430,0029, -69.4968,-102.9734,     4081,     35.0,-1.8279607285783849857,33.742754877475264,2,  33.7386,2,326.52816390374551,2, 326.8010,2,    327.6,2,     46.8,2,    25.66,2,     0.15,2,     1.84,2,     -999,9,     -999,9,     -999,9,   2173.9,2,  2287.51,2,   7.6487,2,    24.88,     -999,9,     -999,9,  -1.8273,2,     -999,9,     -999,9,     -999,     -999,9,     -999,9,     -999,9,     -999,9,    0.116,1,    4.607,1,    0.166,1,     -999,9,     -999,9,20180430,0236, -69.4953,-102.9225,     -999,9,     -999,9,-999          ,9,     -999,9,     -999,9,     -999,     -999,9,     -999,     -999,9,     -999,9,     -999,9,     -999,9,     -999,9,     -999,9,     -999,9,     -999,9,     -999,9,     -999,9,     -999,9,     -999,9,     -999,9,     -999,9
320620180309  ,P18        ,99      ,  1,34         ,34         ,2,20180430,0029, -69.4968,-102.9734,     4081,     60.3,-1.8153250850659339299,33.745628677976953,2,  33.7546,2,326.63325828720917,2, 325.8017,2,    324.5,2,     48.2,2,    26.02,2,     0.15,2,     1.89,2,     -999,9,     -999,9,     -999,9,   2177.4,2,  2289.11,2,   7.6464,2,    24.90,     -999,9,     -999,9,  -1.8129,2,     -999,9,     -999,9,     -999,     -999,9,     -999,9,     -999,9,     -999,9,    0.087,1,    4.623,1,    0.161,1,     -999,9,     -999,9,20180430,0234, -69.4953,-102.9235,     -999,9,     -999,9,-999          ,9,     -999,9,     -999,9,     -999,     -999,9,     -999,     -999,9,     -999,9,     -999,9,     -999,9,     -999,9,     -999,9,     -999,9,     -999,9,     -999,9,     -999,9,     -999,9,     -999,9,     -999,9,     -999,9
320620180309  ,P18        ,99      ,  1,33         ,33         ,2,20180430,0029, -69.4968,-102.9734,     4081,     85.6,-1.2221088930213608315,34.039506603049880,2,  34.0486,2,279.82978890742373,3, 276.4984,2,    276.3,2,     67.4,2,    30.81,2,     0.20,2,     2.17,2,    4.238,2,    2.202,2,   2.6300,3,     -999,9,     -999,9,     -999,9,     -999,     -999,9,     -999,9,  -1.2262,2,     -999,9,     -999,9,     -999,     -999,9,     -999,9,     -999,9,     -999,9,    0.075,1,    4.635,1,    0.151,1,  19.3000,2,     -999,9,20180430,0232, -69.4954,-102.9245,     -999,9,     -999,9,-999          ,9,     -999,9,     -999,9,     -999,     -999,9,     -999,     -999,9,     -999,9,     -999,9,     -999,9,     -999,9,     -999,9,     -999,9,     -999,9,     -999,9,     -999,9,     -999,9,     -999,9,     -999,9,     -999,9
320620180309  ,P18        ,99      ,  1,32         ,32         ,2,20180430,0029, -69.4968,-102.9734,     4081,    110.7,-0.8175205855547281741,34.171035475062986,2,  34.1778,2,259.94987696932048,3, 257.5993,2,    256.1,2,     72.5,2,    32.16,2,     0.11,2,     2.24,2,     -999,9,     -999,9,     -999,9,   2224.9,2,  2311.35,2,   7.5676,2,    24.90,     -999,9,     -999,9,  -0.8149,2,     -999,9,     -999,9,     -999,     -999,9,     -999,9,     -999,9,     -999,9,    0.069,1,    4.641,1,    0.144,1,     -999,9,     -999,9,20180430,0230, -69.4955,-102.9255,     -999,9,     -999,9,-999          ,9,     -999,9,     -999,9,     -999,     -999,9,     -999,     -999,9,     -999,9,     -999,9,     -999,9,     -999,9,     -999,9,     -999,9,     -999,9,     -999,9,     -999,9,     -999,9,     -999,9,     -999,9,     -999,9
320620180309  ,P18        ,99      ,  1,31         ,31         ,2,20180430,0029, -69.4968,-102.9734,     4081,    136.3,-0.2600044163751739079,34.280532182494909,2,  34.2814,2,238.63889520930954,2, 240.9023,3,    237.6,2,     75.6,2,    32.84,2,     0.04,2,     2.29,2,    2.840,2,    1.483,2,   1.7600,3,   2234.2,2,  2317.45,2,   7.5611,6,    24.89,     -999,9,     -999,9,  -0.2609,2,     -999,9,     -999,9,     -999,     -999,9,     -999,9,     -999,9,     -999,9,    0.066,1,    4.644,1,    0.143,1,  20.9600,2,     -999,9,20180430,0228, -69.4955,-102.9265,     -999,9,     -999,9,-999          ,9,     -999,9,     -999,9,     -999,     -999,9,     -999,     -999,9,     -999,9,     -999,9,     -999,9,     -999,9,     -999,9,     -999,9,     -999,9,     -999,9,     -999,9,     -999,9,     -999,9,     -999,9,     -999,9
320620180309  ,P18        ,99      ,  1,30         ,30         ,2,20180430,0029, -69.4968,-102.9734,     4081,    166.8,0.4244154526424501750,34.394852493827230,2,  34.3968,2,217.41593897866574,2, 220.4013,3,    215.7,2,     79.2,2,    33.42,2,     0.02,2,     2.31,2,     -999,9,     -999,9,     -999,9,     -999,9,     -999,9,     -999,9,     -999,     -999,9,     -999,9,   0.4233,2,     -999,9,     -999,9,     -999,     -999,9,     -999,9,     -999,9,     -999,9,    0.064,1,    4.645,1,    0.143,1,     -999,9,     -999,9,20180430,0226, -69.4956,-102.9275,     -999,9,     -999,9,-999          ,9,     -999,9,     -999,9,     -999,     -999,9,     -999,     -999,9,     -999,9,     -999,9,     -999,9,     -999,9,     -999,9,     -999,9,     -999,9,     -999,9,     -999,9,     -999,9,     -999,9,     -999,9,     -999,9
320620180309  ,P18        ,99      ,  1,29         ,29         ,2,20180430,0029, -69.4968,-102.9734,     4081,    217.3,1.2954807877776555181,34.561360266470928,2,  34.5654,2,186.82561527254006,2, 189.4996,3,    187.2,2,     84.4,2,    33.89,2,     0.00,2,     2.32,2,    1.045,2,    0.551,2,   0.6900,3,   2256.0,2,  2336.31,2,   7.5476,2,    24.89,     -999,9,     -999,9,   1.3140,2,     -999,9,     -999,9,     -999,     -999,9,     -999,9,     -999,9,     -999,9,    0.064,1,    4.644,1,    0.141,1,  22.7600,2,     -999,9,20180430,0224, -69.4957,-102.9286,     -999,9,     -999,9,-999          ,9,     -999,9,     -999,9,     -999,     -999,9,     -999,     -999,9,     -999,9,     -999,9,     -999,9,     -999,9,     -999,9,     -999,9,     -999,9,     -999,9,     -999,9,     -999,9,     -999,9,     -999,9,     -999,9
320620180309  ,P18        ,99      ,  1,28         ,28         ,2,20180430,0029, -69.4968,-102.9734,     4081,    267.6,1.6162626178584895698,34.628272056114739,2,  34.6291,2,177.29265857698451,3, 181.0001,2,    179.4,2,     86.3,2,    33.78,2,     0.00,2,     2.31,2,    0.676,2,    0.351,2,   0.1300,3,   2259.1,2,  2341.35,2,   7.5523,2,    24.89,     -999,9,     -999,9,   1.6233,2,     -999,9,     -999,9,     -999,     -999,9,     -999,9,     -999,9,     -999,9,    0.062,1,    4.646,1,    0.140,1,  22.5000,2,     -999,9,20180430,0221, -69.4958,-102.9298,     -999,9,     -999,9,-999          ,9,     -999,9,     -999,9,     -999,     -999,9,     -999,     -999,9,     -999,9,     -999,9,     -999,9,     -999,9,     -999,9,     -999,9,     -999,9,     -999,9,     -999,9,     -999,9,     -999,9,     -999,9,     -999,9
320620180309  ,P18        ,99      ,  1,27         ,27         ,2,20180430,0029, -69.4968,-102.9734,     4081,    318.0,1.7948637696428475508,34.672568397122667,2,  34.6723,2,176.14545726973338,2, 177.4986,2,    176.1,2,     87.8,2,    33.54,2,     0.00,2,     2.30,2,    0.433,2,    0.225,2,   0.0900,3,   2258.7,6,  2345.80,2,   7.5573,2,    24.90,     -999,9,     -999,9,   1.7954,2,     -999,9,     -999,9,     -999,     -999,9,     -999,9,     -999,9,     -999,9,    0.062,1,    4.650,1,    0.136,1,  21.7800,2,     -999,9,20180430,0219, -69.4958,-102.9309,     -999,9,     -999,9,-999          ,9,     -999,9,     -999,9,     -999,     -999,9,     -999,     -999,9,     -999,9,     -999,9,     -999,9,     -999,9,     -999,9,     -999,9,     -999,9,     -999,9,     -999,9,     -999,9,     -999,9,     -999,9,     -999,9
320620180309  ,P18        ,99      ,  1,26         ,38         ,2,20180430,0029, -69.4968,-102.9734,     4081,    369.2,1.8545593695051143524,34.696928013908867,2,  34.6962,2,176.52134715882119,2, 176.7980,2,    176.8,2,     88.6,2,    33.22,2,     0.00,2,     2.27,2,    0.337,2,    0.182,2,   0.0800,3,   2260.2,2,  2347.45,2,   7.5644,2,    24.89,     -999,9,     -999,9,   1.8545,2,     -999,9,     -999,9,     -999,     -999,9,     -999,9,     -999,9,     -999,9,    0.062,1,    4.651,1,    0.137,1,  21.8200,2,     -999,9,20180430,0217, -69.4959,-102.9321,     -999,9,     -999,9,-999          ,9,     -999,9,     -999,9,     -999,     -999,9,     -999,     -999,9,     -999,9,     -999,9,     -999,9,     -999,9,     -999,9,     -999,9,     -999,9,     -999,9,     -999,9,     -999,9,     -999,9,     -999,9,     -999,9
320620180309  ,P18        ,99      ,  1,25         ,25         ,2,20180430,0029, -69.4968,-102.9734,     4081,    419.8,1.8545186152692152426,34.711180933294770,2,  34.7096,2,178.35181578879184,2, 178.1055,2,    178.4,2,     89.9,2,    32.94,2,     0.00,2,     2.25,2,    0.269,2,    0.138,2,   0.0200,3,     -999,9,     -999,9,     -999,9,     -999,     -999,9,     -999,9,   1.8543,2,     -999,9,     -999,9,     -999,     -999,9,     -999,9,     -999,9,     -999,9,    0.062,1,    4.651,1,    0.136,1,  21.4200,2,     -999,9,20180430,0214, -69.4960,-102.9333,     -999,9,     -999,9,-999          ,9,     -999,9,     -999,9,     -999,     -999,9,     -999,     -999,9,     -999,9,     -999,9,     -999,9,     -999,9,     -999,9,     -999,9,     -999,9,     -999,9,     -999,9,     -999,9,     -999,9,     -999,9,     -999,9
320620180309  ,P18        ,99      ,  1,24         ,24         ,2,20180430,0029, -69.4968,-102.9734,     4081,    470.3,1.8030610267116486956,34.719795948365864,2,  34.7182,2,180.33691769648681,2, 180.6028,2,    180.9,2,     91.7,2,    32.68,2,     0.00,2,     2.23,2,     -999,9,     -999,9,     -999,9,   2259.2,2,  2351.33,2,   7.5760,2,    24.90,     -999,9,     -999,9,   1.8031,2,     -999,9,     -999,9,     -999,     -999,9,     -999,9,     -999,9,     -999,9,    0.061,1,    4.651,1,    0.135,1,     -999,9,     -999,9,20180430,0212, -69.4960,-102.9344,     -999,9,     -999,9,-999          ,9,     -999,9,     -999,9,     -999,     -999,9,     -999,     -999,9,     -999,9,     -999,9,     -999,9,     -999,9,     -999,9,     -999,9,     -999,9,     -999,9,     -999,9,     -999,9,     -999,9,     -999,9,     -999,9
320620180309  ,P18        ,99      ,  1,23         ,23         ,2,20180430,0029, -69.4968,-102.9734,     4081,    541.2,1.7469179924244631064,34.726393386009676,2,  34.7249,2,182.85695150089194,2, 182.3956,2,    183.3,2,     93.3,2,    32.48,2,     0.00,2,     2.24,2,    0.206,2,    0.113,2,   0.0300,3,     -999,9,     -999,9,     -999,9,     -999,     -999,9,     -999,9,   1.7466,2,     -999,9,     -999,9,     -999,     -999,9,     -999,9,     -999,9,     -999,9,    0.061,1,    4.652,1,    0.135,1,  20.7400,2,     -999,9,20180430,0209, -69.4961,-102.9357,     -999,9,     -999,9,-999          ,9,     -999,9,     -999,9,     -999,     -999,9,     -999,     -999,9,     -999,9,     -999,9,     -999,9,     -999,9,     -999,9,     -999,9,     -999,9,     -999,9,     -999,9,     -999,9,     -999,9,     -999,9,     -999,9
320620180309  ,P18        ,99      ,  1,22         ,37         ,2,20180430,0029, -69.4968,-102.9734,     4081,    642.7,1.6646826731678565636,34.730604866339711,2,  34.7290,2,185.98593865203890,2, 186.3023,2,    186.1,2,     95.8,2,    32.32,2,     0.00,2,     2.23,2,     -999,9,     -999,9,     -999,9,   2260.3,2,  2353.50,2,   7.5868,2,    24.92,     -999,9,     -999,9,   1.6638,2,     -999,9,     -999,9,     -999,     -999,9,     -999,9,     -999,9,     -999,9,    0.061,1,    4.651,1,    0.135,1,     -999,9,     -999,9,20180430,0206, -69.4962,-102.9373,     -999,9,     -999,9,-999          ,9,     -999,9,     -999,9,     -999,     -999,9,     -999,     -999,9,     -999,9,     -999,9,     -999,9,     -999,9,     -999,9,     -999,9,     -999,9,     -999,9,     -999,9,     -999,9,     -999,9,     -999,9,     -999,9
320620180309  ,P18        ,99      ,  1,21         ,21         ,2,20180430,0029, -69.4968,-102.9734,     4081,    743.5,1.5868216581674701171,34.732040578808935,2,  34.7304,2,187.55988292829332,2, 187.2024,2,    188.2,2,     97.9,2,    32.30,2,     0.00,2,     2.22,2,    0.167,2,    0.086,2,   0.0000,3,   2258.5,2,  2353.58,2,   7.5892,2,    24.91,     -999,9,     -999,9,   1.5870,2,     -999,9,     -999,9,     -999,     -999,9,     -999,9,     -999,9,     -999,9,    0.062,1,    4.651,1,    0.134,1,  20.2800,2,     -999,9,20180430,0203, -69.4963,-102.9388,     -999,9,     -999,9,-999          ,9,     -999,9,     -999,9,     -999,     -999,9,     -999,     -999,9,     -999,9,     -999,9,     -999,9,     -999,9,     -999,9,     -999,9,     -999,9,     -999,9,     -999,9,     -999,9,     -999,9,     -999,9,     -999,9
320620180309  ,P18        ,99      ,  1,20         ,20         ,2,20180430,0029, -69.4968,-102.9734,     4081,    845.3,1.4968241456398061473,34.732172009482234,2,  34.7310,2,189.82670493520780,2, 189.7964,2,    190.2,2,    100.6,2,    32.23,2,     0.00,2,     2.20,2,     -999,9,     -999,9,     -999,9,     -999,9,     -999,9,     -999,9,     -999,     -999,9,     -999,9,   1.4968,2,     -999,9,     -999,9,     -999,     -999,9,     -999,9,     -999,9,     -999,9,    0.062,1,    4.652,1,    0.133,1,     -999,9,     -999,9,20180430,0200, -69.4964,-102.9403,     -999,9,     -999,9,-999          ,9,     -999,9,     -999,9,     -999,     -999,9,     -999,     -999,9,     -999,9,     -999,9,     -999,9,     -999,9,     -999,9,     -999,9,     -999,9,     -999,9,     -999,9,     -999,9,     -999,9,     -999,9,     -999,9
320620180309  ,P18        ,99      ,  1,19         ,19         ,2,20180430,0029, -69.4968,-102.9734,     4081,    946.0,1.4178981172543325684,34.731196824683032,2,  34.7306,2,191.76893866026123,2, 192.0974,2,    192.1,2,    103.2,2,    32.29,2,     0.00,2,     2.20,2,    0.129,2,    0.072,2,   0.0800,3,   2259.7,2,  2359.05,2,   7.5920,2,    24.93,     -999,9,     -999,9,   1.4179,2,     -999,9,     -999,9,     -999,     -999,9,     -999,9,     -999,9,     -999,9,    0.062,1,    4.652,1,    0.132,1,  19.7500,2,     -999,9,20180430,0156, -69.4964,-102.9417,     -999,9,     -999,9,-999          ,9,     -999,9,     -999,9,     -999,     -999,9,     -999,     -999,9,     -999,9,     -999,9,     -999,9,     -999,9,     -999,9,     -999,9,     -999,9,     -999,9,     -999,9,     -999,9,     -999,9,     -999,9,     -999,9
320620180309  ,P18        ,99      ,  1,18         ,18         ,2,20180430,0029, -69.4968,-102.9734,     4081,   1047.8,1.3460828086671823289,34.729723035544005,2,  34.7286,2,193.99598843046755,2, 193.5002,2,    193.7,2,    105.3,2,    32.25,2,     0.00,2,     2.19,2,     -999,9,     -999,9,     -999,9,   2260.8,2,  2360.98,2,   7.5942,2,    24.89,     -999,9,     -999,9,   1.3460,2,     -999,9,     -999,9,     -999,     -999,9,     -999,9,     -999,9,     -999,9,    0.061,1,    4.652,1,    0.132,1,     -999,9,     -999,9,20180430,0153, -69.4965,-102.9431,     -999,9,     -999,9,-999          ,9,     -999,9,     -999,9,     -999,     -999,9,     -999,     -999,9,     -999,9,     -999,9,     -999,9,     -999,9,     -999,9,     -999,9,     -999,9,     -999,9,     -999,9,     -999,9,     -999,9,     -999,9,     -999,9
320620180309  ,P18        ,99      ,  1,17         ,17         ,2,20180430,0029, -69.4968,-102.9734,     4081,   1148.7,1.2731695783945429223,34.727686158264149,2,  34.7270,2,194.70676924677872,2, 194.6968,2,    194.4,2,    107.6,2,    32.32,2,     0.00,2,     2.20,2,    0.113,2,    0.058,2,   0.0200,3,     -999,9,     -999,9,     -999,9,     -999,     -999,9,     -999,9,   1.2729,2,     -999,9,     -999,9,     -999,     -999,9,     -999,9,     -999,9,     -999,9,    0.062,1,    4.652,1,    0.130,1,  19.3400,2,     -999,9,20180430,0150, -69.4966,-102.9445,     -999,9,     -999,9,-999          ,9,     -999,9,     -999,9,     -999,     -999,9,     -999,     -999,9,     -999,9,     -999,9,     -999,9,     -999,9,     -999,9,     -999,9,     -999,9,     -999,9,     -999,9,     -999,9,     -999,9,     -999,9,     -999,9
320620180309  ,P18        ,99      ,  1,16         ,16         ,2,20180430,0029, -69.4968,-102.9734,     4081,   1250.8,1.2062504135215692536,34.725678851626320,2,  34.7251,2,196.01843767246757,2, 195.9998,2,    195.3,2,    109.7,2,    32.39,2,     0.00,2,     2.20,2,     -999,9,     -999,9,     -999,9,   2262.7,2,  2362.18,2,   7.5947,2,    24.90,     -999,9,     -999,9,   1.2060,2,     -999,9,     -999,9,     -999,     -999,9,     -999,9,     -999,9,     -999,9,    0.061,1,    4.653,1,    0.142,1,     -999,9,     -999,9,20180430,0147, -69.4966,-102.9459,     -999,9,     -999,9,-999          ,9,     -999,9,     -999,9,     -999,     -999,9,     -999,     -999,9,     -999,9,     -999,9,     -999,9,     -999,9,     -999,9,     -999,9,     -999,9,     -999,9,     -999,9,     -999,9,     -999,9,     -999,9,     -999,9