BOTTLE,20240515CCHHYDRO
EXPOCODE,SECT_ID,STNNBR,CASTNO,SAMPNO,BTLNBR,BTLNBR_FLAG_W,DATE,TIME,LATITUDE,LONGITUDE,DEPTH,CTDPRS,CTDTMP,CTDSAL,CTDSAL_FLAG_W,SALNTY,SALNTY_FLAG_W,CTDOXY,CTDOXY_FLAG_W,CTDOPTOXY,CTDOPTOXY_FLAG_W,OXYGEN,OXYGEN_FLAG_W,SILCAT,SILCAT_FLAG_W,NITRAT,NITRAT_FLAG_W,NITRIT,NITRIT_FLAG_W,PHSPHT,PHSPHT_FLAG_W,CFC-11,CFC-11_FLAG_W,CFC-12,CFC-12_FLAG_W,SF6,SF6_FLAG_W,TCARBN,TCARBN_FLAG_W,ALKALI,ALKALI_FLAG_W,PH_TOT,PH_TOT_FLAG_W,PH_TMP,DOC,DOC_FLAG_W,HELIUM,HELIUM_FLAG_W,REFTMP,REFTMP_FLAG_W,DELC13,DELC13_FLAG_W,DELC14,DELC14_FLAG_W,C14ERR,POC,POC_FLAG_W,TDN,TDN_FLAG_W,TON,TON_FLAG_W,NEON,NEON_FLAG_W,CTDFLUOR,CTDFLUOR_FLAG_W,CTDXMISS,CTDXMISS_FLAG_W,CTDBETA700,CTDBETA700_FLAG_W,N2O,N2O_FLAG_W,ARGON,ARGON_FLAG_W,BTL_DATE,BTL_TIME,BTL_LAT,BTL_LON,KRYPTON,KRYPTON_FLAG_W,XENON,XENON_FLAG_W,HPLC,HPLC_FLAG_W,HE3_HE4_RATIO,HE3_HE4_RATIO_FLAG_W,Nd_143_144_D_EPSILON_BOTTLE,Nd_143_144_D_EPSILON_BOTTLE_FLAG_W,Nd_143_144_D_EPSILON_BOTTLE_ERROR,Nd_143_144_D_RATIO_BOTTLE,Nd_143_144_D_RATIO_BOTTLE_FLAG_W,Nd_143_144_D_RATIO_BOTTLE_ERROR,Nd_D_CONC,Nd_D_CONC_FLAG_W,La_D_CONC_BOTTLE,La_D_CONC_BOTTLE_FLAG_W,Ce_D_CONC_BOTTLE,Ce_D_CONC_BOTTLE_FLAG_W,Pr_D_CONC_BOTTLE,Pr_D_CONC_BOTTLE_FLAG_W,Sm_D_CONC_BOTTLE,Sm_D_CONC_BOTTLE_FLAG_W,Eu_D_CONC_BOTTLE,Eu_D_CONC_BOTTLE_FLAG_W,Gd_D_CONC_BOTTLE,Gd_D_CONC_BOTTLE_FLAG_W,Tb_D_CONC_BOTTLE,Tb_D_CONC_BOTTLE_FLAG_W,Dy_D_CONC_BOTTLE,Dy_D_CONC_BOTTLE_FLAG_W,Ho_D_CONC_BOTTLE,Ho_D_CONC_BOTTLE_FLAG_W,Er_D_CONC_BOTTLE,Er_D_CONC_BOTTLE_FLAG_W,Tm_D_CONC_BOTTLE,Tm_D_CONC_BOTTLE_FLAG_W,Yb_D_CONC_BOTTLE,Yb_D_CONC_BOTTLE_FLAG_W,Lu_D_CONC_BOTTLE,Lu_D_CONC_BOTTLE_FLAG_W
,,,,,,,,,,,METERS,DBAR,ITS-90,PSS-78,,PSS-78,,UMOL/KG,,UMOL/KG,,UMOL/KG,,UMOL/KG,,UMOL/KG,,UMOL/KG,,UMOL/KG,,PMOL/KG,,PMOL/KG,,FMOL/KG,,UMOL/KG,,UMOL/KG,,,,DEG C,UMOL/KG,,NMOL/L,,DEG C,,/MILLE,,/MILLE,,/MILLE,UG/KG,,UMOL/KG,,UMOL/KG,,NMOL/L,,VOLTS,,VOLTS,,VOLTS,,NMOL/KG,,UMOL/L,,,,,,NMOL/L,,NMOL/L,,,,,,10000,,10000,,,,PMOL/KG,,PMOL/L,,PMOL/L,,PMOL/L,,PMOL/L,,PMOL/L,,PMOL/L,,PMOL/L,,PMOL/L,,PMOL/L,,PMOL/L,,PMOL/L,,PMOL/L,,PMOL/L,
320620180309  ,S04P       ,72      ,  1,15         ,15         ,2,20180419,0121, -67.0003,-143.3987,     4207,   1279.9,0.8358666666666665357,34.713778230503166,2,  34.7133,2,200.01732950313993,2, 198.9007,2,    199.6,2,    121.0,2,    32.65,2,     0.00,2,     2.22,2,    0.118,2,    0.059,2,   0.0100,2,   2257.6,3,  2362.45,2,   7.5881,6,    24.88,     43.0,2,     -999,9,   0.8357,2,     -999,9,     -999,9,     -999,     -999,9,     -999,9,     -999,1,     -999,9,    0.061,1,    4.664,1,    0.130,1,  20.1700,2,     -999,9,20180419,0241, -67.0002,-143.3987,     -999,9,     -999,9,-999          ,9,     -999,9,     -999,9,     -999,     -999,9,     -999,     -999,9,     -999,9,     -999,9,     -999,9,     -999,9,     -999,9,     -999,9,     -999,9,     -999,9,     -999,9,     -999,9,     -999,9,     -999,9,     -999,9
320620180309  ,S04P       ,72      ,  1,14         ,14         ,2,20180419,0121, -67.0003,-143.3987,     4207,   1382.2,0.7870138888888887907,34.711703598789740,2,  34.7115,2,201.29250917546688,2, 200.6991,2,    202.1,2,    122.6,2,    32.61,2,     0.00,2,     2.22,2,     -999,9,     -999,9,     -999,9,   2263.3,2,  2364.17,2,   7.5917,2,    24.90,     41.6,2,     -999,9,   0.7868,2,     -999,9,     -999,9,     -999,     -999,9,     -999,9,     -999,1,     -999,9,    0.061,1,    4.664,1,    0.129,1,     -999,9,     -999,9,20180419,0238, -67.0001,-143.3988,     -999,9,     -999,9,-999          ,9,     -999,9,     -999,9,     -999,     -999,9,     -999,     -999,9,     -999,9,     -999,9,     -999,9,     -999,9,     -999,9,     -999,9,     -999,9,     -999,9,     -999,9,     -999,9,     -999,9,     -999,9,     -999,9
320620180309  ,S04P       ,72      ,  1,13         ,13         ,2,20180419,0121, -67.0003,-143.3987,     4207,   1482.6,0.7445777777777777828,34.709877159577822,2,  34.7102,2,202.40791950753251,2, 201.9962,2,    201.8,2,    124.3,2,    32.68,2,     0.00,2,     2.22,2,    0.124,2,    0.061,2,   0.0100,2,   2264.0,2,  2363.72,2,   7.5915,2,    24.92,     -999,9,     -999,9,   0.7435,2,     -999,9,     -999,9,     -999,     -999,9,     -999,9,     -999,9,     -999,9,    0.061,1,    4.661,1,    0.127,1,  19.8900,2,     -999,9,20180419,0234, -67.0000,-143.3988,     -999,9,     -999,9,-999          ,9,     -999,9,     -999,9,     -999,     -999,9,     -999,     -999,9,     -999,9,     -999,9,     -999,9,     -999,9,     -999,9,     -999,9,     -999,9,     -999,9,     -999,9,     -999,9,     -999,9,     -999,9,     -999,9
320620180309  ,S04P       ,72      ,  1,12         ,12         ,2,20180419,0121, -67.0003,-143.3987,     4207,   1586.3,0.7083666666666668110,34.708283785676450,2,  34.7080,2,203.27051446783830,2, 203.2974,2,    203.3,2,    125.9,2,    32.63,2,     0.00,2,     2.23,2,     -999,9,     -999,9,     -999,9,   2269.2,4,  2362.27,2,   7.5929,2,    24.92,     41.2,2,     -999,9,   0.7076,2,     -999,9,     -999,9,     -999,     -999,9,     -999,9,     -999,1,     -999,9,    0.061,1,    4.664,1,    0.129,1,     -999,9,     -999,9,20180419,0231, -66.9999,-143.3989,     -999,9,     -999,9,-999          ,9,     -999,9,     -999,9,     -999,     -999,9,     -999,     -999,9,     -999,9,     -999,9,     -999,9,     -999,9,     -999,9,     -999,9,     -999,9,     -999,9,     -999,9,     -999,9,     -999,9,     -999,9,     -999,9
320620180309  ,S04P       ,72      ,  1,11         ,11         ,2,20180419,0121, -67.0003,-143.3987,     4207,   1758.1,0.6521583333333333954,34.706328757791674,2,  34.7068,2,205.23881455928563,2, 205.3963,2,    205.3,2,    126.9,2,    32.63,2,     0.00,2,     2.23,2,    0.159,2,    0.089,2,   0.0000,2,   2265.4,2,  2361.92,2,   7.5912,2,    24.90,     42.3,2,     -999,9,   0.6514,2,     -999,9,     -999,9,     -999,     -999,9,     -999,9,     -999,1,     -999,9,    0.061,1,    4.664,1,    0.129,1,  19.7000,2,     -999,9,20180419,0227, -66.9999,-143.3989,     -999,9,     -999,9,-999          ,9,     -999,9,     -999,9,     -999,     -999,9,     -999,     -999,9,     -999,9,     -999,9,     -999,9,     -999,9,     -999,9,     -999,9,     -999,9,     -999,9,     -999,9,     -999,9,     -999,9,     -999,9,     -999,9
320620180309  ,S04P       ,72      ,  1,10         ,10         ,2,20180419,0121, -67.0003,-143.3987,     4207,   1961.7,0.5787500000000000977,34.704245165872550,2,  34.7045,2,206.39371903540595,2, 207.3045,2,    207.3,2,    128.2,2,    32.70,2,     0.00,2,     2.23,2,     -999,9,     -999,9,     -999,9,   2264.1,6,  2362.94,2,   7.5926,2,    24.91,     40.9,2,     -999,9,   0.5782,2,     -999,9,     -999,9,     -999,     -999,9,     -999,9,     -999,1,     -999,9,    0.061,1,    4.664,1,    0.126,1,     -999,9,     -999,9,20180419,0221, -67.0000,-143.3988,     -999,9,     -999,9,-999          ,9,     -999,9,     -999,9,     -999,     -999,9,     -999,     -999,9,     -999,9,     -999,9,     -999,9,     -999,9,     -999,9,     -999,9,     -999,9,     -999,9,     -999,9,     -999,9,     -999,9,     -999,9,     -999,9
320620180309  ,S04P       ,72      ,  1,9          ,9          ,2,20180419,0121, -67.0003,-143.3987,     4207,   2196.8,0.5004666666666666153,34.703016441390524,2,  34.7035,2,208.78944169434212,2, 209.2932,2,    208.5,2,    128.9,2,    32.78,2,     0.00,2,     2.25,2,    0.182,2,    0.092,2,   0.0300,2,   2264.9,2,  2363.73,2,   7.5918,2,    24.91,     40.5,2,     -999,9,   0.5001,2,     -999,9,     -999,9,     -999,     -999,9,     -999,9,     -999,1,     -999,9,    0.061,1,    4.664,1,    0.129,1,  19.5200,2,     -999,9,20180419,0215, -67.0001,-143.3988,     -999,9,     -999,9,-999          ,9,     -999,9,     -999,9,     -999,     -999,9,     -999,     -999,9,     -999,9,     -999,9,     -999,9,     -999,9,     -999,9,     -999,9,     -999,9,     -999,9,     -999,9,     -999,9,     -999,9,     -999,9,     -999,9
320620180309  ,S04P       ,72      ,  1,8          ,8          ,2,20180419,0121, -67.0003,-143.3987,     4207,   2452.4,0.4178472222222222587,34.701862187091741,2,  34.7023,2,210.30431885625018,2, 211.3012,2,    210.7,2,    131.0,2,    32.80,2,     0.00,2,     2.24,2,     -999,9,     -999,9,     -999,9,   2265.2,2,  2365.17,2,   7.5921,2,    24.91,     41.9,2,     -999,9,   0.4173,2,     -999,9,     -999,9,     -999,     -999,9,     -999,9,     -999,1,     -999,9,    0.060,1,    4.664,1,    0.127,1,     -999,9,     -999,9,20180419,0209, -67.0002,-143.3987,     -999,9,     -999,9,-999          ,9,     -999,9,     -999,9,     -999,     -999,9,     -999,     -999,9,     -999,9,     -999,9,     -999,9,     -999,9,     -999,9,     -999,9,     -999,9,     -999,9,     -999,9,     -999,9,     -999,9,     -999,9,     -999,9
320620180309  ,S04P       ,72      ,  1,7          ,7          ,2,20180419,0121, -67.0003,-143.3987,     4207,   2707.4,0.3545249999999999790,34.700716950676259,2,  34.7007,2,212.16005477539389,2, 212.8014,2,    212.5,2,    132.0,2,    32.85,2,     0.00,2,     2.25,2,    0.221,2,    0.116,2,   0.1900,2,   2264.5,2,  2364.08,2,   7.5894,2,    24.91,     40.2,2,     -999,9,   0.3542,2,     -999,9,     -999,9,     -999,     -999,9,     -999,9,     -999,1,     -999,9,    0.061,1,    4.664,1,    0.127,1,  19.4800,2,     -999,9,20180419,0203, -67.0003,-143.3987,     -999,9,     -999,9,-999          ,9,     -999,9,     -999,9,     -999,     -999,9,     -999,     -999,9,     -999,9,     -999,9,     -999,9,     -999,9,     -999,9,     -999,9,     -999,9,     -999,9,     -999,9,     -999,9,     -999,9,     -999,9,     -999,9
320620180309  ,S04P       ,72      ,  1,6          ,6          ,2,20180419,0121, -67.0003,-143.3987,     4207,   2962.9,0.2839444444444443882,34.698269010439361,2,  34.6986,2,214.15870544113776,2, 215.0028,2,    215.0,2,    131.8,2,    32.87,2,     0.00,2,     2.25,2,    0.375,2,    0.196,2,   0.1200,2,   2263.9,2,  2365.62,2,   7.5938,2,    24.91,     42.9,2,     -999,9,   0.2838,2,     -999,9,     -999,9,     -999,     -999,9,     -999,9,     -999,1,     -999,9,    0.061,1,    4.664,1,    0.125,1,  19.4000,2,     -999,9,20180419,0157, -67.0001,-143.3988,     -999,9,     -999,9,-999          ,9,     -999,9,     -999,9,     -999,     -999,9,     -999,     -999,9,     -999,9,     -999,9,     -999,9,     -999,9,     -999,9,     -999,9,     -999,9,     -999,9,     -999,9,     -999,9,     -999,9,     -999,9,     -999,9
320620180309  ,S04P       ,72      ,  1,5          ,5          ,2,20180419,0121, -67.0003,-143.3987,     4207,   3256.3,0.2294722222222221886,34.693691930362810,2,  34.6941,2,217.65728141634631,2, 215.6992,2,    218.2,2,    128.8,2,    32.80,2,     0.00,2,     2.24,2,    0.642,2,    0.338,2,   0.3200,2,   2264.0,2,  2362.16,2,   7.5926,2,    24.91,     44.4,3,     -999,9,   0.2288,2,     -999,9,     -999,9,     -999,     -999,9,     -999,9,     -999,1,     -999,9,    0.061,1,    4.664,1,    0.126,1,  19.6500,2,     -999,9,20180419,0150, -67.0001,-143.3988,     -999,9,     -999,9,-999          ,9,     -999,9,     -999,9,     -999,     -999,9,     -999,     -999,9,     -999,9,     -999,9,     -999,9,     -999,9,     -999,9,     -999,9,     -999,9,     -999,9,     -999,9,     -999,9,     -999,9,     -999,9,     -999,9
320620180309  ,S04P       ,72      ,  1,4          ,4          ,2,20180419,0121, -67.0003,-143.3987,     4207,   3537.1,0.2285472222222222349,34.693728525166087,2,  34.6939,2,218.19721614175663,2, 219.0006,2,    219.1,2,    128.5,2,    32.80,2,     0.00,2,     2.24,2,    0.684,2,    0.358,2,   0.2300,2,   2262.0,2,  2362.27,2,   7.5823,3,    24.91,     -999,5,     -999,9,   0.2281,2,     -999,9,     -999,9,     -999,     -999,9,     -999,9,     -999,1,     -999,9,    0.061,1,    4.663,1,    0.125,1,  19.2700,2,     -999,9,20180419,0143, -67.0004,-143.3986,     -999,9,     -999,9,-999          ,9,     -999,9,     -999,9,     -999,     -999,9,     -999,     -999,9,     -999,9,     -999,9,     -999,9,     -999,9,     -999,9,     -999,9,     -999,9,     -999,9,     -999,9,     -999,9,     -999,9,     -999,9,     -999,9
320620180309  ,S04P       ,72      ,  1,3          ,3          ,2,20180419,0121, -67.0003,-143.3987,     4207,   3769.6,0.2391472222222222610,34.693370764119337,2,  34.6933,2,219.40163783293940,2, 219.0044,2,    219.0,2,    128.6,2,    32.76,2,     0.00,2,     2.24,2,    0.714,2,    0.368,2,   0.2300,2,   2263.6,2,  2361.57,2,   7.5903,2,    24.91,     42.7,2,     -999,9,   0.2386,2,     -999,9,     -999,9,     -999,     -999,9,     -999,9,     -999,1,     -999,9,    0.061,1,    4.663,1,    0.126,1,  19.1800,2,     -999,9,20180419,0138, -67.0006,-143.3985,     -999,9,     -999,9,-999          ,9,     -999,9,     -999,9,     -999,     -999,9,     -999,     -999,9,     -999,9,     -999,9,     -999,9,     -999,9,     -999,9,     -999,9,     -999,9,     -999,9,     -999,9,     -999,9,     -999,9,     -999,9,     -999,9
320620180309  ,S04P       ,72      ,  1,2          ,2          ,2,20180419,0121, -67.0003,-143.3987,     4207,   4051.5,0.2583027777777778256,34.693860062348158,2,  34.6947,2,220.17027413364139,2, 219.0009,2,    219.2,2,    129.2,2,    32.76,2,     0.00,2,     2.24,2,    0.711,2,    0.370,2,   0.2100,2,   2264.7,2,  2361.90,2,   7.5921,2,    24.91,     -999,9,     -999,9,   0.2577,2,     -999,9,     -999,9,     -999,     -999,9,     -999,9,     -999,9,     -999,9,    0.061,1,    4.662,1,    0.127,1,  19.3500,2,     -999,9,20180419,0130, -67.0005,-143.3986,     -999,9,     -999,9,-999          ,9,     -999,9,     -999,9,     -999,     -999,9,     -999,     -999,9,     -999,9,     -999,9,     -999,9,     -999,9,     -999,9,     -999,9,     -999,9,     -999,9,     -999,9,     -999,9,     -999,9,     -999,9,     -999,9
320620180309  ,S04P       ,72      ,  1,1          ,1          ,2,20180419,0121, -67.0003,-143.3987,     4207,   4280.9,0.2775388888888888350,34.694462374265470,2,  34.6954,2,220.02651220687935,2, 219.0978,2,    219.3,2,    130.0,2,    32.81,2,     0.00,2,     2.25,2,    0.707,2,    0.366,2,   0.2700,2,   2264.1,6,  2362.13,2,   7.5927,2,    24.91,     40.2,2,     -999,9,   0.2771,2,     -999,9,     -999,9,     -999,     -999,9,     -999,9,     -999,1,     -999,9,    0.061,1,    4.659,1,    0.131,1,  19.3800,2,     -999,9,20180419,0121, -67.0003,-143.3987,     -999,9,     -999,9,-999          ,9,     -999,9,     -999,9,     -999,     -999,9,     -999,     -999,9,     -999,9,     -999,9,     -999,9,     -999,9,     -999,9,     -999,9,     -999,9,     -999,9,     -999,9,     -999,9,     -999,9,     -999,9,     -999,9