BOTTLE,20240515CCHHYDRO
EXPOCODE,SECT_ID,STNNBR,CASTNO,SAMPNO,BTLNBR,BTLNBR_FLAG_W,DATE,TIME,LATITUDE,LONGITUDE,DEPTH,CTDPRS,CTDTMP,CTDSAL,CTDSAL_FLAG_W,SALNTY,SALNTY_FLAG_W,CTDOXY,CTDOXY_FLAG_W,CTDOPTOXY,CTDOPTOXY_FLAG_W,OXYGEN,OXYGEN_FLAG_W,SILCAT,SILCAT_FLAG_W,NITRAT,NITRAT_FLAG_W,NITRIT,NITRIT_FLAG_W,PHSPHT,PHSPHT_FLAG_W,CFC-11,CFC-11_FLAG_W,CFC-12,CFC-12_FLAG_W,SF6,SF6_FLAG_W,TCARBN,TCARBN_FLAG_W,ALKALI,ALKALI_FLAG_W,PH_TOT,PH_TOT_FLAG_W,PH_TMP,DOC,DOC_FLAG_W,HELIUM,HELIUM_FLAG_W,REFTMP,REFTMP_FLAG_W,DELC13,DELC13_FLAG_W,DELC14,DELC14_FLAG_W,C14ERR,POC,POC_FLAG_W,TDN,TDN_FLAG_W,TON,TON_FLAG_W,NEON,NEON_FLAG_W,CTDFLUOR,CTDFLUOR_FLAG_W,CTDXMISS,CTDXMISS_FLAG_W,CTDBETA700,CTDBETA700_FLAG_W,N2O,N2O_FLAG_W,ARGON,ARGON_FLAG_W,BTL_DATE,BTL_TIME,BTL_LAT,BTL_LON,KRYPTON,KRYPTON_FLAG_W,XENON,XENON_FLAG_W,HPLC,HPLC_FLAG_W,HE3_HE4_RATIO,HE3_HE4_RATIO_FLAG_W,Nd_143_144_D_EPSILON_BOTTLE,Nd_143_144_D_EPSILON_BOTTLE_FLAG_W,Nd_143_144_D_EPSILON_BOTTLE_ERROR,Nd_143_144_D_RATIO_BOTTLE,Nd_143_144_D_RATIO_BOTTLE_FLAG_W,Nd_143_144_D_RATIO_BOTTLE_ERROR,Nd_D_CONC,Nd_D_CONC_FLAG_W,La_D_CONC_BOTTLE,La_D_CONC_BOTTLE_FLAG_W,Ce_D_CONC_BOTTLE,Ce_D_CONC_BOTTLE_FLAG_W,Pr_D_CONC_BOTTLE,Pr_D_CONC_BOTTLE_FLAG_W,Sm_D_CONC_BOTTLE,Sm_D_CONC_BOTTLE_FLAG_W,Eu_D_CONC_BOTTLE,Eu_D_CONC_BOTTLE_FLAG_W,Gd_D_CONC_BOTTLE,Gd_D_CONC_BOTTLE_FLAG_W,Tb_D_CONC_BOTTLE,Tb_D_CONC_BOTTLE_FLAG_W,Dy_D_CONC_BOTTLE,Dy_D_CONC_BOTTLE_FLAG_W,Ho_D_CONC_BOTTLE,Ho_D_CONC_BOTTLE_FLAG_W,Er_D_CONC_BOTTLE,Er_D_CONC_BOTTLE_FLAG_W,Tm_D_CONC_BOTTLE,Tm_D_CONC_BOTTLE_FLAG_W,Yb_D_CONC_BOTTLE,Yb_D_CONC_BOTTLE_FLAG_W,Lu_D_CONC_BOTTLE,Lu_D_CONC_BOTTLE_FLAG_W
,,,,,,,,,,,METERS,DBAR,ITS-90,PSS-78,,PSS-78,,UMOL/KG,,UMOL/KG,,UMOL/KG,,UMOL/KG,,UMOL/KG,,UMOL/KG,,UMOL/KG,,PMOL/KG,,PMOL/KG,,FMOL/KG,,UMOL/KG,,UMOL/KG,,,,DEG C,UMOL/KG,,NMOL/L,,DEG C,,/MILLE,,/MILLE,,/MILLE,UG/KG,,UMOL/KG,,UMOL/KG,,NMOL/L,,VOLTS,,VOLTS,,VOLTS,,NMOL/KG,,UMOL/L,,,,,,NMOL/L,,NMOL/L,,,,,,10000,,10000,,,,PMOL/KG,,PMOL/L,,PMOL/L,,PMOL/L,,PMOL/L,,PMOL/L,,PMOL/L,,PMOL/L,,PMOL/L,,PMOL/L,,PMOL/L,,PMOL/L,,PMOL/L,,PMOL/L,
320620180309  ,S04P       ,67      ,  1,36         ,36         ,2,20180417,1114, -67.0011,-151.0205,     4406,      8.3,-1.7182527777777778510,33.826539739210482,2,  33.8232,2,349.95479246698454,2, 349.9018,2,    349.7,2,     47.8,2,    24.24,2,     0.15,2,     1.76,2,    5.765,2,    3.241,2,   4.0600,2,   2176.7,6,  2293.12,2,   7.6560,2,    24.91,     -999,9,     -999,9,  -1.7194,2,     -999,9,     -999,9,     -999,     -999,9,     -999,9,     -999,9,     -999,9,    0.179,1,    4.603,1,    0.181,1,  16.7300,2,     -999,9,20180417,1331, -67.0019,-151.0195,     -999,9,     -999,9,-999          ,9,     -999,9,     -999,9,     -999,     -999,9,     -999,     -999,9,     -999,9,     -999,9,     -999,9,     -999,9,     -999,9,     -999,9,     -999,9,     -999,9,     -999,9,     -999,9,     -999,9,     -999,9,     -999,9
320620180309  ,S04P       ,67      ,  1,35         ,35         ,2,20180417,1114, -67.0011,-151.0205,     4406,     24.3,-1.7147527777777775704,33.826930939900699,2,  33.8245,2,350.93672918340440,2, 349.8990,2,    349.8,2,     47.8,2,    24.25,2,     0.15,2,     1.78,2,     -999,9,     -999,9,     -999,9,   2175.4,2,  2293.07,2,   7.6549,2,    24.90,     -999,9,     -999,9,  -1.7152,2,     -999,9,     -999,9,     -999,     -999,9,     -999,9,     -999,9,     -999,9,    0.169,1,    4.609,1,    0.189,1,     -999,9,     -999,9,20180417,1330, -67.0019,-151.0195,     -999,9,     -999,9,-999          ,9,     -999,9,     -999,9,     -999,     -999,9,     -999,     -999,9,     -999,9,     -999,9,     -999,9,     -999,9,     -999,9,     -999,9,     -999,9,     -999,9,     -999,9,     -999,9,     -999,9,     -999,9,     -999,9
320620180309  ,S04P       ,67      ,  1,34         ,34         ,2,20180417,1114, -67.0011,-151.0205,     4406,     49.3,-1.7042694444444446145,33.831348737364848,2,  33.8286,2,348.81537430673927,2, 349.8989,2,    349.9,2,     47.6,2,    24.29,2,     0.15,2,     1.77,2,    5.788,2,    3.238,2,   3.9500,2,   2177.8,2,  2293.51,2,   7.6538,2,    24.91,     -999,9,     -999,9,  -1.7042,2,     -999,9,     -999,9,     -999,     -999,9,     -999,9,     -999,9,     -999,9,    0.173,1,    4.610,1,    0.185,1,  16.5500,2,     -999,9,20180417,1327, -67.0019,-151.0195,     -999,9,     -999,9,-999          ,9,     -999,9,     -999,9,     -999,     -999,9,     -999,     -999,9,     -999,9,     -999,9,     -999,9,     -999,9,     -999,9,     -999,9,     -999,9,     -999,9,     -999,9,     -999,9,     -999,9,     -999,9,     -999,9
320620180309  ,S04P       ,67      ,  1,33         ,33         ,2,20180417,1114, -67.0011,-151.0205,     4406,     74.7,-1.5216194444444441913,33.889848635526846,2,  33.8707,2,346.19702518144254,3, 343.5007,3,    340.3,2,     49.0,2,    24.87,2,     0.15,2,     1.84,2,     -999,9,     -999,9,     -999,9,   2183.3,2,  2295.50,2,   7.6492,2,    24.90,     -999,9,     -999,9,  -1.5346,2,     -999,9,     -999,9,     -999,     -999,9,     -999,9,     -999,9,     -999,9,    0.171,1,    4.612,1,    0.185,1,     -999,9,     -999,9,20180417,1325, -67.0018,-151.0196,     -999,9,     -999,9,-999          ,9,     -999,9,     -999,9,     -999,     -999,9,     -999,     -999,9,     -999,9,     -999,9,     -999,9,     -999,9,     -999,9,     -999,9,     -999,9,     -999,9,     -999,9,     -999,9,     -999,9,     -999,9,     -999,9
320620180309  ,S04P       ,67      ,  1,32         ,32         ,2,20180417,1114, -67.0011,-151.0205,     4406,    100.0,-0.6747694444444445327,34.232308542542540,2,  34.2364,2,278.11782067912583,3, 272.1992,2,    270.7,2,     62.6,2,    29.48,2,     0.10,2,     2.09,2,    3.774,2,    2.083,2,   2.3800,2,   2221.0,2,  2317.10,2,   7.5938,2,    24.91,     -999,9,     -999,9,  -0.6719,2,     -999,9,     -999,9,     -999,     -999,9,     -999,9,     -999,9,     -999,9,    0.090,1,    4.640,1,    0.151,1,  19.3100,2,     -999,9,20180417,1323, -67.0016,-151.0197,     -999,9,     -999,9,-999          ,9,     -999,9,     -999,9,     -999,     -999,9,     -999,     -999,9,     -999,9,     -999,9,     -999,9,     -999,9,     -999,9,     -999,9,     -999,9,     -999,9,     -999,9,     -999,9,     -999,9,     -999,9,     -999,9
320620180309  ,S04P       ,67      ,  1,31         ,31         ,2,20180417,1114, -67.0011,-151.0205,     4406,    150.5,0.3171694444444443928,34.445720605870449,2,  34.4540,2,227.18663300942399,3, 225.2066,3,    222.6,2,     77.0,2,    31.97,2,     0.06,2,     2.23,2,     -999,9,     -999,9,     -999,9,   2241.9,2,  2333.85,2,   7.5651,2,    24.92,     -999,9,     -999,9,   0.3163,2,     -999,9,     -999,9,     -999,     -999,9,     -999,9,     -999,9,     -999,9,    0.070,1,    4.655,1,    0.144,1,     -999,9,     -999,9,20180417,1321, -67.0015,-151.0198,     -999,9,     -999,9,-999          ,9,     -999,9,     -999,9,     -999,     -999,9,     -999,     -999,9,     -999,9,     -999,9,     -999,9,     -999,9,     -999,9,     -999,9,     -999,9,     -999,9,     -999,9,     -999,9,     -999,9,     -999,9,     -999,9
320620180309  ,S04P       ,67      ,  1,30         ,30         ,2,20180417,1114, -67.0011,-151.0205,     4406,    201.0,1.3087666666666666337,34.640050527532694,2,  34.6442,2,190.51571129392181,2, 191.3006,3,    188.9,2,     88.8,2,    32.89,2,     0.03,2,     2.27,2,    0.821,2,    0.444,2,   0.3700,2,   2256.6,2,  2344.10,2,   7.5586,2,    24.92,     -999,9,     -999,9,   1.3079,2,     -999,9,     -999,9,     -999,     -999,9,     -999,9,     -999,9,     -999,9,    0.065,1,    4.660,1,    0.141,1,  22.8400,2,     -999,9,20180417,1319, -67.0012,-151.0200,     -999,9,     -999,9,-999          ,9,     -999,9,     -999,9,     -999,     -999,9,     -999,     -999,9,     -999,9,     -999,9,     -999,9,     -999,9,     -999,9,     -999,9,     -999,9,     -999,9,     -999,9,     -999,9,     -999,9,     -999,9,     -999,9
320620180309  ,S04P       ,67      ,  1,29         ,29         ,2,20180417,1114, -67.0011,-151.0205,     4406,    252.0,1.5524694444444444574,34.711976879884148,2,  34.7113,2,183.41988252887970,2, 183.6967,2,    183.8,2,     94.5,2,    32.74,2,     0.02,2,     2.23,2,    0.375,2,    0.202,2,   0.3000,2,   2261.8,6,  2350.12,2,   7.5646,2,    24.92,     -999,9,     -999,9,   1.5516,2,     -999,9,     -999,9,     -999,     -999,9,     -999,9,     -999,9,     -999,9,    0.063,1,    4.662,1,    0.139,1,  20.4100,2,     -999,9,20180417,1316, -67.0011,-151.0202,     -999,9,     -999,9,-999          ,9,     -999,9,     -999,9,     -999,     -999,9,     -999,     -999,9,     -999,9,     -999,9,     -999,9,     -999,9,     -999,9,     -999,9,     -999,9,     -999,9,     -999,9,     -999,9,     -999,9,     -999,9,     -999,9
320620180309  ,S04P       ,67      ,  1,28         ,28         ,2,20180417,1114, -67.0011,-151.0205,     4406,    302.4,1.5299527777777777171,34.725827281726367,2,  34.7235,2,183.54337164640594,2, 183.3994,2,    182.6,2,     97.4,2,    32.60,2,     0.02,2,     2.23,2,     -999,9,     -999,9,     -999,9,   2263.2,2,  2353.18,2,   7.5695,6,    24.91,     -999,9,     -999,9,   1.5311,2,     -999,9,     -999,9,     -999,     -999,9,     -999,9,     -999,9,     -999,9,    0.064,1,    4.665,1,    0.138,1,     -999,9,     -999,9,20180417,1314, -67.0008,-151.0204,     -999,9,     -999,9,-999          ,9,     -999,9,     -999,9,     -999,     -999,9,     -999,     -999,9,     -999,9,     -999,9,     -999,9,     -999,9,     -999,9,     -999,9,     -999,9,     -999,9,     -999,9,     -999,9,     -999,9,     -999,9,     -999,9
320620180309  ,S04P       ,67      ,  1,27         ,27         ,2,20180417,1114, -67.0011,-151.0205,     4406,    352.5,1.4883750000000000036,34.728661120051285,2,  34.7272,2,184.40798159231247,2, 184.0965,2,    183.7,2,     99.4,2,    32.65,2,     0.00,2,     2.23,2,     -999,9,     -999,9,     -999,9,   2263.9,2,  2353.66,2,   7.5720,2,    24.90,     -999,9,     -999,9,   1.4876,2,     -999,9,     -999,9,     -999,     -999,9,     -999,9,     -999,9,     -999,9,    0.062,1,    4.667,1,    0.139,1,     -999,9,     -999,9,20180417,1312, -67.0007,-151.0205,     -999,9,     -999,9,-999          ,9,     -999,9,     -999,9,     -999,     -999,9,     -999,     -999,9,     -999,9,     -999,9,     -999,9,     -999,9,     -999,9,     -999,9,     -999,9,     -999,9,     -999,9,     -999,9,     -999,9,     -999,9,     -999,9
320620180309  ,S04P       ,67      ,  1,26         ,26         ,2,20180417,1114, -67.0011,-151.0205,     4406,    403.4,1.4367194444444446599,34.730684615438904,2,  34.7298,2,184.35574908342662,2, 184.8983,2,    184.5,2,    101.7,2,    32.62,2,     0.00,2,     2.21,2,    0.219,2,    0.109,2,   0.0700,2,   2262.5,2,  2354.34,2,   7.5714,2,    24.90,     -999,9,     -999,9,   1.4346,2,     -999,9,     -999,9,     -999,     -999,9,     -999,9,     -999,9,     -999,9,    0.063,1,    4.666,1,    0.141,1,  20.6200,2,     -999,9,20180417,1309, -67.0006,-151.0207,     -999,9,     -999,9,-999          ,9,     -999,9,     -999,9,     -999,     -999,9,     -999,     -999,9,     -999,9,     -999,9,     -999,9,     -999,9,     -999,9,     -999,9,     -999,9,     -999,9,     -999,9,     -999,9,     -999,9,     -999,9,     -999,9
320620180309  ,S04P       ,67      ,  1,25         ,25         ,2,20180417,1114, -67.0011,-151.0205,     4406,    453.5,1.3944416666666665794,34.730983954425930,2,  34.7300,2,185.07852550592875,2, 185.7998,2,    185.1,2,    103.3,2,    32.63,2,     0.00,2,     2.22,2,     -999,9,     -999,9,     -999,9,   2262.8,2,  2356.69,2,   7.5722,2,    24.90,     -999,9,     -999,9,   1.3935,2,     -999,9,     -999,9,     -999,     -999,9,     -999,9,     -999,9,     -999,9,    0.064,1,    4.666,1,    0.136,1,     -999,9,     -999,9,20180417,1307, -67.0006,-151.0207,     -999,9,     -999,9,-999          ,9,     -999,9,     -999,9,     -999,     -999,9,     -999,     -999,9,     -999,9,     -999,9,     -999,9,     -999,9,     -999,9,     -999,9,     -999,9,     -999,9,     -999,9,     -999,9,     -999,9,     -999,9,     -999,9
320620180309  ,S04P       ,67      ,  1,24         ,24         ,2,20180417,1114, -67.0011,-151.0205,     4406,    504.4,1.3449416666666664799,34.731065623231146,2,  34.7304,2,185.23526307511344,2, 186.5064,2,    185.3,2,    104.7,2,    32.70,2,     0.00,2,     2.23,2,    0.179,2,    0.094,2,   0.0400,2,   2264.7,2,  2357.37,2,   7.5736,2,    24.90,     -999,9,     -999,9,   1.3468,2,     -999,9,     -999,9,     -999,     -999,9,     -999,9,     -999,9,     -999,9,    0.061,1,    4.666,1,    0.136,1,  20.8800,2,     -999,9,20180417,1304, -67.0006,-151.0207,     -999,9,     -999,9,-999          ,9,     -999,9,     -999,9,     -999,     -999,9,     -999,     -999,9,     -999,9,     -999,9,     -999,9,     -999,9,     -999,9,     -999,9,     -999,9,     -999,9,     -999,9,     -999,9,     -999,9,     -999,9,     -999,9
320620180309  ,S04P       ,67      ,  1,23         ,23         ,2,20180417,1114, -67.0011,-151.0205,     4406,    605.5,1.2815694444444440947,34.729669932573358,2,  34.7288,2,186.82928831721154,2, 187.4033,2,    186.4,2,    107.4,2,    32.69,2,     0.00,2,     2.23,2,     -999,9,     -999,9,     -999,9,   2264.1,2,  2356.68,2,   7.5756,2,    24.91,     -999,9,     -999,9,   1.2797,2,     -999,9,     -999,9,     -999,     -999,9,     -999,9,     -999,9,     -999,9,    0.062,1,    4.666,1,    0.134,1,     -999,9,     -999,9,20180417,1301, -67.0006,-151.0207,     -999,9,     -999,9,-999          ,9,     -999,9,     -999,9,     -999,     -999,9,     -999,     -999,9,     -999,9,     -999,9,     -999,9,     -999,9,     -999,9,     -999,9,     -999,9,     -999,9,     -999,9,     -999,9,     -999,9,     -999,9,     -999,9
320620180309  ,S04P       ,67      ,  1,22         ,37         ,2,20180417,1114, -67.0011,-151.0205,     4406,    707.3,1.2033638888888888996,34.727817294213267,2,  34.7276,2,188.86360656952147,2, 189.5011,2,    189.1,2,    110.0,2,    32.61,2,     0.00,2,     2.23,2,     -999,9,     -999,9,     -999,9,   2264.4,2,  2359.07,2,   7.5843,2,    24.90,     -999,9,     -999,9,   1.2027,2,     -999,9,     -999,9,     -999,     -999,9,     -999,9,     -999,9,     -999,9,    0.061,1,    4.666,1,    0.134,1,     -999,9,     -999,9,20180417,1258, -67.0005,-151.0209,     -999,9,     -999,9,-999          ,9,     -999,9,     -999,9,     -999,     -999,9,     -999,     -999,9,     -999,9,     -999,9,     -999,9,     -999,9,     -999,9,     -999,9,     -999,9,     -999,9,     -999,9,     -999,9,     -999,9,     -999,9,     -999,9
320620180309  ,S04P       ,67      ,  1,21         ,21         ,2,20180417,1114, -67.0011,-151.0205,     4406,    808.8,1.1325888888888884232,34.725457304063944,2,  34.7255,2,191.34160745247851,2, 191.5987,2,    192.2,2,    112.0,2,    32.50,2,     0.00,2,     2.22,2,     -999,9,     -999,9,     -999,9,   2265.6,2,  2363.69,3,   7.5822,2,    24.90,     -999,9,     -999,9,   1.1318,2,     -999,9,     -999,9,     -999,     -999,9,     -999,9,     -999,9,     -999,9,    0.061,1,    4.667,1,    0.132,1,     -999,9,     -999,9,20180417,1254, -67.0004,-151.0209,     -999,9,     -999,9,-999          ,9,     -999,9,     -999,9,     -999,     -999,9,     -999,     -999,9,     -999,9,     -999,9,     -999,9,     -999,9,     -999,9,     -999,9,     -999,9,     -999,9,     -999,9,     -999,9,     -999,9,     -999,9,     -999,9
320620180309  ,S04P       ,67      ,  1,20         ,20         ,2,20180417,1114, -67.0011,-151.0205,     4406,    910.1,1.0606083333333331531,34.722793757714861,2,  34.7249,2,194.17372062056066,2, 193.9982,2,    194.3,2,    114.2,2,    32.48,2,     0.00,2,     2.21,2,    0.125,2,    0.070,2,   0.0700,2,   2265.2,2,  2360.25,2,   7.5860,2,    24.89,     -999,9,     -999,9,   1.0599,2,     -999,9,     -999,9,     -999,     -999,9,     -999,9,     -999,9,     -999,9,    0.061,1,    4.667,1,    0.132,1,  18.7300,2,     -999,9,20180417,1251, -67.0005,-151.0209,     -999,9,     -999,9,-999          ,9,     -999,9,     -999,9,     -999,     -999,9,     -999,     -999,9,     -999,9,     -999,9,     -999,9,     -999,9,     -999,9,     -999,9,     -999,9,     -999,9,     -999,9,     -999,9,     -999,9,     -999,9,     -999,9
320620180309  ,S04P       ,67      ,  1,19         ,19         ,2,20180417,1114, -67.0011,-151.0205,     4406,   1011.6,0.9962305555555553971,34.720315607663913,2,  34.7202,2,195.99091225187806,2, 196.1006,2,    196.8,2,    116.0,2,    32.43,2,     0.00,2,     2.21,2,     -999,9,     -999,9,     -999,9,   2264.4,2,  2360.97,2,   7.5880,2,    24.90,     -999,9,     -999,9,   0.9957,2,     -999,9,     -999,9,     -999,     -999,9,     -999,9,     -999,9,     -999,9,    0.062,1,    4.668,1,    0.132,1,     -999,9,     -999,9,20180417,1248, -67.0004,-151.0209,     -999,9,     -999,9,-999          ,9,     -999,9,     -999,9,     -999,     -999,9,     -999,     -999,9,     -999,9,     -999,9,     -999,9,     -999,9,     -999,9,     -999,9,     -999,9,     -999,9,     -999,9,     -999,9,     -999,9,     -999,9,     -999,9
320620180309  ,S04P       ,67      ,  1,18         ,18         ,2,20180417,1114, -67.0011,-151.0205,     4406,   1113.0,0.9412916666666666377,34.717961615746958,2,  34.7178,2,197.95761730566957,2, 197.6954,2,    198.4,2,    117.4,2,    32.44,2,     0.00,2,     2.22,2,     -999,9,     -999,9,     -999,9,   2262.4,2,  2361.49,2,   7.5888,2,    24.90,     -999,9,     -999,9,   0.9404,2,     -999,9,     -999,9,     -999,     -999,9,     -999,9,     -999,9,     -999,9,    0.061,1,    4.668,1,    0.131,1,     -999,9,     -999,9,20180417,1244, -67.0004,-151.0209,     -999,9,     -999,9,-999          ,9,     -999,9,     -999,9,     -999,     -999,9,     -999,     -999,9,     -999,9,     -999,9,     -999,9,     -999,9,     -999,9,     -999,9,     -999,9,     -999,9,     -999,9,     -999,9,     -999,9,     -999,9,     -999,9
320620180309  ,S04P       ,67      ,  1,17         ,17         ,2,20180417,1114, -67.0011,-151.0205,     4406,   1214.7,0.8846555555555553063,34.715651181135989,2,  34.7155,2,199.50669124754080,2, 199.4036,2,    200.0,2,    119.5,2,    32.42,2,     0.00,2,     2.23,2,    0.116,2,    0.056,2,   0.0500,2,   2263.9,2,  2362.70,2,   7.5892,2,    24.91,     -999,9,     -999,9,   0.8837,2,     -999,9,     -999,9,     -999,     -999,9,     -999,9,     -999,9,     -999,9,    0.061,1,    4.668,1,    0.131,1,  19.7500,2,     -999,9,20180417,1241, -67.0004,-151.0209,     -999,9,     -999,9,-999          ,9,     -999,9,     -999,9,     -999,     -999,9,     -999,     -999,9,     -999,9,     -999,9,     -999,9,     -999,9,     -999,9,     -999,9,     -999,9,     -999,9,     -999,9,     -999,9,     -999,9,     -999,9,     -999,9
320620180309  ,S04P       ,67      ,  1,16         ,16         ,2,20180417,1114, -67.0011,-151.0205,     4406,   1316.2,0.8390361111111109826,34.713595232009787,2,  34.7143,2,201.15070813198548,2, 200.5980,2,    201.4,2,    121.0,2,    32.48,2,     0.00,2,     2.21,2,     -999,9,     -999,9,     -999,9,   2265.0,2,  2363.84,2,   7.5915,2,    24.90,     -999,9,     -999,9,   0.8383,2,     -999,9,     -999,9,     -999,     -999,9,     -999,9,     -999,9,     -999,9,    0.061,1,    4.668,1,    0.131,1,     -999,9,     -999,9,20180417,1238, -67.0005,-151.0208,     -999,9,     -999,9,-999          ,9,     -999,9,     -999,9,     -999,     -999,9,     -999,     -999,9,     -999,9,     -999,9,     -999,9,     -999,9,     -999,9,     -999,9,     -999,9,     -999,9,     -999,9,     -999,9,     -999,9,     -999,9,     -999,9