BOTTLE,20240515CCHHYDRO
EXPOCODE,SECT_ID,STNNBR,CASTNO,SAMPNO,BTLNBR,BTLNBR_FLAG_W,DATE,TIME,LATITUDE,LONGITUDE,DEPTH,CTDPRS,CTDTMP,CTDSAL,CTDSAL_FLAG_W,SALNTY,SALNTY_FLAG_W,CTDOXY,CTDOXY_FLAG_W,CTDOPTOXY,CTDOPTOXY_FLAG_W,OXYGEN,OXYGEN_FLAG_W,SILCAT,SILCAT_FLAG_W,NITRAT,NITRAT_FLAG_W,NITRIT,NITRIT_FLAG_W,PHSPHT,PHSPHT_FLAG_W,CFC-11,CFC-11_FLAG_W,CFC-12,CFC-12_FLAG_W,SF6,SF6_FLAG_W,TCARBN,TCARBN_FLAG_W,ALKALI,ALKALI_FLAG_W,PH_TOT,PH_TOT_FLAG_W,PH_TMP,DOC,DOC_FLAG_W,HELIUM,HELIUM_FLAG_W,REFTMP,REFTMP_FLAG_W,DELC13,DELC13_FLAG_W,DELC14,DELC14_FLAG_W,C14ERR,POC,POC_FLAG_W,TDN,TDN_FLAG_W,TON,TON_FLAG_W,NEON,NEON_FLAG_W,CTDFLUOR,CTDFLUOR_FLAG_W,CTDXMISS,CTDXMISS_FLAG_W,CTDBETA700,CTDBETA700_FLAG_W,N2O,N2O_FLAG_W,ARGON,ARGON_FLAG_W,BTL_DATE,BTL_TIME,BTL_LAT,BTL_LON,KRYPTON,KRYPTON_FLAG_W,XENON,XENON_FLAG_W,HPLC,HPLC_FLAG_W,HE3_HE4_RATIO,HE3_HE4_RATIO_FLAG_W,Nd_143_144_D_EPSILON_BOTTLE,Nd_143_144_D_EPSILON_BOTTLE_FLAG_W,Nd_143_144_D_EPSILON_BOTTLE_ERROR,Nd_143_144_D_RATIO_BOTTLE,Nd_143_144_D_RATIO_BOTTLE_FLAG_W,Nd_143_144_D_RATIO_BOTTLE_ERROR,Nd_D_CONC,Nd_D_CONC_FLAG_W,La_D_CONC_BOTTLE,La_D_CONC_BOTTLE_FLAG_W,Ce_D_CONC_BOTTLE,Ce_D_CONC_BOTTLE_FLAG_W,Pr_D_CONC_BOTTLE,Pr_D_CONC_BOTTLE_FLAG_W,Sm_D_CONC_BOTTLE,Sm_D_CONC_BOTTLE_FLAG_W,Eu_D_CONC_BOTTLE,Eu_D_CONC_BOTTLE_FLAG_W,Gd_D_CONC_BOTTLE,Gd_D_CONC_BOTTLE_FLAG_W,Tb_D_CONC_BOTTLE,Tb_D_CONC_BOTTLE_FLAG_W,Dy_D_CONC_BOTTLE,Dy_D_CONC_BOTTLE_FLAG_W,Ho_D_CONC_BOTTLE,Ho_D_CONC_BOTTLE_FLAG_W,Er_D_CONC_BOTTLE,Er_D_CONC_BOTTLE_FLAG_W,Tm_D_CONC_BOTTLE,Tm_D_CONC_BOTTLE_FLAG_W,Yb_D_CONC_BOTTLE,Yb_D_CONC_BOTTLE_FLAG_W,Lu_D_CONC_BOTTLE,Lu_D_CONC_BOTTLE_FLAG_W
,,,,,,,,,,,METERS,DBAR,ITS-90,PSS-78,,PSS-78,,UMOL/KG,,UMOL/KG,,UMOL/KG,,UMOL/KG,,UMOL/KG,,UMOL/KG,,UMOL/KG,,PMOL/KG,,PMOL/KG,,FMOL/KG,,UMOL/KG,,UMOL/KG,,,,DEG C,UMOL/KG,,NMOL/L,,DEG C,,/MILLE,,/MILLE,,/MILLE,UG/KG,,UMOL/KG,,UMOL/KG,,NMOL/L,,VOLTS,,VOLTS,,VOLTS,,NMOL/KG,,UMOL/L,,,,,,NMOL/L,,NMOL/L,,,,,,10000,,10000,,,,PMOL/KG,,PMOL/L,,PMOL/L,,PMOL/L,,PMOL/L,,PMOL/L,,PMOL/L,,PMOL/L,,PMOL/L,,PMOL/L,,PMOL/L,,PMOL/L,,PMOL/L,,PMOL/L,
320620180309  ,S04P       ,76      ,  1,36         ,36         ,2,20180420,0451, -66.9991,-138.2018,     4444,      9.3,-1.4444888888888889333,33.678267070982734,2,  33.6788,2,355.01073748100674,2, 352.1018,2,    354.1,2,     28.4,2,    24.39,2,     0.30,2,     1.69,2,    5.957,2,    3.283,2,   4.1900,2,   2162.2,6,  2282.08,2,   7.6636,2,    24.89,     -999,5,     -999,9,  -1.4486,2,     -999,9,     -999,9,     -999,     -999,9,     -999,5,     -999,1,     -999,9,    0.318,1,    4.550,1,    0.252,1,  16.4600,2,     -999,9,20180420,0654, -66.9987,-138.2009,     -999,9,     -999,9,-999          ,9,     -999,9,     -999,9,     -999,     -999,9,     -999,     -999,9,     -999,9,     -999,9,     -999,9,     -999,9,     -999,9,     -999,9,     -999,9,     -999,9,     -999,9,     -999,9,     -999,9,     -999,9,     -999,9
320620180309  ,S04P       ,76      ,  1,35         ,35         ,2,20180420,0451, -66.9991,-138.2018,     4444,     24.5,-1.4512055555555558595,33.681672068578223,2,  33.6809,2,354.93480235644404,2, 352.1046,2,    354.3,2,     28.5,2,    24.35,2,     0.30,2,     1.68,2,     -999,9,     -999,9,     -999,9,   2162.0,2,  2281.57,2,   7.6654,2,    24.89,     -999,5,     -999,9,  -1.4515,2,     -999,9,     -999,9,     -999,     -999,9,     -999,5,     -999,1,     -999,9,    0.316,1,    4.551,1,    0.267,1,     -999,9,     -999,9,20180420,0653, -66.9987,-138.2009,     -999,9,     -999,9,-999          ,9,     -999,9,     -999,9,     -999,     -999,9,     -999,     -999,9,     -999,9,     -999,9,     -999,9,     -999,9,     -999,9,     -999,9,     -999,9,     -999,9,     -999,9,     -999,9,     -999,9,     -999,9,     -999,9
320620180309  ,S04P       ,76      ,  1,34         ,34         ,2,20180420,0451, -66.9991,-138.2018,     4444,     50.0,-1.4604722222222221717,33.696376476206169,2,  33.6950,2,352.28168587549158,2, 351.0011,2,    353.2,2,     29.7,2,    24.53,2,     0.30,2,     1.70,2,     -999,9,     -999,9,     -999,9,   2163.2,2,  2283.29,2,   7.6629,2,    24.89,     -999,5,     -999,9,  -1.4623,2,     -999,9,     -999,9,     -999,     -999,9,     -999,5,     -999,1,     -999,9,    0.319,1,    4.550,1,    0.252,1,     -999,9,     -999,9,20180420,0651, -66.9987,-138.2008,     -999,9,     -999,9,-999          ,9,     -999,9,     -999,9,     -999,     -999,9,     -999,     -999,9,     -999,9,     -999,9,     -999,9,     -999,9,     -999,9,     -999,9,     -999,9,     -999,9,     -999,9,     -999,9,     -999,9,     -999,9,     -999,9
320620180309  ,S04P       ,76      ,  1,33         ,33         ,2,20180420,0451, -66.9991,-138.2018,     4444,     74.8,-1.4585361111111108112,33.703417912505010,2,  33.7016,2,352.67433909912012,2, 350.1002,2,    352.4,2,     30.1,2,    24.57,2,     0.30,2,     1.71,2,    5.947,2,    3.270,2,   3.7500,2,   2162.6,2,  2257.05,2,   7.6613,2,    24.88,     -999,5,     -999,9,  -1.4589,2,     -999,9,     -999,9,     -999,     -999,9,     -999,5,     -999,1,     -999,9,    0.299,1,    4.547,1,    0.251,1,  16.9300,2,     -999,9,20180420,0649, -66.9986,-138.2007,     -999,9,     -999,9,-999          ,9,     -999,9,     -999,9,     -999,     -999,9,     -999,     -999,9,     -999,9,     -999,9,     -999,9,     -999,9,     -999,9,     -999,9,     -999,9,     -999,9,     -999,9,     -999,9,     -999,9,     -999,9,     -999,9
320620180309  ,S04P       ,76      ,  1,32         ,32         ,2,20180420,0451, -66.9991,-138.2018,     4444,    100.1,-1.4372305555555557888,33.726109718878185,2,  33.7456,2,351.64354492639910,2, 349.0980,2,    348.3,2,     32.5,2,    25.00,2,     0.29,2,     1.76,2,     -999,9,     -999,9,     -999,9,   2167.4,2,  2285.32,2,   7.6560,2,    24.90,     -999,5,     -999,9,  -1.4374,2,     -999,9,     -999,9,     -999,     -999,9,     -999,5,     -999,1,     -999,9,    0.301,1,    4.553,1,    0.247,1,     -999,9,     -999,9,20180420,0648, -66.9986,-138.2006,     -999,9,     -999,9,-999          ,9,     -999,9,     -999,9,     -999,     -999,9,     -999,     -999,9,     -999,9,     -999,9,     -999,9,     -999,9,     -999,9,     -999,9,     -999,9,     -999,9,     -999,9,     -999,9,     -999,9,     -999,9,     -999,9
320620180309  ,S04P       ,76      ,  1,31         ,31         ,2,20180420,0451, -66.9991,-138.2018,     4444,    125.4,-1.0301722222222222669,34.104378270048194,2,  34.1028,2,318.30955819909389,3, 313.7969,2,    310.8,2,     52.6,2,    28.97,2,     0.17,2,     2.06,2,    4.962,2,    2.749,2,   3.1800,2,   2206.2,2,  2307.37,2,   7.6086,2,    24.88,     -999,9,     -999,9,  -1.0394,2,     -999,9,     -999,9,     -999,     -999,9,     -999,9,     -999,9,     -999,9,    0.083,1,    4.639,1,    0.158,1,  18.6100,2,     -999,9,20180420,0646, -66.9986,-138.2006,     -999,9,     -999,9,-999          ,9,     -999,9,     -999,9,     -999,     -999,9,     -999,     -999,9,     -999,9,     -999,9,     -999,9,     -999,9,     -999,9,     -999,9,     -999,9,     -999,9,     -999,9,     -999,9,     -999,9,     -999,9,     -999,9
320620180309  ,S04P       ,76      ,  1,30         ,30         ,2,20180420,0451, -66.9991,-138.2018,     4444,    150.4,-0.0620833333333333445,34.286779060004129,2,  34.2875,2,272.08752883776179,3, 267.2011,2,    266.3,2,     64.1,2,    31.86,2,     0.04,2,     2.22,2,    3.735,2,    2.072,2,   2.3400,2,   2225.7,2,  2316.32,2,   7.5749,2,    24.89,     -999,5,     -999,9,  -0.1111,2,     -999,9,     -999,9,     -999,     -999,9,     -999,5,     -999,1,     -999,9,    0.088,1,    4.639,1,    0.159,1,  20.4900,2,     -999,9,20180420,0644, -66.9986,-138.2006,     -999,9,     -999,9,-999          ,9,     -999,9,     -999,9,     -999,     -999,9,     -999,     -999,9,     -999,9,     -999,9,     -999,9,     -999,9,     -999,9,     -999,9,     -999,9,     -999,9,     -999,9,     -999,9,     -999,9,     -999,9,     -999,9
320620180309  ,S04P       ,76      ,  1,29         ,29         ,2,20180420,0451, -66.9991,-138.2018,     4444,    201.0,1.3792333333333335332,34.570826198145198,2,  34.5613,2,198.63795187019795,2, 202.0026,2,    198.8,2,     79.2,2,    33.89,2,     0.02,2,     2.35,2,    1.542,2,    0.830,2,   0.8000,2,   2251.9,2,  2335.14,2,   7.5502,2,    24.89,     -999,5,     -999,9,   1.3618,2,     -999,9,     -999,9,     -999,     -999,9,     -999,5,     -999,1,     -999,9,    0.077,1,    4.642,1,    0.153,1,  22.7000,2,     -999,9,20180420,0642, -66.9986,-138.2007,     -999,9,     -999,9,-999          ,9,     -999,9,     -999,9,     -999,     -999,9,     -999,     -999,9,     -999,9,     -999,9,     -999,9,     -999,9,     -999,9,     -999,9,     -999,9,     -999,9,     -999,9,     -999,9,     -999,9,     -999,9,     -999,9
320620180309  ,S04P       ,76      ,  1,28         ,28         ,2,20180420,0451, -66.9991,-138.2018,     4444,    251.6,1.7881777777777776439,34.646325439045945,2,  34.6472,2,183.43653105113700,3, 185.9966,3,    181.3,2,     84.0,2,    33.57,2,     0.02,2,     2.32,2,    0.732,2,    0.398,2,   0.3700,2,   2256.2,2,  2341.99,2,   7.5555,2,    24.89,     -999,5,     -999,9,   1.7872,2,     -999,9,     -999,9,     -999,     -999,9,     -999,5,     -999,1,     -999,9,    0.073,1,    4.647,1,    0.153,1,  22.6600,2,     -999,9,20180420,0640, -66.9986,-138.2008,     -999,9,     -999,9,-999          ,9,     -999,9,     -999,9,     -999,     -999,9,     -999,     -999,9,     -999,9,     -999,9,     -999,9,     -999,9,     -999,9,     -999,9,     -999,9,     -999,9,     -999,9,     -999,9,     -999,9,     -999,9,     -999,9
320620180309  ,S04P       ,76      ,  1,27         ,27         ,2,20180420,0451, -66.9991,-138.2018,     4444,    302.4,1.8547305555555553269,34.678344470668641,2,  34.6786,2,181.34948864519703,2, 182.6993,2,    180.9,2,     85.7,2,    33.13,2,     0.02,2,     2.29,2,    0.537,2,    0.291,2,   0.1200,2,   2255.4,6,  2344.96,2,   7.5651,2,    24.89,     -999,5,     -999,9,   1.8537,2,     -999,9,     -999,9,     -999,     -999,9,     -999,5,     -999,1,     -999,9,    0.081,1,    4.648,1,    0.152,1,  21.8500,2,     -999,9,20180420,0638, -66.9987,-138.2009,     -999,9,     -999,9,-999          ,9,     -999,9,     -999,9,     -999,     -999,9,     -999,     -999,9,     -999,9,     -999,9,     -999,9,     -999,9,     -999,9,     -999,9,     -999,9,     -999,9,     -999,9,     -999,9,     -999,9,     -999,9,     -999,9
320620180309  ,S04P       ,76      ,  1,26         ,26         ,2,20180420,0451, -66.9991,-138.2018,     4444,    353.0,1.8450861111111112045,34.692875383965834,2,  34.6917,2,182.26183238406659,2, 183.3042,2,    181.4,2,     86.8,2,    32.91,2,     0.00,2,     2.28,2,    0.459,2,    0.246,2,   0.1200,2,   2258.5,2,  2346.73,2,   7.5680,2,    24.88,     -999,5,     -999,9,   1.8440,2,     -999,9,     -999,9,     -999,     -999,9,     -999,9,     -999,1,     -999,9,    0.077,1,    4.650,1,    0.147,1,  22.0000,2,     -999,9,20180420,0636, -66.9987,-138.2010,     -999,9,     -999,9,-999          ,9,     -999,9,     -999,9,     -999,     -999,9,     -999,     -999,9,     -999,9,     -999,9,     -999,9,     -999,9,     -999,9,     -999,9,     -999,9,     -999,9,     -999,9,     -999,9,     -999,9,     -999,9,     -999,9
320620180309  ,S04P       ,76      ,  1,25         ,25         ,2,20180420,0451, -66.9991,-138.2018,     4444,    404.2,1.8101611111111113317,34.708110521029525,2,  34.7070,2,183.72504352529967,2, 184.2955,2,    183.1,2,     88.8,2,    32.62,2,     0.00,2,     2.25,2,    0.387,2,    0.213,2,   0.1800,2,   2256.2,2,  2348.50,2,   7.5740,2,    24.89,     -999,5,     -999,9,   1.8093,2,     -999,9,     -999,9,     -999,     -999,9,     -999,9,     -999,1,     -999,9,    0.072,1,    4.649,1,    0.143,1,  21.3700,2,     -999,9,20180420,0634, -66.9987,-138.2010,     -999,9,     -999,9,-999          ,9,     -999,9,     -999,9,     -999,     -999,9,     -999,     -999,9,     -999,9,     -999,9,     -999,9,     -999,9,     -999,9,     -999,9,     -999,9,     -999,9,     -999,9,     -999,9,     -999,9,     -999,9,     -999,9
320620180309  ,S04P       ,76      ,  1,24         ,24         ,2,20180420,0451, -66.9991,-138.2018,     4444,    453.9,1.7717611111111111200,34.716261631648798,2,  34.7151,2,185.16990623901620,2, 185.6996,2,    184.3,2,     90.2,2,    32.41,2,     0.00,2,     2.26,2,    0.335,2,    0.179,2,   0.1300,2,   2256.6,2,  2350.69,2,   7.5760,2,    24.89,     -999,9,     -999,9,   1.7709,2,     -999,9,     -999,9,     -999,     -999,9,     -999,9,     -999,9,     -999,9,    0.067,1,    4.654,1,    0.141,1,  21.1700,2,     -999,9,20180420,0632, -66.9987,-138.2008,     -999,9,     -999,9,-999          ,9,     -999,9,     -999,9,     -999,     -999,9,     -999,     -999,9,     -999,9,     -999,9,     -999,9,     -999,9,     -999,9,     -999,9,     -999,9,     -999,9,     -999,9,     -999,9,     -999,9,     -999,9,     -999,9
320620180309  ,S04P       ,76      ,  1,23         ,23         ,2,20180420,0451, -66.9991,-138.2018,     4444,    505.4,1.7414194444444446308,34.720453960203322,2,  34.7204,2,186.76328102370118,2, 186.5986,2,    186.3,2,     91.3,2,    32.29,2,     0.00,2,     2.25,2,    0.310,2,    0.163,2,   0.0300,2,   2257.8,2,  2351.12,2,   7.5835,2,    24.89,     -999,5,     -999,9,   1.7403,2,     -999,9,     -999,9,     -999,     -999,9,     -999,9,     -999,1,     -999,9,    0.069,1,    4.655,1,    0.144,1,  20.8600,2,     -999,9,20180420,0630, -66.9985,-138.2006,     -999,9,     -999,9,-999          ,9,     -999,9,     -999,9,     -999,     -999,9,     -999,     -999,9,     -999,9,     -999,9,     -999,9,     -999,9,     -999,9,     -999,9,     -999,9,     -999,9,     -999,9,     -999,9,     -999,9,     -999,9,     -999,9
320620180309  ,S04P       ,76      ,  1,22         ,37         ,2,20180420,0451, -66.9991,-138.2018,     4444,    605.8,1.6491750000000000576,34.728170521645310,2,  34.7300,2,188.96734580978941,2, 188.9027,2,    188.1,2,     94.4,2,    32.19,2,     0.00,2,     2.23,2,    0.262,2,    0.136,2,   0.1200,2,   2257.2,2,  2352.78,2,   7.5875,6,    24.88,     -999,5,     -999,9,   1.6483,2,     -999,9,     -999,9,     -999,     -999,9,     -999,9,     -999,1,     -999,9,    0.069,1,    4.659,1,    0.138,1,  20.5800,2,     -999,9,20180420,0626, -66.9985,-138.2005,     -999,9,     -999,9,-999          ,9,     -999,9,     -999,9,     -999,     -999,9,     -999,     -999,9,     -999,9,     -999,9,     -999,9,     -999,9,     -999,9,     -999,9,     -999,9,     -999,9,     -999,9,     -999,9,     -999,9,     -999,9,     -999,9
320620180309  ,S04P       ,76      ,  1,21         ,21         ,2,20180420,0451, -66.9991,-138.2018,     4444,    707.0,1.5478500000000001702,34.731146533308554,2,  34.7304,2,190.69630757334849,2, 190.4054,2,    189.9,2,     97.7,2,    32.18,2,     0.00,2,     2.24,2,    0.227,2,    0.117,2,   0.1700,2,   2257.9,2,  2357.16,2,   7.5885,2,    24.88,     -999,5,     -999,9,   1.5466,2,     -999,9,     -999,9,     -999,     -999,9,     -999,9,     -999,1,     -999,9,    0.064,1,    4.656,1,    0.138,1,  20.5800,2,     -999,9,20180420,0623, -66.9985,-138.2006,     -999,9,     -999,9,-999          ,9,     -999,9,     -999,9,     -999,     -999,9,     -999,     -999,9,     -999,9,     -999,9,     -999,9,     -999,9,     -999,9,     -999,9,     -999,9,     -999,9,     -999,9,     -999,9,     -999,9,     -999,9,     -999,9
320620180309  ,S04P       ,76      ,  1,20         ,20         ,2,20180420,0451, -66.9991,-138.2018,     4444,    808.8,1.4668083333333332696,34.731796797756964,2,  34.7317,2,191.46186703649880,2, 191.7027,2,    191.2,2,    100.4,2,    32.22,2,     0.00,2,     2.23,2,     -999,9,     -999,9,     -999,9,   2258.1,2,  2357.62,2,   7.5881,2,    24.91,     -999,5,     -999,9,   1.4659,2,     -999,9,     -999,9,     -999,     -999,9,     -999,9,     -999,1,     -999,9,    0.077,1,    4.659,1,    0.147,1,     -999,9,     -999,9,20180420,0620, -66.9986,-138.2008,     -999,9,     -999,9,-999          ,9,     -999,9,     -999,9,     -999,     -999,9,     -999,     -999,9,     -999,9,     -999,9,     -999,9,     -999,9,     -999,9,     -999,9,     -999,9,     -999,9,     -999,9,     -999,9,     -999,9,     -999,9,     -999,9
320620180309  ,S04P       ,76      ,  1,19         ,19         ,2,20180420,0451, -66.9991,-138.2018,     4444,    910.1,1.3823444444444443757,34.731014272219923,2,  34.7312,2,192.69923797194204,2, 192.6015,2,    191.8,2,    103.3,2,    32.28,2,     0.00,2,     2.23,2,    0.187,2,    0.102,2,   0.1000,2,   2258.1,2,  2358.02,2,   7.5897,2,    24.88,     -999,5,     -999,9,   1.3843,2,     -999,9,     -999,9,     -999,     -999,9,     -999,9,     -999,1,     -999,9,    0.064,1,    4.655,1,    0.136,1,  20.5300,2,     -999,9,20180420,0617, -66.9985,-138.2005,     -999,9,     -999,9,-999          ,9,     -999,9,     -999,9,     -999,     -999,9,     -999,     -999,9,     -999,9,     -999,9,     -999,9,     -999,9,     -999,9,     -999,9,     -999,9,     -999,9,     -999,9,     -999,9,     -999,9,     -999,9,     -999,9
320620180309  ,S04P       ,76      ,  1,18         ,18         ,2,20180420,0451, -66.9991,-138.2018,     4444,   1012.1,1.3158972222222222737,34.729472255003415,2,  34.7298,2,194.27210216481015,2, 193.6009,2,    193.5,2,    105.7,2,    32.28,2,     0.00,2,     2.21,2,     -999,9,     -999,9,     -999,9,   2258.4,2,  2359.08,2,   7.5913,6,    24.89,     -999,5,     -999,9,   1.3153,2,     -999,9,     -999,9,     -999,     -999,9,     -999,9,     -999,1,     -999,9,    0.062,1,    4.658,1,    0.135,1,     -999,9,     -999,9,20180420,0614, -66.9983,-138.2002,     -999,9,     -999,9,-999          ,9,     -999,9,     -999,9,     -999,     -999,9,     -999,     -999,9,     -999,9,     -999,9,     -999,9,     -999,9,     -999,9,     -999,9,     -999,9,     -999,9,     -999,9,     -999,9,     -999,9,     -999,9,     -999,9
320620180309  ,S04P       ,76      ,  1,17         ,17         ,2,20180420,0451, -66.9991,-138.2018,     4444,   1113.7,1.2375749999999998696,34.727409855581733,2,  34.7274,2,195.84105839649735,2, 194.6034,2,    195.3,2,    108.2,2,    32.28,2,     0.00,2,     2.22,2,    0.158,2,    0.079,2,   0.0400,2,   2260.6,2,  2361.24,2,   7.5928,2,    24.91,     -999,5,     -999,9,   1.2370,2,     -999,9,     -999,9,     -999,     -999,9,     -999,9,     -999,1,     -999,9,    0.062,1,    4.660,1,    0.131,1,  21.1800,2,     -999,9,20180420,0611, -66.9984,-138.2001,     -999,9,     -999,9,-999          ,9,     -999,9,     -999,9,     -999,     -999,9,     -999,     -999,9,     -999,9,     -999,9,     -999,9,     -999,9,     -999,9,     -999,9,     -999,9,     -999,9,     -999,9,     -999,9,     -999,9,     -999,9,     -999,9
320620180309  ,S04P       ,76      ,  1,16         ,16         ,2,20180420,0451, -66.9991,-138.2018,     4444,   1215.4,1.1696416666666664685,34.725054003248161,2,  34.7255,2,196.56863956978412,2, 196.2997,2,    195.8,2,    110.1,2,    32.26,2,     0.00,2,     2.21,2,     -999,9,     -999,9,     -999,9,   2260.6,2,  2361.41,2,   7.5947,2,    24.90,     -999,5,     -999,9,   1.1689,2,     -999,9,     -999,9,     -999,     -999,9,     -999,9,     -999,1,     -999,9,    0.065,1,    4.660,1,    0.136,1,     -999,9,     -999,9,20180420,0608, -66.9987,-138.2008,     -999,9,     -999,9,-999          ,9,     -999,9,     -999,9,     -999,     -999,9,     -999,     -999,9,     -999,9,     -999,9,     -999,9,     -999,9,     -999,9,     -999,9,     -999,9,     -999,9,     -999,9,     -999,9,     -999,9,     -999,9,     -999,9