BOTTLE,20240515CCHHYDRO
EXPOCODE,SECT_ID,STNNBR,CASTNO,SAMPNO,BTLNBR,BTLNBR_FLAG_W,DATE,TIME,LATITUDE,LONGITUDE,DEPTH,CTDPRS,CTDTMP,CTDSAL,CTDSAL_FLAG_W,SALNTY,SALNTY_FLAG_W,CTDOXY,CTDOXY_FLAG_W,CTDOPTOXY,CTDOPTOXY_FLAG_W,OXYGEN,OXYGEN_FLAG_W,SILCAT,SILCAT_FLAG_W,NITRAT,NITRAT_FLAG_W,NITRIT,NITRIT_FLAG_W,PHSPHT,PHSPHT_FLAG_W,CFC-11,CFC-11_FLAG_W,CFC-12,CFC-12_FLAG_W,SF6,SF6_FLAG_W,TCARBN,TCARBN_FLAG_W,ALKALI,ALKALI_FLAG_W,PH_TOT,PH_TOT_FLAG_W,PH_TMP,DOC,DOC_FLAG_W,HELIUM,HELIUM_FLAG_W,REFTMP,REFTMP_FLAG_W,DELC13,DELC13_FLAG_W,DELC14,DELC14_FLAG_W,C14ERR,POC,POC_FLAG_W,TDN,TDN_FLAG_W,TON,TON_FLAG_W,NEON,NEON_FLAG_W,CTDFLUOR,CTDFLUOR_FLAG_W,CTDXMISS,CTDXMISS_FLAG_W,CTDBETA700,CTDBETA700_FLAG_W,N2O,N2O_FLAG_W,ARGON,ARGON_FLAG_W,BTL_DATE,BTL_TIME,BTL_LAT,BTL_LON,KRYPTON,KRYPTON_FLAG_W,XENON,XENON_FLAG_W,HPLC,HPLC_FLAG_W,HE3_HE4_RATIO,HE3_HE4_RATIO_FLAG_W,Nd_143_144_D_EPSILON_BOTTLE,Nd_143_144_D_EPSILON_BOTTLE_FLAG_W,Nd_143_144_D_EPSILON_BOTTLE_ERROR,Nd_143_144_D_RATIO_BOTTLE,Nd_143_144_D_RATIO_BOTTLE_FLAG_W,Nd_143_144_D_RATIO_BOTTLE_ERROR,Nd_D_CONC,Nd_D_CONC_FLAG_W,La_D_CONC_BOTTLE,La_D_CONC_BOTTLE_FLAG_W,Ce_D_CONC_BOTTLE,Ce_D_CONC_BOTTLE_FLAG_W,Pr_D_CONC_BOTTLE,Pr_D_CONC_BOTTLE_FLAG_W,Sm_D_CONC_BOTTLE,Sm_D_CONC_BOTTLE_FLAG_W,Eu_D_CONC_BOTTLE,Eu_D_CONC_BOTTLE_FLAG_W,Gd_D_CONC_BOTTLE,Gd_D_CONC_BOTTLE_FLAG_W,Tb_D_CONC_BOTTLE,Tb_D_CONC_BOTTLE_FLAG_W,Dy_D_CONC_BOTTLE,Dy_D_CONC_BOTTLE_FLAG_W,Ho_D_CONC_BOTTLE,Ho_D_CONC_BOTTLE_FLAG_W,Er_D_CONC_BOTTLE,Er_D_CONC_BOTTLE_FLAG_W,Tm_D_CONC_BOTTLE,Tm_D_CONC_BOTTLE_FLAG_W,Yb_D_CONC_BOTTLE,Yb_D_CONC_BOTTLE_FLAG_W,Lu_D_CONC_BOTTLE,Lu_D_CONC_BOTTLE_FLAG_W
,,,,,,,,,,,METERS,DBAR,ITS-90,PSS-78,,PSS-78,,UMOL/KG,,UMOL/KG,,UMOL/KG,,UMOL/KG,,UMOL/KG,,UMOL/KG,,UMOL/KG,,PMOL/KG,,PMOL/KG,,FMOL/KG,,UMOL/KG,,UMOL/KG,,,,DEG C,UMOL/KG,,NMOL/L,,DEG C,,/MILLE,,/MILLE,,/MILLE,UG/KG,,UMOL/KG,,UMOL/KG,,NMOL/L,,VOLTS,,VOLTS,,VOLTS,,NMOL/KG,,UMOL/L,,,,,,NMOL/L,,NMOL/L,,,,,,10000,,10000,,,,PMOL/KG,,PMOL/L,,PMOL/L,,PMOL/L,,PMOL/L,,PMOL/L,,PMOL/L,,PMOL/L,,PMOL/L,,PMOL/L,,PMOL/L,,PMOL/L,,PMOL/L,,PMOL/L,
320620180309  ,P16        ,45      ,  1,36         ,36         ,2,20180405,2345, -71.4949,-150.0003,     4215,      4.4,-1.6411277777777777409,33.839680317614864,2,  33.8382,2,345.20822253727857,2, 343.4966,2,    345.4,2,     44.8,2,    25.79,2,     0.17,2,     1.81,2,    6.627,2,    3.317,2,   4.2300,3,   2176.9,6,  2291.40,2,   7.6536,2,    24.95,     -999,9,     -999,9,  -1.6532,2,1.24000000,2, -107.290,2,    0.002,     -999,9,     -999,9,     -999,9,     -999,9,    0.107,1,    4.645,1,    0.159,1,  18.2400,2,     -999,9,20180406,0154, -71.4949,-150.0032,     -999,9,     -999,9,-999          ,9,     -999,9,     -999,9,     -999,     -999,9,     -999,     -999,9,     -999,1,     -999,1,     -999,1,     -999,1,     -999,1,     -999,1,     -999,1,     -999,1,     -999,1,     -999,1,     -999,1,     -999,1,     -999,1
320620180309  ,P16        ,45      ,  1,35         ,35         ,2,20180405,2345, -71.4949,-150.0003,     4215,     21.5,-1.6439861111111111480,33.840161048854966,2,  33.8382,2,346.02364978306628,2, 343.5014,2,    345.4,2,     44.9,2,    25.71,2,     0.17,2,     1.81,2,     -999,9,     -999,9,     -999,9,     -999,9,     -999,9,     -999,9,     -999,     -999,9,     -999,9,  -1.6445,2,     -999,9,     -999,9,     -999,     -999,9,     -999,9,     -999,9,     -999,9,    0.110,1,    4.644,1,    0.159,1,     -999,9,     -999,9,20180406,0153, -71.4948,-150.0031,     -999,9,     -999,9,-999          ,9,     -999,9,     -999,9,     -999,     -999,9,     -999,     -999,9,     -999,1,     -999,1,     -999,1,     -999,1,     -999,1,     -999,1,     -999,1,     -999,1,     -999,1,     -999,1,     -999,1,     -999,1,     -999,1
320620180309  ,P16        ,45      ,  1,34         ,34         ,2,20180405,2345, -71.4949,-150.0003,     4215,     47.4,-1.6657527777777778599,33.862936808678946,2,  33.8617,2,342.05524136216934,2, 344.0021,2,    340.6,2,     46.5,2,    26.40,2,     0.17,2,     1.86,2,    6.388,2,    3.199,2,   3.4600,3,   2181.7,2,  2291.95,2,   7.6458,2,    24.95,     -999,9,     -999,9,  -1.6434,2,     -999,9,     -999,9,     -999,     -999,9,     -999,9,     -999,9,     -999,9,    0.120,1,    4.640,1,    0.163,1,  18.4300,2,     -999,9,20180406,0153, -71.4949,-150.0028,     -999,9,     -999,9,-999          ,9,     -999,9,     -999,9,     -999,     -999,9,     -999,     -999,9,     -999,9,     -999,9,     -999,9,     -999,9,     -999,9,     -999,9,     -999,9,     -999,9,     -999,9,     -999,9,     -999,9,     -999,9,     -999,9
320620180309  ,P16        ,45      ,  1,33         ,33         ,2,20180405,2345, -71.4949,-150.0003,     4215,     71.6,-1.2194972222222224545,34.069895020677620,2,  34.0774,2,300.21152937647179,2, 300.2982,2,    298.1,2,     52.7,2,    28.49,2,     0.15,2,     2.01,2,     -999,9,     -999,9,     -999,9,     -999,9,     -999,9,     -999,9,     -999,     -999,9,     -999,9,  -1.2911,3,     -999,9,     -999,9,     -999,     -999,9,     -999,9,     -999,9,     -999,9,    0.121,1,    4.643,1,    0.167,1,     -999,9,     -999,9,20180406,0152, -71.4949,-150.0027,     -999,9,     -999,9,-999          ,9,     -999,9,     -999,9,     -999,     -999,9,     -999,     -999,9,     -999,1,     -999,1,     -999,1,     -999,1,     -999,1,     -999,1,     -999,1,     -999,1,     -999,1,     -999,1,     -999,1,     -999,1,     -999,1
320620180309  ,P16        ,45      ,  1,32         ,32         ,2,20180405,2345, -71.4949,-150.0003,     4215,     97.0,-0.4525361111111110834,34.243533129518504,2,  34.2481,2,263.76007543179685,3, 255.8937,2,    259.3,2,     63.0,2,    30.84,2,     0.08,2,     2.11,2,    3.654,2,    1.903,2,   2.1300,3,   2222.7,2,  2314.10,2,   7.5875,2,    24.94,     -999,9,     -999,9,  -0.5716,3,0.75000000,2, -124.250,2,    0.001,     -999,9,     -999,9,     -999,9,     -999,9,    0.092,1,    4.655,1,    0.149,1,  21.4800,2,     -999,9,20180406,0152, -71.4949,-150.0025,     -999,9,     -999,9,-999          ,9,     -999,9,     -999,9,     -999,     -999,9,     -999,     -999,9,     -999,1,     -999,1,     -999,1,     -999,1,     -999,1,     -999,1,     -999,1,     -999,1,     -999,1,     -999,1,     -999,1,     -999,1,     -999,1
320620180309  ,P16        ,45      ,  1,31         ,31         ,2,20180405,2345, -71.4949,-150.0003,     4215,    125.3,0.1869250000000000078,34.358715253645428,2,  34.3582,2,237.57724033917441,3, 228.4985,3,    235.0,2,     69.7,2,    31.94,2,     0.03,2,     2.19,2,     -999,9,     -999,9,     -999,9,     -999,9,     -999,9,     -999,9,     -999,     -999,9,     -999,9,   0.1600,2,     -999,9,     -999,9,     -999,     -999,9,     -999,9,     -999,9,     -999,9,    0.078,1,    4.661,1,    0.145,1,     -999,9,     -999,9,20180406,0151, -71.4949,-150.0025,     -999,9,     -999,9,-999          ,9,     -999,9,     -999,9,     -999,     -999,9,     -999,     -999,9,     -999,1,     -999,1,     -999,1,     -999,1,     -999,1,     -999,1,     -999,1,     -999,1,     -999,1,     -999,1,     -999,1,     -999,1,     -999,1
320620180309  ,P16        ,45      ,  1,30         ,30         ,2,20180405,2345, -71.4949,-150.0003,     4215,    151.4,0.9543666666666668075,34.495132513607849,2,  34.5022,2,204.93429546082490,2, 199.2983,3,    204.5,2,     77.6,2,    33.13,2,     0.02,2,     2.26,2,    1.765,2,    0.959,2,   0.8300,3,   2248.8,2,  2329.93,2,   7.5553,2,    24.95,     -999,9,     -999,9,   0.9327,2,0.43000000,2, -138.380,2,    0.001,     -999,9,     -999,9,     -999,9,     -999,9,    0.075,1,    4.661,1,    0.142,1,  23.9300,2,     -999,9,20180406,0149, -71.4949,-150.0027,     -999,9,     -999,9,-999          ,9,     -999,9,     -999,9,     -999,     -999,9,     -999,     -999,9,     -999,1,     -999,1,     -999,1,     -999,1,     -999,1,     -999,1,     -999,1,     -999,1,     -999,1,     -999,1,     -999,1,     -999,1,     -999,1
320620180309  ,P16        ,45      ,  1,29         ,29         ,2,20180405,2345, -71.4949,-150.0003,     4215,    203.3,1.7530194444444442414,34.654726078319541,2,  34.6517,2,178.81124967368979,2, 182.5988,2,    179.6,2,     85.1,2,    33.53,2,     0.00,2,     2.27,2,     -999,9,     -999,9,     -999,9,   2258.8,2,  2342.48,2,   7.5539,2,    24.95,     -999,9,     -999,9,   1.7457,2,0.32000000,2, -146.770,2,    0.001,     -999,9,     -999,9,     -999,9,     -999,9,    0.070,1,    4.662,1,    0.146,1,     -999,9,     -999,9,20180406,0146, -71.4949,-150.0025,     -999,9,     -999,9,-999          ,9,     -999,9,     -999,9,     -999,     -999,9,     -999,     -999,9,     -999,1,     -999,1,     -999,1,     -999,1,     -999,1,     -999,1,     -999,1,     -999,1,     -999,1,     -999,1,     -999,1,     -999,1,     -999,1
320620180309  ,P16        ,45      ,  1,28         ,28         ,2,20180405,2345, -71.4949,-150.0003,     4215,    251.6,1.7963555555555557053,34.682576185049257,2,  34.6833,2,178.65881140910102,2, 181.2034,2,    178.8,2,     87.1,2,    33.07,2,     0.00,2,     2.25,2,    0.500,2,    0.274,2,   0.2200,3,   2259.2,6,  2343.72,2,   7.5644,6,    24.96,     -999,9,     -999,9,   1.7952,2,0.48000000,2, -147.220,2,    0.002,     -999,9,     -999,9,     -999,9,     -999,9,    0.064,1,    4.666,1,    0.143,1,  23.6400,2,     -999,9,20180406,0144, -71.4948,-150.0028,     -999,9,     -999,9,-999          ,9,     -999,9,     -999,9,     -999,     -999,9,     -999,     -999,9,     -999,1,     -999,1,     -999,1,     -999,1,     -999,1,     -999,1,     -999,1,     -999,1,     -999,1,     -999,1,     -999,1,     -999,1,     -999,1
320620180309  ,P16        ,45      ,  1,27         ,27         ,2,20180405,2345, -71.4949,-150.0003,     4215,    304.1,1.7849527777777776105,34.703549082829568,2,  34.7037,2,180.45448992928718,2, 181.7025,2,    180.2,2,     89.1,2,    32.66,2,     0.00,2,     2.22,2,     -999,9,     -999,9,     -999,9,   2258.2,2,  2346.83,2,   7.5701,2,    24.96,     -999,9,     -999,9,   1.7842,2,0.49000000,2, -150.300,2,    0.002,     -999,9,     -999,9,     -999,9,     -999,9,    0.062,1,    4.670,1,    0.138,1,     -999,9,     -999,9,20180406,0141, -71.4949,-150.0029,     -999,9,     -999,9,-999          ,9,     -999,9,     -999,9,     -999,     -999,9,     -999,     -999,9,     -999,1,     -999,1,     -999,1,     -999,1,     -999,1,     -999,1,     -999,1,     -999,1,     -999,1,     -999,1,     -999,1,     -999,1,     -999,1
320620180309  ,P16        ,45      ,  1,26         ,26         ,2,20180405,2345, -71.4949,-150.0003,     4215,    355.6,1.7504861111111111871,34.714297921900247,2,  34.7135,2,182.65864818756791,2, 182.5958,2,    182.1,2,     90.4,2,    32.37,2,     0.00,2,     2.19,2,     -999,9,     -999,9,     -999,9,     -999,9,     -999,9,     -999,9,     -999,     -999,9,     -999,9,   1.7540,2,0.53000000,2, -152.310,2,    0.002,     -999,9,     -999,9,     -999,9,     -999,9,    0.062,1,    4.671,1,    0.133,1,     -999,9,     -999,9,20180406,0138, -71.4949,-150.0025,     -999,9,     -999,9,-999          ,9,     -999,9,     -999,9,     -999,     -999,9,     -999,     -999,9,     -999,1,     -999,1,     -999,1,     -999,1,     -999,1,     -999,1,     -999,1,     -999,1,     -999,1,     -999,1,     -999,1,     -999,1,     -999,1
320620180309  ,P16        ,45      ,  1,25         ,25         ,2,20180405,2345, -71.4949,-150.0003,     4215,    404.0,1.7062388888888886385,34.720906732252132,3,     -999,5,183.94830345430620,2, 183.3032,2,    183.6,2,     92.1,2,    32.20,2,     0.00,2,     2.18,2,    0.295,2,    0.157,2,   0.0000,3,   2257.4,2,  2350.04,2,   7.5777,6,    24.95,     -999,9,     -999,9,   1.7053,2,0.50000000,2, -152.350,2,    0.002,     -999,9,     -999,9,     -999,9,     -999,9,    0.061,1,    4.674,1,    0.130,1,  23.1600,2,     -999,9,20180406,0136, -71.4949,-150.0022,     -999,9,     -999,9,-999          ,9,     -999,9,     -999,9,     -999,     -999,9,     -999,     -999,9,     -999,1,     -999,1,     -999,1,     -999,1,     -999,1,     -999,1,     -999,1,     -999,1,     -999,1,     -999,1,     -999,1,     -999,1,     -999,1
320620180309  ,P16        ,45      ,  1,24         ,24         ,2,20180405,2345, -71.4949,-150.0003,     4215,    453.8,1.6567694444444445168,34.725681334084911,2,  34.7255,2,185.55026795389682,2, 184.1934,2,    185.0,2,     94.1,2,    32.12,2,     0.00,2,     2.17,2,     -999,9,     -999,9,     -999,9,   2259.2,2,  2350.90,2,   7.5814,2,    24.96,     -999,9,     -999,9,   1.6557,2,     -999,9,     -999,9,     -999,     -999,9,     -999,9,     -999,9,     -999,9,    0.061,1,    4.673,1,    0.130,1,     -999,9,     -999,9,20180406,0133, -71.4949,-150.0012,     -999,9,     -999,9,-999          ,9,     -999,9,     -999,9,     -999,     -999,9,     -999,     -999,9,     -999,9,     -999,9,     -999,9,     -999,9,     -999,9,     -999,9,     -999,9,     -999,9,     -999,9,     -999,9,     -999,9,     -999,9,     -999,9
320620180309  ,P16        ,45      ,  1,23         ,23         ,2,20180405,2345, -71.4949,-150.0003,     4215,    505.1,1.6135222222222218580,34.728203326198638,2,  34.7284,2,186.49511055663862,2, 184.9944,2,    185.9,2,     95.6,2,    32.07,2,     0.00,2,     2.18,2,     -999,9,     -999,9,     -999,9,     -999,9,     -999,9,     -999,9,     -999,     -999,9,     -999,9,   1.6132,2,0.53500000,6, -153.870,6,    0.002,     -999,9,     -999,9,     -999,9,     -999,9,    0.061,1,    4.667,1,    0.134,1,     -999,9,     -999,9,20180406,0130, -71.4950,-150.0003,     -999,9,     -999,9,-999          ,9,     -999,9,     -999,9,     -999,     -999,9,     -999,     -999,9,     -999,1,     -999,1,     -999,1,     -999,1,     -999,1,     -999,1,     -999,1,     -999,1,     -999,1,     -999,1,     -999,1,     -999,1,     -999,1
320620180309  ,P16        ,45      ,  1,22         ,37         ,2,20180405,2345, -71.4949,-150.0003,     4215,    606.6,1.5029555555555553781,34.731476324845723,2,  34.7314,2,188.35179486934470,2, 186.9999,2,    188.4,2,     99.8,2,    32.04,2,     0.00,2,     2.17,2,    0.201,2,    0.110,2,   0.0200,3,   2259.6,2,  2354.23,2,   7.5884,2,    24.96,     -999,9,     -999,9,   1.5022,2,0.59000000,2, -153.210,2,    0.002,     -999,9,     -999,9,     -999,9,     -999,9,    0.062,1,    4.672,1,    0.130,1,  21.0700,2,     -999,9,20180406,0126, -71.4951,-149.9994,     -999,9,     -999,9,-999          ,9,     -999,9,     -999,9,     -999,     -999,9,     -999,     -999,9,     -999,9,     -999,9,     -999,9,     -999,9,     -999,9,     -999,9,     -999,9,     -999,9,     -999,9,     -999,9,     -999,9,     -999,9,     -999,9
320620180309  ,P16        ,45      ,  1,21         ,21         ,2,20180405,2345, -71.4949,-150.0003,     4215,    707.5,1.4176500000000000767,34.730943829036242,2,  34.7312,2,189.23762413322896,3, 188.4994,2,    187.3,3,    102.8,2,    32.27,2,     0.00,2,     2.18,2,     -999,9,     -999,9,     -999,9,   2259.9,2,  2356.28,2,   7.5837,2,    24.96,     -999,9,     -999,9,   1.4174,2,0.51000000,2, -161.290,2,    0.002,     -999,9,     -999,9,     -999,9,     -999,9,    0.062,1,    4.672,1,    0.130,1,     -999,9,     -999,9,20180406,0123, -71.4951,-149.9993,     -999,9,     -999,9,-999          ,9,     -999,9,     -999,9,     -999,     -999,9,     -999,     -999,9,     -999,1,     -999,1,     -999,1,     -999,1,     -999,1,     -999,1,     -999,1,     -999,1,     -999,1,     -999,1,     -999,1,     -999,1,     -999,1
320620180309  ,P16        ,45      ,  1,20         ,20         ,2,20180405,2345, -71.4949,-150.0003,     4215,    809.0,1.3446361111111109210,34.730329914264352,2,  34.7302,2,190.53335753531314,2, 190.0010,2,    190.1,2,    107.3,2,    32.17,2,     0.00,2,     2.18,2,     -999,9,     -999,9,     -999,9,   2261.7,2,  2356.34,2,   7.5863,2,    24.96,     -999,9,     -999,9,   1.3440,2,0.49000000,2, -158.290,2,    0.002,     -999,9,     -999,9,     -999,9,     -999,9,    0.061,1,    4.673,1,    0.130,1,     -999,9,     -999,9,20180406,0119, -71.4950,-149.9999,     -999,9,     -999,9,-999          ,9,     -999,9,     -999,9,     -999,     -999,9,     -999,     -999,9,     -999,9,     -999,9,     -999,9,     -999,9,     -999,9,     -999,9,     -999,9,     -999,9,     -999,9,     -999,9,     -999,9,     -999,9,     -999,9
320620180309  ,P16        ,45      ,  1,19         ,19         ,2,20180405,2345, -71.4949,-150.0003,     4215,    910.9,1.2764444444444444926,34.728570078593044,2,  34.7290,2,192.07495260302500,3, 191.4006,2,    190.0,2,    107.7,2,    32.32,2,     0.00,2,     2.19,2,    0.148,2,    0.088,2,   0.1200,3,     -999,9,     -999,9,     -999,9,     -999,     -999,9,     -999,9,   1.2753,2,0.44000000,2, -159.420,2,    0.002,     -999,9,     -999,9,     -999,9,     -999,9,    0.062,1,    4.672,1,    0.128,1,  21.3900,2,     -999,9,20180406,0115, -71.4950,-150.0002,     -999,9,     -999,9,-999          ,9,     -999,9,     -999,9,     -999,     -999,9,     -999,     -999,9,     -999,1,     -999,1,     -999,1,     -999,1,     -999,1,     -999,1,     -999,1,     -999,1,     -999,1,     -999,1,     -999,1,     -999,1,     -999,1
320620180309  ,P16        ,45      ,  1,18         ,18         ,2,20180405,2345, -71.4949,-150.0003,     4215,   1013.0,1.2066666666666665542,34.726603942784145,2,  34.7270,2,193.01546267708014,2, 192.8027,2,    192.0,2,    109.8,2,    32.30,2,     0.00,2,     2.19,2,     -999,9,     -999,9,     -999,9,   2262.5,2,  2358.92,2,   7.5889,2,    24.95,     -999,9,     -999,9,   1.2080,2,0.41000000,2, -157.560,2,    0.002,     -999,9,     -999,9,     -999,9,     -999,9,    0.061,1,    4.673,1,    0.129,1,     -999,9,     -999,9,20180406,0112, -71.4951,-149.9994,     -999,9,     -999,9,-999          ,9,     -999,9,     -999,9,     -999,     -999,9,     -999,     -999,9,     -999,9,     -999,9,     -999,9,     -999,9,     -999,9,     -999,9,     -999,9,     -999,9,     -999,9,     -999,9,     -999,9,     -999,9,     -999,9
320620180309  ,P16        ,45      ,  1,17         ,17         ,2,20180405,2345, -71.4949,-150.0003,     4215,   1112.8,1.1391194444444445733,34.724169411920862,2,  34.7251,2,194.08618891924445,2, 193.9994,2,    194.5,2,    111.6,2,    32.24,2,     0.00,2,     2.20,2,     -999,9,     -999,9,     -999,9,     -999,9,     -999,9,     -999,9,     -999,     -999,9,     -999,9,   1.1379,2,0.48000000,2, -160.170,2,    0.002,     -999,9,     -999,9,     -999,9,     -999,9,    0.061,1,    4.673,1,    0.128,1,     -999,9,     -999,9,20180406,0108, -71.4952,-149.9987,     -999,9,     -999,9,-999          ,9,     -999,9,     -999,9,     -999,     -999,9,     -999,     -999,9,     -999,1,     -999,1,     -999,1,     -999,1,     -999,1,     -999,1,     -999,1,     -999,1,     -999,1,     -999,1,     -999,1,     -999,1,     -999,1
320620180309  ,P16        ,45      ,  1,16         ,16         ,2,20180405,2345, -71.4949,-150.0003,     4215,   1216.0,1.0805750000000002853,34.722050840180692,2,  34.7233,2,195.91931598178675,2, 195.4040,2,    195.6,2,    113.3,2,    32.24,2,     0.00,2,     2.19,2,    0.125,2,    0.068,2,   0.1400,3,   2262.4,2,  2360.69,2,   7.5924,2,    24.96,     -999,9,     -999,9,   1.0808,2,0.65000000,2, -159.900,2,    0.002,     -999,9,     -999,9,     -999,9,     -999,9,    0.060,1,    4.673,1,    0.128,1,  21.1000,2,     -999,9,20180406,0105, -71.4952,-149.9986,     -999,9,     -999,9,-999          ,9,     -999,9,     -999,9,     -999,     -999,9,     -999,     -999,9,     -999,9,     -999,9,     -999,9,     -999,9,     -999,9,     -999,9,     -999,9,     -999,9,     -999,9,     -999,9,     -999,9,     -999,9,     -999,9