BOTTLE,20240515CCHHYDRO
EXPOCODE,SECT_ID,STNNBR,CASTNO,SAMPNO,BTLNBR,BTLNBR_FLAG_W,DATE,TIME,LATITUDE,LONGITUDE,DEPTH,CTDPRS,CTDTMP,CTDSAL,CTDSAL_FLAG_W,SALNTY,SALNTY_FLAG_W,CTDOXY,CTDOXY_FLAG_W,CTDOPTOXY,CTDOPTOXY_FLAG_W,OXYGEN,OXYGEN_FLAG_W,SILCAT,SILCAT_FLAG_W,NITRAT,NITRAT_FLAG_W,NITRIT,NITRIT_FLAG_W,PHSPHT,PHSPHT_FLAG_W,CFC-11,CFC-11_FLAG_W,CFC-12,CFC-12_FLAG_W,SF6,SF6_FLAG_W,TCARBN,TCARBN_FLAG_W,ALKALI,ALKALI_FLAG_W,PH_TOT,PH_TOT_FLAG_W,PH_TMP,DOC,DOC_FLAG_W,HELIUM,HELIUM_FLAG_W,REFTMP,REFTMP_FLAG_W,DELC13,DELC13_FLAG_W,DELC14,DELC14_FLAG_W,C14ERR,POC,POC_FLAG_W,TDN,TDN_FLAG_W,TON,TON_FLAG_W,NEON,NEON_FLAG_W,CTDFLUOR,CTDFLUOR_FLAG_W,CTDXMISS,CTDXMISS_FLAG_W,CTDBETA700,CTDBETA700_FLAG_W,N2O,N2O_FLAG_W,ARGON,ARGON_FLAG_W,BTL_DATE,BTL_TIME,BTL_LAT,BTL_LON,KRYPTON,KRYPTON_FLAG_W,XENON,XENON_FLAG_W,HPLC,HPLC_FLAG_W,HE3_HE4_RATIO,HE3_HE4_RATIO_FLAG_W,Nd_143_144_D_EPSILON_BOTTLE,Nd_143_144_D_EPSILON_BOTTLE_FLAG_W,Nd_143_144_D_EPSILON_BOTTLE_ERROR,Nd_143_144_D_RATIO_BOTTLE,Nd_143_144_D_RATIO_BOTTLE_FLAG_W,Nd_143_144_D_RATIO_BOTTLE_ERROR,Nd_D_CONC,Nd_D_CONC_FLAG_W,La_D_CONC_BOTTLE,La_D_CONC_BOTTLE_FLAG_W,Ce_D_CONC_BOTTLE,Ce_D_CONC_BOTTLE_FLAG_W,Pr_D_CONC_BOTTLE,Pr_D_CONC_BOTTLE_FLAG_W,Sm_D_CONC_BOTTLE,Sm_D_CONC_BOTTLE_FLAG_W,Eu_D_CONC_BOTTLE,Eu_D_CONC_BOTTLE_FLAG_W,Gd_D_CONC_BOTTLE,Gd_D_CONC_BOTTLE_FLAG_W,Tb_D_CONC_BOTTLE,Tb_D_CONC_BOTTLE_FLAG_W,Dy_D_CONC_BOTTLE,Dy_D_CONC_BOTTLE_FLAG_W,Ho_D_CONC_BOTTLE,Ho_D_CONC_BOTTLE_FLAG_W,Er_D_CONC_BOTTLE,Er_D_CONC_BOTTLE_FLAG_W,Tm_D_CONC_BOTTLE,Tm_D_CONC_BOTTLE_FLAG_W,Yb_D_CONC_BOTTLE,Yb_D_CONC_BOTTLE_FLAG_W,Lu_D_CONC_BOTTLE,Lu_D_CONC_BOTTLE_FLAG_W
,,,,,,,,,,,METERS,DBAR,ITS-90,PSS-78,,PSS-78,,UMOL/KG,,UMOL/KG,,UMOL/KG,,UMOL/KG,,UMOL/KG,,UMOL/KG,,UMOL/KG,,PMOL/KG,,PMOL/KG,,FMOL/KG,,UMOL/KG,,UMOL/KG,,,,DEG C,UMOL/KG,,NMOL/L,,DEG C,,/MILLE,,/MILLE,,/MILLE,UG/KG,,UMOL/KG,,UMOL/KG,,NMOL/L,,VOLTS,,VOLTS,,VOLTS,,NMOL/KG,,UMOL/L,,,,,,NMOL/L,,NMOL/L,,,,,,10000,,10000,,,,PMOL/KG,,PMOL/L,,PMOL/L,,PMOL/L,,PMOL/L,,PMOL/L,,PMOL/L,,PMOL/L,,PMOL/L,,PMOL/L,,PMOL/L,,PMOL/L,,PMOL/L,,PMOL/L,
320620180309  ,S04P       ,108     ,  1,15         ,15         ,2,20180502,2353, -67.5001, -96.3323,     4601,   1418.4,1.4820196492577852876,34.730834110183466,2,  34.7314,2,193.03709094984413,2, 193.0986,2,    193.7,2,    101.1,2,    31.84,2,     0.00,2,     2.17,2,     -999,9,     -999,9,     -999,9,   2258.2,2,  2358.20,2,   7.5966,2,    25.02,     -999,9,     -999,9,   1.4850,2,     -999,9,     -999,9,     -999,     -999,9,     -999,9,     -999,9,     -999,9,    0.061,1,    4.644,1,    0.130,1,     -999,9,     -999,9,20180503,0113, -67.5001, -96.3328,     -999,9,     -999,9,-999          ,9,     -999,9,     -999,9,     -999,     -999,9,     -999,     -999,9,     -999,9,     -999,9,     -999,9,     -999,9,     -999,9,     -999,9,     -999,9,     -999,9,     -999,9,     -999,9,     -999,9,     -999,9,     -999,9
320620180309  ,S04P       ,108     ,  1,14         ,14         ,2,20180502,2353, -67.5001, -96.3323,     4601,   1519.1,1.4134182499884062612,34.729472220896525,2,  34.7308,2,194.15958482992630,2, 194.0987,2,    194.2,2,    103.4,2,    31.97,2,     0.00,2,     2.18,2,     -999,9,     -999,9,     -999,9,     -999,9,     -999,9,     -999,9,     -999,     -999,9,     -999,9,   1.4131,2,     -999,9,     -999,9,     -999,     -999,9,     -999,9,     -999,9,     -999,9,    0.061,1,    4.644,1,    0.129,1,     -999,9,     -999,9,20180503,0109, -67.5001, -96.3330,     -999,9,     -999,9,-999          ,9,     -999,9,     -999,9,     -999,     -999,9,     -999,     -999,9,     -999,1,     -999,1,     -999,1,     -999,1,     -999,1,     -999,1,     -999,1,     -999,1,     -999,1,     -999,1,     -999,1,     -999,1,     -999,1
320620180309  ,S04P       ,108     ,  1,13         ,13         ,2,20180502,2353, -67.5001, -96.3323,     4601,   1622.3,1.3349026940285386722,34.727625859003986,2,  34.7288,2,195.37778108664705,2, 195.1016,2,    195.8,2,    105.7,2,    32.03,2,     0.00,2,     2.18,2,    0.134,2,    0.072,2,   0.0100,3,   2260.0,2,  2364.10,2,   7.5990,2,    25.00,     -999,9,     -999,9,   1.3347,2,     -999,9,     -999,9,     -999,     -999,9,     -999,9,     -999,9,     -999,9,    0.061,1,    4.644,1,    0.127,1,  19.5000,2,     -999,9,20180503,0106, -67.5001, -96.3329,     -999,9,     -999,9,-999          ,9,     -999,9,     -999,9,     -999,     -999,9,     -999,     -999,9,     -999,9,     -999,9,     -999,9,     -999,9,     -999,9,     -999,9,     -999,9,     -999,9,     -999,9,     -999,9,     -999,9,     -999,9,     -999,9
320620180309  ,S04P       ,108     ,  1,12         ,12         ,2,20180502,2353, -67.5001, -96.3323,     4601,   1825.6,1.2037695204372049762,34.723585133288559,2,  34.7247,2,197.69385201939943,2, 197.6002,2,    197.8,2,    109.9,2,    32.12,2,     0.00,2,     2.18,2,     -999,9,     -999,9,     -999,9,     -999,9,     -999,9,     -999,9,     -999,     -999,9,     -999,9,   1.2035,2,     -999,9,     -999,9,     -999,     -999,9,     -999,9,     -999,9,     -999,9,    0.061,1,    4.645,1,    0.128,1,     -999,9,     -999,9,20180503,0101, -67.5001, -96.3328,     -999,9,     -999,9,-999          ,9,     -999,9,     -999,9,     -999,     -999,9,     -999,     -999,9,     -999,1,     -999,1,     -999,1,     -999,1,     -999,1,     -999,1,     -999,1,     -999,1,     -999,1,     -999,1,     -999,1,     -999,1,     -999,1
320620180309  ,S04P       ,108     ,  1,11         ,11         ,2,20180502,2353, -67.5001, -96.3323,     4601,   2030.1,1.0959730890715249085,34.719707360793265,2,  34.7208,2,199.66890270479232,2, 199.7976,2,    200.2,2,    113.8,2,    32.20,2,     0.00,2,     2.18,2,    0.125,2,    0.086,2,   0.0400,3,   2261.4,2,  2364.41,2,   7.5973,2,    25.01,     -999,9,     -999,9,   1.0961,2,     -999,9,     -999,9,     -999,     -999,9,     -999,9,     -999,9,     -999,9,    0.060,1,    4.645,1,    0.128,1,  19.3300,2,     -999,9,20180503,0056, -67.5001, -96.3332,     -999,9,     -999,9,-999          ,9,     -999,9,     -999,9,     -999,     -999,9,     -999,     -999,9,     -999,9,     -999,9,     -999,9,     -999,9,     -999,9,     -999,9,     -999,9,     -999,9,     -999,9,     -999,9,     -999,9,     -999,9,     -999,9
320620180309  ,S04P       ,108     ,  1,10         ,10         ,2,20180502,2353, -67.5001, -96.3323,     4601,   2283.9,0.9724033692418084796,34.714829496324008,2,  34.7159,2,201.87046092317195,2, 202.0972,2,    202.4,2,    118.4,2,    32.36,2,     0.00,2,     2.18,2,     -999,9,     -999,9,     -999,9,     -999,9,     -999,9,     -999,9,     -999,     -999,9,     -999,9,   0.9720,2,     -999,9,     -999,9,     -999,     -999,9,     -999,9,     -999,9,     -999,9,    0.061,1,    4.646,1,    0.131,1,     -999,9,     -999,9,20180503,0050, -67.5001, -96.3329,     -999,9,     -999,9,-999          ,9,     -999,9,     -999,9,     -999,     -999,9,     -999,     -999,9,     -999,1,     -999,1,     -999,1,     -999,1,     -999,1,     -999,1,     -999,1,     -999,1,     -999,1,     -999,1,     -999,1,     -999,1,     -999,1
320620180309  ,S04P       ,108     ,  1,9          ,9          ,2,20180502,2353, -67.5001, -96.3323,     4601,   2540.3,0.8718108525181655910,34.710851332053025,2,  34.7119,2,203.68856926309945,2, 203.9961,2,    203.9,2,    122.3,2,    32.48,2,     0.00,2,     2.20,2,    0.148,2,    0.085,2,   0.0400,3,   2263.3,2,  2364.49,2,   7.6021,6,    25.02,     -999,9,     -999,9,   0.8719,2,     -999,9,     -999,9,     -999,     -999,9,     -999,9,     -999,9,     -999,9,    0.062,1,    4.645,1,    0.126,1,  19.1700,2,     -999,9,20180503,0045, -67.5001, -96.3334,     -999,9,     -999,9,-999          ,9,     -999,9,     -999,9,     -999,     -999,9,     -999,     -999,9,     -999,9,     -999,9,     -999,9,     -999,9,     -999,9,     -999,9,     -999,9,     -999,9,     -999,9,     -999,9,     -999,9,     -999,9,     -999,9
320620180309  ,S04P       ,108     ,  1,8          ,8          ,2,20180502,2353, -67.5001, -96.3323,     4601,   2795.2,0.7911202299185771114,34.707879849633564,2,  34.7076,2,205.28294305836786,2, 205.6005,2,    206.0,2,    125.4,2,    32.57,2,     0.00,2,     2.20,2,     -999,9,     -999,9,     -999,9,     -999,9,     -999,9,     -999,9,     -999,     -999,9,     -999,9,   0.7910,2,     -999,9,     -999,9,     -999,     -999,9,     -999,9,     -999,9,     -999,9,    0.061,1,    4.645,1,    0.126,1,     -999,9,     -999,9,20180503,0039, -67.5001, -96.3337,     -999,9,     -999,9,-999          ,9,     -999,9,     -999,9,     -999,     -999,9,     -999,     -999,9,     -999,1,     -999,1,     -999,1,     -999,1,     -999,1,     -999,1,     -999,1,     -999,1,     -999,1,     -999,1,     -999,1,     -999,1,     -999,1
320620180309  ,S04P       ,108     ,  1,7          ,7          ,2,20180502,2353, -67.5001, -96.3323,     4601,   3051.3,0.6858594393567341019,34.704869894560623,2,  34.7058,2,207.23625027684250,2, 207.6009,2,    207.6,2,    128.0,2,    32.63,2,     0.00,2,     2.23,2,    0.193,2,    0.104,2,   0.0100,3,   2263.1,2,  2363.02,2,   7.5975,2,    25.02,     -999,9,     -999,9,   0.6856,2,     -999,9,     -999,9,     -999,     -999,9,     -999,9,     -999,9,     -999,9,    0.061,1,    4.646,1,    0.126,1,  19.0700,2,     -999,9,20180503,0033, -67.5001, -96.3334,     -999,9,     -999,9,-999          ,9,     -999,9,     -999,9,     -999,     -999,9,     -999,     -999,9,     -999,9,     -999,9,     -999,9,     -999,9,     -999,9,     -999,9,     -999,9,     -999,9,     -999,9,     -999,9,     -999,9,     -999,9,     -999,9
320620180309  ,S04P       ,108     ,  1,6          ,6          ,2,20180502,2353, -67.5001, -96.3323,     4601,   3359.0,0.5689017752178771037,34.702594534292999,2,  34.7035,2,209.70017263301295,2, 210.0006,2,    209.9,2,    130.8,2,    32.73,2,     0.00,2,     2.24,2,     -999,9,     -999,9,     -999,9,     -999,9,     -999,9,     -999,9,     -999,     -999,9,     -999,9,   0.5690,2,     -999,9,     -999,9,     -999,     -999,9,     -999,9,     -999,9,     -999,9,    0.061,1,    4.645,1,    0.126,1,     -999,9,     -999,9,20180503,0027, -67.5001, -96.3328,     -999,9,     -999,9,-999          ,9,     -999,9,     -999,9,     -999,     -999,9,     -999,     -999,9,     -999,1,     -999,1,     -999,1,     -999,1,     -999,1,     -999,1,     -999,1,     -999,1,     -999,1,     -999,1,     -999,1,     -999,1,     -999,1
320620180309  ,S04P       ,108     ,  1,5          ,5          ,2,20180502,2353, -67.5001, -96.3323,     4601,   3666.7,0.4874056074151289497,34.701651781694309,2,  34.7017,2,211.63601115886217,2, 211.9031,2,    211.8,2,    134.5,2,    32.85,2,     0.00,2,     2.25,2,    0.227,2,    0.134,2,   0.0500,3,   2266.2,2,  2365.28,2,   7.5956,2,    25.02,     -999,9,     -999,9,   0.4874,2,     -999,9,     -999,9,     -999,     -999,9,     -999,9,     -999,9,     -999,9,    0.061,1,    4.644,1,    0.134,1,  18.8000,2,     -999,9,20180503,0020, -67.5001, -96.3333,     -999,9,     -999,9,-999          ,9,     -999,9,     -999,9,     -999,     -999,9,     -999,     -999,9,     -999,9,     -999,9,     -999,9,     -999,9,     -999,9,     -999,9,     -999,9,     -999,9,     -999,9,     -999,9,     -999,9,     -999,9,     -999,9
320620180309  ,S04P       ,108     ,  1,4          ,4          ,2,20180502,2353, -67.5001, -96.3323,     4601,   3975.1,0.4371570419464533841,34.700548723987964,2,  34.7002,2,213.33124074723636,2, 213.1964,2,    213.4,2,    137.2,2,    32.83,2,     0.00,2,     2.25,2,    0.275,2,    0.154,2,   0.1500,3,   2265.9,2,  2365.49,2,   7.5952,2,    25.00,     -999,9,     -999,9,   0.4369,2,     -999,9,     -999,9,     -999,     -999,9,     -999,9,     -999,9,     -999,9,    0.061,1,    4.644,1,    0.124,1,  18.9700,2,     -999,9,20180503,0013, -67.5001, -96.3331,     -999,9,     -999,9,-999          ,9,     -999,9,     -999,9,     -999,     -999,9,     -999,     -999,9,     -999,1,     -999,1,     -999,1,     -999,1,     -999,1,     -999,1,     -999,1,     -999,1,     -999,1,     -999,1,     -999,1,     -999,1,     -999,1
320620180309  ,S04P       ,108     ,  1,3          ,3          ,2,20180502,2353, -67.5001, -96.3323,     4601,   4283.3,0.4111171796972528103,34.699904360186657,2,  34.6986,2,214.25175752081790,2, 214.1988,2,    214.1,2,    140.5,2,    32.98,2,     0.00,2,     2.26,2,     -999,9,     -999,9,     -999,9,   2266.1,2,  2364.98,2,   7.5938,2,    25.00,     -999,9,     -999,9,   0.4110,2,     -999,9,     -999,9,     -999,     -999,9,     -999,9,     -999,9,     -999,9,    0.061,1,    4.642,1,    0.126,1,     -999,9,     -999,9,20180503,0006, -67.5000, -96.3322,     -999,9,     -999,9,-999          ,9,     -999,9,     -999,9,     -999,     -999,9,     -999,     -999,9,     -999,1,     -999,1,     -999,1,     -999,1,     -999,1,     -999,1,     -999,1,     -999,1,     -999,1,     -999,1,     -999,1,     -999,1,     -999,1
320620180309  ,S04P       ,108     ,  1,2          ,2          ,2,20180502,2353, -67.5001, -96.3323,     4601,   4517.3,0.3997532051056799651,34.698993018661248,2,  34.6984,2,215.01489493911276,2, 213.9930,2,    214.8,2,    143.5,2,    33.03,2,     0.00,2,     2.25,2,    0.387,2,    0.210,2,   0.0400,3,   2265.0,2,  2364.90,2,   7.6007,2,    25.02,     -999,9,     -999,9,   0.3996,2,     -999,9,     -999,9,     -999,     -999,9,     -999,9,     -999,9,     -999,9,    0.061,1,    4.641,1,    0.128,1,  18.8200,2,     -999,9,20180503,0000, -67.5000, -96.3322,     -999,9,     -999,9,-999          ,9,     -999,9,     -999,9,     -999,     -999,9,     -999,     -999,9,     -999,1,     -999,1,     -999,1,     -999,1,     -999,1,     -999,1,     -999,1,     -999,1,     -999,1,     -999,1,     -999,1,     -999,1,     -999,1
320620180309  ,S04P       ,108     ,  1,1          ,1          ,2,20180502,2353, -67.5001, -96.3323,     4601,   4686.6,0.4108674725540835682,34.698690045044437,2,  34.6990,2,216.43780356091838,3, 214.0026,2,    214.0,2,    149.0,2,    33.17,2,     0.00,2,     2.25,2,    0.411,2,    0.215,2,   0.0200,3,   2267.5,6,  2366.57,2,   7.5979,2,    25.03,     -999,9,     -999,9,   0.4108,2,     -999,9,     -999,9,     -999,     -999,9,     -999,9,     -999,9,     -999,9,    0.061,1,    4.633,1,    0.141,1,  18.8200,2,     -999,9,20180502,2353, -67.5001, -96.3323,     -999,9,     -999,9,-999          ,9,     -999,9,     -999,9,     -999,     -999,9,     -999,     -999,9,     -999,1,     -999,1,     -999,1,     -999,1,     -999,1,     -999,1,     -999,1,     -999,1,     -999,1,     -999,1,     -999,1,     -999,1,     -999,1