BOTTLE,20240515CCHHYDRO
EXPOCODE,SECT_ID,STNNBR,CASTNO,SAMPNO,BTLNBR,BTLNBR_FLAG_W,DATE,TIME,LATITUDE,LONGITUDE,DEPTH,CTDPRS,CTDTMP,CTDSAL,CTDSAL_FLAG_W,SALNTY,SALNTY_FLAG_W,CTDOXY,CTDOXY_FLAG_W,CTDOPTOXY,CTDOPTOXY_FLAG_W,OXYGEN,OXYGEN_FLAG_W,SILCAT,SILCAT_FLAG_W,NITRAT,NITRAT_FLAG_W,NITRIT,NITRIT_FLAG_W,PHSPHT,PHSPHT_FLAG_W,CFC-11,CFC-11_FLAG_W,CFC-12,CFC-12_FLAG_W,SF6,SF6_FLAG_W,TCARBN,TCARBN_FLAG_W,ALKALI,ALKALI_FLAG_W,PH_TOT,PH_TOT_FLAG_W,PH_TMP,DOC,DOC_FLAG_W,HELIUM,HELIUM_FLAG_W,REFTMP,REFTMP_FLAG_W,DELC13,DELC13_FLAG_W,DELC14,DELC14_FLAG_W,C14ERR,POC,POC_FLAG_W,TDN,TDN_FLAG_W,TON,TON_FLAG_W,NEON,NEON_FLAG_W,CTDFLUOR,CTDFLUOR_FLAG_W,CTDXMISS,CTDXMISS_FLAG_W,CTDBETA700,CTDBETA700_FLAG_W,N2O,N2O_FLAG_W,ARGON,ARGON_FLAG_W,BTL_DATE,BTL_TIME,BTL_LAT,BTL_LON,KRYPTON,KRYPTON_FLAG_W,XENON,XENON_FLAG_W,HPLC,HPLC_FLAG_W,HE3_HE4_RATIO,HE3_HE4_RATIO_FLAG_W,Nd_143_144_D_EPSILON_BOTTLE,Nd_143_144_D_EPSILON_BOTTLE_FLAG_W,Nd_143_144_D_EPSILON_BOTTLE_ERROR,Nd_143_144_D_RATIO_BOTTLE,Nd_143_144_D_RATIO_BOTTLE_FLAG_W,Nd_143_144_D_RATIO_BOTTLE_ERROR,Nd_D_CONC,Nd_D_CONC_FLAG_W,La_D_CONC_BOTTLE,La_D_CONC_BOTTLE_FLAG_W,Ce_D_CONC_BOTTLE,Ce_D_CONC_BOTTLE_FLAG_W,Pr_D_CONC_BOTTLE,Pr_D_CONC_BOTTLE_FLAG_W,Sm_D_CONC_BOTTLE,Sm_D_CONC_BOTTLE_FLAG_W,Eu_D_CONC_BOTTLE,Eu_D_CONC_BOTTLE_FLAG_W,Gd_D_CONC_BOTTLE,Gd_D_CONC_BOTTLE_FLAG_W,Tb_D_CONC_BOTTLE,Tb_D_CONC_BOTTLE_FLAG_W,Dy_D_CONC_BOTTLE,Dy_D_CONC_BOTTLE_FLAG_W,Ho_D_CONC_BOTTLE,Ho_D_CONC_BOTTLE_FLAG_W,Er_D_CONC_BOTTLE,Er_D_CONC_BOTTLE_FLAG_W,Tm_D_CONC_BOTTLE,Tm_D_CONC_BOTTLE_FLAG_W,Yb_D_CONC_BOTTLE,Yb_D_CONC_BOTTLE_FLAG_W,Lu_D_CONC_BOTTLE,Lu_D_CONC_BOTTLE_FLAG_W
,,,,,,,,,,,METERS,DBAR,ITS-90,PSS-78,,PSS-78,,UMOL/KG,,UMOL/KG,,UMOL/KG,,UMOL/KG,,UMOL/KG,,UMOL/KG,,UMOL/KG,,PMOL/KG,,PMOL/KG,,FMOL/KG,,UMOL/KG,,UMOL/KG,,,,DEG C,UMOL/KG,,NMOL/L,,DEG C,,/MILLE,,/MILLE,,/MILLE,UG/KG,,UMOL/KG,,UMOL/KG,,NMOL/L,,VOLTS,,VOLTS,,VOLTS,,NMOL/KG,,UMOL/L,,,,,,NMOL/L,,NMOL/L,,,,,,10000,,10000,,,,PMOL/KG,,PMOL/L,,PMOL/L,,PMOL/L,,PMOL/L,,PMOL/L,,PMOL/L,,PMOL/L,,PMOL/L,,PMOL/L,,PMOL/L,,PMOL/L,,PMOL/L,,PMOL/L,
320620180309  ,S04P       ,82      ,  1,35         ,35         ,2,20180422,0153, -66.9996,-129.5004,     4364,     13.1,-1.5909999999999999698,33.641817771469711,3,     -999,9,351.99262046723442,2, 327.9930,2,     -999,9,     -999,9,     -999,9,     -999,9,     -999,9,     -999,9,     -999,9,     -999,9,     -999,9,     -999,9,     -999,9,     -999,     -999,9,     -999,9,  -1.5765,2,     -999,9,     -999,9,     -999,     -999,1,     -999,9,     -999,9,     -999,9,    0.312,1,    4.544,1,    0.266,1,     -999,9,     -999,9,20180422,0357, -66.9998,-129.5006,     -999,9,     -999,9,-999          ,1,     -999,9,     -999,9,     -999,     -999,9,     -999,     -999,9,     -999,9,     -999,9,     -999,9,     -999,9,     -999,9,     -999,9,     -999,9,     -999,9,     -999,9,     -999,9,     -999,9,     -999,9,     -999,9
320620180309  ,S04P       ,82      ,  1,36         ,36         ,2,20180422,0153, -66.9996,-129.5004,     4364,     13.1,-1.5803694444444442713,33.641707812999208,2,  33.6391,2,352.44112977334601,2, 351.7021,2,    352.0,2,     32.4,2,    25.50,2,     0.25,2,     1.74,2,    6.247,2,    3.331,2,   4.1300,2,   2163.5,6,  2277.55,2,   7.6670,2,    24.88,     47.0,2,     -999,9,     -999,9,     -999,9,     -999,9,     -999,     -999,9,    27.60,2,     -999,1,     -999,9,    0.312,1,    4.544,1,    0.266,1,  17.1000,2,     -999,9,20180422,0357, -66.9998,-129.5006,     -999,9,     -999,9,-999          ,9,     -999,9,     -999,9,     -999,     -999,9,     -999,     -999,9,     -999,9,     -999,9,     -999,9,     -999,9,     -999,9,     -999,9,     -999,9,     -999,9,     -999,9,     -999,9,     -999,9,     -999,9,     -999,9
320620180309  ,S04P       ,82      ,  1,34         ,34         ,2,20180422,0153, -66.9996,-129.5004,     4364,     24.6,-1.5940722222222223348,33.641956379977358,2,  33.6397,2,352.03909308248910,2, 351.6986,2,    351.8,2,     32.5,2,    25.50,2,     0.25,2,     1.73,2,    6.178,2,    3.331,2,   4.1400,2,   2163.3,2,  2277.85,2,   7.6677,2,    24.89,     45.2,2,     -999,9,  -1.5943,2,     -999,9,     -999,9,     -999,     -999,9,    29.00,2,     -999,1,     -999,9,    0.310,1,    4.545,1,    0.278,1,  17.0100,2,     -999,9,20180422,0356, -66.9999,-129.5007,     -999,9,     -999,9,-999          ,9,     -999,9,     -999,9,     -999,     -999,9,     -999,     -999,9,     -999,9,     -999,9,     -999,9,     -999,9,     -999,9,     -999,9,     -999,9,     -999,9,     -999,9,     -999,9,     -999,9,     -999,9,     -999,9
320620180309  ,S04P       ,82      ,  1,33         ,33         ,2,20180422,0153, -66.9996,-129.5004,     4364,     49.3,-1.5867555555555554747,33.656790423014733,2,  33.6546,2,350.98547359506949,2, 350.1982,2,    351.1,2,     33.5,2,    25.56,2,     0.25,2,     1.74,2,    6.121,2,    3.282,2,   3.8900,2,   2164.2,2,  2278.57,3,   7.6666,2,    24.87,     43.6,2,     -999,9,     -999,9,     -999,9,     -999,9,     -999,     -999,9,     -999,9,     -999,1,     -999,9,    0.297,1,    4.548,1,    0.255,1,  17.2000,2,     -999,9,20180422,0354, -66.9999,-129.5007,     -999,9,     -999,9,-999          ,9,     -999,9,     -999,9,     -999,     -999,9,     -999,     -999,9,     -999,9,     -999,9,     -999,9,     -999,9,     -999,9,     -999,9,     -999,9,     -999,9,     -999,9,     -999,9,     -999,9,     -999,9,     -999,9
320620180309  ,S04P       ,82      ,  1,32         ,32         ,2,20180422,0153, -66.9996,-129.5004,     4364,     49.3,-1.5867472222222220868,33.656803249127329,3,     -999,9,350.98736479688034,2, 326.6901,2,     -999,9,     -999,9,     -999,9,     -999,9,     -999,9,     -999,9,     -999,9,     -999,9,     -999,9,     -999,9,     -999,9,     -999,     -999,9,     -999,9,  -1.5873,2,     -999,9,     -999,9,     -999,     -999,1,     -999,9,     -999,9,     -999,9,    0.297,1,    4.548,1,    0.255,1,     -999,9,     -999,9,20180422,0354, -66.9999,-129.5007,     -999,9,     -999,9,-999          ,1,     -999,9,     -999,9,     -999,     -999,9,     -999,     -999,9,     -999,9,     -999,9,     -999,9,     -999,9,     -999,9,     -999,9,     -999,9,     -999,9,     -999,9,     -999,9,     -999,9,     -999,9,     -999,9
320620180309  ,S04P       ,82      ,  1,31         ,31         ,2,20180422,0153, -66.9996,-129.5004,     4364,     75.4,-1.5848111111111111704,33.660309383680286,3,  33.6809,2,351.81137131054265,3, 349.3034,2,    347.5,2,     34.6,2,    25.86,2,     0.25,2,     1.76,2,    6.128,2,    3.277,2,   3.7500,2,   2167.9,2,  2281.27,2,   7.6648,2,    24.87,     -999,5,     -999,9,  -1.5854,2,     -999,9,     -999,9,     -999,     -999,9,     -999,5,     -999,1,     -999,9,    0.371,1,    4.548,1,    0.304,1,  17.4100,2,     -999,9,20180422,0352, -67.0000,-129.5007,     -999,9,     -999,9,-999          ,9,     -999,9,     -999,9,     -999,     -999,9,     -999,     -999,9,     -999,9,     -999,9,     -999,9,     -999,9,     -999,9,     -999,9,     -999,9,     -999,9,     -999,9,     -999,9,     -999,9,     -999,9,     -999,9
320620180309  ,S04P       ,82      ,  1,30         ,30         ,2,20180422,0153, -66.9996,-129.5004,     4364,    100.4,-1.4547583333333333755,33.949135657662609,2,  33.9524,2,328.08743308497878,3, 320.7944,2,    322.0,2,     43.3,2,    28.80,2,     0.20,2,     1.96,2,    5.403,2,    2.945,2,   3.2800,2,   2191.0,2,  2294.86,2,   7.6303,2,    24.89,     44.9,2,     -999,9,  -1.4554,2,     -999,9,     -999,9,     -999,     -999,9,    31.50,2,     -999,1,     -999,9,    0.084,1,    4.639,1,    0.160,1,  18.1600,2,     -999,9,20180422,0351, -67.0001,-129.5007,     -999,9,     -999,9,-999          ,9,     -999,9,     -999,9,     -999,     -999,9,     -999,     -999,9,     -999,9,     -999,9,     -999,9,     -999,9,     -999,9,     -999,9,     -999,9,     -999,9,     -999,9,     -999,9,     -999,9,     -999,9,     -999,9
320620180309  ,S04P       ,82      ,  1,29         ,29         ,2,20180422,0153, -66.9996,-129.5004,     4364,    151.6,0.9208305555555553745,34.360494114055271,2,  34.3737,2,236.96224355913930,3, 229.6984,2,    228.0,2,     67.1,2,    33.83,2,     0.02,2,     2.27,2,    2.780,2,    1.501,2,   1.4700,2,   2239.3,2,  2320.45,2,   7.5650,6,    24.88,     43.2,2,     -999,9,   0.9157,2,     -999,9,     -999,9,     -999,     -999,9,    36.40,2,     -999,1,     -999,9,    0.097,1,    4.645,1,    0.175,1,  22.9300,2,     -999,9,20180422,0348, -67.0002,-129.5006,     -999,9,     -999,9,-999          ,9,     -999,9,     -999,9,     -999,     -999,9,     -999,     -999,9,     -999,9,     -999,9,     -999,9,     -999,9,     -999,9,     -999,9,     -999,9,     -999,9,     -999,9,     -999,9,     -999,9,     -999,9,     -999,9
320620180309  ,S04P       ,82      ,  1,28         ,28         ,2,20180422,0153, -66.9996,-129.5004,     4364,    201.2,1.5846611111111108539,34.511966627705618,2,  34.5126,2,199.20614770767409,3, 196.9993,2,    196.4,2,     75.0,2,    34.42,2,     0.00,2,     2.31,2,    1.635,2,    0.876,2,   0.7700,2,   2253.4,2,  2331.56,2,   7.5579,2,    24.88,     38.6,2,     -999,9,   1.5839,2,     -999,9,     -999,9,     -999,     -999,9,    36.20,2,     -999,1,     -999,9,    0.067,1,    4.650,1,    0.146,1,  23.7200,2,     -999,9,20180422,0346, -67.0002,-129.5007,     -999,9,     -999,9,-999          ,9,     -999,9,     -999,9,     -999,     -999,9,     -999,     -999,9,     -999,9,     -999,9,     -999,9,     -999,9,     -999,9,     -999,9,     -999,9,     -999,9,     -999,9,     -999,9,     -999,9,     -999,9,     -999,9
320620180309  ,S04P       ,82      ,  1,27         ,27         ,2,20180422,0153, -66.9996,-129.5004,     4364,    251.6,1.7975583333333331471,34.581193913970075,2,  34.5789,2,186.70464339422136,2, 187.1977,2,    185.8,2,     78.7,2,    34.11,2,     0.00,2,     2.29,2,    1.094,2,    0.583,2,   0.4700,2,   2257.0,2,  2337.12,2,   7.5603,2,    24.88,     40.3,2,     -999,9,   1.7959,2,     -999,9,     -999,9,     -999,     -999,9,    35.80,2,     -999,1,     -999,9,    0.068,1,    4.650,1,    0.146,1,  24.2100,2,     -999,9,20180422,0344, -67.0000,-129.5007,     -999,9,     -999,9,-999          ,9,     -999,9,     -999,9,     -999,     -999,9,     -999,     -999,9,     -999,9,     -999,9,     -999,9,     -999,9,     -999,9,     -999,9,     -999,9,     -999,9,     -999,9,     -999,9,     -999,9,     -999,9,     -999,9
320620180309  ,S04P       ,82      ,  1,26         ,38         ,2,20180422,0153, -66.9996,-129.5004,     4364,    302.9,1.9126250000000000195,34.621565683769077,2,  34.6199,2,182.21321643131034,2, 183.3984,2,    181.5,2,     80.6,2,    33.72,2,     0.00,2,     2.27,2,    0.794,2,    0.426,2,   0.4100,2,   2259.8,2,  2342.55,2,   7.5715,2,    24.89,     42.4,2,     -999,9,   1.9116,2,     -999,9,     -999,9,     -999,     -999,9,     -999,9,     -999,1,     -999,9,    0.065,1,    4.652,1,    0.142,1,  22.6100,2,     -999,9,20180422,0342, -66.9999,-129.5006,     -999,9,     -999,9,-999          ,9,     -999,9,     -999,9,     -999,     -999,9,     -999,     -999,9,     -999,9,     -999,9,     -999,9,     -999,9,     -999,9,     -999,9,     -999,9,     -999,9,     -999,9,     -999,9,     -999,9,     -999,9,     -999,9
320620180309  ,S04P       ,82      ,  1,25         ,25         ,2,20180422,0153, -66.9996,-129.5004,     4364,    353.4,1.9595555555555554950,34.650329595870531,2,  34.6499,2,180.11300540407436,2, 180.8044,2,    178.5,2,     82.6,2,    33.36,2,     0.00,2,     2.25,2,    0.608,2,    0.328,2,   0.2000,2,   2259.8,2,  2343.28,2,   7.5770,2,    24.89,     41.2,2,     -999,9,   1.9587,2,     -999,9,     -999,9,     -999,     -999,9,     -999,9,     -999,1,     -999,9,    0.065,1,    4.656,1,    0.141,1,  22.7800,2,     -999,9,20180422,0340, -66.9998,-129.5006,     -999,9,     -999,9,-999          ,9,     -999,9,     -999,9,     -999,     -999,9,     -999,     -999,9,     -999,9,     -999,9,     -999,9,     -999,9,     -999,9,     -999,9,     -999,9,     -999,9,     -999,9,     -999,9,     -999,9,     -999,9,     -999,9
320620180309  ,S04P       ,82      ,  1,24         ,24         ,2,20180422,0153, -66.9996,-129.5004,     4364,    403.2,1.9833000000000002849,34.672741393022385,2,  34.6715,2,179.82523403070215,2, 180.2037,2,    178.8,2,     83.8,2,    32.98,2,     0.00,2,     2.23,2,    0.477,2,    0.261,2,   0.1200,2,   2257.8,6,  2345.54,2,   7.5816,2,    24.88,     -999,5,     -999,9,   1.9824,2,     -999,9,     -999,9,     -999,     -999,9,     -999,9,     -999,1,     -999,9,    0.064,1,    4.656,1,    0.141,1,  22.3600,2,     -999,9,20180422,0337, -66.9998,-129.5006,     -999,9,     -999,9,-999          ,9,     -999,9,     -999,9,     -999,     -999,9,     -999,     -999,9,     -999,9,     -999,9,     -999,9,     -999,9,     -999,9,     -999,9,     -999,9,     -999,9,     -999,9,     -999,9,     -999,9,     -999,9,     -999,9
320620180309  ,S04P       ,82      ,  1,23         ,23         ,2,20180422,0153, -66.9996,-129.5004,     4364,    505.1,1.9424138888888888843,34.699593192172934,2,  34.6992,2,181.68475351452946,2, 181.4039,2,    180.7,2,     86.5,2,    32.42,2,     0.00,2,     2.19,2,    0.355,2,    0.186,2,   0.1600,2,   2257.6,2,  2348.28,2,   7.5904,2,    24.87,     -999,5,     -999,9,   1.9415,2,     -999,9,     -999,9,     -999,     -999,9,     -999,9,     -999,1,     -999,9,    0.063,1,    4.653,1,    0.146,1,  21.8900,2,     -999,9,20180422,0334, -66.9998,-129.5007,     -999,9,     -999,9,-999          ,9,     -999,9,     -999,9,     -999,     -999,9,     -999,     -999,9,     -999,9,     -999,9,     -999,9,     -999,9,     -999,9,     -999,9,     -999,9,     -999,9,     -999,9,     -999,9,     -999,9,     -999,9,     -999,9
320620180309  ,S04P       ,82      ,  1,22         ,37         ,2,20180422,0153, -66.9996,-129.5004,     4364,    605.7,1.8677888888888887209,34.716120587537404,2,  34.7155,2,184.71567264296306,2, 183.8006,2,    184.1,2,     88.8,2,    31.98,2,     0.00,2,     2.15,2,     -999,9,     -999,9,     -999,9,   2256.7,2,  2351.57,2,   7.5998,2,    24.87,     39.2,2,     -999,9,   1.8668,2,     -999,9,     -999,9,     -999,     -999,9,     -999,9,     -999,1,     -999,9,    0.062,1,    4.657,1,    0.138,1,     -999,9,     -999,9,20180422,0331, -67.0000,-129.5007,     -999,9,     -999,9,-999          ,9,     -999,9,     -999,9,     -999,     -999,9,     -999,     -999,9,     -999,9,     -999,9,     -999,9,     -999,9,     -999,9,     -999,9,     -999,9,     -999,9,     -999,9,     -999,9,     -999,9,     -999,9,     -999,9
320620180309  ,S04P       ,82      ,  1,21         ,21         ,2,20180422,0153, -66.9996,-129.5004,     4364,    707.5,1.7913555555555558119,34.724605885994855,2,  34.7241,2,187.68005119411677,2, 186.1036,2,    186.5,2,     90.9,2,    31.79,2,     0.00,2,     2.14,2,    0.243,2,    0.133,2,   0.0500,2,   2256.7,2,  2354.01,2,   7.6052,2,    24.87,     38.4,2,     -999,9,   1.7904,2,     -999,9,     -999,9,     -999,     -999,9,     -999,9,     -999,1,     -999,9,    0.061,1,    4.657,1,    0.136,1,  20.8400,2,     -999,9,20180422,0328, -67.0000,-129.5007,     -999,9,     -999,9,-999          ,9,     -999,9,     -999,9,     -999,     -999,9,     -999,     -999,9,     -999,9,     -999,9,     -999,9,     -999,9,     -999,9,     -999,9,     -999,9,     -999,9,     -999,9,     -999,9,     -999,9,     -999,9,     -999,9
320620180309  ,S04P       ,82      ,  1,20         ,20         ,2,20180422,0153, -66.9996,-129.5004,     4364,    808.9,1.6970750000000001112,34.729453756547954,2,  34.7298,2,189.67370982100437,2, 188.0987,2,    188.9,2,     95.5,2,    31.71,2,     0.00,2,     2.14,2,     -999,9,     -999,9,     -999,9,   2256.5,2,  2355.02,2,   7.6074,2,    24.86,     43.9,2,     -999,9,   1.6963,2,     -999,9,     -999,9,     -999,     -999,9,     -999,9,     -999,1,     -999,9,    0.061,1,    4.658,1,    0.134,1,     -999,9,     -999,9,20180422,0325, -66.9999,-129.5007,     -999,9,     -999,9,-999          ,9,     -999,9,     -999,9,     -999,     -999,9,     -999,     -999,9,     -999,9,     -999,9,     -999,9,     -999,9,     -999,9,     -999,9,     -999,9,     -999,9,     -999,9,     -999,9,     -999,9,     -999,9,     -999,9
320620180309  ,S04P       ,82      ,  1,19         ,19         ,2,20180422,0153, -66.9996,-129.5004,     4364,    910.2,1.6261666666666667602,34.731405758395908,2,  34.7308,2,191.41603762235721,2, 189.7023,2,    190.0,2,     96.2,2,    31.65,2,     0.00,2,     2.15,2,    0.200,2,    0.106,2,   0.0100,2,   2257.8,2,  2356.53,2,   7.6075,2,    24.87,     40.3,2,     -999,9,   1.6253,2,     -999,9,     -999,9,     -999,     -999,9,     -999,9,     -999,1,     -999,9,    0.061,1,    4.659,1,    0.133,1,  21.1300,2,     -999,9,20180422,0322, -66.9997,-129.5007,     -999,9,     -999,9,-999          ,9,     -999,9,     -999,9,     -999,     -999,9,     -999,     -999,9,     -999,9,     -999,9,     -999,9,     -999,9,     -999,9,     -999,9,     -999,9,     -999,9,     -999,9,     -999,9,     -999,9,     -999,9,     -999,9
320620180309  ,S04P       ,82      ,  1,18         ,18         ,2,20180422,0153, -66.9996,-129.5004,     4364,   1012.6,1.5312638888888887578,34.731845539440123,2,  34.7316,2,192.41880118720104,2, 190.9950,2,    191.6,2,     99.4,2,    31.68,2,     0.00,2,     2.15,2,     -999,9,     -999,9,     -999,9,   2258.6,2,  2357.42,2,   7.6107,2,    24.84,     40.8,2,     -999,9,   1.5301,2,     -999,9,     -999,9,     -999,     -999,9,     -999,9,     -999,1,     -999,9,    0.062,1,    4.659,1,    0.133,1,     -999,9,     -999,9,20180422,0319, -66.9997,-129.5007,     -999,9,     -999,9,-999          ,9,     -999,9,     -999,9,     -999,     -999,9,     -999,     -999,9,     -999,9,     -999,9,     -999,9,     -999,9,     -999,9,     -999,9,     -999,9,     -999,9,     -999,9,     -999,9,     -999,9,     -999,9,     -999,9
320620180309  ,S04P       ,82      ,  1,17         ,17         ,2,20180422,0153, -66.9996,-129.5004,     4364,   1113.3,1.4322083333333330835,34.731013267044787,2,  34.7300,2,192.85214575263191,2, 192.6002,2,    193.0,2,    102.4,2,    31.73,2,     0.00,2,     2.14,2,    0.172,2,    0.086,2,   0.0100,2,   2259.2,2,  2358.98,2,   7.6078,2,    24.87,     41.2,2,     -999,9,   1.4310,2,     -999,9,     -999,9,     -999,     -999,9,     -999,9,     -999,1,     -999,9,    0.061,1,    4.659,1,    0.143,1,  20.4300,2,     -999,9,20180422,0316, -66.9998,-129.5007,     -999,9,     -999,9,-999          ,9,     -999,9,     -999,9,     -999,     -999,9,     -999,     -999,9,     -999,9,     -999,9,     -999,9,     -999,9,     -999,9,     -999,9,     -999,9,     -999,9,     -999,9,     -999,9,     -999,9,     -999,9,     -999,9
320620180309  ,S04P       ,82      ,  1,16         ,16         ,2,20180422,0153, -66.9996,-129.5004,     4364,   1215.0,1.3433111111111111224,34.729158467219612,2,  34.7296,2,194.11577673353455,2, 193.8044,2,    194.3,2,    105.0,2,    31.79,2,     0.00,2,     2.14,2,     -999,9,     -999,9,     -999,9,   2258.6,2,  2360.84,2,   7.6098,2,    24.86,     39.8,2,     -999,9,   1.3420,2,     -999,9,     -999,9,     -999,     -999,9,     -999,9,     -999,1,     -999,9,    0.061,1,    4.660,1,    0.129,1,     -999,9,     -999,9,20180422,0313, -66.9998,-129.5007,     -999,9,     -999,9,-999          ,9,     -999,9,     -999,9,     -999,     -999,9,     -999,     -999,9,     -999,9,     -999,9,     -999,9,     -999,9,     -999,9,     -999,9,     -999,9,     -999,9,     -999,9,     -999,9,     -999,9,     -999,9,     -999,9