BOTTLE,20240515CCHHYDRO
EXPOCODE,SECT_ID,STNNBR,CASTNO,SAMPNO,BTLNBR,BTLNBR_FLAG_W,DATE,TIME,LATITUDE,LONGITUDE,DEPTH,CTDPRS,CTDTMP,CTDSAL,CTDSAL_FLAG_W,SALNTY,SALNTY_FLAG_W,CTDOXY,CTDOXY_FLAG_W,CTDOPTOXY,CTDOPTOXY_FLAG_W,OXYGEN,OXYGEN_FLAG_W,SILCAT,SILCAT_FLAG_W,NITRAT,NITRAT_FLAG_W,NITRIT,NITRIT_FLAG_W,PHSPHT,PHSPHT_FLAG_W,CFC-11,CFC-11_FLAG_W,CFC-12,CFC-12_FLAG_W,SF6,SF6_FLAG_W,TCARBN,TCARBN_FLAG_W,ALKALI,ALKALI_FLAG_W,PH_TOT,PH_TOT_FLAG_W,PH_TMP,DOC,DOC_FLAG_W,HELIUM,HELIUM_FLAG_W,REFTMP,REFTMP_FLAG_W,DELC13,DELC13_FLAG_W,DELC14,DELC14_FLAG_W,C14ERR,POC,POC_FLAG_W,TDN,TDN_FLAG_W,TON,TON_FLAG_W,NEON,NEON_FLAG_W,CTDFLUOR,CTDFLUOR_FLAG_W,CTDXMISS,CTDXMISS_FLAG_W,CTDBETA700,CTDBETA700_FLAG_W,N2O,N2O_FLAG_W,ARGON,ARGON_FLAG_W,BTL_DATE,BTL_TIME,BTL_LAT,BTL_LON,KRYPTON,KRYPTON_FLAG_W,XENON,XENON_FLAG_W,HPLC,HPLC_FLAG_W,HE3_HE4_RATIO,HE3_HE4_RATIO_FLAG_W,Nd_143_144_D_EPSILON_BOTTLE,Nd_143_144_D_EPSILON_BOTTLE_FLAG_W,Nd_143_144_D_EPSILON_BOTTLE_ERROR,Nd_143_144_D_RATIO_BOTTLE,Nd_143_144_D_RATIO_BOTTLE_FLAG_W,Nd_143_144_D_RATIO_BOTTLE_ERROR,Nd_D_CONC,Nd_D_CONC_FLAG_W,La_D_CONC_BOTTLE,La_D_CONC_BOTTLE_FLAG_W,Ce_D_CONC_BOTTLE,Ce_D_CONC_BOTTLE_FLAG_W,Pr_D_CONC_BOTTLE,Pr_D_CONC_BOTTLE_FLAG_W,Sm_D_CONC_BOTTLE,Sm_D_CONC_BOTTLE_FLAG_W,Eu_D_CONC_BOTTLE,Eu_D_CONC_BOTTLE_FLAG_W,Gd_D_CONC_BOTTLE,Gd_D_CONC_BOTTLE_FLAG_W,Tb_D_CONC_BOTTLE,Tb_D_CONC_BOTTLE_FLAG_W,Dy_D_CONC_BOTTLE,Dy_D_CONC_BOTTLE_FLAG_W,Ho_D_CONC_BOTTLE,Ho_D_CONC_BOTTLE_FLAG_W,Er_D_CONC_BOTTLE,Er_D_CONC_BOTTLE_FLAG_W,Tm_D_CONC_BOTTLE,Tm_D_CONC_BOTTLE_FLAG_W,Yb_D_CONC_BOTTLE,Yb_D_CONC_BOTTLE_FLAG_W,Lu_D_CONC_BOTTLE,Lu_D_CONC_BOTTLE_FLAG_W
,,,,,,,,,,,METERS,DBAR,ITS-90,PSS-78,,PSS-78,,UMOL/KG,,UMOL/KG,,UMOL/KG,,UMOL/KG,,UMOL/KG,,UMOL/KG,,UMOL/KG,,PMOL/KG,,PMOL/KG,,FMOL/KG,,UMOL/KG,,UMOL/KG,,,,DEG C,UMOL/KG,,NMOL/L,,DEG C,,/MILLE,,/MILLE,,/MILLE,UG/KG,,UMOL/KG,,UMOL/KG,,NMOL/L,,VOLTS,,VOLTS,,VOLTS,,NMOL/KG,,UMOL/L,,,,,,NMOL/L,,NMOL/L,,,,,,10000,,10000,,,,PMOL/KG,,PMOL/L,,PMOL/L,,PMOL/L,,PMOL/L,,PMOL/L,,PMOL/L,,PMOL/L,,PMOL/L,,PMOL/L,,PMOL/L,,PMOL/L,,PMOL/L,,PMOL/L,
320620180309  ,S04P       ,27      ,  1,15         ,15         ,2,20180328,0844, -67.0008,-175.4651,     3026,   1149.1,0.8768138888888887816,34.712548302751905,2,  34.7121,2,203.98758049210252,2, 204.2043,2,    204.1,2,    113.9,2,    31.72,2,     0.00,2,     2.19,2,     -999,9,     -999,9,     -999,9,     -999,9,     -999,9,     -999,9,     -999,     -999,9,     -999,9,   0.8774,2,     -999,9,     -999,9,     -999,     -999,9,     -999,9,     -999,9,     -999,9,    0.061,1,    4.676,1,    0.132,1,     -999,9,     -999,9,20180328,0951, -66.9976,-175.4692,     -999,9,     -999,9,-999          ,9,     -999,9,     -999,9,     -999,     -999,9,     -999,     -999,9,     -999,9,     -999,9,     -999,9,     -999,9,     -999,9,     -999,9,     -999,9,     -999,9,     -999,9,     -999,9,     -999,9,     -999,9,     -999,9
320620180309  ,S04P       ,27      ,  1,14         ,14         ,2,20180328,0844, -67.0008,-175.4651,     3026,   1250.9,0.8228111111111111597,34.710239614619049,2,  34.7094,2,205.11090552464728,2, 205.2981,2,    205.4,2,    115.7,2,    31.70,2,     0.00,2,     2.19,2,    0.272,2,    0.160,2,   0.1400,2,   2260.6,2,  2358.88,3,   7.5986,2,    24.92,     -999,9,     -999,9,   0.8222,2,     -999,9,     -999,9,     -999,     -999,9,     -999,9,     -999,9,     -999,9,    0.061,1,    4.676,1,    0.131,1,  19.4800,2,     -999,9,20180328,0948, -66.9976,-175.4692,     -999,9,     -999,9,-999          ,9,     -999,9,     -999,9,     -999,     -999,9,     -999,     -999,9,     -999,9,     -999,9,     -999,9,     -999,9,     -999,9,     -999,9,     -999,9,     -999,9,     -999,9,     -999,9,     -999,9,     -999,9,     -999,9
320620180309  ,S04P       ,27      ,  1,13         ,13         ,2,20180328,0844, -67.0008,-175.4651,     3026,   1352.7,0.7705583333333333451,34.708268829998261,2,  34.7082,2,206.34651397077576,2, 206.2959,2,    205.9,2,    118.2,2,    31.79,2,     0.00,2,     2.20,2,     -999,9,     -999,9,     -999,9,     -999,9,     -999,9,     -999,9,     -999,     -999,9,     -999,9,   0.7698,2,     -999,9,     -999,9,     -999,     -999,9,     -999,9,     -999,9,     -999,9,    0.061,1,    4.676,1,    0.130,1,     -999,9,     -999,9,20180328,0945, -66.9977,-175.4692,     -999,9,     -999,9,-999          ,9,     -999,9,     -999,9,     -999,     -999,9,     -999,     -999,9,     -999,9,     -999,9,     -999,9,     -999,9,     -999,9,     -999,9,     -999,9,     -999,9,     -999,9,     -999,9,     -999,9,     -999,9,     -999,9
320620180309  ,S04P       ,27      ,  1,12         ,12         ,2,20180328,0844, -67.0008,-175.4651,     3026,   1453.9,0.7175888888888890538,34.705686147068789,2,  34.7064,2,207.37434878106509,2, 207.3965,2,    207.0,2,    119.2,2,    31.74,2,     0.00,2,     2.21,2,    0.303,2,    0.192,2,   0.1800,2,   2259.8,2,  2362.75,2,   7.5972,2,    24.92,     -999,9,     -999,9,   0.7171,2,     -999,9,     -999,9,     -999,     -999,9,     -999,9,     -999,9,     -999,9,    0.061,1,    4.676,1,    0.137,1,  20.0900,2,     -999,9,20180328,0941, -66.9976,-175.4693,     -999,9,     -999,9,-999          ,9,     -999,9,     -999,9,     -999,     -999,9,     -999,     -999,9,     -999,9,     -999,9,     -999,9,     -999,9,     -999,9,     -999,9,     -999,9,     -999,9,     -999,9,     -999,9,     -999,9,     -999,9,     -999,9
320620180309  ,S04P       ,27      ,  1,11         ,11         ,2,20180328,0844, -67.0008,-175.4651,     3026,   1554.7,0.6666749999999999066,34.703250187867560,2,  34.7029,2,208.09906391113515,2, 208.1971,2,    207.7,2,    120.0,2,    31.77,2,     0.00,2,     2.20,2,     -999,9,     -999,9,     -999,9,     -999,9,     -999,9,     -999,9,     -999,     -999,9,     -999,9,   0.6674,2,     -999,9,     -999,9,     -999,     -999,9,     -999,9,     -999,9,     -999,9,    0.061,1,    4.677,1,    0.129,1,     -999,9,     -999,9,20180328,0924, -66.9979,-175.4688,     -999,9,     -999,9,-999          ,9,     -999,9,     -999,9,     -999,     -999,9,     -999,     -999,9,     -999,9,     -999,9,     -999,9,     -999,9,     -999,9,     -999,9,     -999,9,     -999,9,     -999,9,     -999,9,     -999,9,     -999,9,     -999,9
320620180309  ,S04P       ,27      ,  1,10         ,10         ,2,20180328,0844, -67.0008,-175.4651,     3026,   1657.5,0.6116166666666665863,34.701037371198019,2,  34.6998,2,209.36523330156672,2, 209.3001,2,    209.7,2,    121.1,2,    31.95,2,     0.00,2,     2.21,2,     -999,9,     -999,9,     -999,9,   2261.1,2,  2361.26,2,   7.6038,2,    24.93,     -999,9,     -999,9,   0.6113,2,     -999,9,     -999,9,     -999,     -999,9,     -999,9,     -999,9,     -999,9,    0.061,1,    4.677,1,    0.130,1,     -999,9,     -999,9,20180328,0921, -66.9981,-175.4686,     -999,9,     -999,9,-999          ,9,     -999,9,     -999,9,     -999,     -999,9,     -999,     -999,9,     -999,9,     -999,9,     -999,9,     -999,9,     -999,9,     -999,9,     -999,9,     -999,9,     -999,9,     -999,9,     -999,9,     -999,9,     -999,9
320620180309  ,S04P       ,27      ,  1,9          ,9          ,2,20180328,0844, -67.0008,-175.4651,     3026,   1758.7,0.5642638888888888982,34.699121330314881,2,  34.6984,2,210.27079378292734,2, 210.3033,2,    210.0,2,    122.3,2,    31.90,2,     0.00,2,     2.23,2,    0.392,2,    0.220,2,   0.2000,2,   2262.2,2,  2360.05,2,   7.5980,6,    24.92,     -999,9,     -999,9,   0.5651,2,     -999,9,     -999,9,     -999,     -999,9,     -999,9,     -999,9,     -999,9,    0.061,1,    4.677,1,    0.129,1,  19.5400,2,     -999,9,20180328,0918, -66.9982,-175.4684,     -999,9,     -999,9,-999          ,9,     -999,9,     -999,9,     -999,     -999,9,     -999,     -999,9,     -999,9,     -999,9,     -999,9,     -999,9,     -999,9,     -999,9,     -999,9,     -999,9,     -999,9,     -999,9,     -999,9,     -999,9,     -999,9
320620180309  ,S04P       ,27      ,  1,8          ,8          ,2,20180328,0844, -67.0008,-175.4651,     3026,   1862.3,0.5206138888888891536,34.697566996420470,2,  34.6968,2,211.04863748995808,2, 211.5993,2,    211.7,2,    123.9,2,    31.97,2,     0.00,2,     2.23,2,     -999,9,     -999,9,     -999,9,     -999,9,     -999,9,     -999,9,     -999,     -999,9,     -999,9,   0.5207,2,     -999,9,     -999,9,     -999,     -999,9,     -999,9,     -999,9,     -999,9,    0.061,1,    4.677,1,    0.129,1,     -999,9,     -999,9,20180328,0914, -66.9982,-175.4684,     -999,9,     -999,9,-999          ,9,     -999,9,     -999,9,     -999,     -999,9,     -999,     -999,9,     -999,9,     -999,9,     -999,9,     -999,9,     -999,9,     -999,9,     -999,9,     -999,9,     -999,9,     -999,9,     -999,9,     -999,9,     -999,9
320620180309  ,S04P       ,27      ,  1,7          ,7          ,2,20180328,0844, -67.0008,-175.4651,     3026,   1962.6,0.4759111111111110071,34.695257165934180,2,  34.6952,2,212.44782541234360,2, 212.8009,2,    213.0,2,    123.3,2,    32.00,2,     0.00,2,     2.22,2,    0.491,2,    0.291,2,   0.2900,2,   2262.0,2,  2361.55,2,   7.5947,2,    24.98,     -999,9,     -999,9,   0.4749,2,     -999,9,     -999,9,     -999,     -999,9,     -999,9,     -999,9,     -999,9,    0.062,1,    4.677,1,    0.134,1,  20.1300,2,     -999,9,20180328,0912, -66.9981,-175.4685,     -999,9,     -999,9,-999          ,9,     -999,9,     -999,9,     -999,     -999,9,     -999,     -999,9,     -999,9,     -999,9,     -999,9,     -999,9,     -999,9,     -999,9,     -999,9,     -999,9,     -999,9,     -999,9,     -999,9,     -999,9,     -999,9
320620180309  ,S04P       ,27      ,  1,6          ,6          ,2,20180328,0844, -67.0008,-175.4651,     3026,   2095.7,0.4346444444444444444,34.693064053734872,2,  34.6929,2,214.16558035918598,2, 213.5992,2,    214.1,2,    123.5,2,    32.05,2,     0.00,2,     2.23,2,     -999,9,     -999,9,     -999,9,     -999,9,     -999,9,     -999,9,     -999,     -999,9,     -999,9,   0.4340,2,     -999,9,     -999,9,     -999,     -999,9,     -999,9,     -999,9,     -999,9,    0.061,1,    4.676,1,    0.129,1,     -999,9,     -999,9,20180328,0908, -66.9981,-175.4686,     -999,9,     -999,9,-999          ,9,     -999,9,     -999,9,     -999,     -999,9,     -999,     -999,9,     -999,9,     -999,9,     -999,9,     -999,9,     -999,9,     -999,9,     -999,9,     -999,9,     -999,9,     -999,9,     -999,9,     -999,9,     -999,9
320620180309  ,S04P       ,27      ,  1,5          ,5          ,2,20180328,0844, -67.0008,-175.4651,     3026,   2298.4,0.3642305555555555574,34.691128162927839,2,  34.6907,2,215.67486841417426,2, 215.5975,2,    215.6,2,    123.8,2,    32.16,2,     0.00,2,     2.24,2,     -999,9,     -999,9,     -999,9,   2261.7,2,  2362.12,2,   7.5946,2,    24.93,     -999,9,     -999,9,   0.3641,2,     -999,9,     -999,9,     -999,     -999,9,     -999,9,     -999,9,     -999,9,    0.060,1,    4.676,1,    0.128,1,     -999,9,     -999,9,20180328,0903, -66.9982,-175.4680,     -999,9,     -999,9,-999          ,9,     -999,9,     -999,9,     -999,     -999,9,     -999,     -999,9,     -999,9,     -999,9,     -999,9,     -999,9,     -999,9,     -999,9,     -999,9,     -999,9,     -999,9,     -999,9,     -999,9,     -999,9,     -999,9
320620180309  ,S04P       ,27      ,  1,4          ,4          ,2,20180328,0844, -67.0008,-175.4651,     3026,   2504.0,0.3035694444444443918,34.688521108755822,2,  34.6880,2,217.52534247943751,2, 217.7993,2,    217.2,2,    123.8,2,    32.19,2,     0.00,2,     2.22,2,    0.747,2,    0.428,2,   0.3000,2,   2262.3,2,  2361.73,2,   7.5930,2,    24.94,     -999,9,     -999,9,   0.3031,2,     -999,9,     -999,9,     -999,     -999,9,     -999,9,     -999,9,     -999,9,    0.061,1,    4.676,1,    0.128,1,  19.6000,2,     -999,9,20180328,0858, -66.9987,-175.4665,     -999,9,     -999,9,-999          ,9,     -999,9,     -999,9,     -999,     -999,9,     -999,     -999,9,     -999,9,     -999,9,     -999,9,     -999,9,     -999,9,     -999,9,     -999,9,     -999,9,     -999,9,     -999,9,     -999,9,     -999,9,     -999,9
320620180309  ,S04P       ,27      ,  1,3          ,3          ,2,20180328,0844, -67.0008,-175.4651,     3026,   2708.1,0.2703249999999999820,34.687263602163050,2,  34.6864,2,218.70964427017711,2, 219.2997,2,    218.6,2,    123.8,2,    32.10,2,     0.00,2,     2.23,2,    0.824,2,    0.473,2,   0.2800,2,   2260.3,2,  2356.41,3,   7.5934,6,    24.95,     -999,9,     -999,9,   0.2706,2,     -999,9,     -999,9,     -999,     -999,9,     -999,9,     -999,9,     -999,9,    0.061,1,    4.676,1,    0.128,1,  19.8200,2,     -999,9,20180328,0853, -66.9995,-175.4654,     -999,9,     -999,9,-999          ,9,     -999,9,     -999,9,     -999,     -999,9,     -999,     -999,9,     -999,9,     -999,9,     -999,9,     -999,9,     -999,9,     -999,9,     -999,9,     -999,9,     -999,9,     -999,9,     -999,9,     -999,9,     -999,9
320620180309  ,S04P       ,27      ,  1,2          ,2          ,2,20180328,0844, -67.0008,-175.4651,     3026,   2887.3,0.2505305555555554786,34.685753706444480,2,  34.6852,2,219.49264052574313,2, 219.2989,2,    219.6,2,    123.1,2,    32.16,2,     0.00,2,     2.23,2,    0.895,2,    0.509,2,   0.3800,2,   2263.8,2,  2360.26,2,   7.5907,2,    24.94,     -999,9,     -999,9,   0.2504,2,     -999,9,     -999,9,     -999,     -999,9,     -999,9,     -999,9,     -999,9,    0.061,1,    4.676,1,    0.129,1,  19.5200,2,     -999,9,20180328,0849, -67.0001,-175.4651,     -999,9,     -999,9,-999          ,9,     -999,9,     -999,9,     -999,     -999,9,     -999,     -999,9,     -999,9,     -999,9,     -999,9,     -999,9,     -999,9,     -999,9,     -999,9,     -999,9,     -999,9,     -999,9,     -999,9,     -999,9,     -999,9
320620180309  ,S04P       ,27      ,  1,1          ,1          ,2,20180328,0844, -67.0008,-175.4651,     3026,   3068.7,0.2463222222222222202,34.684768863878709,2,  34.6843,2,221.82711726412677,2, 219.3049,2,    220.2,2,    123.1,2,    32.16,2,     0.00,2,     2.23,2,    0.936,2,    0.524,2,   0.3400,2,   2262.6,6,  2360.50,2,   7.5918,2,    24.94,     -999,9,     -999,9,   0.2457,2,     -999,9,     -999,9,     -999,     -999,9,     -999,9,     -999,9,     -999,9,    0.061,1,    4.673,1,    0.132,1,  19.4400,2,     -999,9,20180328,0844, -67.0008,-175.4651,     -999,9,     -999,9,-999          ,9,     -999,9,     -999,9,     -999,     -999,9,     -999,     -999,9,     -999,9,     -999,9,     -999,9,     -999,9,     -999,9,     -999,9,     -999,9,     -999,9,     -999,9,     -999,9,     -999,9,     -999,9,     -999,9