BOTTLE,20240515CCHHYDRO
EXPOCODE,SECT_ID,STNNBR,CASTNO,SAMPNO,BTLNBR,BTLNBR_FLAG_W,DATE,TIME,LATITUDE,LONGITUDE,DEPTH,CTDPRS,CTDTMP,CTDSAL,CTDSAL_FLAG_W,SALNTY,SALNTY_FLAG_W,CTDOXY,CTDOXY_FLAG_W,CTDOPTOXY,CTDOPTOXY_FLAG_W,OXYGEN,OXYGEN_FLAG_W,SILCAT,SILCAT_FLAG_W,NITRAT,NITRAT_FLAG_W,NITRIT,NITRIT_FLAG_W,PHSPHT,PHSPHT_FLAG_W,CFC-11,CFC-11_FLAG_W,CFC-12,CFC-12_FLAG_W,SF6,SF6_FLAG_W,TCARBN,TCARBN_FLAG_W,ALKALI,ALKALI_FLAG_W,PH_TOT,PH_TOT_FLAG_W,PH_TMP,DOC,DOC_FLAG_W,HELIUM,HELIUM_FLAG_W,REFTMP,REFTMP_FLAG_W,DELC13,DELC13_FLAG_W,DELC14,DELC14_FLAG_W,C14ERR,POC,POC_FLAG_W,TDN,TDN_FLAG_W,TON,TON_FLAG_W,NEON,NEON_FLAG_W,CTDFLUOR,CTDFLUOR_FLAG_W,CTDXMISS,CTDXMISS_FLAG_W,CTDBETA700,CTDBETA700_FLAG_W,N2O,N2O_FLAG_W,ARGON,ARGON_FLAG_W,BTL_DATE,BTL_TIME,BTL_LAT,BTL_LON,KRYPTON,KRYPTON_FLAG_W,XENON,XENON_FLAG_W,HPLC,HPLC_FLAG_W,HE3_HE4_RATIO,HE3_HE4_RATIO_FLAG_W,Nd_143_144_D_EPSILON_BOTTLE,Nd_143_144_D_EPSILON_BOTTLE_FLAG_W,Nd_143_144_D_EPSILON_BOTTLE_ERROR,Nd_143_144_D_RATIO_BOTTLE,Nd_143_144_D_RATIO_BOTTLE_FLAG_W,Nd_143_144_D_RATIO_BOTTLE_ERROR,Nd_D_CONC,Nd_D_CONC_FLAG_W,La_D_CONC_BOTTLE,La_D_CONC_BOTTLE_FLAG_W,Ce_D_CONC_BOTTLE,Ce_D_CONC_BOTTLE_FLAG_W,Pr_D_CONC_BOTTLE,Pr_D_CONC_BOTTLE_FLAG_W,Sm_D_CONC_BOTTLE,Sm_D_CONC_BOTTLE_FLAG_W,Eu_D_CONC_BOTTLE,Eu_D_CONC_BOTTLE_FLAG_W,Gd_D_CONC_BOTTLE,Gd_D_CONC_BOTTLE_FLAG_W,Tb_D_CONC_BOTTLE,Tb_D_CONC_BOTTLE_FLAG_W,Dy_D_CONC_BOTTLE,Dy_D_CONC_BOTTLE_FLAG_W,Ho_D_CONC_BOTTLE,Ho_D_CONC_BOTTLE_FLAG_W,Er_D_CONC_BOTTLE,Er_D_CONC_BOTTLE_FLAG_W,Tm_D_CONC_BOTTLE,Tm_D_CONC_BOTTLE_FLAG_W,Yb_D_CONC_BOTTLE,Yb_D_CONC_BOTTLE_FLAG_W,Lu_D_CONC_BOTTLE,Lu_D_CONC_BOTTLE_FLAG_W
,,,,,,,,,,,METERS,DBAR,ITS-90,PSS-78,,PSS-78,,UMOL/KG,,UMOL/KG,,UMOL/KG,,UMOL/KG,,UMOL/KG,,UMOL/KG,,UMOL/KG,,PMOL/KG,,PMOL/KG,,FMOL/KG,,UMOL/KG,,UMOL/KG,,,,DEG C,UMOL/KG,,NMOL/L,,DEG C,,/MILLE,,/MILLE,,/MILLE,UG/KG,,UMOL/KG,,UMOL/KG,,NMOL/L,,VOLTS,,VOLTS,,VOLTS,,NMOL/KG,,UMOL/L,,,,,,NMOL/L,,NMOL/L,,,,,,10000,,10000,,,,PMOL/KG,,PMOL/L,,PMOL/L,,PMOL/L,,PMOL/L,,PMOL/L,,PMOL/L,,PMOL/L,,PMOL/L,,PMOL/L,,PMOL/L,,PMOL/L,,PMOL/L,,PMOL/L,
320620180309  ,S04P       ,2       ,  2,35         ,35         ,2,20180317,0724, -70.3610, 168.6293,     1993,      3.9,-1.7890666666666668050,33.920243593342228,2,  33.9190,2,346.73023733469427,2, 348.9092,2,    348.3,2,     69.3,2,    27.00,2,     0.13,2,     1.85,2,    5.957,2,    3.123,2,   3.9300,2,   2185.0,6,  2301.75,2,   7.6525,2,    24.96,     -999,9,     -999,9,  -1.7883,2,     -999,9,     -999,9,     -999,     -999,9,     -999,9,     -999,9,     -999,9,    0.203,1,    4.563,1,    0.213,1,  17.6000,2,     -999,9,20180317,0842, -70.3619, 168.6268,     -999,9,     -999,9,-999          ,9,     -999,9,     -999,9,     -999,     -999,9,     -999,     -999,9,     -999,9,     -999,9,     -999,9,     -999,9,     -999,9,     -999,9,     -999,9,     -999,9,     -999,9,     -999,9,     -999,9,     -999,9,     -999,9
320620180309  ,S04P       ,2       ,  2,34         ,34         ,2,20180317,0724, -70.3610, 168.6293,     1993,     23.2,-1.7808138888888889184,33.920822539128324,2,  33.9209,2,347.53297520410808,2, 349.0975,2,    348.2,2,     69.3,2,    26.99,2,     0.13,2,     1.83,2,     -999,9,     -999,9,     -999,9,   2183.1,2,  2302.74,2,   7.6512,2,    24.97,     -999,9,     -999,1,  -1.7836,2,     -999,9,     -999,9,     -999,     -999,9,     -999,9,     -999,9,     -999,1,    0.203,1,    4.578,1,    0.208,1,     -999,9,     -999,1,20180317,0840, -70.3619, 168.6267,     -999,1,     -999,1,-999          ,9,     -999,1,     -999,9,     -999,     -999,9,     -999,     -999,9,     -999,1,     -999,1,     -999,1,     -999,1,     -999,1,     -999,1,     -999,1,     -999,1,     -999,1,     -999,1,     -999,1,     -999,1,     -999,1
320620180309  ,S04P       ,2       ,  2,33         ,33         ,2,20180317,0724, -70.3610, 168.6293,     1993,     49.6,-1.4631416666666665627,33.979611316956799,2,  33.9825,2,344.01521318954860,2, 342.8971,2,    343.2,2,     70.4,2,    27.44,2,     0.13,2,     1.87,2,    5.810,2,    3.023,2,   4.0700,2,   2189.8,2,  2319.11,3,   7.6466,2,    24.96,     -999,9,     -999,9,  -1.4639,2,     -999,9,     -999,9,     -999,     -999,9,     -999,9,     -999,9,     -999,9,    0.212,1,    4.574,1,    0.198,1,  17.8500,2,     -999,9,20180317,0836, -70.3619, 168.6266,     -999,9,     -999,9,-999          ,9,     -999,9,     -999,9,     -999,     -999,9,     -999,     -999,9,     -999,1,     -999,1,     -999,1,     -999,1,     -999,1,     -999,1,     -999,1,     -999,1,     -999,1,     -999,1,     -999,1,     -999,1,     -999,1
320620180309  ,S04P       ,2       ,  2,32         ,32         ,2,20180317,0724, -70.3610, 168.6293,     1993,     73.8,-1.5654333333333334544,34.211365964727960,2,  34.2146,2,317.92421616736067,3, 330.7041,3,    306.7,2,     75.8,2,    29.27,2,     0.16,2,     2.05,2,     -999,9,     -999,9,     -999,9,   2213.0,2,  2302.96,2,   7.6133,2,    24.96,     -999,9,     -999,1,  -1.5668,2,     -999,9,     -999,9,     -999,     -999,9,     -999,9,     -999,9,     -999,1,    0.152,1,    4.614,1,    0.188,1,     -999,9,     -999,1,20180317,0835, -70.3619, 168.6267,     -999,1,     -999,1,-999          ,9,     -999,1,     -999,9,     -999,     -999,9,     -999,     -999,9,     -999,9,     -999,9,     -999,9,     -999,9,     -999,9,     -999,9,     -999,9,     -999,9,     -999,9,     -999,9,     -999,9,     -999,9,     -999,9
320620180309  ,S04P       ,2       ,  2,31         ,31         ,2,20180317,0724, -70.3610, 168.6293,     1993,     99.6,-1.7958972222222220338,34.367790806609733,2,  34.3631,2,299.60639008717044,2, 327.1997,3,    301.5,2,     77.1,2,    30.43,2,     0.11,2,     2.11,2,    4.650,2,    2.540,2,   3.0400,2,   2227.1,2,  2329.31,2,   7.6013,2,    24.96,     -999,9,     -999,9,  -1.7952,2,     -999,9,     -999,9,     -999,     -999,9,     -999,9,     -999,9,     -999,9,    0.088,1,    4.652,1,    0.158,1,  18.9100,2,     -999,9,20180317,0833, -70.3618, 168.6268,     -999,9,     -999,9,-999          ,9,     -999,9,     -999,9,     -999,     -999,9,     -999,     -999,9,     -999,1,     -999,1,     -999,1,     -999,1,     -999,1,     -999,1,     -999,1,     -999,1,     -999,1,     -999,1,     -999,1,     -999,1,     -999,1
320620180309  ,S04P       ,2       ,  2,30         ,30         ,2,20180317,0724, -70.3610, 168.6293,     1993,    125.2,-1.8277333333333329879,34.384738061481059,2,  34.3835,2,302.63649703517831,2, 302.1990,2,    303.3,2,     77.2,2,    30.57,2,     0.05,2,     2.12,2,     -999,9,     -999,9,     -999,9,   2227.4,2,  2327.40,2,   7.6030,6,    24.98,     -999,9,     -999,1,  -1.8278,2,     -999,9,     -999,9,     -999,     -999,9,     -999,9,     -999,9,     -999,1,    0.085,1,    4.657,1,    0.158,1,     -999,9,     -999,1,20180317,0831, -70.3618, 168.6270,     -999,1,     -999,1,-999          ,9,     -999,1,     -999,9,     -999,     -999,9,     -999,     -999,9,     -999,9,     -999,9,     -999,9,     -999,9,     -999,9,     -999,9,     -999,9,     -999,9,     -999,9,     -999,9,     -999,9,     -999,9,     -999,9
320620180309  ,S04P       ,2       ,  2,29         ,29         ,2,20180317,0724, -70.3610, 168.6293,     1993,    150.8,-1.8184611111111113058,34.398002407987263,2,  34.3964,2,297.63506402154917,2, 291.7983,2,    298.9,2,     79.1,2,    30.79,2,     0.02,2,     2.15,2,    4.491,2,    2.416,2,   2.8800,2,   2231.2,2,  2330.50,2,   7.6029,2,    24.96,     -999,9,     -999,9,  -1.8187,2,     -999,9,     -999,9,     -999,     -999,9,     -999,9,     -999,9,     -999,9,    0.080,1,    4.659,1,    0.190,1,  19.2700,2,     -999,9,20180317,0830, -70.3617, 168.6271,     -999,9,     -999,9,-999          ,9,     -999,9,     -999,9,     -999,     -999,9,     -999,     -999,9,     -999,1,     -999,1,     -999,1,     -999,1,     -999,1,     -999,1,     -999,1,     -999,1,     -999,1,     -999,1,     -999,1,     -999,1,     -999,1
320620180309  ,S04P       ,2       ,  2,28         ,28         ,2,20180317,0724, -70.3610, 168.6293,     1993,    174.3,-1.7539388888888887141,34.409814864833606,2,  34.4085,2,289.40608682806095,2, 297.3001,2,    291.4,2,     80.6,2,    30.99,2,     0.00,2,     2.15,2,     -999,9,     -999,9,     -999,9,   2229.5,2,  2330.52,2,   7.5986,2,    24.96,     -999,9,     -999,1,  -1.7547,2,     -999,9,     -999,9,     -999,     -999,9,     -999,9,     -999,9,     -999,1,    0.080,1,    4.661,1,    0.150,1,     -999,9,     -999,1,20180317,0828, -70.3617, 168.6272,     -999,1,     -999,1,-999          ,9,     -999,1,     -999,9,     -999,     -999,9,     -999,     -999,9,     -999,9,     -999,9,     -999,9,     -999,9,     -999,9,     -999,9,     -999,9,     -999,9,     -999,9,     -999,9,     -999,9,     -999,9,     -999,9
320620180309  ,S04P       ,2       ,  2,27         ,27         ,2,20180317,0724, -70.3610, 168.6293,     1993,    200.8,-1.5978027777777779050,34.427114958905399,2,  34.4266,2,280.60086914492990,2, 284.8951,2,    281.3,2,     80.1,2,    31.13,2,     0.00,2,     2.15,2,     -999,9,     -999,9,     -999,9,   2233.8,2,  2330.63,2,   7.5936,3,    24.95,     -999,9,     -999,9,  -1.5953,2,     -999,9,     -999,9,     -999,     -999,9,     -999,9,     -999,9,     -999,9,    0.078,1,    4.663,1,    0.145,1,     -999,9,     -999,9,20180317,0826, -70.3616, 168.6275,     -999,9,     -999,9,-999          ,9,     -999,9,     -999,9,     -999,     -999,9,     -999,     -999,9,     -999,1,     -999,1,     -999,1,     -999,1,     -999,1,     -999,1,     -999,1,     -999,1,     -999,1,     -999,1,     -999,1,     -999,1,     -999,1
320620180309  ,S04P       ,2       ,  2,26         ,26         ,2,20180317,0724, -70.3610, 168.6293,     1993,    225.1,-1.3458500000000002128,34.457361141549967,2,  34.4538,2,271.09533390203148,2, 271.5979,2,    272.4,2,     81.5,2,    31.23,2,     0.00,2,     2.16,2,     -999,9,     -999,9,     -999,9,     -999,9,     -999,9,     -999,9,     -999,     -999,9,     -999,1,  -1.3493,2,     -999,9,     -999,9,     -999,     -999,9,     -999,9,     -999,9,     -999,1,    0.076,1,    4.664,1,    0.147,1,     -999,9,     -999,1,20180317,0825, -70.3616, 168.6276,     -999,1,     -999,1,-999          ,9,     -999,1,     -999,9,     -999,     -999,9,     -999,     -999,9,     -999,9,     -999,9,     -999,9,     -999,9,     -999,9,     -999,9,     -999,9,     -999,9,     -999,9,     -999,9,     -999,9,     -999,9,     -999,9
320620180309  ,S04P       ,2       ,  2,25         ,25         ,2,20180317,0724, -70.3610, 168.6293,     1993,    251.1,-1.1465499999999999581,34.480425315243423,2,  34.4785,2,264.78054655241954,2, 266.2001,2,    265.5,2,     82.7,2,    31.33,2,     0.00,2,     2.15,2,    3.357,2,    1.834,2,   2.0300,2,   2239.2,2,  2339.36,2,   7.5906,2,    24.96,     -999,9,     -999,9,  -1.1481,2,     -999,9,     -999,9,     -999,     -999,9,     -999,9,     -999,9,     -999,9,    0.077,1,    4.663,1,    0.143,1,  19.1400,2,     -999,9,20180317,0823, -70.3615, 168.6277,     -999,9,     -999,9,-999          ,9,     -999,9,     -999,9,     -999,     -999,9,     -999,     -999,9,     -999,1,     -999,1,     -999,1,     -999,1,     -999,1,     -999,1,     -999,1,     -999,1,     -999,1,     -999,1,     -999,1,     -999,1,     -999,1
320620180309  ,S04P       ,2       ,  2,24         ,24         ,2,20180317,0724, -70.3610, 168.6293,     1993,    302.5,-0.6094333333333333824,34.542668046068094,2,  34.5418,2,246.35793110034231,2, 247.1995,2,    246.9,2,     87.2,2,    31.64,2,     0.00,2,     2.16,2,     -999,9,     -999,9,     -999,9,   2246.2,2,  2339.95,2,   7.5857,2,    24.95,     -999,9,     -999,1,  -0.6116,2,     -999,9,     -999,9,     -999,     -999,9,     -999,9,     -999,9,     -999,1,    0.077,1,    4.665,1,    0.167,1,     -999,9,     -999,1,20180317,0822, -70.3615, 168.6279,     -999,1,     -999,1,-999          ,9,     -999,1,     -999,9,     -999,     -999,9,     -999,     -999,9,     -999,9,     -999,9,     -999,9,     -999,9,     -999,9,     -999,9,     -999,9,     -999,9,     -999,9,     -999,9,     -999,9,     -999,9,     -999,9
320620180309  ,S04P       ,2       ,  2,23         ,23         ,2,20180317,0724, -70.3610, 168.6293,     1993,    352.0,-0.2331583333333333563,34.590114834572660,2,  34.5907,2,232.67514410788215,2, 234.7984,2,    233.5,2,     92.4,2,    31.84,2,     0.00,2,     2.19,2,    2.081,2,    1.143,2,   1.2300,2,   2248.8,2,  2345.39,2,   7.5868,2,    24.95,     -999,9,     -999,9,  -0.2328,2,     -999,9,     -999,9,     -999,     -999,9,     -999,9,     -999,9,     -999,9,    0.066,1,    4.667,1,    0.148,1,  19.8100,2,     -999,9,20180317,0820, -70.3614, 168.6282,     -999,9,     -999,9,-999          ,9,     -999,9,     -999,9,     -999,     -999,9,     -999,     -999,9,     -999,1,     -999,1,     -999,1,     -999,1,     -999,1,     -999,1,     -999,1,     -999,1,     -999,1,     -999,1,     -999,1,     -999,1,     -999,1
320620180309  ,S04P       ,2       ,  2,22         ,22         ,2,20180317,0724, -70.3610, 168.6293,     1993,    403.3,0.1285305555555555646,34.630946472121551,2,  34.6299,2,221.51824194387615,2, 220.9967,2,    222.0,2,     97.8,2,    32.06,2,     0.00,2,     2.19,2,     -999,9,     -999,9,     -999,9,   2254.0,2,  2350.35,2,   7.5842,2,    24.96,     -999,9,     -999,1,   0.1279,2,     -999,9,     -999,9,     -999,     -999,9,     -999,9,     -999,9,     -999,1,    0.062,1,    4.670,1,    0.142,1,     -999,9,     -999,1,20180317,0818, -70.3613, 168.6284,     -999,1,     -999,1,-999          ,9,     -999,1,     -999,9,     -999,     -999,9,     -999,     -999,9,     -999,9,     -999,9,     -999,9,     -999,9,     -999,9,     -999,9,     -999,9,     -999,9,     -999,9,     -999,9,     -999,9,     -999,9,     -999,9
320620180309  ,S04P       ,2       ,  2,21         ,21         ,2,20180317,0724, -70.3610, 168.6293,     1993,    453.4,0.0676805555555555632,34.630766311455076,2,  34.6291,2,223.15694530716883,3, 223.7029,2,    230.5,2,     98.3,2,    32.00,2,     0.00,2,     2.19,2,     -999,9,     -999,9,     -999,9,   2253.5,2,  2332.46,4,   7.5856,6,    24.96,     -999,9,     -999,9,   0.0675,2,     -999,9,     -999,9,     -999,     -999,9,     -999,9,     -999,9,     -999,9,    0.062,1,    4.671,1,    0.140,1,     -999,9,     -999,9,20180317,0816, -70.3613, 168.6284,     -999,9,     -999,9,-999          ,9,     -999,9,     -999,9,     -999,     -999,9,     -999,     -999,9,     -999,1,     -999,1,     -999,1,     -999,1,     -999,1,     -999,1,     -999,1,     -999,1,     -999,1,     -999,1,     -999,1,     -999,1,     -999,1
320620180309  ,S04P       ,2       ,  2,20         ,20         ,2,20180317,0724, -70.3610, 168.6293,     1993,    504.6,0.1305611111111110723,34.641979756626490,2,  34.6427,2,220.67019730669742,2, 221.6964,2,    221.7,2,    101.5,2,    32.03,2,     0.00,2,     2.20,2,    1.408,2,    0.767,2,   0.7000,2,   2254.6,2,  2351.60,2,   7.5849,2,    24.94,     -999,9,     -999,1,   0.1297,2,     -999,9,     -999,9,     -999,     -999,9,     -999,9,     -999,9,     -999,1,    0.062,1,    4.668,1,    0.144,1,  20.4800,2,     -999,1,20180317,0814, -70.3612, 168.6286,     -999,1,     -999,1,-999          ,9,     -999,1,     -999,9,     -999,     -999,9,     -999,     -999,9,     -999,1,     -999,1,     -999,1,     -999,1,     -999,1,     -999,1,     -999,1,     -999,1,     -999,1,     -999,1,     -999,1,     -999,1,     -999,1
320620180309  ,S04P       ,2       ,  2,19         ,19         ,2,20180317,0724, -70.3610, 168.6293,     1993,    605.3,0.2240944444444444850,34.658084940387042,2,  34.6588,2,215.48307599651503,3, 216.2964,2,    218.1,2,    106.4,2,    32.11,2,     0.00,2,     2.20,2,     -999,9,     -999,9,     -999,9,     -999,9,     -999,9,     -999,9,     -999,     -999,9,     -999,9,   0.2259,2,     -999,9,     -999,9,     -999,     -999,9,     -999,9,     -999,9,     -999,9,    0.062,1,    4.672,1,    0.138,1,     -999,9,     -999,9,20180317,0810, -70.3612, 168.6286,     -999,9,     -999,9,-999          ,9,     -999,9,     -999,9,     -999,     -999,9,     -999,     -999,9,     -999,1,     -999,1,     -999,1,     -999,1,     -999,1,     -999,1,     -999,1,     -999,1,     -999,1,     -999,1,     -999,1,     -999,1,     -999,1
320620180309  ,S04P       ,2       ,  2,18         ,18         ,2,20180317,0724, -70.3610, 168.6293,     1993,    707.1,0.2508166666666666322,34.667326701518014,2,  34.6662,2,216.95904957409019,2, 217.2984,2,    217.5,2,    108.4,2,    32.21,2,     0.00,2,     2.20,2,     -999,9,     -999,9,     -999,9,   2257.4,2,  2355.90,2,   7.5892,2,    24.95,     -999,9,     -999,1,   0.2504,2,     -999,9,     -999,9,     -999,     -999,9,     -999,9,     -999,9,     -999,1,    0.061,1,    4.672,1,    0.138,1,     -999,9,     -999,1,20180317,0807, -70.3612, 168.6286,     -999,1,     -999,1,-999          ,9,     -999,1,     -999,9,     -999,     -999,9,     -999,     -999,9,     -999,1,     -999,1,     -999,1,     -999,1,     -999,1,     -999,1,     -999,1,     -999,1,     -999,1,     -999,1,     -999,1,     -999,1,     -999,1
320620180309  ,S04P       ,2       ,  2,16         ,16         ,2,20180317,0724, -70.3610, 168.6293,     1993,    807.9,0.2488861111111111413,34.673437531001511,3,     -999,9,217.60689043720151,2, 203.0994,2,     -999,9,     -999,9,     -999,9,     -999,9,     -999,9,     -999,9,     -999,9,     -999,9,     -999,9,     -999,9,     -999,9,     -999,     -999,9,     -999,9,   0.2478,2,     -999,9,     -999,9,     -999,     -999,9,     -999,9,     -999,9,     -999,9,    0.061,1,    4.673,1,    0.137,1,     -999,9,     -999,9,20180317,0804, -70.3611, 168.6288,     -999,9,     -999,9,-999          ,9,     -999,9,    -7.95,2,     0.13, 0.512231,2, 0.000006,    17.95,2,     -999,1,     -999,1,     -999,1,     -999,1,     -999,1,     -999,1,     -999,1,     -999,1,     -999,1,     -999,1,     -999,1,     -999,1,     -999,1
320620180309  ,S04P       ,2       ,  2,17         ,17         ,2,20180317,0724, -70.3610, 168.6293,     1993,    808.1,0.2485444444444444290,34.673240651243631,2,  34.6750,2,217.59306793874805,2, 217.9982,2,    216.6,2,    111.4,2,    32.24,2,     0.00,2,     2.20,2,    1.005,2,    0.547,2,   0.3600,2,     -999,9,     -999,9,     -999,9,     -999,     -999,9,     -999,9,     -999,9,     -999,9,     -999,9,     -999,     -999,9,     -999,9,     -999,9,     -999,9,    0.062,1,    4.673,1,    0.140,1,  20.6200,2,     -999,9,20180317,0804, -70.3611, 168.6288,     -999,9,     -999,9,-999          ,9,     -999,9,     -999,9,     -999,     -999,9,     -999,     -999,9,     -999,9,     -999,9,     -999,9,     -999,9,     -999,9,     -999,9,     -999,9,     -999,9,     -999,9,     -999,9,     -999,9,     -999,9,     -999,9
320620180309  ,S04P       ,2       ,  2,15         ,15         ,2,20180317,0724, -70.3610, 168.6293,     1993,    909.7,0.2933499999999999996,34.686132089431545,2,  34.6860,2,213.10394965006398,3, 213.6004,2,    215.3,2,    113.2,2,    32.31,2,     0.00,2,     2.22,2,     -999,9,     -999,9,     -999,9,   2259.9,6,  2356.50,2,   7.5899,2,    24.96,     -999,9,     -999,1,   0.2935,2,     -999,9,     -999,9,     -999,     -999,9,     -999,9,     -999,9,     -999,1,    0.061,1,    4.673,1,    0.135,1,     -999,9,     -999,1,20180317,0801, -70.3611, 168.6287,     -999,1,     -999,1,-999          ,9,     -999,1,     -999,9,     -999,     -999,9,     -999,     -999,9,     -999,1,     -999,1,     -999,1,     -999,1,     -999,1,     -999,1,     -999,1,     -999,1,     -999,1,     -999,1,     -999,1,     -999,1,     -999,1