BOTTLE,20240515CCHHYDRO
EXPOCODE,SECT_ID,STNNBR,CASTNO,SAMPNO,BTLNBR,BTLNBR_FLAG_W,DATE,TIME,LATITUDE,LONGITUDE,DEPTH,CTDPRS,CTDTMP,CTDSAL,CTDSAL_FLAG_W,SALNTY,SALNTY_FLAG_W,CTDOXY,CTDOXY_FLAG_W,CTDOPTOXY,CTDOPTOXY_FLAG_W,OXYGEN,OXYGEN_FLAG_W,SILCAT,SILCAT_FLAG_W,NITRAT,NITRAT_FLAG_W,NITRIT,NITRIT_FLAG_W,PHSPHT,PHSPHT_FLAG_W,CFC-11,CFC-11_FLAG_W,CFC-12,CFC-12_FLAG_W,SF6,SF6_FLAG_W,TCARBN,TCARBN_FLAG_W,ALKALI,ALKALI_FLAG_W,PH_TOT,PH_TOT_FLAG_W,PH_TMP,DOC,DOC_FLAG_W,HELIUM,HELIUM_FLAG_W,REFTMP,REFTMP_FLAG_W,DELC13,DELC13_FLAG_W,DELC14,DELC14_FLAG_W,C14ERR,POC,POC_FLAG_W,TDN,TDN_FLAG_W,TON,TON_FLAG_W,NEON,NEON_FLAG_W,CTDFLUOR,CTDFLUOR_FLAG_W,CTDXMISS,CTDXMISS_FLAG_W,CTDBETA700,CTDBETA700_FLAG_W,N2O,N2O_FLAG_W,ARGON,ARGON_FLAG_W,BTL_DATE,BTL_TIME,BTL_LAT,BTL_LON,KRYPTON,KRYPTON_FLAG_W,XENON,XENON_FLAG_W,HPLC,HPLC_FLAG_W,HE3_HE4_RATIO,HE3_HE4_RATIO_FLAG_W,Nd_143_144_D_EPSILON_BOTTLE,Nd_143_144_D_EPSILON_BOTTLE_FLAG_W,Nd_143_144_D_EPSILON_BOTTLE_ERROR,Nd_143_144_D_RATIO_BOTTLE,Nd_143_144_D_RATIO_BOTTLE_FLAG_W,Nd_143_144_D_RATIO_BOTTLE_ERROR,Nd_D_CONC,Nd_D_CONC_FLAG_W,La_D_CONC_BOTTLE,La_D_CONC_BOTTLE_FLAG_W,Ce_D_CONC_BOTTLE,Ce_D_CONC_BOTTLE_FLAG_W,Pr_D_CONC_BOTTLE,Pr_D_CONC_BOTTLE_FLAG_W,Sm_D_CONC_BOTTLE,Sm_D_CONC_BOTTLE_FLAG_W,Eu_D_CONC_BOTTLE,Eu_D_CONC_BOTTLE_FLAG_W,Gd_D_CONC_BOTTLE,Gd_D_CONC_BOTTLE_FLAG_W,Tb_D_CONC_BOTTLE,Tb_D_CONC_BOTTLE_FLAG_W,Dy_D_CONC_BOTTLE,Dy_D_CONC_BOTTLE_FLAG_W,Ho_D_CONC_BOTTLE,Ho_D_CONC_BOTTLE_FLAG_W,Er_D_CONC_BOTTLE,Er_D_CONC_BOTTLE_FLAG_W,Tm_D_CONC_BOTTLE,Tm_D_CONC_BOTTLE_FLAG_W,Yb_D_CONC_BOTTLE,Yb_D_CONC_BOTTLE_FLAG_W,Lu_D_CONC_BOTTLE,Lu_D_CONC_BOTTLE_FLAG_W
,,,,,,,,,,,METERS,DBAR,ITS-90,PSS-78,,PSS-78,,UMOL/KG,,UMOL/KG,,UMOL/KG,,UMOL/KG,,UMOL/KG,,UMOL/KG,,UMOL/KG,,PMOL/KG,,PMOL/KG,,FMOL/KG,,UMOL/KG,,UMOL/KG,,,,DEG C,UMOL/KG,,NMOL/L,,DEG C,,/MILLE,,/MILLE,,/MILLE,UG/KG,,UMOL/KG,,UMOL/KG,,NMOL/L,,VOLTS,,VOLTS,,VOLTS,,NMOL/KG,,UMOL/L,,,,,,NMOL/L,,NMOL/L,,,,,,10000,,10000,,,,PMOL/KG,,PMOL/L,,PMOL/L,,PMOL/L,,PMOL/L,,PMOL/L,,PMOL/L,,PMOL/L,,PMOL/L,,PMOL/L,,PMOL/L,,PMOL/L,,PMOL/L,,PMOL/L,
320620180309  ,S04P       ,106     ,  1,15         ,15         ,2,20180502,0818, -67.5006, -99.6682,     4615,   1352.4,1.5795333823872992340,34.731456703079957,2,  34.7312,2,193.82034743484201,2, 192.4951,2,    192.8,2,     98.1,2,    31.81,2,     0.00,2,     2.15,2,     -999,9,     -999,9,     -999,9,     -999,9,     -999,9,     -999,9,     -999,     -999,9,     -999,9,   1.5796,2,     -999,9,     -999,9,     -999,     -999,9,     -999,9,     -999,9,     -999,9,    0.061,1,    4.649,1,    0.130,1,     -999,9,     -999,9,20180502,0937, -67.5020, -99.6668,     -999,9,     -999,9,-999          ,9,     -999,9,     -999,9,     -999,     -999,9,     -999,     -999,9,     -999,9,     -999,9,     -999,9,     -999,9,     -999,9,     -999,9,     -999,9,     -999,9,     -999,9,     -999,9,     -999,9,     -999,9,     -999,9
320620180309  ,S04P       ,106     ,  1,14         ,14         ,2,20180502,0818, -67.5006, -99.6682,     4615,   1454.2,1.4956547078739315104,34.730774546167673,2,  34.7310,2,194.82879914241150,2, 193.6963,2,    194.0,2,    100.9,2,    31.88,2,     0.00,2,     2.16,2,     -999,9,     -999,9,     -999,9,     -999,9,     -999,9,     -999,9,     -999,     -999,9,     -999,9,   1.4958,2,     -999,9,     -999,9,     -999,     -999,9,     -999,9,     -999,9,     -999,9,    0.062,1,    4.649,1,    0.131,1,     -999,9,     -999,9,20180502,0934, -67.5022, -99.6667,     -999,9,     -999,9,-999          ,9,     -999,9,     -999,9,     -999,     -999,9,     -999,     -999,9,     -999,9,     -999,9,     -999,9,     -999,9,     -999,9,     -999,9,     -999,9,     -999,9,     -999,9,     -999,9,     -999,9,     -999,9,     -999,9
320620180309  ,S04P       ,106     ,  1,13         ,13         ,2,20180502,0818, -67.5006, -99.6682,     4615,   1557.2,1.4202978226340172707,34.729547022894536,2,  34.7302,2,195.53514265372294,2, 195.0081,2,    195.1,2,    102.7,2,    31.91,2,     0.00,2,     2.15,2,    0.146,2,    0.078,2,   0.0000,2,   2260.9,2,  2361.58,2,   7.5986,2,    24.97,     -999,9,     -999,9,   1.4208,2,     -999,9,     -999,9,     -999,     -999,9,     -999,9,     -999,9,     -999,9,    0.061,1,    4.649,1,    0.130,1,  19.2500,2,     -999,9,20180502,0931, -67.5019, -99.6669,     -999,9,     -999,9,-999          ,9,     -999,9,     -999,9,     -999,     -999,9,     -999,     -999,9,     -999,9,     -999,9,     -999,9,     -999,9,     -999,9,     -999,9,     -999,9,     -999,9,     -999,9,     -999,9,     -999,9,     -999,9,     -999,9
320620180309  ,S04P       ,106     ,  1,12         ,12         ,2,20180502,0818, -67.5006, -99.6682,     4615,   1687.9,1.3255323881462945934,34.727161793082978,2,  34.7266,2,196.48766097344409,2, 196.3008,2,    196.3,2,    106.5,2,    32.00,2,     0.00,2,     2.19,2,     -999,9,     -999,9,     -999,9,     -999,9,     -999,9,     -999,9,     -999,     -999,9,     -999,9,   1.3252,2,     -999,9,     -999,9,     -999,     -999,9,     -999,9,     -999,9,     -999,9,    0.061,1,    4.649,1,    0.129,1,     -999,9,     -999,9,20180502,0927, -67.5020, -99.6668,     -999,9,     -999,9,-999          ,9,     -999,9,     -999,9,     -999,     -999,9,     -999,     -999,9,     -999,9,     -999,9,     -999,9,     -999,9,     -999,9,     -999,9,     -999,9,     -999,9,     -999,9,     -999,9,     -999,9,     -999,9,     -999,9
320620180309  ,S04P       ,106     ,  1,11         ,11         ,2,20180502,0818, -67.5006, -99.6682,     4615,   1891.5,1.1994318490527091647,34.723266343522418,2,  34.7235,2,198.81855470788605,2, 198.6994,2,    199.1,2,    110.5,2,    32.08,2,     0.00,2,     2.17,2,    0.132,2,    0.081,2,   0.1800,3,   2262.9,2,  2363.79,2,   7.6008,2,    24.96,     -999,9,     -999,9,   1.1992,2,     -999,9,     -999,9,     -999,     -999,9,     -999,9,     -999,9,     -999,9,    0.061,1,    4.649,1,    0.128,1,  19.2600,2,     -999,9,20180502,0922, -67.5026, -99.6662,     -999,9,     -999,9,-999          ,9,     -999,9,     -999,9,     -999,     -999,9,     -999,     -999,9,     -999,9,     -999,9,     -999,9,     -999,9,     -999,9,     -999,9,     -999,9,     -999,9,     -999,9,     -999,9,     -999,9,     -999,9,     -999,9
320620180309  ,S04P       ,106     ,  1,10         ,10         ,2,20180502,0818, -67.5006, -99.6682,     4615,   2116.2,1.0736087113651218150,34.718816159606838,2,  34.7186,2,201.08972578135487,2, 201.2052,2,    201.2,2,    114.8,2,    32.25,2,     0.00,2,     2.18,2,     -999,9,     -999,9,     -999,9,     -999,9,     -999,9,     -999,9,     -999,     -999,9,     -999,9,   1.0740,2,     -999,9,     -999,9,     -999,     -999,9,     -999,9,     -999,9,     -999,9,    0.060,1,    4.649,1,    0.130,1,     -999,9,     -999,9,20180502,0917, -67.5028, -99.6660,     -999,9,     -999,9,-999          ,9,     -999,9,     -999,9,     -999,     -999,9,     -999,     -999,9,     -999,9,     -999,9,     -999,9,     -999,9,     -999,9,     -999,9,     -999,9,     -999,9,     -999,9,     -999,9,     -999,9,     -999,9,     -999,9
320620180309  ,S04P       ,106     ,  1,9          ,9          ,2,20180502,0818, -67.5006, -99.6682,     4615,   2370.7,0.9521045101504247432,34.713987751479657,2,  34.7133,2,202.76964007727432,2, 203.5019,2,    203.7,2,    119.2,2,    32.39,2,     0.00,2,     2.20,2,    0.135,2,    0.078,2,   0.0000,2,   2267.1,2,  2366.02,2,   7.6017,2,    24.95,     -999,9,     -999,9,   0.9523,2,     -999,9,     -999,9,     -999,     -999,9,     -999,9,     -999,9,     -999,9,    0.061,1,    4.650,1,    0.128,1,  19.0400,2,     -999,9,20180502,0911, -67.5032, -99.6658,     -999,9,     -999,9,-999          ,9,     -999,9,     -999,9,     -999,     -999,9,     -999,     -999,9,     -999,9,     -999,9,     -999,9,     -999,9,     -999,9,     -999,9,     -999,9,     -999,9,     -999,9,     -999,9,     -999,9,     -999,9,     -999,9
320620180309  ,S04P       ,106     ,  1,8          ,8          ,2,20180502,0818, -67.5006, -99.6682,     4615,   2627.0,0.8543135543488321604,34.710043853522613,2,  34.7098,2,205.48759825080666,2, 205.6002,2,    205.0,2,    123.1,2,    32.51,2,     0.00,2,     2.21,2,     -999,9,     -999,9,     -999,9,     -999,9,     -999,9,     -999,9,     -999,     -999,9,     -999,9,   0.8542,2,     -999,9,     -999,9,     -999,     -999,9,     -999,9,     -999,9,     -999,9,    0.061,1,    4.649,1,    0.127,1,     -999,9,     -999,9,20180502,0905, -67.5028, -99.6658,     -999,9,     -999,9,-999          ,9,     -999,9,     -999,9,     -999,     -999,9,     -999,     -999,9,     -999,9,     -999,9,     -999,9,     -999,9,     -999,9,     -999,9,     -999,9,     -999,9,     -999,9,     -999,9,     -999,9,     -999,9,     -999,9
320620180309  ,S04P       ,106     ,  1,7          ,7          ,2,20180502,0818, -67.5006, -99.6682,     4615,   2882.9,0.7630134373661054958,34.706812796574987,2,  34.7070,2,207.37013754347629,2, 207.2979,2,    206.9,2,    126.2,2,    32.62,2,     0.00,2,     2.21,2,    0.185,2,    0.102,2,   0.1000,2,   2255.6,4,  2366.56,2,   7.5985,2,    24.94,     -999,9,     -999,9,   0.7632,2,     -999,9,     -999,9,     -999,     -999,9,     -999,9,     -999,9,     -999,9,    0.061,1,    4.649,1,    0.127,1,  18.9400,2,     -999,9,20180502,0859, -67.5025, -99.6659,     -999,9,     -999,9,-999          ,9,     -999,9,     -999,9,     -999,     -999,9,     -999,     -999,9,     -999,9,     -999,9,     -999,9,     -999,9,     -999,9,     -999,9,     -999,9,     -999,9,     -999,9,     -999,9,     -999,9,     -999,9,     -999,9
320620180309  ,S04P       ,106     ,  1,6          ,6          ,2,20180502,0818, -67.5006, -99.6682,     4615,   3155.4,0.6663602857118612333,34.704328954906906,2,  34.7043,2,209.28966050255576,2, 209.3002,2,    208.5,2,    128.5,2,    32.70,2,     0.00,2,     2.20,2,     -999,9,     -999,9,     -999,9,     -999,9,     -999,9,     -999,9,     -999,     -999,9,     -999,9,   0.6665,2,     -999,9,     -999,9,     -999,     -999,9,     -999,9,     -999,9,     -999,9,    0.061,1,    4.649,1,    0.131,1,     -999,9,     -999,9,20180502,0853, -67.5019, -99.6664,     -999,9,     -999,9,-999          ,9,     -999,9,     -999,9,     -999,     -999,9,     -999,     -999,9,     -999,9,     -999,9,     -999,9,     -999,9,     -999,9,     -999,9,     -999,9,     -999,9,     -999,9,     -999,9,     -999,9,     -999,9,     -999,9
320620180309  ,S04P       ,106     ,  1,5          ,5          ,2,20180502,0818, -67.5006, -99.6682,     4615,   3462.0,0.5510036323306937156,34.701987891572891,2,  34.7023,2,211.20108102871524,2, 211.5022,2,    212.8,2,    131.5,2,    32.79,2,     0.00,2,     2.21,2,    0.248,2,    0.138,2,   0.0500,2,   2268.0,2,  2366.65,2,   7.5975,2,    24.92,     -999,9,     -999,9,   0.5510,2,     -999,9,     -999,9,     -999,     -999,9,     -999,9,     -999,9,     -999,9,    0.061,1,    4.649,1,    0.126,1,  19.1800,2,     -999,9,20180502,0846, -67.5020, -99.6662,     -999,9,     -999,9,-999          ,9,     -999,9,     -999,9,     -999,     -999,9,     -999,     -999,9,     -999,9,     -999,9,     -999,9,     -999,9,     -999,9,     -999,9,     -999,9,     -999,9,     -999,9,     -999,9,     -999,9,     -999,9,     -999,9
320620180309  ,S04P       ,106     ,  1,4          ,4          ,2,20180502,0818, -67.5006, -99.6682,     4615,   3770.1,0.4744807351749075197,34.701196615018866,2,  34.7005,2,212.79050962290080,2, 213.3955,2,    212.9,2,    135.1,2,    32.91,2,     0.00,2,     2.21,2,    0.259,2,    0.147,2,   0.0600,2,   2267.1,2,  2367.38,2,   7.5963,2,    24.95,     -999,9,     -999,9,   0.4744,2,     -999,9,     -999,9,     -999,     -999,9,     -999,9,     -999,9,     -999,9,    0.061,1,    4.649,1,    0.126,1,  18.7900,2,     -999,9,20180502,0839, -67.5020, -99.6663,     -999,9,     -999,9,-999          ,9,     -999,9,     -999,9,     -999,     -999,9,     -999,     -999,9,     -999,9,     -999,9,     -999,9,     -999,9,     -999,9,     -999,9,     -999,9,     -999,9,     -999,9,     -999,9,     -999,9,     -999,9,     -999,9
320620180309  ,S04P       ,106     ,  1,3          ,3          ,2,20180502,0818, -67.5006, -99.6682,     4615,   4078.8,0.4336165353568966485,34.700473782904439,2,  34.7002,2,214.28671167625060,2, 214.4074,2,    213.8,2,    138.4,2,    32.97,2,     0.00,2,     2.22,2,    0.286,2,    0.157,2,   0.0400,2,   2264.0,3,  2368.76,2,   7.5966,2,    24.95,     -999,9,     -999,9,   0.4333,2,     -999,9,     -999,9,     -999,     -999,9,     -999,9,     -999,9,     -999,9,    0.061,1,    4.649,1,    0.127,1,  18.6400,2,     -999,9,20180502,0832, -67.5013, -99.6670,     -999,9,     -999,9,-999          ,9,     -999,9,     -999,9,     -999,     -999,9,     -999,     -999,9,     -999,9,     -999,9,     -999,9,     -999,9,     -999,9,     -999,9,     -999,9,     -999,9,     -999,9,     -999,9,     -999,9,     -999,9,     -999,9
320620180309  ,S04P       ,106     ,  1,2          ,2          ,2,20180502,0818, -67.5006, -99.6682,     4615,   4387.7,0.4089693475625797991,34.699565772516564,2,  34.6984,2,215.26003426887584,2, 214.9021,2,    215.6,2,    140.5,2,    32.96,2,     0.00,2,     2.22,2,    0.356,2,    0.195,2,   0.0300,2,   2265.3,2,  2366.88,2,   7.5958,6,    24.92,     -999,9,     -999,9,   0.4089,2,     -999,9,     -999,9,     -999,     -999,9,     -999,9,     -999,9,     -999,9,    0.061,1,    4.647,1,    0.128,1,  19.1100,2,     -999,9,20180502,0826, -67.5005, -99.6684,     -999,9,     -999,9,-999          ,9,     -999,9,     -999,9,     -999,     -999,9,     -999,     -999,9,     -999,9,     -999,9,     -999,9,     -999,9,     -999,9,     -999,9,     -999,9,     -999,9,     -999,9,     -999,9,     -999,9,     -999,9,     -999,9
320620180309  ,S04P       ,106     ,  1,1          ,1          ,2,20180502,0818, -67.5006, -99.6682,     4615,   4703.1,0.4126332793860290615,34.698789189431324,2,  34.6982,2,216.48796251259051,3, 214.0004,2,    213.7,2,    149.5,2,    33.15,2,     0.00,2,     2.24,2,    0.406,2,    0.215,2,   0.1000,2,   2266.4,6,  2369.54,2,   7.5941,2,    24.94,     -999,9,     -999,9,   0.4127,2,     -999,9,     -999,9,     -999,     -999,9,     -999,9,     -999,9,     -999,9,    0.060,1,    4.638,1,    0.141,1,  18.6600,2,     -999,9,20180502,0818, -67.5006, -99.6682,     -999,9,     -999,9,-999          ,9,     -999,9,     -999,9,     -999,     -999,9,     -999,     -999,9,     -999,9,     -999,9,     -999,9,     -999,9,     -999,9,     -999,9,     -999,9,     -999,9,     -999,9,     -999,9,     -999,9,     -999,9,     -999,9