BOTTLE,20240515CCHHYDRO
EXPOCODE,SECT_ID,STNNBR,CASTNO,SAMPNO,BTLNBR,BTLNBR_FLAG_W,DATE,TIME,LATITUDE,LONGITUDE,DEPTH,CTDPRS,CTDTMP,CTDSAL,CTDSAL_FLAG_W,SALNTY,SALNTY_FLAG_W,CTDOXY,CTDOXY_FLAG_W,CTDOPTOXY,CTDOPTOXY_FLAG_W,OXYGEN,OXYGEN_FLAG_W,SILCAT,SILCAT_FLAG_W,NITRAT,NITRAT_FLAG_W,NITRIT,NITRIT_FLAG_W,PHSPHT,PHSPHT_FLAG_W,CFC-11,CFC-11_FLAG_W,CFC-12,CFC-12_FLAG_W,SF6,SF6_FLAG_W,TCARBN,TCARBN_FLAG_W,ALKALI,ALKALI_FLAG_W,PH_TOT,PH_TOT_FLAG_W,PH_TMP,DOC,DOC_FLAG_W,HELIUM,HELIUM_FLAG_W,REFTMP,REFTMP_FLAG_W,DELC13,DELC13_FLAG_W,DELC14,DELC14_FLAG_W,C14ERR,POC,POC_FLAG_W,TDN,TDN_FLAG_W,TON,TON_FLAG_W,NEON,NEON_FLAG_W,CTDFLUOR,CTDFLUOR_FLAG_W,CTDXMISS,CTDXMISS_FLAG_W,CTDBETA700,CTDBETA700_FLAG_W,N2O,N2O_FLAG_W,ARGON,ARGON_FLAG_W,BTL_DATE,BTL_TIME,BTL_LAT,BTL_LON,KRYPTON,KRYPTON_FLAG_W,XENON,XENON_FLAG_W,HPLC,HPLC_FLAG_W,HE3_HE4_RATIO,HE3_HE4_RATIO_FLAG_W,Nd_143_144_D_EPSILON_BOTTLE,Nd_143_144_D_EPSILON_BOTTLE_FLAG_W,Nd_143_144_D_EPSILON_BOTTLE_ERROR,Nd_143_144_D_RATIO_BOTTLE,Nd_143_144_D_RATIO_BOTTLE_FLAG_W,Nd_143_144_D_RATIO_BOTTLE_ERROR,Nd_D_CONC,Nd_D_CONC_FLAG_W,La_D_CONC_BOTTLE,La_D_CONC_BOTTLE_FLAG_W,Ce_D_CONC_BOTTLE,Ce_D_CONC_BOTTLE_FLAG_W,Pr_D_CONC_BOTTLE,Pr_D_CONC_BOTTLE_FLAG_W,Sm_D_CONC_BOTTLE,Sm_D_CONC_BOTTLE_FLAG_W,Eu_D_CONC_BOTTLE,Eu_D_CONC_BOTTLE_FLAG_W,Gd_D_CONC_BOTTLE,Gd_D_CONC_BOTTLE_FLAG_W,Tb_D_CONC_BOTTLE,Tb_D_CONC_BOTTLE_FLAG_W,Dy_D_CONC_BOTTLE,Dy_D_CONC_BOTTLE_FLAG_W,Ho_D_CONC_BOTTLE,Ho_D_CONC_BOTTLE_FLAG_W,Er_D_CONC_BOTTLE,Er_D_CONC_BOTTLE_FLAG_W,Tm_D_CONC_BOTTLE,Tm_D_CONC_BOTTLE_FLAG_W,Yb_D_CONC_BOTTLE,Yb_D_CONC_BOTTLE_FLAG_W,Lu_D_CONC_BOTTLE,Lu_D_CONC_BOTTLE_FLAG_W
,,,,,,,,,,,METERS,DBAR,ITS-90,PSS-78,,PSS-78,,UMOL/KG,,UMOL/KG,,UMOL/KG,,UMOL/KG,,UMOL/KG,,UMOL/KG,,UMOL/KG,,PMOL/KG,,PMOL/KG,,FMOL/KG,,UMOL/KG,,UMOL/KG,,,,DEG C,UMOL/KG,,NMOL/L,,DEG C,,/MILLE,,/MILLE,,/MILLE,UG/KG,,UMOL/KG,,UMOL/KG,,NMOL/L,,VOLTS,,VOLTS,,VOLTS,,NMOL/KG,,UMOL/L,,,,,,NMOL/L,,NMOL/L,,,,,,10000,,10000,,,,PMOL/KG,,PMOL/L,,PMOL/L,,PMOL/L,,PMOL/L,,PMOL/L,,PMOL/L,,PMOL/L,,PMOL/L,,PMOL/L,,PMOL/L,,PMOL/L,,PMOL/L,,PMOL/L,
320620180309  ,S04P       ,87      ,  1,15         ,15         ,2,20180423,1725, -67.0005,-121.0734,     4426,   1280.5,1.3719420179937400484,34.730145135351734,2,  34.7292,2,193.47691146590438,2, 193.3000,2,    194.3,2,    103.5,2,    33.20,3,     0.00,2,     2.17,2,    0.000,4,    0.000,4,   0.2800,4,   2257.4,2,  2359.19,2,   7.5971,2,    24.87,     -999,9,     -999,9,   1.3733,2,     -999,9,     -999,9,     -999,     -999,9,     -999,9,     -999,9,     -999,9,    0.061,1,    4.654,1,    0.128,1,   0.0000,4,     -999,9,20180423,1838, -67.0005,-121.0727,     -999,9,     -999,9,-999          ,9,     -999,9,     -999,9,     -999,     -999,9,     -999,     -999,9,     -999,9,     -999,9,     -999,9,     -999,9,     -999,9,     -999,9,     -999,9,     -999,9,     -999,9,     -999,9,     -999,9,     -999,9,     -999,9
320620180309  ,S04P       ,87      ,  1,14         ,14         ,2,20180423,1725, -67.0005,-121.0734,     4426,   1382.5,1.2935589214420530890,34.728250871827242,2,  34.7272,2,194.87502097961044,2, 194.7003,2,    195.3,2,    106.5,2,    31.99,2,     0.00,2,     2.16,2,     -999,9,     -999,9,     -999,9,     -999,9,     -999,9,     -999,9,     -999,     -999,9,     -999,9,   1.2945,2,     -999,9,     -999,9,     -999,     -999,9,     -999,9,     -999,9,     -999,9,    0.061,1,    4.656,1,    0.128,1,     -999,9,     -999,9,20180423,1835, -67.0005,-121.0729,     -999,9,     -999,9,-999          ,9,     -999,9,     -999,9,     -999,     -999,9,     -999,     -999,9,     -999,9,     -999,9,     -999,9,     -999,9,     -999,9,     -999,9,     -999,9,     -999,9,     -999,9,     -999,9,     -999,9,     -999,9,     -999,9
320620180309  ,S04P       ,87      ,  1,13         ,13         ,2,20180423,1725, -67.0005,-121.0734,     4426,   1485.1,1.2295338702115257146,34.726352565306470,2,  34.7266,2,196.47047859979051,2, 196.1999,2,    196.7,2,    108.2,2,    31.99,2,     0.00,2,     2.17,2,     -999,9,     -999,9,     -999,9,     -999,9,     -999,9,     -999,9,     -999,     -999,9,     -999,9,   1.2293,2,     -999,9,     -999,9,     -999,     -999,9,     -999,9,     -999,9,     -999,9,    0.061,1,    4.652,1,    0.127,1,     -999,9,     -999,9,20180423,1832, -67.0005,-121.0731,     -999,9,     -999,9,-999          ,9,     -999,9,     -999,9,     -999,     -999,9,     -999,     -999,9,     -999,9,     -999,9,     -999,9,     -999,9,     -999,9,     -999,9,     -999,9,     -999,9,     -999,9,     -999,9,     -999,9,     -999,9,     -999,9
320620180309  ,S04P       ,87      ,  1,12         ,12         ,2,20180423,1725, -67.0005,-121.0734,     4426,   1586.5,1.1715028285887321147,34.724150766426796,2,  34.7235,2,197.93427447578765,2, 197.3056,2,    198.2,2,    110.3,2,    32.06,2,     0.00,2,     2.17,2,    0.148,2,    0.076,2,  -0.0100,2,   2258.4,2,  2359.61,2,   7.5991,2,    24.89,     -999,9,     -999,9,   1.1714,2,     -999,9,     -999,9,     -999,     -999,9,     -999,9,     -999,9,     -999,9,    0.062,1,    4.655,1,    0.129,1,  19.2800,2,     -999,9,20180423,1829, -67.0005,-121.0726,     -999,9,     -999,9,-999          ,9,     -999,9,     -999,9,     -999,     -999,9,     -999,     -999,9,     -999,9,     -999,9,     -999,9,     -999,9,     -999,9,     -999,9,     -999,9,     -999,9,     -999,9,     -999,9,     -999,9,     -999,9,     -999,9
320620180309  ,S04P       ,87      ,  1,11         ,11         ,2,20180423,1725, -67.0005,-121.0734,     4426,   1759.9,1.0674793584314472561,34.720499644759478,2,  34.7202,2,199.39236989144021,2, 199.3011,2,    199.8,2,    114.0,2,    32.16,2,     0.00,2,     2.17,2,     -999,9,     -999,9,     -999,9,     -999,9,     -999,9,     -999,9,     -999,     -999,9,     -999,9,   1.0678,2,     -999,9,     -999,9,     -999,     -999,9,     -999,9,     -999,9,     -999,9,    0.061,1,    4.658,1,    0.127,1,     -999,9,     -999,9,20180423,1825, -67.0005,-121.0727,     -999,9,     -999,9,-999          ,9,     -999,9,     -999,9,     -999,     -999,9,     -999,     -999,9,     -999,9,     -999,9,     -999,9,     -999,9,     -999,9,     -999,9,     -999,9,     -999,9,     -999,9,     -999,9,     -999,9,     -999,9,     -999,9
320620180309  ,S04P       ,87      ,  1,10         ,10         ,2,20180423,1725, -67.0005,-121.0734,     4426,   1961.9,0.9710400691471150481,34.716607256354735,2,  34.7164,2,201.16102873311465,2, 201.4042,2,    201.7,2,    117.7,2,    32.26,2,     0.00,2,     2.18,2,     -999,9,     -999,9,     -999,9,     -999,9,     -999,9,     -999,9,     -999,     -999,9,     -999,9,   0.9712,2,     -999,9,     -999,9,     -999,     -999,9,     -999,9,     -999,9,     -999,9,    0.061,1,    4.658,1,    0.128,1,     -999,9,     -999,9,20180423,1820, -67.0005,-121.0728,     -999,9,     -999,9,-999          ,9,     -999,9,     -999,9,     -999,     -999,9,     -999,     -999,9,     -999,9,     -999,9,     -999,9,     -999,9,     -999,9,     -999,9,     -999,9,     -999,9,     -999,9,     -999,9,     -999,9,     -999,9,     -999,9
320620180309  ,S04P       ,87      ,  1,9          ,9          ,2,20180423,1725, -67.0005,-121.0734,     4426,   2198.1,0.8650791475026181621,34.712259975142103,2,  34.7121,2,203.76366722384157,2, 203.6011,2,    203.4,2,    121.6,2,    32.37,2,     0.00,2,     2.18,2,    0.156,2,    0.082,2,   0.2100,2,   2261.5,2,  2361.81,2,   7.6007,2,    24.87,     -999,9,     -999,9,   0.8651,2,     -999,9,     -999,9,     -999,     -999,9,     -999,9,     -999,9,     -999,9,    0.060,1,    4.658,1,    0.126,1,  19.0500,2,     -999,9,20180423,1815, -67.0005,-121.0726,     -999,9,     -999,9,-999          ,9,     -999,9,     -999,9,     -999,     -999,9,     -999,     -999,9,     -999,9,     -999,9,     -999,9,     -999,9,     -999,9,     -999,9,     -999,9,     -999,9,     -999,9,     -999,9,     -999,9,     -999,9,     -999,9
320620180309  ,S04P       ,87      ,  1,8          ,8          ,2,20180423,1725, -67.0005,-121.0734,     4426,   2451.8,0.7684894674485325261,34.708337097034871,2,  34.7080,2,205.51434579514284,2, 205.7004,2,    205.9,2,    124.4,2,    32.50,2,     0.00,2,     2.19,2,    0.185,2,    0.106,2,   0.0700,2,   2262.1,2,  2363.62,2,   7.5987,2,    24.86,     -999,9,     -999,9,   0.7687,2,     -999,9,     -999,9,     -999,     -999,9,     -999,9,     -999,9,     -999,9,    0.061,1,    4.658,1,    0.127,1,  18.9900,2,     -999,9,20180423,1809, -67.0005,-121.0729,     -999,9,     -999,9,-999          ,9,     -999,9,     -999,9,     -999,     -999,9,     -999,     -999,9,     -999,9,     -999,9,     -999,9,     -999,9,     -999,9,     -999,9,     -999,9,     -999,9,     -999,9,     -999,9,     -999,9,     -999,9,     -999,9
320620180309  ,S04P       ,87      ,  1,7          ,7          ,2,20180423,1725, -67.0005,-121.0734,     4426,   2707.8,0.6813755516166080106,34.705594225597821,2,  34.7054,2,207.54366973716671,2, 207.6051,2,    207.5,2,    127.2,2,    32.66,2,     0.00,2,     2.21,2,    0.215,2,    0.112,2,   0.1400,2,   2262.2,2,  2363.24,2,   7.5973,2,    24.88,     -999,9,     -999,9,   0.6813,2,     -999,9,     -999,9,     -999,     -999,9,     -999,9,     -999,9,     -999,9,    0.061,1,    4.658,1,    0.126,1,  19.2000,2,     -999,9,20180423,1804, -67.0004,-121.0742,     -999,9,     -999,9,-999          ,9,     -999,9,     -999,9,     -999,     -999,9,     -999,     -999,9,     -999,9,     -999,9,     -999,9,     -999,9,     -999,9,     -999,9,     -999,9,     -999,9,     -999,9,     -999,9,     -999,9,     -999,9,     -999,9
320620180309  ,S04P       ,87      ,  1,6          ,6          ,2,20180423,1725, -67.0005,-121.0734,     4426,   2963.4,0.5846817046620469416,34.704049638640576,2,  34.7043,2,209.21102562876342,2, 209.4986,2,    209.0,2,    129.4,2,    32.74,2,     0.00,2,     2.21,2,     -999,9,     -999,9,     -999,9,     -999,9,     -999,9,     -999,9,     -999,     -999,9,     -999,9,   0.5844,2,     -999,9,     -999,9,     -999,     -999,9,     -999,9,     -999,9,     -999,9,    0.061,1,    4.658,1,    0.126,1,     -999,9,     -999,9,20180423,1758, -67.0004,-121.0743,     -999,9,     -999,9,-999          ,9,     -999,9,     -999,9,     -999,     -999,9,     -999,     -999,9,     -999,9,     -999,9,     -999,9,     -999,9,     -999,9,     -999,9,     -999,9,     -999,9,     -999,9,     -999,9,     -999,9,     -999,9,     -999,9
320620180309  ,S04P       ,87      ,  1,5          ,5          ,2,20180423,1725, -67.0005,-121.0734,     4426,   3256.7,0.4980782114773381064,34.702490095520993,2,  34.7009,2,210.79666301404583,2, 211.5998,2,    211.5,2,    132.8,2,    32.86,2,     0.00,2,     2.21,2,    0.227,2,    0.121,2,   0.1100,2,   2263.9,2,  2365.26,2,   7.5951,6,    24.89,     -999,9,     -999,9,   0.4980,2,     -999,9,     -999,9,     -999,     -999,9,     -999,9,     -999,9,     -999,9,    0.062,1,    4.658,1,    0.126,1,  18.9700,2,     -999,9,20180423,1752, -67.0001,-121.0760,     -999,9,     -999,9,-999          ,9,     -999,9,     -999,9,     -999,     -999,9,     -999,     -999,9,     -999,9,     -999,9,     -999,9,     -999,9,     -999,9,     -999,9,     -999,9,     -999,9,     -999,9,     -999,9,     -999,9,     -999,9,     -999,9
320620180309  ,S04P       ,87      ,  1,4          ,4          ,2,20180423,1725, -67.0005,-121.0734,     4426,   3563.0,0.4494109493191981719,34.702033609731217,2,  34.7011,2,212.07737034749604,2, 212.7020,2,    212.5,2,    135.9,2,    32.89,2,     0.00,2,     2.22,2,    0.239,2,    0.127,2,   0.2100,2,   2263.7,2,  2364.23,2,   7.5965,2,    24.87,     -999,9,     -999,9,   0.4497,2,     -999,9,     -999,9,     -999,     -999,9,     -999,9,     -999,9,     -999,9,    0.061,1,    4.657,1,    0.125,1,  18.7000,2,     -999,9,20180423,1745, -67.0004,-121.0760,     -999,9,     -999,9,-999          ,9,     -999,9,     -999,9,     -999,     -999,9,     -999,     -999,9,     -999,9,     -999,9,     -999,9,     -999,9,     -999,9,     -999,9,     -999,9,     -999,9,     -999,9,     -999,9,     -999,9,     -999,9,     -999,9
320620180309  ,S04P       ,87      ,  1,3          ,3          ,2,20180423,1725, -67.0005,-121.0734,     4426,   3871.3,0.4052878465585875167,34.701055640376424,2,  34.7007,2,213.54136127978893,2, 213.8977,2,    213.7,2,    139.0,2,    32.94,2,     0.00,2,     2.21,2,     -999,9,     -999,9,     -999,9,     -999,9,     -999,9,     -999,9,     -999,     -999,9,     -999,9,   0.4053,2,     -999,9,     -999,9,     -999,     -999,9,     -999,9,     -999,9,     -999,9,    0.061,1,    4.656,1,    0.126,1,     -999,9,     -999,9,20180423,1739, -67.0005,-121.0733,     -999,9,     -999,9,-999          ,9,     -999,9,     -999,9,     -999,     -999,9,     -999,     -999,9,     -999,9,     -999,9,     -999,9,     -999,9,     -999,9,     -999,9,     -999,9,     -999,9,     -999,9,     -999,9,     -999,9,     -999,9,     -999,9
320620180309  ,S04P       ,87      ,  1,2          ,2          ,2,20180423,1725, -67.0005,-121.0734,     4426,   4180.3,0.3779060790885082066,34.699892434782754,2,  34.6996,2,215.34061397144376,2, 214.9039,2,    215.4,2,    142.1,2,    33.00,2,     0.00,2,     2.22,2,    0.372,2,    0.192,2,   0.1400,2,   2265.3,2,  2365.10,2,   7.5941,2,    24.86,     -999,9,     -999,9,   0.3779,2,     -999,9,     -999,9,     -999,     -999,9,     -999,9,     -999,9,     -999,9,    0.061,1,    4.654,1,    0.129,1,  18.7700,2,     -999,9,20180423,1732, -67.0006,-121.0722,     -999,9,     -999,9,-999          ,9,     -999,9,     -999,9,     -999,     -999,9,     -999,     -999,9,     -999,9,     -999,9,     -999,9,     -999,9,     -999,9,     -999,9,     -999,9,     -999,9,     -999,9,     -999,9,     -999,9,     -999,9,     -999,9
320620180309  ,S04P       ,87      ,  1,1          ,1          ,2,20180423,1725, -67.0005,-121.0734,     4426,   4507.7,0.3747652815949731320,34.698632019362421,2,  34.6984,2,214.66056832922320,2, 215.1939,2,    214.4,2,    147.1,2,    33.50,2,     0.00,2,     2.22,2,    0.479,2,    0.241,2,   0.2700,2,   2263.8,6,  2365.85,2,   7.5930,2,    24.87,     -999,9,     -999,9,   0.3748,2,     -999,9,     -999,9,     -999,     -999,9,     -999,9,     -999,9,     -999,9,    0.060,1,    4.641,1,    0.146,1,  18.9500,2,     -999,9,20180423,1725, -67.0005,-121.0734,     -999,9,     -999,9,-999          ,9,     -999,9,     -999,9,     -999,     -999,9,     -999,     -999,9,     -999,9,     -999,9,     -999,9,     -999,9,     -999,9,     -999,9,     -999,9,     -999,9,     -999,9,     -999,9,     -999,9,     -999,9,     -999,9