BOTTLE,20240515CCHHYDRO
EXPOCODE,SECT_ID,STNNBR,CASTNO,SAMPNO,BTLNBR,BTLNBR_FLAG_W,DATE,TIME,LATITUDE,LONGITUDE,DEPTH,CTDPRS,CTDTMP,CTDSAL,CTDSAL_FLAG_W,SALNTY,SALNTY_FLAG_W,CTDOXY,CTDOXY_FLAG_W,CTDOPTOXY,CTDOPTOXY_FLAG_W,OXYGEN,OXYGEN_FLAG_W,SILCAT,SILCAT_FLAG_W,NITRAT,NITRAT_FLAG_W,NITRIT,NITRIT_FLAG_W,PHSPHT,PHSPHT_FLAG_W,CFC-11,CFC-11_FLAG_W,CFC-12,CFC-12_FLAG_W,SF6,SF6_FLAG_W,TCARBN,TCARBN_FLAG_W,ALKALI,ALKALI_FLAG_W,PH_TOT,PH_TOT_FLAG_W,PH_TMP,DOC,DOC_FLAG_W,HELIUM,HELIUM_FLAG_W,REFTMP,REFTMP_FLAG_W,DELC13,DELC13_FLAG_W,DELC14,DELC14_FLAG_W,C14ERR,POC,POC_FLAG_W,TDN,TDN_FLAG_W,TON,TON_FLAG_W,NEON,NEON_FLAG_W,CTDFLUOR,CTDFLUOR_FLAG_W,CTDXMISS,CTDXMISS_FLAG_W,CTDBETA700,CTDBETA700_FLAG_W,N2O,N2O_FLAG_W,ARGON,ARGON_FLAG_W,BTL_DATE,BTL_TIME,BTL_LAT,BTL_LON,KRYPTON,KRYPTON_FLAG_W,XENON,XENON_FLAG_W,HPLC,HPLC_FLAG_W,HE3_HE4_RATIO,HE3_HE4_RATIO_FLAG_W,Nd_143_144_D_EPSILON_BOTTLE,Nd_143_144_D_EPSILON_BOTTLE_FLAG_W,Nd_143_144_D_EPSILON_BOTTLE_ERROR,Nd_143_144_D_RATIO_BOTTLE,Nd_143_144_D_RATIO_BOTTLE_FLAG_W,Nd_143_144_D_RATIO_BOTTLE_ERROR,Nd_D_CONC,Nd_D_CONC_FLAG_W,La_D_CONC_BOTTLE,La_D_CONC_BOTTLE_FLAG_W,Ce_D_CONC_BOTTLE,Ce_D_CONC_BOTTLE_FLAG_W,Pr_D_CONC_BOTTLE,Pr_D_CONC_BOTTLE_FLAG_W,Sm_D_CONC_BOTTLE,Sm_D_CONC_BOTTLE_FLAG_W,Eu_D_CONC_BOTTLE,Eu_D_CONC_BOTTLE_FLAG_W,Gd_D_CONC_BOTTLE,Gd_D_CONC_BOTTLE_FLAG_W,Tb_D_CONC_BOTTLE,Tb_D_CONC_BOTTLE_FLAG_W,Dy_D_CONC_BOTTLE,Dy_D_CONC_BOTTLE_FLAG_W,Ho_D_CONC_BOTTLE,Ho_D_CONC_BOTTLE_FLAG_W,Er_D_CONC_BOTTLE,Er_D_CONC_BOTTLE_FLAG_W,Tm_D_CONC_BOTTLE,Tm_D_CONC_BOTTLE_FLAG_W,Yb_D_CONC_BOTTLE,Yb_D_CONC_BOTTLE_FLAG_W,Lu_D_CONC_BOTTLE,Lu_D_CONC_BOTTLE_FLAG_W
,,,,,,,,,,,METERS,DBAR,ITS-90,PSS-78,,PSS-78,,UMOL/KG,,UMOL/KG,,UMOL/KG,,UMOL/KG,,UMOL/KG,,UMOL/KG,,UMOL/KG,,PMOL/KG,,PMOL/KG,,FMOL/KG,,UMOL/KG,,UMOL/KG,,,,DEG C,UMOL/KG,,NMOL/L,,DEG C,,/MILLE,,/MILLE,,/MILLE,UG/KG,,UMOL/KG,,UMOL/KG,,NMOL/L,,VOLTS,,VOLTS,,VOLTS,,NMOL/KG,,UMOL/L,,,,,,NMOL/L,,NMOL/L,,,,,,10000,,10000,,,,PMOL/KG,,PMOL/L,,PMOL/L,,PMOL/L,,PMOL/L,,PMOL/L,,PMOL/L,,PMOL/L,,PMOL/L,,PMOL/L,,PMOL/L,,PMOL/L,,PMOL/L,,PMOL/L,
320620180309  ,S04P       ,25      ,  1,36         ,36         ,2,20180327,1823, -67.0003,-178.0182,     3997,      8.8,-0.9586611111111111860,33.998085161124926,2,  33.9958,2,343.01042676188871,2, 342.5963,2,    343.5,2,     54.4,2,    25.95,2,     0.12,2,     1.74,2,    5.428,2,    3.078,2,   3.6600,2,   2184.5,6,  2305.10,2,   7.6619,2,    24.93,     -999,9,     -999,9,  -0.9012,3,     -999,9,     -999,9,     -999,     -999,9,     -999,9,     -999,9,     -999,9,    0.363,1,    4.536,1,    0.267,1,  17.0500,2,     -999,9,20180327,2057, -66.9997,-178.0204,     -999,9,     -999,9,-999          ,9,     -999,9,     -999,9,     -999,     -999,9,     -999,     -999,9,     -999,9,     -999,9,     -999,9,     -999,9,     -999,9,     -999,9,     -999,9,     -999,9,     -999,9,     -999,9,     -999,9,     -999,9,     -999,9
320620180309  ,S04P       ,25      ,  1,35         ,35         ,2,20180327,1823, -67.0003,-178.0182,     3997,     20.2,-1.0164527777777776496,33.996301899540398,2,  33.9954,2,343.61160806977779,2, 342.5974,2,    342.0,2,     54.5,2,    25.89,2,     0.12,2,     1.78,2,     -999,9,     -999,9,     -999,9,   2185.3,2,  2305.08,2,   7.6618,2,    24.93,     -999,9,     -999,9,  -1.0176,2,     -999,9,     -999,9,     -999,     -999,9,     -999,9,     -999,9,     -999,9,    0.351,1,    4.533,1,    0.263,1,     -999,9,     -999,9,20180327,2055, -66.9996,-178.0206,     -999,9,     -999,9,-999          ,9,     -999,9,     -999,9,     -999,     -999,9,     -999,     -999,9,     -999,9,     -999,9,     -999,9,     -999,9,     -999,9,     -999,9,     -999,9,     -999,9,     -999,9,     -999,9,     -999,9,     -999,9,     -999,9
320620180309  ,S04P       ,25      ,  1,34         ,34         ,2,20180327,1823, -67.0003,-178.0182,     3997,     39.4,-1.0155305555555553809,33.996490032511389,2,  33.9964,2,344.53132087730080,2, 342.6036,2,    342.4,2,     54.5,2,    25.88,2,     0.12,2,     1.77,2,     -999,9,     -999,9,     -999,9,     -999,9,     -999,9,     -999,9,     -999,     -999,9,     -999,9,  -1.0152,2,     -999,9,     -999,9,     -999,     -999,9,     -999,9,     -999,9,     -999,9,    0.387,1,    4.529,1,    0.282,1,     -999,9,     -999,9,20180327,2054, -66.9996,-178.0210,     -999,9,     -999,9,-999          ,9,     -999,9,     -999,9,     -999,     -999,9,     -999,     -999,9,     -999,9,     -999,9,     -999,9,     -999,9,     -999,9,     -999,9,     -999,9,     -999,9,     -999,9,     -999,9,     -999,9,     -999,9,     -999,9
320620180309  ,S04P       ,25      ,  1,33         ,33         ,2,20180327,1823, -67.0003,-178.0182,     3997,     64.4,-0.9920916666666665940,34.018940211808406,2,  34.0216,2,340.36503709793061,3, 353.0083,3,    336.7,2,     55.8,2,    26.25,2,     0.11,2,     1.83,2,     -999,9,     -999,9,     -999,9,   2187.7,2,  2306.94,3,   7.6580,2,    24.93,     -999,9,     -999,9,  -0.9945,2,     -999,9,     -999,9,     -999,     -999,9,     -999,9,     -999,9,     -999,9,    0.337,1,    4.534,1,    0.259,1,     -999,9,     -999,9,20180327,2052, -66.9995,-178.0213,     -999,9,     -999,9,-999          ,9,     -999,9,     -999,9,     -999,     -999,9,     -999,     -999,9,     -999,9,     -999,9,     -999,9,     -999,9,     -999,9,     -999,9,     -999,9,     -999,9,     -999,9,     -999,9,     -999,9,     -999,9,     -999,9
320620180309  ,S04P       ,25      ,  1,32         ,32         ,2,20180327,1823, -67.0003,-178.0182,     3997,     90.6,-1.7135222222222221689,34.299528587700088,2,  34.2980,2,289.52464648606633,3, 283.3016,2,    279.3,2,     65.2,2,    29.91,2,     0.11,2,     2.11,2,    3.892,2,    2.180,2,   2.3300,2,   2223.9,2,  2319.35,2,   7.5994,2,    24.95,     -999,9,     -999,9,  -1.7133,2,     -999,9,     -999,9,     -999,     -999,9,     -999,9,     -999,9,     -999,9,    0.101,1,    4.650,1,    0.155,1,  19.7600,2,     -999,9,20180327,2050, -66.9995,-178.0216,     -999,9,     -999,9,-999          ,9,     -999,9,     -999,9,     -999,     -999,9,     -999,     -999,9,     -999,9,     -999,9,     -999,9,     -999,9,     -999,9,     -999,9,     -999,9,     -999,9,     -999,9,     -999,9,     -999,9,     -999,9,     -999,9
320620180309  ,S04P       ,25      ,  1,31         ,31         ,2,20180327,1823, -67.0003,-178.0182,     3997,    115.8,-1.7452472222222223941,34.308212559033478,2,  34.3110,2,282.41718236563003,2, 275.5029,2,    280.0,2,     66.1,2,    30.15,2,     0.11,2,     2.10,2,     -999,9,     -999,9,     -999,9,   2222.9,2,  2320.42,2,   7.5993,2,    24.93,     -999,9,     -999,9,  -1.7461,2,     -999,9,     -999,9,     -999,     -999,9,     -999,9,     -999,9,     -999,9,    0.086,1,    4.657,1,    0.149,1,     -999,9,     -999,9,20180327,2047, -66.9994,-178.0215,     -999,9,     -999,9,-999          ,9,     -999,9,     -999,9,     -999,     -999,9,     -999,     -999,9,     -999,9,     -999,9,     -999,9,     -999,9,     -999,9,     -999,9,     -999,9,     -999,9,     -999,9,     -999,9,     -999,9,     -999,9,     -999,9
320620180309  ,S04P       ,25      ,  1,30         ,30         ,2,20180327,1823, -67.0003,-178.0182,     3997,    141.2,-0.8630138888888889692,34.380542537869957,3,  34.3523,2,256.63036321870425,3, 289.2990,3,    265.1,2,     66.7,2,    30.64,2,     0.04,2,     2.13,2,     -999,9,     -999,9,     -999,9,   2230.4,2,  2322.39,2,   7.5913,2,    24.95,     -999,9,     -999,9,  -0.8910,3,     -999,9,     -999,9,     -999,     -999,9,     -999,9,     -999,9,     -999,9,    0.076,1,    4.663,1,    0.144,1,     -999,9,     -999,9,20180327,2045, -66.9994,-178.0214,     -999,9,     -999,9,-999          ,9,     -999,9,     -999,9,     -999,     -999,9,     -999,     -999,9,     -999,9,     -999,9,     -999,9,     -999,9,     -999,9,     -999,9,     -999,9,     -999,9,     -999,9,     -999,9,     -999,9,     -999,9,     -999,9
320620180309  ,S04P       ,25      ,  1,29         ,29         ,2,20180327,1823, -67.0003,-178.0182,     3997,    185.8,0.9263250000000000650,34.573669656493479,2,  34.5728,2,199.38500306240275,2, 201.1009,2,    197.7,2,     83.4,2,    32.76,2,     0.02,2,     2.27,2,    1.328,2,    0.726,2,   0.7300,2,   2253.1,2,  2337.28,2,   7.5587,2,    24.96,     -999,9,     -999,9,   0.9248,2,     -999,9,     -999,9,     -999,     -999,9,     -999,9,     -999,9,     -999,9,    0.071,1,    4.667,1,    0.141,1,  22.9900,2,     -999,9,20180327,2036, -66.9999,-178.0200,     -999,9,     -999,9,-999          ,9,     -999,9,     -999,9,     -999,     -999,9,     -999,     -999,9,     -999,9,     -999,9,     -999,9,     -999,9,     -999,9,     -999,9,     -999,9,     -999,9,     -999,9,     -999,9,     -999,9,     -999,9,     -999,9
320620180309  ,S04P       ,25      ,  1,28         ,28         ,2,20180327,1823, -67.0003,-178.0182,     3997,    236.3,1.5055611111111109057,34.672012728242777,2,  34.6699,2,185.44845718950981,3, 185.8076,2,    183.2,2,     88.6,2,    32.75,2,     0.02,2,     2.26,2,     -999,9,     -999,9,     -999,9,   2258.7,6,  2346.05,2,   7.5607,2,    24.95,     -999,9,     -999,9,   1.5049,2,     -999,9,     -999,9,     -999,     -999,9,     -999,9,     -999,9,     -999,9,    0.067,1,    4.671,1,    0.138,1,     -999,9,     -999,9,20180327,2033, -66.9997,-178.0202,     -999,9,     -999,9,-999          ,9,     -999,9,     -999,9,     -999,     -999,9,     -999,     -999,9,     -999,9,     -999,9,     -999,9,     -999,9,     -999,9,     -999,9,     -999,9,     -999,9,     -999,9,     -999,9,     -999,9,     -999,9,     -999,9
320620180309  ,S04P       ,25      ,  1,27         ,27         ,2,20180327,1823, -67.0003,-178.0182,     3997,    286.8,1.6546166666666668466,34.705391108366911,2,  34.7049,2,181.95006340047166,3, 182.8031,2,    179.9,2,     91.0,2,    32.55,2,     0.02,2,     2.24,2,     -999,9,     -999,9,     -999,9,     -999,9,     -999,9,     -999,9,     -999,     -999,9,     -999,9,   1.6538,2,     -999,9,     -999,9,     -999,     -999,9,     -999,9,     -999,9,     -999,9,    0.067,1,    4.672,1,    0.137,1,     -999,9,     -999,9,20180327,2031, -66.9996,-178.0207,     -999,9,     -999,9,-999          ,9,     -999,9,     -999,9,     -999,     -999,9,     -999,     -999,9,     -999,9,     -999,9,     -999,9,     -999,9,     -999,9,     -999,9,     -999,9,     -999,9,     -999,9,     -999,9,     -999,9,     -999,9,     -999,9
320620180309  ,S04P       ,25      ,  1,26         ,26         ,2,20180327,1823, -67.0003,-178.0182,     3997,    336.8,1.6271000000000002128,34.719252993121827,2,  34.7190,2,183.41266609052971,2, 182.7016,2,    181.7,2,     93.3,2,    32.33,2,     0.00,2,     2.23,2,     -999,9,     -999,9,     -999,9,   2259.5,2,  2348.95,2,   7.5723,6,    24.95,     -999,9,     -999,9,   1.6258,2,     -999,9,     -999,9,     -999,     -999,9,     -999,9,     -999,9,     -999,9,    0.064,1,    4.675,1,    0.134,1,     -999,9,     -999,9,20180327,2028, -66.9996,-178.0211,     -999,9,     -999,9,-999          ,9,     -999,9,     -999,9,     -999,     -999,9,     -999,     -999,9,     -999,9,     -999,9,     -999,9,     -999,9,     -999,9,     -999,9,     -999,9,     -999,9,     -999,9,     -999,9,     -999,9,     -999,9,     -999,9
320620180309  ,S04P       ,25      ,  1,25         ,25         ,2,20180327,1823, -67.0003,-178.0182,     3997,    387.3,1.5743638888888888960,34.725158803882969,2,  34.7241,2,185.21031882052182,2, 183.6042,2,    183.5,2,     95.8,2,    32.22,2,     0.00,2,     2.21,2,     -999,9,     -999,9,     -999,9,     -999,9,     -999,9,     -999,9,     -999,     -999,9,     -999,9,   1.5734,2,     -999,9,     -999,9,     -999,     -999,9,     -999,9,     -999,9,     -999,9,    0.064,1,    4.677,1,    0.133,1,     -999,9,     -999,9,20180327,2026, -66.9995,-178.0215,     -999,9,     -999,9,-999          ,9,     -999,9,     -999,9,     -999,     -999,9,     -999,     -999,9,     -999,9,     -999,9,     -999,9,     -999,9,     -999,9,     -999,9,     -999,9,     -999,9,     -999,9,     -999,9,     -999,9,     -999,9,     -999,9
320620180309  ,S04P       ,25      ,  1,24         ,24         ,2,20180327,1823, -67.0003,-178.0182,     3997,    438.5,1.5146805555555555856,34.727892229699776,2,  34.7280,2,185.80669371199494,2, 184.7995,2,    184.2,2,     97.8,2,    32.21,2,     0.00,2,     2.22,2,    0.241,2,    0.136,2,   0.1200,2,   2260.4,2,  2350.50,2,   7.5775,2,    24.94,     -999,9,     -999,9,   1.5136,2,     -999,9,     -999,9,     -999,     -999,9,     -999,9,     -999,9,     -999,9,    0.063,1,    4.678,1,    0.133,1,  21.4200,2,     -999,9,20180327,2023, -66.9994,-178.0220,     -999,9,     -999,9,-999          ,9,     -999,9,     -999,9,     -999,     -999,9,     -999,     -999,9,     -999,9,     -999,9,     -999,9,     -999,9,     -999,9,     -999,9,     -999,9,     -999,9,     -999,9,     -999,9,     -999,9,     -999,9,     -999,9
320620180309  ,S04P       ,25      ,  1,23         ,23         ,2,20180327,1823, -67.0003,-178.0182,     3997,    488.3,1.4569944444444444809,34.729762397509937,2,  34.7298,2,185.78176038587839,2, 186.0045,2,    185.1,2,    100.2,2,    32.27,2,     0.00,2,     2.23,2,     -999,9,     -999,9,     -999,9,   2261.2,2,  2355.40,2,   7.5784,2,    24.95,     -999,9,     -999,9,   1.4561,2,     -999,9,     -999,9,     -999,     -999,9,     -999,9,     -999,9,     -999,9,    0.062,1,    4.678,1,    0.132,1,     -999,9,     -999,9,20180327,2020, -66.9993,-178.0221,     -999,9,     -999,9,-999          ,9,     -999,9,     -999,9,     -999,     -999,9,     -999,     -999,9,     -999,9,     -999,9,     -999,9,     -999,9,     -999,9,     -999,9,     -999,9,     -999,9,     -999,9,     -999,9,     -999,9,     -999,9,     -999,9
320620180309  ,S04P       ,25      ,  1,22         ,37         ,2,20180327,1823, -67.0003,-178.0182,     3997,    570.7,1.3744222222222222118,34.730000219537139,2,  34.7296,2,187.49064770129235,2, 187.4026,2,    187.2,2,    102.8,2,    32.22,2,     0.00,2,     2.22,2,     -999,9,     -999,9,     -999,9,   2262.1,2,  2356.16,2,   7.5824,2,    24.94,     -999,9,     -999,9,   1.3737,2,     -999,9,     -999,9,     -999,     -999,9,     -999,9,     -999,9,     -999,9,    0.062,1,    4.677,1,    0.132,1,     -999,9,     -999,9,20180327,2017, -66.9993,-178.0219,     -999,9,     -999,9,-999          ,9,     -999,9,     -999,9,     -999,     -999,9,     -999,     -999,9,     -999,9,     -999,9,     -999,9,     -999,9,     -999,9,     -999,9,     -999,9,     -999,9,     -999,9,     -999,9,     -999,9,     -999,9,     -999,9
320620180309  ,S04P       ,25      ,  1,21         ,21         ,2,20180327,1823, -67.0003,-178.0182,     3997,    671.1,1.2943916666666668291,34.729199048661407,2,  34.7290,2,188.81942512615353,2, 188.8977,2,    188.2,2,    106.1,2,    32.26,2,     0.00,2,     2.20,2,     -999,9,     -999,9,     -999,9,     -999,9,     -999,9,     -999,9,     -999,     -999,9,     -999,9,   1.2935,2,     -999,9,     -999,9,     -999,     -999,9,     -999,9,     -999,9,     -999,9,    0.061,1,    4.678,1,    0.132,1,     -999,9,     -999,9,20180327,2013, -66.9995,-178.0213,     -999,9,     -999,9,-999          ,9,     -999,9,     -999,9,     -999,     -999,9,     -999,     -999,9,     -999,9,     -999,9,     -999,9,     -999,9,     -999,9,     -999,9,     -999,9,     -999,9,     -999,9,     -999,9,     -999,9,     -999,9,     -999,9
320620180309  ,S04P       ,25      ,  1,20         ,20         ,2,20180327,1823, -67.0003,-178.0182,     3997,    773.2,1.2122861111111111754,34.727511659399092,2,  34.7282,2,189.74467689072617,2, 190.8001,2,    190.0,2,    108.7,2,    32.28,2,     0.00,2,     2.23,2,    0.141,2,    0.083,2,   0.1700,2,   2263.6,2,  2359.67,2,   7.5871,6,    24.94,     -999,9,     -999,9,   1.2118,2,     -999,9,     -999,9,     -999,     -999,9,     -999,9,     -999,9,     -999,9,    0.062,1,    4.678,1,    0.131,1,  21.1900,2,     -999,9,20180327,2008, -66.9995,-178.0211,     -999,9,     -999,9,-999          ,9,     -999,9,     -999,9,     -999,     -999,9,     -999,     -999,9,     -999,9,     -999,9,     -999,9,     -999,9,     -999,9,     -999,9,     -999,9,     -999,9,     -999,9,     -999,9,     -999,9,     -999,9,     -999,9
320620180309  ,S04P       ,25      ,  1,19         ,19         ,2,20180327,1823, -67.0003,-178.0182,     3997,    874.5,1.1533694444444444471,34.725470427905229,2,  34.7255,2,192.59537808546057,2, 191.9980,2,    191.9,2,    109.9,2,    32.26,2,     0.00,2,     2.22,2,     -999,9,     -999,9,     -999,9,     -999,9,     -999,9,     -999,9,     -999,     -999,9,     -999,9,   1.1530,2,     -999,9,     -999,9,     -999,     -999,9,     -999,9,     -999,9,     -999,9,    0.061,1,    4.678,1,    0.136,1,     -999,9,     -999,9,20180327,2004, -66.9996,-178.0209,     -999,9,     -999,9,-999          ,9,     -999,9,     -999,9,     -999,     -999,9,     -999,     -999,9,     -999,9,     -999,9,     -999,9,     -999,9,     -999,9,     -999,9,     -999,9,     -999,9,     -999,9,     -999,9,     -999,9,     -999,9,     -999,9
320620180309  ,S04P       ,25      ,  1,18         ,18         ,2,20180327,1823, -67.0003,-178.0182,     3997,    975.7,1.0828999999999999737,34.723226201942694,2,  34.7231,2,194.54447169353443,2, 193.8930,2,    195.8,2,    112.1,2,    32.20,2,     0.00,2,     2.22,2,     -999,9,     -999,9,     -999,9,   2264.3,2,  2357.95,2,   7.5904,2,    24.95,     -999,9,     -999,9,   1.0811,2,     -999,9,     -999,9,     -999,     -999,9,     -999,9,     -999,9,     -999,9,    0.062,1,    4.679,1,    0.129,1,     -999,9,     -999,9,20180327,2000, -66.9997,-178.0204,     -999,9,     -999,9,-999          ,9,     -999,9,     -999,9,     -999,     -999,9,     -999,     -999,9,     -999,9,     -999,9,     -999,9,     -999,9,     -999,9,     -999,9,     -999,9,     -999,9,     -999,9,     -999,9,     -999,9,     -999,9,     -999,9
320620180309  ,S04P       ,25      ,  1,17         ,17         ,2,20180327,1823, -67.0003,-178.0182,     3997,   1077.6,1.0245888888888885493,34.720713218019583,2,  34.7217,2,196.52908345254218,2, 194.8994,2,    196.1,2,    114.3,2,    32.19,2,     0.00,2,     2.21,2,     -999,9,     -999,9,     -999,9,     -999,9,     -999,9,     -999,9,     -999,     -999,9,     -999,9,   1.0236,2,     -999,9,     -999,9,     -999,     -999,9,     -999,9,     -999,9,     -999,9,    0.061,1,    4.679,1,    0.129,1,     -999,9,     -999,9,20180327,1956, -66.9997,-178.0203,     -999,9,     -999,9,-999          ,9,     -999,9,     -999,9,     -999,     -999,9,     -999,     -999,9,     -999,9,     -999,9,     -999,9,     -999,9,     -999,9,     -999,9,     -999,9,     -999,9,     -999,9,     -999,9,     -999,9,     -999,9,     -999,9
320620180309  ,S04P       ,25      ,  1,16         ,16         ,2,20180327,1823, -67.0003,-178.0182,     3997,   1178.4,0.9551916666666667721,34.718202297649619,2,  34.7192,2,197.39846430084026,2, 196.8978,2,    197.8,2,    116.7,2,    32.24,2,     0.00,2,     2.24,2,    0.106,2,    0.053,2,   0.0000,2,   2264.2,2,  2361.46,2,   7.6004,6,    24.95,     -999,9,     -999,9,   0.9555,2,     -999,9,     -999,9,     -999,     -999,9,     -999,9,     -999,9,     -999,9,    0.061,1,    4.679,1,    0.127,1,  20.2500,2,     -999,9,20180327,1952, -66.9997,-178.0205,     -999,9,     -999,9,-999          ,9,     -999,9,     -999,9,     -999,     -999,9,     -999,     -999,9,     -999,9,     -999,9,     -999,9,     -999,9,     -999,9,     -999,9,     -999,9,     -999,9,     -999,9,     -999,9,     -999,9,     -999,9,     -999,9