BOTTLE,20240515CCHHYDRO
EXPOCODE,SECT_ID,STNNBR,CASTNO,SAMPNO,BTLNBR,BTLNBR_FLAG_W,DATE,TIME,LATITUDE,LONGITUDE,DEPTH,CTDPRS,CTDTMP,CTDSAL,CTDSAL_FLAG_W,SALNTY,SALNTY_FLAG_W,CTDOXY,CTDOXY_FLAG_W,CTDOPTOXY,CTDOPTOXY_FLAG_W,OXYGEN,OXYGEN_FLAG_W,SILCAT,SILCAT_FLAG_W,NITRAT,NITRAT_FLAG_W,NITRIT,NITRIT_FLAG_W,PHSPHT,PHSPHT_FLAG_W,CFC-11,CFC-11_FLAG_W,CFC-12,CFC-12_FLAG_W,SF6,SF6_FLAG_W,TCARBN,TCARBN_FLAG_W,ALKALI,ALKALI_FLAG_W,PH_TOT,PH_TOT_FLAG_W,PH_TMP,DOC,DOC_FLAG_W,HELIUM,HELIUM_FLAG_W,REFTMP,REFTMP_FLAG_W,DELC13,DELC13_FLAG_W,DELC14,DELC14_FLAG_W,C14ERR,POC,POC_FLAG_W,TDN,TDN_FLAG_W,TON,TON_FLAG_W,NEON,NEON_FLAG_W,CTDFLUOR,CTDFLUOR_FLAG_W,CTDXMISS,CTDXMISS_FLAG_W,CTDBETA700,CTDBETA700_FLAG_W,N2O,N2O_FLAG_W,ARGON,ARGON_FLAG_W,BTL_DATE,BTL_TIME,BTL_LAT,BTL_LON,KRYPTON,KRYPTON_FLAG_W,XENON,XENON_FLAG_W,HPLC,HPLC_FLAG_W,HE3_HE4_RATIO,HE3_HE4_RATIO_FLAG_W,Nd_143_144_D_EPSILON_BOTTLE,Nd_143_144_D_EPSILON_BOTTLE_FLAG_W,Nd_143_144_D_EPSILON_BOTTLE_ERROR,Nd_143_144_D_RATIO_BOTTLE,Nd_143_144_D_RATIO_BOTTLE_FLAG_W,Nd_143_144_D_RATIO_BOTTLE_ERROR,Nd_D_CONC,Nd_D_CONC_FLAG_W,La_D_CONC_BOTTLE,La_D_CONC_BOTTLE_FLAG_W,Ce_D_CONC_BOTTLE,Ce_D_CONC_BOTTLE_FLAG_W,Pr_D_CONC_BOTTLE,Pr_D_CONC_BOTTLE_FLAG_W,Sm_D_CONC_BOTTLE,Sm_D_CONC_BOTTLE_FLAG_W,Eu_D_CONC_BOTTLE,Eu_D_CONC_BOTTLE_FLAG_W,Gd_D_CONC_BOTTLE,Gd_D_CONC_BOTTLE_FLAG_W,Tb_D_CONC_BOTTLE,Tb_D_CONC_BOTTLE_FLAG_W,Dy_D_CONC_BOTTLE,Dy_D_CONC_BOTTLE_FLAG_W,Ho_D_CONC_BOTTLE,Ho_D_CONC_BOTTLE_FLAG_W,Er_D_CONC_BOTTLE,Er_D_CONC_BOTTLE_FLAG_W,Tm_D_CONC_BOTTLE,Tm_D_CONC_BOTTLE_FLAG_W,Yb_D_CONC_BOTTLE,Yb_D_CONC_BOTTLE_FLAG_W,Lu_D_CONC_BOTTLE,Lu_D_CONC_BOTTLE_FLAG_W
,,,,,,,,,,,METERS,DBAR,ITS-90,PSS-78,,PSS-78,,UMOL/KG,,UMOL/KG,,UMOL/KG,,UMOL/KG,,UMOL/KG,,UMOL/KG,,UMOL/KG,,PMOL/KG,,PMOL/KG,,FMOL/KG,,UMOL/KG,,UMOL/KG,,,,DEG C,UMOL/KG,,NMOL/L,,DEG C,,/MILLE,,/MILLE,,/MILLE,UG/KG,,UMOL/KG,,UMOL/KG,,NMOL/L,,VOLTS,,VOLTS,,VOLTS,,NMOL/KG,,UMOL/L,,,,,,NMOL/L,,NMOL/L,,,,,,10000,,10000,,,,PMOL/KG,,PMOL/L,,PMOL/L,,PMOL/L,,PMOL/L,,PMOL/L,,PMOL/L,,PMOL/L,,PMOL/L,,PMOL/L,,PMOL/L,,PMOL/L,,PMOL/L,,PMOL/L,
320620180309  ,P16        ,40      ,  1,36         ,36         ,2,20180404,0756, -74.0059,-150.0326,     4030,      5.8,-1.7962555555555554943,33.850682897752378,2,  33.8478,2,332.70892822818649,2, 331.6922,2,    332.4,2,     49.9,2,    26.20,2,     0.15,2,     1.87,2,    5.823,2,    3.026,2,   3.7100,2,   2181.6,6,  2291.63,2,   7.6421,2,    24.96,     43.8,2,     -999,9,  -1.7899,2,     -999,9,     -999,9,     -999,     -999,9,    30.40,2,     -999,1,     -999,9,    0.149,1,    4.621,1,    0.164,1,  19.2800,2,     -999,9,20180404,0956, -74.0165,-150.1085,     -999,9,     -999,9,-999          ,9,     -999,9,     -999,9,     -999,     -999,9,     -999,     -999,9,     -999,9,     -999,9,     -999,9,     -999,9,     -999,9,     -999,9,     -999,9,     -999,9,     -999,9,     -999,9,     -999,9,     -999,9,     -999,9
320620180309  ,P16        ,40      ,  1,35         ,35         ,2,20180404,0756, -74.0059,-150.0326,     4030,     34.5,-1.7764583333333332504,33.855862367277247,2,  33.8535,2,332.16818653928391,2, 331.7989,2,    331.2,2,     50.8,2,    26.26,2,     0.15,2,     1.88,2,    5.769,2,    2.962,2,   3.7400,2,   2182.2,2,  2292.03,2,   7.6416,2,    24.94,     42.1,2,     -999,9,  -1.7782,2,     -999,9,     -999,9,     -999,     -999,9,    30.20,2,     -999,1,     -999,9,    0.139,1,    4.621,1,    0.171,1,  19.2700,2,     -999,9,20180404,0954, -74.0164,-150.1075,     -999,9,     -999,9,-999          ,9,     -999,9,     -999,9,     -999,     -999,9,     -999,     -999,9,     -999,9,     -999,9,     -999,9,     -999,9,     -999,9,     -999,9,     -999,9,     -999,9,     -999,9,     -999,9,     -999,9,     -999,9,     -999,9
320620180309  ,P16        ,40      ,  1,34         ,34         ,2,20180404,0756, -74.0059,-150.0326,     4030,     59.8,-1.5754388888888890552,33.931331367496220,3,  33.9727,2,324.60292581786115,3, 303.1989,2,    303.2,2,     55.0,2,    27.76,2,     0.15,2,     1.95,2,     -999,9,     -999,9,     -999,9,   2198.2,2,  2299.39,2,   7.6175,6,    24.94,     43.7,2,     -999,9,  -1.5770,2,     -999,9,     -999,9,     -999,     -999,9,    30.50,2,     -999,1,     -999,9,    0.125,1,    4.629,1,    0.167,1,     -999,9,     -999,9,20180404,0952, -74.0162,-150.1065,     -999,9,     -999,9,-999          ,9,     -999,9,     -999,9,     -999,     -999,9,     -999,     -999,9,     -999,9,     -999,9,     -999,9,     -999,9,     -999,9,     -999,9,     -999,9,     -999,9,     -999,9,     -999,9,     -999,9,     -999,9,     -999,9
320620180309  ,P16        ,40      ,  1,33         ,33         ,2,20180404,0756, -74.0059,-150.0326,     4030,     85.4,-1.0890111111111111519,34.160644075442150,2,  34.1669,2,273.94434060176184,3, 268.6013,3,    271.1,2,     65.3,2,    30.10,2,     0.15,2,     2.09,2,    3.886,2,    2.050,2,   2.2500,2,   2218.2,2,  2313.79,2,   7.5894,2,    24.96,     43.7,2,     -999,9,  -1.0918,2,     -999,9,     -999,9,     -999,     -999,9,    32.50,2,     -999,1,     -999,9,    0.091,1,    4.648,1,    0.154,1,  22.0700,2,     -999,9,20180404,0950, -74.0161,-150.1054,     -999,9,     -999,9,-999          ,9,     -999,9,     -999,9,     -999,     -999,9,     -999,     -999,9,     -999,9,     -999,9,     -999,9,     -999,9,     -999,9,     -999,9,     -999,9,     -999,9,     -999,9,     -999,9,     -999,9,     -999,9,     -999,9
320620180309  ,P16        ,40      ,  1,32         ,32         ,2,20180404,0756, -74.0059,-150.0326,     4030,    110.0,-0.9839111111111110697,34.193266338221555,2,  34.1976,2,267.15433933207532,2, 262.4987,3,    264.6,2,     69.6,2,    30.62,2,     0.14,2,     2.10,2,     -999,9,     -999,9,     -999,9,   2222.9,2,  2313.08,2,   7.5822,2,    24.95,     -999,9,     -999,9,  -0.9753,2,     -999,9,     -999,9,     -999,     -999,9,     -999,9,     -999,9,     -999,9,    0.077,1,    4.659,1,    0.148,1,     -999,9,     -999,9,20180404,0949, -74.0160,-150.1045,     -999,9,     -999,9,-999          ,9,     -999,9,     -999,9,     -999,     -999,9,     -999,     -999,9,     -999,9,     -999,9,     -999,9,     -999,9,     -999,9,     -999,9,     -999,9,     -999,9,     -999,9,     -999,9,     -999,9,     -999,9,     -999,9
320620180309  ,P16        ,40      ,  1,31         ,31         ,2,20180404,0756, -74.0059,-150.0326,     4030,    136.0,-0.3224055555555555563,34.290184126696694,2,  34.2928,2,249.12178352685643,3, 243.6016,3,    245.4,2,     69.0,2,    31.34,2,     0.05,2,     2.15,2,    3.083,2,    1.656,2,   2.0600,2,   2228.9,2,  2320.17,2,   7.5752,2,    24.96,     41.1,2,     -999,9,  -0.3132,2,     -999,9,     -999,9,     -999,     -999,9,    34.10,2,     -999,1,     -999,9,    0.073,1,    4.661,1,    0.143,1,  23.0100,2,     -999,9,20180404,0947, -74.0159,-150.1035,     -999,9,     -999,9,-999          ,9,     -999,9,     -999,9,     -999,     -999,9,     -999,     -999,9,     -999,9,     -999,9,     -999,9,     -999,9,     -999,9,     -999,9,     -999,9,     -999,9,     -999,9,     -999,9,     -999,9,     -999,9,     -999,9
320620180309  ,P16        ,40      ,  1,30         ,30         ,2,20180404,0756, -74.0059,-150.0326,     4030,    165.8,0.3159194444444445304,34.394380935526534,2,  34.3972,2,227.27850835145358,3, 222.9017,3,    224.9,2,     73.5,2,    32.13,2,     0.02,2,     2.20,2,    2.367,2,    1.275,2,   1.3400,2,   2238.2,2,  2326.62,2,   7.5654,2,    24.94,     44.0,2,     -999,9,   0.3156,2,     -999,9,     -999,9,     -999,     -999,9,    34.20,2,     -999,1,     -999,9,    0.071,1,    4.663,1,    0.145,1,  23.7200,2,     -999,9,20180404,0945, -74.0157,-150.1024,     -999,9,     -999,9,-999          ,9,     -999,9,     -999,9,     -999,     -999,9,     -999,     -999,9,     -999,9,     -999,9,     -999,9,     -999,9,     -999,9,     -999,9,     -999,9,     -999,9,     -999,9,     -999,9,     -999,9,     -999,9,     -999,9
320620180309  ,P16        ,40      ,  1,29         ,29         ,2,20180404,0756, -74.0059,-150.0326,     4030,    216.8,1.4132861111111112429,34.592446275020045,2,  34.6023,2,192.12971710542234,3, 194.1000,3,    188.5,2,     83.3,2,    33.17,2,     0.00,2,     2.25,2,    0.987,2,    0.523,2,   0.5800,2,   2254.7,2,  2341.10,2,   7.5543,2,    24.94,     43.2,2,     -999,9,   1.4119,2,     -999,9,     -999,9,     -999,     -999,9,     -999,9,     -999,1,     -999,9,    0.070,1,    4.662,1,    0.147,1,  24.8600,2,     -999,9,20180404,0943, -74.0156,-150.1011,     -999,9,     -999,9,-999          ,9,     -999,9,     -999,9,     -999,     -999,9,     -999,     -999,9,     -999,9,     -999,9,     -999,9,     -999,9,     -999,9,     -999,9,     -999,9,     -999,9,     -999,9,     -999,9,     -999,9,     -999,9,     -999,9
320620180309  ,P16        ,40      ,  1,28         ,28         ,2,20180404,0756, -74.0059,-150.0326,     4030,    267.8,1.7862555555555554854,34.691326780946973,2,  34.6898,2,179.27139862961258,2, 182.5016,3,    179.0,2,     87.7,2,    32.79,2,     0.00,2,     2.24,2,    0.442,2,    0.238,2,   0.2500,2,   2258.6,2,  2347.65,2,   7.5707,2,    24.94,     41.7,2,     -999,9,   1.7852,2,     -999,9,     -999,9,     -999,     -999,9,    34.90,2,     -999,1,     -999,9,    0.065,1,    4.668,1,    0.143,1,  24.4400,2,     -999,9,20180404,0941, -74.0154,-150.0998,     -999,9,     -999,9,-999          ,9,     -999,9,     -999,9,     -999,     -999,9,     -999,     -999,9,     -999,9,     -999,9,     -999,9,     -999,9,     -999,9,     -999,9,     -999,9,     -999,9,     -999,9,     -999,9,     -999,9,     -999,9,     -999,9
320620180309  ,P16        ,40      ,  1,27         ,27         ,2,20180404,0756, -74.0059,-150.0326,     4030,    317.6,1.7775861111111113111,34.708693345591243,2,  34.7076,2,180.98411656678559,2, 182.5977,3,    181.2,2,     89.5,2,    32.42,2,     0.00,2,     2.21,2,    0.352,6,    0.185,6,   0.0600,6,   2257.7,6,  2348.96,2,   7.5715,2,    24.94,     38.3,2,     -999,9,   1.7759,2,     -999,9,     -999,9,     -999,     -999,9,     -999,9,     -999,1,     -999,9,    0.063,1,    4.670,1,    0.137,1,  23.1500,6,     -999,9,20180404,0939, -74.0152,-150.0985,     -999,9,     -999,9,-999          ,9,     -999,9,     -999,9,     -999,     -999,9,     -999,     -999,9,     -999,9,     -999,9,     -999,9,     -999,9,     -999,9,     -999,9,     -999,9,     -999,9,     -999,9,     -999,9,     -999,9,     -999,9,     -999,9
320620180309  ,P16        ,40      ,  1,26         ,26         ,2,20180404,0756, -74.0059,-150.0326,     4030,    368.9,1.7424444444444442404,34.718164826753132,2,  34.7164,2,182.77180531278663,2, 183.4990,2,    182.9,2,     91.0,2,    32.21,2,     0.00,2,     2.18,2,    0.305,2,    0.165,2,   0.1500,2,   2259.0,2,  2351.69,2,   7.5754,2,    24.95,     39.8,2,     -999,9,   1.7417,2,     -999,9,     -999,9,     -999,     -999,9,     -999,9,     -999,1,     -999,9,    0.062,1,    4.673,1,    0.134,1,  22.0900,2,     -999,9,20180404,0936, -74.0150,-150.0972,     -999,9,     -999,9,-999          ,9,     -999,9,     -999,9,     -999,     -999,9,     -999,     -999,9,     -999,9,     -999,9,     -999,9,     -999,9,     -999,9,     -999,9,     -999,9,     -999,9,     -999,9,     -999,9,     -999,9,     -999,9,     -999,9
320620180309  ,P16        ,40      ,  1,25         ,25         ,2,20180404,0756, -74.0059,-150.0326,     4030,    420.2,1.7004972222222221045,34.724031298626443,2,  34.7221,2,184.30839430455148,2, 184.4006,2,    183.7,2,     92.6,2,    32.04,2,     0.00,2,     2.16,2,    0.267,2,    0.131,2,   0.0900,2,   2259.3,2,  2351.97,2,   7.5794,2,    24.94,     41.5,2,     -999,9,   1.6993,2,     -999,9,     -999,9,     -999,     -999,9,     -999,9,     -999,1,     -999,9,    0.063,1,    4.673,1,    0.135,1,  22.2000,2,     -999,9,20180404,0934, -74.0149,-150.0959,     -999,9,     -999,9,-999          ,9,     -999,9,     -999,9,     -999,     -999,9,     -999,     -999,9,     -999,9,     -999,9,     -999,9,     -999,9,     -999,9,     -999,9,     -999,9,     -999,9,     -999,9,     -999,9,     -999,9,     -999,9,     -999,9
320620180309  ,P16        ,40      ,  1,24         ,24         ,2,20180404,0756, -74.0059,-150.0326,     4030,    471.1,1.6444916666666664629,34.728378302809034,2,  34.7261,2,185.84332887406046,2, 185.6068,2,    185.9,2,     94.4,2,    31.92,2,     0.00,2,     2.16,2,    0.243,2,    0.124,2,  -0.0200,2,   2259.1,2,  2353.66,2,   7.5882,2,    24.95,     -999,9,     -999,9,   1.6430,2,     -999,9,     -999,9,     -999,     -999,9,     -999,9,     -999,1,     -999,9,    0.062,1,    4.673,1,    0.132,1,  22.7800,2,     -999,9,20180404,0932, -74.0147,-150.0945,     -999,9,     -999,9,-999          ,9,     -999,9,     -999,9,     -999,     -999,9,     -999,     -999,9,     -999,9,     -999,9,     -999,9,     -999,9,     -999,9,     -999,9,     -999,9,     -999,9,     -999,9,     -999,9,     -999,9,     -999,9,     -999,9
320620180309  ,P16        ,40      ,  1,23         ,23         ,2,20180404,0756, -74.0059,-150.0326,     4030,    541.2,1.5851527777777778550,34.730473184125351,2,  34.7288,2,186.99158579326510,2, 186.6994,2,    187.5,2,     96.2,2,    31.88,2,     0.00,2,     2.16,2,    0.221,2,    0.112,2,   0.0600,2,   2260.6,2,  2352.72,2,   7.5864,2,    24.94,     40.6,2,     -999,9,   1.5841,2,     -999,9,     -999,9,     -999,     -999,9,     -999,9,     -999,1,     -999,9,    0.062,1,    4.672,1,    0.133,1,  21.9500,2,     -999,9,20180404,0929, -74.0144,-150.0928,     -999,9,     -999,9,-999          ,9,     -999,9,     -999,9,     -999,     -999,9,     -999,     -999,9,     -999,9,     -999,9,     -999,9,     -999,9,     -999,9,     -999,9,     -999,9,     -999,9,     -999,9,     -999,9,     -999,9,     -999,9,     -999,9
320620180309  ,P16        ,40      ,  1,22         ,37         ,2,20180404,0756, -74.0059,-150.0326,     4030,    642.9,1.4905638888888885774,34.731811380012580,2,  34.7298,2,188.91758041569904,2, 188.4984,2,    188.6,2,     99.3,2,    31.94,2,     0.00,2,     2.17,2,     -999,9,     -999,9,     -999,9,   2261.1,2,  2354.21,2,   7.5864,2,    24.95,     -999,5,     -999,9,   1.4893,2,     -999,9,     -999,9,     -999,     -999,9,     -999,9,     -999,1,     -999,9,    0.061,1,    4.672,1,    0.133,1,     -999,9,     -999,9,20180404,0926, -74.0142,-150.0910,     -999,9,     -999,9,-999          ,9,     -999,9,     -999,9,     -999,     -999,9,     -999,     -999,9,     -999,9,     -999,9,     -999,9,     -999,9,     -999,9,     -999,9,     -999,9,     -999,9,     -999,9,     -999,9,     -999,9,     -999,9,     -999,9
320620180309  ,P16        ,40      ,  1,21         ,21         ,2,20180404,0756, -74.0059,-150.0326,     4030,    744.9,1.4051805555555554328,34.731316289660235,2,  34.7292,2,190.21278175288901,2, 190.1995,2,    189.9,2,    102.2,2,    32.00,2,     0.00,2,     2.16,2,    0.172,2,    0.083,2,  -0.0100,2,   2261.0,2,  2358.69,2,   7.5875,2,    24.94,     40.7,2,     -999,9,   1.4043,2,     -999,9,     -999,9,     -999,     -999,9,     -999,9,     -999,1,     -999,9,    0.061,1,    4.672,1,    0.132,1,  21.5700,2,     -999,9,20180404,0923, -74.0139,-150.0891,     -999,9,     -999,9,-999          ,9,     -999,9,     -999,9,     -999,     -999,9,     -999,     -999,9,     -999,9,     -999,9,     -999,9,     -999,9,     -999,9,     -999,9,     -999,9,     -999,9,     -999,9,     -999,9,     -999,9,     -999,9,     -999,9
320620180309  ,P16        ,40      ,  1,20         ,20         ,2,20180404,0756, -74.0059,-150.0326,     4030,    846.2,1.3234583333333336252,34.729957642372874,2,  34.7292,2,190.98655810113493,2, 191.8013,2,    191.0,2,    105.5,2,    32.02,2,     0.00,2,     2.18,2,     -999,9,     -999,9,     -999,9,   2261.8,2,  2358.54,2,   7.5930,2,    24.94,     40.1,2,     -999,9,   1.3226,2,     -999,9,     -999,9,     -999,     -999,9,     -999,9,     -999,1,     -999,9,    0.062,1,    4.672,1,    0.131,1,     -999,9,     -999,9,20180404,0919, -74.0136,-150.0872,     -999,9,     -999,9,-999          ,9,     -999,9,     -999,9,     -999,     -999,9,     -999,     -999,9,     -999,9,     -999,9,     -999,9,     -999,9,     -999,9,     -999,9,     -999,9,     -999,9,     -999,9,     -999,9,     -999,9,     -999,9,     -999,9
320620180309  ,P16        ,40      ,  1,19         ,19         ,2,20180404,0756, -74.0059,-150.0326,     4030,    948.4,1.2574361111111109768,34.728213607875411,2,  34.7272,2,192.34670322643603,2, 193.0941,2,    192.3,2,    107.6,2,    32.03,2,     0.00,2,     2.19,2,    0.144,2,    0.081,2,   0.0000,2,   2261.3,2,  2361.34,2,   7.5886,2,    24.94,     39.5,2,     -999,9,   1.2561,2,     -999,9,     -999,9,     -999,     -999,9,     -999,9,     -999,1,     -999,9,    0.062,1,    4.672,1,    0.131,1,  22.1800,2,     -999,9,20180404,0916, -74.0134,-150.0853,     -999,9,     -999,9,-999          ,9,     -999,9,     -999,9,     -999,     -999,9,     -999,     -999,9,     -999,9,     -999,9,     -999,9,     -999,9,     -999,9,     -999,9,     -999,9,     -999,9,     -999,9,     -999,9,     -999,9,     -999,9,     -999,9
320620180309  ,P16        ,40      ,  1,18         ,18         ,2,20180404,0756, -74.0059,-150.0326,     4030,   1048.8,1.1820555555555554150,34.725841872024112,2,  34.7247,2,193.90447039071731,2, 194.6022,2,    194.4,2,    109.6,2,    32.04,2,     0.00,2,     2.18,2,     -999,9,     -999,9,     -999,9,   2264.1,2,  2362.42,2,   7.5906,2,    24.95,     40.0,2,     -999,9,   1.1815,2,     -999,9,     -999,9,     -999,     -999,9,     -999,9,     -999,1,     -999,9,    0.062,1,    4.672,1,    0.130,1,     -999,9,     -999,9,20180404,0913, -74.0131,-150.0833,     -999,9,     -999,9,-999          ,9,     -999,9,     -999,9,     -999,     -999,9,     -999,     -999,9,     -999,9,     -999,9,     -999,9,     -999,9,     -999,9,     -999,9,     -999,9,     -999,9,     -999,9,     -999,9,     -999,9,     -999,9,     -999,9
320620180309  ,P16        ,40      ,  1,17         ,17         ,2,20180404,0756, -74.0059,-150.0326,     4030,   1151.3,1.1200194444444442343,34.723648443430704,2,  34.7227,2,195.51401400624962,2, 195.9044,2,    196.1,2,    111.7,2,    32.03,2,     0.00,2,     2.17,2,    0.131,2,    0.063,2,   0.1300,2,   2263.1,2,  2361.27,2,   7.5914,2,    24.95,     41.2,2,     -999,9,   1.1192,2,     -999,9,     -999,9,     -999,     -999,9,     -999,9,     -999,1,     -999,9,    0.061,1,    4.673,1,    0.128,1,  21.1500,2,     -999,9,20180404,0910, -74.0128,-150.0813,     -999,9,     -999,9,-999          ,9,     -999,9,     -999,9,     -999,     -999,9,     -999,     -999,9,     -999,9,     -999,9,     -999,9,     -999,9,     -999,9,     -999,9,     -999,9,     -999,9,     -999,9,     -999,9,     -999,9,     -999,9,     -999,9
320620180309  ,P16        ,40      ,  1,16         ,16         ,2,20180404,0756, -74.0059,-150.0326,     4030,   1253.4,1.0608388888888888868,34.721331967535683,2,  34.7204,2,197.28720548218163,2, 197.1991,2,    197.1,2,    113.5,2,    32.05,2,     0.00,2,     2.18,2,     -999,9,     -999,9,     -999,9,   2262.4,2,  2361.24,2,   7.5932,2,    24.95,     41.0,2,     -999,9,   1.0597,2,     -999,9,     -999,9,     -999,     -999,9,     -999,9,     -999,1,     -999,9,    0.061,1,    4.673,1,    0.128,1,     -999,9,     -999,9,20180404,0907, -74.0126,-150.0794,     -999,9,     -999,9,-999          ,9,     -999,9,     -999,9,     -999,     -999,9,     -999,     -999,9,     -999,9,     -999,9,     -999,9,     -999,9,     -999,9,     -999,9,     -999,9,     -999,9,     -999,9,     -999,9,     -999,9,     -999,9,     -999,9