BOTTLE,20240515CCHHYDRO
EXPOCODE,SECT_ID,STNNBR,CASTNO,SAMPNO,BTLNBR,BTLNBR_FLAG_W,DATE,TIME,LATITUDE,LONGITUDE,DEPTH,CTDPRS,CTDTMP,CTDSAL,CTDSAL_FLAG_W,SALNTY,SALNTY_FLAG_W,CTDOXY,CTDOXY_FLAG_W,CTDOPTOXY,CTDOPTOXY_FLAG_W,OXYGEN,OXYGEN_FLAG_W,SILCAT,SILCAT_FLAG_W,NITRAT,NITRAT_FLAG_W,NITRIT,NITRIT_FLAG_W,PHSPHT,PHSPHT_FLAG_W,CFC-11,CFC-11_FLAG_W,CFC-12,CFC-12_FLAG_W,SF6,SF6_FLAG_W,TCARBN,TCARBN_FLAG_W,ALKALI,ALKALI_FLAG_W,PH_TOT,PH_TOT_FLAG_W,PH_TMP,DOC,DOC_FLAG_W,HELIUM,HELIUM_FLAG_W,REFTMP,REFTMP_FLAG_W,DELC13,DELC13_FLAG_W,DELC14,DELC14_FLAG_W,C14ERR,POC,POC_FLAG_W,TDN,TDN_FLAG_W,TON,TON_FLAG_W,NEON,NEON_FLAG_W,CTDFLUOR,CTDFLUOR_FLAG_W,CTDXMISS,CTDXMISS_FLAG_W,CTDBETA700,CTDBETA700_FLAG_W,N2O,N2O_FLAG_W,ARGON,ARGON_FLAG_W,BTL_DATE,BTL_TIME,BTL_LAT,BTL_LON,KRYPTON,KRYPTON_FLAG_W,XENON,XENON_FLAG_W,HPLC,HPLC_FLAG_W,HE3_HE4_RATIO,HE3_HE4_RATIO_FLAG_W,Nd_143_144_D_EPSILON_BOTTLE,Nd_143_144_D_EPSILON_BOTTLE_FLAG_W,Nd_143_144_D_EPSILON_BOTTLE_ERROR,Nd_143_144_D_RATIO_BOTTLE,Nd_143_144_D_RATIO_BOTTLE_FLAG_W,Nd_143_144_D_RATIO_BOTTLE_ERROR,Nd_D_CONC,Nd_D_CONC_FLAG_W,La_D_CONC_BOTTLE,La_D_CONC_BOTTLE_FLAG_W,Ce_D_CONC_BOTTLE,Ce_D_CONC_BOTTLE_FLAG_W,Pr_D_CONC_BOTTLE,Pr_D_CONC_BOTTLE_FLAG_W,Sm_D_CONC_BOTTLE,Sm_D_CONC_BOTTLE_FLAG_W,Eu_D_CONC_BOTTLE,Eu_D_CONC_BOTTLE_FLAG_W,Gd_D_CONC_BOTTLE,Gd_D_CONC_BOTTLE_FLAG_W,Tb_D_CONC_BOTTLE,Tb_D_CONC_BOTTLE_FLAG_W,Dy_D_CONC_BOTTLE,Dy_D_CONC_BOTTLE_FLAG_W,Ho_D_CONC_BOTTLE,Ho_D_CONC_BOTTLE_FLAG_W,Er_D_CONC_BOTTLE,Er_D_CONC_BOTTLE_FLAG_W,Tm_D_CONC_BOTTLE,Tm_D_CONC_BOTTLE_FLAG_W,Yb_D_CONC_BOTTLE,Yb_D_CONC_BOTTLE_FLAG_W,Lu_D_CONC_BOTTLE,Lu_D_CONC_BOTTLE_FLAG_W
,,,,,,,,,,,METERS,DBAR,ITS-90,PSS-78,,PSS-78,,UMOL/KG,,UMOL/KG,,UMOL/KG,,UMOL/KG,,UMOL/KG,,UMOL/KG,,UMOL/KG,,PMOL/KG,,PMOL/KG,,FMOL/KG,,UMOL/KG,,UMOL/KG,,,,DEG C,UMOL/KG,,NMOL/L,,DEG C,,/MILLE,,/MILLE,,/MILLE,UG/KG,,UMOL/KG,,UMOL/KG,,NMOL/L,,VOLTS,,VOLTS,,VOLTS,,NMOL/KG,,UMOL/L,,,,,,NMOL/L,,NMOL/L,,,,,,10000,,10000,,,,PMOL/KG,,PMOL/L,,PMOL/L,,PMOL/L,,PMOL/L,,PMOL/L,,PMOL/L,,PMOL/L,,PMOL/L,,PMOL/L,,PMOL/L,,PMOL/L,,PMOL/L,,PMOL/L,
320620180309  ,P15        ,10      ,  1,15         ,15         ,2,20180321,1725, -71.0117,-170.0034,     3995,   1318.5,0.8847694444444444972,34.713423686682425,2,  34.7153,2,198.96808647174601,2, 198.8984,2,    199.9,2,    119.7,2,    32.33,2,     0.00,2,     2.24,2,     -999,9,     -999,9,     -999,9,   2266.9,2,  2361.93,2,   7.5925,2,    24.94,     40.4,2,     -999,1,   0.8852,2,0.27000000,4, -164.600,4,    0.002,     -999,9,     -999,9,     -999,1,     -999,1,    0.060,1,    4.685,1,    0.128,1,     -999,9,     -999,1,20180321,1837, -71.0079,-170.0003,     -999,1,     -999,1,-999          ,9,     -999,1,     -999,9,     -999,     -999,9,     -999,     -999,9,     -999,9,     -999,9,     -999,9,     -999,9,     -999,9,     -999,9,     -999,9,     -999,9,     -999,9,     -999,9,     -999,9,     -999,9,     -999,9
320620180309  ,P15        ,10      ,  1,14         ,14         ,2,20180321,1725, -71.0117,-170.0034,     3995,   1422.2,0.8300583333333333425,34.711093049196116,2,  34.7135,2,200.23842256603365,2, 200.1041,2,    201.8,2,    122.4,2,    32.32,2,     0.00,2,     2.25,2,    0.114,2,    0.080,2,   0.0000,2,   2280.2,4,  2363.29,2,   7.5926,2,    24.94,     39.0,2,     -999,9,   0.8320,2,0.73000000,2, -160.750,2,    0.002,     -999,9,     -999,9,     -999,1,     -999,9,    0.061,1,    4.685,1,    0.128,1,  19.6100,2,     -999,9,20180321,1834, -71.0080,-170.0004,     -999,9,     -999,9,-999          ,9,     -999,9,     -999,9,     -999,     -999,9,     -999,     -999,9,     -999,1,     -999,1,     -999,1,     -999,1,     -999,1,     -999,1,     -999,1,     -999,1,     -999,1,     -999,1,     -999,1,     -999,1,     -999,1
320620180309  ,P15        ,10      ,  1,13         ,13         ,2,20180321,1725, -71.0117,-170.0034,     3995,   1519.8,0.7985833333333334227,34.709416758664062,2,  34.7113,2,201.16916380778758,2, 200.8954,2,    202.2,2,    123.1,2,    32.35,2,     0.00,2,     2.25,2,     -999,9,     -999,9,     -999,9,   2264.9,2,  2362.91,2,   7.5939,2,    24.94,     -999,9,     -999,9,   0.7980,2,0.74000000,2, -159.300,2,    0.002,     -999,9,     -999,9,     -999,9,     -999,9,    0.060,1,    4.686,1,    0.129,1,     -999,9,     -999,9,20180321,1830, -71.0079,-170.0003,     -999,9,     -999,9,-999          ,9,     -999,9,     -999,9,     -999,     -999,9,     -999,     -999,9,     -999,9,     -999,9,     -999,9,     -999,9,     -999,9,     -999,9,     -999,9,     -999,9,     -999,9,     -999,9,     -999,9,     -999,9,     -999,9
320620180309  ,P15        ,10      ,  1,12         ,12         ,2,20180321,1725, -71.0117,-170.0034,     3995,   1622.7,0.7607222222222221886,34.707677819431964,2,  34.7104,2,202.19954377828097,2, 201.8931,2,    204.0,2,    124.7,2,    32.37,2,     0.00,2,     2.27,2,    0.117,2,    0.073,2,   0.1300,2,   2265.2,2,  2362.60,2,   7.5925,2,    24.93,     38.9,2,     -999,1,   0.7600,2,0.65000000,2, -160.370,2,    0.002,     -999,9,     -999,9,     -999,1,     -999,1,    0.060,1,    4.686,1,    0.127,1,  20.5000,2,     -999,1,20180321,1827, -71.0080,-170.0003,     -999,1,     -999,1,-999          ,9,     -999,1,     -999,9,     -999,     -999,9,     -999,     -999,9,     -999,1,     -999,1,     -999,1,     -999,1,     -999,1,     -999,1,     -999,1,     -999,1,     -999,1,     -999,1,     -999,1,     -999,1,     -999,1
320620180309  ,P15        ,10      ,  1,11         ,11         ,2,20180321,1725, -71.0117,-170.0034,     3995,   1828.4,0.6857944444444444843,34.704596073830217,2,  34.7076,2,204.25127918512072,2, 203.8008,2,    205.1,2,    126.7,2,    32.42,2,     0.00,2,     2.28,2,    0.000,4,    0.000,4,   0.0000,4,   2265.4,2,  2364.11,2,   7.5939,2,    24.94,     40.6,2,     -999,9,   0.6859,2,0.65000000,2, -161.350,2,    0.002,     -999,9,     -999,9,     -999,1,     -999,9,    0.061,1,    4.686,1,    0.128,1,  19.3500,4,     -999,9,20180321,1822, -71.0081,-170.0001,     -999,9,     -999,9,-999          ,9,     -999,9,     -999,9,     -999,     -999,9,     -999,     -999,9,     -999,9,     -999,9,     -999,9,     -999,9,     -999,9,     -999,9,     -999,9,     -999,9,     -999,9,     -999,9,     -999,9,     -999,9,     -999,9
320620180309  ,P15        ,10      ,  1,10         ,10         ,2,20180321,1725, -71.0117,-170.0034,     3995,   2030.0,0.6221999999999999753,34.702659168056620,2,  34.7045,2,206.15592150549637,2, 205.6034,2,    206.5,2,    128.3,2,    32.57,2,     0.00,2,     2.28,2,     -999,9,     -999,9,     -999,9,   2266.1,6,  2362.64,2,   7.5935,2,    24.93,     38.8,2,     -999,9,   0.6216,2,0.63000000,2, -161.790,2,    0.002,     -999,9,     -999,9,     -999,1,     -999,9,    0.061,1,    4.686,1,    0.127,1,     -999,9,     -999,9,20180321,1816, -71.0083,-169.9998,     -999,9,     -999,9,-999          ,9,     -999,9,     -999,9,     -999,     -999,9,     -999,     -999,9,     -999,1,     -999,1,     -999,1,     -999,1,     -999,1,     -999,1,     -999,1,     -999,1,     -999,1,     -999,1,     -999,1,     -999,1,     -999,1
320620180309  ,P15        ,10      ,  1,9          ,9          ,2,20180321,1725, -71.0117,-170.0034,     3995,   2283.9,0.5233027777777776723,34.700526044878167,2,  34.7021,2,208.80793407815514,2, 208.1021,2,    208.8,2,    129.8,2,    32.65,2,     0.00,2,     2.27,2,    0.154,2,    0.084,2,   0.0600,2,   2265.9,2,  2362.95,2,   7.5929,2,    24.93,     39.3,2,     -999,1,   0.5226,2,0.69000000,2, -167.110,2,    0.002,     -999,9,     -999,9,     -999,1,     -999,1,    0.061,1,    4.686,1,    0.127,1,  19.6400,2,     -999,1,20180321,1810, -71.0084,-169.9997,     -999,1,     -999,1,-999          ,9,     -999,1,     -999,9,     -999,     -999,9,     -999,     -999,9,     -999,9,     -999,9,     -999,9,     -999,9,     -999,9,     -999,9,     -999,9,     -999,9,     -999,9,     -999,9,     -999,9,     -999,9,     -999,9
320620180309  ,P15        ,10      ,  1,8          ,8          ,2,20180321,1725, -71.0117,-170.0034,     3995,   2539.4,0.4439027777777777573,34.699565037948922,3,  34.7019,2,211.24521156235028,2, 210.7986,2,    210.3,2,    132.1,2,    32.72,2,     0.00,2,     2.27,2,    0.157,2,    0.097,2,   0.0900,2,   2265.8,2,  2362.62,2,   7.5947,2,    24.93,     40.5,2,     -999,9,   0.4432,2,0.76000000,2, -162.130,2,    0.002,     -999,9,     -999,9,     -999,9,     -999,9,    0.061,1,    4.686,1,    0.126,1,  19.7600,2,     -999,9,20180321,1803, -71.0090,-170.0000,     -999,9,     -999,9,-999          ,9,     -999,9,     -999,9,     -999,     -999,9,     -999,     -999,9,     -999,1,     -999,1,     -999,1,     -999,1,     -999,1,     -999,1,     -999,1,     -999,1,     -999,1,     -999,1,     -999,1,     -999,1,     -999,1
320620180309  ,P15        ,10      ,  1,7          ,7          ,2,20180321,1725, -71.0117,-170.0034,     3995,   2796.4,0.3954472222222222277,34.699226109332258,3,  34.7013,2,213.29087886791771,2, 213.7010,2,    212.5,2,    134.2,2,    32.80,2,     0.00,2,     2.28,2,    0.161,2,    0.091,2,   0.0000,2,   2266.0,2,  2364.10,2,   7.5945,2,    24.93,     40.4,2,     -999,9,   0.3949,2,0.48000000,4, -163.690,4,    0.002,     -999,9,     -999,9,     -999,1,     -999,9,    0.061,1,    4.685,1,    0.125,1,  19.5100,2,     -999,9,20180321,1757, -71.0094,-170.0006,     -999,9,     -999,9,-999          ,9,     -999,9,     -999,9,     -999,     -999,9,     -999,     -999,9,     -999,9,     -999,9,     -999,9,     -999,9,     -999,9,     -999,9,     -999,9,     -999,9,     -999,9,     -999,9,     -999,9,     -999,9,     -999,9
320620180309  ,P15        ,10      ,  1,6          ,6          ,2,20180321,1725, -71.0117,-170.0034,     3995,   3051.2,0.3470694444444443749,34.697383699868318,3,  34.7013,3,215.29686231149233,2, 213.1997,2,    213.2,2,    136.7,2,    32.90,2,     0.00,2,     2.27,2,    0.200,2,    0.134,2,   0.7500,2,   2266.7,2,  2363.12,2,   7.5948,2,    24.93,     41.8,2,     -999,1,   0.3494,2,0.78000000,2, -163.930,2,    0.002,     -999,9,     -999,9,     -999,1,     -999,1,    0.061,1,    4.685,1,    0.126,1,  19.1500,2,     -999,1,20180321,1750, -71.0099,-170.0013,     -999,1,     -999,1,-999          ,9,     -999,1,     -999,9,     -999,     -999,9,     -999,     -999,9,     -999,1,     -999,1,     -999,1,     -999,1,     -999,1,     -999,1,     -999,1,     -999,1,     -999,1,     -999,1,     -999,1,     -999,1,     -999,1
320620180309  ,P15        ,10      ,  1,5          ,5          ,2,20180321,1725, -71.0117,-170.0034,     3995,   3358.7,0.2776166666666666227,34.693854960215553,3,  34.6980,4,218.05988622063020,2, 219.2023,2,    218.0,2,    135.5,2,    32.76,2,     0.00,2,     2.27,2,    0.381,2,    0.205,2,   0.4000,2,   2265.1,2,  2363.41,2,   7.5936,2,    24.93,     39.4,2,     -999,1,   0.2857,2,0.78000000,2, -158.570,2,    0.002,     -999,9,     -999,9,     -999,1,     -999,1,    0.061,1,    4.684,1,    0.124,1,  19.7700,2,     -999,1,20180321,1743, -71.0104,-170.0021,     -999,1,     -999,1,-999          ,9,     -999,1,     -999,9,     -999,     -999,9,     -999,     -999,9,     -999,1,     -999,1,     -999,1,     -999,1,     -999,1,     -999,1,     -999,1,     -999,1,     -999,1,     -999,1,     -999,1,     -999,1,     -999,1
320620180309  ,P15        ,10      ,  1,4          ,4          ,2,20180321,1725, -71.0117,-170.0034,     3995,   3667.6,0.2251694444444444221,34.685361072956418,3,  34.6909,3,220.64039282364573,2, 218.6023,2,    219.7,2,    128.7,2,    32.65,2,     0.00,2,     2.27,2,    0.734,2,    0.384,2,   0.2400,2,   2264.0,2,  2361.75,2,   7.5934,6,    24.93,     -999,9,     -999,1,   0.2255,2,0.77000000,2, -156.090,2,    0.002,     -999,9,     -999,9,     -999,1,     -999,1,    0.060,1,    4.684,1,    0.127,1,  19.4600,2,     -999,1,20180321,1736, -71.0112,-170.0029,     -999,1,     -999,1,-999          ,9,     -999,1,     -999,9,     -999,     -999,9,     -999,     -999,9,     -999,1,     -999,1,     -999,1,     -999,1,     -999,1,     -999,1,     -999,1,     -999,1,     -999,1,     -999,1,     -999,1,     -999,1,     -999,1
320620180309  ,P15        ,10      ,  1,3          ,3          ,2,20180321,1725, -71.0117,-170.0034,     3995,   3859.8,0.2299861111111111134,34.687544751475151,3,  34.6907,3,219.90869788771599,2, 219.1964,2,    220.5,2,    128.7,2,    32.62,2,     0.00,2,     2.27,2,    0.760,2,    0.402,2,   0.1300,2,   2264.1,2,  2361.64,2,   7.5917,2,    24.93,     -999,9,     -999,1,   0.2312,2,0.80000000,2, -155.920,2,    0.002,     -999,9,     -999,9,     -999,9,     -999,1,    0.061,1,    4.683,1,    0.129,1,  19.5500,2,     -999,1,20180321,1730, -71.0115,-170.0031,     -999,1,     -999,1,-999          ,9,     -999,1,     -999,9,     -999,     -999,9,     -999,     -999,9,     -999,1,     -999,1,     -999,1,     -999,1,     -999,1,     -999,1,     -999,1,     -999,1,     -999,1,     -999,1,     -999,1,     -999,1,     -999,1
320620180309  ,P15        ,10      ,  1,1          ,1          ,2,20180321,1725, -71.0117,-170.0034,     3995,   4057.4,0.2469777777777777128,34.693093041747595,3,     -999,9,220.25405274642480,2, 186.6904,2,     -999,9,    130.4,2,    32.58,2,     0.00,2,     2.25,2,     -999,9,     -999,9,     -999,9,     -999,9,     -999,9,     -999,9,     -999,     -999,9,     -999,9,   0.2450,2,     -999,9,     -999,9,     -999,     -999,9,     -999,9,     -999,9,     -999,9,    0.061,1,    4.681,1,    0.127,1,     -999,9,     -999,9,20180321,1725, -71.0117,-170.0034,     -999,9,     -999,9,-999          ,9,     -999,9,    -6.90,2,     0.23, 0.512284,2, 0.000012,    28.03,2,     -999,1,     -999,1,     -999,1,     -999,1,     -999,1,     -999,1,     -999,1,     -999,1,     -999,1,     -999,1,     -999,1,     -999,1,     -999,1
320620180309  ,P15        ,10      ,  1,2          ,2          ,2,20180321,1725, -71.0117,-170.0034,     3995,   4058.8,0.2471722222222222376,34.692221474390173,2,  34.6939,3,220.43777515995413,2, 219.1969,2,    220.6,2,    128.8,2,    32.58,2,     0.00,2,     2.25,2,    0.753,2,    0.394,2,   0.2900,2,   2265.2,6,  2361.28,2,   7.5914,2,    24.93,     40.0,2,     -999,1,   0.2453,2,0.75000000,2, -156.200,2,    0.002,     -999,9,     -999,9,     -999,1,     -999,1,    0.061,1,    4.682,1,    0.127,1,  19.8600,2,     -999,1,20180321,1725, -71.0117,-170.0033,     -999,1,     -999,1,-999          ,9,     -999,1,     -999,9,     -999,     -999,9,     -999,     -999,9,     -999,9,     -999,9,     -999,9,     -999,9,     -999,9,     -999,9,     -999,9,     -999,9,     -999,9,     -999,9,     -999,9,     -999,9,     -999,9