BOTTLE,20240515CCHHYDRO
EXPOCODE,SECT_ID,STNNBR,CASTNO,SAMPNO,BTLNBR,BTLNBR_FLAG_W,DATE,TIME,LATITUDE,LONGITUDE,DEPTH,CTDPRS,CTDTMP,CTDSAL,CTDSAL_FLAG_W,SALNTY,SALNTY_FLAG_W,CTDOXY,CTDOXY_FLAG_W,CTDOPTOXY,CTDOPTOXY_FLAG_W,OXYGEN,OXYGEN_FLAG_W,SILCAT,SILCAT_FLAG_W,NITRAT,NITRAT_FLAG_W,NITRIT,NITRIT_FLAG_W,PHSPHT,PHSPHT_FLAG_W,CFC-11,CFC-11_FLAG_W,CFC-12,CFC-12_FLAG_W,SF6,SF6_FLAG_W,TCARBN,TCARBN_FLAG_W,ALKALI,ALKALI_FLAG_W,PH_TOT,PH_TOT_FLAG_W,PH_TMP,DOC,DOC_FLAG_W,HELIUM,HELIUM_FLAG_W,REFTMP,REFTMP_FLAG_W,DELC13,DELC13_FLAG_W,DELC14,DELC14_FLAG_W,C14ERR,POC,POC_FLAG_W,TDN,TDN_FLAG_W,TON,TON_FLAG_W,NEON,NEON_FLAG_W,CTDFLUOR,CTDFLUOR_FLAG_W,CTDXMISS,CTDXMISS_FLAG_W,CTDBETA700,CTDBETA700_FLAG_W,N2O,N2O_FLAG_W,ARGON,ARGON_FLAG_W,BTL_DATE,BTL_TIME,BTL_LAT,BTL_LON,KRYPTON,KRYPTON_FLAG_W,XENON,XENON_FLAG_W,HPLC,HPLC_FLAG_W,HE3_HE4_RATIO,HE3_HE4_RATIO_FLAG_W,Nd_143_144_D_EPSILON_BOTTLE,Nd_143_144_D_EPSILON_BOTTLE_FLAG_W,Nd_143_144_D_EPSILON_BOTTLE_ERROR,Nd_143_144_D_RATIO_BOTTLE,Nd_143_144_D_RATIO_BOTTLE_FLAG_W,Nd_143_144_D_RATIO_BOTTLE_ERROR,Nd_D_CONC,Nd_D_CONC_FLAG_W,La_D_CONC_BOTTLE,La_D_CONC_BOTTLE_FLAG_W,Ce_D_CONC_BOTTLE,Ce_D_CONC_BOTTLE_FLAG_W,Pr_D_CONC_BOTTLE,Pr_D_CONC_BOTTLE_FLAG_W,Sm_D_CONC_BOTTLE,Sm_D_CONC_BOTTLE_FLAG_W,Eu_D_CONC_BOTTLE,Eu_D_CONC_BOTTLE_FLAG_W,Gd_D_CONC_BOTTLE,Gd_D_CONC_BOTTLE_FLAG_W,Tb_D_CONC_BOTTLE,Tb_D_CONC_BOTTLE_FLAG_W,Dy_D_CONC_BOTTLE,Dy_D_CONC_BOTTLE_FLAG_W,Ho_D_CONC_BOTTLE,Ho_D_CONC_BOTTLE_FLAG_W,Er_D_CONC_BOTTLE,Er_D_CONC_BOTTLE_FLAG_W,Tm_D_CONC_BOTTLE,Tm_D_CONC_BOTTLE_FLAG_W,Yb_D_CONC_BOTTLE,Yb_D_CONC_BOTTLE_FLAG_W,Lu_D_CONC_BOTTLE,Lu_D_CONC_BOTTLE_FLAG_W
,,,,,,,,,,,METERS,DBAR,ITS-90,PSS-78,,PSS-78,,UMOL/KG,,UMOL/KG,,UMOL/KG,,UMOL/KG,,UMOL/KG,,UMOL/KG,,UMOL/KG,,PMOL/KG,,PMOL/KG,,FMOL/KG,,UMOL/KG,,UMOL/KG,,,,DEG C,UMOL/KG,,NMOL/L,,DEG C,,/MILLE,,/MILLE,,/MILLE,UG/KG,,UMOL/KG,,UMOL/KG,,NMOL/L,,VOLTS,,VOLTS,,VOLTS,,NMOL/KG,,UMOL/L,,,,,,NMOL/L,,NMOL/L,,,,,,10000,,10000,,,,PMOL/KG,,PMOL/L,,PMOL/L,,PMOL/L,,PMOL/L,,PMOL/L,,PMOL/L,,PMOL/L,,PMOL/L,,PMOL/L,,PMOL/L,,PMOL/L,,PMOL/L,,PMOL/L,
320620180309  ,S04P       ,58      ,  2,15         ,15         ,2,20180411,2132, -67.0013,-163.3845,     3984,   1318.4,0.8176944444444446125,34.713637014161876,2,  34.7119,2,202.28037566842613,2, 201.6986,2,    201.6,2,    120.7,2,    32.63,2,     0.00,2,     2.21,2,    0.136,2,    0.070,2,   0.1600,2,   2263.2,2,  2363.07,2,   7.5956,2,    24.93,     43.6,2,     -999,9,   0.8176,2,     -999,9,     -999,9,     -999,     -999,9,     -999,9,     -999,1,     -999,9,    0.060,1,    4.668,1,    0.128,1,  19.6400,2,     -999,9,20180411,2302, -67.0036,-163.3826,     -999,9,     -999,9,-999          ,9,     -999,9,     -999,9,     -999,     -999,9,     -999,     -999,9,     -999,9,     -999,9,     -999,9,     -999,9,     -999,9,     -999,9,     -999,9,     -999,9,     -999,9,     -999,9,     -999,9,     -999,9,     -999,9
320620180309  ,S04P       ,58      ,  2,14         ,14         ,2,20180411,2132, -67.0013,-163.3845,     3984,   1419.3,0.7714777777777777068,34.711722889549570,2,  34.7111,2,203.68978783293463,2, 202.9016,2,    203.0,2,    122.3,2,    32.67,2,     0.00,2,     2.22,2,     -999,9,     -999,9,     -999,9,   2264.5,2,  2361.97,2,   7.5948,2,    24.96,     40.1,2,     -999,9,   0.7709,2,     -999,9,     -999,9,     -999,     -999,9,     -999,9,     -999,1,     -999,9,    0.061,1,    4.668,1,    0.127,1,     -999,9,     -999,9,20180411,2258, -67.0036,-163.3826,     -999,9,     -999,9,-999          ,9,     -999,9,     -999,9,     -999,     -999,9,     -999,     -999,9,     -999,9,     -999,9,     -999,9,     -999,9,     -999,9,     -999,9,     -999,9,     -999,9,     -999,9,     -999,9,     -999,9,     -999,9,     -999,9
320620180309  ,S04P       ,58      ,  2,13         ,13         ,2,20180411,2132, -67.0013,-163.3845,     3984,   1521.3,0.7295805555555557875,34.709816312450698,2,  34.7102,2,204.76261481904990,2, 203.6004,2,    203.6,2,    123.4,2,    32.67,2,     0.00,2,     2.22,2,    0.152,2,    0.074,2,   0.1200,2,   2262.9,2,  2362.43,2,   7.5944,2,    24.94,     -999,9,     -999,9,   0.7286,2,     -999,9,     -999,9,     -999,     -999,9,     -999,9,     -999,9,     -999,9,    0.061,1,    4.669,1,    0.128,1,  19.2600,2,     -999,9,20180411,2254, -67.0039,-163.3820,     -999,9,     -999,9,-999          ,9,     -999,9,     -999,9,     -999,     -999,9,     -999,     -999,9,     -999,9,     -999,9,     -999,9,     -999,9,     -999,9,     -999,9,     -999,9,     -999,9,     -999,9,     -999,9,     -999,9,     -999,9,     -999,9
320620180309  ,S04P       ,58      ,  2,12         ,12         ,2,20180411,2132, -67.0013,-163.3845,     3984,   1621.6,0.6844027777777778043,34.708298506813740,2,  34.7076,2,204.92920628454516,2, 204.6957,2,    204.7,2,    124.9,2,    32.64,2,     0.00,2,     2.21,2,     -999,9,     -999,9,     -999,9,   2261.7,2,  2363.40,2,   7.5951,2,    24.94,     42.9,2,     -999,9,   0.6837,2,     -999,9,     -999,9,     -999,     -999,9,     -999,9,     -999,1,     -999,9,    0.061,1,    4.669,1,    0.127,1,     -999,9,     -999,9,20180411,2251, -67.0040,-163.3819,     -999,9,     -999,9,-999          ,9,     -999,9,     -999,9,     -999,     -999,9,     -999,     -999,9,     -999,9,     -999,9,     -999,9,     -999,9,     -999,9,     -999,9,     -999,9,     -999,9,     -999,9,     -999,9,     -999,9,     -999,9,     -999,9
320620180309  ,S04P       ,58      ,  2,11         ,11         ,2,20180411,2132, -67.0013,-163.3845,     3984,   1722.5,0.6450277777777778665,34.706834520642467,2,  34.7060,2,205.67496502975780,2, 205.4951,2,    205.8,2,    125.5,2,    32.69,2,     0.00,2,     2.22,2,    0.175,2,    0.100,2,   0.0500,2,   2264.0,6,  2363.63,2,   7.5932,2,    24.93,     -999,9,     -999,9,   0.6439,2,     -999,9,     -999,9,     -999,     -999,9,     -999,9,     -999,9,     -999,9,    0.061,1,    4.669,1,    0.126,1,  18.9700,2,     -999,9,20180411,2247, -67.0039,-163.3821,     -999,9,     -999,9,-999          ,9,     -999,9,     -999,9,     -999,     -999,9,     -999,     -999,9,     -999,9,     -999,9,     -999,9,     -999,9,     -999,9,     -999,9,     -999,9,     -999,9,     -999,9,     -999,9,     -999,9,     -999,9,     -999,9
320620180309  ,S04P       ,58      ,  2,10         ,10         ,2,20180411,2132, -67.0013,-163.3845,     3984,   1825.8,0.6133055555555556593,34.705958973566005,2,  34.7051,2,206.65467788019669,2, 206.4982,2,    206.4,2,    127.2,2,    32.73,2,     0.00,2,     2.21,2,     -999,9,     -999,9,     -999,9,   2263.0,2,  2362.76,2,   7.5936,2,    24.94,     39.7,2,     -999,9,   0.6119,2,     -999,9,     -999,9,     -999,     -999,9,     -999,9,     -999,1,     -999,9,    0.061,1,    4.668,1,    0.127,1,     -999,9,     -999,9,20180411,2243, -67.0041,-163.3818,     -999,9,     -999,9,-999          ,9,     -999,9,     -999,9,     -999,     -999,9,     -999,     -999,9,     -999,9,     -999,9,     -999,9,     -999,9,     -999,9,     -999,9,     -999,9,     -999,9,     -999,9,     -999,9,     -999,9,     -999,9,     -999,9
320620180309  ,S04P       ,58      ,  2,9          ,9          ,2,20180411,2132, -67.0013,-163.3845,     3984,   2031.2,0.5317305555555555951,34.703900571133950,2,  34.7031,2,208.14048406790914,2, 207.9990,2,    207.9,2,    128.2,2,    32.83,2,     0.00,2,     2.24,2,    0.199,2,    0.108,2,   0.0300,2,   2263.7,2,  2362.66,2,   7.5922,6,    24.94,     39.1,2,     -999,9,   0.5313,2,     -999,9,     -999,9,     -999,     -999,9,     -999,9,     -999,1,     -999,9,    0.061,1,    4.669,1,    0.125,1,  19.0100,2,     -999,9,20180411,2237, -67.0039,-163.3819,     -999,9,     -999,9,-999          ,9,     -999,9,     -999,9,     -999,     -999,9,     -999,     -999,9,     -999,9,     -999,9,     -999,9,     -999,9,     -999,9,     -999,9,     -999,9,     -999,9,     -999,9,     -999,9,     -999,9,     -999,9,     -999,9
320620180309  ,S04P       ,58      ,  2,8          ,8          ,2,20180411,2132, -67.0013,-163.3845,     3984,   2282.9,0.4463027777777777705,34.701701339179252,2,  34.7002,2,209.80789825094971,2, 210.0980,2,    210.4,2,    129.5,2,    32.90,2,     0.00,2,     2.23,2,     -999,9,     -999,9,     -999,9,   2264.1,2,  2363.97,2,   7.5948,2,    24.93,     42.0,2,     -999,9,   0.4457,2,     -999,9,     -999,9,     -999,     -999,9,     -999,9,     -999,1,     -999,9,    0.061,1,    4.669,1,    0.125,1,     -999,9,     -999,9,20180411,2230, -67.0032,-163.3822,     -999,9,     -999,9,-999          ,9,     -999,9,     -999,9,     -999,     -999,9,     -999,     -999,9,     -999,9,     -999,9,     -999,9,     -999,9,     -999,9,     -999,9,     -999,9,     -999,9,     -999,9,     -999,9,     -999,9,     -999,9,     -999,9
320620180309  ,S04P       ,58      ,  2,7          ,7          ,2,20180411,2132, -67.0013,-163.3845,     3984,   2539.4,0.3773999999999999022,34.699703071558375,2,  34.7002,2,211.47773448692701,2, 211.5989,2,    212.5,2,    129.9,2,    32.88,2,     0.00,2,     2.24,2,    0.315,2,    0.180,2,   0.2700,2,   2263.2,2,  2363.81,2,   7.5942,2,    24.95,     41.0,2,     -999,9,   0.3766,2,     -999,9,     -999,9,     -999,     -999,9,     -999,9,     -999,1,     -999,9,    0.060,1,    4.669,1,    0.123,1,  19.2700,2,     -999,9,20180411,2221, -67.0019,-163.3840,     -999,9,     -999,9,-999          ,9,     -999,9,     -999,9,     -999,     -999,9,     -999,     -999,9,     -999,9,     -999,9,     -999,9,     -999,9,     -999,9,     -999,9,     -999,9,     -999,9,     -999,9,     -999,9,     -999,9,     -999,9,     -999,9
320620180309  ,S04P       ,58      ,  2,6          ,6          ,2,20180411,2132, -67.0013,-163.3845,     3984,   2794.6,0.3051111111111111107,34.696388127120656,2,  34.6962,2,214.58223041522916,2, 214.2034,2,    215.0,2,    129.9,2,    32.89,2,     0.00,2,     2.24,2,    0.457,2,    0.256,2,   0.1500,2,   2262.8,2,  2362.40,2,   7.5927,2,    24.94,     41.2,2,     -999,9,   0.3044,2,     -999,9,     -999,9,     -999,     -999,9,     -999,9,     -999,1,     -999,9,    0.061,1,    4.668,1,    0.126,1,  19.3300,2,     -999,9,20180411,2213, -67.0009,-163.3858,     -999,9,     -999,9,-999          ,9,     -999,9,     -999,9,     -999,     -999,9,     -999,     -999,9,     -999,9,     -999,9,     -999,9,     -999,9,     -999,9,     -999,9,     -999,9,     -999,9,     -999,9,     -999,9,     -999,9,     -999,9,     -999,9
320620180309  ,S04P       ,58      ,  2,5          ,5          ,2,20180411,2132, -67.0013,-163.3845,     3984,   3052.0,0.2505694444444445113,34.692863841534411,2,  34.6913,2,217.32701918586653,2, 219.6019,3,    217.7,2,    128.4,2,    32.87,2,     0.00,2,     2.24,2,    0.649,2,    0.356,2,   0.2100,2,   2262.0,2,  2360.95,2,   7.5930,2,    24.94,     -999,9,     -999,9,   0.2494,2,     -999,9,     -999,9,     -999,     -999,9,     -999,9,     -999,9,     -999,9,    0.061,1,    4.668,1,    0.124,1,  19.7700,2,     -999,9,20180411,2205, -67.0010,-163.3857,     -999,9,     -999,9,-999          ,9,     -999,9,     -999,9,     -999,     -999,9,     -999,     -999,9,     -999,9,     -999,9,     -999,9,     -999,9,     -999,9,     -999,9,     -999,9,     -999,9,     -999,9,     -999,9,     -999,9,     -999,9,     -999,9
320620180309  ,S04P       ,58      ,  2,4          ,4          ,2,20180411,2132, -67.0013,-163.3845,     3984,   3306.9,0.2140194444444444843,34.688940001320880,2,  34.6880,2,219.94384459424890,2, 216.1054,3,    220.2,2,    125.6,2,    32.83,2,     0.00,2,     2.24,2,    0.868,2,    0.468,2,   0.3800,2,   2262.0,2,  2360.72,2,   7.5898,2,    24.93,     40.7,2,     -999,9,   0.2133,2,     -999,9,     -999,9,     -999,     -999,9,     -999,9,     -999,1,     -999,9,    0.060,1,    4.667,1,    0.126,1,  19.5300,2,     -999,9,20180411,2156, -67.0010,-163.3857,     -999,9,     -999,9,-999          ,9,     -999,9,     -999,9,     -999,     -999,9,     -999,     -999,9,     -999,9,     -999,9,     -999,9,     -999,9,     -999,9,     -999,9,     -999,9,     -999,9,     -999,9,     -999,9,     -999,9,     -999,9,     -999,9
320620180309  ,S04P       ,58      ,  2,3          ,3          ,2,20180411,2132, -67.0013,-163.3845,     3984,   3565.3,0.2188611111111110619,34.688415594139414,2,  34.6866,2,220.30830431401435,2, 221.1002,2,    220.6,2,    125.0,2,    32.82,2,     0.00,2,     2.24,2,    0.918,2,    0.491,2,   0.4000,2,   2262.2,2,  2359.29,2,   7.5908,2,    24.94,     -999,9,     -999,9,   0.2181,2,     -999,9,     -999,9,     -999,     -999,9,     -999,9,     -999,9,     -999,9,    0.061,1,    4.666,1,    0.126,1,  19.7800,2,     -999,9,20180411,2148, -67.0010,-163.3856,     -999,9,     -999,9,-999          ,9,     -999,9,     -999,9,     -999,     -999,9,     -999,     -999,9,     -999,9,     -999,9,     -999,9,     -999,9,     -999,9,     -999,9,     -999,9,     -999,9,     -999,9,     -999,9,     -999,9,     -999,9,     -999,9
320620180309  ,S04P       ,58      ,  2,2          ,2          ,2,20180411,2132, -67.0013,-163.3845,     3984,   3805.2,0.2362583333333333480,34.688051496589004,2,  34.6866,2,220.80610997009811,2, 220.5981,2,    220.7,2,    125.0,2,    32.82,2,     0.00,2,     2.24,2,    0.945,2,    0.512,2,   0.3800,2,   2263.0,2,  2357.75,2,   7.5905,2,    24.94,     42.1,2,     -999,9,   0.2354,2,     -999,9,     -999,9,     -999,     -999,9,     -999,9,     -999,1,     -999,9,    0.061,1,    4.665,1,    0.127,1,  20.2800,2,     -999,9,20180411,2140, -67.0012,-163.3845,     -999,9,     -999,9,-999          ,9,     -999,9,     -999,9,     -999,     -999,9,     -999,     -999,9,     -999,9,     -999,9,     -999,9,     -999,9,     -999,9,     -999,9,     -999,9,     -999,9,     -999,9,     -999,9,     -999,9,     -999,9,     -999,9
320620180309  ,S04P       ,58      ,  2,1          ,1          ,2,20180411,2132, -67.0013,-163.3845,     3984,   4050.4,0.2618111111111109945,34.688033197541266,2,  34.6876,2,233.45602392522153,3, 220.7990,2,    220.6,2,    124.9,2,    32.80,2,     0.00,2,     2.24,2,    0.948,2,    0.508,2,   0.3700,2,   2262.0,6,  2360.20,2,   7.5911,2,    24.95,     41.5,2,     -999,9,   0.2610,2,     -999,9,     -999,9,     -999,     -999,9,     -999,9,     -999,1,     -999,9,    0.060,1,    4.665,1,    0.127,1,  21.1900,2,     -999,9,20180411,2132, -67.0013,-163.3845,     -999,9,     -999,9,-999          ,9,     -999,9,     -999,9,     -999,     -999,9,     -999,     -999,9,     -999,9,     -999,9,     -999,9,     -999,9,     -999,9,     -999,9,     -999,9,     -999,9,     -999,9,     -999,9,     -999,9,     -999,9,     -999,9