BOTTLE,20240515CCHHYDRO
EXPOCODE,SECT_ID,STNNBR,CASTNO,SAMPNO,BTLNBR,BTLNBR_FLAG_W,DATE,TIME,LATITUDE,LONGITUDE,DEPTH,CTDPRS,CTDTMP,CTDSAL,CTDSAL_FLAG_W,SALNTY,SALNTY_FLAG_W,CTDOXY,CTDOXY_FLAG_W,CTDOPTOXY,CTDOPTOXY_FLAG_W,OXYGEN,OXYGEN_FLAG_W,SILCAT,SILCAT_FLAG_W,NITRAT,NITRAT_FLAG_W,NITRIT,NITRIT_FLAG_W,PHSPHT,PHSPHT_FLAG_W,CFC-11,CFC-11_FLAG_W,CFC-12,CFC-12_FLAG_W,SF6,SF6_FLAG_W,TCARBN,TCARBN_FLAG_W,ALKALI,ALKALI_FLAG_W,PH_TOT,PH_TOT_FLAG_W,PH_TMP,DOC,DOC_FLAG_W,HELIUM,HELIUM_FLAG_W,REFTMP,REFTMP_FLAG_W,DELC13,DELC13_FLAG_W,DELC14,DELC14_FLAG_W,C14ERR,POC,POC_FLAG_W,TDN,TDN_FLAG_W,TON,TON_FLAG_W,NEON,NEON_FLAG_W,CTDFLUOR,CTDFLUOR_FLAG_W,CTDXMISS,CTDXMISS_FLAG_W,CTDBETA700,CTDBETA700_FLAG_W,N2O,N2O_FLAG_W,ARGON,ARGON_FLAG_W,BTL_DATE,BTL_TIME,BTL_LAT,BTL_LON,KRYPTON,KRYPTON_FLAG_W,XENON,XENON_FLAG_W,HPLC,HPLC_FLAG_W,HE3_HE4_RATIO,HE3_HE4_RATIO_FLAG_W,Nd_143_144_D_EPSILON_BOTTLE,Nd_143_144_D_EPSILON_BOTTLE_FLAG_W,Nd_143_144_D_EPSILON_BOTTLE_ERROR,Nd_143_144_D_RATIO_BOTTLE,Nd_143_144_D_RATIO_BOTTLE_FLAG_W,Nd_143_144_D_RATIO_BOTTLE_ERROR,Nd_D_CONC,Nd_D_CONC_FLAG_W,La_D_CONC_BOTTLE,La_D_CONC_BOTTLE_FLAG_W,Ce_D_CONC_BOTTLE,Ce_D_CONC_BOTTLE_FLAG_W,Pr_D_CONC_BOTTLE,Pr_D_CONC_BOTTLE_FLAG_W,Sm_D_CONC_BOTTLE,Sm_D_CONC_BOTTLE_FLAG_W,Eu_D_CONC_BOTTLE,Eu_D_CONC_BOTTLE_FLAG_W,Gd_D_CONC_BOTTLE,Gd_D_CONC_BOTTLE_FLAG_W,Tb_D_CONC_BOTTLE,Tb_D_CONC_BOTTLE_FLAG_W,Dy_D_CONC_BOTTLE,Dy_D_CONC_BOTTLE_FLAG_W,Ho_D_CONC_BOTTLE,Ho_D_CONC_BOTTLE_FLAG_W,Er_D_CONC_BOTTLE,Er_D_CONC_BOTTLE_FLAG_W,Tm_D_CONC_BOTTLE,Tm_D_CONC_BOTTLE_FLAG_W,Yb_D_CONC_BOTTLE,Yb_D_CONC_BOTTLE_FLAG_W,Lu_D_CONC_BOTTLE,Lu_D_CONC_BOTTLE_FLAG_W
,,,,,,,,,,,METERS,DBAR,ITS-90,PSS-78,,PSS-78,,UMOL/KG,,UMOL/KG,,UMOL/KG,,UMOL/KG,,UMOL/KG,,UMOL/KG,,UMOL/KG,,PMOL/KG,,PMOL/KG,,FMOL/KG,,UMOL/KG,,UMOL/KG,,,,DEG C,UMOL/KG,,NMOL/L,,DEG C,,/MILLE,,/MILLE,,/MILLE,UG/KG,,UMOL/KG,,UMOL/KG,,NMOL/L,,VOLTS,,VOLTS,,VOLTS,,NMOL/KG,,UMOL/L,,,,,,NMOL/L,,NMOL/L,,,,,,10000,,10000,,,,PMOL/KG,,PMOL/L,,PMOL/L,,PMOL/L,,PMOL/L,,PMOL/L,,PMOL/L,,PMOL/L,,PMOL/L,,PMOL/L,,PMOL/L,,PMOL/L,,PMOL/L,,PMOL/L,
320620180309  ,S04P       ,19      ,  1,15         ,15         ,2,20180326,0244, -67.2488, 174.4687,     3274,   1178.5,0.9047000000000000597,34.716185804074229,2,  34.7162,2,199.81658370066251,2, 198.9034,2,    199.6,2,    118.0,2,    32.53,2,     0.00,2,     2.23,2,     -999,9,     -999,9,     -999,9,   2266.3,2,  2361.76,2,   7.5900,2,    24.95,     -999,9,     -999,9,   0.9038,2,0.57000000,6, -165.285,6,    0.002,     -999,9,     -999,9,     -999,9,     -999,9,    0.061,1,    4.680,1,    0.130,1,     -999,9,     -999,9,20180326,0342, -67.2502, 174.4681,     -999,9,     -999,9,-999          ,9,     -999,9,     -999,9,     -999,     -999,9,     -999,     -999,9,     -999,9,     -999,9,     -999,9,     -999,9,     -999,9,     -999,9,     -999,9,     -999,9,     -999,9,     -999,9,     -999,9,     -999,9,     -999,9
320620180309  ,S04P       ,19      ,  1,14         ,14         ,2,20180326,0244, -67.2488, 174.4687,     3274,   1280.7,0.8544000000000001593,34.714351991342589,2,  34.7141,2,201.09895839604346,2, 200.1987,2,    200.0,2,    119.5,2,    32.55,2,     0.00,2,     2.22,2,     -999,9,     -999,9,     -999,9,     -999,9,     -999,9,     -999,9,     -999,     -999,9,     -999,9,   0.8539,2,     -999,9,     -999,9,     -999,     -999,9,     -999,9,     -999,9,     -999,9,    0.061,1,    4.680,1,    0.137,1,     -999,9,     -999,9,20180326,0339, -67.2502, 174.4680,     -999,9,     -999,9,-999          ,9,     -999,9,     -999,9,     -999,     -999,9,     -999,     -999,9,     -999,1,     -999,1,     -999,1,     -999,1,     -999,1,     -999,1,     -999,1,     -999,1,     -999,1,     -999,1,     -999,1,     -999,1,     -999,1
320620180309  ,S04P       ,19      ,  1,13         ,13         ,2,20180326,0244, -67.2488, 174.4687,     3274,   1381.7,0.8107138888888889561,34.712776996608603,2,  34.7127,2,202.42230028996676,2, 201.5938,2,    201.1,2,    121.0,2,    32.56,2,     0.00,2,     2.23,2,    0.115,2,    0.058,2,   0.1200,2,   2263.8,2,  2362.74,2,   7.5895,2,    24.95,     -999,9,     -999,9,   0.8100,2,0.58000000,2, -167.850,2,    0.002,     -999,9,     -999,9,     -999,9,     -999,9,    0.061,1,    4.680,1,    0.130,1,  19.1300,2,     -999,9,20180326,0336, -67.2501, 174.4681,     -999,9,     -999,9,-999          ,9,     -999,9,     -999,9,     -999,     -999,9,     -999,     -999,9,     -999,9,     -999,9,     -999,9,     -999,9,     -999,9,     -999,9,     -999,9,     -999,9,     -999,9,     -999,9,     -999,9,     -999,9,     -999,9
320620180309  ,S04P       ,19      ,  1,12         ,12         ,2,20180326,0244, -67.2488, 174.4687,     3274,   1482.8,0.7633416666666666961,34.710981545588247,2,  34.7111,2,203.66443668624606,2, 202.9025,2,    202.3,2,    122.4,2,    32.55,2,     0.00,2,     2.23,2,     -999,9,     -999,9,     -999,9,     -999,9,     -999,9,     -999,9,     -999,     -999,9,     -999,9,   0.7627,2,     -999,9,     -999,9,     -999,     -999,9,     -999,9,     -999,9,     -999,9,    0.061,1,    4.680,1,    0.131,1,     -999,9,     -999,9,20180326,0333, -67.2501, 174.4681,     -999,9,     -999,9,-999          ,9,     -999,9,     -999,9,     -999,     -999,9,     -999,     -999,9,     -999,1,     -999,1,     -999,1,     -999,1,     -999,1,     -999,1,     -999,1,     -999,1,     -999,1,     -999,1,     -999,1,     -999,1,     -999,1
320620180309  ,S04P       ,19      ,  1,11         ,11         ,2,20180326,0244, -67.2488, 174.4687,     3274,   1586.5,0.7142277777777779058,34.709260674738452,2,  34.7096,2,204.29336551511051,2, 203.6014,2,    203.8,2,    123.6,2,    32.53,2,     0.00,2,     2.23,2,     -999,9,     -999,9,     -999,9,   2265.5,2,  2363.33,2,   7.5940,6,    24.94,     -999,9,     -999,9,   0.7137,2,0.60000000,2, -165.520,2,    0.002,     -999,9,     -999,9,     -999,9,     -999,9,    0.061,1,    4.680,1,    0.129,1,     -999,9,     -999,9,20180326,0329, -67.2499, 174.4682,     -999,9,     -999,9,-999          ,9,     -999,9,     -999,9,     -999,     -999,9,     -999,     -999,9,     -999,9,     -999,9,     -999,9,     -999,9,     -999,9,     -999,9,     -999,9,     -999,9,     -999,9,     -999,9,     -999,9,     -999,9,     -999,9
320620180309  ,S04P       ,19      ,  1,10         ,10         ,2,20180326,0244, -67.2488, 174.4687,     3274,   1687.1,0.6731027777777779386,34.707936413287847,2,  34.7086,2,205.05179959009445,2, 204.3958,2,    204.7,2,    124.9,2,    32.65,2,     0.00,2,     2.23,2,    0.138,2,    0.079,2,   0.1200,2,     -999,9,     -999,9,     -999,9,     -999,     -999,9,     -999,9,   0.6726,2,     -999,9,     -999,9,     -999,     -999,9,     -999,9,     -999,9,     -999,9,    0.061,1,    4.679,1,    0.129,1,  19.0200,2,     -999,9,20180326,0326, -67.2497, 174.4683,     -999,9,     -999,9,-999          ,9,     -999,9,     -999,9,     -999,     -999,9,     -999,     -999,9,     -999,1,     -999,1,     -999,1,     -999,1,     -999,1,     -999,1,     -999,1,     -999,1,     -999,1,     -999,1,     -999,1,     -999,1,     -999,1
320620180309  ,S04P       ,19      ,  1,9          ,9          ,2,20180326,0244, -67.2488, 174.4687,     3274,   1759.3,0.6450749999999999540,34.707308961904523,2,  34.7072,2,205.47374108604012,2, 204.7948,2,    205.0,2,    126.0,2,    32.68,2,     0.00,2,     2.23,2,     -999,9,     -999,9,     -999,9,   2266.7,2,  2361.99,2,   7.5923,2,    24.94,     -999,9,     -999,9,   0.6445,2,0.61000000,2, -165.560,2,    0.002,     -999,9,     -999,9,     -999,9,     -999,9,    0.061,1,    4.680,1,    0.128,1,     -999,9,     -999,9,20180326,0324, -67.2495, 174.4684,     -999,9,     -999,9,-999          ,9,     -999,9,     -999,9,     -999,     -999,9,     -999,     -999,9,     -999,9,     -999,9,     -999,9,     -999,9,     -999,9,     -999,9,     -999,9,     -999,9,     -999,9,     -999,9,     -999,9,     -999,9,     -999,9
320620180309  ,S04P       ,19      ,  1,8          ,8          ,2,20180326,0244, -67.2488, 174.4687,     3274,   1962.5,0.5688222222222221180,34.705356908760187,2,  34.7053,2,207.33261771285564,2, 207.2999,2,    207.0,2,    127.6,2,    32.68,2,     0.00,2,     2.23,2,     -999,9,     -999,9,     -999,9,     -999,9,     -999,9,     -999,9,     -999,     -999,9,     -999,9,   0.5683,2,0.56000000,2, -160.840,2,    0.002,     -999,9,     -999,9,     -999,9,     -999,9,    0.061,1,    4.679,1,    0.129,1,     -999,9,     -999,9,20180326,0319, -67.2491, 174.4686,     -999,9,     -999,9,-999          ,9,     -999,9,     -999,9,     -999,     -999,9,     -999,     -999,9,     -999,1,     -999,1,     -999,1,     -999,1,     -999,1,     -999,1,     -999,1,     -999,1,     -999,1,     -999,1,     -999,1,     -999,1,     -999,1
320620180309  ,S04P       ,19      ,  1,7          ,7          ,2,20180326,0244, -67.2488, 174.4687,     3274,   2165.4,0.4902249999999999108,34.702723059438327,2,  34.7027,2,209.31227380649318,2, 209.2069,2,    209.5,2,    128.3,2,    32.60,2,     0.00,2,     2.23,2,    0.242,2,    0.131,2,   0.2400,3,   2263.6,2,  2364.89,2,   7.5932,2,    24.94,     -999,9,     -999,9,   0.4893,2,0.61000000,2, -161.360,2,    0.002,     -999,9,     -999,9,     -999,9,     -999,9,    0.060,1,    4.680,1,    0.129,1,  18.7500,2,     -999,9,20180326,0314, -67.2488, 174.4688,     -999,9,     -999,9,-999          ,9,     -999,9,     -999,9,     -999,     -999,9,     -999,     -999,9,     -999,9,     -999,9,     -999,9,     -999,9,     -999,9,     -999,9,     -999,9,     -999,9,     -999,9,     -999,9,     -999,9,     -999,9,     -999,9
320620180309  ,S04P       ,19      ,  1,6          ,6          ,2,20180326,0244, -67.2488, 174.4687,     3274,   2370.4,0.4269861111111111218,34.700784092856068,2,  34.7009,2,211.57133992341718,2, 210.9014,2,    211.1,2,    129.2,2,    32.66,2,     0.00,2,     2.23,2,     -999,9,     -999,9,     -999,9,     -999,9,     -999,9,     -999,9,     -999,     -999,9,     -999,9,   0.4262,2,0.61000000,2, -164.000,2,    0.002,     -999,9,     -999,9,     -999,9,     -999,9,    0.061,1,    4.679,1,    0.132,1,     -999,9,     -999,9,20180326,0309, -67.2487, 174.4688,     -999,9,     -999,9,-999          ,9,     -999,9,     -999,9,     -999,     -999,9,     -999,     -999,9,     -999,1,     -999,1,     -999,1,     -999,1,     -999,1,     -999,1,     -999,1,     -999,1,     -999,1,     -999,1,     -999,1,     -999,1,     -999,1
320620180309  ,S04P       ,19      ,  1,5          ,5          ,2,20180326,0244, -67.2488, 174.4687,     3274,   2575.0,0.3673249999999999571,34.698780382807996,2,  34.6996,2,213.22393537799215,2, 213.0026,2,    213.0,2,    129.5,2,    32.65,2,     0.00,2,     2.23,2,     -999,9,     -999,9,     -999,9,   2264.0,2,  2363.05,2,   7.5887,2,    24.94,     -999,9,     -999,9,   0.3667,2,0.52000000,2, -162.050,2,    0.002,     -999,9,     -999,9,     -999,9,     -999,9,    0.060,1,    4.679,1,    0.128,1,     -999,9,     -999,9,20180326,0304, -67.2490, 174.4686,     -999,9,     -999,9,-999          ,9,     -999,9,     -999,9,     -999,     -999,9,     -999,     -999,9,     -999,1,     -999,1,     -999,1,     -999,1,     -999,1,     -999,1,     -999,1,     -999,1,     -999,1,     -999,1,     -999,1,     -999,1,     -999,1
320620180309  ,S04P       ,19      ,  1,4          ,4          ,2,20180326,0244, -67.2488, 174.4687,     3274,   2780.5,0.2914444444444444504,34.694182497387018,2,  34.6943,2,216.27041987807596,2, 216.9022,2,    216.7,2,    126.4,2,    32.54,2,     0.00,2,     2.23,2,    0.620,2,    0.343,2,   0.1800,2,     -999,9,     -999,9,     -999,9,     -999,     -999,9,     -999,9,   0.2910,2,0.60000000,2, -159.800,2,    0.002,     -999,9,     -999,9,     -999,9,     -999,9,    0.060,1,    4.679,1,    0.128,1,  18.6900,2,     -999,9,20180326,0259, -67.2490, 174.4686,     -999,9,     -999,9,-999          ,9,     -999,9,     -999,9,     -999,     -999,9,     -999,     -999,9,     -999,1,     -999,1,     -999,1,     -999,1,     -999,1,     -999,1,     -999,1,     -999,1,     -999,1,     -999,1,     -999,1,     -999,1,     -999,1
320620180309  ,S04P       ,19      ,  1,3          ,3          ,2,20180326,0244, -67.2488, 174.4687,     3274,   2983.9,0.2158555555555555783,34.690053302868925,2,  34.6899,2,219.82716842521128,2, 220.1991,2,    219.9,2,    122.6,2,    32.45,2,     0.00,2,     2.23,2,    0.621,2,    0.343,2,   0.1500,2,   2264.4,2,  2361.25,2,   7.5875,6,    24.95,     -999,9,     -999,9,   0.2152,2,0.56000000,2, -155.260,2,    0.002,     -999,9,     -999,9,     -999,9,     -999,9,    0.061,1,    4.678,1,    0.127,1,  18.7200,2,     -999,9,20180326,0254, -67.2489, 174.4687,     -999,9,     -999,9,-999          ,9,     -999,9,     -999,9,     -999,     -999,9,     -999,     -999,9,     -999,1,     -999,1,     -999,1,     -999,1,     -999,1,     -999,1,     -999,1,     -999,1,     -999,1,     -999,1,     -999,1,     -999,1,     -999,1
320620180309  ,S04P       ,19      ,  1,2          ,2          ,2,20180326,0244, -67.2488, 174.4687,     3274,   3155.4,0.1449638888888888921,34.686799961280705,2,  34.6868,2,222.96762592451182,2, 223.3021,2,    223.4,2,    118.7,2,    32.31,2,     0.00,2,     2.23,2,    1.127,2,    0.608,2,   0.5200,2,   2266.8,3,  2358.49,2,   7.5882,2,    24.94,     -999,9,     -999,9,   0.1448,2,0.60000000,2, -164.480,2,    0.002,     -999,9,     -999,9,     -999,9,     -999,9,    0.061,1,    4.677,1,    0.129,1,  18.8300,2,     -999,9,20180326,0249, -67.2489, 174.4686,     -999,9,     -999,9,-999          ,9,     -999,9,     -999,9,     -999,     -999,9,     -999,     -999,9,     -999,1,     -999,1,     -999,1,     -999,1,     -999,1,     -999,1,     -999,1,     -999,1,     -999,1,     -999,1,     -999,1,     -999,1,     -999,1
320620180309  ,S04P       ,19      ,  1,1          ,1          ,2,20180326,0244, -67.2488, 174.4687,     3274,   3322.7,0.0317777777777777798,34.685593128559361,2,  34.6850,2,228.57961695381439,2, 227.5041,2,    227.7,2,    111.3,2,    32.14,2,     0.00,2,     2.23,2,    1.613,2,    0.878,2,   0.8800,2,   2262.4,6,  2356.54,2,   7.5874,2,    24.92,     -999,9,     -999,9,   0.0311,2,0.65000000,2, -151.690,2,    0.002,     -999,9,     -999,9,     -999,9,     -999,9,    0.061,1,    4.668,1,    0.144,1,  18.9400,2,     -999,9,20180326,0244, -67.2488, 174.4687,     -999,9,     -999,9,-999          ,9,     -999,9,     -999,9,     -999,     -999,9,     -999,     -999,9,     -999,1,     -999,1,     -999,1,     -999,1,     -999,1,     -999,1,     -999,1,     -999,1,     -999,1,     -999,1,     -999,1,     -999,1,     -999,1