BOTTLE,20240515CCHHYDRO
EXPOCODE,SECT_ID,STNNBR,CASTNO,SAMPNO,BTLNBR,BTLNBR_FLAG_W,DATE,TIME,LATITUDE,LONGITUDE,DEPTH,CTDPRS,CTDTMP,CTDSAL,CTDSAL_FLAG_W,SALNTY,SALNTY_FLAG_W,CTDOXY,CTDOXY_FLAG_W,CTDOPTOXY,CTDOPTOXY_FLAG_W,OXYGEN,OXYGEN_FLAG_W,SILCAT,SILCAT_FLAG_W,NITRAT,NITRAT_FLAG_W,NITRIT,NITRIT_FLAG_W,PHSPHT,PHSPHT_FLAG_W,CFC-11,CFC-11_FLAG_W,CFC-12,CFC-12_FLAG_W,SF6,SF6_FLAG_W,TCARBN,TCARBN_FLAG_W,ALKALI,ALKALI_FLAG_W,PH_TOT,PH_TOT_FLAG_W,PH_TMP,DOC,DOC_FLAG_W,HELIUM,HELIUM_FLAG_W,REFTMP,REFTMP_FLAG_W,DELC13,DELC13_FLAG_W,DELC14,DELC14_FLAG_W,C14ERR,POC,POC_FLAG_W,TDN,TDN_FLAG_W,TON,TON_FLAG_W,NEON,NEON_FLAG_W,CTDFLUOR,CTDFLUOR_FLAG_W,CTDXMISS,CTDXMISS_FLAG_W,CTDBETA700,CTDBETA700_FLAG_W,N2O,N2O_FLAG_W,ARGON,ARGON_FLAG_W,BTL_DATE,BTL_TIME,BTL_LAT,BTL_LON,KRYPTON,KRYPTON_FLAG_W,XENON,XENON_FLAG_W,HPLC,HPLC_FLAG_W,HE3_HE4_RATIO,HE3_HE4_RATIO_FLAG_W,Nd_143_144_D_EPSILON_BOTTLE,Nd_143_144_D_EPSILON_BOTTLE_FLAG_W,Nd_143_144_D_EPSILON_BOTTLE_ERROR,Nd_143_144_D_RATIO_BOTTLE,Nd_143_144_D_RATIO_BOTTLE_FLAG_W,Nd_143_144_D_RATIO_BOTTLE_ERROR,Nd_D_CONC,Nd_D_CONC_FLAG_W,La_D_CONC_BOTTLE,La_D_CONC_BOTTLE_FLAG_W,Ce_D_CONC_BOTTLE,Ce_D_CONC_BOTTLE_FLAG_W,Pr_D_CONC_BOTTLE,Pr_D_CONC_BOTTLE_FLAG_W,Sm_D_CONC_BOTTLE,Sm_D_CONC_BOTTLE_FLAG_W,Eu_D_CONC_BOTTLE,Eu_D_CONC_BOTTLE_FLAG_W,Gd_D_CONC_BOTTLE,Gd_D_CONC_BOTTLE_FLAG_W,Tb_D_CONC_BOTTLE,Tb_D_CONC_BOTTLE_FLAG_W,Dy_D_CONC_BOTTLE,Dy_D_CONC_BOTTLE_FLAG_W,Ho_D_CONC_BOTTLE,Ho_D_CONC_BOTTLE_FLAG_W,Er_D_CONC_BOTTLE,Er_D_CONC_BOTTLE_FLAG_W,Tm_D_CONC_BOTTLE,Tm_D_CONC_BOTTLE_FLAG_W,Yb_D_CONC_BOTTLE,Yb_D_CONC_BOTTLE_FLAG_W,Lu_D_CONC_BOTTLE,Lu_D_CONC_BOTTLE_FLAG_W
,,,,,,,,,,,METERS,DBAR,ITS-90,PSS-78,,PSS-78,,UMOL/KG,,UMOL/KG,,UMOL/KG,,UMOL/KG,,UMOL/KG,,UMOL/KG,,UMOL/KG,,PMOL/KG,,PMOL/KG,,FMOL/KG,,UMOL/KG,,UMOL/KG,,,,DEG C,UMOL/KG,,NMOL/L,,DEG C,,/MILLE,,/MILLE,,/MILLE,UG/KG,,UMOL/KG,,UMOL/KG,,NMOL/L,,VOLTS,,VOLTS,,VOLTS,,NMOL/KG,,UMOL/L,,,,,,NMOL/L,,NMOL/L,,,,,,10000,,10000,,,,PMOL/KG,,PMOL/L,,PMOL/L,,PMOL/L,,PMOL/L,,PMOL/L,,PMOL/L,,PMOL/L,,PMOL/L,,PMOL/L,,PMOL/L,,PMOL/L,,PMOL/L,,PMOL/L,
320620180309  ,S04P       ,80      ,  1,15         ,15         ,2,20180421,0912, -67.0004,-133.0010,     4582,   1453.6,1.2149444444444446045,34.725573410483399,2,  34.7259,2,197.66735158434520,2, 197.4013,2,    198.1,2,    108.7,2,    31.93,2,     0.00,2,     2.21,2,     -999,9,     -999,9,     -999,9,   2262.8,2,  2361.41,2,   7.5967,2,    24.88,     41.5,2,     -999,9,   1.2145,2,     -999,9,     -999,9,     -999,     -999,9,     -999,9,     -999,1,     -999,9,    0.061,1,    4.658,1,    0.131,1,     -999,9,     -999,9,20180421,1025, -67.0009,-133.0038,     -999,9,     -999,9,-999          ,9,     -999,9,     -999,9,     -999,     -999,9,     -999,     -999,9,     -999,9,     -999,9,     -999,9,     -999,9,     -999,9,     -999,9,     -999,9,     -999,9,     -999,9,     -999,9,     -999,9,     -999,9,     -999,9
320620180309  ,S04P       ,80      ,  1,14         ,14         ,2,20180421,0912, -67.0004,-133.0010,     4582,   1555.4,1.1525972222222222729,34.723251070572786,2,  34.7231,2,198.83948995078322,2, 198.4011,2,    198.8,2,    110.8,2,    31.99,2,     0.00,2,     2.22,2,    0.148,2,    0.082,2,   0.0600,2,   2262.8,2,  2361.93,2,   7.5964,2,    24.89,     -999,9,     -999,9,   1.1509,2,     -999,9,     -999,9,     -999,     -999,9,     -999,9,     -999,9,     -999,9,    0.061,1,    4.658,1,    0.128,1,  20.4200,2,     -999,9,20180421,1022, -67.0009,-133.0038,     -999,9,     -999,9,-999          ,9,     -999,9,     -999,9,     -999,     -999,9,     -999,     -999,9,     -999,9,     -999,9,     -999,9,     -999,9,     -999,9,     -999,9,     -999,9,     -999,9,     -999,9,     -999,9,     -999,9,     -999,9,     -999,9
320620180309  ,S04P       ,80      ,  1,13         ,13         ,2,20180421,0912, -67.0004,-133.0010,     4582,   1688.1,1.0738944444444444848,34.720152645362468,2,  34.7204,2,200.54930506456685,2, 199.9011,2,    199.9,2,    113.5,2,    32.04,2,     0.00,2,     2.23,2,    0.148,2,    0.074,2,   0.0200,2,   2262.4,2,  2362.95,2,   7.5986,2,    24.88,     38.3,2,     -999,9,   1.0730,2,     -999,9,     -999,9,     -999,     -999,9,     -999,9,     -999,1,     -999,9,    0.061,1,    4.660,1,    0.128,1,  20.1500,2,     -999,9,20180421,1018, -67.0009,-133.0039,     -999,9,     -999,9,-999          ,9,     -999,9,     -999,9,     -999,     -999,9,     -999,     -999,9,     -999,9,     -999,9,     -999,9,     -999,9,     -999,9,     -999,9,     -999,9,     -999,9,     -999,9,     -999,9,     -999,9,     -999,9,     -999,9
320620180309  ,S04P       ,80      ,  1,12         ,12         ,2,20180421,0912, -67.0004,-133.0010,     4582,   1891.9,0.9658972222222220738,34.715874159009346,2,  34.7162,2,202.57346762267244,2, 202.3045,2,    202.3,2,    117.3,2,    32.20,2,     0.00,2,     2.24,2,     -999,9,     -999,9,     -999,9,   2263.6,2,  2364.25,2,   7.5997,2,    24.89,     37.7,2,     -999,9,   0.9642,2,     -999,9,     -999,9,     -999,     -999,9,     -999,9,     -999,1,     -999,9,    0.089,1,    4.658,1,    0.166,1,     -999,9,     -999,9,20180421,1013, -67.0009,-133.0037,     -999,9,     -999,9,-999          ,9,     -999,9,     -999,9,     -999,     -999,9,     -999,     -999,9,     -999,9,     -999,9,     -999,9,     -999,9,     -999,9,     -999,9,     -999,9,     -999,9,     -999,9,     -999,9,     -999,9,     -999,9,     -999,9
320620180309  ,S04P       ,80      ,  1,11         ,11         ,2,20180421,0912, -67.0004,-133.0010,     4582,   2116.1,0.8700333333333332142,34.711787066176790,2,  34.7123,2,204.08235588237946,2, 204.4032,2,    204.6,2,    120.8,2,    32.29,2,     0.00,2,     2.24,2,    0.165,2,    0.094,2,   0.0000,2,   2262.9,6,  2365.27,2,   7.5986,6,    24.90,     41.4,2,     -999,9,   0.8698,2,     -999,9,     -999,9,     -999,     -999,9,     -999,9,     -999,1,     -999,9,    0.060,1,    4.655,1,    0.127,1,  20.3700,2,     -999,9,20180421,1008, -67.0009,-133.0036,     -999,9,     -999,9,-999          ,9,     -999,9,     -999,9,     -999,     -999,9,     -999,     -999,9,     -999,9,     -999,9,     -999,9,     -999,9,     -999,9,     -999,9,     -999,9,     -999,9,     -999,9,     -999,9,     -999,9,     -999,9,     -999,9
320620180309  ,S04P       ,80      ,  1,10         ,10         ,2,20180421,0912, -67.0004,-133.0010,     4582,   2371.5,0.7797694444444442929,34.708259331099548,2,  34.7088,2,205.42193804170995,2, 206.3024,2,    206.1,2,    124.8,2,    32.44,2,     0.00,2,     2.25,2,    0.184,2,    0.104,2,   0.0000,2,   2262.2,2,  2365.13,2,   7.5972,2,    24.89,     42.5,2,     -999,9,   0.7789,2,     -999,9,     -999,9,     -999,     -999,9,     -999,9,     -999,1,     -999,9,    0.061,1,    4.659,1,    0.127,1,  19.7000,2,     -999,9,20180421,1002, -67.0009,-133.0036,     -999,9,     -999,9,-999          ,9,     -999,9,     -999,9,     -999,     -999,9,     -999,     -999,9,     -999,9,     -999,9,     -999,9,     -999,9,     -999,9,     -999,9,     -999,9,     -999,9,     -999,9,     -999,9,     -999,9,     -999,9,     -999,9
320620180309  ,S04P       ,80      ,  1,9          ,9          ,2,20180421,0912, -67.0004,-133.0010,     4582,   2625.1,0.7049916666666665721,34.705770278732928,2,  34.7062,2,207.03772838125880,2, 207.6964,2,    207.4,2,    127.1,2,    32.52,2,     0.00,2,     2.25,2,     -999,9,     -999,9,     -999,9,   2264.1,2,  2365.18,2,   7.5970,2,    24.89,     40.5,2,     -999,9,   0.7055,2,     -999,9,     -999,9,     -999,     -999,9,     -999,9,     -999,1,     -999,9,    0.061,1,    4.657,1,    0.126,1,     -999,9,     -999,9,20180421,0957, -67.0009,-133.0035,     -999,9,     -999,9,-999          ,9,     -999,9,     -999,9,     -999,     -999,9,     -999,     -999,9,     -999,9,     -999,9,     -999,9,     -999,9,     -999,9,     -999,9,     -999,9,     -999,9,     -999,9,     -999,9,     -999,9,     -999,9,     -999,9
320620180309  ,S04P       ,80      ,  1,8          ,8          ,2,20180421,0912, -67.0004,-133.0010,     4582,   2881.8,0.6120833333333334236,34.703434682880825,2,  34.7031,2,209.22137022783775,2, 209.7003,2,    209.8,2,    129.1,2,    32.65,2,     0.00,2,     2.25,2,    0.229,2,    0.126,2,   0.0000,2,   2266.3,2,  2364.84,2,   7.5955,2,    24.90,     38.2,2,     -999,9,   0.6113,2,     -999,9,     -999,9,     -999,     -999,9,     -999,9,     -999,1,     -999,9,    0.061,1,    4.658,1,    0.127,1,  19.4500,2,     -999,9,20180421,0951, -67.0008,-133.0031,     -999,9,     -999,9,-999          ,9,     -999,9,     -999,9,     -999,     -999,9,     -999,     -999,9,     -999,9,     -999,9,     -999,9,     -999,9,     -999,9,     -999,9,     -999,9,     -999,9,     -999,9,     -999,9,     -999,9,     -999,9,     -999,9
320620180309  ,S04P       ,80      ,  1,7          ,7          ,2,20180421,0912, -67.0004,-133.0010,     4582,   3154.4,0.5199499999999999122,34.702147025049619,2,  34.7003,2,210.86748365823144,2, 211.5009,2,    211.0,2,    131.7,2,    32.76,2,     0.00,2,     2.25,2,    0.237,2,    0.125,2,   0.0600,2,   2264.1,2,  2365.33,2,   7.5964,2,    24.89,     37.7,2,     -999,9,   0.5195,2,     -999,9,     -999,9,     -999,     -999,9,     -999,9,     -999,1,     -999,9,    0.061,1,    4.660,1,    0.126,1,  19.5800,2,     -999,9,20180421,0945, -67.0009,-133.0026,     -999,9,     -999,9,-999          ,9,     -999,9,     -999,9,     -999,     -999,9,     -999,     -999,9,     -999,9,     -999,9,     -999,9,     -999,9,     -999,9,     -999,9,     -999,9,     -999,9,     -999,9,     -999,9,     -999,9,     -999,9,     -999,9
320620180309  ,S04P       ,80      ,  1,6          ,6          ,2,20180421,0912, -67.0004,-133.0010,     4582,   3461.8,0.4496861111111111198,34.700781201259410,2,  34.7005,2,212.59864640657108,2, 213.0013,2,    212.9,2,    134.1,2,    32.85,2,     0.00,2,     2.25,2,    0.286,2,    0.147,2,   0.0000,2,   2265.5,2,  2365.31,2,   7.5947,2,    24.89,     40.2,2,     -999,9,   0.4490,2,     -999,9,     -999,9,     -999,     -999,9,     -999,9,     -999,1,     -999,9,    0.061,1,    4.659,1,    0.126,1,  19.3900,2,     -999,9,20180421,0939, -67.0007,-133.0021,     -999,9,     -999,9,-999          ,9,     -999,9,     -999,9,     -999,     -999,9,     -999,     -999,9,     -999,9,     -999,9,     -999,9,     -999,9,     -999,9,     -999,9,     -999,9,     -999,9,     -999,9,     -999,9,     -999,9,     -999,9,     -999,9
320620180309  ,S04P       ,80      ,  1,5          ,5          ,2,20180421,0912, -67.0004,-133.0010,     4582,   3770.9,0.4018666666666666498,34.699956502580314,2,  34.6996,2,214.24458768809100,2, 214.2972,2,    215.0,2,    136.5,2,    32.90,2,     0.00,2,     2.25,2,    0.326,2,    0.174,2,   0.0300,2,   2265.0,2,  2364.97,2,   7.5945,2,    24.90,     38.7,2,     -999,9,   0.4013,2,     -999,9,     -999,9,     -999,     -999,9,     -999,9,     -999,1,     -999,9,    0.061,1,    4.659,1,    0.125,1,  19.7000,2,     -999,9,20180421,0933, -67.0007,-133.0018,     -999,9,     -999,9,-999          ,9,     -999,9,     -999,9,     -999,     -999,9,     -999,     -999,9,     -999,9,     -999,9,     -999,9,     -999,9,     -999,9,     -999,9,     -999,9,     -999,9,     -999,9,     -999,9,     -999,9,     -999,9,     -999,9
320620180309  ,S04P       ,80      ,  1,4          ,4          ,2,20180421,0912, -67.0004,-133.0010,     4582,   4078.7,0.3717277777777778236,34.699063489573128,2,  34.6976,2,215.54201849094980,2, 215.5001,2,    215.5,2,    138.9,2,    32.93,2,     0.00,2,     2.25,2,    0.393,2,    0.209,2,   0.0300,2,   2264.0,2,  2364.69,2,   7.5969,2,    24.88,     -999,9,     -999,9,   0.3714,2,     -999,9,     -999,9,     -999,     -999,9,     -999,9,     -999,9,     -999,9,    0.062,1,    4.658,1,    0.127,1,  19.5800,2,     -999,9,20180421,0926, -67.0006,-133.0016,     -999,9,     -999,9,-999          ,9,     -999,9,     -999,9,     -999,     -999,9,     -999,     -999,9,     -999,9,     -999,9,     -999,9,     -999,9,     -999,9,     -999,9,     -999,9,     -999,9,     -999,9,     -999,9,     -999,9,     -999,9,     -999,9
320620180309  ,S04P       ,80      ,  1,3          ,3          ,2,20180421,0912, -67.0004,-133.0010,     4582,   4335.3,0.3663305555555556037,34.698259439730485,2,  34.6972,2,216.87617330728318,2, 216.2980,2,    216.5,2,    140.3,2,    32.87,2,     0.00,2,     2.25,2,    0.455,2,    0.233,2,   0.0800,2,   2263.8,2,  2365.00,2,   7.5956,2,    24.89,     42.2,2,     -999,9,   0.3660,2,     -999,9,     -999,9,     -999,     -999,9,     -999,9,     -999,1,     -999,9,    0.061,1,    4.654,1,    0.129,1,  19.3400,2,     -999,9,20180421,0921, -67.0005,-133.0013,     -999,9,     -999,9,-999          ,9,     -999,9,     -999,9,     -999,     -999,9,     -999,     -999,9,     -999,9,     -999,9,     -999,9,     -999,9,     -999,9,     -999,9,     -999,9,     -999,9,     -999,9,     -999,9,     -999,9,     -999,9,     -999,9
320620180309  ,S04P       ,80      ,  1,2          ,2          ,2,20180421,0912, -67.0004,-133.0010,     4582,   4516.2,0.3698555555555554930,34.697728540020471,2,  34.6978,2,217.46736887991776,2, 216.4016,2,    216.5,2,    141.1,2,    32.86,2,     0.00,2,     2.25,2,    0.491,2,    0.251,2,   0.0900,2,   2265.2,2,  2364.89,2,   7.5948,2,    24.89,     -999,9,     -999,9,   0.3693,2,     -999,9,     -999,9,     -999,     -999,9,     -999,9,     -999,9,     -999,9,    0.061,1,    4.653,1,    0.133,1,  19.7000,2,     -999,9,20180421,0916, -67.0005,-133.0011,     -999,9,     -999,9,-999          ,9,     -999,9,     -999,9,     -999,     -999,9,     -999,     -999,9,     -999,9,     -999,9,     -999,9,     -999,9,     -999,9,     -999,9,     -999,9,     -999,9,     -999,9,     -999,9,     -999,9,     -999,9,     -999,9
320620180309  ,S04P       ,80      ,  1,1          ,1          ,2,20180421,0912, -67.0004,-133.0010,     4582,   4669.4,0.3673999999999999488,34.697018500730380,2,  34.6970,2,217.50695444331785,2, 216.5982,2,    216.1,2,    140.6,2,    32.92,2,     0.00,2,     2.25,2,    0.546,2,    0.279,2,   0.1000,2,   2264.0,6,  2364.53,2,   7.5921,2,    24.88,     41.1,2,     -999,9,   0.3666,2,     -999,9,     -999,9,     -999,     -999,9,     -999,9,     -999,1,     -999,9,    0.060,1,    4.646,1,    0.143,1,  19.6500,2,     -999,9,20180421,0912, -67.0004,-133.0010,     -999,9,     -999,9,-999          ,9,     -999,9,     -999,9,     -999,     -999,9,     -999,     -999,9,     -999,9,     -999,9,     -999,9,     -999,9,     -999,9,     -999,9,     -999,9,     -999,9,     -999,9,     -999,9,     -999,9,     -999,9,     -999,9