BOTTLE,20240515CCHHYDRO
EXPOCODE,SECT_ID,STNNBR,CASTNO,SAMPNO,BTLNBR,BTLNBR_FLAG_W,DATE,TIME,LATITUDE,LONGITUDE,DEPTH,CTDPRS,CTDTMP,CTDSAL,CTDSAL_FLAG_W,SALNTY,SALNTY_FLAG_W,CTDOXY,CTDOXY_FLAG_W,CTDOPTOXY,CTDOPTOXY_FLAG_W,OXYGEN,OXYGEN_FLAG_W,SILCAT,SILCAT_FLAG_W,NITRAT,NITRAT_FLAG_W,NITRIT,NITRIT_FLAG_W,PHSPHT,PHSPHT_FLAG_W,CFC-11,CFC-11_FLAG_W,CFC-12,CFC-12_FLAG_W,SF6,SF6_FLAG_W,TCARBN,TCARBN_FLAG_W,ALKALI,ALKALI_FLAG_W,PH_TOT,PH_TOT_FLAG_W,PH_TMP,DOC,DOC_FLAG_W,HELIUM,HELIUM_FLAG_W,REFTMP,REFTMP_FLAG_W,DELC13,DELC13_FLAG_W,DELC14,DELC14_FLAG_W,C14ERR,POC,POC_FLAG_W,TDN,TDN_FLAG_W,TON,TON_FLAG_W,NEON,NEON_FLAG_W,CTDFLUOR,CTDFLUOR_FLAG_W,CTDXMISS,CTDXMISS_FLAG_W,CTDBETA700,CTDBETA700_FLAG_W,N2O,N2O_FLAG_W,ARGON,ARGON_FLAG_W,BTL_DATE,BTL_TIME,BTL_LAT,BTL_LON,KRYPTON,KRYPTON_FLAG_W,XENON,XENON_FLAG_W,HPLC,HPLC_FLAG_W,HE3_HE4_RATIO,HE3_HE4_RATIO_FLAG_W,Nd_143_144_D_EPSILON_BOTTLE,Nd_143_144_D_EPSILON_BOTTLE_FLAG_W,Nd_143_144_D_EPSILON_BOTTLE_ERROR,Nd_143_144_D_RATIO_BOTTLE,Nd_143_144_D_RATIO_BOTTLE_FLAG_W,Nd_143_144_D_RATIO_BOTTLE_ERROR,Nd_D_CONC,Nd_D_CONC_FLAG_W,La_D_CONC_BOTTLE,La_D_CONC_BOTTLE_FLAG_W,Ce_D_CONC_BOTTLE,Ce_D_CONC_BOTTLE_FLAG_W,Pr_D_CONC_BOTTLE,Pr_D_CONC_BOTTLE_FLAG_W,Sm_D_CONC_BOTTLE,Sm_D_CONC_BOTTLE_FLAG_W,Eu_D_CONC_BOTTLE,Eu_D_CONC_BOTTLE_FLAG_W,Gd_D_CONC_BOTTLE,Gd_D_CONC_BOTTLE_FLAG_W,Tb_D_CONC_BOTTLE,Tb_D_CONC_BOTTLE_FLAG_W,Dy_D_CONC_BOTTLE,Dy_D_CONC_BOTTLE_FLAG_W,Ho_D_CONC_BOTTLE,Ho_D_CONC_BOTTLE_FLAG_W,Er_D_CONC_BOTTLE,Er_D_CONC_BOTTLE_FLAG_W,Tm_D_CONC_BOTTLE,Tm_D_CONC_BOTTLE_FLAG_W,Yb_D_CONC_BOTTLE,Yb_D_CONC_BOTTLE_FLAG_W,Lu_D_CONC_BOTTLE,Lu_D_CONC_BOTTLE_FLAG_W
,,,,,,,,,,,METERS,DBAR,ITS-90,PSS-78,,PSS-78,,UMOL/KG,,UMOL/KG,,UMOL/KG,,UMOL/KG,,UMOL/KG,,UMOL/KG,,UMOL/KG,,PMOL/KG,,PMOL/KG,,FMOL/KG,,UMOL/KG,,UMOL/KG,,,,DEG C,UMOL/KG,,NMOL/L,,DEG C,,/MILLE,,/MILLE,,/MILLE,UG/KG,,UMOL/KG,,UMOL/KG,,NMOL/L,,VOLTS,,VOLTS,,VOLTS,,NMOL/KG,,UMOL/L,,,,,,NMOL/L,,NMOL/L,,,,,,10000,,10000,,,,PMOL/KG,,PMOL/L,,PMOL/L,,PMOL/L,,PMOL/L,,PMOL/L,,PMOL/L,,PMOL/L,,PMOL/L,,PMOL/L,,PMOL/L,,PMOL/L,,PMOL/L,,PMOL/L,
320620180309  ,S04P       ,115     ,  1,15         ,15         ,2,20180506,0233, -67.0004, -85.7334,     4302,   1316.5,1.6834453305420871150,34.729849964498420,2,  34.7306,2,190.92991193401249,2, 190.2015,2,    191.4,2,     96.0,2,    31.81,2,     0.00,2,     2.19,2,    0.164,2,    0.085,2,   0.0200,2,   2256.4,2,  2357.52,2,   7.5968,2,    25.01,     40.9,2,     -999,9,   1.6840,2,     -999,9,     -999,9,     -999,     -999,9,     -999,9,     -999,1,     -999,9,    0.055,1,    4.644,1,    0.069,1,  19.2200,2,     -999,9,20180506,0345, -67.0005, -85.7341,     -999,9,     -999,9,-999          ,9,     -999,9,     -999,9,     -999,     -999,9,     -999,     -999,9,     -999,9,     -999,9,     -999,9,     -999,9,     -999,9,     -999,9,     -999,9,     -999,9,     -999,9,     -999,9,     -999,9,     -999,9,     -999,9
320620180309  ,S04P       ,115     ,  1,14         ,14         ,2,20180506,0233, -67.0004, -85.7334,     4302,   1417.1,1.6027500381545904951,34.730387239325111,2,  34.7308,2,192.33040677214979,2, 191.7986,2,    192.2,2,     98.7,2,    31.85,2,     0.00,2,     2.17,2,     -999,9,     -999,9,     -999,9,     -999,9,     -999,9,     -999,9,     -999,     43.1,2,     -999,9,   1.6037,2,     -999,9,     -999,9,     -999,     -999,9,     -999,9,     -999,1,     -999,9,    0.056,1,    4.644,1,    0.069,1,     -999,9,     -999,9,20180506,0341, -67.0005, -85.7339,     -999,9,     -999,9,-999          ,9,     -999,9,     -999,9,     -999,     -999,9,     -999,     -999,9,     -999,1,     -999,1,     -999,1,     -999,1,     -999,1,     -999,1,     -999,1,     -999,1,     -999,1,     -999,1,     -999,1,     -999,1,     -999,1
320620180309  ,S04P       ,115     ,  1,13         ,13         ,2,20180506,0233, -67.0004, -85.7334,     4302,   1519.1,1.5134015800099727134,34.729649473821766,2,  34.7304,2,193.33159393772323,2, 193.3019,2,    193.4,2,    101.4,2,    31.84,2,     0.00,2,     2.18,2,    0.143,2,    0.070,2,   0.0300,2,   2256.7,2,  2359.00,2,   7.5982,6,    24.99,     42.2,2,     -999,9,   1.5135,2,     -999,9,     -999,9,     -999,     -999,9,     -999,9,     -999,1,     -999,9,    0.056,1,    4.645,1,    0.069,1,  19.0400,2,     -999,9,20180506,0338, -67.0005, -85.7340,     -999,9,     -999,9,-999          ,9,     -999,9,     -999,9,     -999,     -999,9,     -999,     -999,9,     -999,9,     -999,9,     -999,9,     -999,9,     -999,9,     -999,9,     -999,9,     -999,9,     -999,9,     -999,9,     -999,9,     -999,9,     -999,9
320620180309  ,S04P       ,115     ,  1,12         ,12         ,2,20180506,0233, -67.0004, -85.7334,     4302,   1621.4,1.4391886990670113011,34.728913880644157,2,  34.7294,2,194.56052247966565,2, 194.4985,2,    194.8,2,    103.5,2,    31.89,2,     0.00,2,     2.16,2,     -999,9,     -999,9,     -999,9,     -999,9,     -999,9,     -999,9,     -999,     39.4,2,     -999,9,   1.4389,2,     -999,9,     -999,9,     -999,     -999,9,     -999,9,     -999,1,     -999,9,    0.057,1,    4.644,1,    0.070,1,     -999,9,     -999,9,20180506,0335, -67.0006, -85.7343,     -999,9,     -999,9,-999          ,9,     -999,9,     -999,9,     -999,     -999,9,     -999,     -999,9,     -999,1,     -999,1,     -999,1,     -999,1,     -999,1,     -999,1,     -999,1,     -999,1,     -999,1,     -999,1,     -999,1,     -999,1,     -999,1
320620180309  ,S04P       ,115     ,  1,11         ,11         ,2,20180506,0233, -67.0004, -85.7334,     4302,   1824.3,1.2902221610509494454,34.725443970910504,2,  34.7263,2,196.72783219945632,2, 196.9998,2,    197.2,2,    108.2,2,    32.00,2,     0.00,2,     2.17,2,    0.124,2,    0.085,2,   0.0200,2,   2260.4,2,  2363.53,2,   7.5985,2,    24.99,     42.3,2,     -999,9,   1.2907,2,     -999,9,     -999,9,     -999,     -999,9,     -999,9,     -999,1,     -999,9,    0.056,1,    4.644,1,    0.070,1,  18.6600,2,     -999,9,20180506,0330, -67.0004, -85.7337,     -999,9,     -999,9,-999          ,9,     -999,9,     -999,9,     -999,     -999,9,     -999,     -999,9,     -999,9,     -999,9,     -999,9,     -999,9,     -999,9,     -999,9,     -999,9,     -999,9,     -999,9,     -999,9,     -999,9,     -999,9,     -999,9
320620180309  ,S04P       ,115     ,  1,10         ,10         ,2,20180506,0233, -67.0004, -85.7334,     4302,   2028.7,1.1806396228061375453,34.721925210853136,2,  34.7227,2,199.70639865144037,2, 198.8043,2,    198.9,2,    111.9,2,    32.14,2,     0.00,2,     2.19,2,     -999,9,     -999,9,     -999,9,   2261.1,2,  2362.66,2,   7.5987,2,    24.99,     40.9,2,     -999,9,   1.1806,2,     -999,9,     -999,9,     -999,     -999,9,     -999,9,     -999,1,     -999,9,    0.057,1,    4.645,1,    0.070,1,     -999,9,     -999,9,20180506,0325, -67.0003, -85.7333,     -999,9,     -999,9,-999          ,9,     -999,9,     -999,9,     -999,     -999,9,     -999,     -999,9,     -999,1,     -999,1,     -999,1,     -999,1,     -999,1,     -999,1,     -999,1,     -999,1,     -999,1,     -999,1,     -999,1,     -999,1,     -999,1
320620180309  ,S04P       ,115     ,  1,9          ,9          ,2,20180506,0233, -67.0004, -85.7334,     4302,   2285.2,1.0422451337509928138,34.716962618030188,2,  34.7178,2,202.55461226997360,2, 201.5991,2,    201.6,2,    116.5,2,    32.20,2,     0.00,2,     2.20,2,    0.126,2,    0.068,2,   0.0200,2,     -999,9,     -999,9,     -999,9,     -999,     42.0,2,     -999,9,   1.0426,2,     -999,9,     -999,9,     -999,     -999,9,     -999,9,     -999,1,     -999,9,    0.057,1,    4.645,1,    0.070,1,  18.7000,2,     -999,9,20180506,0319, -67.0000, -85.7328,     -999,9,     -999,9,-999          ,9,     -999,9,     -999,9,     -999,     -999,9,     -999,     -999,9,     -999,9,     -999,9,     -999,9,     -999,9,     -999,9,     -999,9,     -999,9,     -999,9,     -999,9,     -999,9,     -999,9,     -999,9,     -999,9
320620180309  ,S04P       ,115     ,  1,8          ,8          ,2,20180506,0233, -67.0004, -85.7334,     4302,   2540.5,0.9235719811765804588,34.712425109392342,2,  34.7131,2,204.18728978742257,2, 203.5966,2,    203.3,2,    121.2,2,    32.40,2,     0.00,2,     2.22,2,     -999,9,     -999,9,     -999,9,     -999,9,     -999,9,     -999,9,     -999,     41.2,2,     -999,9,   0.9237,2,     -999,9,     -999,9,     -999,     -999,9,     -999,9,     -999,1,     -999,9,    0.057,1,    4.644,1,    0.069,1,     -999,9,     -999,9,20180506,0314, -67.0001, -85.7330,     -999,9,     -999,9,-999          ,9,     -999,9,     -999,9,     -999,     -999,9,     -999,     -999,9,     -999,1,     -999,1,     -999,1,     -999,1,     -999,1,     -999,1,     -999,1,     -999,1,     -999,1,     -999,1,     -999,1,     -999,1,     -999,1
320620180309  ,S04P       ,115     ,  1,7          ,7          ,2,20180506,0233, -67.0004, -85.7334,     4302,   2797.8,0.8095620299638408568,34.708135498156970,2,  34.7092,2,205.49925887503724,2, 205.7967,2,    205.8,2,    125.3,2,    32.54,2,     0.00,2,     2.23,2,    0.165,2,    0.093,2,   0.1000,2,   2262.0,2,  2364.34,2,   7.5966,2,    24.98,     38.3,2,     -999,9,   0.8101,2,     -999,9,     -999,9,     -999,     -999,9,     -999,9,     -999,1,     -999,9,    0.056,1,    4.644,1,    0.070,1,  18.6400,2,     -999,9,20180506,0308, -67.0001, -85.7330,     -999,9,     -999,9,-999          ,9,     -999,9,     -999,9,     -999,     -999,9,     -999,     -999,9,     -999,9,     -999,9,     -999,9,     -999,9,     -999,9,     -999,9,     -999,9,     -999,9,     -999,9,     -999,9,     -999,9,     -999,9,     -999,9
320620180309  ,S04P       ,115     ,  1,6          ,6          ,2,20180506,0233, -67.0004, -85.7334,     4302,   3051.2,0.7094372126859482819,34.705390243608903,2,  34.7056,2,207.21266932819512,2, 207.5979,2,    207.7,2,    128.1,2,    32.64,2,     0.00,2,     2.24,2,     -999,9,     -999,9,     -999,9,     -999,9,     -999,9,     -999,9,     -999,     42.2,2,     -999,9,   0.7098,2,     -999,9,     -999,9,     -999,     -999,9,     -999,9,     -999,1,     -999,9,    0.057,1,    4.644,1,    0.070,1,     -999,9,     -999,9,20180506,0302, -67.0002, -85.7335,     -999,9,     -999,9,-999          ,9,     -999,9,     -999,9,     -999,     -999,9,     -999,     -999,9,     -999,1,     -999,1,     -999,1,     -999,1,     -999,1,     -999,1,     -999,1,     -999,1,     -999,1,     -999,1,     -999,1,     -999,1,     -999,1
320620180309  ,S04P       ,115     ,  1,5          ,5          ,2,20180506,0233, -67.0004, -85.7334,     4302,   3356.4,0.5757711643899222631,34.703041992427572,2,  34.7027,2,209.74175837273751,2, 210.1960,2,    210.0,2,    132.2,2,    32.75,2,     0.00,2,     2.24,2,    0.190,2,    0.106,2,   0.0000,2,   2265.3,2,  2367.11,2,   7.5979,2,    24.98,     40.8,2,     -999,9,   0.5760,2,     -999,9,     -999,9,     -999,     -999,9,     -999,9,     -999,1,     -999,9,    0.056,1,    4.644,1,    0.070,1,  18.4300,2,     -999,9,20180506,0256, -67.0003, -85.7337,     -999,9,     -999,9,-999          ,9,     -999,9,     -999,9,     -999,     -999,9,     -999,     -999,9,     -999,9,     -999,9,     -999,9,     -999,9,     -999,9,     -999,9,     -999,9,     -999,9,     -999,9,     -999,9,     -999,9,     -999,9,     -999,9
320620180309  ,S04P       ,115     ,  1,4          ,4          ,2,20180506,0233, -67.0004, -85.7334,     4302,   3667.9,0.4953361675456033897,34.702106327956670,2,  34.7011,2,211.74023193819906,2, 211.7991,2,    212.0,2,    136.5,2,    32.85,2,     0.00,2,     2.24,2,     -999,9,     -999,9,     -999,9,     -999,9,     -999,9,     -999,9,     -999,     41.6,2,     -999,9,   0.4952,2,     -999,9,     -999,9,     -999,     -999,9,     -999,9,     -999,1,     -999,9,    0.057,1,    4.643,1,    0.070,1,     -999,9,     -999,9,20180506,0249, -67.0002, -85.7333,     -999,9,     -999,9,-999          ,9,     -999,9,     -999,9,     -999,     -999,9,     -999,     -999,9,     -999,1,     -999,1,     -999,1,     -999,1,     -999,1,     -999,1,     -999,1,     -999,1,     -999,1,     -999,1,     -999,1,     -999,1,     -999,1
320620180309  ,S04P       ,115     ,  1,3          ,3          ,2,20180506,0233, -67.0004, -85.7334,     4302,   3977.1,0.4585264600954405134,34.701233188959449,2,  34.7013,2,212.66839383577172,2, 212.6979,2,    212.6,2,    139.8,2,    32.93,2,     0.00,2,     2.24,2,    0.234,2,    0.133,2,   0.0100,2,   2264.6,2,  2367.18,2,   7.5951,2,    24.99,     38.3,2,     -999,9,   0.4586,2,     -999,9,     -999,9,     -999,     -999,9,     -999,9,     -999,1,     -999,9,    0.057,1,    4.641,1,    0.070,1,  18.1100,2,     -999,9,20180506,0242, -67.0003, -85.7335,     -999,9,     -999,9,-999          ,9,     -999,9,     -999,9,     -999,     -999,9,     -999,     -999,9,     -999,1,     -999,1,     -999,1,     -999,1,     -999,1,     -999,1,     -999,1,     -999,1,     -999,1,     -999,1,     -999,1,     -999,1,     -999,1
320620180309  ,S04P       ,115     ,  1,2          ,2          ,2,20180506,0233, -67.0004, -85.7334,     4302,   4212.4,0.4373052520527563880,34.700461215889369,2,  34.7013,2,213.85613987528527,2, 212.9921,2,    213.8,2,    142.4,2,    32.98,2,     0.00,2,     2.24,2,    0.277,2,    0.151,2,   0.0100,2,   2266.1,2,  2365.80,2,   7.5968,2,    24.98,     41.0,2,     -999,9,   0.4375,2,     -999,9,     -999,9,     -999,     -999,9,     -999,9,     -999,1,     -999,9,    0.056,1,    4.639,1,    0.069,1,  18.0200,2,     -999,9,20180506,0237, -67.0004, -85.7337,     -999,9,     -999,9,-999          ,9,     -999,9,     -999,9,     -999,     -999,9,     -999,     -999,9,     -999,1,     -999,1,     -999,1,     -999,1,     -999,1,     -999,1,     -999,1,     -999,1,     -999,1,     -999,1,     -999,1,     -999,1,     -999,1
320620180309  ,S04P       ,115     ,  1,1          ,1          ,2,20180506,0233, -67.0004, -85.7334,     4302,   4376.9,0.4091641704990883754,34.699513807476457,2,  34.7009,2,213.06336033517081,2, 213.1010,2,    212.8,2,    147.6,2,    33.16,2,     0.00,2,     2.24,2,    0.346,2,    0.180,2,   0.0500,2,   2266.1,6,  2367.39,2,   7.5935,2,    25.04,     41.0,2,     -999,9,   0.4092,2,     -999,9,     -999,9,     -999,     -999,9,     -999,9,     -999,1,     -999,9,    0.056,1,    4.634,1,    0.070,1,  17.9800,2,     -999,9,20180506,0233, -67.0004, -85.7334,     -999,9,     -999,9,-999          ,9,     -999,9,     -999,9,     -999,     -999,9,     -999,     -999,9,     -999,1,     -999,1,     -999,1,     -999,1,     -999,1,     -999,1,     -999,1,     -999,1,     -999,1,     -999,1,     -999,1,     -999,1,     -999,1