BOTTLE,20240515CCHHYDRO
EXPOCODE,SECT_ID,STNNBR,CASTNO,SAMPNO,BTLNBR,BTLNBR_FLAG_W,DATE,TIME,LATITUDE,LONGITUDE,DEPTH,CTDPRS,CTDTMP,CTDSAL,CTDSAL_FLAG_W,SALNTY,SALNTY_FLAG_W,CTDOXY,CTDOXY_FLAG_W,CTDOPTOXY,CTDOPTOXY_FLAG_W,OXYGEN,OXYGEN_FLAG_W,SILCAT,SILCAT_FLAG_W,NITRAT,NITRAT_FLAG_W,NITRIT,NITRIT_FLAG_W,PHSPHT,PHSPHT_FLAG_W,CFC-11,CFC-11_FLAG_W,CFC-12,CFC-12_FLAG_W,SF6,SF6_FLAG_W,TCARBN,TCARBN_FLAG_W,ALKALI,ALKALI_FLAG_W,PH_TOT,PH_TOT_FLAG_W,PH_TMP,DOC,DOC_FLAG_W,HELIUM,HELIUM_FLAG_W,REFTMP,REFTMP_FLAG_W,DELC13,DELC13_FLAG_W,DELC14,DELC14_FLAG_W,C14ERR,POC,POC_FLAG_W,TDN,TDN_FLAG_W,TON,TON_FLAG_W,NEON,NEON_FLAG_W,CTDFLUOR,CTDFLUOR_FLAG_W,CTDXMISS,CTDXMISS_FLAG_W,CTDBETA700,CTDBETA700_FLAG_W,N2O,N2O_FLAG_W,ARGON,ARGON_FLAG_W,BTL_DATE,BTL_TIME,BTL_LAT,BTL_LON,KRYPTON,KRYPTON_FLAG_W,XENON,XENON_FLAG_W,HPLC,HPLC_FLAG_W,HE3_HE4_RATIO,HE3_HE4_RATIO_FLAG_W,Nd_143_144_D_EPSILON_BOTTLE,Nd_143_144_D_EPSILON_BOTTLE_FLAG_W,Nd_143_144_D_EPSILON_BOTTLE_ERROR,Nd_143_144_D_RATIO_BOTTLE,Nd_143_144_D_RATIO_BOTTLE_FLAG_W,Nd_143_144_D_RATIO_BOTTLE_ERROR,Nd_D_CONC,Nd_D_CONC_FLAG_W,La_D_CONC_BOTTLE,La_D_CONC_BOTTLE_FLAG_W,Ce_D_CONC_BOTTLE,Ce_D_CONC_BOTTLE_FLAG_W,Pr_D_CONC_BOTTLE,Pr_D_CONC_BOTTLE_FLAG_W,Sm_D_CONC_BOTTLE,Sm_D_CONC_BOTTLE_FLAG_W,Eu_D_CONC_BOTTLE,Eu_D_CONC_BOTTLE_FLAG_W,Gd_D_CONC_BOTTLE,Gd_D_CONC_BOTTLE_FLAG_W,Tb_D_CONC_BOTTLE,Tb_D_CONC_BOTTLE_FLAG_W,Dy_D_CONC_BOTTLE,Dy_D_CONC_BOTTLE_FLAG_W,Ho_D_CONC_BOTTLE,Ho_D_CONC_BOTTLE_FLAG_W,Er_D_CONC_BOTTLE,Er_D_CONC_BOTTLE_FLAG_W,Tm_D_CONC_BOTTLE,Tm_D_CONC_BOTTLE_FLAG_W,Yb_D_CONC_BOTTLE,Yb_D_CONC_BOTTLE_FLAG_W,Lu_D_CONC_BOTTLE,Lu_D_CONC_BOTTLE_FLAG_W
,,,,,,,,,,,METERS,DBAR,ITS-90,PSS-78,,PSS-78,,UMOL/KG,,UMOL/KG,,UMOL/KG,,UMOL/KG,,UMOL/KG,,UMOL/KG,,UMOL/KG,,PMOL/KG,,PMOL/KG,,FMOL/KG,,UMOL/KG,,UMOL/KG,,,,DEG C,UMOL/KG,,NMOL/L,,DEG C,,/MILLE,,/MILLE,,/MILLE,UG/KG,,UMOL/KG,,UMOL/KG,,NMOL/L,,VOLTS,,VOLTS,,VOLTS,,NMOL/KG,,UMOL/L,,,,,,NMOL/L,,NMOL/L,,,,,,10000,,10000,,,,PMOL/KG,,PMOL/L,,PMOL/L,,PMOL/L,,PMOL/L,,PMOL/L,,PMOL/L,,PMOL/L,,PMOL/L,,PMOL/L,,PMOL/L,,PMOL/L,,PMOL/L,,PMOL/L,
320620180309  ,S04P       ,70      ,  1,36         ,36         ,2,20180418,1104, -67.0010,-145.9985,     4133,      7.4,-1.3357777777777779527,33.956635286864326,2,  33.9540,2,340.58790324829681,3, 341.7954,2,    344.0,2,     52.8,2,    26.82,2,     0.23,2,     1.88,2,    5.359,2,    2.999,2,   3.5900,2,   2190.7,6,  2299.95,2,   7.6352,2,    24.91,     44.0,2,     -999,9,  -1.3362,2,     -999,9,     -999,9,     -999,     -999,9,     -999,9,     -999,1,     -999,9,    0.211,1,    4.632,1,    0.162,1,  17.4800,2,     -999,9,20180418,1326, -67.0020,-145.9977,     -999,9,     -999,9,-999          ,9,     -999,9,     -999,9,     -999,     -999,9,     -999,     -999,9,     -999,9,     -999,9,     -999,9,     -999,9,     -999,9,     -999,9,     -999,9,     -999,9,     -999,9,     -999,9,     -999,9,     -999,9,     -999,9
320620180309  ,S04P       ,70      ,  1,35         ,35         ,2,20180418,1104, -67.0010,-145.9985,     4133,     21.5,-1.3349722222222224488,33.956739055279051,2,  33.9530,2,340.90389535272004,2, 341.8025,2,    341.4,2,     52.8,2,    26.74,2,     0.23,2,     1.87,2,     -999,9,     -999,9,     -999,9,   2190.0,2,  2299.43,2,   7.6356,2,    24.92,     43.5,2,     -999,9,  -1.3361,2,     -999,9,     -999,9,     -999,     -999,9,     -999,9,     -999,1,     -999,9,    0.144,1,    4.631,1,    0.163,1,     -999,9,     -999,9,20180418,1326, -67.0020,-145.9977,     -999,9,     -999,9,-999          ,9,     -999,9,     -999,9,     -999,     -999,9,     -999,     -999,9,     -999,9,     -999,9,     -999,9,     -999,9,     -999,9,     -999,9,     -999,9,     -999,9,     -999,9,     -999,9,     -999,9,     -999,9,     -999,9
320620180309  ,S04P       ,70      ,  1,34         ,34         ,2,20180418,1104, -67.0010,-145.9985,     4133,     49.6,-1.3350416666666662380,33.956572727986746,2,  33.9542,2,341.57294871698491,2, 341.8015,2,    341.8,2,     53.3,2,    26.72,2,     0.23,2,     1.86,2,    5.361,2,    2.960,2,   3.3500,2,   2190.1,2,  2299.47,2,   7.6349,2,    24.91,     43.8,2,     -999,9,  -1.3358,2,     -999,9,     -999,9,     -999,     -999,9,     -999,9,     -999,1,     -999,9,    0.148,1,    4.632,1,    0.165,1,  17.7200,2,     -999,9,20180418,1324, -67.0019,-145.9978,     -999,9,     -999,9,-999          ,9,     -999,9,     -999,9,     -999,     -999,9,     -999,     -999,9,     -999,9,     -999,9,     -999,9,     -999,9,     -999,9,     -999,9,     -999,9,     -999,9,     -999,9,     -999,9,     -999,9,     -999,9,     -999,9
320620180309  ,S04P       ,70      ,  1,33         ,33         ,2,20180418,1104, -67.0010,-145.9985,     4133,     74.6,-1.3128666666666666263,33.962421413259747,2,  33.9594,2,341.63168601719030,2, 341.7986,2,    340.0,2,     53.2,2,    26.80,2,     0.23,2,     1.88,2,    5.382,2,    3.013,2,   3.7100,2,   2191.3,2,  2300.92,2,   7.6352,2,    24.92,     43.4,2,     -999,9,  -1.3151,2,     -999,9,     -999,9,     -999,     -999,9,     -999,9,     -999,1,     -999,9,    0.125,1,    4.638,1,    0.156,1,  18.0600,2,     -999,9,20180418,1322, -67.0018,-145.9979,     -999,9,     -999,9,-999          ,9,     -999,9,     -999,9,     -999,     -999,9,     -999,     -999,9,     -999,9,     -999,9,     -999,9,     -999,9,     -999,9,     -999,9,     -999,9,     -999,9,     -999,9,     -999,9,     -999,9,     -999,9,     -999,9
320620180309  ,S04P       ,70      ,  1,32         ,32         ,2,20180418,1104, -67.0010,-145.9985,     4133,    100.3,-0.7510638888888887532,34.101404092280632,2,  34.1050,2,304.45634468423253,2, 303.9026,2,    303.9,2,     61.9,2,    28.22,2,     0.20,2,     1.95,2,     -999,9,     -999,9,     -999,9,   2205.2,2,  2308.71,2,   7.6183,2,    24.91,     45.2,2,     -999,9,  -0.7436,2,     -999,9,     -999,9,     -999,     -999,9,     -999,9,     -999,1,     -999,9,    0.101,1,    4.646,1,    0.152,1,     -999,9,     -999,9,20180418,1319, -67.0017,-145.9979,     -999,9,     -999,9,-999          ,9,     -999,9,     -999,9,     -999,     -999,9,     -999,     -999,9,     -999,9,     -999,9,     -999,9,     -999,9,     -999,9,     -999,9,     -999,9,     -999,9,     -999,9,     -999,9,     -999,9,     -999,9,     -999,9
320620180309  ,S04P       ,70      ,  1,31         ,31         ,2,20180418,1104, -67.0010,-145.9985,     4133,    124.6,0.7417972222222223300,34.521473255121293,3,  34.5568,2,218.36168708085071,3, 206.5029,2,    204.1,2,     86.4,2,    32.48,2,     0.06,2,     2.23,2,    1.420,2,    0.769,2,   0.8500,2,   2252.7,2,  2338.10,2,   7.5624,2,    24.91,     -999,5,     -999,9,   0.7370,2,     -999,9,     -999,9,     -999,     -999,9,     -999,5,     -999,1,     -999,9,    0.088,1,    4.649,1,    0.149,1,  22.0400,2,     -999,9,20180418,1317, -67.0017,-145.9979,     -999,9,     -999,9,-999          ,9,     -999,9,     -999,9,     -999,     -999,9,     -999,     -999,9,     -999,9,     -999,9,     -999,9,     -999,9,     -999,9,     -999,9,     -999,9,     -999,9,     -999,9,     -999,9,     -999,9,     -999,9,     -999,9
320620180309  ,S04P       ,70      ,  1,30         ,30         ,2,20180418,1104, -67.0010,-145.9985,     4133,    150.4,1.2188805555555555227,34.639750430282511,2,  34.6413,2,190.31810622387684,3, 191.1950,2,    187.4,2,     91.8,2,    33.14,2,     0.02,2,     2.25,2,    0.836,2,    0.448,2,   0.2800,2,   2259.6,2,  2343.84,2,   7.5548,2,    24.91,     42.1,2,     -999,9,   1.2276,2,     -999,9,     -999,9,     -999,     -999,9,     -999,9,     -999,1,     -999,9,    0.077,1,    4.648,1,    0.146,1,  23.1200,2,     -999,9,20180418,1315, -67.0016,-145.9979,     -999,9,     -999,9,-999          ,9,     -999,9,     -999,9,     -999,     -999,9,     -999,     -999,9,     -999,9,     -999,9,     -999,9,     -999,9,     -999,9,     -999,9,     -999,9,     -999,9,     -999,9,     -999,9,     -999,9,     -999,9,     -999,9
320620180309  ,S04P       ,70      ,  1,29         ,29         ,2,20180418,1104, -67.0010,-145.9985,     4133,    201.1,1.5140833333333334476,34.713007429459118,2,  34.7106,2,179.32163873423966,2, 182.4039,2,    178.8,2,     97.0,2,    33.29,2,     0.01,2,     2.26,2,     -999,9,     -999,9,     -999,9,   2264.5,6,  2350.49,2,   7.5569,2,    24.91,     44.1,2,     -999,9,   1.5131,2,     -999,9,     -999,9,     -999,     -999,9,     -999,9,     -999,1,     -999,9,    0.064,1,    4.659,1,    0.138,1,     -999,9,     -999,9,20180418,1312, -67.0016,-145.9980,     -999,9,     -999,9,-999          ,9,     -999,9,     -999,9,     -999,     -999,9,     -999,     -999,9,     -999,9,     -999,9,     -999,9,     -999,9,     -999,9,     -999,9,     -999,9,     -999,9,     -999,9,     -999,9,     -999,9,     -999,9,     -999,9
320620180309  ,S04P       ,70      ,  1,28         ,28         ,2,20180418,1104, -67.0010,-145.9985,     4133,    251.9,1.5019361111111111384,34.726703188731264,2,  34.7253,2,179.94333664678081,2, 181.8006,2,    179.4,2,     99.7,2,    33.05,2,     0.00,2,     2.25,2,    0.261,2,    0.140,2,   0.0500,2,   2264.2,2,  2352.13,2,   7.5638,6,    24.91,     44.6,2,     -999,9,   1.5009,2,     -999,9,     -999,9,     -999,     -999,9,     -999,9,     -999,1,     -999,9,    0.061,1,    4.662,1,    0.137,1,  21.9900,2,     -999,9,20180418,1309, -67.0014,-145.9981,     -999,9,     -999,9,-999          ,9,     -999,9,     -999,9,     -999,     -999,9,     -999,     -999,9,     -999,9,     -999,9,     -999,9,     -999,9,     -999,9,     -999,9,     -999,9,     -999,9,     -999,9,     -999,9,     -999,9,     -999,9,     -999,9
320620180309  ,S04P       ,70      ,  1,27         ,27         ,2,20180418,1104, -67.0010,-145.9985,     4133,    301.9,1.4361638888888890175,34.730279693114035,2,  34.7282,2,182.13045952300868,2, 182.9986,2,    182.6,3,    102.3,2,    32.84,2,     0.00,2,     2.23,2,    0.221,2,    0.110,2,   0.1200,2,   2264.5,2,  2356.93,2,   7.5702,2,    24.92,     43.3,2,     -999,9,   1.4352,2,     -999,9,     -999,9,     -999,     -999,9,     -999,9,     -999,1,     -999,9,    0.062,1,    4.663,1,    0.136,1,  21.5800,2,     -999,9,20180418,1306, -67.0012,-145.9982,     -999,9,     -999,9,-999          ,9,     -999,9,     -999,9,     -999,     -999,9,     -999,     -999,9,     -999,9,     -999,9,     -999,9,     -999,9,     -999,9,     -999,9,     -999,9,     -999,9,     -999,9,     -999,9,     -999,9,     -999,9,     -999,9
320620180309  ,S04P       ,70      ,  1,26         ,26         ,2,20180418,1104, -67.0010,-145.9985,     4133,    352.3,1.3989666666666664696,34.730731507469820,2,  34.7288,2,183.34267602962822,2, 183.8989,2,    183.1,2,    103.7,2,    32.80,2,     0.00,2,     2.22,2,     -999,9,     -999,9,     -999,9,   2262.9,2,  2354.90,2,   7.5707,2,    24.91,     43.8,2,     -999,9,   1.3978,2,     -999,9,     -999,9,     -999,     -999,9,     -999,9,     -999,1,     -999,9,    0.061,1,    4.665,1,    0.134,1,     -999,9,     -999,9,20180418,1303, -67.0010,-145.9983,     -999,9,     -999,9,-999          ,9,     -999,9,     -999,9,     -999,     -999,9,     -999,     -999,9,     -999,9,     -999,9,     -999,9,     -999,9,     -999,9,     -999,9,     -999,9,     -999,9,     -999,9,     -999,9,     -999,9,     -999,9,     -999,9
320620180309  ,S04P       ,70      ,  1,25         ,25         ,2,20180418,1104, -67.0010,-145.9985,     4133,    403.6,1.3459500000000004238,34.730838070851583,2,  34.7290,2,184.51787837611371,2, 185.2007,2,    183.7,2,    105.4,2,    32.74,2,     0.00,2,     2.22,2,    0.183,2,    0.093,2,   0.0200,2,   2265.0,2,  2356.02,2,   7.5715,2,    24.92,     42.3,2,     -999,9,   1.3451,2,     -999,9,     -999,9,     -999,     -999,9,     -999,9,     -999,1,     -999,9,    0.062,1,    4.665,1,    0.133,1,  21.2000,2,     -999,9,20180418,1301, -67.0008,-145.9984,     -999,9,     -999,9,-999          ,9,     -999,9,     -999,9,     -999,     -999,9,     -999,     -999,9,     -999,9,     -999,9,     -999,9,     -999,9,     -999,9,     -999,9,     -999,9,     -999,9,     -999,9,     -999,9,     -999,9,     -999,9,     -999,9
320620180309  ,S04P       ,70      ,  1,24         ,24         ,2,20180418,1104, -67.0010,-145.9985,     4133,    453.6,1.3085722222222222477,34.730515349000122,2,  34.7282,2,185.58354971585905,2, 186.0949,2,    185.4,2,    106.9,2,    32.77,2,     0.00,2,     2.21,2,    0.168,2,    0.088,2,   0.0600,2,   2265.7,2,  2356.13,2,   7.5734,2,    24.92,     -999,9,     -999,9,   1.3078,2,     -999,9,     -999,9,     -999,     -999,9,     -999,9,     -999,9,     -999,9,    0.061,1,    4.665,1,    0.134,1,  21.3000,2,     -999,9,20180418,1258, -67.0007,-145.9985,     -999,9,     -999,9,-999          ,9,     -999,9,     -999,9,     -999,     -999,9,     -999,     -999,9,     -999,9,     -999,9,     -999,9,     -999,9,     -999,9,     -999,9,     -999,9,     -999,9,     -999,9,     -999,9,     -999,9,     -999,9,     -999,9
320620180309  ,S04P       ,70      ,  1,23         ,23         ,2,20180418,1104, -67.0010,-145.9985,     4133,    504.1,1.2661666666666666625,34.729707440714314,2,  34.7282,2,186.77295619722088,2, 187.1031,2,    186.3,2,    108.6,2,    32.72,2,     0.00,2,     2.23,2,     -999,9,     -999,9,     -999,9,   2266.8,2,  2356.39,2,   7.5751,2,    24.93,     41.3,2,     -999,9,   1.2664,2,     -999,9,     -999,9,     -999,     -999,9,     -999,9,     -999,1,     -999,9,    0.061,1,    4.665,1,    0.134,1,     -999,9,     -999,9,20180418,1256, -67.0006,-145.9986,     -999,9,     -999,9,-999          ,9,     -999,9,     -999,9,     -999,     -999,9,     -999,     -999,9,     -999,9,     -999,9,     -999,9,     -999,9,     -999,9,     -999,9,     -999,9,     -999,9,     -999,9,     -999,9,     -999,9,     -999,9,     -999,9
320620180309  ,S04P       ,70      ,  1,22         ,37         ,2,20180418,1104, -67.0010,-145.9985,     4133,    606.6,1.1871138888888888019,34.727534094755825,2,  34.7259,2,189.31386568835083,2, 188.9948,2,    188.8,2,    111.0,2,    32.69,2,     0.00,2,     2.22,2,    0.138,2,    0.068,2,   0.0800,2,   2265.8,2,  2358.96,2,   7.5797,2,    24.91,     40.7,2,     -999,9,   1.1861,2,     -999,9,     -999,9,     -999,     -999,9,     -999,9,     -999,1,     -999,9,    0.061,1,    4.665,1,    0.131,1,  20.8600,2,     -999,9,20180418,1252, -67.0006,-145.9986,     -999,9,     -999,9,-999          ,9,     -999,9,     -999,9,     -999,     -999,9,     -999,     -999,9,     -999,9,     -999,9,     -999,9,     -999,9,     -999,9,     -999,9,     -999,9,     -999,9,     -999,9,     -999,9,     -999,9,     -999,9,     -999,9
320620180309  ,S04P       ,70      ,  1,21         ,21         ,2,20180418,1104, -67.0010,-145.9985,     4133,    707.3,1.1165277777777775636,34.725151789086667,2,  34.7235,2,191.87515692048515,2, 191.0010,2,    191.4,2,    113.0,2,    32.61,2,     0.00,2,     2.22,2,    0.126,2,    0.063,2,   0.0600,2,   2264.3,2,  2354.58,3,   7.5844,2,    24.91,     41.7,2,     -999,9,   1.1157,2,     -999,9,     -999,9,     -999,     -999,9,     -999,9,     -999,1,     -999,9,    0.061,1,    4.665,1,    0.130,1,  20.7700,2,     -999,9,20180418,1249, -67.0006,-145.9986,     -999,9,     -999,9,-999          ,9,     -999,9,     -999,9,     -999,     -999,9,     -999,     -999,9,     -999,9,     -999,9,     -999,9,     -999,9,     -999,9,     -999,9,     -999,9,     -999,9,     -999,9,     -999,9,     -999,9,     -999,9,     -999,9
320620180309  ,S04P       ,70      ,  1,20         ,20         ,2,20180418,1104, -67.0010,-145.9985,     4133,    808.5,1.0560694444444447271,34.722957975692864,2,  34.7219,2,193.81227759421114,2, 192.6053,2,    193.8,2,    114.4,2,    32.52,2,     0.00,2,     2.21,2,     -999,9,     -999,9,     -999,9,   2263.9,2,  2361.16,2,   7.5873,2,    24.92,     42.4,2,     -999,9,   1.0563,2,     -999,9,     -999,9,     -999,     -999,9,     -999,9,     -999,1,     -999,9,    0.061,1,    4.666,1,    0.130,1,     -999,9,     -999,9,20180418,1245, -67.0005,-145.9986,     -999,9,     -999,9,-999          ,9,     -999,9,     -999,9,     -999,     -999,9,     -999,     -999,9,     -999,9,     -999,9,     -999,9,     -999,9,     -999,9,     -999,9,     -999,9,     -999,9,     -999,9,     -999,9,     -999,9,     -999,9,     -999,9
320620180309  ,S04P       ,70      ,  1,19         ,19         ,2,20180418,1104, -67.0010,-145.9985,     4133,    910.1,0.9831722222222220031,34.720095319696604,2,  34.7190,2,195.98655085490151,2, 194.7977,2,    195.8,2,    116.2,2,    32.47,2,     0.00,2,     2.20,2,    0.112,2,    0.062,2,   0.0500,2,   2265.5,2,  2361.54,2,   7.5893,2,    24.91,     41.3,2,     -999,9,   0.9825,2,     -999,9,     -999,9,     -999,     -999,9,     -999,9,     -999,1,     -999,9,    0.061,1,    4.666,1,    0.129,1,  20.0000,2,     -999,9,20180418,1242, -67.0004,-145.9987,     -999,9,     -999,9,-999          ,9,     -999,9,     -999,9,     -999,     -999,9,     -999,     -999,9,     -999,9,     -999,9,     -999,9,     -999,9,     -999,9,     -999,9,     -999,9,     -999,9,     -999,9,     -999,9,     -999,9,     -999,9,     -999,9
320620180309  ,S04P       ,70      ,  1,18         ,18         ,2,20180418,1104, -67.0010,-145.9985,     4133,   1011.8,0.9312861111111110368,34.717929033229076,2,  34.7166,2,197.78881946659712,2, 196.9007,2,    198.4,2,    117.7,2,    32.45,2,     0.00,2,     2.21,2,    0.112,2,    0.053,2,   0.0300,2,   2263.3,2,  2361.14,2,   7.5909,2,    24.91,     40.6,2,     -999,9,   0.9305,2,     -999,9,     -999,9,     -999,     -999,9,     -999,9,     -999,1,     -999,9,    0.061,1,    4.666,1,    0.128,1,  20.3400,2,     -999,9,20180418,1238, -67.0004,-145.9987,     -999,9,     -999,9,-999          ,9,     -999,9,     -999,9,     -999,     -999,9,     -999,     -999,9,     -999,9,     -999,9,     -999,9,     -999,9,     -999,9,     -999,9,     -999,9,     -999,9,     -999,9,     -999,9,     -999,9,     -999,9,     -999,9
320620180309  ,S04P       ,70      ,  1,17         ,17         ,2,20180418,1104, -67.0010,-145.9985,     4133,   1113.3,0.8842083333333333739,34.715963853893541,2,  34.7149,2,199.23385500317292,2, 198.2024,2,    199.5,2,    119.3,2,    32.46,2,     0.00,2,     2.20,2,     -999,9,     -999,9,     -999,9,   2264.2,2,  2362.59,2,   7.5924,2,    24.93,     41.1,2,     -999,9,   0.8837,2,     -999,9,     -999,9,     -999,     -999,9,     -999,9,     -999,1,     -999,9,    0.061,1,    4.666,1,    0.128,1,     -999,9,     -999,9,20180418,1235, -67.0006,-145.9986,     -999,9,     -999,9,-999          ,9,     -999,9,     -999,9,     -999,     -999,9,     -999,     -999,9,     -999,9,     -999,9,     -999,9,     -999,9,     -999,9,     -999,9,     -999,9,     -999,9,     -999,9,     -999,9,     -999,9,     -999,9,     -999,9
320620180309  ,S04P       ,70      ,  1,16         ,16         ,2,20180418,1104, -67.0010,-145.9985,     4133,   1214.6,0.8322583333333333222,34.713714811543632,2,  34.7133,2,200.60876664853484,2, 199.6974,2,    201.0,2,    120.8,2,    32.43,2,     0.00,2,     2.21,2,    0.110,2,    0.055,2,   0.1200,2,   2264.9,2,  2362.33,2,   7.5930,2,    24.92,     -999,5,     -999,9,   0.8318,2,     -999,9,     -999,9,     -999,     -999,9,     -999,9,     -999,1,     -999,9,    0.061,1,    4.667,1,    0.127,1,  20.5000,2,     -999,9,20180418,1231, -67.0007,-145.9986,     -999,9,     -999,9,-999          ,9,     -999,9,     -999,9,     -999,     -999,9,     -999,     -999,9,     -999,9,     -999,9,     -999,9,     -999,9,     -999,9,     -999,9,     -999,9,     -999,9,     -999,9,     -999,9,     -999,9,     -999,9,     -999,9