BOTTLE,20240515CCHHYDRO
EXPOCODE,SECT_ID,STNNBR,CASTNO,SAMPNO,BTLNBR,BTLNBR_FLAG_W,DATE,TIME,LATITUDE,LONGITUDE,DEPTH,CTDPRS,CTDTMP,CTDSAL,CTDSAL_FLAG_W,SALNTY,SALNTY_FLAG_W,CTDOXY,CTDOXY_FLAG_W,CTDOPTOXY,CTDOPTOXY_FLAG_W,OXYGEN,OXYGEN_FLAG_W,SILCAT,SILCAT_FLAG_W,NITRAT,NITRAT_FLAG_W,NITRIT,NITRIT_FLAG_W,PHSPHT,PHSPHT_FLAG_W,CFC-11,CFC-11_FLAG_W,CFC-12,CFC-12_FLAG_W,SF6,SF6_FLAG_W,TCARBN,TCARBN_FLAG_W,ALKALI,ALKALI_FLAG_W,PH_TOT,PH_TOT_FLAG_W,PH_TMP,DOC,DOC_FLAG_W,HELIUM,HELIUM_FLAG_W,REFTMP,REFTMP_FLAG_W,DELC13,DELC13_FLAG_W,DELC14,DELC14_FLAG_W,C14ERR,POC,POC_FLAG_W,TDN,TDN_FLAG_W,TON,TON_FLAG_W,NEON,NEON_FLAG_W,CTDFLUOR,CTDFLUOR_FLAG_W,CTDXMISS,CTDXMISS_FLAG_W,CTDBETA700,CTDBETA700_FLAG_W,N2O,N2O_FLAG_W,ARGON,ARGON_FLAG_W,BTL_DATE,BTL_TIME,BTL_LAT,BTL_LON,KRYPTON,KRYPTON_FLAG_W,XENON,XENON_FLAG_W,HPLC,HPLC_FLAG_W,HE3_HE4_RATIO,HE3_HE4_RATIO_FLAG_W,Nd_143_144_D_EPSILON_BOTTLE,Nd_143_144_D_EPSILON_BOTTLE_FLAG_W,Nd_143_144_D_EPSILON_BOTTLE_ERROR,Nd_143_144_D_RATIO_BOTTLE,Nd_143_144_D_RATIO_BOTTLE_FLAG_W,Nd_143_144_D_RATIO_BOTTLE_ERROR,Nd_D_CONC,Nd_D_CONC_FLAG_W,La_D_CONC_BOTTLE,La_D_CONC_BOTTLE_FLAG_W,Ce_D_CONC_BOTTLE,Ce_D_CONC_BOTTLE_FLAG_W,Pr_D_CONC_BOTTLE,Pr_D_CONC_BOTTLE_FLAG_W,Sm_D_CONC_BOTTLE,Sm_D_CONC_BOTTLE_FLAG_W,Eu_D_CONC_BOTTLE,Eu_D_CONC_BOTTLE_FLAG_W,Gd_D_CONC_BOTTLE,Gd_D_CONC_BOTTLE_FLAG_W,Tb_D_CONC_BOTTLE,Tb_D_CONC_BOTTLE_FLAG_W,Dy_D_CONC_BOTTLE,Dy_D_CONC_BOTTLE_FLAG_W,Ho_D_CONC_BOTTLE,Ho_D_CONC_BOTTLE_FLAG_W,Er_D_CONC_BOTTLE,Er_D_CONC_BOTTLE_FLAG_W,Tm_D_CONC_BOTTLE,Tm_D_CONC_BOTTLE_FLAG_W,Yb_D_CONC_BOTTLE,Yb_D_CONC_BOTTLE_FLAG_W,Lu_D_CONC_BOTTLE,Lu_D_CONC_BOTTLE_FLAG_W
,,,,,,,,,,,METERS,DBAR,ITS-90,PSS-78,,PSS-78,,UMOL/KG,,UMOL/KG,,UMOL/KG,,UMOL/KG,,UMOL/KG,,UMOL/KG,,UMOL/KG,,PMOL/KG,,PMOL/KG,,FMOL/KG,,UMOL/KG,,UMOL/KG,,,,DEG C,UMOL/KG,,NMOL/L,,DEG C,,/MILLE,,/MILLE,,/MILLE,UG/KG,,UMOL/KG,,UMOL/KG,,NMOL/L,,VOLTS,,VOLTS,,VOLTS,,NMOL/KG,,UMOL/L,,,,,,NMOL/L,,NMOL/L,,,,,,10000,,10000,,,,PMOL/KG,,PMOL/L,,PMOL/L,,PMOL/L,,PMOL/L,,PMOL/L,,PMOL/L,,PMOL/L,,PMOL/L,,PMOL/L,,PMOL/L,,PMOL/L,,PMOL/L,,PMOL/L,
320620180309  ,P16        ,51      ,  1,36         ,36         ,2,20180407,2248, -68.5013,-149.9977,     4358,      9.6,-1.4449805555555554903,33.808633394064742,2,  33.8071,2,348.01415995532176,2, 348.9971,2,    347.8,2,     43.9,2,    24.59,2,     0.19,2,     1.76,2,    6.043,2,    3.200,2,   3.8100,2,   2175.3,6,  2291.42,2,   7.6618,2,    24.92,     -999,9,     -999,9,  -1.4454,2,     -999,9,     -999,9,     -999,     -999,9,     -999,9,     -999,9,     -999,9,    0.098,1,    4.627,1,    0.156,1,  16.8600,2,     -999,9,20180408,0044, -68.5004,-149.9984,     -999,9,     -999,9,-999          ,9,     -999,9,     -999,9,     -999,     -999,9,     -999,     -999,9,     -999,1,     -999,1,     -999,1,     -999,1,     -999,1,     -999,1,     -999,1,     -999,1,     -999,1,     -999,1,     -999,1,     -999,1,     -999,1
320620180309  ,P16        ,51      ,  1,35         ,35         ,2,20180407,2248, -68.5013,-149.9977,     4358,     25.0,-1.4433305555555557831,33.810977465798899,2,  33.8071,2,347.41081034443476,2, 348.0933,2,    347.8,2,     44.0,2,    24.56,2,     0.19,2,     1.77,2,     -999,9,     -999,9,     -999,9,   2175.7,2,  2290.24,2,   7.6618,2,    24.93,     -999,9,     -999,1,  -1.4432,2,     -999,9,     -999,9,     -999,     -999,9,     -999,9,     -999,9,     -999,1,    0.107,1,    4.628,1,    0.163,1,     -999,9,     -999,1,20180408,0042, -68.5005,-149.9983,     -999,1,     -999,1,-999          ,9,     -999,1,     -999,9,     -999,     -999,9,     -999,     -999,9,     -999,1,     -999,1,     -999,1,     -999,1,     -999,1,     -999,1,     -999,1,     -999,1,     -999,1,     -999,1,     -999,1,     -999,1,     -999,1
320620180309  ,P16        ,51      ,  1,34         ,34         ,2,20180407,2248, -68.5013,-149.9977,     4358,     49.8,-1.4373666666666666814,33.814344671481393,2,  33.8101,2,347.69135527638559,2, 348.0975,2,    347.8,2,     44.0,2,    24.59,2,     0.19,2,     1.77,2,     -999,9,     -999,9,     -999,9,   2174.7,2,  2292.11,2,   7.6604,2,    24.92,     -999,9,     -999,9,  -1.4374,2,     -999,9,     -999,9,     -999,     -999,9,     -999,9,     -999,9,     -999,9,    0.109,1,    4.629,1,    0.157,1,     -999,9,     -999,9,20180408,0041, -68.5006,-149.9981,     -999,9,     -999,9,-999          ,9,     -999,9,     -999,9,     -999,     -999,9,     -999,     -999,9,     -999,9,     -999,9,     -999,9,     -999,9,     -999,9,     -999,9,     -999,9,     -999,9,     -999,9,     -999,9,     -999,9,     -999,9,     -999,9
320620180309  ,P16        ,51      ,  1,33         ,33         ,2,20180407,2248, -68.5013,-149.9977,     4358,     75.9,-1.4186999999999998501,33.835845507268516,2,  33.8322,2,345.77311861465853,2, 347.5023,3,    343.5,2,     44.4,2,    24.83,2,     0.19,2,     1.79,2,     -999,9,     -999,9,     -999,9,     -999,9,     -999,9,     -999,9,     -999,     -999,9,     -999,1,  -1.4195,2,     -999,9,     -999,9,     -999,     -999,9,     -999,9,     -999,9,     -999,1,    0.110,1,    4.631,1,    0.155,1,     -999,9,     -999,1,20180408,0039, -68.5006,-149.9977,     -999,1,     -999,1,-999          ,9,     -999,1,     -999,9,     -999,     -999,9,     -999,     -999,9,     -999,1,     -999,1,     -999,1,     -999,1,     -999,1,     -999,1,     -999,1,     -999,1,     -999,1,     -999,1,     -999,1,     -999,1,     -999,1
320620180309  ,P16        ,51      ,  1,32         ,32         ,2,20180407,2248, -68.5013,-149.9977,     4358,    100.8,-0.7444277777777777994,34.205721990988401,2,  34.2005,2,287.18442737654630,3, 288.2980,3,    279.3,2,     59.7,2,    29.40,2,     0.12,2,     2.05,2,    4.136,2,    2.223,2,   2.6200,2,   2217.5,2,  2313.70,2,   7.5989,2,    24.91,     -999,9,     -999,9,  -0.7193,2,     -999,9,     -999,9,     -999,     -999,9,     -999,9,     -999,9,     -999,9,    0.089,1,    4.642,1,    0.146,1,  20.9600,2,     -999,9,20180408,0037, -68.5008,-149.9975,     -999,9,     -999,9,-999          ,9,     -999,9,     -999,9,     -999,     -999,9,     -999,     -999,9,     -999,9,     -999,9,     -999,9,     -999,9,     -999,9,     -999,9,     -999,9,     -999,9,     -999,9,     -999,9,     -999,9,     -999,9,     -999,9
320620180309  ,P16        ,51      ,  1,31         ,31         ,2,20180407,2248, -68.5013,-149.9977,     4358,    125.0,0.1280944444444444275,34.387896098174650,2,  34.3905,2,247.72271256140016,3, 245.7984,3,    237.2,2,     72.0,2,    31.54,2,     0.07,2,     2.17,2,     -999,9,     -999,9,     -999,9,     -999,9,     -999,9,     -999,9,     -999,     -999,9,     -999,1,   0.1263,2,     -999,9,     -999,9,     -999,     -999,9,     -999,9,     -999,9,     -999,1,    0.081,1,    4.646,1,    0.146,1,     -999,9,     -999,1,20180408,0036, -68.5009,-149.9974,     -999,1,     -999,1,-999          ,9,     -999,1,     -999,9,     -999,     -999,9,     -999,     -999,9,     -999,1,     -999,1,     -999,1,     -999,1,     -999,1,     -999,1,     -999,1,     -999,1,     -999,1,     -999,1,     -999,1,     -999,1,     -999,1
320620180309  ,P16        ,51      ,  1,30         ,30         ,2,20180407,2248, -68.5013,-149.9977,     4358,    150.5,1.4130333333333335855,34.644064365332255,2,  34.6438,2,189.11809873810739,2, 196.2031,3,    187.6,2,     87.4,2,    32.95,2,     0.03,2,     2.25,2,     -999,9,     -999,9,     -999,9,   2258.3,2,  2344.03,2,   7.5617,2,    24.91,     -999,9,     -999,9,   1.4125,2,     -999,9,     -999,9,     -999,     -999,9,     -999,9,     -999,9,     -999,9,    0.092,1,    4.650,1,    0.149,1,     -999,9,     -999,9,20180408,0035, -68.5010,-149.9973,     -999,9,     -999,9,-999          ,9,     -999,9,     -999,9,     -999,     -999,9,     -999,     -999,9,     -999,9,     -999,9,     -999,9,     -999,9,     -999,9,     -999,9,     -999,9,     -999,9,     -999,9,     -999,9,     -999,9,     -999,9,     -999,9
320620180309  ,P16        ,51      ,  1,29         ,29         ,2,20180407,2248, -68.5013,-149.9977,     4358,    202.0,1.5888249999999999318,34.719588806050091,2,  34.7172,2,181.72355159847856,2, 187.0982,3,    182.3,2,     94.7,2,    32.63,2,     0.02,2,     2.23,2,    0.324,2,    0.170,2,   0.0700,2,   2262.0,6,  2357.84,3,   7.5718,2,    24.92,     -999,9,     -999,1,   1.5888,2,     -999,9,     -999,9,     -999,     -999,9,     -999,9,     -999,9,     -999,1,    0.065,1,    4.657,1,    0.145,1,  22.7000,2,     -999,1,20180408,0033, -68.5012,-149.9971,     -999,1,     -999,1,-999          ,9,     -999,1,     -999,9,     -999,     -999,9,     -999,     -999,9,     -999,1,     -999,1,     -999,1,     -999,1,     -999,1,     -999,1,     -999,1,     -999,1,     -999,1,     -999,1,     -999,1,     -999,1,     -999,1
320620180309  ,P16        ,51      ,  1,28         ,28         ,2,20180407,2248, -68.5013,-149.9977,     4358,    252.1,1.5190083333333330717,34.727860162109465,2,  34.7255,2,182.16054938657297,2, 185.9980,3,    183.0,2,     98.5,2,    32.59,2,     0.00,2,     2.21,2,     -999,9,     -999,9,     -999,9,   2263.5,2,  2353.65,2,   7.5783,2,    24.91,     -999,9,     -999,9,   1.5170,2,     -999,9,     -999,9,     -999,     -999,9,     -999,9,     -999,9,     -999,9,    0.062,1,    4.658,1,    0.138,1,     -999,9,     -999,9,20180408,0031, -68.5012,-149.9971,     -999,9,     -999,9,-999          ,9,     -999,9,     -999,9,     -999,     -999,9,     -999,     -999,9,     -999,9,     -999,9,     -999,9,     -999,9,     -999,9,     -999,9,     -999,9,     -999,9,     -999,9,     -999,9,     -999,9,     -999,9,     -999,9
320620180309  ,P16        ,51      ,  1,27         ,27         ,2,20180407,2248, -68.5013,-149.9977,     4358,    303.0,1.4412055555555554065,34.731231881366426,2,  34.7300,2,182.41612594832705,2, 186.1992,3,    183.6,2,    101.8,2,    32.59,2,     0.00,2,     2.22,2,     -999,9,     -999,9,     -999,9,     -999,9,     -999,9,     -999,9,     -999,     -999,9,     -999,1,   1.4403,2,     -999,9,     -999,9,     -999,     -999,9,     -999,9,     -999,9,     -999,1,    0.061,1,    4.660,1,    0.135,1,     -999,9,     -999,1,20180408,0029, -68.5011,-149.9972,     -999,1,     -999,1,-999          ,9,     -999,1,     -999,9,     -999,     -999,9,     -999,     -999,9,     -999,1,     -999,1,     -999,1,     -999,1,     -999,1,     -999,1,     -999,1,     -999,1,     -999,1,     -999,1,     -999,1,     -999,1,     -999,1
320620180309  ,P16        ,51      ,  1,26         ,26         ,2,20180407,2248, -68.5013,-149.9977,     4358,    353.0,1.3906499999999999417,34.732075932784696,2,  34.7302,2,183.72790143738536,2, 187.0008,2,    185.2,2,    104.1,2,    32.59,2,     0.00,2,     2.22,2,    0.147,2,    0.079,2,   0.1000,2,   2264.5,2,  2358.11,2,   7.5794,6,    24.93,     -999,9,     -999,9,   1.3899,2,     -999,9,     -999,9,     -999,     -999,9,     -999,9,     -999,9,     -999,9,    0.061,1,    4.660,1,    0.138,1,  21.6900,2,     -999,9,20180408,0027, -68.5010,-149.9973,     -999,9,     -999,9,-999          ,9,     -999,9,     -999,9,     -999,     -999,9,     -999,     -999,9,     -999,9,     -999,9,     -999,9,     -999,9,     -999,9,     -999,9,     -999,9,     -999,9,     -999,9,     -999,9,     -999,9,     -999,9,     -999,9
320620180309  ,P16        ,51      ,  1,25         ,25         ,2,20180407,2248, -68.5013,-149.9977,     4358,    404.1,1.3493472222222224755,34.732271357097133,2,  34.7302,2,185.66888444549051,2, 187.6059,2,    186.9,2,    105.0,2,    32.45,2,     0.00,2,     2.22,2,     -999,9,     -999,9,     -999,9,     -999,9,     -999,9,     -999,9,     -999,     -999,9,     -999,1,   1.3486,2,     -999,9,     -999,9,     -999,     -999,9,     -999,9,     -999,9,     -999,1,    0.062,1,    4.661,1,    0.137,1,     -999,9,     -999,1,20180408,0025, -68.5009,-149.9975,     -999,1,     -999,1,-999          ,9,     -999,1,     -999,9,     -999,     -999,9,     -999,     -999,9,     -999,1,     -999,1,     -999,1,     -999,1,     -999,1,     -999,1,     -999,1,     -999,1,     -999,1,     -999,1,     -999,1,     -999,1,     -999,1
320620180309  ,P16        ,51      ,  1,24         ,24         ,2,20180407,2248, -68.5013,-149.9977,     4358,    454.1,1.3172500000000000320,34.731579629300953,2,  34.7298,2,187.17999938579450,2, 188.0988,2,    187.9,2,    106.0,2,    32.40,2,     0.00,2,     2.21,2,    0.116,2,    0.062,2,   0.1000,2,   2264.5,2,  2359.29,2,   7.5851,2,    24.92,     -999,9,     -999,9,   1.3162,2,     -999,9,     -999,9,     -999,     -999,9,     -999,9,     -999,9,     -999,9,    0.062,1,    4.660,1,    0.134,1,  21.1500,2,     -999,9,20180408,0023, -68.5007,-149.9977,     -999,9,     -999,9,-999          ,9,     -999,9,     -999,9,     -999,     -999,9,     -999,     -999,9,     -999,9,     -999,9,     -999,9,     -999,9,     -999,9,     -999,9,     -999,9,     -999,9,     -999,9,     -999,9,     -999,9,     -999,9,     -999,9
320620180309  ,P16        ,51      ,  1,23         ,23         ,2,20180407,2248, -68.5013,-149.9977,     4358,    506.5,1.2851583333333331804,34.730873224867423,2,  34.7290,2,188.33196416582456,2, 189.1026,2,    189.8,2,    106.8,2,    32.33,2,     0.00,2,     2.20,2,     -999,9,     -999,9,     -999,9,     -999,9,     -999,9,     -999,9,     -999,     -999,9,     -999,1,   1.2850,2,     -999,9,     -999,9,     -999,     -999,9,     -999,9,     -999,9,     -999,1,    0.061,1,    4.662,1,    0.133,1,     -999,9,     -999,1,20180408,0021, -68.5006,-149.9979,     -999,1,     -999,1,-999          ,9,     -999,1,     -999,9,     -999,     -999,9,     -999,     -999,9,     -999,1,     -999,1,     -999,1,     -999,1,     -999,1,     -999,1,     -999,1,     -999,1,     -999,1,     -999,1,     -999,1,     -999,1,     -999,1
320620180309  ,P16        ,51      ,  1,22         ,37         ,2,20180407,2248, -68.5013,-149.9977,     4358,    606.9,1.2428749999999999520,34.729496420462532,2,  34.7317,2,190.36289947719379,2, 190.8064,2,    191.5,2,    108.0,2,    32.35,2,     0.00,2,     2.18,2,    0.107,2,    0.057,2,   0.1100,2,   2264.4,2,  2360.65,2,   7.5902,2,    24.93,     -999,9,     -999,9,   1.2426,2,     -999,9,     -999,9,     -999,     -999,9,     -999,9,     -999,9,     -999,9,    0.062,1,    4.661,1,    0.135,1,  20.9600,2,     -999,9,20180408,0018, -68.5004,-149.9982,     -999,9,     -999,9,-999          ,9,     -999,9,     -999,9,     -999,     -999,9,     -999,     -999,9,     -999,9,     -999,9,     -999,9,     -999,9,     -999,9,     -999,9,     -999,9,     -999,9,     -999,9,     -999,9,     -999,9,     -999,9,     -999,9
320620180309  ,P16        ,51      ,  1,21         ,21         ,2,20180407,2248, -68.5013,-149.9977,     4358,    708.5,1.1984083333333332977,34.727847092167892,2,  34.7264,2,192.99959481730338,2, 192.6017,2,    192.8,2,    109.2,2,    32.31,2,     0.00,2,     2.18,2,     -999,9,     -999,9,     -999,9,   2257.8,4,  2362.15,2,   7.5945,2,    24.92,     -999,9,     -999,9,   1.1977,2,     -999,9,     -999,9,     -999,     -999,9,     -999,9,     -999,9,     -999,9,    0.062,1,    4.662,1,    0.133,1,     -999,9,     -999,9,20180408,0015, -68.5001,-149.9986,     -999,9,     -999,9,-999          ,9,     -999,9,     -999,9,     -999,     -999,9,     -999,     -999,9,     -999,1,     -999,1,     -999,1,     -999,1,     -999,1,     -999,1,     -999,1,     -999,1,     -999,1,     -999,1,     -999,1,     -999,1,     -999,1
320620180309  ,P16        ,51      ,  1,20         ,20         ,2,20180407,2248, -68.5013,-149.9977,     4358,    810.0,1.1527222222222226478,34.726104206947817,2,  34.7257,2,195.26456180149137,2, 193.6955,2,    194.9,2,    110.8,2,    32.31,2,     0.00,2,     2.19,2,     -999,9,     -999,9,     -999,9,     -999,9,     -999,9,     -999,9,     -999,     -999,9,     -999,9,   1.1519,2,     -999,9,     -999,9,     -999,     -999,9,     -999,9,     -999,9,     -999,9,    0.061,1,    4.662,1,    0.138,1,     -999,9,     -999,9,20180408,0012, -68.5001,-149.9987,     -999,9,     -999,9,-999          ,9,     -999,9,     -999,9,     -999,     -999,9,     -999,     -999,9,     -999,9,     -999,9,     -999,9,     -999,9,     -999,9,     -999,9,     -999,9,     -999,9,     -999,9,     -999,9,     -999,9,     -999,9,     -999,9
320620180309  ,P16        ,51      ,  1,19         ,19         ,2,20180407,2248, -68.5013,-149.9977,     4358,    911.0,1.1187972222222219987,34.724682760715062,2,  34.7245,2,196.95133818764666,2, 194.7979,2,    196.1,2,    112.1,2,    32.22,2,     0.00,2,     2.19,2,    0.098,2,    0.059,2,   0.0100,2,   2263.7,2,  2363.02,2,   7.5962,2,    24.92,     -999,9,     -999,1,   1.1179,2,     -999,9,     -999,9,     -999,     -999,9,     -999,9,     -999,9,     -999,1,    0.061,1,    4.663,1,    0.132,1,  21.2400,2,     -999,1,20180408,0009, -68.5002,-149.9985,     -999,1,     -999,1,-999          ,9,     -999,1,     -999,9,     -999,     -999,9,     -999,     -999,9,     -999,1,     -999,1,     -999,1,     -999,1,     -999,1,     -999,1,     -999,1,     -999,1,     -999,1,     -999,1,     -999,1,     -999,1,     -999,1
320620180309  ,P16        ,51      ,  1,18         ,18         ,2,20180407,2248, -68.5013,-149.9977,     4358,   1011.5,1.0854305555555554541,34.723004212460026,2,  34.7225,2,198.10640104437195,2, 196.0058,2,    197.1,2,    112.7,2,    32.22,2,     0.00,2,     2.17,2,     -999,9,     -999,9,     -999,9,     -999,9,     -999,9,     -999,9,     -999,     -999,9,     -999,9,   1.0846,2,     -999,9,     -999,9,     -999,     -999,9,     -999,9,     -999,9,     -999,9,    0.061,1,    4.664,1,    0.130,1,     -999,9,     -999,9,20180408,0007, -68.5003,-149.9984,     -999,9,     -999,9,-999          ,9,     -999,9,     -999,9,     -999,     -999,9,     -999,     -999,9,     -999,9,     -999,9,     -999,9,     -999,9,     -999,9,     -999,9,     -999,9,     -999,9,     -999,9,     -999,9,     -999,9,     -999,9,     -999,9
320620180309  ,P16        ,51      ,  1,17         ,17         ,2,20180407,2248, -68.5013,-149.9977,     4358,   1113.8,1.0665111111111111875,34.722165120972917,2,  34.7219,2,199.03300109877404,2, 197.1986,2,    197.5,2,    113.2,2,    32.20,2,     0.00,2,     2.18,2,     -999,9,     -999,9,     -999,9,   2261.4,2,  2363.89,2,   7.5989,2,    24.93,     -999,9,     -999,9,   1.0657,2,     -999,9,     -999,9,     -999,     -999,9,     -999,9,     -999,9,     -999,9,    0.061,1,    4.665,1,    0.128,1,     -999,9,     -999,9,20180408,0004, -68.5003,-149.9984,     -999,9,     -999,9,-999          ,9,     -999,9,     -999,9,     -999,     -999,9,     -999,     -999,9,     -999,1,     -999,1,     -999,1,     -999,1,     -999,1,     -999,1,     -999,1,     -999,1,     -999,1,     -999,1,     -999,1,     -999,1,     -999,1
320620180309  ,P16        ,51      ,  1,16         ,16         ,2,20180407,2248, -68.5013,-149.9977,     4358,   1214.4,1.0376361111111112034,34.720640877387275,2,  34.7204,2,199.31158551534008,2, 197.9991,2,    198.7,2,    114.4,2,    32.21,2,     0.00,2,     2.18,2,     -999,9,     -999,9,     -999,9,     -999,9,     -999,9,     -999,9,     -999,     -999,9,     -999,9,   1.0367,2,     -999,9,     -999,9,     -999,     -999,9,     -999,9,     -999,9,     -999,9,    0.061,1,    4.665,1,    0.130,1,     -999,9,     -999,9,20180408,0001, -68.5003,-149.9983,     -999,9,     -999,9,-999          ,9,     -999,9,     -999,9,     -999,     -999,9,     -999,     -999,9,     -999,9,     -999,9,     -999,9,     -999,9,     -999,9,     -999,9,     -999,9,     -999,9,     -999,9,     -999,9,     -999,9,     -999,9,     -999,9