BOTTLE,20240515CCHHYDRO
EXPOCODE,SECT_ID,STNNBR,CASTNO,SAMPNO,BTLNBR,BTLNBR_FLAG_W,DATE,TIME,LATITUDE,LONGITUDE,DEPTH,CTDPRS,CTDTMP,CTDSAL,CTDSAL_FLAG_W,SALNTY,SALNTY_FLAG_W,CTDOXY,CTDOXY_FLAG_W,CTDOPTOXY,CTDOPTOXY_FLAG_W,OXYGEN,OXYGEN_FLAG_W,SILCAT,SILCAT_FLAG_W,NITRAT,NITRAT_FLAG_W,NITRIT,NITRIT_FLAG_W,PHSPHT,PHSPHT_FLAG_W,CFC-11,CFC-11_FLAG_W,CFC-12,CFC-12_FLAG_W,SF6,SF6_FLAG_W,TCARBN,TCARBN_FLAG_W,ALKALI,ALKALI_FLAG_W,PH_TOT,PH_TOT_FLAG_W,PH_TMP,DOC,DOC_FLAG_W,HELIUM,HELIUM_FLAG_W,REFTMP,REFTMP_FLAG_W,DELC13,DELC13_FLAG_W,DELC14,DELC14_FLAG_W,C14ERR,POC,POC_FLAG_W,TDN,TDN_FLAG_W,TON,TON_FLAG_W,NEON,NEON_FLAG_W,CTDFLUOR,CTDFLUOR_FLAG_W,CTDXMISS,CTDXMISS_FLAG_W,CTDBETA700,CTDBETA700_FLAG_W,N2O,N2O_FLAG_W,ARGON,ARGON_FLAG_W,BTL_DATE,BTL_TIME,BTL_LAT,BTL_LON,KRYPTON,KRYPTON_FLAG_W,XENON,XENON_FLAG_W,HPLC,HPLC_FLAG_W,HE3_HE4_RATIO,HE3_HE4_RATIO_FLAG_W,Nd_143_144_D_EPSILON_BOTTLE,Nd_143_144_D_EPSILON_BOTTLE_FLAG_W,Nd_143_144_D_EPSILON_BOTTLE_ERROR,Nd_143_144_D_RATIO_BOTTLE,Nd_143_144_D_RATIO_BOTTLE_FLAG_W,Nd_143_144_D_RATIO_BOTTLE_ERROR,Nd_D_CONC,Nd_D_CONC_FLAG_W,La_D_CONC_BOTTLE,La_D_CONC_BOTTLE_FLAG_W,Ce_D_CONC_BOTTLE,Ce_D_CONC_BOTTLE_FLAG_W,Pr_D_CONC_BOTTLE,Pr_D_CONC_BOTTLE_FLAG_W,Sm_D_CONC_BOTTLE,Sm_D_CONC_BOTTLE_FLAG_W,Eu_D_CONC_BOTTLE,Eu_D_CONC_BOTTLE_FLAG_W,Gd_D_CONC_BOTTLE,Gd_D_CONC_BOTTLE_FLAG_W,Tb_D_CONC_BOTTLE,Tb_D_CONC_BOTTLE_FLAG_W,Dy_D_CONC_BOTTLE,Dy_D_CONC_BOTTLE_FLAG_W,Ho_D_CONC_BOTTLE,Ho_D_CONC_BOTTLE_FLAG_W,Er_D_CONC_BOTTLE,Er_D_CONC_BOTTLE_FLAG_W,Tm_D_CONC_BOTTLE,Tm_D_CONC_BOTTLE_FLAG_W,Yb_D_CONC_BOTTLE,Yb_D_CONC_BOTTLE_FLAG_W,Lu_D_CONC_BOTTLE,Lu_D_CONC_BOTTLE_FLAG_W
,,,,,,,,,,,METERS,DBAR,ITS-90,PSS-78,,PSS-78,,UMOL/KG,,UMOL/KG,,UMOL/KG,,UMOL/KG,,UMOL/KG,,UMOL/KG,,UMOL/KG,,PMOL/KG,,PMOL/KG,,FMOL/KG,,UMOL/KG,,UMOL/KG,,,,DEG C,UMOL/KG,,NMOL/L,,DEG C,,/MILLE,,/MILLE,,/MILLE,UG/KG,,UMOL/KG,,UMOL/KG,,NMOL/L,,VOLTS,,VOLTS,,VOLTS,,NMOL/KG,,UMOL/L,,,,,,NMOL/L,,NMOL/L,,,,,,10000,,10000,,,,PMOL/KG,,PMOL/L,,PMOL/L,,PMOL/L,,PMOL/L,,PMOL/L,,PMOL/L,,PMOL/L,,PMOL/L,,PMOL/L,,PMOL/L,,PMOL/L,,PMOL/L,,PMOL/L,
320620180309  ,S04P       ,72      ,  1,36         ,36         ,2,20180419,0121, -67.0003,-143.3987,     4207,      8.2,-1.0504166666666667762,33.827923286208424,2,  33.8259,2,350.01923341249079,2, 349.2995,2,    350.4,2,     35.5,2,    24.36,2,     0.29,2,     1.68,2,    5.715,2,    3.229,2,   4.0700,2,   2175.2,6,  2292.88,2,   7.6612,2,    24.91,     44.0,2,     -999,9,  -1.0513,2,     -999,9,     -999,9,     -999,     -999,9,     -999,9,     -999,1,     -999,9,    0.185,1,    4.600,1,    0.196,1,  16.0400,2,     -999,9,20180419,0332, -67.0006,-143.3985,     -999,9,     -999,9,-999          ,9,     -999,9,     -999,9,     -999,     -999,9,     -999,     -999,9,     -999,9,     -999,9,     -999,9,     -999,9,     -999,9,     -999,9,     -999,9,     -999,9,     -999,9,     -999,9,     -999,9,     -999,9,     -999,9
320620180309  ,S04P       ,72      ,  1,35         ,35         ,2,20180419,0121, -67.0003,-143.3987,     4207,     19.8,-1.0509388888888886449,33.827729987079650,2,  33.8259,2,350.68641207830422,2, 349.3003,2,    350.5,2,     35.3,2,    24.38,2,     0.29,2,     1.69,2,    5.712,2,    3.195,2,   4.0600,2,   2173.8,2,  2292.30,2,   7.6546,2,    24.91,     47.5,2,     -999,9,  -1.0515,2,     -999,9,     -999,9,     -999,     -999,9,    28.10,2,     -999,1,     -999,9,    0.187,1,    4.599,1,    0.202,1,  15.7900,2,     -999,9,20180419,0331, -67.0006,-143.3985,     -999,9,     -999,9,-999          ,9,     -999,9,     -999,9,     -999,     -999,9,     -999,     -999,9,     -999,9,     -999,9,     -999,9,     -999,9,     -999,9,     -999,9,     -999,9,     -999,9,     -999,9,     -999,9,     -999,9,     -999,9,     -999,9
320620180309  ,S04P       ,72      ,  1,34         ,34         ,2,20180419,0121, -67.0003,-143.3987,     4207,     39.2,-1.0493944444444442965,33.828078398318269,2,  33.8259,2,351.83351056892570,2, 349.3022,2,    350.4,2,     35.1,2,    24.38,2,     0.29,2,     1.70,2,     -999,9,     -999,9,     -999,9,   2175.7,2,  2279.62,2,   7.6600,6,    24.91,     47.7,2,     -999,9,  -1.0500,2,     -999,9,     -999,9,     -999,     -999,9,    27.00,2,     -999,1,     -999,9,    0.189,1,    4.599,1,    0.203,1,     -999,9,     -999,9,20180419,0329, -67.0006,-143.3984,     -999,9,     -999,9,-999          ,9,     -999,9,     -999,9,     -999,     -999,9,     -999,     -999,9,     -999,9,     -999,9,     -999,9,     -999,9,     -999,9,     -999,9,     -999,9,     -999,9,     -999,9,     -999,9,     -999,9,     -999,9,     -999,9
320620180309  ,S04P       ,72      ,  1,33         ,33         ,2,20180419,0121, -67.0003,-143.3987,     4207,     64.9,-1.0603638888888888836,33.830439268663838,2,  33.8261,2,353.24803157409451,2, 349.2990,2,    349.9,2,     35.6,2,    24.41,2,     0.29,2,     1.70,2,    5.717,2,    3.192,2,   3.9300,2,   2175.0,2,  2292.09,2,   7.6618,2,    24.91,     -999,9,     -999,9,  -1.0607,2,     -999,9,     -999,9,     -999,     -999,9,    27.00,2,     -999,1,     -999,9,    0.199,1,    4.601,1,    0.199,1,  16.0800,2,     -999,9,20180419,0327, -67.0006,-143.3984,     -999,9,     -999,9,-999          ,9,     -999,9,     -999,9,     -999,     -999,9,     -999,     -999,9,     -999,9,     -999,9,     -999,9,     -999,9,     -999,9,     -999,9,     -999,9,     -999,9,     -999,9,     -999,9,     -999,9,     -999,9,     -999,9
320620180309  ,S04P       ,72      ,  1,32         ,32         ,2,20180419,0121, -67.0003,-143.3987,     4207,     90.3,-1.1183000000000002938,33.832821670635887,2,  33.8304,2,354.28618002461945,2, 326.8908,2,     -999,5,     37.3,2,    24.57,2,     0.28,2,     1.72,2,     -999,9,     -999,9,     -999,9,   2177.0,2,  2293.15,2,   7.6616,2,    24.92,     46.2,2,     -999,9,  -1.1193,2,     -999,9,     -999,9,     -999,     -999,9,     -999,9,     -999,9,     -999,9,    0.197,1,    4.600,1,    0.194,1,     -999,9,     -999,9,20180419,0325, -67.0006,-143.3985,     -999,9,     -999,9,-999          ,9,     -999,9,     -999,9,     -999,     -999,9,     -999,     -999,9,     -999,9,     -999,9,     -999,9,     -999,9,     -999,9,     -999,9,     -999,9,     -999,9,     -999,9,     -999,9,     -999,9,     -999,9,     -999,9
320620180309  ,S04P       ,72      ,  1,31         ,31         ,2,20180419,0121, -67.0003,-143.3987,     4207,    115.0,-1.0539361111111114067,33.852718205400897,2,  33.8638,2,350.74413374403304,3, 347.7947,2,    346.2,2,     38.8,2,    24.82,2,     0.28,2,     1.75,2,    5.639,2,    3.170,2,   3.9500,2,   2178.4,2,  2295.03,2,   7.6573,2,    24.91,     47.1,2,     -999,9,  -1.0562,2,     -999,9,     -999,9,     -999,     -999,9,     -999,9,     -999,1,     -999,9,    0.189,1,    4.602,1,    0.207,1,  16.5300,2,     -999,9,20180419,0323, -67.0005,-143.3985,     -999,9,     -999,9,-999          ,9,     -999,9,     -999,9,     -999,     -999,9,     -999,     -999,9,     -999,9,     -999,9,     -999,9,     -999,9,     -999,9,     -999,9,     -999,9,     -999,9,     -999,9,     -999,9,     -999,9,     -999,9,     -999,9
320620180309  ,S04P       ,72      ,  1,30         ,30         ,2,20180419,0121, -67.0003,-143.3987,     4207,    140.8,-1.4041777777777779690,34.104708789334282,2,  34.1136,2,325.34152701388530,2, 324.8021,2,    325.0,2,     54.2,2,    27.23,2,     0.23,2,     1.97,2,    5.111,2,    2.845,2,   3.3300,2,   2205.4,2,  2309.71,2,   7.6203,2,    24.91,     45.8,2,     -999,9,  -1.4052,2,     -999,9,     -999,9,     -999,     -999,9,    29.50,2,     -999,1,     -999,9,    0.076,1,    4.644,1,    0.154,1,  18.1100,2,     -999,9,20180419,0322, -67.0005,-143.3985,     -999,9,     -999,9,-999          ,9,     -999,9,     -999,9,     -999,     -999,9,     -999,     -999,9,     -999,9,     -999,9,     -999,9,     -999,9,     -999,9,     -999,9,     -999,9,     -999,9,     -999,9,     -999,9,     -999,9,     -999,9,     -999,9
320620180309  ,S04P       ,72      ,  1,29         ,29         ,2,20180419,0121, -67.0003,-143.3987,     4207,    186.6,0.4111527777777778114,34.507224883602127,2,  34.5271,2,227.59054126545234,3, 223.2971,3,    215.1,2,     83.9,2,    32.85,2,     0.02,2,     2.28,2,    1.985,2,    1.078,2,   1.0100,2,   2254.2,2,  2334.83,2,   7.5563,2,    24.90,     45.1,2,     -999,9,   0.4007,2,     -999,9,     -999,9,     -999,     -999,9,    35.20,2,     -999,1,     -999,9,    0.067,1,    4.650,1,    0.156,1,  21.9000,2,     -999,9,20180419,0319, -67.0005,-143.3985,     -999,9,     -999,9,-999          ,9,     -999,9,     -999,9,     -999,     -999,9,     -999,     -999,9,     -999,9,     -999,9,     -999,9,     -999,9,     -999,9,     -999,9,     -999,9,     -999,9,     -999,9,     -999,9,     -999,9,     -999,9,     -999,9
320620180309  ,S04P       ,72      ,  1,28         ,28         ,2,20180419,0121, -67.0003,-143.3987,     4207,    236.7,1.4483472222222220083,34.708908683049096,2,  34.7080,2,176.31031026989820,2, 180.0013,3,    176.8,2,     96.9,2,    33.48,2,     0.01,2,     2.28,2,    0.413,2,    0.224,2,   0.1500,2,   2266.9,6,  2349.21,2,   7.5520,2,    24.90,     44.4,2,     -999,9,   1.4470,2,     -999,9,     -999,9,     -999,     -999,9,    36.00,2,     -999,1,     -999,9,    0.063,1,    4.650,1,    0.151,1,  22.5400,2,     -999,9,20180419,0317, -67.0005,-143.3985,     -999,9,     -999,9,-999          ,9,     -999,9,     -999,9,     -999,     -999,9,     -999,     -999,9,     -999,9,     -999,9,     -999,9,     -999,9,     -999,9,     -999,9,     -999,9,     -999,9,     -999,9,     -999,9,     -999,9,     -999,9,     -999,9
320620180309  ,S04P       ,72      ,  1,27         ,27         ,2,20180419,0121, -67.0003,-143.3987,     4207,    286.9,1.4681555555555556580,34.723312148011786,2,  34.7217,2,176.79870973127021,2, 178.5032,2,    176.4,2,    100.0,2,    33.39,2,     0.00,2,     2.27,2,    0.299,2,    0.150,2,   0.0500,2,   2268.4,2,  2353.07,2,   7.5546,2,    24.90,     42.8,2,     -999,9,   1.4698,2,     -999,9,     -999,9,     -999,     -999,9,    35.00,2,     -999,1,     -999,9,    0.062,1,    4.655,1,    0.142,1,  22.8100,2,     -999,9,20180419,0315, -67.0006,-143.3985,     -999,9,     -999,9,-999          ,9,     -999,9,     -999,9,     -999,     -999,9,     -999,     -999,9,     -999,9,     -999,9,     -999,9,     -999,9,     -999,9,     -999,9,     -999,9,     -999,9,     -999,9,     -999,9,     -999,9,     -999,9,     -999,9
320620180309  ,S04P       ,72      ,  1,26         ,26         ,2,20180419,0121, -67.0003,-143.3987,     4207,    337.6,1.4301666666666668082,34.727895235258451,2,  34.7268,2,177.42258552896413,2, 179.4966,2,    177.8,2,    101.6,2,    33.23,2,     0.00,2,     2.26,2,    0.248,2,    0.127,2,   0.0000,2,   2267.4,2,  2354.30,2,   7.5621,2,    24.90,     41.2,2,     -999,9,   1.4295,2,     -999,9,     -999,9,     -999,     -999,9,     -999,9,     -999,1,     -999,9,    0.062,1,    4.659,1,    0.141,1,  22.2000,2,     -999,9,20180419,0312, -67.0006,-143.3985,     -999,9,     -999,9,-999          ,9,     -999,9,     -999,9,     -999,     -999,9,     -999,     -999,9,     -999,9,     -999,9,     -999,9,     -999,9,     -999,9,     -999,9,     -999,9,     -999,9,     -999,9,     -999,9,     -999,9,     -999,9,     -999,9
320620180309  ,S04P       ,72      ,  1,25         ,25         ,2,20180419,0121, -67.0003,-143.3987,     4207,    388.7,1.3932583333333332654,34.729836910648281,2,  34.7290,2,180.49482987819351,2, 178.8980,2,    179.2,2,    103.8,2,    33.19,2,     0.00,2,     2.25,2,    0.221,2,    0.114,2,   0.0400,2,   2265.9,2,  2355.94,2,   7.5622,2,    24.91,     -999,9,     -999,9,   1.3925,2,     -999,9,     -999,9,     -999,     -999,9,     -999,9,     -999,9,     -999,9,    0.062,1,    4.659,1,    0.137,1,  22.3800,2,     -999,9,20180419,0310, -67.0007,-143.3985,     -999,9,     -999,9,-999          ,9,     -999,9,     -999,9,     -999,     -999,9,     -999,     -999,9,     -999,9,     -999,9,     -999,9,     -999,9,     -999,9,     -999,9,     -999,9,     -999,9,     -999,9,     -999,9,     -999,9,     -999,9,     -999,9
320620180309  ,S04P       ,72      ,  1,24         ,24         ,2,20180419,0121, -67.0003,-143.3987,     4207,    439.5,1.3522277777777782504,34.730326418087735,2,  34.7286,2,181.13992661934725,3, 181.2998,2,    179.0,2,    105.8,2,    33.29,2,     0.00,2,     2.25,2,    0.192,2,    0.099,2,   0.0500,2,   2269.5,2,  2355.12,2,   7.5612,2,    24.90,     42.3,2,     -999,9,   1.3516,2,     -999,9,     -999,9,     -999,     -999,9,     -999,9,     -999,1,     -999,9,    0.062,1,    4.658,1,    0.142,1,  21.6600,2,     -999,9,20180419,0308, -67.0008,-143.3984,     -999,9,     -999,9,-999          ,9,     -999,9,     -999,9,     -999,     -999,9,     -999,     -999,9,     -999,9,     -999,9,     -999,9,     -999,9,     -999,9,     -999,9,     -999,9,     -999,9,     -999,9,     -999,9,     -999,9,     -999,9,     -999,9
320620180309  ,S04P       ,72      ,  1,23         ,23         ,2,20180419,0121, -67.0003,-143.3987,     4207,    489.6,1.3033083333333332909,34.730256714981842,2,  34.7288,2,181.99340373911906,2, 181.4004,2,    181.4,2,    107.1,2,    33.09,2,     0.00,2,     2.24,2,    0.170,6,    0.082,6,   0.0000,6,   2268.3,2,  2356.86,2,   7.5674,2,    24.90,     -999,9,     -999,9,   1.3029,2,     -999,9,     -999,9,     -999,     -999,9,     -999,9,     -999,9,     -999,9,    0.061,1,    4.661,1,    0.137,1,  21.0600,6,     -999,9,20180419,0306, -67.0007,-143.3984,     -999,9,     -999,9,-999          ,9,     -999,9,     -999,9,     -999,     -999,9,     -999,     -999,9,     -999,9,     -999,9,     -999,9,     -999,9,     -999,9,     -999,9,     -999,9,     -999,9,     -999,9,     -999,9,     -999,9,     -999,9,     -999,9
320620180309  ,S04P       ,72      ,  1,22         ,37         ,2,20180419,0121, -67.0003,-143.3987,     4207,    570.0,1.2448277777777778663,34.729233310751148,2,  34.7282,2,183.67538139808707,2, 183.5976,2,    183.1,2,    109.2,2,    33.08,2,     0.00,2,     2.25,2,     -999,9,     -999,9,     -999,9,   2266.6,2,  2357.99,2,   7.5687,2,    24.89,     42.5,2,     -999,9,   1.2442,2,     -999,9,     -999,9,     -999,     -999,9,     -999,9,     -999,1,     -999,9,    0.061,1,    4.662,1,    0.136,1,     -999,9,     -999,9,20180419,0303, -67.0007,-143.3984,     -999,9,     -999,9,-999          ,9,     -999,9,     -999,9,     -999,     -999,9,     -999,     -999,9,     -999,9,     -999,9,     -999,9,     -999,9,     -999,9,     -999,9,     -999,9,     -999,9,     -999,9,     -999,9,     -999,9,     -999,9,     -999,9
320620180309  ,S04P       ,72      ,  1,21         ,21         ,2,20180419,0121, -67.0003,-143.3987,     4207,    672.1,1.1822527777777775970,34.727399530943117,2,  34.7263,2,186.41963969826097,2, 185.0983,2,    185.7,2,    111.2,2,    32.93,2,     0.00,2,     2.24,2,    0.143,2,    0.072,2,   0.0000,2,   2266.7,2,  2359.62,2,   7.5703,2,    24.89,     39.8,2,     -999,9,   1.1817,2,     -999,9,     -999,9,     -999,     -999,9,     -999,9,     -999,1,     -999,9,    0.061,1,    4.662,1,    0.134,1,  20.7800,2,     -999,9,20180419,0300, -67.0006,-143.3984,     -999,9,     -999,9,-999          ,9,     -999,9,     -999,9,     -999,     -999,9,     -999,     -999,9,     -999,9,     -999,9,     -999,9,     -999,9,     -999,9,     -999,9,     -999,9,     -999,9,     -999,9,     -999,9,     -999,9,     -999,9,     -999,9
320620180309  ,S04P       ,72      ,  1,20         ,20         ,2,20180419,0121, -67.0003,-143.3987,     4207,    773.7,1.1192138888888889525,34.725394022055795,2,  34.7247,2,189.44106528084347,2, 187.1989,2,    189.3,2,    112.9,2,    32.86,2,     0.00,2,     2.24,2,     -999,9,     -999,9,     -999,9,   2266.6,2,  2360.96,2,   7.5775,2,    24.90,     43.5,2,     -999,9,   1.1186,2,     -999,9,     -999,9,     -999,     -999,9,     -999,9,     -999,1,     -999,9,    0.062,1,    4.662,1,    0.142,1,     -999,9,     -999,9,20180419,0257, -67.0005,-143.3985,     -999,9,     -999,9,-999          ,9,     -999,9,     -999,9,     -999,     -999,9,     -999,     -999,9,     -999,9,     -999,9,     -999,9,     -999,9,     -999,9,     -999,9,     -999,9,     -999,9,     -999,9,     -999,9,     -999,9,     -999,9,     -999,9
320620180309  ,S04P       ,72      ,  1,19         ,19         ,2,20180419,0121, -67.0003,-143.3987,     4207,    874.4,1.0454749999999999321,34.722488549840413,2,  34.7219,2,191.13637445533018,2, 190.9022,2,    192.0,2,    114.9,2,    32.78,2,     0.00,2,     2.24,2,    0.128,2,    0.063,2,   0.0000,2,   2265.9,2,  2361.63,2,   7.5820,2,    24.88,     41.7,2,     -999,9,   1.0447,2,     -999,9,     -999,9,     -999,     -999,9,     -999,9,     -999,1,     -999,9,    0.061,1,    4.662,1,    0.131,1,  20.4600,2,     -999,9,20180419,0254, -67.0005,-143.3985,     -999,9,     -999,9,-999          ,9,     -999,9,     -999,9,     -999,     -999,9,     -999,     -999,9,     -999,9,     -999,9,     -999,9,     -999,9,     -999,9,     -999,9,     -999,9,     -999,9,     -999,9,     -999,9,     -999,9,     -999,9,     -999,9
320620180309  ,S04P       ,72      ,  1,18         ,18         ,2,20180419,0121, -67.0003,-143.3987,     4207,    975.6,0.9815305555555554617,34.719951801211089,2,  34.7192,2,194.57878376169762,2, 193.2026,2,    194.8,2,    116.7,2,    32.67,2,     0.00,2,     2.23,2,     -999,9,     -999,9,     -999,9,   2264.5,2,  2362.76,2,   7.5875,2,    24.89,     38.4,2,     -999,9,   0.9814,2,     -999,9,     -999,9,     -999,     -999,9,     -999,9,     -999,1,     -999,9,    0.061,1,    4.664,1,    0.131,1,     -999,9,     -999,9,20180419,0251, -67.0004,-143.3986,     -999,9,     -999,9,-999          ,9,     -999,9,     -999,9,     -999,     -999,9,     -999,     -999,9,     -999,9,     -999,9,     -999,9,     -999,9,     -999,9,     -999,9,     -999,9,     -999,9,     -999,9,     -999,9,     -999,9,     -999,9,     -999,9
320620180309  ,S04P       ,72      ,  1,17         ,17         ,2,20180419,0121, -67.0003,-143.3987,     4207,   1077.4,0.9318444444444443642,34.717921540509188,2,  34.7182,2,196.20795584808258,2, 195.7029,2,    196.2,2,    118.1,2,    32.62,2,     0.00,2,     2.23,2,    0.108,2,    0.053,2,   0.0500,2,   2264.6,2,  2361.05,2,   7.5877,2,    24.88,     42.2,2,     -999,9,   0.9314,2,     -999,9,     -999,9,     -999,     -999,9,     -999,9,     -999,1,     -999,9,    0.061,1,    4.664,1,    0.130,1,  19.9700,2,     -999,9,20180419,0247, -67.0003,-143.3986,     -999,9,     -999,9,-999          ,9,     -999,9,     -999,9,     -999,     -999,9,     -999,     -999,9,     -999,9,     -999,9,     -999,9,     -999,9,     -999,9,     -999,9,     -999,9,     -999,9,     -999,9,     -999,9,     -999,9,     -999,9,     -999,9
320620180309  ,S04P       ,72      ,  1,16         ,16         ,2,20180419,0121, -67.0003,-143.3987,     4207,   1179.0,0.8826111111111110130,34.715760330830733,2,  34.7155,2,198.32565441837042,2, 197.2995,2,    198.2,2,    119.9,2,    32.66,2,     0.00,2,     2.23,2,     -999,9,     -999,9,     -999,9,   2264.2,2,  2362.86,2,   7.5898,2,    24.89,     40.5,2,     -999,9,   0.8825,2,     -999,9,     -999,9,     -999,     -999,9,     -999,9,     -999,1,     -999,9,    0.061,1,    4.664,1,    0.129,1,     -999,9,     -999,9,20180419,0244, -67.0004,-143.3986,     -999,9,     -999,9,-999          ,9,     -999,9,     -999,9,     -999,     -999,9,     -999,     -999,9,     -999,9,     -999,9,     -999,9,     -999,9,     -999,9,     -999,9,     -999,9,     -999,9,     -999,9,     -999,9,     -999,9,     -999,9,     -999,9