BOTTLE,20240515CCHHYDRO
EXPOCODE,SECT_ID,STNNBR,CASTNO,SAMPNO,BTLNBR,BTLNBR_FLAG_W,DATE,TIME,LATITUDE,LONGITUDE,DEPTH,CTDPRS,CTDTMP,CTDSAL,CTDSAL_FLAG_W,SALNTY,SALNTY_FLAG_W,CTDOXY,CTDOXY_FLAG_W,CTDOPTOXY,CTDOPTOXY_FLAG_W,OXYGEN,OXYGEN_FLAG_W,SILCAT,SILCAT_FLAG_W,NITRAT,NITRAT_FLAG_W,NITRIT,NITRIT_FLAG_W,PHSPHT,PHSPHT_FLAG_W,CFC-11,CFC-11_FLAG_W,CFC-12,CFC-12_FLAG_W,SF6,SF6_FLAG_W,TCARBN,TCARBN_FLAG_W,ALKALI,ALKALI_FLAG_W,PH_TOT,PH_TOT_FLAG_W,PH_TMP,DOC,DOC_FLAG_W,HELIUM,HELIUM_FLAG_W,REFTMP,REFTMP_FLAG_W,DELC13,DELC13_FLAG_W,DELC14,DELC14_FLAG_W,C14ERR,POC,POC_FLAG_W,TDN,TDN_FLAG_W,TON,TON_FLAG_W,NEON,NEON_FLAG_W,CTDFLUOR,CTDFLUOR_FLAG_W,CTDXMISS,CTDXMISS_FLAG_W,CTDBETA700,CTDBETA700_FLAG_W,N2O,N2O_FLAG_W,ARGON,ARGON_FLAG_W,BTL_DATE,BTL_TIME,BTL_LAT,BTL_LON,KRYPTON,KRYPTON_FLAG_W,XENON,XENON_FLAG_W,HPLC,HPLC_FLAG_W,HE3_HE4_RATIO,HE3_HE4_RATIO_FLAG_W,Nd_143_144_D_EPSILON_BOTTLE,Nd_143_144_D_EPSILON_BOTTLE_FLAG_W,Nd_143_144_D_EPSILON_BOTTLE_ERROR,Nd_143_144_D_RATIO_BOTTLE,Nd_143_144_D_RATIO_BOTTLE_FLAG_W,Nd_143_144_D_RATIO_BOTTLE_ERROR,Nd_D_CONC,Nd_D_CONC_FLAG_W,La_D_CONC_BOTTLE,La_D_CONC_BOTTLE_FLAG_W,Ce_D_CONC_BOTTLE,Ce_D_CONC_BOTTLE_FLAG_W,Pr_D_CONC_BOTTLE,Pr_D_CONC_BOTTLE_FLAG_W,Sm_D_CONC_BOTTLE,Sm_D_CONC_BOTTLE_FLAG_W,Eu_D_CONC_BOTTLE,Eu_D_CONC_BOTTLE_FLAG_W,Gd_D_CONC_BOTTLE,Gd_D_CONC_BOTTLE_FLAG_W,Tb_D_CONC_BOTTLE,Tb_D_CONC_BOTTLE_FLAG_W,Dy_D_CONC_BOTTLE,Dy_D_CONC_BOTTLE_FLAG_W,Ho_D_CONC_BOTTLE,Ho_D_CONC_BOTTLE_FLAG_W,Er_D_CONC_BOTTLE,Er_D_CONC_BOTTLE_FLAG_W,Tm_D_CONC_BOTTLE,Tm_D_CONC_BOTTLE_FLAG_W,Yb_D_CONC_BOTTLE,Yb_D_CONC_BOTTLE_FLAG_W,Lu_D_CONC_BOTTLE,Lu_D_CONC_BOTTLE_FLAG_W
,,,,,,,,,,,METERS,DBAR,ITS-90,PSS-78,,PSS-78,,UMOL/KG,,UMOL/KG,,UMOL/KG,,UMOL/KG,,UMOL/KG,,UMOL/KG,,UMOL/KG,,PMOL/KG,,PMOL/KG,,FMOL/KG,,UMOL/KG,,UMOL/KG,,,,DEG C,UMOL/KG,,NMOL/L,,DEG C,,/MILLE,,/MILLE,,/MILLE,UG/KG,,UMOL/KG,,UMOL/KG,,NMOL/L,,VOLTS,,VOLTS,,VOLTS,,NMOL/KG,,UMOL/L,,,,,,NMOL/L,,NMOL/L,,,,,,10000,,10000,,,,PMOL/KG,,PMOL/L,,PMOL/L,,PMOL/L,,PMOL/L,,PMOL/L,,PMOL/L,,PMOL/L,,PMOL/L,,PMOL/L,,PMOL/L,,PMOL/L,,PMOL/L,,PMOL/L,
320620180309  ,P16        ,53      ,  1,15         ,15         ,2,20180408,1206, -67.5146,-149.9949,     4389,   1383.3,0.8304555555555555024,34.712718696611162,2,  34.7115,2,201.82047278095501,2, 200.5975,2,    201.2,2,    121.0,2,    32.76,2,     0.00,2,     2.26,2,     -999,9,     -999,9,     -999,9,   2262.6,2,  2365.62,2,   7.5967,2,    24.92,     -999,9,     -999,9,   0.8296,2,     -999,9,     -999,9,     -999,     -999,9,     -999,9,     -999,9,     -999,9,    0.061,1,    4.667,1,    0.127,1,     -999,9,     -999,9,20180408,1323, -67.5200,-149.9909,     -999,9,     -999,9,-999          ,9,     -999,9,     -999,9,     -999,     -999,9,     -999,     -999,9,     -999,1,     -999,1,     -999,1,     -999,1,     -999,1,     -999,1,     -999,1,     -999,1,     -999,1,     -999,1,     -999,1,     -999,1,     -999,1
320620180309  ,P16        ,53      ,  1,14         ,14         ,2,20180408,1206, -67.5146,-149.9949,     4389,   1484.2,0.7948833333333331641,34.711118051181693,2,  34.7092,2,203.64194148434981,2, 201.5989,2,    203.7,2,    122.5,2,    32.83,2,     0.00,2,     2.26,2,    0.116,2,    0.068,2,  -0.0400,2,   2262.6,2,  2363.48,2,   7.5977,2,    24.91,     -999,9,     -999,9,   0.7945,2,     -999,9,     -999,9,     -999,     -999,9,     -999,9,     -999,9,     -999,9,    0.061,1,    4.667,1,    0.127,1,  20.6000,2,     -999,9,20180408,1320, -67.5197,-149.9913,     -999,9,     -999,9,-999          ,9,     -999,9,     -999,9,     -999,     -999,9,     -999,     -999,9,     -999,9,     -999,9,     -999,9,     -999,9,     -999,9,     -999,9,     -999,9,     -999,9,     -999,9,     -999,9,     -999,9,     -999,9,     -999,9
320620180309  ,P16        ,53      ,  1,13         ,13         ,2,20180408,1206, -67.5146,-149.9949,     4389,   1586.0,0.7406250000000000888,34.708910983389600,2,  34.7086,2,203.68542706337945,2, 202.9940,2,    203.5,2,    123.7,2,    32.84,2,     0.00,2,     2.26,2,     -999,9,     -999,9,     -999,9,   2262.8,2,  2364.37,2,   7.6003,2,    24.91,     -999,9,     -999,9,   0.7397,2,     -999,9,     -999,9,     -999,     -999,9,     -999,9,     -999,9,     -999,9,    0.060,1,    4.667,1,    0.127,1,     -999,9,     -999,9,20180408,1317, -67.5194,-149.9918,     -999,9,     -999,9,-999          ,9,     -999,9,     -999,9,     -999,     -999,9,     -999,     -999,9,     -999,1,     -999,1,     -999,1,     -999,1,     -999,1,     -999,1,     -999,1,     -999,1,     -999,1,     -999,1,     -999,1,     -999,1,     -999,1
320620180309  ,P16        ,53      ,  1,12         ,12         ,2,20180408,1206, -67.5146,-149.9949,     4389,   1759.0,0.6846944444444443834,34.706837117305952,2,  34.7062,2,205.47486182046748,2, 204.7015,2,    206.0,2,    125.8,2,    32.86,2,     0.00,2,     2.27,2,    0.139,2,    0.084,2,  -0.0700,2,   2262.8,2,  2367.52,3,   7.5997,2,    24.91,     -999,9,     -999,9,   0.6839,2,     -999,9,     -999,9,     -999,     -999,9,     -999,9,     -999,9,     -999,9,    0.061,1,    4.668,1,    0.126,1,  19.6800,2,     -999,9,20180408,1313, -67.5190,-149.9924,     -999,9,     -999,9,-999          ,9,     -999,9,     -999,9,     -999,     -999,9,     -999,     -999,9,     -999,9,     -999,9,     -999,9,     -999,9,     -999,9,     -999,9,     -999,9,     -999,9,     -999,9,     -999,9,     -999,9,     -999,9,     -999,9
320620180309  ,P16        ,53      ,  1,11         ,11         ,2,20180408,1206, -67.5146,-149.9949,     4389,   1962.8,0.6146472222222221227,34.704731324079461,2,  34.7043,2,206.58087556624048,2, 206.6952,2,    206.9,2,    127.1,2,    32.96,2,     0.00,2,     2.26,2,     -999,9,     -999,9,     -999,9,   2260.8,3,  2364.41,2,   7.5995,2,    24.92,     -999,9,     -999,9,   0.6137,2,     -999,9,     -999,9,     -999,     -999,9,     -999,9,     -999,9,     -999,9,    0.061,1,    4.668,1,    0.126,1,     -999,9,     -999,9,20180408,1308, -67.5185,-149.9930,     -999,9,     -999,9,-999          ,9,     -999,9,     -999,9,     -999,     -999,9,     -999,     -999,9,     -999,1,     -999,1,     -999,1,     -999,1,     -999,1,     -999,1,     -999,1,     -999,1,     -999,1,     -999,1,     -999,1,     -999,1,     -999,1
320620180309  ,P16        ,53      ,  1,10         ,10         ,2,20180408,1206, -67.5146,-149.9949,     4389,   2197.3,0.5463305555555554305,34.703263764621006,2,  34.7023,2,209.50445360392746,2, 208.8027,2,    209.7,2,    128.3,2,    32.97,2,     0.00,2,     2.26,2,    0.157,2,    0.098,2,   0.1800,2,   2263.9,6,  2367.19,3,   7.6138,3,    24.91,     -999,9,     -999,9,   0.5454,2,     -999,9,     -999,9,     -999,     -999,9,     -999,9,     -999,9,     -999,9,    0.061,1,    4.667,1,    0.126,1,  19.5100,2,     -999,9,20180408,1302, -67.5180,-149.9938,     -999,9,     -999,9,-999          ,9,     -999,9,     -999,9,     -999,     -999,9,     -999,     -999,9,     -999,9,     -999,9,     -999,9,     -999,9,     -999,9,     -999,9,     -999,9,     -999,9,     -999,9,     -999,9,     -999,9,     -999,9,     -999,9
320620180309  ,P16        ,53      ,  1,9          ,9          ,2,20180408,1206, -67.5146,-149.9949,     4389,   2452.7,0.4595638888888888829,34.702034164018166,2,  34.7009,2,209.85396259195915,2, 211.0974,2,    210.2,2,    130.1,2,    33.04,2,     0.00,2,     2.26,2,     -999,9,     -999,9,     -999,9,   2260.0,3,  2363.25,2,   7.5946,6,    24.91,     -999,9,     -999,9,   0.4591,2,     -999,9,     -999,9,     -999,     -999,9,     -999,9,     -999,9,     -999,9,    0.060,1,    4.667,1,    0.125,1,     -999,9,     -999,9,20180408,1255, -67.5174,-149.9946,     -999,9,     -999,9,-999          ,9,     -999,9,     -999,9,     -999,     -999,9,     -999,     -999,9,     -999,1,     -999,1,     -999,1,     -999,1,     -999,1,     -999,1,     -999,1,     -999,1,     -999,1,     -999,1,     -999,1,     -999,1,     -999,1
320620180309  ,P16        ,53      ,  1,8          ,8          ,2,20180408,1206, -67.5146,-149.9949,     4389,   2708.9,0.3977611111111111764,34.701256116296811,2,  34.6994,2,211.78191270014261,2, 213.0068,2,    212.3,2,    132.2,2,    33.12,2,     0.00,2,     2.27,2,    0.174,2,    0.100,2,   0.0500,2,   2263.5,2,  2364.19,2,   7.5941,2,    24.84,     -999,9,     -999,9,   0.3963,2,     -999,9,     -999,9,     -999,     -999,9,     -999,9,     -999,9,     -999,9,    0.061,1,    4.667,1,    0.123,1,  19.2900,2,     -999,9,20180408,1249, -67.5168,-149.9954,     -999,9,     -999,9,-999          ,9,     -999,9,     -999,9,     -999,     -999,9,     -999,     -999,9,     -999,9,     -999,9,     -999,9,     -999,9,     -999,9,     -999,9,     -999,9,     -999,9,     -999,9,     -999,9,     -999,9,     -999,9,     -999,9
320620180309  ,P16        ,53      ,  1,7          ,7          ,2,20180408,1206, -67.5146,-149.9949,     4389,   2965.3,0.3476777777777777523,34.700539438695074,2,  34.6994,2,213.93113272481585,2, 214.6039,2,    214.1,2,    133.4,2,    33.17,2,     0.00,2,     2.26,2,    0.212,2,    0.117,2,   0.0900,2,   2263.1,2,  2363.82,2,   7.5938,2,    24.89,     -999,9,     -999,9,   0.3465,2,     -999,9,     -999,9,     -999,     -999,9,     -999,9,     -999,9,     -999,9,    0.061,1,    4.667,1,    0.127,1,  19.6400,2,     -999,9,20180408,1244, -67.5168,-149.9954,     -999,9,     -999,9,-999          ,9,     -999,9,     -999,9,     -999,     -999,9,     -999,     -999,9,     -999,1,     -999,1,     -999,1,     -999,1,     -999,1,     -999,1,     -999,1,     -999,1,     -999,1,     -999,1,     -999,1,     -999,1,     -999,1
320620180309  ,P16        ,53      ,  1,6          ,6          ,2,20180408,1206, -67.5146,-149.9949,     4389,   3257.3,0.2889805555555555183,34.698523239866887,2,  34.6968,2,214.46020189972958,3, 216.8011,2,    216.7,2,    134.1,2,    33.15,2,     0.00,2,     2.28,2,    0.334,2,    0.183,2,   0.0900,2,   2263.2,2,  2364.21,2,   7.5937,2,    24.90,     -999,9,     -999,9,   0.2878,2,     -999,9,     -999,9,     -999,     -999,9,     -999,9,     -999,9,     -999,9,    0.061,1,    4.667,1,    0.123,1,  19.6700,2,     -999,9,20180408,1236, -67.5168,-149.9954,     -999,9,     -999,9,-999          ,9,     -999,9,     -999,9,     -999,     -999,9,     -999,     -999,9,     -999,9,     -999,9,     -999,9,     -999,9,     -999,9,     -999,9,     -999,9,     -999,9,     -999,9,     -999,9,     -999,9,     -999,9,     -999,9
320620180309  ,P16        ,53      ,  1,5          ,5          ,2,20180408,1206, -67.5146,-149.9949,     4389,   3589.8,0.2380916666666666459,34.694803606477755,2,  34.6941,2,219.64698821415837,2, 218.7049,2,    218.6,2,    130.1,2,    33.08,2,     0.00,2,     2.27,2,    0.595,2,    0.319,2,   0.0900,2,   2262.4,2,  2361.46,2,   7.5945,2,    24.89,     -999,9,     -999,9,   0.2372,2,     -999,9,     -999,9,     -999,     -999,9,     -999,9,     -999,9,     -999,9,    0.061,1,    4.666,1,    0.123,1,  19.8000,2,     -999,9,20180408,1229, -67.5166,-149.9955,     -999,9,     -999,9,-999          ,9,     -999,9,     -999,9,     -999,     -999,9,     -999,     -999,9,     -999,1,     -999,1,     -999,1,     -999,1,     -999,1,     -999,1,     -999,1,     -999,1,     -999,1,     -999,1,     -999,1,     -999,1,     -999,1
320620180309  ,P16        ,53      ,  1,4          ,4          ,2,20180408,1206, -67.5146,-149.9949,     4389,   3822.1,0.2232611111111111046,34.694337098251211,2,  34.6931,2,219.91322063821360,2, 219.3990,2,    219.9,2,    128.1,2,    33.07,2,     0.00,2,     2.26,2,    0.685,2,    0.354,2,   0.2600,2,   2263.5,2,  2361.10,2,   7.5924,2,    24.89,     -999,9,     -999,9,   0.2226,2,     -999,9,     -999,9,     -999,     -999,9,     -999,9,     -999,9,     -999,9,    0.060,1,    4.665,1,    0.127,1,  19.4200,2,     -999,9,20180408,1223, -67.5158,-149.9950,     -999,9,     -999,9,-999          ,9,     -999,9,     -999,9,     -999,     -999,9,     -999,     -999,9,     -999,9,     -999,9,     -999,9,     -999,9,     -999,9,     -999,9,     -999,9,     -999,9,     -999,9,     -999,9,     -999,9,     -999,9,     -999,9
320620180309  ,P16        ,53      ,  1,3          ,3          ,2,20180408,1206, -67.5146,-149.9949,     4389,   4104.5,0.2357888888888888534,34.694937233821477,2,  34.6931,2,222.27961933633927,3, 219.6016,2,    219.7,2,    128.0,2,    33.10,2,     0.00,2,     2.25,2,    0.706,2,    0.365,2,   0.1600,2,   2260.3,3,  2363.51,2,   7.5925,2,    24.88,     -999,9,     -999,9,   0.2350,2,     -999,9,     -999,9,     -999,     -999,9,     -999,9,     -999,9,     -999,9,    0.061,1,    4.663,1,    0.128,1,  19.4100,2,     -999,9,20180408,1216, -67.5153,-149.9949,     -999,9,     -999,9,-999          ,9,     -999,9,     -999,9,     -999,     -999,9,     -999,     -999,9,     -999,1,     -999,1,     -999,1,     -999,1,     -999,1,     -999,1,     -999,1,     -999,1,     -999,1,     -999,1,     -999,1,     -999,1,     -999,1
320620180309  ,P16        ,53      ,  1,2          ,2          ,2,20180408,1206, -67.5146,-149.9949,     4389,   4294.7,0.2520777777777778450,34.695139593797762,2,  34.6933,2,221.63279633774667,2, 219.5991,2,    220.0,2,    128.9,2,    33.09,2,     0.00,2,     2.24,2,    0.703,2,    0.368,2,   0.1100,2,   2261.6,2,  2360.68,2,   7.5908,2,    24.89,     -999,9,     -999,9,   0.2511,2,     -999,9,     -999,9,     -999,     -999,9,     -999,9,     -999,9,     -999,9,    0.061,1,    4.662,1,    0.128,1,  19.6700,2,     -999,9,20180408,1210, -67.5148,-149.9947,     -999,9,     -999,9,-999          ,9,     -999,9,     -999,9,     -999,     -999,9,     -999,     -999,9,     -999,1,     -999,1,     -999,1,     -999,1,     -999,1,     -999,1,     -999,1,     -999,1,     -999,1,     -999,1,     -999,1,     -999,1,     -999,1
320620180309  ,P16        ,53      ,  1,1          ,1          ,2,20180408,1206, -67.5146,-149.9949,     4389,   4470.7,0.2696861111111110709,34.695383363010578,2,  34.6941,2,219.38096092124812,2, 219.5983,2,    219.9,2,    128.8,2,    33.08,2,     0.00,2,     2.23,2,    0.713,2,    0.355,2,   0.1700,2,   2263.1,6,  2361.21,2,   7.5926,2,    24.87,     -999,9,     -999,9,   0.2691,2,     -999,9,     -999,9,     -999,     -999,9,     -999,9,     -999,9,     -999,9,    0.061,1,    4.659,1,    0.135,1,  19.5900,2,     -999,9,20180408,1206, -67.5146,-149.9949,     -999,9,     -999,9,-999          ,9,     -999,9,     -999,9,     -999,     -999,9,     -999,     -999,9,     -999,1,     -999,1,     -999,1,     -999,1,     -999,1,     -999,1,     -999,1,     -999,1,     -999,1,     -999,1,     -999,1,     -999,1,     -999,1