BOTTLE,20240515CCHHYDRO
EXPOCODE,SECT_ID,STNNBR,CASTNO,SAMPNO,BTLNBR,BTLNBR_FLAG_W,DATE,TIME,LATITUDE,LONGITUDE,DEPTH,CTDPRS,CTDTMP,CTDSAL,CTDSAL_FLAG_W,SALNTY,SALNTY_FLAG_W,CTDOXY,CTDOXY_FLAG_W,CTDOPTOXY,CTDOPTOXY_FLAG_W,OXYGEN,OXYGEN_FLAG_W,SILCAT,SILCAT_FLAG_W,NITRAT,NITRAT_FLAG_W,NITRIT,NITRIT_FLAG_W,PHSPHT,PHSPHT_FLAG_W,CFC-11,CFC-11_FLAG_W,CFC-12,CFC-12_FLAG_W,SF6,SF6_FLAG_W,TCARBN,TCARBN_FLAG_W,ALKALI,ALKALI_FLAG_W,PH_TOT,PH_TOT_FLAG_W,PH_TMP,DOC,DOC_FLAG_W,HELIUM,HELIUM_FLAG_W,REFTMP,REFTMP_FLAG_W,DELC13,DELC13_FLAG_W,DELC14,DELC14_FLAG_W,C14ERR,POC,POC_FLAG_W,TDN,TDN_FLAG_W,TON,TON_FLAG_W,NEON,NEON_FLAG_W,CTDFLUOR,CTDFLUOR_FLAG_W,CTDXMISS,CTDXMISS_FLAG_W,CTDBETA700,CTDBETA700_FLAG_W,N2O,N2O_FLAG_W,ARGON,ARGON_FLAG_W,BTL_DATE,BTL_TIME,BTL_LAT,BTL_LON,KRYPTON,KRYPTON_FLAG_W,XENON,XENON_FLAG_W,HPLC,HPLC_FLAG_W,HE3_HE4_RATIO,HE3_HE4_RATIO_FLAG_W,Nd_143_144_D_EPSILON_BOTTLE,Nd_143_144_D_EPSILON_BOTTLE_FLAG_W,Nd_143_144_D_EPSILON_BOTTLE_ERROR,Nd_143_144_D_RATIO_BOTTLE,Nd_143_144_D_RATIO_BOTTLE_FLAG_W,Nd_143_144_D_RATIO_BOTTLE_ERROR,Nd_D_CONC,Nd_D_CONC_FLAG_W,La_D_CONC_BOTTLE,La_D_CONC_BOTTLE_FLAG_W,Ce_D_CONC_BOTTLE,Ce_D_CONC_BOTTLE_FLAG_W,Pr_D_CONC_BOTTLE,Pr_D_CONC_BOTTLE_FLAG_W,Sm_D_CONC_BOTTLE,Sm_D_CONC_BOTTLE_FLAG_W,Eu_D_CONC_BOTTLE,Eu_D_CONC_BOTTLE_FLAG_W,Gd_D_CONC_BOTTLE,Gd_D_CONC_BOTTLE_FLAG_W,Tb_D_CONC_BOTTLE,Tb_D_CONC_BOTTLE_FLAG_W,Dy_D_CONC_BOTTLE,Dy_D_CONC_BOTTLE_FLAG_W,Ho_D_CONC_BOTTLE,Ho_D_CONC_BOTTLE_FLAG_W,Er_D_CONC_BOTTLE,Er_D_CONC_BOTTLE_FLAG_W,Tm_D_CONC_BOTTLE,Tm_D_CONC_BOTTLE_FLAG_W,Yb_D_CONC_BOTTLE,Yb_D_CONC_BOTTLE_FLAG_W,Lu_D_CONC_BOTTLE,Lu_D_CONC_BOTTLE_FLAG_W
,,,,,,,,,,,METERS,DBAR,ITS-90,PSS-78,,PSS-78,,UMOL/KG,,UMOL/KG,,UMOL/KG,,UMOL/KG,,UMOL/KG,,UMOL/KG,,UMOL/KG,,PMOL/KG,,PMOL/KG,,FMOL/KG,,UMOL/KG,,UMOL/KG,,,,DEG C,UMOL/KG,,NMOL/L,,DEG C,,/MILLE,,/MILLE,,/MILLE,UG/KG,,UMOL/KG,,UMOL/KG,,NMOL/L,,VOLTS,,VOLTS,,VOLTS,,NMOL/KG,,UMOL/L,,,,,,NMOL/L,,NMOL/L,,,,,,10000,,10000,,,,PMOL/KG,,PMOL/L,,PMOL/L,,PMOL/L,,PMOL/L,,PMOL/L,,PMOL/L,,PMOL/L,,PMOL/L,,PMOL/L,,PMOL/L,,PMOL/L,,PMOL/L,,PMOL/L,
320620180309  ,S04P       ,66      ,  1,15         ,15         ,2,20180414,0702, -66.9511,-152.7001,     3573,   1279.3,0.8792444444444444951,34.715883548361909,2,  34.7137,2,199.24051446313550,2, 199.1058,2,    199.3,2,    119.5,2,    32.49,2,     0.00,2,     2.19,2,     -999,9,     -999,9,     -999,9,   2264.8,2,  2363.68,2,   7.5933,2,    24.89,     42.3,2,     -999,9,   0.8782,2,     -999,9,     -999,9,     -999,     -999,9,     -999,9,     -999,1,     -999,9,    0.061,1,    4.664,1,    0.128,1,     -999,9,     -999,9,20180414,0800, -66.9535,-152.7001,     -999,9,     -999,9,-999          ,9,     -999,9,     -999,9,     -999,     -999,9,     -999,     -999,9,     -999,9,     -999,9,     -999,9,     -999,9,     -999,9,     -999,9,     -999,9,     -999,9,     -999,9,     -999,9,     -999,9,     -999,9,     -999,9
320620180309  ,S04P       ,66      ,  1,14         ,14         ,2,20180414,0702, -66.9511,-152.7001,     3573,   1383.4,0.8359694444444443207,34.713808294126423,2,  34.7117,2,201.06593148444142,2, 200.1028,2,    201.3,2,    121.1,2,    32.51,2,     0.00,2,     2.19,2,    0.101,2,    0.057,2,   0.2700,2,   2265.1,2,  2363.44,2,   7.5904,2,    24.89,     39.9,2,     -999,9,   0.8351,2,     -999,9,     -999,9,     -999,     -999,9,     -999,9,     -999,1,     -999,9,    0.061,1,    4.664,1,    0.128,1,  20.3000,2,     -999,9,20180414,0758, -66.9534,-152.7001,     -999,9,     -999,9,-999          ,9,     -999,9,     -999,9,     -999,     -999,9,     -999,     -999,9,     -999,9,     -999,9,     -999,9,     -999,9,     -999,9,     -999,9,     -999,9,     -999,9,     -999,9,     -999,9,     -999,9,     -999,9,     -999,9
320620180309  ,S04P       ,66      ,  1,13         ,13         ,2,20180414,0702, -66.9511,-152.7001,     3573,   1484.3,0.7940444444444444416,34.712236369621223,2,  34.7109,2,201.65404610899213,2, 201.2975,2,    201.8,2,    122.2,2,    32.53,2,     0.00,2,     2.19,2,    0.100,2,    0.046,2,   0.1000,3,   2265.4,2,  2363.14,2,   7.5918,2,    24.89,     42.2,2,     -999,9,   0.7934,2,     -999,9,     -999,9,     -999,     -999,9,     -999,9,     -999,1,     -999,9,    0.062,1,    4.665,1,    0.127,1,  19.9300,2,     -999,9,20180414,0755, -66.9534,-152.7001,     -999,9,     -999,9,-999          ,9,     -999,9,     -999,9,     -999,     -999,9,     -999,     -999,9,     -999,9,     -999,9,     -999,9,     -999,9,     -999,9,     -999,9,     -999,9,     -999,9,     -999,9,     -999,9,     -999,9,     -999,9,     -999,9
320620180309  ,S04P       ,66      ,  1,12         ,12         ,2,20180414,0702, -66.9511,-152.7001,     3573,   1585.1,0.7474111111111110262,34.710281054776274,2,  34.7090,2,202.57634275587907,2, 202.4016,2,    202.3,2,    123.7,2,    32.53,2,     0.00,2,     2.18,2,     -999,9,     -999,9,     -999,9,   2265.4,2,     -999,5,   7.5953,2,    24.89,     40.6,2,     -999,9,   0.7464,2,     -999,9,     -999,9,     -999,     -999,9,     -999,9,     -999,1,     -999,9,    0.061,1,    4.665,1,    0.127,1,     -999,9,     -999,9,20180414,0752, -66.9535,-152.7001,     -999,9,     -999,9,-999          ,9,     -999,9,     -999,9,     -999,     -999,9,     -999,     -999,9,     -999,9,     -999,9,     -999,9,     -999,9,     -999,9,     -999,9,     -999,9,     -999,9,     -999,9,     -999,9,     -999,9,     -999,9,     -999,9
320620180309  ,S04P       ,66      ,  1,11         ,11         ,2,20180414,0702, -66.9511,-152.7001,     3573,   1687.9,0.7137666666666665494,34.708850936624387,2,  34.7072,2,203.86103780220228,2, 203.4979,2,    204.0,2,    124.6,2,    32.53,2,     0.00,2,     2.18,2,    0.116,2,    0.066,2,   0.0300,3,   2264.3,2,  2363.84,2,   7.5933,2,    24.90,     -999,9,     -999,9,   0.7129,2,     -999,9,     -999,9,     -999,     -999,9,     -999,9,     -999,9,     -999,9,    0.061,1,    4.665,1,    0.126,1,  20.2300,2,     -999,9,20180414,0749, -66.9535,-152.7001,     -999,9,     -999,9,-999          ,9,     -999,9,     -999,9,     -999,     -999,9,     -999,     -999,9,     -999,9,     -999,9,     -999,9,     -999,9,     -999,9,     -999,9,     -999,9,     -999,9,     -999,9,     -999,9,     -999,9,     -999,9,     -999,9
320620180309  ,S04P       ,66      ,  1,10         ,10         ,2,20180414,0702, -66.9511,-152.7001,     3573,   1789.3,0.6774888888888889182,34.707595613988019,2,  34.7064,2,204.30950931228216,2, 204.6028,2,    205.7,2,    125.6,2,    32.52,2,     0.00,2,     2.19,2,    0.124,2,    0.071,2,   0.1000,3,   2264.6,2,  2363.38,2,   7.5934,2,    24.90,     40.0,2,     -999,9,   0.6765,2,     -999,9,     -999,9,     -999,     -999,9,     -999,9,     -999,1,     -999,9,    0.060,1,    4.665,1,    0.126,1,  20.0700,2,     -999,9,20180414,0746, -66.9534,-152.7001,     -999,9,     -999,9,-999          ,9,     -999,9,     -999,9,     -999,     -999,9,     -999,     -999,9,     -999,9,     -999,9,     -999,9,     -999,9,     -999,9,     -999,9,     -999,9,     -999,9,     -999,9,     -999,9,     -999,9,     -999,9,     -999,9
320620180309  ,S04P       ,66      ,  1,9          ,9          ,2,20180414,0702, -66.9511,-152.7001,     3573,   1961.6,0.6198138888888889975,34.705888347968916,2,  34.7045,2,206.04580323900211,2, 206.2978,2,    206.0,2,    126.7,2,    32.55,2,     0.00,2,     2.18,2,     -999,9,     -999,9,     -999,9,   2264.5,6,  2364.13,2,   7.5934,2,    24.88,     42.3,2,     -999,9,   0.6193,2,     -999,9,     -999,9,     -999,     -999,9,     -999,9,     -999,1,     -999,9,    0.061,1,    4.665,1,    0.125,1,     -999,9,     -999,9,20180414,0742, -66.9533,-152.7000,     -999,9,     -999,9,-999          ,9,     -999,9,     -999,9,     -999,     -999,9,     -999,     -999,9,     -999,9,     -999,9,     -999,9,     -999,9,     -999,9,     -999,9,     -999,9,     -999,9,     -999,9,     -999,9,     -999,9,     -999,9,     -999,9
320620180309  ,S04P       ,66      ,  1,8          ,8          ,2,20180414,0702, -66.9511,-152.7001,     3573,   2166.5,0.5449111111111111239,34.704249822383417,2,  34.7023,2,208.12210878665294,2, 208.1985,2,    208.2,2,    128.2,2,    32.60,2,     0.00,2,     2.21,2,    0.143,2,    0.077,2,   0.0000,3,   2263.8,2,  2361.74,2,   7.5937,6,    24.89,     40.2,2,     -999,9,   0.5437,2,     -999,9,     -999,9,     -999,     -999,9,     -999,9,     -999,1,     -999,9,    0.061,1,    4.665,1,    0.125,1,  20.4100,2,     -999,9,20180414,0737, -66.9532,-152.7000,     -999,9,     -999,9,-999          ,9,     -999,9,     -999,9,     -999,     -999,9,     -999,     -999,9,     -999,9,     -999,9,     -999,9,     -999,9,     -999,9,     -999,9,     -999,9,     -999,9,     -999,9,     -999,9,     -999,9,     -999,9,     -999,9
320620180309  ,S04P       ,66      ,  1,7          ,7          ,2,20180414,0702, -66.9511,-152.7001,     3573,   2370.4,0.4783083333333332798,34.703349327671063,2,  34.7015,2,209.65668411278907,2, 210.0957,2,    209.8,2,    129.6,2,    32.68,2,     0.00,2,     2.21,2,    0.144,2,    0.088,2,   0.0200,3,   2264.8,2,  2362.86,2,   7.5927,2,    24.89,     42.4,2,     -999,9,   0.4781,2,     -999,9,     -999,9,     -999,     -999,9,     -999,9,     -999,1,     -999,9,    0.061,1,    4.665,1,    0.125,1,  20.7800,2,     -999,9,20180414,0732, -66.9530,-152.6999,     -999,9,     -999,9,-999          ,9,     -999,9,     -999,9,     -999,     -999,9,     -999,     -999,9,     -999,9,     -999,9,     -999,9,     -999,9,     -999,9,     -999,9,     -999,9,     -999,9,     -999,9,     -999,9,     -999,9,     -999,9,     -999,9
320620180309  ,S04P       ,66      ,  1,6          ,6          ,2,20180414,0702, -66.9511,-152.7001,     3573,   2574.2,0.4233305555555555988,34.702659413403879,2,  34.7013,2,211.33819544113288,2, 211.5050,2,    211.3,2,    130.9,2,    32.70,2,     0.00,2,     2.20,2,    0.163,2,    0.094,2,  -0.0500,3,   2265.2,2,  2363.86,2,   7.5937,2,    24.90,     41.8,2,     -999,9,   0.4224,2,     -999,9,     -999,9,     -999,     -999,9,     -999,9,     -999,1,     -999,9,    0.060,1,    4.665,1,    0.126,1,  20.2200,2,     -999,9,20180414,0727, -66.9525,-152.6999,     -999,9,     -999,9,-999          ,9,     -999,9,     -999,9,     -999,     -999,9,     -999,     -999,9,     -999,9,     -999,9,     -999,9,     -999,9,     -999,9,     -999,9,     -999,9,     -999,9,     -999,9,     -999,9,     -999,9,     -999,9,     -999,9
320620180309  ,S04P       ,66      ,  1,5          ,5          ,2,20180414,0702, -66.9511,-152.7001,     3573,   2779.5,0.3755861111111111206,34.702008515435402,2,  34.7002,2,212.40448619622055,2, 212.9000,2,    212.2,2,    132.0,2,    32.81,2,     0.00,2,     2.20,2,    0.173,2,    0.107,2,   0.0400,3,   2264.4,2,  2363.81,2,   7.5902,2,    24.88,     40.2,2,     -999,9,   0.3753,2,     -999,9,     -999,9,     -999,     -999,9,     -999,9,     -999,1,     -999,9,    0.061,1,    4.665,1,    0.126,1,  18.7200,2,     -999,9,20180414,0722, -66.9521,-152.6999,     -999,9,     -999,9,-999          ,9,     -999,9,     -999,9,     -999,     -999,9,     -999,     -999,9,     -999,9,     -999,9,     -999,9,     -999,9,     -999,9,     -999,9,     -999,9,     -999,9,     -999,9,     -999,9,     -999,9,     -999,9,     -999,9
320620180309  ,S04P       ,66      ,  1,4          ,4          ,2,20180414,0702, -66.9511,-152.7001,     3573,   2982.6,0.3267499999999999849,34.700886555974719,2,  34.6992,2,214.01940306408062,2, 214.2950,2,    213.9,2,    133.4,2,    32.81,2,     0.00,2,     2.20,2,    0.227,2,    0.130,2,   0.0900,3,   2264.1,2,  2363.74,2,   7.5951,2,    24.88,     -999,9,     -999,9,   0.3266,2,     -999,9,     -999,9,     -999,     -999,9,     -999,9,     -999,9,     -999,9,    0.060,1,    4.664,1,    0.124,1,  19.0600,2,     -999,9,20180414,0718, -66.9521,-152.6999,     -999,9,     -999,9,-999          ,9,     -999,9,     -999,9,     -999,     -999,9,     -999,     -999,9,     -999,9,     -999,9,     -999,9,     -999,9,     -999,9,     -999,9,     -999,9,     -999,9,     -999,9,     -999,9,     -999,9,     -999,9,     -999,9
320620180309  ,S04P       ,66      ,  1,3          ,3          ,2,20180414,0702, -66.9511,-152.7001,     3573,   3189.6,0.2895888888888887847,34.699492362085536,3,  34.6964,2,216.03384171803017,2, 215.1983,2,    215.4,2,    133.9,2,    32.76,2,     0.00,2,     2.20,2,    0.331,2,    0.185,2,   0.0800,3,   2264.0,2,  2363.59,2,   7.5953,2,    24.89,     39.6,2,     -999,9,   0.2894,2,     -999,9,     -999,9,     -999,     -999,9,     -999,9,     -999,1,     -999,9,    0.061,1,    4.664,1,    0.125,1,  19.5700,2,     -999,9,20180414,0713, -66.9520,-152.6999,     -999,9,     -999,9,-999          ,9,     -999,9,     -999,9,     -999,     -999,9,     -999,     -999,9,     -999,9,     -999,9,     -999,9,     -999,9,     -999,9,     -999,9,     -999,9,     -999,9,     -999,9,     -999,9,     -999,9,     -999,9,     -999,9
320620180309  ,S04P       ,66      ,  1,2          ,2          ,2,20180414,0702, -66.9511,-152.7001,     3573,   3410.4,0.2221277777777778129,34.695775504334989,2,  34.6941,2,219.03912023039243,2, 218.1979,2,    218.8,2,    130.1,2,    32.65,2,     0.00,2,     2.21,2,    0.589,2,    0.313,2,   0.0700,3,   2264.2,2,  2362.19,2,   7.5913,2,    24.88,     -999,9,     -999,9,   0.2215,2,     -999,9,     -999,9,     -999,     -999,9,     -999,9,     -999,9,     -999,9,    0.061,1,    4.663,1,    0.125,1,  18.7800,2,     -999,9,20180414,0707, -66.9515,-152.7000,     -999,9,     -999,9,-999          ,9,     -999,9,     -999,9,     -999,     -999,9,     -999,     -999,9,     -999,9,     -999,9,     -999,9,     -999,9,     -999,9,     -999,9,     -999,9,     -999,9,     -999,9,     -999,9,     -999,9,     -999,9,     -999,9
320620180309  ,S04P       ,66      ,  1,1          ,1          ,2,20180414,0702, -66.9511,-152.7001,     3573,   3630.5,0.2058611111111111336,34.695476281470029,2,  34.6960,2,219.46659721242949,2, 218.6961,2,    219.0,2,    128.7,2,    32.66,2,     0.00,2,     2.21,2,    0.676,2,    0.353,2,   0.1100,3,   2263.2,6,  2362.08,2,   7.5927,2,    24.89,     41.0,2,     -999,9,   0.2049,2,     -999,9,     -999,9,     -999,     -999,9,     -999,9,     -999,1,     -999,9,    0.061,1,    4.661,1,    0.129,1,  19.3300,2,     -999,9,20180414,0702, -66.9511,-152.7001,     -999,9,     -999,9,-999          ,9,     -999,9,     -999,9,     -999,     -999,9,     -999,     -999,9,     -999,9,     -999,9,     -999,9,     -999,9,     -999,9,     -999,9,     -999,9,     -999,9,     -999,9,     -999,9,     -999,9,     -999,9,     -999,9