BOTTLE,20240515CCHHYDRO
EXPOCODE,SECT_ID,STNNBR,CASTNO,SAMPNO,BTLNBR,BTLNBR_FLAG_W,DATE,TIME,LATITUDE,LONGITUDE,DEPTH,CTDPRS,CTDTMP,CTDSAL,CTDSAL_FLAG_W,SALNTY,SALNTY_FLAG_W,CTDOXY,CTDOXY_FLAG_W,CTDOPTOXY,CTDOPTOXY_FLAG_W,OXYGEN,OXYGEN_FLAG_W,SILCAT,SILCAT_FLAG_W,NITRAT,NITRAT_FLAG_W,NITRIT,NITRIT_FLAG_W,PHSPHT,PHSPHT_FLAG_W,CFC-11,CFC-11_FLAG_W,CFC-12,CFC-12_FLAG_W,SF6,SF6_FLAG_W,TCARBN,TCARBN_FLAG_W,ALKALI,ALKALI_FLAG_W,PH_TOT,PH_TOT_FLAG_W,PH_TMP,DOC,DOC_FLAG_W,HELIUM,HELIUM_FLAG_W,REFTMP,REFTMP_FLAG_W,DELC13,DELC13_FLAG_W,DELC14,DELC14_FLAG_W,C14ERR,POC,POC_FLAG_W,TDN,TDN_FLAG_W,TON,TON_FLAG_W,NEON,NEON_FLAG_W,CTDFLUOR,CTDFLUOR_FLAG_W,CTDXMISS,CTDXMISS_FLAG_W,CTDBETA700,CTDBETA700_FLAG_W,N2O,N2O_FLAG_W,ARGON,ARGON_FLAG_W,BTL_DATE,BTL_TIME,BTL_LAT,BTL_LON,KRYPTON,KRYPTON_FLAG_W,XENON,XENON_FLAG_W,HPLC,HPLC_FLAG_W,HE3_HE4_RATIO,HE3_HE4_RATIO_FLAG_W,Nd_143_144_D_EPSILON_BOTTLE,Nd_143_144_D_EPSILON_BOTTLE_FLAG_W,Nd_143_144_D_EPSILON_BOTTLE_ERROR,Nd_143_144_D_RATIO_BOTTLE,Nd_143_144_D_RATIO_BOTTLE_FLAG_W,Nd_143_144_D_RATIO_BOTTLE_ERROR,Nd_D_CONC,Nd_D_CONC_FLAG_W,La_D_CONC_BOTTLE,La_D_CONC_BOTTLE_FLAG_W,Ce_D_CONC_BOTTLE,Ce_D_CONC_BOTTLE_FLAG_W,Pr_D_CONC_BOTTLE,Pr_D_CONC_BOTTLE_FLAG_W,Sm_D_CONC_BOTTLE,Sm_D_CONC_BOTTLE_FLAG_W,Eu_D_CONC_BOTTLE,Eu_D_CONC_BOTTLE_FLAG_W,Gd_D_CONC_BOTTLE,Gd_D_CONC_BOTTLE_FLAG_W,Tb_D_CONC_BOTTLE,Tb_D_CONC_BOTTLE_FLAG_W,Dy_D_CONC_BOTTLE,Dy_D_CONC_BOTTLE_FLAG_W,Ho_D_CONC_BOTTLE,Ho_D_CONC_BOTTLE_FLAG_W,Er_D_CONC_BOTTLE,Er_D_CONC_BOTTLE_FLAG_W,Tm_D_CONC_BOTTLE,Tm_D_CONC_BOTTLE_FLAG_W,Yb_D_CONC_BOTTLE,Yb_D_CONC_BOTTLE_FLAG_W,Lu_D_CONC_BOTTLE,Lu_D_CONC_BOTTLE_FLAG_W
,,,,,,,,,,,METERS,DBAR,ITS-90,PSS-78,,PSS-78,,UMOL/KG,,UMOL/KG,,UMOL/KG,,UMOL/KG,,UMOL/KG,,UMOL/KG,,UMOL/KG,,PMOL/KG,,PMOL/KG,,FMOL/KG,,UMOL/KG,,UMOL/KG,,,,DEG C,UMOL/KG,,NMOL/L,,DEG C,,/MILLE,,/MILLE,,/MILLE,UG/KG,,UMOL/KG,,UMOL/KG,,NMOL/L,,VOLTS,,VOLTS,,VOLTS,,NMOL/KG,,UMOL/L,,,,,,NMOL/L,,NMOL/L,,,,,,10000,,10000,,,,PMOL/KG,,PMOL/L,,PMOL/L,,PMOL/L,,PMOL/L,,PMOL/L,,PMOL/L,,PMOL/L,,PMOL/L,,PMOL/L,,PMOL/L,,PMOL/L,,PMOL/L,,PMOL/L,
320620180309  ,P18        ,103     ,  1,36         ,36         ,2,20180501,0943, -67.5003,-102.9942,     4628,      8.7,-0.5810605132305157738,33.674177689354643,2,  33.6700,2,344.10173467998357,2, 341.9989,2,    342.7,2,     19.0,2,    25.03,2,     0.24,2,     1.81,2,    6.405,2,    3.248,2,   3.6000,2,   2153.6,6,  2277.00,2,   7.6772,2,    24.98,     -999,9,     -999,9,  -0.5815,2,     -999,9,     -999,9,     -999,     -999,9,     -999,9,     -999,9,     -999,9,    0.221,1,    4.557,1,    0.200,1,  15.3800,2,     -999,9,20180501,1204, -67.4999,-102.9946,     -999,9,     -999,9,-999          ,9,     -999,9,     -999,9,     -999,     -999,9,     -999,     -999,9,     -999,9,     -999,9,     -999,9,     -999,9,     -999,9,     -999,9,     -999,9,     -999,9,     -999,9,     -999,9,     -999,9,     -999,9,     -999,9
320620180309  ,P18        ,103     ,  1,35         ,35         ,2,20180501,0943, -67.5003,-102.9942,     4628,     20.4,-0.5682970201487750339,33.674886803268237,2,  33.6702,2,344.84955055448597,2, 341.9986,2,    342.7,2,     19.0,2,    25.02,2,     0.24,2,     1.79,2,     -999,9,     -999,9,     -999,9,   2153.7,2,  2274.97,2,   7.6770,2,    24.95,     -999,9,     -999,9,  -0.5699,2,     -999,9,     -999,9,     -999,     -999,9,     -999,9,     -999,9,     -999,9,    0.218,1,    4.557,1,    0.201,1,     -999,9,     -999,9,20180501,1203, -67.4999,-102.9948,     -999,9,     -999,9,-999          ,9,     -999,9,     -999,9,     -999,     -999,9,     -999,     -999,9,     -999,9,     -999,9,     -999,9,     -999,9,     -999,9,     -999,9,     -999,9,     -999,9,     -999,9,     -999,9,     -999,9,     -999,9,     -999,9
320620180309  ,P18        ,103     ,  1,34         ,34         ,2,20180501,0943, -67.5003,-102.9942,     4628,     39.0,-0.5562460320294562166,33.676824489077362,2,  33.6733,2,345.98753031020283,2, 342.0002,2,    343.5,2,     19.1,2,    25.06,2,     0.24,2,     1.80,2,     -999,9,     -999,9,     -999,9,     -999,9,     -999,9,     -999,9,     -999,     -999,9,     -999,9,  -0.5560,2,     -999,9,     -999,9,     -999,     -999,9,     -999,9,     -999,9,     -999,9,    0.217,1,    4.559,1,    0.207,1,     -999,9,     -999,9,20180501,1201, -67.4998,-102.9950,     -999,9,     -999,9,-999          ,9,     -999,9,     -999,9,     -999,     -999,9,     -999,     -999,9,     -999,9,     -999,9,     -999,9,     -999,9,     -999,9,     -999,9,     -999,9,     -999,9,     -999,9,     -999,9,     -999,9,     -999,9,     -999,9
320620180309  ,P18        ,103     ,  1,33         ,33         ,2,20180501,0943, -67.5003,-102.9942,     4628,     64.5,-0.4927908919985449776,33.703066004879524,2,  33.7126,2,342.15930882975903,2, 341.8964,2,    340.4,2,     20.8,2,    25.59,2,     0.25,2,     1.85,2,     -999,9,     -999,9,     -999,9,   2157.6,2,  2274.30,2,   7.6730,6,    24.97,     -999,9,     -999,9,  -0.5283,2,     -999,9,     -999,9,     -999,     -999,9,     -999,9,     -999,9,     -999,9,    0.214,1,    4.557,1,    0.210,1,     -999,9,     -999,9,20180501,1159, -67.4998,-102.9952,     -999,9,     -999,9,-999          ,9,     -999,9,     -999,9,     -999,     -999,9,     -999,     -999,9,     -999,9,     -999,9,     -999,9,     -999,9,     -999,9,     -999,9,     -999,9,     -999,9,     -999,9,     -999,9,     -999,9,     -999,9,     -999,9
320620180309  ,P18        ,103     ,  1,32         ,32         ,2,20180501,0943, -67.5003,-102.9942,     4628,     90.3,-0.2183857467885757797,34.002827363166581,2,  34.0031,2,328.19597036762895,3, 326.9984,3,    322.9,2,     34.0,2,    30.18,2,     0.03,2,     2.07,2,    5.740,2,    2.960,2,   3.4900,2,   2184.9,2,  2290.22,2,   7.6327,2,    24.95,     -999,9,     -999,9,  -0.2073,2,     -999,9,     -999,9,     -999,     -999,9,     -999,9,     -999,9,     -999,9,    0.082,1,    4.623,1,    0.159,1,  16.3400,2,     -999,9,20180501,1158, -67.4997,-102.9954,     -999,9,     -999,9,-999          ,9,     -999,9,     -999,9,     -999,     -999,9,     -999,     -999,9,     -999,9,     -999,9,     -999,9,     -999,9,     -999,9,     -999,9,     -999,9,     -999,9,     -999,9,     -999,9,     -999,9,     -999,9,     -999,9
320620180309  ,P18        ,103     ,  1,31         ,31         ,2,20180501,0943, -67.5003,-102.9942,     4628,    134.9,0.1806342040053257048,34.095464037979930,2,  34.0917,2,314.87496397107714,3, 312.6999,2,    311.6,2,     40.7,2,    31.14,2,     0.01,2,     2.15,2,     -999,9,     -999,9,     -999,9,   2196.0,2,  2296.09,2,   7.6224,2,    24.95,     -999,9,     -999,9,   0.1800,2,     -999,9,     -999,9,     -999,     -999,9,     -999,9,     -999,9,     -999,9,    0.066,1,    4.633,1,    0.150,1,     -999,9,     -999,9,20180501,1155, -67.4996,-102.9959,     -999,9,     -999,9,-999          ,9,     -999,9,     -999,9,     -999,     -999,9,     -999,     -999,9,     -999,9,     -999,9,     -999,9,     -999,9,     -999,9,     -999,9,     -999,9,     -999,9,     -999,9,     -999,9,     -999,9,     -999,9,     -999,9
320620180309  ,P18        ,103     ,  1,30         ,30         ,2,20180501,0943, -67.5003,-102.9942,     4628,    185.3,1.6382134987553131911,34.283268722202237,2,  34.2816,2,245.15981922264169,3, 239.6049,3,    234.0,2,     54.1,2,    33.75,2,     0.00,2,     2.33,2,    3.123,2,    1.655,2,   1.6600,2,   2225.5,2,  2312.08,2,   7.5697,2,    24.95,     -999,9,     -999,9,   1.6345,2,     -999,9,     -999,9,     -999,     -999,9,     -999,9,     -999,9,     -999,9,    0.062,1,    4.637,1,    0.148,1,  21.1200,2,     -999,9,20180501,1153, -67.4995,-102.9967,     -999,9,     -999,9,-999          ,9,     -999,9,     -999,9,     -999,     -999,9,     -999,     -999,9,     -999,9,     -999,9,     -999,9,     -999,9,     -999,9,     -999,9,     -999,9,     -999,9,     -999,9,     -999,9,     -999,9,     -999,9,     -999,9
320620180309  ,P18        ,103     ,  1,29         ,29         ,2,20180501,0943, -67.5003,-102.9942,     4628,    237.7,1.9275652564595433525,34.368287983496131,2,  34.3701,2,217.97632417387217,3, 210.5008,2,    208.6,2,     61.8,2,    34.68,2,     0.00,2,     2.39,2,     -999,9,     -999,9,     -999,9,   2238.3,2,  2318.38,2,   7.5534,2,    24.96,     -999,9,     -999,9,   1.9289,2,     -999,9,     -999,9,     -999,     -999,9,     -999,9,     -999,9,     -999,9,    0.062,1,    4.640,1,    0.145,1,     -999,9,     -999,9,20180501,1150, -67.4993,-102.9975,     -999,9,     -999,9,-999          ,9,     -999,9,     -999,9,     -999,     -999,9,     -999,     -999,9,     -999,9,     -999,9,     -999,9,     -999,9,     -999,9,     -999,9,     -999,9,     -999,9,     -999,9,     -999,9,     -999,9,     -999,9,     -999,9
320620180309  ,P18        ,103     ,  1,28         ,28         ,2,20180501,0943, -67.5003,-102.9942,     4628,    287.9,2.0351692398305507581,34.424883075260716,2,  34.4231,2,203.80811197811747,3, 197.6005,2,    197.2,2,     66.1,2,    34.94,2,     0.00,2,     2.41,2,    1.857,2,    0.994,2,   0.8600,2,     -999,9,     -999,9,     -999,9,     -999,     -999,9,     -999,9,   2.0323,2,     -999,9,     -999,9,     -999,     -999,9,     -999,9,     -999,9,     -999,9,    0.061,1,    4.641,1,    0.143,1,  22.8700,2,     -999,9,20180501,1148, -67.4992,-102.9981,     -999,9,     -999,9,-999          ,9,     -999,9,     -999,9,     -999,     -999,9,     -999,     -999,9,     -999,9,     -999,9,     -999,9,     -999,9,     -999,9,     -999,9,     -999,9,     -999,9,     -999,9,     -999,9,     -999,9,     -999,9,     -999,9
320620180309  ,P18        ,103     ,  1,27         ,27         ,2,20180501,0943, -67.5003,-102.9942,     4628,    338.7,2.0610565231663935393,34.477263227898433,2,  34.4742,2,190.79351202548898,2, 188.3013,2,    189.0,2,     70.1,2,    34.95,2,     0.00,2,     2.42,2,     -999,9,     -999,9,     -999,9,   2249.1,2,  2329.88,2,   7.5462,2,    24.97,     -999,9,     -999,9,   2.0561,2,     -999,9,     -999,9,     -999,     -999,9,     -999,9,     -999,9,     -999,9,    0.061,1,    4.643,1,    0.142,1,     -999,9,     -999,9,20180501,1145, -67.4992,-102.9980,     -999,9,     -999,9,-999          ,9,     -999,9,     -999,9,     -999,     -999,9,     -999,     -999,9,     -999,9,     -999,9,     -999,9,     -999,9,     -999,9,     -999,9,     -999,9,     -999,9,     -999,9,     -999,9,     -999,9,     -999,9,     -999,9
320620180309  ,P18        ,103     ,  1,26         ,38         ,2,20180501,0943, -67.5003,-102.9942,     4628,    388.3,2.2355934347247776728,34.533479370132163,2,  34.5313,2,183.60990606775047,3, 182.3990,3,    177.8,2,     73.8,2,    34.92,2,     0.00,2,     2.42,2,    1.020,2,    0.529,2,   0.3200,2,   2254.8,6,  2334.34,2,   7.5472,2,    24.93,     -999,9,     -999,9,   2.2366,2,     -999,9,     -999,9,     -999,     -999,9,     -999,9,     -999,9,     -999,9,    0.062,1,    4.645,1,    0.145,1,  23.2500,2,     -999,9,20180501,1143, -67.4992,-102.9979,     -999,9,     -999,9,-999          ,9,     -999,9,     -999,9,     -999,     -999,9,     -999,     -999,9,     -999,9,     -999,9,     -999,9,     -999,9,     -999,9,     -999,9,     -999,9,     -999,9,     -999,9,     -999,9,     -999,9,     -999,9,     -999,9
320620180309  ,P18        ,103     ,  1,25         ,25         ,2,20180501,0943, -67.5003,-102.9942,     4628,    437.7,2.2501663018210589229,34.563229889429856,2,  34.5609,2,176.87989114894216,2, 176.6978,2,    176.4,2,     76.0,2,    34.72,2,     0.00,2,     2.41,2,     -999,9,     -999,9,     -999,9,   2255.7,2,  2338.89,2,   7.5493,2,    24.94,     -999,9,     -999,9,   2.2516,2,     -999,9,     -999,9,     -999,     -999,9,     -999,9,     -999,9,     -999,9,    0.061,1,    4.647,1,    0.138,1,     -999,9,     -999,9,20180501,1140, -67.4992,-102.9980,     -999,9,     -999,9,-999          ,9,     -999,9,     -999,9,     -999,     -999,9,     -999,     -999,9,     -999,9,     -999,9,     -999,9,     -999,9,     -999,9,     -999,9,     -999,9,     -999,9,     -999,9,     -999,9,     -999,9,     -999,9,     -999,9
320620180309  ,P18        ,103     ,  1,24         ,24         ,2,20180501,0943, -67.5003,-102.9942,     4628,    489.2,2.1876366239933009439,34.587747376830016,2,  34.5864,2,177.24860824294933,2, 177.6009,2,    176.2,2,     77.8,2,    34.45,2,     0.00,2,     2.40,2,    0.749,2,    0.413,2,   0.1400,2,     -999,9,     -999,9,     -999,9,     -999,     -999,9,     -999,9,   2.1877,2,     -999,9,     -999,9,     -999,     -999,9,     -999,9,     -999,9,     -999,9,    0.062,1,    4.646,1,    0.137,1,  23.0100,2,     -999,9,20180501,1138, -67.4993,-102.9977,     -999,9,     -999,9,-999          ,9,     -999,9,     -999,9,     -999,     -999,9,     -999,     -999,9,     -999,9,     -999,9,     -999,9,     -999,9,     -999,9,     -999,9,     -999,9,     -999,9,     -999,9,     -999,9,     -999,9,     -999,9,     -999,9
320620180309  ,P18        ,103     ,  1,23         ,23         ,2,20180501,0943, -67.5003,-102.9942,     4628,    571.5,2.1748704876537612307,34.626503265386006,2,  34.6250,2,176.15679482814471,2, 176.6000,2,    175.6,2,     80.0,2,    34.00,2,     0.00,2,     2.36,2,     -999,9,     -999,9,     -999,9,   2257.6,2,  2341.71,2,   7.5594,2,    24.96,     -999,9,     -999,9,   2.1756,2,     -999,9,     -999,9,     -999,     -999,9,     -999,9,     -999,9,     -999,9,    0.061,1,    4.645,1,    0.136,1,     -999,9,     -999,9,20180501,1135, -67.4993,-102.9978,     -999,9,     -999,9,-999          ,9,     -999,9,     -999,9,     -999,     -999,9,     -999,     -999,9,     -999,9,     -999,9,     -999,9,     -999,9,     -999,9,     -999,9,     -999,9,     -999,9,     -999,9,     -999,9,     -999,9,     -999,9,     -999,9
320620180309  ,P18        ,103     ,  1,22         ,37         ,2,20180501,0943, -67.5003,-102.9942,     4628,    672.6,2.1286238046499579291,34.659779775286253,2,  34.6584,2,177.04932209915918,2, 178.1022,2,    177.3,2,     82.3,2,    33.53,2,     0.00,2,     2.34,2,    0.430,2,    0.237,2,   0.1300,2,     -999,9,     -999,9,     -999,9,     -999,     -999,9,     -999,9,   2.1283,2,     -999,9,     -999,9,     -999,     -999,9,     -999,9,     -999,9,     -999,9,    0.062,1,    4.646,1,    0.135,1,  22.0100,2,     -999,9,20180501,1132, -67.4993,-102.9976,     -999,9,     -999,9,-999          ,9,     -999,9,     -999,9,     -999,     -999,9,     -999,     -999,9,     -999,9,     -999,9,     -999,9,     -999,9,     -999,9,     -999,9,     -999,9,     -999,9,     -999,9,     -999,9,     -999,9,     -999,9,     -999,9
320620180309  ,P18        ,103     ,  1,21         ,21         ,2,20180501,0943, -67.5003,-102.9942,     4628,    773.7,2.0867071270811168304,34.686407304416605,2,  34.6850,2,179.49120255843584,2, 179.6012,2,    179.0,2,     84.5,2,    33.02,2,     0.00,2,     2.31,2,     -999,9,     -999,9,     -999,9,   2256.5,2,  2349.55,2,   7.5743,2,    24.96,     -999,9,     -999,9,   2.0867,2,     -999,9,     -999,9,     -999,     -999,9,     -999,9,     -999,9,     -999,9,    0.061,1,    4.648,1,    0.143,1,     -999,9,     -999,9,20180501,1128, -67.4993,-102.9975,     -999,9,     -999,9,-999          ,9,     -999,9,     -999,9,     -999,     -999,9,     -999,     -999,9,     -999,9,     -999,9,     -999,9,     -999,9,     -999,9,     -999,9,     -999,9,     -999,9,     -999,9,     -999,9,     -999,9,     -999,9,     -999,9
320620180309  ,P18        ,103     ,  1,20         ,20         ,2,20180501,0943, -67.5003,-102.9942,     4628,    875.7,2.0196955899672075496,34.703682093973264,2,  34.7027,2,182.48343305899598,2, 182.0026,2,    181.9,2,     86.4,2,    32.61,2,     0.00,2,     2.28,2,    0.265,2,    0.149,2,   0.0600,2,     -999,9,     -999,9,     -999,9,     -999,     -999,9,     -999,9,   2.0196,2,     -999,9,     -999,9,     -999,     -999,9,     -999,9,     -999,9,     -999,9,    0.062,1,    4.649,1,    0.134,1,  20.8800,2,     -999,9,20180501,1125, -67.4993,-102.9975,     -999,9,     -999,9,-999          ,9,     -999,9,     -999,9,     -999,     -999,9,     -999,     -999,9,     -999,9,     -999,9,     -999,9,     -999,9,     -999,9,     -999,9,     -999,9,     -999,9,     -999,9,     -999,9,     -999,9,     -999,9,     -999,9
320620180309  ,P18        ,103     ,  1,19         ,19         ,2,20180501,0943, -67.5003,-102.9942,     4628,    976.0,1.9423026684385837903,34.715765163342169,2,  34.7147,2,185.11806253535926,2, 184.4951,2,    185.2,2,     88.1,2,    32.26,2,     0.00,2,     2.26,2,     -999,9,     -999,9,     -999,9,   2255.8,2,  2350.99,2,   7.5862,2,    24.93,     -999,9,     -999,9,   1.9424,2,     -999,9,     -999,9,     -999,     -999,9,     -999,9,     -999,9,     -999,9,    0.061,1,    4.649,1,    0.133,1,     -999,9,     -999,9,20180501,1121, -67.4993,-102.9976,     -999,9,     -999,9,-999          ,9,     -999,9,     -999,9,     -999,     -999,9,     -999,     -999,9,     -999,9,     -999,9,     -999,9,     -999,9,     -999,9,     -999,9,     -999,9,     -999,9,     -999,9,     -999,9,     -999,9,     -999,9,     -999,9
320620180309  ,P18        ,103     ,  1,18         ,18         ,2,20180501,0943, -67.5003,-102.9942,     4628,   1079.4,1.8681290884343897396,34.723288898540716,2,  34.7221,2,187.57414692575887,2, 186.7029,2,    187.1,2,     89.9,2,    32.11,2,     0.00,2,     2.25,2,     -999,9,     -999,9,     -999,9,     -999,9,     -999,9,     -999,9,     -999,     -999,9,     -999,9,   1.8685,2,     -999,9,     -999,9,     -999,     -999,9,     -999,9,     -999,9,     -999,9,    0.062,1,    4.649,1,    0.131,1,     -999,9,     -999,9,20180501,1117, -67.4993,-102.9975,     -999,9,     -999,9,-999          ,9,     -999,9,     -999,9,     -999,     -999,9,     -999,     -999,9,     -999,9,     -999,9,     -999,9,     -999,9,     -999,9,     -999,9,     -999,9,     -999,9,     -999,9,     -999,9,     -999,9,     -999,9,     -999,9
320620180309  ,P18        ,103     ,  1,17         ,17         ,2,20180501,0943, -67.5003,-102.9942,     4628,   1179.2,1.7839127673550998487,34.728330550617024,2,  34.7274,2,189.85065864652719,2, 188.8059,2,    190.1,2,     92.3,2,    31.99,2,     0.00,2,     2.21,2,    0.190,2,    0.093,2,   0.0000,2,   2255.5,2,  2357.67,2,   7.5952,2,    24.95,     -999,9,     -999,9,   1.7836,2,     -999,9,     -999,9,     -999,     -999,9,     -999,9,     -999,9,     -999,9,    0.061,1,    4.649,1,    0.132,1,  19.4300,2,     -999,9,20180501,1114, -67.4992,-102.9979,     -999,9,     -999,9,-999          ,9,     -999,9,     -999,9,     -999,     -999,9,     -999,     -999,9,     -999,9,     -999,9,     -999,9,     -999,9,     -999,9,     -999,9,     -999,9,     -999,9,     -999,9,     -999,9,     -999,9,     -999,9,     -999,9
320620180309  ,P18        ,103     ,  1,16         ,16         ,2,20180501,0943, -67.5003,-102.9942,     4628,   1279.5,1.7054487328874738949,34.730744995638268,2,  34.7298,2,192.12581204732777,2, 190.4002,2,    190.8,2,     94.4,2,    31.95,2,     0.00,2,     2.21,2,     -999,9,     -999,9,     -999,9,     -999,9,     -999,9,     -999,9,     -999,     -999,9,     -999,9,   1.7056,2,     -999,9,     -999,9,     -999,     -999,9,     -999,9,     -999,9,     -999,9,    0.061,1,    4.649,1,    0.131,1,     -999,9,     -999,9,20180501,1110, -67.4994,-102.9972,     -999,9,     -999,9,-999          ,9,     -999,9,     -999,9,     -999,     -999,9,     -999,     -999,9,     -999,9,     -999,9,     -999,9,     -999,9,     -999,9,     -999,9,     -999,9,     -999,9,     -999,9,     -999,9,     -999,9,     -999,9,     -999,9