BOTTLE,20240515CCHHYDRO
EXPOCODE,SECT_ID,STNNBR,CASTNO,SAMPNO,BTLNBR,BTLNBR_FLAG_W,DATE,TIME,LATITUDE,LONGITUDE,DEPTH,CTDPRS,CTDTMP,CTDSAL,CTDSAL_FLAG_W,SALNTY,SALNTY_FLAG_W,CTDOXY,CTDOXY_FLAG_W,CTDOPTOXY,CTDOPTOXY_FLAG_W,OXYGEN,OXYGEN_FLAG_W,SILCAT,SILCAT_FLAG_W,NITRAT,NITRAT_FLAG_W,NITRIT,NITRIT_FLAG_W,PHSPHT,PHSPHT_FLAG_W,CFC-11,CFC-11_FLAG_W,CFC-12,CFC-12_FLAG_W,SF6,SF6_FLAG_W,TCARBN,TCARBN_FLAG_W,ALKALI,ALKALI_FLAG_W,PH_TOT,PH_TOT_FLAG_W,PH_TMP,DOC,DOC_FLAG_W,HELIUM,HELIUM_FLAG_W,REFTMP,REFTMP_FLAG_W,DELC13,DELC13_FLAG_W,DELC14,DELC14_FLAG_W,C14ERR,POC,POC_FLAG_W,TDN,TDN_FLAG_W,TON,TON_FLAG_W,NEON,NEON_FLAG_W,CTDFLUOR,CTDFLUOR_FLAG_W,CTDXMISS,CTDXMISS_FLAG_W,CTDBETA700,CTDBETA700_FLAG_W,N2O,N2O_FLAG_W,ARGON,ARGON_FLAG_W,BTL_DATE,BTL_TIME,BTL_LAT,BTL_LON,KRYPTON,KRYPTON_FLAG_W,XENON,XENON_FLAG_W,HPLC,HPLC_FLAG_W,HE3_HE4_RATIO,HE3_HE4_RATIO_FLAG_W,Nd_143_144_D_EPSILON_BOTTLE,Nd_143_144_D_EPSILON_BOTTLE_FLAG_W,Nd_143_144_D_EPSILON_BOTTLE_ERROR,Nd_143_144_D_RATIO_BOTTLE,Nd_143_144_D_RATIO_BOTTLE_FLAG_W,Nd_143_144_D_RATIO_BOTTLE_ERROR,Nd_D_CONC,Nd_D_CONC_FLAG_W,La_D_CONC_BOTTLE,La_D_CONC_BOTTLE_FLAG_W,Ce_D_CONC_BOTTLE,Ce_D_CONC_BOTTLE_FLAG_W,Pr_D_CONC_BOTTLE,Pr_D_CONC_BOTTLE_FLAG_W,Sm_D_CONC_BOTTLE,Sm_D_CONC_BOTTLE_FLAG_W,Eu_D_CONC_BOTTLE,Eu_D_CONC_BOTTLE_FLAG_W,Gd_D_CONC_BOTTLE,Gd_D_CONC_BOTTLE_FLAG_W,Tb_D_CONC_BOTTLE,Tb_D_CONC_BOTTLE_FLAG_W,Dy_D_CONC_BOTTLE,Dy_D_CONC_BOTTLE_FLAG_W,Ho_D_CONC_BOTTLE,Ho_D_CONC_BOTTLE_FLAG_W,Er_D_CONC_BOTTLE,Er_D_CONC_BOTTLE_FLAG_W,Tm_D_CONC_BOTTLE,Tm_D_CONC_BOTTLE_FLAG_W,Yb_D_CONC_BOTTLE,Yb_D_CONC_BOTTLE_FLAG_W,Lu_D_CONC_BOTTLE,Lu_D_CONC_BOTTLE_FLAG_W
,,,,,,,,,,,METERS,DBAR,ITS-90,PSS-78,,PSS-78,,UMOL/KG,,UMOL/KG,,UMOL/KG,,UMOL/KG,,UMOL/KG,,UMOL/KG,,UMOL/KG,,PMOL/KG,,PMOL/KG,,FMOL/KG,,UMOL/KG,,UMOL/KG,,,,DEG C,UMOL/KG,,NMOL/L,,DEG C,,/MILLE,,/MILLE,,/MILLE,UG/KG,,UMOL/KG,,UMOL/KG,,NMOL/L,,VOLTS,,VOLTS,,VOLTS,,NMOL/KG,,UMOL/L,,,,,,NMOL/L,,NMOL/L,,,,,,10000,,10000,,,,PMOL/KG,,PMOL/L,,PMOL/L,,PMOL/L,,PMOL/L,,PMOL/L,,PMOL/L,,PMOL/L,,PMOL/L,,PMOL/L,,PMOL/L,,PMOL/L,,PMOL/L,,PMOL/L,
320620180309  ,P18        ,103     ,  1,15         ,15         ,2,20180501,0943, -67.5003,-102.9942,     4628,   1382.0,1.6102233299037558290,34.731577986969931,2,  34.7308,2,193.89431504114171,2, 192.3009,2,    192.8,2,     97.1,2,    31.95,2,     0.00,2,     2.21,2,    0.166,2,    0.091,2,   0.0200,2,   2257.1,2,  2358.11,2,   7.5981,2,    24.93,     -999,9,     -999,9,   1.6098,2,     -999,9,     -999,9,     -999,     -999,9,     -999,9,     -999,9,     -999,9,    0.061,1,    4.650,1,    0.130,1,  19.2600,2,     -999,9,20180501,1107, -67.4995,-102.9966,     -999,9,     -999,9,-999          ,9,     -999,9,     -999,9,     -999,     -999,9,     -999,     -999,9,     -999,9,     -999,9,     -999,9,     -999,9,     -999,9,     -999,9,     -999,9,     -999,9,     -999,9,     -999,9,     -999,9,     -999,9,     -999,9
320620180309  ,P18        ,103     ,  1,14         ,14         ,2,20180501,0943, -67.5003,-102.9942,     4628,   1482.6,1.5110248903743153104,34.731189643201937,2,  34.7308,2,194.60397609877833,2, 193.7028,2,    194.0,2,    100.2,2,    32.00,2,     0.00,2,     2.22,2,     -999,9,     -999,9,     -999,9,     -999,9,     -999,9,     -999,9,     -999,     -999,9,     -999,9,   1.5109,2,     -999,9,     -999,9,     -999,     -999,9,     -999,9,     -999,9,     -999,9,    0.062,1,    4.650,1,    0.130,1,     -999,9,     -999,9,20180501,1103, -67.4997,-102.9961,     -999,9,     -999,9,-999          ,9,     -999,9,     -999,9,     -999,     -999,9,     -999,     -999,9,     -999,9,     -999,9,     -999,9,     -999,9,     -999,9,     -999,9,     -999,9,     -999,9,     -999,9,     -999,9,     -999,9,     -999,9,     -999,9
320620180309  ,P18        ,103     ,  1,13         ,13         ,2,20180501,0943, -67.5003,-102.9942,     4628,   1585.5,1.4285428458307531940,34.729721132535282,2,  34.7294,2,195.16615541799308,2, 194.9045,2,    195.1,2,    103.0,2,    32.06,2,     0.00,2,     2.22,2,     -999,9,     -999,9,     -999,9,   2256.4,3,  2362.27,2,   7.6009,2,    24.95,     -999,9,     -999,9,   1.4284,2,     -999,9,     -999,9,     -999,     -999,9,     -999,9,     -999,9,     -999,9,    0.061,1,    4.650,1,    0.129,1,     -999,9,     -999,9,20180501,1100, -67.4998,-102.9955,     -999,9,     -999,9,-999          ,9,     -999,9,     -999,9,     -999,     -999,9,     -999,     -999,9,     -999,9,     -999,9,     -999,9,     -999,9,     -999,9,     -999,9,     -999,9,     -999,9,     -999,9,     -999,9,     -999,9,     -999,9,     -999,9
320620180309  ,P18        ,103     ,  1,12         ,12         ,2,20180501,0943, -67.5003,-102.9942,     4628,   1758.2,1.3018845697612786427,34.726514455674959,2,  34.7263,2,196.87951334372627,2, 196.7999,2,    196.8,2,    107.2,2,    32.17,2,     0.00,2,     2.22,2,    0.137,2,    0.089,2,   0.1100,2,     -999,9,     -999,9,     -999,9,     -999,     -999,9,     -999,9,   1.3014,2,     -999,9,     -999,9,     -999,     -999,9,     -999,9,     -999,9,     -999,9,    0.061,1,    4.650,1,    0.130,1,  19.2300,2,     -999,9,20180501,1054, -67.5000,-102.9950,     -999,9,     -999,9,-999          ,9,     -999,9,     -999,9,     -999,     -999,9,     -999,     -999,9,     -999,9,     -999,9,     -999,9,     -999,9,     -999,9,     -999,9,     -999,9,     -999,9,     -999,9,     -999,9,     -999,9,     -999,9,     -999,9
320620180309  ,P18        ,103     ,  1,11         ,11         ,2,20180501,0943, -67.5003,-102.9942,     4628,   1962.0,1.1793277140472002706,34.722680982722160,2,  34.7227,2,198.49551856898987,2, 199.1025,2,    199.2,2,    111.3,2,    32.26,2,     0.00,2,     2.22,2,     -999,9,     -999,9,     -999,9,   2261.1,2,  2364.73,2,   7.6015,2,    24.95,     -999,9,     -999,9,   1.1798,2,     -999,9,     -999,9,     -999,     -999,9,     -999,9,     -999,9,     -999,9,    0.060,1,    4.650,1,    0.128,1,     -999,9,     -999,9,20180501,1049, -67.5003,-102.9938,     -999,9,     -999,9,-999          ,9,     -999,9,     -999,9,     -999,     -999,9,     -999,     -999,9,     -999,9,     -999,9,     -999,9,     -999,9,     -999,9,     -999,9,     -999,9,     -999,9,     -999,9,     -999,9,     -999,9,     -999,9,     -999,9
320620180309  ,P18        ,103     ,  1,10         ,10         ,2,20180501,0943, -67.5003,-102.9942,     4628,   2199.1,1.0464547566678126245,34.717819551998041,2,  34.7160,2,200.50981506270824,2, 201.6039,2,    201.9,2,    115.8,2,    32.38,2,     0.00,2,     2.22,2,    0.130,2,    0.091,2,   0.0500,2,     -999,9,     -999,9,     -999,9,     -999,     -999,9,     -999,9,   1.0466,2,     -999,9,     -999,9,     -999,     -999,9,     -999,9,     -999,9,     -999,9,    0.061,1,    4.651,1,    0.127,1,  18.9800,2,     -999,9,20180501,1044, -67.5007,-102.9927,     -999,9,     -999,9,-999          ,9,     -999,9,     -999,9,     -999,     -999,9,     -999,     -999,9,     -999,9,     -999,9,     -999,9,     -999,9,     -999,9,     -999,9,     -999,9,     -999,9,     -999,9,     -999,9,     -999,9,     -999,9,     -999,9
320620180309  ,P18        ,103     ,  1,9          ,9          ,2,20180501,0943, -67.5003,-102.9942,     4628,   2454.0,0.9279911054086085187,34.712968837536188,2,  34.7117,2,202.92240048459630,2, 203.9026,2,    203.8,2,    120.3,2,    32.50,2,     0.00,2,     2.23,2,     -999,9,     -999,9,     -999,9,   2262.0,2,  2365.85,2,   7.6014,2,    24.95,     -999,9,     -999,9,   0.9273,2,     -999,9,     -999,9,     -999,     -999,9,     -999,9,     -999,9,     -999,9,    0.061,1,    4.651,1,    0.128,1,     -999,9,     -999,9,20180501,1037, -67.5004,-102.9935,     -999,9,     -999,9,-999          ,9,     -999,9,     -999,9,     -999,     -999,9,     -999,     -999,9,     -999,9,     -999,9,     -999,9,     -999,9,     -999,9,     -999,9,     -999,9,     -999,9,     -999,9,     -999,9,     -999,9,     -999,9,     -999,9
320620180309  ,P18        ,103     ,  1,8          ,8          ,2,20180501,0943, -67.5003,-102.9942,     4628,   2708.2,0.8309516448774270092,34.709319788041526,2,  34.7078,2,204.91432535631890,2, 205.6958,2,    205.6,2,    123.8,2,    32.63,2,     0.00,2,     2.23,2,    0.168,2,    0.107,2,   0.0300,2,     -999,9,     -999,9,     -999,9,     -999,     -999,9,     -999,9,   0.8306,2,     -999,9,     -999,9,     -999,     -999,9,     -999,9,     -999,9,     -999,9,    0.061,1,    4.651,1,    0.128,1,  19.0000,2,     -999,9,20180501,1031, -67.5004,-102.9938,     -999,9,     -999,9,-999          ,9,     -999,9,     -999,9,     -999,     -999,9,     -999,     -999,9,     -999,9,     -999,9,     -999,9,     -999,9,     -999,9,     -999,9,     -999,9,     -999,9,     -999,9,     -999,9,     -999,9,     -999,9,     -999,9
320620180309  ,P18        ,103     ,  1,7          ,7          ,2,20180501,0943, -67.5003,-102.9942,     4628,   2964.5,0.7457809657811702575,34.706429923513710,2,  34.7058,2,206.67366011776784,2, 207.2964,2,    206.9,2,    126.7,2,    32.70,2,     0.00,2,     2.24,2,     -999,9,     -999,9,     -999,9,   2264.1,2,  2366.68,2,   7.5983,2,    24.96,     -999,9,     -999,9,   0.7458,2,     -999,9,     -999,9,     -999,     -999,9,     -999,9,     -999,9,     -999,9,    0.061,1,    4.651,1,    0.126,1,     -999,9,     -999,9,20180501,1025, -67.5003,-102.9942,     -999,9,     -999,9,-999          ,9,     -999,9,     -999,9,     -999,     -999,9,     -999,     -999,9,     -999,9,     -999,9,     -999,9,     -999,9,     -999,9,     -999,9,     -999,9,     -999,9,     -999,9,     -999,9,     -999,9,     -999,9,     -999,9
320620180309  ,P18        ,103     ,  1,6          ,6          ,2,20180501,0943, -67.5003,-102.9942,     4628,   3254.4,0.6371715162175358715,34.703792223458578,2,  34.7031,2,208.56734486475438,2, 209.5029,2,    209.7,2,    129.1,2,    32.81,2,     0.00,2,     2.24,2,     -999,9,     -999,9,     -999,9,     -999,9,     -999,9,     -999,9,     -999,     -999,9,     -999,9,   0.6372,2,     -999,9,     -999,9,     -999,     -999,9,     -999,9,     -999,9,     -999,9,    0.062,1,    4.651,1,    0.126,1,     -999,9,     -999,9,20180501,1018, -67.5003,-102.9940,     -999,9,     -999,9,-999          ,9,     -999,9,     -999,9,     -999,     -999,9,     -999,     -999,9,     -999,9,     -999,9,     -999,9,     -999,9,     -999,9,     -999,9,     -999,9,     -999,9,     -999,9,     -999,9,     -999,9,     -999,9,     -999,9
320620180309  ,P18        ,103     ,  1,5          ,5          ,2,20180501,0943, -67.5003,-102.9942,     4628,   3563.5,0.5286104531766725456,34.701614790783104,3,  34.6990,2,211.13574551994617,2, 211.6012,2,    211.4,2,    131.6,2,    32.87,2,     0.00,2,     2.25,2,    0.266,2,    0.156,2,   0.0000,2,   2264.4,2,  2365.26,2,   7.5976,2,    24.97,     -999,9,     -999,9,   0.5289,2,     -999,9,     -999,9,     -999,     -999,9,     -999,9,     -999,9,     -999,9,    0.060,1,    4.651,1,    0.125,1,  18.4800,2,     -999,9,20180501,1011, -67.5004,-102.9937,     -999,9,     -999,9,-999          ,9,     -999,9,     -999,9,     -999,     -999,9,     -999,     -999,9,     -999,9,     -999,9,     -999,9,     -999,9,     -999,9,     -999,9,     -999,9,     -999,9,     -999,9,     -999,9,     -999,9,     -999,9,     -999,9
320620180309  ,P18        ,103     ,  1,4          ,4          ,2,20180501,0943, -67.5003,-102.9942,     4628,   3871.9,0.4591914023100783782,34.700942103587494,3,  34.6974,2,213.03462700009811,2, 213.3961,2,    213.4,2,    135.4,2,    32.95,2,     0.00,2,     2.25,2,    0.279,2,    0.160,2,   0.0700,2,   2265.1,2,  2366.81,2,   7.5969,6,    24.95,     -999,9,     -999,9,   0.4593,2,     -999,9,     -999,9,     -999,     -999,9,     -999,9,     -999,9,     -999,9,    0.061,1,    4.650,1,    0.125,1,  18.7700,2,     -999,9,20180501,1004, -67.5004,-102.9939,     -999,9,     -999,9,-999          ,9,     -999,9,     -999,9,     -999,     -999,9,     -999,     -999,9,     -999,9,     -999,9,     -999,9,     -999,9,     -999,9,     -999,9,     -999,9,     -999,9,     -999,9,     -999,9,     -999,9,     -999,9,     -999,9
320620180309  ,P18        ,103     ,  1,3          ,3          ,2,20180501,0943, -67.5003,-102.9942,     4628,   4181.4,0.4192060238147137241,34.700279222648831,2,  34.6990,2,214.44146854267672,2, 214.8044,2,    214.6,2,    138.7,2,    32.98,2,     0.00,2,     2.25,2,    0.314,2,    0.175,2,   0.0700,2,   2265.2,2,  2366.47,2,   7.5989,2,    24.97,     -999,9,     -999,9,   0.4189,2,     -999,9,     -999,9,     -999,     -999,9,     -999,9,     -999,9,     -999,9,    0.061,1,    4.650,1,    0.126,1,  18.3200,2,     -999,9,20180501,0956, -67.5004,-102.9939,     -999,9,     -999,9,-999          ,9,     -999,9,     -999,9,     -999,     -999,9,     -999,     -999,9,     -999,9,     -999,9,     -999,9,     -999,9,     -999,9,     -999,9,     -999,9,     -999,9,     -999,9,     -999,9,     -999,9,     -999,9,     -999,9
320620180309  ,P18        ,103     ,  1,2          ,2          ,2,20180501,0943, -67.5003,-102.9942,     4628,   4491.2,0.4045820684604730655,34.699490606487664,2,  34.6984,2,215.36513067949835,2, 215.2009,2,    216.5,2,    142.0,2,    33.06,2,     0.00,2,     2.25,2,    0.377,2,    0.209,2,   0.1400,2,   2264.9,2,  2366.81,2,   7.5977,2,    24.95,     -999,9,     -999,9,   0.4046,2,     -999,9,     -999,9,     -999,     -999,9,     -999,9,     -999,9,     -999,9,    0.061,1,    4.647,1,    0.128,1,  18.6900,2,     -999,9,20180501,0949, -67.5003,-102.9942,     -999,9,     -999,9,-999          ,9,     -999,9,     -999,9,     -999,     -999,9,     -999,     -999,9,     -999,9,     -999,9,     -999,9,     -999,9,     -999,9,     -999,9,     -999,9,     -999,9,     -999,9,     -999,9,     -999,9,     -999,9,     -999,9
320620180309  ,P18        ,103     ,  1,1          ,1          ,2,20180501,0943, -67.5003,-102.9942,     4628,   4714.9,0.4138604348594215887,34.698846694714973,2,  34.6984,2,218.39286703517382,3, 215.1994,2,    214.4,2,    148.9,2,    33.16,2,     0.00,2,     2.25,2,    0.406,2,    0.214,2,   0.0800,2,   2267.5,6,  2367.83,2,   7.5959,2,    24.95,     -999,9,     -999,9,   0.4139,2,     -999,9,     -999,9,     -999,     -999,9,     -999,9,     -999,9,     -999,9,    0.061,1,    4.635,1,    0.146,1,  18.0700,2,     -999,9,20180501,0943, -67.5003,-102.9942,     -999,9,     -999,9,-999          ,9,     -999,9,     -999,9,     -999,     -999,9,     -999,     -999,9,     -999,9,     -999,9,     -999,9,     -999,9,     -999,9,     -999,9,     -999,9,     -999,9,     -999,9,     -999,9,     -999,9,     -999,9,     -999,9