BOTTLE,20240515CCHHYDRO
EXPOCODE,SECT_ID,STNNBR,CASTNO,SAMPNO,BTLNBR,BTLNBR_FLAG_W,DATE,TIME,LATITUDE,LONGITUDE,DEPTH,CTDPRS,CTDTMP,CTDSAL,CTDSAL_FLAG_W,SALNTY,SALNTY_FLAG_W,CTDOXY,CTDOXY_FLAG_W,CTDOPTOXY,CTDOPTOXY_FLAG_W,OXYGEN,OXYGEN_FLAG_W,SILCAT,SILCAT_FLAG_W,NITRAT,NITRAT_FLAG_W,NITRIT,NITRIT_FLAG_W,PHSPHT,PHSPHT_FLAG_W,CFC-11,CFC-11_FLAG_W,CFC-12,CFC-12_FLAG_W,SF6,SF6_FLAG_W,TCARBN,TCARBN_FLAG_W,ALKALI,ALKALI_FLAG_W,PH_TOT,PH_TOT_FLAG_W,PH_TMP,DOC,DOC_FLAG_W,HELIUM,HELIUM_FLAG_W,REFTMP,REFTMP_FLAG_W,DELC13,DELC13_FLAG_W,DELC14,DELC14_FLAG_W,C14ERR,POC,POC_FLAG_W,TDN,TDN_FLAG_W,TON,TON_FLAG_W,NEON,NEON_FLAG_W,CTDFLUOR,CTDFLUOR_FLAG_W,CTDXMISS,CTDXMISS_FLAG_W,CTDBETA700,CTDBETA700_FLAG_W,N2O,N2O_FLAG_W,ARGON,ARGON_FLAG_W,BTL_DATE,BTL_TIME,BTL_LAT,BTL_LON,KRYPTON,KRYPTON_FLAG_W,XENON,XENON_FLAG_W,HPLC,HPLC_FLAG_W,HE3_HE4_RATIO,HE3_HE4_RATIO_FLAG_W,Nd_143_144_D_EPSILON_BOTTLE,Nd_143_144_D_EPSILON_BOTTLE_FLAG_W,Nd_143_144_D_EPSILON_BOTTLE_ERROR,Nd_143_144_D_RATIO_BOTTLE,Nd_143_144_D_RATIO_BOTTLE_FLAG_W,Nd_143_144_D_RATIO_BOTTLE_ERROR,Nd_D_CONC,Nd_D_CONC_FLAG_W,La_D_CONC_BOTTLE,La_D_CONC_BOTTLE_FLAG_W,Ce_D_CONC_BOTTLE,Ce_D_CONC_BOTTLE_FLAG_W,Pr_D_CONC_BOTTLE,Pr_D_CONC_BOTTLE_FLAG_W,Sm_D_CONC_BOTTLE,Sm_D_CONC_BOTTLE_FLAG_W,Eu_D_CONC_BOTTLE,Eu_D_CONC_BOTTLE_FLAG_W,Gd_D_CONC_BOTTLE,Gd_D_CONC_BOTTLE_FLAG_W,Tb_D_CONC_BOTTLE,Tb_D_CONC_BOTTLE_FLAG_W,Dy_D_CONC_BOTTLE,Dy_D_CONC_BOTTLE_FLAG_W,Ho_D_CONC_BOTTLE,Ho_D_CONC_BOTTLE_FLAG_W,Er_D_CONC_BOTTLE,Er_D_CONC_BOTTLE_FLAG_W,Tm_D_CONC_BOTTLE,Tm_D_CONC_BOTTLE_FLAG_W,Yb_D_CONC_BOTTLE,Yb_D_CONC_BOTTLE_FLAG_W,Lu_D_CONC_BOTTLE,Lu_D_CONC_BOTTLE_FLAG_W
,,,,,,,,,,,METERS,DBAR,ITS-90,PSS-78,,PSS-78,,UMOL/KG,,UMOL/KG,,UMOL/KG,,UMOL/KG,,UMOL/KG,,UMOL/KG,,UMOL/KG,,PMOL/KG,,PMOL/KG,,FMOL/KG,,UMOL/KG,,UMOL/KG,,,,DEG C,UMOL/KG,,NMOL/L,,DEG C,,/MILLE,,/MILLE,,/MILLE,UG/KG,,UMOL/KG,,UMOL/KG,,NMOL/L,,VOLTS,,VOLTS,,VOLTS,,NMOL/KG,,UMOL/L,,,,,,NMOL/L,,NMOL/L,,,,,,10000,,10000,,,,PMOL/KG,,PMOL/L,,PMOL/L,,PMOL/L,,PMOL/L,,PMOL/L,,PMOL/L,,PMOL/L,,PMOL/L,,PMOL/L,,PMOL/L,,PMOL/L,,PMOL/L,,PMOL/L,
320620180309  ,S04P       ,114     ,  1,15         ,15         ,2,20180505,1713, -67.0013, -87.9988,     4386,   1282.8,1.5830297258690935180,34.731536026696361,2,  34.7329,2,192.74961653105839,2, 190.7989,2,    191.8,2,     98.0,2,    31.95,2,     0.00,2,     2.17,2,     -999,9,     -999,9,     -999,9,   2255.7,2,  2356.54,2,   7.5949,2,    24.92,     42.2,2,     -999,9,   1.5845,2,     -999,9,     -999,9,     -999,     -999,9,     -999,9,     -999,1,     -999,9,    0.061,1,    4.644,1,    0.130,1,     -999,9,     -999,9,20180505,1827, -67.0013, -87.9989,     -999,9,     -999,9,-999          ,9,     -999,9,     -999,9,     -999,     -999,9,     -999,     -999,9,     -999,9,     -999,9,     -999,9,     -999,9,     -999,9,     -999,9,     -999,9,     -999,9,     -999,9,     -999,9,     -999,9,     -999,9,     -999,9
320620180309  ,S04P       ,114     ,  1,14         ,14         ,2,20180505,1713, -67.0013, -87.9988,     4386,   1381.8,1.4847066363175707160,34.730579268034454,2,  34.7319,2,193.59889191542655,2, 192.5023,2,    193.7,2,    101.0,2,    32.02,2,     0.00,2,     2.18,2,    0.161,2,    0.084,2,   0.0900,2,   2256.8,2,  2358.86,2,   7.5969,2,    24.93,     39.0,2,     -999,9,   1.4846,2,     -999,9,     -999,9,     -999,     -999,9,     -999,9,     -999,1,     -999,9,    0.061,1,    4.648,1,    0.128,1,  19.5300,2,     -999,9,20180505,1824, -67.0012, -87.9988,     -999,9,     -999,9,-999          ,9,     -999,9,     -999,9,     -999,     -999,9,     -999,     -999,9,     -999,9,     -999,9,     -999,9,     -999,9,     -999,9,     -999,9,     -999,9,     -999,9,     -999,9,     -999,9,     -999,9,     -999,9,     -999,9
320620180309  ,S04P       ,114     ,  1,13         ,13         ,2,20180505,1713, -67.0013, -87.9988,     4386,   1485.2,1.4091057666924238223,34.729356574042257,2,  34.7306,2,194.39865165071487,2, 194.2007,2,    194.0,2,    103.7,2,    32.01,2,     0.00,2,     2.16,2,     -999,9,     -999,9,     -999,9,   2259.2,2,  2360.22,2,   7.5979,2,    24.92,     42.0,2,     -999,9,   1.4090,2,     -999,9,     -999,9,     -999,     -999,9,     -999,9,     -999,1,     -999,9,    0.061,1,    4.648,1,    0.131,1,     -999,9,     -999,9,20180505,1821, -67.0011, -87.9989,     -999,9,     -999,9,-999          ,9,     -999,9,     -999,9,     -999,     -999,9,     -999,     -999,9,     -999,9,     -999,9,     -999,9,     -999,9,     -999,9,     -999,9,     -999,9,     -999,9,     -999,9,     -999,9,     -999,9,     -999,9,     -999,9
320620180309  ,S04P       ,114     ,  1,12         ,12         ,2,20180505,1713, -67.0013, -87.9988,     4386,   1584.6,1.3396149637523804277,34.727326752578513,2,  34.7290,2,195.42496896563640,2, 195.1028,2,    195.5,2,    106.1,2,    32.11,2,     0.00,2,     2.17,2,    0.135,2,    0.069,2,   0.0200,2,   2259.7,2,  2363.60,2,   7.5977,2,    24.90,     39.3,2,     -999,9,   1.3396,2,     -999,9,     -999,9,     -999,     -999,9,     -999,9,     -999,1,     -999,9,    0.061,1,    4.647,1,    0.130,1,  19.1600,2,     -999,9,20180505,1818, -67.0011, -87.9989,     -999,9,     -999,9,-999          ,9,     -999,9,     -999,9,     -999,     -999,9,     -999,     -999,9,     -999,9,     -999,9,     -999,9,     -999,9,     -999,9,     -999,9,     -999,9,     -999,9,     -999,9,     -999,9,     -999,9,     -999,9,     -999,9
320620180309  ,S04P       ,114     ,  1,11         ,11         ,2,20180505,1713, -67.0013, -87.9988,     4386,   1759.7,1.2382402893149861978,34.724524397933841,2,  34.7264,2,197.04838020799329,2, 197.0008,2,    197.3,2,    109.5,2,    32.18,2,     0.00,2,     2.19,2,     -999,9,     -999,9,     -999,9,   2259.3,2,  2361.48,2,   7.5972,2,    24.95,     41.8,2,     -999,9,   1.2382,2,     -999,9,     -999,9,     -999,     -999,9,     -999,9,     -999,1,     -999,9,    0.061,1,    4.647,1,    0.130,1,     -999,9,     -999,9,20180505,1814, -67.0012, -87.9989,     -999,9,     -999,9,-999          ,9,     -999,9,     -999,9,     -999,     -999,9,     -999,     -999,9,     -999,9,     -999,9,     -999,9,     -999,9,     -999,9,     -999,9,     -999,9,     -999,9,     -999,9,     -999,9,     -999,9,     -999,9,     -999,9
320620180309  ,S04P       ,114     ,  1,10         ,10         ,2,20180505,1713, -67.0013, -87.9988,     4386,   1962.4,1.1284833127428774979,34.720782868543985,2,  34.7223,2,199.74063689845627,2, 199.1038,2,    199.1,2,    113.0,2,    32.26,2,     0.00,2,     2.17,2,    0.128,2,    0.073,2,   0.0000,2,   2260.5,2,  2361.97,2,   7.5991,6,    24.88,     41.5,2,     -999,9,   1.1287,2,     -999,9,     -999,9,     -999,     -999,9,     -999,9,     -999,1,     -999,9,    0.061,1,    4.649,1,    0.125,1,  18.9500,2,     -999,9,20180505,1809, -67.0009, -87.9990,     -999,9,     -999,9,-999          ,9,     -999,9,     -999,9,     -999,     -999,9,     -999,     -999,9,     -999,9,     -999,9,     -999,9,     -999,9,     -999,9,     -999,9,     -999,9,     -999,9,     -999,9,     -999,9,     -999,9,     -999,9,     -999,9
320620180309  ,S04P       ,114     ,  1,9          ,9          ,2,20180505,1713, -67.0013, -87.9988,     4386,   2198.0,1.0160630052282220159,34.716456380949758,2,  34.7180,2,202.00737397653992,2, 201.3012,2,    201.3,2,    116.8,2,    32.41,2,     0.00,2,     2.19,2,    0.133,2,    0.072,2,   0.0500,2,   2262.2,6,  2362.00,2,   7.5974,2,    24.91,     41.5,2,     -999,9,   1.0157,2,     -999,9,     -999,9,     -999,     -999,9,     -999,9,     -999,1,     -999,9,    0.061,1,    4.648,1,    0.127,1,  18.5500,2,     -999,9,20180505,1804, -67.0010, -87.9987,     -999,9,     -999,9,-999          ,9,     -999,9,     -999,9,     -999,     -999,9,     -999,     -999,9,     -999,9,     -999,9,     -999,9,     -999,9,     -999,9,     -999,9,     -999,9,     -999,9,     -999,9,     -999,9,     -999,9,     -999,9,     -999,9
320620180309  ,S04P       ,114     ,  1,8          ,8          ,2,20180505,1713, -67.0013, -87.9988,     4386,   2454.5,0.9015828062656993103,34.711999893887032,3,  34.7141,2,204.35207857129501,2, 203.6031,2,    204.0,2,    121.1,2,    32.54,2,     0.00,2,     2.20,2,     -999,9,     -999,9,     -999,9,   2263.1,2,  2362.79,2,   7.5981,2,    24.93,     40.0,2,     -999,9,   0.9016,2,     -999,9,     -999,9,     -999,     -999,9,     -999,9,     -999,1,     -999,9,    0.061,1,    4.647,1,    0.128,1,     -999,9,     -999,9,20180505,1758, -67.0011, -87.9986,     -999,9,     -999,9,-999          ,9,     -999,9,     -999,9,     -999,     -999,9,     -999,     -999,9,     -999,9,     -999,9,     -999,9,     -999,9,     -999,9,     -999,9,     -999,9,     -999,9,     -999,9,     -999,9,     -999,9,     -999,9,     -999,9
320620180309  ,S04P       ,114     ,  1,7          ,7          ,2,20180505,1713, -67.0013, -87.9988,     4386,   2708.7,0.8049600060587263073,34.708444641720938,2,  34.7100,2,205.90449966585768,2, 205.5019,2,    205.4,2,    124.9,2,    32.65,2,     0.00,2,     2.22,2,    0.170,2,    0.097,2,   0.0000,2,   2263.2,2,  2364.72,2,   7.5969,2,    24.93,     38.6,2,     -999,9,   0.8050,2,     -999,9,     -999,9,     -999,     -999,9,     -999,9,     -999,1,     -999,9,    0.061,1,    4.649,1,    0.128,1,  18.5200,2,     -999,9,20180505,1753, -67.0007, -87.9989,     -999,9,     -999,9,-999          ,9,     -999,9,     -999,9,     -999,     -999,9,     -999,     -999,9,     -999,9,     -999,9,     -999,9,     -999,9,     -999,9,     -999,9,     -999,9,     -999,9,     -999,9,     -999,9,     -999,9,     -999,9,     -999,9
320620180309  ,S04P       ,114     ,  1,6          ,6          ,2,20180505,1713, -67.0013, -87.9988,     4386,   2964.4,0.7055476307566710403,34.705249960450558,2,  34.7070,2,207.54443929627757,2, 207.4015,2,    207.3,2,    127.6,2,    32.76,2,     0.00,2,     2.22,2,    0.202,2,    0.102,2,   0.1000,2,   2261.9,2,  2365.03,2,   7.5947,2,    24.92,     38.2,2,     -999,9,   0.7055,2,     -999,9,     -999,9,     -999,     -999,9,     -999,9,     -999,1,     -999,9,    0.061,1,    4.648,1,    0.126,1,  19.2300,2,     -999,9,20180505,1747, -67.0006, -87.9988,     -999,9,     -999,9,-999          ,9,     -999,9,     -999,9,     -999,     -999,9,     -999,     -999,9,     -999,9,     -999,9,     -999,9,     -999,9,     -999,9,     -999,9,     -999,9,     -999,9,     -999,9,     -999,9,     -999,9,     -999,9,     -999,9
320620180309  ,S04P       ,114     ,  1,5          ,5          ,2,20180505,1713, -67.0013, -87.9988,     4386,   3255.5,0.5953409897150563346,34.703148608958649,2,  34.7049,2,209.69445096469033,2, 209.4954,2,    209.5,2,    130.7,2,    32.88,2,     0.00,2,     2.23,2,    0.222,2,    0.121,2,   0.0000,2,   2264.1,2,  2365.55,2,   7.5950,2,    24.92,     39.1,2,     -999,9,   0.5953,2,     -999,9,     -999,9,     -999,     -999,9,     -999,9,     -999,1,     -999,9,    0.061,1,    4.649,1,    0.124,1,  18.4100,2,     -999,9,20180505,1741, -67.0008, -87.9988,     -999,9,     -999,9,-999          ,9,     -999,9,     -999,9,     -999,     -999,9,     -999,     -999,9,     -999,9,     -999,9,     -999,9,     -999,9,     -999,9,     -999,9,     -999,9,     -999,9,     -999,9,     -999,9,     -999,9,     -999,9,     -999,9
320620180309  ,S04P       ,114     ,  1,4          ,4          ,2,20180505,1713, -67.0013, -87.9988,     4386,   3563.8,0.5061299006075601348,34.701970940558951,2,  34.7027,2,211.65126478540449,2, 211.3981,2,    211.2,2,    134.6,2,    32.99,2,     0.00,2,     2.24,2,    0.219,2,    0.119,2,   0.0500,2,   2262.8,2,  2365.77,2,   7.5964,2,    24.91,     39.1,2,     -999,9,   0.5064,2,     -999,9,     -999,9,     -999,     -999,9,     -999,9,     -999,1,     -999,9,    0.061,1,    4.648,1,    0.125,1,  19.0000,2,     -999,9,20180505,1734, -67.0010, -87.9989,     -999,9,     -999,9,-999          ,9,     -999,9,     -999,9,     -999,     -999,9,     -999,     -999,9,     -999,9,     -999,9,     -999,9,     -999,9,     -999,9,     -999,9,     -999,9,     -999,9,     -999,9,     -999,9,     -999,9,     -999,9,     -999,9
320620180309  ,S04P       ,114     ,  1,3          ,3          ,2,20180505,1713, -67.0013, -87.9988,     4386,   3873.6,0.4553997237306921519,34.701261046894224,2,  34.7007,2,212.89389769413182,2, 212.4057,2,    212.6,2,    138.0,2,    33.00,2,     0.00,2,     2.24,2,    0.244,2,    0.132,2,   0.0000,2,   2263.8,2,  2366.91,2,   7.5957,2,    24.87,     40.4,2,     -999,9,   0.4553,2,     -999,9,     -999,9,     -999,     -999,9,     -999,9,     -999,1,     -999,9,    0.062,1,    4.647,1,    0.126,1,  18.4900,2,     -999,9,20180505,1727, -67.0007, -87.9989,     -999,9,     -999,9,-999          ,9,     -999,9,     -999,9,     -999,     -999,9,     -999,     -999,9,     -999,9,     -999,9,     -999,9,     -999,9,     -999,9,     -999,9,     -999,9,     -999,9,     -999,9,     -999,9,     -999,9,     -999,9,     -999,9
320620180309  ,S04P       ,114     ,  1,2          ,2          ,2,20180505,1713, -67.0013, -87.9988,     4386,   4181.7,0.4264893479179288627,34.700247254790611,2,  34.7017,2,213.74477956972459,2, 213.1019,2,    213.5,2,    141.0,2,    33.06,2,     0.00,2,     2.24,2,    0.293,2,    0.158,2,   0.0800,2,   2266.7,2,  2367.42,2,   7.5954,2,    24.90,     39.4,2,     -999,9,   0.4268,2,     -999,9,     -999,9,     -999,     -999,9,     -999,9,     -999,1,     -999,9,    0.061,1,    4.645,1,    0.128,1,  18.9000,2,     -999,9,20180505,1721, -67.0010, -87.9988,     -999,9,     -999,9,-999          ,9,     -999,9,     -999,9,     -999,     -999,9,     -999,     -999,9,     -999,9,     -999,9,     -999,9,     -999,9,     -999,9,     -999,9,     -999,9,     -999,9,     -999,9,     -999,9,     -999,9,     -999,9,     -999,9
320620180309  ,S04P       ,114     ,  1,1          ,1          ,2,20180505,1713, -67.0013, -87.9988,     4386,   4465.7,0.4036164304225846600,34.699033087408033,2,  34.7007,2,213.94756758101414,2, 213.3000,2,    213.1,2,    148.6,2,    33.22,2,     0.00,2,     2.24,2,    0.375,2,    0.193,2,   0.0000,2,   2266.1,6,  2367.62,2,   7.5919,2,    24.89,     39.9,2,     -999,9,   0.4036,2,     -999,9,     -999,9,     -999,     -999,9,     -999,9,     -999,1,     -999,9,    0.061,1,    4.638,1,    0.143,1,  18.4600,2,     -999,9,20180505,1713, -67.0013, -87.9988,     -999,9,     -999,9,-999          ,9,     -999,9,     -999,9,     -999,     -999,9,     -999,     -999,9,     -999,9,     -999,9,     -999,9,     -999,9,     -999,9,     -999,9,     -999,9,     -999,9,     -999,9,     -999,9,     -999,9,     -999,9,     -999,9