BOTTLE,20240515CCHHYDRO
EXPOCODE,SECT_ID,STNNBR,CASTNO,SAMPNO,BTLNBR,BTLNBR_FLAG_W,DATE,TIME,LATITUDE,LONGITUDE,DEPTH,CTDPRS,CTDTMP,CTDSAL,CTDSAL_FLAG_W,SALNTY,SALNTY_FLAG_W,CTDOXY,CTDOXY_FLAG_W,CTDOPTOXY,CTDOPTOXY_FLAG_W,OXYGEN,OXYGEN_FLAG_W,SILCAT,SILCAT_FLAG_W,NITRAT,NITRAT_FLAG_W,NITRIT,NITRIT_FLAG_W,PHSPHT,PHSPHT_FLAG_W,CFC-11,CFC-11_FLAG_W,CFC-12,CFC-12_FLAG_W,SF6,SF6_FLAG_W,TCARBN,TCARBN_FLAG_W,ALKALI,ALKALI_FLAG_W,PH_TOT,PH_TOT_FLAG_W,PH_TMP,DOC,DOC_FLAG_W,HELIUM,HELIUM_FLAG_W,REFTMP,REFTMP_FLAG_W,DELC13,DELC13_FLAG_W,DELC14,DELC14_FLAG_W,C14ERR,POC,POC_FLAG_W,TDN,TDN_FLAG_W,TON,TON_FLAG_W,NEON,NEON_FLAG_W,CTDFLUOR,CTDFLUOR_FLAG_W,CTDXMISS,CTDXMISS_FLAG_W,CTDBETA700,CTDBETA700_FLAG_W,N2O,N2O_FLAG_W,ARGON,ARGON_FLAG_W,BTL_DATE,BTL_TIME,BTL_LAT,BTL_LON,KRYPTON,KRYPTON_FLAG_W,XENON,XENON_FLAG_W,HPLC,HPLC_FLAG_W,HE3_HE4_RATIO,HE3_HE4_RATIO_FLAG_W,Nd_143_144_D_EPSILON_BOTTLE,Nd_143_144_D_EPSILON_BOTTLE_FLAG_W,Nd_143_144_D_EPSILON_BOTTLE_ERROR,Nd_143_144_D_RATIO_BOTTLE,Nd_143_144_D_RATIO_BOTTLE_FLAG_W,Nd_143_144_D_RATIO_BOTTLE_ERROR,Nd_D_CONC,Nd_D_CONC_FLAG_W,La_D_CONC_BOTTLE,La_D_CONC_BOTTLE_FLAG_W,Ce_D_CONC_BOTTLE,Ce_D_CONC_BOTTLE_FLAG_W,Pr_D_CONC_BOTTLE,Pr_D_CONC_BOTTLE_FLAG_W,Sm_D_CONC_BOTTLE,Sm_D_CONC_BOTTLE_FLAG_W,Eu_D_CONC_BOTTLE,Eu_D_CONC_BOTTLE_FLAG_W,Gd_D_CONC_BOTTLE,Gd_D_CONC_BOTTLE_FLAG_W,Tb_D_CONC_BOTTLE,Tb_D_CONC_BOTTLE_FLAG_W,Dy_D_CONC_BOTTLE,Dy_D_CONC_BOTTLE_FLAG_W,Ho_D_CONC_BOTTLE,Ho_D_CONC_BOTTLE_FLAG_W,Er_D_CONC_BOTTLE,Er_D_CONC_BOTTLE_FLAG_W,Tm_D_CONC_BOTTLE,Tm_D_CONC_BOTTLE_FLAG_W,Yb_D_CONC_BOTTLE,Yb_D_CONC_BOTTLE_FLAG_W,Lu_D_CONC_BOTTLE,Lu_D_CONC_BOTTLE_FLAG_W
,,,,,,,,,,,METERS,DBAR,ITS-90,PSS-78,,PSS-78,,UMOL/KG,,UMOL/KG,,UMOL/KG,,UMOL/KG,,UMOL/KG,,UMOL/KG,,UMOL/KG,,PMOL/KG,,PMOL/KG,,FMOL/KG,,UMOL/KG,,UMOL/KG,,,,DEG C,UMOL/KG,,NMOL/L,,DEG C,,/MILLE,,/MILLE,,/MILLE,UG/KG,,UMOL/KG,,UMOL/KG,,NMOL/L,,VOLTS,,VOLTS,,VOLTS,,NMOL/KG,,UMOL/L,,,,,,NMOL/L,,NMOL/L,,,,,,10000,,10000,,,,PMOL/KG,,PMOL/L,,PMOL/L,,PMOL/L,,PMOL/L,,PMOL/L,,PMOL/L,,PMOL/L,,PMOL/L,,PMOL/L,,PMOL/L,,PMOL/L,,PMOL/L,,PMOL/L,
320620180309  ,S04P       ,6       ,  1,36         ,36         ,2,20180318,0900, -68.8133, 171.3941,     3167,      4.3,-1.0475472222222219632,33.995029404684239,2,  33.9943,2,342.32492646154725,2, 342.9948,2,    343.9,2,     64.5,2,    26.65,2,     0.13,2,     1.78,2,    5.635,2,    3.144,2,   4.8900,2,   2187.7,6,  2302.41,2,   7.6569,2,    24.96,     -999,9,     -999,9,  -1.0482,2,     -999,9,     -999,9,     -999,     -999,9,     -999,9,     -999,9,     -999,9,    0.184,1,    4.616,1,    0.179,1,  17.0800,2,     -999,9,20180318,1038, -68.8135, 171.3941,     -999,9,     -999,9,-999          ,9,     -999,9,     -999,9,     -999,     -999,9,     -999,     -999,9,     -999,1,     -999,1,     -999,1,     -999,1,     -999,1,     -999,1,     -999,1,     -999,1,     -999,1,     -999,1,     -999,1,     -999,1,     -999,1
320620180309  ,S04P       ,6       ,  1,35         ,35         ,2,20180318,0900, -68.8133, 171.3941,     3167,     34.5,-1.0514944444444445093,34.002521366764213,2,  34.0025,2,343.83931716128455,2, 343.0015,2,    342.4,2,     65.3,2,    26.65,2,     0.14,2,     1.78,2,    5.601,2,    3.059,2,   3.9100,2,   2182.1,2,  2303.51,2,   7.6546,2,    24.97,     -999,9,     -999,1,  -1.0520,2,     -999,9,     -999,9,     -999,     -999,9,     -999,9,     -999,9,     -999,1,    0.160,1,    4.615,1,    0.192,1,  17.6600,2,     -999,1,20180318,1035, -68.8135, 171.3941,     -999,1,     -999,1,-999          ,9,     -999,1,     -999,9,     -999,     -999,9,     -999,     -999,9,     -999,9,     -999,9,     -999,9,     -999,9,     -999,9,     -999,9,     -999,9,     -999,9,     -999,9,     -999,9,     -999,9,     -999,9,     -999,9
320620180309  ,S04P       ,6       ,  1,34         ,34         ,2,20180318,0900, -68.8133, 171.3941,     3167,     59.1,-1.0376611111111111452,34.008127989722297,2,  34.0093,2,342.63953008164827,2, 316.2982,3,    340.6,2,     64.3,2,    26.71,2,     0.14,2,     1.77,2,     -999,9,     -999,9,     -999,9,   2178.9,2,  2303.79,2,   7.6596,2,    24.96,     -999,9,     -999,9,  -1.0383,2,     -999,9,     -999,9,     -999,     -999,9,     -999,9,     -999,9,     -999,9,    0.162,1,    4.615,1,    0.185,1,     -999,9,     -999,9,20180318,1034, -68.8135, 171.3939,     -999,9,     -999,9,-999          ,9,     -999,9,     -999,9,     -999,     -999,9,     -999,     -999,9,     -999,1,     -999,1,     -999,1,     -999,1,     -999,1,     -999,1,     -999,1,     -999,1,     -999,1,     -999,1,     -999,1,     -999,1,     -999,1
320620180309  ,S04P       ,6       ,  1,33         ,33         ,2,20180318,0900, -68.8133, 171.3941,     3167,     85.7,-0.8691222222222223515,34.325917411697908,2,  34.3398,2,285.15634843999834,3, 297.2000,3,    266.4,2,     77.0,2,    30.34,2,     0.17,2,     2.13,2,    3.300,2,    1.826,2,   2.3400,2,   2226.1,2,  2323.59,2,   7.5990,2,    24.97,     -999,9,     -999,1,  -0.8724,2,     -999,9,     -999,9,     -999,     -999,9,     -999,9,     -999,9,     -999,1,    0.167,1,    4.631,1,    0.173,1,  20.2400,2,     -999,1,20180318,1032, -68.8135, 171.3939,     -999,1,     -999,1,-999          ,9,     -999,1,     -999,9,     -999,     -999,9,     -999,     -999,9,     -999,9,     -999,9,     -999,9,     -999,9,     -999,9,     -999,9,     -999,9,     -999,9,     -999,9,     -999,9,     -999,9,     -999,9,     -999,9
320620180309  ,S04P       ,6       ,  1,32         ,32         ,2,20180318,0900, -68.8133, 171.3941,     3167,    109.8,0.3184472222222221593,34.543025131790714,2,  34.5409,2,215.71011278409404,2, 217.9057,2,    217.6,2,     88.0,2,    32.22,2,     0.28,2,     2.23,2,     -999,9,     -999,9,     -999,9,   2250.6,2,  2335.48,2,   7.5682,2,    24.96,     -999,9,     -999,9,   0.3108,2,     -999,9,     -999,9,     -999,     -999,9,     -999,9,     -999,9,     -999,9,    0.115,1,    4.658,1,    0.151,1,     -999,9,     -999,9,20180318,1030, -68.8135, 171.3939,     -999,9,     -999,9,-999          ,9,     -999,9,     -999,9,     -999,     -999,9,     -999,     -999,9,     -999,1,     -999,1,     -999,1,     -999,1,     -999,1,     -999,1,     -999,1,     -999,1,     -999,1,     -999,1,     -999,1,     -999,1,     -999,1
320620180309  ,S04P       ,6       ,  1,31         ,31         ,2,20180318,0900, -68.8133, 171.3941,     3167,    135.9,0.9128444444444444583,34.629280368960423,2,  34.6331,2,194.92799723821983,2, 194.7995,2,    196.6,2,     92.2,2,    32.70,2,     0.09,2,     2.25,2,    0.178,4,    0.099,4,   0.0600,4,   2258.1,2,  2342.07,2,   7.5638,6,    24.96,     -999,9,     -999,1,   0.9134,2,     -999,9,     -999,9,     -999,     -999,9,     -999,9,     -999,9,     -999,1,    0.080,1,    4.668,1,    0.149,1,  21.6600,4,     -999,1,20180318,1029, -68.8135, 171.3938,     -999,1,     -999,1,-999          ,9,     -999,1,     -999,9,     -999,     -999,9,     -999,     -999,9,     -999,9,     -999,9,     -999,9,     -999,9,     -999,9,     -999,9,     -999,9,     -999,9,     -999,9,     -999,9,     -999,9,     -999,9,     -999,9
320620180309  ,S04P       ,6       ,  1,30         ,30         ,2,20180318,0900, -68.8133, 171.3941,     3167,    161.6,1.2889722222222221859,34.684192904004576,2,  34.6815,2,187.44268833431363,2, 187.3994,2,    186.5,2,     95.2,2,    32.77,2,     0.04,2,     2.26,2,     -999,9,     -999,9,     -999,9,   2259.9,2,  2346.82,2,   7.5633,2,    24.97,     -999,9,     -999,9,   1.2764,2,     -999,9,     -999,9,     -999,     -999,9,     -999,9,     -999,9,     -999,9,    0.069,1,    4.670,1,    0.145,1,     -999,9,     -999,9,20180318,1027, -68.8135, 171.3939,     -999,9,     -999,9,-999          ,9,     -999,9,     -999,9,     -999,     -999,9,     -999,     -999,9,     -999,1,     -999,1,     -999,1,     -999,1,     -999,1,     -999,1,     -999,1,     -999,1,     -999,1,     -999,1,     -999,1,     -999,1,     -999,1
320620180309  ,S04P       ,6       ,  1,29         ,29         ,2,20180318,0900, -68.8133, 171.3941,     3167,    187.4,1.3856527777777778443,34.701357572099532,2,  34.7021,2,185.94894412366628,2, 185.9993,2,    184.1,2,     97.2,2,    32.71,2,     0.02,2,     2.25,2,    0.461,2,    0.253,2,   0.3100,2,   2261.8,2,  2349.49,2,   7.5660,2,    24.97,     -999,9,     -999,9,   1.3844,2,     -999,9,     -999,9,     -999,     -999,9,     -999,9,     -999,9,     -999,9,    0.067,1,    4.671,1,    0.144,1,  22.7200,2,     -999,9,20180318,1025, -68.8135, 171.3938,     -999,9,     -999,9,-999          ,9,     -999,9,     -999,9,     -999,     -999,9,     -999,     -999,9,     -999,9,     -999,9,     -999,9,     -999,9,     -999,9,     -999,9,     -999,9,     -999,9,     -999,9,     -999,9,     -999,9,     -999,9,     -999,9
320620180309  ,S04P       ,6       ,  1,28         ,28         ,2,20180318,0900, -68.8133, 171.3941,     3167,    210.7,1.4190388888888891827,34.712334943915977,2,  34.7127,2,185.50825459404919,2, 185.6011,2,    184.2,2,     98.1,2,    32.57,2,     0.00,2,     2.23,2,     -999,9,     -999,9,     -999,9,   2263.2,2,  2349.26,2,   7.5689,2,    24.95,     -999,9,     -999,1,   1.4188,2,     -999,9,     -999,9,     -999,     -999,9,     -999,9,     -999,9,     -999,1,    0.065,1,    4.672,1,    0.143,1,     -999,9,     -999,1,20180318,1024, -68.8135, 171.3937,     -999,1,     -999,1,-999          ,9,     -999,1,     -999,9,     -999,     -999,9,     -999,     -999,9,     -999,1,     -999,1,     -999,1,     -999,1,     -999,1,     -999,1,     -999,1,     -999,1,     -999,1,     -999,1,     -999,1,     -999,1,     -999,1
320620180309  ,S04P       ,6       ,  1,27         ,27         ,2,20180318,0900, -68.8133, 171.3941,     3167,    235.9,1.4278388888888888797,34.718469246258294,2,  34.7188,2,184.95141715817471,2, 185.4968,2,    184.1,2,     99.1,2,    32.49,2,     0.00,2,     2.22,2,    0.318,2,    0.170,2,   0.0100,2,   2263.8,6,  2352.45,2,   7.5709,2,    24.96,     -999,9,     -999,9,   1.4271,2,     -999,9,     -999,9,     -999,     -999,9,     -999,9,     -999,9,     -999,9,    0.065,1,    4.675,1,    0.145,1,  22.2700,2,     -999,9,20180318,1022, -68.8135, 171.3937,     -999,9,     -999,9,-999          ,9,     -999,9,     -999,9,     -999,     -999,9,     -999,     -999,9,     -999,9,     -999,9,     -999,9,     -999,9,     -999,9,     -999,9,     -999,9,     -999,9,     -999,9,     -999,9,     -999,9,     -999,9,     -999,9
320620180309  ,S04P       ,6       ,  1,26         ,26         ,2,20180318,0900, -68.8133, 171.3941,     3167,    267.3,1.4104388888888887976,34.720422759138316,2,  34.7198,2,185.42124165734404,2, 185.0930,2,    185.1,2,    100.3,2,    32.44,2,     0.00,2,     2.25,2,     -999,9,     -999,9,     -999,9,   2264.2,2,  2351.36,2,   7.5735,2,    24.95,     -999,9,     -999,9,   1.4105,2,     -999,9,     -999,9,     -999,     -999,9,     -999,9,     -999,9,     -999,9,    0.064,1,    4.679,1,    0.141,1,     -999,9,     -999,9,20180318,1020, -68.8135, 171.3937,     -999,9,     -999,9,-999          ,9,     -999,9,     -999,9,     -999,     -999,9,     -999,     -999,9,     -999,1,     -999,1,     -999,1,     -999,1,     -999,1,     -999,1,     -999,1,     -999,1,     -999,1,     -999,1,     -999,1,     -999,1,     -999,1
320620180309  ,S04P       ,6       ,  1,25         ,25         ,2,20180318,0900, -68.8133, 171.3941,     3167,    319.5,1.3802472222222224030,34.723759719420613,2,  34.7235,2,186.60210804421058,2, 186.4960,2,    187.3,2,    101.9,2,    32.31,2,     0.00,2,     2.18,2,    0.272,2,    0.151,2,   0.0300,2,   2265.0,2,  2353.31,2,   7.5773,2,    24.95,     -999,9,     -999,1,   1.3798,2,     -999,9,     -999,9,     -999,     -999,9,     -999,9,     -999,9,     -999,1,    0.062,1,    4.681,1,    0.138,1,  21.7200,2,     -999,1,20180318,1018, -68.8135, 171.3937,     -999,1,     -999,1,-999          ,9,     -999,1,     -999,9,     -999,     -999,9,     -999,     -999,9,     -999,9,     -999,9,     -999,9,     -999,9,     -999,9,     -999,9,     -999,9,     -999,9,     -999,9,     -999,9,     -999,9,     -999,9,     -999,9
320620180309  ,S04P       ,6       ,  1,24         ,24         ,2,20180318,0900, -68.8133, 171.3941,     3167,    368.0,1.3279388888888890019,34.723337002859417,2,  34.7231,2,187.35927796232858,2, 187.2954,2,    187.9,2,    102.7,2,    32.42,2,     0.00,2,     2.21,2,     -999,9,     -999,9,     -999,9,   2263.0,2,  2352.91,2,   7.5772,2,    24.95,     -999,9,     -999,9,   1.3278,2,     -999,9,     -999,9,     -999,     -999,9,     -999,9,     -999,9,     -999,9,    0.062,1,    4.681,1,    0.137,1,     -999,9,     -999,9,20180318,1016, -68.8135, 171.3936,     -999,9,     -999,9,-999          ,9,     -999,9,     -999,9,     -999,     -999,9,     -999,     -999,9,     -999,1,     -999,1,     -999,1,     -999,1,     -999,1,     -999,1,     -999,1,     -999,1,     -999,1,     -999,1,     -999,1,     -999,1,     -999,1
320620180309  ,S04P       ,6       ,  1,23         ,23         ,2,20180318,0900, -68.8133, 171.3941,     3167,    420.1,1.2938027777777780791,34.724205827385781,2,  34.7237,2,188.60566582327169,2, 188.0011,2,    188.5,2,    104.4,2,    32.37,2,     0.00,2,     2.21,2,    0.235,2,    0.122,2,   0.1600,2,   2264.4,2,  2356.43,2,   7.5815,2,    24.96,     -999,9,     -999,9,   1.2941,2,     -999,9,     -999,9,     -999,     -999,9,     -999,9,     -999,9,     -999,9,    0.062,1,    4.684,1,    0.135,1,  22.0700,2,     -999,9,20180318,1014, -68.8135, 171.3936,     -999,9,     -999,9,-999          ,9,     -999,9,     -999,9,     -999,     -999,9,     -999,     -999,9,     -999,9,     -999,9,     -999,9,     -999,9,     -999,9,     -999,9,     -999,9,     -999,9,     -999,9,     -999,9,     -999,9,     -999,9,     -999,9
320620180309  ,S04P       ,6       ,  1,22         ,22         ,2,20180318,0900, -68.8133, 171.3941,     3167,    470.2,1.2532083333333334796,34.723254748527729,2,  34.7227,2,189.20296429442038,2, 188.8975,2,    190.8,2,    105.8,2,    32.14,2,     0.00,2,     2.11,3,     -999,9,     -999,9,     -999,9,   2263.8,2,  2354.98,2,   7.5804,2,    24.95,     -999,9,     -999,1,   1.2518,2,     -999,9,     -999,9,     -999,     -999,9,     -999,9,     -999,9,     -999,1,    0.062,1,    4.684,1,    0.133,1,     -999,9,     -999,1,20180318,1012, -68.8135, 171.3934,     -999,1,     -999,1,-999          ,9,     -999,1,     -999,9,     -999,     -999,9,     -999,     -999,9,     -999,1,     -999,1,     -999,1,     -999,1,     -999,1,     -999,1,     -999,1,     -999,1,     -999,1,     -999,1,     -999,1,     -999,1,     -999,1
320620180309  ,S04P       ,6       ,  1,21         ,21         ,2,20180318,0900, -68.8133, 171.3941,     3167,    540.7,1.2290166666666666462,34.724768586651251,2,  34.7245,2,190.58950505924818,2, 189.7004,2,    190.7,2,    108.8,2,    32.15,2,     0.00,2,     2.20,2,    0.178,2,    0.098,2,   0.0400,2,   2263.9,2,  2353.66,2,   7.5826,2,    24.96,     -999,9,     -999,9,   1.2290,2,     -999,9,     -999,9,     -999,     -999,9,     -999,9,     -999,9,     -999,9,    0.062,1,    4.684,1,    0.135,1,  21.6400,2,     -999,9,20180318,1010, -68.8135, 171.3932,     -999,9,     -999,9,-999          ,9,     -999,9,     -999,9,     -999,     -999,9,     -999,     -999,9,     -999,9,     -999,9,     -999,9,     -999,9,     -999,9,     -999,9,     -999,9,     -999,9,     -999,9,     -999,9,     -999,9,     -999,9,     -999,9
320620180309  ,S04P       ,6       ,  1,20         ,20         ,2,20180318,0900, -68.8133, 171.3941,     3167,    642.2,1.1598694444444441753,34.723482024309838,2,  34.7245,2,192.81123095223930,2, 191.9005,2,    192.1,2,    110.0,2,    32.19,2,     0.00,2,     2.21,2,    0.151,2,    0.091,2,   0.0600,2,   2265.3,2,  2357.42,2,   7.5858,2,    24.97,     -999,9,     -999,9,   1.1588,2,     -999,9,     -999,9,     -999,     -999,9,     -999,9,     -999,9,     -999,9,    0.061,1,    4.684,1,    0.134,1,  21.0900,2,     -999,9,20180318,1007, -68.8135, 171.3931,     -999,9,     -999,9,-999          ,9,     -999,9,     -999,9,     -999,     -999,9,     -999,     -999,9,     -999,1,     -999,1,     -999,1,     -999,1,     -999,1,     -999,1,     -999,1,     -999,1,     -999,1,     -999,1,     -999,1,     -999,1,     -999,1
320620180309  ,S04P       ,6       ,  1,19         ,19         ,2,20180318,0900, -68.8133, 171.3941,     3167,    743.8,1.0889388888888891227,34.721701508862132,2,  34.7219,2,194.12520655695144,2, 193.8981,2,    194.3,2,    112.8,2,    32.20,2,     0.00,2,     2.20,2,    0.139,2,    0.081,2,   0.0000,2,   2260.8,3,  2359.00,2,   7.5864,2,    24.97,     -999,9,     -999,1,   1.0883,2,     -999,9,     -999,9,     -999,     -999,9,     -999,9,     -999,9,     -999,1,    0.061,1,    4.683,1,    0.133,1,  20.9300,2,     -999,1,20180318,1004, -68.8135, 171.3928,     -999,1,     -999,1,-999          ,9,     -999,1,     -999,9,     -999,     -999,9,     -999,     -999,9,     -999,9,     -999,9,     -999,9,     -999,9,     -999,9,     -999,9,     -999,9,     -999,9,     -999,9,     -999,9,     -999,9,     -999,9,     -999,9
320620180309  ,S04P       ,6       ,  1,18         ,18         ,2,20180318,0900, -68.8133, 171.3941,     3167,    845.0,1.0261527777777779136,34.719446621970569,2,  34.7196,2,195.79399335770148,2, 195.3014,2,    196.1,2,    113.9,2,    32.20,2,     0.00,2,     2.21,2,    0.132,2,    0.069,2,   0.0000,2,   2264.9,2,  2360.36,2,   7.5875,2,    24.95,     -999,9,     -999,9,   1.0253,2,     -999,9,     -999,9,     -999,     -999,9,     -999,9,     -999,9,     -999,9,    0.061,1,    4.684,1,    0.134,1,  20.8900,2,     -999,9,20180318,1001, -68.8135, 171.3925,     -999,9,     -999,9,-999          ,9,     -999,9,     -999,9,     -999,     -999,9,     -999,     -999,9,     -999,1,     -999,1,     -999,1,     -999,1,     -999,1,     -999,1,     -999,1,     -999,1,     -999,1,     -999,1,     -999,1,     -999,1,     -999,1
320620180309  ,S04P       ,6       ,  1,17         ,17         ,2,20180318,0900, -68.8133, 171.3941,     3167,    947.6,0.9737777777777777422,34.717455528728813,2,  34.7180,2,197.48803254964207,2, 196.5004,2,    196.6,2,    115.2,2,    32.23,2,     0.00,2,     2.21,2,    0.125,2,    0.071,2,   0.0000,2,   2265.0,2,  2361.45,2,   7.5892,6,    24.92,     -999,9,     -999,9,   0.9732,2,     -999,9,     -999,9,     -999,     -999,9,     -999,9,     -999,9,     -999,9,    0.062,1,    4.684,1,    0.134,1,  20.7500,2,     -999,9,20180318,0958, -68.8135, 171.3922,     -999,9,     -999,9,-999          ,9,     -999,9,     -999,9,     -999,     -999,9,     -999,     -999,9,     -999,9,     -999,9,     -999,9,     -999,9,     -999,9,     -999,9,     -999,9,     -999,9,     -999,9,     -999,9,     -999,9,     -999,9,     -999,9
320620180309  ,S04P       ,6       ,  1,16         ,16         ,2,20180318,0900, -68.8133, 171.3941,     3167,   1048.2,0.9047638888888891451,34.715073980081002,2,  34.7149,2,198.01934324563956,2, 197.8001,2,    198.9,2,    117.7,2,    32.28,2,     0.00,2,     2.22,2,     -999,9,     -999,9,     -999,9,   2265.0,2,  2363.52,2,   7.5903,2,    24.95,     -999,9,     -999,1,   0.9038,2,     -999,9,     -999,9,     -999,     -999,9,     -999,9,     -999,9,     -999,1,    0.061,1,    4.684,1,    0.131,1,     -999,9,     -999,1,20180318,0955, -68.8136, 171.3922,     -999,1,     -999,1,-999          ,9,     -999,1,     -999,9,     -999,     -999,9,     -999,     -999,9,     -999,1,     -999,1,     -999,1,     -999,1,     -999,1,     -999,1,     -999,1,     -999,1,     -999,1,     -999,1,     -999,1,     -999,1,     -999,1