BOTTLE,20240515CCHHYDRO
EXPOCODE,SECT_ID,STNNBR,CASTNO,SAMPNO,BTLNBR,BTLNBR_FLAG_W,DATE,TIME,LATITUDE,LONGITUDE,DEPTH,CTDPRS,CTDTMP,CTDSAL,CTDSAL_FLAG_W,SALNTY,SALNTY_FLAG_W,CTDOXY,CTDOXY_FLAG_W,CTDOPTOXY,CTDOPTOXY_FLAG_W,OXYGEN,OXYGEN_FLAG_W,SILCAT,SILCAT_FLAG_W,NITRAT,NITRAT_FLAG_W,NITRIT,NITRIT_FLAG_W,PHSPHT,PHSPHT_FLAG_W,CFC-11,CFC-11_FLAG_W,CFC-12,CFC-12_FLAG_W,SF6,SF6_FLAG_W,TCARBN,TCARBN_FLAG_W,ALKALI,ALKALI_FLAG_W,PH_TOT,PH_TOT_FLAG_W,PH_TMP,DOC,DOC_FLAG_W,HELIUM,HELIUM_FLAG_W,REFTMP,REFTMP_FLAG_W,DELC13,DELC13_FLAG_W,DELC14,DELC14_FLAG_W,C14ERR,POC,POC_FLAG_W,TDN,TDN_FLAG_W,TON,TON_FLAG_W,NEON,NEON_FLAG_W,CTDFLUOR,CTDFLUOR_FLAG_W,CTDXMISS,CTDXMISS_FLAG_W,CTDBETA700,CTDBETA700_FLAG_W,N2O,N2O_FLAG_W,ARGON,ARGON_FLAG_W,BTL_DATE,BTL_TIME,BTL_LAT,BTL_LON,KRYPTON,KRYPTON_FLAG_W,XENON,XENON_FLAG_W,HPLC,HPLC_FLAG_W,HE3_HE4_RATIO,HE3_HE4_RATIO_FLAG_W,Nd_143_144_D_EPSILON_BOTTLE,Nd_143_144_D_EPSILON_BOTTLE_FLAG_W,Nd_143_144_D_EPSILON_BOTTLE_ERROR,Nd_143_144_D_RATIO_BOTTLE,Nd_143_144_D_RATIO_BOTTLE_FLAG_W,Nd_143_144_D_RATIO_BOTTLE_ERROR,Nd_D_CONC,Nd_D_CONC_FLAG_W,La_D_CONC_BOTTLE,La_D_CONC_BOTTLE_FLAG_W,Ce_D_CONC_BOTTLE,Ce_D_CONC_BOTTLE_FLAG_W,Pr_D_CONC_BOTTLE,Pr_D_CONC_BOTTLE_FLAG_W,Sm_D_CONC_BOTTLE,Sm_D_CONC_BOTTLE_FLAG_W,Eu_D_CONC_BOTTLE,Eu_D_CONC_BOTTLE_FLAG_W,Gd_D_CONC_BOTTLE,Gd_D_CONC_BOTTLE_FLAG_W,Tb_D_CONC_BOTTLE,Tb_D_CONC_BOTTLE_FLAG_W,Dy_D_CONC_BOTTLE,Dy_D_CONC_BOTTLE_FLAG_W,Ho_D_CONC_BOTTLE,Ho_D_CONC_BOTTLE_FLAG_W,Er_D_CONC_BOTTLE,Er_D_CONC_BOTTLE_FLAG_W,Tm_D_CONC_BOTTLE,Tm_D_CONC_BOTTLE_FLAG_W,Yb_D_CONC_BOTTLE,Yb_D_CONC_BOTTLE_FLAG_W,Lu_D_CONC_BOTTLE,Lu_D_CONC_BOTTLE_FLAG_W
,,,,,,,,,,,METERS,DBAR,ITS-90,PSS-78,,PSS-78,,UMOL/KG,,UMOL/KG,,UMOL/KG,,UMOL/KG,,UMOL/KG,,UMOL/KG,,UMOL/KG,,PMOL/KG,,PMOL/KG,,FMOL/KG,,UMOL/KG,,UMOL/KG,,,,DEG C,UMOL/KG,,NMOL/L,,DEG C,,/MILLE,,/MILLE,,/MILLE,UG/KG,,UMOL/KG,,UMOL/KG,,NMOL/L,,VOLTS,,VOLTS,,VOLTS,,NMOL/KG,,UMOL/L,,,,,,NMOL/L,,NMOL/L,,,,,,10000,,10000,,,,PMOL/KG,,PMOL/L,,PMOL/L,,PMOL/L,,PMOL/L,,PMOL/L,,PMOL/L,,PMOL/L,,PMOL/L,,PMOL/L,,PMOL/L,,PMOL/L,,PMOL/L,,PMOL/L,
320620180309  ,S04P       ,1       ,  1,8          ,8          ,2,20180317,0211, -70.4517, 168.4755,     1390,    976.8,-0.2677611111111110609,34.677782109970089,2,  34.6760,2,234.26298127151838,2, 235.5004,2,    236.6,2,     98.9,2,    31.43,2,     0.00,2,     2.15,2,    2.096,2,    1.179,2,   1.0100,2,   2256.5,2,  2353.23,2,   7.5896,2,    24.98,     41.2,2,     -999,1,  -0.2674,2,0.56000000,2, -148.120,2,    0.002,     -999,9,     -999,9,     -999,1,     -999,1,    0.068,1,    4.660,1,    0.156,1,  19.2900,2,     -999,1,20180317,0230, -70.4520, 168.4748,     -999,1,     -999,1,-999          ,9,     -999,1,     -999,9,     -999,     -999,9,     -999,     -999,9,     -999,1,     -999,1,     -999,1,     -999,1,     -999,1,     -999,1,     -999,1,     -999,1,     -999,1,     -999,1,     -999,1,     -999,1,     -999,1
320620180309  ,S04P       ,1       ,  1,7          ,7          ,2,20180317,0211, -70.4517, 168.4755,     1390,   1078.3,-0.2904805555555555752,34.676567802772325,2,  34.6762,2,238.70130805823462,2, 234.3009,2,    237.7,2,     99.9,2,    31.47,2,     0.00,2,     2.16,2,     -999,9,     -999,9,     -999,9,   2257.0,2,  2353.63,2,   7.5939,2,    24.97,     41.2,2,     -999,9,  -0.2923,2,0.57000000,2, -151.380,2,    0.002,     -999,9,     -999,9,     -999,1,     -999,9,    0.068,1,    4.659,1,    0.153,1,     -999,9,     -999,9,20180317,0226, -70.4520, 168.4748,     -999,9,     -999,9,-999          ,9,     -999,9,     -999,9,     -999,     -999,9,     -999,     -999,9,     -999,9,     -999,9,     -999,9,     -999,9,     -999,9,     -999,9,     -999,9,     -999,9,     -999,9,     -999,9,     -999,9,     -999,9,     -999,9
320620180309  ,S04P       ,1       ,  1,6          ,6          ,2,20180317,0211, -70.4517, 168.4755,     1390,   1179.7,-0.3681555555555555137,34.674421606066488,2,  34.6746,2,238.77413366837291,2, 241.2000,2,    241.0,2,     98.8,2,    31.33,2,     0.00,2,     2.16,2,     -999,5,     -999,5,     -999,5,   2256.0,2,  2353.31,2,   7.5915,2,    24.96,     41.2,2,     -999,1,  -0.3719,2,     -999,9,     -999,1,     -999,     -999,9,     -999,9,     -999,1,     -999,1,    0.068,1,    4.657,1,    0.164,1,     -999,5,     -999,1,20180317,0223, -70.4520, 168.4748,     -999,1,     -999,1,-999          ,9,     -999,1,     -999,9,     -999,     -999,9,     -999,     -999,9,     -999,1,     -999,1,     -999,1,     -999,1,     -999,1,     -999,1,     -999,1,     -999,1,     -999,1,     -999,1,     -999,1,     -999,1,     -999,1
320620180309  ,S04P       ,1       ,  1,5          ,5          ,2,20180317,0211, -70.4517, 168.4755,     1390,   1280.1,-0.4462583333333333679,34.669617303550829,2,  34.6697,2,240.76371497115440,3, 240.5034,2,    244.1,2,     96.9,2,    31.28,2,     0.00,2,     2.15,2,    2.397,2,    1.313,2,   1.4000,2,   2255.3,2,  2112.76,4,   7.5898,2,    24.98,     42.1,2,     -999,1,  -0.4461,2,0.51000000,2, -146.230,2,    0.002,     -999,9,     -999,9,     -999,1,     -999,1,    0.072,1,    4.653,1,    0.158,1,  18.9400,2,     -999,1,20180317,0219, -70.4519, 168.4752,     -999,1,     -999,1,-999          ,9,     -999,1,     -999,9,     -999,     -999,9,     -999,     -999,9,     -999,1,     -999,1,     -999,1,     -999,1,     -999,1,     -999,1,     -999,1,     -999,1,     -999,1,     -999,1,     -999,1,     -999,1,     -999,1
320620180309  ,S04P       ,1       ,  1,4          ,4          ,2,20180317,0211, -70.4517, 168.4755,     1390,   1337.4,-0.4374555555555555419,34.670521736400232,2,  34.6705,2,242.10709860086075,2, 241.2997,2,    243.3,2,     97.4,2,    31.28,2,     0.00,2,     2.16,2,    2.355,2,    1.295,2,   1.1500,2,   2258.5,2,  2354.07,2,   7.5907,6,    24.98,     42.3,2,     -999,1,  -0.4318,2,     -999,9,     -999,9,     -999,     -999,9,     -999,9,     -999,1,     -999,1,    0.070,1,    4.654,1,    0.164,1,  19.1000,2,     -999,1,20180317,0215, -70.4518, 168.4754,     -999,1,     -999,1,-999          ,9,     -999,1,     -999,9,     -999,     -999,9,     -999,     -999,9,     -999,1,     -999,1,     -999,1,     -999,1,     -999,1,     -999,1,     -999,1,     -999,1,     -999,1,     -999,1,     -999,1,     -999,1,     -999,1
320620180309  ,S04P       ,1       ,  1,2          ,2          ,2,20180317,0211, -70.4517, 168.4755,     1390,   1398.9,-0.4061055555555555530,34.672173133037546,3,     -999,9,248.02758327436882,2, 239.0013,2,     -999,9,     -999,9,     -999,9,     -999,9,     -999,9,     -999,9,     -999,9,     -999,9,   2258.6,6,     -999,9,     -999,9,     -999,     -999,9,     -999,9,     -999,9,     -999,9,     -999,9,     -999,     -999,9,     -999,9,     -999,9,     -999,9,    0.071,1,    4.655,1,    0.154,1,     -999,9,     -999,9,20180317,0211, -70.4517, 168.4755,     -999,9,     -999,9,-999          ,9,     -999,9,     -999,9,     -999,     -999,9,     -999,     -999,9,     -999,9,     -999,9,     -999,9,     -999,9,     -999,9,     -999,9,     -999,9,     -999,9,     -999,9,     -999,9,     -999,9,     -999,9,     -999,9
320620180309  ,S04P       ,1       ,  1,1          ,1          ,2,20180317,0211, -70.4517, 168.4755,     1390,   1399.1,-0.4064777777777777157,34.672110260522942,3,     -999,9,248.41691199183521,2, 239.5018,2,     -999,9,     -999,9,     -999,9,     -999,9,     -999,9,     -999,9,     -999,9,     -999,9,     -999,9,     -999,9,     -999,9,     -999,     -999,9,     -999,9,  -0.4071,2,     -999,9,     -999,9,     -999,     -999,9,     -999,9,     -999,9,     -999,9,    0.071,1,    4.655,1,    0.154,1,     -999,9,     -999,9,20180317,0211, -70.4517, 168.4755,     -999,9,     -999,9,-999          ,9,     -999,9,    -7.58,2,     0.23, 0.512249,2, 0.000005,    21.08,2,     -999,1,     -999,1,     -999,1,     -999,1,     -999,1,     -999,1,     -999,1,     -999,1,     -999,1,     -999,1,     -999,1,     -999,1,     -999,1
320620180309  ,S04P       ,1       ,  1,3          ,3          ,2,20180317,0211, -70.4517, 168.4755,     1390,   1399.1,-0.4068444444444443975,34.671863816592356,2,  34.6723,2,249.05622593848832,3, 241.3029,2,    242.7,2,     97.5,2,    31.35,2,     0.00,2,     2.16,2,    2.358,2,    1.292,2,   1.3300,2,   2255.9,6,  2353.96,2,   7.5919,2,    24.95,     41.6,2,     -999,1,     -999,9,0.52000000,2, -146.180,2,    0.002,     -999,9,     -999,9,     -999,1,     -999,1,    0.071,1,    4.655,1,    0.154,1,  19.3700,2,     -999,1,20180317,0211, -70.4517, 168.4755,     -999,1,     -999,1,-999          ,9,     -999,1,     -999,9,     -999,     -999,9,     -999,     -999,9,     -999,1,     -999,1,     -999,1,     -999,1,     -999,1,     -999,1,     -999,1,     -999,1,     -999,1,     -999,1,     -999,1,     -999,1,     -999,1