BOTTLE,20240515CCHHYDRO
EXPOCODE,SECT_ID,STNNBR,CASTNO,SAMPNO,BTLNBR,BTLNBR_FLAG_W,DATE,TIME,LATITUDE,LONGITUDE,DEPTH,CTDPRS,CTDTMP,CTDSAL,CTDSAL_FLAG_W,SALNTY,SALNTY_FLAG_W,CTDOXY,CTDOXY_FLAG_W,CTDOPTOXY,CTDOPTOXY_FLAG_W,OXYGEN,OXYGEN_FLAG_W,SILCAT,SILCAT_FLAG_W,NITRAT,NITRAT_FLAG_W,NITRIT,NITRIT_FLAG_W,PHSPHT,PHSPHT_FLAG_W,CFC-11,CFC-11_FLAG_W,CFC-12,CFC-12_FLAG_W,SF6,SF6_FLAG_W,TCARBN,TCARBN_FLAG_W,ALKALI,ALKALI_FLAG_W,PH_TOT,PH_TOT_FLAG_W,PH_TMP,DOC,DOC_FLAG_W,HELIUM,HELIUM_FLAG_W,REFTMP,REFTMP_FLAG_W,DELC13,DELC13_FLAG_W,DELC14,DELC14_FLAG_W,C14ERR,POC,POC_FLAG_W,TDN,TDN_FLAG_W,TON,TON_FLAG_W,NEON,NEON_FLAG_W,CTDFLUOR,CTDFLUOR_FLAG_W,CTDXMISS,CTDXMISS_FLAG_W,CTDBETA700,CTDBETA700_FLAG_W,N2O,N2O_FLAG_W,ARGON,ARGON_FLAG_W,BTL_DATE,BTL_TIME,BTL_LAT,BTL_LON,KRYPTON,KRYPTON_FLAG_W,XENON,XENON_FLAG_W,HPLC,HPLC_FLAG_W,HE3_HE4_RATIO,HE3_HE4_RATIO_FLAG_W,Nd_143_144_D_EPSILON_BOTTLE,Nd_143_144_D_EPSILON_BOTTLE_FLAG_W,Nd_143_144_D_EPSILON_BOTTLE_ERROR,Nd_143_144_D_RATIO_BOTTLE,Nd_143_144_D_RATIO_BOTTLE_FLAG_W,Nd_143_144_D_RATIO_BOTTLE_ERROR,Nd_D_CONC,Nd_D_CONC_FLAG_W,La_D_CONC_BOTTLE,La_D_CONC_BOTTLE_FLAG_W,Ce_D_CONC_BOTTLE,Ce_D_CONC_BOTTLE_FLAG_W,Pr_D_CONC_BOTTLE,Pr_D_CONC_BOTTLE_FLAG_W,Sm_D_CONC_BOTTLE,Sm_D_CONC_BOTTLE_FLAG_W,Eu_D_CONC_BOTTLE,Eu_D_CONC_BOTTLE_FLAG_W,Gd_D_CONC_BOTTLE,Gd_D_CONC_BOTTLE_FLAG_W,Tb_D_CONC_BOTTLE,Tb_D_CONC_BOTTLE_FLAG_W,Dy_D_CONC_BOTTLE,Dy_D_CONC_BOTTLE_FLAG_W,Ho_D_CONC_BOTTLE,Ho_D_CONC_BOTTLE_FLAG_W,Er_D_CONC_BOTTLE,Er_D_CONC_BOTTLE_FLAG_W,Tm_D_CONC_BOTTLE,Tm_D_CONC_BOTTLE_FLAG_W,Yb_D_CONC_BOTTLE,Yb_D_CONC_BOTTLE_FLAG_W,Lu_D_CONC_BOTTLE,Lu_D_CONC_BOTTLE_FLAG_W
,,,,,,,,,,,METERS,DBAR,ITS-90,PSS-78,,PSS-78,,UMOL/KG,,UMOL/KG,,UMOL/KG,,UMOL/KG,,UMOL/KG,,UMOL/KG,,UMOL/KG,,PMOL/KG,,PMOL/KG,,FMOL/KG,,UMOL/KG,,UMOL/KG,,,,DEG C,UMOL/KG,,NMOL/L,,DEG C,,/MILLE,,/MILLE,,/MILLE,UG/KG,,UMOL/KG,,UMOL/KG,,NMOL/L,,VOLTS,,VOLTS,,VOLTS,,NMOL/KG,,UMOL/L,,,,,,NMOL/L,,NMOL/L,,,,,,10000,,10000,,,,PMOL/KG,,PMOL/L,,PMOL/L,,PMOL/L,,PMOL/L,,PMOL/L,,PMOL/L,,PMOL/L,,PMOL/L,,PMOL/L,,PMOL/L,,PMOL/L,,PMOL/L,,PMOL/L,
320620180309  ,S04P       ,23      ,  1,36         ,36         ,2,20180327,0509, -66.9985, 179.4219,     3696,      9.5,-0.5829694444444445400,34.052995245121416,2,  34.0508,2,337.98582229486811,2, 299.2017,3,    340.9,2,     52.1,2,    25.29,2,     0.17,2,     1.72,2,    5.301,2,    2.988,2,   3.4500,2,   2191.1,6,  2310.51,2,   7.6629,2,    24.95,     -999,9,     -999,9,  -0.5907,2,     -999,9,     -999,9,     -999,     -999,9,     -999,9,     -999,9,     -999,9,    0.174,1,    4.551,1,    0.255,1,  15.5400,2,     -999,9,20180327,0701, -66.9990, 179.4227,     -999,9,     -999,9,-999          ,9,     -999,9,     -999,9,     -999,     -999,9,     -999,     -999,9,     -999,9,     -999,9,     -999,9,     -999,9,     -999,9,     -999,9,     -999,9,     -999,9,     -999,9,     -999,9,     -999,9,     -999,9,     -999,9
320620180309  ,S04P       ,23      ,  1,35         ,35         ,2,20180327,0509, -66.9985, 179.4219,     3696,     24.2,-0.5955333333333333590,34.054478872520328,2,  34.0526,2,338.50380681538087,2, 299.3022,3,    339.2,2,     52.3,2,    25.24,2,     0.17,2,     1.69,2,     -999,9,     -999,9,     -999,9,   2193.9,2,  2309.91,2,   7.6632,2,    24.95,     -999,9,     -999,9,  -0.5960,2,     -999,9,     -999,9,     -999,     -999,9,     -999,9,     -999,9,     -999,9,    0.187,1,    4.553,1,    0.248,1,     -999,9,     -999,9,20180327,0659, -66.9990, 179.4229,     -999,9,     -999,9,-999          ,9,     -999,9,     -999,9,     -999,     -999,9,     -999,     -999,9,     -999,9,     -999,9,     -999,9,     -999,9,     -999,9,     -999,9,     -999,9,     -999,9,     -999,9,     -999,9,     -999,9,     -999,9,     -999,9
320620180309  ,S04P       ,23      ,  1,34         ,34         ,2,20180327,0509, -66.9985, 179.4219,     3696,     49.6,-0.6042999999999999483,34.062420765895403,2,  34.0600,2,337.43702216561007,2, 318.7983,3,    340.0,2,     52.5,2,    25.26,2,     0.16,2,     1.71,2,     -999,9,     -999,9,     -999,9,     -999,9,     -999,9,     -999,9,     -999,     -999,9,     -999,9,  -0.6076,2,     -999,9,     -999,9,     -999,     -999,9,     -999,9,     -999,9,     -999,9,    0.208,1,    4.556,1,    0.235,1,     -999,9,     -999,9,20180327,0657, -66.9990, 179.4232,     -999,9,     -999,9,-999          ,9,     -999,9,     -999,9,     -999,     -999,9,     -999,     -999,9,     -999,9,     -999,9,     -999,9,     -999,9,     -999,9,     -999,9,     -999,9,     -999,9,     -999,9,     -999,9,     -999,9,     -999,9,     -999,9
320620180309  ,S04P       ,23      ,  1,33         ,33         ,2,20180327,0509, -66.9985, 179.4219,     3696,     75.0,-0.5268972222222223500,34.074813517030329,2,  34.0739,2,337.32750891924979,2, 295.5076,3,    337.5,2,     52.6,2,    25.33,2,     0.17,2,     1.74,2,    5.243,2,    2.919,2,   3.2000,2,   2189.9,2,  2311.68,3,   7.6605,2,    24.95,     -999,9,     -999,9,  -0.5281,2,     -999,9,     -999,9,     -999,     -999,9,     -999,9,     -999,9,     -999,9,    0.214,1,    4.552,1,    0.231,1,  15.9400,2,     -999,9,20180327,0656, -66.9991, 179.4237,     -999,9,     -999,9,-999          ,9,     -999,9,     -999,9,     -999,     -999,9,     -999,     -999,9,     -999,9,     -999,9,     -999,9,     -999,9,     -999,9,     -999,9,     -999,9,     -999,9,     -999,9,     -999,9,     -999,9,     -999,9,     -999,9
320620180309  ,S04P       ,23      ,  1,32         ,32         ,2,20180327,0509, -66.9985, 179.4219,     3696,    100.9,-0.9542527777777779496,34.291777295846281,2,  34.2994,2,297.76091502709181,3, 241.3025,3,    282.6,2,     71.1,2,    29.82,2,     0.21,2,     2.11,2,     -999,9,     -999,9,     -999,9,     -999,9,     -999,9,     -999,9,     -999,     -999,9,     -999,9,  -0.9759,2,     -999,9,     -999,9,     -999,     -999,9,     -999,9,     -999,9,     -999,9,    0.123,1,    4.608,1,    0.201,1,     -999,9,     -999,9,20180327,0654, -66.9992, 179.4241,     -999,9,     -999,9,-999          ,9,     -999,9,     -999,9,     -999,     -999,9,     -999,     -999,9,     -999,9,     -999,9,     -999,9,     -999,9,     -999,9,     -999,9,     -999,9,     -999,9,     -999,9,     -999,9,     -999,9,     -999,9,     -999,9
320620180309  ,S04P       ,23      ,  1,31         ,31         ,2,20180327,0509, -66.9985, 179.4219,     3696,    124.8,-0.2940694444444444944,34.451939045605137,2,  34.4683,2,253.10683305849781,3, 278.9030,3,    241.7,2,     82.5,2,    31.79,2,     0.09,2,     2.17,2,     -999,9,     -999,9,     -999,9,   2244.6,2,  2332.64,2,   7.5730,2,    24.94,     -999,9,     -999,9,  -0.3053,2,     -999,9,     -999,9,     -999,     -999,9,     -999,9,     -999,9,     -999,9,    0.083,1,    4.638,1,    0.186,1,     -999,9,     -999,9,20180327,0652, -66.9993, 179.4243,     -999,9,     -999,9,-999          ,9,     -999,9,     -999,9,     -999,     -999,9,     -999,     -999,9,     -999,9,     -999,9,     -999,9,     -999,9,     -999,9,     -999,9,     -999,9,     -999,9,     -999,9,     -999,9,     -999,9,     -999,9,     -999,9
320620180309  ,S04P       ,23      ,  1,30         ,30         ,2,20180327,0509, -66.9985, 179.4219,     3696,    150.0,0.6510499999999999066,34.590632798312072,2,  34.5903,2,212.19966702630299,3, 245.1007,3,    209.0,2,     87.5,2,    32.33,2,     0.03,2,     2.25,2,    1.417,2,    0.767,2,   0.7000,2,   2253.8,2,  2342.86,2,   7.5648,2,    24.95,     -999,9,     -999,9,   0.6513,2,     -999,9,     -999,9,     -999,     -999,9,     -999,9,     -999,9,     -999,9,    0.076,1,    4.653,1,    0.164,1,  20.3900,2,     -999,9,20180327,0650, -66.9993, 179.4244,     -999,9,     -999,9,-999          ,9,     -999,9,     -999,9,     -999,     -999,9,     -999,     -999,9,     -999,9,     -999,9,     -999,9,     -999,9,     -999,9,     -999,9,     -999,9,     -999,9,     -999,9,     -999,9,     -999,9,     -999,9,     -999,9
320620180309  ,S04P       ,23      ,  1,29         ,29         ,2,20180327,0509, -66.9985, 179.4219,     3696,    200.5,1.3110388888888886427,34.689253627443492,2,  34.6886,2,189.77922093174345,2, 212.9028,3,    188.5,2,     92.5,2,    32.46,2,     0.01,2,     2.24,2,     -999,9,     -999,9,     -999,9,   2260.6,2,  2348.69,2,   7.5674,2,    24.95,     -999,9,     -999,9,   1.3118,2,     -999,9,     -999,9,     -999,     -999,9,     -999,9,     -999,9,     -999,9,    0.067,1,    4.661,1,    0.151,1,     -999,9,     -999,9,20180327,0648, -66.9993, 179.4244,     -999,9,     -999,9,-999          ,9,     -999,9,     -999,9,     -999,     -999,9,     -999,     -999,9,     -999,9,     -999,9,     -999,9,     -999,9,     -999,9,     -999,9,     -999,9,     -999,9,     -999,9,     -999,9,     -999,9,     -999,9,     -999,9
320620180309  ,S04P       ,23      ,  1,28         ,28         ,2,20180327,0509, -66.9985, 179.4219,     3696,    252.1,1.4204222222222224747,34.713709570258423,2,  34.7121,2,185.93222977858863,2, 171.1970,3,    186.1,2,     95.5,2,    32.28,2,     0.00,2,     2.23,2,     -999,9,     -999,9,     -999,9,   2261.5,6,  2351.98,2,   7.5709,2,    24.95,     -999,9,     -999,9,   1.4194,2,     -999,9,     -999,9,     -999,     -999,9,     -999,9,     -999,9,     -999,9,    0.065,1,    4.664,1,    0.151,1,     -999,9,     -999,9,20180327,0646, -66.9995, 179.4247,     -999,9,     -999,9,-999          ,9,     -999,9,     -999,9,     -999,     -999,9,     -999,     -999,9,     -999,9,     -999,9,     -999,9,     -999,9,     -999,9,     -999,9,     -999,9,     -999,9,     -999,9,     -999,9,     -999,9,     -999,9,     -999,9
320620180309  ,S04P       ,23      ,  1,27         ,27         ,2,20180327,0509, -66.9985, 179.4219,     3696,    302.3,1.3865222222222222115,34.717332572460990,2,  34.7164,2,186.52472306856939,2, 170.6035,3,    187.6,2,     96.8,2,    32.10,2,     0.00,2,     2.22,2,    0.372,2,    0.200,2,   0.1100,2,   2260.5,2,  2354.87,2,   7.5762,6,    24.95,     -999,9,     -999,9,   1.3867,2,     -999,9,     -999,9,     -999,     -999,9,     -999,9,     -999,9,     -999,9,    0.061,1,    4.670,1,    0.144,1,  20.2100,2,     -999,9,20180327,0644, -66.9995, 179.4248,     -999,9,     -999,9,-999          ,9,     -999,9,     -999,9,     -999,     -999,9,     -999,     -999,9,     -999,9,     -999,9,     -999,9,     -999,9,     -999,9,     -999,9,     -999,9,     -999,9,     -999,9,     -999,9,     -999,9,     -999,9,     -999,9
320620180309  ,S04P       ,23      ,  1,26         ,26         ,2,20180327,0509, -66.9985, 179.4219,     3696,    352.0,1.3801805555555559657,34.722349321876358,2,  34.7210,2,187.48954904144571,2, 173.9997,3,    188.0,2,     99.0,2,    31.99,2,     0.00,2,     2.24,2,     -999,9,     -999,9,     -999,9,     -999,9,     -999,9,     -999,9,     -999,     -999,9,     -999,9,   1.3789,2,     -999,9,     -999,9,     -999,     -999,9,     -999,9,     -999,9,     -999,9,    0.063,1,    4.670,1,    0.143,1,     -999,9,     -999,9,20180327,0642, -66.9993, 179.4245,     -999,9,     -999,9,-999          ,9,     -999,9,     -999,9,     -999,     -999,9,     -999,     -999,9,     -999,9,     -999,9,     -999,9,     -999,9,     -999,9,     -999,9,     -999,9,     -999,9,     -999,9,     -999,9,     -999,9,     -999,9,     -999,9
320620180309  ,S04P       ,23      ,  1,25         ,25         ,2,20180327,0509, -66.9985, 179.4219,     3696,    403.4,1.3426611111111113050,34.723962275492902,2,  34.7229,2,187.66204433498163,2, 175.5037,3,    189.5,2,    100.5,2,    31.97,2,     0.00,2,     2.25,2,     -999,9,     -999,9,     -999,9,   2261.0,2,  2355.22,2,   7.5792,2,    24.93,     -999,9,     -999,9,   1.3424,2,     -999,9,     -999,9,     -999,     -999,9,     -999,9,     -999,9,     -999,9,    0.061,1,    4.672,1,    0.142,1,     -999,9,     -999,9,20180327,0640, -66.9992, 179.4240,     -999,9,     -999,9,-999          ,9,     -999,9,     -999,9,     -999,     -999,9,     -999,     -999,9,     -999,9,     -999,9,     -999,9,     -999,9,     -999,9,     -999,9,     -999,9,     -999,9,     -999,9,     -999,9,     -999,9,     -999,9,     -999,9
320620180309  ,S04P       ,23      ,  1,24         ,24         ,2,20180327,0509, -66.9985, 179.4219,     3696,    453.9,1.3211083333333331069,34.726618226246742,2,  34.7245,2,189.73126302665455,2, 178.2048,3,    188.5,2,    103.2,2,    32.06,2,     0.00,2,     2.23,2,    0.225,2,    0.126,2,   0.0700,2,     -999,9,     -999,9,     -999,9,     -999,     -999,9,     -999,9,   1.3204,2,     -999,9,     -999,9,     -999,     -999,9,     -999,9,     -999,9,     -999,9,    0.062,1,    4.670,1,    0.141,1,  20.7900,2,     -999,9,20180327,0637, -66.9991, 179.4234,     -999,9,     -999,9,-999          ,9,     -999,9,     -999,9,     -999,     -999,9,     -999,     -999,9,     -999,9,     -999,9,     -999,9,     -999,9,     -999,9,     -999,9,     -999,9,     -999,9,     -999,9,     -999,9,     -999,9,     -999,9,     -999,9
320620180309  ,S04P       ,23      ,  1,23         ,23         ,2,20180327,0509, -66.9985, 179.4219,     3696,    505.1,1.2660222222222223820,34.724108747707717,2,  34.7274,2,192.65201075248257,2, 181.7006,3,    192.8,2,    102.1,2,    31.86,2,     0.00,2,     2.24,2,     -999,9,     -999,9,     -999,9,   2259.9,2,  2357.35,2,   7.5831,2,    24.94,     -999,9,     -999,9,   1.2647,2,     -999,9,     -999,9,     -999,     -999,9,     -999,9,     -999,9,     -999,9,    0.062,1,    4.670,1,    0.148,1,     -999,9,     -999,9,20180327,0635, -66.9991, 179.4232,     -999,9,     -999,9,-999          ,9,     -999,9,     -999,9,     -999,     -999,9,     -999,     -999,9,     -999,9,     -999,9,     -999,9,     -999,9,     -999,9,     -999,9,     -999,9,     -999,9,     -999,9,     -999,9,     -999,9,     -999,9,     -999,9
320620180309  ,S04P       ,23      ,  1,22         ,37         ,2,20180327,0509, -66.9985, 179.4219,     3696,    605.3,1.2114388888888887319,34.724843651215139,2,  34.7235,2,191.31114020727469,2, 187.4064,2,    191.5,2,    106.3,2,    32.34,2,     0.00,2,     2.26,2,     -999,9,     -999,9,     -999,9,   2262.5,2,  2358.72,2,   7.5840,2,    24.94,     -999,9,     -999,9,   1.2105,2,     -999,9,     -999,9,     -999,     -999,9,     -999,9,     -999,9,     -999,9,    0.062,1,    4.665,1,    0.143,1,     -999,9,     -999,9,20180327,0632, -66.9992, 179.4239,     -999,9,     -999,9,-999          ,9,     -999,9,     -999,9,     -999,     -999,9,     -999,     -999,9,     -999,9,     -999,9,     -999,9,     -999,9,     -999,9,     -999,9,     -999,9,     -999,9,     -999,9,     -999,9,     -999,9,     -999,9,     -999,9
320620180309  ,S04P       ,23      ,  1,21         ,21         ,2,20180327,0509, -66.9985, 179.4219,     3696,    707.7,1.1470222222222217212,34.723661484317276,2,  34.7229,2,192.43916191643930,2, 190.6956,2,    193.3,2,    108.5,2,    32.13,2,     0.00,2,     2.25,2,    0.194,2,    0.101,2,   0.0100,2,     -999,9,     -999,9,     -999,9,     -999,     -999,9,     -999,9,   1.1471,2,     -999,9,     -999,9,     -999,     -999,9,     -999,9,     -999,9,     -999,9,    0.062,1,    4.671,1,    0.139,1,  19.8100,2,     -999,9,20180327,0629, -66.9993, 179.4241,     -999,9,     -999,9,-999          ,9,     -999,9,     -999,9,     -999,     -999,9,     -999,     -999,9,     -999,9,     -999,9,     -999,9,     -999,9,     -999,9,     -999,9,     -999,9,     -999,9,     -999,9,     -999,9,     -999,9,     -999,9,     -999,9
320620180309  ,S04P       ,23      ,  1,20         ,20         ,2,20180327,0509, -66.9985, 179.4219,     3696,    808.0,1.0837166666666666615,34.722483541879839,2,  34.7211,2,194.89914493961723,2, 197.1939,2,    194.6,2,    111.5,2,    32.17,2,     0.00,2,     2.26,2,     -999,9,     -999,9,     -999,9,   2265.4,2,  2361.58,2,   7.5841,2,    24.94,     -999,9,     -999,9,   1.0838,2,     -999,9,     -999,9,     -999,     -999,9,     -999,9,     -999,9,     -999,9,    0.062,1,    4.670,1,    0.140,1,     -999,9,     -999,9,20180327,0626, -66.9993, 179.4244,     -999,9,     -999,9,-999          ,9,     -999,9,     -999,9,     -999,     -999,9,     -999,     -999,9,     -999,9,     -999,9,     -999,9,     -999,9,     -999,9,     -999,9,     -999,9,     -999,9,     -999,9,     -999,9,     -999,9,     -999,9,     -999,9
320620180309  ,S04P       ,23      ,  1,19         ,19         ,2,20180327,0509, -66.9985, 179.4219,     3696,    909.8,1.0321611111111108627,34.720398299947973,2,  34.7196,2,200.29667194995051,2, 203.3028,2,    198.5,2,    112.0,2,    32.18,2,     0.00,2,     2.25,2,     -999,9,     -999,9,     -999,9,   2263.1,2,  2361.68,2,   7.5919,2,    24.94,     -999,9,     -999,9,   1.0310,2,     -999,9,     -999,9,     -999,     -999,9,     -999,9,     -999,9,     -999,9,    0.061,1,    4.672,1,    0.137,1,     -999,9,     -999,9,20180327,0623, -66.9994, 179.4245,     -999,9,     -999,9,-999          ,9,     -999,9,     -999,9,     -999,     -999,9,     -999,     -999,9,     -999,9,     -999,9,     -999,9,     -999,9,     -999,9,     -999,9,     -999,9,     -999,9,     -999,9,     -999,9,     -999,9,     -999,9,     -999,9
320620180309  ,S04P       ,23      ,  1,18         ,18         ,2,20180327,0509, -66.9985, 179.4219,     3696,   1011.1,0.9738138888888889788,34.718730197145504,2,  34.7176,2,197.86351369617503,3, 200.7009,2,    200.1,2,    115.0,2,    32.18,2,     0.00,2,     2.25,2,    0.124,2,    0.067,2,   0.0400,2,   2265.5,2,  2363.44,2,   7.5907,6,    24.93,     -999,9,     -999,9,   0.9733,2,     -999,9,     -999,9,     -999,     -999,9,     -999,9,     -999,9,     -999,9,    0.062,1,    4.675,1,    0.137,1,  19.2800,2,     -999,9,20180327,0620, -66.9995, 179.4249,     -999,9,     -999,9,-999          ,9,     -999,9,     -999,9,     -999,     -999,9,     -999,     -999,9,     -999,9,     -999,9,     -999,9,     -999,9,     -999,9,     -999,9,     -999,9,     -999,9,     -999,9,     -999,9,     -999,9,     -999,9,     -999,9
320620180309  ,S04P       ,23      ,  1,17         ,17         ,2,20180327,0509, -66.9985, 179.4219,     3696,   1113.4,0.9297916666666665719,34.716840331519656,2,  34.7164,2,199.31721173103250,2, 202.3031,2,    199.6,2,    116.5,2,    32.24,2,     0.00,2,     2.26,2,     -999,9,     -999,9,     -999,9,     -999,9,     -999,9,     -999,9,     -999,     -999,9,     -999,9,   0.9289,2,     -999,9,     -999,9,     -999,     -999,9,     -999,9,     -999,9,     -999,9,    0.061,1,    4.676,1,    0.132,1,     -999,9,     -999,9,20180327,0617, -66.9997, 179.4256,     -999,9,     -999,9,-999          ,9,     -999,9,     -999,9,     -999,     -999,9,     -999,     -999,9,     -999,9,     -999,9,     -999,9,     -999,9,     -999,9,     -999,9,     -999,9,     -999,9,     -999,9,     -999,9,     -999,9,     -999,9,     -999,9
320620180309  ,S04P       ,23      ,  1,16         ,16         ,2,20180327,0509, -66.9985, 179.4219,     3696,   1214.2,0.8747777777777777652,34.714803392436728,2,  34.7145,2,200.37085570104026,2, 202.7985,2,    201.9,2,    118.2,2,    32.26,2,     0.00,2,     2.26,2,     -999,9,     -999,9,     -999,9,   2263.7,2,  2364.04,2,   7.5964,2,    24.93,     -999,9,     -999,9,   0.8734,2,     -999,9,     -999,9,     -999,     -999,9,     -999,9,     -999,9,     -999,9,    0.061,1,    4.677,1,    0.130,1,     -999,9,     -999,9,20180327,0613, -66.9998, 179.4260,     -999,9,     -999,9,-999          ,9,     -999,9,     -999,9,     -999,     -999,9,     -999,     -999,9,     -999,9,     -999,9,     -999,9,     -999,9,     -999,9,     -999,9,     -999,9,     -999,9,     -999,9,     -999,9,     -999,9,     -999,9,     -999,9