BOTTLE,20240515CCHHYDRO
EXPOCODE,SECT_ID,STNNBR,CASTNO,SAMPNO,BTLNBR,BTLNBR_FLAG_W,DATE,TIME,LATITUDE,LONGITUDE,DEPTH,CTDPRS,CTDTMP,CTDSAL,CTDSAL_FLAG_W,SALNTY,SALNTY_FLAG_W,CTDOXY,CTDOXY_FLAG_W,CTDOPTOXY,CTDOPTOXY_FLAG_W,OXYGEN,OXYGEN_FLAG_W,SILCAT,SILCAT_FLAG_W,NITRAT,NITRAT_FLAG_W,NITRIT,NITRIT_FLAG_W,PHSPHT,PHSPHT_FLAG_W,CFC-11,CFC-11_FLAG_W,CFC-12,CFC-12_FLAG_W,SF6,SF6_FLAG_W,TCARBN,TCARBN_FLAG_W,ALKALI,ALKALI_FLAG_W,PH_TOT,PH_TOT_FLAG_W,PH_TMP,DOC,DOC_FLAG_W,HELIUM,HELIUM_FLAG_W,REFTMP,REFTMP_FLAG_W,DELC13,DELC13_FLAG_W,DELC14,DELC14_FLAG_W,C14ERR,POC,POC_FLAG_W,TDN,TDN_FLAG_W,TON,TON_FLAG_W,NEON,NEON_FLAG_W,CTDFLUOR,CTDFLUOR_FLAG_W,CTDXMISS,CTDXMISS_FLAG_W,CTDBETA700,CTDBETA700_FLAG_W,N2O,N2O_FLAG_W,ARGON,ARGON_FLAG_W,BTL_DATE,BTL_TIME,BTL_LAT,BTL_LON,KRYPTON,KRYPTON_FLAG_W,XENON,XENON_FLAG_W,HPLC,HPLC_FLAG_W,HE3_HE4_RATIO,HE3_HE4_RATIO_FLAG_W,Nd_143_144_D_EPSILON_BOTTLE,Nd_143_144_D_EPSILON_BOTTLE_FLAG_W,Nd_143_144_D_EPSILON_BOTTLE_ERROR,Nd_143_144_D_RATIO_BOTTLE,Nd_143_144_D_RATIO_BOTTLE_FLAG_W,Nd_143_144_D_RATIO_BOTTLE_ERROR,Nd_D_CONC,Nd_D_CONC_FLAG_W,La_D_CONC_BOTTLE,La_D_CONC_BOTTLE_FLAG_W,Ce_D_CONC_BOTTLE,Ce_D_CONC_BOTTLE_FLAG_W,Pr_D_CONC_BOTTLE,Pr_D_CONC_BOTTLE_FLAG_W,Sm_D_CONC_BOTTLE,Sm_D_CONC_BOTTLE_FLAG_W,Eu_D_CONC_BOTTLE,Eu_D_CONC_BOTTLE_FLAG_W,Gd_D_CONC_BOTTLE,Gd_D_CONC_BOTTLE_FLAG_W,Tb_D_CONC_BOTTLE,Tb_D_CONC_BOTTLE_FLAG_W,Dy_D_CONC_BOTTLE,Dy_D_CONC_BOTTLE_FLAG_W,Ho_D_CONC_BOTTLE,Ho_D_CONC_BOTTLE_FLAG_W,Er_D_CONC_BOTTLE,Er_D_CONC_BOTTLE_FLAG_W,Tm_D_CONC_BOTTLE,Tm_D_CONC_BOTTLE_FLAG_W,Yb_D_CONC_BOTTLE,Yb_D_CONC_BOTTLE_FLAG_W,Lu_D_CONC_BOTTLE,Lu_D_CONC_BOTTLE_FLAG_W
,,,,,,,,,,,METERS,DBAR,ITS-90,PSS-78,,PSS-78,,UMOL/KG,,UMOL/KG,,UMOL/KG,,UMOL/KG,,UMOL/KG,,UMOL/KG,,UMOL/KG,,PMOL/KG,,PMOL/KG,,FMOL/KG,,UMOL/KG,,UMOL/KG,,,,DEG C,UMOL/KG,,NMOL/L,,DEG C,,/MILLE,,/MILLE,,/MILLE,UG/KG,,UMOL/KG,,UMOL/KG,,NMOL/L,,VOLTS,,VOLTS,,VOLTS,,NMOL/KG,,UMOL/L,,,,,,NMOL/L,,NMOL/L,,,,,,10000,,10000,,,,PMOL/KG,,PMOL/L,,PMOL/L,,PMOL/L,,PMOL/L,,PMOL/L,,PMOL/L,,PMOL/L,,PMOL/L,,PMOL/L,,PMOL/L,,PMOL/L,,PMOL/L,,PMOL/L,
320620180309  ,S04P       ,54      ,  1,15         ,15         ,2,20180410,1402, -67.0002,-168.8834,     3438,   1179.0,0.8310805555555553781,34.712943897010170,2,  34.7106,2,204.44072509528638,2, 204.3018,2,    205.0,2,    117.5,2,    32.21,2,     0.00,2,     2.18,2,     -999,9,     -999,9,     -999,9,   2259.4,2,  2360.68,2,   7.5962,2,    24.90,     41.8,2,     -999,9,   0.8304,2,     -999,9,     -999,9,     -999,     -999,9,     -999,9,     -999,1,     -999,9,    0.061,1,    4.667,1,    0.132,1,     -999,9,     -999,9,20180410,1509, -67.0000,-168.8816,     -999,9,     -999,9,-999          ,9,     -999,9,     -999,9,     -999,     -999,9,     -999,     -999,9,     -999,9,     -999,9,     -999,9,     -999,9,     -999,9,     -999,9,     -999,9,     -999,9,     -999,9,     -999,9,     -999,9,     -999,9,     -999,9
320620180309  ,S04P       ,54      ,  1,14         ,14         ,2,20180410,1402, -67.0002,-168.8834,     3438,   1281.0,0.7775888888888888850,34.710736619143255,2,  34.7078,2,205.56648302265836,2, 205.4013,2,    205.7,2,    120.0,2,    32.29,2,     0.00,2,     2.16,2,    0.254,2,    0.145,2,   0.1700,2,   2260.7,2,  2362.02,2,   7.5968,2,    24.90,     41.6,2,     -999,9,   0.7769,2,     -999,9,     -999,9,     -999,     -999,9,     -999,9,     -999,1,     -999,9,    0.061,1,    4.667,1,    0.131,1,  21.4300,2,     -999,9,20180410,1506, -67.0000,-168.8816,     -999,9,     -999,9,-999          ,9,     -999,9,     -999,9,     -999,     -999,9,     -999,     -999,9,     -999,9,     -999,9,     -999,9,     -999,9,     -999,9,     -999,9,     -999,9,     -999,9,     -999,9,     -999,9,     -999,9,     -999,9,     -999,9
320620180309  ,S04P       ,54      ,  1,13         ,13         ,2,20180410,1402, -67.0002,-168.8834,     3438,   1383.3,0.7333722222222222031,34.709321044054228,2,  34.7066,2,206.36542346124764,2, 206.3012,2,    205.7,2,    120.6,2,    32.34,2,     0.00,2,     2.18,2,    0.255,2,    0.131,2,   0.0800,2,   2260.5,2,  2361.67,2,   7.5956,2,    24.91,     44.1,2,     -999,9,   0.7330,2,     -999,9,     -999,9,     -999,     -999,9,     -999,9,     -999,1,     -999,9,    0.061,1,    4.668,1,    0.130,1,  20.0200,2,     -999,9,20180410,1503, -67.0000,-168.8818,     -999,9,     -999,9,-999          ,9,     -999,9,     -999,9,     -999,     -999,9,     -999,     -999,9,     -999,9,     -999,9,     -999,9,     -999,9,     -999,9,     -999,9,     -999,9,     -999,9,     -999,9,     -999,9,     -999,9,     -999,9,     -999,9
320620180309  ,S04P       ,54      ,  1,12         ,12         ,2,20180410,1402, -67.0002,-168.8834,     3438,   1483.8,0.6923111111111110993,34.707473527647515,2,  34.7058,2,207.56829625164261,2, 207.0980,2,    207.6,2,    122.2,2,    32.47,2,     0.00,2,     2.18,2,     -999,9,     -999,9,     -999,9,   2259.9,2,  2364.38,2,   7.5955,2,    24.91,     42.7,2,     -999,9,   0.6915,2,     -999,9,     -999,9,     -999,     -999,9,     -999,9,     -999,1,     -999,9,    0.061,1,    4.669,1,    0.130,1,     -999,9,     -999,9,20180410,1459, -67.0000,-168.8819,     -999,9,     -999,9,-999          ,9,     -999,9,     -999,9,     -999,     -999,9,     -999,     -999,9,     -999,9,     -999,9,     -999,9,     -999,9,     -999,9,     -999,9,     -999,9,     -999,9,     -999,9,     -999,9,     -999,9,     -999,9,     -999,9
320620180309  ,S04P       ,54      ,  1,11         ,11         ,2,20180410,1402, -67.0002,-168.8834,     3438,   1585.5,0.6500361111111110368,34.705822396328294,2,  34.7039,2,208.14532028527094,2, 208.2005,2,    207.9,2,    123.5,2,    32.46,2,     0.00,2,     2.18,2,    0.290,2,    0.174,2,   0.2900,2,   2260.5,2,  2361.05,2,   7.5951,2,    24.91,     41.8,2,     -999,9,   0.6493,2,     -999,9,     -999,9,     -999,     -999,9,     -999,9,     -999,1,     -999,9,    0.061,1,    4.668,1,    0.130,1,  20.0800,2,     -999,9,20180410,1456, -67.0000,-168.8817,     -999,9,     -999,9,-999          ,9,     -999,9,     -999,9,     -999,     -999,9,     -999,     -999,9,     -999,9,     -999,9,     -999,9,     -999,9,     -999,9,     -999,9,     -999,9,     -999,9,     -999,9,     -999,9,     -999,9,     -999,9,     -999,9
320620180309  ,S04P       ,54      ,  1,10         ,10         ,2,20180410,1402, -67.0002,-168.8834,     3438,   1686.2,0.6184500000000000552,34.704807680896359,2,  34.7035,2,208.70147839606724,2, 208.7963,2,    208.9,2,    124.8,2,    32.45,2,     0.00,2,     2.19,2,    0.289,2,    0.165,2,   0.1000,2,   2261.1,2,  2362.90,2,   7.5948,2,    24.90,     -999,9,     -999,9,   0.6178,2,     -999,9,     -999,9,     -999,     -999,9,     -999,9,     -999,9,     -999,9,    0.061,1,    4.668,1,    0.129,1,  19.3800,2,     -999,9,20180410,1452, -67.0000,-168.8817,     -999,9,     -999,9,-999          ,9,     -999,9,     -999,9,     -999,     -999,9,     -999,     -999,9,     -999,9,     -999,9,     -999,9,     -999,9,     -999,9,     -999,9,     -999,9,     -999,9,     -999,9,     -999,9,     -999,9,     -999,9,     -999,9
320620180309  ,S04P       ,54      ,  1,9          ,9          ,2,20180410,1402, -67.0002,-168.8834,     3438,   1789.3,0.5717722222222221262,34.703143688348241,2,  34.7015,2,209.86892161230631,2, 209.7998,2,    211.2,2,    125.4,2,    32.46,2,     0.00,2,     2.18,2,    0.318,2,    0.175,2,   0.1300,2,   2261.0,6,  2360.44,2,   7.5946,2,    24.92,     42.6,2,     -999,9,   0.5714,2,     -999,9,     -999,9,     -999,     -999,9,     -999,9,     -999,1,     -999,9,    0.061,1,    4.668,1,    0.129,1,  20.6300,2,     -999,9,20180410,1449, -67.0000,-168.8816,     -999,9,     -999,9,-999          ,9,     -999,9,     -999,9,     -999,     -999,9,     -999,     -999,9,     -999,9,     -999,9,     -999,9,     -999,9,     -999,9,     -999,9,     -999,9,     -999,9,     -999,9,     -999,9,     -999,9,     -999,9,     -999,9
320620180309  ,S04P       ,54      ,  1,8          ,8          ,2,20180410,1402, -67.0002,-168.8834,     3438,   1962.4,0.5111222222222221445,34.701738026412215,2,  34.6994,2,211.03485404174339,2, 211.1054,2,    210.5,2,    126.6,2,    32.59,2,     0.00,2,     2.19,2,     -999,9,     -999,9,     -999,9,   2262.5,2,  2361.45,2,   7.5981,6,    24.91,     41.5,2,     -999,9,   0.5106,2,     -999,9,     -999,9,     -999,     -999,9,     -999,9,     -999,1,     -999,9,    0.061,1,    4.669,1,    0.127,1,     -999,9,     -999,9,20180410,1444, -67.0001,-168.8823,     -999,9,     -999,9,-999          ,9,     -999,9,     -999,9,     -999,     -999,9,     -999,     -999,9,     -999,9,     -999,9,     -999,9,     -999,9,     -999,9,     -999,9,     -999,9,     -999,9,     -999,9,     -999,9,     -999,9,     -999,9,     -999,9
320620180309  ,S04P       ,54      ,  1,7          ,7          ,2,20180410,1402, -67.0002,-168.8834,     3438,   2165.8,0.4417777777777777692,34.699241241028524,2,  34.6976,2,212.75530505311414,2, 213.0004,2,    212.4,2,    127.5,2,    32.61,2,     0.00,2,     2.20,2,    0.393,2,    0.223,2,   0.0000,2,   2260.8,2,  2362.52,2,   7.5942,2,    24.91,     42.4,2,     -999,9,   0.4412,2,     -999,9,     -999,9,     -999,     -999,9,     -999,9,     -999,1,     -999,9,    0.060,1,    4.669,1,    0.127,1,  20.3600,2,     -999,9,20180410,1439, -67.0002,-168.8829,     -999,9,     -999,9,-999          ,9,     -999,9,     -999,9,     -999,     -999,9,     -999,     -999,9,     -999,9,     -999,9,     -999,9,     -999,9,     -999,9,     -999,9,     -999,9,     -999,9,     -999,9,     -999,9,     -999,9,     -999,9,     -999,9
320620180309  ,S04P       ,54      ,  1,6          ,6          ,2,20180410,1402, -67.0002,-168.8834,     3438,   2369.1,0.3716527777777778874,34.695995872135107,2,  34.6949,2,215.20787929650928,2, 214.6001,2,    215.2,2,    128.0,2,    32.70,2,     0.00,2,     2.19,2,    0.510,2,    0.278,2,   0.3100,2,   2261.2,2,  2362.05,2,   7.5920,2,    24.92,     42.6,2,     -999,9,   0.3704,2,     -999,9,     -999,9,     -999,     -999,9,     -999,9,     -999,1,     -999,9,    0.061,1,    4.669,1,    0.127,1,  20.9400,2,     -999,9,20180410,1433, -67.0002,-168.8830,     -999,9,     -999,9,-999          ,9,     -999,9,     -999,9,     -999,     -999,9,     -999,     -999,9,     -999,9,     -999,9,     -999,9,     -999,9,     -999,9,     -999,9,     -999,9,     -999,9,     -999,9,     -999,9,     -999,9,     -999,9,     -999,9
320620180309  ,S04P       ,54      ,  1,5          ,5          ,2,20180410,1402, -67.0002,-168.8834,     3438,   2575.6,0.3106638888888888506,34.693429572178857,2,  34.6915,2,216.71199996184743,2, 216.7003,2,    216.4,2,    127.1,2,    32.68,2,     0.00,2,     2.19,2,    0.619,2,    0.345,2,   0.2000,2,   2261.4,2,  2360.12,2,   7.5925,2,    24.91,     42.3,2,     -999,9,   0.3099,2,     -999,9,     -999,9,     -999,     -999,9,     -999,9,     -999,1,     -999,9,    0.061,1,    4.669,1,    0.127,1,  20.1900,2,     -999,9,20180410,1428, -67.0002,-168.8833,     -999,9,     -999,9,-999          ,9,     -999,9,     -999,9,     -999,     -999,9,     -999,     -999,9,     -999,9,     -999,9,     -999,9,     -999,9,     -999,9,     -999,9,     -999,9,     -999,9,     -999,9,     -999,9,     -999,9,     -999,9,     -999,9
320620180309  ,S04P       ,54      ,  1,4          ,4          ,2,20180410,1402, -67.0002,-168.8834,     3438,   2819.6,0.2583944444444444266,34.689867613121656,3,  34.6876,2,219.11186550390812,2, 218.8997,2,    219.0,2,    125.3,2,    32.60,2,     0.00,2,     2.23,2,    0.793,2,    0.438,2,   0.1300,2,   2260.6,2,  2361.54,2,   7.5923,2,    24.91,     42.5,2,     -999,9,   0.2576,2,     -999,9,     -999,9,     -999,     -999,9,     -999,9,     -999,1,     -999,9,    0.061,1,    4.668,1,    0.126,1,  19.8300,2,     -999,9,20180410,1421, -67.0002,-168.8835,     -999,9,     -999,9,-999          ,9,     -999,9,     -999,9,     -999,     -999,9,     -999,     -999,9,     -999,9,     -999,9,     -999,9,     -999,9,     -999,9,     -999,9,     -999,9,     -999,9,     -999,9,     -999,9,     -999,9,     -999,9,     -999,9
320620180309  ,S04P       ,54      ,  1,3          ,3          ,2,20180410,1402, -67.0002,-168.8834,     3438,   2983.0,0.2462194444444444352,34.688624790142690,3,  34.6862,2,220.19168964960198,2, 219.8998,2,    219.8,2,    124.7,2,    32.61,2,     0.00,2,     2.21,2,    0.858,2,    0.479,2,   0.2300,2,   2260.9,2,  2360.87,2,   7.5922,2,    24.93,     -999,9,     -999,9,   0.2458,2,     -999,9,     -999,9,     -999,     -999,9,     -999,9,     -999,9,     -999,9,    0.061,1,    4.668,1,    0.127,1,  19.1500,2,     -999,9,20180410,1416, -67.0002,-168.8834,     -999,9,     -999,9,-999          ,9,     -999,9,     -999,9,     -999,     -999,9,     -999,     -999,9,     -999,9,     -999,9,     -999,9,     -999,9,     -999,9,     -999,9,     -999,9,     -999,9,     -999,9,     -999,9,     -999,9,     -999,9,     -999,9
320620180309  ,S04P       ,54      ,  1,2          ,2          ,2,20180410,1402, -67.0002,-168.8834,     3438,   3205.6,0.2372944444444443912,34.687522567573922,2,  34.6860,2,220.94789112257851,2, 220.7935,2,    220.8,2,    124.0,2,    32.55,2,     0.00,2,     2.24,2,    0.936,2,    0.521,2,   0.3900,2,   2260.4,2,  2361.21,2,   7.5906,2,    24.92,     43.6,2,     -999,9,   0.2367,2,     -999,9,     -999,9,     -999,     -999,9,     -999,9,     -999,1,     -999,9,    0.061,1,    4.667,1,    0.129,1,  20.6600,2,     -999,9,20180410,1410, -67.0002,-168.8834,     -999,9,     -999,9,-999          ,9,     -999,9,     -999,9,     -999,     -999,9,     -999,     -999,9,     -999,9,     -999,9,     -999,9,     -999,9,     -999,9,     -999,9,     -999,9,     -999,9,     -999,9,     -999,9,     -999,9,     -999,9,     -999,9
320620180309  ,S04P       ,54      ,  1,1          ,1          ,2,20180410,1402, -67.0002,-168.8834,     3438,   3486.8,0.2266555555555555268,34.686702823757152,2,  34.6850,2,222.51074537726828,2, 221.1005,2,    222.3,2,    123.5,2,    32.58,2,     0.00,2,     2.23,2,    1.018,2,    0.555,2,   0.4400,2,   2260.3,6,  2361.74,2,   7.5896,2,    24.93,     43.2,2,     -999,9,   0.2260,2,     -999,9,     -999,9,     -999,     -999,9,     -999,9,     -999,1,     -999,9,    0.062,1,    4.665,1,    0.131,1,  19.3500,2,     -999,9,20180410,1402, -67.0002,-168.8834,     -999,9,     -999,9,-999          ,9,     -999,9,     -999,9,     -999,     -999,9,     -999,     -999,9,     -999,9,     -999,9,     -999,9,     -999,9,     -999,9,     -999,9,     -999,9,     -999,9,     -999,9,     -999,9,     -999,9,     -999,9,     -999,9