BOTTLE,20240515CCHHYDRO
EXPOCODE,SECT_ID,STNNBR,CASTNO,SAMPNO,BTLNBR,BTLNBR_FLAG_W,DATE,TIME,LATITUDE,LONGITUDE,DEPTH,CTDPRS,CTDTMP,CTDSAL,CTDSAL_FLAG_W,SALNTY,SALNTY_FLAG_W,CTDOXY,CTDOXY_FLAG_W,CTDOPTOXY,CTDOPTOXY_FLAG_W,OXYGEN,OXYGEN_FLAG_W,SILCAT,SILCAT_FLAG_W,NITRAT,NITRAT_FLAG_W,NITRIT,NITRIT_FLAG_W,PHSPHT,PHSPHT_FLAG_W,CFC-11,CFC-11_FLAG_W,CFC-12,CFC-12_FLAG_W,SF6,SF6_FLAG_W,TCARBN,TCARBN_FLAG_W,ALKALI,ALKALI_FLAG_W,PH_TOT,PH_TOT_FLAG_W,PH_TMP,DOC,DOC_FLAG_W,HELIUM,HELIUM_FLAG_W,REFTMP,REFTMP_FLAG_W,DELC13,DELC13_FLAG_W,DELC14,DELC14_FLAG_W,C14ERR,POC,POC_FLAG_W,TDN,TDN_FLAG_W,TON,TON_FLAG_W,NEON,NEON_FLAG_W,CTDFLUOR,CTDFLUOR_FLAG_W,CTDXMISS,CTDXMISS_FLAG_W,CTDBETA700,CTDBETA700_FLAG_W,N2O,N2O_FLAG_W,ARGON,ARGON_FLAG_W,BTL_DATE,BTL_TIME,BTL_LAT,BTL_LON,KRYPTON,KRYPTON_FLAG_W,XENON,XENON_FLAG_W,HPLC,HPLC_FLAG_W,HE3_HE4_RATIO,HE3_HE4_RATIO_FLAG_W,Nd_143_144_D_EPSILON_BOTTLE,Nd_143_144_D_EPSILON_BOTTLE_FLAG_W,Nd_143_144_D_EPSILON_BOTTLE_ERROR,Nd_143_144_D_RATIO_BOTTLE,Nd_143_144_D_RATIO_BOTTLE_FLAG_W,Nd_143_144_D_RATIO_BOTTLE_ERROR,Nd_D_CONC,Nd_D_CONC_FLAG_W,La_D_CONC_BOTTLE,La_D_CONC_BOTTLE_FLAG_W,Ce_D_CONC_BOTTLE,Ce_D_CONC_BOTTLE_FLAG_W,Pr_D_CONC_BOTTLE,Pr_D_CONC_BOTTLE_FLAG_W,Sm_D_CONC_BOTTLE,Sm_D_CONC_BOTTLE_FLAG_W,Eu_D_CONC_BOTTLE,Eu_D_CONC_BOTTLE_FLAG_W,Gd_D_CONC_BOTTLE,Gd_D_CONC_BOTTLE_FLAG_W,Tb_D_CONC_BOTTLE,Tb_D_CONC_BOTTLE_FLAG_W,Dy_D_CONC_BOTTLE,Dy_D_CONC_BOTTLE_FLAG_W,Ho_D_CONC_BOTTLE,Ho_D_CONC_BOTTLE_FLAG_W,Er_D_CONC_BOTTLE,Er_D_CONC_BOTTLE_FLAG_W,Tm_D_CONC_BOTTLE,Tm_D_CONC_BOTTLE_FLAG_W,Yb_D_CONC_BOTTLE,Yb_D_CONC_BOTTLE_FLAG_W,Lu_D_CONC_BOTTLE,Lu_D_CONC_BOTTLE_FLAG_W
,,,,,,,,,,,METERS,DBAR,ITS-90,PSS-78,,PSS-78,,UMOL/KG,,UMOL/KG,,UMOL/KG,,UMOL/KG,,UMOL/KG,,UMOL/KG,,UMOL/KG,,PMOL/KG,,PMOL/KG,,FMOL/KG,,UMOL/KG,,UMOL/KG,,,,DEG C,UMOL/KG,,NMOL/L,,DEG C,,/MILLE,,/MILLE,,/MILLE,UG/KG,,UMOL/KG,,UMOL/KG,,NMOL/L,,VOLTS,,VOLTS,,VOLTS,,NMOL/KG,,UMOL/L,,,,,,NMOL/L,,NMOL/L,,,,,,10000,,10000,,,,PMOL/KG,,PMOL/L,,PMOL/L,,PMOL/L,,PMOL/L,,PMOL/L,,PMOL/L,,PMOL/L,,PMOL/L,,PMOL/L,,PMOL/L,,PMOL/L,,PMOL/L,,PMOL/L,
320620180309  ,S04P       ,901     ,  1,15         ,15         ,2,20180314,0025, -59.6166, 159.1548,     3495,    794.1,2.1734249999999999403,34.697080907110710,3,     -999,5,181.75843592566059,2, 171.1915,2,    181.2,2,     -999,9,     -999,9,     -999,9,     -999,9,     -999,9,     -999,9,     -999,9,     -999,9,     -999,9,     -999,9,     -999,     -999,9,     -999,9,   2.1737,2,     -999,9,     -999,9,     -999,     -999,9,     -999,9,     -999,1,     -999,9,    0.056,1,    4.684,1,    0.071,1,     -999,9,     -999,9,20180314,0104, -59.6172, 159.1538,     -999,9,     -999,9,-999          ,9,     -999,9,     -999,9,     -999,     -999,9,     -999,     -999,9,     -999,9,     -999,9,     -999,9,     -999,9,     -999,9,     -999,9,     -999,9,     -999,9,     -999,9,     -999,9,     -999,9,     -999,9,     -999,9
320620180309  ,S04P       ,901     ,  1,14         ,14         ,2,20180314,0025, -59.6166, 159.1548,     3495,    842.7,2.1369166666666665755,34.705202946952717,3,     -999,5,182.49620217454682,2, 171.1914,2,    184.0,2,     -999,9,     -999,9,     -999,9,     -999,9,    0.296,4,    0.158,4,   0.1300,4,     -999,9,     -999,9,     -999,9,     -999,     -999,9,     -999,9,   2.1368,2,     -999,9,     -999,9,     -999,     -999,9,     -999,9,     -999,9,     -999,9,    0.056,1,    4.686,1,    0.071,1,  20.9800,4,     -999,9,20180314,0101, -59.6171, 159.1541,     -999,9,     -999,9,-999          ,9,     -999,9,     -999,9,     -999,     -999,9,     -999,     -999,9,     -999,9,     -999,9,     -999,9,     -999,9,     -999,9,     -999,9,     -999,9,     -999,9,     -999,9,     -999,9,     -999,9,     -999,9,     -999,9
320620180309  ,S04P       ,901     ,  1,13         ,13         ,2,20180314,0025, -59.6166, 159.1548,     3495,    895.0,2.1381833333333335467,34.716476554196852,3,     -999,5,184.52367602329463,2, 174.1937,2,    184.7,2,     -999,9,     -999,9,     -999,9,     -999,9,     -999,9,     -999,9,     -999,9,     -999,9,     -999,9,     -999,9,     -999,     -999,9,     -999,9,   2.1378,2,     -999,9,     -999,9,     -999,     -999,9,     -999,9,     -999,1,     -999,9,    0.057,1,    4.653,1,    0.071,1,     -999,9,     -999,9,20180314,0059, -59.6171, 159.1542,     -999,9,     -999,9,-999          ,9,     -999,9,     -999,9,     -999,     -999,9,     -999,     -999,9,     -999,9,     -999,9,     -999,9,     -999,9,     -999,9,     -999,9,     -999,9,     -999,9,     -999,9,     -999,9,     -999,9,     -999,9,     -999,9
320620180309  ,S04P       ,901     ,  1,12         ,12         ,2,20180314,0025, -59.6166, 159.1548,     3495,    945.3,2.0858666666666669798,34.722748806191717,3,     -999,5,185.79470223968855,2, 174.8923,2,    186.2,2,     -999,9,     -999,9,     -999,9,     -999,9,     -999,9,     -999,9,     -999,9,     -999,9,     -999,9,     -999,9,     -999,     -999,9,     -999,9,   2.0854,2,     -999,9,     -999,9,     -999,     -999,9,     -999,9,     -999,9,     -999,9,    0.057,1,    4.684,1,    0.071,1,     -999,9,     -999,9,20180314,0056, -59.6171, 159.1545,     -999,9,     -999,9,-999          ,9,     -999,9,     -999,9,     -999,     -999,9,     -999,     -999,9,     -999,9,     -999,9,     -999,9,     -999,9,     -999,9,     -999,9,     -999,9,     -999,9,     -999,9,     -999,9,     -999,9,     -999,9,     -999,9
320620180309  ,S04P       ,901     ,  1,11         ,11         ,2,20180314,0025, -59.6166, 159.1548,     3495,    996.1,2.0505805555555554065,34.730098956952205,3,     -999,5,187.56266106089927,2, 176.6938,2,    188.0,2,     -999,9,     -999,9,     -999,9,     -999,9,    0.190,4,    0.132,4,   0.0100,4,     -999,9,     -999,9,     -999,9,     -999,     -999,9,     -999,9,   2.0502,2,     -999,9,     -999,9,     -999,     -999,9,     -999,9,     -999,1,     -999,9,    0.057,1,    2.400,1,    0.070,1,  19.9700,4,     -999,9,20180314,0053, -59.6170, 159.1545,     -999,9,     -999,9,-999          ,9,     -999,9,     -999,9,     -999,     -999,9,     -999,     -999,9,     -999,9,     -999,9,     -999,9,     -999,9,     -999,9,     -999,9,     -999,9,     -999,9,     -999,9,     -999,9,     -999,9,     -999,9,     -999,9
320620180309  ,S04P       ,901     ,  1,10         ,10         ,2,20180314,0025, -59.6166, 159.1548,     3495,   1045.8,2.0051555555555555799,34.734104898262203,3,     -999,5,189.10352444504701,2, 177.7916,2,    189.7,2,     -999,9,     -999,9,     -999,9,     -999,9,     -999,9,     -999,9,     -999,9,     -999,9,     -999,9,     -999,9,     -999,     -999,9,     -999,9,   2.0048,2,     -999,9,     -999,9,     -999,     -999,9,     -999,9,     -999,1,     -999,9,    0.057,1,    0.039,1,    0.070,1,     -999,9,     -999,9,20180314,0049, -59.6169, 159.1545,     -999,9,     -999,9,-999          ,9,     -999,9,     -999,9,     -999,     -999,9,     -999,     -999,9,     -999,9,     -999,9,     -999,9,     -999,9,     -999,9,     -999,9,     -999,9,     -999,9,     -999,9,     -999,9,     -999,9,     -999,9,     -999,9
320620180309  ,S04P       ,901     ,  1,9          ,9          ,2,20180314,0025, -59.6166, 159.1548,     3495,   1097.5,1.9644500000000002515,34.736894038263365,3,     -999,5,190.55531805341221,2, 178.9904,2,    190.6,2,     -999,9,     -999,9,     -999,9,     -999,9,     -999,9,     -999,9,     -999,9,     -999,9,     -999,9,     -999,9,     -999,     -999,9,     -999,9,   1.9640,2,     -999,9,     -999,9,     -999,     -999,9,     -999,9,     -999,1,     -999,9,    0.057,1,    4.685,1,    0.071,1,     -999,9,     -999,9,20180314,0046, -59.6168, 159.1546,     -999,9,     -999,9,-999          ,9,     -999,9,     -999,9,     -999,     -999,9,     -999,     -999,9,     -999,9,     -999,9,     -999,9,     -999,9,     -999,9,     -999,9,     -999,9,     -999,9,     -999,9,     -999,9,     -999,9,     -999,9,     -999,9
320620180309  ,S04P       ,901     ,  1,8          ,8          ,2,20180314,0025, -59.6166, 159.1548,     3495,   1147.9,1.9345888888888893575,34.738373086214125,3,     -999,5,191.41170421116723,2, 179.5929,2,    191.8,2,     -999,9,     -999,9,     -999,9,     -999,9,    0.167,4,    0.094,4,   0.0500,4,     -999,9,     -999,9,     -999,9,     -999,     -999,9,     -999,9,   1.9342,2,     -999,9,     -999,9,     -999,     -999,9,     -999,9,     -999,1,     -999,9,    0.056,1,    4.677,1,    0.071,1,  19.7800,4,     -999,9,20180314,0043, -59.6168, 159.1547,     -999,9,     -999,9,-999          ,9,     -999,9,     -999,9,     -999,     -999,9,     -999,     -999,9,     -999,9,     -999,9,     -999,9,     -999,9,     -999,9,     -999,9,     -999,9,     -999,9,     -999,9,     -999,9,     -999,9,     -999,9,     -999,9
320620180309  ,S04P       ,901     ,  1,7          ,7          ,2,20180314,0025, -59.6166, 159.1548,     3495,   1200.2,1.8960722222222219369,34.740167853884529,3,     -999,5,192.64294288824092,2, 180.3967,2,    192.0,2,     -999,9,     -999,9,     -999,9,     -999,9,     -999,9,     -999,9,     -999,9,     -999,9,     -999,9,     -999,9,     -999,     -999,9,     -999,9,   1.8958,2,     -999,9,     -999,9,     -999,     -999,9,     -999,9,     -999,1,     -999,9,    0.055,1,    0.037,1,    0.070,1,     -999,9,     -999,9,20180314,0040, -59.6167, 159.1549,     -999,9,     -999,9,-999          ,9,     -999,9,     -999,9,     -999,     -999,9,     -999,     -999,9,     -999,9,     -999,9,     -999,9,     -999,9,     -999,9,     -999,9,     -999,9,     -999,9,     -999,9,     -999,9,     -999,9,     -999,9,     -999,9
320620180309  ,S04P       ,901     ,  1,6          ,6          ,2,20180314,0025, -59.6166, 159.1548,     3495,   1248.7,1.8570444444444444976,34.741158698994518,3,     -999,5,193.74068352753841,2, 180.9929,2,    193.1,2,     -999,9,     -999,9,     -999,9,     -999,9,    0.165,4,    0.090,4,   0.0000,4,     -999,9,     -999,9,     -999,9,     -999,     -999,9,     -999,9,   1.8568,2,     -999,9,     -999,9,     -999,     -999,9,     -999,9,     -999,1,     -999,9,    0.056,1,    0.034,1,    0.071,1,  19.4500,4,     -999,9,20180314,0036, -59.6166, 159.1549,     -999,9,     -999,9,-999          ,9,     -999,9,     -999,9,     -999,     -999,9,     -999,     -999,9,     -999,9,     -999,9,     -999,9,     -999,9,     -999,9,     -999,9,     -999,9,     -999,9,     -999,9,     -999,9,     -999,9,     -999,9,     -999,9
320620180309  ,S04P       ,901     ,  1,5          ,5          ,2,20180314,0025, -59.6166, 159.1548,     3495,   1349.3,1.7752833333333333243,34.742144572394288,3,     -999,5,195.96051490114036,2, 182.2903,2,    196.8,2,     -999,9,     -999,9,     -999,9,     -999,9,    0.163,4,    0.144,4,   0.0600,4,     -999,9,     -999,9,     -999,9,     -999,     -999,9,     -999,9,   1.7751,2,     -999,9,     -999,9,     -999,     -999,9,     -999,9,     -999,1,     -999,9,    0.057,1,    4.688,1,    0.070,1,  19.4600,4,     -999,9,20180314,0031, -59.6166, 159.1549,     -999,9,     -999,9,-999          ,9,     -999,9,     -999,9,     -999,     -999,9,     -999,     -999,9,     -999,9,     -999,9,     -999,9,     -999,9,     -999,9,     -999,9,     -999,9,     -999,9,     -999,9,     -999,9,     -999,9,     -999,9,     -999,9
320620180309  ,S04P       ,901     ,  1,4          ,4          ,2,20180314,0025, -59.6166, 159.1548,     3495,   1512.1,1.6120722222222221287,34.741111627827408,3,     -999,9,200.31541973914972,2, 184.4875,2,     -999,9,     -999,9,     -999,9,     -999,9,     -999,9,     -999,9,     -999,9,     -999,9,     -999,9,     -999,9,     -999,9,     -999,     -999,9,     -999,9,   1.6117,2,     -999,9,     -999,9,     -999,     -999,9,     -999,9,     -999,9,     -999,9,    0.056,1,    0.855,1,    0.070,1,     -999,9,     -999,9,20180314,0025, -59.6166, 159.1548,     -999,9,     -999,9,-999          ,9,     -999,9,     -999,9,     -999,     -999,9,     -999,     -999,9,     -999,9,     -999,9,     -999,9,     -999,9,     -999,9,     -999,9,     -999,9,     -999,9,     -999,9,     -999,9,     -999,9,     -999,9,     -999,9
320620180309  ,S04P       ,901     ,  1,2          ,2          ,2,20180314,0025, -59.6166, 159.1548,     3495,   1512.2,1.6106388888888889532,34.741016279644811,3,     -999,9,200.33585362970169,2, 184.4939,2,     -999,9,     -999,9,     -999,9,     -999,9,     -999,9,    0.152,4,    0.083,4,   0.0400,4,     -999,9,     -999,9,     -999,9,     -999,     -999,9,     -999,9,   1.6093,2,     -999,9,     -999,9,     -999,     -999,9,     -999,9,     -999,9,     -999,9,    0.056,1,    0.855,1,    0.070,1,  19.0800,4,     -999,9,20180314,0025, -59.6166, 159.1548,     -999,9,     -999,9,-999          ,9,     -999,9,     -999,9,     -999,     -999,9,     -999,     -999,9,     -999,9,     -999,9,     -999,9,     -999,9,     -999,9,     -999,9,     -999,9,     -999,9,     -999,9,     -999,9,     -999,9,     -999,9,     -999,9
320620180309  ,S04P       ,901     ,  1,1          ,1          ,2,20180314,0025, -59.6166, 159.1548,     3495,   1512.8,1.6097194444444444805,34.741104634603630,3,     -999,9,200.43630174064381,2, 184.4943,2,     -999,9,     -999,9,     -999,9,     -999,9,     -999,9,     -999,9,     -999,9,     -999,9,     -999,9,     -999,9,     -999,9,     -999,     -999,9,     -999,9,   1.6093,2,     -999,9,     -999,9,     -999,     -999,9,     -999,9,     -999,9,     -999,9,    0.056,1,    0.855,1,    0.070,1,     -999,9,     -999,9,20180314,0025, -59.6166, 159.1548,     -999,9,     -999,9,-999          ,9,     -999,9,     -999,9,     -999,     -999,9,     -999,     -999,9,     -999,9,     -999,9,     -999,9,     -999,9,     -999,9,     -999,9,     -999,9,     -999,9,     -999,9,     -999,9,     -999,9,     -999,9,     -999,9
320620180309  ,S04P       ,901     ,  1,3          ,3          ,2,20180314,0025, -59.6166, 159.1548,     3495,   1513.1,1.6106861111111112628,34.741122723506805,3,     -999,9,200.34194155483695,2, 184.4913,2,     -999,9,     -999,9,     -999,9,     -999,9,     -999,9,     -999,9,     -999,9,     -999,9,     -999,9,     -999,9,     -999,9,     -999,     -999,9,     -999,9,   1.6106,2,     -999,9,     -999,9,     -999,     -999,9,     -999,9,     -999,9,     -999,9,    0.056,1,    0.855,1,    0.070,1,     -999,9,     -999,9,20180314,0025, -59.6166, 159.1548,     -999,9,     -999,9,-999          ,9,     -999,9,     -999,9,     -999,     -999,9,     -999,     -999,9,     -999,9,     -999,9,     -999,9,     -999,9,     -999,9,     -999,9,     -999,9,     -999,9,     -999,9,     -999,9,     -999,9,     -999,9,     -999,9