BOTTLE,20240515CCHHYDRO
EXPOCODE,SECT_ID,STNNBR,CASTNO,SAMPNO,BTLNBR,BTLNBR_FLAG_W,DATE,TIME,LATITUDE,LONGITUDE,DEPTH,CTDPRS,CTDTMP,CTDSAL,CTDSAL_FLAG_W,SALNTY,SALNTY_FLAG_W,CTDOXY,CTDOXY_FLAG_W,CTDOPTOXY,CTDOPTOXY_FLAG_W,OXYGEN,OXYGEN_FLAG_W,SILCAT,SILCAT_FLAG_W,NITRAT,NITRAT_FLAG_W,NITRIT,NITRIT_FLAG_W,PHSPHT,PHSPHT_FLAG_W,CFC-11,CFC-11_FLAG_W,CFC-12,CFC-12_FLAG_W,SF6,SF6_FLAG_W,TCARBN,TCARBN_FLAG_W,ALKALI,ALKALI_FLAG_W,PH_TOT,PH_TOT_FLAG_W,PH_TMP,DOC,DOC_FLAG_W,HELIUM,HELIUM_FLAG_W,REFTMP,REFTMP_FLAG_W,DELC13,DELC13_FLAG_W,DELC14,DELC14_FLAG_W,C14ERR,POC,POC_FLAG_W,TDN,TDN_FLAG_W,TON,TON_FLAG_W,NEON,NEON_FLAG_W,CTDFLUOR,CTDFLUOR_FLAG_W,CTDXMISS,CTDXMISS_FLAG_W,CTDBETA700,CTDBETA700_FLAG_W,N2O,N2O_FLAG_W,ARGON,ARGON_FLAG_W,BTL_DATE,BTL_TIME,BTL_LAT,BTL_LON,KRYPTON,KRYPTON_FLAG_W,XENON,XENON_FLAG_W,HPLC,HPLC_FLAG_W,HE3_HE4_RATIO,HE3_HE4_RATIO_FLAG_W,Nd_143_144_D_EPSILON_BOTTLE,Nd_143_144_D_EPSILON_BOTTLE_FLAG_W,Nd_143_144_D_EPSILON_BOTTLE_ERROR,Nd_143_144_D_RATIO_BOTTLE,Nd_143_144_D_RATIO_BOTTLE_FLAG_W,Nd_143_144_D_RATIO_BOTTLE_ERROR,Nd_D_CONC,Nd_D_CONC_FLAG_W,La_D_CONC_BOTTLE,La_D_CONC_BOTTLE_FLAG_W,Ce_D_CONC_BOTTLE,Ce_D_CONC_BOTTLE_FLAG_W,Pr_D_CONC_BOTTLE,Pr_D_CONC_BOTTLE_FLAG_W,Sm_D_CONC_BOTTLE,Sm_D_CONC_BOTTLE_FLAG_W,Eu_D_CONC_BOTTLE,Eu_D_CONC_BOTTLE_FLAG_W,Gd_D_CONC_BOTTLE,Gd_D_CONC_BOTTLE_FLAG_W,Tb_D_CONC_BOTTLE,Tb_D_CONC_BOTTLE_FLAG_W,Dy_D_CONC_BOTTLE,Dy_D_CONC_BOTTLE_FLAG_W,Ho_D_CONC_BOTTLE,Ho_D_CONC_BOTTLE_FLAG_W,Er_D_CONC_BOTTLE,Er_D_CONC_BOTTLE_FLAG_W,Tm_D_CONC_BOTTLE,Tm_D_CONC_BOTTLE_FLAG_W,Yb_D_CONC_BOTTLE,Yb_D_CONC_BOTTLE_FLAG_W,Lu_D_CONC_BOTTLE,Lu_D_CONC_BOTTLE_FLAG_W
,,,,,,,,,,,METERS,DBAR,ITS-90,PSS-78,,PSS-78,,UMOL/KG,,UMOL/KG,,UMOL/KG,,UMOL/KG,,UMOL/KG,,UMOL/KG,,UMOL/KG,,PMOL/KG,,PMOL/KG,,FMOL/KG,,UMOL/KG,,UMOL/KG,,,,DEG C,UMOL/KG,,NMOL/L,,DEG C,,/MILLE,,/MILLE,,/MILLE,UG/KG,,UMOL/KG,,UMOL/KG,,NMOL/L,,VOLTS,,VOLTS,,VOLTS,,NMOL/KG,,UMOL/L,,,,,,NMOL/L,,NMOL/L,,,,,,10000,,10000,,,,PMOL/KG,,PMOL/L,,PMOL/L,,PMOL/L,,PMOL/L,,PMOL/L,,PMOL/L,,PMOL/L,,PMOL/L,,PMOL/L,,PMOL/L,,PMOL/L,,PMOL/L,,PMOL/L,
320620180309  ,P15        ,15      ,  1,15         ,15         ,2,20180323,0455, -68.4986,-169.9979,     4139,   1281.0,0.8598388888888889303,34.712858931021813,2,  34.7119,2,201.86121535958878,2, 200.8022,2,    201.1,2,    118.7,2,    32.08,2,     0.00,2,     2.20,2,    0.162,2,    0.091,2,   0.0400,2,     -999,9,     -999,9,     -999,9,     -999,     -999,9,     -999,9,   0.8594,2,0.42000000,2, -159.520,2,    0.002,     -999,9,     -999,9,     -999,9,     -999,9,    0.061,1,    4.681,1,    0.131,1,  21.8700,2,     -999,9,20180323,0611, -68.4986,-169.9982,     -999,9,     -999,9,-999          ,9,     -999,9,     -999,9,     -999,     -999,9,     -999,     -999,9,     -999,9,     -999,9,     -999,9,     -999,9,     -999,9,     -999,9,     -999,9,     -999,9,     -999,9,     -999,9,     -999,9,     -999,9,     -999,9
320620180309  ,P15        ,15      ,  1,14         ,14         ,2,20180323,0455, -68.4986,-169.9979,     4139,   1379.8,0.8056305555555556275,34.710737993089758,2,  34.7113,2,202.20772295369122,2, 201.8954,2,    202.5,2,    120.5,2,    32.10,2,     0.00,2,     2.22,2,     -999,9,     -999,9,     -999,9,   2262.1,2,  2363.15,2,   7.5923,2,    24.90,     -999,9,     -999,9,   0.8051,2,0.51000000,2, -162.640,2,    0.003,     -999,9,     -999,9,     -999,9,     -999,9,    0.061,1,    4.683,1,    0.129,1,     -999,9,     -999,9,20180323,0608, -68.4985,-169.9982,     -999,9,     -999,9,-999          ,9,     -999,9,     -999,9,     -999,     -999,9,     -999,     -999,9,     -999,9,     -999,9,     -999,9,     -999,9,     -999,9,     -999,9,     -999,9,     -999,9,     -999,9,     -999,9,     -999,9,     -999,9,     -999,9
320620180309  ,P15        ,15      ,  1,13         ,13         ,2,20180323,0455, -68.4986,-169.9979,     4139,   1484.0,0.7590500000000000025,34.708992829905462,2,  34.7092,2,202.83792521196790,2, 202.9035,2,    203.5,2,    121.9,2,    32.15,2,     0.00,2,     2.21,2,    0.166,2,    0.082,2,   0.1300,2,     -999,9,     -999,9,     -999,9,     -999,     -999,9,     -999,9,   0.7587,2,     -999,9,     -999,9,     -999,     -999,9,     -999,9,     -999,9,     -999,9,    0.061,1,    4.682,1,    0.130,1,  20.4700,2,     -999,9,20180323,0605, -68.4985,-169.9982,     -999,9,     -999,9,-999          ,9,     -999,9,     -999,9,     -999,     -999,9,     -999,     -999,9,     -999,9,     -999,9,     -999,9,     -999,9,     -999,9,     -999,9,     -999,9,     -999,9,     -999,9,     -999,9,     -999,9,     -999,9,     -999,9
320620180309  ,P15        ,15      ,  1,12         ,12         ,2,20180323,0455, -68.4986,-169.9979,     4139,   1585.6,0.7214388888888887408,34.707434305197339,2,  34.7060,2,203.81520265542366,2, 203.8993,2,    204.0,2,    123.0,2,    32.16,2,     0.00,2,     2.22,2,     -999,9,     -999,9,     -999,9,   2264.9,2,  2365.52,2,   7.5921,2,    24.92,     -999,9,     -999,9,   0.7221,2,0.44000000,2, -156.510,2,    0.002,     -999,9,     -999,9,     -999,9,     -999,9,    0.060,1,    4.680,1,    0.129,1,     -999,9,     -999,9,20180323,0601, -68.4984,-169.9983,     -999,9,     -999,9,-999          ,9,     -999,9,     -999,9,     -999,     -999,9,     -999,     -999,9,     -999,9,     -999,9,     -999,9,     -999,9,     -999,9,     -999,9,     -999,9,     -999,9,     -999,9,     -999,9,     -999,9,     -999,9,     -999,9
320620180309  ,P15        ,15      ,  1,11         ,11         ,2,20180323,0455, -68.4986,-169.9979,     4139,   1687.9,0.6723388888888889303,34.705476676142617,2,  34.7054,2,204.10768368460671,2, 205.3994,2,    205.5,2,    124.1,2,    32.14,2,     0.00,2,     2.22,2,    0.193,2,    0.112,2,   0.1300,2,     -999,9,     -999,9,     -999,9,     -999,     -999,9,     -999,9,   0.6719,2,     -999,9,     -999,9,     -999,     -999,9,     -999,9,     -999,9,     -999,9,    0.061,1,    4.682,1,    0.129,1,  20.9800,2,     -999,9,20180323,0558, -68.4984,-169.9983,     -999,9,     -999,9,-999          ,9,     -999,9,     -999,9,     -999,     -999,9,     -999,     -999,9,     -999,9,     -999,9,     -999,9,     -999,9,     -999,9,     -999,9,     -999,9,     -999,9,     -999,9,     -999,9,     -999,9,     -999,9,     -999,9
320620180309  ,P15        ,15      ,  1,10         ,10         ,2,20180323,0455, -68.4986,-169.9979,     4139,   1795.0,0.6482722222222221387,34.704578600567608,2,  34.7037,2,205.63153649484786,2, 206.0998,2,    206.0,2,    124.9,2,    32.19,2,     0.00,2,     2.21,2,     -999,9,     -999,9,     -999,9,   2264.4,2,  2364.31,2,   7.5914,2,    24.92,     -999,9,     -999,9,   0.6480,2,0.47000000,2, -158.740,2,    0.002,     -999,9,     -999,9,     -999,9,     -999,9,    0.061,1,    4.682,1,    0.128,1,     -999,9,     -999,9,20180323,0555, -68.4984,-169.9984,     -999,9,     -999,9,-999          ,9,     -999,9,     -999,9,     -999,     -999,9,     -999,     -999,9,     -999,9,     -999,9,     -999,9,     -999,9,     -999,9,     -999,9,     -999,9,     -999,9,     -999,9,     -999,9,     -999,9,     -999,9,     -999,9
320620180309  ,P15        ,15      ,  1,9          ,9          ,2,20180323,0455, -68.4986,-169.9979,     4139,   1963.4,0.5730805555555555930,34.702215953489755,2,  34.7027,2,206.35063524614756,2, 207.7021,2,    207.5,2,    126.3,2,    32.20,2,     0.00,2,     2.23,2,    0.227,2,    0.119,2,   0.2500,2,     -999,9,     -999,9,     -999,9,     -999,     -999,9,     -999,9,   0.5730,2,0.45000000,2, -159.570,2,    0.002,     -999,9,     -999,9,     -999,9,     -999,9,    0.061,1,    4.682,1,    0.127,1,  20.5900,2,     -999,9,20180323,0550, -68.4983,-169.9984,     -999,9,     -999,9,-999          ,9,     -999,9,     -999,9,     -999,     -999,9,     -999,     -999,9,     -999,9,     -999,9,     -999,9,     -999,9,     -999,9,     -999,9,     -999,9,     -999,9,     -999,9,     -999,9,     -999,9,     -999,9,     -999,9
320620180309  ,P15        ,15      ,  1,8          ,8          ,2,20180323,0455, -68.4986,-169.9979,     4139,   2198.1,0.4876111111111111618,34.699747828386243,2,  34.7002,2,209.28101815454900,2, 209.4058,2,    209.8,2,    127.8,2,    32.26,2,     0.00,2,     2.23,2,     -999,9,     -999,9,     -999,9,   2264.7,2,  2362.80,2,   7.5896,2,    24.91,     -999,9,     -999,9,   0.4867,2,0.45000000,2, -156.250,2,    0.002,     -999,9,     -999,9,     -999,9,     -999,9,    0.061,1,    4.682,1,    0.128,1,     -999,9,     -999,9,20180323,0544, -68.4980,-169.9986,     -999,9,     -999,9,-999          ,9,     -999,9,     -999,9,     -999,     -999,9,     -999,     -999,9,     -999,9,     -999,9,     -999,9,     -999,9,     -999,9,     -999,9,     -999,9,     -999,9,     -999,9,     -999,9,     -999,9,     -999,9,     -999,9
320620180309  ,P15        ,15      ,  1,7          ,7          ,2,20180323,0455, -68.4986,-169.9979,     4139,   2454.2,0.4124083333333332657,34.697519198805651,2,  34.6970,2,211.62934818364491,2, 213.1024,2,    212.2,2,    128.6,2,    32.33,2,     0.00,2,     2.25,2,    0.382,2,    0.256,2,   1.3900,3,     -999,9,     -999,9,     -999,9,     -999,     -999,9,     -999,9,   0.4118,2,0.47000000,2, -158.590,2,    0.002,     -999,9,     -999,9,     -999,9,     -999,9,    0.061,1,    4.682,1,    0.127,1,  20.6000,2,     -999,9,20180323,0538, -68.4981,-169.9985,     -999,9,     -999,9,-999          ,9,     -999,9,     -999,9,     -999,     -999,9,     -999,     -999,9,     -999,9,     -999,9,     -999,9,     -999,9,     -999,9,     -999,9,     -999,9,     -999,9,     -999,9,     -999,9,     -999,9,     -999,9,     -999,9
320620180309  ,P15        ,15      ,  1,6          ,6          ,2,20180323,0455, -68.4986,-169.9979,     4139,   2708.8,0.3371305555555555444,34.693704616590871,2,  34.6937,2,214.43964672415854,2, 214.6016,2,    214.6,2,    128.2,2,    32.36,2,     0.00,2,     2.24,2,     -999,9,     -999,9,     -999,9,   2264.9,2,  2362.20,2,   7.5920,2,    24.92,     -999,9,     -999,9,   0.3366,2,     -999,5, -160.890,2,    0.002,     -999,9,     -999,9,     -999,9,     -999,9,    0.061,1,    4.682,1,    0.126,1,     -999,9,     -999,9,20180323,0532, -68.4983,-169.9981,     -999,9,     -999,9,-999          ,9,     -999,9,     -999,9,     -999,     -999,9,     -999,     -999,9,     -999,9,     -999,9,     -999,9,     -999,9,     -999,9,     -999,9,     -999,9,     -999,9,     -999,9,     -999,9,     -999,9,     -999,9,     -999,9
320620180309  ,P15        ,15      ,  1,5          ,5          ,2,20180323,0455, -68.4986,-169.9979,     4139,   2964.3,0.2796527777777778057,34.692389605672162,2,  34.6927,2,216.24455962188543,2, 220.6990,3,    216.7,2,    128.1,2,    32.37,2,     0.00,2,     2.26,2,    0.606,2,    0.323,2,   0.3400,2,     -999,9,     -999,9,     -999,9,     -999,     -999,9,     -999,9,   0.2782,2,     -999,5, -155.650,2,    0.002,     -999,9,     -999,9,     -999,9,     -999,9,    0.061,1,    4.681,1,    0.128,1,  21.2500,2,     -999,9,20180323,0525, -68.4987,-169.9979,     -999,9,     -999,9,-999          ,9,     -999,9,     -999,9,     -999,     -999,9,     -999,     -999,9,     -999,9,     -999,9,     -999,9,     -999,9,     -999,9,     -999,9,     -999,9,     -999,9,     -999,9,     -999,9,     -999,9,     -999,9,     -999,9
320620180309  ,P15        ,15      ,  1,4          ,4          ,2,20180323,0455, -68.4986,-169.9979,     4139,   3256.2,0.2151749999999999774,34.688708853562609,2,  34.6874,2,220.35948740966185,2, 221.6991,3,    219.6,2,    124.8,2,    32.32,2,     0.00,2,     2.26,2,    0.865,2,    0.457,2,   0.2400,2,   2260.5,3,  2360.83,2,   7.5854,2,    24.92,     -999,9,     -999,9,   0.2147,2,0.48000000,2, -152.520,2,    0.002,     -999,9,     -999,9,     -999,9,     -999,9,    0.060,1,    4.680,1,    0.129,1,  20.7700,2,     -999,9,20180323,0518, -68.4987,-169.9979,     -999,9,     -999,9,-999          ,9,     -999,9,     -999,9,     -999,     -999,9,     -999,     -999,9,     -999,9,     -999,9,     -999,9,     -999,9,     -999,9,     -999,9,     -999,9,     -999,9,     -999,9,     -999,9,     -999,9,     -999,9,     -999,9
320620180309  ,P15        ,15      ,  1,3          ,3          ,2,20180323,0455, -68.4986,-169.9979,     4139,   3563.9,0.1892444444444444374,34.684656638699742,3,  34.6819,2,223.04220423147376,2, 222.4014,2,    222.3,2,    121.1,2,    32.26,2,     0.00,2,     2.25,2,    1.106,2,    0.594,2,   0.5100,2,   2263.2,2,  2358.08,3,   7.5906,2,    24.92,     -999,9,     -999,9,   0.1886,2,0.40000000,2, -153.420,2,    0.002,     -999,9,     -999,9,     -999,9,     -999,9,    0.061,1,    4.679,1,    0.130,1,  20.8200,2,     -999,9,20180323,0511, -68.4987,-169.9979,     -999,9,     -999,9,-999          ,9,     -999,9,     -999,9,     -999,     -999,9,     -999,     -999,9,     -999,9,     -999,9,     -999,9,     -999,9,     -999,9,     -999,9,     -999,9,     -999,9,     -999,9,     -999,9,     -999,9,     -999,9,     -999,9
320620180309  ,P15        ,15      ,  1,2          ,2          ,2,20180323,0455, -68.4986,-169.9979,     4139,   3889.2,0.2053444444444444406,34.685292928044262,2,  34.6845,2,223.13382946980849,2, 222.3964,2,    222.6,2,    120.9,2,    32.25,2,     0.00,2,     2.24,2,    1.134,2,    0.619,2,   0.4000,2,   2263.6,2,  2357.68,3,   7.5878,6,    24.92,     -999,9,     -999,9,   0.2048,2,     -999,5, -150.380,2,    0.002,     -999,9,     -999,9,     -999,9,     -999,9,    0.061,1,    4.678,1,    0.132,1,  20.5700,2,     -999,9,20180323,0503, -68.4986,-169.9980,     -999,9,     -999,9,-999          ,9,     -999,9,     -999,9,     -999,     -999,9,     -999,     -999,9,     -999,9,     -999,9,     -999,9,     -999,9,     -999,9,     -999,9,     -999,9,     -999,9,     -999,9,     -999,9,     -999,9,     -999,9,     -999,9
320620180309  ,P15        ,15      ,  1,1          ,1          ,2,20180323,0455, -68.4986,-169.9979,     4139,   4211.3,0.2317277777777777825,34.685390000402371,2,  34.6850,2,223.75157045862417,2, 222.4030,2,    222.7,2,    121.2,2,    32.26,2,     0.00,2,     2.25,2,    1.154,2,    0.616,2,   0.5800,2,   2262.8,6,  2357.79,3,   7.5888,2,    24.91,     -999,9,     -999,9,   0.2313,2,     -999,5, -154.140,2,    0.002,     -999,9,     -999,9,     -999,9,     -999,9,    0.061,1,    4.676,1,    0.133,1,  20.2800,2,     -999,9,20180323,0455, -68.4986,-169.9979,     -999,9,     -999,9,-999          ,9,     -999,9,     -999,9,     -999,     -999,9,     -999,     -999,9,     -999,9,     -999,9,     -999,9,     -999,9,     -999,9,     -999,9,     -999,9,     -999,9,     -999,9,     -999,9,     -999,9,     -999,9,     -999,9