BOTTLE,20240515CCHHYDRO
EXPOCODE,SECT_ID,STNNBR,CASTNO,SAMPNO,BTLNBR,BTLNBR_FLAG_W,DATE,TIME,LATITUDE,LONGITUDE,DEPTH,CTDPRS,CTDTMP,CTDSAL,CTDSAL_FLAG_W,SALNTY,SALNTY_FLAG_W,CTDOXY,CTDOXY_FLAG_W,CTDOPTOXY,CTDOPTOXY_FLAG_W,OXYGEN,OXYGEN_FLAG_W,SILCAT,SILCAT_FLAG_W,NITRAT,NITRAT_FLAG_W,NITRIT,NITRIT_FLAG_W,PHSPHT,PHSPHT_FLAG_W,CFC-11,CFC-11_FLAG_W,CFC-12,CFC-12_FLAG_W,SF6,SF6_FLAG_W,TCARBN,TCARBN_FLAG_W,ALKALI,ALKALI_FLAG_W,PH_TOT,PH_TOT_FLAG_W,PH_TMP,DOC,DOC_FLAG_W,HELIUM,HELIUM_FLAG_W,REFTMP,REFTMP_FLAG_W,DELC13,DELC13_FLAG_W,DELC14,DELC14_FLAG_W,C14ERR,POC,POC_FLAG_W,TDN,TDN_FLAG_W,TON,TON_FLAG_W,NEON,NEON_FLAG_W,CTDFLUOR,CTDFLUOR_FLAG_W,CTDXMISS,CTDXMISS_FLAG_W,CTDBETA700,CTDBETA700_FLAG_W,N2O,N2O_FLAG_W,ARGON,ARGON_FLAG_W,BTL_DATE,BTL_TIME,BTL_LAT,BTL_LON,KRYPTON,KRYPTON_FLAG_W,XENON,XENON_FLAG_W,HPLC,HPLC_FLAG_W,HE3_HE4_RATIO,HE3_HE4_RATIO_FLAG_W,Nd_143_144_D_EPSILON_BOTTLE,Nd_143_144_D_EPSILON_BOTTLE_FLAG_W,Nd_143_144_D_EPSILON_BOTTLE_ERROR,Nd_143_144_D_RATIO_BOTTLE,Nd_143_144_D_RATIO_BOTTLE_FLAG_W,Nd_143_144_D_RATIO_BOTTLE_ERROR,Nd_D_CONC,Nd_D_CONC_FLAG_W,La_D_CONC_BOTTLE,La_D_CONC_BOTTLE_FLAG_W,Ce_D_CONC_BOTTLE,Ce_D_CONC_BOTTLE_FLAG_W,Pr_D_CONC_BOTTLE,Pr_D_CONC_BOTTLE_FLAG_W,Sm_D_CONC_BOTTLE,Sm_D_CONC_BOTTLE_FLAG_W,Eu_D_CONC_BOTTLE,Eu_D_CONC_BOTTLE_FLAG_W,Gd_D_CONC_BOTTLE,Gd_D_CONC_BOTTLE_FLAG_W,Tb_D_CONC_BOTTLE,Tb_D_CONC_BOTTLE_FLAG_W,Dy_D_CONC_BOTTLE,Dy_D_CONC_BOTTLE_FLAG_W,Ho_D_CONC_BOTTLE,Ho_D_CONC_BOTTLE_FLAG_W,Er_D_CONC_BOTTLE,Er_D_CONC_BOTTLE_FLAG_W,Tm_D_CONC_BOTTLE,Tm_D_CONC_BOTTLE_FLAG_W,Yb_D_CONC_BOTTLE,Yb_D_CONC_BOTTLE_FLAG_W,Lu_D_CONC_BOTTLE,Lu_D_CONC_BOTTLE_FLAG_W
,,,,,,,,,,,METERS,DBAR,ITS-90,PSS-78,,PSS-78,,UMOL/KG,,UMOL/KG,,UMOL/KG,,UMOL/KG,,UMOL/KG,,UMOL/KG,,UMOL/KG,,PMOL/KG,,PMOL/KG,,FMOL/KG,,UMOL/KG,,UMOL/KG,,,,DEG C,UMOL/KG,,NMOL/L,,DEG C,,/MILLE,,/MILLE,,/MILLE,UG/KG,,UMOL/KG,,UMOL/KG,,NMOL/L,,VOLTS,,VOLTS,,VOLTS,,NMOL/KG,,UMOL/L,,,,,,NMOL/L,,NMOL/L,,,,,,10000,,10000,,,,PMOL/KG,,PMOL/L,,PMOL/L,,PMOL/L,,PMOL/L,,PMOL/L,,PMOL/L,,PMOL/L,,PMOL/L,,PMOL/L,,PMOL/L,,PMOL/L,,PMOL/L,,PMOL/L,
320620180309  ,P16        ,48      ,  1,15         ,15         ,2,20180406,2216, -70.0005,-150.0009,     4347,   1316.3,0.8908583333333331966,34.715123775440645,2,  34.7145,2,199.45022754115109,2, 197.9997,2,    199.1,2,    119.4,2,    32.74,2,     0.00,2,     2.25,2,    0.109,2,    0.064,2,  -0.0700,2,   2263.0,2,  2362.48,2,   7.5938,6,    24.95,     -999,9,     -999,9,   0.8903,2,     -999,9,     -999,9,     -999,     -999,9,     -999,9,     -999,9,     -999,9,    0.061,1,    4.667,1,    0.129,1,  20.8300,2,     -999,9,20180406,2327, -70.0007,-149.9999,     -999,9,     -999,9,-999          ,9,     -999,9,     -999,9,     -999,     -999,9,     -999,     -999,9,     -999,9,     -999,9,     -999,9,     -999,9,     -999,9,     -999,9,     -999,9,     -999,9,     -999,9,     -999,9,     -999,9,     -999,9,     -999,9
320620180309  ,P16        ,48      ,  1,14         ,14         ,2,20180406,2216, -70.0005,-150.0009,     4347,   1418.1,0.8397055555555557049,34.712915882647422,2,  34.7135,2,200.27577003644598,2, 199.5005,2,    200.3,2,    121.1,2,    32.69,2,     0.00,2,     2.25,2,    0.109,2,    0.065,2,   0.1000,2,   2263.9,2,  2363.33,2,   7.5918,2,    24.93,     42.5,2,     -999,9,   0.8400,2,     -999,9,     -999,9,     -999,     -999,9,     -999,9,     -999,1,     -999,9,    0.061,1,    4.668,1,    0.127,1,  20.6200,2,     -999,9,20180406,2324, -70.0007,-149.9997,     -999,9,     -999,9,-999          ,9,     -999,9,     -999,9,     -999,     -999,9,     -999,     -999,9,     -999,9,     -999,9,     -999,9,     -999,9,     -999,9,     -999,9,     -999,9,     -999,9,     -999,9,     -999,9,     -999,9,     -999,9,     -999,9
320620180309  ,P16        ,48      ,  1,13         ,13         ,2,20180406,2216, -70.0005,-150.0009,     4347,   1520.0,0.7983194444444445814,34.711107300678762,2,  34.7121,2,201.66651844140210,2, 200.5998,2,    201.6,2,    122.8,2,    32.69,2,     0.00,2,     2.24,2,     -999,9,     -999,9,     -999,9,   2262.2,2,  2364.60,2,   7.5940,2,    24.94,     -999,9,     -999,9,   0.7974,2,     -999,9,     -999,9,     -999,     -999,9,     -999,9,     -999,9,     -999,9,    0.061,1,    4.667,1,    0.128,1,     -999,9,     -999,9,20180406,2321, -70.0007,-149.9996,     -999,9,     -999,9,-999          ,9,     -999,9,     -999,9,     -999,     -999,9,     -999,     -999,9,     -999,9,     -999,9,     -999,9,     -999,9,     -999,9,     -999,9,     -999,9,     -999,9,     -999,9,     -999,9,     -999,9,     -999,9,     -999,9
320620180309  ,P16        ,48      ,  1,12         ,12         ,2,20180406,2216, -70.0005,-150.0009,     4347,   1621.5,0.7523944444444445878,34.709374070506172,2,  34.7096,2,202.00503822290545,2, 202.0012,2,    202.5,2,    124.4,2,    32.74,2,     0.00,2,     2.26,2,    0.122,2,    0.067,2,   0.0700,2,   2263.5,2,  2363.95,2,   7.5924,2,    24.95,     40.7,2,     -999,9,   0.7518,2,     -999,9,     -999,9,     -999,     -999,9,     -999,9,     -999,1,     -999,9,    0.061,1,    4.668,1,    0.127,1,  20.6200,2,     -999,9,20180406,2318, -70.0007,-149.9997,     -999,9,     -999,9,-999          ,9,     -999,9,     -999,9,     -999,     -999,9,     -999,     -999,9,     -999,9,     -999,9,     -999,9,     -999,9,     -999,9,     -999,9,     -999,9,     -999,9,     -999,9,     -999,9,     -999,9,     -999,9,     -999,9
320620180309  ,P16        ,48      ,  1,11         ,11         ,2,20180406,2216, -70.0005,-150.0009,     4347,   1826.1,0.6778916666666667812,34.706445785539586,2,  34.7074,2,203.65303110698554,2, 203.8956,2,    204.1,2,    126.6,2,    32.77,2,     0.00,2,     2.26,2,    0.131,2,    0.078,2,  -0.0300,2,   2264.3,2,  2363.36,2,   7.5939,2,    24.93,     42.0,2,     -999,9,   0.6772,2,     -999,9,     -999,9,     -999,     -999,9,     -999,9,     -999,1,     -999,9,    0.060,1,    4.668,1,    0.126,1,  20.5000,2,     -999,9,20180406,2314, -70.0006,-150.0002,     -999,9,     -999,9,-999          ,9,     -999,9,     -999,9,     -999,     -999,9,     -999,     -999,9,     -999,9,     -999,9,     -999,9,     -999,9,     -999,9,     -999,9,     -999,9,     -999,9,     -999,9,     -999,9,     -999,9,     -999,9,     -999,9
320620180309  ,P16        ,48      ,  1,10         ,10         ,2,20180406,2216, -70.0005,-150.0009,     4347,   2030.2,0.6038805555555554205,34.704351331694284,2,  34.7047,2,204.98516498462752,2, 206.0005,2,    206.4,2,    128.2,2,    32.82,2,     0.00,2,     2.24,2,     -999,9,     -999,9,     -999,9,   2263.5,6,  2362.65,2,   7.5932,2,    24.93,     43.5,2,     -999,9,   0.6031,2,     -999,9,     -999,9,     -999,     -999,9,     -999,9,     -999,1,     -999,9,    0.061,1,    4.668,1,    0.125,1,     -999,9,     -999,9,20180406,2309, -70.0006,-150.0005,     -999,9,     -999,9,-999          ,9,     -999,9,     -999,9,     -999,     -999,9,     -999,     -999,9,     -999,9,     -999,9,     -999,9,     -999,9,     -999,9,     -999,9,     -999,9,     -999,9,     -999,9,     -999,9,     -999,9,     -999,9,     -999,9
320620180309  ,P16        ,48      ,  1,9          ,9          ,2,20180406,2216, -70.0005,-150.0009,     4347,   2284.3,0.5199805555555554459,34.702853798405229,2,  34.7033,2,207.41874787012119,2, 208.4021,2,    207.6,2,    129.4,2,    32.87,2,     0.00,2,     2.24,2,    0.147,2,    0.078,2,   0.0600,2,   2264.3,2,  2362.58,2,   7.5929,2,    24.92,     42.4,2,     -999,9,   0.5198,2,     -999,9,     -999,9,     -999,     -999,9,     -999,9,     -999,1,     -999,9,    0.061,1,    4.668,1,    0.126,1,  20.5000,2,     -999,9,20180406,2303, -70.0006,-150.0002,     -999,9,     -999,9,-999          ,9,     -999,9,     -999,9,     -999,     -999,9,     -999,     -999,9,     -999,9,     -999,9,     -999,9,     -999,9,     -999,9,     -999,9,     -999,9,     -999,9,     -999,9,     -999,9,     -999,9,     -999,9,     -999,9
320620180309  ,P16        ,48      ,  1,8          ,8          ,2,20180406,2216, -70.0005,-150.0009,     4347,   2540.1,0.4331027777777776699,34.701573755214284,2,  34.7019,2,209.47849729047266,2, 210.6040,2,    209.9,2,    131.4,2,    32.91,2,     0.00,2,     2.25,2,    0.153,2,    0.085,2,  -0.0200,2,   2264.9,2,  2362.36,2,   7.5926,2,    24.92,     39.6,2,     -999,9,   0.4325,2,     -999,9,     -999,9,     -999,     -999,9,     -999,9,     -999,1,     -999,9,    0.060,1,    4.668,1,    0.124,1,  19.8600,2,     -999,9,20180406,2257, -70.0007,-149.9998,     -999,9,     -999,9,-999          ,9,     -999,9,     -999,9,     -999,     -999,9,     -999,     -999,9,     -999,9,     -999,9,     -999,9,     -999,9,     -999,9,     -999,9,     -999,9,     -999,9,     -999,9,     -999,9,     -999,9,     -999,9,     -999,9
320620180309  ,P16        ,48      ,  1,7          ,7          ,2,20180406,2216, -70.0005,-150.0009,     4347,   2794.7,0.3696388888888888502,34.700820548458971,2,  34.7009,2,211.30812781679953,2, 212.7002,2,    212.1,2,    133.4,2,    32.91,2,     0.00,2,     2.25,2,     -999,9,     -999,9,     -999,9,   2264.2,2,  2363.48,2,   7.5943,2,    24.94,     44.1,2,     -999,9,   0.3690,2,     -999,9,     -999,9,     -999,     -999,9,     -999,9,     -999,1,     -999,9,    0.061,1,    4.668,1,    0.123,1,     -999,9,     -999,9,20180406,2252, -70.0007,-149.9998,     -999,9,     -999,9,-999          ,9,     -999,9,     -999,9,     -999,     -999,9,     -999,     -999,9,     -999,9,     -999,9,     -999,9,     -999,9,     -999,9,     -999,9,     -999,9,     -999,9,     -999,9,     -999,9,     -999,9,     -999,9,     -999,9
320620180309  ,P16        ,48      ,  1,6          ,6          ,2,20180406,2216, -70.0005,-150.0009,     4347,   3050.6,0.3191888888888889109,34.699798008800528,2,  34.7000,2,213.62127354409068,2, 214.1007,2,    213.5,2,    134.4,2,    32.97,2,     0.00,2,     2.25,2,    0.244,2,    0.129,2,   0.2000,2,   2263.4,2,  2363.77,2,   7.5941,2,    24.94,     43.3,2,     -999,9,   0.3186,2,     -999,9,     -999,9,     -999,     -999,9,     -999,9,     -999,1,     -999,9,    0.061,1,    4.668,1,    0.124,1,  20.7200,2,     -999,9,20180406,2246, -70.0006,-150.0002,     -999,9,     -999,9,-999          ,9,     -999,9,     -999,9,     -999,     -999,9,     -999,     -999,9,     -999,9,     -999,9,     -999,9,     -999,9,     -999,9,     -999,9,     -999,9,     -999,9,     -999,9,     -999,9,     -999,9,     -999,9,     -999,9
320620180309  ,P16        ,48      ,  1,5          ,5          ,2,20180406,2216, -70.0005,-150.0009,     4347,   3360.0,0.2572611111111110516,34.696673728431250,2,  34.6947,2,216.25268483913666,2, 216.2000,2,    216.7,2,    132.6,2,    32.92,2,     0.00,2,     2.24,2,    0.469,2,    0.254,2,   0.0100,2,   2262.8,2,  2363.02,2,   7.5933,2,    24.94,     39.7,2,     -999,9,   0.2566,2,     -999,9,     -999,9,     -999,     -999,9,     -999,9,     -999,1,     -999,9,    0.060,1,    4.667,1,    0.124,1,  19.8400,2,     -999,9,20180406,2240, -70.0006,-150.0007,     -999,9,     -999,9,-999          ,9,     -999,9,     -999,9,     -999,     -999,9,     -999,     -999,9,     -999,9,     -999,9,     -999,9,     -999,9,     -999,9,     -999,9,     -999,9,     -999,9,     -999,9,     -999,9,     -999,9,     -999,9,     -999,9
320620180309  ,P16        ,48      ,  1,4          ,4          ,2,20180406,2216, -70.0005,-150.0009,     4347,   3668.5,0.2203916666666666524,34.693444701910416,2,  34.6937,2,218.79401208011248,2, 217.8953,2,    218.7,2,    128.7,2,    32.91,2,     0.00,2,     2.24,2,    0.704,2,    0.362,2,   0.0300,2,   2262.5,2,  2361.21,2,   7.5916,2,    24.93,     42.3,2,     -999,9,   0.2197,2,     -999,9,     -999,9,     -999,     -999,9,     -999,9,     -999,1,     -999,9,    0.061,1,    4.666,1,    0.126,1,  20.1500,2,     -999,9,20180406,2233, -70.0005,-150.0015,     -999,9,     -999,9,-999          ,9,     -999,9,     -999,9,     -999,     -999,9,     -999,     -999,9,     -999,9,     -999,9,     -999,9,     -999,9,     -999,9,     -999,9,     -999,9,     -999,9,     -999,9,     -999,9,     -999,9,     -999,9,     -999,9
320620180309  ,P16        ,48      ,  1,3          ,3          ,2,20180406,2216, -70.0005,-150.0009,     4347,   3975.2,0.2311777777777777876,34.694533501002056,2,  34.6939,2,219.10378048763243,2, 218.6994,2,    219.1,2,    128.5,2,    32.89,2,     0.00,2,     2.25,2,    0.707,2,    0.363,2,   0.1700,2,   2262.2,2,  2360.75,2,   7.5927,2,    24.94,     43.8,2,     -999,9,   0.2306,2,     -999,9,     -999,9,     -999,     -999,9,     -999,9,     -999,1,     -999,9,    0.060,1,    4.666,1,    0.125,1,  20.4000,2,     -999,9,20180406,2227, -70.0004,-150.0018,     -999,9,     -999,9,-999          ,9,     -999,9,     -999,9,     -999,     -999,9,     -999,     -999,9,     -999,9,     -999,9,     -999,9,     -999,9,     -999,9,     -999,9,     -999,9,     -999,9,     -999,9,     -999,9,     -999,9,     -999,9,     -999,9
320620180309  ,P16        ,48      ,  1,2          ,2          ,2,20180406,2216, -70.0005,-150.0009,     4347,   4201.6,0.2441111111111111120,34.694980014012948,2,  34.6943,2,219.23650349447385,2, 218.9055,2,    218.9,2,    129.3,2,    32.91,2,     0.00,2,     2.25,2,    0.711,2,    0.363,2,   0.0300,2,   2261.6,2,  2361.11,2,   7.5910,2,    24.95,     -999,9,     -999,9,   0.2436,2,     -999,9,     -999,9,     -999,     -999,9,     -999,9,     -999,9,     -999,9,    0.061,1,    4.665,1,    0.126,1,  20.3100,2,     -999,9,20180406,2222, -70.0005,-150.0012,     -999,9,     -999,9,-999          ,9,     -999,9,     -999,9,     -999,     -999,9,     -999,     -999,9,     -999,9,     -999,9,     -999,9,     -999,9,     -999,9,     -999,9,     -999,9,     -999,9,     -999,9,     -999,9,     -999,9,     -999,9,     -999,9
320620180309  ,P16        ,48      ,  1,1          ,1          ,2,20180406,2216, -70.0005,-150.0009,     4347,   4427.8,0.2657916666666666483,34.695266401743702,2,  34.6966,2,220.22324946329928,2, 218.9018,2,    218.4,2,    130.6,2,    32.90,2,     0.00,2,     2.26,2,    0.713,2,    0.363,2,   0.1900,2,   2263.8,6,  2360.87,2,   7.5903,2,    24.95,     43.9,2,     -999,9,   0.2652,2,     -999,9,     -999,9,     -999,     -999,9,     -999,9,     -999,1,     -999,9,    0.061,1,    4.659,1,    0.138,1,  21.4200,4,     -999,9,20180406,2216, -70.0005,-150.0009,     -999,9,     -999,9,-999          ,9,     -999,9,     -999,9,     -999,     -999,9,     -999,     -999,9,     -999,9,     -999,9,     -999,9,     -999,9,     -999,9,     -999,9,     -999,9,     -999,9,     -999,9,     -999,9,     -999,9,     -999,9,     -999,9