BOTTLE,20240515CCHHYDRO
EXPOCODE,SECT_ID,STNNBR,CASTNO,SAMPNO,BTLNBR,BTLNBR_FLAG_W,DATE,TIME,LATITUDE,LONGITUDE,DEPTH,CTDPRS,CTDTMP,CTDSAL,CTDSAL_FLAG_W,SALNTY,SALNTY_FLAG_W,CTDOXY,CTDOXY_FLAG_W,CTDOPTOXY,CTDOPTOXY_FLAG_W,OXYGEN,OXYGEN_FLAG_W,SILCAT,SILCAT_FLAG_W,NITRAT,NITRAT_FLAG_W,NITRIT,NITRIT_FLAG_W,PHSPHT,PHSPHT_FLAG_W,CFC-11,CFC-11_FLAG_W,CFC-12,CFC-12_FLAG_W,SF6,SF6_FLAG_W,TCARBN,TCARBN_FLAG_W,ALKALI,ALKALI_FLAG_W,PH_TOT,PH_TOT_FLAG_W,PH_TMP,DOC,DOC_FLAG_W,HELIUM,HELIUM_FLAG_W,REFTMP,REFTMP_FLAG_W,DELC13,DELC13_FLAG_W,DELC14,DELC14_FLAG_W,C14ERR,POC,POC_FLAG_W,TDN,TDN_FLAG_W,TON,TON_FLAG_W,NEON,NEON_FLAG_W,CTDFLUOR,CTDFLUOR_FLAG_W,CTDXMISS,CTDXMISS_FLAG_W,CTDBETA700,CTDBETA700_FLAG_W,N2O,N2O_FLAG_W,ARGON,ARGON_FLAG_W,BTL_DATE,BTL_TIME,BTL_LAT,BTL_LON,KRYPTON,KRYPTON_FLAG_W,XENON,XENON_FLAG_W,HPLC,HPLC_FLAG_W,HE3_HE4_RATIO,HE3_HE4_RATIO_FLAG_W,Nd_143_144_D_EPSILON_BOTTLE,Nd_143_144_D_EPSILON_BOTTLE_FLAG_W,Nd_143_144_D_EPSILON_BOTTLE_ERROR,Nd_143_144_D_RATIO_BOTTLE,Nd_143_144_D_RATIO_BOTTLE_FLAG_W,Nd_143_144_D_RATIO_BOTTLE_ERROR,Nd_D_CONC,Nd_D_CONC_FLAG_W,La_D_CONC_BOTTLE,La_D_CONC_BOTTLE_FLAG_W,Ce_D_CONC_BOTTLE,Ce_D_CONC_BOTTLE_FLAG_W,Pr_D_CONC_BOTTLE,Pr_D_CONC_BOTTLE_FLAG_W,Sm_D_CONC_BOTTLE,Sm_D_CONC_BOTTLE_FLAG_W,Eu_D_CONC_BOTTLE,Eu_D_CONC_BOTTLE_FLAG_W,Gd_D_CONC_BOTTLE,Gd_D_CONC_BOTTLE_FLAG_W,Tb_D_CONC_BOTTLE,Tb_D_CONC_BOTTLE_FLAG_W,Dy_D_CONC_BOTTLE,Dy_D_CONC_BOTTLE_FLAG_W,Ho_D_CONC_BOTTLE,Ho_D_CONC_BOTTLE_FLAG_W,Er_D_CONC_BOTTLE,Er_D_CONC_BOTTLE_FLAG_W,Tm_D_CONC_BOTTLE,Tm_D_CONC_BOTTLE_FLAG_W,Yb_D_CONC_BOTTLE,Yb_D_CONC_BOTTLE_FLAG_W,Lu_D_CONC_BOTTLE,Lu_D_CONC_BOTTLE_FLAG_W
,,,,,,,,,,,METERS,DBAR,ITS-90,PSS-78,,PSS-78,,UMOL/KG,,UMOL/KG,,UMOL/KG,,UMOL/KG,,UMOL/KG,,UMOL/KG,,UMOL/KG,,PMOL/KG,,PMOL/KG,,FMOL/KG,,UMOL/KG,,UMOL/KG,,,,DEG C,UMOL/KG,,NMOL/L,,DEG C,,/MILLE,,/MILLE,,/MILLE,UG/KG,,UMOL/KG,,UMOL/KG,,NMOL/L,,VOLTS,,VOLTS,,VOLTS,,NMOL/KG,,UMOL/L,,,,,,NMOL/L,,NMOL/L,,,,,,10000,,10000,,,,PMOL/KG,,PMOL/L,,PMOL/L,,PMOL/L,,PMOL/L,,PMOL/L,,PMOL/L,,PMOL/L,,PMOL/L,,PMOL/L,,PMOL/L,,PMOL/L,,PMOL/L,,PMOL/L,
320620180309  ,S04P       ,86      ,  1,15         ,15         ,2,20180423,0939, -67.0012,-122.7120,     4420,   1351.9,1.2822027777777780244,34.727338547705834,2,  34.7268,2,197.00802384754405,2, 196.4006,2,    197.2,2,    107.3,2,    31.87,2,     0.00,2,     2.15,2,    0.161,2,    0.082,2,   0.0700,2,   2259.2,2,  2360.87,2,   7.5993,2,    24.89,     -999,9,     -999,9,   1.2822,2,     -999,9,     -999,9,     -999,     -999,9,     -999,9,     -999,9,     -999,9,    0.062,1,    4.658,1,    0.130,1,  19.8600,2,     -999,9,20180423,1052, -67.0010,-122.7134,     -999,9,     -999,9,-999          ,9,     -999,9,     -999,9,     -999,     -999,9,     -999,     -999,9,     -999,9,     -999,9,     -999,9,     -999,9,     -999,9,     -999,9,     -999,9,     -999,9,     -999,9,     -999,9,     -999,9,     -999,9,     -999,9
320620180309  ,S04P       ,86      ,  1,14         ,14         ,2,20180423,0939, -67.0012,-122.7120,     4420,   1454.1,1.2183027777777777345,34.725184833247212,2,  34.7247,2,198.24999641535464,2, 197.3966,2,    197.7,2,    109.3,2,    31.94,2,     0.00,2,     2.16,2,     -999,9,     -999,9,     -999,9,   2260.6,2,  2361.60,2,   7.5985,2,    24.88,     40.1,2,     -999,9,   1.2183,2,     -999,9,     -999,9,     -999,     -999,9,     -999,9,     -999,1,     -999,9,    0.061,1,    4.657,1,    0.128,1,     -999,9,     -999,9,20180423,1049, -67.0010,-122.7138,     -999,9,     -999,9,-999          ,9,     -999,9,     -999,9,     -999,     -999,9,     -999,     -999,9,     -999,9,     -999,9,     -999,9,     -999,9,     -999,9,     -999,9,     -999,9,     -999,9,     -999,9,     -999,9,     -999,9,     -999,9,     -999,9
320620180309  ,S04P       ,86      ,  1,13         ,13         ,2,20180423,0939, -67.0012,-122.7120,     4420,   1554.9,1.1644500000000002071,34.723241963173784,2,  34.7227,2,198.47625280218668,2, 198.4992,2,    198.1,2,    111.7,2,    32.03,2,     0.00,2,     2.17,2,    0.135,6,    0.067,6,   0.0000,6,   2264.1,2,     -999,5,   7.5981,2,    24.89,     -999,9,     -999,9,   1.1640,2,     -999,9,     -999,9,     -999,     -999,9,     -999,9,     -999,9,     -999,9,    0.061,1,    4.658,1,    0.129,1,  19.1700,6,     -999,9,20180423,1046, -67.0009,-122.7142,     -999,9,     -999,9,-999          ,9,     -999,9,     -999,9,     -999,     -999,9,     -999,     -999,9,     -999,9,     -999,9,     -999,9,     -999,9,     -999,9,     -999,9,     -999,9,     -999,9,     -999,9,     -999,9,     -999,9,     -999,9,     -999,9
320620180309  ,S04P       ,86      ,  1,12         ,12         ,2,20180423,0939, -67.0012,-122.7120,     4420,   1688.0,1.0770916666666665584,34.720185001124278,2,  34.7184,2,199.73493219127815,2, 199.9042,2,    199.8,2,    114.5,2,    32.05,2,     0.00,2,     2.17,2,    0.131,2,    0.085,2,   0.0900,2,   2263.0,2,  2362.75,2,   7.5985,2,    24.88,     41.4,2,     -999,9,   1.0765,2,     -999,9,     -999,9,     -999,     -999,9,     -999,9,     -999,1,     -999,9,    0.061,1,    4.657,1,    0.126,1,  19.9900,2,     -999,9,20180423,1042, -67.0009,-122.7143,     -999,9,     -999,9,-999          ,9,     -999,9,     -999,9,     -999,     -999,9,     -999,     -999,9,     -999,9,     -999,9,     -999,9,     -999,9,     -999,9,     -999,9,     -999,9,     -999,9,     -999,9,     -999,9,     -999,9,     -999,9,     -999,9
320620180309  ,S04P       ,86      ,  1,11         ,11         ,2,20180423,0939, -67.0012,-122.7120,     4420,   1892.7,0.9798222222222222610,34.716356605145421,2,  34.7159,2,202.08725640996670,2, 202.2000,2,    202.2,2,    117.9,2,    32.16,2,     0.00,2,     2.17,2,     -999,9,     -999,9,     -999,9,   2265.3,2,  2363.60,2,   7.5992,2,    24.89,     41.3,2,     -999,9,   0.9795,2,     -999,9,     -999,9,     -999,     -999,9,     -999,9,     -999,1,     -999,9,    0.061,1,    4.658,1,    0.127,1,     -999,9,     -999,9,20180423,1038, -67.0009,-122.7143,     -999,9,     -999,9,-999          ,9,     -999,9,     -999,9,     -999,     -999,9,     -999,     -999,9,     -999,9,     -999,9,     -999,9,     -999,9,     -999,9,     -999,9,     -999,9,     -999,9,     -999,9,     -999,9,     -999,9,     -999,9,     -999,9
320620180309  ,S04P       ,86      ,  1,10         ,10         ,2,20180423,0939, -67.0012,-122.7120,     4420,   2116.6,0.8728138888888890001,34.712163110704743,2,  34.7098,2,203.69499019348285,2, 204.3017,2,    203.9,2,    121.4,2,    32.24,2,     0.00,2,     2.19,2,    0.143,2,    0.092,2,   0.0000,2,   2265.0,6,  2363.85,2,   7.5996,2,    24.88,     43.3,2,     -999,9,   0.8721,2,     -999,9,     -999,9,     -999,     -999,9,     -999,9,     -999,1,     -999,9,    0.061,1,    4.660,1,    0.127,1,  18.6700,2,     -999,9,20180423,1032, -67.0009,-122.7141,     -999,9,     -999,9,-999          ,9,     -999,9,     -999,9,     -999,     -999,9,     -999,     -999,9,     -999,9,     -999,9,     -999,9,     -999,9,     -999,9,     -999,9,     -999,9,     -999,9,     -999,9,     -999,9,     -999,9,     -999,9,     -999,9
320620180309  ,S04P       ,86      ,  1,9          ,9          ,2,20180423,0939, -67.0012,-122.7120,     4420,   2371.8,0.7799416666666666442,34.708381687933525,2,  34.7078,2,206.35014702021462,2, 206.1982,2,    207.0,2,    125.4,2,    32.36,2,     0.00,2,     2.21,2,    0.168,2,    0.095,2,   0.0000,2,   2265.6,2,  2364.85,2,   7.5994,6,    24.87,     42.5,2,     -999,9,   0.7790,2,     -999,9,     -999,9,     -999,     -999,9,     -999,9,     -999,1,     -999,9,    0.061,1,    4.659,1,    0.127,1,  19.1100,2,     -999,9,20180423,1027, -67.0008,-122.7147,     -999,9,     -999,9,-999          ,9,     -999,9,     -999,9,     -999,     -999,9,     -999,     -999,9,     -999,9,     -999,9,     -999,9,     -999,9,     -999,9,     -999,9,     -999,9,     -999,9,     -999,9,     -999,9,     -999,9,     -999,9,     -999,9
320620180309  ,S04P       ,86      ,  1,8          ,8          ,2,20180423,0939, -67.0012,-122.7120,     4420,   2628.3,0.6906999999999998696,34.706022113302787,2,  34.7047,2,207.26547199006177,2, 208.0966,2,    208.5,2,    128.0,2,    32.46,2,     0.00,2,     2.21,2,     -999,9,     -999,9,     -999,9,   2265.0,2,  2363.93,2,   7.5977,2,    24.86,     40.8,2,     -999,9,   0.6912,2,     -999,9,     -999,9,     -999,     -999,9,     -999,9,     -999,1,     -999,9,    0.061,1,    4.659,1,    0.127,1,     -999,9,     -999,9,20180423,1021, -67.0008,-122.7146,     -999,9,     -999,9,-999          ,9,     -999,9,     -999,9,     -999,     -999,9,     -999,     -999,9,     -999,9,     -999,9,     -999,9,     -999,9,     -999,9,     -999,9,     -999,9,     -999,9,     -999,9,     -999,9,     -999,9,     -999,9,     -999,9
320620180309  ,S04P       ,86      ,  1,7          ,7          ,2,20180423,0939, -67.0012,-122.7120,     4420,   2882.6,0.6014444444444445592,34.703991443723034,2,  34.7031,2,208.94276546342024,2, 209.8999,2,    209.4,2,    130.4,2,    32.55,2,     0.00,2,     2.23,2,    0.000,4,    0.000,4,   0.0400,4,   2266.1,2,  2364.22,2,   7.5969,2,    24.87,     41.7,2,     -999,9,   0.6009,2,     -999,9,     -999,9,     -999,     -999,9,     -999,9,     -999,1,     -999,9,    0.061,1,    4.659,1,    0.125,1,   0.0000,4,     -999,9,20180423,1015, -67.0008,-122.7149,     -999,9,     -999,9,-999          ,9,     -999,9,     -999,9,     -999,     -999,9,     -999,     -999,9,     -999,9,     -999,9,     -999,9,     -999,9,     -999,9,     -999,9,     -999,9,     -999,9,     -999,9,     -999,9,     -999,9,     -999,9,     -999,9
320620180309  ,S04P       ,86      ,  1,6          ,6          ,2,20180423,0939, -67.0012,-122.7120,     4420,   3153.7,0.5211500000000000021,34.702127599997013,2,  34.7011,2,210.45505687782534,2, 211.5971,2,    211.7,2,    132.4,2,    32.61,2,     0.00,2,     2.24,2,    0.235,2,    0.122,2,   0.0800,2,   2265.3,2,  2365.29,2,   7.5965,2,    24.89,     40.4,2,     -999,9,   0.5214,2,     -999,9,     -999,9,     -999,     -999,9,     -999,9,     -999,1,     -999,9,    0.061,1,    4.659,1,    0.125,1,  19.5300,2,     -999,9,20180423,1009, -67.0007,-122.7150,     -999,9,     -999,9,-999          ,9,     -999,9,     -999,9,     -999,     -999,9,     -999,     -999,9,     -999,9,     -999,9,     -999,9,     -999,9,     -999,9,     -999,9,     -999,9,     -999,9,     -999,9,     -999,9,     -999,9,     -999,9,     -999,9
320620180309  ,S04P       ,86      ,  1,5          ,5          ,2,20180423,0939, -67.0012,-122.7120,     4420,   3461.4,0.4690277777777778212,34.701632276109656,2,  34.6992,2,211.85371570190617,2, 212.7992,2,    212.4,2,    136.0,2,    32.74,2,     0.00,2,     2.23,2,    0.225,2,    0.126,2,   0.0000,2,   2265.7,2,  2366.13,2,   7.5970,2,    24.87,     42.2,2,     -999,9,   0.4687,2,     -999,9,     -999,9,     -999,     -999,9,     -999,9,     -999,1,     -999,9,    0.061,1,    4.658,1,    0.126,1,  18.8000,2,     -999,9,20180423,1003, -67.0008,-122.7144,     -999,9,     -999,9,-999          ,9,     -999,9,     -999,9,     -999,     -999,9,     -999,     -999,9,     -999,9,     -999,9,     -999,9,     -999,9,     -999,9,     -999,9,     -999,9,     -999,9,     -999,9,     -999,9,     -999,9,     -999,9,     -999,9
320620180309  ,S04P       ,86      ,  1,4          ,4          ,2,20180423,0939, -67.0012,-122.7120,     4420,   3768.8,0.4296777777777778251,34.700703881607247,2,  34.6986,2,213.53869358456276,2, 213.7011,2,    213.8,2,    138.0,2,    32.78,2,     0.00,2,     2.24,2,    0.269,2,    0.145,2,   0.0000,2,   2264.7,2,  2366.75,2,   7.5962,2,    24.86,     40.7,2,     -999,9,   0.4289,2,     -999,9,     -999,9,     -999,     -999,9,     -999,9,     -999,1,     -999,9,    0.061,1,    4.657,1,    0.126,1,  18.8300,2,     -999,9,20180423,0956, -67.0010,-122.7136,     -999,9,     -999,9,-999          ,9,     -999,9,     -999,9,     -999,     -999,9,     -999,     -999,9,     -999,9,     -999,9,     -999,9,     -999,9,     -999,9,     -999,9,     -999,9,     -999,9,     -999,9,     -999,9,     -999,9,     -999,9,     -999,9
320620180309  ,S04P       ,86      ,  1,3          ,3          ,2,20180423,0939, -67.0012,-122.7120,     4420,   4026.6,0.4025305555555556136,34.700082167342885,2,  34.6990,2,214.24553799253090,2, 214.5031,2,    214.8,2,    140.7,2,    32.85,2,     0.00,2,     2.25,2,    0.317,2,    0.168,2,   0.0600,2,   2267.8,2,  2366.82,2,   7.5958,2,    24.87,     -999,9,     -999,9,   0.4018,2,     -999,9,     -999,9,     -999,     -999,9,     -999,9,     -999,9,     -999,9,    0.061,1,    4.656,1,    0.128,1,  19.3400,2,     -999,9,20180423,0950, -67.0011,-122.7130,     -999,9,     -999,9,-999          ,9,     -999,9,     -999,9,     -999,     -999,9,     -999,     -999,9,     -999,9,     -999,9,     -999,9,     -999,9,     -999,9,     -999,9,     -999,9,     -999,9,     -999,9,     -999,9,     -999,9,     -999,9,     -999,9
320620180309  ,S04P       ,86      ,  1,2          ,2          ,2,20180423,0939, -67.0012,-122.7120,     4420,   4259.3,0.3909027777777777657,34.699309001081723,2,  34.6984,2,215.04976487535328,2, 214.7992,2,    215.1,2,    142.2,2,    32.90,2,     0.00,2,     2.24,2,    0.371,2,    0.203,2,   0.1100,2,   2264.6,2,  2367.01,2,   7.5946,2,    24.87,     42.0,2,     -999,9,   0.3905,2,     -999,9,     -999,9,     -999,     -999,9,     -999,9,     -999,1,     -999,9,    0.060,1,    4.654,1,    0.130,1,  18.7900,2,     -999,9,20180423,0945, -67.0012,-122.7124,     -999,9,     -999,9,-999          ,9,     -999,9,     -999,9,     -999,     -999,9,     -999,     -999,9,     -999,9,     -999,9,     -999,9,     -999,9,     -999,9,     -999,9,     -999,9,     -999,9,     -999,9,     -999,9,     -999,9,     -999,9,     -999,9
320620180309  ,S04P       ,86      ,  1,1          ,1          ,2,20180423,0939, -67.0012,-122.7120,     4420,   4501.7,0.3806583333333332653,34.698132355470783,2,  34.6978,2,215.04943045943176,2, 215.1967,2,    215.1,2,    146.3,2,    33.02,2,     0.00,2,     2.25,2,    0.448,2,    0.234,2,   0.1300,2,   2267.2,6,  2367.55,2,   7.5933,2,    24.85,     40.0,2,     -999,9,   0.3801,2,     -999,9,     -999,9,     -999,     -999,9,     -999,9,     -999,1,     -999,9,    0.061,1,    4.643,1,    0.147,1,  18.7100,2,     -999,9,20180423,0939, -67.0012,-122.7120,     -999,9,     -999,9,-999          ,9,     -999,9,     -999,9,     -999,     -999,9,     -999,     -999,9,     -999,9,     -999,9,     -999,9,     -999,9,     -999,9,     -999,9,     -999,9,     -999,9,     -999,9,     -999,9,     -999,9,     -999,9,     -999,9