BOTTLE,20240515CCHHYDRO
EXPOCODE,SECT_ID,STNNBR,CASTNO,SAMPNO,BTLNBR,BTLNBR_FLAG_W,DATE,TIME,LATITUDE,LONGITUDE,DEPTH,CTDPRS,CTDTMP,CTDSAL,CTDSAL_FLAG_W,SALNTY,SALNTY_FLAG_W,CTDOXY,CTDOXY_FLAG_W,CTDOPTOXY,CTDOPTOXY_FLAG_W,OXYGEN,OXYGEN_FLAG_W,SILCAT,SILCAT_FLAG_W,NITRAT,NITRAT_FLAG_W,NITRIT,NITRIT_FLAG_W,PHSPHT,PHSPHT_FLAG_W,CFC-11,CFC-11_FLAG_W,CFC-12,CFC-12_FLAG_W,SF6,SF6_FLAG_W,TCARBN,TCARBN_FLAG_W,ALKALI,ALKALI_FLAG_W,PH_TOT,PH_TOT_FLAG_W,PH_TMP,DOC,DOC_FLAG_W,HELIUM,HELIUM_FLAG_W,REFTMP,REFTMP_FLAG_W,DELC13,DELC13_FLAG_W,DELC14,DELC14_FLAG_W,C14ERR,POC,POC_FLAG_W,TDN,TDN_FLAG_W,TON,TON_FLAG_W,NEON,NEON_FLAG_W,CTDFLUOR,CTDFLUOR_FLAG_W,CTDXMISS,CTDXMISS_FLAG_W,CTDBETA700,CTDBETA700_FLAG_W,N2O,N2O_FLAG_W,ARGON,ARGON_FLAG_W,BTL_DATE,BTL_TIME,BTL_LAT,BTL_LON,KRYPTON,KRYPTON_FLAG_W,XENON,XENON_FLAG_W,HPLC,HPLC_FLAG_W,HE3_HE4_RATIO,HE3_HE4_RATIO_FLAG_W,Nd_143_144_D_EPSILON_BOTTLE,Nd_143_144_D_EPSILON_BOTTLE_FLAG_W,Nd_143_144_D_EPSILON_BOTTLE_ERROR,Nd_143_144_D_RATIO_BOTTLE,Nd_143_144_D_RATIO_BOTTLE_FLAG_W,Nd_143_144_D_RATIO_BOTTLE_ERROR,Nd_D_CONC,Nd_D_CONC_FLAG_W,La_D_CONC_BOTTLE,La_D_CONC_BOTTLE_FLAG_W,Ce_D_CONC_BOTTLE,Ce_D_CONC_BOTTLE_FLAG_W,Pr_D_CONC_BOTTLE,Pr_D_CONC_BOTTLE_FLAG_W,Sm_D_CONC_BOTTLE,Sm_D_CONC_BOTTLE_FLAG_W,Eu_D_CONC_BOTTLE,Eu_D_CONC_BOTTLE_FLAG_W,Gd_D_CONC_BOTTLE,Gd_D_CONC_BOTTLE_FLAG_W,Tb_D_CONC_BOTTLE,Tb_D_CONC_BOTTLE_FLAG_W,Dy_D_CONC_BOTTLE,Dy_D_CONC_BOTTLE_FLAG_W,Ho_D_CONC_BOTTLE,Ho_D_CONC_BOTTLE_FLAG_W,Er_D_CONC_BOTTLE,Er_D_CONC_BOTTLE_FLAG_W,Tm_D_CONC_BOTTLE,Tm_D_CONC_BOTTLE_FLAG_W,Yb_D_CONC_BOTTLE,Yb_D_CONC_BOTTLE_FLAG_W,Lu_D_CONC_BOTTLE,Lu_D_CONC_BOTTLE_FLAG_W
,,,,,,,,,,,METERS,DBAR,ITS-90,PSS-78,,PSS-78,,UMOL/KG,,UMOL/KG,,UMOL/KG,,UMOL/KG,,UMOL/KG,,UMOL/KG,,UMOL/KG,,PMOL/KG,,PMOL/KG,,FMOL/KG,,UMOL/KG,,UMOL/KG,,,,DEG C,UMOL/KG,,NMOL/L,,DEG C,,/MILLE,,/MILLE,,/MILLE,UG/KG,,UMOL/KG,,UMOL/KG,,NMOL/L,,VOLTS,,VOLTS,,VOLTS,,NMOL/KG,,UMOL/L,,,,,,NMOL/L,,NMOL/L,,,,,,10000,,10000,,,,PMOL/KG,,PMOL/L,,PMOL/L,,PMOL/L,,PMOL/L,,PMOL/L,,PMOL/L,,PMOL/L,,PMOL/L,,PMOL/L,,PMOL/L,,PMOL/L,,PMOL/L,,PMOL/L,
320620180309  ,S04P       ,88      ,  1,36         ,36         ,2,20180424,1723, -67.0002,-119.4298,     4596,      4.9,-1.5281362958115609629,33.534713996959987,2,  33.5308,2,351.01917906038477,2, 353.7958,2,    351.5,2,     24.9,2,    24.81,2,     0.25,2,     1.72,2,    6.066,2,    3.329,2,   3.6400,2,   2152.5,6,  2266.79,2,   7.6675,2,    24.90,     -999,5,     -999,9,  -1.5191,2,     -999,9,     -999,9,     -999,     -999,9,     -999,5,     -999,1,     -999,9,    0.371,1,    4.510,1,    0.266,1,  16.4100,2,     -999,9,20180424,1938, -67.0001,-119.4278,     -999,9,     -999,9,-999          ,9,     -999,9,     -999,9,     -999,     -999,9,     -999,     -999,9,     -999,9,     -999,9,     -999,9,     -999,9,     -999,9,     -999,9,     -999,9,     -999,9,     -999,9,     -999,9,     -999,9,     -999,9,     -999,9
320620180309  ,S04P       ,88      ,  1,35         ,35         ,2,20180424,1723, -67.0002,-119.4298,     4596,     25.0,-1.5330683049463875722,33.536186304749179,2,  33.5310,2,352.24036709693229,2, 353.8032,2,    351.6,2,     25.0,2,    24.85,2,     0.25,2,     1.71,2,     -999,9,     -999,9,     -999,9,   2152.3,2,  2267.92,2,   7.6680,2,    24.90,     -999,5,     -999,9,  -1.5320,2,     -999,9,     -999,9,     -999,     -999,9,     -999,5,     -999,1,     -999,9,    0.384,1,    4.509,1,    0.303,1,     -999,9,     -999,9,20180424,1937, -67.0001,-119.4279,     -999,9,     -999,9,-999          ,9,     -999,9,     -999,9,     -999,     -999,9,     -999,     -999,9,     -999,9,     -999,9,     -999,9,     -999,9,     -999,9,     -999,9,     -999,9,     -999,9,     -999,9,     -999,9,     -999,9,     -999,9,     -999,9
320620180309  ,S04P       ,88      ,  1,34         ,34         ,2,20180424,1723, -67.0002,-119.4298,     4596,     49.9,-1.5447716213607232127,33.537944138853682,2,  33.5355,2,350.25639798602947,2, 353.8015,2,    351.6,2,     25.4,2,    24.91,2,     0.25,2,     1.79,2,    6.052,2,    3.328,2,   3.9900,2,   2152.1,2,  2268.61,2,   7.6662,2,    24.89,     43.4,2,     -999,9,  -1.5453,2,     -999,9,     -999,9,     -999,     -999,9,     -999,9,     -999,1,     -999,9,    0.376,1,    4.506,1,    0.320,1,  16.2500,2,     -999,9,20180424,1935, -67.0001,-119.4279,     -999,9,     -999,9,-999          ,9,     -999,9,     -999,9,     -999,     -999,9,     -999,     -999,9,     -999,9,     -999,9,     -999,9,     -999,9,     -999,9,     -999,9,     -999,9,     -999,9,     -999,9,     -999,9,     -999,9,     -999,9,     -999,9
320620180309  ,S04P       ,88      ,  1,33         ,33         ,2,20180424,1723, -67.0002,-119.4298,     4596,     75.1,-1.4576304457712916385,33.869107947478099,3,  33.8408,2,334.22019684906189,2, 330.7997,3,    334.9,2,     37.4,2,    27.91,2,     0.24,2,     1.97,2,     -999,9,     -999,9,     -999,9,   2179.6,2,  2287.89,2,   7.6383,2,    24.90,     46.3,2,     -999,9,  -1.4571,2,     -999,9,     -999,9,     -999,     -999,9,     -999,9,     -999,1,     -999,9,    0.348,1,    4.520,1,    0.306,1,     -999,9,     -999,9,20180424,1934, -67.0001,-119.4280,     -999,9,     -999,9,-999          ,9,     -999,9,     -999,9,     -999,     -999,9,     -999,     -999,9,     -999,9,     -999,9,     -999,9,     -999,9,     -999,9,     -999,9,     -999,9,     -999,9,     -999,9,     -999,9,     -999,9,     -999,9,     -999,9
320620180309  ,S04P       ,88      ,  1,32         ,32         ,2,20180424,1723, -67.0002,-119.4298,     4596,     99.3,-1.0928061732817848650,33.981383455257600,2,  33.9727,2,327.26284581664379,2, 326.6999,2,    328.9,2,     41.3,2,    29.62,2,     0.14,2,     2.04,2,    5.470,2,    3.017,2,   3.8200,2,   2190.7,2,  2291.58,2,   7.6264,2,    24.91,     45.2,2,     -999,9,  -1.0967,2,     -999,9,     -999,9,     -999,     -999,9,     -999,9,     -999,1,     -999,9,    0.092,1,    4.625,1,    0.167,1,  16.9700,2,     -999,9,20180424,1932, -67.0001,-119.4281,     -999,9,     -999,9,-999          ,9,     -999,9,     -999,9,     -999,     -999,9,     -999,     -999,9,     -999,9,     -999,9,     -999,9,     -999,9,     -999,9,     -999,9,     -999,9,     -999,9,     -999,9,     -999,9,     -999,9,     -999,9,     -999,9
320620180309  ,S04P       ,88      ,  1,31         ,31         ,2,20180424,1723, -67.0002,-119.4298,     4596,    150.3,0.5128872352164469683,34.246487975158516,2,  34.2409,2,265.18284094646191,3, 261.3036,2,    262.0,2,     56.4,2,    32.90,2,     0.01,2,     2.24,2,     -999,9,     -999,9,     -999,9,   2222.0,2,  2310.23,2,   7.5780,2,    24.91,     41.8,2,     -999,9,   0.5313,2,     -999,9,     -999,9,     -999,     -999,9,     -999,9,     -999,1,     -999,9,    0.072,1,    4.641,1,    0.161,1,     -999,9,     -999,9,20180424,1930, -67.0001,-119.4280,     -999,9,     -999,9,-999          ,9,     -999,9,     -999,9,     -999,     -999,9,     -999,     -999,9,     -999,9,     -999,9,     -999,9,     -999,9,     -999,9,     -999,9,     -999,9,     -999,9,     -999,9,     -999,9,     -999,9,     -999,9,     -999,9
320620180309  ,S04P       ,88      ,  1,30         ,30         ,2,20180424,1723, -67.0002,-119.4298,     4596,    202.0,1.6337695124483537779,34.470941120007502,2,  34.4673,2,201.92372069956926,2, 204.8046,3,    200.4,2,     71.0,2,    34.75,2,     0.00,2,     2.35,2,    1.865,6,    0.995,6,   0.8600,6,   2248.9,2,  2327.84,2,   7.5455,2,    24.90,     42.3,2,     -999,9,   1.6339,2,     -999,9,     -999,9,     -999,     -999,9,     -999,9,     -999,1,     -999,9,    0.068,1,    4.643,1,    0.152,1,  22.7700,6,     -999,9,20180424,1928, -67.0001,-119.4280,     -999,9,     -999,9,-999          ,9,     -999,9,     -999,9,     -999,     -999,9,     -999,     -999,9,     -999,9,     -999,9,     -999,9,     -999,9,     -999,9,     -999,9,     -999,9,     -999,9,     -999,9,     -999,9,     -999,9,     -999,9,     -999,9
320620180309  ,S04P       ,88      ,  1,29         ,29         ,2,20180424,1723, -67.0002,-119.4298,     4596,    254.2,1.7745906204027741548,34.526562756203418,2,  34.5218,2,190.95802120231832,2, 192.1045,2,    190.6,2,     74.4,2,    34.63,2,     0.00,2,     2.35,2,     -999,9,     -999,9,     -999,9,   2253.3,2,  2331.44,2,   7.5447,6,    24.90,     42.2,2,     -999,9,   1.7692,2,     -999,9,     -999,9,     -999,     -999,9,     -999,9,     -999,1,     -999,9,    0.068,1,    4.646,1,    0.165,1,     -999,9,     -999,9,20180424,1926, -67.0001,-119.4281,     -999,9,     -999,9,-999          ,9,     -999,9,     -999,9,     -999,     -999,9,     -999,     -999,9,     -999,9,     -999,9,     -999,9,     -999,9,     -999,9,     -999,9,     -999,9,     -999,9,     -999,9,     -999,9,     -999,9,     -999,9,     -999,9
320620180309  ,S04P       ,88      ,  1,28         ,28         ,2,20180424,1723, -67.0002,-119.4298,     4596,    303.1,1.8951415285735100369,34.567919097148412,2,  34.5681,2,184.38428068871826,2, 185.5967,2,    183.0,2,     76.9,2,    34.40,2,     0.00,2,     2.33,2,    1.085,2,    0.584,2,   0.3300,2,   2256.7,2,  2336.67,2,   7.5471,2,    24.90,     43.6,2,     -999,9,   1.8963,2,     -999,9,     -999,9,     -999,     -999,9,     -999,9,     -999,1,     -999,9,    0.065,1,    4.646,1,    0.147,1,  22.3700,2,     -999,9,20180424,1924, -67.0001,-119.4280,     -999,9,     -999,9,-999          ,9,     -999,9,     -999,9,     -999,     -999,9,     -999,     -999,9,     -999,9,     -999,9,     -999,9,     -999,9,     -999,9,     -999,9,     -999,9,     -999,9,     -999,9,     -999,9,     -999,9,     -999,9,     -999,9
320620180309  ,S04P       ,88      ,  1,27         ,27         ,2,20180424,1723, -67.0002,-119.4298,     4596,    353.2,1.9829591932733754422,34.608405693512530,2,  34.6066,2,179.42194983774797,2, 180.9960,2,    179.1,2,     79.0,2,    34.05,2,     0.00,2,     2.31,2,     -999,9,     -999,9,     -999,9,   2255.5,2,  2338.09,2,   7.5518,2,    24.88,     45.1,2,     -999,9,   1.9830,2,     -999,9,     -999,9,     -999,     -999,9,     -999,9,     -999,1,     -999,9,    0.063,1,    4.648,1,    0.145,1,     -999,9,     -999,9,20180424,1922, -67.0001,-119.4281,     -999,9,     -999,9,-999          ,9,     -999,9,     -999,9,     -999,     -999,9,     -999,     -999,9,     -999,9,     -999,9,     -999,9,     -999,9,     -999,9,     -999,9,     -999,9,     -999,9,     -999,9,     -999,9,     -999,9,     -999,9,     -999,9
320620180309  ,S04P       ,88      ,  1,26         ,38         ,2,20180424,1723, -67.0002,-119.4298,     4596,    406.1,2.0217578012919554808,34.636447827546505,2,  34.6331,2,177.11678094112244,2, 178.1949,2,    178.3,2,     80.6,2,    33.73,2,     0.00,2,     2.30,2,    0.642,2,    0.345,2,   0.2200,2,   2257.9,2,  2340.43,2,   7.5576,2,    24.89,     41.7,2,     -999,9,   2.0250,2,     -999,9,     -999,9,     -999,     -999,9,     -999,9,     -999,1,     -999,9,    0.063,1,    4.651,1,    0.143,1,  21.8400,2,     -999,9,20180424,1920, -67.0001,-119.4281,     -999,9,     -999,9,-999          ,9,     -999,9,     -999,9,     -999,     -999,9,     -999,     -999,9,     -999,9,     -999,9,     -999,9,     -999,9,     -999,9,     -999,9,     -999,9,     -999,9,     -999,9,     -999,9,     -999,9,     -999,9,     -999,9
320620180309  ,S04P       ,88      ,  1,25         ,25         ,2,20180424,1723, -67.0002,-119.4298,     4596,    453.9,2.0449025535848175394,34.658650948725956,2,  34.6556,2,176.74774090356757,2, 177.3024,2,    176.8,2,     82.0,2,    33.44,2,     0.00,2,     2.27,2,    0.507,2,    0.273,2,   0.4000,2,   2258.5,6,  2343.22,2,   7.5631,2,    24.89,     -999,9,     -999,9,   2.0450,2,     -999,9,     -999,9,     -999,     -999,9,     -999,9,     -999,9,     -999,9,    0.062,1,    4.653,1,    0.137,1,  21.9000,2,     -999,9,20180424,1918, -67.0001,-119.4281,     -999,9,     -999,9,-999          ,9,     -999,9,     -999,9,     -999,     -999,9,     -999,     -999,9,     -999,9,     -999,9,     -999,9,     -999,9,     -999,9,     -999,9,     -999,9,     -999,9,     -999,9,     -999,9,     -999,9,     -999,9,     -999,9
320620180309  ,S04P       ,88      ,  1,24         ,24         ,2,20180424,1723, -67.0002,-119.4298,     4596,    505.4,2.0394728291968666767,34.674113475662310,2,  34.6723,2,177.63110349652902,2, 177.8932,2,    177.7,2,     82.9,2,    33.11,2,     0.00,2,     2.25,2,    0.436,2,    0.230,2,   0.1000,2,   2256.7,2,  2345.18,2,   7.5672,2,    24.89,     41.4,2,     -999,9,   2.0395,2,     -999,9,     -999,9,     -999,     -999,9,     -999,9,     -999,1,     -999,9,    0.061,1,    4.652,1,    0.140,1,  21.6300,2,     -999,9,20180424,1916, -67.0001,-119.4282,     -999,9,     -999,9,-999          ,9,     -999,9,     -999,9,     -999,     -999,9,     -999,     -999,9,     -999,9,     -999,9,     -999,9,     -999,9,     -999,9,     -999,9,     -999,9,     -999,9,     -999,9,     -999,9,     -999,9,     -999,9,     -999,9
320620180309  ,S04P       ,88      ,  1,23         ,23         ,2,20180424,1723, -67.0002,-119.4298,     4596,    607.4,1.9940405495662012481,34.697617913516673,2,  34.6958,2,180.33140032044324,2, 180.0037,2,    180.1,2,     85.0,2,    32.66,2,     0.00,2,     2.22,2,     -999,9,     -999,9,     -999,9,   2256.8,2,  2352.73,3,   7.5759,2,    24.89,     40.8,2,     -999,9,   1.9940,2,     -999,9,     -999,9,     -999,     -999,9,     -999,9,     -999,1,     -999,9,    0.062,1,    4.654,1,    0.141,1,     -999,9,     -999,9,20180424,1913, -67.0001,-119.4283,     -999,9,     -999,9,-999          ,9,     -999,9,     -999,9,     -999,     -999,9,     -999,     -999,9,     -999,9,     -999,9,     -999,9,     -999,9,     -999,9,     -999,9,     -999,9,     -999,9,     -999,9,     -999,9,     -999,9,     -999,9,     -999,9
320620180309  ,S04P       ,88      ,  1,22         ,37         ,2,20180424,1723, -67.0002,-119.4298,     4596,    708.2,1.9262547417766022750,34.711435943848024,2,  34.7104,2,182.70885922479749,2, 182.4046,2,    182.2,2,     87.0,2,    32.35,2,     0.00,2,     2.19,2,    0.289,2,    0.152,2,   0.0600,2,   2258.6,2,  2349.08,2,   7.5806,2,    24.89,     39.3,2,     -999,9,   1.9262,2,     -999,9,     -999,9,     -999,     -999,9,     -999,9,     -999,1,     -999,9,    0.062,1,    4.654,1,    0.134,1,  20.8400,2,     -999,9,20180424,1910, -67.0001,-119.4285,     -999,9,     -999,9,-999          ,9,     -999,9,     -999,9,     -999,     -999,9,     -999,     -999,9,     -999,9,     -999,9,     -999,9,     -999,9,     -999,9,     -999,9,     -999,9,     -999,9,     -999,9,     -999,9,     -999,9,     -999,9,     -999,9
320620180309  ,S04P       ,88      ,  1,21         ,21         ,2,20180424,1723, -67.0002,-119.4298,     4596,    809.3,1.8368211908048248659,34.723067885254316,2,  34.7210,2,186.03518825034561,2, 185.5974,2,    186.1,2,     89.5,2,    31.96,2,     0.00,2,     2.18,2,    0.246,2,    0.127,2,   0.0000,2,   2254.8,2,  2351.47,2,   7.5877,2,    24.90,     45.4,2,     -999,9,   1.8360,2,     -999,9,     -999,9,     -999,     -999,9,     -999,9,     -999,1,     -999,9,    0.063,1,    4.654,1,    0.140,1,  20.3900,2,     -999,9,20180424,1907, -67.0001,-119.4285,     -999,9,     -999,9,-999          ,9,     -999,9,     -999,9,     -999,     -999,9,     -999,     -999,9,     -999,9,     -999,9,     -999,9,     -999,9,     -999,9,     -999,9,     -999,9,     -999,9,     -999,9,     -999,9,     -999,9,     -999,9,     -999,9
320620180309  ,S04P       ,88      ,  1,20         ,20         ,2,20180424,1723, -67.0002,-119.4298,     4596,    911.7,1.7539734097512629241,34.729042840634477,2,  34.7276,2,188.81103546338724,2, 188.5001,2,    188.6,2,     92.2,2,    31.80,2,     0.00,2,     2.15,2,     -999,9,     -999,9,     -999,9,   2255.7,2,  2353.49,2,   7.5917,2,    24.89,     38.1,3,     -999,9,   1.7546,2,     -999,9,     -999,9,     -999,     -999,9,     -999,9,     -999,1,     -999,9,    0.062,1,    4.656,1,    0.132,1,     -999,9,     -999,9,20180424,1904, -67.0001,-119.4285,     -999,9,     -999,9,-999          ,9,     -999,9,     -999,9,     -999,     -999,9,     -999,     -999,9,     -999,9,     -999,9,     -999,9,     -999,9,     -999,9,     -999,9,     -999,9,     -999,9,     -999,9,     -999,9,     -999,9,     -999,9,     -999,9
320620180309  ,S04P       ,88      ,  1,19         ,19         ,2,20180424,1723, -67.0002,-119.4298,     4596,   1013.4,1.6652860454416396063,34.731975610800099,2,  34.7308,2,190.22467144414136,2, 190.3007,2,    190.3,2,     94.3,2,    31.72,2,     0.00,2,     2.16,2,    0.200,2,    0.103,2,   0.1000,2,   2257.0,2,  2355.76,2,   7.5949,2,    24.91,     44.0,2,     -999,9,   1.6660,2,     -999,9,     -999,9,     -999,     -999,9,     -999,9,     -999,1,     -999,9,    0.061,1,    4.656,1,    0.130,1,  20.1000,2,     -999,9,20180424,1901, -67.0001,-119.4282,     -999,9,     -999,9,-999          ,9,     -999,9,     -999,9,     -999,     -999,9,     -999,     -999,9,     -999,9,     -999,9,     -999,9,     -999,9,     -999,9,     -999,9,     -999,9,     -999,9,     -999,9,     -999,9,     -999,9,     -999,9,     -999,9
320620180309  ,S04P       ,88      ,  1,18         ,18         ,2,20180424,1723, -67.0002,-119.4298,     4596,   1112.7,1.5840533451896054995,34.732548009440414,2,  34.7314,2,191.57594398462032,2, 191.6957,2,    191.8,2,     96.8,2,    31.72,2,     0.00,2,     2.17,2,    0.185,2,    0.094,2,   0.1400,2,   2255.4,2,  2357.35,2,   7.5971,2,    24.89,     -999,5,     -999,9,   1.5838,2,     -999,9,     -999,9,     -999,     -999,9,     -999,9,     -999,1,     -999,9,    0.061,1,    4.656,1,    0.130,1,  19.5600,2,     -999,9,20180424,1858, -67.0001,-119.4278,     -999,9,     -999,9,-999          ,9,     -999,9,     -999,9,     -999,     -999,9,     -999,     -999,9,     -999,9,     -999,9,     -999,9,     -999,9,     -999,9,     -999,9,     -999,9,     -999,9,     -999,9,     -999,9,     -999,9,     -999,9,     -999,9
320620180309  ,S04P       ,88      ,  1,17         ,17         ,2,20180424,1723, -67.0002,-119.4298,     4596,   1215.6,1.4917205978385124077,34.732167421476674,2,  34.7314,2,192.71131837466166,2, 193.0000,2,    192.8,2,     99.5,2,    31.70,2,     0.00,2,     2.17,2,     -999,9,     -999,9,     -999,9,   2258.7,2,  2357.46,2,   7.5972,2,    24.90,     43.7,2,     -999,9,   1.4909,2,     -999,9,     -999,9,     -999,     -999,9,     -999,9,     -999,1,     -999,9,    0.061,1,    4.657,1,    0.129,1,     -999,9,     -999,9,20180424,1854, -67.0001,-119.4280,     -999,9,     -999,9,-999          ,9,     -999,9,     -999,9,     -999,     -999,9,     -999,     -999,9,     -999,9,     -999,9,     -999,9,     -999,9,     -999,9,     -999,9,     -999,9,     -999,9,     -999,9,     -999,9,     -999,9,     -999,9,     -999,9
320620180309  ,S04P       ,88      ,  1,16         ,16         ,2,20180424,1723, -67.0002,-119.4298,     4596,   1316.5,1.4042758858653248133,34.730946730597722,2,  34.7298,2,193.45545028928561,2, 194.1089,2,    194.0,2,    102.3,2,    31.88,2,     0.00,2,     2.19,2,    0.163,2,    0.078,2,   0.1400,2,   2259.5,2,  2359.33,2,   7.5976,2,    24.91,     -999,9,     -999,9,   1.4040,2,     -999,9,     -999,9,     -999,     -999,9,     -999,9,     -999,9,     -999,9,    0.061,1,    4.657,1,    0.130,1,  19.2000,2,     -999,9,20180424,1851, -67.0001,-119.4283,     -999,9,     -999,9,-999          ,9,     -999,9,     -999,9,     -999,     -999,9,     -999,     -999,9,     -999,9,     -999,9,     -999,9,     -999,9,     -999,9,     -999,9,     -999,9,     -999,9,     -999,9,     -999,9,     -999,9,     -999,9,     -999,9