BOTTLE,20240515CCHHYDRO
EXPOCODE,SECT_ID,STNNBR,CASTNO,SAMPNO,BTLNBR,BTLNBR_FLAG_W,DATE,TIME,LATITUDE,LONGITUDE,DEPTH,CTDPRS,CTDTMP,CTDSAL,CTDSAL_FLAG_W,SALNTY,SALNTY_FLAG_W,CTDOXY,CTDOXY_FLAG_W,CTDOPTOXY,CTDOPTOXY_FLAG_W,OXYGEN,OXYGEN_FLAG_W,SILCAT,SILCAT_FLAG_W,NITRAT,NITRAT_FLAG_W,NITRIT,NITRIT_FLAG_W,PHSPHT,PHSPHT_FLAG_W,CFC-11,CFC-11_FLAG_W,CFC-12,CFC-12_FLAG_W,SF6,SF6_FLAG_W,TCARBN,TCARBN_FLAG_W,ALKALI,ALKALI_FLAG_W,PH_TOT,PH_TOT_FLAG_W,PH_TMP,DOC,DOC_FLAG_W,HELIUM,HELIUM_FLAG_W,REFTMP,REFTMP_FLAG_W,DELC13,DELC13_FLAG_W,DELC14,DELC14_FLAG_W,C14ERR,POC,POC_FLAG_W,TDN,TDN_FLAG_W,TON,TON_FLAG_W,NEON,NEON_FLAG_W,CTDFLUOR,CTDFLUOR_FLAG_W,CTDXMISS,CTDXMISS_FLAG_W,CTDBETA700,CTDBETA700_FLAG_W,N2O,N2O_FLAG_W,ARGON,ARGON_FLAG_W,BTL_DATE,BTL_TIME,BTL_LAT,BTL_LON,KRYPTON,KRYPTON_FLAG_W,XENON,XENON_FLAG_W,HPLC,HPLC_FLAG_W,HE3_HE4_RATIO,HE3_HE4_RATIO_FLAG_W,Nd_143_144_D_EPSILON_BOTTLE,Nd_143_144_D_EPSILON_BOTTLE_FLAG_W,Nd_143_144_D_EPSILON_BOTTLE_ERROR,Nd_143_144_D_RATIO_BOTTLE,Nd_143_144_D_RATIO_BOTTLE_FLAG_W,Nd_143_144_D_RATIO_BOTTLE_ERROR,Nd_D_CONC,Nd_D_CONC_FLAG_W,La_D_CONC_BOTTLE,La_D_CONC_BOTTLE_FLAG_W,Ce_D_CONC_BOTTLE,Ce_D_CONC_BOTTLE_FLAG_W,Pr_D_CONC_BOTTLE,Pr_D_CONC_BOTTLE_FLAG_W,Sm_D_CONC_BOTTLE,Sm_D_CONC_BOTTLE_FLAG_W,Eu_D_CONC_BOTTLE,Eu_D_CONC_BOTTLE_FLAG_W,Gd_D_CONC_BOTTLE,Gd_D_CONC_BOTTLE_FLAG_W,Tb_D_CONC_BOTTLE,Tb_D_CONC_BOTTLE_FLAG_W,Dy_D_CONC_BOTTLE,Dy_D_CONC_BOTTLE_FLAG_W,Ho_D_CONC_BOTTLE,Ho_D_CONC_BOTTLE_FLAG_W,Er_D_CONC_BOTTLE,Er_D_CONC_BOTTLE_FLAG_W,Tm_D_CONC_BOTTLE,Tm_D_CONC_BOTTLE_FLAG_W,Yb_D_CONC_BOTTLE,Yb_D_CONC_BOTTLE_FLAG_W,Lu_D_CONC_BOTTLE,Lu_D_CONC_BOTTLE_FLAG_W
,,,,,,,,,,,METERS,DBAR,ITS-90,PSS-78,,PSS-78,,UMOL/KG,,UMOL/KG,,UMOL/KG,,UMOL/KG,,UMOL/KG,,UMOL/KG,,UMOL/KG,,PMOL/KG,,PMOL/KG,,FMOL/KG,,UMOL/KG,,UMOL/KG,,,,DEG C,UMOL/KG,,NMOL/L,,DEG C,,/MILLE,,/MILLE,,/MILLE,UG/KG,,UMOL/KG,,UMOL/KG,,NMOL/L,,VOLTS,,VOLTS,,VOLTS,,NMOL/KG,,UMOL/L,,,,,,NMOL/L,,NMOL/L,,,,,,10000,,10000,,,,PMOL/KG,,PMOL/L,,PMOL/L,,PMOL/L,,PMOL/L,,PMOL/L,,PMOL/L,,PMOL/L,,PMOL/L,,PMOL/L,,PMOL/L,,PMOL/L,,PMOL/L,,PMOL/L,
320620180309  ,S04P       ,29      ,  1,36         ,36         ,2,20180329,1315, -67.0000,-172.1538,     3065,      7.2,-0.7083555555555554051,34.094932993859580,2,  34.0944,2,341.68765254141186,2, 341.3981,2,    341.9,2,     61.0,2,    26.65,2,     0.19,2,     1.80,2,    5.590,2,    3.097,2,   3.5600,2,   2194.2,6,  2311.14,2,   7.6587,2,    24.93,     -999,9,     -999,9,  -0.7072,2,     -999,9,     -999,9,     -999,     -999,9,     -999,9,     -999,9,     -999,9,    0.210,1,    4.568,1,    0.228,1,  15.8700,2,     -999,9,20180329,1645, -66.9997,-172.1528,     -999,9,     -999,9,-999          ,9,     -999,9,     -999,9,     -999,     -999,9,     -999,     -999,9,     -999,9,     -999,9,     -999,9,     -999,9,     -999,9,     -999,9,     -999,9,     -999,9,     -999,9,     -999,9,     -999,9,     -999,9,     -999,9
320620180309  ,S04P       ,29      ,  1,35         ,35         ,2,20180329,1315, -67.0000,-172.1538,     3065,     22.3,-0.7074694444444444841,34.094844333813683,2,  34.0942,2,342.47247228606369,2, 341.4023,2,    341.5,2,     60.7,2,    26.67,2,     0.19,2,     1.81,2,     -999,9,     -999,9,     -999,9,     -999,9,     -999,9,     -999,9,     -999,     -999,9,     -999,9,  -0.7097,2,     -999,9,     -999,9,     -999,     -999,9,     -999,9,     -999,9,     -999,9,    0.213,1,    4.569,1,    0.222,1,     -999,9,     -999,9,20180329,1644, -66.9997,-172.1528,     -999,9,     -999,9,-999          ,9,     -999,9,     -999,9,     -999,     -999,9,     -999,     -999,9,     -999,9,     -999,9,     -999,9,     -999,9,     -999,9,     -999,9,     -999,9,     -999,9,     -999,9,     -999,9,     -999,9,     -999,9,     -999,9
320620180309  ,S04P       ,29      ,  1,34         ,34         ,2,20180329,1315, -67.0000,-172.1538,     3065,     49.9,-0.7055972222222223200,34.095001008765990,2,  34.0942,2,343.91506411864708,2, 341.3988,2,    341.9,2,     61.1,2,    26.77,2,     0.19,2,     1.81,2,    5.559,2,    3.085,2,   3.7600,2,   2193.6,2,  2309.45,2,   7.6587,2,    24.93,     -999,9,     -999,9,  -0.7058,2,     -999,9,     -999,9,     -999,     -999,9,     -999,9,     -999,9,     -999,9,    0.209,1,    4.569,1,    0.235,1,  15.7100,2,     -999,9,20180329,1642, -66.9997,-172.1528,     -999,9,     -999,9,-999          ,9,     -999,9,     -999,9,     -999,     -999,9,     -999,     -999,9,     -999,9,     -999,9,     -999,9,     -999,9,     -999,9,     -999,9,     -999,9,     -999,9,     -999,9,     -999,9,     -999,9,     -999,9,     -999,9
320620180309  ,S04P       ,29      ,  1,33         ,33         ,2,20180329,1315, -67.0000,-172.1538,     3065,     75.3,-0.6979861111111111960,34.096114961749073,2,  34.0958,2,345.22369960318963,3, 341.4009,2,    341.4,2,     61.1,2,    26.73,2,     0.19,2,     1.84,2,     -999,9,     -999,9,     -999,9,   2195.2,2,  2310.52,2,   7.6583,2,    24.93,     -999,9,     -999,9,  -0.6982,2,     -999,9,     -999,9,     -999,     -999,9,     -999,9,     -999,9,     -999,9,    0.216,1,    4.568,1,    0.239,1,     -999,9,     -999,9,20180329,1640, -66.9996,-172.1529,     -999,9,     -999,9,-999          ,9,     -999,9,     -999,9,     -999,     -999,9,     -999,     -999,9,     -999,9,     -999,9,     -999,9,     -999,9,     -999,9,     -999,9,     -999,9,     -999,9,     -999,9,     -999,9,     -999,9,     -999,9,     -999,9
320620180309  ,S04P       ,29      ,  1,32         ,32         ,2,20180329,1315, -67.0000,-172.1538,     3065,    100.4,-1.2736416666666667830,34.309325672478593,2,  34.3108,2,297.40936680725366,2, 296.4984,2,    296.6,2,     76.5,2,    30.61,2,     0.20,2,     2.12,2,    4.155,2,    2.302,2,   2.8600,2,   2225.9,2,  2322.57,2,   7.6033,2,    24.93,     -999,9,     -999,9,  -1.2744,2,     -999,9,     -999,9,     -999,     -999,9,     -999,9,     -999,9,     -999,9,    0.108,1,    4.623,1,    0.196,1,  17.7900,2,     -999,9,20180329,1638, -66.9995,-172.1530,     -999,9,     -999,9,-999          ,9,     -999,9,     -999,9,     -999,     -999,9,     -999,     -999,9,     -999,9,     -999,9,     -999,9,     -999,9,     -999,9,     -999,9,     -999,9,     -999,9,     -999,9,     -999,9,     -999,9,     -999,9,     -999,9
320620180309  ,S04P       ,29      ,  1,31         ,31         ,2,20180329,1315, -67.0000,-172.1538,     3065,    125.7,-0.7134305555555555678,34.408681083389290,2,  34.4182,2,267.50754433615680,2, 266.4022,2,    267.0,2,     80.2,2,    31.62,2,     0.02,2,     2.17,2,     -999,9,     -999,9,     -999,9,     -999,9,     -999,9,     -999,9,     -999,     -999,9,     -999,9,  -0.7137,2,     -999,9,     -999,9,     -999,     -999,9,     -999,9,     -999,9,     -999,9,    0.077,1,    4.650,1,    0.183,1,     -999,9,     -999,9,20180329,1636, -66.9994,-172.1531,     -999,9,     -999,9,-999          ,9,     -999,9,     -999,9,     -999,     -999,9,     -999,     -999,9,     -999,9,     -999,9,     -999,9,     -999,9,     -999,9,     -999,9,     -999,9,     -999,9,     -999,9,     -999,9,     -999,9,     -999,9,     -999,9
320620180309  ,S04P       ,29      ,  1,30         ,30         ,2,20180329,1315, -67.0000,-172.1538,     3065,    150.0,0.2429249999999999465,34.529616028653543,2,  34.5266,2,235.26473533259858,2, 234.1049,2,    233.9,2,     84.2,2,    32.10,2,     0.01,2,     2.19,2,     -999,9,     -999,9,     -999,9,   2246.4,2,  2334.56,2,   7.5773,2,    24.92,     -999,9,     -999,9,   0.2338,2,     -999,9,     -999,9,     -999,     -999,9,     -999,9,     -999,9,     -999,9,    0.069,1,    4.656,1,    0.158,1,     -999,9,     -999,9,20180329,1630, -66.9994,-172.1531,     -999,9,     -999,9,-999          ,9,     -999,9,     -999,9,     -999,     -999,9,     -999,     -999,9,     -999,9,     -999,9,     -999,9,     -999,9,     -999,9,     -999,9,     -999,9,     -999,9,     -999,9,     -999,9,     -999,9,     -999,9,     -999,9
320620180309  ,S04P       ,29      ,  1,29         ,29         ,2,20180329,1315, -67.0000,-172.1538,     3065,    175.7,0.6513222222222222468,34.587362080226377,2,  34.5789,2,216.14519415644418,3, 221.6017,3,    219.0,2,     85.7,2,    32.21,2,     0.00,2,     2.22,2,    1.733,2,    0.937,2,   1.1500,2,   2249.4,2,  2337.61,2,   7.5744,2,    24.93,     -999,9,     -999,9,   0.6465,2,     -999,9,     -999,9,     -999,     -999,9,     -999,9,     -999,9,     -999,9,    0.062,1,    4.660,1,    0.155,1,  20.2400,2,     -999,9,20180329,1627, -66.9994,-172.1532,     -999,9,     -999,9,-999          ,9,     -999,9,     -999,9,     -999,     -999,9,     -999,     -999,9,     -999,9,     -999,9,     -999,9,     -999,9,     -999,9,     -999,9,     -999,9,     -999,9,     -999,9,     -999,9,     -999,9,     -999,9,     -999,9
320620180309  ,S04P       ,29      ,  1,28         ,28         ,2,20180329,1315, -67.0000,-172.1538,     3065,    201.9,0.8920027777777777001,34.625921405544254,2,  34.6234,2,207.24855671324707,2, 213.5008,3,    208.4,2,     87.5,2,    32.33,2,     0.00,2,     2.23,2,     -999,9,     -999,9,     -999,9,   2253.1,2,  2342.16,2,   7.5717,2,    24.93,     -999,9,     -999,9,   0.8957,2,     -999,9,     -999,9,     -999,     -999,9,     -999,9,     -999,9,     -999,9,    0.062,1,    4.661,1,    0.157,1,     -999,9,     -999,9,20180329,1625, -66.9994,-172.1531,     -999,9,     -999,9,-999          ,9,     -999,9,     -999,9,     -999,     -999,9,     -999,     -999,9,     -999,9,     -999,9,     -999,9,     -999,9,     -999,9,     -999,9,     -999,9,     -999,9,     -999,9,     -999,9,     -999,9,     -999,9,     -999,9
320620180309  ,S04P       ,29      ,  1,27         ,27         ,2,20180329,1315, -67.0000,-172.1538,     3065,    226.3,1.1413611111111108265,34.662753347781887,2,  34.6627,2,200.04962001936713,2, 203.6040,3,    198.3,2,     89.4,2,    32.17,2,     0.00,2,     2.23,2,     -999,9,     -999,9,     -999,9,     -999,9,     -999,9,     -999,9,     -999,     -999,9,     -999,9,   1.1467,2,     -999,9,     -999,9,     -999,     -999,9,     -999,9,     -999,9,     -999,9,    0.062,1,    4.665,1,    0.148,1,     -999,9,     -999,9,20180329,1622, -66.9994,-172.1532,     -999,9,     -999,9,-999          ,9,     -999,9,     -999,9,     -999,     -999,9,     -999,     -999,9,     -999,9,     -999,9,     -999,9,     -999,9,     -999,9,     -999,9,     -999,9,     -999,9,     -999,9,     -999,9,     -999,9,     -999,9,     -999,9
320620180309  ,S04P       ,29      ,  1,26         ,26         ,2,20180329,1315, -67.0000,-172.1538,     3065,    253.0,1.2725583333333334579,34.685153727739966,2,  34.6870,2,195.92037355922798,2, 198.7963,3,    194.0,2,     91.0,2,    32.08,2,     0.00,2,     2.21,2,    0.753,2,    0.403,2,   0.4900,2,   2256.2,6,  2347.31,2,   7.5750,2,    24.93,     -999,9,     -999,9,   1.2740,2,     -999,9,     -999,9,     -999,     -999,9,     -999,9,     -999,9,     -999,9,    0.061,1,    4.666,1,    0.145,1,  20.4900,2,     -999,9,20180329,1620, -66.9994,-172.1532,     -999,9,     -999,9,-999          ,9,     -999,9,     -999,9,     -999,     -999,9,     -999,     -999,9,     -999,9,     -999,9,     -999,9,     -999,9,     -999,9,     -999,9,     -999,9,     -999,9,     -999,9,     -999,9,     -999,9,     -999,9,     -999,9
320620180309  ,S04P       ,29      ,  1,25         ,25         ,2,20180329,1315, -67.0000,-172.1538,     3065,    302.9,1.3722416666666668039,34.706705541807125,2,  34.7068,2,194.88255728707003,2, 195.5954,3,    193.2,2,     93.0,2,    31.70,2,     0.00,2,     2.20,2,     -999,9,     -999,9,     -999,9,   2254.9,2,  2348.54,2,   7.5830,2,    24.93,     -999,9,     -999,9,   1.3712,2,     -999,9,     -999,9,     -999,     -999,9,     -999,9,     -999,9,     -999,9,    0.062,1,    4.667,1,    0.140,1,     -999,9,     -999,9,20180329,1617, -66.9995,-172.1530,     -999,9,     -999,9,-999          ,9,     -999,9,     -999,9,     -999,     -999,9,     -999,     -999,9,     -999,9,     -999,9,     -999,9,     -999,9,     -999,9,     -999,9,     -999,9,     -999,9,     -999,9,     -999,9,     -999,9,     -999,9,     -999,9
320620180309  ,S04P       ,29      ,  1,24         ,24         ,2,20180329,1315, -67.0000,-172.1538,     3065,    353.3,1.3823638888888889475,34.714064825152946,2,  34.7139,2,195.81205153202245,2, 195.2983,3,    194.1,2,     94.0,2,    31.56,2,     0.00,2,     2.19,2,     -999,9,     -999,9,     -999,9,     -999,9,     -999,9,     -999,9,     -999,     -999,9,     -999,9,   1.3814,2,     -999,9,     -999,9,     -999,     -999,9,     -999,9,     -999,9,     -999,9,    0.062,1,    4.670,1,    0.139,1,     -999,9,     -999,9,20180329,1615, -66.9997,-172.1528,     -999,9,     -999,9,-999          ,9,     -999,9,     -999,9,     -999,     -999,9,     -999,     -999,9,     -999,9,     -999,9,     -999,9,     -999,9,     -999,9,     -999,9,     -999,9,     -999,9,     -999,9,     -999,9,     -999,9,     -999,9,     -999,9
320620180309  ,S04P       ,29      ,  1,23         ,23         ,2,20180329,1315, -67.0000,-172.1538,     3065,    404.4,1.3596972222222223348,34.718562703689201,2,  34.7176,2,196.16503489626160,2, 195.5978,2,    196.2,2,     95.8,2,    31.49,2,     0.00,2,     2.16,2,    0.455,2,    0.242,2,   0.2500,2,   2256.5,2,  2352.56,2,   7.5886,2,    24.93,     -999,9,     -999,9,   1.3586,2,     -999,9,     -999,9,     -999,     -999,9,     -999,9,     -999,9,     -999,9,    0.061,1,    4.671,1,    0.143,1,  20.1600,2,     -999,9,20180329,1612, -66.9998,-172.1527,     -999,9,     -999,9,-999          ,9,     -999,9,     -999,9,     -999,     -999,9,     -999,     -999,9,     -999,9,     -999,9,     -999,9,     -999,9,     -999,9,     -999,9,     -999,9,     -999,9,     -999,9,     -999,9,     -999,9,     -999,9,     -999,9
320620180309  ,S04P       ,29      ,  1,22         ,37         ,2,20180329,1315, -67.0000,-172.1538,     3065,    454.1,1.3258111111111110514,34.720994559098692,2,  34.7204,2,196.95183484419002,2, 196.2963,2,    196.6,2,     97.5,2,    31.42,2,     0.00,2,     2.17,2,     -999,9,     -999,9,     -999,9,   2257.9,2,  2354.84,2,   7.5915,6,    24.93,     -999,9,     -999,9,   1.3246,2,     -999,9,     -999,9,     -999,     -999,9,     -999,9,     -999,9,     -999,9,    0.061,1,    4.670,1,    0.150,1,     -999,9,     -999,9,20180329,1609, -66.9999,-172.1527,     -999,9,     -999,9,-999          ,9,     -999,9,     -999,9,     -999,     -999,9,     -999,     -999,9,     -999,9,     -999,9,     -999,9,     -999,9,     -999,9,     -999,9,     -999,9,     -999,9,     -999,9,     -999,9,     -999,9,     -999,9,     -999,9
320620180309  ,S04P       ,29      ,  1,21         ,21         ,2,20180329,1315, -67.0000,-172.1538,     3065,    505.3,1.2904027777777777874,34.722449506757961,2,  34.7221,2,197.14907400998564,2, 196.9012,2,    196.9,2,     99.4,2,    31.44,2,     0.00,2,     2.17,2,    0.374,2,    0.195,2,   0.2300,2,   2258.5,2,  2355.49,2,   7.5922,2,    24.93,     -999,9,     -999,9,   1.2889,2,     -999,9,     -999,9,     -999,     -999,9,     -999,9,     -999,9,     -999,9,    0.062,1,    4.669,1,    0.139,1,  19.5200,2,     -999,9,20180329,1603, -66.9995,-172.1531,     -999,9,     -999,9,-999          ,9,     -999,9,     -999,9,     -999,     -999,9,     -999,     -999,9,     -999,9,     -999,9,     -999,9,     -999,9,     -999,9,     -999,9,     -999,9,     -999,9,     -999,9,     -999,9,     -999,9,     -999,9,     -999,9
320620180309  ,S04P       ,29      ,  1,20         ,20         ,2,20180329,1315, -67.0000,-172.1538,     3065,    605.6,1.2327444444444441984,34.723849474474093,2,  34.7235,2,198.51843178704942,2, 198.1017,2,    197.7,2,    101.9,2,    31.44,2,     0.00,2,     2.17,2,     -999,9,     -999,9,     -999,9,   2256.7,3,  2360.42,3,   7.5957,2,    24.93,     -999,9,     -999,9,   1.2319,2,     -999,9,     -999,9,     -999,     -999,9,     -999,9,     -999,9,     -999,9,    0.063,1,    4.668,1,    0.146,1,     -999,9,     -999,9,20180329,1558, -66.9994,-172.1532,     -999,9,     -999,9,-999          ,9,     -999,9,     -999,9,     -999,     -999,9,     -999,     -999,9,     -999,9,     -999,9,     -999,9,     -999,9,     -999,9,     -999,9,     -999,9,     -999,9,     -999,9,     -999,9,     -999,9,     -999,9,     -999,9
320620180309  ,S04P       ,29      ,  1,19         ,19         ,2,20180329,1315, -67.0000,-172.1538,     3065,    707.3,1.1767694444444447566,34.724361084342135,2,  34.7241,2,199.50160441855363,2, 199.3002,2,    200.1,2,    104.4,2,    31.35,2,     0.00,2,     2.17,2,    0.267,2,    0.147,2,   0.2200,2,   2258.7,2,  2358.19,2,   7.5981,6,    24.93,     -999,9,     -999,9,   1.1760,2,     -999,9,     -999,9,     -999,     -999,9,     -999,9,     -999,9,     -999,9,    0.062,1,    4.668,1,    0.137,1,  19.2200,2,     -999,9,20180329,1550, -66.9996,-172.1530,     -999,9,     -999,9,-999          ,9,     -999,9,     -999,9,     -999,     -999,9,     -999,     -999,9,     -999,9,     -999,9,     -999,9,     -999,9,     -999,9,     -999,9,     -999,9,     -999,9,     -999,9,     -999,9,     -999,9,     -999,9,     -999,9
320620180309  ,S04P       ,29      ,  1,18         ,18         ,2,20180329,1315, -67.0000,-172.1538,     3065,    809.0,1.0941583333333331218,34.720832077807529,2,  34.7206,2,200.42178248035646,2, 200.4995,2,    201.0,2,    107.1,2,    31.50,2,     0.00,2,     2.18,2,     -999,9,     -999,9,     -999,9,     -999,9,     -999,9,     -999,9,     -999,     -999,9,     -999,9,   1.0933,2,     -999,9,     -999,9,     -999,     -999,9,     -999,9,     -999,9,     -999,9,    0.062,1,    4.669,1,    0.139,1,     -999,9,     -999,9,20180329,1541, -66.9990,-172.1538,     -999,9,     -999,9,-999          ,9,     -999,9,     -999,9,     -999,     -999,9,     -999,     -999,9,     -999,9,     -999,9,     -999,9,     -999,9,     -999,9,     -999,9,     -999,9,     -999,9,     -999,9,     -999,9,     -999,9,     -999,9,     -999,9
320620180309  ,S04P       ,29      ,  1,17         ,17         ,2,20180329,1315, -67.0000,-172.1538,     3065,    910.8,1.0196944444444442368,34.717653599593852,2,  34.7174,2,201.81603270990152,2, 201.7016,2,    201.5,2,    109.9,2,    31.63,2,     0.00,2,     2.18,2,    0.273,2,    0.142,2,   0.1000,2,   2259.4,2,  2359.99,2,   7.5974,2,    24.93,     -999,9,     -999,9,   1.0178,2,     -999,9,     -999,9,     -999,     -999,9,     -999,9,     -999,9,     -999,9,    0.061,1,    4.671,1,    0.136,1,  19.1700,2,     -999,9,20180329,1531, -66.9993,-172.1534,     -999,9,     -999,9,-999          ,9,     -999,9,     -999,9,     -999,     -999,9,     -999,     -999,9,     -999,9,     -999,9,     -999,9,     -999,9,     -999,9,     -999,9,     -999,9,     -999,9,     -999,9,     -999,9,     -999,9,     -999,9,     -999,9
320620180309  ,S04P       ,29      ,  1,16         ,16         ,2,20180329,1315, -67.0000,-172.1538,     3065,   1010.6,0.9437111111111110562,34.714851814370938,2,  34.7151,2,202.97981258439899,2, 203.1013,2,    203.0,2,    112.4,2,    31.69,2,     0.00,2,     2.19,2,     -999,9,     -999,9,     -999,9,     -999,9,     -999,9,     -999,9,     -999,     -999,9,     -999,9,   0.9435,2,     -999,9,     -999,9,     -999,     -999,9,     -999,9,     -999,9,     -999,9,    0.061,1,    4.671,1,    0.133,1,     -999,9,     -999,9,20180329,1527, -66.9995,-172.1533,     -999,9,     -999,9,-999          ,9,     -999,9,     -999,9,     -999,     -999,9,     -999,     -999,9,     -999,9,     -999,9,     -999,9,     -999,9,     -999,9,     -999,9,     -999,9,     -999,9,     -999,9,     -999,9,     -999,9,     -999,9,     -999,9