BOTTLE,20240515CCHHYDRO
EXPOCODE,SECT_ID,STNNBR,CASTNO,SAMPNO,BTLNBR,BTLNBR_FLAG_W,DATE,TIME,LATITUDE,LONGITUDE,DEPTH,CTDPRS,CTDTMP,CTDSAL,CTDSAL_FLAG_W,SALNTY,SALNTY_FLAG_W,CTDOXY,CTDOXY_FLAG_W,CTDOPTOXY,CTDOPTOXY_FLAG_W,OXYGEN,OXYGEN_FLAG_W,SILCAT,SILCAT_FLAG_W,NITRAT,NITRAT_FLAG_W,NITRIT,NITRIT_FLAG_W,PHSPHT,PHSPHT_FLAG_W,CFC-11,CFC-11_FLAG_W,CFC-12,CFC-12_FLAG_W,SF6,SF6_FLAG_W,TCARBN,TCARBN_FLAG_W,ALKALI,ALKALI_FLAG_W,PH_TOT,PH_TOT_FLAG_W,PH_TMP,DOC,DOC_FLAG_W,HELIUM,HELIUM_FLAG_W,REFTMP,REFTMP_FLAG_W,DELC13,DELC13_FLAG_W,DELC14,DELC14_FLAG_W,C14ERR,POC,POC_FLAG_W,TDN,TDN_FLAG_W,TON,TON_FLAG_W,NEON,NEON_FLAG_W,CTDFLUOR,CTDFLUOR_FLAG_W,CTDXMISS,CTDXMISS_FLAG_W,CTDBETA700,CTDBETA700_FLAG_W,N2O,N2O_FLAG_W,ARGON,ARGON_FLAG_W,BTL_DATE,BTL_TIME,BTL_LAT,BTL_LON,KRYPTON,KRYPTON_FLAG_W,XENON,XENON_FLAG_W,HPLC,HPLC_FLAG_W,HE3_HE4_RATIO,HE3_HE4_RATIO_FLAG_W,Nd_143_144_D_EPSILON_BOTTLE,Nd_143_144_D_EPSILON_BOTTLE_FLAG_W,Nd_143_144_D_EPSILON_BOTTLE_ERROR,Nd_143_144_D_RATIO_BOTTLE,Nd_143_144_D_RATIO_BOTTLE_FLAG_W,Nd_143_144_D_RATIO_BOTTLE_ERROR,Nd_D_CONC,Nd_D_CONC_FLAG_W,La_D_CONC_BOTTLE,La_D_CONC_BOTTLE_FLAG_W,Ce_D_CONC_BOTTLE,Ce_D_CONC_BOTTLE_FLAG_W,Pr_D_CONC_BOTTLE,Pr_D_CONC_BOTTLE_FLAG_W,Sm_D_CONC_BOTTLE,Sm_D_CONC_BOTTLE_FLAG_W,Eu_D_CONC_BOTTLE,Eu_D_CONC_BOTTLE_FLAG_W,Gd_D_CONC_BOTTLE,Gd_D_CONC_BOTTLE_FLAG_W,Tb_D_CONC_BOTTLE,Tb_D_CONC_BOTTLE_FLAG_W,Dy_D_CONC_BOTTLE,Dy_D_CONC_BOTTLE_FLAG_W,Ho_D_CONC_BOTTLE,Ho_D_CONC_BOTTLE_FLAG_W,Er_D_CONC_BOTTLE,Er_D_CONC_BOTTLE_FLAG_W,Tm_D_CONC_BOTTLE,Tm_D_CONC_BOTTLE_FLAG_W,Yb_D_CONC_BOTTLE,Yb_D_CONC_BOTTLE_FLAG_W,Lu_D_CONC_BOTTLE,Lu_D_CONC_BOTTLE_FLAG_W
,,,,,,,,,,,METERS,DBAR,ITS-90,PSS-78,,PSS-78,,UMOL/KG,,UMOL/KG,,UMOL/KG,,UMOL/KG,,UMOL/KG,,UMOL/KG,,UMOL/KG,,PMOL/KG,,PMOL/KG,,FMOL/KG,,UMOL/KG,,UMOL/KG,,,,DEG C,UMOL/KG,,NMOL/L,,DEG C,,/MILLE,,/MILLE,,/MILLE,UG/KG,,UMOL/KG,,UMOL/KG,,NMOL/L,,VOLTS,,VOLTS,,VOLTS,,NMOL/KG,,UMOL/L,,,,,,NMOL/L,,NMOL/L,,,,,,10000,,10000,,,,PMOL/KG,,PMOL/L,,PMOL/L,,PMOL/L,,PMOL/L,,PMOL/L,,PMOL/L,,PMOL/L,,PMOL/L,,PMOL/L,,PMOL/L,,PMOL/L,,PMOL/L,,PMOL/L,
320620180309  ,S04P       ,95      ,  1,15         ,15         ,2,20180427,0726, -67.9997,-109.5037,     4164,   1350.9,1.2138470690635922988,34.725824844161032,2,  34.7259,2,196.68691907516782,2, 196.8989,2,    196.8,2,    109.9,2,    32.15,2,     0.00,2,     2.15,2,     -999,9,     -999,9,     -999,9,     -999,9,     -999,9,     -999,9,     -999,     -999,9,     -999,9,   1.2164,2,     -999,9,     -999,9,     -999,     -999,9,     -999,9,     -999,9,     -999,9,    0.061,1,    4.654,1,    0.129,1,     -999,9,     -999,9,20180427,0830, -67.9976,-109.4472,     -999,9,     -999,9,-999          ,9,     -999,9,     -999,9,     -999,     -999,9,     -999,     -999,9,     -999,9,     -999,9,     -999,9,     -999,9,     -999,9,     -999,9,     -999,9,     -999,9,     -999,9,     -999,9,     -999,9,     -999,9,     -999,9
320620180309  ,S04P       ,95      ,  1,14         ,14         ,2,20180427,0726, -67.9997,-109.5037,     4164,   1453.0,1.1503906615290588888,34.723423990871176,2,  34.7227,2,197.87059114565318,2, 197.8996,2,    198.4,2,    112.3,2,    32.16,2,     0.00,2,     2.17,2,     -999,9,     -999,9,     -999,9,     -999,9,     -999,9,     -999,9,     -999,     -999,9,     -999,9,   1.1530,2,     -999,9,     -999,9,     -999,     -999,9,     -999,9,     -999,9,     -999,9,    0.061,1,    4.654,1,    0.128,1,     -999,9,     -999,9,20180427,0828, -67.9981,-109.4490,     -999,9,     -999,9,-999          ,9,     -999,9,     -999,9,     -999,     -999,9,     -999,     -999,9,     -999,9,     -999,9,     -999,9,     -999,9,     -999,9,     -999,9,     -999,9,     -999,9,     -999,9,     -999,9,     -999,9,     -999,9,     -999,9
320620180309  ,S04P       ,95      ,  1,13         ,13         ,2,20180427,0726, -67.9997,-109.5037,     4164,   1552.9,1.0945695417251402048,34.721419942177953,2,  34.7208,2,199.56320743772628,2, 199.2983,2,    199.3,2,    114.1,2,    32.21,2,     0.00,2,     2.17,2,    0.109,2,    0.058,2,   0.0000,2,   2263.1,2,  2364.15,2,   7.5986,2,    24.93,     -999,9,     -999,9,   1.0959,2,     -999,9,     -999,9,     -999,     -999,9,     -999,9,     -999,9,     -999,9,    0.060,1,    4.654,1,    0.128,1,  19.9100,2,     -999,9,20180427,0825, -67.9985,-109.4509,     -999,9,     -999,9,-999          ,9,     -999,9,     -999,9,     -999,     -999,9,     -999,     -999,9,     -999,9,     -999,9,     -999,9,     -999,9,     -999,9,     -999,9,     -999,9,     -999,9,     -999,9,     -999,9,     -999,9,     -999,9,     -999,9
320620180309  ,S04P       ,95      ,  1,12         ,12         ,2,20180427,0726, -67.9997,-109.5037,     4164,   1657.2,1.0346844765458835802,34.719225080710501,2,  34.7188,2,199.96445673511133,2, 200.2051,2,    200.1,2,    116.8,2,    32.22,2,     0.00,2,     2.17,2,     -999,9,     -999,9,     -999,9,     -999,9,     -999,9,     -999,9,     -999,     -999,9,     -999,9,   1.0372,2,     -999,9,     -999,9,     -999,     -999,9,     -999,9,     -999,9,     -999,9,    0.061,1,    4.654,1,    0.127,1,     -999,9,     -999,9,20180427,0823, -67.9987,-109.4530,     -999,9,     -999,9,-999          ,9,     -999,9,     -999,9,     -999,     -999,9,     -999,     -999,9,     -999,9,     -999,9,     -999,9,     -999,9,     -999,9,     -999,9,     -999,9,     -999,9,     -999,9,     -999,9,     -999,9,     -999,9,     -999,9
320620180309  ,S04P       ,95      ,  1,11         ,11         ,2,20180427,0726, -67.9997,-109.5037,     4164,   1758.2,0.9898706782773764035,34.717384011784759,2,  34.7172,2,201.45246664428339,2, 201.4024,2,    201.1,2,    118.2,2,    32.29,2,     0.00,2,     2.19,2,    0.119,2,    0.068,2,   0.0900,2,   2265.1,2,  2364.22,2,   7.5992,2,    24.93,     -999,9,     -999,9,   0.9936,2,     -999,9,     -999,9,     -999,     -999,9,     -999,9,     -999,9,     -999,9,    0.061,1,    4.654,1,    0.132,1,  18.9800,2,     -999,9,20180427,0821, -67.9987,-109.4550,     -999,9,     -999,9,-999          ,9,     -999,9,     -999,9,     -999,     -999,9,     -999,     -999,9,     -999,9,     -999,9,     -999,9,     -999,9,     -999,9,     -999,9,     -999,9,     -999,9,     -999,9,     -999,9,     -999,9,     -999,9,     -999,9
320620180309  ,S04P       ,95      ,  1,10         ,10         ,2,20180427,0726, -67.9997,-109.5037,     4164,   1889.5,0.9329149746955527345,34.715205583194233,2,  34.7149,2,202.47996560944023,2, 202.5037,2,    202.5,2,    121.0,2,    32.35,2,     0.00,2,     2.19,2,     -999,9,     -999,9,     -999,9,     -999,9,     -999,9,     -999,9,     -999,     -999,9,     -999,9,   0.9364,2,     -999,9,     -999,9,     -999,     -999,9,     -999,9,     -999,9,     -999,9,    0.061,1,    4.653,1,    0.128,1,     -999,9,     -999,9,20180427,0819, -67.9987,-109.4572,     -999,9,     -999,9,-999          ,9,     -999,9,     -999,9,     -999,     -999,9,     -999,     -999,9,     -999,9,     -999,9,     -999,9,     -999,9,     -999,9,     -999,9,     -999,9,     -999,9,     -999,9,     -999,9,     -999,9,     -999,9,     -999,9
320620180309  ,S04P       ,95      ,  1,9          ,9          ,2,20180427,0726, -67.9997,-109.5037,     4164,   2115.0,0.8402002667330376040,34.711280806675532,2,  34.7109,2,204.45181500513829,2, 204.2025,2,    204.5,2,    124.0,2,    32.45,2,     0.00,2,     2.21,2,    0.149,2,    0.082,2,   0.0800,2,   2263.0,2,  2364.88,2,   7.5995,6,    24.92,     -999,9,     -999,9,   0.8425,2,     -999,9,     -999,9,     -999,     -999,9,     -999,9,     -999,9,     -999,9,    0.061,1,    4.654,1,    0.126,1,  18.9000,2,     -999,9,20180427,0814, -67.9985,-109.4613,     -999,9,     -999,9,-999          ,9,     -999,9,     -999,9,     -999,     -999,9,     -999,     -999,9,     -999,9,     -999,9,     -999,9,     -999,9,     -999,9,     -999,9,     -999,9,     -999,9,     -999,9,     -999,9,     -999,9,     -999,9,     -999,9
320620180309  ,S04P       ,95      ,  1,8          ,8          ,2,20180427,0726, -67.9997,-109.5037,     4164,   2368.9,0.7432627100044256752,34.708392936749469,2,  34.7072,2,206.60512197793227,2, 206.1983,2,    205.3,2,    127.2,2,    32.57,2,     0.00,2,     2.21,2,     -999,9,     -999,9,     -999,9,     -999,9,     -999,9,     -999,9,     -999,     -999,9,     -999,9,   0.7454,2,     -999,9,     -999,9,     -999,     -999,9,     -999,9,     -999,9,     -999,9,    0.061,1,    4.654,1,    0.125,1,     -999,9,     -999,9,20180427,0810, -67.9982,-109.4666,     -999,9,     -999,9,-999          ,9,     -999,9,     -999,9,     -999,     -999,9,     -999,     -999,9,     -999,9,     -999,9,     -999,9,     -999,9,     -999,9,     -999,9,     -999,9,     -999,9,     -999,9,     -999,9,     -999,9,     -999,9,     -999,9
320620180309  ,S04P       ,95      ,  1,7          ,7          ,2,20180427,0726, -67.9997,-109.5037,     4164,   2625.8,0.6526551467792695016,34.705925259832959,2,  34.7056,2,209.17821540536193,2, 207.8986,2,    208.5,2,    129.0,2,    32.70,2,     0.00,2,     2.21,2,    0.169,2,    0.090,2,   0.0000,2,   2265.7,2,  2365.84,2,   7.5972,2,    24.92,     -999,9,     -999,9,   0.6532,2,     -999,9,     -999,9,     -999,     -999,9,     -999,9,     -999,9,     -999,9,    0.060,1,    4.654,1,    0.129,1,  18.8300,2,     -999,9,20180427,0805, -67.9984,-109.4726,     -999,9,     -999,9,-999          ,9,     -999,9,     -999,9,     -999,     -999,9,     -999,     -999,9,     -999,9,     -999,9,     -999,9,     -999,9,     -999,9,     -999,9,     -999,9,     -999,9,     -999,9,     -999,9,     -999,9,     -999,9,     -999,9
320620180309  ,S04P       ,95      ,  1,6          ,6          ,2,20180427,0726, -67.9997,-109.5037,     4164,   2877.1,0.5518909410853394260,34.703890005424604,2,  34.7029,2,208.76004631357534,2, 209.7984,2,    210.3,2,    132.5,2,    32.79,2,     0.00,2,     2.22,2,    0.181,2,    0.095,2,   0.0300,2,   2261.0,3,  2365.76,2,   7.5975,2,    24.91,     -999,9,     -999,9,   0.5517,2,     -999,9,     -999,9,     -999,     -999,9,     -999,9,     -999,9,     -999,9,    0.061,1,    4.653,1,    0.127,1,  19.3900,2,     -999,9,20180427,0757, -67.9987,-109.4814,     -999,9,     -999,9,-999          ,9,     -999,9,     -999,9,     -999,     -999,9,     -999,     -999,9,     -999,9,     -999,9,     -999,9,     -999,9,     -999,9,     -999,9,     -999,9,     -999,9,     -999,9,     -999,9,     -999,9,     -999,9,     -999,9
320620180309  ,S04P       ,95      ,  1,5          ,5          ,2,20180427,0726, -67.9997,-109.5037,     4164,   3146.0,0.4985877603174717621,34.702879596927716,2,  34.7013,2,211.56479618786872,2, 210.8950,2,    211.0,2,    135.3,2,    32.85,2,     0.00,2,     2.23,2,     -999,9,     -999,9,     -999,9,     -999,9,     -999,9,     -999,9,     -999,     -999,9,     -999,9,   0.4985,2,     -999,9,     -999,9,     -999,     -999,9,     -999,9,     -999,9,     -999,9,    0.061,1,    4.653,1,    0.127,1,     -999,9,     -999,9,20180427,0751, -67.9989,-109.4868,     -999,9,     -999,9,-999          ,9,     -999,9,     -999,9,     -999,     -999,9,     -999,     -999,9,     -999,9,     -999,9,     -999,9,     -999,9,     -999,9,     -999,9,     -999,9,     -999,9,     -999,9,     -999,9,     -999,9,     -999,9,     -999,9
320620180309  ,S04P       ,95      ,  1,4          ,4          ,2,20180427,0726, -67.9997,-109.5037,     4164,   3459.1,0.4588924772844678035,34.702315337231987,3,  34.7002,2,212.03359478545070,2, 211.8970,2,    211.6,2,    138.8,2,    32.91,2,     0.00,2,     2.24,2,    0.195,2,    0.105,2,   0.0000,2,   2259.5,3,  2366.83,2,   7.5967,2,    24.92,     -999,9,     -999,9,   0.4588,2,     -999,9,     -999,9,     -999,     -999,9,     -999,9,     -999,9,     -999,9,    0.061,1,    4.652,1,    0.127,1,  19.0100,2,     -999,9,20180427,0744, -67.9991,-109.4931,     -999,9,     -999,9,-999          ,9,     -999,9,     -999,9,     -999,     -999,9,     -999,     -999,9,     -999,9,     -999,9,     -999,9,     -999,9,     -999,9,     -999,9,     -999,9,     -999,9,     -999,9,     -999,9,     -999,9,     -999,9,     -999,9
320620180309  ,S04P       ,95      ,  1,3          ,3          ,2,20180427,0726, -67.9997,-109.5037,     4164,   3771.8,0.4321807324648364035,34.701770928703283,2,  34.7013,2,213.03146147612566,2, 212.4958,2,    212.3,2,    141.5,2,    32.98,2,     0.00,2,     2.25,2,    0.219,2,    0.109,2,   0.0000,2,   2269.7,3,  2368.08,2,   7.5958,2,    24.91,     -999,9,     -999,9,   0.4318,2,     -999,9,     -999,9,     -999,     -999,9,     -999,9,     -999,9,     -999,9,    0.060,1,    4.651,1,    0.129,1,  19.2700,2,     -999,9,20180427,0738, -67.9991,-109.4975,     -999,9,     -999,9,-999          ,9,     -999,9,     -999,9,     -999,     -999,9,     -999,     -999,9,     -999,9,     -999,9,     -999,9,     -999,9,     -999,9,     -999,9,     -999,9,     -999,9,     -999,9,     -999,9,     -999,9,     -999,9,     -999,9
320620180309  ,S04P       ,95      ,  1,2          ,2          ,2,20180427,0726, -67.9997,-109.5037,     4164,   4050.9,0.3993475829319325099,34.700825695448792,2,  34.7000,2,213.36192749387334,2, 213.8979,2,    214.0,2,    142.3,2,    33.02,2,     0.00,2,     2.24,2,    0.294,2,    0.154,2,   0.0800,2,   2263.0,3,  2367.26,2,   7.5944,2,    24.93,     -999,9,     -999,9,   0.3993,2,     -999,9,     -999,9,     -999,     -999,9,     -999,9,     -999,9,     -999,9,    0.061,1,    4.649,1,    0.131,1,  19.0300,2,     -999,9,20180427,0731, -67.9993,-109.5005,     -999,9,     -999,9,-999          ,9,     -999,9,     -999,9,     -999,     -999,9,     -999,     -999,9,     -999,9,     -999,9,     -999,9,     -999,9,     -999,9,     -999,9,     -999,9,     -999,9,     -999,9,     -999,9,     -999,9,     -999,9,     -999,9
320620180309  ,S04P       ,95      ,  1,1          ,1          ,2,20180427,0726, -67.9997,-109.5037,     4164,   4240.3,0.3781378472593098783,34.699776031187049,2,  34.6992,2,213.84238057558701,2, 213.9007,2,    213.9,2,    146.4,2,    33.08,2,     0.00,2,     2.25,2,    0.363,2,    0.179,2,   0.0200,2,   2266.3,6,  2366.72,2,   7.5946,2,    24.91,     -999,9,     -999,9,   0.3781,2,     -999,9,     -999,9,     -999,     -999,9,     -999,9,     -999,9,     -999,9,    0.061,1,    4.643,1,    0.139,1,  19.0800,2,     -999,9,20180427,0726, -67.9997,-109.5037,     -999,9,     -999,9,-999          ,9,     -999,9,     -999,9,     -999,     -999,9,     -999,     -999,9,     -999,9,     -999,9,     -999,9,     -999,9,     -999,9,     -999,9,     -999,9,     -999,9,     -999,9,     -999,9,     -999,9,     -999,9,     -999,9