BOTTLE,20240515CCHHYDRO
EXPOCODE,SECT_ID,STNNBR,CASTNO,SAMPNO,BTLNBR,BTLNBR_FLAG_W,DATE,TIME,LATITUDE,LONGITUDE,DEPTH,CTDPRS,CTDTMP,CTDSAL,CTDSAL_FLAG_W,SALNTY,SALNTY_FLAG_W,CTDOXY,CTDOXY_FLAG_W,CTDOPTOXY,CTDOPTOXY_FLAG_W,OXYGEN,OXYGEN_FLAG_W,SILCAT,SILCAT_FLAG_W,NITRAT,NITRAT_FLAG_W,NITRIT,NITRIT_FLAG_W,PHSPHT,PHSPHT_FLAG_W,CFC-11,CFC-11_FLAG_W,CFC-12,CFC-12_FLAG_W,SF6,SF6_FLAG_W,TCARBN,TCARBN_FLAG_W,ALKALI,ALKALI_FLAG_W,PH_TOT,PH_TOT_FLAG_W,PH_TMP,DOC,DOC_FLAG_W,HELIUM,HELIUM_FLAG_W,REFTMP,REFTMP_FLAG_W,DELC13,DELC13_FLAG_W,DELC14,DELC14_FLAG_W,C14ERR,POC,POC_FLAG_W,TDN,TDN_FLAG_W,TON,TON_FLAG_W,NEON,NEON_FLAG_W,CTDFLUOR,CTDFLUOR_FLAG_W,CTDXMISS,CTDXMISS_FLAG_W,CTDBETA700,CTDBETA700_FLAG_W,N2O,N2O_FLAG_W,ARGON,ARGON_FLAG_W,BTL_DATE,BTL_TIME,BTL_LAT,BTL_LON,KRYPTON,KRYPTON_FLAG_W,XENON,XENON_FLAG_W,HPLC,HPLC_FLAG_W,HE3_HE4_RATIO,HE3_HE4_RATIO_FLAG_W,Nd_143_144_D_EPSILON_BOTTLE,Nd_143_144_D_EPSILON_BOTTLE_FLAG_W,Nd_143_144_D_EPSILON_BOTTLE_ERROR,Nd_143_144_D_RATIO_BOTTLE,Nd_143_144_D_RATIO_BOTTLE_FLAG_W,Nd_143_144_D_RATIO_BOTTLE_ERROR,Nd_D_CONC,Nd_D_CONC_FLAG_W,La_D_CONC_BOTTLE,La_D_CONC_BOTTLE_FLAG_W,Ce_D_CONC_BOTTLE,Ce_D_CONC_BOTTLE_FLAG_W,Pr_D_CONC_BOTTLE,Pr_D_CONC_BOTTLE_FLAG_W,Sm_D_CONC_BOTTLE,Sm_D_CONC_BOTTLE_FLAG_W,Eu_D_CONC_BOTTLE,Eu_D_CONC_BOTTLE_FLAG_W,Gd_D_CONC_BOTTLE,Gd_D_CONC_BOTTLE_FLAG_W,Tb_D_CONC_BOTTLE,Tb_D_CONC_BOTTLE_FLAG_W,Dy_D_CONC_BOTTLE,Dy_D_CONC_BOTTLE_FLAG_W,Ho_D_CONC_BOTTLE,Ho_D_CONC_BOTTLE_FLAG_W,Er_D_CONC_BOTTLE,Er_D_CONC_BOTTLE_FLAG_W,Tm_D_CONC_BOTTLE,Tm_D_CONC_BOTTLE_FLAG_W,Yb_D_CONC_BOTTLE,Yb_D_CONC_BOTTLE_FLAG_W,Lu_D_CONC_BOTTLE,Lu_D_CONC_BOTTLE_FLAG_W
,,,,,,,,,,,METERS,DBAR,ITS-90,PSS-78,,PSS-78,,UMOL/KG,,UMOL/KG,,UMOL/KG,,UMOL/KG,,UMOL/KG,,UMOL/KG,,UMOL/KG,,PMOL/KG,,PMOL/KG,,FMOL/KG,,UMOL/KG,,UMOL/KG,,,,DEG C,UMOL/KG,,NMOL/L,,DEG C,,/MILLE,,/MILLE,,/MILLE,UG/KG,,UMOL/KG,,UMOL/KG,,NMOL/L,,VOLTS,,VOLTS,,VOLTS,,NMOL/KG,,UMOL/L,,,,,,NMOL/L,,NMOL/L,,,,,,10000,,10000,,,,PMOL/KG,,PMOL/L,,PMOL/L,,PMOL/L,,PMOL/L,,PMOL/L,,PMOL/L,,PMOL/L,,PMOL/L,,PMOL/L,,PMOL/L,,PMOL/L,,PMOL/L,,PMOL/L,
320620180309  ,S04P       ,79      ,  1,36         ,36         ,2,20180421,0215, -67.0007,-134.3020,     4541,      4.2,-1.5674777777777777477,33.635188879945645,2,  33.6323,2,353.70229720084819,2, 353.0957,2,    353.6,2,     27.5,2,    24.92,2,     0.28,2,     1.72,2,    6.112,2,    3.265,2,   4.0300,2,   2160.0,6,  2275.68,2,   7.6633,2,    24.88,     -999,9,     -999,9,  -1.5678,2,     -999,9,     -999,9,     -999,     -999,9,     -999,9,     -999,9,     -999,9,    0.429,1,    4.515,1,    0.301,1,  18.1100,2,     -999,9,20180421,0424, -67.0013,-134.3021,     -999,9,     -999,9,-999          ,9,     -999,9,     -999,9,     -999,     -999,9,     -999,     -999,9,     -999,9,     -999,9,     -999,9,     -999,9,     -999,9,     -999,9,     -999,9,     -999,9,     -999,9,     -999,9,     -999,9,     -999,9,     -999,9
320620180309  ,S04P       ,79      ,  1,35         ,35         ,2,20180421,0215, -67.0007,-134.3020,     4541,     24.0,-1.5647499999999998632,33.635227102890816,2,  33.6325,2,354.20722199212997,2, 353.0994,2,    353.1,2,     27.5,2,    24.82,2,     0.28,2,     1.73,2,     -999,9,     -999,9,     -999,9,   2161.5,2,  2275.70,2,   7.6661,2,    24.88,     -999,9,     -999,9,  -1.5654,2,     -999,9,     -999,9,     -999,     -999,9,     -999,9,     -999,9,     -999,9,    0.422,1,    4.517,1,    0.301,1,     -999,9,     -999,9,20180421,0423, -67.0013,-134.3021,     -999,9,     -999,9,-999          ,9,     -999,9,     -999,9,     -999,     -999,9,     -999,     -999,9,     -999,9,     -999,9,     -999,9,     -999,9,     -999,9,     -999,9,     -999,9,     -999,9,     -999,9,     -999,9,     -999,9,     -999,9,     -999,9
320620180309  ,S04P       ,79      ,  1,34         ,34         ,2,20180421,0215, -67.0007,-134.3020,     4541,     49.8,-1.5624111111111111949,33.635497703040180,2,  33.6321,2,351.92896843795870,2, 353.1015,2,    353.4,2,     27.6,2,    24.83,2,     0.28,2,     1.71,2,     -999,9,     -999,9,     -999,9,     -999,9,     -999,9,     -999,9,     -999,     -999,9,     -999,9,  -1.5631,2,     -999,9,     -999,9,     -999,     -999,9,     -999,9,     -999,9,     -999,9,    0.400,1,    4.522,1,    0.307,1,     -999,9,     -999,9,20180421,0421, -67.0013,-134.3022,     -999,9,     -999,9,-999          ,9,     -999,9,     -999,9,     -999,     -999,9,     -999,     -999,9,     -999,9,     -999,9,     -999,9,     -999,9,     -999,9,     -999,9,     -999,9,     -999,9,     -999,9,     -999,9,     -999,9,     -999,9,     -999,9
320620180309  ,S04P       ,79      ,  1,33         ,33         ,2,20180421,0215, -67.0007,-134.3020,     4541,     75.2,-1.5638194444444446507,33.635537021660639,2,  33.6321,2,352.53365660715957,2, 353.1016,2,    353.1,2,     27.5,2,    24.83,2,     0.28,2,     1.72,2,    4.767,2,    2.593,2,   2.9900,2,   2159.3,2,  2276.40,2,   7.6650,2,    24.88,     -999,9,     -999,9,  -1.5645,2,     -999,9,     -999,9,     -999,     -999,9,     -999,9,     -999,9,     -999,9,    0.377,1,    4.528,1,    0.288,1,  19.3400,2,     -999,9,20180421,0419, -67.0013,-134.3022,     -999,9,     -999,9,-999          ,9,     -999,9,     -999,9,     -999,     -999,9,     -999,     -999,9,     -999,9,     -999,9,     -999,9,     -999,9,     -999,9,     -999,9,     -999,9,     -999,9,     -999,9,     -999,9,     -999,9,     -999,9,     -999,9
320620180309  ,S04P       ,79      ,  1,32         ,32         ,2,20180421,0215, -67.0007,-134.3020,     4541,    100.2,-1.5318694444444445057,33.697870417120789,3,  33.7550,2,348.57056242961835,3, 346.0955,3,    339.6,2,     33.2,2,    26.26,2,     0.27,2,     1.83,2,     -999,9,     -999,9,     -999,9,   2175.3,2,  2282.02,2,   7.6461,2,    24.89,     -999,9,     -999,9,  -1.5319,2,     -999,9,     -999,9,     -999,     -999,9,     -999,9,     -999,9,     -999,9,    0.113,1,    4.623,1,    0.184,1,     -999,9,     -999,9,20180421,0417, -67.0013,-134.3022,     -999,9,     -999,9,-999          ,9,     -999,9,     -999,9,     -999,     -999,9,     -999,     -999,9,     -999,9,     -999,9,     -999,9,     -999,9,     -999,9,     -999,9,     -999,9,     -999,9,     -999,9,     -999,9,     -999,9,     -999,9,     -999,9
320620180309  ,S04P       ,79      ,  1,31         ,31         ,2,20180421,0215, -67.0007,-134.3020,     4541,    125.5,-0.8226305555555555316,34.054144235761008,3,  34.1009,2,307.42005757915211,3, 301.1023,2,    299.3,2,     50.8,2,    30.78,2,     0.03,2,     2.11,2,    6.123,2,    3.283,2,   4.0400,2,     -999,9,     -999,9,     -999,9,     -999,     -999,9,     -999,9,  -0.8248,2,     -999,9,     -999,9,     -999,     -999,9,     -999,9,     -999,9,     -999,9,    0.076,1,    4.643,1,    0.151,1,  17.1300,2,     -999,9,20180421,0415, -67.0013,-134.3023,     -999,9,     -999,9,-999          ,9,     -999,9,     -999,9,     -999,     -999,9,     -999,     -999,9,     -999,9,     -999,9,     -999,9,     -999,9,     -999,9,     -999,9,     -999,9,     -999,9,     -999,9,     -999,9,     -999,9,     -999,9,     -999,9
320620180309  ,S04P       ,79      ,  1,30         ,30         ,2,20180421,0215, -67.0007,-134.3020,     4541,    150.5,0.6010999999999998566,34.309401597149424,3,  34.3325,2,242.78495047707017,2, 242.2003,2,    241.5,2,     64.3,2,    33.32,2,     0.02,2,     2.28,2,     -999,9,     -999,9,     -999,9,   2236.0,2,  2315.80,2,   7.5622,2,    24.88,     -999,9,     -999,9,   0.6065,2,     -999,9,     -999,9,     -999,     -999,9,     -999,9,     -999,9,     -999,9,    0.075,1,    4.645,1,    0.154,1,     -999,9,     -999,9,20180421,0414, -67.0013,-134.3024,     -999,9,     -999,9,-999          ,9,     -999,9,     -999,9,     -999,     -999,9,     -999,     -999,9,     -999,9,     -999,9,     -999,9,     -999,9,     -999,9,     -999,9,     -999,9,     -999,9,     -999,9,     -999,9,     -999,9,     -999,9,     -999,9
320620180309  ,S04P       ,79      ,  1,29         ,29         ,2,20180421,0215, -67.0007,-134.3020,     4541,    201.1,1.5474638888888889721,34.510329049945327,2,  34.5036,2,197.64226340471797,2, 195.9062,2,    198.1,2,     74.3,2,    34.40,2,     0.02,2,     2.35,2,    1.718,2,    0.911,2,   0.9700,2,   2253.1,2,  2327.77,2,   7.5438,2,    24.89,     -999,9,     -999,9,   1.5364,2,     -999,9,     -999,9,     -999,     -999,9,     -999,9,     -999,9,     -999,9,    0.075,1,    4.644,1,    0.153,1,  23.8500,2,     -999,9,20180421,0412, -67.0013,-134.3024,     -999,9,     -999,9,-999          ,9,     -999,9,     -999,9,     -999,     -999,9,     -999,     -999,9,     -999,9,     -999,9,     -999,9,     -999,9,     -999,9,     -999,9,     -999,9,     -999,9,     -999,9,     -999,9,     -999,9,     -999,9,     -999,9
320620180309  ,S04P       ,79      ,  1,28         ,28         ,2,20180421,0215, -67.0007,-134.3020,     4541,    252.3,1.8135388888888890335,34.589118715362503,2,  34.5836,2,186.75140854242571,3, 185.3029,2,    184.4,2,     78.5,2,    34.08,2,     0.01,2,     2.32,2,     -999,9,     -999,9,     -999,9,   2256.6,2,  2337.03,2,   7.5492,2,    24.89,     -999,9,     -999,9,   1.8094,2,     -999,9,     -999,9,     -999,     -999,9,     -999,9,     -999,9,     -999,9,    0.075,1,    4.649,1,    0.167,1,     -999,9,     -999,9,20180421,0409, -67.0013,-134.3024,     -999,9,     -999,9,-999          ,9,     -999,9,     -999,9,     -999,     -999,9,     -999,     -999,9,     -999,9,     -999,9,     -999,9,     -999,9,     -999,9,     -999,9,     -999,9,     -999,9,     -999,9,     -999,9,     -999,9,     -999,9,     -999,9
320620180309  ,S04P       ,79      ,  1,27         ,27         ,2,20180421,0215, -67.0007,-134.3020,     4541,    302.2,1.9131944444444448639,34.629843518045057,2,  34.6266,2,182.32378788412203,3, 182.6956,3,    179.7,2,     80.9,2,    33.64,2,     0.00,2,     2.26,2,    0.761,2,    0.402,2,   0.2500,2,   2259.1,2,  2339.91,2,   7.5545,2,    24.89,     -999,9,     -999,9,   1.9116,2,     -999,9,     -999,9,     -999,     -999,9,     -999,9,     -999,9,     -999,9,    0.073,1,    4.652,1,    0.176,1,  22.8700,2,     -999,9,20180421,0407, -67.0013,-134.3024,     -999,9,     -999,9,-999          ,9,     -999,9,     -999,9,     -999,     -999,9,     -999,     -999,9,     -999,9,     -999,9,     -999,9,     -999,9,     -999,9,     -999,9,     -999,9,     -999,9,     -999,9,     -999,9,     -999,9,     -999,9,     -999,9
320620180309  ,S04P       ,79      ,  1,26         ,26         ,2,20180421,0215, -67.0007,-134.3020,     4541,    352.4,1.9501722222222224179,34.654966486738353,2,  34.6542,2,180.69623003613813,2, 181.2008,2,    178.9,2,     82.0,2,    33.20,2,     0.00,2,     2.26,2,     -999,9,     -999,9,     -999,9,     -999,9,     -999,9,     -999,9,     -999,     -999,9,     -999,9,   1.9477,2,     -999,9,     -999,9,     -999,     -999,9,     -999,9,     -999,9,     -999,9,    0.067,1,    4.654,1,    0.141,1,     -999,9,     -999,9,20180421,0405, -67.0013,-134.3025,     -999,9,     -999,9,-999          ,9,     -999,9,     -999,9,     -999,     -999,9,     -999,     -999,9,     -999,9,     -999,9,     -999,9,     -999,9,     -999,9,     -999,9,     -999,9,     -999,9,     -999,9,     -999,9,     -999,9,     -999,9,     -999,9
320620180309  ,S04P       ,79      ,  1,25         ,25         ,2,20180421,0215, -67.0007,-134.3020,     4541,    403.5,1.9766194444444447065,34.676796806848941,2,  34.6776,2,180.17070676737387,2, 180.9011,2,    178.5,2,     83.8,2,    32.96,2,     0.00,2,     2.24,2,    0.453,2,    0.236,2,   0.2000,2,   2257.6,6,  2343.97,2,   7.5669,2,    24.88,     -999,9,     -999,9,   1.9759,2,     -999,9,     -999,9,     -999,     -999,9,     -999,9,     -999,9,     -999,9,    0.081,1,    4.655,1,    0.172,1,  23.6300,2,     -999,9,20180421,0403, -67.0013,-134.3025,     -999,9,     -999,9,-999          ,9,     -999,9,     -999,9,     -999,     -999,9,     -999,     -999,9,     -999,9,     -999,9,     -999,9,     -999,9,     -999,9,     -999,9,     -999,9,     -999,9,     -999,9,     -999,9,     -999,9,     -999,9,     -999,9
320620180309  ,S04P       ,79      ,  1,24         ,24         ,2,20180421,0215, -67.0007,-134.3020,     4541,    454.3,1.9532666666666667066,34.693246412229833,2,  34.6927,2,181.23138249126680,2, 181.5005,2,    179.8,2,     85.4,2,    32.59,2,     0.00,2,     2.21,2,     -999,9,     -999,9,     -999,9,   2258.6,2,  2346.21,2,   7.5709,2,    24.89,     -999,9,     -999,9,   1.9524,2,     -999,9,     -999,9,     -999,     -999,9,     -999,9,     -999,9,     -999,9,    0.066,1,    4.656,1,    0.139,1,     -999,9,     -999,9,20180421,0401, -67.0013,-134.3024,     -999,9,     -999,9,-999          ,9,     -999,9,     -999,9,     -999,     -999,9,     -999,     -999,9,     -999,9,     -999,9,     -999,9,     -999,9,     -999,9,     -999,9,     -999,9,     -999,9,     -999,9,     -999,9,     -999,9,     -999,9,     -999,9
320620180309  ,S04P       ,79      ,  1,23         ,23         ,2,20180421,0215, -67.0007,-134.3020,     4541,    504.5,1.9264611111111109576,34.703998931197454,2,  34.7025,2,182.30011901519904,2, 182.9984,2,    182.0,2,     86.5,2,    32.39,2,     0.00,2,     2.21,2,    0.335,2,    0.176,2,   0.0400,2,   2258.3,2,  2347.60,2,   7.5763,2,    24.87,     -999,9,     -999,9,   1.9267,2,     -999,9,     -999,9,     -999,     -999,9,     -999,9,     -999,9,     -999,9,    0.063,1,    4.657,1,    0.139,1,  21.7300,2,     -999,9,20180421,0358, -67.0013,-134.3023,     -999,9,     -999,9,-999          ,9,     -999,9,     -999,9,     -999,     -999,9,     -999,     -999,9,     -999,9,     -999,9,     -999,9,     -999,9,     -999,9,     -999,9,     -999,9,     -999,9,     -999,9,     -999,9,     -999,9,     -999,9,     -999,9
320620180309  ,S04P       ,79      ,  1,22         ,37         ,2,20180421,0215, -67.0007,-134.3020,     4541,    606.2,1.8451722222222224357,34.717680051425354,2,  34.7172,2,184.42971657623528,2, 185.0970,2,    185.1,2,     88.6,2,    31.97,2,     0.00,2,     2.17,2,     -999,9,     -999,9,     -999,9,     -999,9,     -999,9,     -999,9,     -999,     -999,9,     -999,9,   1.8444,2,     -999,9,     -999,9,     -999,     -999,9,     -999,9,     -999,9,     -999,9,    0.062,1,    4.659,1,    0.136,1,     -999,9,     -999,9,20180421,0355, -67.0013,-134.3021,     -999,9,     -999,9,-999          ,9,     -999,9,     -999,9,     -999,     -999,9,     -999,     -999,9,     -999,9,     -999,9,     -999,9,     -999,9,     -999,9,     -999,9,     -999,9,     -999,9,     -999,9,     -999,9,     -999,9,     -999,9,     -999,9
320620180309  ,S04P       ,79      ,  1,21         ,21         ,2,20180421,0215, -67.0007,-134.3020,     4541,    707.4,1.7577694444444444954,34.726201053919489,2,  34.7257,2,186.36687607766115,2, 187.1958,2,    187.6,2,     91.3,2,    31.75,2,     0.00,2,     2.15,2,    0.248,2,    0.130,2,   0.0700,2,     -999,9,     -999,9,     -999,9,     -999,     -999,9,     -999,9,   1.7570,2,     -999,9,     -999,9,     -999,     -999,9,     -999,9,     -999,9,     -999,9,    0.061,1,    4.657,1,    0.137,1,  21.8900,2,     -999,9,20180421,0352, -67.0012,-134.3020,     -999,9,     -999,9,-999          ,9,     -999,9,     -999,9,     -999,     -999,9,     -999,     -999,9,     -999,9,     -999,9,     -999,9,     -999,9,     -999,9,     -999,9,     -999,9,     -999,9,     -999,9,     -999,9,     -999,9,     -999,9,     -999,9
320620180309  ,S04P       ,79      ,  1,20         ,20         ,2,20180421,0215, -67.0007,-134.3020,     4541,    809.0,1.6702500000000002345,34.730292312139092,2,  34.7296,2,188.57299905435195,2, 189.1986,2,    189.9,2,     93.9,2,    31.60,2,     0.00,2,     2.17,2,     -999,9,     -999,9,     -999,9,   2255.8,2,  2354.01,2,   7.5903,6,    24.88,     -999,9,     -999,9,   1.6696,2,     -999,9,     -999,9,     -999,     -999,9,     -999,9,     -999,9,     -999,9,    0.061,1,    4.659,1,    0.136,1,     -999,9,     -999,9,20180421,0349, -67.0012,-134.3019,     -999,9,     -999,9,-999          ,9,     -999,9,     -999,9,     -999,     -999,9,     -999,     -999,9,     -999,9,     -999,9,     -999,9,     -999,9,     -999,9,     -999,9,     -999,9,     -999,9,     -999,9,     -999,9,     -999,9,     -999,9,     -999,9
320620180309  ,S04P       ,79      ,  1,19         ,19         ,2,20180421,0215, -67.0007,-134.3020,     4541,    910.4,1.5705916666666661641,34.732175464601944,2,  34.7312,2,190.32704004798745,2, 190.9939,2,    191.4,2,     96.9,2,    31.63,2,     0.00,2,     2.15,2,    0.202,2,    0.112,2,   0.0600,2,   2257.0,2,  2353.00,2,   7.5919,2,    24.88,     -999,9,     -999,9,   1.5719,2,     -999,9,     -999,9,     -999,     -999,9,     -999,9,     -999,9,     -999,9,    0.062,1,    4.658,1,    0.134,1,  21.0600,2,     -999,9,20180421,0346, -67.0012,-134.3018,     -999,9,     -999,9,-999          ,9,     -999,9,     -999,9,     -999,     -999,9,     -999,     -999,9,     -999,9,     -999,9,     -999,9,     -999,9,     -999,9,     -999,9,     -999,9,     -999,9,     -999,9,     -999,9,     -999,9,     -999,9,     -999,9
320620180309  ,S04P       ,79      ,  1,18         ,18         ,2,20180421,0215, -67.0007,-134.3020,     4541,   1012.0,1.4891083333333332561,34.732074081306259,2,  34.7317,2,191.65191023457834,2, 192.2957,2,    192.5,2,     99.7,2,    31.67,2,     0.00,2,     2.17,2,     -999,9,     -999,9,     -999,9,     -999,9,     -999,9,     -999,9,     -999,     -999,9,     -999,9,   1.4883,2,     -999,9,     -999,9,     -999,     -999,9,     -999,9,     -999,9,     -999,9,    0.061,1,    4.657,1,    0.133,1,     -999,9,     -999,9,20180421,0343, -67.0012,-134.3018,     -999,9,     -999,9,-999          ,9,     -999,9,     -999,9,     -999,     -999,9,     -999,     -999,9,     -999,9,     -999,9,     -999,9,     -999,9,     -999,9,     -999,9,     -999,9,     -999,9,     -999,9,     -999,9,     -999,9,     -999,9,     -999,9
320620180309  ,S04P       ,79      ,  1,17         ,17         ,2,20180421,0215, -67.0007,-134.3020,     4541,   1112.5,1.4046499999999999542,34.731060817549242,2,  34.7306,2,193.03071871394474,2, 193.4032,2,    193.3,2,    102.4,2,    31.80,2,     0.00,2,     2.16,2,     -999,9,     -999,9,     -999,9,   2258.4,2,  2359.61,2,   7.5943,2,    24.88,     -999,9,     -999,9,   1.4043,2,     -999,9,     -999,9,     -999,     -999,9,     -999,9,     -999,9,     -999,9,    0.069,1,    4.658,1,    0.153,1,     -999,9,     -999,9,20180421,0340, -67.0012,-134.3019,     -999,9,     -999,9,-999          ,9,     -999,9,     -999,9,     -999,     -999,9,     -999,     -999,9,     -999,9,     -999,9,     -999,9,     -999,9,     -999,9,     -999,9,     -999,9,     -999,9,     -999,9,     -999,9,     -999,9,     -999,9,     -999,9
320620180309  ,S04P       ,79      ,  1,16         ,16         ,2,20180421,0215, -67.0007,-134.3020,     4541,   1215.5,1.3229111111111109267,34.729070871163408,2,  34.7290,2,194.39518252918199,2, 194.5059,2,    194.4,2,    105.0,2,    31.90,2,     0.00,2,     2.16,2,     -999,9,     -999,9,     -999,9,     -999,9,     -999,9,     -999,9,     -999,     -999,9,     -999,9,   1.3213,2,     -999,9,     -999,9,     -999,     -999,9,     -999,9,     -999,9,     -999,9,    0.061,1,    4.659,1,    0.131,1,     -999,9,     -999,9,20180421,0337, -67.0012,-134.3019,     -999,9,     -999,9,-999          ,9,     -999,9,     -999,9,     -999,     -999,9,     -999,     -999,9,     -999,9,     -999,9,     -999,9,     -999,9,     -999,9,     -999,9,     -999,9,     -999,9,     -999,9,     -999,9,     -999,9,     -999,9,     -999,9