BOTTLE,20240515CCHHYDRO
EXPOCODE,SECT_ID,STNNBR,CASTNO,SAMPNO,BTLNBR,BTLNBR_FLAG_W,DATE,TIME,LATITUDE,LONGITUDE,DEPTH,CTDPRS,CTDTMP,CTDSAL,CTDSAL_FLAG_W,SALNTY,SALNTY_FLAG_W,CTDOXY,CTDOXY_FLAG_W,CTDOPTOXY,CTDOPTOXY_FLAG_W,OXYGEN,OXYGEN_FLAG_W,SILCAT,SILCAT_FLAG_W,NITRAT,NITRAT_FLAG_W,NITRIT,NITRIT_FLAG_W,PHSPHT,PHSPHT_FLAG_W,CFC-11,CFC-11_FLAG_W,CFC-12,CFC-12_FLAG_W,SF6,SF6_FLAG_W,TCARBN,TCARBN_FLAG_W,ALKALI,ALKALI_FLAG_W,PH_TOT,PH_TOT_FLAG_W,PH_TMP,DOC,DOC_FLAG_W,HELIUM,HELIUM_FLAG_W,REFTMP,REFTMP_FLAG_W,DELC13,DELC13_FLAG_W,DELC14,DELC14_FLAG_W,C14ERR,POC,POC_FLAG_W,TDN,TDN_FLAG_W,TON,TON_FLAG_W,NEON,NEON_FLAG_W,CTDFLUOR,CTDFLUOR_FLAG_W,CTDXMISS,CTDXMISS_FLAG_W,CTDBETA700,CTDBETA700_FLAG_W,N2O,N2O_FLAG_W,ARGON,ARGON_FLAG_W,BTL_DATE,BTL_TIME,BTL_LAT,BTL_LON,KRYPTON,KRYPTON_FLAG_W,XENON,XENON_FLAG_W,HPLC,HPLC_FLAG_W,HE3_HE4_RATIO,HE3_HE4_RATIO_FLAG_W,Nd_143_144_D_EPSILON_BOTTLE,Nd_143_144_D_EPSILON_BOTTLE_FLAG_W,Nd_143_144_D_EPSILON_BOTTLE_ERROR,Nd_143_144_D_RATIO_BOTTLE,Nd_143_144_D_RATIO_BOTTLE_FLAG_W,Nd_143_144_D_RATIO_BOTTLE_ERROR,Nd_D_CONC,Nd_D_CONC_FLAG_W,La_D_CONC_BOTTLE,La_D_CONC_BOTTLE_FLAG_W,Ce_D_CONC_BOTTLE,Ce_D_CONC_BOTTLE_FLAG_W,Pr_D_CONC_BOTTLE,Pr_D_CONC_BOTTLE_FLAG_W,Sm_D_CONC_BOTTLE,Sm_D_CONC_BOTTLE_FLAG_W,Eu_D_CONC_BOTTLE,Eu_D_CONC_BOTTLE_FLAG_W,Gd_D_CONC_BOTTLE,Gd_D_CONC_BOTTLE_FLAG_W,Tb_D_CONC_BOTTLE,Tb_D_CONC_BOTTLE_FLAG_W,Dy_D_CONC_BOTTLE,Dy_D_CONC_BOTTLE_FLAG_W,Ho_D_CONC_BOTTLE,Ho_D_CONC_BOTTLE_FLAG_W,Er_D_CONC_BOTTLE,Er_D_CONC_BOTTLE_FLAG_W,Tm_D_CONC_BOTTLE,Tm_D_CONC_BOTTLE_FLAG_W,Yb_D_CONC_BOTTLE,Yb_D_CONC_BOTTLE_FLAG_W,Lu_D_CONC_BOTTLE,Lu_D_CONC_BOTTLE_FLAG_W
,,,,,,,,,,,METERS,DBAR,ITS-90,PSS-78,,PSS-78,,UMOL/KG,,UMOL/KG,,UMOL/KG,,UMOL/KG,,UMOL/KG,,UMOL/KG,,UMOL/KG,,PMOL/KG,,PMOL/KG,,FMOL/KG,,UMOL/KG,,UMOL/KG,,,,DEG C,UMOL/KG,,NMOL/L,,DEG C,,/MILLE,,/MILLE,,/MILLE,UG/KG,,UMOL/KG,,UMOL/KG,,NMOL/L,,VOLTS,,VOLTS,,VOLTS,,NMOL/KG,,UMOL/L,,,,,,NMOL/L,,NMOL/L,,,,,,10000,,10000,,,,PMOL/KG,,PMOL/L,,PMOL/L,,PMOL/L,,PMOL/L,,PMOL/L,,PMOL/L,,PMOL/L,,PMOL/L,,PMOL/L,,PMOL/L,,PMOL/L,,PMOL/L,,PMOL/L,
320620180309  ,S04P       ,77      ,  1,15         ,15         ,2,20180420,1206, -66.9990,-136.8985,     4514,   1346.4,1.1347805555555556811,34.723507391744015,2,  34.7229,2,197.72239065760584,2, 197.8007,2,    197.6,2,    111.6,2,    32.35,2,     0.00,2,     2.21,2,     -999,9,     -999,9,     -999,9,     -999,9,     -999,9,     -999,9,     -999,     -999,9,     -999,1,   1.1336,2,     -999,9,     -999,9,     -999,     -999,9,     -999,9,     -999,9,     -999,1,    0.062,1,    4.654,1,    0.128,1,     -999,9,     -999,1,20180420,1329, -66.9989,-136.8983,     -999,1,     -999,1,-999          ,9,     -999,1,     -999,9,     -999,     -999,9,     -999,     -999,9,     -999,9,     -999,9,     -999,9,     -999,9,     -999,9,     -999,9,     -999,9,     -999,9,     -999,9,     -999,9,     -999,9,     -999,9,     -999,9
320620180309  ,S04P       ,77      ,  1,14         ,14         ,2,20180420,1206, -66.9990,-136.8985,     4514,   1454.0,1.0742805555555556829,34.721138464347526,2,  34.7200,2,198.87704563015086,2, 198.6004,2,    198.6,2,    113.7,2,    32.42,2,     0.00,2,     2.21,2,    0.150,2,    0.082,2,   0.0000,2,   2262.6,2,  2361.33,2,   7.5951,2,    24.89,     -999,9,     -999,9,   1.0735,2,     -999,9,     -999,9,     -999,     -999,9,     -999,9,     -999,9,     -999,9,    0.061,1,    4.656,1,    0.131,1,  19.8900,2,     -999,9,20180420,1326, -66.9989,-136.8982,     -999,9,     -999,9,-999          ,9,     -999,9,     -999,9,     -999,     -999,9,     -999,     -999,9,     -999,1,     -999,1,     -999,1,     -999,1,     -999,1,     -999,1,     -999,1,     -999,1,     -999,1,     -999,1,     -999,1,     -999,1,     -999,1
320620180309  ,S04P       ,77      ,  1,13         ,13         ,2,20180420,1206, -66.9990,-136.8985,     4514,   1555.4,1.0200194444444445896,34.718988284894216,2,  34.7190,2,200.25431004724405,2, 199.6025,2,    200.1,2,    115.7,2,    32.38,2,     0.00,2,     2.20,2,     -999,9,     -999,9,     -999,9,     -999,9,     -999,9,     -999,9,     -999,     -999,9,     -999,9,   1.0199,2,     -999,9,     -999,9,     -999,     -999,9,     -999,9,     -999,9,     -999,9,    0.089,1,    4.655,1,    0.145,1,     -999,9,     -999,9,20180420,1323, -66.9989,-136.8982,     -999,9,     -999,9,-999          ,9,     -999,9,     -999,9,     -999,     -999,9,     -999,     -999,9,     -999,9,     -999,9,     -999,9,     -999,9,     -999,9,     -999,9,     -999,9,     -999,9,     -999,9,     -999,9,     -999,9,     -999,9,     -999,9
320620180309  ,S04P       ,77      ,  1,12         ,12         ,2,20180420,1206, -66.9990,-136.8985,     4514,   1687.0,0.9535472222222222127,34.715886040915748,2,  34.7162,2,201.80702121444961,2, 200.9996,2,    202.5,2,    117.9,2,    32.42,2,     0.00,2,     2.21,2,     -999,9,     -999,9,     -999,9,   2262.5,2,  2364.54,2,   7.5997,2,    24.89,     -999,9,     -999,9,   0.9529,2,     -999,9,     -999,9,     -999,     -999,9,     -999,9,     -999,9,     -999,9,    0.066,1,    4.654,1,    0.132,1,     -999,9,     -999,9,20180420,1319, -66.9989,-136.8982,     -999,9,     -999,9,-999          ,9,     -999,9,     -999,9,     -999,     -999,9,     -999,     -999,9,     -999,1,     -999,1,     -999,1,     -999,1,     -999,1,     -999,1,     -999,1,     -999,1,     -999,1,     -999,1,     -999,1,     -999,1,     -999,1
320620180309  ,S04P       ,77      ,  1,11         ,11         ,2,20180420,1206, -66.9990,-136.8985,     4514,   1890.3,0.8638388888888889339,34.712216679669325,2,  34.7121,2,203.68192732795654,2, 203.1977,2,    203.6,2,    121.1,2,    32.52,2,     0.00,2,     2.20,2,     -999,9,     -999,9,     -999,9,     -999,9,     -999,9,     -999,9,     -999,     -999,9,     -999,9,   0.8641,2,     -999,9,     -999,9,     -999,     -999,9,     -999,9,     -999,9,     -999,9,    0.067,1,    4.657,1,    0.132,1,     -999,9,     -999,9,20180420,1314, -66.9991,-136.8985,     -999,9,     -999,9,-999          ,9,     -999,9,     -999,9,     -999,     -999,9,     -999,     -999,9,     -999,9,     -999,9,     -999,9,     -999,9,     -999,9,     -999,9,     -999,9,     -999,9,     -999,9,     -999,9,     -999,9,     -999,9,     -999,9
320620180309  ,S04P       ,77      ,  1,10         ,10         ,2,20180420,1206, -66.9990,-136.8985,     4514,   2130.8,0.7725138888888889444,34.708562712649048,2,  34.7088,2,204.84912824403449,2, 205.5972,2,    205.3,2,    125.2,2,    32.58,2,     0.00,2,     2.22,2,    0.160,2,    0.095,2,   0.0500,2,   2261.1,2,  2364.88,2,   7.5951,2,    24.88,     -999,9,     -999,1,   0.7719,2,     -999,9,     -999,9,     -999,     -999,9,     -999,9,     -999,9,     -999,1,    0.061,1,    4.659,1,    0.126,1,  19.6100,2,     -999,1,20180420,1309, -66.9994,-136.8989,     -999,1,     -999,1,-999          ,9,     -999,1,     -999,9,     -999,     -999,9,     -999,     -999,9,     -999,1,     -999,1,     -999,1,     -999,1,     -999,1,     -999,1,     -999,1,     -999,1,     -999,1,     -999,1,     -999,1,     -999,1,     -999,1
320620180309  ,S04P       ,77      ,  1,9          ,9          ,2,20180420,1206, -66.9990,-136.8985,     4514,   2385.8,0.6979305555555554985,34.705685676058110,2,  34.7058,2,206.64370459961873,2, 206.9990,2,    206.7,2,    127.3,2,    32.65,2,     0.00,2,     2.23,2,     -999,9,     -999,9,     -999,9,     -999,9,     -999,9,     -999,9,     -999,     -999,9,     -999,9,   0.6981,2,     -999,9,     -999,9,     -999,     -999,9,     -999,9,     -999,9,     -999,9,    0.061,1,    4.660,1,    0.125,1,     -999,9,     -999,9,20180420,1303, -66.9996,-136.8993,     -999,9,     -999,9,-999          ,9,     -999,9,     -999,9,     -999,     -999,9,     -999,     -999,9,     -999,9,     -999,9,     -999,9,     -999,9,     -999,9,     -999,9,     -999,9,     -999,9,     -999,9,     -999,9,     -999,9,     -999,9,     -999,9
320620180309  ,S04P       ,77      ,  1,8          ,8          ,2,20180420,1206, -66.9990,-136.8985,     4514,   2642.5,0.6180583333333331542,34.703467555309672,2,  34.7033,2,208.52091453201544,2, 208.7993,2,    209.0,2,    128.4,2,    32.75,2,     0.00,2,     2.22,2,    0.208,2,    0.116,2,   0.0200,2,   2262.8,2,  2363.88,2,   7.5951,2,    24.89,     -999,9,     -999,9,   0.6166,2,     -999,9,     -999,9,     -999,     -999,9,     -999,9,     -999,9,     -999,9,    0.061,1,    4.661,1,    0.125,1,  19.6500,2,     -999,9,20180420,1257, -66.9999,-136.8998,     -999,9,     -999,9,-999          ,9,     -999,9,     -999,9,     -999,     -999,9,     -999,     -999,9,     -999,1,     -999,1,     -999,1,     -999,1,     -999,1,     -999,1,     -999,1,     -999,1,     -999,1,     -999,1,     -999,1,     -999,1,     -999,1
320620180309  ,S04P       ,77      ,  1,7          ,7          ,2,20180420,1206, -66.9990,-136.8985,     4514,   2897.3,0.5222222222222222543,34.701953844625805,2,  34.7019,2,210.74154040358601,2, 210.7978,2,    211.6,2,    130.4,2,    32.80,2,     0.00,2,     2.23,2,     -999,9,     -999,9,     -999,9,     -999,9,     -999,9,     -999,9,     -999,     -999,9,     -999,9,   0.5217,2,     -999,9,     -999,9,     -999,     -999,9,     -999,9,     -999,9,     -999,9,    0.061,1,    4.662,1,    0.125,1,     -999,9,     -999,9,20180420,1251, -66.9999,-136.8997,     -999,9,     -999,9,-999          ,9,     -999,9,     -999,9,     -999,     -999,9,     -999,     -999,9,     -999,9,     -999,9,     -999,9,     -999,9,     -999,9,     -999,9,     -999,9,     -999,9,     -999,9,     -999,9,     -999,9,     -999,9,     -999,9
320620180309  ,S04P       ,77      ,  1,6          ,6          ,2,20180420,1206, -66.9990,-136.8985,     4514,   3153.0,0.4577083333333333282,34.701552776372651,2,  34.7011,2,212.22530359437494,2, 212.5006,2,    212.0,2,    132.4,2,    32.89,2,     0.00,2,     2.23,2,    0.204,2,    0.110,2,   0.1300,2,   2264.2,2,  2364.87,2,   7.5955,2,    24.89,     -999,9,     -999,9,   0.4571,2,     -999,9,     -999,9,     -999,     -999,9,     -999,9,     -999,9,     -999,9,    0.061,1,    4.662,1,    0.125,1,  19.3900,2,     -999,9,20180420,1246, -66.9998,-136.8997,     -999,9,     -999,9,-999          ,9,     -999,9,     -999,9,     -999,     -999,9,     -999,     -999,9,     -999,1,     -999,1,     -999,1,     -999,1,     -999,1,     -999,1,     -999,1,     -999,1,     -999,1,     -999,1,     -999,1,     -999,1,     -999,1
320620180309  ,S04P       ,77      ,  1,5          ,5          ,2,20180420,1206, -66.9990,-136.8985,     4514,   3486.9,0.3956888888888888678,34.700667941947444,2,  34.7003,2,214.20145890741239,2, 214.4000,2,    214.5,2,    135.4,2,    32.94,2,     0.00,2,     2.24,2,    0.253,2,    0.145,2,   0.0500,2,   2264.3,2,  2365.26,2,   7.5961,2,    24.90,     -999,9,     -999,9,   0.3951,2,     -999,9,     -999,9,     -999,     -999,9,     -999,9,     -999,9,     -999,9,    0.061,1,    4.662,1,    0.124,1,  19.0400,2,     -999,9,20180420,1238, -66.9995,-136.8992,     -999,9,     -999,9,-999          ,9,     -999,9,     -999,9,     -999,     -999,9,     -999,     -999,9,     -999,9,     -999,9,     -999,9,     -999,9,     -999,9,     -999,9,     -999,9,     -999,9,     -999,9,     -999,9,     -999,9,     -999,9,     -999,9
320620180309  ,S04P       ,77      ,  1,4          ,4          ,2,20180420,1206, -66.9990,-136.8985,     4514,   3768.9,0.3520722222222222864,34.699095252115804,2,  34.6988,2,215.92207511685297,2, 215.8002,2,    215.6,2,    136.4,2,    32.98,2,     0.00,2,     2.24,2,     -999,9,     -999,9,     -999,9,     -999,9,     -999,9,     -999,9,     -999,     -999,9,     -999,9,   0.3516,2,     -999,9,     -999,9,     -999,     -999,9,     -999,9,     -999,9,     -999,9,    0.061,1,    4.661,1,    0.124,1,     -999,9,     -999,9,20180420,1232, -66.9993,-136.8988,     -999,9,     -999,9,-999          ,9,     -999,9,     -999,9,     -999,     -999,9,     -999,     -999,9,     -999,1,     -999,1,     -999,1,     -999,1,     -999,1,     -999,1,     -999,1,     -999,1,     -999,1,     -999,1,     -999,1,     -999,1,     -999,1
320620180309  ,S04P       ,77      ,  1,3          ,3          ,2,20180420,1206, -66.9990,-136.8985,     4514,   4051.8,0.3153583333333334071,34.696795946456703,2,  34.6956,2,217.55475868653886,2, 217.0044,2,    217.6,2,    135.2,2,    32.88,2,     0.00,2,     2.24,2,    0.502,2,    0.260,2,   0.1300,2,   2261.7,2,  2364.82,2,   7.5947,2,    24.89,     -999,9,     -999,1,   0.3147,2,     -999,9,     -999,9,     -999,     -999,9,     -999,9,     -999,9,     -999,1,    0.060,1,    4.659,1,    0.126,1,  19.7000,2,     -999,1,20180420,1225, -66.9993,-136.8988,     -999,1,     -999,1,-999          ,9,     -999,1,     -999,9,     -999,     -999,9,     -999,     -999,9,     -999,1,     -999,1,     -999,1,     -999,1,     -999,1,     -999,1,     -999,1,     -999,1,     -999,1,     -999,1,     -999,1,     -999,1,     -999,1
320620180309  ,S04P       ,77      ,  1,2          ,2          ,2,20180420,1206, -66.9990,-136.8985,     4514,   4335.9,0.2951499999999999679,34.695246486115018,2,  34.6950,2,219.07246721408529,2, 219.1042,2,    219.4,2,    131.7,2,    32.87,2,     0.00,2,     2.24,2,    0.639,2,    0.333,2,   0.1200,2,   2263.7,2,  2363.45,2,   7.5936,2,    24.88,     -999,9,     -999,9,   0.2945,2,     -999,9,     -999,9,     -999,     -999,9,     -999,9,     -999,9,     -999,9,    0.060,1,    4.658,1,    0.130,1,  19.1400,2,     -999,9,20180420,1216, -66.9991,-136.8985,     -999,9,     -999,9,-999          ,9,     -999,9,     -999,9,     -999,     -999,9,     -999,     -999,9,     -999,1,     -999,1,     -999,1,     -999,1,     -999,1,     -999,1,     -999,1,     -999,1,     -999,1,     -999,1,     -999,1,     -999,1,     -999,1
320620180309  ,S04P       ,77      ,  1,1          ,1          ,2,20180420,1206, -66.9990,-136.8985,     4514,   4600.5,0.3013972222222222608,34.694910708820203,2,  34.6947,2,219.58815590248295,2, 219.2040,2,    219.5,2,    130.5,2,    32.91,2,     0.00,2,     2.24,2,    0.690,2,    0.349,2,   0.1600,2,   2262.0,6,  2362.73,2,   7.5952,2,    24.88,     -999,9,     -999,9,   0.3009,2,     -999,9,     -999,9,     -999,     -999,9,     -999,9,     -999,9,     -999,9,    0.060,1,    4.656,1,    0.132,1,  19.5500,2,     -999,9,20180420,1206, -66.9990,-136.8985,     -999,9,     -999,9,-999          ,9,     -999,9,     -999,9,     -999,     -999,9,     -999,     -999,9,     -999,1,     -999,1,     -999,1,     -999,1,     -999,1,     -999,1,     -999,1,     -999,1,     -999,1,     -999,1,     -999,1,     -999,1,     -999,1