BOTTLE,20240515CCHHYDRO
EXPOCODE,SECT_ID,STNNBR,CASTNO,SAMPNO,BTLNBR,BTLNBR_FLAG_W,DATE,TIME,LATITUDE,LONGITUDE,DEPTH,CTDPRS,CTDTMP,CTDSAL,CTDSAL_FLAG_W,SALNTY,SALNTY_FLAG_W,CTDOXY,CTDOXY_FLAG_W,CTDOPTOXY,CTDOPTOXY_FLAG_W,OXYGEN,OXYGEN_FLAG_W,SILCAT,SILCAT_FLAG_W,NITRAT,NITRAT_FLAG_W,NITRIT,NITRIT_FLAG_W,PHSPHT,PHSPHT_FLAG_W,CFC-11,CFC-11_FLAG_W,CFC-12,CFC-12_FLAG_W,SF6,SF6_FLAG_W,TCARBN,TCARBN_FLAG_W,ALKALI,ALKALI_FLAG_W,PH_TOT,PH_TOT_FLAG_W,PH_TMP,DOC,DOC_FLAG_W,HELIUM,HELIUM_FLAG_W,REFTMP,REFTMP_FLAG_W,DELC13,DELC13_FLAG_W,DELC14,DELC14_FLAG_W,C14ERR,POC,POC_FLAG_W,TDN,TDN_FLAG_W,TON,TON_FLAG_W,NEON,NEON_FLAG_W,CTDFLUOR,CTDFLUOR_FLAG_W,CTDXMISS,CTDXMISS_FLAG_W,CTDBETA700,CTDBETA700_FLAG_W,N2O,N2O_FLAG_W,ARGON,ARGON_FLAG_W,BTL_DATE,BTL_TIME,BTL_LAT,BTL_LON,KRYPTON,KRYPTON_FLAG_W,XENON,XENON_FLAG_W,HPLC,HPLC_FLAG_W,HE3_HE4_RATIO,HE3_HE4_RATIO_FLAG_W,Nd_143_144_D_EPSILON_BOTTLE,Nd_143_144_D_EPSILON_BOTTLE_FLAG_W,Nd_143_144_D_EPSILON_BOTTLE_ERROR,Nd_143_144_D_RATIO_BOTTLE,Nd_143_144_D_RATIO_BOTTLE_FLAG_W,Nd_143_144_D_RATIO_BOTTLE_ERROR,Nd_D_CONC,Nd_D_CONC_FLAG_W,La_D_CONC_BOTTLE,La_D_CONC_BOTTLE_FLAG_W,Ce_D_CONC_BOTTLE,Ce_D_CONC_BOTTLE_FLAG_W,Pr_D_CONC_BOTTLE,Pr_D_CONC_BOTTLE_FLAG_W,Sm_D_CONC_BOTTLE,Sm_D_CONC_BOTTLE_FLAG_W,Eu_D_CONC_BOTTLE,Eu_D_CONC_BOTTLE_FLAG_W,Gd_D_CONC_BOTTLE,Gd_D_CONC_BOTTLE_FLAG_W,Tb_D_CONC_BOTTLE,Tb_D_CONC_BOTTLE_FLAG_W,Dy_D_CONC_BOTTLE,Dy_D_CONC_BOTTLE_FLAG_W,Ho_D_CONC_BOTTLE,Ho_D_CONC_BOTTLE_FLAG_W,Er_D_CONC_BOTTLE,Er_D_CONC_BOTTLE_FLAG_W,Tm_D_CONC_BOTTLE,Tm_D_CONC_BOTTLE_FLAG_W,Yb_D_CONC_BOTTLE,Yb_D_CONC_BOTTLE_FLAG_W,Lu_D_CONC_BOTTLE,Lu_D_CONC_BOTTLE_FLAG_W
,,,,,,,,,,,METERS,DBAR,ITS-90,PSS-78,,PSS-78,,UMOL/KG,,UMOL/KG,,UMOL/KG,,UMOL/KG,,UMOL/KG,,UMOL/KG,,UMOL/KG,,PMOL/KG,,PMOL/KG,,FMOL/KG,,UMOL/KG,,UMOL/KG,,,,DEG C,UMOL/KG,,NMOL/L,,DEG C,,/MILLE,,/MILLE,,/MILLE,UG/KG,,UMOL/KG,,UMOL/KG,,NMOL/L,,VOLTS,,VOLTS,,VOLTS,,NMOL/KG,,UMOL/L,,,,,,NMOL/L,,NMOL/L,,,,,,10000,,10000,,,,PMOL/KG,,PMOL/L,,PMOL/L,,PMOL/L,,PMOL/L,,PMOL/L,,PMOL/L,,PMOL/L,,PMOL/L,,PMOL/L,,PMOL/L,,PMOL/L,,PMOL/L,,PMOL/L,
320620180309  ,S04P       ,67      ,  1,15         ,15         ,2,20180417,1114, -67.0011,-151.0205,     4406,   1418.0,0.7953805555555555351,34.711797977415138,2,  34.7119,2,202.15450118688506,2, 202.2053,2,    202.3,2,    122.6,2,    32.45,2,     0.00,2,     2.22,2,     -999,9,     -999,9,     -999,9,   2262.9,2,  2364.42,2,   7.5933,2,    24.91,     -999,9,     -999,9,   0.7948,2,     -999,9,     -999,9,     -999,     -999,9,     -999,9,     -999,9,     -999,9,    0.061,1,    4.668,1,    0.130,1,     -999,9,     -999,9,20180417,1234, -67.0006,-151.0207,     -999,9,     -999,9,-999          ,9,     -999,9,     -999,9,     -999,     -999,9,     -999,     -999,9,     -999,9,     -999,9,     -999,9,     -999,9,     -999,9,     -999,9,     -999,9,     -999,9,     -999,9,     -999,9,     -999,9,     -999,9,     -999,9
320620180309  ,S04P       ,67      ,  1,14         ,14         ,2,20180417,1114, -67.0011,-151.0205,     4406,   1519.2,0.7562027777777777793,34.710135403676666,2,  34.7117,2,203.31178262738953,2, 203.4025,2,    203.7,2,    123.8,2,    32.49,2,     0.00,2,     2.21,2,    0.121,2,    0.070,2,   0.1100,2,   2262.5,2,  2363.85,2,   7.5936,2,    24.91,     -999,9,     -999,9,   0.7555,2,     -999,9,     -999,9,     -999,     -999,9,     -999,9,     -999,9,     -999,9,    0.062,1,    4.668,1,    0.130,1,  18.7600,2,     -999,9,20180417,1231, -67.0008,-151.0205,     -999,9,     -999,9,-999          ,9,     -999,9,     -999,9,     -999,     -999,9,     -999,     -999,9,     -999,9,     -999,9,     -999,9,     -999,9,     -999,9,     -999,9,     -999,9,     -999,9,     -999,9,     -999,9,     -999,9,     -999,9,     -999,9
320620180309  ,S04P       ,67      ,  1,13         ,13         ,2,20180417,1114, -67.0011,-151.0205,     4406,   1620.9,0.7136472222222222106,34.708598502092080,2,  34.7084,2,204.12948770433704,2, 204.3928,2,    204.3,2,    125.0,2,    32.47,2,     0.00,2,     2.21,2,     -999,9,     -999,9,     -999,9,   2262.9,2,  2363.67,2,   7.5947,2,    24.91,     -999,9,     -999,9,   0.7131,2,     -999,9,     -999,9,     -999,     -999,9,     -999,9,     -999,9,     -999,9,    0.061,1,    4.668,1,    0.131,1,     -999,9,     -999,9,20180417,1227, -67.0013,-151.0200,     -999,9,     -999,9,-999          ,9,     -999,9,     -999,9,     -999,     -999,9,     -999,     -999,9,     -999,9,     -999,9,     -999,9,     -999,9,     -999,9,     -999,9,     -999,9,     -999,9,     -999,9,     -999,9,     -999,9,     -999,9,     -999,9
320620180309  ,S04P       ,67      ,  1,12         ,12         ,2,20180417,1114, -67.0011,-151.0205,     4406,   1824.8,0.6488277777777778921,34.706161068819078,2,  34.7068,2,205.67795063731350,2, 206.4005,2,    205.8,2,    127.1,2,    32.53,2,     0.00,2,     2.23,2,     -999,9,     -999,9,     -999,9,   2263.3,2,  2363.14,2,   7.5939,2,    24.90,     -999,9,     -999,9,   0.6487,2,     -999,9,     -999,9,     -999,     -999,9,     -999,9,     -999,9,     -999,9,    0.061,1,    4.668,1,    0.130,1,     -999,9,     -999,9,20180417,1222, -67.0018,-151.0195,     -999,9,     -999,9,-999          ,9,     -999,9,     -999,9,     -999,     -999,9,     -999,     -999,9,     -999,9,     -999,9,     -999,9,     -999,9,     -999,9,     -999,9,     -999,9,     -999,9,     -999,9,     -999,9,     -999,9,     -999,9,     -999,9
320620180309  ,S04P       ,67      ,  1,11         ,11         ,2,20180417,1114, -67.0011,-151.0205,     4406,   2029.2,0.5861888888888888705,34.704427357602583,2,  34.7056,2,208.44465186469321,2, 207.9995,2,    207.8,2,    128.0,2,    32.58,2,     0.00,2,     2.23,2,    0.156,2,    0.098,2,   0.0500,2,   2265.9,6,  2362.43,2,   7.5922,2,    24.91,     -999,9,     -999,9,   0.5856,2,     -999,9,     -999,9,     -999,     -999,9,     -999,9,     -999,9,     -999,9,    0.061,1,    4.668,1,    0.128,1,  19.4600,2,     -999,9,20180417,1216, -67.0021,-151.0193,     -999,9,     -999,9,-999          ,9,     -999,9,     -999,9,     -999,     -999,9,     -999,     -999,9,     -999,9,     -999,9,     -999,9,     -999,9,     -999,9,     -999,9,     -999,9,     -999,9,     -999,9,     -999,9,     -999,9,     -999,9,     -999,9
320620180309  ,S04P       ,67      ,  1,10         ,10         ,2,20180417,1114, -67.0011,-151.0205,     4406,   2283.6,0.4987611111111110440,34.702991456391622,2,  34.7033,2,209.67975736846321,2, 210.1998,2,    209.5,2,    129.5,2,    32.62,2,     0.00,2,     2.22,2,     -999,9,     -999,9,     -999,9,   2261.4,2,  2364.46,2,   7.5940,6,    24.91,     -999,9,     -999,9,   0.4981,2,     -999,9,     -999,9,     -999,     -999,9,     -999,9,     -999,9,     -999,9,    0.061,1,    4.668,1,    0.128,1,     -999,9,     -999,9,20180417,1210, -67.0019,-151.0194,     -999,9,     -999,9,-999          ,9,     -999,9,     -999,9,     -999,     -999,9,     -999,     -999,9,     -999,9,     -999,9,     -999,9,     -999,9,     -999,9,     -999,9,     -999,9,     -999,9,     -999,9,     -999,9,     -999,9,     -999,9,     -999,9
320620180309  ,S04P       ,67      ,  1,9          ,9          ,2,20180417,1114, -67.0011,-151.0205,     4406,   2538.8,0.4270138888888888595,34.701906920916493,2,  34.7027,2,211.86427861948684,2, 211.8034,2,    211.2,2,    131.1,2,    32.64,2,     0.00,2,     2.24,2,    0.172,2,    0.097,2,   0.0900,2,   2263.6,2,  2364.46,2,   7.5926,2,    24.91,     -999,9,     -999,9,   0.4269,2,     -999,9,     -999,9,     -999,     -999,9,     -999,9,     -999,9,     -999,9,    0.061,1,    4.668,1,    0.127,1,  18.9200,2,     -999,9,20180417,1204, -67.0016,-151.0199,     -999,9,     -999,9,-999          ,9,     -999,9,     -999,9,     -999,     -999,9,     -999,     -999,9,     -999,9,     -999,9,     -999,9,     -999,9,     -999,9,     -999,9,     -999,9,     -999,9,     -999,9,     -999,9,     -999,9,     -999,9,     -999,9
320620180309  ,S04P       ,67      ,  1,8          ,8          ,2,20180417,1114, -67.0011,-151.0205,     4406,   2795.5,0.3678055555555556078,34.701217967263560,2,  34.7019,2,212.88646177488508,2, 213.3001,2,    213.4,2,    133.2,2,    32.67,2,     0.00,2,     2.25,2,    0.211,2,    0.131,2,   0.1000,2,   2262.2,2,  2363.46,2,   7.5934,2,    24.91,     -999,9,     -999,9,   0.3673,2,     -999,9,     -999,9,     -999,     -999,9,     -999,9,     -999,9,     -999,9,    0.061,1,    4.668,1,    0.128,1,  18.4200,2,     -999,9,20180417,1159, -67.0014,-151.0201,     -999,9,     -999,9,-999          ,9,     -999,9,     -999,9,     -999,     -999,9,     -999,     -999,9,     -999,9,     -999,9,     -999,9,     -999,9,     -999,9,     -999,9,     -999,9,     -999,9,     -999,9,     -999,9,     -999,9,     -999,9,     -999,9
320620180309  ,S04P       ,67      ,  1,7          ,7          ,2,20180417,1114, -67.0011,-151.0205,     4406,   3051.4,0.3187583333333332547,34.699950279267803,2,  34.7013,2,214.45130287281924,2, 214.8986,2,    214.9,2,    134.2,2,    32.75,2,     0.00,2,     2.23,2,    0.264,2,    0.142,2,   0.1100,2,   2263.6,2,  2363.92,2,   7.5944,2,    24.91,     -999,9,     -999,9,   0.3181,2,     -999,9,     -999,9,     -999,     -999,9,     -999,9,     -999,9,     -999,9,    0.061,1,    4.667,1,    0.128,1,  19.4300,2,     -999,9,20180417,1153, -67.0012,-151.0204,     -999,9,     -999,9,-999          ,9,     -999,9,     -999,9,     -999,     -999,9,     -999,     -999,9,     -999,9,     -999,9,     -999,9,     -999,9,     -999,9,     -999,9,     -999,9,     -999,9,     -999,9,     -999,9,     -999,9,     -999,9,     -999,9
320620180309  ,S04P       ,67      ,  1,6          ,6          ,2,20180417,1114, -67.0011,-151.0205,     4406,   3358.9,0.2655833333333333379,34.696991899827580,2,  34.6976,2,217.99862020679478,2, 217.0004,2,    217.2,2,    132.8,2,    32.70,2,     0.00,2,     2.23,2,    0.451,2,    0.244,2,   0.1900,2,   2261.7,2,  2363.83,2,   7.5930,2,    24.90,     -999,9,     -999,9,   0.2653,2,     -999,9,     -999,9,     -999,     -999,9,     -999,9,     -999,9,     -999,9,    0.061,1,    4.667,1,    0.127,1,  18.3700,2,     -999,9,20180417,1145, -67.0013,-151.0202,     -999,9,     -999,9,-999          ,9,     -999,9,     -999,9,     -999,     -999,9,     -999,     -999,9,     -999,9,     -999,9,     -999,9,     -999,9,     -999,9,     -999,9,     -999,9,     -999,9,     -999,9,     -999,9,     -999,9,     -999,9,     -999,9
320620180309  ,S04P       ,67      ,  1,5          ,5          ,2,20180417,1114, -67.0011,-151.0205,     4406,   3666.6,0.2242861111111111305,34.693693011889835,2,  34.6941,2,220.56821274795917,2, 219.1986,2,    219.6,2,    128.9,2,    32.61,2,     0.00,2,     2.23,2,    0.690,2,    0.373,2,   0.2400,2,   2261.0,2,  2361.56,2,   7.5920,2,    24.91,     -999,9,     -999,9,   0.2237,2,     -999,9,     -999,9,     -999,     -999,9,     -999,9,     -999,9,     -999,9,    0.061,1,    4.666,1,    0.127,1,  18.7800,2,     -999,9,20180417,1138, -67.0011,-151.0205,     -999,9,     -999,9,-999          ,9,     -999,9,     -999,9,     -999,     -999,9,     -999,     -999,9,     -999,9,     -999,9,     -999,9,     -999,9,     -999,9,     -999,9,     -999,9,     -999,9,     -999,9,     -999,9,     -999,9,     -999,9,     -999,9
320620180309  ,S04P       ,67      ,  1,4          ,4          ,2,20180417,1114, -67.0011,-151.0205,     4406,   3974.9,0.2274944444444444436,34.694891255702657,2,  34.6949,2,220.51673038137454,2, 219.9972,2,    220.1,2,    128.7,2,    32.66,2,     0.00,2,     2.23,2,    0.703,2,    0.362,2,   0.2000,2,   2260.9,2,  2361.68,2,   7.5919,2,    24.91,     -999,9,     -999,9,   0.2271,2,     -999,9,     -999,9,     -999,     -999,9,     -999,9,     -999,9,     -999,9,    0.060,1,    4.665,1,    0.129,1,  19.0200,2,     -999,9,20180417,1131, -67.0013,-151.0202,     -999,9,     -999,9,-999          ,9,     -999,9,     -999,9,     -999,     -999,9,     -999,     -999,9,     -999,9,     -999,9,     -999,9,     -999,9,     -999,9,     -999,9,     -999,9,     -999,9,     -999,9,     -999,9,     -999,9,     -999,9,     -999,9
320620180309  ,S04P       ,67      ,  1,3          ,3          ,2,20180417,1114, -67.0011,-151.0205,     4406,   4180.5,0.2410083333333333244,34.695216989929307,2,  34.6943,2,221.09928847316127,2, 220.1039,2,    219.9,2,    129.4,2,    32.70,2,     0.00,2,     2.23,2,    0.715,2,    0.364,2,   0.1900,2,   2261.5,2,  2361.50,2,   7.5915,2,    24.91,     -999,9,     -999,9,   0.2405,2,     -999,9,     -999,9,     -999,     -999,9,     -999,9,     -999,9,     -999,9,    0.060,1,    4.663,1,    0.132,1,  19.3900,2,     -999,9,20180417,1126, -67.0009,-151.0208,     -999,9,     -999,9,-999          ,9,     -999,9,     -999,9,     -999,     -999,9,     -999,     -999,9,     -999,9,     -999,9,     -999,9,     -999,9,     -999,9,     -999,9,     -999,9,     -999,9,     -999,9,     -999,9,     -999,9,     -999,9,     -999,9
320620180309  ,S04P       ,67      ,  1,2          ,2          ,2,20180417,1114, -67.0011,-151.0205,     4406,   4387.0,0.2601361111111110125,34.695453710670854,2,  34.6949,2,221.01654016053564,2, 220.3042,2,    220.3,2,    130.3,2,    32.79,2,     0.00,2,     2.25,2,    0.713,2,    0.371,2,   0.2100,2,   2262.8,2,  2362.60,2,   7.5907,2,    24.91,     -999,9,     -999,9,   0.2597,2,     -999,9,     -999,9,     -999,     -999,9,     -999,9,     -999,9,     -999,9,    0.060,1,    4.660,1,    0.134,1,  17.8000,2,     -999,9,20180417,1120, -67.0010,-151.0207,     -999,9,     -999,9,-999          ,9,     -999,9,     -999,9,     -999,     -999,9,     -999,     -999,9,     -999,9,     -999,9,     -999,9,     -999,9,     -999,9,     -999,9,     -999,9,     -999,9,     -999,9,     -999,9,     -999,9,     -999,9,     -999,9
320620180309  ,S04P       ,67      ,  1,1          ,1          ,2,20180417,1114, -67.0011,-151.0205,     4406,   4487.7,0.2712277777777777898,34.695426833906829,2,  34.6964,2,223.87620621503063,3, 220.4006,2,    219.5,2,    130.2,2,    32.80,2,     0.00,2,     2.24,2,    0.717,2,    0.374,2,   0.1700,2,   2262.4,6,  2362.29,2,   7.5916,2,    24.91,     -999,9,     -999,9,   0.2708,2,     -999,9,     -999,9,     -999,     -999,9,     -999,9,     -999,9,     -999,9,    0.061,1,    4.659,1,    0.137,1,  18.5000,2,     -999,9,20180417,1114, -67.0011,-151.0205,     -999,9,     -999,9,-999          ,9,     -999,9,     -999,9,     -999,     -999,9,     -999,     -999,9,     -999,9,     -999,9,     -999,9,     -999,9,     -999,9,     -999,9,     -999,9,     -999,9,     -999,9,     -999,9,     -999,9,     -999,9,     -999,9