BOTTLE,20240515CCHHYDRO
EXPOCODE,SECT_ID,STNNBR,CASTNO,SAMPNO,BTLNBR,BTLNBR_FLAG_W,DATE,TIME,LATITUDE,LONGITUDE,DEPTH,CTDPRS,CTDTMP,CTDSAL,CTDSAL_FLAG_W,SALNTY,SALNTY_FLAG_W,CTDOXY,CTDOXY_FLAG_W,CTDOPTOXY,CTDOPTOXY_FLAG_W,OXYGEN,OXYGEN_FLAG_W,SILCAT,SILCAT_FLAG_W,NITRAT,NITRAT_FLAG_W,NITRIT,NITRIT_FLAG_W,PHSPHT,PHSPHT_FLAG_W,CFC-11,CFC-11_FLAG_W,CFC-12,CFC-12_FLAG_W,SF6,SF6_FLAG_W,TCARBN,TCARBN_FLAG_W,ALKALI,ALKALI_FLAG_W,PH_TOT,PH_TOT_FLAG_W,PH_TMP,DOC,DOC_FLAG_W,HELIUM,HELIUM_FLAG_W,REFTMP,REFTMP_FLAG_W,DELC13,DELC13_FLAG_W,DELC14,DELC14_FLAG_W,C14ERR,POC,POC_FLAG_W,TDN,TDN_FLAG_W,TON,TON_FLAG_W,NEON,NEON_FLAG_W,CTDFLUOR,CTDFLUOR_FLAG_W,CTDXMISS,CTDXMISS_FLAG_W,CTDBETA700,CTDBETA700_FLAG_W,N2O,N2O_FLAG_W,ARGON,ARGON_FLAG_W,BTL_DATE,BTL_TIME,BTL_LAT,BTL_LON,KRYPTON,KRYPTON_FLAG_W,XENON,XENON_FLAG_W,HPLC,HPLC_FLAG_W,HE3_HE4_RATIO,HE3_HE4_RATIO_FLAG_W,Nd_143_144_D_EPSILON_BOTTLE,Nd_143_144_D_EPSILON_BOTTLE_FLAG_W,Nd_143_144_D_EPSILON_BOTTLE_ERROR,Nd_143_144_D_RATIO_BOTTLE,Nd_143_144_D_RATIO_BOTTLE_FLAG_W,Nd_143_144_D_RATIO_BOTTLE_ERROR,Nd_D_CONC,Nd_D_CONC_FLAG_W,La_D_CONC_BOTTLE,La_D_CONC_BOTTLE_FLAG_W,Ce_D_CONC_BOTTLE,Ce_D_CONC_BOTTLE_FLAG_W,Pr_D_CONC_BOTTLE,Pr_D_CONC_BOTTLE_FLAG_W,Sm_D_CONC_BOTTLE,Sm_D_CONC_BOTTLE_FLAG_W,Eu_D_CONC_BOTTLE,Eu_D_CONC_BOTTLE_FLAG_W,Gd_D_CONC_BOTTLE,Gd_D_CONC_BOTTLE_FLAG_W,Tb_D_CONC_BOTTLE,Tb_D_CONC_BOTTLE_FLAG_W,Dy_D_CONC_BOTTLE,Dy_D_CONC_BOTTLE_FLAG_W,Ho_D_CONC_BOTTLE,Ho_D_CONC_BOTTLE_FLAG_W,Er_D_CONC_BOTTLE,Er_D_CONC_BOTTLE_FLAG_W,Tm_D_CONC_BOTTLE,Tm_D_CONC_BOTTLE_FLAG_W,Yb_D_CONC_BOTTLE,Yb_D_CONC_BOTTLE_FLAG_W,Lu_D_CONC_BOTTLE,Lu_D_CONC_BOTTLE_FLAG_W
,,,,,,,,,,,METERS,DBAR,ITS-90,PSS-78,,PSS-78,,UMOL/KG,,UMOL/KG,,UMOL/KG,,UMOL/KG,,UMOL/KG,,UMOL/KG,,UMOL/KG,,PMOL/KG,,PMOL/KG,,FMOL/KG,,UMOL/KG,,UMOL/KG,,,,DEG C,UMOL/KG,,NMOL/L,,DEG C,,/MILLE,,/MILLE,,/MILLE,UG/KG,,UMOL/KG,,UMOL/KG,,NMOL/L,,VOLTS,,VOLTS,,VOLTS,,NMOL/KG,,UMOL/L,,,,,,NMOL/L,,NMOL/L,,,,,,10000,,10000,,,,PMOL/KG,,PMOL/L,,PMOL/L,,PMOL/L,,PMOL/L,,PMOL/L,,PMOL/L,,PMOL/L,,PMOL/L,,PMOL/L,,PMOL/L,,PMOL/L,,PMOL/L,,PMOL/L,
320620180309  ,P16        ,36      ,  1,15         ,15         ,2,20180403,0313, -75.2094,-148.1186,     3403,   1215.5,0.8945944444444443588,34.716180768886410,2,  34.7160,2,200.99701494360659,2, 199.2035,2,    200.0,2,    118.9,2,    32.50,2,     0.00,2,     2.24,2,    0.116,2,    0.060,2,   0.0300,2,   2264.4,2,  2363.99,3,   7.5951,2,    24.95,     40.6,2,     -999,9,   0.8936,2,     -999,9,     -999,9,     -999,     -999,9,     -999,9,     -999,1,     -999,9,    0.061,1,    4.672,1,    0.137,1,  21.0300,2,     -999,9,20180403,0425, -75.2076,-148.1566,     -999,9,     -999,9,-999          ,9,     -999,9,     -999,9,     -999,     -999,9,     -999,     -999,9,     -999,9,     -999,9,     -999,9,     -999,9,     -999,9,     -999,9,     -999,9,     -999,9,     -999,9,     -999,9,     -999,9,     -999,9,     -999,9
320620180309  ,P16        ,36      ,  1,14         ,14         ,2,20180403,0313, -75.2094,-148.1186,     3403,   1316.8,0.8597222222222221655,34.714707466712078,2,  34.7149,2,202.14773053619069,2, 200.0003,2,    201.0,2,    120.0,2,    32.53,2,     0.00,2,     2.23,2,     -999,9,     -999,9,     -999,9,   2263.9,2,  2360.45,2,   7.5938,2,    24.94,     41.5,2,     -999,9,   0.8589,2,     -999,9,     -999,9,     -999,     -999,9,     -999,9,     -999,1,     -999,9,    0.062,1,    4.672,1,    0.138,1,     -999,9,     -999,9,20180403,0422, -75.2077,-148.1548,     -999,9,     -999,9,-999          ,9,     -999,9,     -999,9,     -999,     -999,9,     -999,     -999,9,     -999,9,     -999,9,     -999,9,     -999,9,     -999,9,     -999,9,     -999,9,     -999,9,     -999,9,     -999,9,     -999,9,     -999,9,     -999,9
320620180309  ,P16        ,36      ,  1,13         ,13         ,2,20180403,0313, -75.2094,-148.1186,     3403,   1418.8,0.8208555555555556715,34.713250900377780,2,  34.7131,2,203.11728199403333,2, 201.1017,2,    202.3,2,    121.2,2,    32.48,2,     0.00,2,     2.23,2,    0.115,6,    0.057,6,   0.0300,6,   2264.2,2,  2360.98,2,   7.5944,2,    24.94,     41.3,2,     -999,9,   0.8204,2,     -999,9,     -999,9,     -999,     -999,9,     -999,9,     -999,1,     -999,9,    0.062,1,    4.672,1,    0.136,1,  20.8400,6,     -999,9,20180403,0418, -75.2077,-148.1530,     -999,9,     -999,9,-999          ,9,     -999,9,     -999,9,     -999,     -999,9,     -999,     -999,9,     -999,9,     -999,9,     -999,9,     -999,9,     -999,9,     -999,9,     -999,9,     -999,9,     -999,9,     -999,9,     -999,9,     -999,9,     -999,9
320620180309  ,P16        ,36      ,  1,12         ,12         ,2,20180403,0313, -75.2094,-148.1186,     3403,   1520.7,0.7828861111111113935,34.711880564916896,2,  34.7117,2,203.83508377565840,2, 202.1034,2,    202.9,2,    122.5,2,    32.54,2,     0.00,2,     2.23,2,     -999,9,     -999,9,     -999,9,   2264.4,6,  2361.49,2,   7.5946,2,    24.95,     -999,9,     -999,9,   0.7821,2,     -999,9,     -999,9,     -999,     -999,9,     -999,9,     -999,9,     -999,9,    0.061,1,    4.673,1,    0.132,1,     -999,9,     -999,9,20180403,0414, -75.2078,-148.1512,     -999,9,     -999,9,-999          ,9,     -999,9,     -999,9,     -999,     -999,9,     -999,     -999,9,     -999,9,     -999,9,     -999,9,     -999,9,     -999,9,     -999,9,     -999,9,     -999,9,     -999,9,     -999,9,     -999,9,     -999,9,     -999,9
320620180309  ,P16        ,36      ,  1,11         ,11         ,2,20180403,0313, -75.2094,-148.1186,     3403,   1622.3,0.7483916666666666773,34.710625200473167,2,  34.7107,2,204.67005933819942,2, 202.8956,2,    203.8,2,    124.0,2,    32.58,2,     0.00,2,     2.23,2,    0.122,2,    0.073,2,   0.0400,2,   2265.7,2,  2362.79,2,   7.5945,2,    24.94,     39.5,2,     -999,9,   0.7475,2,     -999,9,     -999,9,     -999,     -999,9,     -999,9,     -999,1,     -999,9,    0.061,1,    4.674,1,    0.132,1,  20.9300,2,     -999,9,20180403,0411, -75.2079,-148.1494,     -999,9,     -999,9,-999          ,9,     -999,9,     -999,9,     -999,     -999,9,     -999,     -999,9,     -999,9,     -999,9,     -999,9,     -999,9,     -999,9,     -999,9,     -999,9,     -999,9,     -999,9,     -999,9,     -999,9,     -999,9,     -999,9
320620180309  ,P16        ,36      ,  1,10         ,10         ,2,20180403,0313, -75.2094,-148.1186,     3403,   1724.4,0.7064861111111109260,34.708997036850988,2,  34.7090,2,204.61948023669183,2, 203.9015,2,    204.8,2,    125.3,2,    32.59,2,     0.00,2,     2.24,2,     -999,9,     -999,9,     -999,9,   2263.2,2,  2362.95,2,   7.5943,2,    24.94,     -999,9,     -999,9,   0.7059,2,     -999,9,     -999,9,     -999,     -999,9,     -999,9,     -999,9,     -999,9,    0.061,1,    4.673,1,    0.132,1,     -999,9,     -999,9,20180403,0407, -75.2079,-148.1476,     -999,9,     -999,9,-999          ,9,     -999,9,     -999,9,     -999,     -999,9,     -999,     -999,9,     -999,9,     -999,9,     -999,9,     -999,9,     -999,9,     -999,9,     -999,9,     -999,9,     -999,9,     -999,9,     -999,9,     -999,9,     -999,9
320620180309  ,P16        ,36      ,  1,9          ,9          ,2,20180403,0313, -75.2094,-148.1186,     3403,   1825.8,0.6750000000000001554,34.707892286725070,2,  34.7078,2,205.65670034648122,2, 204.6964,2,    205.1,2,    126.3,2,    32.59,2,     0.00,2,     2.24,2,    0.138,2,    0.072,2,   0.0100,2,   2267.4,3,  2360.72,3,   7.5935,2,    24.94,     39.9,2,     -999,9,   0.6744,2,     -999,9,     -999,9,     -999,     -999,9,     -999,9,     -999,1,     -999,9,    0.061,1,    4.674,1,    0.129,1,  20.8300,2,     -999,9,20180403,0404, -75.2080,-148.1459,     -999,9,     -999,9,-999          ,9,     -999,9,     -999,9,     -999,     -999,9,     -999,     -999,9,     -999,9,     -999,9,     -999,9,     -999,9,     -999,9,     -999,9,     -999,9,     -999,9,     -999,9,     -999,9,     -999,9,     -999,9,     -999,9
320620180309  ,P16        ,36      ,  1,8          ,8          ,2,20180403,0313, -75.2094,-148.1186,     3403,   2030.3,0.6247583333333335265,34.706454356289605,2,  34.7068,2,206.64644858222670,2, 206.0958,2,    206.4,2,    127.8,2,    32.73,2,     0.00,2,     2.24,2,     -999,9,     -999,9,     -999,9,   2265.1,2,  2363.71,2,   7.5947,2,    24.94,     40.4,2,     -999,9,   0.6240,2,     -999,9,     -999,9,     -999,     -999,9,     -999,9,     -999,1,     -999,9,    0.061,1,    4.674,1,    0.129,1,     -999,9,     -999,9,20180403,0358, -75.2081,-148.1427,     -999,9,     -999,9,-999          ,9,     -999,9,     -999,9,     -999,     -999,9,     -999,     -999,9,     -999,9,     -999,9,     -999,9,     -999,9,     -999,9,     -999,9,     -999,9,     -999,9,     -999,9,     -999,9,     -999,9,     -999,9,     -999,9
320620180309  ,P16        ,36      ,  1,7          ,7          ,2,20180403,0313, -75.2094,-148.1186,     3403,   2234.1,0.5791888888888889753,34.705474401331962,2,  34.7049,2,208.24705171706671,2, 207.3010,2,    207.7,2,    129.2,2,    32.72,2,     0.00,2,     2.24,2,    0.149,2,    0.085,2,   0.0900,2,   2265.7,2,  2363.58,2,   7.5935,2,    24.94,     40.9,2,     -999,9,   0.5783,2,     -999,9,     -999,9,     -999,     -999,9,     -999,9,     -999,1,     -999,9,    0.061,1,    4.674,1,    0.129,1,  20.9700,2,     -999,9,20180403,0352, -75.2083,-148.1398,     -999,9,     -999,9,-999          ,9,     -999,9,     -999,9,     -999,     -999,9,     -999,     -999,9,     -999,9,     -999,9,     -999,9,     -999,9,     -999,9,     -999,9,     -999,9,     -999,9,     -999,9,     -999,9,     -999,9,     -999,9,     -999,9
320620180309  ,P16        ,36      ,  1,6          ,6          ,2,20180403,0313, -75.2094,-148.1186,     3403,   2438.2,0.5384555555555555761,34.704811648616911,2,  34.7041,2,208.95409567057447,2, 208.5962,2,    207.9,2,    131.1,2,    32.73,2,     0.00,2,     2.24,2,    0.151,2,    0.087,2,   0.0700,2,   2265.7,2,  2364.57,2,   7.5959,6,    24.94,     38.6,2,     -999,9,   0.5377,2,     -999,9,     -999,9,     -999,     -999,9,     -999,9,     -999,1,     -999,9,    0.061,1,    4.673,1,    0.130,1,  20.2400,2,     -999,9,20180403,0347, -75.2084,-148.1369,     -999,9,     -999,9,-999          ,9,     -999,9,     -999,9,     -999,     -999,9,     -999,     -999,9,     -999,9,     -999,9,     -999,9,     -999,9,     -999,9,     -999,9,     -999,9,     -999,9,     -999,9,     -999,9,     -999,9,     -999,9,     -999,9
320620180309  ,P16        ,36      ,  1,5          ,5          ,2,20180403,0313, -75.2094,-148.1186,     3403,   2643.2,0.5259833333333333583,34.704259978775987,2,  34.7047,2,209.20684670811860,2, 208.8925,2,    209.1,2,    132.7,2,    32.78,2,     0.00,2,     2.25,2,    0.150,2,    0.089,2,   0.0500,2,   2267.8,2,  2365.34,2,   7.5915,2,    24.94,     40.3,2,     -999,9,   0.5251,2,     -999,9,     -999,9,     -999,     -999,9,     -999,9,     -999,1,     -999,9,    0.061,1,    4.672,1,    0.129,1,  21.0200,2,     -999,9,20180403,0341, -75.2085,-148.1338,     -999,9,     -999,9,-999          ,9,     -999,9,     -999,9,     -999,     -999,9,     -999,     -999,9,     -999,9,     -999,9,     -999,9,     -999,9,     -999,9,     -999,9,     -999,9,     -999,9,     -999,9,     -999,9,     -999,9,     -999,9,     -999,9
320620180309  ,P16        ,36      ,  1,4          ,4          ,2,20180403,0313, -75.2094,-148.1186,     3403,   2847.9,0.5097222222222220767,34.703836945587732,2,  34.7041,2,209.41457502540104,2, 209.5041,2,    208.8,2,    133.7,2,    32.87,2,     0.00,2,     2.24,2,    0.153,2,    0.092,2,   0.0400,2,   2267.0,2,  2365.66,2,   7.5923,2,    24.94,     40.4,2,     -999,9,   0.5088,2,     -999,9,     -999,9,     -999,     -999,9,     -999,9,     -999,1,     -999,9,    0.061,1,    4.672,1,    0.132,1,  20.5200,2,     -999,9,20180403,0335, -75.2087,-148.1306,     -999,9,     -999,9,-999          ,9,     -999,9,     -999,9,     -999,     -999,9,     -999,     -999,9,     -999,9,     -999,9,     -999,9,     -999,9,     -999,9,     -999,9,     -999,9,     -999,9,     -999,9,     -999,9,     -999,9,     -999,9,     -999,9
320620180309  ,P16        ,36      ,  1,3          ,3          ,2,20180403,0313, -75.2094,-148.1186,     3403,   3052.9,0.4933805555555557110,34.703498277676253,2,  34.7037,2,209.19164448726491,2, 210.0026,2,    209.9,2,    135.1,2,    32.87,2,     0.00,2,     2.26,2,    0.158,2,    0.094,2,   0.0800,2,   2266.8,2,  2365.94,2,   7.5962,6,    24.94,     41.2,2,     -999,9,   0.4925,2,     -999,9,     -999,9,     -999,     -999,9,     -999,9,     -999,1,     -999,9,    0.061,1,    4.671,1,    0.131,1,  21.1300,2,     -999,9,20180403,0329, -75.2089,-148.1275,     -999,9,     -999,9,-999          ,9,     -999,9,     -999,9,     -999,     -999,9,     -999,     -999,9,     -999,9,     -999,9,     -999,9,     -999,9,     -999,9,     -999,9,     -999,9,     -999,9,     -999,9,     -999,9,     -999,9,     -999,9,     -999,9
320620180309  ,P16        ,36      ,  1,2          ,2          ,2,20180403,0313, -75.2094,-148.1186,     3403,   3252.2,0.4575083333333332947,34.702928253682806,2,  34.7023,2,210.85825054706353,2, 211.0041,2,    210.6,2,    136.8,2,    32.92,2,     0.00,2,     2.26,2,    0.176,2,    0.110,2,   0.0500,2,   2268.6,2,  2365.02,2,   7.5908,2,    24.95,     -999,9,     -999,9,   0.4571,2,     -999,9,     -999,9,     -999,     -999,9,     -999,9,     -999,9,     -999,9,    0.061,1,    4.670,1,    0.133,1,  21.5200,2,     -999,9,20180403,0323, -75.2091,-148.1240,     -999,9,     -999,9,-999          ,9,     -999,9,     -999,9,     -999,     -999,9,     -999,     -999,9,     -999,9,     -999,9,     -999,9,     -999,9,     -999,9,     -999,9,     -999,9,     -999,9,     -999,9,     -999,9,     -999,9,     -999,9,     -999,9
320620180309  ,P16        ,36      ,  1,1          ,1          ,2,20180403,0313, -75.2094,-148.1186,     3403,   3454.6,0.4442583333333332551,34.702505120662522,2,  34.7037,2,211.45694717505870,2, 211.2051,2,    210.7,2,    138.5,2,    32.94,2,     0.00,2,     2.26,2,    0.195,2,    0.111,2,   0.0900,2,   2268.2,6,  2366.34,2,   7.5936,2,    24.94,     40.9,2,     -999,9,   0.4437,2,     -999,9,     -999,9,     -999,     -999,9,     -999,9,     -999,1,     -999,9,    0.061,1,    4.669,1,    0.135,1,  20.8800,2,     -999,9,20180403,0313, -75.2094,-148.1186,     -999,9,     -999,9,-999          ,9,     -999,9,     -999,9,     -999,     -999,9,     -999,     -999,9,     -999,9,     -999,9,     -999,9,     -999,9,     -999,9,     -999,9,     -999,9,     -999,9,     -999,9,     -999,9,     -999,9,     -999,9,     -999,9