BOTTLE,20240515CCHHYDRO
EXPOCODE,SECT_ID,STNNBR,CASTNO,SAMPNO,BTLNBR,BTLNBR_FLAG_W,DATE,TIME,LATITUDE,LONGITUDE,DEPTH,CTDPRS,CTDTMP,CTDSAL,CTDSAL_FLAG_W,SALNTY,SALNTY_FLAG_W,CTDOXY,CTDOXY_FLAG_W,CTDOPTOXY,CTDOPTOXY_FLAG_W,OXYGEN,OXYGEN_FLAG_W,SILCAT,SILCAT_FLAG_W,NITRAT,NITRAT_FLAG_W,NITRIT,NITRIT_FLAG_W,PHSPHT,PHSPHT_FLAG_W,CFC-11,CFC-11_FLAG_W,CFC-12,CFC-12_FLAG_W,SF6,SF6_FLAG_W,TCARBN,TCARBN_FLAG_W,ALKALI,ALKALI_FLAG_W,PH_TOT,PH_TOT_FLAG_W,PH_TMP,DOC,DOC_FLAG_W,HELIUM,HELIUM_FLAG_W,REFTMP,REFTMP_FLAG_W,DELC13,DELC13_FLAG_W,DELC14,DELC14_FLAG_W,C14ERR,POC,POC_FLAG_W,TDN,TDN_FLAG_W,TON,TON_FLAG_W,NEON,NEON_FLAG_W,CTDFLUOR,CTDFLUOR_FLAG_W,CTDXMISS,CTDXMISS_FLAG_W,CTDBETA700,CTDBETA700_FLAG_W,N2O,N2O_FLAG_W,ARGON,ARGON_FLAG_W,BTL_DATE,BTL_TIME,BTL_LAT,BTL_LON,KRYPTON,KRYPTON_FLAG_W,XENON,XENON_FLAG_W,HPLC,HPLC_FLAG_W,HE3_HE4_RATIO,HE3_HE4_RATIO_FLAG_W,Nd_143_144_D_EPSILON_BOTTLE,Nd_143_144_D_EPSILON_BOTTLE_FLAG_W,Nd_143_144_D_EPSILON_BOTTLE_ERROR,Nd_143_144_D_RATIO_BOTTLE,Nd_143_144_D_RATIO_BOTTLE_FLAG_W,Nd_143_144_D_RATIO_BOTTLE_ERROR,Nd_D_CONC,Nd_D_CONC_FLAG_W,La_D_CONC_BOTTLE,La_D_CONC_BOTTLE_FLAG_W,Ce_D_CONC_BOTTLE,Ce_D_CONC_BOTTLE_FLAG_W,Pr_D_CONC_BOTTLE,Pr_D_CONC_BOTTLE_FLAG_W,Sm_D_CONC_BOTTLE,Sm_D_CONC_BOTTLE_FLAG_W,Eu_D_CONC_BOTTLE,Eu_D_CONC_BOTTLE_FLAG_W,Gd_D_CONC_BOTTLE,Gd_D_CONC_BOTTLE_FLAG_W,Tb_D_CONC_BOTTLE,Tb_D_CONC_BOTTLE_FLAG_W,Dy_D_CONC_BOTTLE,Dy_D_CONC_BOTTLE_FLAG_W,Ho_D_CONC_BOTTLE,Ho_D_CONC_BOTTLE_FLAG_W,Er_D_CONC_BOTTLE,Er_D_CONC_BOTTLE_FLAG_W,Tm_D_CONC_BOTTLE,Tm_D_CONC_BOTTLE_FLAG_W,Yb_D_CONC_BOTTLE,Yb_D_CONC_BOTTLE_FLAG_W,Lu_D_CONC_BOTTLE,Lu_D_CONC_BOTTLE_FLAG_W
,,,,,,,,,,,METERS,DBAR,ITS-90,PSS-78,,PSS-78,,UMOL/KG,,UMOL/KG,,UMOL/KG,,UMOL/KG,,UMOL/KG,,UMOL/KG,,UMOL/KG,,PMOL/KG,,PMOL/KG,,FMOL/KG,,UMOL/KG,,UMOL/KG,,,,DEG C,UMOL/KG,,NMOL/L,,DEG C,,/MILLE,,/MILLE,,/MILLE,UG/KG,,UMOL/KG,,UMOL/KG,,NMOL/L,,VOLTS,,VOLTS,,VOLTS,,NMOL/KG,,UMOL/L,,,,,,NMOL/L,,NMOL/L,,,,,,10000,,10000,,,,PMOL/KG,,PMOL/L,,PMOL/L,,PMOL/L,,PMOL/L,,PMOL/L,,PMOL/L,,PMOL/L,,PMOL/L,,PMOL/L,,PMOL/L,,PMOL/L,,PMOL/L,,PMOL/L,
320620180309  ,P15        ,12      ,  1,15         ,15         ,2,20180322,0805, -69.9997,-170.0014,     4171,   1280.0,0.8187944444444442693,34.711563518507560,2,  34.7111,2,201.67508228663581,2, 202.1052,2,    202.6,2,    119.2,2,    32.02,2,     0.00,2,     2.19,2,    0.150,2,    0.079,2,   0.0000,2,   2263.9,2,  2362.93,2,   7.5960,2,    24.94,     -999,5,     -999,9,   0.8184,2,     -999,9,     -999,9,     -999,     -999,9,     -999,9,     -999,1,     -999,9,    0.061,1,    4.684,1,    0.134,1,  19.8700,2,     -999,9,20180322,0920, -69.9997,-170.0015,     -999,9,     -999,9,-999          ,9,     -999,9,     -999,9,     -999,     -999,9,     -999,     -999,9,     -999,9,     -999,9,     -999,9,     -999,9,     -999,9,     -999,9,     -999,9,     -999,9,     -999,9,     -999,9,     -999,9,     -999,9,     -999,9
320620180309  ,P15        ,12      ,  1,14         ,14         ,2,20180322,0805, -69.9997,-170.0014,     4171,   1384.3,0.7789500000000000313,34.709758422284452,2,  34.7084,2,203.12019587255790,2, 203.9976,2,    203.2,2,    121.3,2,    32.06,2,     0.00,2,     2.20,2,     -999,9,     -999,9,     -999,9,   2263.9,2,  2363.74,2,   7.5944,2,    24.94,     40.4,2,     -999,9,   0.7783,2,     -999,9,     -999,9,     -999,     -999,9,     -999,9,     -999,1,     -999,9,    0.068,1,    4.685,1,    0.139,1,     -999,9,     -999,9,20180322,0917, -69.9997,-170.0015,     -999,9,     -999,9,-999          ,9,     -999,9,     -999,9,     -999,     -999,9,     -999,     -999,9,     -999,1,     -999,1,     -999,1,     -999,1,     -999,1,     -999,1,     -999,1,     -999,1,     -999,1,     -999,1,     -999,1,     -999,1,     -999,1
320620180309  ,P15        ,12      ,  1,13         ,13         ,2,20180322,0805, -69.9997,-170.0014,     4171,   1485.4,0.7248055555555555918,34.707722957271166,2,  34.7074,2,204.62803596923956,2, 205.2020,2,    204.7,2,    122.7,2,    32.07,2,     0.00,2,     2.19,2,    0.163,2,    0.084,2,   0.2500,2,   2264.5,2,  2365.32,2,   7.5943,2,    24.94,     -999,9,     -999,9,   0.7242,2,     -999,9,     -999,9,     -999,     -999,9,     -999,9,     -999,1,     -999,9,    0.061,1,    4.684,1,    0.128,1,  19.6700,2,     -999,9,20180322,0914, -69.9997,-170.0014,     -999,9,     -999,9,-999          ,9,     -999,9,     -999,9,     -999,     -999,9,     -999,     -999,9,     -999,9,     -999,9,     -999,9,     -999,9,     -999,9,     -999,9,     -999,9,     -999,9,     -999,9,     -999,9,     -999,9,     -999,9,     -999,9
320620180309  ,P15        ,12      ,  1,12         ,12         ,2,20180322,0805, -69.9997,-170.0014,     4171,   1584.6,0.6807333333333335235,34.706020228093571,2,  34.7054,2,205.94936681172561,2, 206.0985,2,    205.6,2,    123.4,2,    32.09,2,     0.00,2,     2.20,2,    0.177,2,    0.096,2,   0.3900,2,   2263.8,6,  2363.92,2,   7.5938,2,    24.94,     40.5,2,     -999,9,   0.6802,2,     -999,9,     -999,9,     -999,     -999,9,     -999,9,     -999,1,     -999,9,    0.061,1,    4.685,1,    0.127,1,  20.0500,2,     -999,9,20180322,0911, -69.9997,-170.0015,     -999,9,     -999,9,-999          ,9,     -999,9,     -999,9,     -999,     -999,9,     -999,     -999,9,     -999,1,     -999,1,     -999,1,     -999,1,     -999,1,     -999,1,     -999,1,     -999,1,     -999,1,     -999,1,     -999,1,     -999,1,     -999,1
320620180309  ,P15        ,12      ,  1,11         ,11         ,2,20180322,0805, -69.9997,-170.0014,     4171,   1691.1,0.6350416666666667265,34.704657411445574,2,  34.7043,2,207.33793361895709,2, 206.4040,2,    206.4,2,    124.9,2,    32.15,2,     0.00,2,     2.21,2,    0.188,6,    0.107,6,   0.0000,6,   2263.4,2,  2364.02,2,   7.5939,2,    24.95,     -999,9,     -999,9,   0.6351,2,     -999,9,     -999,9,     -999,     -999,9,     -999,9,     -999,9,     -999,9,    0.061,1,    4.685,1,    0.128,1,  20.2600,6,     -999,9,20180322,0908, -69.9997,-170.0015,     -999,9,     -999,9,-999          ,9,     -999,9,     -999,9,     -999,     -999,9,     -999,     -999,9,     -999,9,     -999,9,     -999,9,     -999,9,     -999,9,     -999,9,     -999,9,     -999,9,     -999,9,     -999,9,     -999,9,     -999,9,     -999,9
320620180309  ,P15        ,12      ,  1,10         ,10         ,2,20180322,0805, -69.9997,-170.0014,     4171,   1789.7,0.6005111111111109956,34.703517376349062,2,  34.7013,2,208.51092399291596,2, 206.8982,2,    207.6,2,    125.8,2,    32.17,2,     0.00,2,     2.21,2,     -999,9,     -999,9,     -999,9,   2264.8,2,  2363.87,2,   7.5933,2,    24.95,     41.4,2,     -999,9,   0.5997,2,     -999,9,     -999,9,     -999,     -999,9,     -999,9,     -999,1,     -999,9,    0.061,1,    4.685,1,    0.128,1,     -999,9,     -999,9,20180322,0905, -69.9997,-170.0015,     -999,9,     -999,9,-999          ,9,     -999,9,     -999,9,     -999,     -999,9,     -999,     -999,9,     -999,1,     -999,1,     -999,1,     -999,1,     -999,1,     -999,1,     -999,1,     -999,1,     -999,1,     -999,1,     -999,1,     -999,1,     -999,1
320620180309  ,P15        ,12      ,  1,9          ,9          ,2,20180322,0805, -69.9997,-170.0014,     4171,   1963.3,0.5455972222222222889,34.702641056150149,2,  34.7019,2,210.16740937822314,2, 207.5983,2,    208.5,2,    127.0,2,    32.25,2,     0.00,2,     2.21,2,    0.187,2,    0.097,2,   0.0000,2,   2264.2,2,  2365.25,2,   7.5935,2,    24.94,     40.2,2,     -999,9,   0.5450,2,     -999,9,     -999,9,     -999,     -999,9,     -999,9,     -999,1,     -999,9,    0.061,1,    4.684,1,    0.126,1,  19.6800,2,     -999,9,20180322,0900, -69.9997,-170.0014,     -999,9,     -999,9,-999          ,9,     -999,9,     -999,9,     -999,     -999,9,     -999,     -999,9,     -999,9,     -999,9,     -999,9,     -999,9,     -999,9,     -999,9,     -999,9,     -999,9,     -999,9,     -999,9,     -999,9,     -999,9,     -999,9
320620180309  ,P15        ,12      ,  1,8          ,8          ,2,20180322,0805, -69.9997,-170.0014,     4171,   2200.6,0.5169305555555555598,34.704019682390893,2,  34.7039,2,210.86665224697393,3, 209.9997,2,    208.7,2,    130.3,2,    32.37,2,     0.00,2,     2.22,2,    0.122,2,    0.093,2,   0.1200,2,   2264.7,2,  2365.47,2,   7.5935,2,    24.94,     39.2,2,     -999,9,   0.5163,2,     -999,9,     -999,9,     -999,     -999,9,     -999,9,     -999,1,     -999,9,    0.061,1,    4.684,1,    0.126,1,  19.6500,2,     -999,9,20180322,0854, -69.9997,-170.0015,     -999,9,     -999,9,-999          ,9,     -999,9,     -999,9,     -999,     -999,9,     -999,     -999,9,     -999,1,     -999,1,     -999,1,     -999,1,     -999,1,     -999,1,     -999,1,     -999,1,     -999,1,     -999,1,     -999,1,     -999,1,     -999,1
320620180309  ,P15        ,12      ,  1,7          ,7          ,2,20180322,0805, -69.9997,-170.0014,     4171,   2454.3,0.5011972222222221829,34.703549422740927,2,  34.7033,2,211.48034158110769,3, 210.6067,2,    209.3,2,    131.4,2,    32.42,2,     0.00,2,     2.24,2,    0.121,2,    0.081,2,   0.0000,2,   2265.5,2,  2366.57,2,   7.5945,2,    24.95,     39.3,2,     -999,9,   0.5007,2,     -999,9,     -999,9,     -999,     -999,9,     -999,9,     -999,1,     -999,9,    0.061,1,    4.684,1,    0.126,1,  19.5800,2,     -999,9,20180322,0848, -69.9997,-170.0015,     -999,9,     -999,9,-999          ,9,     -999,9,     -999,9,     -999,     -999,9,     -999,     -999,9,     -999,9,     -999,9,     -999,9,     -999,9,     -999,9,     -999,9,     -999,9,     -999,9,     -999,9,     -999,9,     -999,9,     -999,9,     -999,9
320620180309  ,P15        ,12      ,  1,6          ,6          ,2,20180322,0805, -69.9997,-170.0014,     4171,   2706.5,0.4315694444444444500,34.698891659496915,2,  34.6988,2,214.09621457224887,2, 211.1987,2,    212.1,2,    129.4,2,    32.39,2,     0.00,2,     2.24,2,    0.287,2,    0.158,2,   0.3000,2,   2261.3,2,  2363.87,2,   7.5936,6,    24.94,     -999,9,     -999,9,   0.4312,2,     -999,9,     -999,9,     -999,     -999,9,     -999,9,     -999,9,     -999,9,    0.062,1,    4.683,1,    0.127,1,  19.6600,2,     -999,9,20180322,0842, -69.9997,-170.0015,     -999,9,     -999,9,-999          ,9,     -999,9,     -999,9,     -999,     -999,9,     -999,     -999,9,     -999,1,     -999,1,     -999,1,     -999,1,     -999,1,     -999,1,     -999,1,     -999,1,     -999,1,     -999,1,     -999,1,     -999,1,     -999,1
320620180309  ,P15        ,12      ,  1,5          ,5          ,2,20180322,0805, -69.9997,-170.0014,     4171,   2965.3,0.3614472222222221975,34.696953367037850,2,  34.6958,2,216.71324423464171,3, 215.3962,2,    214.5,2,    130.1,2,    32.52,2,     0.00,2,     2.24,2,    0.362,2,    0.208,2,   0.1800,2,   2265.7,2,  2363.97,2,   7.5949,2,    24.94,     39.3,2,     -999,9,   0.3616,2,     -999,9,     -999,9,     -999,     -999,9,     -999,9,     -999,1,     -999,9,    0.061,1,    4.684,1,    0.126,1,  19.8700,2,     -999,9,20180322,0835, -69.9997,-170.0015,     -999,9,     -999,9,-999          ,9,     -999,9,     -999,9,     -999,     -999,9,     -999,     -999,9,     -999,1,     -999,1,     -999,1,     -999,1,     -999,1,     -999,1,     -999,1,     -999,1,     -999,1,     -999,1,     -999,1,     -999,1,     -999,1
320620180309  ,P15        ,12      ,  1,4          ,4          ,2,20180322,0805, -69.9997,-170.0014,     4171,   3255.5,0.2797194444444444095,34.692524793418428,2,  34.6915,2,219.80124503367944,2, 215.4001,2,    217.8,2,    128.6,2,    32.41,2,     0.00,2,     2.25,2,    0.585,2,    0.316,2,   0.4500,2,   2263.0,2,  2362.89,2,   7.5930,2,    24.93,     39.6,2,     -999,9,   0.2841,2,     -999,9,     -999,9,     -999,     -999,9,     -999,9,     -999,1,     -999,9,    0.060,1,    4.683,1,    0.126,1,  19.5500,2,     -999,9,20180322,0828, -69.9997,-170.0015,     -999,9,     -999,9,-999          ,9,     -999,9,     -999,9,     -999,     -999,9,     -999,     -999,9,     -999,1,     -999,1,     -999,1,     -999,1,     -999,1,     -999,1,     -999,1,     -999,1,     -999,1,     -999,1,     -999,1,     -999,1,     -999,1
320620180309  ,P15        ,12      ,  1,3          ,3          ,2,20180322,0805, -69.9997,-170.0014,     4171,   3565.7,0.2261166666666666603,34.683986160215355,3,  34.6872,2,222.55358379813356,2, 215.2045,3,    220.7,2,    125.3,2,    32.32,2,     0.00,2,     2.25,2,    0.873,2,    0.464,2,   0.2800,2,   2262.5,2,  2362.31,2,   7.5944,6,    24.95,     39.4,2,     -999,9,   0.2265,2,     -999,9,     -999,9,     -999,     -999,9,     -999,9,     -999,1,     -999,9,    0.061,1,    4.681,1,    0.125,1,  19.8900,2,     -999,9,20180322,0821, -69.9997,-170.0016,     -999,9,     -999,9,-999          ,9,     -999,9,     -999,9,     -999,     -999,9,     -999,     -999,9,     -999,1,     -999,1,     -999,1,     -999,1,     -999,1,     -999,1,     -999,1,     -999,1,     -999,1,     -999,1,     -999,1,     -999,1,     -999,1
320620180309  ,P15        ,12      ,  1,2          ,2          ,2,20180322,0805, -69.9997,-170.0014,     4171,   3902.5,0.1927916666666666667,34.679748272131086,3,  34.6843,2,225.10348808113974,2, 216.5004,3,    223.5,2,    122.2,2,    32.26,2,     0.00,2,     2.23,2,    1.094,2,    0.590,2,   0.4300,2,   2263.8,2,  2361.44,2,   7.5904,2,    24.89,     40.8,2,     -999,9,   0.1944,2,     -999,9,     -999,9,     -999,     -999,9,     -999,9,     -999,1,     -999,9,    0.061,1,    4.681,1,    0.127,1,  20.1300,2,     -999,9,20180322,0813, -69.9997,-170.0014,     -999,9,     -999,9,-999          ,9,     -999,9,     -999,9,     -999,     -999,9,     -999,     -999,9,     -999,1,     -999,1,     -999,1,     -999,1,     -999,1,     -999,1,     -999,1,     -999,1,     -999,1,     -999,1,     -999,1,     -999,1,     -999,1
320620180309  ,P15        ,12      ,  1,1          ,1          ,2,20180322,0805, -69.9997,-170.0014,     4171,   4244.9,0.1422888888888889092,34.690985692366745,3,  34.6809,2,220.34028277704130,3, 220.0029,3,    226.6,2,    117.5,2,    32.16,2,     0.00,2,     2.24,2,    1.334,2,    0.721,2,   0.4700,2,   2262.6,6,  2361.36,2,   7.5897,2,    24.92,     39.7,2,     -999,9,   0.1414,2,     -999,9,     -999,9,     -999,     -999,9,     -999,9,     -999,1,     -999,9,    0.061,1,    4.675,1,    0.135,1,  20.1100,2,     -999,9,20180322,0805, -69.9997,-170.0014,     -999,9,     -999,9,-999          ,9,     -999,9,     -999,9,     -999,     -999,9,     -999,     -999,9,     -999,1,     -999,1,     -999,1,     -999,1,     -999,1,     -999,1,     -999,1,     -999,1,     -999,1,     -999,1,     -999,1,     -999,1,     -999,1