BOTTLE,20240515CCHHYDRO
EXPOCODE,SECT_ID,STNNBR,CASTNO,SAMPNO,BTLNBR,BTLNBR_FLAG_W,DATE,TIME,LATITUDE,LONGITUDE,DEPTH,CTDPRS,CTDTMP,CTDSAL,CTDSAL_FLAG_W,SALNTY,SALNTY_FLAG_W,CTDOXY,CTDOXY_FLAG_W,CTDOPTOXY,CTDOPTOXY_FLAG_W,OXYGEN,OXYGEN_FLAG_W,SILCAT,SILCAT_FLAG_W,NITRAT,NITRAT_FLAG_W,NITRIT,NITRIT_FLAG_W,PHSPHT,PHSPHT_FLAG_W,CFC-11,CFC-11_FLAG_W,CFC-12,CFC-12_FLAG_W,SF6,SF6_FLAG_W,TCARBN,TCARBN_FLAG_W,ALKALI,ALKALI_FLAG_W,PH_TOT,PH_TOT_FLAG_W,PH_TMP,DOC,DOC_FLAG_W,HELIUM,HELIUM_FLAG_W,REFTMP,REFTMP_FLAG_W,DELC13,DELC13_FLAG_W,DELC14,DELC14_FLAG_W,C14ERR,POC,POC_FLAG_W,TDN,TDN_FLAG_W,TON,TON_FLAG_W,NEON,NEON_FLAG_W,CTDFLUOR,CTDFLUOR_FLAG_W,CTDXMISS,CTDXMISS_FLAG_W,CTDBETA700,CTDBETA700_FLAG_W,N2O,N2O_FLAG_W,ARGON,ARGON_FLAG_W,BTL_DATE,BTL_TIME,BTL_LAT,BTL_LON,KRYPTON,KRYPTON_FLAG_W,XENON,XENON_FLAG_W,HPLC,HPLC_FLAG_W,HE3_HE4_RATIO,HE3_HE4_RATIO_FLAG_W,Nd_143_144_D_EPSILON_BOTTLE,Nd_143_144_D_EPSILON_BOTTLE_FLAG_W,Nd_143_144_D_EPSILON_BOTTLE_ERROR,Nd_143_144_D_RATIO_BOTTLE,Nd_143_144_D_RATIO_BOTTLE_FLAG_W,Nd_143_144_D_RATIO_BOTTLE_ERROR,Nd_D_CONC,Nd_D_CONC_FLAG_W,La_D_CONC_BOTTLE,La_D_CONC_BOTTLE_FLAG_W,Ce_D_CONC_BOTTLE,Ce_D_CONC_BOTTLE_FLAG_W,Pr_D_CONC_BOTTLE,Pr_D_CONC_BOTTLE_FLAG_W,Sm_D_CONC_BOTTLE,Sm_D_CONC_BOTTLE_FLAG_W,Eu_D_CONC_BOTTLE,Eu_D_CONC_BOTTLE_FLAG_W,Gd_D_CONC_BOTTLE,Gd_D_CONC_BOTTLE_FLAG_W,Tb_D_CONC_BOTTLE,Tb_D_CONC_BOTTLE_FLAG_W,Dy_D_CONC_BOTTLE,Dy_D_CONC_BOTTLE_FLAG_W,Ho_D_CONC_BOTTLE,Ho_D_CONC_BOTTLE_FLAG_W,Er_D_CONC_BOTTLE,Er_D_CONC_BOTTLE_FLAG_W,Tm_D_CONC_BOTTLE,Tm_D_CONC_BOTTLE_FLAG_W,Yb_D_CONC_BOTTLE,Yb_D_CONC_BOTTLE_FLAG_W,Lu_D_CONC_BOTTLE,Lu_D_CONC_BOTTLE_FLAG_W
,,,,,,,,,,,METERS,DBAR,ITS-90,PSS-78,,PSS-78,,UMOL/KG,,UMOL/KG,,UMOL/KG,,UMOL/KG,,UMOL/KG,,UMOL/KG,,UMOL/KG,,PMOL/KG,,PMOL/KG,,FMOL/KG,,UMOL/KG,,UMOL/KG,,,,DEG C,UMOL/KG,,NMOL/L,,DEG C,,/MILLE,,/MILLE,,/MILLE,UG/KG,,UMOL/KG,,UMOL/KG,,NMOL/L,,VOLTS,,VOLTS,,VOLTS,,NMOL/KG,,UMOL/L,,,,,,NMOL/L,,NMOL/L,,,,,,10000,,10000,,,,PMOL/KG,,PMOL/L,,PMOL/L,,PMOL/L,,PMOL/L,,PMOL/L,,PMOL/L,,PMOL/L,,PMOL/L,,PMOL/L,,PMOL/L,,PMOL/L,,PMOL/L,,PMOL/L,
320620180309  ,S04P       ,77      ,  1,36         ,36         ,2,20180420,1206, -66.9990,-136.8985,     4514,     10.8,-1.3577138888888888868,33.679128034275166,2,  33.6761,2,353.80219609324030,2, 351.5958,2,    355.0,2,     25.6,2,    24.06,2,     0.32,2,     1.70,2,    6.019,2,    3.332,2,   3.9000,2,   2160.4,6,  2280.40,2,   7.6685,2,    24.91,     -999,9,     -999,9,  -1.3584,2,     -999,9,     -999,9,     -999,     -999,9,     -999,9,     -999,9,     -999,9,    0.249,1,    4.562,1,    0.253,1,  16.3400,2,     -999,9,20180420,1425, -66.9997,-136.8989,     -999,9,     -999,9,-999          ,9,     -999,9,     -999,9,     -999,     -999,9,     -999,     -999,9,     -999,1,     -999,1,     -999,1,     -999,1,     -999,1,     -999,1,     -999,1,     -999,1,     -999,1,     -999,1,     -999,1,     -999,1,     -999,1
320620180309  ,S04P       ,77      ,  1,35         ,35         ,2,20180420,1206, -66.9990,-136.8985,     4514,     33.9,-1.3586305555555557856,33.679003893480711,2,  33.6759,2,354.45503539674559,2, 351.5930,2,    353.3,2,     25.7,2,    24.04,2,     0.32,2,     1.67,2,     -999,9,     -999,9,     -999,9,     -999,9,     -999,9,     -999,9,     -999,     -999,9,     -999,1,  -1.3592,2,     -999,9,     -999,9,     -999,     -999,9,     -999,9,     -999,9,     -999,1,    0.242,1,    4.562,1,    0.231,1,     -999,9,     -999,1,20180420,1423, -66.9997,-136.8989,     -999,1,     -999,1,-999          ,9,     -999,1,     -999,9,     -999,     -999,9,     -999,     -999,9,     -999,1,     -999,1,     -999,1,     -999,1,     -999,1,     -999,1,     -999,1,     -999,1,     -999,1,     -999,1,     -999,1,     -999,1,     -999,1
320620180309  ,S04P       ,77      ,  1,34         ,34         ,2,20180420,1206, -66.9990,-136.8985,     4514,     58.9,-1.3522666666666669499,33.679535056784410,2,  33.6757,2,355.00188892026188,2, 351.6048,2,    353.8,2,     25.7,2,    24.09,2,     0.32,2,     1.69,2,     -999,9,     -999,9,     -999,9,     -999,9,     -999,9,     -999,9,     -999,     -999,9,     -999,9,  -1.3528,2,     -999,9,     -999,9,     -999,     -999,9,     -999,9,     -999,9,     -999,9,    0.245,1,    4.563,1,    0.231,1,     -999,9,     -999,9,20180420,1421, -66.9997,-136.8990,     -999,9,     -999,9,-999          ,9,     -999,9,     -999,9,     -999,     -999,9,     -999,     -999,9,     -999,1,     -999,1,     -999,1,     -999,1,     -999,1,     -999,1,     -999,1,     -999,1,     -999,1,     -999,1,     -999,1,     -999,1,     -999,1
320620180309  ,S04P       ,77      ,  1,33         ,33         ,2,20180420,1206, -66.9990,-136.8985,     4514,     84.1,-1.3438833333333335407,33.681040023277582,2,  33.6782,2,353.00260852913391,2, 351.5985,2,    353.2,2,     25.7,2,    24.06,2,     0.32,2,     1.69,2,     -999,9,     -999,9,     -999,9,   2162.0,2,  2280.74,2,   7.6679,6,    24.90,     -999,9,     -999,1,  -1.3444,2,     -999,9,     -999,9,     -999,     -999,9,     -999,9,     -999,9,     -999,1,    0.247,1,    4.561,1,    0.230,1,     -999,9,     -999,1,20180420,1419, -66.9998,-136.8991,     -999,1,     -999,1,-999          ,9,     -999,1,     -999,9,     -999,     -999,9,     -999,     -999,9,     -999,9,     -999,9,     -999,9,     -999,9,     -999,9,     -999,9,     -999,9,     -999,9,     -999,9,     -999,9,     -999,9,     -999,9,     -999,9
320620180309  ,S04P       ,77      ,  1,32         ,32         ,2,20180420,1206, -66.9990,-136.8985,     4514,    109.8,-1.1765888888888891284,33.852356958133221,2,  33.8609,2,344.01036708718192,2, 343.9981,2,    342.3,2,     37.1,2,    26.20,2,     0.29,2,     1.88,2,    5.798,2,    3.192,2,   3.9100,2,   2177.4,2,  2292.26,2,   7.6479,2,    24.90,     -999,9,     -999,9,  -1.1715,2,     -999,9,     -999,9,     -999,     -999,9,     -999,9,     -999,9,     -999,9,    0.126,1,    4.609,1,    0.209,1,  17.2900,2,     -999,9,20180420,1417, -66.9998,-136.8992,     -999,9,     -999,9,-999          ,9,     -999,9,     -999,9,     -999,     -999,9,     -999,     -999,9,     -999,1,     -999,1,     -999,1,     -999,1,     -999,1,     -999,1,     -999,1,     -999,1,     -999,1,     -999,1,     -999,1,     -999,1,     -999,1
320620180309  ,S04P       ,77      ,  1,31         ,31         ,2,20180420,1206, -66.9990,-136.8985,     4514,    134.9,-0.6779861111111110672,34.095006005647981,2,  34.1027,2,313.14483881329278,2, 311.6974,2,    312.4,2,     51.9,2,    29.87,2,     0.13,2,     2.09,2,     -999,9,     -999,9,     -999,9,   2203.1,2,  2305.50,2,   7.6110,2,    24.90,     -999,9,     -999,1,  -0.6724,2,     -999,9,     -999,9,     -999,     -999,9,     -999,9,     -999,9,     -999,1,    0.077,1,    4.642,1,    0.153,1,     -999,9,     -999,1,20180420,1415, -66.9999,-136.8993,     -999,1,     -999,1,-999          ,9,     -999,1,     -999,9,     -999,     -999,9,     -999,     -999,9,     -999,9,     -999,9,     -999,9,     -999,9,     -999,9,     -999,9,     -999,9,     -999,9,     -999,9,     -999,9,     -999,9,     -999,9,     -999,9
320620180309  ,S04P       ,77      ,  1,30         ,30         ,2,20180420,1206, -66.9990,-136.8985,     4514,    165.8,0.7139916666666666911,34.382314518235809,2,  34.3803,2,241.00202785694299,2, 244.2990,3,    239.9,2,     68.3,2,    33.19,2,     0.04,2,     2.29,2,     -999,9,     -999,9,     -999,9,   2238.2,2,  2321.33,2,   7.5632,2,    24.90,     -999,9,     -999,9,   0.6933,2,     -999,9,     -999,9,     -999,     -999,9,     -999,9,     -999,9,     -999,9,    0.068,1,    4.643,1,    0.154,1,     -999,9,     -999,9,20180420,1413, -67.0000,-136.8994,     -999,9,     -999,9,-999          ,9,     -999,9,     -999,9,     -999,     -999,9,     -999,     -999,9,     -999,1,     -999,1,     -999,1,     -999,1,     -999,1,     -999,1,     -999,1,     -999,1,     -999,1,     -999,1,     -999,1,     -999,1,     -999,1
320620180309  ,S04P       ,77      ,  1,29         ,29         ,2,20180420,1206, -66.9990,-136.8985,     4514,    215.8,1.5285638888888886111,34.564374476802023,2,  34.5683,2,196.13520803400414,3, 199.0972,3,    193.3,2,     78.6,2,    34.02,2,     0.02,2,     2.35,2,     -999,9,     -999,9,     -999,9,   2254.1,2,  2333.97,2,   7.5491,2,    24.91,     -999,9,     -999,1,   1.5297,2,     -999,9,     -999,9,     -999,     -999,9,     -999,9,     -999,9,     -999,1,    0.070,1,    4.646,1,    0.148,1,     -999,9,     -999,1,20180420,1411, -67.0000,-136.8995,     -999,1,     -999,1,-999          ,9,     -999,1,     -999,9,     -999,     -999,9,     -999,     -999,9,     -999,9,     -999,9,     -999,9,     -999,9,     -999,9,     -999,9,     -999,9,     -999,9,     -999,9,     -999,9,     -999,9,     -999,9,     -999,9
320620180309  ,S04P       ,77      ,  1,28         ,28         ,2,20180420,1206, -66.9990,-136.8985,     4514,    266.1,1.6949583333333335666,34.625499912285257,2,  34.6260,2,188.31102115434533,2, 189.5017,2,    187.3,2,     81.6,2,    33.53,2,     0.00,2,     2.33,2,    0.912,2,    0.492,2,   0.4300,2,   2256.5,2,  2341.89,2,   7.5566,2,    24.89,     -999,9,     -999,9,   1.6948,2,     -999,9,     -999,9,     -999,     -999,9,     -999,9,     -999,9,     -999,9,    0.082,1,    4.645,1,    0.152,1,  22.4300,2,     -999,9,20180420,1408, -67.0000,-136.8995,     -999,9,     -999,9,-999          ,9,     -999,9,     -999,9,     -999,     -999,9,     -999,     -999,9,     -999,1,     -999,1,     -999,1,     -999,1,     -999,1,     -999,1,     -999,1,     -999,1,     -999,1,     -999,1,     -999,1,     -999,1,     -999,1
320620180309  ,S04P       ,77      ,  1,27         ,27         ,2,20180420,1206, -66.9990,-136.8985,     4514,    317.5,1.8826138888888885869,34.675132691257076,2,  34.6731,2,182.99067845447007,2, 185.1039,2,    182.0,2,     84.4,2,    33.03,2,     0.00,2,     2.27,2,     -999,9,     -999,9,     -999,9,   2257.5,2,  2344.56,2,   7.5675,2,    24.90,     -999,9,     -999,1,   1.8816,2,     -999,9,     -999,9,     -999,     -999,9,     -999,9,     -999,9,     -999,1,    0.078,1,    4.645,1,    0.154,1,     -999,9,     -999,1,20180420,1406, -67.0000,-136.8995,     -999,1,     -999,1,-999          ,9,     -999,1,     -999,9,     -999,     -999,9,     -999,     -999,9,     -999,9,     -999,9,     -999,9,     -999,9,     -999,9,     -999,9,     -999,9,     -999,9,     -999,9,     -999,9,     -999,9,     -999,9,     -999,9
320620180309  ,S04P       ,77      ,  1,26         ,26         ,2,20180420,1206, -66.9990,-136.8985,     4514,    368.0,1.9061833333333335627,34.693758987691041,2,  34.6894,2,182.78630518189834,2, 185.0076,2,    183.4,2,     85.7,2,    32.65,2,     0.00,2,     2.25,2,     -999,9,     -999,9,     -999,9,     -999,9,     -999,9,     -999,9,     -999,     -999,9,     -999,9,   1.9054,2,     -999,9,     -999,9,     -999,     -999,9,     -999,9,     -999,9,     -999,9,    0.077,1,    4.646,1,    0.150,1,     -999,9,     -999,9,20180420,1404, -67.0001,-136.8996,     -999,9,     -999,9,-999          ,9,     -999,9,     -999,9,     -999,     -999,9,     -999,     -999,9,     -999,1,     -999,1,     -999,1,     -999,1,     -999,1,     -999,1,     -999,1,     -999,1,     -999,1,     -999,1,     -999,1,     -999,1,     -999,1
320620180309  ,S04P       ,77      ,  1,25         ,25         ,2,20180420,1206, -66.9990,-136.8985,     4514,    418.7,1.8802805555555555106,34.703069008779266,2,  34.7013,2,183.29504258315401,2, 185.5014,2,    184.9,2,     87.0,2,    32.52,2,     0.00,2,     2.25,2,    0.382,2,    0.205,2,   0.1200,2,   2255.6,6,  2347.45,2,   7.5763,2,    24.89,     -999,9,     -999,1,   1.8795,2,     -999,9,     -999,9,     -999,     -999,9,     -999,9,     -999,9,     -999,1,    0.078,1,    4.647,1,    0.152,1,  21.0200,2,     -999,1,20180420,1402, -67.0001,-136.8998,     -999,1,     -999,1,-999          ,9,     -999,1,     -999,9,     -999,     -999,9,     -999,     -999,9,     -999,9,     -999,9,     -999,9,     -999,9,     -999,9,     -999,9,     -999,9,     -999,9,     -999,9,     -999,9,     -999,9,     -999,9,     -999,9
320620180309  ,S04P       ,77      ,  1,24         ,24         ,2,20180420,1206, -66.9990,-136.8985,     4514,    469.3,1.8523416666666667751,34.712169632153426,2,  34.7106,2,184.71605259484889,2, 186.1017,2,    184.7,2,     88.2,2,    32.33,2,     0.00,2,     2.23,2,     -999,9,     -999,9,     -999,9,     -999,9,     -999,9,     -999,9,     -999,     -999,9,     -999,9,   1.8517,2,     -999,9,     -999,9,     -999,     -999,9,     -999,9,     -999,9,     -999,9,    0.073,1,    4.651,1,    0.146,1,     -999,9,     -999,9,20180420,1359, -67.0002,-136.8999,     -999,9,     -999,9,-999          ,9,     -999,9,     -999,9,     -999,     -999,9,     -999,     -999,9,     -999,1,     -999,1,     -999,1,     -999,1,     -999,1,     -999,1,     -999,1,     -999,1,     -999,1,     -999,1,     -999,1,     -999,1,     -999,1
320620180309  ,S04P       ,77      ,  1,23         ,23         ,2,20180420,1206, -66.9990,-136.8985,     4514,    540.4,1.7900138888888887934,34.719757692415442,2,  34.7186,2,186.23364932121220,2, 187.4959,2,    186.8,2,     90.1,2,    32.20,2,     0.00,2,     2.23,2,     -999,9,     -999,9,     -999,9,   2255.0,2,  2349.65,2,   7.5871,2,    24.89,     -999,9,     -999,1,   1.7892,2,     -999,9,     -999,9,     -999,     -999,9,     -999,9,     -999,9,     -999,1,    0.070,1,    4.651,1,    0.145,1,     -999,9,     -999,1,20180420,1356, -67.0002,-136.8999,     -999,1,     -999,1,-999          ,9,     -999,1,     -999,9,     -999,     -999,9,     -999,     -999,9,     -999,9,     -999,9,     -999,9,     -999,9,     -999,9,     -999,9,     -999,9,     -999,9,     -999,9,     -999,9,     -999,9,     -999,9,     -999,9
320620180309  ,S04P       ,77      ,  1,22         ,37         ,2,20180420,1206, -66.9990,-136.8985,     4514,    640.5,1.6982749999999999790,34.726938371751217,2,  34.7257,2,188.10612475025107,2, 189.0980,2,    188.5,2,     92.9,2,    32.05,2,     0.00,2,     2.22,2,    0.262,2,    0.138,2,   0.1400,2,   2256.1,2,  2355.00,2,   7.5882,2,    24.91,     -999,9,     -999,9,   1.6969,2,     -999,9,     -999,9,     -999,     -999,9,     -999,9,     -999,9,     -999,9,    0.065,1,    4.657,1,    0.136,1,  20.5400,2,     -999,9,20180420,1352, -67.0001,-136.8997,     -999,9,     -999,9,-999          ,9,     -999,9,     -999,9,     -999,     -999,9,     -999,     -999,9,     -999,1,     -999,1,     -999,1,     -999,1,     -999,1,     -999,1,     -999,1,     -999,1,     -999,1,     -999,1,     -999,1,     -999,1,     -999,1
320620180309  ,S04P       ,77      ,  1,21         ,21         ,2,20180420,1206, -66.9990,-136.8985,     4514,    742.3,1.6082055555555558879,34.731144997629819,2,  34.7300,2,190.44820589834271,2, 191.3952,2,    191.2,2,     96.0,2,    31.94,2,     0.00,2,     2.20,2,     -999,9,     -999,9,     -999,9,   2254.9,2,  2354.60,2,   7.5949,2,    24.89,     -999,9,     -999,9,   1.6067,2,     -999,9,     -999,9,     -999,     -999,9,     -999,9,     -999,9,     -999,9,    0.071,1,    4.652,1,    0.140,1,     -999,9,     -999,9,20180420,1348, -66.9999,-136.8994,     -999,9,     -999,9,-999          ,9,     -999,9,     -999,9,     -999,     -999,9,     -999,     -999,9,     -999,9,     -999,9,     -999,9,     -999,9,     -999,9,     -999,9,     -999,9,     -999,9,     -999,9,     -999,9,     -999,9,     -999,9,     -999,9
320620180309  ,S04P       ,77      ,  1,20         ,20         ,2,20180420,1206, -66.9990,-136.8985,     4514,    843.1,1.5143944444444443764,34.731966329464498,2,  34.7312,2,191.45244019327339,2, 193.0037,2,    191.5,2,     99.0,2,    32.01,2,     0.00,2,     2.21,2,     -999,9,     -999,9,     -999,9,     -999,9,     -999,9,     -999,9,     -999,     -999,9,     -999,1,   1.5137,2,     -999,9,     -999,9,     -999,     -999,9,     -999,9,     -999,9,     -999,1,    0.066,1,    4.658,1,    0.132,1,     -999,9,     -999,1,20180420,1345, -66.9997,-136.8992,     -999,1,     -999,1,-999          ,9,     -999,1,     -999,9,     -999,     -999,9,     -999,     -999,9,     -999,1,     -999,1,     -999,1,     -999,1,     -999,1,     -999,1,     -999,1,     -999,1,     -999,1,     -999,1,     -999,1,     -999,1,     -999,1
320620180309  ,S04P       ,77      ,  1,19         ,19         ,2,20180420,1206, -66.9990,-136.8985,     4514,    945.1,1.4282472222222222236,34.731393849510120,2,  34.7312,2,192.50283995952185,2, 193.3037,2,    192.4,2,    102.1,2,    32.17,2,     0.00,2,     2.22,2,     -999,9,     -999,9,     -999,9,   2256.8,2,  2359.32,2,   7.5915,2,    24.90,     -999,9,     -999,9,   1.4273,2,     -999,9,     -999,9,     -999,     -999,9,     -999,9,     -999,9,     -999,9,    0.064,1,    4.657,1,    0.133,1,     -999,9,     -999,9,20180420,1342, -66.9995,-136.8989,     -999,9,     -999,9,-999          ,9,     -999,9,     -999,9,     -999,     -999,9,     -999,     -999,9,     -999,9,     -999,9,     -999,9,     -999,9,     -999,9,     -999,9,     -999,9,     -999,9,     -999,9,     -999,9,     -999,9,     -999,9,     -999,9
320620180309  ,S04P       ,77      ,  1,18         ,18         ,2,20180420,1206, -66.9990,-136.8985,     4514,   1046.3,1.3491750000000000131,34.730105178661724,2,  34.7294,2,193.78494291594018,2, 194.1016,2,    192.8,2,    104.6,2,    32.25,2,     0.00,2,     2.20,2,    0.178,2,    0.088,2,   0.1000,2,   2260.6,2,  2359.52,2,   7.5929,2,    24.90,     -999,9,     -999,9,   1.3484,2,     -999,9,     -999,9,     -999,     -999,9,     -999,9,     -999,9,     -999,9,    0.063,1,    4.659,1,    0.132,1,  20.5700,2,     -999,9,20180420,1339, -66.9994,-136.8989,     -999,9,     -999,9,-999          ,9,     -999,9,     -999,9,     -999,     -999,9,     -999,     -999,9,     -999,1,     -999,1,     -999,1,     -999,1,     -999,1,     -999,1,     -999,1,     -999,1,     -999,1,     -999,1,     -999,1,     -999,1,     -999,1
320620180309  ,S04P       ,77      ,  1,17         ,17         ,2,20180420,1206, -66.9990,-136.8985,     4514,   1147.9,1.2720361111111111452,34.728061581660612,2,  34.7274,2,194.90246920343955,2, 194.8046,2,    194.7,2,    107.2,2,    32.31,2,     0.00,2,     2.20,2,     -999,9,     -999,9,     -999,9,     -999,9,     -999,9,     -999,9,     -999,     -999,9,     -999,9,   1.2716,2,     -999,9,     -999,9,     -999,     -999,9,     -999,9,     -999,9,     -999,9,    0.061,1,    4.657,1,    0.132,1,     -999,9,     -999,9,20180420,1335, -66.9993,-136.8987,     -999,9,     -999,9,-999          ,9,     -999,9,     -999,9,     -999,     -999,9,     -999,     -999,9,     -999,9,     -999,9,     -999,9,     -999,9,     -999,9,     -999,9,     -999,9,     -999,9,     -999,9,     -999,9,     -999,9,     -999,9,     -999,9
320620180309  ,S04P       ,77      ,  1,16         ,16         ,2,20180420,1206, -66.9990,-136.8985,     4514,   1249.6,1.1949416666666667908,34.725697147409079,2,  34.7276,2,196.68853917240500,2, 196.7974,2,    197.3,2,    109.5,2,    32.28,2,     0.00,2,     2.19,2,     -999,9,     -999,9,     -999,9,   2260.5,2,  2361.45,2,   7.5954,6,    24.89,     -999,9,     -999,9,   1.1946,2,     -999,9,     -999,9,     -999,     -999,9,     -999,9,     -999,9,     -999,9,    0.064,1,    4.655,1,    0.131,1,     -999,9,     -999,9,20180420,1332, -66.9991,-136.8984,     -999,9,     -999,9,-999          ,9,     -999,9,     -999,9,     -999,     -999,9,     -999,     -999,9,     -999,1,     -999,1,     -999,1,     -999,1,     -999,1,     -999,1,     -999,1,     -999,1,     -999,1,     -999,1,     -999,1,     -999,1,     -999,1