BOTTLE,20240515CCHHYDRO
EXPOCODE,SECT_ID,STNNBR,CASTNO,SAMPNO,BTLNBR,BTLNBR_FLAG_W,DATE,TIME,LATITUDE,LONGITUDE,DEPTH,CTDPRS,CTDTMP,CTDSAL,CTDSAL_FLAG_W,SALNTY,SALNTY_FLAG_W,CTDOXY,CTDOXY_FLAG_W,CTDOPTOXY,CTDOPTOXY_FLAG_W,OXYGEN,OXYGEN_FLAG_W,SILCAT,SILCAT_FLAG_W,NITRAT,NITRAT_FLAG_W,NITRIT,NITRIT_FLAG_W,PHSPHT,PHSPHT_FLAG_W,CFC-11,CFC-11_FLAG_W,CFC-12,CFC-12_FLAG_W,SF6,SF6_FLAG_W,TCARBN,TCARBN_FLAG_W,ALKALI,ALKALI_FLAG_W,PH_TOT,PH_TOT_FLAG_W,PH_TMP,DOC,DOC_FLAG_W,HELIUM,HELIUM_FLAG_W,REFTMP,REFTMP_FLAG_W,DELC13,DELC13_FLAG_W,DELC14,DELC14_FLAG_W,C14ERR,POC,POC_FLAG_W,TDN,TDN_FLAG_W,TON,TON_FLAG_W,NEON,NEON_FLAG_W,CTDFLUOR,CTDFLUOR_FLAG_W,CTDXMISS,CTDXMISS_FLAG_W,CTDBETA700,CTDBETA700_FLAG_W,N2O,N2O_FLAG_W,ARGON,ARGON_FLAG_W,BTL_DATE,BTL_TIME,BTL_LAT,BTL_LON,KRYPTON,KRYPTON_FLAG_W,XENON,XENON_FLAG_W,HPLC,HPLC_FLAG_W,HE3_HE4_RATIO,HE3_HE4_RATIO_FLAG_W,Nd_143_144_D_EPSILON_BOTTLE,Nd_143_144_D_EPSILON_BOTTLE_FLAG_W,Nd_143_144_D_EPSILON_BOTTLE_ERROR,Nd_143_144_D_RATIO_BOTTLE,Nd_143_144_D_RATIO_BOTTLE_FLAG_W,Nd_143_144_D_RATIO_BOTTLE_ERROR,Nd_D_CONC,Nd_D_CONC_FLAG_W,La_D_CONC_BOTTLE,La_D_CONC_BOTTLE_FLAG_W,Ce_D_CONC_BOTTLE,Ce_D_CONC_BOTTLE_FLAG_W,Pr_D_CONC_BOTTLE,Pr_D_CONC_BOTTLE_FLAG_W,Sm_D_CONC_BOTTLE,Sm_D_CONC_BOTTLE_FLAG_W,Eu_D_CONC_BOTTLE,Eu_D_CONC_BOTTLE_FLAG_W,Gd_D_CONC_BOTTLE,Gd_D_CONC_BOTTLE_FLAG_W,Tb_D_CONC_BOTTLE,Tb_D_CONC_BOTTLE_FLAG_W,Dy_D_CONC_BOTTLE,Dy_D_CONC_BOTTLE_FLAG_W,Ho_D_CONC_BOTTLE,Ho_D_CONC_BOTTLE_FLAG_W,Er_D_CONC_BOTTLE,Er_D_CONC_BOTTLE_FLAG_W,Tm_D_CONC_BOTTLE,Tm_D_CONC_BOTTLE_FLAG_W,Yb_D_CONC_BOTTLE,Yb_D_CONC_BOTTLE_FLAG_W,Lu_D_CONC_BOTTLE,Lu_D_CONC_BOTTLE_FLAG_W
,,,,,,,,,,,METERS,DBAR,ITS-90,PSS-78,,PSS-78,,UMOL/KG,,UMOL/KG,,UMOL/KG,,UMOL/KG,,UMOL/KG,,UMOL/KG,,UMOL/KG,,PMOL/KG,,PMOL/KG,,FMOL/KG,,UMOL/KG,,UMOL/KG,,,,DEG C,UMOL/KG,,NMOL/L,,DEG C,,/MILLE,,/MILLE,,/MILLE,UG/KG,,UMOL/KG,,UMOL/KG,,NMOL/L,,VOLTS,,VOLTS,,VOLTS,,NMOL/KG,,UMOL/L,,,,,,NMOL/L,,NMOL/L,,,,,,10000,,10000,,,,PMOL/KG,,PMOL/L,,PMOL/L,,PMOL/L,,PMOL/L,,PMOL/L,,PMOL/L,,PMOL/L,,PMOL/L,,PMOL/L,,PMOL/L,,PMOL/L,,PMOL/L,,PMOL/L,
320620180309  ,S04P       ,88      ,  1,15         ,15         ,2,20180424,1723, -67.0002,-119.4298,     4596,   1418.3,1.3296668514533678263,34.729125985435338,2,  34.7280,2,194.07397920095178,2, 195.1003,2,    195.2,2,    104.7,2,    32.00,2,     0.00,2,     2.20,2,    0.154,2,    0.078,2,   0.0900,2,   2260.9,2,  2362.78,2,   7.5974,2,    25.16,     42.6,2,     -999,9,   1.3295,2,     -999,9,     -999,9,     -999,     -999,9,     -999,9,     -999,1,     -999,9,    0.061,1,    4.657,1,    0.128,1,  19.5300,2,     -999,9,20180424,1847, -67.0001,-119.4285,     -999,9,     -999,9,-999          ,9,     -999,9,     -999,9,     -999,     -999,9,     -999,     -999,9,     -999,9,     -999,9,     -999,9,     -999,9,     -999,9,     -999,9,     -999,9,     -999,9,     -999,9,     -999,9,     -999,9,     -999,9,     -999,9
320620180309  ,S04P       ,88      ,  1,14         ,14         ,2,20180424,1723, -67.0002,-119.4298,     4596,   1519.7,1.2671294238917636399,34.727155639967094,2,  34.7264,2,195.43887832010182,2, 195.8010,2,    196.1,2,    107.1,2,    32.06,2,     0.00,2,     2.20,2,     -999,9,     -999,9,     -999,9,   2259.6,2,  2359.84,2,   7.5983,2,    24.85,     -999,9,     -999,9,   1.2668,2,     -999,9,     -999,9,     -999,     -999,9,     -999,9,     -999,9,     -999,9,    0.061,1,    4.657,1,    0.131,1,     -999,9,     -999,9,20180424,1844, -67.0002,-119.4290,     -999,9,     -999,9,-999          ,9,     -999,9,     -999,9,     -999,     -999,9,     -999,     -999,9,     -999,9,     -999,9,     -999,9,     -999,9,     -999,9,     -999,9,     -999,9,     -999,9,     -999,9,     -999,9,     -999,9,     -999,9,     -999,9
320620180309  ,S04P       ,88      ,  1,13         ,13         ,2,20180424,1723, -67.0002,-119.4298,     4596,   1623.0,1.1976583248340497700,34.724884566148404,2,  34.7241,2,196.33034978404996,2, 197.3017,2,    197.4,2,    109.5,2,    32.17,2,     0.00,2,     2.20,2,    0.144,2,    0.073,2,   0.0900,2,   2261.3,2,  2363.43,2,   7.5993,2,    24.87,     39.9,2,     -999,9,   1.1975,2,     -999,9,     -999,9,     -999,     -999,9,     -999,9,     -999,1,     -999,9,    0.061,1,    4.658,1,    0.127,1,  19.3300,2,     -999,9,20180424,1841, -67.0002,-119.4290,     -999,9,     -999,9,-999          ,9,     -999,9,     -999,9,     -999,     -999,9,     -999,     -999,9,     -999,9,     -999,9,     -999,9,     -999,9,     -999,9,     -999,9,     -999,9,     -999,9,     -999,9,     -999,9,     -999,9,     -999,9,     -999,9
320620180309  ,S04P       ,88      ,  1,12         ,12         ,2,20180424,1723, -67.0002,-119.4298,     4596,   1826.7,1.0923363044916765130,34.720908566040130,2,  34.7204,2,198.81042361237041,2, 199.2956,2,    199.8,2,    113.7,2,    32.19,2,     0.00,2,     2.19,2,     -999,9,     -999,9,     -999,9,   2263.1,2,  2364.18,2,   7.5968,2,    24.86,     39.2,2,     -999,9,   1.0923,2,     -999,9,     -999,9,     -999,     -999,9,     -999,9,     -999,1,     -999,9,    0.061,1,    4.658,1,    0.126,1,     -999,9,     -999,9,20180424,1835, -67.0002,-119.4290,     -999,9,     -999,9,-999          ,9,     -999,9,     -999,9,     -999,     -999,9,     -999,     -999,9,     -999,9,     -999,9,     -999,9,     -999,9,     -999,9,     -999,9,     -999,9,     -999,9,     -999,9,     -999,9,     -999,9,     -999,9,     -999,9
320620180309  ,S04P       ,88      ,  1,11         ,11         ,2,20180424,1723, -67.0002,-119.4298,     4596,   2028.6,0.9933479500899594639,34.717033910166556,2,  34.7166,2,200.89450925958099,2, 201.2991,2,    201.5,2,    116.9,2,    32.30,2,     0.00,2,     2.20,2,    0.145,2,    0.081,2,   0.1400,2,   2262.0,6,  2362.72,2,   7.5988,2,    24.86,     39.6,2,     -999,9,   0.9922,2,     -999,9,     -999,9,     -999,     -999,9,     -999,9,     -999,1,     -999,9,    0.061,1,    4.658,1,    0.126,1,  19.4100,2,     -999,9,20180424,1829, -67.0002,-119.4294,     -999,9,     -999,9,-999          ,9,     -999,9,     -999,9,     -999,     -999,9,     -999,     -999,9,     -999,9,     -999,9,     -999,9,     -999,9,     -999,9,     -999,9,     -999,9,     -999,9,     -999,9,     -999,9,     -999,9,     -999,9,     -999,9
320620180309  ,S04P       ,88      ,  1,10         ,10         ,2,20180424,1723, -67.0002,-119.4298,     4596,   2284.3,0.8776145106013819586,34.712349279957259,2,  34.7115,2,203.00889256816501,2, 203.9947,2,    203.9,2,    121.5,2,    32.42,2,     0.00,2,     2.20,2,    0.157,2,    0.087,2,   0.1400,2,   2262.8,2,  2369.10,3,   7.5988,2,    24.87,     39.2,2,     -999,9,   0.8774,2,     -999,9,     -999,9,     -999,     -999,9,     -999,9,     -999,1,     -999,9,    0.061,1,    4.658,1,    0.126,1,  18.9700,2,     -999,9,20180424,1823, -67.0002,-119.4300,     -999,9,     -999,9,-999          ,9,     -999,9,     -999,9,     -999,     -999,9,     -999,     -999,9,     -999,9,     -999,9,     -999,9,     -999,9,     -999,9,     -999,9,     -999,9,     -999,9,     -999,9,     -999,9,     -999,9,     -999,9,     -999,9
320620180309  ,S04P       ,88      ,  1,9          ,9          ,2,20180424,1723, -67.0002,-119.4298,     4596,   2540.6,0.7889553157983748566,34.708613496835255,2,  34.7082,2,204.62724661170725,2, 205.6036,2,    205.4,2,    124.9,2,    32.56,2,     0.00,2,     2.20,2,    0.192,2,    0.100,2,   0.0000,2,   2262.2,2,  2365.61,2,   7.5979,2,    24.86,     41.8,2,     -999,9,   0.7887,2,     -999,9,     -999,9,     -999,     -999,9,     -999,9,     -999,1,     -999,9,    0.061,1,    4.658,1,    0.125,1,  18.9400,2,     -999,9,20180424,1816, -67.0002,-119.4291,     -999,9,     -999,9,-999          ,9,     -999,9,     -999,9,     -999,     -999,9,     -999,     -999,9,     -999,9,     -999,9,     -999,9,     -999,9,     -999,9,     -999,9,     -999,9,     -999,9,     -999,9,     -999,9,     -999,9,     -999,9,     -999,9
320620180309  ,S04P       ,88      ,  1,8          ,8          ,2,20180424,1723, -67.0002,-119.4298,     4596,   2794.8,0.7068813240839098011,34.705951765310424,2,  34.7054,2,206.30653374881453,2, 207.0967,2,    207.1,2,    127.6,2,    32.65,2,     0.00,2,     2.22,2,    0.215,2,    0.117,2,   0.1600,2,   2263.4,2,  2365.05,2,   7.5972,2,    24.85,     40.1,2,     -999,9,   0.7069,2,     -999,9,     -999,9,     -999,     -999,9,     -999,9,     -999,1,     -999,9,    0.061,1,    4.658,1,    0.126,1,  19.2000,2,     -999,9,20180424,1810, -67.0001,-119.4287,     -999,9,     -999,9,-999          ,9,     -999,9,     -999,9,     -999,     -999,9,     -999,     -999,9,     -999,9,     -999,9,     -999,9,     -999,9,     -999,9,     -999,9,     -999,9,     -999,9,     -999,9,     -999,9,     -999,9,     -999,9,     -999,9
320620180309  ,S04P       ,88      ,  1,7          ,7          ,2,20180424,1723, -67.0002,-119.4298,     4596,   3051.2,0.6257761041785101508,34.704161944825060,2,  34.7039,2,208.92606401752846,2, 208.7019,2,    208.9,2,    129.5,2,    32.74,2,     0.00,2,     2.23,2,    0.228,2,    0.122,2,   0.0300,2,   2263.3,2,  2362.74,2,   7.5970,6,    24.87,     -999,9,     -999,9,   0.6257,2,     -999,9,     -999,9,     -999,     -999,9,     -999,9,     -999,1,     -999,9,    0.061,1,    4.658,1,    0.125,1,  19.2200,2,     -999,9,20180424,1803, -67.0002,-119.4292,     -999,9,     -999,9,-999          ,9,     -999,9,     -999,9,     -999,     -999,9,     -999,     -999,9,     -999,9,     -999,9,     -999,9,     -999,9,     -999,9,     -999,9,     -999,9,     -999,9,     -999,9,     -999,9,     -999,9,     -999,9,     -999,9
320620180309  ,S04P       ,88      ,  1,6          ,6          ,2,20180424,1723, -67.0002,-119.4298,     4596,   3359.3,0.5200823368573390670,34.702289472184553,2,  34.7015,2,211.09898763477864,2, 211.0002,2,    210.8,2,    132.5,2,    32.80,2,     0.00,2,     2.24,2,    0.249,2,    0.126,2,   0.0300,2,   2264.9,2,  2365.72,2,   7.5967,2,    24.86,     38.1,2,     -999,9,   0.5197,2,     -999,9,     -999,9,     -999,     -999,9,     -999,9,     -999,1,     -999,9,    0.061,1,    4.658,1,    0.125,1,  18.5900,2,     -999,9,20180424,1756, -67.0002,-119.4301,     -999,9,     -999,9,-999          ,9,     -999,9,     -999,9,     -999,     -999,9,     -999,     -999,9,     -999,9,     -999,9,     -999,9,     -999,9,     -999,9,     -999,9,     -999,9,     -999,9,     -999,9,     -999,9,     -999,9,     -999,9,     -999,9
320620180309  ,S04P       ,88      ,  1,5          ,5          ,2,20180424,1723, -67.0002,-119.4298,     4596,   3669.4,0.4446222846256070449,34.701253978078554,2,  34.6998,2,213.14858663340780,2, 213.2029,2,    213.5,2,    135.3,2,    32.91,2,     0.00,2,     2.25,2,    0.290,2,    0.155,2,   0.0900,2,   2263.3,2,  2363.91,2,   7.5926,2,    24.36,     39.6,2,     -999,9,   0.4445,2,     -999,9,     -999,9,     -999,     -999,9,     -999,9,     -999,1,     -999,9,    0.061,1,    4.658,1,    0.125,1,  18.8100,2,     -999,9,20180424,1748, -67.0002,-119.4293,     -999,9,     -999,9,-999          ,9,     -999,9,     -999,9,     -999,     -999,9,     -999,     -999,9,     -999,9,     -999,9,     -999,9,     -999,9,     -999,9,     -999,9,     -999,9,     -999,9,     -999,9,     -999,9,     -999,9,     -999,9,     -999,9
320620180309  ,S04P       ,88      ,  1,4          ,4          ,2,20180424,1723, -67.0002,-119.4298,     4596,   3974.8,0.4011042674370652872,34.700140937267911,2,  34.6988,2,214.96021864158104,2, 214.6018,2,    214.4,2,    137.4,2,    32.96,2,     0.00,2,     2.24,2,    0.350,2,    0.184,2,   0.1000,2,   2263.3,2,  2363.61,2,   7.5951,2,    25.10,     -999,9,     -999,9,   0.4010,2,     -999,9,     -999,9,     -999,     -999,9,     -999,9,     -999,9,     -999,9,    0.061,1,    4.657,1,    0.124,1,  18.7100,2,     -999,9,20180424,1741, -67.0001,-119.4287,     -999,9,     -999,9,-999          ,9,     -999,9,     -999,9,     -999,     -999,9,     -999,     -999,9,     -999,9,     -999,9,     -999,9,     -999,9,     -999,9,     -999,9,     -999,9,     -999,9,     -999,9,     -999,9,     -999,9,     -999,9,     -999,9
320620180309  ,S04P       ,88      ,  1,3          ,3          ,2,20180424,1723, -67.0002,-119.4298,     4596,   4283.9,0.3795671602877019324,34.699245663886302,3,  34.6960,2,215.99352496793875,2, 215.3932,2,    215.7,2,    140.3,2,    33.03,2,     0.00,2,     2.25,2,    0.411,2,    0.205,2,   0.0500,2,   2262.5,2,  2363.00,2,   7.5934,2,    24.83,     40.6,2,     -999,9,   0.3794,2,     -999,9,     -999,9,     -999,     -999,9,     -999,9,     -999,1,     -999,9,    0.060,1,    4.656,1,    0.126,1,  18.7600,2,     -999,9,20180424,1734, -67.0002,-119.4288,     -999,9,     -999,9,-999          ,9,     -999,9,     -999,9,     -999,     -999,9,     -999,     -999,9,     -999,9,     -999,9,     -999,9,     -999,9,     -999,9,     -999,9,     -999,9,     -999,9,     -999,9,     -999,9,     -999,9,     -999,9,     -999,9
320620180309  ,S04P       ,88      ,  1,2          ,2          ,2,20180424,1723, -67.0002,-119.4298,     4596,   4490.8,0.3811209730514564242,34.698942955935770,2,  34.6980,2,215.56239405356661,2, 215.5033,2,    215.3,2,    142.6,2,    33.05,2,     0.00,2,     2.24,2,    0.442,2,    0.221,2,   0.2700,2,   2264.9,2,  2360.58,2,   7.5937,2,    24.84,     -999,9,     -999,9,   0.3812,2,     -999,9,     -999,9,     -999,     -999,9,     -999,9,     -999,9,     -999,9,    0.060,1,    4.652,1,    0.129,1,  19.0300,2,     -999,9,20180424,1728, -67.0002,-119.4297,     -999,9,     -999,9,-999          ,9,     -999,9,     -999,9,     -999,     -999,9,     -999,     -999,9,     -999,9,     -999,9,     -999,9,     -999,9,     -999,9,     -999,9,     -999,9,     -999,9,     -999,9,     -999,9,     -999,9,     -999,9,     -999,9
320620180309  ,S04P       ,88      ,  1,1          ,1          ,2,20180424,1723, -67.0002,-119.4298,     4596,   4682.4,0.3854732429758880863,34.698114009006247,2,  34.6974,2,215.56250946495328,2, 215.3998,2,    215.5,2,    145.7,2,    33.13,2,     0.00,2,     2.25,2,    0.498,2,    0.252,2,   0.0200,2,   2266.4,6,  2362.88,2,   7.5926,2,    24.83,     41.5,2,     -999,9,   0.3856,2,     -999,9,     -999,9,     -999,     -999,9,     -999,9,     -999,1,     -999,9,    0.061,1,    4.641,1,    0.140,1,  18.8600,2,     -999,9,20180424,1723, -67.0002,-119.4298,     -999,9,     -999,9,-999          ,9,     -999,9,     -999,9,     -999,     -999,9,     -999,     -999,9,     -999,9,     -999,9,     -999,9,     -999,9,     -999,9,     -999,9,     -999,9,     -999,9,     -999,9,     -999,9,     -999,9,     -999,9,     -999,9