BOTTLE,20240515CCHHYDRO
EXPOCODE,SECT_ID,STNNBR,CASTNO,SAMPNO,BTLNBR,BTLNBR_FLAG_W,DATE,TIME,LATITUDE,LONGITUDE,DEPTH,CTDPRS,CTDTMP,CTDSAL,CTDSAL_FLAG_W,SALNTY,SALNTY_FLAG_W,CTDOXY,CTDOXY_FLAG_W,CTDOPTOXY,CTDOPTOXY_FLAG_W,OXYGEN,OXYGEN_FLAG_W,SILCAT,SILCAT_FLAG_W,NITRAT,NITRAT_FLAG_W,NITRIT,NITRIT_FLAG_W,PHSPHT,PHSPHT_FLAG_W,CFC-11,CFC-11_FLAG_W,CFC-12,CFC-12_FLAG_W,SF6,SF6_FLAG_W,TCARBN,TCARBN_FLAG_W,ALKALI,ALKALI_FLAG_W,PH_TOT,PH_TOT_FLAG_W,PH_TMP,DOC,DOC_FLAG_W,HELIUM,HELIUM_FLAG_W,REFTMP,REFTMP_FLAG_W,DELC13,DELC13_FLAG_W,DELC14,DELC14_FLAG_W,C14ERR,POC,POC_FLAG_W,TDN,TDN_FLAG_W,TON,TON_FLAG_W,NEON,NEON_FLAG_W,CTDFLUOR,CTDFLUOR_FLAG_W,CTDXMISS,CTDXMISS_FLAG_W,CTDBETA700,CTDBETA700_FLAG_W,N2O,N2O_FLAG_W,ARGON,ARGON_FLAG_W,BTL_DATE,BTL_TIME,BTL_LAT,BTL_LON,KRYPTON,KRYPTON_FLAG_W,XENON,XENON_FLAG_W,HPLC,HPLC_FLAG_W,HE3_HE4_RATIO,HE3_HE4_RATIO_FLAG_W,Nd_143_144_D_EPSILON_BOTTLE,Nd_143_144_D_EPSILON_BOTTLE_FLAG_W,Nd_143_144_D_EPSILON_BOTTLE_ERROR,Nd_143_144_D_RATIO_BOTTLE,Nd_143_144_D_RATIO_BOTTLE_FLAG_W,Nd_143_144_D_RATIO_BOTTLE_ERROR,Nd_D_CONC,Nd_D_CONC_FLAG_W,La_D_CONC_BOTTLE,La_D_CONC_BOTTLE_FLAG_W,Ce_D_CONC_BOTTLE,Ce_D_CONC_BOTTLE_FLAG_W,Pr_D_CONC_BOTTLE,Pr_D_CONC_BOTTLE_FLAG_W,Sm_D_CONC_BOTTLE,Sm_D_CONC_BOTTLE_FLAG_W,Eu_D_CONC_BOTTLE,Eu_D_CONC_BOTTLE_FLAG_W,Gd_D_CONC_BOTTLE,Gd_D_CONC_BOTTLE_FLAG_W,Tb_D_CONC_BOTTLE,Tb_D_CONC_BOTTLE_FLAG_W,Dy_D_CONC_BOTTLE,Dy_D_CONC_BOTTLE_FLAG_W,Ho_D_CONC_BOTTLE,Ho_D_CONC_BOTTLE_FLAG_W,Er_D_CONC_BOTTLE,Er_D_CONC_BOTTLE_FLAG_W,Tm_D_CONC_BOTTLE,Tm_D_CONC_BOTTLE_FLAG_W,Yb_D_CONC_BOTTLE,Yb_D_CONC_BOTTLE_FLAG_W,Lu_D_CONC_BOTTLE,Lu_D_CONC_BOTTLE_FLAG_W
,,,,,,,,,,,METERS,DBAR,ITS-90,PSS-78,,PSS-78,,UMOL/KG,,UMOL/KG,,UMOL/KG,,UMOL/KG,,UMOL/KG,,UMOL/KG,,UMOL/KG,,PMOL/KG,,PMOL/KG,,FMOL/KG,,UMOL/KG,,UMOL/KG,,,,DEG C,UMOL/KG,,NMOL/L,,DEG C,,/MILLE,,/MILLE,,/MILLE,UG/KG,,UMOL/KG,,UMOL/KG,,NMOL/L,,VOLTS,,VOLTS,,VOLTS,,NMOL/KG,,UMOL/L,,,,,,NMOL/L,,NMOL/L,,,,,,10000,,10000,,,,PMOL/KG,,PMOL/L,,PMOL/L,,PMOL/L,,PMOL/L,,PMOL/L,,PMOL/L,,PMOL/L,,PMOL/L,,PMOL/L,,PMOL/L,,PMOL/L,,PMOL/L,,PMOL/L,
320620180309  ,P16        ,48      ,  1,36         ,36         ,2,20180406,2216, -70.0005,-150.0009,     4347,      9.6,-1.5060611111111112947,33.777854011539446,2,  33.7757,2,348.72589957768781,2, 348.3009,2,    349.3,2,     42.3,2,    24.68,2,     0.21,2,     1.80,2,    6.458,2,    3.264,2,   3.5500,2,   2172.6,6,  2288.86,2,   7.6601,2,    24.93,     46.0,2,     -999,9,  -1.5063,2,     -999,9,     -999,9,     -999,     -999,9,    27.30,2,     -999,1,     -999,9,    0.101,1,    4.645,1,    0.152,1,  17.4800,2,     -999,9,20180407,0015, -70.0008,-149.9998,     -999,9,     -999,9,-999          ,9,     -999,9,     -999,9,     -999,     -999,9,     -999,     -999,9,     -999,9,     -999,9,     -999,9,     -999,9,     -999,9,     -999,9,     -999,9,     -999,9,     -999,9,     -999,9,     -999,9,     -999,9,     -999,9
320620180309  ,P16        ,48      ,  1,35         ,35         ,2,20180406,2216, -70.0005,-150.0009,     4347,     24.4,-1.5077111111111112240,33.777850668809471,2,  33.7765,2,349.43734899291610,2, 348.3046,2,    347.5,2,     42.2,2,    24.67,2,     0.21,2,     1.80,2,    6.495,6,    3.281,6,   3.7000,6,   2172.7,2,  2287.83,2,   7.6602,2,    24.95,     47.0,2,     -999,9,  -1.5091,2,     -999,9,     -999,9,     -999,     -999,9,    27.30,2,     -999,1,     -999,9,    0.107,1,    4.644,1,    0.154,1,  17.3600,6,     -999,9,20180407,0014, -70.0008,-149.9998,     -999,9,     -999,9,-999          ,9,     -999,9,     -999,9,     -999,     -999,9,     -999,     -999,9,     -999,9,     -999,9,     -999,9,     -999,9,     -999,9,     -999,9,     -999,9,     -999,9,     -999,9,     -999,9,     -999,9,     -999,9,     -999,9
320620180309  ,P16        ,48      ,  1,34         ,34         ,2,20180406,2216, -70.0005,-150.0009,     4347,     50.1,-1.5126416666666662181,33.778627578608898,2,  33.7767,2,350.71388178849384,2, 348.3005,2,    348.1,2,     42.2,2,    24.70,2,     0.21,2,     1.81,2,    6.484,2,    3.303,2,   3.8300,2,   2171.2,2,  2287.65,2,   7.6585,2,    24.95,     45.0,2,     -999,9,  -1.5127,2,     -999,9,     -999,9,     -999,     -999,9,    27.00,2,     -999,1,     -999,9,    0.101,1,    4.646,1,    0.155,1,  17.5600,2,     -999,9,20180407,0012, -70.0008,-149.9998,     -999,9,     -999,9,-999          ,9,     -999,9,     -999,9,     -999,     -999,9,     -999,     -999,9,     -999,9,     -999,9,     -999,9,     -999,9,     -999,9,     -999,9,     -999,9,     -999,9,     -999,9,     -999,9,     -999,9,     -999,9,     -999,9
320620180309  ,P16        ,48      ,  1,33         ,33         ,2,20180406,2216, -70.0005,-150.0009,     4347,     76.0,-1.5159583333333332966,33.809709572741603,2,  33.8058,2,347.60299025115842,2, 353.0002,3,    346.1,2,     42.8,2,    24.98,2,     0.20,2,     1.84,2,     -999,9,     -999,9,     -999,9,   2173.8,2,  2290.79,2,   7.6631,2,    24.96,     46.3,2,     -999,9,  -1.5153,2,     -999,9,     -999,9,     -999,     -999,9,    27.90,2,     -999,1,     -999,9,    0.109,1,    4.645,1,    0.160,1,     -999,9,     -999,9,20180407,0010, -70.0008,-149.9998,     -999,9,     -999,9,-999          ,9,     -999,9,     -999,9,     -999,     -999,9,     -999,     -999,9,     -999,9,     -999,9,     -999,9,     -999,9,     -999,9,     -999,9,     -999,9,     -999,9,     -999,9,     -999,9,     -999,9,     -999,9,     -999,9
320620180309  ,P16        ,48      ,  1,32         ,32         ,2,20180406,2216, -70.0005,-150.0009,     4347,     99.3,-1.4911694444444443253,34.067894212939450,2,  34.0633,2,320.96156439611690,3, 339.9970,3,    309.1,2,     49.3,2,    27.69,2,     0.21,2,     2.03,2,    5.305,2,    2.720,2,   2.9800,2,   2201.9,2,  2305.67,2,   7.6196,2,    24.95,     45.7,2,     -999,9,  -1.4906,2,     -999,9,     -999,9,     -999,     -999,9,    29.70,2,     -999,1,     -999,9,    0.083,1,    4.652,1,    0.145,1,  19.5200,2,     -999,9,20180407,0009, -70.0008,-149.9998,     -999,9,     -999,9,-999          ,9,     -999,9,     -999,9,     -999,     -999,9,     -999,     -999,9,     -999,9,     -999,9,     -999,9,     -999,9,     -999,9,     -999,9,     -999,9,     -999,9,     -999,9,     -999,9,     -999,9,     -999,9,     -999,9
320620180309  ,P16        ,48      ,  1,31         ,31         ,2,20180406,2216, -70.0005,-150.0009,     4347,    126.0,-0.9283694444444443583,34.181795722596775,2,  34.1721,2,284.91866009139528,2, 284.0037,2,    283.8,2,     56.8,2,    29.60,2,     0.10,2,     2.10,2,     -999,9,     -999,9,     -999,9,   2214.3,2,  2311.11,2,   7.5989,2,    24.95,     46.2,2,     -999,9,  -0.9154,2,     -999,9,     -999,9,     -999,     -999,9,    32.10,2,     -999,1,     -999,9,    0.076,1,    4.656,1,    0.138,1,     -999,9,     -999,9,20180407,0007, -70.0008,-149.9999,     -999,9,     -999,9,-999          ,9,     -999,9,     -999,9,     -999,     -999,9,     -999,     -999,9,     -999,9,     -999,9,     -999,9,     -999,9,     -999,9,     -999,9,     -999,9,     -999,9,     -999,9,     -999,9,     -999,9,     -999,9,     -999,9
320620180309  ,P16        ,48      ,  1,30         ,30         ,2,20180406,2216, -70.0005,-150.0009,     4347,    150.7,0.0274944444444444464,34.359661257165385,2,  34.3545,2,248.20032048051220,3, 236.4983,3,    244.2,2,     69.4,2,    31.75,2,     0.04,2,     2.23,2,    3.133,2,    1.676,2,   1.6000,2,   2233.9,2,  2321.80,2,   7.5734,2,    24.95,     44.8,2,     -999,9,   0.0208,2,     -999,9,     -999,9,     -999,     -999,9,    33.10,2,     -999,1,     -999,9,    0.075,1,    4.657,1,    0.137,1,  23.4700,2,     -999,9,20180407,0006, -70.0007,-150.0002,     -999,9,     -999,9,-999          ,9,     -999,9,     -999,9,     -999,     -999,9,     -999,     -999,9,     -999,9,     -999,9,     -999,9,     -999,9,     -999,9,     -999,9,     -999,9,     -999,9,     -999,9,     -999,9,     -999,9,     -999,9,     -999,9
320620180309  ,P16        ,48      ,  1,29         ,29         ,2,20180406,2216, -70.0005,-150.0009,     4347,    202.2,1.3309916666666667950,34.642528625822656,2,  34.6413,2,191.21102208062644,3, 189.2044,2,    188.5,2,     87.5,2,    33.42,2,     0.03,2,     2.33,2,    0.968,2,    0.514,2,   0.4800,2,   2258.6,2,  2342.28,2,   7.5550,2,    24.95,     45.4,2,     -999,9,   1.3275,2,     -999,9,     -999,9,     -999,     -999,9,    35.20,2,     -999,1,     -999,9,    0.070,1,    4.658,1,    0.138,1,  23.4500,2,     -999,9,20180407,0003, -70.0007,-150.0005,     -999,9,     -999,9,-999          ,9,     -999,9,     -999,9,     -999,     -999,9,     -999,     -999,9,     -999,9,     -999,9,     -999,9,     -999,9,     -999,9,     -999,9,     -999,9,     -999,9,     -999,9,     -999,9,     -999,9,     -999,9,     -999,9
320620180309  ,P16        ,48      ,  1,28         ,28         ,2,20180406,2216, -70.0005,-150.0009,     4347,    252.2,1.5988166666666669968,34.708055162820777,2,  34.7062,2,182.89641505485304,2, 182.3032,2,    181.8,2,     92.1,2,    33.03,2,     0.02,2,     2.29,2,    0.428,2,    0.232,2,   0.2500,2,   2260.2,2,  2347.87,2,   7.5670,2,    24.94,     41.9,2,     -999,9,   1.5928,2,     -999,9,     -999,9,     -999,     -999,9,    34.60,2,     -999,1,     -999,9,    0.064,1,    4.661,1,    0.134,1,  23.2000,2,     -999,9,20180407,0001, -70.0007,-150.0007,     -999,9,     -999,9,-999          ,9,     -999,9,     -999,9,     -999,     -999,9,     -999,     -999,9,     -999,9,     -999,9,     -999,9,     -999,9,     -999,9,     -999,9,     -999,9,     -999,9,     -999,9,     -999,9,     -999,9,     -999,9,     -999,9
320620180309  ,P16        ,48      ,  1,27         ,27         ,2,20180406,2216, -70.0005,-150.0009,     4347,    302.8,1.5678638888888889458,34.720461071335215,2,  34.7190,2,182.49641709563784,2, 182.8012,2,    181.7,2,     95.2,2,    32.92,2,     0.02,2,     2.30,2,     -999,9,     -999,9,     -999,9,   2260.8,6,  2349.89,2,   7.5696,2,    24.95,     40.0,2,     -999,9,   1.5664,2,     -999,9,     -999,9,     -999,     -999,9,     -999,9,     -999,1,     -999,9,    0.062,1,    4.663,1,    0.134,1,     -999,9,     -999,9,20180406,2359, -70.0006,-150.0009,     -999,9,     -999,9,-999          ,9,     -999,9,     -999,9,     -999,     -999,9,     -999,     -999,9,     -999,9,     -999,9,     -999,9,     -999,9,     -999,9,     -999,9,     -999,9,     -999,9,     -999,9,     -999,9,     -999,9,     -999,9,     -999,9
320620180309  ,P16        ,48      ,  1,26         ,26         ,2,20180406,2216, -70.0005,-150.0009,     4347,    353.0,1.5253055555555556921,34.727240625314799,2,  34.7259,2,183.18586853967193,2, 183.7012,2,    183.2,2,     97.7,2,    32.79,2,     0.00,2,     2.26,2,    0.259,2,    0.136,2,   0.1300,2,   2262.0,2,  2358.61,3,   7.5748,2,    24.95,     -999,9,     -999,9,   1.5245,2,     -999,9,     -999,9,     -999,     -999,9,     -999,9,     -999,9,     -999,9,    0.062,1,    4.662,1,    0.135,1,  22.5900,2,     -999,9,20180406,2357, -70.0006,-150.0011,     -999,9,     -999,9,-999          ,9,     -999,9,     -999,9,     -999,     -999,9,     -999,     -999,9,     -999,9,     -999,9,     -999,9,     -999,9,     -999,9,     -999,9,     -999,9,     -999,9,     -999,9,     -999,9,     -999,9,     -999,9,     -999,9
320620180309  ,P16        ,48      ,  1,25         ,25         ,2,20180406,2216, -70.0005,-150.0009,     4347,    403.4,1.4837027777777778148,34.729066651469132,2,  34.7274,2,183.90835808667157,2, 184.4013,2,    183.3,2,     99.7,2,    32.87,2,     0.00,2,     2.25,2,    0.238,2,    0.131,2,   0.1400,2,   2263.5,2,  2354.77,2,   7.5738,2,    24.95,     42.0,2,     -999,9,   1.4806,2,     -999,9,     -999,9,     -999,     -999,9,     -999,9,     -999,1,     -999,9,    0.062,1,    4.665,1,    0.132,1,  21.9400,2,     -999,9,20180406,2355, -70.0006,-150.0013,     -999,9,     -999,9,-999          ,9,     -999,9,     -999,9,     -999,     -999,9,     -999,     -999,9,     -999,9,     -999,9,     -999,9,     -999,9,     -999,9,     -999,9,     -999,9,     -999,9,     -999,9,     -999,9,     -999,9,     -999,9,     -999,9
320620180309  ,P16        ,48      ,  1,24         ,24         ,2,20180406,2216, -70.0005,-150.0009,     4347,    454.6,1.4359111111111111381,34.730410234156018,2,  34.7286,2,183.96951061734546,2, 185.4985,2,    183.6,2,    101.2,2,    32.85,2,     0.00,2,     2.27,2,     -999,9,     -999,9,     -999,9,   2263.5,2,  2354.19,2,   7.5765,6,    24.95,     -999,9,     -999,9,   1.4348,2,     -999,9,     -999,9,     -999,     -999,9,     -999,9,     -999,9,     -999,9,    0.063,1,    4.665,1,    0.132,1,     -999,9,     -999,9,20180406,2353, -70.0005,-150.0016,     -999,9,     -999,9,-999          ,9,     -999,9,     -999,9,     -999,     -999,9,     -999,     -999,9,     -999,9,     -999,9,     -999,9,     -999,9,     -999,9,     -999,9,     -999,9,     -999,9,     -999,9,     -999,9,     -999,9,     -999,9,     -999,9
320620180309  ,P16        ,48      ,  1,23         ,23         ,2,20180406,2216, -70.0005,-150.0009,     4347,    505.3,1.3932833333333334291,34.730793086976711,2,  34.7296,2,184.44748944512619,2, 186.4004,2,    184.3,2,    103.2,2,    32.90,2,     0.00,2,     2.27,2,    0.188,2,    0.099,2,  -0.0400,2,   2264.7,2,  2354.99,2,   7.5747,6,    24.93,     42.1,2,     -999,9,   1.3922,2,     -999,9,     -999,9,     -999,     -999,9,     -999,9,     -999,1,     -999,9,    0.061,1,    4.666,1,    0.131,1,  22.3600,2,     -999,9,20180406,2351, -70.0005,-150.0019,     -999,9,     -999,9,-999          ,9,     -999,9,     -999,9,     -999,     -999,9,     -999,     -999,9,     -999,9,     -999,9,     -999,9,     -999,9,     -999,9,     -999,9,     -999,9,     -999,9,     -999,9,     -999,9,     -999,9,     -999,9,     -999,9
320620180309  ,P16        ,48      ,  1,22         ,37         ,2,20180406,2216, -70.0005,-150.0009,     4347,    605.3,1.3204388888888887177,34.730297376640245,2,  34.7294,2,188.15985693560413,2, 187.8015,2,    187.3,2,    105.8,2,    32.71,2,     0.00,2,     2.25,2,    0.162,2,    0.089,2,  -0.0800,2,   2263.6,2,  2357.13,2,   7.5823,2,    24.95,     44.2,2,     -999,9,   1.3202,2,     -999,9,     -999,9,     -999,     -999,9,     -999,9,     -999,1,     -999,9,    0.062,1,    4.665,1,    0.134,1,  21.3200,2,     -999,9,20180406,2348, -70.0005,-150.0023,     -999,9,     -999,9,-999          ,9,     -999,9,     -999,9,     -999,     -999,9,     -999,     -999,9,     -999,9,     -999,9,     -999,9,     -999,9,     -999,9,     -999,9,     -999,9,     -999,9,     -999,9,     -999,9,     -999,9,     -999,9,     -999,9
320620180309  ,P16        ,48      ,  1,21         ,21         ,2,20180406,2216, -70.0005,-150.0009,     4347,    708.3,1.2490166666666666639,34.728675695937795,2,  34.7278,2,191.07117773807579,2, 189.5004,2,    189.9,2,    107.5,2,    32.59,2,     0.00,2,     2.24,2,     -999,9,     -999,9,     -999,9,   2263.3,2,  2358.71,2,   7.5859,2,    24.94,     44.5,2,     -999,9,   1.2483,2,     -999,9,     -999,9,     -999,     -999,9,     -999,9,     -999,1,     -999,9,    0.061,1,    4.666,1,    0.130,1,     -999,9,     -999,9,20180406,2345, -70.0005,-150.0022,     -999,9,     -999,9,-999          ,9,     -999,9,     -999,9,     -999,     -999,9,     -999,     -999,9,     -999,9,     -999,9,     -999,9,     -999,9,     -999,9,     -999,9,     -999,9,     -999,9,     -999,9,     -999,9,     -999,9,     -999,9,     -999,9
320620180309  ,P16        ,48      ,  1,20         ,20         ,2,20180406,2216, -70.0005,-150.0009,     4347,    808.8,1.1819083333333333385,34.726679464517282,2,  34.7263,2,192.07749002235522,2, 191.1032,2,    191.2,2,    109.8,2,    32.62,2,     0.00,2,     2.25,2,    0.138,2,    0.078,2,   0.0500,2,   2263.1,2,  2359.01,2,   7.5867,2,    24.94,     43.0,2,     -999,9,   1.1814,2,     -999,9,     -999,9,     -999,     -999,9,     -999,9,     -999,1,     -999,9,    0.062,1,    4.666,1,    0.129,1,  20.7300,2,     -999,9,20180406,2342, -70.0005,-150.0019,     -999,9,     -999,9,-999          ,9,     -999,9,     -999,9,     -999,     -999,9,     -999,     -999,9,     -999,9,     -999,9,     -999,9,     -999,9,     -999,9,     -999,9,     -999,9,     -999,9,     -999,9,     -999,9,     -999,9,     -999,9,     -999,9
320620180309  ,P16        ,48      ,  1,19         ,19         ,2,20180406,2216, -70.0005,-150.0009,     4347,    908.9,1.1147305555555555578,34.724208963042429,2,  34.7261,2,193.89493548166010,2, 192.5962,2,    193.3,2,    111.8,2,    32.66,2,     0.00,2,     2.25,2,    0.126,2,    0.073,2,   0.0100,2,   2263.8,2,  2359.61,2,   7.5878,2,    24.95,     42.7,2,     -999,9,   1.1157,2,     -999,9,     -999,9,     -999,     -999,9,     -999,9,     -999,1,     -999,9,    0.062,1,    4.667,1,    0.130,1,  20.7900,2,     -999,9,20180406,2339, -70.0005,-150.0015,     -999,9,     -999,9,-999          ,9,     -999,9,     -999,9,     -999,     -999,9,     -999,     -999,9,     -999,9,     -999,9,     -999,9,     -999,9,     -999,9,     -999,9,     -999,9,     -999,9,     -999,9,     -999,9,     -999,9,     -999,9,     -999,9
320620180309  ,P16        ,48      ,  1,18         ,18         ,2,20180406,2216, -70.0005,-150.0009,     4347,   1013.2,1.0525222222222223589,34.721805973470332,2,  34.7213,2,195.15842504988331,2, 194.0960,2,    194.4,2,    114.2,2,    32.67,2,     0.00,2,     2.25,2,     -999,9,     -999,9,     -999,9,   2264.6,2,  2361.14,2,   7.5886,2,    24.94,     -999,5,     -999,9,   1.0518,2,     -999,9,     -999,9,     -999,     -999,9,     -999,9,     -999,1,     -999,9,    0.061,1,    4.667,1,    0.129,1,     -999,9,     -999,9,20180406,2336, -70.0006,-150.0011,     -999,9,     -999,9,-999          ,9,     -999,9,     -999,9,     -999,     -999,9,     -999,     -999,9,     -999,9,     -999,9,     -999,9,     -999,9,     -999,9,     -999,9,     -999,9,     -999,9,     -999,9,     -999,9,     -999,9,     -999,9,     -999,9
320620180309  ,P16        ,48      ,  1,17         ,17         ,2,20180406,2216, -70.0005,-150.0009,     4347,   1114.1,0.9982249999999996959,34.719610553836127,2,  34.7200,2,196.81161175757117,2, 195.3046,2,    195.4,2,    116.1,2,    32.68,2,     0.00,2,     2.26,2,    0.113,2,    0.057,2,   0.1900,2,   2262.6,2,  2360.40,2,   7.5891,2,    24.94,     43.8,2,     -999,9,   0.9976,2,     -999,9,     -999,9,     -999,     -999,9,     -999,9,     -999,1,     -999,9,    0.060,1,    4.667,1,    0.129,1,  20.9100,2,     -999,9,20180406,2333, -70.0006,-150.0006,     -999,9,     -999,9,-999          ,9,     -999,9,     -999,9,     -999,     -999,9,     -999,     -999,9,     -999,9,     -999,9,     -999,9,     -999,9,     -999,9,     -999,9,     -999,9,     -999,9,     -999,9,     -999,9,     -999,9,     -999,9,     -999,9
320620180309  ,P16        ,48      ,  1,16         ,16         ,2,20180406,2216, -70.0005,-150.0009,     4347,   1213.7,0.9409694444444445249,34.717173163394079,2,  34.7176,2,198.27340546434675,2, 196.9034,2,    197.7,2,    117.9,2,    32.70,2,     0.00,2,     2.26,2,     -999,9,     -999,9,     -999,9,   2263.7,2,  2361.70,2,   7.5943,6,    24.94,     44.6,2,     -999,9,   0.9401,2,     -999,9,     -999,9,     -999,     -999,9,     -999,9,     -999,1,     -999,9,    0.060,1,    4.668,1,    0.129,1,     -999,9,     -999,9,20180406,2330, -70.0007,-150.0002,     -999,9,     -999,9,-999          ,9,     -999,9,     -999,9,     -999,     -999,9,     -999,     -999,9,     -999,9,     -999,9,     -999,9,     -999,9,     -999,9,     -999,9,     -999,9,     -999,9,     -999,9,     -999,9,     -999,9,     -999,9,     -999,9