BOTTLE,20240515CCHHYDRO
EXPOCODE,SECT_ID,STNNBR,CASTNO,SAMPNO,BTLNBR,BTLNBR_FLAG_W,DATE,TIME,LATITUDE,LONGITUDE,DEPTH,CTDPRS,CTDTMP,CTDSAL,CTDSAL_FLAG_W,SALNTY,SALNTY_FLAG_W,CTDOXY,CTDOXY_FLAG_W,CTDOPTOXY,CTDOPTOXY_FLAG_W,OXYGEN,OXYGEN_FLAG_W,SILCAT,SILCAT_FLAG_W,NITRAT,NITRAT_FLAG_W,NITRIT,NITRIT_FLAG_W,PHSPHT,PHSPHT_FLAG_W,CFC-11,CFC-11_FLAG_W,CFC-12,CFC-12_FLAG_W,SF6,SF6_FLAG_W,TCARBN,TCARBN_FLAG_W,ALKALI,ALKALI_FLAG_W,PH_TOT,PH_TOT_FLAG_W,PH_TMP,DOC,DOC_FLAG_W,HELIUM,HELIUM_FLAG_W,REFTMP,REFTMP_FLAG_W,DELC13,DELC13_FLAG_W,DELC14,DELC14_FLAG_W,C14ERR,POC,POC_FLAG_W,TDN,TDN_FLAG_W,TON,TON_FLAG_W,NEON,NEON_FLAG_W,CTDFLUOR,CTDFLUOR_FLAG_W,CTDXMISS,CTDXMISS_FLAG_W,CTDBETA700,CTDBETA700_FLAG_W,N2O,N2O_FLAG_W,ARGON,ARGON_FLAG_W,BTL_DATE,BTL_TIME,BTL_LAT,BTL_LON,KRYPTON,KRYPTON_FLAG_W,XENON,XENON_FLAG_W,HPLC,HPLC_FLAG_W,HE3_HE4_RATIO,HE3_HE4_RATIO_FLAG_W,Nd_143_144_D_EPSILON_BOTTLE,Nd_143_144_D_EPSILON_BOTTLE_FLAG_W,Nd_143_144_D_EPSILON_BOTTLE_ERROR,Nd_143_144_D_RATIO_BOTTLE,Nd_143_144_D_RATIO_BOTTLE_FLAG_W,Nd_143_144_D_RATIO_BOTTLE_ERROR,Nd_D_CONC,Nd_D_CONC_FLAG_W,La_D_CONC_BOTTLE,La_D_CONC_BOTTLE_FLAG_W,Ce_D_CONC_BOTTLE,Ce_D_CONC_BOTTLE_FLAG_W,Pr_D_CONC_BOTTLE,Pr_D_CONC_BOTTLE_FLAG_W,Sm_D_CONC_BOTTLE,Sm_D_CONC_BOTTLE_FLAG_W,Eu_D_CONC_BOTTLE,Eu_D_CONC_BOTTLE_FLAG_W,Gd_D_CONC_BOTTLE,Gd_D_CONC_BOTTLE_FLAG_W,Tb_D_CONC_BOTTLE,Tb_D_CONC_BOTTLE_FLAG_W,Dy_D_CONC_BOTTLE,Dy_D_CONC_BOTTLE_FLAG_W,Ho_D_CONC_BOTTLE,Ho_D_CONC_BOTTLE_FLAG_W,Er_D_CONC_BOTTLE,Er_D_CONC_BOTTLE_FLAG_W,Tm_D_CONC_BOTTLE,Tm_D_CONC_BOTTLE_FLAG_W,Yb_D_CONC_BOTTLE,Yb_D_CONC_BOTTLE_FLAG_W,Lu_D_CONC_BOTTLE,Lu_D_CONC_BOTTLE_FLAG_W
,,,,,,,,,,,METERS,DBAR,ITS-90,PSS-78,,PSS-78,,UMOL/KG,,UMOL/KG,,UMOL/KG,,UMOL/KG,,UMOL/KG,,UMOL/KG,,UMOL/KG,,PMOL/KG,,PMOL/KG,,FMOL/KG,,UMOL/KG,,UMOL/KG,,,,DEG C,UMOL/KG,,NMOL/L,,DEG C,,/MILLE,,/MILLE,,/MILLE,UG/KG,,UMOL/KG,,UMOL/KG,,NMOL/L,,VOLTS,,VOLTS,,VOLTS,,NMOL/KG,,UMOL/L,,,,,,NMOL/L,,NMOL/L,,,,,,10000,,10000,,,,PMOL/KG,,PMOL/L,,PMOL/L,,PMOL/L,,PMOL/L,,PMOL/L,,PMOL/L,,PMOL/L,,PMOL/L,,PMOL/L,,PMOL/L,,PMOL/L,,PMOL/L,,PMOL/L,
320620180309  ,S04P       ,120     ,  1,15         ,15         ,2,20180509,0151, -66.5997, -73.4998,     3581,   1281.3,1.2563767554313567398,34.725770922500750,2,  34.7272,2,196.77192174765861,2, 196.4959,2,    196.4,2,    108.8,2,    31.82,2,     0.00,2,     2.16,2,    0.123,2,    0.060,2,   0.0500,2,   2262.2,2,  2363.21,2,   7.5981,2,    24.95,     37.8,2,     -999,1,   1.2566,2,0.51000000,3, -159.040,2,    0.002,     -999,9,     -999,9,     -999,1,     -999,1,    0.061,1,    4.644,1,    0.129,1,  19.4600,2,     -999,1,20180509,0251, -66.5998, -73.4995,     -999,1,     -999,1,-999          ,9,     -999,1,     -999,9,     -999,     -999,9,     -999,     -999,9,     -999,1,     -999,1,     -999,1,     -999,1,     -999,1,     -999,1,     -999,1,     -999,1,     -999,1,     -999,1,     -999,1,     -999,1,     -999,1
320620180309  ,S04P       ,120     ,  1,14         ,14         ,2,20180509,0151, -66.5997, -73.4998,     3581,   1382.7,1.1956067470173732392,34.723934430660655,2,  34.7249,2,197.85892767497745,2, 197.4023,2,    197.2,2,    110.9,2,    31.87,2,     0.00,2,     2.17,2,     -999,9,     -999,9,     -999,9,   2261.0,2,  2365.67,2,   7.5975,2,    24.97,     39.2,2,     -999,9,   1.1961,2,0.59000000,2, -158.740,2,    0.002,     -999,9,     -999,9,     -999,1,     -999,9,    0.063,1,    4.645,1,    0.128,1,     -999,9,     -999,9,20180509,0248, -66.5998, -73.4995,     -999,9,     -999,9,-999          ,9,     -999,9,     -999,9,     -999,     -999,9,     -999,     -999,9,     -999,9,     -999,9,     -999,9,     -999,9,     -999,9,     -999,9,     -999,9,     -999,9,     -999,9,     -999,9,     -999,9,     -999,9,     -999,9
320620180309  ,S04P       ,120     ,  1,13         ,13         ,2,20180509,0151, -66.5997, -73.4998,     3581,   1483.4,1.1370610980204407525,34.722045147728636,2,  34.7233,2,199.03210109446405,2, 198.5004,2,    198.7,2,    112.6,2,    31.88,2,     0.00,2,     2.17,2,    0.112,2,    0.058,2,   0.0300,2,   2261.1,2,  2364.60,2,   7.5983,2,    24.96,     39.0,2,     -999,1,   1.1372,2,0.59000000,2, -162.290,2,    0.002,     -999,9,     -999,9,     -999,1,     -999,1,    0.061,1,    4.645,1,    0.128,1,  18.8200,2,     -999,1,20180509,0244, -66.5998, -73.4995,     -999,1,     -999,1,-999          ,9,     -999,1,     -999,9,     -999,     -999,9,     -999,     -999,9,     -999,1,     -999,1,     -999,1,     -999,1,     -999,1,     -999,1,     -999,1,     -999,1,     -999,1,     -999,1,     -999,1,     -999,1,     -999,1
320620180309  ,S04P       ,120     ,  1,12         ,12         ,2,20180509,0151, -66.5997, -73.4998,     3581,   1584.9,1.0810677733334601580,34.720083850762862,2,  34.7215,2,200.43301040038583,2, 199.3970,2,    199.6,2,    114.1,2,    31.96,2,     0.00,2,     2.18,2,     -999,9,     -999,9,     -999,9,   2261.8,2,  2364.48,2,   7.5965,2,    24.95,     38.7,2,     -999,9,   1.0813,2,0.60000000,2, -165.750,2,    0.004,     -999,9,     -999,9,     -999,1,     -999,9,    0.061,1,    4.645,1,    0.128,1,     -999,9,     -999,9,20180509,0241, -66.5997, -73.4998,     -999,9,     -999,9,-999          ,9,     -999,9,     -999,9,     -999,     -999,9,     -999,     -999,9,     -999,9,     -999,9,     -999,9,     -999,9,     -999,9,     -999,9,     -999,9,     -999,9,     -999,9,     -999,9,     -999,9,     -999,9,     -999,9
320620180309  ,S04P       ,120     ,  1,11         ,11         ,2,20180509,0151, -66.5997, -73.4998,     3581,   1688.2,1.0235490789526622279,34.718054381959952,2,  34.7194,2,201.05838527633318,2, 200.7003,2,    201.4,2,    116.2,2,    32.06,2,     0.00,2,     2.20,2,    0.118,2,    0.077,2,   0.0200,2,   2262.7,2,  2364.84,2,   7.5984,2,    24.95,     39.1,2,     -999,1,   1.0239,2,0.58000000,6, -163.045,6,    0.002,     -999,9,     -999,9,     -999,1,     -999,1,    0.061,1,    4.646,1,    0.128,1,  18.5400,2,     -999,1,20180509,0238, -66.5997, -73.5000,     -999,1,     -999,1,-999          ,9,     -999,1,     -999,9,     -999,     -999,9,     -999,     -999,9,     -999,1,     -999,1,     -999,1,     -999,1,     -999,1,     -999,1,     -999,1,     -999,1,     -999,1,     -999,1,     -999,1,     -999,1,     -999,1
320620180309  ,S04P       ,120     ,  1,10         ,10         ,2,20180509,0151, -66.5997, -73.4998,     3581,   1790.2,0.9797213448107717770,34.716285251601519,2,  34.7172,2,202.97373990443089,2, 201.5994,2,    201.1,2,    117.9,2,    32.13,2,     0.00,2,     2.22,2,     -999,9,     -999,9,     -999,9,   2263.5,2,  2364.31,2,   7.5991,2,    24.95,     37.6,2,     -999,9,   0.9805,2,0.57000000,2, -163.090,2,    0.002,     -999,9,     -999,9,     -999,1,     -999,9,    0.061,1,    4.646,1,    0.128,1,     -999,9,     -999,9,20180509,0235, -66.5997, -73.4999,     -999,9,     -999,9,-999          ,9,     -999,9,     -999,9,     -999,     -999,9,     -999,     -999,9,     -999,9,     -999,9,     -999,9,     -999,9,     -999,9,     -999,9,     -999,9,     -999,9,     -999,9,     -999,9,     -999,9,     -999,9,     -999,9
320620180309  ,S04P       ,120     ,  1,9          ,9          ,2,20180509,0151, -66.5997, -73.4998,     3581,   1962.0,0.8866388291685891598,34.712912368714008,2,  34.7145,2,203.49732628857228,2, 203.3968,2,    203.3,2,    121.1,2,    32.05,2,     0.00,2,     2.22,2,    0.131,2,    0.069,2,   0.0200,2,   2262.4,6,  2366.30,2,   7.5985,2,    24.95,     39.7,2,     -999,1,   0.8876,2,0.58000000,2, -165.360,2,    0.002,     -999,9,     -999,9,     -999,1,     -999,1,    0.060,1,    4.645,1,    0.128,1,  18.5700,2,     -999,1,20180509,0231, -66.5997, -73.5000,     -999,1,     -999,1,-999          ,9,     -999,1,     -999,9,     -999,     -999,9,     -999,     -999,9,     -999,1,     -999,1,     -999,1,     -999,1,     -999,1,     -999,1,     -999,1,     -999,1,     -999,1,     -999,1,     -999,1,     -999,1,     -999,1
320620180309  ,S04P       ,120     ,  1,8          ,8          ,2,20180509,0151, -66.5997, -73.4998,     3581,   2165.3,0.7892296633231079550,34.709413368728463,3,  34.7123,2,204.72277605816100,2, 204.9989,2,    204.8,2,    124.5,2,    32.34,2,     0.00,2,     2.23,2,     -999,9,     -999,9,     -999,9,   2264.7,2,  2364.22,2,   7.5979,2,    24.94,     40.9,2,     -999,9,   0.7903,2,0.59000000,2, -164.550,2,    0.002,     -999,9,     -999,9,     -999,1,     -999,9,    0.061,1,    4.645,1,    0.126,1,     -999,9,     -999,9,20180509,0226, -66.5996, -73.5002,     -999,9,     -999,9,-999          ,9,     -999,9,     -999,9,     -999,     -999,9,     -999,     -999,9,     -999,9,     -999,9,     -999,9,     -999,9,     -999,9,     -999,9,     -999,9,     -999,9,     -999,9,     -999,9,     -999,9,     -999,9,     -999,9
320620180309  ,S04P       ,120     ,  1,7          ,7          ,2,20180509,0151, -66.5997, -73.4998,     3581,   2371.7,0.6998268094408797158,34.706731122545158,2,  34.7082,2,206.65608900416899,2, 207.1027,2,    207.1,2,    127.3,2,    32.43,2,     0.00,2,     2.23,2,    0.165,2,    0.089,2,   0.0200,2,   2264.7,2,  2366.70,2,   7.5970,2,    24.95,     38.7,2,     -999,1,   0.7003,2,0.58000000,2, -165.520,2,    0.002,     -999,9,     -999,9,     -999,1,     -999,1,    0.061,1,    4.645,1,    0.127,1,  18.5500,2,     -999,1,20180509,0221, -66.5998, -73.4996,     -999,1,     -999,1,-999          ,9,     -999,1,     -999,9,     -999,     -999,9,     -999,     -999,9,     -999,1,     -999,1,     -999,1,     -999,1,     -999,1,     -999,1,     -999,1,     -999,1,     -999,1,     -999,1,     -999,1,     -999,1,     -999,1
320620180309  ,S04P       ,120     ,  1,6          ,6          ,2,20180509,0151, -66.5997, -73.4998,     3581,   2574.9,0.6193603100191616972,34.704801668480485,2,  34.7062,2,207.85214215088541,2, 208.4934,2,    208.9,2,    130.4,2,    32.49,2,     0.00,2,     2.23,2,    0.177,2,    0.092,2,   0.0000,2,   2265.0,2,  2365.68,2,   7.5976,2,    24.95,     41.0,2,     -999,9,   0.6196,2,0.59000000,2, -165.330,2,    0.002,     -999,9,     -999,9,     -999,1,     -999,9,    0.061,1,    4.645,1,    0.125,1,  18.4200,2,     -999,9,20180509,0216, -66.5999, -73.4993,     -999,9,     -999,9,-999          ,9,     -999,9,     -999,9,     -999,     -999,9,     -999,     -999,9,     -999,9,     -999,9,     -999,9,     -999,9,     -999,9,     -999,9,     -999,9,     -999,9,     -999,9,     -999,9,     -999,9,     -999,9,     -999,9
320620180309  ,S04P       ,120     ,  1,5          ,5          ,2,20180509,0151, -66.5997, -73.4998,     3581,   2780.0,0.5470749981429596787,34.703083312597528,2,  34.7049,2,209.75437712851490,2, 209.7954,2,    209.8,2,    132.2,2,    32.62,2,     0.00,2,     2.24,2,    0.183,2,    0.099,2,   0.0000,2,   2265.5,2,  2365.41,2,   7.5970,2,    24.94,     38.1,2,     -999,1,   0.5471,2,0.56000000,2, -166.080,2,    0.003,     -999,9,     -999,9,     -999,1,     -999,1,    0.060,1,    4.642,1,    0.127,1,  18.3500,2,     -999,1,20180509,0211, -66.6001, -73.4989,     -999,1,     -999,1,-999          ,9,     -999,1,     -999,9,     -999,     -999,9,     -999,     -999,9,     -999,1,     -999,1,     -999,1,     -999,1,     -999,1,     -999,1,     -999,1,     -999,1,     -999,1,     -999,1,     -999,1,     -999,1,     -999,1
320620180309  ,S04P       ,120     ,  1,4          ,4          ,2,20180509,0151, -66.5997, -73.4998,     3581,   3000.8,0.4889269126816795374,34.701401441549621,2,  34.7031,2,211.53794006176597,2, 210.7990,2,    211.3,2,    135.3,2,    32.71,2,     0.00,2,     2.25,2,    0.204,2,    0.112,2,   0.0600,2,   2267.1,2,  2366.41,2,   7.5966,6,    24.95,     38.1,2,     -999,1,   0.4891,2,0.55000000,2, -162.870,2,    0.002,     -999,9,     -999,9,     -999,1,     -999,1,    0.061,1,    4.642,1,    0.130,1,  18.4500,2,     -999,1,20180509,0206, -66.6002, -73.4986,     -999,1,     -999,1,-999          ,9,     -999,1,     -999,9,     -999,     -999,9,     -999,     -999,9,     -999,1,     -999,1,     -999,1,     -999,1,     -999,1,     -999,1,     -999,1,     -999,1,     -999,1,     -999,1,     -999,1,     -999,1,     -999,1
320620180309  ,S04P       ,120     ,  1,3          ,3          ,2,20180509,0151, -66.5997, -73.4998,     3581,   3257.4,0.4598382624030214472,34.701551174169637,2,  34.7023,2,211.73229842740668,2, 211.9017,2,    211.4,2,    138.2,2,    32.82,2,     0.00,2,     2.25,2,    0.204,2,    0.111,2,   0.0000,2,   2266.0,2,  2365.87,2,   7.5963,2,    24.94,     37.9,2,     -999,1,   0.4600,2,0.52000000,2, -160.900,2,    0.002,     -999,9,     -999,9,     -999,1,     -999,1,    0.060,1,    4.639,1,    0.136,1,  18.6000,2,     -999,1,20180509,0200, -66.5998, -73.4995,     -999,1,     -999,1,-999          ,9,     -999,1,     -999,9,     -999,     -999,9,     -999,     -999,9,     -999,1,     -999,1,     -999,1,     -999,1,     -999,1,     -999,1,     -999,1,     -999,1,     -999,1,     -999,1,     -999,1,     -999,1,     -999,1
320620180309  ,S04P       ,120     ,  1,2          ,2          ,2,20180509,0151, -66.5997, -73.4998,     3581,   3435.0,0.4391615347398942215,34.701407195560797,2,  34.7027,2,212.69074683070363,2, 212.0044,2,    212.5,2,    139.8,2,    32.87,2,     0.00,2,     2.25,2,    0.211,2,    0.115,2,   0.0600,2,   2267.0,2,  2369.56,2,   7.5969,2,    24.89,     39.1,2,     -999,1,   0.4395,2,0.48000000,2, -163.650,2,    0.002,     -999,9,     -999,9,     -999,1,     -999,1,    0.060,1,    4.640,1,    0.133,1,  18.5500,2,     -999,1,20180509,0156, -66.5996, -73.5002,     -999,1,     -999,1,-999          ,9,     -999,1,     -999,9,     -999,     -999,9,     -999,     -999,9,     -999,1,     -999,1,     -999,1,     -999,1,     -999,1,     -999,1,     -999,1,     -999,1,     -999,1,     -999,1,     -999,1,     -999,1,     -999,1
320620180309  ,S04P       ,120     ,  1,1          ,1          ,2,20180509,0151, -66.5997, -73.4998,     3581,   3636.3,0.3854304588168317447,34.700488752325086,2,  34.7023,2,212.26934237347743,2, 212.2979,2,    212.2,2,    146.1,2,    33.06,2,     0.00,2,     2.25,2,    0.267,2,    0.143,2,   0.0000,2,   2269.1,6,  2367.42,2,   7.5929,2,    24.94,     40.3,2,     -999,1,   0.3857,2,0.54000000,2, -162.410,2,    0.002,     -999,9,     -999,9,     -999,1,     -999,1,    0.060,1,    4.632,1,    0.145,1,  18.5100,2,     -999,1,20180509,0151, -66.5997, -73.4998,     -999,1,     -999,1,-999          ,9,     -999,1,     -999,9,     -999,     -999,9,     -999,     -999,9,     -999,1,     -999,1,     -999,1,     -999,1,     -999,1,     -999,1,     -999,1,     -999,1,     -999,1,     -999,1,     -999,1,     -999,1,     -999,1