BOTTLE,20240515CCHHYDRO
EXPOCODE,SECT_ID,STNNBR,CASTNO,SAMPNO,BTLNBR,BTLNBR_FLAG_W,DATE,TIME,LATITUDE,LONGITUDE,DEPTH,CTDPRS,CTDTMP,CTDSAL,CTDSAL_FLAG_W,SALNTY,SALNTY_FLAG_W,CTDOXY,CTDOXY_FLAG_W,CTDOPTOXY,CTDOPTOXY_FLAG_W,OXYGEN,OXYGEN_FLAG_W,SILCAT,SILCAT_FLAG_W,NITRAT,NITRAT_FLAG_W,NITRIT,NITRIT_FLAG_W,PHSPHT,PHSPHT_FLAG_W,CFC-11,CFC-11_FLAG_W,CFC-12,CFC-12_FLAG_W,SF6,SF6_FLAG_W,TCARBN,TCARBN_FLAG_W,ALKALI,ALKALI_FLAG_W,PH_TOT,PH_TOT_FLAG_W,PH_TMP,DOC,DOC_FLAG_W,HELIUM,HELIUM_FLAG_W,REFTMP,REFTMP_FLAG_W,DELC13,DELC13_FLAG_W,DELC14,DELC14_FLAG_W,C14ERR,POC,POC_FLAG_W,TDN,TDN_FLAG_W,TON,TON_FLAG_W,NEON,NEON_FLAG_W,CTDFLUOR,CTDFLUOR_FLAG_W,CTDXMISS,CTDXMISS_FLAG_W,CTDBETA700,CTDBETA700_FLAG_W,N2O,N2O_FLAG_W,ARGON,ARGON_FLAG_W,BTL_DATE,BTL_TIME,BTL_LAT,BTL_LON,KRYPTON,KRYPTON_FLAG_W,XENON,XENON_FLAG_W,HPLC,HPLC_FLAG_W,HE3_HE4_RATIO,HE3_HE4_RATIO_FLAG_W,Nd_143_144_D_EPSILON_BOTTLE,Nd_143_144_D_EPSILON_BOTTLE_FLAG_W,Nd_143_144_D_EPSILON_BOTTLE_ERROR,Nd_143_144_D_RATIO_BOTTLE,Nd_143_144_D_RATIO_BOTTLE_FLAG_W,Nd_143_144_D_RATIO_BOTTLE_ERROR,Nd_D_CONC,Nd_D_CONC_FLAG_W,La_D_CONC_BOTTLE,La_D_CONC_BOTTLE_FLAG_W,Ce_D_CONC_BOTTLE,Ce_D_CONC_BOTTLE_FLAG_W,Pr_D_CONC_BOTTLE,Pr_D_CONC_BOTTLE_FLAG_W,Sm_D_CONC_BOTTLE,Sm_D_CONC_BOTTLE_FLAG_W,Eu_D_CONC_BOTTLE,Eu_D_CONC_BOTTLE_FLAG_W,Gd_D_CONC_BOTTLE,Gd_D_CONC_BOTTLE_FLAG_W,Tb_D_CONC_BOTTLE,Tb_D_CONC_BOTTLE_FLAG_W,Dy_D_CONC_BOTTLE,Dy_D_CONC_BOTTLE_FLAG_W,Ho_D_CONC_BOTTLE,Ho_D_CONC_BOTTLE_FLAG_W,Er_D_CONC_BOTTLE,Er_D_CONC_BOTTLE_FLAG_W,Tm_D_CONC_BOTTLE,Tm_D_CONC_BOTTLE_FLAG_W,Yb_D_CONC_BOTTLE,Yb_D_CONC_BOTTLE_FLAG_W,Lu_D_CONC_BOTTLE,Lu_D_CONC_BOTTLE_FLAG_W
,,,,,,,,,,,METERS,DBAR,ITS-90,PSS-78,,PSS-78,,UMOL/KG,,UMOL/KG,,UMOL/KG,,UMOL/KG,,UMOL/KG,,UMOL/KG,,UMOL/KG,,PMOL/KG,,PMOL/KG,,FMOL/KG,,UMOL/KG,,UMOL/KG,,,,DEG C,UMOL/KG,,NMOL/L,,DEG C,,/MILLE,,/MILLE,,/MILLE,UG/KG,,UMOL/KG,,UMOL/KG,,NMOL/L,,VOLTS,,VOLTS,,VOLTS,,NMOL/KG,,UMOL/L,,,,,,NMOL/L,,NMOL/L,,,,,,10000,,10000,,,,PMOL/KG,,PMOL/L,,PMOL/L,,PMOL/L,,PMOL/L,,PMOL/L,,PMOL/L,,PMOL/L,,PMOL/L,,PMOL/L,,PMOL/L,,PMOL/L,,PMOL/L,,PMOL/L,
320620180309  ,S04P       ,5       ,  1,15         ,15         ,2,20180318,0240, -69.2396, 170.6598,     2847,   1115.3,0.5464222222222220315,34.697673944586526,2,  34.6982,2,207.16984139119020,2, 208.2009,2,    207.8,2,    120.1,2,    32.67,2,     0.00,2,     2.25,2,     -999,9,     -999,9,     -999,9,   2261.4,2,  2360.68,2,   7.5905,2,    24.96,     39.2,2,     -999,9,   0.5455,2,     -999,9,     -999,9,     -999,     -999,9,     -999,9,     -999,1,     -999,9,    0.062,1,    4.685,1,    0.131,1,     -999,9,     -999,9,20180318,0334, -69.2406, 170.6591,     -999,9,     -999,9,-999          ,9,     -999,9,     -999,9,     -999,     -999,9,     -999,     -999,9,     -999,9,     -999,9,     -999,9,     -999,9,     -999,9,     -999,9,     -999,9,     -999,9,     -999,9,     -999,9,     -999,9,     -999,9,     -999,9
320620180309  ,S04P       ,5       ,  1,14         ,14         ,2,20180318,0240, -69.2396, 170.6598,     2847,   1215.0,0.4843222222222221540,34.695229272568454,2,  34.6952,2,208.97218637619252,2, 219.5025,2,    209.8,2,    119.5,2,    32.59,2,     0.00,2,     2.25,2,     -999,9,     -999,9,     -999,9,     -999,9,     -999,9,     -999,9,     -999,     40.8,2,     -999,9,   0.4837,2,     -999,9,     -999,9,     -999,     -999,9,     -999,9,     -999,1,     -999,9,    0.061,1,    4.684,1,    0.132,1,     -999,9,     -999,9,20180318,0331, -69.2406, 170.6592,     -999,9,     -999,9,-999          ,9,     -999,9,     -999,9,     -999,     -999,9,     -999,     -999,9,     -999,9,     -999,9,     -999,9,     -999,9,     -999,9,     -999,9,     -999,9,     -999,9,     -999,9,     -999,9,     -999,9,     -999,9,     -999,9
320620180309  ,S04P       ,5       ,  1,13         ,13         ,2,20180318,0240, -69.2396, 170.6598,     2847,   1314.4,0.4001583333333333381,34.691152520613869,2,  34.6933,2,210.76862736157665,2, 211.5976,2,    211.8,2,    120.2,2,    32.59,2,     0.00,2,     2.25,2,     -999,9,     -999,9,     -999,9,   2262.5,2,  2360.63,2,   7.5885,2,    24.98,     41.9,2,     -999,9,   0.3993,2,     -999,9,     -999,9,     -999,     -999,9,     -999,9,     -999,1,     -999,9,    0.061,1,    4.685,1,    0.130,1,     -999,9,     -999,9,20180318,0328, -69.2402, 170.6596,     -999,9,     -999,9,-999          ,9,     -999,9,     -999,9,     -999,     -999,9,     -999,     -999,9,     -999,9,     -999,9,     -999,9,     -999,9,     -999,9,     -999,9,     -999,9,     -999,9,     -999,9,     -999,9,     -999,9,     -999,9,     -999,9
320620180309  ,S04P       ,5       ,  1,12         ,12         ,2,20180318,0240, -69.2396, 170.6598,     2847,   1418.4,0.2447194444444444617,34.678731695293230,2,  34.6768,2,219.65789750021884,2, 215.1966,2,    218.9,2,    111.5,2,    32.31,2,     0.00,2,     2.22,2,    1.128,2,    0.608,2,   0.6500,2,   2260.7,2,  2355.72,2,   7.5880,2,    24.95,     42.5,2,     -999,9,   0.2422,2,     -999,9,     -999,9,     -999,     -999,9,     -999,9,     -999,1,     -999,9,    0.061,1,    4.681,1,    0.136,1,  20.6300,2,     -999,9,20180318,0325, -69.2397, 170.6599,     -999,9,     -999,9,-999          ,9,     -999,9,     -999,9,     -999,     -999,9,     -999,     -999,9,     -999,9,     -999,9,     -999,9,     -999,9,     -999,9,     -999,9,     -999,9,     -999,9,     -999,9,     -999,9,     -999,9,     -999,9,     -999,9
320620180309  ,S04P       ,5       ,  1,11         ,11         ,2,20180318,0240, -69.2396, 170.6598,     2847,   1518.8,0.3079750000000000543,34.692143124651487,2,  34.6923,2,214.42935838431342,2, 217.9975,2,    215.1,2,    121.3,2,    32.55,2,     0.00,2,     2.29,3,     -999,9,     -999,9,     -999,9,   2264.1,2,  2362.56,3,   7.5905,6,    24.97,     44.7,2,     -999,9,   0.3067,2,     -999,9,     -999,9,     -999,     -999,9,     -999,9,     -999,1,     -999,9,    0.061,1,    4.685,1,    0.130,1,     -999,9,     -999,9,20180318,0322, -69.2395, 170.6601,     -999,9,     -999,9,-999          ,9,     -999,9,     -999,9,     -999,     -999,9,     -999,     -999,9,     -999,9,     -999,9,     -999,9,     -999,9,     -999,9,     -999,9,     -999,9,     -999,9,     -999,9,     -999,9,     -999,9,     -999,9,     -999,9
320620180309  ,S04P       ,5       ,  1,10         ,10         ,2,20180318,0240, -69.2396, 170.6598,     2847,   1621.0,0.2654055555555555612,34.691017272985931,2,  34.6919,2,217.20595189752342,2, 222.3973,2,    216.0,2,    121.0,2,    32.49,2,     0.00,2,     2.24,2,     -999,9,     -999,9,     -999,9,     -999,9,     -999,9,     -999,9,     -999,     40.3,2,     -999,9,   0.2634,2,     -999,9,     -999,9,     -999,     -999,9,     -999,9,     -999,1,     -999,9,    0.061,1,    4.684,1,    0.130,1,     -999,9,     -999,9,20180318,0318, -69.2391, 170.6604,     -999,9,     -999,9,-999          ,9,     -999,9,     -999,9,     -999,     -999,9,     -999,     -999,9,     -999,9,     -999,9,     -999,9,     -999,9,     -999,9,     -999,9,     -999,9,     -999,9,     -999,9,     -999,9,     -999,9,     -999,9,     -999,9
320620180309  ,S04P       ,5       ,  1,9          ,9          ,2,20180318,0240, -69.2396, 170.6598,     2847,   1723.1,0.1911972222222222406,34.686701063669709,2,  34.6876,2,219.63226246767317,2, 222.5976,2,    220.0,2,    113.6,2,    32.29,2,     0.00,2,     2.20,2,    1.125,2,    0.613,2,   0.5500,2,   2261.4,2,  2358.39,2,   7.5879,2,    24.96,     -999,9,     -999,9,   0.1907,2,     -999,9,     -999,9,     -999,     -999,9,     -999,9,     -999,9,     -999,9,    0.061,1,    4.683,1,    0.133,1,  20.2300,2,     -999,9,20180318,0315, -69.2389, 170.6607,     -999,9,     -999,9,-999          ,9,     -999,9,     -999,9,     -999,     -999,9,     -999,     -999,9,     -999,9,     -999,9,     -999,9,     -999,9,     -999,9,     -999,9,     -999,9,     -999,9,     -999,9,     -999,9,     -999,9,     -999,9,     -999,9
320620180309  ,S04P       ,5       ,  1,8          ,8          ,2,20180318,0240, -69.2396, 170.6598,     2847,   1826.9,0.1491694444444444378,34.687686341848583,2,  34.6878,2,222.64180790460475,2, 223.5006,2,    220.5,2,    116.5,2,    32.37,2,     0.00,2,     2.22,2,     -999,9,     -999,9,     -999,9,     -999,9,     -999,9,     -999,9,     -999,     44.0,2,     -999,9,   0.1489,2,     -999,9,     -999,9,     -999,     -999,9,     -999,9,     -999,1,     -999,9,    0.061,1,    4.681,1,    0.135,1,     -999,9,     -999,9,20180318,0312, -69.2393, 170.6603,     -999,9,     -999,9,-999          ,9,     -999,9,     -999,9,     -999,     -999,9,     -999,     -999,9,     -999,9,     -999,9,     -999,9,     -999,9,     -999,9,     -999,9,     -999,9,     -999,9,     -999,9,     -999,9,     -999,9,     -999,9,     -999,9
320620180309  ,S04P       ,5       ,  1,7          ,7          ,2,20180318,0240, -69.2396, 170.6598,     2847,   1927.4,0.1018000000000000016,34.687014196544865,2,  34.6876,2,222.24872038440165,2, 225.8978,2,    222.6,2,    113.1,2,    32.28,2,     0.00,2,     2.22,2,     -999,9,     -999,9,     -999,9,   2260.4,2,  2360.00,2,   7.5882,2,    24.97,     -999,9,     -999,9,   0.1012,2,     -999,9,     -999,9,     -999,     -999,9,     -999,9,     -999,9,     -999,9,    0.061,1,    4.681,1,    0.134,1,     -999,9,     -999,9,20180318,0308, -69.2394, 170.6602,     -999,9,     -999,9,-999          ,9,     -999,9,     -999,9,     -999,     -999,9,     -999,     -999,9,     -999,9,     -999,9,     -999,9,     -999,9,     -999,9,     -999,9,     -999,9,     -999,9,     -999,9,     -999,9,     -999,9,     -999,9,     -999,9
320620180309  ,S04P       ,5       ,  1,6          ,6          ,2,20180318,0240, -69.2396, 170.6598,     2847,   2029.4,0.0427194444444444488,34.684582490290509,2,  34.6856,2,225.39425857560153,2, 227.4038,2,    227.5,2,    106.5,2,    31.97,2,     0.00,2,     2.21,2,    1.586,2,    0.861,2,   0.9000,2,     -999,9,     -999,9,     -999,9,     -999,     45.9,2,     -999,9,   0.0434,2,     -999,9,     -999,9,     -999,     -999,9,     -999,9,     -999,1,     -999,9,    0.062,1,    4.681,1,    0.136,1,  20.1200,2,     -999,9,20180318,0305, -69.2392, 170.6604,     -999,9,     -999,9,-999          ,9,     -999,9,     -999,9,     -999,     -999,9,     -999,     -999,9,     -999,9,     -999,9,     -999,9,     -999,9,     -999,9,     -999,9,     -999,9,     -999,9,     -999,9,     -999,9,     -999,9,     -999,9,     -999,9
320620180309  ,S04P       ,5       ,  1,5          ,5          ,2,20180318,0240, -69.2396, 170.6598,     2847,   2234.0,-0.0462777777777777788,34.690454819657653,2,  34.6917,2,230.71761175323923,2, 231.7002,2,    230.9,2,    103.9,2,    31.86,2,     0.00,2,     2.21,2,     -999,9,     -999,9,     -999,9,   2256.8,3,  2357.72,2,   7.5884,2,    24.98,     43.4,2,     -999,9,  -0.0468,2,     -999,9,     -999,9,     -999,     -999,9,     -999,9,     -999,1,     -999,9,    0.063,1,    4.675,1,    0.141,1,     -999,9,     -999,9,20180318,0300, -69.2396, 170.6600,     -999,9,     -999,9,-999          ,9,     -999,9,     -999,9,     -999,     -999,9,     -999,     -999,9,     -999,9,     -999,9,     -999,9,     -999,9,     -999,9,     -999,9,     -999,9,     -999,9,     -999,9,     -999,9,     -999,9,     -999,9,     -999,9
320620180309  ,S04P       ,5       ,  1,4          ,4          ,2,20180318,0240, -69.2396, 170.6598,     2847,   2437.8,-0.1588333333333333264,34.695486210588363,2,  34.6962,2,235.42774554463350,3, 236.6964,2,    248.6,4,    101.1,2,    31.67,2,     0.00,2,     2.19,2,     -999,9,     -999,9,     -999,9,   2257.4,2,  2356.48,2,   7.5898,2,    24.95,     42.7,2,     -999,9,  -0.1598,2,     -999,9,     -999,9,     -999,     -999,9,     -999,9,     -999,1,     -999,9,    0.063,1,    4.673,1,    0.146,1,     -999,9,     -999,9,20180318,0255, -69.2396, 170.6599,     -999,9,     -999,9,-999          ,9,     -999,9,     -999,9,     -999,     -999,9,     -999,     -999,9,     -999,9,     -999,9,     -999,9,     -999,9,     -999,9,     -999,9,     -999,9,     -999,9,     -999,9,     -999,9,     -999,9,     -999,9,     -999,9
320620180309  ,S04P       ,5       ,  1,3          ,3          ,2,20180318,0240, -69.2396, 170.6598,     2847,   2641.8,-0.3007694444444444781,34.698643933264862,2,  34.6992,2,241.66390778975781,2, 241.9978,2,    241.2,2,     98.6,2,    31.50,2,     0.00,2,     2.17,2,    2.329,2,    1.284,2,   1.1500,2,   2258.0,2,  2355.38,2,   7.5896,2,    24.95,     45.7,2,     -999,9,  -0.3014,2,     -999,9,     -999,9,     -999,     -999,9,     -999,9,     -999,1,     -999,9,    0.063,1,    4.669,1,    0.152,1,  19.9500,2,     -999,9,20180318,0250, -69.2397, 170.6599,     -999,9,     -999,9,-999          ,9,     -999,9,     -999,9,     -999,     -999,9,     -999,     -999,9,     -999,9,     -999,9,     -999,9,     -999,9,     -999,9,     -999,9,     -999,9,     -999,9,     -999,9,     -999,9,     -999,9,     -999,9,     -999,9
320620180309  ,S04P       ,5       ,  1,2          ,2          ,2,20180318,0240, -69.2396, 170.6598,     2847,   2759.9,-0.3676138888888889067,34.703060710993427,2,  34.7039,2,243.74652949445391,2, 245.5999,2,    244.0,2,     97.3,2,    31.46,2,     0.00,2,     2.17,2,    2.464,2,    1.367,2,   1.3500,2,   2258.5,2,  2355.41,2,   7.5909,2,    24.97,     -999,5,     -999,9,  -0.3690,2,     -999,9,     -999,9,     -999,     -999,9,     -999,9,     -999,1,     -999,9,    0.064,1,    4.664,1,    0.173,1,  19.9700,2,     -999,9,20180318,0246, -69.2393, 170.6602,     -999,9,     -999,9,-999          ,9,     -999,9,     -999,9,     -999,     -999,9,     -999,     -999,9,     -999,9,     -999,9,     -999,9,     -999,9,     -999,9,     -999,9,     -999,9,     -999,9,     -999,9,     -999,9,     -999,9,     -999,9,     -999,9
320620180309  ,S04P       ,5       ,  1,1          ,1          ,2,20180318,0240, -69.2396, 170.6598,     2847,   2881.2,-0.4412222222222222379,34.703263236452408,2,  34.7041,2,246.88689889100513,2, 247.1977,2,    246.5,2,     96.2,2,    31.39,2,     0.00,2,     2.16,2,    2.592,2,    1.430,2,   1.3400,2,   2257.6,6,  2354.94,2,   7.5929,2,    24.97,     43.5,2,     -999,9,  -0.4415,2,     -999,9,     -999,9,     -999,     -999,9,     -999,9,     -999,1,     -999,9,    0.064,1,    4.635,1,    0.230,1,  19.9200,2,     -999,9,20180318,0240, -69.2396, 170.6598,     -999,9,     -999,9,-999          ,9,     -999,9,     -999,9,     -999,     -999,9,     -999,     -999,9,     -999,9,     -999,9,     -999,9,     -999,9,     -999,9,     -999,9,     -999,9,     -999,9,     -999,9,     -999,9,     -999,9,     -999,9,     -999,9