BOTTLE,20240515CCHHYDRO
EXPOCODE,SECT_ID,STNNBR,CASTNO,SAMPNO,BTLNBR,BTLNBR_FLAG_W,DATE,TIME,LATITUDE,LONGITUDE,DEPTH,CTDPRS,CTDTMP,CTDSAL,CTDSAL_FLAG_W,SALNTY,SALNTY_FLAG_W,CTDOXY,CTDOXY_FLAG_W,CTDOPTOXY,CTDOPTOXY_FLAG_W,OXYGEN,OXYGEN_FLAG_W,SILCAT,SILCAT_FLAG_W,NITRAT,NITRAT_FLAG_W,NITRIT,NITRIT_FLAG_W,PHSPHT,PHSPHT_FLAG_W,CFC-11,CFC-11_FLAG_W,CFC-12,CFC-12_FLAG_W,SF6,SF6_FLAG_W,TCARBN,TCARBN_FLAG_W,ALKALI,ALKALI_FLAG_W,PH_TOT,PH_TOT_FLAG_W,PH_TMP,DOC,DOC_FLAG_W,HELIUM,HELIUM_FLAG_W,REFTMP,REFTMP_FLAG_W,DELC13,DELC13_FLAG_W,DELC14,DELC14_FLAG_W,C14ERR,POC,POC_FLAG_W,TDN,TDN_FLAG_W,TON,TON_FLAG_W,NEON,NEON_FLAG_W,CTDFLUOR,CTDFLUOR_FLAG_W,CTDXMISS,CTDXMISS_FLAG_W,CTDBETA700,CTDBETA700_FLAG_W,N2O,N2O_FLAG_W,ARGON,ARGON_FLAG_W,BTL_DATE,BTL_TIME,BTL_LAT,BTL_LON,KRYPTON,KRYPTON_FLAG_W,XENON,XENON_FLAG_W,HPLC,HPLC_FLAG_W,HE3_HE4_RATIO,HE3_HE4_RATIO_FLAG_W,Nd_143_144_D_EPSILON_BOTTLE,Nd_143_144_D_EPSILON_BOTTLE_FLAG_W,Nd_143_144_D_EPSILON_BOTTLE_ERROR,Nd_143_144_D_RATIO_BOTTLE,Nd_143_144_D_RATIO_BOTTLE_FLAG_W,Nd_143_144_D_RATIO_BOTTLE_ERROR,Nd_D_CONC,Nd_D_CONC_FLAG_W,La_D_CONC_BOTTLE,La_D_CONC_BOTTLE_FLAG_W,Ce_D_CONC_BOTTLE,Ce_D_CONC_BOTTLE_FLAG_W,Pr_D_CONC_BOTTLE,Pr_D_CONC_BOTTLE_FLAG_W,Sm_D_CONC_BOTTLE,Sm_D_CONC_BOTTLE_FLAG_W,Eu_D_CONC_BOTTLE,Eu_D_CONC_BOTTLE_FLAG_W,Gd_D_CONC_BOTTLE,Gd_D_CONC_BOTTLE_FLAG_W,Tb_D_CONC_BOTTLE,Tb_D_CONC_BOTTLE_FLAG_W,Dy_D_CONC_BOTTLE,Dy_D_CONC_BOTTLE_FLAG_W,Ho_D_CONC_BOTTLE,Ho_D_CONC_BOTTLE_FLAG_W,Er_D_CONC_BOTTLE,Er_D_CONC_BOTTLE_FLAG_W,Tm_D_CONC_BOTTLE,Tm_D_CONC_BOTTLE_FLAG_W,Yb_D_CONC_BOTTLE,Yb_D_CONC_BOTTLE_FLAG_W,Lu_D_CONC_BOTTLE,Lu_D_CONC_BOTTLE_FLAG_W
,,,,,,,,,,,METERS,DBAR,ITS-90,PSS-78,,PSS-78,,UMOL/KG,,UMOL/KG,,UMOL/KG,,UMOL/KG,,UMOL/KG,,UMOL/KG,,UMOL/KG,,PMOL/KG,,PMOL/KG,,FMOL/KG,,UMOL/KG,,UMOL/KG,,,,DEG C,UMOL/KG,,NMOL/L,,DEG C,,/MILLE,,/MILLE,,/MILLE,UG/KG,,UMOL/KG,,UMOL/KG,,NMOL/L,,VOLTS,,VOLTS,,VOLTS,,NMOL/KG,,UMOL/L,,,,,,NMOL/L,,NMOL/L,,,,,,10000,,10000,,,,PMOL/KG,,PMOL/L,,PMOL/L,,PMOL/L,,PMOL/L,,PMOL/L,,PMOL/L,,PMOL/L,,PMOL/L,,PMOL/L,,PMOL/L,,PMOL/L,,PMOL/L,,PMOL/L,
320620180309  ,S04P       ,1       ,  1,29         ,29         ,2,20180317,0211, -70.4517, 168.4755,     1390,      1.5,-1.5807361111111113416,34.091449501357495,3,     -999,9,338.98156862880450,2, 327.4912,2,     -999,9,     -999,9,     -999,9,     -999,9,     -999,9,     -999,9,     -999,9,     -999,9,     -999,9,     -999,9,     -999,9,     -999,     -999,9,     -999,9,     -999,9,     -999,9,     -999,9,     -999,     -999,9,     -999,9,     -999,9,     -999,9,    0.117,1,    4.585,1,    0.184,1,     -999,9,     -999,9,20180317,0317, -70.4507, 168.4729,     -999,9,     -999,9,-999          ,9,     -999,9,    -8.37,2,     0.13, 0.512209,2, 0.000006,    17.69,2,     -999,9,     -999,9,     -999,9,     -999,9,     -999,9,     -999,9,     -999,9,     -999,9,     -999,9,     -999,9,     -999,9,     -999,9,     -999,9
320620180309  ,S04P       ,1       ,  1,28         ,28         ,2,20180317,0211, -70.4517, 168.4755,     1390,      1.8,-1.5847277777777779573,34.091778278518511,2,  34.0923,2,338.96117704437233,2, 327.4891,2,    341.6,2,     71.8,2,    28.21,2,     0.14,2,     1.88,2,    5.777,2,    3.144,2,   3.8800,2,   2202.5,6,  2311.47,2,   7.6790,2,    24.95,     41.5,2,     -999,9,  -1.5812,2,0.75000000,2, -133.340,2,    0.002,     -999,9,    32.10,2,     -999,1,     -999,9,    0.117,1,    4.585,1,    0.184,1,  16.6700,2,     -999,9,20180317,0317, -70.4507, 168.4729,     -999,9,     -999,9,-999          ,9,     -999,9,     -999,9,     -999,     -999,9,     -999,     -999,9,     -999,1,     -999,1,     -999,1,     -999,1,     -999,1,     -999,1,     -999,1,     -999,1,     -999,1,     -999,1,     -999,1,     -999,1,     -999,1
320620180309  ,S04P       ,1       ,  1,27         ,27         ,2,20180317,0211, -70.4517, 168.4755,     1390,     19.4,-1.5272777777777779562,34.128784944942112,2,  34.1250,2,337.92894352548512,2, 325.8938,2,    338.9,2,     72.1,2,    28.35,2,     0.13,2,     1.91,2,     -999,9,     -999,9,     -999,9,   2201.8,2,  2356.40,4,   7.6327,2,    24.93,     44.9,2,     -999,1,  -1.5321,2,     -999,9,     -999,9,     -999,     -999,9,    29.90,2,     -999,1,     -999,1,    0.134,1,    4.591,1,    0.186,1,     -999,9,     -999,1,20180317,0315, -70.4506, 168.4731,     -999,1,     -999,1,-999          ,9,     -999,1,     -999,9,     -999,     -999,9,     -999,     -999,9,     -999,1,     -999,1,     -999,1,     -999,1,     -999,1,     -999,1,     -999,1,     -999,1,     -999,1,     -999,1,     -999,1,     -999,1,     -999,1
320620180309  ,S04P       ,1       ,  1,26         ,26         ,2,20180317,0211, -70.4517, 168.4755,     1390,     39.0,-1.4861416666666669162,34.148293382404432,2,  34.1404,2,338.20587208611335,2, 340.9009,2,    336.9,2,     72.6,2,    28.49,2,     0.13,2,     1.90,2,    5.591,2,    3.008,2,   3.5200,2,   2203.5,2,  2313.51,2,   7.6543,2,    25.07,     42.1,2,     -999,9,  -1.4910,2,     -999,9,     -999,9,     -999,     -999,9,    31.80,2,     -999,1,     -999,9,    0.150,1,    4.595,1,    0.180,1,  16.7200,2,     -999,9,20180317,0313, -70.4506, 168.4731,     -999,9,     -999,9,-999          ,9,     -999,9,     -999,9,     -999,     -999,9,     -999,     -999,9,     -999,1,     -999,1,     -999,1,     -999,1,     -999,1,     -999,1,     -999,1,     -999,1,     -999,1,     -999,1,     -999,1,     -999,1,     -999,1
320620180309  ,S04P       ,1       ,  1,25         ,25         ,2,20180317,0211, -70.4517, 168.4755,     1390,     64.3,-1.5451166666666664717,34.175798729034902,2,  34.1778,2,332.51916273498733,2, 335.5979,2,    334.6,2,     73.0,2,    28.67,2,     0.12,2,     1.92,2,     -999,9,     -999,9,     -999,9,   2206.6,2,  2319.57,2,   7.6302,2,    24.93,     39.4,2,     -999,9,  -1.5452,2,     -999,9,     -999,9,     -999,     -999,9,    31.10,2,     -999,1,     -999,9,    0.134,1,    4.606,1,    0.177,1,     -999,9,     -999,9,20180317,0311, -70.4506, 168.4731,     -999,9,     -999,9,-999          ,9,     -999,9,     -999,9,     -999,     -999,9,     -999,     -999,9,     -999,9,     -999,9,     -999,9,     -999,9,     -999,9,     -999,9,     -999,9,     -999,9,     -999,9,     -999,9,     -999,9,     -999,9,     -999,9
320620180309  ,S04P       ,1       ,  1,24         ,24         ,2,20180317,0211, -70.4517, 168.4755,     1390,     89.1,-1.3986111111111112493,34.230011298165032,2,  34.2307,2,324.89183680823692,2, 341.2010,2,    322.3,2,     74.2,2,    28.84,2,     0.11,2,     1.96,2,    5.022,2,    2.729,2,   3.7200,2,   2213.2,2,  2318.43,2,   7.6240,2,    24.93,     42.8,2,     -999,1,  -1.3972,2,0.73000000,2, -138.410,2,    0.002,     -999,9,    31.60,2,     -999,1,     -999,1,    0.160,1,    4.595,1,    0.212,1,  17.1800,2,     -999,1,20180317,0310, -70.4506, 168.4731,     -999,1,     -999,1,-999          ,9,     -999,1,     -999,9,     -999,     -999,9,     -999,     -999,9,     -999,1,     -999,1,     -999,1,     -999,1,     -999,1,     -999,1,     -999,1,     -999,1,     -999,1,     -999,1,     -999,1,     -999,1,     -999,1
320620180309  ,S04P       ,1       ,  1,23         ,23         ,2,20180317,0211, -70.4517, 168.4755,     1390,    115.0,-1.2114166666666668082,34.294775371606967,2,  34.2955,2,307.42184621086557,2, 328.4024,2,    308.2,2,     75.6,2,    29.38,2,     0.00,2,     1.96,2,     -999,9,     -999,9,     -999,9,   2219.7,2,  2322.12,2,   7.7034,3,    24.92,     42.8,2,     -999,9,  -1.1962,2,     -999,9,     -999,9,     -999,     -999,9,    31.80,2,     -999,1,     -999,9,    0.171,1,    4.588,1,    0.202,1,     -999,9,     -999,9,20180317,0308, -70.4507, 168.4731,     -999,9,     -999,9,-999          ,9,     -999,9,     -999,9,     -999,     -999,9,     -999,     -999,9,     -999,9,     -999,9,     -999,9,     -999,9,     -999,9,     -999,9,     -999,9,     -999,9,     -999,9,     -999,9,     -999,9,     -999,9,     -999,9
320620180309  ,S04P       ,1       ,  1,22         ,22         ,2,20180317,0211, -70.4517, 168.4755,     1390,    140.8,-1.1786083333333332579,34.352409029610776,2,  34.3505,2,298.23312657583853,2, 319.0002,2,    300.8,2,     77.0,2,    29.78,2,     0.00,2,     1.99,2,    4.301,2,    2.349,2,   2.8600,2,   2225.3,2,  2328.19,2,   7.6114,2,    24.96,     41.3,2,     -999,1,  -1.1820,2,     -999,9,     -999,9,     -999,     -999,9,    32.30,2,     -999,1,     -999,1,    0.170,1,    4.593,1,    0.200,1,  17.7300,2,     -999,1,20180317,0305, -70.4506, 168.4731,     -999,1,     -999,1,-999          ,9,     -999,1,     -999,9,     -999,     -999,9,     -999,     -999,9,     -999,1,     -999,1,     -999,1,     -999,1,     -999,1,     -999,1,     -999,1,     -999,1,     -999,1,     -999,1,     -999,1,     -999,1,     -999,1
320620180309  ,S04P       ,1       ,  1,21         ,21         ,2,20180317,0211, -70.4517, 168.4755,     1390,    165.5,-1.1574888888888887895,34.368243805696480,2,  34.3786,2,296.35583564422143,2, 315.3044,2,    294.3,2,     78.3,2,    29.79,2,     0.00,2,     1.99,2,     -999,9,     -999,9,     -999,9,   2225.9,2,  2329.31,2,   7.6126,2,    24.98,     41.9,2,     -999,9,  -1.1659,2,0.63000000,2, -141.060,2,    0.002,     -999,9,    32.70,2,     -999,1,     -999,9,    0.141,1,    4.605,1,    0.196,1,     -999,9,     -999,9,20180317,0304, -70.4507, 168.4730,     -999,9,     -999,9,-999          ,9,     -999,9,     -999,9,     -999,     -999,9,     -999,     -999,9,     -999,9,     -999,9,     -999,9,     -999,9,     -999,9,     -999,9,     -999,9,     -999,9,     -999,9,     -999,9,     -999,9,     -999,9,     -999,9
320620180309  ,S04P       ,1       ,  1,20         ,20         ,2,20180317,0211, -70.4517, 168.4755,     1390,    190.7,-1.0286416666666664543,34.397531457653848,2,  34.3980,2,288.13338329380088,2, 305.6042,2,    290.2,2,     79.3,2,    29.87,2,     0.00,2,     2.02,2,    3.964,2,    2.182,2,   2.6100,2,   2230.0,2,  2329.18,2,   7.6102,2,    24.98,     44.1,2,     -999,9,  -1.0296,2,     -999,9,     -999,9,     -999,     -999,9,     -999,9,     -999,1,     -999,9,    0.122,1,    4.617,1,    0.179,1,  18.1200,2,     -999,9,20180317,0302, -70.4509, 168.4731,     -999,9,     -999,9,-999          ,9,     -999,9,     -999,9,     -999,     -999,9,     -999,     -999,9,     -999,9,     -999,9,     -999,9,     -999,9,     -999,9,     -999,9,     -999,9,     -999,9,     -999,9,     -999,9,     -999,9,     -999,9,     -999,9
320620180309  ,S04P       ,1       ,  1,19         ,19         ,2,20180317,0211, -70.4517, 168.4755,     1390,    216.6,-0.7454250000000000043,34.458052052456836,2,  34.4491,2,276.82826327370248,2, 299.5986,2,    276.4,2,     81.8,2,    30.20,2,     0.00,2,     2.04,2,     -999,9,     -999,9,     -999,9,   2234.8,2,  2333.73,2,   7.6053,2,    24.98,     -999,9,     -999,9,  -0.7310,2,0.59000000,2, -143.790,2,    0.002,     -999,9,     -999,9,     -999,9,     -999,9,    0.111,1,    4.619,1,    0.182,1,     -999,9,     -999,9,20180317,0300, -70.4513, 168.4734,     -999,9,     -999,9,-999          ,9,     -999,9,     -999,9,     -999,     -999,9,     -999,     -999,9,     -999,1,     -999,1,     -999,1,     -999,1,     -999,1,     -999,1,     -999,1,     -999,1,     -999,1,     -999,1,     -999,1,     -999,1,     -999,1
320620180309  ,S04P       ,1       ,  1,18         ,18         ,2,20180317,0211, -70.4517, 168.4755,     1390,    241.5,-0.5644416666666667304,34.497265991926213,2,  34.4958,2,264.87190227052679,2, 283.9020,2,    263.6,2,     85.0,2,    30.58,2,     0.00,2,     2.07,2,    3.074,2,    1.696,2,   1.8600,2,   2239.5,2,  2335.52,2,   7.6003,2,    24.98,     39.5,2,     -999,9,  -0.5652,2,     -999,9,     -999,9,     -999,     -999,9,    32.50,2,     -999,1,     -999,9,    0.102,1,    4.630,1,    0.179,1,  18.8600,2,     -999,9,20180317,0258, -70.4515, 168.4734,     -999,9,     -999,9,-999          ,9,     -999,9,     -999,9,     -999,     -999,9,     -999,     -999,9,     -999,9,     -999,9,     -999,9,     -999,9,     -999,9,     -999,9,     -999,9,     -999,9,     -999,9,     -999,9,     -999,9,     -999,9,     -999,9
320620180309  ,S04P       ,1       ,  1,17         ,17         ,2,20180317,0211, -70.4517, 168.4755,     1390,    287.0,-0.5207472222222221392,34.552813494399643,2,  34.5520,2,250.48917271811038,3, 265.0017,2,    253.1,2,     87.8,2,    30.92,2,     0.00,2,     2.08,2,     -999,9,     -999,9,     -999,9,   2246.6,2,  2340.02,2,   7.5947,2,    24.98,     45.3,2,     -999,1,  -0.5250,2,0.56000000,2, -147.440,2,    0.002,     -999,9,     -999,9,     -999,1,     -999,1,    0.087,1,    4.638,1,    0.175,1,     -999,9,     -999,1,20180317,0256, -70.4517, 168.4737,     -999,1,     -999,1,-999          ,9,     -999,1,     -999,9,     -999,     -999,9,     -999,     -999,9,     -999,1,     -999,1,     -999,1,     -999,1,     -999,1,     -999,1,     -999,1,     -999,1,     -999,1,     -999,1,     -999,1,     -999,1,     -999,1
320620180309  ,S04P       ,1       ,  1,16         ,16         ,2,20180317,0211, -70.4517, 168.4755,     1390,    336.9,-0.4490527777777778007,34.584309423485067,2,  34.5836,2,245.76674892689925,3, 259.8988,2,    248.6,2,     89.7,2,    31.01,2,     0.00,2,     2.10,2,    2.657,2,    1.459,2,   1.6000,2,   2248.2,2,  2342.96,2,   7.5917,2,    24.98,     43.2,2,     -999,9,  -0.4498,2,     -999,9,     -999,9,     -999,     -999,9,     -999,9,     -999,1,     -999,9,    0.081,1,    4.644,1,    0.174,1,  19.1400,2,     -999,9,20180317,0253, -70.4520, 168.4739,     -999,9,     -999,9,-999          ,9,     -999,9,     -999,9,     -999,     -999,9,     -999,     -999,9,     -999,9,     -999,9,     -999,9,     -999,9,     -999,9,     -999,9,     -999,9,     -999,9,     -999,9,     -999,9,     -999,9,     -999,9,     -999,9
320620180309  ,S04P       ,1       ,  1,15         ,15         ,2,20180317,0211, -70.4517, 168.4755,     1390,    387.6,-0.4593305555555555197,34.602769043506008,2,  34.5972,2,244.96153124877270,3, 257.5985,2,    247.6,2,     90.2,2,    31.17,2,     0.00,2,     2.12,2,     -999,9,     -999,9,     -999,9,   2249.8,2,  2346.55,2,   7.5916,2,    24.98,     40.5,2,     -999,9,  -0.4601,2,0.51000000,2, -145.760,2,    0.002,     -999,9,     -999,9,     -999,1,     -999,9,    0.079,1,    4.645,1,    0.162,1,     -999,9,     -999,9,20180317,0251, -70.4520, 168.4743,     -999,9,     -999,9,-999          ,9,     -999,9,     -999,9,     -999,     -999,9,     -999,     -999,9,     -999,9,     -999,9,     -999,9,     -999,9,     -999,9,     -999,9,     -999,9,     -999,9,     -999,9,     -999,9,     -999,9,     -999,9,     -999,9
320620180309  ,S04P       ,1       ,  1,14         ,14         ,2,20180317,0211, -70.4517, 168.4755,     1390,    438.7,-0.3717722222222222261,34.629527872637809,2,  34.6283,2,241.81588797422401,2, 254.2001,2,    244.0,2,     93.1,2,    31.25,2,     0.00,2,     2.13,2,    2.405,2,    1.336,2,   1.3400,2,   2253.2,2,  2347.43,2,   7.5912,2,    24.98,     42.2,2,     -999,1,  -0.3760,2,     -999,9,     -999,9,     -999,     -999,9,     -999,9,     -999,1,     -999,1,    0.076,1,    4.651,1,    0.166,1,  19.0400,2,     -999,1,20180317,0249, -70.4521, 168.4746,     -999,1,     -999,1,-999          ,9,     -999,1,     -999,9,     -999,     -999,9,     -999,     -999,9,     -999,1,     -999,1,     -999,1,     -999,1,     -999,1,     -999,1,     -999,1,     -999,1,     -999,1,     -999,1,     -999,1,     -999,1,     -999,1
320620180309  ,S04P       ,1       ,  1,13         ,13         ,2,20180317,0211, -70.4517, 168.4755,     1390,    488.8,-0.3164916666666666156,34.638672512236752,2,  34.6352,2,242.97687500482780,3, 251.9005,2,    239.8,2,     94.4,2,    31.33,2,     0.00,2,     2.13,2,     -999,9,     -999,9,     -999,9,   2253.0,2,  2349.43,2,   7.5971,2,    24.99,     44.6,2,     -999,9,  -0.3150,2,0.49000000,2, -149.060,2,    0.002,     -999,9,     -999,9,     -999,1,     -999,9,    0.071,1,    4.655,1,    0.164,1,     -999,9,     -999,9,20180317,0246, -70.4521, 168.4747,     -999,9,     -999,9,-999          ,9,     -999,9,     -999,9,     -999,     -999,9,     -999,     -999,9,     -999,9,     -999,9,     -999,9,     -999,9,     -999,9,     -999,9,     -999,9,     -999,9,     -999,9,     -999,9,     -999,9,     -999,9,     -999,9
320620180309  ,S04P       ,1       ,  1,12         ,12         ,2,20180317,0211, -70.4517, 168.4755,     1390,    570.0,-0.1738944444444444626,34.658432439127296,2,  34.6562,2,239.79681624380504,3, 243.5963,2,    234.5,2,     97.9,2,    31.48,2,     0.00,2,     2.15,2,    2.006,2,    1.112,2,   1.0600,2,   2256.7,2,  2351.63,2,   7.5894,2,    24.98,     41.8,2,     -999,9,  -0.1768,2,0.49000000,2, -151.960,2,    0.002,     -999,9,     -999,9,     -999,1,     -999,9,    0.070,1,    4.657,1,    0.149,1,  19.2300,2,     -999,9,20180317,0244, -70.4521, 168.4746,     -999,9,     -999,9,-999          ,9,     -999,9,     -999,9,     -999,     -999,9,     -999,     -999,9,     -999,1,     -999,1,     -999,1,     -999,1,     -999,1,     -999,1,     -999,1,     -999,1,     -999,1,     -999,1,     -999,1,     -999,1,     -999,1
320620180309  ,S04P       ,1       ,  1,11         ,11         ,2,20180317,0211, -70.4517, 168.4755,     1390,    670.4,-0.2148777777777778064,34.661502121812269,2,  34.6595,2,237.33100811873430,2, 239.6004,2,    235.2,2,     97.4,2,    31.49,2,     0.00,2,     2.14,2,     -999,9,     -999,9,     -999,9,   2257.4,2,  2353.25,2,   7.5885,6,    24.98,     40.6,2,     -999,9,  -0.2152,2,0.54000000,2, -150.860,2,    0.002,     -999,9,     -999,9,     -999,1,     -999,9,    0.068,1,    4.660,1,    0.150,1,     -999,9,     -999,9,20180317,0240, -70.4520, 168.4749,     -999,9,     -999,9,-999          ,9,     -999,9,     -999,9,     -999,     -999,9,     -999,     -999,9,     -999,9,     -999,9,     -999,9,     -999,9,     -999,9,     -999,9,     -999,9,     -999,9,     -999,9,     -999,9,     -999,9,     -999,9,     -999,9
320620180309  ,S04P       ,1       ,  1,10         ,10         ,2,20180317,0211, -70.4517, 168.4755,     1390,    772.5,-0.2379194444444444334,34.671184610359681,2,  34.6697,2,233.01124633142010,3, 236.4943,2,    235.6,2,     98.3,2,    31.51,2,     0.00,2,     2.16,2,    2.097,2,    1.171,2,   1.2800,2,   2257.4,6,  2352.17,2,   7.5914,2,    24.98,     42.9,2,     -999,1,  -0.2424,2,0.48000000,2, -149.130,2,    0.002,     -999,9,     -999,9,     -999,1,     -999,1,    0.066,1,    4.660,1,    0.150,1,  19.3700,2,     -999,1,20180317,0237, -70.4520, 168.4749,     -999,1,     -999,1,-999          ,9,     -999,1,     -999,9,     -999,     -999,9,     -999,     -999,9,     -999,1,     -999,1,     -999,1,     -999,1,     -999,1,     -999,1,     -999,1,     -999,1,     -999,1,     -999,1,     -999,1,     -999,1,     -999,1
320620180309  ,S04P       ,1       ,  1,9          ,9          ,2,20180317,0211, -70.4517, 168.4755,     1390,    874.9,-0.2714555555555555610,34.673746963284302,2,  34.6727,2,234.36116698588478,3, 236.0029,2,    237.3,2,     98.3,2,    31.44,2,     0.00,2,     2.15,2,     -999,9,     -999,9,     -999,9,   2256.1,2,  2352.71,2,   7.5900,2,    24.97,     41.2,2,     -999,9,  -0.2835,2,0.54000000,2, -149.000,2,    0.002,     -999,9,     -999,9,     -999,1,     -999,9,    0.069,1,    4.658,1,    0.192,1,     -999,9,     -999,9,20180317,0233, -70.4520, 168.4749,     -999,9,     -999,9,-999          ,9,     -999,9,     -999,9,     -999,     -999,9,     -999,     -999,9,     -999,1,     -999,1,     -999,1,     -999,1,     -999,1,     -999,1,     -999,1,     -999,1,     -999,1,     -999,1,     -999,1,     -999,1,     -999,1