BOTTLE,20240515CCHHYDRO
EXPOCODE,SECT_ID,STNNBR,CASTNO,SAMPNO,BTLNBR,BTLNBR_FLAG_W,DATE,TIME,LATITUDE,LONGITUDE,DEPTH,CTDPRS,CTDTMP,CTDSAL,CTDSAL_FLAG_W,SALNTY,SALNTY_FLAG_W,CTDOXY,CTDOXY_FLAG_W,CTDOPTOXY,CTDOPTOXY_FLAG_W,OXYGEN,OXYGEN_FLAG_W,SILCAT,SILCAT_FLAG_W,NITRAT,NITRAT_FLAG_W,NITRIT,NITRIT_FLAG_W,PHSPHT,PHSPHT_FLAG_W,CFC-11,CFC-11_FLAG_W,CFC-12,CFC-12_FLAG_W,SF6,SF6_FLAG_W,TCARBN,TCARBN_FLAG_W,ALKALI,ALKALI_FLAG_W,PH_TOT,PH_TOT_FLAG_W,PH_TMP,DOC,DOC_FLAG_W,HELIUM,HELIUM_FLAG_W,REFTMP,REFTMP_FLAG_W,DELC13,DELC13_FLAG_W,DELC14,DELC14_FLAG_W,C14ERR,POC,POC_FLAG_W,TDN,TDN_FLAG_W,TON,TON_FLAG_W,NEON,NEON_FLAG_W,CTDFLUOR,CTDFLUOR_FLAG_W,CTDXMISS,CTDXMISS_FLAG_W,CTDBETA700,CTDBETA700_FLAG_W,N2O,N2O_FLAG_W,ARGON,ARGON_FLAG_W,BTL_DATE,BTL_TIME,BTL_LAT,BTL_LON,KRYPTON,KRYPTON_FLAG_W,XENON,XENON_FLAG_W,HPLC,HPLC_FLAG_W,HE3_HE4_RATIO,HE3_HE4_RATIO_FLAG_W,Nd_143_144_D_EPSILON_BOTTLE,Nd_143_144_D_EPSILON_BOTTLE_FLAG_W,Nd_143_144_D_EPSILON_BOTTLE_ERROR,Nd_143_144_D_RATIO_BOTTLE,Nd_143_144_D_RATIO_BOTTLE_FLAG_W,Nd_143_144_D_RATIO_BOTTLE_ERROR,Nd_D_CONC,Nd_D_CONC_FLAG_W,La_D_CONC_BOTTLE,La_D_CONC_BOTTLE_FLAG_W,Ce_D_CONC_BOTTLE,Ce_D_CONC_BOTTLE_FLAG_W,Pr_D_CONC_BOTTLE,Pr_D_CONC_BOTTLE_FLAG_W,Sm_D_CONC_BOTTLE,Sm_D_CONC_BOTTLE_FLAG_W,Eu_D_CONC_BOTTLE,Eu_D_CONC_BOTTLE_FLAG_W,Gd_D_CONC_BOTTLE,Gd_D_CONC_BOTTLE_FLAG_W,Tb_D_CONC_BOTTLE,Tb_D_CONC_BOTTLE_FLAG_W,Dy_D_CONC_BOTTLE,Dy_D_CONC_BOTTLE_FLAG_W,Ho_D_CONC_BOTTLE,Ho_D_CONC_BOTTLE_FLAG_W,Er_D_CONC_BOTTLE,Er_D_CONC_BOTTLE_FLAG_W,Tm_D_CONC_BOTTLE,Tm_D_CONC_BOTTLE_FLAG_W,Yb_D_CONC_BOTTLE,Yb_D_CONC_BOTTLE_FLAG_W,Lu_D_CONC_BOTTLE,Lu_D_CONC_BOTTLE_FLAG_W
,,,,,,,,,,,METERS,DBAR,ITS-90,PSS-78,,PSS-78,,UMOL/KG,,UMOL/KG,,UMOL/KG,,UMOL/KG,,UMOL/KG,,UMOL/KG,,UMOL/KG,,PMOL/KG,,PMOL/KG,,FMOL/KG,,UMOL/KG,,UMOL/KG,,,,DEG C,UMOL/KG,,NMOL/L,,DEG C,,/MILLE,,/MILLE,,/MILLE,UG/KG,,UMOL/KG,,UMOL/KG,,NMOL/L,,VOLTS,,VOLTS,,VOLTS,,NMOL/KG,,UMOL/L,,,,,,NMOL/L,,NMOL/L,,,,,,10000,,10000,,,,PMOL/KG,,PMOL/L,,PMOL/L,,PMOL/L,,PMOL/L,,PMOL/L,,PMOL/L,,PMOL/L,,PMOL/L,,PMOL/L,,PMOL/L,,PMOL/L,,PMOL/L,,PMOL/L,
320620180309  ,S04P       ,87      ,  1,36         ,36         ,2,20180423,1725, -67.0005,-121.0734,     4426,      5.8,-1.1444437743363493620,33.640207954443376,2,  33.6364,2,347.47480150774425,2, 347.8004,2,    347.7,2,     24.7,2,    24.87,2,     0.26,2,     1.70,2,    5.846,2,    3.265,2,   3.7400,2,   2156.7,6,  2276.05,2,   7.6692,2,    24.85,     -999,9,     -999,9,  -1.1452,2,     -999,9,     -999,9,     -999,     -999,9,     -999,9,     -999,9,     -999,9,    0.273,1,    4.541,1,    0.237,1,  16.1500,2,     -999,9,20180423,1926, -67.0005,-121.0733,     -999,9,     -999,9,-999          ,9,     -999,9,     -999,9,     -999,     -999,9,     -999,     -999,9,     -999,9,     -999,9,     -999,9,     -999,9,     -999,9,     -999,9,     -999,9,     -999,9,     -999,9,     -999,9,     -999,9,     -999,9,     -999,9
320620180309  ,S04P       ,87      ,  1,35         ,35         ,2,20180423,1725, -67.0005,-121.0734,     4426,     20.5,-1.1467557908011023482,33.640187516851434,2,  33.6374,2,347.70244878678244,2, 347.6950,2,    347.8,2,     25.0,2,    24.86,2,     0.25,2,     1.71,2,     -999,9,     -999,9,     -999,9,   2157.4,2,  2275.77,2,   7.6712,2,    24.87,     -999,9,     -999,9,  -1.1483,2,     -999,9,     -999,9,     -999,     -999,9,     -999,9,     -999,9,     -999,9,    0.279,1,    4.543,1,    0.258,1,     -999,9,     -999,9,20180423,1925, -67.0005,-121.0734,     -999,9,     -999,9,-999          ,9,     -999,9,     -999,9,     -999,     -999,9,     -999,     -999,9,     -999,9,     -999,9,     -999,9,     -999,9,     -999,9,     -999,9,     -999,9,     -999,9,     -999,9,     -999,9,     -999,9,     -999,9,     -999,9
320620180309  ,S04P       ,87      ,  1,34         ,34         ,2,20180423,1725, -67.0005,-121.0734,     4426,     39.6,-1.2050728243222004199,33.642624246567557,2,  33.6380,2,347.79035112019869,2, 348.2002,2,    348.7,2,     25.4,2,    24.92,2,     0.25,2,     1.70,2,     -999,9,     -999,9,     -999,9,   2158.3,2,  2276.01,2,   7.6707,2,    24.86,     -999,9,     -999,9,  -1.1951,2,     -999,9,     -999,9,     -999,     -999,9,     -999,9,     -999,9,     -999,9,    0.302,1,    4.541,1,    0.265,1,     -999,9,     -999,9,20180423,1923, -67.0005,-121.0735,     -999,9,     -999,9,-999          ,9,     -999,9,     -999,9,     -999,     -999,9,     -999,     -999,9,     -999,9,     -999,9,     -999,9,     -999,9,     -999,9,     -999,9,     -999,9,     -999,9,     -999,9,     -999,9,     -999,9,     -999,9,     -999,9
320620180309  ,S04P       ,87      ,  1,33         ,33         ,2,20180423,1725, -67.0005,-121.0734,     4426,     64.3,-1.5229780503117327228,33.664835008154000,2,  33.6608,2,346.20583411288777,2, 348.3994,2,    349.5,2,     35.3,2,    25.92,2,     0.23,2,     1.76,2,     -999,9,     -999,9,     -999,9,   2163.0,2,  2280.31,2,   7.6580,2,    24.86,     -999,9,     -999,9,  -1.5228,2,     -999,9,     -999,9,     -999,     -999,9,     -999,9,     -999,9,     -999,9,    0.247,1,    4.559,1,    0.262,1,     -999,9,     -999,9,20180423,1922, -67.0005,-121.0736,     -999,9,     -999,9,-999          ,9,     -999,9,     -999,9,     -999,     -999,9,     -999,     -999,9,     -999,9,     -999,9,     -999,9,     -999,9,     -999,9,     -999,9,     -999,9,     -999,9,     -999,9,     -999,9,     -999,9,     -999,9,     -999,9
320620180309  ,S04P       ,87      ,  1,32         ,32         ,2,20180423,1725, -67.0005,-121.0734,     4426,     91.1,-1.2204858116929770961,33.782365643421002,3,  33.8062,2,341.05200025004939,3, 335.4989,2,    334.2,2,     36.4,2,    27.18,2,     0.23,2,     1.88,2,    5.532,2,    3.104,2,   3.4700,2,   2172.8,2,  2286.06,2,   7.6432,6,    24.86,     -999,9,     -999,9,  -1.2248,2,     -999,9,     -999,9,     -999,     -999,9,     -999,9,     -999,9,     -999,9,    0.154,1,    4.577,1,    0.230,1,  16.8100,2,     -999,9,20180423,1920, -67.0005,-121.0736,     -999,9,     -999,9,-999          ,9,     -999,9,     -999,9,     -999,     -999,9,     -999,     -999,9,     -999,9,     -999,9,     -999,9,     -999,9,     -999,9,     -999,9,     -999,9,     -999,9,     -999,9,     -999,9,     -999,9,     -999,9,     -999,9
320620180309  ,S04P       ,87      ,  1,31         ,31         ,2,20180423,1725, -67.0005,-121.0734,     4426,    115.9,-1.0256438467806363590,34.031482634322259,2,  34.0183,2,309.39229363704601,2, 306.1033,3,    309.8,2,     48.8,2,    29.98,2,     0.11,2,     2.03,2,     -999,9,     -999,9,     -999,9,     -999,9,     -999,9,     -999,9,     -999,     -999,9,     -999,9,  -1.0623,2,     -999,9,     -999,9,     -999,     -999,9,     -999,9,     -999,9,     -999,9,    0.094,1,    4.624,1,    0.183,1,     -999,9,     -999,9,20180423,1918, -67.0005,-121.0736,     -999,9,     -999,9,-999          ,9,     -999,9,     -999,9,     -999,     -999,9,     -999,     -999,9,     -999,9,     -999,9,     -999,9,     -999,9,     -999,9,     -999,9,     -999,9,     -999,9,     -999,9,     -999,9,     -999,9,     -999,9,     -999,9
320620180309  ,S04P       ,87      ,  1,30         ,30         ,2,20180423,1725, -67.0005,-121.0734,     4426,    140.1,-0.4569741852946497818,34.146599947964461,2,  34.1614,2,287.38730467402632,3, 282.8012,3,    279.3,2,     56.4,2,    31.65,2,     0.04,2,     2.13,2,    4.086,2,    2.248,2,   2.8000,2,   2215.6,2,  2309.64,2,   7.5893,2,    24.86,     -999,9,     -999,9,  -0.4916,2,     -999,9,     -999,9,     -999,     -999,9,     -999,9,     -999,9,     -999,9,    0.080,1,    4.636,1,    0.172,1,  19.5800,2,     -999,9,20180423,1917, -67.0005,-121.0737,     -999,9,     -999,9,-999          ,9,     -999,9,     -999,9,     -999,     -999,9,     -999,     -999,9,     -999,9,     -999,9,     -999,9,     -999,9,     -999,9,     -999,9,     -999,9,     -999,9,     -999,9,     -999,9,     -999,9,     -999,9,     -999,9
320620180309  ,S04P       ,87      ,  1,29         ,29         ,2,20180423,1725, -67.0005,-121.0734,     4426,    186.7,1.2002176171484937317,34.413567220870704,2,  34.4097,2,221.36783311130915,3, 217.2971,2,    217.1,2,     69.0,2,    34.29,2,     0.02,2,     2.31,2,     -999,9,     -999,9,     -999,9,     -999,9,     -999,9,     -999,9,     -999,     -999,9,     -999,9,   1.1813,2,     -999,9,     -999,9,     -999,     -999,9,     -999,9,     -999,9,     -999,9,    0.073,1,    4.640,1,    0.147,1,     -999,9,     -999,9,20180423,1915, -67.0005,-121.0737,     -999,9,     -999,9,-999          ,9,     -999,9,     -999,9,     -999,     -999,9,     -999,     -999,9,     -999,9,     -999,9,     -999,9,     -999,9,     -999,9,     -999,9,     -999,9,     -999,9,     -999,9,     -999,9,     -999,9,     -999,9,     -999,9
320620180309  ,S04P       ,87      ,  1,28         ,28         ,2,20180423,1725, -67.0005,-121.0734,     4426,    236.1,1.6926485712442236320,34.528112746437152,2,  34.5266,2,193.47608778922890,2, 191.6010,2,    191.9,2,     75.4,2,    34.53,2,     0.00,2,     2.31,2,    1.472,2,    0.778,2,   0.7800,2,   2254.8,2,  2331.84,2,   7.5437,2,    24.87,     -999,9,     -999,9,   1.6931,2,     -999,9,     -999,9,     -999,     -999,9,     -999,9,     -999,9,     -999,9,    0.067,1,    4.643,1,    0.151,1,  23.0300,2,     -999,9,20180423,1913, -67.0005,-121.0733,     -999,9,     -999,9,-999          ,9,     -999,9,     -999,9,     -999,     -999,9,     -999,     -999,9,     -999,9,     -999,9,     -999,9,     -999,9,     -999,9,     -999,9,     -999,9,     -999,9,     -999,9,     -999,9,     -999,9,     -999,9,     -999,9
320620180309  ,S04P       ,87      ,  1,27         ,27         ,2,20180423,1725, -67.0005,-121.0734,     4426,    287.1,1.8393379750845948450,34.578468041861747,2,  34.5752,2,185.84131260483110,2, 185.5991,2,    184.5,2,     77.7,2,    34.22,2,     0.00,2,     2.29,2,     -999,9,     -999,9,     -999,9,   2252.2,2,  2336.46,2,   7.5481,2,    24.87,     -999,9,     -999,9,   1.8422,2,     -999,9,     -999,9,     -999,     -999,9,     -999,9,     -999,9,     -999,9,    0.066,1,    4.648,1,    0.154,1,     -999,9,     -999,9,20180423,1911, -67.0005,-121.0728,     -999,9,     -999,9,-999          ,9,     -999,9,     -999,9,     -999,     -999,9,     -999,     -999,9,     -999,9,     -999,9,     -999,9,     -999,9,     -999,9,     -999,9,     -999,9,     -999,9,     -999,9,     -999,9,     -999,9,     -999,9,     -999,9
320620180309  ,S04P       ,87      ,  1,26         ,38         ,2,20180423,1725, -67.0005,-121.0734,     4426,    338.8,1.9772940369021085871,34.626762320164232,2,  34.6250,2,178.59689792997295,2, 180.2994,2,    178.1,2,     80.6,2,    33.86,2,     0.00,2,     2.26,2,    0.715,2,    0.386,2,   0.2600,2,   2257.5,2,  2339.50,2,   7.5527,2,    24.88,     -999,9,     -999,9,   1.9772,2,     -999,9,     -999,9,     -999,     -999,9,     -999,9,     -999,9,     -999,9,    0.062,1,    4.651,1,    0.142,1,  22.5100,2,     -999,9,20180423,1909, -67.0006,-121.0722,     -999,9,     -999,9,-999          ,9,     -999,9,     -999,9,     -999,     -999,9,     -999,     -999,9,     -999,9,     -999,9,     -999,9,     -999,9,     -999,9,     -999,9,     -999,9,     -999,9,     -999,9,     -999,9,     -999,9,     -999,9,     -999,9
320620180309  ,S04P       ,87      ,  1,25         ,25         ,2,20180423,1725, -67.0005,-121.0734,     4426,    388.0,1.9999275082224661215,34.651911897365217,2,  34.6499,2,177.86305094660591,2, 179.2996,2,    177.4,2,     81.8,2,    33.49,2,     0.00,2,     2.25,2,     -999,9,     -999,9,     -999,9,   2257.7,6,  2345.67,2,   7.5608,2,    24.87,     -999,9,     -999,9,   1.9998,2,     -999,9,     -999,9,     -999,     -999,9,     -999,9,     -999,9,     -999,9,    0.064,1,    4.650,1,    0.146,1,     -999,9,     -999,9,20180423,1907, -67.0006,-121.0719,     -999,9,     -999,9,-999          ,9,     -999,9,     -999,9,     -999,     -999,9,     -999,     -999,9,     -999,9,     -999,9,     -999,9,     -999,9,     -999,9,     -999,9,     -999,9,     -999,9,     -999,9,     -999,9,     -999,9,     -999,9,     -999,9
320620180309  ,S04P       ,87      ,  1,24         ,24         ,2,20180423,1725, -67.0005,-121.0734,     4426,    438.8,2.0031082980557339823,34.671893052873237,2,  34.6711,2,178.46296813447978,2, 179.6001,2,    178.4,2,     82.8,2,    33.08,2,     0.00,2,     2.23,2,    0.481,2,    0.259,2,   0.2700,2,   2256.5,2,  2346.76,2,   7.5663,2,    24.87,     -999,9,     -999,9,   2.0032,2,     -999,9,     -999,9,     -999,     -999,9,     -999,9,     -999,9,     -999,9,    0.062,1,    4.650,1,    0.138,1,  21.3800,2,     -999,9,20180423,1905, -67.0006,-121.0717,     -999,9,     -999,9,-999          ,9,     -999,9,     -999,9,     -999,     -999,9,     -999,     -999,9,     -999,9,     -999,9,     -999,9,     -999,9,     -999,9,     -999,9,     -999,9,     -999,9,     -999,9,     -999,9,     -999,9,     -999,9,     -999,9
320620180309  ,S04P       ,87      ,  1,23         ,23         ,2,20180423,1725, -67.0005,-121.0734,     4426,    490.0,1.9895668331083868896,34.685789404516932,2,  34.6852,2,179.52699187339701,2, 180.1938,2,    180.4,2,     84.0,2,    32.80,2,     0.00,2,     2.21,2,     -999,9,     -999,9,     -999,9,     -999,9,     -999,9,     -999,9,     -999,     -999,9,     -999,9,   1.9903,2,     -999,9,     -999,9,     -999,     -999,9,     -999,9,     -999,9,     -999,9,    0.064,1,    4.652,1,    0.141,1,     -999,9,     -999,9,20180423,1903, -67.0005,-121.0721,     -999,9,     -999,9,-999          ,9,     -999,9,     -999,9,     -999,     -999,9,     -999,     -999,9,     -999,9,     -999,9,     -999,9,     -999,9,     -999,9,     -999,9,     -999,9,     -999,9,     -999,9,     -999,9,     -999,9,     -999,9,     -999,9
320620180309  ,S04P       ,87      ,  1,22         ,37         ,2,20180423,1725, -67.0005,-121.0734,     4426,    570.1,1.9481506642440746813,34.704298403825241,2,  34.7035,2,181.24191558928837,2, 181.3004,2,    182.0,2,     86.2,2,    32.43,2,     0.00,2,     2.17,2,    0.321,2,    0.171,2,   0.2000,2,   2256.5,2,  2347.32,2,   7.5770,2,    24.87,     -999,9,     -999,9,   1.9475,2,     -999,9,     -999,9,     -999,     -999,9,     -999,9,     -999,9,     -999,9,    0.062,1,    4.652,1,    0.141,1,  21.2800,2,     -999,9,20180423,1900, -67.0005,-121.0723,     -999,9,     -999,9,-999          ,9,     -999,9,     -999,9,     -999,     -999,9,     -999,     -999,9,     -999,9,     -999,9,     -999,9,     -999,9,     -999,9,     -999,9,     -999,9,     -999,9,     -999,9,     -999,9,     -999,9,     -999,9,     -999,9
320620180309  ,S04P       ,87      ,  1,21         ,21         ,2,20180423,1725, -67.0005,-121.0734,     4426,    672.1,1.8677199299750726347,34.717911448819819,2,  34.7166,2,184.48204020254849,2, 183.6037,2,    184.7,2,     88.5,2,    32.09,2,     0.00,2,     2.14,2,     -999,9,     -999,9,     -999,9,     -999,9,     -999,9,     -999,9,     -999,     -999,9,     -999,9,   1.8679,2,     -999,9,     -999,9,     -999,     -999,9,     -999,9,     -999,9,     -999,9,    0.063,1,    4.653,1,    0.140,1,     -999,9,     -999,9,20180423,1857, -67.0005,-121.0728,     -999,9,     -999,9,-999          ,9,     -999,9,     -999,9,     -999,     -999,9,     -999,     -999,9,     -999,9,     -999,9,     -999,9,     -999,9,     -999,9,     -999,9,     -999,9,     -999,9,     -999,9,     -999,9,     -999,9,     -999,9,     -999,9
320620180309  ,S04P       ,87      ,  1,20         ,20         ,2,20180423,1725, -67.0005,-121.0734,     4426,    774.1,1.7848138704229228324,34.725437713055712,2,  34.7243,2,186.49537032107676,2, 185.3979,2,    186.2,2,     91.0,2,    31.93,2,     0.00,2,     2.14,2,    0.244,2,    0.134,2,   0.0800,2,   2256.2,2,  2352.15,2,   7.5876,2,    24.86,     -999,9,     -999,9,   1.7850,2,     -999,9,     -999,9,     -999,     -999,9,     -999,9,     -999,9,     -999,9,    0.061,1,    4.653,1,    0.137,1,  19.9400,2,     -999,9,20180423,1854, -67.0005,-121.0732,     -999,9,     -999,9,-999          ,9,     -999,9,     -999,9,     -999,     -999,9,     -999,     -999,9,     -999,9,     -999,9,     -999,9,     -999,9,     -999,9,     -999,9,     -999,9,     -999,9,     -999,9,     -999,9,     -999,9,     -999,9,     -999,9
320620180309  ,S04P       ,87      ,  1,19         ,19         ,2,20180423,1725, -67.0005,-121.0734,     4426,    876.1,1.7047935772710569591,34.729885908401336,2,  34.7296,2,188.45414205043238,2, 187.2070,2,    188.2,2,     93.4,2,    31.81,2,     0.00,2,     2.13,2,     -999,9,     -999,9,     -999,9,     -999,9,     -999,9,     -999,9,     -999,     -999,9,     -999,9,   1.7015,2,     -999,9,     -999,9,     -999,     -999,9,     -999,9,     -999,9,     -999,9,    0.062,1,    4.654,1,    0.133,1,     -999,9,     -999,9,20180423,1852, -67.0004,-121.0734,     -999,9,     -999,9,-999          ,9,     -999,9,     -999,9,     -999,     -999,9,     -999,     -999,9,     -999,9,     -999,9,     -999,9,     -999,9,     -999,9,     -999,9,     -999,9,     -999,9,     -999,9,     -999,9,     -999,9,     -999,9,     -999,9
320620180309  ,S04P       ,87      ,  1,18         ,18         ,2,20180423,1725, -67.0005,-121.0734,     4426,    976.8,1.6058089275326232759,34.732555459967394,2,  34.7319,2,190.15600336743049,2, 189.4994,2,    190.3,2,     96.2,2,    31.74,2,     0.00,2,     2.14,2,    0.201,2,    0.102,2,   0.0400,2,   2255.8,2,  2358.16,2,   7.5950,2,    24.86,     -999,9,     -999,9,   1.6090,2,     -999,9,     -999,9,     -999,     -999,9,     -999,9,     -999,9,     -999,9,    0.062,1,    4.655,1,    0.141,1,  19.7800,2,     -999,9,20180423,1849, -67.0005,-121.0732,     -999,9,     -999,9,-999          ,9,     -999,9,     -999,9,     -999,     -999,9,     -999,     -999,9,     -999,9,     -999,9,     -999,9,     -999,9,     -999,9,     -999,9,     -999,9,     -999,9,     -999,9,     -999,9,     -999,9,     -999,9,     -999,9
320620180309  ,S04P       ,87      ,  1,17         ,17         ,2,20180423,1725, -67.0005,-121.0734,     4426,   1077.6,1.5321267321871938627,34.732719187042058,2,  34.7319,2,191.64417180585403,2, 190.9029,2,    191.6,2,     98.8,2,    31.80,2,     0.00,2,     2.13,2,     -999,9,     -999,9,     -999,9,     -999,9,     -999,9,     -999,9,     -999,     -999,9,     -999,9,   1.5318,2,     -999,9,     -999,9,     -999,     -999,9,     -999,9,     -999,9,     -999,9,    0.061,1,    4.650,1,    0.130,1,     -999,9,     -999,9,20180423,1846, -67.0005,-121.0729,     -999,9,     -999,9,-999          ,9,     -999,9,     -999,9,     -999,     -999,9,     -999,     -999,9,     -999,9,     -999,9,     -999,9,     -999,9,     -999,9,     -999,9,     -999,9,     -999,9,     -999,9,     -999,9,     -999,9,     -999,9,     -999,9
320620180309  ,S04P       ,87      ,  1,16         ,16         ,2,20180423,1725, -67.0005,-121.0734,     4426,   1179.1,1.4544220504624687518,34.731868966672707,2,  34.7314,2,193.25913020721075,2, 192.2000,2,    192.7,2,    101.3,2,    31.86,2,     0.00,2,     2.14,2,     -999,9,     -999,9,     -999,9,   2258.1,2,  2358.94,2,   7.5948,2,    24.86,     -999,9,     -999,9,   1.4542,2,     -999,9,     -999,9,     -999,     -999,9,     -999,9,     -999,9,     -999,9,    0.061,1,    4.657,1,    0.130,1,     -999,9,     -999,9,20180423,1842, -67.0005,-121.0726,     -999,9,     -999,9,-999          ,9,     -999,9,     -999,9,     -999,     -999,9,     -999,     -999,9,     -999,9,     -999,9,     -999,9,     -999,9,     -999,9,     -999,9,     -999,9,     -999,9,     -999,9,     -999,9,     -999,9,     -999,9,     -999,9