BOTTLE,20240515CCHHYDRO
EXPOCODE,SECT_ID,STNNBR,CASTNO,SAMPNO,BTLNBR,BTLNBR_FLAG_W,DATE,TIME,LATITUDE,LONGITUDE,DEPTH,CTDPRS,CTDTMP,CTDSAL,CTDSAL_FLAG_W,SALNTY,SALNTY_FLAG_W,CTDOXY,CTDOXY_FLAG_W,CTDOPTOXY,CTDOPTOXY_FLAG_W,OXYGEN,OXYGEN_FLAG_W,SILCAT,SILCAT_FLAG_W,NITRAT,NITRAT_FLAG_W,NITRIT,NITRIT_FLAG_W,PHSPHT,PHSPHT_FLAG_W,CFC-11,CFC-11_FLAG_W,CFC-12,CFC-12_FLAG_W,SF6,SF6_FLAG_W,TCARBN,TCARBN_FLAG_W,ALKALI,ALKALI_FLAG_W,PH_TOT,PH_TOT_FLAG_W,PH_TMP,DOC,DOC_FLAG_W,HELIUM,HELIUM_FLAG_W,REFTMP,REFTMP_FLAG_W,DELC13,DELC13_FLAG_W,DELC14,DELC14_FLAG_W,C14ERR,POC,POC_FLAG_W,TDN,TDN_FLAG_W,TON,TON_FLAG_W,NEON,NEON_FLAG_W,CTDFLUOR,CTDFLUOR_FLAG_W,CTDXMISS,CTDXMISS_FLAG_W,CTDBETA700,CTDBETA700_FLAG_W,N2O,N2O_FLAG_W,ARGON,ARGON_FLAG_W,BTL_DATE,BTL_TIME,BTL_LAT,BTL_LON,KRYPTON,KRYPTON_FLAG_W,XENON,XENON_FLAG_W,HPLC,HPLC_FLAG_W,HE3_HE4_RATIO,HE3_HE4_RATIO_FLAG_W,Nd_143_144_D_EPSILON_BOTTLE,Nd_143_144_D_EPSILON_BOTTLE_FLAG_W,Nd_143_144_D_EPSILON_BOTTLE_ERROR,Nd_143_144_D_RATIO_BOTTLE,Nd_143_144_D_RATIO_BOTTLE_FLAG_W,Nd_143_144_D_RATIO_BOTTLE_ERROR,Nd_D_CONC,Nd_D_CONC_FLAG_W,La_D_CONC_BOTTLE,La_D_CONC_BOTTLE_FLAG_W,Ce_D_CONC_BOTTLE,Ce_D_CONC_BOTTLE_FLAG_W,Pr_D_CONC_BOTTLE,Pr_D_CONC_BOTTLE_FLAG_W,Sm_D_CONC_BOTTLE,Sm_D_CONC_BOTTLE_FLAG_W,Eu_D_CONC_BOTTLE,Eu_D_CONC_BOTTLE_FLAG_W,Gd_D_CONC_BOTTLE,Gd_D_CONC_BOTTLE_FLAG_W,Tb_D_CONC_BOTTLE,Tb_D_CONC_BOTTLE_FLAG_W,Dy_D_CONC_BOTTLE,Dy_D_CONC_BOTTLE_FLAG_W,Ho_D_CONC_BOTTLE,Ho_D_CONC_BOTTLE_FLAG_W,Er_D_CONC_BOTTLE,Er_D_CONC_BOTTLE_FLAG_W,Tm_D_CONC_BOTTLE,Tm_D_CONC_BOTTLE_FLAG_W,Yb_D_CONC_BOTTLE,Yb_D_CONC_BOTTLE_FLAG_W,Lu_D_CONC_BOTTLE,Lu_D_CONC_BOTTLE_FLAG_W
,,,,,,,,,,,METERS,DBAR,ITS-90,PSS-78,,PSS-78,,UMOL/KG,,UMOL/KG,,UMOL/KG,,UMOL/KG,,UMOL/KG,,UMOL/KG,,UMOL/KG,,PMOL/KG,,PMOL/KG,,FMOL/KG,,UMOL/KG,,UMOL/KG,,,,DEG C,UMOL/KG,,NMOL/L,,DEG C,,/MILLE,,/MILLE,,/MILLE,UG/KG,,UMOL/KG,,UMOL/KG,,NMOL/L,,VOLTS,,VOLTS,,VOLTS,,NMOL/KG,,UMOL/L,,,,,,NMOL/L,,NMOL/L,,,,,,10000,,10000,,,,PMOL/KG,,PMOL/L,,PMOL/L,,PMOL/L,,PMOL/L,,PMOL/L,,PMOL/L,,PMOL/L,,PMOL/L,,PMOL/L,,PMOL/L,,PMOL/L,,PMOL/L,,PMOL/L,
320620180309  ,S04P       ,89      ,  1,15         ,15         ,2,20180425,0221, -67.0001,-117.7855,     4583,   1350.6,1.3921942553232196094,34.730325165024780,2,  34.7302,2,194.40619855869025,2, 194.6022,2,    194.8,2,    103.3,2,    31.82,2,     0.00,2,     2.16,2,     -999,5,     -999,5,     -999,5,   2260.3,2,  2360.89,2,   7.5967,2,    24.89,     -999,9,     -999,9,   1.3922,2,     -999,9,     -999,9,     -999,     -999,9,     -999,9,     -999,9,     -999,9,    0.061,1,    4.657,1,    0.128,1,     -999,5,     -999,9,20180425,0344, -67.0002,-117.7846,     -999,9,     -999,9,-999          ,9,     -999,9,     -999,9,     -999,     -999,9,     -999,     -999,9,     -999,1,     -999,1,     -999,1,     -999,1,     -999,1,     -999,1,     -999,1,     -999,1,     -999,1,     -999,1,     -999,1,     -999,1,     -999,1
320620180309  ,S04P       ,89      ,  1,14         ,14         ,2,20180425,0221, -67.0001,-117.7855,     4583,   1454.8,1.3212770073846875629,34.728473806372953,2,  34.7274,2,195.17763207348946,2, 195.6005,2,    195.4,2,    105.8,2,    31.89,2,     0.00,2,     2.15,2,     -999,9,     -999,9,     -999,9,   2258.8,2,  2361.30,2,   7.5973,2,    24.91,     -999,9,     -999,9,   1.3218,2,     -999,9,     -999,9,     -999,     -999,9,     -999,9,     -999,9,     -999,9,    0.061,1,    4.657,1,    0.129,1,     -999,9,     -999,9,20180425,0341, -67.0002,-117.7846,     -999,9,     -999,9,-999          ,9,     -999,9,     -999,9,     -999,     -999,9,     -999,     -999,9,     -999,9,     -999,9,     -999,9,     -999,9,     -999,9,     -999,9,     -999,9,     -999,9,     -999,9,     -999,9,     -999,9,     -999,9,     -999,9
320620180309  ,S04P       ,89      ,  1,13         ,13         ,2,20180425,0221, -67.0001,-117.7855,     4583,   1553.6,1.2569224025613712215,34.726689506121708,2,  34.7268,2,196.43175639607222,2, 196.5047,2,    196.6,2,    107.9,2,    31.93,2,     0.00,2,     2.15,2,    0.159,2,    0.082,2,   0.0300,2,     -999,9,     -999,9,     -999,9,     -999,     -999,9,     -999,1,   1.2577,2,     -999,9,     -999,9,     -999,     -999,9,     -999,9,     -999,9,     -999,1,    0.061,1,    4.657,1,    0.127,1,  19.4200,2,     -999,1,20180425,0338, -67.0000,-117.7848,     -999,1,     -999,1,-999          ,9,     -999,1,     -999,9,     -999,     -999,9,     -999,     -999,9,     -999,1,     -999,1,     -999,1,     -999,1,     -999,1,     -999,1,     -999,1,     -999,1,     -999,1,     -999,1,     -999,1,     -999,1,     -999,1
320620180309  ,S04P       ,89      ,  1,12         ,12         ,2,20180425,0221, -67.0001,-117.7855,     4583,   1687.8,1.1753545913232741338,34.724007101981492,2,  34.7264,2,198.00291606721885,2, 198.1037,2,    198.1,2,    110.2,2,    32.04,2,     0.00,2,     2.17,2,     -999,9,     -999,9,     -999,9,   2260.7,2,  2363.36,2,   7.5991,2,    24.90,     -999,9,     -999,9,   1.1759,2,     -999,9,     -999,9,     -999,     -999,9,     -999,9,     -999,9,     -999,9,    0.061,1,    4.658,1,    0.128,1,     -999,9,     -999,9,20180425,0334, -67.0000,-117.7849,     -999,9,     -999,9,-999          ,9,     -999,9,     -999,9,     -999,     -999,9,     -999,     -999,9,     -999,9,     -999,9,     -999,9,     -999,9,     -999,9,     -999,9,     -999,9,     -999,9,     -999,9,     -999,9,     -999,9,     -999,9,     -999,9
320620180309  ,S04P       ,89      ,  1,11         ,11         ,2,20180425,0221, -67.0001,-117.7855,     4583,   1891.5,1.0606485114716897034,34.719620069183776,2,  34.7200,2,200.59276397075192,2, 200.2991,2,    200.6,2,    114.0,2,    32.12,2,     0.00,2,     2.17,2,    0.147,2,    0.083,2,   0.0000,2,   2261.7,2,  2363.48,2,   7.5976,2,    24.90,     -999,9,     -999,9,   1.0605,2,     -999,9,     -999,9,     -999,     -999,9,     -999,9,     -999,9,     -999,9,    0.061,1,    4.658,1,    0.127,1,  19.1900,2,     -999,9,20180425,0329, -67.0001,-117.7847,     -999,9,     -999,9,-999          ,9,     -999,9,     -999,9,     -999,     -999,9,     -999,     -999,9,     -999,1,     -999,1,     -999,1,     -999,1,     -999,1,     -999,1,     -999,1,     -999,1,     -999,1,     -999,1,     -999,1,     -999,1,     -999,1
320620180309  ,S04P       ,89      ,  1,10         ,10         ,2,20180425,0221, -67.0001,-117.7855,     4583,   2114.7,0.9518391334522704472,34.715188480975456,2,  34.7151,2,202.00709062663068,2, 202.4004,2,    203.4,2,    118.4,2,    32.25,2,     0.00,2,     2.18,2,     -999,9,     -999,9,     -999,9,   2263.2,2,  2363.47,2,   7.5984,2,    24.88,     -999,9,     -999,1,   0.9510,2,     -999,9,     -999,9,     -999,     -999,9,     -999,9,     -999,9,     -999,1,    0.061,1,    4.658,1,    0.128,1,     -999,9,     -999,1,20180425,0324, -67.0006,-117.7841,     -999,1,     -999,1,-999          ,9,     -999,1,     -999,9,     -999,     -999,9,     -999,     -999,9,     -999,9,     -999,9,     -999,9,     -999,9,     -999,9,     -999,9,     -999,9,     -999,9,     -999,9,     -999,9,     -999,9,     -999,9,     -999,9
320620180309  ,S04P       ,89      ,  1,9          ,9          ,2,20180425,0221, -67.0001,-117.7855,     4583,   2371.4,0.8526934545356988915,34.711170780634411,2,  34.7107,2,204.32541081655313,2, 204.4983,2,    204.4,2,    122.0,2,    32.37,2,     0.00,2,     2.20,2,    0.175,2,    0.093,2,   0.0500,2,     -999,9,     -999,9,     -999,9,     -999,     -999,9,     -999,9,   0.8522,2,     -999,9,     -999,9,     -999,     -999,9,     -999,9,     -999,9,     -999,9,    0.061,1,    4.657,1,    0.127,1,  19.1300,2,     -999,9,20180425,0318, -67.0011,-117.7836,     -999,9,     -999,9,-999          ,9,     -999,9,     -999,9,     -999,     -999,9,     -999,     -999,9,     -999,1,     -999,1,     -999,1,     -999,1,     -999,1,     -999,1,     -999,1,     -999,1,     -999,1,     -999,1,     -999,1,     -999,1,     -999,1
320620180309  ,S04P       ,89      ,  1,8          ,8          ,2,20180425,0221, -67.0001,-117.7855,     4583,   2624.6,0.7661078538407434246,34.707764344227165,2,  34.7076,2,206.32174924199364,2, 206.0972,2,    205.7,2,    125.4,2,    32.50,2,     0.00,2,     2.20,2,     -999,9,     -999,9,     -999,9,     -999,9,     -999,9,     -999,9,     -999,     -999,9,     -999,9,   0.7659,2,     -999,9,     -999,9,     -999,     -999,9,     -999,9,     -999,9,     -999,9,    0.061,1,    4.658,1,    0.126,1,     -999,9,     -999,9,20180425,0312, -67.0010,-117.7836,     -999,9,     -999,9,-999          ,9,     -999,9,     -999,9,     -999,     -999,9,     -999,     -999,9,     -999,9,     -999,9,     -999,9,     -999,9,     -999,9,     -999,9,     -999,9,     -999,9,     -999,9,     -999,9,     -999,9,     -999,9,     -999,9
320620180309  ,S04P       ,89      ,  1,7          ,7          ,2,20180425,0221, -67.0001,-117.7855,     4583,   2882.9,0.6818912171122660792,34.705421689824895,2,  34.7053,2,208.22336887155313,2, 207.8018,2,    207.5,2,    127.5,2,    32.62,2,     0.00,2,     2.19,2,    0.222,2,    0.124,2,   0.0000,2,   2262.1,2,  2361.90,2,   7.5959,2,    24.90,     -999,9,     -999,1,   0.6818,2,     -999,9,     -999,9,     -999,     -999,9,     -999,9,     -999,9,     -999,1,    0.060,1,    4.657,1,    0.126,1,  18.9300,2,     -999,1,20180425,0307, -67.0006,-117.7841,     -999,1,     -999,1,-999          ,9,     -999,1,     -999,9,     -999,     -999,9,     -999,     -999,9,     -999,1,     -999,1,     -999,1,     -999,1,     -999,1,     -999,1,     -999,1,     -999,1,     -999,1,     -999,1,     -999,1,     -999,1,     -999,1
320620180309  ,S04P       ,89      ,  1,6          ,6          ,2,20180425,0221, -67.0001,-117.7855,     4583,   3154.2,0.5851435796299708780,34.703372933767831,2,  34.7031,2,209.97547079670275,2, 209.7988,2,    210.0,2,    129.4,2,    32.67,2,     0.00,2,     2.20,2,     -999,9,     -999,9,     -999,9,     -999,9,     -999,9,     -999,9,     -999,     -999,9,     -999,9,   0.5851,2,     -999,9,     -999,9,     -999,     -999,9,     -999,9,     -999,9,     -999,9,    0.060,1,    4.657,1,    0.125,1,     -999,9,     -999,9,20180425,0301, -67.0002,-117.7850,     -999,9,     -999,9,-999          ,9,     -999,9,     -999,9,     -999,     -999,9,     -999,     -999,9,     -999,9,     -999,9,     -999,9,     -999,9,     -999,9,     -999,9,     -999,9,     -999,9,     -999,9,     -999,9,     -999,9,     -999,9,     -999,9
320620180309  ,S04P       ,89      ,  1,5          ,5          ,2,20180425,0221, -67.0001,-117.7855,     4583,   3460.7,0.4934702795809931541,34.702141712404504,2,  34.7011,2,211.98467192078391,2, 211.7990,2,    211.5,2,    133.5,2,    32.78,2,     0.00,2,     2.24,2,    0.240,2,    0.132,2,   0.0100,2,     -999,9,     -999,9,     -999,9,     -999,     -999,9,     -999,1,   0.4934,2,     -999,9,     -999,9,     -999,     -999,9,     -999,9,     -999,9,     -999,1,    0.061,1,    4.657,1,    0.124,1,  18.6900,2,     -999,1,20180425,0254, -66.9997,-117.7861,     -999,1,     -999,1,-999          ,9,     -999,1,     -999,9,     -999,     -999,9,     -999,     -999,9,     -999,1,     -999,1,     -999,1,     -999,1,     -999,1,     -999,1,     -999,1,     -999,1,     -999,1,     -999,1,     -999,1,     -999,1,     -999,1
320620180309  ,S04P       ,89      ,  1,4          ,4          ,2,20180425,0221, -67.0001,-117.7855,     4583,   3770.4,0.4314362903842562380,34.701163123268373,2,  34.7007,2,213.59260805086845,2, 213.4936,2,    213.0,2,    136.3,2,    32.86,2,     0.00,2,     2.24,2,     -999,9,     -999,9,     -999,9,   2265.3,2,  2365.55,2,   7.5930,6,    24.89,     -999,9,     -999,9,   0.4317,2,     -999,9,     -999,9,     -999,     -999,9,     -999,9,     -999,9,     -999,9,    0.061,1,    4.657,1,    0.125,1,     -999,9,     -999,9,20180425,0247, -66.9998,-117.7859,     -999,9,     -999,9,-999          ,9,     -999,9,     -999,9,     -999,     -999,9,     -999,     -999,9,     -999,9,     -999,9,     -999,9,     -999,9,     -999,9,     -999,9,     -999,9,     -999,9,     -999,9,     -999,9,     -999,9,     -999,9,     -999,9
320620180309  ,S04P       ,89      ,  1,3          ,3          ,2,20180425,0221, -67.0001,-117.7855,     4583,   4079.2,0.3920720830060583362,34.699812843315605,2,  34.6986,2,215.24551371490745,2, 214.7970,2,    215.0,2,    137.5,2,    32.84,2,     0.00,2,     2.24,2,    0.372,2,    0.192,2,   0.1400,2,   2265.6,2,  2366.62,2,   7.5944,2,    24.89,     -999,9,     -999,1,   0.3920,2,     -999,9,     -999,9,     -999,     -999,9,     -999,9,     -999,9,     -999,1,    0.061,1,    4.656,1,    0.125,1,  18.9900,2,     -999,1,20180425,0239, -67.0003,-117.7852,     -999,1,     -999,1,-999          ,9,     -999,1,     -999,9,     -999,     -999,9,     -999,     -999,9,     -999,1,     -999,1,     -999,1,     -999,1,     -999,1,     -999,1,     -999,1,     -999,1,     -999,1,     -999,1,     -999,1,     -999,1,     -999,1
320620180309  ,S04P       ,89      ,  1,2          ,2          ,2,20180425,0221, -67.0001,-117.7855,     4583,   4387.5,0.3803915773499063624,34.699112777305892,2,  34.6978,2,216.07468262302905,2, 215.2995,2,    215.7,2,    140.8,2,    32.89,2,     0.00,2,     2.24,2,     -999,9,     -999,9,     -999,9,   2265.5,2,  2364.79,2,   7.5919,2,    24.89,     -999,9,     -999,1,   0.3804,2,     -999,9,     -999,9,     -999,     -999,9,     -999,9,     -999,9,     -999,1,    0.060,1,    4.654,1,    0.127,1,     -999,9,     -999,1,20180425,0231, -67.0003,-117.7852,     -999,1,     -999,1,-999          ,9,     -999,1,     -999,9,     -999,     -999,9,     -999,     -999,9,     -999,1,     -999,1,     -999,1,     -999,1,     -999,1,     -999,1,     -999,1,     -999,1,     -999,1,     -999,1,     -999,1,     -999,1,     -999,1
320620180309  ,S04P       ,89      ,  1,1          ,1          ,2,20180425,0221, -67.0001,-117.7855,     4583,   4668.9,0.3849767107377819464,34.698118215710444,2,  34.6978,2,215.09680200827805,2, 215.1998,2,    215.2,2,    145.8,2,    33.00,2,     0.00,2,     2.23,2,    0.505,2,    0.255,2,   0.1400,2,   2267.0,6,  2365.44,2,   7.5922,2,    24.87,     -999,9,     -999,1,   0.3848,2,     -999,9,     -999,9,     -999,     -999,9,     -999,9,     -999,9,     -999,1,    0.061,1,    4.641,1,    0.141,1,  18.5400,2,     -999,1,20180425,0221, -67.0001,-117.7855,     -999,1,     -999,1,-999          ,9,     -999,1,     -999,9,     -999,     -999,9,     -999,     -999,9,     -999,1,     -999,1,     -999,1,     -999,1,     -999,1,     -999,1,     -999,1,     -999,1,     -999,1,     -999,1,     -999,1,     -999,1,     -999,1