BOTTLE,20240515CCHHYDRO
EXPOCODE,SECT_ID,STNNBR,CASTNO,SAMPNO,BTLNBR,BTLNBR_FLAG_W,DATE,TIME,LATITUDE,LONGITUDE,DEPTH,CTDPRS,CTDTMP,CTDSAL,CTDSAL_FLAG_W,SALNTY,SALNTY_FLAG_W,CTDOXY,CTDOXY_FLAG_W,CTDOPTOXY,CTDOPTOXY_FLAG_W,OXYGEN,OXYGEN_FLAG_W,SILCAT,SILCAT_FLAG_W,NITRAT,NITRAT_FLAG_W,NITRIT,NITRIT_FLAG_W,PHSPHT,PHSPHT_FLAG_W,CFC-11,CFC-11_FLAG_W,CFC-12,CFC-12_FLAG_W,SF6,SF6_FLAG_W,TCARBN,TCARBN_FLAG_W,ALKALI,ALKALI_FLAG_W,PH_TOT,PH_TOT_FLAG_W,PH_TMP,DOC,DOC_FLAG_W,HELIUM,HELIUM_FLAG_W,REFTMP,REFTMP_FLAG_W,DELC13,DELC13_FLAG_W,DELC14,DELC14_FLAG_W,C14ERR,POC,POC_FLAG_W,TDN,TDN_FLAG_W,TON,TON_FLAG_W,NEON,NEON_FLAG_W,CTDFLUOR,CTDFLUOR_FLAG_W,CTDXMISS,CTDXMISS_FLAG_W,CTDBETA700,CTDBETA700_FLAG_W,N2O,N2O_FLAG_W,ARGON,ARGON_FLAG_W,BTL_DATE,BTL_TIME,BTL_LAT,BTL_LON,KRYPTON,KRYPTON_FLAG_W,XENON,XENON_FLAG_W,HPLC,HPLC_FLAG_W,HE3_HE4_RATIO,HE3_HE4_RATIO_FLAG_W,Nd_143_144_D_EPSILON_BOTTLE,Nd_143_144_D_EPSILON_BOTTLE_FLAG_W,Nd_143_144_D_EPSILON_BOTTLE_ERROR,Nd_143_144_D_RATIO_BOTTLE,Nd_143_144_D_RATIO_BOTTLE_FLAG_W,Nd_143_144_D_RATIO_BOTTLE_ERROR,Nd_D_CONC,Nd_D_CONC_FLAG_W,La_D_CONC_BOTTLE,La_D_CONC_BOTTLE_FLAG_W,Ce_D_CONC_BOTTLE,Ce_D_CONC_BOTTLE_FLAG_W,Pr_D_CONC_BOTTLE,Pr_D_CONC_BOTTLE_FLAG_W,Sm_D_CONC_BOTTLE,Sm_D_CONC_BOTTLE_FLAG_W,Eu_D_CONC_BOTTLE,Eu_D_CONC_BOTTLE_FLAG_W,Gd_D_CONC_BOTTLE,Gd_D_CONC_BOTTLE_FLAG_W,Tb_D_CONC_BOTTLE,Tb_D_CONC_BOTTLE_FLAG_W,Dy_D_CONC_BOTTLE,Dy_D_CONC_BOTTLE_FLAG_W,Ho_D_CONC_BOTTLE,Ho_D_CONC_BOTTLE_FLAG_W,Er_D_CONC_BOTTLE,Er_D_CONC_BOTTLE_FLAG_W,Tm_D_CONC_BOTTLE,Tm_D_CONC_BOTTLE_FLAG_W,Yb_D_CONC_BOTTLE,Yb_D_CONC_BOTTLE_FLAG_W,Lu_D_CONC_BOTTLE,Lu_D_CONC_BOTTLE_FLAG_W
,,,,,,,,,,,METERS,DBAR,ITS-90,PSS-78,,PSS-78,,UMOL/KG,,UMOL/KG,,UMOL/KG,,UMOL/KG,,UMOL/KG,,UMOL/KG,,UMOL/KG,,PMOL/KG,,PMOL/KG,,FMOL/KG,,UMOL/KG,,UMOL/KG,,,,DEG C,UMOL/KG,,NMOL/L,,DEG C,,/MILLE,,/MILLE,,/MILLE,UG/KG,,UMOL/KG,,UMOL/KG,,NMOL/L,,VOLTS,,VOLTS,,VOLTS,,NMOL/KG,,UMOL/L,,,,,,NMOL/L,,NMOL/L,,,,,,10000,,10000,,,,PMOL/KG,,PMOL/L,,PMOL/L,,PMOL/L,,PMOL/L,,PMOL/L,,PMOL/L,,PMOL/L,,PMOL/L,,PMOL/L,,PMOL/L,,PMOL/L,,PMOL/L,,PMOL/L,
320620180309  ,P15        ,15      ,  1,36         ,36         ,2,20180323,0455, -68.4986,-169.9979,     4139,      2.4,-0.8538694444444443477,34.021496441806697,2,  34.0201,2,336.51071451612137,2, 331.1984,3,    339.3,2,     51.4,2,    25.56,2,     0.17,2,     1.75,2,     -999,9,     -999,9,     -999,9,   2187.7,6,  2305.72,2,   7.6600,2,    24.92,     -999,9,     -999,9,  -1.5215,3,1.21000000,2, -123.300,2,    0.002,     -999,9,     -999,9,     -999,9,     -999,9,    0.187,1,    4.562,1,    0.221,1,     -999,9,     -999,9,20180323,0703, -68.4985,-169.9983,     -999,9,     -999,9,-999          ,9,     -999,9,     -999,9,     -999,     -999,9,     -999,     -999,9,     -999,9,     -999,9,     -999,9,     -999,9,     -999,9,     -999,9,     -999,9,     -999,9,     -999,9,     -999,9,     -999,9,     -999,9,     -999,9
320620180309  ,P15        ,15      ,  1,35         ,35         ,2,20180323,0455, -68.4986,-169.9979,     4139,     19.2,-0.8897666666666668167,34.021579462216572,2,  34.0207,2,337.04132498709498,2, 338.5955,2,    339.5,2,     51.9,2,    25.58,2,     0.17,2,     1.74,2,     -999,9,     -999,9,     -999,9,   2188.0,2,  2298.87,2,   7.6605,2,    24.92,     -999,9,     -999,9,  -0.8897,2,     -999,9,     -999,9,     -999,     -999,9,     -999,9,     -999,9,     -999,9,    0.190,1,    4.559,1,    0.226,1,     -999,9,     -999,9,20180323,0702, -68.4985,-169.9984,     -999,9,     -999,9,-999          ,9,     -999,9,     -999,9,     -999,     -999,9,     -999,     -999,9,     -999,9,     -999,9,     -999,9,     -999,9,     -999,9,     -999,9,     -999,9,     -999,9,     -999,9,     -999,9,     -999,9,     -999,9,     -999,9
320620180309  ,P15        ,15      ,  1,34         ,34         ,2,20180323,0455, -68.4986,-169.9979,     4139,     41.2,-0.8894861111111109775,34.021303803682279,2,  34.0199,2,338.45334347479769,2, 338.8961,2,    339.3,2,     51.9,2,    25.56,2,     0.17,2,     1.76,2,     -999,9,     -999,9,     -999,9,   2187.8,2,  2308.50,2,   7.6627,2,    24.91,     -999,9,     -999,9,  -0.8900,2,     -999,9,     -999,9,     -999,     -999,9,     -999,9,     -999,9,     -999,9,    0.216,1,    4.562,1,    0.229,1,     -999,9,     -999,9,20180323,0701, -68.4984,-169.9984,     -999,9,     -999,9,-999          ,9,     -999,9,     -999,9,     -999,     -999,9,     -999,     -999,9,     -999,9,     -999,9,     -999,9,     -999,9,     -999,9,     -999,9,     -999,9,     -999,9,     -999,9,     -999,9,     -999,9,     -999,9,     -999,9
320620180309  ,P15        ,15      ,  1,33         ,33         ,2,20180323,0455, -68.4986,-169.9979,     4139,     64.4,-0.8938749999999999751,34.024503891459290,2,  34.0218,2,339.85193502903297,2, 339.2026,2,    338.1,2,     52.3,2,    25.59,2,     0.17,2,     1.76,2,     -999,9,     -999,9,     -999,9,   2190.5,2,  2306.23,2,   7.6602,2,    24.93,     -999,9,     -999,9,  -0.8949,2,1.21000000,2, -122.190,2,    0.002,     -999,9,     -999,9,     -999,9,     -999,9,    0.193,1,    4.585,1,    0.197,1,     -999,9,     -999,9,20180323,0659, -68.4984,-169.9985,     -999,9,     -999,9,-999          ,9,     -999,9,     -999,9,     -999,     -999,9,     -999,     -999,9,     -999,9,     -999,9,     -999,9,     -999,9,     -999,9,     -999,9,     -999,9,     -999,9,     -999,9,     -999,9,     -999,9,     -999,9,     -999,9
320620180309  ,P15        ,15      ,  1,32         ,32         ,2,20180323,0455, -68.4986,-169.9979,     4139,     89.0,-1.4509583333333333499,34.286510677604817,2,  34.3026,2,281.95279920717502,2, 282.4015,2,    282.4,2,     69.9,2,    30.12,2,     0.14,2,     2.09,2,     -999,9,     -999,9,     -999,9,   2224.1,2,  2319.55,2,   7.5981,2,    24.92,     -999,9,     -999,9,  -1.4537,2,0.84000000,2, -131.640,2,    0.002,     -999,9,     -999,9,     -999,9,     -999,9,    0.099,1,    4.644,1,    0.179,1,     -999,9,     -999,9,20180323,0657, -68.4984,-169.9985,     -999,9,     -999,9,-999          ,9,     -999,9,     -999,9,     -999,     -999,9,     -999,     -999,9,     -999,9,     -999,9,     -999,9,     -999,9,     -999,9,     -999,9,     -999,9,     -999,9,     -999,9,     -999,9,     -999,9,     -999,9,     -999,9
320620180309  ,P15        ,15      ,  1,31         ,31         ,2,20180323,0455, -68.4986,-169.9979,     4139,    115.5,-0.5649194444444444185,34.435307847341534,2,  34.4464,2,246.42914607238879,2, 244.7971,2,    245.1,2,     77.3,2,    31.55,2,     0.04,2,     2.14,2,     -999,9,     -999,9,     -999,9,   2237.9,2,  2330.49,2,   7.5800,2,    24.92,     -999,9,     -999,9,  -0.5873,2,0.71000000,2, -135.060,2,    0.002,     -999,9,     -999,9,     -999,9,     -999,9,    0.080,1,    4.656,1,    0.158,1,     -999,9,     -999,9,20180323,0656, -68.4984,-169.9984,     -999,9,     -999,9,-999          ,9,     -999,9,     -999,9,     -999,     -999,9,     -999,     -999,9,     -999,9,     -999,9,     -999,9,     -999,9,     -999,9,     -999,9,     -999,9,     -999,9,     -999,9,     -999,9,     -999,9,     -999,9,     -999,9
320620180309  ,P15        ,15      ,  1,30         ,30         ,2,20180323,0455, -68.4986,-169.9979,     4139,    141.5,0.1729722222222221939,34.522417557429513,2,  34.5207,2,223.84682032348636,2, 215.0034,3,    224.8,2,     81.7,2,    31.98,2,     0.03,2,     2.18,2,     -999,9,     -999,9,     -999,9,   2245.6,2,  2334.60,2,   7.5727,2,    24.91,     -999,9,     -999,9,   0.1640,2,0.62000000,2, -142.680,2,    0.002,     -999,9,     -999,9,     -999,9,     -999,9,    0.076,1,    4.661,1,    0.159,1,     -999,9,     -999,9,20180323,0654, -68.4985,-169.9983,     -999,9,     -999,9,-999          ,9,     -999,9,     -999,9,     -999,     -999,9,     -999,     -999,9,     -999,9,     -999,9,     -999,9,     -999,9,     -999,9,     -999,9,     -999,9,     -999,9,     -999,9,     -999,9,     -999,9,     -999,9,     -999,9
320620180309  ,P15        ,15      ,  1,29         ,29         ,2,20180323,0455, -68.4986,-169.9979,     4139,    185.3,1.3008555555555556538,34.669042329542371,2,  34.6686,2,192.72094178304471,2, 191.9012,2,    191.2,2,     89.4,2,    32.37,2,     0.02,2,     2.21,2,     -999,9,     -999,9,     -999,9,     -999,9,     -999,9,     -999,9,     -999,     -999,9,     -999,9,   1.2999,2,0.51000000,2, -148.940,2,    0.002,     -999,9,     -999,9,     -999,9,     -999,9,    0.071,1,    4.664,1,    0.189,1,     -999,9,     -999,9,20180323,0652, -68.4986,-169.9981,     -999,9,     -999,9,-999          ,9,     -999,9,     -999,9,     -999,     -999,9,     -999,     -999,9,     -999,9,     -999,9,     -999,9,     -999,9,     -999,9,     -999,9,     -999,9,     -999,9,     -999,9,     -999,9,     -999,9,     -999,9,     -999,9
320620180309  ,P15        ,15      ,  1,28         ,28         ,2,20180323,0455, -68.4986,-169.9979,     4139,    237.5,1.4682972222222219205,34.705355172578727,2,  34.7031,2,189.93744537246855,3, 189.2016,2,    187.7,2,     92.2,2,    32.12,2,     0.01,2,     2.19,2,     -999,9,     -999,9,     -999,9,   2258.1,2,  2349.40,2,   7.5721,2,    24.92,     -999,9,     -999,9,   1.4663,2,0.55000000,2, -150.500,2,    0.002,     -999,9,     -999,9,     -999,9,     -999,9,    0.068,1,    4.667,1,    0.152,1,     -999,9,     -999,9,20180323,0649, -68.4987,-169.9981,     -999,9,     -999,9,-999          ,9,     -999,9,     -999,9,     -999,     -999,9,     -999,     -999,9,     -999,9,     -999,9,     -999,9,     -999,9,     -999,9,     -999,9,     -999,9,     -999,9,     -999,9,     -999,9,     -999,9,     -999,9,     -999,9
320620180309  ,P15        ,15      ,  1,27         ,27         ,2,20180323,0455, -68.4986,-169.9979,     4139,    286.9,1.4528000000000005354,34.714768867180801,2,  34.7125,2,191.07660716030341,2, 189.6951,2,    189.9,2,     93.7,2,    31.89,2,     0.00,2,     2.17,2,     -999,9,     -999,9,     -999,9,   2258.2,6,  2351.03,2,   7.5800,2,    24.91,     -999,9,     -999,9,   1.4524,2,0.58000000,2, -149.240,2,    0.002,     -999,9,     -999,9,     -999,9,     -999,9,    0.066,1,    4.669,1,    0.148,1,     -999,9,     -999,9,20180323,0647, -68.4988,-169.9980,     -999,9,     -999,9,-999          ,9,     -999,9,     -999,9,     -999,     -999,9,     -999,     -999,9,     -999,9,     -999,9,     -999,9,     -999,9,     -999,9,     -999,9,     -999,9,     -999,9,     -999,9,     -999,9,     -999,9,     -999,9,     -999,9
320620180309  ,P15        ,15      ,  1,26         ,26         ,2,20180323,0455, -68.4986,-169.9979,     4139,    336.2,1.4312277777777779875,34.718972785395017,2,  34.7168,2,191.26265392659468,2, 190.2025,2,    190.3,2,     95.3,2,    31.79,2,     0.00,2,     2.17,2,     -999,9,     -999,9,     -999,9,   2256.4,2,  2351.03,2,   7.5802,6,    24.92,     -999,9,     -999,9,   1.4310,2,0.56000000,2, -147.550,2,    0.002,     -999,9,     -999,9,     -999,9,     -999,9,    0.065,1,    4.671,1,    0.148,1,     -999,9,     -999,9,20180323,0645, -68.4989,-169.9980,     -999,9,     -999,9,-999          ,9,     -999,9,     -999,9,     -999,     -999,9,     -999,     -999,9,     -999,9,     -999,9,     -999,9,     -999,9,     -999,9,     -999,9,     -999,9,     -999,9,     -999,9,     -999,9,     -999,9,     -999,9,     -999,9
320620180309  ,P15        ,15      ,  1,25         ,25         ,2,20180323,0455, -68.4986,-169.9979,     4139,    388.7,1.4080888888888889454,34.722439188851972,2,  34.7208,2,191.69792107956906,2, 190.4973,2,    190.5,2,     96.8,2,    31.74,2,     0.00,2,     2.18,2,     -999,9,     -999,9,     -999,9,     -999,9,     -999,9,     -999,9,     -999,     -999,9,     -999,9,   1.4074,2,0.52000000,2, -153.020,2,    0.002,     -999,9,     -999,9,     -999,9,     -999,9,    0.066,1,    4.673,1,    0.148,1,     -999,9,     -999,9,20180323,0642, -68.4989,-169.9980,     -999,9,     -999,9,-999          ,9,     -999,9,     -999,9,     -999,     -999,9,     -999,     -999,9,     -999,9,     -999,9,     -999,9,     -999,9,     -999,9,     -999,9,     -999,9,     -999,9,     -999,9,     -999,9,     -999,9,     -999,9,     -999,9
320620180309  ,P15        ,15      ,  1,24         ,24         ,2,20180323,0455, -68.4986,-169.9979,     4139,    439.0,1.3732833333333329673,34.724369197182838,2,  34.7231,2,192.62711634941755,2, 191.1942,2,    192.2,2,     98.4,2,    31.65,2,     0.00,2,     2.17,2,     -999,9,     -999,9,     -999,9,   2257.4,2,  2354.18,2,   7.5853,2,    24.91,     -999,9,     -999,9,   1.3725,2,     -999,9,     -999,9,     -999,     -999,9,     -999,9,     -999,9,     -999,9,    0.065,1,    4.672,1,    0.181,1,     -999,9,     -999,9,20180323,0640, -68.4988,-169.9980,     -999,9,     -999,9,-999          ,9,     -999,9,     -999,9,     -999,     -999,9,     -999,     -999,9,     -999,9,     -999,9,     -999,9,     -999,9,     -999,9,     -999,9,     -999,9,     -999,9,     -999,9,     -999,9,     -999,9,     -999,9,     -999,9
320620180309  ,P15        ,15      ,  1,23         ,23         ,2,20180323,0455, -68.4986,-169.9979,     4139,    487.2,1.3489083333333331538,34.725676659846897,2,  34.7247,2,193.16137196270483,2, 191.5022,2,    191.5,2,    100.3,2,    31.75,2,     0.00,2,     2.16,2,     -999,9,     -999,9,     -999,9,     -999,9,     -999,9,     -999,9,     -999,     -999,9,     -999,9,   1.3487,2,0.53000000,2, -150.200,2,    0.002,     -999,9,     -999,9,     -999,9,     -999,9,    0.064,1,    4.670,1,    0.143,1,     -999,9,     -999,9,20180323,0638, -68.4988,-169.9981,     -999,9,     -999,9,-999          ,9,     -999,9,     -999,9,     -999,     -999,9,     -999,     -999,9,     -999,9,     -999,9,     -999,9,     -999,9,     -999,9,     -999,9,     -999,9,     -999,9,     -999,9,     -999,9,     -999,9,     -999,9,     -999,9
320620180309  ,P15        ,15      ,  1,22         ,22         ,2,20180323,0455, -68.4986,-169.9979,     4139,    570.4,1.3033027777777776990,34.726274105591251,2,  34.7219,2,192.45390702688485,2, 192.4030,2,    191.9,2,    102.8,2,    31.80,2,     0.00,2,     2.16,2,     -999,9,     -999,9,     -999,9,   2261.4,2,  2353.15,2,   7.5881,6,    24.92,     -999,9,     -999,9,   1.3023,2,0.51000000,2, -154.800,2,    0.002,     -999,9,     -999,9,     -999,9,     -999,9,    0.065,1,    4.676,1,    0.142,1,     -999,9,     -999,9,20180323,0635, -68.4987,-169.9981,     -999,9,     -999,9,-999          ,9,     -999,9,     -999,9,     -999,     -999,9,     -999,     -999,9,     -999,9,     -999,9,     -999,9,     -999,9,     -999,9,     -999,9,     -999,9,     -999,9,     -999,9,     -999,9,     -999,9,     -999,9,     -999,9
320620180309  ,P15        ,15      ,  1,21         ,21         ,2,20180323,0455, -68.4986,-169.9979,     4139,    671.8,1.2293166666666668352,34.725633467418938,2,  34.7225,2,194.71186941374845,3, 193.6943,2,    192.7,2,    105.9,2,    31.89,2,     0.00,2,     2.19,2,     -999,9,     -999,9,     -999,9,     -999,9,     -999,9,     -999,9,     -999,     -999,9,     -999,9,   1.2279,2,0.56000000,2, -159.820,2,    0.002,     -999,9,     -999,9,     -999,9,     -999,9,    0.062,1,    4.678,1,    0.136,1,     -999,9,     -999,9,20180323,0631, -68.4986,-169.9982,     -999,9,     -999,9,-999          ,9,     -999,9,     -999,9,     -999,     -999,9,     -999,     -999,9,     -999,9,     -999,9,     -999,9,     -999,9,     -999,9,     -999,9,     -999,9,     -999,9,     -999,9,     -999,9,     -999,9,     -999,9,     -999,9
320620180309  ,P15        ,15      ,  1,20         ,20         ,2,20180323,0455, -68.4986,-169.9979,     4139,    772.8,1.1591805555555554363,34.723913567590685,2,  34.7225,2,194.91517335495351,2, 194.8952,2,    194.5,2,    108.4,2,    31.91,2,     0.00,2,     2.18,2,     -999,9,     -999,9,     -999,9,   2261.4,2,  2359.03,2,   7.5904,2,    24.91,     -999,9,     -999,9,   1.1582,2,0.58000000,2, -156.250,2,    0.002,     -999,9,     -999,9,     -999,9,     -999,9,    0.063,1,    4.679,1,    0.139,1,     -999,9,     -999,9,20180323,0628, -68.4985,-169.9982,     -999,9,     -999,9,-999          ,9,     -999,9,     -999,9,     -999,     -999,9,     -999,     -999,9,     -999,9,     -999,9,     -999,9,     -999,9,     -999,9,     -999,9,     -999,9,     -999,9,     -999,9,     -999,9,     -999,9,     -999,9,     -999,9
320620180309  ,P15        ,15      ,  1,19         ,19         ,2,20180323,0455, -68.4986,-169.9979,     4139,    873.1,1.0879333333333331968,34.721542196967938,2,  34.7202,2,196.24824587291494,2, 196.2988,2,    196.2,2,    110.4,2,    31.91,2,     0.00,2,     2.19,2,     -999,9,     -999,9,     -999,9,     -999,9,     -999,9,     -999,9,     -999,     -999,9,     -999,9,   1.0878,2,0.56000000,2, -156.560,2,    0.002,     -999,9,     -999,9,     -999,9,     -999,9,    0.062,1,    4.679,1,    0.134,1,     -999,9,     -999,9,20180323,0625, -68.4986,-169.9982,     -999,9,     -999,9,-999          ,9,     -999,9,     -999,9,     -999,     -999,9,     -999,     -999,9,     -999,9,     -999,9,     -999,9,     -999,9,     -999,9,     -999,9,     -999,9,     -999,9,     -999,9,     -999,9,     -999,9,     -999,9,     -999,9
320620180309  ,P15        ,15      ,  1,18         ,18         ,2,20180323,0455, -68.4986,-169.9979,     4139,    976.0,1.0198055555555560758,34.719307492912542,2,  34.7190,2,196.76506971449555,2, 197.3016,2,    197.7,2,    112.9,2,    31.98,2,     0.00,2,     2.18,2,     -999,9,     -999,9,     -999,9,   2262.3,2,  2361.18,2,   7.5924,2,    24.92,     -999,9,     -999,9,   1.0190,2,0.57000000,2, -158.900,2,    0.003,     -999,9,     -999,9,     -999,9,     -999,9,    0.061,1,    4.679,1,    0.132,1,     -999,9,     -999,9,20180323,0621, -68.4986,-169.9982,     -999,9,     -999,9,-999          ,9,     -999,9,     -999,9,     -999,     -999,9,     -999,     -999,9,     -999,9,     -999,9,     -999,9,     -999,9,     -999,9,     -999,9,     -999,9,     -999,9,     -999,9,     -999,9,     -999,9,     -999,9,     -999,9
320620180309  ,P15        ,15      ,  1,17         ,17         ,2,20180323,0455, -68.4986,-169.9979,     4139,   1076.8,0.9632305555555554788,34.717009958299194,2,  34.7155,2,199.38770810371236,2, 198.8024,2,    198.7,2,    114.9,2,    31.99,2,     0.00,2,     2.18,2,    0.159,2,    0.084,2,   0.0100,2,     -999,9,     -999,9,     -999,9,     -999,     -999,9,     -999,9,   0.9622,2,0.54500000,6, -160.870,6,    0.003,     -999,9,     -999,9,     -999,9,     -999,9,    0.061,1,    4.681,1,    0.130,1,  21.7600,2,     -999,9,20180323,0618, -68.4986,-169.9982,     -999,9,     -999,9,-999          ,9,     -999,9,     -999,9,     -999,     -999,9,     -999,     -999,9,     -999,9,     -999,9,     -999,9,     -999,9,     -999,9,     -999,9,     -999,9,     -999,9,     -999,9,     -999,9,     -999,9,     -999,9,     -999,9
320620180309  ,P15        ,15      ,  1,16         ,16         ,2,20180323,0455, -68.4986,-169.9979,     4139,   1179.2,0.9051111111111111995,34.714668175196962,2,  34.7133,2,200.87215110023851,2, 199.6081,2,    200.3,2,    117.0,2,    32.06,2,     0.00,2,     2.19,2,     -999,9,     -999,9,     -999,9,   2263.2,2,  2363.97,2,   7.5924,2,    24.91,     -999,9,     -999,9,   0.9044,2,0.41000000,2, -160.760,2,    0.002,     -999,9,     -999,9,     -999,9,     -999,9,    0.061,1,    4.682,1,    0.130,1,     -999,9,     -999,9,20180323,0615, -68.4986,-169.9982,     -999,9,     -999,9,-999          ,9,     -999,9,     -999,9,     -999,     -999,9,     -999,     -999,9,     -999,9,     -999,9,     -999,9,     -999,9,     -999,9,     -999,9,     -999,9,     -999,9,     -999,9,     -999,9,     -999,9,     -999,9,     -999,9