BOTTLE,20240515CCHHYDRO
EXPOCODE,SECT_ID,STNNBR,CASTNO,SAMPNO,BTLNBR,BTLNBR_FLAG_W,DATE,TIME,LATITUDE,LONGITUDE,DEPTH,CTDPRS,CTDTMP,CTDSAL,CTDSAL_FLAG_W,SALNTY,SALNTY_FLAG_W,CTDOXY,CTDOXY_FLAG_W,CTDOPTOXY,CTDOPTOXY_FLAG_W,OXYGEN,OXYGEN_FLAG_W,SILCAT,SILCAT_FLAG_W,NITRAT,NITRAT_FLAG_W,NITRIT,NITRIT_FLAG_W,PHSPHT,PHSPHT_FLAG_W,CFC-11,CFC-11_FLAG_W,CFC-12,CFC-12_FLAG_W,SF6,SF6_FLAG_W,TCARBN,TCARBN_FLAG_W,ALKALI,ALKALI_FLAG_W,PH_TOT,PH_TOT_FLAG_W,PH_TMP,DOC,DOC_FLAG_W,HELIUM,HELIUM_FLAG_W,REFTMP,REFTMP_FLAG_W,DELC13,DELC13_FLAG_W,DELC14,DELC14_FLAG_W,C14ERR,POC,POC_FLAG_W,TDN,TDN_FLAG_W,TON,TON_FLAG_W,NEON,NEON_FLAG_W,CTDFLUOR,CTDFLUOR_FLAG_W,CTDXMISS,CTDXMISS_FLAG_W,CTDBETA700,CTDBETA700_FLAG_W,N2O,N2O_FLAG_W,ARGON,ARGON_FLAG_W,BTL_DATE,BTL_TIME,BTL_LAT,BTL_LON,KRYPTON,KRYPTON_FLAG_W,XENON,XENON_FLAG_W,HPLC,HPLC_FLAG_W,HE3_HE4_RATIO,HE3_HE4_RATIO_FLAG_W,Nd_143_144_D_EPSILON_BOTTLE,Nd_143_144_D_EPSILON_BOTTLE_FLAG_W,Nd_143_144_D_EPSILON_BOTTLE_ERROR,Nd_143_144_D_RATIO_BOTTLE,Nd_143_144_D_RATIO_BOTTLE_FLAG_W,Nd_143_144_D_RATIO_BOTTLE_ERROR,Nd_D_CONC,Nd_D_CONC_FLAG_W,La_D_CONC_BOTTLE,La_D_CONC_BOTTLE_FLAG_W,Ce_D_CONC_BOTTLE,Ce_D_CONC_BOTTLE_FLAG_W,Pr_D_CONC_BOTTLE,Pr_D_CONC_BOTTLE_FLAG_W,Sm_D_CONC_BOTTLE,Sm_D_CONC_BOTTLE_FLAG_W,Eu_D_CONC_BOTTLE,Eu_D_CONC_BOTTLE_FLAG_W,Gd_D_CONC_BOTTLE,Gd_D_CONC_BOTTLE_FLAG_W,Tb_D_CONC_BOTTLE,Tb_D_CONC_BOTTLE_FLAG_W,Dy_D_CONC_BOTTLE,Dy_D_CONC_BOTTLE_FLAG_W,Ho_D_CONC_BOTTLE,Ho_D_CONC_BOTTLE_FLAG_W,Er_D_CONC_BOTTLE,Er_D_CONC_BOTTLE_FLAG_W,Tm_D_CONC_BOTTLE,Tm_D_CONC_BOTTLE_FLAG_W,Yb_D_CONC_BOTTLE,Yb_D_CONC_BOTTLE_FLAG_W,Lu_D_CONC_BOTTLE,Lu_D_CONC_BOTTLE_FLAG_W
,,,,,,,,,,,METERS,DBAR,ITS-90,PSS-78,,PSS-78,,UMOL/KG,,UMOL/KG,,UMOL/KG,,UMOL/KG,,UMOL/KG,,UMOL/KG,,UMOL/KG,,PMOL/KG,,PMOL/KG,,FMOL/KG,,UMOL/KG,,UMOL/KG,,,,DEG C,UMOL/KG,,NMOL/L,,DEG C,,/MILLE,,/MILLE,,/MILLE,UG/KG,,UMOL/KG,,UMOL/KG,,NMOL/L,,VOLTS,,VOLTS,,VOLTS,,NMOL/KG,,UMOL/L,,,,,,NMOL/L,,NMOL/L,,,,,,10000,,10000,,,,PMOL/KG,,PMOL/L,,PMOL/L,,PMOL/L,,PMOL/L,,PMOL/L,,PMOL/L,,PMOL/L,,PMOL/L,,PMOL/L,,PMOL/L,,PMOL/L,,PMOL/L,,PMOL/L,
320620180309  ,S04P       ,65      ,  1,36         ,36         ,2,20180414,0022, -66.9997,-153.7663,     4087,      8.8,-1.5637638888888887312,33.749563513441451,2,  33.7450,2,349.74943218599765,2, 350.2959,2,    351.7,2,     50.8,2,    24.18,2,     0.16,2,     1.77,2,    7.129,2,    3.483,2,   3.9200,3,   2174.4,6,  2288.35,2,   7.6591,2,    24.89,     -999,9,     -999,9,  -1.5661,2,     -999,9,     -999,9,     -999,     -999,9,     -999,9,     -999,9,     -999,9,    0.167,1,    4.610,1,    0.173,1,  17.0300,2,     -999,9,20180414,0234, -67.0002,-153.7651,     -999,9,     -999,9,-999          ,9,     -999,9,     -999,9,     -999,     -999,9,     -999,     -999,9,     -999,1,     -999,1,     -999,1,     -999,1,     -999,1,     -999,1,     -999,1,     -999,1,     -999,1,     -999,1,     -999,1,     -999,1,     -999,1
320620180309  ,S04P       ,65      ,  1,35         ,35         ,2,20180414,0022, -66.9997,-153.7663,     4087,     34.2,-1.5360611111111110993,33.763883237162041,2,  33.7595,2,350.86583378602791,2, 350.1008,2,    349.5,2,     50.8,2,    24.29,2,     0.16,2,     1.76,2,     -999,9,     -999,9,     -999,9,   2173.2,2,  2285.49,2,   7.6541,2,    24.89,     -999,9,     -999,9,  -1.5376,2,     -999,9,     -999,9,     -999,     -999,9,     -999,9,     -999,9,     -999,9,    0.152,1,    4.611,1,    0.188,1,     -999,9,     -999,9,20180414,0232, -67.0002,-153.7651,     -999,9,     -999,9,-999          ,9,     -999,9,     -999,9,     -999,     -999,9,     -999,     -999,9,     -999,1,     -999,1,     -999,1,     -999,1,     -999,1,     -999,1,     -999,1,     -999,1,     -999,1,     -999,1,     -999,1,     -999,1,     -999,1
320620180309  ,S04P       ,65      ,  1,34         ,34         ,2,20180414,0022, -66.9997,-153.7663,     4087,     61.3,-1.5359944444444444400,33.766023251237087,2,  33.7624,2,349.57707970354238,2, 350.0951,2,    349.9,2,     50.9,2,    24.32,2,     0.16,2,     1.77,2,     -999,9,     -999,9,     -999,9,     -999,9,     -999,9,     -999,9,     -999,     -999,9,     -999,9,  -1.5364,2,     -999,9,     -999,9,     -999,     -999,9,     -999,9,     -999,9,     -999,9,    0.154,1,    4.612,1,    0.186,1,     -999,9,     -999,9,20180414,0230, -67.0000,-153.7653,     -999,9,     -999,9,-999          ,9,     -999,9,     -999,9,     -999,     -999,9,     -999,     -999,9,     -999,9,     -999,9,     -999,9,     -999,9,     -999,9,     -999,9,     -999,9,     -999,9,     -999,9,     -999,9,     -999,9,     -999,9,     -999,9
320620180309  ,S04P       ,65      ,  1,33         ,33         ,2,20180414,0022, -66.9997,-153.7663,     4087,     84.6,-1.5246027777777777512,33.780756140067439,2,  33.7890,2,348.87676541266740,2, 348.3999,3,    345.8,2,     51.2,2,    24.58,2,     0.16,2,     1.79,2,    6.917,2,    3.370,2,   3.4700,3,   2178.2,2,  2286.67,2,   7.6496,2,    24.90,     -999,9,     -999,9,  -1.5269,2,     -999,9,     -999,9,     -999,     -999,9,     -999,9,     -999,9,     -999,9,    0.148,1,    4.614,1,    0.190,1,  17.2400,2,     -999,9,20180414,0228, -67.0000,-153.7654,     -999,9,     -999,9,-999          ,9,     -999,9,     -999,9,     -999,     -999,9,     -999,     -999,9,     -999,1,     -999,1,     -999,1,     -999,1,     -999,1,     -999,1,     -999,1,     -999,1,     -999,1,     -999,1,     -999,1,     -999,1,     -999,1
320620180309  ,S04P       ,65      ,  1,32         ,32         ,2,20180414,0022, -66.9997,-153.7663,     4087,    109.7,-1.1896722222222222420,34.190396163900751,2,  34.2040,2,290.17569885725788,3, 281.6967,2,    280.9,2,     59.8,2,    28.86,2,     0.13,2,     2.04,2,     -999,9,     -999,9,     -999,9,   2215.0,2,  2315.30,2,   7.5981,2,    24.89,     -999,9,     -999,9,  -1.1872,2,     -999,9,     -999,9,     -999,     -999,9,     -999,9,     -999,9,     -999,9,    0.097,1,    4.639,1,    0.153,1,     -999,9,     -999,9,20180414,0226, -66.9999,-153.7655,     -999,9,     -999,9,-999          ,9,     -999,9,     -999,9,     -999,     -999,9,     -999,     -999,9,     -999,9,     -999,9,     -999,9,     -999,9,     -999,9,     -999,9,     -999,9,     -999,9,     -999,9,     -999,9,     -999,9,     -999,9,     -999,9
320620180309  ,S04P       ,65      ,  1,31         ,31         ,2,20180414,0022, -66.9997,-153.7663,     4087,    135.0,-0.6964055555555554999,34.293446335507170,2,  34.2888,2,259.57760894990753,2, 255.8995,3,    259.9,2,     65.9,2,    30.31,2,     0.09,2,     2.09,2,    3.780,2,    1.947,2,   2.0700,3,   2225.3,2,  2319.29,2,   7.5818,2,    24.90,     -999,9,     -999,9,  -0.6871,2,     -999,9,     -999,9,     -999,     -999,9,     -999,9,     -999,9,     -999,9,    0.073,1,    4.652,1,    0.141,1,  20.7800,2,     -999,9,20180414,0225, -66.9999,-153.7656,     -999,9,     -999,9,-999          ,9,     -999,9,     -999,9,     -999,     -999,9,     -999,     -999,9,     -999,1,     -999,1,     -999,1,     -999,1,     -999,1,     -999,1,     -999,1,     -999,1,     -999,1,     -999,1,     -999,1,     -999,1,     -999,1
320620180309  ,S04P       ,65      ,  1,30         ,30         ,2,20180414,0022, -66.9997,-153.7663,     4087,    165.5,-0.0605555555555555569,34.394753526481523,2,  34.3935,2,237.66834070151629,3, 236.7982,3,    234.5,2,     72.9,2,    31.45,2,     0.03,2,     2.15,2,     -999,9,     -999,9,     -999,9,   2237.2,2,  2324.27,2,   7.5656,6,    24.90,     -999,9,     -999,9,  -0.0704,2,     -999,9,     -999,9,     -999,     -999,9,     -999,9,     -999,9,     -999,9,    0.066,1,    4.657,1,    0.142,1,     -999,9,     -999,9,20180414,0223, -66.9999,-153.7656,     -999,9,     -999,9,-999          ,9,     -999,9,     -999,9,     -999,     -999,9,     -999,     -999,9,     -999,9,     -999,9,     -999,9,     -999,9,     -999,9,     -999,9,     -999,9,     -999,9,     -999,9,     -999,9,     -999,9,     -999,9,     -999,9
320620180309  ,S04P       ,65      ,  1,29         ,29         ,2,20180414,0022, -66.9997,-153.7663,     4087,    216.8,1.0882333333333336078,34.598386097018555,2,  34.6030,2,195.47006308789662,3, 198.3993,3,    192.0,2,     85.4,2,    32.98,2,     0.02,2,     2.24,2,     -999,9,     -999,9,     -999,9,   2253.1,2,  2340.98,2,   7.5529,2,    24.90,     -999,9,     -999,9,   1.0915,2,     -999,9,     -999,9,     -999,     -999,9,     -999,9,     -999,9,     -999,9,    0.065,1,    4.654,1,    0.140,1,     -999,9,     -999,9,20180414,0220, -66.9998,-153.7656,     -999,9,     -999,9,-999          ,9,     -999,9,     -999,9,     -999,     -999,9,     -999,     -999,9,     -999,1,     -999,1,     -999,1,     -999,1,     -999,1,     -999,1,     -999,1,     -999,1,     -999,1,     -999,1,     -999,1,     -999,1,     -999,1
320620180309  ,S04P       ,65      ,  1,28         ,28         ,2,20180414,0022, -66.9997,-153.7663,     4087,    266.1,1.5684111111111107562,34.701961209494485,2,  34.7005,2,180.64537400187831,2, 181.4037,2,    179.8,2,     92.0,2,    32.80,2,     0.02,2,     2.23,2,    0.435,2,    0.235,2,   0.4100,3,   2261.9,6,  2347.86,2,   7.5615,2,    24.91,     -999,9,     -999,9,   1.5674,2,     -999,9,     -999,9,     -999,     -999,9,     -999,9,     -999,9,     -999,9,    0.062,1,    4.658,1,    0.140,1,  22.3000,2,     -999,9,20180414,0218, -66.9999,-153.7655,     -999,9,     -999,9,-999          ,9,     -999,9,     -999,9,     -999,     -999,9,     -999,     -999,9,     -999,1,     -999,1,     -999,1,     -999,1,     -999,1,     -999,1,     -999,1,     -999,1,     -999,1,     -999,1,     -999,1,     -999,1,     -999,1
320620180309  ,S04P       ,65      ,  1,27         ,27         ,2,20180414,0022, -66.9997,-153.7663,     4087,    316.2,1.5694638888888889916,34.723327908921384,2,  34.7208,2,181.54431302714332,2, 181.4970,2,    180.9,2,     95.4,2,    32.49,2,     0.00,2,     2.20,2,     -999,9,     -999,9,     -999,9,   2260.3,2,  2350.29,2,   7.5692,2,    24.91,     -999,9,     -999,9,   1.5682,2,     -999,9,     -999,9,     -999,     -999,9,     -999,9,     -999,9,     -999,9,    0.062,1,    4.659,1,    0.137,1,     -999,9,     -999,9,20180414,0216, -67.0000,-153.7655,     -999,9,     -999,9,-999          ,9,     -999,9,     -999,9,     -999,     -999,9,     -999,     -999,9,     -999,1,     -999,1,     -999,1,     -999,1,     -999,1,     -999,1,     -999,1,     -999,1,     -999,1,     -999,1,     -999,1,     -999,1,     -999,1
320620180309  ,S04P       ,65      ,  1,26         ,26         ,2,20180414,0022, -66.9997,-153.7663,     4087,    368.3,1.5341277777777779789,34.727651639405209,2,  34.7255,2,183.36006559712166,2, 182.5054,2,    182.0,2,     96.9,2,    32.38,2,     0.00,2,     2.19,2,     -999,9,     -999,9,     -999,9,   2259.6,2,  2353.80,2,   7.5684,2,    24.91,     -999,9,     -999,9,   1.5325,2,     -999,9,     -999,9,     -999,     -999,9,     -999,9,     -999,9,     -999,9,    0.063,1,    4.661,1,    0.133,1,     -999,9,     -999,9,20180414,0214, -66.9995,-153.7664,     -999,9,     -999,9,-999          ,9,     -999,9,     -999,9,     -999,     -999,9,     -999,     -999,9,     -999,9,     -999,9,     -999,9,     -999,9,     -999,9,     -999,9,     -999,9,     -999,9,     -999,9,     -999,9,     -999,9,     -999,9,     -999,9
320620180309  ,S04P       ,65      ,  1,25         ,25         ,2,20180414,0022, -66.9997,-153.7663,     4087,    418.3,1.4817472222222223266,34.730401017757039,2,  34.7270,2,183.77685514046922,2, 183.6040,2,    183.1,2,     99.6,2,    32.24,2,     0.00,2,     2.18,2,    0.221,2,    0.123,2,   0.2400,3,   2260.6,2,  2353.59,2,   7.5725,2,    24.90,     -999,9,     -999,9,   1.4813,2,     -999,9,     -999,9,     -999,     -999,9,     -999,9,     -999,9,     -999,9,    0.062,1,    4.662,1,    0.134,1,  21.6600,2,     -999,9,20180414,0211, -66.9995,-153.7664,     -999,9,     -999,9,-999          ,9,     -999,9,     -999,9,     -999,     -999,9,     -999,     -999,9,     -999,1,     -999,1,     -999,1,     -999,1,     -999,1,     -999,1,     -999,1,     -999,1,     -999,1,     -999,1,     -999,1,     -999,1,     -999,1
320620180309  ,S04P       ,65      ,  1,24         ,24         ,2,20180414,0022, -66.9997,-153.7663,     4087,    467.6,1.4397027777777777757,34.731193778652390,2,  34.7284,2,184.66475836445474,2, 184.0982,2,    183.6,2,    101.1,2,    32.36,2,     0.00,2,     2.18,2,     -999,9,     -999,9,     -999,9,     -999,9,     -999,9,     -999,9,     -999,     -999,9,     -999,9,   1.4379,2,     -999,9,     -999,9,     -999,     -999,9,     -999,9,     -999,9,     -999,9,    0.063,1,    4.650,1,    0.133,1,     -999,9,     -999,9,20180414,0209, -66.9995,-153.7664,     -999,9,     -999,9,-999          ,9,     -999,9,     -999,9,     -999,     -999,9,     -999,     -999,9,     -999,9,     -999,9,     -999,9,     -999,9,     -999,9,     -999,9,     -999,9,     -999,9,     -999,9,     -999,9,     -999,9,     -999,9,     -999,9
320620180309  ,S04P       ,65      ,  1,23         ,23         ,2,20180414,0022, -66.9997,-153.7663,     4087,    540.7,1.3609499999999998820,34.731676354125767,2,  34.7290,2,184.79074200721141,2, 185.1004,2,    185.2,2,    104.3,2,    32.42,2,     0.00,2,     2.18,2,    0.169,2,    0.092,2,   0.2000,3,   2263.8,2,  2358.75,6,   7.5753,2,    24.91,     -999,9,     -999,9,   1.3599,2,     -999,9,     -999,9,     -999,     -999,9,     -999,9,     -999,9,     -999,9,    0.062,1,    4.662,1,    0.134,1,  21.7000,2,     -999,9,20180414,0206, -66.9995,-153.7664,     -999,9,     -999,9,-999          ,9,     -999,9,     -999,9,     -999,     -999,9,     -999,     -999,9,     -999,1,     -999,1,     -999,1,     -999,1,     -999,1,     -999,1,     -999,1,     -999,1,     -999,1,     -999,1,     -999,1,     -999,1,     -999,1
320620180309  ,S04P       ,65      ,  1,22         ,37         ,2,20180414,0022, -66.9997,-153.7663,     4087,    641.4,1.2885083333333333666,34.730551236011749,2,  34.7282,2,186.89485128526510,2, 186.0979,2,    186.1,2,    106.6,2,    32.45,2,     0.00,2,     2.18,2,     -999,9,     -999,9,     -999,9,     -999,9,     -999,9,     -999,9,     -999,     -999,9,     -999,9,   1.2875,2,     -999,9,     -999,9,     -999,     -999,9,     -999,9,     -999,9,     -999,9,    0.061,1,    4.663,1,    0.131,1,     -999,9,     -999,9,20180414,0202, -66.9995,-153.7664,     -999,9,     -999,9,-999          ,9,     -999,9,     -999,9,     -999,     -999,9,     -999,     -999,9,     -999,9,     -999,9,     -999,9,     -999,9,     -999,9,     -999,9,     -999,9,     -999,9,     -999,9,     -999,9,     -999,9,     -999,9,     -999,9
320620180309  ,S04P       ,65      ,  1,21         ,21         ,2,20180414,0022, -66.9997,-153.7663,     4087,    743.3,1.2304749999999999854,34.728948695026652,2,  34.7268,2,189.57976767503951,2, 187.5991,2,    188.0,2,    108.9,2,    32.35,2,     0.00,2,     2.20,2,     -999,9,     -999,9,     -999,9,     -999,9,     -999,9,     -999,9,     -999,     -999,9,     -999,9,   1.2294,2,     -999,9,     -999,9,     -999,     -999,9,     -999,9,     -999,9,     -999,9,    0.062,1,    4.663,1,    0.132,1,     -999,9,     -999,9,20180414,0159, -66.9995,-153.7665,     -999,9,     -999,9,-999          ,9,     -999,9,     -999,9,     -999,     -999,9,     -999,     -999,9,     -999,1,     -999,1,     -999,1,     -999,1,     -999,1,     -999,1,     -999,1,     -999,1,     -999,1,     -999,1,     -999,1,     -999,1,     -999,1
320620180309  ,S04P       ,65      ,  1,20         ,20         ,2,20180414,0022, -66.9997,-153.7663,     4087,    844.0,1.1427694444444445043,34.726050228829891,2,  34.7243,2,191.94401168554441,2, 189.9005,2,    191.4,2,    111.5,2,    32.27,2,     0.00,2,     2.18,2,    0.119,2,    0.072,2,   0.0800,3,   2263.6,2,  2359.09,2,   7.5826,2,    24.90,     -999,9,     -999,9,   1.1411,2,     -999,9,     -999,9,     -999,     -999,9,     -999,9,     -999,9,     -999,9,    0.061,1,    4.663,1,    0.131,1,  20.9000,2,     -999,9,20180414,0156, -66.9994,-153.7666,     -999,9,     -999,9,-999          ,9,     -999,9,     -999,9,     -999,     -999,9,     -999,     -999,9,     -999,9,     -999,9,     -999,9,     -999,9,     -999,9,     -999,9,     -999,9,     -999,9,     -999,9,     -999,9,     -999,9,     -999,9,     -999,9
320620180309  ,S04P       ,65      ,  1,19         ,19         ,2,20180414,0022, -66.9997,-153.7663,     4087,    944.7,1.0761444444444441260,34.723796326448813,2,  34.7223,2,193.71801142428379,2, 192.5999,2,    193.4,2,    113.1,2,    32.18,2,     0.00,2,     2.17,2,     -999,9,     -999,9,     -999,9,   2264.1,2,  2359.62,2,   7.5859,2,    24.90,     -999,9,     -999,9,   1.0750,2,     -999,9,     -999,9,     -999,     -999,9,     -999,9,     -999,9,     -999,9,    0.061,1,    4.663,1,    0.130,1,     -999,9,     -999,9,20180414,0152, -66.9995,-153.7665,     -999,9,     -999,9,-999          ,9,     -999,9,     -999,9,     -999,     -999,9,     -999,     -999,9,     -999,1,     -999,1,     -999,1,     -999,1,     -999,1,     -999,1,     -999,1,     -999,1,     -999,1,     -999,1,     -999,1,     -999,1,     -999,1
320620180309  ,S04P       ,65      ,  1,18         ,18         ,2,20180414,0022, -66.9997,-153.7663,     4087,   1045.7,0.9998805555555553282,34.720876288787153,2,  34.7190,2,195.94872693490083,2, 195.1020,2,    195.6,2,    115.3,2,    32.23,2,     0.00,2,     2.16,2,    0.105,2,    0.062,2,  -0.0200,3,   2262.0,2,  2361.89,2,   7.5897,2,    24.91,     -999,9,     -999,9,   0.9986,2,     -999,9,     -999,9,     -999,     -999,9,     -999,9,     -999,9,     -999,9,    0.061,1,    4.663,1,    0.130,1,  20.5000,2,     -999,9,20180414,0149, -66.9994,-153.7667,     -999,9,     -999,9,-999          ,9,     -999,9,     -999,9,     -999,     -999,9,     -999,     -999,9,     -999,9,     -999,9,     -999,9,     -999,9,     -999,9,     -999,9,     -999,9,     -999,9,     -999,9,     -999,9,     -999,9,     -999,9,     -999,9
320620180309  ,S04P       ,65      ,  1,17         ,17         ,2,20180414,0022, -66.9997,-153.7663,     4087,   1147.7,0.9472444444444444445,34.718716349267417,2,  34.7174,2,198.04898760206422,2, 197.1027,2,    197.0,2,    116.8,2,    32.19,2,     0.00,2,     2.17,2,     -999,9,     -999,9,     -999,9,     -999,9,     -999,9,     -999,9,     -999,     -999,9,     -999,9,   0.9456,2,     -999,9,     -999,9,     -999,     -999,9,     -999,9,     -999,9,     -999,9,    0.060,1,    4.663,1,    0.131,1,     -999,9,     -999,9,20180414,0146, -66.9993,-153.7669,     -999,9,     -999,9,-999          ,9,     -999,9,     -999,9,     -999,     -999,9,     -999,     -999,9,     -999,1,     -999,1,     -999,1,     -999,1,     -999,1,     -999,1,     -999,1,     -999,1,     -999,1,     -999,1,     -999,1,     -999,1,     -999,1
320620180309  ,S04P       ,65      ,  1,16         ,16         ,2,20180414,0022, -66.9997,-153.7663,     4087,   1248.9,0.8974194444444444363,34.716509455885337,2,  34.7153,2,200.12926864101001,2, 198.4056,2,    198.6,2,    118.5,2,    32.28,2,     0.00,2,     2.17,2,    0.102,2,    0.056,2,   0.0000,3,   2262.4,2,  2362.08,2,   7.5915,2,    24.95,     -999,9,     -999,9,   0.8965,2,     -999,9,     -999,9,     -999,     -999,9,     -999,9,     -999,9,     -999,9,    0.060,1,    4.664,1,    0.129,1,  20.2600,2,     -999,9,20180414,0142, -66.9992,-153.7670,     -999,9,     -999,9,-999          ,9,     -999,9,     -999,9,     -999,     -999,9,     -999,     -999,9,     -999,9,     -999,9,     -999,9,     -999,9,     -999,9,     -999,9,     -999,9,     -999,9,     -999,9,     -999,9,     -999,9,     -999,9,     -999,9