BOTTLE,20240515CCHHYDRO
EXPOCODE,SECT_ID,STNNBR,CASTNO,SAMPNO,BTLNBR,BTLNBR_FLAG_W,DATE,TIME,LATITUDE,LONGITUDE,DEPTH,CTDPRS,CTDTMP,CTDSAL,CTDSAL_FLAG_W,SALNTY,SALNTY_FLAG_W,CTDOXY,CTDOXY_FLAG_W,CTDOPTOXY,CTDOPTOXY_FLAG_W,OXYGEN,OXYGEN_FLAG_W,SILCAT,SILCAT_FLAG_W,NITRAT,NITRAT_FLAG_W,NITRIT,NITRIT_FLAG_W,PHSPHT,PHSPHT_FLAG_W,CFC-11,CFC-11_FLAG_W,CFC-12,CFC-12_FLAG_W,SF6,SF6_FLAG_W,TCARBN,TCARBN_FLAG_W,ALKALI,ALKALI_FLAG_W,PH_TOT,PH_TOT_FLAG_W,PH_TMP,DOC,DOC_FLAG_W,HELIUM,HELIUM_FLAG_W,REFTMP,REFTMP_FLAG_W,DELC13,DELC13_FLAG_W,DELC14,DELC14_FLAG_W,C14ERR,POC,POC_FLAG_W,TDN,TDN_FLAG_W,TON,TON_FLAG_W,NEON,NEON_FLAG_W,CTDFLUOR,CTDFLUOR_FLAG_W,CTDXMISS,CTDXMISS_FLAG_W,CTDBETA700,CTDBETA700_FLAG_W,N2O,N2O_FLAG_W,ARGON,ARGON_FLAG_W,BTL_DATE,BTL_TIME,BTL_LAT,BTL_LON,KRYPTON,KRYPTON_FLAG_W,XENON,XENON_FLAG_W,HPLC,HPLC_FLAG_W,HE3_HE4_RATIO,HE3_HE4_RATIO_FLAG_W,Nd_143_144_D_EPSILON_BOTTLE,Nd_143_144_D_EPSILON_BOTTLE_FLAG_W,Nd_143_144_D_EPSILON_BOTTLE_ERROR,Nd_143_144_D_RATIO_BOTTLE,Nd_143_144_D_RATIO_BOTTLE_FLAG_W,Nd_143_144_D_RATIO_BOTTLE_ERROR,Nd_D_CONC,Nd_D_CONC_FLAG_W,La_D_CONC_BOTTLE,La_D_CONC_BOTTLE_FLAG_W,Ce_D_CONC_BOTTLE,Ce_D_CONC_BOTTLE_FLAG_W,Pr_D_CONC_BOTTLE,Pr_D_CONC_BOTTLE_FLAG_W,Sm_D_CONC_BOTTLE,Sm_D_CONC_BOTTLE_FLAG_W,Eu_D_CONC_BOTTLE,Eu_D_CONC_BOTTLE_FLAG_W,Gd_D_CONC_BOTTLE,Gd_D_CONC_BOTTLE_FLAG_W,Tb_D_CONC_BOTTLE,Tb_D_CONC_BOTTLE_FLAG_W,Dy_D_CONC_BOTTLE,Dy_D_CONC_BOTTLE_FLAG_W,Ho_D_CONC_BOTTLE,Ho_D_CONC_BOTTLE_FLAG_W,Er_D_CONC_BOTTLE,Er_D_CONC_BOTTLE_FLAG_W,Tm_D_CONC_BOTTLE,Tm_D_CONC_BOTTLE_FLAG_W,Yb_D_CONC_BOTTLE,Yb_D_CONC_BOTTLE_FLAG_W,Lu_D_CONC_BOTTLE,Lu_D_CONC_BOTTLE_FLAG_W
,,,,,,,,,,,METERS,DBAR,ITS-90,PSS-78,,PSS-78,,UMOL/KG,,UMOL/KG,,UMOL/KG,,UMOL/KG,,UMOL/KG,,UMOL/KG,,UMOL/KG,,PMOL/KG,,PMOL/KG,,FMOL/KG,,UMOL/KG,,UMOL/KG,,,,DEG C,UMOL/KG,,NMOL/L,,DEG C,,/MILLE,,/MILLE,,/MILLE,UG/KG,,UMOL/KG,,UMOL/KG,,NMOL/L,,VOLTS,,VOLTS,,VOLTS,,NMOL/KG,,UMOL/L,,,,,,NMOL/L,,NMOL/L,,,,,,10000,,10000,,,,PMOL/KG,,PMOL/L,,PMOL/L,,PMOL/L,,PMOL/L,,PMOL/L,,PMOL/L,,PMOL/L,,PMOL/L,,PMOL/L,,PMOL/L,,PMOL/L,,PMOL/L,,PMOL/L,
320620180309  ,P16        ,37      ,  1,36         ,36         ,2,20180403,0902, -75.1135,-149.0690,     3626,      4.2,-1.8461527777777781978,33.827443291240584,2,  33.8245,2,331.28736689991973,2, 332.6009,2,    332.9,2,     60.6,2,    24.69,2,     0.17,2,     1.75,2,    5.524,2,    3.079,2,   3.5300,2,   2184.2,6,  2296.44,2,   7.6466,2,    24.95,     -999,9,     -999,9,  -1.8462,2,     -999,9,     -999,9,     -999,     -999,9,     -999,9,     -999,1,     -999,9,    0.118,1,    4.593,1,    0.206,1,  19.0100,2,     -999,9,20180403,1110, -75.1177,-149.1138,     -999,9,     -999,9,-999          ,9,     -999,9,     -999,9,     -999,     -999,9,     -999,     -999,9,     -999,1,     -999,1,     -999,1,     -999,1,     -999,1,     -999,1,     -999,1,     -999,1,     -999,1,     -999,1,     -999,1,     -999,1,     -999,1
320620180309  ,P16        ,37      ,  1,35         ,35         ,2,20180403,0902, -75.1135,-149.0690,     3626,     35.2,-1.8427138888888887625,33.829911009424706,2,  33.8255,2,332.23162542857204,2, 330.7988,2,    330.6,2,     60.9,2,    24.71,2,     0.17,2,     1.75,2,     -999,9,     -999,9,     -999,9,   2185.9,2,  2296.26,2,   7.6451,2,    24.94,     -999,9,     -999,1,  -1.8432,2,     -999,9,     -999,9,     -999,     -999,9,     -999,9,     -999,1,     -999,1,    0.136,1,    4.593,1,    0.195,1,     -999,9,     -999,1,20180403,1108, -75.1176,-149.1131,     -999,1,     -999,1,-999          ,9,     -999,1,     -999,9,     -999,     -999,9,     -999,     -999,9,     -999,1,     -999,1,     -999,1,     -999,1,     -999,1,     -999,1,     -999,1,     -999,1,     -999,1,     -999,1,     -999,1,     -999,1,     -999,1
320620180309  ,P16        ,37      ,  1,34         ,34         ,2,20180403,0902, -75.1135,-149.0690,     3626,     60.3,-1.6800083333333333258,33.971441735661145,2,  33.9804,2,298.97305301673413,2, 299.2006,2,    299.4,2,     72.3,2,    27.76,2,     0.17,2,     1.96,2,     -999,9,     -999,9,     -999,9,   2206.2,2,  2306.48,2,   7.6053,2,    24.94,     -999,9,     -999,9,  -1.6801,2,     -999,9,     -999,9,     -999,     -999,9,     -999,9,     -999,1,     -999,9,    0.111,1,    4.613,1,    0.169,1,     -999,9,     -999,9,20180403,1106, -75.1176,-149.1119,     -999,9,     -999,9,-999          ,9,     -999,9,     -999,9,     -999,     -999,9,     -999,     -999,9,     -999,9,     -999,9,     -999,9,     -999,9,     -999,9,     -999,9,     -999,9,     -999,9,     -999,9,     -999,9,     -999,9,     -999,9,     -999,9
320620180309  ,P16        ,37      ,  1,33         ,33         ,2,20180403,0902, -75.1135,-149.0690,     3626,     85.7,-1.6524666666666669723,34.112162013252146,2,  34.1120,2,280.08979738838485,3, 283.7996,2,    282.9,2,     81.4,2,    29.83,2,     0.16,2,     2.08,2,     -999,9,     -999,9,     -999,9,     -999,9,     -999,9,     -999,9,     -999,     -999,9,     -999,1,  -1.6519,2,     -999,9,     -999,9,     -999,     -999,9,     -999,9,     -999,1,     -999,1,    0.080,1,    4.643,1,    0.167,1,     -999,9,     -999,1,20180403,1104, -75.1175,-149.1104,     -999,1,     -999,1,-999          ,9,     -999,1,     -999,9,     -999,     -999,9,     -999,     -999,9,     -999,1,     -999,1,     -999,1,     -999,1,     -999,1,     -999,1,     -999,1,     -999,1,     -999,1,     -999,1,     -999,1,     -999,1,     -999,1
320620180309  ,P16        ,37      ,  1,32         ,32         ,2,20180403,0902, -75.1135,-149.0690,     3626,    110.2,-1.6155638888888885774,34.139346353529241,2,  34.1377,2,278.59266969298341,2, 279.2966,2,    280.3,2,     82.2,2,    30.24,2,     0.14,2,     2.08,2,     -999,9,     -999,9,     -999,9,   2223.4,2,  2311.84,2,   7.5778,2,    24.96,     -999,9,     -999,9,  -1.6164,2,     -999,9,     -999,9,     -999,     -999,9,     -999,9,     -999,1,     -999,9,    0.074,1,    4.650,1,    0.159,1,     -999,9,     -999,9,20180403,1103, -75.1175,-149.1098,     -999,9,     -999,9,-999          ,9,     -999,9,     -999,9,     -999,     -999,9,     -999,     -999,9,     -999,9,     -999,9,     -999,9,     -999,9,     -999,9,     -999,9,     -999,9,     -999,9,     -999,9,     -999,9,     -999,9,     -999,9,     -999,9
320620180309  ,P16        ,37      ,  1,31         ,31         ,2,20180403,0902, -75.1135,-149.0690,     3626,    135.9,-1.6086611111111113193,34.148776984029425,2,  34.1506,2,277.28359989152187,2, 277.1961,2,    277.1,2,     82.5,2,    30.43,2,     0.13,2,     2.08,2,    3.901,2,    2.195,2,   2.2100,2,   2224.3,2,  2312.88,2,   7.5787,2,    24.95,     -999,9,     -999,1,  -1.6125,2,     -999,9,     -999,9,     -999,     -999,9,     -999,9,     -999,1,     -999,1,    0.070,1,    4.655,1,    0.157,1,  21.0500,2,     -999,1,20180403,1101, -75.1174,-149.1092,     -999,1,     -999,1,-999          ,9,     -999,1,     -999,9,     -999,     -999,9,     -999,     -999,9,     -999,1,     -999,1,     -999,1,     -999,1,     -999,1,     -999,1,     -999,1,     -999,1,     -999,1,     -999,1,     -999,1,     -999,1,     -999,1
320620180309  ,P16        ,37      ,  1,30         ,30         ,2,20180403,0902, -75.1135,-149.0690,     3626,    166.6,-1.3650555555555556886,34.187439300822454,2,  34.1851,2,269.69875984688218,2, 268.8961,2,    269.0,2,     81.8,2,    30.78,2,     0.11,2,     2.13,2,     -999,9,     -999,9,     -999,9,   2225.5,2,  2312.34,2,   7.5753,2,    24.94,     -999,9,     -999,9,  -1.3702,2,     -999,9,     -999,9,     -999,     -999,9,     -999,9,     -999,1,     -999,9,    0.068,1,    4.658,1,    0.157,1,     -999,9,     -999,9,20180403,1059, -75.1174,-149.1086,     -999,9,     -999,9,-999          ,9,     -999,9,     -999,9,     -999,     -999,9,     -999,     -999,9,     -999,9,     -999,9,     -999,9,     -999,9,     -999,9,     -999,9,     -999,9,     -999,9,     -999,9,     -999,9,     -999,9,     -999,9,     -999,9
320620180309  ,P16        ,37      ,  1,29         ,29         ,2,20180403,0902, -75.1135,-149.0690,     3626,    216.7,-0.9663999999999999257,34.251529669313392,2,  34.2526,2,253.45030249605489,2, 256.0971,3,    253.5,2,     83.6,2,    31.40,2,     0.05,2,     2.16,2,     -999,9,     -999,9,     -999,9,   2233.5,2,  2319.28,2,   7.5685,2,    24.92,     -999,9,     -999,1,  -0.9767,2,     -999,9,     -999,9,     -999,     -999,9,     -999,9,     -999,1,     -999,1,    0.066,1,    4.659,1,    0.154,1,     -999,9,     -999,1,20180403,1057, -75.1173,-149.1076,     -999,1,     -999,1,-999          ,9,     -999,1,     -999,9,     -999,     -999,9,     -999,     -999,9,     -999,1,     -999,1,     -999,1,     -999,1,     -999,1,     -999,1,     -999,1,     -999,1,     -999,1,     -999,1,     -999,1,     -999,1,     -999,1
320620180309  ,P16        ,37      ,  1,28         ,28         ,2,20180403,0902, -75.1135,-149.0690,     3626,    267.0,-0.0850999999999999951,34.381397699417192,2,  34.3878,2,229.10046545147824,2, 228.7967,2,    227.2,2,     84.7,2,    32.11,2,     0.03,2,     2.20,2,     -999,9,     -999,9,     -999,9,   2241.3,2,  2324.93,2,   7.5617,2,    24.92,     -999,9,     -999,9,  -0.0849,2,     -999,9,     -999,9,     -999,     -999,9,     -999,9,     -999,1,     -999,9,    0.066,1,    4.660,1,    0.153,1,     -999,9,     -999,9,20180403,1055, -75.1173,-149.1071,     -999,9,     -999,9,-999          ,9,     -999,9,     -999,9,     -999,     -999,9,     -999,     -999,9,     -999,9,     -999,9,     -999,9,     -999,9,     -999,9,     -999,9,     -999,9,     -999,9,     -999,9,     -999,9,     -999,9,     -999,9,     -999,9
320620180309  ,P16        ,37      ,  1,27         ,27         ,2,20180403,0902, -75.1135,-149.0690,     3626,    318.5,0.8362611111111112328,34.525165075473488,2,  34.5364,2,205.02248430246792,3, 205.3027,3,    201.2,2,     86.5,2,    32.54,2,     0.02,2,     2.22,2,    1.343,2,    0.717,2,   0.6500,2,   2249.4,2,  2333.73,2,   7.5595,2,    24.92,     -999,9,     -999,1,   0.8351,2,     -999,9,     -999,9,     -999,     -999,9,     -999,9,     -999,1,     -999,1,    0.065,1,    4.663,1,    0.150,1,  23.5400,2,     -999,1,20180403,1053, -75.1172,-149.1064,     -999,1,     -999,1,-999          ,9,     -999,1,     -999,9,     -999,     -999,9,     -999,     -999,9,     -999,1,     -999,1,     -999,1,     -999,1,     -999,1,     -999,1,     -999,1,     -999,1,     -999,1,     -999,1,     -999,1,     -999,1,     -999,1
320620180309  ,P16        ,37      ,  1,26         ,26         ,2,20180403,0902, -75.1135,-149.0690,     3626,    369.0,1.5860611111111113658,34.661132228288785,2,  34.6627,2,186.68721950191494,3, 188.3034,3,    182.8,2,     89.1,2,    32.65,2,     0.02,2,     2.23,2,     -999,9,     -999,9,     -999,9,   2257.4,6,  2342.18,2,   7.5615,2,    24.93,     -999,9,     -999,9,   1.5869,2,     -999,9,     -999,9,     -999,     -999,9,     -999,9,     -999,1,     -999,9,    0.064,1,    4.666,1,    0.149,1,     -999,9,     -999,9,20180403,1050, -75.1171,-149.1058,     -999,9,     -999,9,-999          ,9,     -999,9,     -999,9,     -999,     -999,9,     -999,     -999,9,     -999,9,     -999,9,     -999,9,     -999,9,     -999,9,     -999,9,     -999,9,     -999,9,     -999,9,     -999,9,     -999,9,     -999,9,     -999,9
320620180309  ,P16        ,37      ,  1,25         ,25         ,2,20180403,0902, -75.1135,-149.0690,     3626,    419.9,1.7923277777777775199,34.708839413282675,2,  34.7064,2,181.34423436254605,2, 182.3048,2,    180.8,2,     90.7,2,    32.29,2,     0.00,2,     2.20,2,     -999,9,     -999,9,     -999,9,     -999,9,     -999,9,     -999,9,     -999,     -999,9,     -999,1,   1.7915,2,     -999,9,     -999,9,     -999,     -999,9,     -999,9,     -999,1,     -999,1,    0.062,1,    4.671,1,    0.142,1,     -999,9,     -999,1,20180403,1048, -75.1171,-149.1052,     -999,1,     -999,1,-999          ,9,     -999,1,     -999,9,     -999,     -999,9,     -999,     -999,9,     -999,1,     -999,1,     -999,1,     -999,1,     -999,1,     -999,1,     -999,1,     -999,1,     -999,1,     -999,1,     -999,1,     -999,1,     -999,1
320620180309  ,P16        ,37      ,  1,24         ,24         ,2,20180403,0902, -75.1135,-149.0690,     3626,    471.2,1.6748444444444443580,34.717998276323300,2,  34.7170,2,183.59219955721699,2, 184.8017,2,    183.3,2,     94.3,2,    32.00,2,     0.00,2,     2.19,2,     -999,9,     -999,9,     -999,9,   2257.1,2,  2349.01,2,   7.5754,6,    24.92,     -999,9,     -999,9,   1.6737,2,     -999,9,     -999,9,     -999,     -999,9,     -999,9,     -999,1,     -999,9,    0.062,1,    4.668,1,    0.148,1,     -999,9,     -999,9,20180403,1045, -75.1170,-149.1044,     -999,9,     -999,9,-999          ,9,     -999,9,     -999,9,     -999,     -999,9,     -999,     -999,9,     -999,9,     -999,9,     -999,9,     -999,9,     -999,9,     -999,9,     -999,9,     -999,9,     -999,9,     -999,9,     -999,9,     -999,9,     -999,9
320620180309  ,P16        ,37      ,  1,23         ,23         ,2,20180403,0902, -75.1135,-149.0690,     3626,    540.3,1.6113500000000000600,34.725816736242116,2,  34.7245,2,185.49139424339739,2, 185.6964,2,    186.0,2,     96.8,2,    31.88,2,     0.00,2,     2.19,2,    0.246,2,    0.127,2,   0.1500,2,     -999,9,     -999,9,     -999,9,     -999,     -999,9,     -999,1,   1.6097,2,     -999,9,     -999,9,     -999,     -999,9,     -999,9,     -999,1,     -999,1,    0.061,1,    4.669,1,    0.143,1,  22.5600,2,     -999,1,20180403,1041, -75.1169,-149.1020,     -999,1,     -999,1,-999          ,9,     -999,1,     -999,9,     -999,     -999,9,     -999,     -999,9,     -999,1,     -999,1,     -999,1,     -999,1,     -999,1,     -999,1,     -999,1,     -999,1,     -999,1,     -999,1,     -999,1,     -999,1,     -999,1
320620180309  ,P16        ,37      ,  1,22         ,37         ,2,20180403,0902, -75.1135,-149.0690,     3626,    642.0,1.5366805555555553831,34.731164368734817,2,  34.7306,2,188.53473817390358,2, 187.0995,2,    188.4,2,     99.5,2,    31.79,2,     0.00,2,     2.19,2,     -999,9,     -999,9,     -999,9,   2258.9,2,  2351.45,2,   7.5857,2,    24.94,     -999,9,     -999,1,   1.5352,2,     -999,9,     -999,9,     -999,     -999,9,     -999,9,     -999,1,     -999,1,    0.062,1,    4.673,1,    0.137,1,     -999,9,     -999,1,20180403,1038, -75.1166,-149.0992,     -999,1,     -999,1,-999          ,9,     -999,1,     -999,9,     -999,     -999,9,     -999,     -999,9,     -999,1,     -999,1,     -999,1,     -999,1,     -999,1,     -999,1,     -999,1,     -999,1,     -999,1,     -999,1,     -999,1,     -999,1,     -999,1
320620180309  ,P16        ,37      ,  1,21         ,21         ,2,20180403,0902, -75.1135,-149.0690,     3626,    742.8,1.4353527777777779217,34.731396411102310,2,  34.7306,2,189.69411427120625,2, 189.2018,2,    189.5,2,    103.0,2,    31.89,2,     0.00,2,     2.20,2,     -999,9,     -999,9,     -999,9,     -999,9,     -999,9,     -999,9,     -999,     -999,9,     -999,9,   1.4344,2,     -999,9,     -999,9,     -999,     -999,9,     -999,9,     -999,1,     -999,9,    0.061,1,    4.671,1,    0.139,1,     -999,9,     -999,9,20180403,1035, -75.1163,-149.0966,     -999,9,     -999,9,-999          ,9,     -999,9,     -999,9,     -999,     -999,9,     -999,     -999,9,     -999,1,     -999,1,     -999,1,     -999,1,     -999,1,     -999,1,     -999,1,     -999,1,     -999,1,     -999,1,     -999,1,     -999,1,     -999,1
320620180309  ,P16        ,37      ,  1,20         ,20         ,2,20180403,0902, -75.1135,-149.0690,     3626,    845.4,1.3392444444444444596,34.730253605193766,2,  34.7288,2,190.89286406001918,2, 191.2994,2,    191.0,2,    105.5,2,    31.91,2,     0.00,2,     2.19,2,     -999,9,     -999,9,     -999,9,   2260.4,2,  2359.07,2,   7.5896,6,    24.94,     -999,9,     -999,9,   1.3382,2,     -999,9,     -999,9,     -999,     -999,9,     -999,9,     -999,1,     -999,9,    0.062,1,    4.671,1,    0.137,1,     -999,9,     -999,9,20180403,1032, -75.1160,-149.0951,     -999,9,     -999,9,-999          ,9,     -999,9,     -999,9,     -999,     -999,9,     -999,     -999,9,     -999,9,     -999,9,     -999,9,     -999,9,     -999,9,     -999,9,     -999,9,     -999,9,     -999,9,     -999,9,     -999,9,     -999,9,     -999,9
320620180309  ,P16        ,37      ,  1,19         ,19         ,2,20180403,0902, -75.1135,-149.0690,     3626,    946.0,1.2626916666666667677,34.728738752152289,2,  34.7276,2,192.44599700747418,2, 192.9066,2,    192.7,2,    109.0,2,    32.02,2,     0.00,2,     2.21,2,     -999,9,     -999,9,     -999,9,     -999,9,     -999,9,     -999,9,     -999,     -999,9,     -999,9,   1.2615,2,     -999,9,     -999,9,     -999,     -999,9,     -999,9,     -999,1,     -999,9,    0.061,1,    4.672,1,    0.137,1,     -999,9,     -999,9,20180403,1028, -75.1159,-149.0942,     -999,9,     -999,9,-999          ,9,     -999,9,     -999,9,     -999,     -999,9,     -999,     -999,9,     -999,1,     -999,1,     -999,1,     -999,1,     -999,1,     -999,1,     -999,1,     -999,1,     -999,1,     -999,1,     -999,1,     -999,1,     -999,1
320620180309  ,P16        ,37      ,  1,18         ,18         ,2,20180403,0902, -75.1135,-149.0690,     3626,   1047.8,1.1793166666666665687,34.726190624016127,2,  34.7249,2,194.13747271250369,2, 194.6002,2,    194.5,2,    111.6,2,    32.07,2,     0.00,2,     2.22,2,     -999,9,     -999,9,     -999,9,   2261.7,2,  2357.48,2,   7.5899,2,    24.92,     -999,9,     -999,9,   1.1783,2,     -999,9,     -999,9,     -999,     -999,9,     -999,9,     -999,1,     -999,9,    0.061,1,    4.671,1,    0.136,1,     -999,9,     -999,9,20180403,1025, -75.1156,-149.0927,     -999,9,     -999,9,-999          ,9,     -999,9,     -999,9,     -999,     -999,9,     -999,     -999,9,     -999,9,     -999,9,     -999,9,     -999,9,     -999,9,     -999,9,     -999,9,     -999,9,     -999,9,     -999,9,     -999,9,     -999,9,     -999,9
320620180309  ,P16        ,37      ,  1,17         ,17         ,2,20180403,0902, -75.1135,-149.0690,     3626,   1149.4,1.1058472222222224257,34.723334442762322,2,  34.7225,2,195.75033606754229,2, 196.1013,2,    195.8,2,    113.9,2,    32.15,2,     0.00,2,     2.21,2,    0.123,2,    0.057,2,   0.0300,2,     -999,9,     -999,9,     -999,9,     -999,     -999,9,     -999,9,   1.1049,2,     -999,9,     -999,9,     -999,     -999,9,     -999,9,     -999,1,     -999,9,    0.061,1,    4.670,1,    0.142,1,  21.7900,2,     -999,9,20180403,1012, -75.1153,-149.0887,     -999,9,     -999,9,-999          ,9,     -999,9,     -999,9,     -999,     -999,9,     -999,     -999,9,     -999,1,     -999,1,     -999,1,     -999,1,     -999,1,     -999,1,     -999,1,     -999,1,     -999,1,     -999,1,     -999,1,     -999,1,     -999,1
320620180309  ,P16        ,37      ,  1,16         ,16         ,2,20180403,0902, -75.1135,-149.0690,     3626,   1251.4,1.0327027777777777473,34.720648553822194,2,  34.7200,2,197.41684199351991,2, 197.7000,2,    197.6,2,    116.1,2,    32.18,2,     0.00,2,     2.21,2,     -999,9,     -999,9,     -999,9,     -999,9,  2360.48,2,   7.5924,2,    24.92,     -999,9,     -999,1,   1.0318,2,     -999,9,     -999,9,     -999,     -999,9,     -999,9,     -999,1,     -999,1,    0.061,1,    4.670,1,    0.135,1,     -999,9,     -999,1,20180403,1008, -75.1152,-149.0877,     -999,1,     -999,1,-999          ,9,     -999,1,     -999,9,     -999,     -999,9,     -999,     -999,9,     -999,9,     -999,9,     -999,9,     -999,9,     -999,9,     -999,9,     -999,9,     -999,9,     -999,9,     -999,9,     -999,9,     -999,9,     -999,9