BOTTLE,20240515CCHHYDRO
EXPOCODE,SECT_ID,STNNBR,CASTNO,SAMPNO,BTLNBR,BTLNBR_FLAG_W,DATE,TIME,LATITUDE,LONGITUDE,DEPTH,CTDPRS,CTDTMP,CTDSAL,CTDSAL_FLAG_W,SALNTY,SALNTY_FLAG_W,CTDOXY,CTDOXY_FLAG_W,CTDOPTOXY,CTDOPTOXY_FLAG_W,OXYGEN,OXYGEN_FLAG_W,SILCAT,SILCAT_FLAG_W,NITRAT,NITRAT_FLAG_W,NITRIT,NITRIT_FLAG_W,PHSPHT,PHSPHT_FLAG_W,CFC-11,CFC-11_FLAG_W,CFC-12,CFC-12_FLAG_W,SF6,SF6_FLAG_W,TCARBN,TCARBN_FLAG_W,ALKALI,ALKALI_FLAG_W,PH_TOT,PH_TOT_FLAG_W,PH_TMP,DOC,DOC_FLAG_W,HELIUM,HELIUM_FLAG_W,REFTMP,REFTMP_FLAG_W,DELC13,DELC13_FLAG_W,DELC14,DELC14_FLAG_W,C14ERR,POC,POC_FLAG_W,TDN,TDN_FLAG_W,TON,TON_FLAG_W,NEON,NEON_FLAG_W,CTDFLUOR,CTDFLUOR_FLAG_W,CTDXMISS,CTDXMISS_FLAG_W,CTDBETA700,CTDBETA700_FLAG_W,N2O,N2O_FLAG_W,ARGON,ARGON_FLAG_W,BTL_DATE,BTL_TIME,BTL_LAT,BTL_LON,KRYPTON,KRYPTON_FLAG_W,XENON,XENON_FLAG_W,HPLC,HPLC_FLAG_W,HE3_HE4_RATIO,HE3_HE4_RATIO_FLAG_W,Nd_143_144_D_EPSILON_BOTTLE,Nd_143_144_D_EPSILON_BOTTLE_FLAG_W,Nd_143_144_D_EPSILON_BOTTLE_ERROR,Nd_143_144_D_RATIO_BOTTLE,Nd_143_144_D_RATIO_BOTTLE_FLAG_W,Nd_143_144_D_RATIO_BOTTLE_ERROR,Nd_D_CONC,Nd_D_CONC_FLAG_W,La_D_CONC_BOTTLE,La_D_CONC_BOTTLE_FLAG_W,Ce_D_CONC_BOTTLE,Ce_D_CONC_BOTTLE_FLAG_W,Pr_D_CONC_BOTTLE,Pr_D_CONC_BOTTLE_FLAG_W,Sm_D_CONC_BOTTLE,Sm_D_CONC_BOTTLE_FLAG_W,Eu_D_CONC_BOTTLE,Eu_D_CONC_BOTTLE_FLAG_W,Gd_D_CONC_BOTTLE,Gd_D_CONC_BOTTLE_FLAG_W,Tb_D_CONC_BOTTLE,Tb_D_CONC_BOTTLE_FLAG_W,Dy_D_CONC_BOTTLE,Dy_D_CONC_BOTTLE_FLAG_W,Ho_D_CONC_BOTTLE,Ho_D_CONC_BOTTLE_FLAG_W,Er_D_CONC_BOTTLE,Er_D_CONC_BOTTLE_FLAG_W,Tm_D_CONC_BOTTLE,Tm_D_CONC_BOTTLE_FLAG_W,Yb_D_CONC_BOTTLE,Yb_D_CONC_BOTTLE_FLAG_W,Lu_D_CONC_BOTTLE,Lu_D_CONC_BOTTLE_FLAG_W
,,,,,,,,,,,METERS,DBAR,ITS-90,PSS-78,,PSS-78,,UMOL/KG,,UMOL/KG,,UMOL/KG,,UMOL/KG,,UMOL/KG,,UMOL/KG,,UMOL/KG,,PMOL/KG,,PMOL/KG,,FMOL/KG,,UMOL/KG,,UMOL/KG,,,,DEG C,UMOL/KG,,NMOL/L,,DEG C,,/MILLE,,/MILLE,,/MILLE,UG/KG,,UMOL/KG,,UMOL/KG,,NMOL/L,,VOLTS,,VOLTS,,VOLTS,,NMOL/KG,,UMOL/L,,,,,,NMOL/L,,NMOL/L,,,,,,10000,,10000,,,,PMOL/KG,,PMOL/L,,PMOL/L,,PMOL/L,,PMOL/L,,PMOL/L,,PMOL/L,,PMOL/L,,PMOL/L,,PMOL/L,,PMOL/L,,PMOL/L,,PMOL/L,,PMOL/L,
320620180309  ,P16        ,33      ,  1,24         ,24         ,2,20180402,1301, -75.2685,-147.1251,     1196,      3.3,-1.8221500000000001585,33.755017077750807,2,  33.7526,2,331.11109108536573,3, 320.0017,2,    335.9,2,     71.8,2,    21.07,2,     0.13,2,     1.61,2,    5.289,2,    2.970,2,   3.4800,2,   2170.4,6,  2301.81,2,   7.6979,2,    24.95,     44.3,2,     -999,9,  -1.8224,2,     -999,9,     -999,1,     -999,     -999,9,    25.60,2,     -999,1,     -999,9,    0.107,1,    4.595,1,    0.192,1,  16.6500,2,     -999,9,20180402,1412, -75.2649,-147.1320,     -999,9,     -999,9,-999          ,9,     -999,9,     -999,9,     -999,     -999,9,     -999,     -999,9,     -999,1,     -999,1,     -999,1,     -999,1,     -999,1,     -999,1,     -999,1,     -999,1,     -999,1,     -999,1,     -999,1,     -999,1,     -999,1
320620180309  ,P16        ,33      ,  1,23         ,23         ,2,20180402,1301, -75.2685,-147.1251,     1196,     24.0,-1.8256722222222221408,33.753633815465747,2,  33.7507,2,333.25543942044851,2, 320.6993,2,    336.0,2,     71.7,2,    21.06,2,     0.13,2,     1.60,2,    5.347,2,    2.986,2,   3.4200,2,   2170.9,2,  2299.72,2,   7.6981,2,    24.95,     43.7,2,     -999,9,  -1.8256,2,     -999,9,     -999,1,     -999,     -999,9,    25.80,2,     -999,1,     -999,9,    0.107,1,    4.599,1,    0.205,1,  16.1900,2,     -999,9,20180402,1410, -75.2650,-147.1318,     -999,9,     -999,9,-999          ,9,     -999,9,     -999,9,     -999,     -999,9,     -999,     -999,9,     -999,1,     -999,1,     -999,1,     -999,1,     -999,1,     -999,1,     -999,1,     -999,1,     -999,1,     -999,1,     -999,1,     -999,1,     -999,1
320620180309  ,P16        ,33      ,  1,22         ,37         ,2,20180402,1301, -75.2685,-147.1251,     1196,     49.6,-1.8229555555555556623,33.754954944390562,2,  33.7511,2,333.11795411698995,2, 320.1999,2,    335.7,2,     70.7,2,    21.13,2,     0.12,2,     1.60,2,     -999,9,     -999,9,     -999,9,   2170.5,2,  2301.37,2,   7.6986,2,    24.95,     46.7,3,     -999,9,  -1.8236,2,     -999,9,     -999,1,     -999,     -999,9,     -999,9,     -999,1,     -999,9,    0.109,1,    4.598,1,    0.208,1,     -999,9,     -999,9,20180402,1408, -75.2651,-147.1315,     -999,9,     -999,9,-999          ,9,     -999,9,     -999,9,     -999,     -999,9,     -999,     -999,9,     -999,1,     -999,1,     -999,1,     -999,1,     -999,1,     -999,1,     -999,1,     -999,1,     -999,1,     -999,1,     -999,1,     -999,1,     -999,1
320620180309  ,P16        ,33      ,  1,21         ,21         ,2,20180402,1301, -75.2685,-147.1251,     1196,     74.6,-1.8155222222222222594,33.756864427626851,2,  33.7550,2,333.08894401991239,2, 345.1048,2,    335.1,2,     70.8,2,    21.15,2,     0.12,2,     1.61,2,    5.271,2,    2.992,2,   3.5400,2,   2170.2,2,  2301.55,2,   7.6981,6,    24.94,     47.5,3,     -999,9,  -1.8148,2,     -999,9,     -999,1,     -999,     -999,9,    25.20,2,     -999,1,     -999,9,    0.108,1,    4.596,1,    0.203,1,  16.9300,2,     -999,9,20180402,1406, -75.2651,-147.1311,     -999,9,     -999,9,-999          ,9,     -999,9,     -999,9,     -999,     -999,9,     -999,     -999,9,     -999,1,     -999,1,     -999,1,     -999,1,     -999,1,     -999,1,     -999,1,     -999,1,     -999,1,     -999,1,     -999,1,     -999,1,     -999,1
320620180309  ,P16        ,33      ,  1,20         ,20         ,2,20180402,1301, -75.2685,-147.1251,     1196,    100.7,-1.5961416666666667918,33.831211848613584,2,  33.8339,2,327.69911318393412,3, 315.8006,2,    318.0,2,     76.6,2,    23.13,2,     0.12,2,     1.74,2,     -999,9,     -999,9,     -999,9,   2182.7,2,  2304.52,2,   7.6720,2,    24.94,     43.5,2,     -999,9,  -1.5967,2,     -999,9,     -999,1,     -999,     -999,9,    27.30,2,     -999,1,     -999,9,    0.101,1,    4.599,1,    0.202,1,     -999,9,     -999,9,20180402,1404, -75.2651,-147.1307,     -999,9,     -999,9,-999          ,9,     -999,9,     -999,9,     -999,     -999,9,     -999,     -999,9,     -999,1,     -999,1,     -999,1,     -999,1,     -999,1,     -999,1,     -999,1,     -999,1,     -999,1,     -999,1,     -999,1,     -999,1,     -999,1
320620180309  ,P16        ,33      ,  1,19         ,19         ,2,20180402,1301, -75.2685,-147.1251,     1196,    125.7,-1.5435333333333332018,33.931118263198222,2,  33.9358,2,307.73883512475516,3, 296.2035,2,    302.5,2,     81.0,2,    25.50,2,     0.12,2,     1.88,2,    4.368,2,    2.461,2,   3.0300,2,   2200.0,2,  2308.92,2,   7.6374,2,    24.93,     44.1,2,     -999,9,  -1.5444,2,     -999,9,     -999,1,     -999,     -999,9,    28.30,2,     -999,1,     -999,9,    0.080,1,    4.612,1,    0.209,1,  17.9200,2,     -999,9,20180402,1401, -75.2652,-147.1303,     -999,9,     -999,9,-999          ,9,     -999,9,     -999,9,     -999,     -999,9,     -999,     -999,9,     -999,1,     -999,1,     -999,1,     -999,1,     -999,1,     -999,1,     -999,1,     -999,1,     -999,1,     -999,1,     -999,1,     -999,1,     -999,1
320620180309  ,P16        ,33      ,  1,18         ,18         ,2,20180402,1301, -75.2685,-147.1251,     1196,    150.7,-1.5981722222222221053,34.045478181750987,2,  34.0451,2,288.68882749462432,2, 299.6063,2,    287.3,2,     84.6,2,    28.46,2,     0.13,2,     2.05,2,     -999,9,     -999,9,     -999,9,   2218.1,2,  2313.33,2,   7.5974,2,    24.94,     43.2,2,     -999,9,  -1.5961,2,     -999,9,     -999,1,     -999,     -999,9,    31.70,2,     -999,1,     -999,9,    0.074,1,    4.624,1,    0.189,1,     -999,9,     -999,9,20180402,1359, -75.2652,-147.1300,     -999,9,     -999,9,-999          ,9,     -999,9,     -999,9,     -999,     -999,9,     -999,     -999,9,     -999,1,     -999,1,     -999,1,     -999,1,     -999,1,     -999,1,     -999,1,     -999,1,     -999,1,     -999,1,     -999,1,     -999,1,     -999,1
320620180309  ,P16        ,33      ,  1,17         ,17         ,2,20180402,1301, -75.2685,-147.1251,     1196,    175.6,-1.6564138888888890744,34.090546833875287,2,  34.0890,2,283.44331227644119,2, 302.1047,2,    285.7,2,     85.1,2,    29.42,2,     0.13,2,     2.09,2,    3.969,2,    2.241,2,   2.6100,2,   2223.4,2,  2314.64,2,   7.5859,2,    24.94,     -999,9,     -999,9,  -1.6570,2,     -999,9,     -999,1,     -999,     -999,9,     -999,9,     -999,9,     -999,9,    0.070,1,    4.635,1,    0.187,1,  18.4500,2,     -999,9,20180402,1357, -75.2653,-147.1297,     -999,9,     -999,9,-999          ,9,     -999,9,     -999,9,     -999,     -999,9,     -999,     -999,9,     -999,1,     -999,1,     -999,1,     -999,1,     -999,1,     -999,1,     -999,1,     -999,1,     -999,1,     -999,1,     -999,1,     -999,1,     -999,1
320620180309  ,P16        ,33      ,  1,16         ,16         ,2,20180402,1301, -75.2685,-147.1251,     1196,    201.4,-1.6823861111111111377,34.106846960194765,2,  34.1036,2,283.78643643865252,2, 294.9000,2,    285.5,2,     84.8,2,    29.75,2,     0.13,2,     2.10,2,     -999,9,     -999,9,     -999,9,   2226.4,2,  2315.52,2,   7.5831,2,    24.95,     44.7,2,     -999,9,  -1.6829,2,     -999,9,     -999,1,     -999,     -999,9,    31.50,2,     -999,1,     -999,9,    0.069,1,    4.640,1,    0.181,1,     -999,9,     -999,9,20180402,1355, -75.2653,-147.1293,     -999,9,     -999,9,-999          ,9,     -999,9,     -999,9,     -999,     -999,9,     -999,     -999,9,     -999,1,     -999,1,     -999,1,     -999,1,     -999,1,     -999,1,     -999,1,     -999,1,     -999,1,     -999,1,     -999,1,     -999,1,     -999,1
320620180309  ,P16        ,33      ,  1,15         ,15         ,2,20180402,1301, -75.2685,-147.1251,     1196,    227.2,-1.6984833333333335670,34.128759545272686,2,  34.1261,2,282.26569449511248,2, 291.1021,2,    284.3,2,     84.7,2,    30.19,2,     0.13,2,     2.10,2,    3.963,2,    2.228,2,   2.4100,2,   2223.9,2,  2316.03,2,   7.5827,2,    24.93,     43.1,2,     -999,9,  -1.6993,2,     -999,9,     -999,1,     -999,     -999,9,    32.30,2,     -999,1,     -999,9,    0.068,1,    4.647,1,    0.177,1,  18.9200,2,     -999,9,20180402,1353, -75.2654,-147.1290,     -999,9,     -999,9,-999          ,9,     -999,9,     -999,9,     -999,     -999,9,     -999,     -999,9,     -999,1,     -999,1,     -999,1,     -999,1,     -999,1,     -999,1,     -999,1,     -999,1,     -999,1,     -999,1,     -999,1,     -999,1,     -999,1
320620180309  ,P16        ,33      ,  1,14         ,14         ,2,20180402,1301, -75.2685,-147.1251,     1196,    257.0,-1.6816222222222223515,34.144700638080572,2,  34.1422,2,277.99675626007985,3, 285.6010,2,    282.7,2,     84.3,2,    30.42,2,     0.12,2,     2.12,2,     -999,9,     -999,9,     -999,9,   2227.4,2,  2315.35,2,   7.5809,2,    24.94,     44.4,2,     -999,9,  -1.6834,2,     -999,9,     -999,1,     -999,     -999,9,    31.80,2,     -999,1,     -999,9,    0.067,1,    4.654,1,    0.158,1,     -999,9,     -999,9,20180402,1350, -75.2655,-147.1287,     -999,9,     -999,9,-999          ,9,     -999,9,     -999,9,     -999,     -999,9,     -999,     -999,9,     -999,1,     -999,1,     -999,1,     -999,1,     -999,1,     -999,1,     -999,1,     -999,1,     -999,1,     -999,1,     -999,1,     -999,1,     -999,1
320620180309  ,P16        ,33      ,  1,13         ,13         ,2,20180402,1301, -75.2685,-147.1251,     1196,    302.8,-1.4508638888888889529,34.180341743366164,2,  34.1780,2,274.25847554233320,2, 275.3005,2,    272.1,2,     83.7,2,    30.85,2,     0.09,2,     2.14,2,    3.614,2,    2.013,2,   2.1400,2,   2228.1,2,  2318.06,2,   7.5780,2,    24.94,     44.3,2,     -999,9,  -1.4515,2,     -999,9,     -999,1,     -999,     -999,9,     -999,9,     -999,1,     -999,9,    0.065,1,    4.653,1,    0.157,1,  18.4300,2,     -999,9,20180402,1348, -75.2657,-147.1284,     -999,9,     -999,9,-999          ,9,     -999,9,     -999,9,     -999,     -999,9,     -999,     -999,9,     -999,1,     -999,1,     -999,1,     -999,1,     -999,1,     -999,1,     -999,1,     -999,1,     -999,1,     -999,1,     -999,1,     -999,1,     -999,1
320620180309  ,P16        ,33      ,  1,12         ,12         ,2,20180402,1301, -75.2685,-147.1251,     1196,    353.3,-1.0120000000000000107,34.251605895785822,2,  34.2493,2,257.78155107482564,2, 255.4041,2,    255.5,2,     87.8,2,    31.36,2,     0.04,2,     2.18,2,     -999,9,     -999,9,     -999,9,   2235.2,2,  2322.21,2,   7.5704,2,    24.94,     41.9,2,     -999,9,  -1.0137,2,     -999,9,     -999,1,     -999,     -999,9,     -999,9,     -999,1,     -999,9,    0.065,1,    4.654,1,    0.164,1,     -999,9,     -999,9,20180402,1345, -75.2658,-147.1282,     -999,9,     -999,9,-999          ,9,     -999,9,     -999,9,     -999,     -999,9,     -999,     -999,9,     -999,1,     -999,1,     -999,1,     -999,1,     -999,1,     -999,1,     -999,1,     -999,1,     -999,1,     -999,1,     -999,1,     -999,1,     -999,1
320620180309  ,P16        ,33      ,  1,11         ,11         ,2,20180402,1301, -75.2685,-147.1251,     1196,    404.4,-0.8565444444444444416,34.276986600802196,2,  34.2730,2,249.88645009406616,2, 249.4000,2,    249.9,2,     88.6,2,    31.55,2,     0.04,2,     2.17,2,    2.825,2,    1.598,2,   1.9100,2,   2237.2,2,  2323.30,2,   7.5711,2,    24.94,     43.2,2,     -999,9,  -0.8571,2,     -999,9,     -999,1,     -999,     -999,9,     -999,9,     -999,1,     -999,9,    0.066,1,    4.650,1,    0.200,1,  19.7300,2,     -999,9,20180402,1342, -75.2660,-147.1280,     -999,9,     -999,9,-999          ,9,     -999,9,     -999,9,     -999,     -999,9,     -999,     -999,9,     -999,1,     -999,1,     -999,1,     -999,1,     -999,1,     -999,1,     -999,1,     -999,1,     -999,1,     -999,1,     -999,1,     -999,1,     -999,1
320620180309  ,P16        ,33      ,  1,10         ,10         ,2,20180402,1301, -75.2685,-147.1251,     1196,    454.5,-0.5262638888888888644,34.335249474732151,2,  34.3366,2,241.02739653661868,2, 238.6023,2,    239.3,2,     89.9,2,    31.76,2,     0.04,2,     2.19,2,     -999,9,     -999,9,     -999,9,   2240.3,2,  2326.97,2,   7.5713,2,    24.94,     -999,9,     -999,9,  -0.5253,2,     -999,9,     -999,1,     -999,     -999,9,     -999,9,     -999,9,     -999,9,    0.064,1,    4.649,1,    0.173,1,     -999,9,     -999,9,20180402,1339, -75.2661,-147.1277,     -999,9,     -999,9,-999          ,9,     -999,9,     -999,9,     -999,     -999,9,     -999,     -999,9,     -999,1,     -999,1,     -999,1,     -999,1,     -999,1,     -999,1,     -999,1,     -999,1,     -999,1,     -999,1,     -999,1,     -999,1,     -999,1
320620180309  ,P16        ,33      ,  1,9          ,9          ,2,20180402,1301, -75.2685,-147.1251,     1196,    504.7,1.3871666666666666590,34.721270514467484,2,  34.7196,2,189.61768251365694,2, 189.5020,2,    189.5,2,    101.6,2,    32.17,2,     0.00,2,     2.21,2,    0.238,2,    0.125,2,   0.0500,2,   2262.5,6,  2364.00,3,   7.5852,2,    24.93,     41.1,2,     -999,9,   1.3867,2,     -999,9,     -999,1,     -999,     -999,9,     -999,9,     -999,1,     -999,9,    0.062,1,    4.669,1,    0.152,1,  20.9500,2,     -999,9,20180402,1331, -75.2666,-147.1271,     -999,9,     -999,9,-999          ,9,     -999,9,     -999,9,     -999,     -999,9,     -999,     -999,9,     -999,1,     -999,1,     -999,1,     -999,1,     -999,1,     -999,1,     -999,1,     -999,1,     -999,1,     -999,1,     -999,1,     -999,1,     -999,1
320620180309  ,P16        ,33      ,  1,8          ,8          ,2,20180402,1301, -75.2685,-147.1251,     1196,    555.7,1.3394916666666665250,34.726527230718197,2,  34.7259,2,190.47625924826400,2, 190.3975,2,    190.8,2,    104.2,2,    32.19,2,     0.00,2,     2.21,2,    0.195,2,    0.114,2,   0.0500,2,   2261.8,2,  2359.13,2,   7.5868,2,    24.93,     42.0,2,     -999,9,   1.3387,2,     -999,9,     -999,1,     -999,     -999,9,     -999,9,     -999,1,     -999,9,    0.062,1,    4.668,1,    0.143,1,  20.7600,2,     -999,9,20180402,1328, -75.2668,-147.1269,     -999,9,     -999,9,-999          ,9,     -999,9,     -999,9,     -999,     -999,9,     -999,     -999,9,     -999,1,     -999,1,     -999,1,     -999,1,     -999,1,     -999,1,     -999,1,     -999,1,     -999,1,     -999,1,     -999,1,     -999,1,     -999,1
320620180309  ,P16        ,33      ,  1,7          ,7          ,2,20180402,1301, -75.2685,-147.1251,     1196,    616.4,1.2585000000000001741,34.724797622622241,3,     -999,9,192.61448369919788,2, 175.5930,2,     -999,9,     -999,9,     -999,9,     -999,9,     -999,9,     -999,9,     -999,9,     -999,9,     -999,9,     -999,9,     -999,9,     -999,     -999,9,     -999,9,   1.2578,2,     -999,9,     -999,9,     -999,     -999,9,     -999,9,     -999,9,     -999,9,    0.063,1,    4.668,1,    0.207,1,     -999,9,     -999,9,20180402,1325, -75.2670,-147.1267,     -999,9,     -999,9,-999          ,9,     -999,9,     -999,9,     -999,     -999,9,     -999,     -999,9,     -999,9,     -999,9,     -999,9,     -999,9,     -999,9,     -999,9,     -999,9,     -999,9,     -999,9,     -999,9,     -999,9,     -999,9,     -999,9
320620180309  ,P16        ,33      ,  1,6          ,6          ,2,20180402,1301, -75.2685,-147.1251,     1196,    616.7,1.2601055555555553678,34.724742849093936,2,  34.7235,2,192.62626661614163,2, 191.2972,2,    192.4,2,    106.5,2,    32.14,2,     0.00,2,     2.22,2,    0.182,2,    0.097,2,   0.0400,2,   2262.9,2,  2360.34,2,   7.5859,6,    24.91,     44.2,3,     -999,9,   1.2591,2,     -999,9,     -999,1,     -999,     -999,9,     -999,9,     -999,1,     -999,9,    0.063,1,    4.668,1,    0.207,1,  20.5600,2,     -999,9,20180402,1325, -75.2670,-147.1267,     -999,9,     -999,9,-999          ,9,     -999,9,     -999,9,     -999,     -999,9,     -999,     -999,9,     -999,1,     -999,1,     -999,1,     -999,1,     -999,1,     -999,1,     -999,1,     -999,1,     -999,1,     -999,1,     -999,1,     -999,1,     -999,1
320620180309  ,P16        ,33      ,  1,5          ,5          ,2,20180402,1301, -75.2685,-147.1251,     1196,    708.3,1.1600138888888886779,34.725685944790357,2,  34.7241,2,194.42438738111656,2, 193.6960,2,    195.0,2,    110.0,2,    32.19,2,     0.00,2,     2.22,2,    0.148,2,    0.090,2,   0.0800,2,   2261.8,2,  2362.29,2,   7.5912,2,    24.92,     42.3,2,     -999,9,   1.1595,2,     -999,9,     -999,1,     -999,     -999,9,     -999,9,     -999,1,     -999,9,    0.062,1,    4.670,1,    0.139,1,  19.7500,2,     -999,9,20180402,1321, -75.2673,-147.1264,     -999,9,     -999,9,-999          ,9,     -999,9,     -999,9,     -999,     -999,9,     -999,     -999,9,     -999,1,     -999,1,     -999,1,     -999,1,     -999,1,     -999,1,     -999,1,     -999,1,     -999,1,     -999,1,     -999,1,     -999,1,     -999,1
320620180309  ,P16        ,33      ,  1,4          ,4          ,2,20180402,1301, -75.2685,-147.1251,     1196,    809.9,1.0001277777777781708,34.721278858311557,2,  34.7204,2,197.02159774239772,2, 196.9929,2,    197.6,2,    115.0,2,    32.29,2,     0.00,2,     2.22,2,    0.122,2,    0.071,2,   0.1800,2,   2264.0,2,  2363.36,2,   7.5937,2,    24.91,     40.6,2,     -999,9,   0.9996,2,     -999,9,     -999,1,     -999,     -999,9,     -999,9,     -999,1,     -999,9,    0.062,1,    4.671,1,    0.139,1,  20.1500,2,     -999,9,20180402,1317, -75.2675,-147.1261,     -999,9,     -999,9,-999          ,9,     -999,9,     -999,9,     -999,     -999,9,     -999,     -999,9,     -999,1,     -999,1,     -999,1,     -999,1,     -999,1,     -999,1,     -999,1,     -999,1,     -999,1,     -999,1,     -999,1,     -999,1,     -999,1