BOTTLE,20240515CCHHYDRO
EXPOCODE,SECT_ID,STNNBR,CASTNO,SAMPNO,BTLNBR,BTLNBR_FLAG_W,DATE,TIME,LATITUDE,LONGITUDE,DEPTH,CTDPRS,CTDTMP,CTDSAL,CTDSAL_FLAG_W,SALNTY,SALNTY_FLAG_W,CTDOXY,CTDOXY_FLAG_W,CTDOPTOXY,CTDOPTOXY_FLAG_W,OXYGEN,OXYGEN_FLAG_W,SILCAT,SILCAT_FLAG_W,NITRAT,NITRAT_FLAG_W,NITRIT,NITRIT_FLAG_W,PHSPHT,PHSPHT_FLAG_W,CFC-11,CFC-11_FLAG_W,CFC-12,CFC-12_FLAG_W,SF6,SF6_FLAG_W,TCARBN,TCARBN_FLAG_W,ALKALI,ALKALI_FLAG_W,PH_TOT,PH_TOT_FLAG_W,PH_TMP,DOC,DOC_FLAG_W,HELIUM,HELIUM_FLAG_W,REFTMP,REFTMP_FLAG_W,DELC13,DELC13_FLAG_W,DELC14,DELC14_FLAG_W,C14ERR,POC,POC_FLAG_W,TDN,TDN_FLAG_W,TON,TON_FLAG_W,NEON,NEON_FLAG_W,CTDFLUOR,CTDFLUOR_FLAG_W,CTDXMISS,CTDXMISS_FLAG_W,CTDBETA700,CTDBETA700_FLAG_W,N2O,N2O_FLAG_W,ARGON,ARGON_FLAG_W,BTL_DATE,BTL_TIME,BTL_LAT,BTL_LON,KRYPTON,KRYPTON_FLAG_W,XENON,XENON_FLAG_W,HPLC,HPLC_FLAG_W,HE3_HE4_RATIO,HE3_HE4_RATIO_FLAG_W,Nd_143_144_D_EPSILON_BOTTLE,Nd_143_144_D_EPSILON_BOTTLE_FLAG_W,Nd_143_144_D_EPSILON_BOTTLE_ERROR,Nd_143_144_D_RATIO_BOTTLE,Nd_143_144_D_RATIO_BOTTLE_FLAG_W,Nd_143_144_D_RATIO_BOTTLE_ERROR,Nd_D_CONC,Nd_D_CONC_FLAG_W,La_D_CONC_BOTTLE,La_D_CONC_BOTTLE_FLAG_W,Ce_D_CONC_BOTTLE,Ce_D_CONC_BOTTLE_FLAG_W,Pr_D_CONC_BOTTLE,Pr_D_CONC_BOTTLE_FLAG_W,Sm_D_CONC_BOTTLE,Sm_D_CONC_BOTTLE_FLAG_W,Eu_D_CONC_BOTTLE,Eu_D_CONC_BOTTLE_FLAG_W,Gd_D_CONC_BOTTLE,Gd_D_CONC_BOTTLE_FLAG_W,Tb_D_CONC_BOTTLE,Tb_D_CONC_BOTTLE_FLAG_W,Dy_D_CONC_BOTTLE,Dy_D_CONC_BOTTLE_FLAG_W,Ho_D_CONC_BOTTLE,Ho_D_CONC_BOTTLE_FLAG_W,Er_D_CONC_BOTTLE,Er_D_CONC_BOTTLE_FLAG_W,Tm_D_CONC_BOTTLE,Tm_D_CONC_BOTTLE_FLAG_W,Yb_D_CONC_BOTTLE,Yb_D_CONC_BOTTLE_FLAG_W,Lu_D_CONC_BOTTLE,Lu_D_CONC_BOTTLE_FLAG_W
,,,,,,,,,,,METERS,DBAR,ITS-90,PSS-78,,PSS-78,,UMOL/KG,,UMOL/KG,,UMOL/KG,,UMOL/KG,,UMOL/KG,,UMOL/KG,,UMOL/KG,,PMOL/KG,,PMOL/KG,,FMOL/KG,,UMOL/KG,,UMOL/KG,,,,DEG C,UMOL/KG,,NMOL/L,,DEG C,,/MILLE,,/MILLE,,/MILLE,UG/KG,,UMOL/KG,,UMOL/KG,,NMOL/L,,VOLTS,,VOLTS,,VOLTS,,NMOL/KG,,UMOL/L,,,,,,NMOL/L,,NMOL/L,,,,,,10000,,10000,,,,PMOL/KG,,PMOL/L,,PMOL/L,,PMOL/L,,PMOL/L,,PMOL/L,,PMOL/L,,PMOL/L,,PMOL/L,,PMOL/L,,PMOL/L,,PMOL/L,,PMOL/L,,PMOL/L,
320620180309  ,S04P       ,107     ,  1,15         ,15         ,2,20180502,1610, -67.5004, -98.0001,     4605,   1382.8,1.5572373148287033118,34.731422399001744,2,  34.7316,2,193.12934557636021,2, 192.0996,2,    192.9,2,     98.7,2,    31.93,2,     0.00,2,     2.17,2,     -999,9,     -999,9,     -999,9,   2259.5,2,  2358.06,2,   7.5974,2,    24.99,     42.9,2,     -999,9,   1.5571,2,     -999,9,     -999,9,     -999,     -999,9,     -999,9,     -999,1,     -999,9,    0.061,1,    4.650,1,    0.130,1,     -999,9,     -999,9,20180502,1730, -67.5005, -98.0001,     -999,9,     -999,9,-999          ,9,     -999,9,     -999,9,     -999,     -999,9,     -999,     -999,9,     -999,9,     -999,9,     -999,9,     -999,9,     -999,9,     -999,9,     -999,9,     -999,9,     -999,9,     -999,9,     -999,9,     -999,9,     -999,9
320620180309  ,S04P       ,107     ,  1,14         ,14         ,2,20180502,1610, -67.5004, -98.0001,     4605,   1484.0,1.4690250723146274225,34.730295843847884,2,  34.7302,2,193.83328159962588,2, 193.4025,2,    194.1,2,    101.5,2,    32.01,2,     0.00,2,     2.19,2,    0.146,2,    0.080,2,   0.0000,2,   2259.5,2,  2358.82,2,   7.5990,2,    25.00,     43.4,2,     -999,9,   1.4689,2,     -999,9,     -999,9,     -999,     -999,9,     -999,9,     -999,1,     -999,9,    0.061,1,    4.649,1,    0.131,1,  19.6000,2,     -999,9,20180502,1726, -67.5003, -98.0000,     -999,9,     -999,9,-999          ,9,     -999,9,     -999,9,     -999,     -999,9,     -999,     -999,9,     -999,9,     -999,9,     -999,9,     -999,9,     -999,9,     -999,9,     -999,9,     -999,9,     -999,9,     -999,9,     -999,9,     -999,9,     -999,9
320620180309  ,S04P       ,107     ,  1,13         ,13         ,2,20180502,1610, -67.5004, -98.0001,     4605,   1585.3,1.3811455933334901847,34.728638447496316,2,  34.7288,2,195.09998101486818,2, 194.8007,2,    195.0,2,    104.3,2,    32.02,2,     0.00,2,     2.19,2,     -999,9,     -999,9,     -999,9,   2260.4,2,  2360.16,2,   7.5996,2,    25.01,     45.6,3,     -999,9,   1.3808,2,     -999,9,     -999,9,     -999,     -999,9,     -999,9,     -999,1,     -999,9,    0.060,1,    4.649,1,    0.129,1,     -999,9,     -999,9,20180502,1723, -67.5000, -97.9999,     -999,9,     -999,9,-999          ,9,     -999,9,     -999,9,     -999,     -999,9,     -999,     -999,9,     -999,9,     -999,9,     -999,9,     -999,9,     -999,9,     -999,9,     -999,9,     -999,9,     -999,9,     -999,9,     -999,9,     -999,9,     -999,9
320620180309  ,S04P       ,107     ,  1,12         ,12         ,2,20180502,1610, -67.5004, -98.0001,     4605,   1773.5,1.2570417745420421340,34.725117238307305,2,  34.7257,2,196.82896644202316,2, 196.7999,2,    196.8,2,    108.5,2,    32.15,2,     0.00,2,     2.19,2,    0.128,2,    0.070,2,   0.0200,2,   2260.0,2,  2364.36,2,   7.6011,2,    25.00,     42.5,2,     -999,9,   1.2580,2,     -999,9,     -999,9,     -999,     -999,9,     -999,9,     -999,1,     -999,9,    0.061,1,    4.650,1,    0.127,1,  19.3100,2,     -999,9,20180502,1718, -67.5001, -97.9999,     -999,9,     -999,9,-999          ,9,     -999,9,     -999,9,     -999,     -999,9,     -999,     -999,9,     -999,9,     -999,9,     -999,9,     -999,9,     -999,9,     -999,9,     -999,9,     -999,9,     -999,9,     -999,9,     -999,9,     -999,9,     -999,9
320620180309  ,S04P       ,107     ,  1,11         ,11         ,2,20180502,1610, -67.5004, -98.0001,     4605,   1976.9,1.1313985972911082545,34.720902536821164,2,  34.7213,2,198.59552117379019,2, 199.3983,2,    199.5,2,    112.6,2,    32.26,2,     0.00,2,     2.21,2,     -999,9,     -999,9,     -999,9,   2262.7,2,  2361.88,2,   7.5996,2,    24.99,     41.2,2,     -999,9,   1.1328,2,     -999,9,     -999,9,     -999,     -999,9,     -999,9,     -999,1,     -999,9,    0.061,1,    4.649,1,    0.127,1,     -999,9,     -999,9,20180502,1713, -67.5003, -98.0000,     -999,9,     -999,9,-999          ,9,     -999,9,     -999,9,     -999,     -999,9,     -999,     -999,9,     -999,9,     -999,9,     -999,9,     -999,9,     -999,9,     -999,9,     -999,9,     -999,9,     -999,9,     -999,9,     -999,9,     -999,9,     -999,9
320620180309  ,S04P       ,107     ,  1,10         ,10         ,2,20180502,1610, -67.5004, -98.0001,     4605,   2199.0,1.0297769740470843480,34.717042692114894,2,  34.7174,2,200.73223218122473,2, 201.5018,2,    201.5,2,    116.2,2,    32.37,2,     0.00,2,     2.21,2,    0.132,2,    0.078,2,   0.0200,2,   2262.7,6,  2363.98,2,   7.5984,2,    25.01,     43.5,3,     -999,9,   1.0293,2,     -999,9,     -999,9,     -999,     -999,9,     -999,9,     -999,1,     -999,9,    0.061,1,    4.651,1,    0.127,1,  19.4300,2,     -999,9,20180502,1708, -67.5006, -98.0003,     -999,9,     -999,9,-999          ,9,     -999,9,     -999,9,     -999,     -999,9,     -999,     -999,9,     -999,9,     -999,9,     -999,9,     -999,9,     -999,9,     -999,9,     -999,9,     -999,9,     -999,9,     -999,9,     -999,9,     -999,9,     -999,9
320620180309  ,S04P       ,107     ,  1,9          ,9          ,2,20180502,1610, -67.5004, -98.0001,     4605,   2452.8,0.9192660219962334178,34.712564677418740,2,  34.7129,2,202.89025590568210,2, 203.8005,2,    203.4,2,    120.2,2,    32.44,2,     0.00,2,     2.22,2,     -999,9,     -999,9,     -999,9,   2263.7,2,  2366.17,2,   7.5995,2,    25.01,     40.8,2,     -999,9,   0.9193,2,     -999,9,     -999,9,     -999,     -999,9,     -999,9,     -999,1,     -999,9,    0.061,1,    4.650,1,    0.127,1,     -999,9,     -999,9,20180502,1701, -67.5005, -98.0002,     -999,9,     -999,9,-999          ,9,     -999,9,     -999,9,     -999,     -999,9,     -999,     -999,9,     -999,9,     -999,9,     -999,9,     -999,9,     -999,9,     -999,9,     -999,9,     -999,9,     -999,9,     -999,9,     -999,9,     -999,9,     -999,9
320620180309  ,S04P       ,107     ,  1,8          ,8          ,2,20180502,1610, -67.5004, -98.0001,     4605,   2708.6,0.8219322249072573694,34.708694919979976,2,  34.7090,2,204.73490552676444,2, 205.4978,2,    205.1,2,    123.8,2,    32.57,2,     0.00,2,     2.22,2,    0.166,2,    0.094,2,   0.0800,2,   2262.6,2,  2362.66,2,   7.5967,2,    24.99,     43.2,2,     -999,9,   0.8217,2,     -999,9,     -999,9,     -999,     -999,9,     -999,9,     -999,1,     -999,9,    0.061,1,    4.650,1,    0.126,1,  18.8200,2,     -999,9,20180502,1655, -67.5003, -98.0001,     -999,9,     -999,9,-999          ,9,     -999,9,     -999,9,     -999,     -999,9,     -999,     -999,9,     -999,9,     -999,9,     -999,9,     -999,9,     -999,9,     -999,9,     -999,9,     -999,9,     -999,9,     -999,9,     -999,9,     -999,9,     -999,9
320620180309  ,S04P       ,107     ,  1,7          ,7          ,2,20180502,1610, -67.5004, -98.0001,     4605,   2964.9,0.7357726502216608289,34.705927515736256,2,  34.7058,2,206.62206321543684,2, 207.3011,2,    206.9,2,    126.5,2,    32.72,2,     0.00,2,     2.22,2,     -999,9,     -999,9,     -999,9,   2263.2,2,  2364.59,2,   7.5968,2,    24.97,     41.6,2,     -999,9,   0.7353,2,     -999,9,     -999,9,     -999,     -999,9,     -999,9,     -999,1,     -999,9,    0.061,1,    4.650,1,    0.126,1,     -999,9,     -999,9,20180502,1649, -67.5006, -98.0002,     -999,9,     -999,9,-999          ,9,     -999,9,     -999,9,     -999,     -999,9,     -999,     -999,9,     -999,9,     -999,9,     -999,9,     -999,9,     -999,9,     -999,9,     -999,9,     -999,9,     -999,9,     -999,9,     -999,9,     -999,9,     -999,9
320620180309  ,S04P       ,107     ,  1,6          ,6          ,2,20180502,1610, -67.5004, -98.0001,     4605,   3255.2,0.6170937599224236569,34.703503491573628,2,  34.7035,2,208.53344036864900,2, 209.6020,2,    208.9,2,    129.7,2,    32.83,2,     0.00,2,     2.24,2,    0.203,2,    0.111,2,   0.0000,2,   2263.9,2,  2363.78,2,   7.5967,2,    25.00,     44.3,2,     -999,9,   0.6174,2,     -999,9,     -999,9,     -999,     -999,9,     -999,9,     -999,1,     -999,9,    0.061,1,    4.651,1,    0.126,1,  18.8900,2,     -999,9,20180502,1643, -67.5000, -98.0000,     -999,9,     -999,9,-999          ,9,     -999,9,     -999,9,     -999,     -999,9,     -999,     -999,9,     -999,9,     -999,9,     -999,9,     -999,9,     -999,9,     -999,9,     -999,9,     -999,9,     -999,9,     -999,9,     -999,9,     -999,9,     -999,9
320620180309  ,S04P       ,107     ,  1,5          ,5          ,2,20180502,1610, -67.5004, -98.0001,     4605,   3563.9,0.5239049019166799326,34.701879570123580,2,  34.7005,2,210.94912855700758,2, 211.4053,2,    211.1,2,    132.8,2,    32.97,2,     0.00,2,     2.25,2,     -999,9,     -999,9,     -999,9,   2265.3,2,  2364.68,2,   7.5959,2,    24.99,     42.4,2,     -999,9,   0.5236,2,     -999,9,     -999,9,     -999,     -999,9,     -999,9,     -999,1,     -999,9,    0.061,1,    4.650,1,    0.127,1,     -999,9,     -999,9,20180502,1636, -67.4998, -98.0001,     -999,9,     -999,9,-999          ,9,     -999,9,     -999,9,     -999,     -999,9,     -999,     -999,9,     -999,9,     -999,9,     -999,9,     -999,9,     -999,9,     -999,9,     -999,9,     -999,9,     -999,9,     -999,9,     -999,9,     -999,9,     -999,9
320620180309  ,S04P       ,107     ,  1,4          ,4          ,2,20180502,1610, -67.5004, -98.0001,     4605,   3873.0,0.4697525052974001469,34.701356963304697,2,  34.7007,2,212.35402617284637,2, 212.9993,2,    212.8,2,    136.1,2,    33.05,2,     0.00,2,     2.25,2,    0.232,2,    0.126,2,   0.0000,2,   2265.1,2,  2365.50,2,   7.5964,2,    24.99,     41.8,2,     -999,9,   0.4699,2,     -999,9,     -999,9,     -999,     -999,9,     -999,9,     -999,1,     -999,9,    0.061,1,    4.649,1,    0.125,1,  18.3000,2,     -999,9,20180502,1629, -67.5001, -98.0001,     -999,9,     -999,9,-999          ,9,     -999,9,     -999,9,     -999,     -999,9,     -999,     -999,9,     -999,9,     -999,9,     -999,9,     -999,9,     -999,9,     -999,9,     -999,9,     -999,9,     -999,9,     -999,9,     -999,9,     -999,9,     -999,9
320620180309  ,S04P       ,107     ,  1,3          ,3          ,2,20180502,1610, -67.5004, -98.0001,     4605,   4181.0,0.4309643665695937487,34.700255813156765,2,  34.6996,2,214.19162673770978,2, 213.9975,2,    214.1,2,    138.6,2,    33.07,2,     0.00,2,     2.26,2,    0.289,2,    0.152,2,   0.0900,2,   2265.2,2,  2363.73,2,   7.5962,2,    24.98,     41.0,2,     -999,9,   0.4309,2,     -999,9,     -999,9,     -999,     -999,9,     -999,9,     -999,1,     -999,9,    0.061,1,    4.648,1,    0.126,1,  18.8800,2,     -999,9,20180502,1622, -67.5004, -98.0001,     -999,9,     -999,9,-999          ,9,     -999,9,     -999,9,     -999,     -999,9,     -999,     -999,9,     -999,9,     -999,9,     -999,9,     -999,9,     -999,9,     -999,9,     -999,9,     -999,9,     -999,9,     -999,9,     -999,9,     -999,9,     -999,9
320620180309  ,S04P       ,107     ,  1,2          ,2          ,2,20180502,1610, -67.5004, -98.0001,     4605,   4462.9,0.4099582058652366245,34.699379209830241,2,  34.6996,2,215.58170316713921,2, 214.9981,2,    215.5,2,    141.5,2,    33.10,2,     0.00,2,     2.25,2,    0.355,2,    0.190,2,   0.1000,2,   2265.3,2,  2364.49,2,   7.5951,2,    25.00,     42.3,2,     -999,9,   0.4098,2,     -999,9,     -999,9,     -999,     -999,9,     -999,9,     -999,1,     -999,9,    0.060,1,    4.647,1,    0.128,1,  19.0500,2,     -999,9,20180502,1615, -67.5001, -98.0001,     -999,9,     -999,9,-999          ,9,     -999,9,     -999,9,     -999,     -999,9,     -999,     -999,9,     -999,9,     -999,9,     -999,9,     -999,9,     -999,9,     -999,9,     -999,9,     -999,9,     -999,9,     -999,9,     -999,9,     -999,9,     -999,9
320620180309  ,S04P       ,107     ,  1,1          ,1          ,2,20180502,1610, -67.5004, -98.0001,     4605,   4693.0,0.4123143643534343261,34.698888895890370,2,  34.6994,2,214.62664100789510,2, 214.0033,2,    213.8,2,    149.4,2,    33.25,2,     0.00,2,     2.24,2,    0.410,2,    0.217,2,   0.1400,2,   2267.4,6,  2366.47,2,   7.5895,2,    24.99,     42.4,2,     -999,9,   0.4123,2,     -999,9,     -999,9,     -999,     -999,9,     -999,9,     -999,1,     -999,9,    0.061,1,    4.636,1,    0.144,1,  19.0300,2,     -999,9,20180502,1610, -67.5004, -98.0001,     -999,9,     -999,9,-999          ,9,     -999,9,     -999,9,     -999,     -999,9,     -999,     -999,9,     -999,9,     -999,9,     -999,9,     -999,9,     -999,9,     -999,9,     -999,9,     -999,9,     -999,9,     -999,9,     -999,9,     -999,9,     -999,9