BOTTLE,20240515CCHHYDRO
EXPOCODE,SECT_ID,STNNBR,CASTNO,SAMPNO,BTLNBR,BTLNBR_FLAG_W,DATE,TIME,LATITUDE,LONGITUDE,DEPTH,CTDPRS,CTDTMP,CTDSAL,CTDSAL_FLAG_W,SALNTY,SALNTY_FLAG_W,CTDOXY,CTDOXY_FLAG_W,CTDOPTOXY,CTDOPTOXY_FLAG_W,OXYGEN,OXYGEN_FLAG_W,SILCAT,SILCAT_FLAG_W,NITRAT,NITRAT_FLAG_W,NITRIT,NITRIT_FLAG_W,PHSPHT,PHSPHT_FLAG_W,CFC-11,CFC-11_FLAG_W,CFC-12,CFC-12_FLAG_W,SF6,SF6_FLAG_W,TCARBN,TCARBN_FLAG_W,ALKALI,ALKALI_FLAG_W,PH_TOT,PH_TOT_FLAG_W,PH_TMP,DOC,DOC_FLAG_W,HELIUM,HELIUM_FLAG_W,REFTMP,REFTMP_FLAG_W,DELC13,DELC13_FLAG_W,DELC14,DELC14_FLAG_W,C14ERR,POC,POC_FLAG_W,TDN,TDN_FLAG_W,TON,TON_FLAG_W,NEON,NEON_FLAG_W,CTDFLUOR,CTDFLUOR_FLAG_W,CTDXMISS,CTDXMISS_FLAG_W,CTDBETA700,CTDBETA700_FLAG_W,N2O,N2O_FLAG_W,ARGON,ARGON_FLAG_W,BTL_DATE,BTL_TIME,BTL_LAT,BTL_LON,KRYPTON,KRYPTON_FLAG_W,XENON,XENON_FLAG_W,HPLC,HPLC_FLAG_W,HE3_HE4_RATIO,HE3_HE4_RATIO_FLAG_W,Nd_143_144_D_EPSILON_BOTTLE,Nd_143_144_D_EPSILON_BOTTLE_FLAG_W,Nd_143_144_D_EPSILON_BOTTLE_ERROR,Nd_143_144_D_RATIO_BOTTLE,Nd_143_144_D_RATIO_BOTTLE_FLAG_W,Nd_143_144_D_RATIO_BOTTLE_ERROR,Nd_D_CONC,Nd_D_CONC_FLAG_W,La_D_CONC_BOTTLE,La_D_CONC_BOTTLE_FLAG_W,Ce_D_CONC_BOTTLE,Ce_D_CONC_BOTTLE_FLAG_W,Pr_D_CONC_BOTTLE,Pr_D_CONC_BOTTLE_FLAG_W,Sm_D_CONC_BOTTLE,Sm_D_CONC_BOTTLE_FLAG_W,Eu_D_CONC_BOTTLE,Eu_D_CONC_BOTTLE_FLAG_W,Gd_D_CONC_BOTTLE,Gd_D_CONC_BOTTLE_FLAG_W,Tb_D_CONC_BOTTLE,Tb_D_CONC_BOTTLE_FLAG_W,Dy_D_CONC_BOTTLE,Dy_D_CONC_BOTTLE_FLAG_W,Ho_D_CONC_BOTTLE,Ho_D_CONC_BOTTLE_FLAG_W,Er_D_CONC_BOTTLE,Er_D_CONC_BOTTLE_FLAG_W,Tm_D_CONC_BOTTLE,Tm_D_CONC_BOTTLE_FLAG_W,Yb_D_CONC_BOTTLE,Yb_D_CONC_BOTTLE_FLAG_W,Lu_D_CONC_BOTTLE,Lu_D_CONC_BOTTLE_FLAG_W
,,,,,,,,,,,METERS,DBAR,ITS-90,PSS-78,,PSS-78,,UMOL/KG,,UMOL/KG,,UMOL/KG,,UMOL/KG,,UMOL/KG,,UMOL/KG,,UMOL/KG,,PMOL/KG,,PMOL/KG,,FMOL/KG,,UMOL/KG,,UMOL/KG,,,,DEG C,UMOL/KG,,NMOL/L,,DEG C,,/MILLE,,/MILLE,,/MILLE,UG/KG,,UMOL/KG,,UMOL/KG,,NMOL/L,,VOLTS,,VOLTS,,VOLTS,,NMOL/KG,,UMOL/L,,,,,,NMOL/L,,NMOL/L,,,,,,10000,,10000,,,,PMOL/KG,,PMOL/L,,PMOL/L,,PMOL/L,,PMOL/L,,PMOL/L,,PMOL/L,,PMOL/L,,PMOL/L,,PMOL/L,,PMOL/L,,PMOL/L,,PMOL/L,,PMOL/L,
320620180309  ,S04P       ,85      ,  1,36         ,36         ,2,20180423,0156, -66.9998,-124.3571,     4331,      7.7,-1.6787444444444445946,33.701180395880868,2,  33.6981,2,349.20556903781431,2, 348.5993,2,    349.5,2,     43.0,2,    26.67,2,     0.21,2,     1.82,2,    5.783,2,    3.249,2,   3.8400,2,   2170.0,6,  2281.77,2,   7.6501,2,    24.85,     -999,9,     -999,9,  -1.6789,2,     -999,9,     -999,9,     -999,     -999,9,     -999,9,     -999,9,     -999,9,    0.245,1,    4.563,1,    0.241,1,  17.2200,2,     -999,9,20180423,0404, -66.9969,-124.3571,     -999,9,     -999,9,-999          ,9,     -999,9,     -999,9,     -999,     -999,9,     -999,     -999,9,     -999,1,     -999,1,     -999,1,     -999,1,     -999,1,     -999,1,     -999,1,     -999,1,     -999,1,     -999,1,     -999,1,     -999,1,     -999,1
320620180309  ,S04P       ,85      ,  1,35         ,35         ,2,20180423,0156, -66.9998,-124.3571,     4331,     25.1,-1.6694027777777775690,33.701471105263501,2,  33.6985,2,349.92331311116948,2, 348.6001,2,    349.1,2,     43.1,2,    26.67,2,     0.21,2,     1.82,2,     -999,9,     -999,9,     -999,9,     -999,9,     -999,9,     -999,9,     -999,     -999,9,     -999,1,  -1.6695,2,     -999,9,     -999,9,     -999,     -999,9,     -999,9,     -999,9,     -999,1,    0.254,1,    4.562,1,    0.250,1,     -999,9,     -999,1,20180423,0403, -66.9971,-124.3569,     -999,1,     -999,1,-999          ,9,     -999,1,     -999,9,     -999,     -999,9,     -999,     -999,9,     -999,1,     -999,1,     -999,1,     -999,1,     -999,1,     -999,1,     -999,1,     -999,1,     -999,1,     -999,1,     -999,1,     -999,1,     -999,1
320620180309  ,S04P       ,85      ,  1,34         ,34         ,2,20180423,0156, -66.9998,-124.3571,     4331,     49.4,-1.6658305555555552591,33.702223515935039,2,  33.7007,2,346.92578829311094,2, 348.5919,2,    348.9,2,     43.4,2,    26.70,2,     0.22,2,     1.81,2,     -999,9,     -999,9,     -999,9,   2169.5,2,  2281.01,2,   7.6480,6,    24.86,     -999,9,     -999,9,  -1.6659,2,     -999,9,     -999,9,     -999,     -999,9,     -999,9,     -999,9,     -999,9,    0.252,1,    4.563,1,    0.251,1,     -999,9,     -999,9,20180423,0401, -66.9972,-124.3571,     -999,9,     -999,9,-999          ,9,     -999,9,     -999,9,     -999,     -999,9,     -999,     -999,9,     -999,1,     -999,1,     -999,1,     -999,1,     -999,1,     -999,1,     -999,1,     -999,1,     -999,1,     -999,1,     -999,1,     -999,1,     -999,1
320620180309  ,S04P       ,85      ,  1,33         ,33         ,2,20180423,0156, -66.9998,-124.3571,     4331,     75.1,-1.5212444444444441771,33.971686469447278,2,  33.9804,2,331.18339287655124,3, 310.5011,2,    309.7,2,     55.3,2,    29.58,2,     0.17,2,     2.01,2,    4.734,2,    2.655,2,   3.0400,2,     -999,9,     -999,9,     -999,9,     -999,     -999,9,     -999,1,  -1.5207,2,     -999,9,     -999,9,     -999,     -999,9,     -999,9,     -999,9,     -999,1,    0.255,1,    4.564,1,    0.244,1,  18.3400,2,     -999,1,20180423,0359, -66.9974,-124.3571,     -999,1,     -999,1,-999          ,9,     -999,1,     -999,9,     -999,     -999,9,     -999,     -999,9,     -999,9,     -999,9,     -999,9,     -999,9,     -999,9,     -999,9,     -999,9,     -999,9,     -999,9,     -999,9,     -999,9,     -999,9,     -999,9
320620180309  ,S04P       ,85      ,  1,32         ,32         ,2,20180423,0156, -66.9998,-124.3571,     4331,    100.2,-0.3654777777777777903,34.203116203274369,2,  34.2072,2,270.69301885181812,3, 262.9987,2,    261.4,2,     64.0,2,    32.17,2,     0.04,2,     2.17,2,     -999,9,     -999,9,     -999,9,   2223.4,2,  2311.83,2,   7.5758,2,    24.86,     -999,9,     -999,9,  -0.4045,2,     -999,9,     -999,9,     -999,     -999,9,     -999,9,     -999,9,     -999,9,    0.109,1,    4.631,1,    0.181,1,     -999,9,     -999,9,20180423,0358, -66.9975,-124.3573,     -999,9,     -999,9,-999          ,9,     -999,9,     -999,9,     -999,     -999,9,     -999,     -999,9,     -999,1,     -999,1,     -999,1,     -999,1,     -999,1,     -999,1,     -999,1,     -999,1,     -999,1,     -999,1,     -999,1,     -999,1,     -999,1
320620180309  ,S04P       ,85      ,  1,31         ,31         ,2,20180423,0156, -66.9998,-124.3571,     4331,    125.5,0.6067888888888888221,34.348853680317028,2,  34.3637,2,231.70831222411604,3, 225.7954,2,    224.5,2,     70.2,2,    33.59,2,     0.02,2,     2.26,2,    2.531,2,    1.372,2,   1.3900,2,   2241.6,2,  2322.85,2,   7.5558,2,    24.86,     -999,9,     -999,1,   0.5702,2,     -999,9,     -999,9,     -999,     -999,9,     -999,9,     -999,9,     -999,1,    0.080,1,    4.647,1,    0.165,1,  23.2200,2,     -999,1,20180423,0356, -66.9976,-124.3573,     -999,1,     -999,1,-999          ,9,     -999,1,     -999,9,     -999,     -999,9,     -999,     -999,9,     -999,9,     -999,9,     -999,9,     -999,9,     -999,9,     -999,9,     -999,9,     -999,9,     -999,9,     -999,9,     -999,9,     -999,9,     -999,9
320620180309  ,S04P       ,85      ,  1,30         ,30         ,2,20180423,0156, -66.9998,-124.3571,     4331,    150.9,1.2021416666666668860,34.445673763466736,2,  34.4495,2,208.26410099233024,3, 204.5024,2,    204.3,2,     72.9,2,    34.15,2,     0.00,2,     2.28,2,     -999,9,     -999,9,     -999,9,   2249.7,2,  2327.05,2,   7.5469,2,    24.85,     -999,9,     -999,9,   1.1982,2,     -999,9,     -999,9,     -999,     -999,9,     -999,9,     -999,9,     -999,9,    0.075,1,    4.646,1,    0.158,1,     -999,9,     -999,9,20180423,0354, -66.9976,-124.3573,     -999,9,     -999,9,-999          ,9,     -999,9,     -999,9,     -999,     -999,9,     -999,     -999,9,     -999,1,     -999,1,     -999,1,     -999,1,     -999,1,     -999,1,     -999,1,     -999,1,     -999,1,     -999,1,     -999,1,     -999,1,     -999,1
320620180309  ,S04P       ,85      ,  1,29         ,29         ,2,20180423,0156, -66.9998,-124.3571,     4331,    200.3,1.5372000000000001219,34.524453140492859,2,  34.5358,2,191.12118858668427,3, 190.4045,2,    188.5,2,     77.7,2,    34.25,2,     0.00,2,     2.34,2,    1.302,2,    0.693,2,   0.7100,2,   2254.5,2,  2333.20,2,   7.5453,2,    24.86,     -999,9,     -999,1,   1.5397,2,     -999,9,     -999,9,     -999,     -999,9,     -999,9,     -999,9,     -999,1,    0.066,1,    4.651,1,    0.144,1,  23.5800,2,     -999,1,20180423,0352, -66.9976,-124.3573,     -999,1,     -999,1,-999          ,9,     -999,1,     -999,9,     -999,     -999,9,     -999,     -999,9,     -999,9,     -999,9,     -999,9,     -999,9,     -999,9,     -999,9,     -999,9,     -999,9,     -999,9,     -999,9,     -999,9,     -999,9,     -999,9
320620180309  ,S04P       ,85      ,  1,28         ,28         ,2,20180423,0156, -66.9998,-124.3571,     4331,    252.0,1.8928805555555558993,34.606387478833888,2,  34.6054,2,179.52892391759465,2, 181.1947,2,    178.6,2,     80.8,2,    34.13,2,     0.00,2,     2.32,2,     -999,9,     -999,9,     -999,9,   2257.6,2,  2337.36,2,   7.5479,2,    24.86,     -999,9,     -999,9,   1.8904,2,     -999,9,     -999,9,     -999,     -999,9,     -999,9,     -999,9,     -999,9,    0.065,1,    4.653,1,    0.149,1,     -999,9,     -999,9,20180423,0350, -66.9977,-124.3572,     -999,9,     -999,9,-999          ,9,     -999,9,     -999,9,     -999,     -999,9,     -999,     -999,9,     -999,1,     -999,1,     -999,1,     -999,1,     -999,1,     -999,1,     -999,1,     -999,1,     -999,1,     -999,1,     -999,1,     -999,1,     -999,1
320620180309  ,S04P       ,85      ,  1,27         ,27         ,2,20180423,0156, -66.9998,-124.3571,     4331,    302.9,1.9482916666666669769,34.649625634376186,2,  34.6505,2,176.83799147678317,2, 179.1970,2,    176.5,2,     83.5,2,    33.63,2,     0.00,2,     2.28,2,    0.575,2,    0.308,2,   0.1500,2,   2260.6,2,  2342.50,2,   7.5566,2,    24.85,     -999,9,     -999,1,   1.9480,2,     -999,9,     -999,9,     -999,     -999,9,     -999,9,     -999,9,     -999,1,    0.063,1,    4.657,1,    0.137,1,  22.2800,2,     -999,1,20180423,0347, -66.9977,-124.3572,     -999,1,     -999,1,-999          ,9,     -999,1,     -999,9,     -999,     -999,9,     -999,     -999,9,     -999,9,     -999,9,     -999,9,     -999,9,     -999,9,     -999,9,     -999,9,     -999,9,     -999,9,     -999,9,     -999,9,     -999,9,     -999,9
320620180309  ,S04P       ,85      ,  1,26         ,38         ,2,20180423,0156, -66.9998,-124.3571,     4331,    352.6,1.9528749999999999165,34.676639779583056,2,  34.6764,2,177.07580131364480,2, 179.0975,2,    176.1,2,     85.4,2,    33.20,2,     0.00,2,     2.26,2,     -999,9,     -999,9,     -999,9,   2259.1,6,  2344.16,2,   7.5614,2,    24.87,     -999,9,     -999,9,   1.9519,2,     -999,9,     -999,9,     -999,     -999,9,     -999,9,     -999,9,     -999,9,    0.066,1,    4.658,1,    0.139,1,     -999,9,     -999,9,20180423,0345, -66.9976,-124.3572,     -999,9,     -999,9,-999          ,9,     -999,9,     -999,9,     -999,     -999,9,     -999,     -999,9,     -999,1,     -999,1,     -999,1,     -999,1,     -999,1,     -999,1,     -999,1,     -999,1,     -999,1,     -999,1,     -999,1,     -999,1,     -999,1
320620180309  ,S04P       ,85      ,  1,25         ,25         ,2,20180423,0156, -66.9998,-124.3571,     4331,    404.2,1.9443527777777778187,34.690193258218947,2,  34.6905,2,177.51311369513434,2, 179.4020,2,    177.6,2,     86.2,2,    32.96,2,     0.00,2,     2.25,2,    0.388,2,    0.208,2,   0.1300,2,   2259.4,2,  2347.58,2,   7.5673,2,    24.86,     -999,9,     -999,1,   1.9437,2,     -999,9,     -999,9,     -999,     -999,9,     -999,9,     -999,9,     -999,1,    0.062,1,    4.658,1,    0.136,1,  22.3400,2,     -999,1,20180423,0343, -66.9977,-124.3573,     -999,1,     -999,1,-999          ,9,     -999,1,     -999,9,     -999,     -999,9,     -999,     -999,9,     -999,9,     -999,9,     -999,9,     -999,9,     -999,9,     -999,9,     -999,9,     -999,9,     -999,9,     -999,9,     -999,9,     -999,9,     -999,9
320620180309  ,S04P       ,85      ,  1,24         ,24         ,2,20180423,0156, -66.9998,-124.3571,     4331,    453.9,1.9066638888888887138,34.704569430027554,2,  34.7027,2,178.52269210049826,2, 180.4994,2,    178.1,2,     87.7,2,    32.74,2,     0.00,2,     2.24,2,     -999,9,     -999,9,     -999,9,   2259.9,2,  2349.81,2,   7.5706,2,    24.87,     -999,9,     -999,9,   1.9058,2,     -999,9,     -999,9,     -999,     -999,9,     -999,9,     -999,9,     -999,9,    0.062,1,    4.658,1,    0.136,1,     -999,9,     -999,9,20180423,0341, -66.9977,-124.3573,     -999,9,     -999,9,-999          ,9,     -999,9,     -999,9,     -999,     -999,9,     -999,     -999,9,     -999,1,     -999,1,     -999,1,     -999,1,     -999,1,     -999,1,     -999,1,     -999,1,     -999,1,     -999,1,     -999,1,     -999,1,     -999,1
320620180309  ,S04P       ,85      ,  1,23         ,23         ,2,20180423,0156, -66.9998,-124.3571,     4331,    505.4,1.8707944444444446486,34.713440206837184,2,  34.7115,2,180.81928907355888,2, 181.6994,2,    181.7,2,     88.7,2,    32.47,2,     0.00,2,     2.22,2,    0.294,2,    0.154,2,   0.0600,2,     -999,9,     -999,9,     -999,9,     -999,     -999,9,     -999,1,   1.8696,2,     -999,9,     -999,9,     -999,     -999,9,     -999,9,     -999,9,     -999,1,    0.062,1,    4.655,1,    0.141,1,  21.7700,2,     -999,1,20180423,0338, -66.9978,-124.3572,     -999,1,     -999,1,-999          ,9,     -999,1,     -999,9,     -999,     -999,9,     -999,     -999,9,     -999,9,     -999,9,     -999,9,     -999,9,     -999,9,     -999,9,     -999,9,     -999,9,     -999,9,     -999,9,     -999,9,     -999,9,     -999,9
320620180309  ,S04P       ,85      ,  1,22         ,37         ,2,20180423,0156, -66.9998,-124.3571,     4331,    606.0,1.7843527777777776766,34.723953433866463,2,  34.7233,2,183.78349393066773,2, 184.0043,2,    184.4,2,     91.3,2,    32.13,2,     0.00,2,     2.21,2,     -999,9,     -999,9,     -999,9,   2258.2,2,  2351.94,2,   7.5849,2,    24.85,     -999,9,     -999,9,   1.7826,2,     -999,9,     -999,9,     -999,     -999,9,     -999,9,     -999,9,     -999,9,    0.062,1,    4.658,1,    0.135,1,     -999,9,     -999,9,20180423,0335, -66.9978,-124.3573,     -999,9,     -999,9,-999          ,9,     -999,9,     -999,9,     -999,     -999,9,     -999,     -999,9,     -999,1,     -999,1,     -999,1,     -999,1,     -999,1,     -999,1,     -999,1,     -999,1,     -999,1,     -999,1,     -999,1,     -999,1,     -999,1
320620180309  ,S04P       ,85      ,  1,21         ,21         ,2,20180423,0156, -66.9998,-124.3571,     4331,    706.5,1.6912638888888886779,34.729712264576513,2,  34.7292,2,187.90906358793129,2, 187.1033,2,    188.4,2,     93.9,2,    31.87,2,     0.00,2,     2.19,2,    0.222,2,    0.116,2,   0.0400,2,     -999,9,     -999,9,     -999,9,     -999,     -999,9,     -999,9,   1.6900,2,     -999,9,     -999,9,     -999,     -999,9,     -999,9,     -999,9,     -999,9,    0.061,1,    4.657,1,    0.133,1,  20.1400,2,     -999,9,20180423,0332, -66.9977,-124.3573,     -999,9,     -999,9,-999          ,9,     -999,9,     -999,9,     -999,     -999,9,     -999,     -999,9,     -999,9,     -999,9,     -999,9,     -999,9,     -999,9,     -999,9,     -999,9,     -999,9,     -999,9,     -999,9,     -999,9,     -999,9,     -999,9
320620180309  ,S04P       ,85      ,  1,20         ,20         ,2,20180423,0156, -66.9998,-124.3571,     4331,    809.0,1.6175055555555555298,34.731649759450164,2,  34.7308,2,190.40418108920170,2, 188.9956,2,    189.8,2,     95.9,2,    31.83,2,     0.00,2,     2.19,2,     -999,9,     -999,9,     -999,9,   2254.3,2,  2355.42,2,   7.5931,2,    24.85,     -999,9,     -999,1,   1.6168,2,     -999,9,     -999,9,     -999,     -999,9,     -999,9,     -999,9,     -999,1,    0.061,1,    4.659,1,    0.132,1,     -999,9,     -999,1,20180423,0329, -66.9978,-124.3573,     -999,1,     -999,1,-999          ,9,     -999,1,     -999,9,     -999,     -999,9,     -999,     -999,9,     -999,1,     -999,1,     -999,1,     -999,1,     -999,1,     -999,1,     -999,1,     -999,1,     -999,1,     -999,1,     -999,1,     -999,1,     -999,1
320620180309  ,S04P       ,85      ,  1,19         ,19         ,2,20180423,0156, -66.9998,-124.3571,     4331,    910.7,1.5192722222222223571,34.732193346777770,2,  34.7316,2,191.39360041893042,2, 190.9063,2,    192.2,2,     98.8,2,    31.88,2,     0.00,2,     2.20,2,    0.186,2,    0.102,2,   0.1000,2,     -999,9,     -999,9,     -999,9,     -999,     -999,9,     -999,9,   1.5194,2,     -999,9,     -999,9,     -999,     -999,9,     -999,9,     -999,9,     -999,9,    0.061,1,    4.659,1,    0.131,1,  20.8400,2,     -999,9,20180423,0326, -66.9978,-124.3573,     -999,9,     -999,9,-999          ,9,     -999,9,     -999,9,     -999,     -999,9,     -999,     -999,9,     -999,9,     -999,9,     -999,9,     -999,9,     -999,9,     -999,9,     -999,9,     -999,9,     -999,9,     -999,9,     -999,9,     -999,9,     -999,9
320620180309  ,S04P       ,85      ,  1,18         ,18         ,2,20180423,0156, -66.9998,-124.3571,     4331,   1012.2,1.4466138888888890879,34.731392773237957,2,  34.7310,2,192.76185298330935,2, 192.3000,2,    193.0,2,    101.0,2,    31.95,2,     0.00,2,     2.20,2,     -999,9,     -999,9,     -999,9,   2259.1,2,  2358.49,2,   7.5983,2,    24.85,     -999,9,     -999,9,   1.4458,2,     -999,9,     -999,9,     -999,     -999,9,     -999,9,     -999,9,     -999,9,    0.061,1,    4.660,1,    0.131,1,     -999,9,     -999,9,20180423,0323, -66.9978,-124.3573,     -999,9,     -999,9,-999          ,9,     -999,9,     -999,9,     -999,     -999,9,     -999,     -999,9,     -999,1,     -999,1,     -999,1,     -999,1,     -999,1,     -999,1,     -999,1,     -999,1,     -999,1,     -999,1,     -999,1,     -999,1,     -999,1
320620180309  ,S04P       ,85      ,  1,17         ,17         ,2,20180423,0156, -66.9998,-124.3571,     4331,   1112.8,1.3625833333333330355,34.729799635926355,2,  34.7296,2,194.15191879361970,2, 193.6987,2,    193.8,2,    103.9,2,    32.03,2,     0.00,2,     2.20,2,    0.163,2,    0.082,2,   0.0300,2,     -999,9,     -999,9,     -999,9,     -999,     -999,9,     -999,1,   1.3635,2,     -999,9,     -999,9,     -999,     -999,9,     -999,9,     -999,9,     -999,1,    0.062,1,    4.660,1,    0.130,1,  19.7000,2,     -999,1,20180423,0320, -66.9978,-124.3573,     -999,1,     -999,1,-999          ,9,     -999,1,     -999,9,     -999,     -999,9,     -999,     -999,9,     -999,9,     -999,9,     -999,9,     -999,9,     -999,9,     -999,9,     -999,9,     -999,9,     -999,9,     -999,9,     -999,9,     -999,9,     -999,9
320620180309  ,S04P       ,85      ,  1,16         ,16         ,2,20180423,0156, -66.9998,-124.3571,     4331,   1214.9,1.2760416666666669627,34.727426077436462,2,  34.7282,2,194.67816171686968,2, 195.0975,2,    195.7,2,    106.9,2,    32.17,2,     0.00,2,     2.21,2,     -999,9,     -999,9,     -999,9,   2262.8,2,  2360.33,2,   7.5973,2,    24.87,     -999,9,     -999,9,   1.2749,2,     -999,9,     -999,9,     -999,     -999,9,     -999,9,     -999,9,     -999,9,    0.062,1,    4.660,1,    0.129,1,     -999,9,     -999,9,20180423,0317, -66.9978,-124.3573,     -999,9,     -999,9,-999          ,9,     -999,9,     -999,9,     -999,     -999,9,     -999,     -999,9,     -999,1,     -999,1,     -999,1,     -999,1,     -999,1,     -999,1,     -999,1,     -999,1,     -999,1,     -999,1,     -999,1,     -999,1,     -999,1