BOTTLE,20240515CCHHYDRO
EXPOCODE,SECT_ID,STNNBR,CASTNO,SAMPNO,BTLNBR,BTLNBR_FLAG_W,DATE,TIME,LATITUDE,LONGITUDE,DEPTH,CTDPRS,CTDTMP,CTDSAL,CTDSAL_FLAG_W,SALNTY,SALNTY_FLAG_W,CTDOXY,CTDOXY_FLAG_W,CTDOPTOXY,CTDOPTOXY_FLAG_W,OXYGEN,OXYGEN_FLAG_W,SILCAT,SILCAT_FLAG_W,NITRAT,NITRAT_FLAG_W,NITRIT,NITRIT_FLAG_W,PHSPHT,PHSPHT_FLAG_W,CFC-11,CFC-11_FLAG_W,CFC-12,CFC-12_FLAG_W,SF6,SF6_FLAG_W,TCARBN,TCARBN_FLAG_W,ALKALI,ALKALI_FLAG_W,PH_TOT,PH_TOT_FLAG_W,PH_TMP,DOC,DOC_FLAG_W,HELIUM,HELIUM_FLAG_W,REFTMP,REFTMP_FLAG_W,DELC13,DELC13_FLAG_W,DELC14,DELC14_FLAG_W,C14ERR,POC,POC_FLAG_W,TDN,TDN_FLAG_W,TON,TON_FLAG_W,NEON,NEON_FLAG_W,CTDFLUOR,CTDFLUOR_FLAG_W,CTDXMISS,CTDXMISS_FLAG_W,CTDBETA700,CTDBETA700_FLAG_W,N2O,N2O_FLAG_W,ARGON,ARGON_FLAG_W,BTL_DATE,BTL_TIME,BTL_LAT,BTL_LON,KRYPTON,KRYPTON_FLAG_W,XENON,XENON_FLAG_W,HPLC,HPLC_FLAG_W,HE3_HE4_RATIO,HE3_HE4_RATIO_FLAG_W,Nd_143_144_D_EPSILON_BOTTLE,Nd_143_144_D_EPSILON_BOTTLE_FLAG_W,Nd_143_144_D_EPSILON_BOTTLE_ERROR,Nd_143_144_D_RATIO_BOTTLE,Nd_143_144_D_RATIO_BOTTLE_FLAG_W,Nd_143_144_D_RATIO_BOTTLE_ERROR,Nd_D_CONC,Nd_D_CONC_FLAG_W,La_D_CONC_BOTTLE,La_D_CONC_BOTTLE_FLAG_W,Ce_D_CONC_BOTTLE,Ce_D_CONC_BOTTLE_FLAG_W,Pr_D_CONC_BOTTLE,Pr_D_CONC_BOTTLE_FLAG_W,Sm_D_CONC_BOTTLE,Sm_D_CONC_BOTTLE_FLAG_W,Eu_D_CONC_BOTTLE,Eu_D_CONC_BOTTLE_FLAG_W,Gd_D_CONC_BOTTLE,Gd_D_CONC_BOTTLE_FLAG_W,Tb_D_CONC_BOTTLE,Tb_D_CONC_BOTTLE_FLAG_W,Dy_D_CONC_BOTTLE,Dy_D_CONC_BOTTLE_FLAG_W,Ho_D_CONC_BOTTLE,Ho_D_CONC_BOTTLE_FLAG_W,Er_D_CONC_BOTTLE,Er_D_CONC_BOTTLE_FLAG_W,Tm_D_CONC_BOTTLE,Tm_D_CONC_BOTTLE_FLAG_W,Yb_D_CONC_BOTTLE,Yb_D_CONC_BOTTLE_FLAG_W,Lu_D_CONC_BOTTLE,Lu_D_CONC_BOTTLE_FLAG_W
,,,,,,,,,,,METERS,DBAR,ITS-90,PSS-78,,PSS-78,,UMOL/KG,,UMOL/KG,,UMOL/KG,,UMOL/KG,,UMOL/KG,,UMOL/KG,,UMOL/KG,,PMOL/KG,,PMOL/KG,,FMOL/KG,,UMOL/KG,,UMOL/KG,,,,DEG C,UMOL/KG,,NMOL/L,,DEG C,,/MILLE,,/MILLE,,/MILLE,UG/KG,,UMOL/KG,,UMOL/KG,,NMOL/L,,VOLTS,,VOLTS,,VOLTS,,NMOL/KG,,UMOL/L,,,,,,NMOL/L,,NMOL/L,,,,,,10000,,10000,,,,PMOL/KG,,PMOL/L,,PMOL/L,,PMOL/L,,PMOL/L,,PMOL/L,,PMOL/L,,PMOL/L,,PMOL/L,,PMOL/L,,PMOL/L,,PMOL/L,,PMOL/L,,PMOL/L,
320620180309  ,S04P       ,63      ,  1,15         ,15         ,2,20180413,0947, -67.0001,-156.5202,     3957,   1280.2,0.8418944444444442787,34.714557563101714,2,  34.7133,2,201.11652223439458,2, 200.9961,2,    201.3,2,    120.5,2,    32.46,2,     0.00,2,     2.20,2,     -999,9,     -999,9,     -999,9,   2263.2,2,  2363.26,2,   7.5933,2,    24.93,     -999,9,     -999,9,   0.8408,2,     -999,9,     -999,9,     -999,     -999,9,     -999,9,     -999,9,     -999,9,    0.061,1,    4.666,1,    0.129,1,     -999,9,     -999,9,20180413,1058, -66.9997,-156.5211,     -999,9,     -999,9,-999          ,9,     -999,9,     -999,9,     -999,     -999,9,     -999,     -999,9,     -999,9,     -999,9,     -999,9,     -999,9,     -999,9,     -999,9,     -999,9,     -999,9,     -999,9,     -999,9,     -999,9,     -999,9,     -999,9
320620180309  ,S04P       ,63      ,  1,14         ,14         ,2,20180413,0947, -67.0001,-156.5202,     3957,   1382.1,0.7889750000000000929,34.712300205330891,2,  34.7113,2,202.39838525333087,2, 202.4968,2,    202.8,2,    122.4,2,    32.43,2,     0.00,2,     2.21,2,     -999,9,     -999,9,     -999,9,     -999,9,     -999,9,     -999,9,     -999,     -999,9,     -999,9,   0.7879,2,     -999,9,     -999,9,     -999,     -999,9,     -999,9,     -999,9,     -999,9,    0.061,1,    4.666,1,    0.127,1,     -999,9,     -999,9,20180413,1054, -66.9998,-156.5209,     -999,9,     -999,9,-999          ,9,     -999,9,     -999,9,     -999,     -999,9,     -999,     -999,9,     -999,9,     -999,9,     -999,9,     -999,9,     -999,9,     -999,9,     -999,9,     -999,9,     -999,9,     -999,9,     -999,9,     -999,9,     -999,9
320620180309  ,S04P       ,63      ,  1,13         ,13         ,2,20180413,0947, -67.0001,-156.5202,     3957,   1483.5,0.7500583333333332714,34.710989010912286,2,  34.7098,2,203.48373417110221,2, 203.9020,2,    203.6,2,    123.9,2,    32.43,2,     0.00,2,     2.21,2,    0.117,2,    0.059,2,   0.0300,2,   2260.5,2,  2364.07,2,   7.5943,2,    24.93,     -999,9,     -999,9,   0.7493,2,     -999,9,     -999,9,     -999,     -999,9,     -999,9,     -999,9,     -999,9,    0.060,1,    4.666,1,    0.127,1,  20.1800,2,     -999,9,20180413,1050, -66.9999,-156.5204,     -999,9,     -999,9,-999          ,9,     -999,9,     -999,9,     -999,     -999,9,     -999,     -999,9,     -999,9,     -999,9,     -999,9,     -999,9,     -999,9,     -999,9,     -999,9,     -999,9,     -999,9,     -999,9,     -999,9,     -999,9,     -999,9
320620180309  ,S04P       ,63      ,  1,12         ,12         ,2,20180413,0947, -67.0001,-156.5202,     3957,   1586.3,0.7124555555555553976,34.709310381202876,2,  34.7084,2,204.26180399305005,2, 204.6067,2,    204.9,2,    125.2,2,    32.44,2,     0.00,2,     2.21,2,     -999,9,     -999,9,     -999,9,     -999,9,     -999,9,     -999,9,     -999,     -999,9,     -999,9,   0.7116,2,     -999,9,     -999,9,     -999,     -999,9,     -999,9,     -999,9,     -999,9,    0.061,1,    4.666,1,    0.127,1,     -999,9,     -999,9,20180413,1047, -66.9999,-156.5200,     -999,9,     -999,9,-999          ,9,     -999,9,     -999,9,     -999,     -999,9,     -999,     -999,9,     -999,9,     -999,9,     -999,9,     -999,9,     -999,9,     -999,9,     -999,9,     -999,9,     -999,9,     -999,9,     -999,9,     -999,9,     -999,9
320620180309  ,S04P       ,63      ,  1,11         ,11         ,2,20180413,0947, -67.0001,-156.5202,     3957,   1688.0,0.6819111111111109125,34.708077761562130,2,  34.7076,2,205.44941947376788,2, 205.4001,2,    205.5,2,    125.9,2,    32.50,2,     0.00,2,     2.21,2,     -999,9,     -999,9,     -999,9,     -999,9,     -999,9,     -999,9,     -999,     -999,9,     -999,9,   0.6811,2,     -999,9,     -999,9,     -999,     -999,9,     -999,9,     -999,9,     -999,9,    0.062,1,    4.666,1,    0.128,1,     -999,9,     -999,9,20180413,1044, -66.9999,-156.5201,     -999,9,     -999,9,-999          ,9,     -999,9,     -999,9,     -999,     -999,9,     -999,     -999,9,     -999,9,     -999,9,     -999,9,     -999,9,     -999,9,     -999,9,     -999,9,     -999,9,     -999,9,     -999,9,     -999,9,     -999,9,     -999,9
320620180309  ,S04P       ,63      ,  1,10         ,10         ,2,20180413,0947, -67.0001,-156.5202,     3957,   1788.9,0.6417388888888889698,34.706793655580960,2,  34.7054,2,206.16780933126162,2, 206.4020,2,    206.2,2,    125.9,2,    32.49,2,     0.00,2,     2.19,2,    0.140,2,    0.087,2,   0.0800,2,   2261.0,2,  2363.52,2,   7.5939,2,    24.93,     -999,9,     -999,9,   0.6411,2,     -999,9,     -999,9,     -999,     -999,9,     -999,9,     -999,9,     -999,9,    0.061,1,    4.666,1,    0.127,1,  20.3200,2,     -999,9,20180413,1041, -66.9999,-156.5207,     -999,9,     -999,9,-999          ,9,     -999,9,     -999,9,     -999,     -999,9,     -999,     -999,9,     -999,9,     -999,9,     -999,9,     -999,9,     -999,9,     -999,9,     -999,9,     -999,9,     -999,9,     -999,9,     -999,9,     -999,9,     -999,9
320620180309  ,S04P       ,63      ,  1,9          ,9          ,2,20180413,0947, -67.0001,-156.5202,     3957,   1964.4,0.5754777777777777548,34.705042577701761,2,  34.7035,2,207.46601614446510,2, 207.9994,2,    207.6,2,    127.2,2,    32.48,2,     0.00,2,     2.21,2,     -999,9,     -999,9,     -999,9,   2261.9,2,  2363.88,2,   7.5940,2,    24.92,     -999,9,     -999,9,   0.5749,2,     -999,9,     -999,9,     -999,     -999,9,     -999,9,     -999,9,     -999,9,    0.061,1,    4.667,1,    0.126,1,     -999,9,     -999,9,20180413,1037, -66.9997,-156.5214,     -999,9,     -999,9,-999          ,9,     -999,9,     -999,9,     -999,     -999,9,     -999,     -999,9,     -999,9,     -999,9,     -999,9,     -999,9,     -999,9,     -999,9,     -999,9,     -999,9,     -999,9,     -999,9,     -999,9,     -999,9,     -999,9
320620180309  ,S04P       ,63      ,  1,8          ,8          ,2,20180413,0947, -67.0001,-156.5202,     3957,   2197.0,0.4947666666666666324,34.703518620626113,2,  34.7021,2,209.39710165888147,2, 209.8957,2,    210.2,2,    128.8,2,    32.57,2,     0.00,2,     2.23,2,     -999,9,     -999,9,     -999,9,     -999,9,     -999,9,     -999,9,     -999,     -999,9,     -999,9,   0.4945,2,     -999,9,     -999,9,     -999,     -999,9,     -999,9,     -999,9,     -999,9,    0.061,1,    4.666,1,    0.124,1,     -999,9,     -999,9,20180413,1031, -66.9997,-156.5217,     -999,9,     -999,9,-999          ,9,     -999,9,     -999,9,     -999,     -999,9,     -999,     -999,9,     -999,9,     -999,9,     -999,9,     -999,9,     -999,9,     -999,9,     -999,9,     -999,9,     -999,9,     -999,9,     -999,9,     -999,9,     -999,9
320620180309  ,S04P       ,63      ,  1,7          ,7          ,2,20180413,0947, -67.0001,-156.5202,     3957,   2564.4,0.3843583333333333574,34.700963188386204,2,  34.6998,2,212.35552769518767,2, 212.4985,2,    212.4,2,    131.0,2,    32.62,2,     0.00,2,     2.24,2,    0.231,2,    0.138,2,   0.0400,2,   2260.7,2,  2363.53,2,   7.5952,2,    24.93,     -999,9,     -999,9,   0.3835,2,     -999,9,     -999,9,     -999,     -999,9,     -999,9,     -999,9,     -999,9,    0.061,1,    4.664,1,    0.126,1,  19.6800,2,     -999,9,20180413,1023, -66.9996,-156.5219,     -999,9,     -999,9,-999          ,9,     -999,9,     -999,9,     -999,     -999,9,     -999,     -999,9,     -999,9,     -999,9,     -999,9,     -999,9,     -999,9,     -999,9,     -999,9,     -999,9,     -999,9,     -999,9,     -999,9,     -999,9,     -999,9
320620180309  ,S04P       ,63      ,  1,6          ,6          ,2,20180413,0947, -67.0001,-156.5202,     3957,   2770.7,0.3359777777777777641,34.699285670162865,2,  34.6978,2,214.48914348533273,2, 213.8988,2,    214.5,2,    131.4,2,    32.65,2,     0.00,2,     2.24,2,    0.310,2,    0.169,2,  -0.0500,2,   2260.8,2,  2363.56,2,   7.5941,2,    24.93,     -999,9,     -999,9,   0.3344,2,     -999,9,     -999,9,     -999,     -999,9,     -999,9,     -999,9,     -999,9,    0.060,1,    4.666,1,    0.127,1,  20.0400,2,     -999,9,20180413,1018, -66.9996,-156.5219,     -999,9,     -999,9,-999          ,9,     -999,9,     -999,9,     -999,     -999,9,     -999,     -999,9,     -999,9,     -999,9,     -999,9,     -999,9,     -999,9,     -999,9,     -999,9,     -999,9,     -999,9,     -999,9,     -999,9,     -999,9,     -999,9
320620180309  ,S04P       ,63      ,  1,5          ,5          ,2,20180413,0947, -67.0001,-156.5202,     3957,   3000.2,0.2848472222222221961,34.696934363017824,2,  34.6950,2,216.34119138327461,2, 218.6002,2,    217.1,2,    131.4,2,    32.70,2,     0.00,2,     2.25,2,     -999,9,     -999,9,     -999,9,     -999,9,     -999,9,     -999,9,     -999,     -999,9,     -999,9,   0.2846,2,     -999,9,     -999,9,     -999,     -999,9,     -999,9,     -999,9,     -999,9,    0.061,1,    4.666,1,    0.125,1,     -999,9,     -999,9,20180413,1012, -66.9996,-156.5220,     -999,9,     -999,9,-999          ,9,     -999,9,     -999,9,     -999,     -999,9,     -999,     -999,9,     -999,9,     -999,9,     -999,9,     -999,9,     -999,9,     -999,9,     -999,9,     -999,9,     -999,9,     -999,9,     -999,9,     -999,9,     -999,9
320620180309  ,S04P       ,63      ,  1,4          ,4          ,2,20180413,0947, -67.0001,-156.5202,     3957,   3281.5,0.2294027777777777610,34.692233347478442,3,  34.6894,2,219.37907894803885,2, 217.0017,3,    219.8,2,    127.8,2,    32.63,2,     0.00,2,     2.24,2,    0.693,2,    0.366,2,  -0.0800,3,   2260.4,2,  2361.66,2,   7.5924,2,    24.92,     -999,9,     -999,9,   0.2287,2,     -999,9,     -999,9,     -999,     -999,9,     -999,9,     -999,9,     -999,9,    0.061,1,    4.666,1,    0.125,1,  19.9000,2,     -999,9,20180413,1006, -66.9999,-156.5216,     -999,9,     -999,9,-999          ,9,     -999,9,     -999,9,     -999,     -999,9,     -999,     -999,9,     -999,9,     -999,9,     -999,9,     -999,9,     -999,9,     -999,9,     -999,9,     -999,9,     -999,9,     -999,9,     -999,9,     -999,9,     -999,9
320620180309  ,S04P       ,63      ,  1,3          ,3          ,2,20180413,0947, -67.0001,-156.5202,     3957,   3563.2,0.2116555555555555967,34.690393786725139,2,  34.6884,2,221.07349200512877,2, 220.0018,2,    220.8,2,    126.1,2,    32.58,2,     0.00,2,     2.25,2,    0.836,2,    0.444,2,   0.3100,2,   2259.4,2,  2361.56,2,   7.5915,2,    24.93,     -999,9,     -999,9,   0.2110,2,     -999,9,     -999,9,     -999,     -999,9,     -999,9,     -999,9,     -999,9,    0.060,1,    4.664,1,    0.126,1,  20.3500,2,     -999,9,20180413,0959, -66.9999,-156.5209,     -999,9,     -999,9,-999          ,9,     -999,9,     -999,9,     -999,     -999,9,     -999,     -999,9,     -999,9,     -999,9,     -999,9,     -999,9,     -999,9,     -999,9,     -999,9,     -999,9,     -999,9,     -999,9,     -999,9,     -999,9,     -999,9
320620180309  ,S04P       ,63      ,  1,2          ,2          ,2,20180413,0947, -67.0001,-156.5202,     3957,   3718.8,0.2175083333333333313,34.690692063224830,3,  34.6878,2,221.23448766059215,2, 220.1006,2,    221.0,2,    126.0,2,    32.62,2,     0.00,2,     2.25,2,    0.845,2,    0.447,2,   0.3700,2,   2261.0,2,  2361.44,2,   7.5918,6,    24.93,     -999,9,     -999,9,   0.2171,2,     -999,9,     -999,9,     -999,     -999,9,     -999,9,     -999,9,     -999,9,    0.061,1,    4.664,1,    0.126,1,  20.4000,2,     -999,9,20180413,0955, -66.9999,-156.5207,     -999,9,     -999,9,-999          ,9,     -999,9,     -999,9,     -999,     -999,9,     -999,     -999,9,     -999,9,     -999,9,     -999,9,     -999,9,     -999,9,     -999,9,     -999,9,     -999,9,     -999,9,     -999,9,     -999,9,     -999,9,     -999,9
320620180309  ,S04P       ,63      ,  1,1          ,1          ,2,20180413,0947, -67.0001,-156.5202,     3957,   4025.2,0.2431916666666666393,34.692172520160376,2,  34.6911,2,221.59009402641681,2, 220.0976,2,    219.9,2,    127.0,2,    32.70,2,     0.00,2,     2.25,2,    0.800,2,    0.414,2,   0.4300,2,   2262.2,6,  2360.87,2,   7.5922,2,    24.93,     -999,9,     -999,9,   0.2424,2,     -999,9,     -999,9,     -999,     -999,9,     -999,9,     -999,9,     -999,9,    0.061,1,    4.662,1,    0.129,1,  20.1100,2,     -999,9,20180413,0947, -67.0001,-156.5202,     -999,9,     -999,9,-999          ,9,     -999,9,     -999,9,     -999,     -999,9,     -999,     -999,9,     -999,9,     -999,9,     -999,9,     -999,9,     -999,9,     -999,9,     -999,9,     -999,9,     -999,9,     -999,9,     -999,9,     -999,9,     -999,9