BOTTLE,20240515CCHHYDRO
EXPOCODE,SECT_ID,STNNBR,CASTNO,SAMPNO,BTLNBR,BTLNBR_FLAG_W,DATE,TIME,LATITUDE,LONGITUDE,DEPTH,CTDPRS,CTDTMP,CTDSAL,CTDSAL_FLAG_W,SALNTY,SALNTY_FLAG_W,CTDOXY,CTDOXY_FLAG_W,CTDOPTOXY,CTDOPTOXY_FLAG_W,OXYGEN,OXYGEN_FLAG_W,SILCAT,SILCAT_FLAG_W,NITRAT,NITRAT_FLAG_W,NITRIT,NITRIT_FLAG_W,PHSPHT,PHSPHT_FLAG_W,CFC-11,CFC-11_FLAG_W,CFC-12,CFC-12_FLAG_W,SF6,SF6_FLAG_W,TCARBN,TCARBN_FLAG_W,ALKALI,ALKALI_FLAG_W,PH_TOT,PH_TOT_FLAG_W,PH_TMP,DOC,DOC_FLAG_W,HELIUM,HELIUM_FLAG_W,REFTMP,REFTMP_FLAG_W,DELC13,DELC13_FLAG_W,DELC14,DELC14_FLAG_W,C14ERR,POC,POC_FLAG_W,TDN,TDN_FLAG_W,TON,TON_FLAG_W,NEON,NEON_FLAG_W,CTDFLUOR,CTDFLUOR_FLAG_W,CTDXMISS,CTDXMISS_FLAG_W,CTDBETA700,CTDBETA700_FLAG_W,N2O,N2O_FLAG_W,ARGON,ARGON_FLAG_W,BTL_DATE,BTL_TIME,BTL_LAT,BTL_LON,KRYPTON,KRYPTON_FLAG_W,XENON,XENON_FLAG_W,HPLC,HPLC_FLAG_W,HE3_HE4_RATIO,HE3_HE4_RATIO_FLAG_W,Nd_143_144_D_EPSILON_BOTTLE,Nd_143_144_D_EPSILON_BOTTLE_FLAG_W,Nd_143_144_D_EPSILON_BOTTLE_ERROR,Nd_143_144_D_RATIO_BOTTLE,Nd_143_144_D_RATIO_BOTTLE_FLAG_W,Nd_143_144_D_RATIO_BOTTLE_ERROR,Nd_D_CONC,Nd_D_CONC_FLAG_W,La_D_CONC_BOTTLE,La_D_CONC_BOTTLE_FLAG_W,Ce_D_CONC_BOTTLE,Ce_D_CONC_BOTTLE_FLAG_W,Pr_D_CONC_BOTTLE,Pr_D_CONC_BOTTLE_FLAG_W,Sm_D_CONC_BOTTLE,Sm_D_CONC_BOTTLE_FLAG_W,Eu_D_CONC_BOTTLE,Eu_D_CONC_BOTTLE_FLAG_W,Gd_D_CONC_BOTTLE,Gd_D_CONC_BOTTLE_FLAG_W,Tb_D_CONC_BOTTLE,Tb_D_CONC_BOTTLE_FLAG_W,Dy_D_CONC_BOTTLE,Dy_D_CONC_BOTTLE_FLAG_W,Ho_D_CONC_BOTTLE,Ho_D_CONC_BOTTLE_FLAG_W,Er_D_CONC_BOTTLE,Er_D_CONC_BOTTLE_FLAG_W,Tm_D_CONC_BOTTLE,Tm_D_CONC_BOTTLE_FLAG_W,Yb_D_CONC_BOTTLE,Yb_D_CONC_BOTTLE_FLAG_W,Lu_D_CONC_BOTTLE,Lu_D_CONC_BOTTLE_FLAG_W
,,,,,,,,,,,METERS,DBAR,ITS-90,PSS-78,,PSS-78,,UMOL/KG,,UMOL/KG,,UMOL/KG,,UMOL/KG,,UMOL/KG,,UMOL/KG,,UMOL/KG,,PMOL/KG,,PMOL/KG,,FMOL/KG,,UMOL/KG,,UMOL/KG,,,,DEG C,UMOL/KG,,NMOL/L,,DEG C,,/MILLE,,/MILLE,,/MILLE,UG/KG,,UMOL/KG,,UMOL/KG,,NMOL/L,,VOLTS,,VOLTS,,VOLTS,,NMOL/KG,,UMOL/L,,,,,,NMOL/L,,NMOL/L,,,,,,10000,,10000,,,,PMOL/KG,,PMOL/L,,PMOL/L,,PMOL/L,,PMOL/L,,PMOL/L,,PMOL/L,,PMOL/L,,PMOL/L,,PMOL/L,,PMOL/L,,PMOL/L,,PMOL/L,,PMOL/L,
320620180309  ,P18        ,98      ,  1,36         ,36         ,2,20180429,1510, -69.7473,-102.9972,     4088,      5.3,-1.8180389776308083505,33.775333240594279,2,  33.7710,2,324.84682819865384,3, 323.9989,2,    325.2,2,     46.5,2,    25.86,2,     0.15,2,     1.79,2,    6.714,2,    3.615,2,   3.7300,3,   2174.5,6,  2290.55,2,   7.6463,2,    24.93,     43.7,2,     -999,9,  -1.8181,2,1.28000000,2, -111.880,2,    0.002,     -999,9,    28.50,2,     -999,1,     -999,9,    0.114,1,    4.599,1,    0.156,1,  16.9800,2,     -999,9,20180429,1713, -69.7477,-102.9768,     -999,9,     -999,9,-999          ,9,     -999,9,     -999,9,     -999,     -999,9,     -999,     -999,9,     -999,1,     -999,1,     -999,1,     -999,1,     -999,1,     -999,1,     -999,1,     -999,1,     -999,1,     -999,1,     -999,1,     -999,1,     -999,1
320620180309  ,P18        ,98      ,  1,35         ,35         ,2,20180429,1510, -69.7473,-102.9972,     4088,     24.6,-1.8178822850658551413,33.777611387948191,2,  33.7731,2,324.77521582541118,3, 334.7005,3,    324.9,2,     46.6,2,    25.89,2,     0.15,2,     1.82,2,    6.456,2,    3.305,2,   3.7700,3,   2175.9,2,  2287.72,2,   7.6463,2,    24.89,     43.2,2,     -999,1,  -1.8157,2,     -999,9,     -999,9,     -999,     -999,9,    29.20,2,     -999,1,     -999,1,    0.115,1,    4.607,1,    0.163,1,  17.1400,2,     -999,1,20180429,1711, -69.7477,-102.9771,     -999,1,     -999,1,-999          ,9,     -999,1,     -999,9,     -999,     -999,9,     -999,     -999,9,     -999,1,     -999,1,     -999,1,     -999,1,     -999,1,     -999,1,     -999,1,     -999,1,     -999,1,     -999,1,     -999,1,     -999,1,     -999,1
320620180309  ,P18        ,98      ,  1,34         ,34         ,2,20180429,1510, -69.7473,-102.9972,     4088,     50.0,-1.7509854874912260669,33.806732758765570,2,  33.8130,2,319.21550594858246,3, 309.7011,3,    318.5,2,     49.1,2,    26.55,2,     0.16,2,     1.89,2,    6.227,2,    3.058,2,   3.4900,3,   2180.8,2,  2291.71,2,   7.6371,6,    24.89,     43.4,2,     -999,9,  -1.7505,2,     -999,9,     -999,9,     -999,     -999,9,    29.40,2,     -999,1,     -999,9,    0.113,1,    4.608,1,    0.160,1,  16.6800,2,     -999,9,20180429,1710, -69.7478,-102.9774,     -999,9,     -999,9,-999          ,9,     -999,9,     -999,9,     -999,     -999,9,     -999,     -999,9,     -999,1,     -999,1,     -999,1,     -999,1,     -999,1,     -999,1,     -999,1,     -999,1,     -999,1,     -999,1,     -999,1,     -999,1,     -999,1
320620180309  ,P18        ,98      ,  1,33         ,33         ,2,20180429,1510, -69.7473,-102.9972,     4088,     75.5,-1.2324386946870433679,34.055499605771878,2,  34.0457,2,271.65478520568809,3, 279.8029,2,    278.8,2,     64.3,2,    30.54,2,     0.19,2,     2.11,2,    4.632,6,    2.394,6,   2.5600,3,   2208.7,2,  2305.54,2,   7.5833,2,    24.94,     43.1,2,     -999,1,  -1.2267,2,     -999,9,     -999,9,     -999,     -999,9,    33.60,2,     -999,1,     -999,1,    0.090,1,    4.626,1,    0.151,1,  19.2200,6,     -999,1,20180429,1708, -69.7479,-102.9777,     -999,1,     -999,1,-999          ,9,     -999,1,     -999,9,     -999,     -999,9,     -999,     -999,9,     -999,9,     -999,9,     -999,9,     -999,9,     -999,9,     -999,9,     -999,9,     -999,9,     -999,9,     -999,9,     -999,9,     -999,9,     -999,9
320620180309  ,P18        ,98      ,  1,32         ,32         ,2,20180429,1510, -69.7473,-102.9972,     4088,    100.8,-0.5595753130438914091,34.216474094546307,2,  34.2207,2,250.11389227022022,3, 247.4994,2,    247.4,2,     72.3,2,    32.42,2,     0.05,2,     2.21,2,    3.458,2,    1.807,2,   1.7400,3,   2228.5,2,  2314.03,2,   7.5586,2,    24.94,     42.4,2,     -999,9,  -0.5625,2,0.66000000,2, -131.210,2,    0.002,     -999,9,    34.80,2,     -999,1,     -999,9,    0.072,1,    4.639,1,    0.144,1,  20.3100,2,     -999,9,20180429,1706, -69.7480,-102.9780,     -999,9,     -999,9,-999          ,9,     -999,9,     -999,9,     -999,     -999,9,     -999,     -999,9,     -999,1,     -999,1,     -999,1,     -999,1,     -999,1,     -999,1,     -999,1,     -999,1,     -999,1,     -999,1,     -999,1,     -999,1,     -999,1
320620180309  ,P18        ,98      ,  1,31         ,31         ,2,20180429,1510, -69.7473,-102.9972,     4088,    125.9,0.0043713105869116371,34.325951254296768,2,  34.3366,2,232.26924509442276,3, 228.2969,2,    227.3,2,     76.6,2,    32.99,2,     0.02,2,     2.24,2,     -999,9,     -999,9,     -999,9,   2237.0,2,  2322.02,2,   7.5558,2,    24.91,     -999,9,     -999,1,   0.0044,2,     -999,9,     -999,9,     -999,     -999,9,     -999,9,     -999,9,     -999,1,    0.067,1,    4.645,1,    0.141,1,     -999,9,     -999,1,20180429,1704, -69.7480,-102.9784,     -999,1,     -999,1,-999          ,9,     -999,1,     -999,9,     -999,     -999,9,     -999,     -999,9,     -999,9,     -999,9,     -999,9,     -999,9,     -999,9,     -999,9,     -999,9,     -999,9,     -999,9,     -999,9,     -999,9,     -999,9,     -999,9
320620180309  ,P18        ,98      ,  1,30         ,30         ,2,20180429,1510, -69.7473,-102.9972,     4088,    151.1,0.5082957263765479627,34.418034820016352,2,  34.4221,2,213.33045247309340,3, 213.0001,3,    210.6,2,     80.0,2,    33.35,2,     0.00,2,     2.25,2,    2.006,2,    1.057,2,   1.0400,3,   2244.5,2,  2328.31,2,   7.5504,2,    24.93,     43.5,2,     -999,9,   0.5234,2,     -999,9,     -999,9,     -999,     -999,9,    35.50,2,     -999,1,     -999,9,    0.064,1,    4.645,1,    0.141,1,  21.7100,2,     -999,9,20180429,1702, -69.7481,-102.9788,     -999,9,     -999,9,-999          ,9,     -999,9,     -999,9,     -999,     -999,9,     -999,     -999,9,     -999,1,     -999,1,     -999,1,     -999,1,     -999,1,     -999,1,     -999,1,     -999,1,     -999,1,     -999,1,     -999,1,     -999,1,     -999,1
320620180309  ,P18        ,98      ,  1,29         ,29         ,2,20180429,1510, -69.7473,-102.9972,     4088,    201.9,1.4533056017701966312,34.576219561332351,2,  34.5758,2,184.51016657488495,3, 185.5951,3,    183.2,2,     83.5,2,    33.86,2,     0.00,2,     2.28,2,    0.981,2,    0.496,2,   0.2500,3,   2254.6,2,  2336.58,2,   7.5457,2,    24.95,     44.3,2,     -999,1,   1.4583,2,0.43000000,2, -143.930,2,    0.002,     -999,9,    36.40,2,     -999,1,     -999,1,    0.064,1,    4.645,1,    0.141,1,  22.4900,2,     -999,1,20180429,1700, -69.7482,-102.9792,     -999,1,     -999,1,-999          ,9,     -999,1,     -999,9,     -999,     -999,9,     -999,     -999,9,     -999,9,     -999,9,     -999,9,     -999,9,     -999,9,     -999,9,     -999,9,     -999,9,     -999,9,     -999,9,     -999,9,     -999,9,     -999,9
320620180309  ,P18        ,98      ,  1,28         ,28         ,2,20180429,1510, -69.7473,-102.9972,     4088,    252.1,1.6987818914975909568,34.634136572954510,2,  34.6344,2,177.66462629482126,3, 178.4014,2,    176.8,2,     85.8,2,    33.66,2,     0.00,2,     2.25,2,     -999,9,     -999,9,     -999,9,   2256.5,2,  2342.85,2,   7.5497,2,    24.91,     42.4,2,     -999,9,   1.6934,2,     -999,9,     -999,9,     -999,     -999,9,    35.50,2,     -999,1,     -999,9,    0.062,1,    4.647,1,    0.139,1,     -999,9,     -999,9,20180429,1658, -69.7482,-102.9796,     -999,9,     -999,9,-999          ,9,     -999,9,     -999,9,     -999,     -999,9,     -999,     -999,9,     -999,1,     -999,1,     -999,1,     -999,1,     -999,1,     -999,1,     -999,1,     -999,1,     -999,1,     -999,1,     -999,1,     -999,1,     -999,1
320620180309  ,P18        ,98      ,  1,27         ,27         ,2,20180429,1510, -69.7473,-102.9972,     4088,    302.9,1.8989414960559465317,34.680160581385678,2,  34.6795,2,174.62151400420672,3, 174.5005,2,    174.9,2,     86.9,2,    33.24,2,     0.00,2,     2.25,2,     -999,9,     -999,9,     -999,9,   2258.5,6,  2346.40,2,   7.5581,2,    24.94,     40.4,2,     -999,1,   1.8948,2,0.50000000,2, -147.280,2,    0.002,     -999,9,     -999,9,     -999,1,     -999,1,    0.063,1,    4.650,1,    0.136,1,     -999,9,     -999,1,20180429,1655, -69.7483,-102.9800,     -999,1,     -999,1,-999          ,9,     -999,1,     -999,9,     -999,     -999,9,     -999,     -999,9,     -999,9,     -999,9,     -999,9,     -999,9,     -999,9,     -999,9,     -999,9,     -999,9,     -999,9,     -999,9,     -999,9,     -999,9,     -999,9
320620180309  ,P18        ,98      ,  1,26         ,38         ,2,20180429,1510, -69.7473,-102.9972,     4088,    353.1,1.9094091758627711464,34.696721224760111,2,  34.6950,2,175.86098970306981,3, 175.4006,2,    176.3,2,     87.9,2,    32.96,2,     0.00,2,     2.21,2,    0.322,2,    0.174,2,   0.0000,3,   2255.9,2,  2348.84,2,   7.5652,2,    24.96,     42.3,2,     -999,9,   1.9088,2,     -999,9,     -999,9,     -999,     -999,9,     -999,9,     -999,1,     -999,9,    0.062,1,    4.651,1,    0.137,1,  21.4900,2,     -999,9,20180429,1653, -69.7484,-102.9805,     -999,9,     -999,9,-999          ,9,     -999,9,     -999,9,     -999,     -999,9,     -999,     -999,9,     -999,1,     -999,1,     -999,1,     -999,1,     -999,1,     -999,1,     -999,1,     -999,1,     -999,1,     -999,1,     -999,1,     -999,1,     -999,1
320620180309  ,P18        ,98      ,  1,25         ,25         ,2,20180429,1510, -69.7473,-102.9972,     4088,    403.7,1.8879490217757777248,34.709234639409061,2,  34.7066,2,177.64844005951184,3, 177.9031,2,    177.7,2,     89.1,2,    32.65,2,     0.00,2,     2.21,2,     -999,9,     -999,9,     -999,9,   2257.6,2,  2350.37,2,   7.5699,2,    24.91,     41.1,2,     -999,1,   1.8880,2,0.49000000,2, -148.120,2,    0.002,     -999,9,     -999,9,     -999,1,     -999,1,    0.061,1,    4.649,1,    0.135,1,     -999,9,     -999,1,20180429,1650, -69.7484,-102.9809,     -999,1,     -999,1,-999          ,9,     -999,1,     -999,9,     -999,     -999,9,     -999,     -999,9,     -999,9,     -999,9,     -999,9,     -999,9,     -999,9,     -999,9,     -999,9,     -999,9,     -999,9,     -999,9,     -999,9,     -999,9,     -999,9
320620180309  ,P18        ,98      ,  1,24         ,24         ,2,20180429,1510, -69.7473,-102.9972,     4088,    454.2,1.8555109302140437855,34.715989343995744,2,  34.7129,2,179.38397770932696,2, 179.1967,2,    180.1,2,     90.4,2,    32.47,2,     0.00,2,     2.18,2,    0.254,2,    0.131,2,   0.0400,3,   2257.6,2,  2348.56,2,   7.5741,2,    24.91,     -999,9,     -999,9,   1.8552,2,     -999,9,     -999,9,     -999,     -999,9,     -999,9,     -999,9,     -999,9,    0.062,1,    4.652,1,    0.137,1,  21.9900,2,     -999,9,20180429,1648, -69.7485,-102.9814,     -999,9,     -999,9,-999          ,9,     -999,9,     -999,9,     -999,     -999,9,     -999,     -999,9,     -999,1,     -999,1,     -999,1,     -999,1,     -999,1,     -999,1,     -999,1,     -999,1,     -999,1,     -999,1,     -999,1,     -999,1,     -999,1
320620180309  ,P18        ,98      ,  1,23         ,23         ,2,20180429,1510, -69.7473,-102.9972,     4088,    505.5,1.8134450546709635077,34.721207154041892,2,  34.7190,2,181.01329006856469,2, 181.3983,2,    181.2,2,     91.3,2,    32.29,2,     0.00,2,     2.18,2,    0.235,2,    0.122,2,   0.0200,3,   2256.2,2,  2349.98,2,   7.5776,2,    24.93,     41.0,2,     -999,9,   1.8130,2,0.52000000,2, -148.500,2,    0.002,     -999,9,     -999,9,     -999,1,     -999,9,    0.061,1,    4.652,1,    0.136,1,  19.6300,2,     -999,9,20180429,1646, -69.7486,-102.9818,     -999,9,     -999,9,-999          ,9,     -999,9,     -999,9,     -999,     -999,9,     -999,     -999,9,     -999,9,     -999,9,     -999,9,     -999,9,     -999,9,     -999,9,     -999,9,     -999,9,     -999,9,     -999,9,     -999,9,     -999,9,     -999,9
320620180309  ,P18        ,98      ,  1,22         ,37         ,2,20180429,1510, -69.7473,-102.9972,     4088,    606.7,1.7334209858100104729,34.727962094922958,2,  34.7257,2,184.12652159448044,2, 184.2052,2,    184.6,2,     93.6,2,    32.04,2,     0.00,2,     2.15,2,     -999,9,     -999,9,     -999,9,   2257.1,2,  2352.69,2,   7.5812,2,    24.92,     41.2,2,     -999,1,   1.7333,2,0.55000000,2, -157.120,2,    0.002,     -999,9,     -999,9,     -999,1,     -999,1,    0.061,1,    4.652,1,    0.133,1,     -999,9,     -999,1,20180429,1643, -69.7486,-102.9824,     -999,1,     -999,1,-999          ,9,     -999,1,     -999,9,     -999,     -999,9,     -999,     -999,9,     -999,1,     -999,1,     -999,1,     -999,1,     -999,1,     -999,1,     -999,1,     -999,1,     -999,1,     -999,1,     -999,1,     -999,1,     -999,1
320620180309  ,P18        ,98      ,  1,21         ,21         ,2,20180429,1510, -69.7473,-102.9972,     4088,    707.6,1.6539935234490701355,34.731341245920802,2,  34.7280,2,187.34041617520759,2, 187.0970,2,    187.3,2,     95.9,2,    31.88,2,     0.00,2,     2.14,2,    0.179,2,    0.093,2,   0.0200,3,   2254.1,2,  2356.65,2,   7.5897,2,    24.94,     41.9,2,     -999,9,   1.6537,2,0.55000000,2, -154.720,2,    0.002,     -999,9,     -999,9,     -999,1,     -999,9,    0.062,1,    4.652,1,    0.135,1,  20.3600,2,     -999,9,20180429,1640, -69.7487,-102.9830,     -999,9,     -999,9,-999          ,9,     -999,9,     -999,9,     -999,     -999,9,     -999,     -999,9,     -999,9,     -999,9,     -999,9,     -999,9,     -999,9,     -999,9,     -999,9,     -999,9,     -999,9,     -999,9,     -999,9,     -999,9,     -999,9
320620180309  ,P18        ,98      ,  1,20         ,20         ,2,20180429,1510, -69.7473,-102.9972,     4088,    808.7,1.5560849809322265802,34.732489899515436,2,  34.7306,2,189.72662065046856,2, 190.1003,2,    189.8,2,     98.8,2,    31.75,2,     0.00,2,     2.15,2,    0.158,2,    0.093,2,   0.0000,3,   2257.5,2,  2354.48,2,   7.5925,2,    24.93,     38.6,2,     -999,9,   1.5555,2,0.52000000,2, -156.500,2,    0.002,     -999,9,     -999,9,     -999,1,     -999,9,    0.061,1,    4.653,1,    0.132,1,  20.0600,2,     -999,9,20180429,1636, -69.7487,-102.9835,     -999,9,     -999,9,-999          ,9,     -999,9,     -999,9,     -999,     -999,9,     -999,     -999,9,     -999,1,     -999,1,     -999,1,     -999,1,     -999,1,     -999,1,     -999,1,     -999,1,     -999,1,     -999,1,     -999,1,     -999,1,     -999,1
320620180309  ,P18        ,98      ,  1,19         ,19         ,2,20180429,1510, -69.7473,-102.9972,     4088,    910.3,1.4793593046162343274,34.732073709607398,2,  34.7302,2,191.41815980956375,3, 191.7997,2,    191.8,2,    101.3,2,    31.74,2,     0.00,2,     2.15,2,     -999,9,     -999,9,     -999,9,   2257.9,2,  2358.32,2,   7.5938,2,    24.93,     39.8,2,     -999,1,   1.4791,2,0.53000000,2, -157.970,2,    0.002,     -999,9,     -999,9,     -999,1,     -999,1,    0.061,1,    4.653,1,    0.132,1,     -999,9,     -999,1,20180429,1633, -69.7488,-102.9841,     -999,1,     -999,1,-999          ,9,     -999,1,     -999,9,     -999,     -999,9,     -999,     -999,9,     -999,9,     -999,9,     -999,9,     -999,9,     -999,9,     -999,9,     -999,9,     -999,9,     -999,9,     -999,9,     -999,9,     -999,9,     -999,9
320620180309  ,P18        ,98      ,  1,18         ,18         ,2,20180429,1510, -69.7473,-102.9972,     4088,   1011.8,1.3984413732133702535,34.730900525477026,2,  34.7290,2,192.98495833861321,2, 193.4004,2,    192.9,2,    103.8,2,    31.84,2,     0.00,2,     2.14,2,    0.133,2,    0.066,2,   0.0000,3,   2260.2,2,  2358.27,2,   7.5944,2,    24.93,     40.1,2,     -999,9,   1.3982,2,0.56000000,2, -160.540,2,    0.002,     -999,9,     -999,9,     -999,1,     -999,9,    0.061,1,    4.653,1,    0.161,1,  20.2600,2,     -999,9,20180429,1630, -69.7488,-102.9846,     -999,9,     -999,9,-999          ,9,     -999,9,     -999,9,     -999,     -999,9,     -999,     -999,9,     -999,1,     -999,1,     -999,1,     -999,1,     -999,1,     -999,1,     -999,1,     -999,1,     -999,1,     -999,1,     -999,1,     -999,1,     -999,1
320620180309  ,P18        ,98      ,  1,17         ,17         ,2,20180429,1510, -69.7473,-102.9972,     4088,   1113.6,1.3241201414024290628,34.729116645578827,2,  34.7276,2,194.37892682968678,2, 194.5000,2,    194.1,2,    106.2,2,    31.86,2,     0.00,2,     2.16,2,    0.128,2,    0.067,2,   0.0000,3,   2259.4,2,  2361.54,2,   7.5956,2,    24.93,     38.7,2,     -999,9,   1.3239,2,0.57000000,2, -159.670,2,    0.002,     -999,9,     -999,9,     -999,1,     -999,9,    0.061,1,    4.653,1,    0.134,1,  19.5200,2,     -999,9,20180429,1627, -69.7488,-102.9852,     -999,9,     -999,9,-999          ,9,     -999,9,     -999,9,     -999,     -999,9,     -999,     -999,9,     -999,9,     -999,9,     -999,9,     -999,9,     -999,9,     -999,9,     -999,9,     -999,9,     -999,9,     -999,9,     -999,9,     -999,9,     -999,9
320620180309  ,P18        ,98      ,  1,16         ,16         ,2,20180429,1510, -69.7473,-102.9972,     4088,   1215.3,1.2513344373289316813,34.726984776214259,2,  34.7253,2,195.77347179388201,2, 195.9976,2,    195.9,2,    108.4,2,    31.96,2,     0.00,2,     2.16,2,     -999,9,     -999,9,     -999,9,   2260.0,2,  2362.69,2,   7.5954,2,    24.93,     41.9,2,     -999,1,   1.2510,2,0.62000000,2, -160.230,2,    0.002,     -999,9,     -999,9,     -999,1,     -999,1,    0.061,1,    4.654,1,    0.130,1,     -999,9,     -999,1,20180429,1624, -69.7488,-102.9857,     -999,1,     -999,1,-999          ,9,     -999,1,     -999,9,     -999,     -999,9,     -999,     -999,9,     -999,1,     -999,1,     -999,1,     -999,1,     -999,1,     -999,1,     -999,1,     -999,1,     -999,1,     -999,1,     -999,1,     -999,1,     -999,1