BOTTLE,20240515CCHHYDRO
EXPOCODE,SECT_ID,STNNBR,CASTNO,SAMPNO,BTLNBR,BTLNBR_FLAG_W,DATE,TIME,LATITUDE,LONGITUDE,DEPTH,CTDPRS,CTDTMP,CTDSAL,CTDSAL_FLAG_W,SALNTY,SALNTY_FLAG_W,CTDOXY,CTDOXY_FLAG_W,CTDOPTOXY,CTDOPTOXY_FLAG_W,OXYGEN,OXYGEN_FLAG_W,SILCAT,SILCAT_FLAG_W,NITRAT,NITRAT_FLAG_W,NITRIT,NITRIT_FLAG_W,PHSPHT,PHSPHT_FLAG_W,CFC-11,CFC-11_FLAG_W,CFC-12,CFC-12_FLAG_W,SF6,SF6_FLAG_W,TCARBN,TCARBN_FLAG_W,ALKALI,ALKALI_FLAG_W,PH_TOT,PH_TOT_FLAG_W,PH_TMP,DOC,DOC_FLAG_W,HELIUM,HELIUM_FLAG_W,REFTMP,REFTMP_FLAG_W,DELC13,DELC13_FLAG_W,DELC14,DELC14_FLAG_W,C14ERR,POC,POC_FLAG_W,TDN,TDN_FLAG_W,TON,TON_FLAG_W,NEON,NEON_FLAG_W,CTDFLUOR,CTDFLUOR_FLAG_W,CTDXMISS,CTDXMISS_FLAG_W,CTDBETA700,CTDBETA700_FLAG_W,N2O,N2O_FLAG_W,ARGON,ARGON_FLAG_W,BTL_DATE,BTL_TIME,BTL_LAT,BTL_LON,KRYPTON,KRYPTON_FLAG_W,XENON,XENON_FLAG_W,HPLC,HPLC_FLAG_W,HE3_HE4_RATIO,HE3_HE4_RATIO_FLAG_W,Nd_143_144_D_EPSILON_BOTTLE,Nd_143_144_D_EPSILON_BOTTLE_FLAG_W,Nd_143_144_D_EPSILON_BOTTLE_ERROR,Nd_143_144_D_RATIO_BOTTLE,Nd_143_144_D_RATIO_BOTTLE_FLAG_W,Nd_143_144_D_RATIO_BOTTLE_ERROR,Nd_D_CONC,Nd_D_CONC_FLAG_W,La_D_CONC_BOTTLE,La_D_CONC_BOTTLE_FLAG_W,Ce_D_CONC_BOTTLE,Ce_D_CONC_BOTTLE_FLAG_W,Pr_D_CONC_BOTTLE,Pr_D_CONC_BOTTLE_FLAG_W,Sm_D_CONC_BOTTLE,Sm_D_CONC_BOTTLE_FLAG_W,Eu_D_CONC_BOTTLE,Eu_D_CONC_BOTTLE_FLAG_W,Gd_D_CONC_BOTTLE,Gd_D_CONC_BOTTLE_FLAG_W,Tb_D_CONC_BOTTLE,Tb_D_CONC_BOTTLE_FLAG_W,Dy_D_CONC_BOTTLE,Dy_D_CONC_BOTTLE_FLAG_W,Ho_D_CONC_BOTTLE,Ho_D_CONC_BOTTLE_FLAG_W,Er_D_CONC_BOTTLE,Er_D_CONC_BOTTLE_FLAG_W,Tm_D_CONC_BOTTLE,Tm_D_CONC_BOTTLE_FLAG_W,Yb_D_CONC_BOTTLE,Yb_D_CONC_BOTTLE_FLAG_W,Lu_D_CONC_BOTTLE,Lu_D_CONC_BOTTLE_FLAG_W
,,,,,,,,,,,METERS,DBAR,ITS-90,PSS-78,,PSS-78,,UMOL/KG,,UMOL/KG,,UMOL/KG,,UMOL/KG,,UMOL/KG,,UMOL/KG,,UMOL/KG,,PMOL/KG,,PMOL/KG,,FMOL/KG,,UMOL/KG,,UMOL/KG,,,,DEG C,UMOL/KG,,NMOL/L,,DEG C,,/MILLE,,/MILLE,,/MILLE,UG/KG,,UMOL/KG,,UMOL/KG,,NMOL/L,,VOLTS,,VOLTS,,VOLTS,,NMOL/KG,,UMOL/L,,,,,,NMOL/L,,NMOL/L,,,,,,10000,,10000,,,,PMOL/KG,,PMOL/L,,PMOL/L,,PMOL/L,,PMOL/L,,PMOL/L,,PMOL/L,,PMOL/L,,PMOL/L,,PMOL/L,,PMOL/L,,PMOL/L,,PMOL/L,,PMOL/L,
320620180309  ,S04P       ,81      ,  1,15         ,15         ,2,20180421,1722, -67.0000,-131.2521,     4555,   1382.2,1.2311499999999999666,34.726073821292410,2,  34.7268,2,196.47704524723093,2, 196.1974,2,    196.2,2,    108.3,2,    31.98,2,     0.00,2,     2.22,2,     -999,9,     -999,9,     -999,9,     -999,9,     -999,9,     -999,9,     -999,     -999,9,     -999,9,   1.2311,2,     -999,9,     -999,9,     -999,     -999,9,     -999,9,     -999,9,     -999,9,    0.061,1,    4.658,1,    0.128,1,     -999,9,     -999,9,20180421,1839, -67.0006,-131.2513,     -999,9,     -999,9,-999          ,9,     -999,9,     -999,9,     -999,     -999,9,     -999,     -999,9,     -999,1,     -999,1,     -999,1,     -999,1,     -999,1,     -999,1,     -999,1,     -999,1,     -999,1,     -999,1,     -999,1,     -999,1,     -999,1
320620180309  ,S04P       ,81      ,  1,14         ,14         ,2,20180421,1722, -67.0000,-131.2521,     4555,   1484.2,1.1690805555555554562,34.723962346163553,2,  34.7249,2,198.13238240754131,2, 197.2045,2,    197.2,2,    110.4,2,    32.02,2,     0.00,2,     2.22,2,    0.140,2,    0.077,2,   0.0100,2,   2262.0,2,  2360.58,2,   7.5977,2,    24.89,     -999,9,     -999,9,   1.1683,2,     -999,9,     -999,9,     -999,     -999,9,     -999,9,     -999,9,     -999,9,    0.061,1,    4.659,1,    0.132,1,  19.7900,2,     -999,9,20180421,1836, -67.0007,-131.2512,     -999,9,     -999,9,-999          ,9,     -999,9,     -999,9,     -999,     -999,9,     -999,     -999,9,     -999,9,     -999,9,     -999,9,     -999,9,     -999,9,     -999,9,     -999,9,     -999,9,     -999,9,     -999,9,     -999,9,     -999,9,     -999,9
320620180309  ,S04P       ,81      ,  1,13         ,13         ,2,20180421,1722, -67.0000,-131.2521,     4555,   1586.5,1.1110111111111109494,34.721780507378085,2,  34.7227,2,199.11164787225215,2, 198.2992,2,    198.7,2,    112.3,2,    32.09,2,     0.00,2,     2.23,2,     -999,9,     -999,9,     -999,9,   2260.8,2,  2361.99,2,   7.5969,2,    24.88,     -999,9,     -999,1,   1.1105,2,     -999,9,     -999,9,     -999,     -999,9,     -999,9,     -999,9,     -999,1,    0.061,1,    4.659,1,    0.127,1,     -999,9,     -999,1,20180421,1832, -67.0007,-131.2512,     -999,1,     -999,1,-999          ,9,     -999,1,     -999,9,     -999,     -999,9,     -999,     -999,9,     -999,1,     -999,1,     -999,1,     -999,1,     -999,1,     -999,1,     -999,1,     -999,1,     -999,1,     -999,1,     -999,1,     -999,1,     -999,1
320620180309  ,S04P       ,81      ,  1,12         ,12         ,2,20180421,1722, -67.0000,-131.2521,     4555,   1758.8,1.0261055555555556040,34.718464193993000,2,  34.7196,2,201.75395387204230,2, 199.9975,2,    200.3,2,    115.4,2,    32.15,2,     0.00,2,     2.24,2,     -999,9,     -999,9,     -999,9,     -999,9,     -999,9,     -999,9,     -999,     -999,9,     -999,9,   1.0253,2,     -999,9,     -999,9,     -999,     -999,9,     -999,9,     -999,9,     -999,9,    0.061,1,    4.658,1,    0.128,1,     -999,9,     -999,9,20180421,1828, -67.0005,-131.2515,     -999,9,     -999,9,-999          ,9,     -999,9,     -999,9,     -999,     -999,9,     -999,     -999,9,     -999,9,     -999,9,     -999,9,     -999,9,     -999,9,     -999,9,     -999,9,     -999,9,     -999,9,     -999,9,     -999,9,     -999,9,     -999,9
320620180309  ,S04P       ,81      ,  1,11         ,11         ,2,20180421,1722, -67.0000,-131.2521,     4555,   1962.1,0.9251861111111110425,34.714226285831600,2,  34.7155,2,202.84447327522150,2, 202.1006,2,    202.4,2,    118.6,2,    32.31,2,     0.00,2,     2.25,2,    0.152,2,    0.088,2,   0.0600,2,   2260.5,2,  2363.58,2,   7.5981,2,    24.88,     -999,9,     -999,9,   0.9259,2,     -999,9,     -999,9,     -999,     -999,9,     -999,9,     -999,9,     -999,9,    0.061,1,    4.656,1,    0.127,1,  19.8800,2,     -999,9,20180421,1823, -67.0002,-131.2519,     -999,9,     -999,9,-999          ,9,     -999,9,     -999,9,     -999,     -999,9,     -999,     -999,9,     -999,1,     -999,1,     -999,1,     -999,1,     -999,1,     -999,1,     -999,1,     -999,1,     -999,1,     -999,1,     -999,1,     -999,1,     -999,1
320620180309  ,S04P       ,81      ,  1,10         ,10         ,2,20180421,1722, -67.0000,-131.2521,     4555,   2196.7,0.8301138888888889289,34.710177151417867,3,  34.7131,3,203.99506906699574,2, 204.2032,2,    204.8,2,    122.4,2,    32.41,2,     0.00,2,     2.24,2,     -999,9,     -999,9,     -999,9,   2261.4,2,  2364.87,2,   7.5981,2,    24.88,     -999,9,     -999,1,   0.8295,2,     -999,9,     -999,9,     -999,     -999,9,     -999,9,     -999,9,     -999,1,    0.061,1,    4.658,1,    0.128,1,     -999,9,     -999,1,20180421,1817, -66.9999,-131.2522,     -999,1,     -999,1,-999          ,9,     -999,1,     -999,9,     -999,     -999,9,     -999,     -999,9,     -999,9,     -999,9,     -999,9,     -999,9,     -999,9,     -999,9,     -999,9,     -999,9,     -999,9,     -999,9,     -999,9,     -999,9,     -999,9
320620180309  ,S04P       ,81      ,  1,9          ,9          ,2,20180421,1722, -67.0000,-131.2521,     4555,   2452.5,0.7359333333333333282,34.706675062371694,2,  34.7078,3,205.69419391688456,2, 206.0982,2,    205.8,2,    125.8,2,    32.56,2,     0.00,2,     2.25,2,     -999,9,     -999,9,     -999,9,     -999,9,     -999,9,     -999,9,     -999,     -999,9,     -999,9,   0.7353,2,     -999,9,     -999,9,     -999,     -999,9,     -999,9,     -999,9,     -999,9,    0.060,1,    4.658,1,    0.127,1,     -999,9,     -999,9,20180421,1811, -67.0000,-131.2521,     -999,9,     -999,9,-999          ,9,     -999,9,     -999,9,     -999,     -999,9,     -999,     -999,9,     -999,1,     -999,1,     -999,1,     -999,1,     -999,1,     -999,1,     -999,1,     -999,1,     -999,1,     -999,1,     -999,1,     -999,1,     -999,1
320620180309  ,S04P       ,81      ,  1,8          ,8          ,2,20180421,1722, -67.0000,-131.2521,     4555,   2708.6,0.6526000000000000689,34.704508288512599,2,  34.7060,3,206.71503168856574,2, 207.8029,2,    207.4,2,    127.8,2,    32.63,2,     0.00,2,     2.25,2,    0.208,2,    0.116,2,   0.0100,2,   2262.4,2,  2365.07,2,   7.5956,2,    24.88,     -999,9,     -999,9,   0.6521,2,     -999,9,     -999,9,     -999,     -999,9,     -999,9,     -999,9,     -999,9,    0.061,1,    4.658,1,    0.126,1,  19.4800,2,     -999,9,20180421,1806, -67.0002,-131.2519,     -999,9,     -999,9,-999          ,9,     -999,9,     -999,9,     -999,     -999,9,     -999,     -999,9,     -999,9,     -999,9,     -999,9,     -999,9,     -999,9,     -999,9,     -999,9,     -999,9,     -999,9,     -999,9,     -999,9,     -999,9,     -999,9
320620180309  ,S04P       ,81      ,  1,7          ,7          ,2,20180421,1722, -67.0000,-131.2521,     4555,   2964.7,0.5581472222222221280,34.702829968636635,2,  34.7043,3,208.34881599305001,2, 209.6957,2,    209.5,2,    130.3,2,    32.77,2,     0.00,2,     2.25,2,     -999,9,     -999,9,     -999,9,   2263.4,2,  2363.95,2,   7.5959,2,    24.88,     -999,9,     -999,1,   0.5576,2,     -999,9,     -999,9,     -999,     -999,9,     -999,9,     -999,9,     -999,1,    0.060,1,    4.657,1,    0.126,1,     -999,9,     -999,1,20180421,1800, -67.0003,-131.2516,     -999,1,     -999,1,-999          ,9,     -999,1,     -999,9,     -999,     -999,9,     -999,     -999,9,     -999,1,     -999,1,     -999,1,     -999,1,     -999,1,     -999,1,     -999,1,     -999,1,     -999,1,     -999,1,     -999,1,     -999,1,     -999,1
320620180309  ,S04P       ,81      ,  1,6          ,6          ,2,20180421,1722, -67.0000,-131.2521,     4555,   3281.6,0.4756444444444444808,34.701465489878665,2,  34.7023,2,210.91459332753317,2, 211.5979,2,    211.5,2,    133.5,2,    32.82,2,     0.00,2,     2.25,2,     -999,9,     -999,9,     -999,9,     -999,9,     -999,9,     -999,9,     -999,     -999,9,     -999,9,   0.4751,2,     -999,9,     -999,9,     -999,     -999,9,     -999,9,     -999,9,     -999,9,    0.061,1,    4.658,1,    0.126,1,     -999,9,     -999,9,20180421,1753, -67.0003,-131.2517,     -999,9,     -999,9,-999          ,9,     -999,9,     -999,9,     -999,     -999,9,     -999,     -999,9,     -999,9,     -999,9,     -999,9,     -999,9,     -999,9,     -999,9,     -999,9,     -999,9,     -999,9,     -999,9,     -999,9,     -999,9,     -999,9
320620180309  ,S04P       ,81      ,  1,5          ,5          ,2,20180421,1722, -67.0000,-131.2521,     4555,   3590.0,0.4201888888888888896,34.700623220845074,2,  34.7017,2,213.08382034553176,2, 213.0044,2,    213.3,2,    136.5,2,    32.92,2,     0.00,2,     2.25,2,    0.274,2,    0.147,2,   0.1100,2,   2263.4,2,  2365.23,2,   7.5948,6,    24.89,     -999,9,     -999,9,   0.4198,2,     -999,9,     -999,9,     -999,     -999,9,     -999,9,     -999,9,     -999,9,    0.060,1,    4.657,1,    0.124,1,  20.0900,2,     -999,9,20180421,1746, -67.0003,-131.2518,     -999,9,     -999,9,-999          ,9,     -999,9,     -999,9,     -999,     -999,9,     -999,     -999,9,     -999,1,     -999,1,     -999,1,     -999,1,     -999,1,     -999,1,     -999,1,     -999,1,     -999,1,     -999,1,     -999,1,     -999,1,     -999,1
320620180309  ,S04P       ,81      ,  1,4          ,4          ,2,20180421,1722, -67.0000,-131.2521,     4555,   3897.4,0.3807249999999999246,34.699582639131748,2,  34.7009,2,214.30775863170479,2, 214.5982,2,    214.7,2,    138.2,2,    32.92,2,     0.00,2,     2.25,2,     -999,9,     -999,9,     -999,9,     -999,9,     -999,9,     -999,9,     -999,     -999,9,     -999,1,   0.3801,2,     -999,9,     -999,9,     -999,     -999,9,     -999,9,     -999,9,     -999,1,    0.061,1,    4.657,1,    0.127,1,     -999,9,     -999,1,20180421,1739, -67.0001,-131.2520,     -999,1,     -999,1,-999          ,9,     -999,1,     -999,9,     -999,     -999,9,     -999,     -999,9,     -999,9,     -999,9,     -999,9,     -999,9,     -999,9,     -999,9,     -999,9,     -999,9,     -999,9,     -999,9,     -999,9,     -999,9,     -999,9
320620180309  ,S04P       ,81      ,  1,3          ,3          ,2,20180421,1722, -67.0000,-131.2521,     4555,   4181.9,0.3611166666666667524,34.698659426524344,2,  34.6992,2,215.86936144842912,2, 215.5963,2,    215.5,2,    140.8,2,    32.96,2,     0.00,2,     2.25,2,    0.416,2,    0.207,2,   0.0900,2,   2263.4,2,  2364.03,2,   7.5945,2,    24.88,     -999,9,     -999,9,   0.3604,2,     -999,9,     -999,9,     -999,     -999,9,     -999,9,     -999,9,     -999,9,    0.060,1,    4.653,1,    0.130,1,  19.4700,2,     -999,9,20180421,1733, -67.0002,-131.2519,     -999,9,     -999,9,-999          ,9,     -999,9,     -999,9,     -999,     -999,9,     -999,     -999,9,     -999,1,     -999,1,     -999,1,     -999,1,     -999,1,     -999,1,     -999,1,     -999,1,     -999,1,     -999,1,     -999,1,     -999,1,     -999,1
320620180309  ,S04P       ,81      ,  1,2          ,2          ,2,20180421,1722, -67.0000,-131.2521,     4555,   4438.8,0.3627111111111111508,34.697758712456171,2,  34.6982,2,216.01456791690836,2, 216.0023,2,    215.9,2,    140.7,2,    32.94,2,     0.00,2,     2.25,2,    0.482,2,    0.245,2,   0.0900,2,   2264.5,2,  2365.56,2,   7.5929,2,    24.89,     -999,9,     -999,1,   0.3623,2,     -999,9,     -999,9,     -999,     -999,9,     -999,9,     -999,9,     -999,1,    0.061,1,    4.651,1,    0.133,1,  19.5500,2,     -999,1,20180421,1727, -67.0001,-131.2520,     -999,1,     -999,1,-999          ,9,     -999,1,     -999,9,     -999,     -999,9,     -999,     -999,9,     -999,1,     -999,1,     -999,1,     -999,1,     -999,1,     -999,1,     -999,1,     -999,1,     -999,1,     -999,1,     -999,1,     -999,1,     -999,1
320620180309  ,S04P       ,81      ,  1,1          ,1          ,2,20180421,1722, -67.0000,-131.2521,     4555,   4641.4,0.3632111111111110957,34.696877723792987,2,  34.6986,2,216.28665044081890,2, 216.3985,2,    216.5,2,    139.9,2,    32.90,2,     0.00,2,     2.25,2,    0.535,2,    0.273,2,   0.0500,2,   2264.0,6,  2369.49,3,     -999,5,     -999,     -999,9,     -999,1,   0.3633,2,     -999,9,     -999,9,     -999,     -999,9,     -999,9,     -999,9,     -999,1,    0.060,1,    4.647,1,    0.141,1,  19.6100,2,     -999,1,20180421,1722, -67.0000,-131.2521,     -999,1,     -999,1,-999          ,9,     -999,1,     -999,9,     -999,     -999,9,     -999,     -999,9,     -999,1,     -999,1,     -999,1,     -999,1,     -999,1,     -999,1,     -999,1,     -999,1,     -999,1,     -999,1,     -999,1,     -999,1,     -999,1