BOTTLE,20240515CCHHYDRO
EXPOCODE,SECT_ID,STNNBR,CASTNO,SAMPNO,BTLNBR,BTLNBR_FLAG_W,DATE,TIME,LATITUDE,LONGITUDE,DEPTH,CTDPRS,CTDTMP,CTDSAL,CTDSAL_FLAG_W,SALNTY,SALNTY_FLAG_W,CTDOXY,CTDOXY_FLAG_W,CTDOPTOXY,CTDOPTOXY_FLAG_W,OXYGEN,OXYGEN_FLAG_W,SILCAT,SILCAT_FLAG_W,NITRAT,NITRAT_FLAG_W,NITRIT,NITRIT_FLAG_W,PHSPHT,PHSPHT_FLAG_W,CFC-11,CFC-11_FLAG_W,CFC-12,CFC-12_FLAG_W,SF6,SF6_FLAG_W,TCARBN,TCARBN_FLAG_W,ALKALI,ALKALI_FLAG_W,PH_TOT,PH_TOT_FLAG_W,PH_TMP,DOC,DOC_FLAG_W,HELIUM,HELIUM_FLAG_W,REFTMP,REFTMP_FLAG_W,DELC13,DELC13_FLAG_W,DELC14,DELC14_FLAG_W,C14ERR,POC,POC_FLAG_W,TDN,TDN_FLAG_W,TON,TON_FLAG_W,NEON,NEON_FLAG_W,CTDFLUOR,CTDFLUOR_FLAG_W,CTDXMISS,CTDXMISS_FLAG_W,CTDBETA700,CTDBETA700_FLAG_W,N2O,N2O_FLAG_W,ARGON,ARGON_FLAG_W,BTL_DATE,BTL_TIME,BTL_LAT,BTL_LON,KRYPTON,KRYPTON_FLAG_W,XENON,XENON_FLAG_W,HPLC,HPLC_FLAG_W,HE3_HE4_RATIO,HE3_HE4_RATIO_FLAG_W,Nd_143_144_D_EPSILON_BOTTLE,Nd_143_144_D_EPSILON_BOTTLE_FLAG_W,Nd_143_144_D_EPSILON_BOTTLE_ERROR,Nd_143_144_D_RATIO_BOTTLE,Nd_143_144_D_RATIO_BOTTLE_FLAG_W,Nd_143_144_D_RATIO_BOTTLE_ERROR,Nd_D_CONC,Nd_D_CONC_FLAG_W,La_D_CONC_BOTTLE,La_D_CONC_BOTTLE_FLAG_W,Ce_D_CONC_BOTTLE,Ce_D_CONC_BOTTLE_FLAG_W,Pr_D_CONC_BOTTLE,Pr_D_CONC_BOTTLE_FLAG_W,Sm_D_CONC_BOTTLE,Sm_D_CONC_BOTTLE_FLAG_W,Eu_D_CONC_BOTTLE,Eu_D_CONC_BOTTLE_FLAG_W,Gd_D_CONC_BOTTLE,Gd_D_CONC_BOTTLE_FLAG_W,Tb_D_CONC_BOTTLE,Tb_D_CONC_BOTTLE_FLAG_W,Dy_D_CONC_BOTTLE,Dy_D_CONC_BOTTLE_FLAG_W,Ho_D_CONC_BOTTLE,Ho_D_CONC_BOTTLE_FLAG_W,Er_D_CONC_BOTTLE,Er_D_CONC_BOTTLE_FLAG_W,Tm_D_CONC_BOTTLE,Tm_D_CONC_BOTTLE_FLAG_W,Yb_D_CONC_BOTTLE,Yb_D_CONC_BOTTLE_FLAG_W,Lu_D_CONC_BOTTLE,Lu_D_CONC_BOTTLE_FLAG_W
,,,,,,,,,,,METERS,DBAR,ITS-90,PSS-78,,PSS-78,,UMOL/KG,,UMOL/KG,,UMOL/KG,,UMOL/KG,,UMOL/KG,,UMOL/KG,,UMOL/KG,,PMOL/KG,,PMOL/KG,,FMOL/KG,,UMOL/KG,,UMOL/KG,,,,DEG C,UMOL/KG,,NMOL/L,,DEG C,,/MILLE,,/MILLE,,/MILLE,UG/KG,,UMOL/KG,,UMOL/KG,,NMOL/L,,VOLTS,,VOLTS,,VOLTS,,NMOL/KG,,UMOL/L,,,,,,NMOL/L,,NMOL/L,,,,,,10000,,10000,,,,PMOL/KG,,PMOL/L,,PMOL/L,,PMOL/L,,PMOL/L,,PMOL/L,,PMOL/L,,PMOL/L,,PMOL/L,,PMOL/L,,PMOL/L,,PMOL/L,,PMOL/L,,PMOL/L,
320620180309  ,S04P       ,29      ,  1,15         ,15         ,2,20180329,1315, -67.0000,-172.1538,     3065,   1113.1,0.8805166666666667252,34.712708284053434,2,  34.7131,2,204.88142512753990,2, 204.1945,2,    205.2,2,    115.0,2,    31.81,2,     0.00,2,     2.19,2,    0.269,2,    0.139,2,   0.0600,2,   2259.6,2,  2361.64,2,   7.6022,6,    24.93,     -999,9,     -999,9,   0.8803,2,     -999,9,     -999,9,     -999,     -999,9,     -999,9,     -999,9,     -999,9,    0.061,1,    4.673,1,    0.132,1,  18.8700,2,     -999,9,20180329,1522, -66.9997,-172.1531,     -999,9,     -999,9,-999          ,9,     -999,9,     -999,9,     -999,     -999,9,     -999,     -999,9,     -999,9,     -999,9,     -999,9,     -999,9,     -999,9,     -999,9,     -999,9,     -999,9,     -999,9,     -999,9,     -999,9,     -999,9,     -999,9
320620180309  ,S04P       ,29      ,  1,14         ,14         ,2,20180329,1315, -67.0000,-172.1538,     3065,   1214.2,0.8111416666666666497,34.709569306915455,2,  34.7102,2,205.46035361558458,2, 205.4026,2,    205.6,2,    116.8,2,    31.81,2,     0.00,2,     2.19,2,     -999,9,     -999,9,     -999,9,     -999,9,     -999,9,     -999,9,     -999,     -999,9,     -999,9,   0.8115,2,     -999,9,     -999,9,     -999,     -999,9,     -999,9,     -999,9,     -999,9,    0.061,1,    4.673,1,    0.131,1,     -999,9,     -999,9,20180329,1501, -66.9999,-172.1531,     -999,9,     -999,9,-999          ,9,     -999,9,     -999,9,     -999,     -999,9,     -999,     -999,9,     -999,9,     -999,9,     -999,9,     -999,9,     -999,9,     -999,9,     -999,9,     -999,9,     -999,9,     -999,9,     -999,9,     -999,9,     -999,9
320620180309  ,S04P       ,29      ,  1,13         ,13         ,2,20180329,1315, -67.0000,-172.1538,     3065,   1315.6,0.7410611111111110594,34.706503975778197,2,  34.7072,2,206.31097642777735,2, 206.7974,2,    206.7,2,    118.7,2,    31.89,2,     0.00,2,     2.20,2,     -999,9,     -999,9,     -999,9,     -999,9,     -999,9,     -999,9,     -999,     -999,9,     -999,9,   0.7412,2,     -999,9,     -999,9,     -999,     -999,9,     -999,9,     -999,9,     -999,9,    0.062,1,    4.673,1,    0.131,1,     -999,9,     -999,9,20180329,1457, -67.0000,-172.1530,     -999,9,     -999,9,-999          ,9,     -999,9,     -999,9,     -999,     -999,9,     -999,     -999,9,     -999,9,     -999,9,     -999,9,     -999,9,     -999,9,     -999,9,     -999,9,     -999,9,     -999,9,     -999,9,     -999,9,     -999,9,     -999,9
320620180309  ,S04P       ,29      ,  1,12         ,12         ,2,20180329,1315, -67.0000,-172.1538,     3065,   1417.7,0.6793583333333335084,34.703939762108291,2,  34.7066,2,206.89384294623326,2, 207.9966,2,    207.9,2,    120.5,2,    31.98,2,     0.00,2,     2.20,2,    0.335,2,    0.187,2,   0.1700,2,   2260.9,2,  2361.94,2,   7.5986,2,    24.94,     -999,9,     -999,9,   0.6781,2,     -999,9,     -999,9,     -999,     -999,9,     -999,9,     -999,9,     -999,9,    0.060,1,    4.674,1,    0.130,1,  19.2200,2,     -999,9,20180329,1450, -67.0001,-172.1529,     -999,9,     -999,9,-999          ,9,     -999,9,     -999,9,     -999,     -999,9,     -999,     -999,9,     -999,9,     -999,9,     -999,9,     -999,9,     -999,9,     -999,9,     -999,9,     -999,9,     -999,9,     -999,9,     -999,9,     -999,9,     -999,9
320620180309  ,S04P       ,29      ,  1,11         ,11         ,2,20180329,1315, -67.0000,-172.1538,     3065,   1519.6,0.6398666666666668057,34.702165865041891,2,  34.7027,2,207.56508468018728,2, 208.5007,2,    208.9,2,    121.8,2,    32.10,2,     0.00,2,     2.22,2,     -999,9,     -999,9,     -999,9,     -999,9,     -999,9,     -999,9,     -999,     -999,9,     -999,9,   0.6392,2,     -999,9,     -999,9,     -999,     -999,9,     -999,9,     -999,9,     -999,9,    0.061,1,    4.673,1,    0.130,1,     -999,9,     -999,9,20180329,1436, -67.0004,-172.1527,     -999,9,     -999,9,-999          ,9,     -999,9,     -999,9,     -999,     -999,9,     -999,     -999,9,     -999,9,     -999,9,     -999,9,     -999,9,     -999,9,     -999,9,     -999,9,     -999,9,     -999,9,     -999,9,     -999,9,     -999,9,     -999,9
320620180309  ,S04P       ,29      ,  1,10         ,10         ,2,20180329,1315, -67.0000,-172.1538,     3065,   1623.9,0.6018777777777778448,34.700278096059492,2,  34.7009,2,208.42945461703519,2, 209.5005,2,    210.0,2,    122.4,2,    32.13,2,     0.00,2,     2.21,2,    0.387,2,    0.220,2,   0.1900,2,   2261.5,2,  2362.76,2,   7.5963,2,    24.92,     -999,9,     -999,9,   0.6015,2,     -999,9,     -999,9,     -999,     -999,9,     -999,9,     -999,9,     -999,9,    0.061,1,    4.674,1,    0.129,1,  18.9500,2,     -999,9,20180329,1432, -67.0007,-172.1526,     -999,9,     -999,9,-999          ,9,     -999,9,     -999,9,     -999,     -999,9,     -999,     -999,9,     -999,9,     -999,9,     -999,9,     -999,9,     -999,9,     -999,9,     -999,9,     -999,9,     -999,9,     -999,9,     -999,9,     -999,9,     -999,9
320620180309  ,S04P       ,29      ,  1,9          ,9          ,2,20180329,1315, -67.0000,-172.1538,     3065,   1724.1,0.5694694444444445836,34.698957049274334,2,  34.6996,2,208.97899909821146,2, 210.4958,2,    210.2,2,    123.0,2,    32.16,2,     0.00,2,     2.23,2,     -999,9,     -999,9,     -999,9,     -999,9,     -999,9,     -999,9,     -999,     -999,9,     -999,9,   0.5690,2,     -999,9,     -999,9,     -999,     -999,9,     -999,9,     -999,9,     -999,9,    0.061,1,    4.675,1,    0.129,1,     -999,9,     -999,9,20180329,1428, -67.0010,-172.1525,     -999,9,     -999,9,-999          ,9,     -999,9,     -999,9,     -999,     -999,9,     -999,     -999,9,     -999,9,     -999,9,     -999,9,     -999,9,     -999,9,     -999,9,     -999,9,     -999,9,     -999,9,     -999,9,     -999,9,     -999,9,     -999,9
320620180309  ,S04P       ,29      ,  1,8          ,8          ,2,20180329,1315, -67.0000,-172.1538,     3065,   1826.1,0.5423166666666667801,34.697776934305040,2,  34.7002,2,210.30247541108241,2, 211.2032,2,    210.8,2,    123.5,2,    32.34,2,     0.00,2,     2.22,2,     -999,9,     -999,9,     -999,9,     -999,9,     -999,9,     -999,9,     -999,     -999,9,     -999,9,   0.5420,2,     -999,9,     -999,9,     -999,     -999,9,     -999,9,     -999,9,     -999,9,    0.061,1,    4.674,1,    0.129,1,     -999,9,     -999,9,20180329,1422, -67.0009,-172.1525,     -999,9,     -999,9,-999          ,9,     -999,9,     -999,9,     -999,     -999,9,     -999,     -999,9,     -999,9,     -999,9,     -999,9,     -999,9,     -999,9,     -999,9,     -999,9,     -999,9,     -999,9,     -999,9,     -999,9,     -999,9,     -999,9
320620180309  ,S04P       ,29      ,  1,7          ,7          ,2,20180329,1315, -67.0000,-172.1538,     3065,   1928.0,0.5083888888888890012,34.696148872062771,2,  34.6954,2,211.28528560925088,2, 211.8023,2,    212.4,2,    123.8,2,    32.34,2,     0.00,2,     2.22,2,    0.480,2,    0.271,2,   0.2200,2,   2261.2,6,  2361.89,2,   7.5953,2,    24.93,     -999,9,     -999,9,   0.5085,2,     -999,9,     -999,9,     -999,     -999,9,     -999,9,     -999,9,     -999,9,    0.061,1,    4.674,1,    0.132,1,  19.2200,2,     -999,9,20180329,1418, -67.0009,-172.1525,     -999,9,     -999,9,-999          ,9,     -999,9,     -999,9,     -999,     -999,9,     -999,     -999,9,     -999,9,     -999,9,     -999,9,     -999,9,     -999,9,     -999,9,     -999,9,     -999,9,     -999,9,     -999,9,     -999,9,     -999,9,     -999,9
320620180309  ,S04P       ,29      ,  1,6          ,6          ,2,20180329,1315, -67.0000,-172.1538,     3065,   2029.2,0.4670333333333333004,34.694307140885613,2,  34.6949,2,212.20173409650809,2, 212.6979,2,    213.0,2,    123.8,2,    32.32,2,     0.00,2,     2.23,2,     -999,9,     -999,9,     -999,9,     -999,9,     -999,9,     -999,9,     -999,     -999,9,     -999,9,   0.4664,2,     -999,9,     -999,9,     -999,     -999,9,     -999,9,     -999,9,     -999,9,    0.061,1,    4.674,1,    0.129,1,     -999,9,     -999,9,20180329,1414, -67.0009,-172.1525,     -999,9,     -999,9,-999          ,9,     -999,9,     -999,9,     -999,     -999,9,     -999,     -999,9,     -999,9,     -999,9,     -999,9,     -999,9,     -999,9,     -999,9,     -999,9,     -999,9,     -999,9,     -999,9,     -999,9,     -999,9,     -999,9
320620180309  ,S04P       ,29      ,  1,5          ,5          ,2,20180329,1315, -67.0000,-172.1538,     3065,   2233.3,0.4018027777777776754,34.691283225858548,2,  34.6915,2,214.45357854598842,2, 214.5996,2,    214.8,2,    123.9,2,    32.41,2,     0.00,2,     2.23,2,    0.620,2,    0.362,2,   0.2600,2,   2261.2,2,  2361.78,2,   7.5929,2,    24.94,     -999,9,     -999,9,   0.4014,2,     -999,9,     -999,9,     -999,     -999,9,     -999,9,     -999,9,     -999,9,    0.060,1,    4.674,1,    0.127,1,  18.8200,2,     -999,9,20180329,1402, -67.0007,-172.1526,     -999,9,     -999,9,-999          ,9,     -999,9,     -999,9,     -999,     -999,9,     -999,     -999,9,     -999,9,     -999,9,     -999,9,     -999,9,     -999,9,     -999,9,     -999,9,     -999,9,     -999,9,     -999,9,     -999,9,     -999,9,     -999,9
320620180309  ,S04P       ,29      ,  1,4          ,4          ,2,20180329,1315, -67.0000,-172.1538,     3065,   2438.0,0.3649249999999999994,34.689774577754058,2,  34.6903,2,215.47430697614863,2, 215.7055,2,    215.8,2,    124.6,2,    32.40,2,     0.00,2,     2.22,2,    0.685,2,    0.391,2,   0.1900,2,   2261.9,2,  2361.69,2,   7.5919,2,    24.93,     -999,9,     -999,9,   0.3643,2,     -999,9,     -999,9,     -999,     -999,9,     -999,9,     -999,9,     -999,9,    0.060,1,    4.674,1,    0.130,1,  18.9200,2,     -999,9,20180329,1354, -67.0008,-172.1525,     -999,9,     -999,9,-999          ,9,     -999,9,     -999,9,     -999,     -999,9,     -999,     -999,9,     -999,9,     -999,9,     -999,9,     -999,9,     -999,9,     -999,9,     -999,9,     -999,9,     -999,9,     -999,9,     -999,9,     -999,9,     -999,9
320620180309  ,S04P       ,29      ,  1,3          ,3          ,2,20180329,1315, -67.0000,-172.1538,     3065,   2642.2,0.3289416666666667433,34.688518638451221,2,  34.6886,2,217.81312750951025,2, 216.7006,2,    217.2,2,    124.6,2,    32.40,2,     0.00,2,     2.22,2,    0.746,2,    0.422,2,   0.1500,2,   2262.0,2,  2361.90,2,   7.5940,2,    24.93,     -999,9,     -999,9,   0.3283,2,     -999,9,     -999,9,     -999,     -999,9,     -999,9,     -999,9,     -999,9,    0.061,1,    4.673,1,    0.128,1,  18.8100,2,     -999,9,20180329,1347, -67.0002,-172.1533,     -999,9,     -999,9,-999          ,9,     -999,9,     -999,9,     -999,     -999,9,     -999,     -999,9,     -999,9,     -999,9,     -999,9,     -999,9,     -999,9,     -999,9,     -999,9,     -999,9,     -999,9,     -999,9,     -999,9,     -999,9,     -999,9
320620180309  ,S04P       ,29      ,  1,2          ,2          ,2,20180329,1315, -67.0000,-172.1538,     3065,   2913.5,0.3070194444444444559,34.687496232727021,3,  34.6950,4,219.31702893957987,2, 218.0008,2,    218.6,2,    124.7,2,    32.49,2,     0.00,2,     2.22,2,    0.798,2,    0.449,2,   0.3200,2,   2260.3,2,  2361.84,2,   7.5905,6,    24.93,     -999,9,     -999,9,   0.3047,2,     -999,9,     -999,9,     -999,     -999,9,     -999,9,     -999,9,     -999,9,    0.061,1,    4.672,1,    0.129,1,  18.9000,2,     -999,9,20180329,1325, -66.9996,-172.1542,     -999,9,     -999,9,-999          ,9,     -999,9,     -999,9,     -999,     -999,9,     -999,     -999,9,     -999,9,     -999,9,     -999,9,     -999,9,     -999,9,     -999,9,     -999,9,     -999,9,     -999,9,     -999,9,     -999,9,     -999,9,     -999,9
320620180309  ,S04P       ,29      ,  1,1          ,1          ,2,20180329,1315, -67.0000,-172.1538,     3065,   3113.2,0.3143388888888888344,34.687222810323938,2,  34.6878,2,219.78235843156500,2, 218.3011,2,    217.9,2,    124.6,2,    32.51,2,     0.00,2,     2.22,2,    0.821,2,    0.452,2,   0.5800,2,   2261.6,6,  2360.28,2,   7.5924,2,    24.93,     -999,9,     -999,9,   0.3140,2,     -999,9,     -999,9,     -999,     -999,9,     -999,9,     -999,9,     -999,9,    0.061,1,    4.672,1,    0.130,1,  18.8800,2,     -999,9,20180329,1315, -67.0000,-172.1538,     -999,9,     -999,9,-999          ,9,     -999,9,     -999,9,     -999,     -999,9,     -999,     -999,9,     -999,9,     -999,9,     -999,9,     -999,9,     -999,9,     -999,9,     -999,9,     -999,9,     -999,9,     -999,9,     -999,9,     -999,9,     -999,9