BOTTLE,20240515CCHHYDRO
EXPOCODE,SECT_ID,STNNBR,CASTNO,SAMPNO,BTLNBR,BTLNBR_FLAG_W,DATE,TIME,LATITUDE,LONGITUDE,DEPTH,CTDPRS,CTDTMP,CTDSAL,CTDSAL_FLAG_W,SALNTY,SALNTY_FLAG_W,CTDOXY,CTDOXY_FLAG_W,CTDOPTOXY,CTDOPTOXY_FLAG_W,OXYGEN,OXYGEN_FLAG_W,SILCAT,SILCAT_FLAG_W,NITRAT,NITRAT_FLAG_W,NITRIT,NITRIT_FLAG_W,PHSPHT,PHSPHT_FLAG_W,CFC-11,CFC-11_FLAG_W,CFC-12,CFC-12_FLAG_W,SF6,SF6_FLAG_W,TCARBN,TCARBN_FLAG_W,ALKALI,ALKALI_FLAG_W,PH_TOT,PH_TOT_FLAG_W,PH_TMP,DOC,DOC_FLAG_W,HELIUM,HELIUM_FLAG_W,REFTMP,REFTMP_FLAG_W,DELC13,DELC13_FLAG_W,DELC14,DELC14_FLAG_W,C14ERR,POC,POC_FLAG_W,TDN,TDN_FLAG_W,TON,TON_FLAG_W,NEON,NEON_FLAG_W,CTDFLUOR,CTDFLUOR_FLAG_W,CTDXMISS,CTDXMISS_FLAG_W,CTDBETA700,CTDBETA700_FLAG_W,N2O,N2O_FLAG_W,ARGON,ARGON_FLAG_W,BTL_DATE,BTL_TIME,BTL_LAT,BTL_LON,KRYPTON,KRYPTON_FLAG_W,XENON,XENON_FLAG_W,HPLC,HPLC_FLAG_W,HE3_HE4_RATIO,HE3_HE4_RATIO_FLAG_W,Nd_143_144_D_EPSILON_BOTTLE,Nd_143_144_D_EPSILON_BOTTLE_FLAG_W,Nd_143_144_D_EPSILON_BOTTLE_ERROR,Nd_143_144_D_RATIO_BOTTLE,Nd_143_144_D_RATIO_BOTTLE_FLAG_W,Nd_143_144_D_RATIO_BOTTLE_ERROR,Nd_D_CONC,Nd_D_CONC_FLAG_W,La_D_CONC_BOTTLE,La_D_CONC_BOTTLE_FLAG_W,Ce_D_CONC_BOTTLE,Ce_D_CONC_BOTTLE_FLAG_W,Pr_D_CONC_BOTTLE,Pr_D_CONC_BOTTLE_FLAG_W,Sm_D_CONC_BOTTLE,Sm_D_CONC_BOTTLE_FLAG_W,Eu_D_CONC_BOTTLE,Eu_D_CONC_BOTTLE_FLAG_W,Gd_D_CONC_BOTTLE,Gd_D_CONC_BOTTLE_FLAG_W,Tb_D_CONC_BOTTLE,Tb_D_CONC_BOTTLE_FLAG_W,Dy_D_CONC_BOTTLE,Dy_D_CONC_BOTTLE_FLAG_W,Ho_D_CONC_BOTTLE,Ho_D_CONC_BOTTLE_FLAG_W,Er_D_CONC_BOTTLE,Er_D_CONC_BOTTLE_FLAG_W,Tm_D_CONC_BOTTLE,Tm_D_CONC_BOTTLE_FLAG_W,Yb_D_CONC_BOTTLE,Yb_D_CONC_BOTTLE_FLAG_W,Lu_D_CONC_BOTTLE,Lu_D_CONC_BOTTLE_FLAG_W
,,,,,,,,,,,METERS,DBAR,ITS-90,PSS-78,,PSS-78,,UMOL/KG,,UMOL/KG,,UMOL/KG,,UMOL/KG,,UMOL/KG,,UMOL/KG,,UMOL/KG,,PMOL/KG,,PMOL/KG,,FMOL/KG,,UMOL/KG,,UMOL/KG,,,,DEG C,UMOL/KG,,NMOL/L,,DEG C,,/MILLE,,/MILLE,,/MILLE,UG/KG,,UMOL/KG,,UMOL/KG,,NMOL/L,,VOLTS,,VOLTS,,VOLTS,,NMOL/KG,,UMOL/L,,,,,,NMOL/L,,NMOL/L,,,,,,10000,,10000,,,,PMOL/KG,,PMOL/L,,PMOL/L,,PMOL/L,,PMOL/L,,PMOL/L,,PMOL/L,,PMOL/L,,PMOL/L,,PMOL/L,,PMOL/L,,PMOL/L,,PMOL/L,,PMOL/L,
320620180309  ,S04P       ,8       ,  1,36         ,36         ,2,20180318,2145, -68.0116, 172.8223,     3128,      3.0,-0.8287500000000000977,33.939160578894466,2,  33.9368,2,342.17672434609733,2, 342.4975,2,    342.0,2,     63.1,2,    26.13,2,     0.14,2,     1.71,2,    5.577,2,    3.103,2,   4.0200,2,   2185.2,6,  2303.48,2,   7.6599,2,    24.96,     -999,9,     -999,9,  -0.1938,3,     -999,9,     -999,9,     -999,     -999,9,     -999,9,     -999,9,     -999,9,    0.187,1,    4.598,1,    0.189,1,  18.0600,2,     -999,9,20180318,2322, -68.0116, 172.8219,     -999,9,     -999,9,-999          ,9,     -999,9,     -999,9,     -999,     -999,9,     -999,     -999,9,     -999,1,     -999,1,     -999,1,     -999,1,     -999,1,     -999,1,     -999,1,     -999,1,     -999,1,     -999,1,     -999,1,     -999,1,     -999,1
320620180309  ,S04P       ,8       ,  1,35         ,35         ,2,20180318,2145, -68.0116, 172.8223,     3128,     21.2,-0.8300944444444444681,33.939251448608580,2,  33.9366,2,343.05778133222009,2, 342.5021,2,    342.0,2,     64.2,2,    26.12,2,     0.13,2,     1.72,2,    5.617,2,    3.100,2,   3.9600,2,   2183.4,2,  2296.89,2,   7.6662,2,    24.96,     -999,9,     -999,1,  -0.8311,2,     -999,9,     -999,9,     -999,     -999,9,     -999,9,     -999,9,     -999,1,    0.191,1,    4.606,1,    0.228,1,  17.4800,2,     -999,1,20180318,2322, -68.0116, 172.8220,     -999,1,     -999,1,-999          ,9,     -999,1,     -999,9,     -999,     -999,9,     -999,     -999,9,     -999,9,     -999,9,     -999,9,     -999,9,     -999,9,     -999,9,     -999,9,     -999,9,     -999,9,     -999,9,     -999,9,     -999,9,     -999,9
320620180309  ,S04P       ,8       ,  1,34         ,34         ,2,20180318,2145, -68.0116, 172.8223,     3128,     50.9,-0.8370944444444444743,33.939410787807986,2,  33.9370,2,344.50080600766904,2, 342.4998,2,    342.5,2,     63.3,2,    26.11,2,     0.13,2,     1.73,2,    5.597,6,    3.018,6,   3.5500,6,   2183.1,2,  2305.99,2,   7.6597,2,    24.95,     -999,9,     -999,9,  -0.8347,2,     -999,9,     -999,9,     -999,     -999,9,     -999,9,     -999,9,     -999,9,    0.206,1,    4.603,1,    0.211,1,  17.6000,6,     -999,9,20180318,2321, -68.0116, 172.8221,     -999,9,     -999,9,-999          ,9,     -999,9,     -999,9,     -999,     -999,9,     -999,     -999,9,     -999,1,     -999,1,     -999,1,     -999,1,     -999,1,     -999,1,     -999,1,     -999,1,     -999,1,     -999,1,     -999,1,     -999,1,     -999,1
320620180309  ,S04P       ,8       ,  1,33         ,33         ,2,20180318,2145, -68.0116, 172.8223,     3128,     74.1,-0.8694638888888888140,33.997564331976470,2,  34.0050,2,337.99546717302678,3, 326.7001,2,    329.0,2,     65.7,2,    26.81,2,     0.14,2,     1.80,2,     -999,9,     -999,9,     -999,9,   2189.7,2,  2307.66,2,   7.6524,2,    24.96,     -999,9,     -999,1,  -0.8693,2,     -999,9,     -999,9,     -999,     -999,9,     -999,9,     -999,9,     -999,1,    0.228,1,    4.599,1,    0.215,1,     -999,9,     -999,1,20180318,2319, -68.0116, 172.8221,     -999,1,     -999,1,-999          ,9,     -999,1,     -999,9,     -999,     -999,9,     -999,     -999,9,     -999,9,     -999,9,     -999,9,     -999,9,     -999,9,     -999,9,     -999,9,     -999,9,     -999,9,     -999,9,     -999,9,     -999,9,     -999,9
320620180309  ,S04P       ,8       ,  1,32         ,32         ,2,20180318,2145, -68.0116, 172.8223,     3128,    100.0,-0.0309944444444444425,34.491091227675831,2,  34.4785,2,236.10518080585490,2, 236.3963,2,    233.8,2,     86.8,2,    31.74,2,     0.26,2,     2.21,2,    2.272,2,    1.259,2,   1.4700,2,   2245.2,2,  2334.44,2,   7.5769,2,    24.94,     -999,9,     -999,9,  -0.0521,2,     -999,9,     -999,9,     -999,     -999,9,     -999,9,     -999,9,     -999,9,    0.157,1,    4.646,1,    0.170,1,  20.6800,2,     -999,9,20180318,2317, -68.0116, 172.8221,     -999,9,     -999,9,-999          ,9,     -999,9,     -999,9,     -999,     -999,9,     -999,     -999,9,     -999,1,     -999,1,     -999,1,     -999,1,     -999,1,     -999,1,     -999,1,     -999,1,     -999,1,     -999,1,     -999,1,     -999,1,     -999,1
320620180309  ,S04P       ,8       ,  1,31         ,31         ,2,20180318,2145, -68.0116, 172.8223,     3128,    125.1,1.0052777777777774926,34.646633916741038,2,  34.6464,2,196.65053913892621,3, 196.9999,2,    194.5,2,     92.8,2,    32.85,2,     0.08,2,     2.26,2,    0.936,2,    0.507,2,   0.4800,2,   2260.1,2,  2346.53,2,   7.5652,2,    24.95,     -999,9,     -999,1,   1.0097,2,     -999,9,     -999,9,     -999,     -999,9,     -999,9,     -999,9,     -999,1,    0.091,1,    4.665,1,    0.149,1,  23.0700,2,     -999,1,20180318,2315, -68.0116, 172.8221,     -999,1,     -999,1,-999          ,9,     -999,1,     -999,9,     -999,     -999,9,     -999,     -999,9,     -999,9,     -999,9,     -999,9,     -999,9,     -999,9,     -999,9,     -999,9,     -999,9,     -999,9,     -999,9,     -999,9,     -999,9,     -999,9
320620180309  ,S04P       ,8       ,  1,30         ,30         ,2,20180318,2145, -68.0116, 172.8223,     3128,    150.4,1.2370777777777781647,34.682697168207810,2,  34.6839,2,190.18681772190175,3, 190.5048,2,    188.1,2,     95.9,2,    32.87,2,     0.03,2,     2.26,2,     -999,9,     -999,9,     -999,9,   2262.5,2,  2347.81,2,   7.5798,2,    24.95,     -999,9,     -999,9,   1.2591,2,     -999,9,     -999,9,     -999,     -999,9,     -999,9,     -999,9,     -999,9,    0.069,1,    4.671,1,    0.145,1,     -999,9,     -999,9,20180318,2314, -68.0116, 172.8221,     -999,9,     -999,9,-999          ,9,     -999,9,     -999,9,     -999,     -999,9,     -999,     -999,9,     -999,1,     -999,1,     -999,1,     -999,1,     -999,1,     -999,1,     -999,1,     -999,1,     -999,1,     -999,1,     -999,1,     -999,1,     -999,1
320620180309  ,S04P       ,8       ,  1,29         ,29         ,2,20180318,2145, -68.0116, 172.8223,     3128,    175.6,1.3480361111111112127,34.705272804190159,2,  34.7033,2,186.95544682508000,2, 187.6985,2,    186.0,2,     97.1,2,    32.79,2,     0.00,2,     2.24,2,    0.459,2,    0.248,2,   0.1000,2,   2264.5,2,  2349.56,2,   7.5666,6,    24.96,     -999,9,     -999,9,   1.3472,2,     -999,9,     -999,9,     -999,     -999,9,     -999,9,     -999,9,     -999,9,    0.065,1,    4.673,1,    0.146,1,  23.4400,2,     -999,9,20180318,2312, -68.0116, 172.8221,     -999,9,     -999,9,-999          ,9,     -999,9,     -999,9,     -999,     -999,9,     -999,     -999,9,     -999,9,     -999,9,     -999,9,     -999,9,     -999,9,     -999,9,     -999,9,     -999,9,     -999,9,     -999,9,     -999,9,     -999,9,     -999,9
320620180309  ,S04P       ,8       ,  1,28         ,28         ,2,20180318,2145, -68.0116, 172.8223,     3128,    200.8,1.3667666666666666853,34.712833563507431,2,  34.7100,2,186.86571603258173,2, 187.0027,2,    185.9,2,     97.5,2,    32.68,2,     0.00,2,     2.26,2,    0.399,2,    0.215,2,   0.1600,2,   2263.4,2,  2351.66,2,   7.5673,2,    24.97,     -999,9,     -999,1,   1.3668,2,     -999,9,     -999,9,     -999,     -999,9,     -999,9,     -999,9,     -999,1,    0.065,1,    4.674,1,    0.145,1,  23.7100,2,     -999,1,20180318,2311, -68.0116, 172.8221,     -999,1,     -999,1,-999          ,9,     -999,1,     -999,9,     -999,     -999,9,     -999,     -999,9,     -999,1,     -999,1,     -999,1,     -999,1,     -999,1,     -999,1,     -999,1,     -999,1,     -999,1,     -999,1,     -999,1,     -999,1,     -999,1
320620180309  ,S04P       ,8       ,  1,27         ,27         ,2,20180318,2145, -68.0116, 172.8223,     3128,    225.5,1.3700916666666662636,34.717305129207482,2,  34.7141,2,186.87021665803246,2, 186.9054,2,    186.5,2,     99.5,2,    32.65,2,     0.00,2,     2.25,2,    0.365,2,    0.192,2,   0.0600,2,   2264.9,2,  2352.38,2,   7.5702,2,    24.96,     -999,9,     -999,9,   1.3694,2,     -999,9,     -999,9,     -999,     -999,9,     -999,9,     -999,9,     -999,9,    0.063,1,    4.675,1,    0.145,1,  22.9900,2,     -999,9,20180318,2309, -68.0116, 172.8221,     -999,9,     -999,9,-999          ,9,     -999,9,     -999,9,     -999,     -999,9,     -999,     -999,9,     -999,9,     -999,9,     -999,9,     -999,9,     -999,9,     -999,9,     -999,9,     -999,9,     -999,9,     -999,9,     -999,9,     -999,9,     -999,9
320620180309  ,S04P       ,8       ,  1,26         ,26         ,2,20180318,2145, -68.0116, 172.8223,     3128,    252.4,1.3609250000000001624,34.719922439369711,2,  34.7178,2,186.89316685831125,2, 187.0969,2,    186.0,2,    100.1,2,    32.63,2,     0.00,2,     2.22,2,    0.315,2,    0.171,2,   0.0200,2,   2261.0,2,  2352.74,2,   7.5724,2,    24.95,     -999,9,     -999,9,   1.3612,2,     -999,9,     -999,9,     -999,     -999,9,     -999,9,     -999,9,     -999,9,    0.064,1,    4.678,1,    0.142,1,  22.0100,2,     -999,9,20180318,2307, -68.0116, 172.8221,     -999,9,     -999,9,-999          ,9,     -999,9,     -999,9,     -999,     -999,9,     -999,     -999,9,     -999,1,     -999,1,     -999,1,     -999,1,     -999,1,     -999,1,     -999,1,     -999,1,     -999,1,     -999,1,     -999,1,     -999,1,     -999,1
320620180309  ,S04P       ,8       ,  1,25         ,25         ,2,20180318,2145, -68.0116, 172.8223,     3128,    302.8,1.3277166666666664341,34.722276836082351,2,  34.7192,2,187.93850225066856,2, 187.8020,2,    187.8,2,    102.9,2,    32.49,2,     0.00,2,     2.21,2,     -999,9,     -999,9,     -999,9,   2261.2,2,  2354.30,2,   7.5742,2,    24.96,     -999,9,     -999,1,   1.3264,2,     -999,9,     -999,9,     -999,     -999,9,     -999,9,     -999,9,     -999,1,    0.062,1,    4.679,1,    0.140,1,     -999,9,     -999,1,20180318,2305, -68.0116, 172.8224,     -999,1,     -999,1,-999          ,9,     -999,1,     -999,9,     -999,     -999,9,     -999,     -999,9,     -999,9,     -999,9,     -999,9,     -999,9,     -999,9,     -999,9,     -999,9,     -999,9,     -999,9,     -999,9,     -999,9,     -999,9,     -999,9
320620180309  ,S04P       ,8       ,  1,24         ,24         ,2,20180318,2145, -68.0116, 172.8223,     3128,    353.6,1.3059722222222223120,34.723463841968119,2,  34.7198,2,189.11869329328545,2, 188.2011,2,    188.1,2,    103.1,2,    32.41,2,     0.00,2,     2.21,2,    0.251,2,    0.136,2,   0.0000,2,   2263.9,2,  2355.38,2,   7.5741,2,    24.96,     -999,9,     -999,9,   1.3042,2,     -999,9,     -999,9,     -999,     -999,9,     -999,9,     -999,9,     -999,9,    0.062,1,    4.682,1,    0.139,1,  21.9800,2,     -999,9,20180318,2303, -68.0116, 172.8223,     -999,9,     -999,9,-999          ,9,     -999,9,     -999,9,     -999,     -999,9,     -999,     -999,9,     -999,1,     -999,1,     -999,1,     -999,1,     -999,1,     -999,1,     -999,1,     -999,1,     -999,1,     -999,1,     -999,1,     -999,1,     -999,1
320620180309  ,S04P       ,8       ,  1,23         ,23         ,2,20180318,2145, -68.0116, 172.8223,     3128,    403.9,1.2595472222222221514,34.724063636647784,2,  34.7231,2,189.58807761356968,2, 189.4016,2,    189.7,2,    105.2,2,    32.44,2,     0.00,2,     2.22,2,     -999,9,     -999,9,     -999,9,   2266.5,2,  2355.80,2,   7.5814,2,    24.96,     -999,9,     -999,9,   1.2592,2,     -999,9,     -999,9,     -999,     -999,9,     -999,9,     -999,9,     -999,9,    0.061,1,    4.684,1,    0.135,1,     -999,9,     -999,9,20180318,2301, -68.0116, 172.8224,     -999,9,     -999,9,-999          ,9,     -999,9,     -999,9,     -999,     -999,9,     -999,     -999,9,     -999,9,     -999,9,     -999,9,     -999,9,     -999,9,     -999,9,     -999,9,     -999,9,     -999,9,     -999,9,     -999,9,     -999,9,     -999,9
320620180309  ,S04P       ,8       ,  1,22         ,22         ,2,20180318,2145, -68.0116, 172.8223,     3128,    453.7,1.2159027777777779988,34.723993293773454,2,  34.7223,2,190.15180666631332,2, 190.4983,2,    190.6,2,    106.7,2,    32.38,2,     0.00,2,     2.20,2,    0.207,2,    0.118,2,   0.0000,2,   2262.8,2,  2357.22,2,   7.5781,2,    24.97,     -999,9,     -999,1,   1.2162,2,     -999,9,     -999,9,     -999,     -999,9,     -999,9,     -999,9,     -999,1,    0.062,1,    4.684,1,    0.135,1,  21.6700,2,     -999,1,20180318,2259, -68.0116, 172.8224,     -999,1,     -999,1,-999          ,9,     -999,1,     -999,9,     -999,     -999,9,     -999,     -999,9,     -999,1,     -999,1,     -999,1,     -999,1,     -999,1,     -999,1,     -999,1,     -999,1,     -999,1,     -999,1,     -999,1,     -999,1,     -999,1
320620180309  ,S04P       ,8       ,  1,21         ,21         ,2,20180318,2145, -68.0116, 172.8223,     3128,    504.7,1.1793333333333331225,34.723540139738112,2,  34.7211,2,190.83672449679807,2, 191.3065,2,    191.0,2,    109.3,2,    32.43,2,     0.00,2,     2.22,2,     -999,9,     -999,9,     -999,9,   2263.4,2,  2359.33,2,   7.5697,2,    24.96,     -999,9,     -999,9,   1.1799,2,     -999,9,     -999,9,     -999,     -999,9,     -999,9,     -999,9,     -999,9,    0.062,1,    4.685,1,    0.134,1,     -999,9,     -999,9,20180318,2257, -68.0116, 172.8224,     -999,9,     -999,9,-999          ,9,     -999,9,     -999,9,     -999,     -999,9,     -999,     -999,9,     -999,9,     -999,9,     -999,9,     -999,9,     -999,9,     -999,9,     -999,9,     -999,9,     -999,9,     -999,9,     -999,9,     -999,9,     -999,9
320620180309  ,S04P       ,8       ,  1,20         ,20         ,2,20180318,2145, -68.0116, 172.8223,     3128,    606.1,1.1048555555555559238,34.721780847733470,2,  34.7206,2,192.31355544882393,2, 193.2058,2,    192.9,2,    111.0,2,    32.41,2,     0.00,2,     2.23,2,    0.164,2,    0.087,2,   0.0000,2,   2263.0,2,  2361.72,4,   7.5866,2,    24.97,     -999,9,     -999,9,   1.1043,2,     -999,9,     -999,9,     -999,     -999,9,     -999,9,     -999,9,     -999,9,    0.062,1,    4.684,1,    0.133,1,  21.6000,2,     -999,9,20180318,2254, -68.0116, 172.8223,     -999,9,     -999,9,-999          ,9,     -999,9,     -999,9,     -999,     -999,9,     -999,     -999,9,     -999,1,     -999,1,     -999,1,     -999,1,     -999,1,     -999,1,     -999,1,     -999,1,     -999,1,     -999,1,     -999,1,     -999,1,     -999,1
320620180309  ,S04P       ,8       ,  1,19         ,19         ,2,20180318,2145, -68.0116, 172.8223,     3128,    706.6,1.0604750000000002785,34.720683992516520,2,  34.7194,2,193.66152572023438,2, 194.1982,2,    194.5,2,    113.2,2,    32.44,2,     0.00,2,     2.23,2,     -999,9,     -999,9,     -999,9,   2263.9,2,  2360.10,2,   7.5792,2,    24.96,     -999,9,     -999,1,   1.0598,2,     -999,9,     -999,9,     -999,     -999,9,     -999,9,     -999,9,     -999,1,    0.061,1,    4.684,1,    0.132,1,     -999,9,     -999,1,20180318,2251, -68.0116, 172.8223,     -999,1,     -999,1,-999          ,9,     -999,1,     -999,9,     -999,     -999,9,     -999,     -999,9,     -999,9,     -999,9,     -999,9,     -999,9,     -999,9,     -999,9,     -999,9,     -999,9,     -999,9,     -999,9,     -999,9,     -999,9,     -999,9
320620180309  ,S04P       ,8       ,  1,18         ,18         ,2,20180318,2145, -68.0116, 172.8223,     3128,    809.7,1.0109000000000001318,34.719079723355264,2,  34.7190,2,195.57068609279170,2, 195.5015,2,    195.8,2,    114.2,2,    32.43,2,     0.00,2,     2.24,2,    0.141,2,    0.079,2,   0.0600,2,   2265.2,2,  2360.74,2,   7.5873,2,    24.97,     -999,9,     -999,9,   1.0105,2,     -999,9,     -999,9,     -999,     -999,9,     -999,9,     -999,9,     -999,9,    0.062,1,    4.684,1,    0.133,1,  21.2900,2,     -999,9,20180318,2248, -68.0116, 172.8224,     -999,9,     -999,9,-999          ,9,     -999,9,     -999,9,     -999,     -999,9,     -999,     -999,9,     -999,1,     -999,1,     -999,1,     -999,1,     -999,1,     -999,1,     -999,1,     -999,1,     -999,1,     -999,1,     -999,1,     -999,1,     -999,1
320620180309  ,S04P       ,8       ,  1,17         ,17         ,2,20180318,2145, -68.0116, 172.8223,     3128,    910.0,0.9592583333333334350,34.717243458262722,2,  34.7168,2,197.52321133293970,2, 197.0034,2,    197.4,2,    116.3,2,    32.45,2,     0.00,2,     2.23,2,     -999,9,     -999,9,     -999,9,   2263.2,2,  2361.20,2,   7.5828,6,    24.96,     -999,9,     -999,9,   0.9587,2,     -999,9,     -999,9,     -999,     -999,9,     -999,9,     -999,9,     -999,9,    0.060,1,    4.684,1,    0.132,1,     -999,9,     -999,9,20180318,2245, -68.0116, 172.8224,     -999,9,     -999,9,-999          ,9,     -999,9,     -999,9,     -999,     -999,9,     -999,     -999,9,     -999,9,     -999,9,     -999,9,     -999,9,     -999,9,     -999,9,     -999,9,     -999,9,     -999,9,     -999,9,     -999,9,     -999,9,     -999,9
320620180309  ,S04P       ,8       ,  1,16         ,16         ,2,20180318,2145, -68.0116, 172.8223,     3128,   1012.5,0.8995861111111111974,34.715227571435712,2,  34.7127,2,199.43822702337692,2, 198.5002,2,    199.2,2,    117.8,2,    32.49,2,     0.00,2,     2.22,2,    0.126,2,    0.064,2,   0.1700,2,   2264.3,2,  2363.41,2,   7.5860,2,    24.97,     -999,9,     -999,1,   0.8990,2,     -999,9,     -999,9,     -999,     -999,9,     -999,9,     -999,9,     -999,1,    0.060,1,    4.685,1,    0.131,1,  21.2900,2,     -999,1,20180318,2242, -68.0116, 172.8223,     -999,1,     -999,1,-999          ,9,     -999,1,     -999,9,     -999,     -999,9,     -999,     -999,9,     -999,1,     -999,1,     -999,1,     -999,1,     -999,1,     -999,1,     -999,1,     -999,1,     -999,1,     -999,1,     -999,1,     -999,1,     -999,1