BOTTLE,20240515CCHHYDRO
EXPOCODE,SECT_ID,STNNBR,CASTNO,SAMPNO,BTLNBR,BTLNBR_FLAG_W,DATE,TIME,LATITUDE,LONGITUDE,DEPTH,CTDPRS,CTDTMP,CTDSAL,CTDSAL_FLAG_W,SALNTY,SALNTY_FLAG_W,CTDOXY,CTDOXY_FLAG_W,CTDOPTOXY,CTDOPTOXY_FLAG_W,OXYGEN,OXYGEN_FLAG_W,SILCAT,SILCAT_FLAG_W,NITRAT,NITRAT_FLAG_W,NITRIT,NITRIT_FLAG_W,PHSPHT,PHSPHT_FLAG_W,CFC-11,CFC-11_FLAG_W,CFC-12,CFC-12_FLAG_W,SF6,SF6_FLAG_W,TCARBN,TCARBN_FLAG_W,ALKALI,ALKALI_FLAG_W,PH_TOT,PH_TOT_FLAG_W,PH_TMP,DOC,DOC_FLAG_W,HELIUM,HELIUM_FLAG_W,REFTMP,REFTMP_FLAG_W,DELC13,DELC13_FLAG_W,DELC14,DELC14_FLAG_W,C14ERR,POC,POC_FLAG_W,TDN,TDN_FLAG_W,TON,TON_FLAG_W,NEON,NEON_FLAG_W,CTDFLUOR,CTDFLUOR_FLAG_W,CTDXMISS,CTDXMISS_FLAG_W,CTDBETA700,CTDBETA700_FLAG_W,N2O,N2O_FLAG_W,ARGON,ARGON_FLAG_W,BTL_DATE,BTL_TIME,BTL_LAT,BTL_LON,KRYPTON,KRYPTON_FLAG_W,XENON,XENON_FLAG_W,HPLC,HPLC_FLAG_W,HE3_HE4_RATIO,HE3_HE4_RATIO_FLAG_W,Nd_143_144_D_EPSILON_BOTTLE,Nd_143_144_D_EPSILON_BOTTLE_FLAG_W,Nd_143_144_D_EPSILON_BOTTLE_ERROR,Nd_143_144_D_RATIO_BOTTLE,Nd_143_144_D_RATIO_BOTTLE_FLAG_W,Nd_143_144_D_RATIO_BOTTLE_ERROR,Nd_D_CONC,Nd_D_CONC_FLAG_W,La_D_CONC_BOTTLE,La_D_CONC_BOTTLE_FLAG_W,Ce_D_CONC_BOTTLE,Ce_D_CONC_BOTTLE_FLAG_W,Pr_D_CONC_BOTTLE,Pr_D_CONC_BOTTLE_FLAG_W,Sm_D_CONC_BOTTLE,Sm_D_CONC_BOTTLE_FLAG_W,Eu_D_CONC_BOTTLE,Eu_D_CONC_BOTTLE_FLAG_W,Gd_D_CONC_BOTTLE,Gd_D_CONC_BOTTLE_FLAG_W,Tb_D_CONC_BOTTLE,Tb_D_CONC_BOTTLE_FLAG_W,Dy_D_CONC_BOTTLE,Dy_D_CONC_BOTTLE_FLAG_W,Ho_D_CONC_BOTTLE,Ho_D_CONC_BOTTLE_FLAG_W,Er_D_CONC_BOTTLE,Er_D_CONC_BOTTLE_FLAG_W,Tm_D_CONC_BOTTLE,Tm_D_CONC_BOTTLE_FLAG_W,Yb_D_CONC_BOTTLE,Yb_D_CONC_BOTTLE_FLAG_W,Lu_D_CONC_BOTTLE,Lu_D_CONC_BOTTLE_FLAG_W
,,,,,,,,,,,METERS,DBAR,ITS-90,PSS-78,,PSS-78,,UMOL/KG,,UMOL/KG,,UMOL/KG,,UMOL/KG,,UMOL/KG,,UMOL/KG,,UMOL/KG,,PMOL/KG,,PMOL/KG,,FMOL/KG,,UMOL/KG,,UMOL/KG,,,,DEG C,UMOL/KG,,NMOL/L,,DEG C,,/MILLE,,/MILLE,,/MILLE,UG/KG,,UMOL/KG,,UMOL/KG,,NMOL/L,,VOLTS,,VOLTS,,VOLTS,,NMOL/KG,,UMOL/L,,,,,,NMOL/L,,NMOL/L,,,,,,10000,,10000,,,,PMOL/KG,,PMOL/L,,PMOL/L,,PMOL/L,,PMOL/L,,PMOL/L,,PMOL/L,,PMOL/L,,PMOL/L,,PMOL/L,,PMOL/L,,PMOL/L,,PMOL/L,,PMOL/L,
320620180309  ,P16        ,43      ,  1,36         ,36         ,2,20180405,0905, -72.3744,-149.9851,     4136,      9.3,-1.7884499999999998732,33.832408382150533,2,  33.8308,2,340.92164649712009,2, 327.4959,3,    341.1,2,     47.4,2,    26.77,2,     0.18,2,     1.90,2,    6.417,2,    3.237,2,   0.0200,3,   2179.6,6,  2289.27,2,   7.6449,2,    24.94,     -999,9,     -999,9,  -1.7897,2,     -999,9,     -999,9,     -999,     -999,9,     -999,9,     -999,9,     -999,9,    0.151,1,    4.628,1,    0.163,1,  18.2900,2,     -999,9,20180405,1105, -72.3715,-149.9891,     -999,9,     -999,9,-999          ,9,     -999,9,     -999,9,     -999,     -999,9,     -999,     -999,9,     -999,1,     -999,1,     -999,1,     -999,1,     -999,1,     -999,1,     -999,1,     -999,1,     -999,1,     -999,1,     -999,1,     -999,1,     -999,1
320620180309  ,P16        ,43      ,  1,35         ,35         ,2,20180405,0905, -72.3744,-149.9851,     4136,     34.4,-1.7899777777777776677,33.833456504352100,2,  33.8347,2,342.42511933017283,2, 327.5033,3,    341.2,2,     47.3,2,    26.72,2,     0.18,2,     1.88,2,     -999,9,     -999,9,     -999,9,   2179.8,2,  2290.97,2,   7.6440,2,    24.95,     -999,9,     -999,1,  -1.7888,2,     -999,9,     -999,9,     -999,     -999,9,     -999,9,     -999,9,     -999,1,    0.148,1,    4.630,1,    0.164,1,     -999,9,     -999,1,20180405,1103, -72.3714,-149.9891,     -999,1,     -999,1,-999          ,9,     -999,1,     -999,9,     -999,     -999,9,     -999,     -999,9,     -999,1,     -999,1,     -999,1,     -999,1,     -999,1,     -999,1,     -999,1,     -999,1,     -999,1,     -999,1,     -999,1,     -999,1,     -999,1
320620180309  ,P16        ,43      ,  1,34         ,34         ,2,20180405,0905, -72.3744,-149.9851,     4136,     60.0,-1.6790249999999999897,33.874674716211672,2,  33.8900,2,336.45312043669600,3, 310.8990,3,    330.8,2,     48.5,2,    27.16,2,     0.18,2,     1.90,2,    5.958,2,    2.958,2,  -0.0200,3,     -999,9,     -999,9,     -999,9,     -999,     -999,9,     -999,9,  -1.6842,2,     -999,9,     -999,9,     -999,     -999,9,     -999,9,     -999,9,     -999,9,    0.136,1,    4.631,1,    0.170,1,  18.6100,2,     -999,9,20180405,1101, -72.3714,-149.9893,     -999,9,     -999,9,-999          ,9,     -999,9,     -999,9,     -999,     -999,9,     -999,     -999,9,     -999,9,     -999,9,     -999,9,     -999,9,     -999,9,     -999,9,     -999,9,     -999,9,     -999,9,     -999,9,     -999,9,     -999,9,     -999,9
320620180309  ,P16        ,43      ,  1,33         ,33         ,2,20180405,0905, -72.3744,-149.9851,     4136,     86.0,-1.0116527777777775121,34.123937581571575,3,  34.1494,2,289.43092971014568,3, 290.0022,3,    279.8,2,     58.2,2,    29.56,2,     0.13,2,     2.07,2,     -999,9,     -999,9,     -999,9,   2211.7,2,  2308.53,2,   7.6041,2,    24.94,     -999,9,     -999,1,  -1.0148,2,     -999,9,     -999,9,     -999,     -999,9,     -999,9,     -999,9,     -999,1,    0.102,1,    4.645,1,    0.169,1,     -999,9,     -999,1,20180405,1100, -72.3713,-149.9893,     -999,1,     -999,1,-999          ,9,     -999,1,     -999,9,     -999,     -999,9,     -999,     -999,9,     -999,1,     -999,1,     -999,1,     -999,1,     -999,1,     -999,1,     -999,1,     -999,1,     -999,1,     -999,1,     -999,1,     -999,1,     -999,1
320620180309  ,P16        ,43      ,  1,32         ,32         ,2,20180405,0905, -72.3744,-149.9851,     4136,    111.0,-0.5920722222222223330,34.233854929960728,3,  34.2554,2,265.34239153632666,3, 274.6002,3,    257.0,2,     64.5,2,    30.86,2,     0.07,2,     2.12,2,     -999,9,     -999,9,     -999,9,     -999,9,     -999,9,     -999,9,     -999,     -999,9,     -999,9,  -0.5923,2,     -999,9,     -999,9,     -999,     -999,9,     -999,9,     -999,9,     -999,9,    0.081,1,    4.657,1,    0.150,1,     -999,9,     -999,9,20180405,1058, -72.3714,-149.9892,     -999,9,     -999,9,-999          ,9,     -999,9,     -999,9,     -999,     -999,9,     -999,     -999,9,     -999,9,     -999,9,     -999,9,     -999,9,     -999,9,     -999,9,     -999,9,     -999,9,     -999,9,     -999,9,     -999,9,     -999,9,     -999,9
320620180309  ,P16        ,43      ,  1,31         ,31         ,2,20180405,0905, -72.3744,-149.9851,     4136,    135.6,0.0273833333333333359,34.350553399677324,2,  34.3511,2,242.66588535872100,3, 256.0993,3,    236.5,2,     70.4,2,    31.71,2,     0.02,2,     2.19,2,     -999,9,     -999,9,     -999,9,   2233.7,2,  2323.70,2,   7.5765,2,    24.94,     -999,9,     -999,1,   0.0272,2,     -999,9,     -999,9,     -999,     -999,9,     -999,9,     -999,9,     -999,1,    0.076,1,    4.660,1,    0.148,1,     -999,9,     -999,1,20180405,1056, -72.3714,-149.9892,     -999,1,     -999,1,-999          ,9,     -999,1,     -999,9,     -999,     -999,9,     -999,     -999,9,     -999,1,     -999,1,     -999,1,     -999,1,     -999,1,     -999,1,     -999,1,     -999,1,     -999,1,     -999,1,     -999,1,     -999,1,     -999,1
320620180309  ,P16        ,43      ,  1,30         ,30         ,2,20180405,0905, -72.3744,-149.9851,     4136,    166.7,0.8523027777777776315,34.495649104841668,2,  34.4954,2,213.74339799841098,3, 227.5045,3,    208.4,2,     78.5,2,    32.82,2,     0.00,2,     2.24,2,    1.772,2,    0.940,2,   0.0500,3,     -999,9,     -999,9,     -999,9,     -999,     -999,9,     -999,9,   0.8566,2,     -999,9,     -999,9,     -999,     -999,9,     -999,9,     -999,9,     -999,9,    0.070,1,    4.660,1,    0.154,1,  24.0100,2,     -999,9,20180405,1054, -72.3714,-149.9892,     -999,9,     -999,9,-999          ,9,     -999,9,     -999,9,     -999,     -999,9,     -999,     -999,9,     -999,9,     -999,9,     -999,9,     -999,9,     -999,9,     -999,9,     -999,9,     -999,9,     -999,9,     -999,9,     -999,9,     -999,9,     -999,9
320620180309  ,P16        ,43      ,  1,29         ,29         ,2,20180405,0905, -72.3744,-149.9851,     4136,    217.0,1.4804138888888889181,34.610938215495196,2,  34.6144,2,189.94149550654757,3, 200.1981,3,    187.7,2,     84.4,2,    33.43,2,     0.00,2,     2.27,2,    0.966,2,    0.520,2,   0.0000,3,   2257.4,2,  2337.51,2,   7.5545,6,    24.94,     -999,9,     -999,1,   1.4797,2,     -999,9,     -999,9,     -999,     -999,9,     -999,9,     -999,9,     -999,1,    0.067,1,    4.664,1,    0.151,1,  24.8500,2,     -999,1,20180405,1052, -72.3715,-149.9891,     -999,1,     -999,1,-999          ,9,     -999,1,     -999,9,     -999,     -999,9,     -999,     -999,9,     -999,1,     -999,1,     -999,1,     -999,1,     -999,1,     -999,1,     -999,1,     -999,1,     -999,1,     -999,1,     -999,1,     -999,1,     -999,1
320620180309  ,P16        ,43      ,  1,28         ,28         ,2,20180405,0905, -72.3744,-149.9851,     4136,    267.6,1.6828694444444445288,34.686694684002674,2,  34.6915,2,181.74995534714046,2, 182.6021,2,    180.5,2,     89.6,2,    32.95,2,     0.00,2,     2.25,2,    0.474,2,    0.251,2,   0.0200,3,   2258.5,6,  2346.52,2,   7.5618,2,    24.94,     -999,9,     -999,9,   1.6810,2,     -999,9,     -999,9,     -999,     -999,9,     -999,9,     -999,9,     -999,9,    0.066,1,    4.666,1,    0.143,1,  23.0900,2,     -999,9,20180405,1050, -72.3716,-149.9890,     -999,9,     -999,9,-999          ,9,     -999,9,     -999,9,     -999,     -999,9,     -999,     -999,9,     -999,1,     -999,1,     -999,1,     -999,1,     -999,1,     -999,1,     -999,1,     -999,1,     -999,1,     -999,1,     -999,1,     -999,1,     -999,1
320620180309  ,P16        ,43      ,  1,27         ,27         ,2,20180405,0905, -72.3744,-149.9851,     4136,    317.3,1.7390305555555558570,34.717294162296071,2,  34.7166,2,182.51617355028759,2, 180.9987,2,    182.3,2,     91.6,2,    32.49,2,     0.00,2,     2.21,2,     -999,9,     -999,9,     -999,9,   2256.8,2,  2348.52,2,   7.5752,2,    24.93,     -999,9,     -999,1,   1.7378,2,     -999,9,     -999,9,     -999,     -999,9,     -999,9,     -999,9,     -999,1,    0.063,1,    4.671,1,    0.137,1,     -999,9,     -999,1,20180405,1048, -72.3716,-149.9889,     -999,1,     -999,1,-999          ,9,     -999,1,     -999,9,     -999,     -999,9,     -999,     -999,9,     -999,1,     -999,1,     -999,1,     -999,1,     -999,1,     -999,1,     -999,1,     -999,1,     -999,1,     -999,1,     -999,1,     -999,1,     -999,1
320620180309  ,P16        ,43      ,  1,26         ,26         ,2,20180405,0905, -72.3744,-149.9851,     4136,    368.9,1.6777638888888888324,34.722092397865964,2,  34.7217,2,183.67795565866393,2, 183.0979,2,    183.3,2,     93.6,2,    32.41,2,     0.00,2,     2.21,2,    0.288,2,    0.151,2,   0.0300,3,   2257.5,2,  2349.98,2,   7.5777,2,    24.94,     -999,9,     -999,9,   1.6776,2,     -999,9,     -999,9,     -999,     -999,9,     -999,9,     -999,9,     -999,9,    0.062,1,    4.672,1,    0.136,1,  22.5100,2,     -999,9,20180405,1046, -72.3716,-149.9889,     -999,9,     -999,9,-999          ,9,     -999,9,     -999,9,     -999,     -999,9,     -999,     -999,9,     -999,9,     -999,9,     -999,9,     -999,9,     -999,9,     -999,9,     -999,9,     -999,9,     -999,9,     -999,9,     -999,9,     -999,9,     -999,9
320620180309  ,P16        ,43      ,  1,25         ,25         ,2,20180405,0905, -72.3744,-149.9851,     4136,    419.1,1.6337722222222221813,34.726453001217585,2,  34.7264,2,184.60060403831915,2, 183.9951,2,    185.1,2,     95.3,2,    32.31,2,     0.00,2,     2.21,2,     -999,9,     -999,9,     -999,9,   2259.1,2,  2350.49,2,   7.5800,2,    24.95,     -999,9,     -999,1,   1.6331,2,     -999,9,     -999,9,     -999,     -999,9,     -999,9,     -999,9,     -999,1,    0.061,1,    4.672,1,    0.136,1,     -999,9,     -999,1,20180405,1044, -72.3716,-149.9889,     -999,1,     -999,1,-999          ,9,     -999,1,     -999,9,     -999,     -999,9,     -999,     -999,9,     -999,1,     -999,1,     -999,1,     -999,1,     -999,1,     -999,1,     -999,1,     -999,1,     -999,1,     -999,1,     -999,1,     -999,1,     -999,1
320620180309  ,P16        ,43      ,  1,24         ,24         ,2,20180405,0905, -72.3744,-149.9851,     4136,    469.4,1.5874888888888887273,34.728639571825532,2,  34.7288,2,185.57406856466341,2, 184.9988,2,    185.5,2,     96.9,2,    32.27,2,     0.00,2,     2.20,2,     -999,9,     -999,9,     -999,9,     -999,9,     -999,9,     -999,9,     -999,     -999,9,     -999,9,   1.5865,2,     -999,9,     -999,9,     -999,     -999,9,     -999,9,     -999,9,     -999,9,    0.061,1,    4.672,1,    0.139,1,     -999,9,     -999,9,20180405,1042, -72.3716,-149.9889,     -999,9,     -999,9,-999          ,9,     -999,9,     -999,9,     -999,     -999,9,     -999,     -999,9,     -999,9,     -999,9,     -999,9,     -999,9,     -999,9,     -999,9,     -999,9,     -999,9,     -999,9,     -999,9,     -999,9,     -999,9,     -999,9
320620180309  ,P16        ,43      ,  1,23         ,23         ,2,20180405,0905, -72.3744,-149.9851,     4136,    540.8,1.5171555555555555905,34.730527006942260,2,  34.7304,2,186.22535457773520,2, 186.8988,2,    187.1,2,     99.6,2,    32.32,2,     0.00,2,     2.22,2,     -999,9,     -999,9,     -999,9,   2257.8,2,  2354.74,2,   7.5831,2,    24.94,     -999,9,     -999,1,   1.5160,2,     -999,9,     -999,9,     -999,     -999,9,     -999,9,     -999,9,     -999,1,    0.062,1,    4.671,1,    0.137,1,     -999,9,     -999,1,20180405,1039, -72.3717,-149.9889,     -999,1,     -999,1,-999          ,9,     -999,1,     -999,9,     -999,     -999,9,     -999,     -999,9,     -999,1,     -999,1,     -999,1,     -999,1,     -999,1,     -999,1,     -999,1,     -999,1,     -999,1,     -999,1,     -999,1,     -999,1,     -999,1
320620180309  ,P16        ,43      ,  1,22         ,37         ,2,20180405,0905, -72.3744,-149.9851,     4136,    641.8,1.4331749999999998657,34.731220017806820,2,  34.7316,2,188.34279081479889,2, 188.1946,2,    187.4,2,    102.6,2,    32.43,2,     0.00,2,     2.22,2,     -999,9,     -999,9,     -999,9,   2261.9,2,  2353.90,2,   7.5843,2,    24.94,     -999,9,     -999,9,   1.4325,2,     -999,9,     -999,9,     -999,     -999,9,     -999,9,     -999,9,     -999,9,    0.063,1,    4.671,1,    0.134,1,     -999,9,     -999,9,20180405,1036, -72.3717,-149.9888,     -999,9,     -999,9,-999          ,9,     -999,9,     -999,9,     -999,     -999,9,     -999,     -999,9,     -999,9,     -999,9,     -999,9,     -999,9,     -999,9,     -999,9,     -999,9,     -999,9,     -999,9,     -999,9,     -999,9,     -999,9,     -999,9
320620180309  ,P16        ,43      ,  1,21         ,21         ,2,20180405,0905, -72.3744,-149.9851,     4136,    743.0,1.3485611111111108773,34.730391996813751,2,  34.7306,2,188.39968948455859,2, 188.0004,2,    189.2,2,    105.3,2,    32.45,2,     0.00,2,     2.24,2,    0.167,2,    0.087,2,   0.0200,3,   2261.9,2,  2355.39,2,   7.5865,6,    24.94,     -999,9,     -999,1,   1.3475,2,     -999,9,     -999,9,     -999,     -999,9,     -999,9,     -999,9,     -999,1,    0.062,1,    4.671,1,    0.133,1,  21.9100,2,     -999,1,20180405,1033, -72.3718,-149.9887,     -999,1,     -999,1,-999          ,9,     -999,1,     -999,9,     -999,     -999,9,     -999,     -999,9,     -999,1,     -999,1,     -999,1,     -999,1,     -999,1,     -999,1,     -999,1,     -999,1,     -999,1,     -999,1,     -999,1,     -999,1,     -999,1
320620180309  ,P16        ,43      ,  1,20         ,20         ,2,20180405,0905, -72.3744,-149.9851,     4136,    844.7,1.2796083333333334586,34.729048473322237,2,  34.7292,2,190.98273821500487,2, 190.1999,2,    190.6,2,    107.5,2,    32.48,2,     0.00,2,     2.24,2,     -999,9,     -999,9,     -999,9,     -999,9,     -999,9,     -999,9,     -999,     -999,9,     -999,9,   1.2786,2,     -999,9,     -999,9,     -999,     -999,9,     -999,9,     -999,9,     -999,9,    0.061,1,    4.671,1,    0.140,1,     -999,9,     -999,9,20180405,1030, -72.3719,-149.9886,     -999,9,     -999,9,-999          ,9,     -999,9,     -999,9,     -999,     -999,9,     -999,     -999,9,     -999,9,     -999,9,     -999,9,     -999,9,     -999,9,     -999,9,     -999,9,     -999,9,     -999,9,     -999,9,     -999,9,     -999,9,     -999,9
320620180309  ,P16        ,43      ,  1,19         ,19         ,2,20180405,0905, -72.3744,-149.9851,     4136,    946.8,1.2001138888888887024,34.726748399552832,2,  34.7276,2,192.81439357687887,2, 192.2029,2,    192.6,2,    110.4,2,    32.53,2,     0.00,2,     2.25,2,     -999,9,     -999,9,     -999,9,   2261.8,2,  2359.22,2,   7.5894,2,    24.95,     -999,9,     -999,9,   1.1992,2,     -999,9,     -999,9,     -999,     -999,9,     -999,9,     -999,9,     -999,9,    0.061,1,    4.672,1,    0.130,1,     -999,9,     -999,9,20180405,1027, -72.3720,-149.9885,     -999,9,     -999,9,-999          ,9,     -999,9,     -999,9,     -999,     -999,9,     -999,     -999,9,     -999,1,     -999,1,     -999,1,     -999,1,     -999,1,     -999,1,     -999,1,     -999,1,     -999,1,     -999,1,     -999,1,     -999,1,     -999,1
320620180309  ,P16        ,43      ,  1,18         ,18         ,2,20180405,0905, -72.3744,-149.9851,     4136,   1048.1,1.1299972222222223195,34.724188159274696,2,  34.7249,2,194.19553576282044,2, 193.6960,2,    194.7,2,    112.5,2,    32.53,2,     0.00,2,     2.24,2,     -999,9,     -999,9,     -999,9,     -999,9,     -999,9,     -999,9,     -999,     -999,9,     -999,1,   1.1299,2,     -999,9,     -999,9,     -999,     -999,9,     -999,9,     -999,9,     -999,1,    0.060,1,    4.672,1,    0.127,1,     -999,9,     -999,1,20180405,1024, -72.3720,-149.9884,     -999,1,     -999,1,-999          ,9,     -999,1,     -999,9,     -999,     -999,9,     -999,     -999,9,     -999,9,     -999,9,     -999,9,     -999,9,     -999,9,     -999,9,     -999,9,     -999,9,     -999,9,     -999,9,     -999,9,     -999,9,     -999,9
320620180309  ,P16        ,43      ,  1,17         ,17         ,2,20180405,0905, -72.3744,-149.9851,     4136,   1149.1,1.0747055555555553585,34.721953309178154,2,  34.7233,2,195.95285658711404,2, 195.2016,2,    195.6,2,    114.3,2,    32.59,2,     0.00,2,     2.25,2,    0.125,2,    0.066,2,  -0.0100,3,   2263.4,2,  2360.67,2,   7.5926,2,    24.93,     -999,9,     -999,9,   1.0736,2,     -999,9,     -999,9,     -999,     -999,9,     -999,9,     -999,9,     -999,9,    0.061,1,    4.672,1,    0.130,1,  22.4100,2,     -999,9,20180405,1021, -72.3720,-149.9885,     -999,9,     -999,9,-999          ,9,     -999,9,     -999,9,     -999,     -999,9,     -999,     -999,9,     -999,1,     -999,1,     -999,1,     -999,1,     -999,1,     -999,1,     -999,1,     -999,1,     -999,1,     -999,1,     -999,1,     -999,1,     -999,1
320620180309  ,P16        ,43      ,  1,16         ,16         ,2,20180405,0905, -72.3744,-149.9851,     4136,   1252.0,1.0216361111111114113,34.719931585156964,2,  34.7204,2,197.17395460373322,2, 197.3003,2,    197.2,2,    116.0,2,    32.63,2,     0.00,2,     2.24,2,     -999,9,     -999,9,     -999,9,     -999,9,     -999,9,     -999,9,     -999,     -999,9,     -999,9,   1.0208,2,     -999,9,     -999,9,     -999,     -999,9,     -999,9,     -999,9,     -999,9,    0.062,1,    4.672,1,    0.127,1,     -999,9,     -999,9,20180405,1018, -72.3720,-149.9885,     -999,9,     -999,9,-999          ,9,     -999,9,     -999,9,     -999,     -999,9,     -999,     -999,9,     -999,9,     -999,9,     -999,9,     -999,9,     -999,9,     -999,9,     -999,9,     -999,9,     -999,9,     -999,9,     -999,9,     -999,9,     -999,9