BOTTLE,20240515CCHHYDRO
EXPOCODE,SECT_ID,STNNBR,CASTNO,SAMPNO,BTLNBR,BTLNBR_FLAG_W,DATE,TIME,LATITUDE,LONGITUDE,DEPTH,CTDPRS,CTDTMP,CTDSAL,CTDSAL_FLAG_W,SALNTY,SALNTY_FLAG_W,CTDOXY,CTDOXY_FLAG_W,CTDOPTOXY,CTDOPTOXY_FLAG_W,OXYGEN,OXYGEN_FLAG_W,SILCAT,SILCAT_FLAG_W,NITRAT,NITRAT_FLAG_W,NITRIT,NITRIT_FLAG_W,PHSPHT,PHSPHT_FLAG_W,CFC-11,CFC-11_FLAG_W,CFC-12,CFC-12_FLAG_W,SF6,SF6_FLAG_W,TCARBN,TCARBN_FLAG_W,ALKALI,ALKALI_FLAG_W,PH_TOT,PH_TOT_FLAG_W,PH_TMP,DOC,DOC_FLAG_W,HELIUM,HELIUM_FLAG_W,REFTMP,REFTMP_FLAG_W,DELC13,DELC13_FLAG_W,DELC14,DELC14_FLAG_W,C14ERR,POC,POC_FLAG_W,TDN,TDN_FLAG_W,TON,TON_FLAG_W,NEON,NEON_FLAG_W,CTDFLUOR,CTDFLUOR_FLAG_W,CTDXMISS,CTDXMISS_FLAG_W,CTDBETA700,CTDBETA700_FLAG_W,N2O,N2O_FLAG_W,ARGON,ARGON_FLAG_W,BTL_DATE,BTL_TIME,BTL_LAT,BTL_LON,KRYPTON,KRYPTON_FLAG_W,XENON,XENON_FLAG_W,HPLC,HPLC_FLAG_W,HE3_HE4_RATIO,HE3_HE4_RATIO_FLAG_W,Nd_143_144_D_EPSILON_BOTTLE,Nd_143_144_D_EPSILON_BOTTLE_FLAG_W,Nd_143_144_D_EPSILON_BOTTLE_ERROR,Nd_143_144_D_RATIO_BOTTLE,Nd_143_144_D_RATIO_BOTTLE_FLAG_W,Nd_143_144_D_RATIO_BOTTLE_ERROR,Nd_D_CONC,Nd_D_CONC_FLAG_W,La_D_CONC_BOTTLE,La_D_CONC_BOTTLE_FLAG_W,Ce_D_CONC_BOTTLE,Ce_D_CONC_BOTTLE_FLAG_W,Pr_D_CONC_BOTTLE,Pr_D_CONC_BOTTLE_FLAG_W,Sm_D_CONC_BOTTLE,Sm_D_CONC_BOTTLE_FLAG_W,Eu_D_CONC_BOTTLE,Eu_D_CONC_BOTTLE_FLAG_W,Gd_D_CONC_BOTTLE,Gd_D_CONC_BOTTLE_FLAG_W,Tb_D_CONC_BOTTLE,Tb_D_CONC_BOTTLE_FLAG_W,Dy_D_CONC_BOTTLE,Dy_D_CONC_BOTTLE_FLAG_W,Ho_D_CONC_BOTTLE,Ho_D_CONC_BOTTLE_FLAG_W,Er_D_CONC_BOTTLE,Er_D_CONC_BOTTLE_FLAG_W,Tm_D_CONC_BOTTLE,Tm_D_CONC_BOTTLE_FLAG_W,Yb_D_CONC_BOTTLE,Yb_D_CONC_BOTTLE_FLAG_W,Lu_D_CONC_BOTTLE,Lu_D_CONC_BOTTLE_FLAG_W
,,,,,,,,,,,METERS,DBAR,ITS-90,PSS-78,,PSS-78,,UMOL/KG,,UMOL/KG,,UMOL/KG,,UMOL/KG,,UMOL/KG,,UMOL/KG,,UMOL/KG,,PMOL/KG,,PMOL/KG,,FMOL/KG,,UMOL/KG,,UMOL/KG,,,,DEG C,UMOL/KG,,NMOL/L,,DEG C,,/MILLE,,/MILLE,,/MILLE,UG/KG,,UMOL/KG,,UMOL/KG,,NMOL/L,,VOLTS,,VOLTS,,VOLTS,,NMOL/KG,,UMOL/L,,,,,,NMOL/L,,NMOL/L,,,,,,10000,,10000,,,,PMOL/KG,,PMOL/L,,PMOL/L,,PMOL/L,,PMOL/L,,PMOL/L,,PMOL/L,,PMOL/L,,PMOL/L,,PMOL/L,,PMOL/L,,PMOL/L,,PMOL/L,,PMOL/L,
320620180309  ,P16        ,52      ,  1,15         ,15         ,2,20180408,0518, -67.9999,-150.0001,     4229,   1352.2,0.8286277777777778519,34.712897646448020,2,  34.7127,2,200.02264178337930,2, 198.7946,2,    200.1,2,    121.9,2,    32.64,2,     0.00,2,     2.20,2,    0.116,2,    0.057,2,   0.1100,2,   2264.2,2,  2363.49,2,   7.5940,6,    24.92,     40.9,2,     -999,9,   0.8274,2,     -999,9,     -999,9,     -999,     -999,9,     -999,9,     -999,1,     -999,9,    0.061,1,    4.667,1,    0.128,1,  20.5900,2,     -999,9,20180408,0626, -68.0003,-149.9996,     -999,9,     -999,9,-999          ,9,     -999,9,     -999,9,     -999,     -999,9,     -999,     -999,9,     -999,9,     -999,9,     -999,9,     -999,9,     -999,9,     -999,9,     -999,9,     -999,9,     -999,9,     -999,9,     -999,9,     -999,9,     -999,9
320620180309  ,P16        ,52      ,  1,14         ,14         ,2,20180408,0518, -67.9999,-150.0001,     4229,   1454.9,0.7815166666666666373,34.710920773545269,2,  34.7111,2,201.07040300764686,2, 199.9972,2,    201.5,2,    123.8,2,    32.67,2,     0.00,2,     2.21,2,     -999,9,     -999,9,     -999,9,   2264.6,2,  2362.52,2,   7.5965,2,    24.92,     43.0,2,     -999,9,   0.7807,2,     -999,9,     -999,9,     -999,     -999,9,     -999,9,     -999,1,     -999,9,    0.061,1,    4.667,1,    0.127,1,     -999,9,     -999,9,20180408,0623, -68.0003,-149.9996,     -999,9,     -999,9,-999          ,9,     -999,9,     -999,9,     -999,     -999,9,     -999,     -999,9,     -999,9,     -999,9,     -999,9,     -999,9,     -999,9,     -999,9,     -999,9,     -999,9,     -999,9,     -999,9,     -999,9,     -999,9,     -999,9
320620180309  ,P16        ,52      ,  1,13         ,13         ,2,20180408,0518, -67.9999,-150.0001,     4229,   1555.4,0.7417583333333334084,34.709405082160124,2,  34.7094,2,202.13223781644058,2, 201.1000,2,    202.4,2,    125.1,2,    32.67,2,     0.00,2,     2.20,2,    0.117,2,    0.057,2,  -0.0500,2,   2263.8,2,  2363.30,2,   7.5967,2,    24.92,     -999,9,     -999,9,   0.7407,2,     -999,9,     -999,9,     -999,     -999,9,     -999,9,     -999,9,     -999,9,    0.061,1,    4.667,1,    0.127,1,  20.2900,2,     -999,9,20180408,0620, -68.0003,-149.9996,     -999,9,     -999,9,-999          ,9,     -999,9,     -999,9,     -999,     -999,9,     -999,     -999,9,     -999,9,     -999,9,     -999,9,     -999,9,     -999,9,     -999,9,     -999,9,     -999,9,     -999,9,     -999,9,     -999,9,     -999,9,     -999,9
320620180309  ,P16        ,52      ,  1,12         ,12         ,2,20180408,0518, -67.9999,-150.0001,     4229,   1657.3,0.7067777777777778381,34.707866441905900,2,  34.7080,2,203.25768456497264,2, 202.1026,2,    203.1,2,    126.4,2,    32.64,2,     0.00,2,     2.20,2,     -999,9,     -999,9,     -999,9,   2264.7,2,  2362.72,2,   7.5943,2,    24.92,     47.4,3,     -999,9,   0.7059,2,     -999,9,     -999,9,     -999,     -999,9,     -999,9,     -999,1,     -999,9,    0.061,1,    4.667,1,    0.126,1,     -999,9,     -999,9,20180408,0617, -68.0003,-149.9997,     -999,9,     -999,9,-999          ,9,     -999,9,     -999,9,     -999,     -999,9,     -999,     -999,9,     -999,9,     -999,9,     -999,9,     -999,9,     -999,9,     -999,9,     -999,9,     -999,9,     -999,9,     -999,9,     -999,9,     -999,9,     -999,9
320620180309  ,P16        ,52      ,  1,11         ,11         ,2,20180408,0518, -67.9999,-150.0001,     4229,   1758.6,0.6731305555555553433,34.706709487801170,2,  34.7068,2,204.45711180913949,2, 203.0999,2,    204.1,2,    127.2,2,    32.66,2,     0.00,2,     2.18,2,    0.131,2,    0.077,2,   0.0500,2,   2263.9,2,  2363.91,3,   7.5937,2,    24.92,     -999,9,     -999,9,   0.6736,2,     -999,9,     -999,9,     -999,     -999,9,     -999,9,     -999,9,     -999,9,    0.061,1,    4.667,1,    0.126,1,  19.9900,2,     -999,9,20180408,0614, -67.9999,-150.0001,     -999,9,     -999,9,-999          ,9,     -999,9,     -999,9,     -999,     -999,9,     -999,     -999,9,     -999,9,     -999,9,     -999,9,     -999,9,     -999,9,     -999,9,     -999,9,     -999,9,     -999,9,     -999,9,     -999,9,     -999,9,     -999,9
320620180309  ,P16        ,52      ,  1,10         ,10         ,2,20180408,0518, -67.9999,-150.0001,     4229,   1893.3,0.6247722222222223953,34.705105531697498,2,  34.7054,2,205.29073719776773,2, 204.4949,2,    205.4,2,    128.0,2,    32.67,2,     0.00,2,     2.19,2,     -999,9,     -999,9,     -999,9,   2264.7,2,  2364.33,2,   7.5946,2,    24.91,     42.7,2,     -999,9,   0.6234,2,     -999,9,     -999,9,     -999,     -999,9,     -999,9,     -999,1,     -999,9,    0.061,1,    4.667,1,    0.126,1,     -999,9,     -999,9,20180408,0611, -67.9996,-150.0007,     -999,9,     -999,9,-999          ,9,     -999,9,     -999,9,     -999,     -999,9,     -999,     -999,9,     -999,9,     -999,9,     -999,9,     -999,9,     -999,9,     -999,9,     -999,9,     -999,9,     -999,9,     -999,9,     -999,9,     -999,9,     -999,9
320620180309  ,P16        ,52      ,  1,9          ,9          ,2,20180408,0518, -67.9999,-150.0001,     4229,   2115.1,0.5425527777777777727,34.703382024063238,2,  34.7039,2,206.92649515824860,2, 206.8991,2,    207.2,2,    129.1,2,    32.75,2,     0.00,2,     2.18,2,    0.162,2,    0.082,2,   0.1400,2,   2263.7,2,  2362.58,2,   7.5900,2,    24.93,     41.6,2,     -999,9,   0.5427,2,     -999,9,     -999,9,     -999,     -999,9,     -999,9,     -999,1,     -999,9,    0.060,1,    4.667,1,    0.125,1,  20.1900,2,     -999,9,20180408,0606, -67.9994,-150.0007,     -999,9,     -999,9,-999          ,9,     -999,9,     -999,9,     -999,     -999,9,     -999,     -999,9,     -999,9,     -999,9,     -999,9,     -999,9,     -999,9,     -999,9,     -999,9,     -999,9,     -999,9,     -999,9,     -999,9,     -999,9,     -999,9
320620180309  ,P16        ,52      ,  1,8          ,8          ,2,20180408,0518, -67.9999,-150.0001,     4229,   2370.7,0.4584194444444444350,34.702154087911019,2,  34.7021,2,209.30422092511290,2, 209.5015,2,    210.1,2,    130.9,2,    32.79,2,     0.00,2,     2.18,2,     -999,9,     -999,9,     -999,9,   2263.0,2,  2363.17,2,   7.5916,2,    24.91,     40.8,2,     -999,9,   0.4586,2,     -999,9,     -999,9,     -999,     -999,9,     -999,9,     -999,1,     -999,9,    0.061,1,    4.667,1,    0.125,1,     -999,9,     -999,9,20180408,0600, -67.9999,-150.0001,     -999,9,     -999,9,-999          ,9,     -999,9,     -999,9,     -999,     -999,9,     -999,     -999,9,     -999,9,     -999,9,     -999,9,     -999,9,     -999,9,     -999,9,     -999,9,     -999,9,     -999,9,     -999,9,     -999,9,     -999,9,     -999,9
320620180309  ,P16        ,52      ,  1,7          ,7          ,2,20180408,0518, -67.9999,-150.0001,     4229,   2627.4,0.3880333333333333412,34.701431718490717,2,  34.7013,2,211.25364760151274,2, 211.8000,2,    211.2,2,    132.7,2,    32.86,2,     0.00,2,     2.19,2,    0.172,2,    0.099,2,   0.0800,2,   2261.7,3,  2365.20,2,   7.5931,2,    24.93,     40.1,2,     -999,9,   0.3874,2,     -999,9,     -999,9,     -999,     -999,9,     -999,9,     -999,1,     -999,9,    0.061,1,    4.667,1,    0.125,1,  19.8300,2,     -999,9,20180408,0555, -68.0003,-149.9997,     -999,9,     -999,9,-999          ,9,     -999,9,     -999,9,     -999,     -999,9,     -999,     -999,9,     -999,9,     -999,9,     -999,9,     -999,9,     -999,9,     -999,9,     -999,9,     -999,9,     -999,9,     -999,9,     -999,9,     -999,9,     -999,9
320620180309  ,P16        ,52      ,  1,6          ,6          ,2,20180408,0518, -67.9999,-150.0001,     4229,   2881.9,0.3310861111111111366,34.700413779277262,2,  34.7002,2,213.27564199437114,2, 213.9016,2,    213.0,2,    134.4,2,    32.87,2,     0.00,2,     2.21,2,    0.217,2,    0.123,2,   0.1000,2,   2263.1,2,  2364.27,2,   7.5974,2,    24.92,     -999,9,     -999,9,   0.3305,2,     -999,9,     -999,9,     -999,     -999,9,     -999,9,     -999,9,     -999,9,    0.061,1,    4.667,1,    0.124,1,  19.7000,2,     -999,9,20180408,0549, -68.0004,-149.9995,     -999,9,     -999,9,-999          ,9,     -999,9,     -999,9,     -999,     -999,9,     -999,     -999,9,     -999,9,     -999,9,     -999,9,     -999,9,     -999,9,     -999,9,     -999,9,     -999,9,     -999,9,     -999,9,     -999,9,     -999,9,     -999,9
320620180309  ,P16        ,52      ,  1,5          ,5          ,2,20180408,0518, -67.9999,-150.0001,     4229,   3153.4,0.2754916666666666347,34.698346773153709,2,  34.6982,2,215.04641335493213,2, 215.9036,2,    216.0,2,    135.1,2,    32.85,2,     0.00,2,     2.20,2,    0.346,2,    0.190,2,   0.0300,2,   2263.7,2,  2363.73,2,   7.5917,2,    24.92,     38.7,2,     -999,9,   0.2746,2,     -999,9,     -999,9,     -999,     -999,9,     -999,9,     -999,1,     -999,9,    0.061,1,    4.667,1,    0.124,1,  20.2700,2,     -999,9,20180408,0543, -67.9997,-150.0005,     -999,9,     -999,9,-999          ,9,     -999,9,     -999,9,     -999,     -999,9,     -999,     -999,9,     -999,9,     -999,9,     -999,9,     -999,9,     -999,9,     -999,9,     -999,9,     -999,9,     -999,9,     -999,9,     -999,9,     -999,9,     -999,9
320620180309  ,P16        ,52      ,  1,4          ,4          ,2,20180408,0518, -67.9999,-150.0001,     4229,   3461.5,0.2213194444444444575,34.694491820516674,2,  34.6941,2,218.64588844738387,2, 218.5022,2,    218.5,2,    130.3,2,    32.83,2,     0.00,2,     2.20,2,    0.616,2,    0.325,2,   0.1000,2,   2262.8,2,  2363.20,2,   7.5909,2,    24.94,     40.6,2,     -999,9,   0.2207,2,     -999,9,     -999,9,     -999,     -999,9,     -999,9,     -999,1,     -999,9,    0.060,1,    4.666,1,    0.124,1,  20.1600,2,     -999,9,20180408,0537, -67.9993,-150.0013,     -999,9,     -999,9,-999          ,9,     -999,9,     -999,9,     -999,     -999,9,     -999,     -999,9,     -999,9,     -999,9,     -999,9,     -999,9,     -999,9,     -999,9,     -999,9,     -999,9,     -999,9,     -999,9,     -999,9,     -999,9,     -999,9
320620180309  ,P16        ,52      ,  1,3          ,3          ,2,20180408,0518, -67.9999,-150.0001,     4229,   3770.8,0.2143388888888888844,34.694233095433830,2,  34.6933,2,219.31045845873629,2, 218.6958,2,    219.1,2,    129.0,2,    32.82,2,     0.00,2,     2.21,2,    0.707,2,    0.361,2,   0.1800,2,   2262.5,2,  2364.49,2,   7.5922,2,    24.93,     -999,9,     -999,9,   0.2137,2,     -999,9,     -999,9,     -999,     -999,9,     -999,9,     -999,9,     -999,9,    0.061,1,    4.665,1,    0.125,1,  20.1300,2,     -999,9,20180408,0530, -67.9991,-150.0017,     -999,9,     -999,9,-999          ,9,     -999,9,     -999,9,     -999,     -999,9,     -999,     -999,9,     -999,9,     -999,9,     -999,9,     -999,9,     -999,9,     -999,9,     -999,9,     -999,9,     -999,9,     -999,9,     -999,9,     -999,9,     -999,9
320620180309  ,P16        ,52      ,  1,2          ,2          ,2,20180408,0518, -67.9999,-150.0001,     4229,   4035.0,0.2292944444444444396,34.694895729911963,2,  34.6945,2,219.10627701995099,2, 218.6058,2,    219.3,2,    130.0,2,    32.82,2,     0.00,2,     2.21,2,    0.708,2,    0.357,2,   0.1900,2,   2264.9,2,  2361.98,2,   7.5915,2,    24.92,     41.7,2,     -999,9,   0.2289,2,     -999,9,     -999,9,     -999,     -999,9,     -999,9,     -999,1,     -999,9,    0.060,1,    4.664,1,    0.128,1,  21.0600,4,     -999,9,20180408,0524, -67.9992,-150.0007,     -999,9,     -999,9,-999          ,9,     -999,9,     -999,9,     -999,     -999,9,     -999,     -999,9,     -999,9,     -999,9,     -999,9,     -999,9,     -999,9,     -999,9,     -999,9,     -999,9,     -999,9,     -999,9,     -999,9,     -999,9,     -999,9
320620180309  ,P16        ,52      ,  1,1          ,1          ,2,20180408,0518, -67.9999,-150.0001,     4229,   4305.6,0.2525166666666666115,34.695394393697129,2,  34.6954,2,219.42909400683021,2, 218.6052,2,    218.8,2,    130.3,2,    32.83,2,     0.00,2,     2.20,2,    0.707,6,    0.354,6,   0.1700,6,   2263.8,6,  2362.57,2,   7.5901,2,    24.92,     39.2,2,     -999,9,   0.2520,2,     -999,9,     -999,9,     -999,     -999,9,     -999,9,     -999,1,     -999,9,    0.060,1,    4.659,1,    0.135,1,  19.8600,2,     -999,9,20180408,0518, -67.9999,-150.0001,     -999,9,     -999,9,-999          ,9,     -999,9,     -999,9,     -999,     -999,9,     -999,     -999,9,     -999,9,     -999,9,     -999,9,     -999,9,     -999,9,     -999,9,     -999,9,     -999,9,     -999,9,     -999,9,     -999,9,     -999,9,     -999,9