BOTTLE,20240515CCHHYDRO
EXPOCODE,SECT_ID,STNNBR,CASTNO,SAMPNO,BTLNBR,BTLNBR_FLAG_W,DATE,TIME,LATITUDE,LONGITUDE,DEPTH,CTDPRS,CTDTMP,CTDSAL,CTDSAL_FLAG_W,SALNTY,SALNTY_FLAG_W,CTDOXY,CTDOXY_FLAG_W,CTDOPTOXY,CTDOPTOXY_FLAG_W,OXYGEN,OXYGEN_FLAG_W,SILCAT,SILCAT_FLAG_W,NITRAT,NITRAT_FLAG_W,NITRIT,NITRIT_FLAG_W,PHSPHT,PHSPHT_FLAG_W,CFC-11,CFC-11_FLAG_W,CFC-12,CFC-12_FLAG_W,SF6,SF6_FLAG_W,TCARBN,TCARBN_FLAG_W,ALKALI,ALKALI_FLAG_W,PH_TOT,PH_TOT_FLAG_W,PH_TMP,DOC,DOC_FLAG_W,HELIUM,HELIUM_FLAG_W,REFTMP,REFTMP_FLAG_W,DELC13,DELC13_FLAG_W,DELC14,DELC14_FLAG_W,C14ERR,POC,POC_FLAG_W,TDN,TDN_FLAG_W,TON,TON_FLAG_W,NEON,NEON_FLAG_W,CTDFLUOR,CTDFLUOR_FLAG_W,CTDXMISS,CTDXMISS_FLAG_W,CTDBETA700,CTDBETA700_FLAG_W,N2O,N2O_FLAG_W,ARGON,ARGON_FLAG_W,BTL_DATE,BTL_TIME,BTL_LAT,BTL_LON,KRYPTON,KRYPTON_FLAG_W,XENON,XENON_FLAG_W,HPLC,HPLC_FLAG_W,HE3_HE4_RATIO,HE3_HE4_RATIO_FLAG_W,Nd_143_144_D_EPSILON_BOTTLE,Nd_143_144_D_EPSILON_BOTTLE_FLAG_W,Nd_143_144_D_EPSILON_BOTTLE_ERROR,Nd_143_144_D_RATIO_BOTTLE,Nd_143_144_D_RATIO_BOTTLE_FLAG_W,Nd_143_144_D_RATIO_BOTTLE_ERROR,Nd_D_CONC,Nd_D_CONC_FLAG_W,La_D_CONC_BOTTLE,La_D_CONC_BOTTLE_FLAG_W,Ce_D_CONC_BOTTLE,Ce_D_CONC_BOTTLE_FLAG_W,Pr_D_CONC_BOTTLE,Pr_D_CONC_BOTTLE_FLAG_W,Sm_D_CONC_BOTTLE,Sm_D_CONC_BOTTLE_FLAG_W,Eu_D_CONC_BOTTLE,Eu_D_CONC_BOTTLE_FLAG_W,Gd_D_CONC_BOTTLE,Gd_D_CONC_BOTTLE_FLAG_W,Tb_D_CONC_BOTTLE,Tb_D_CONC_BOTTLE_FLAG_W,Dy_D_CONC_BOTTLE,Dy_D_CONC_BOTTLE_FLAG_W,Ho_D_CONC_BOTTLE,Ho_D_CONC_BOTTLE_FLAG_W,Er_D_CONC_BOTTLE,Er_D_CONC_BOTTLE_FLAG_W,Tm_D_CONC_BOTTLE,Tm_D_CONC_BOTTLE_FLAG_W,Yb_D_CONC_BOTTLE,Yb_D_CONC_BOTTLE_FLAG_W,Lu_D_CONC_BOTTLE,Lu_D_CONC_BOTTLE_FLAG_W
,,,,,,,,,,,METERS,DBAR,ITS-90,PSS-78,,PSS-78,,UMOL/KG,,UMOL/KG,,UMOL/KG,,UMOL/KG,,UMOL/KG,,UMOL/KG,,UMOL/KG,,PMOL/KG,,PMOL/KG,,FMOL/KG,,UMOL/KG,,UMOL/KG,,,,DEG C,UMOL/KG,,NMOL/L,,DEG C,,/MILLE,,/MILLE,,/MILLE,UG/KG,,UMOL/KG,,UMOL/KG,,NMOL/L,,VOLTS,,VOLTS,,VOLTS,,NMOL/KG,,UMOL/L,,,,,,NMOL/L,,NMOL/L,,,,,,10000,,10000,,,,PMOL/KG,,PMOL/L,,PMOL/L,,PMOL/L,,PMOL/L,,PMOL/L,,PMOL/L,,PMOL/L,,PMOL/L,,PMOL/L,,PMOL/L,,PMOL/L,,PMOL/L,,PMOL/L,
320620180309  ,P15        ,12      ,  1,36         ,36         ,2,20180322,0805, -69.9997,-170.0014,     4171,      5.7,-1.3596611111111112091,34.017650083962842,2,  34.0150,2,323.34390550730535,3, 334.1985,2,    335.0,2,     55.9,2,    26.16,2,     0.12,2,     1.82,2,    5.672,2,    3.019,2,   3.7300,2,   2190.5,6,  2304.59,2,   7.6534,2,    24.92,     44.4,2,     -999,9,  -1.3603,2,     -999,9,     -999,9,     -999,     -999,9,    28.10,2,     -999,1,     -999,9,    0.200,1,    4.592,1,    0.213,1,  17.7100,2,     -999,9,20180322,1009, -69.9997,-170.0015,     -999,9,     -999,9,-999          ,9,     -999,9,     -999,9,     -999,     -999,9,     -999,     -999,9,     -999,1,     -999,1,     -999,1,     -999,1,     -999,1,     -999,1,     -999,1,     -999,1,     -999,1,     -999,1,     -999,1,     -999,1,     -999,1
320620180309  ,P15        ,12      ,  1,35         ,35         ,2,20180322,0805, -69.9997,-170.0014,     4171,     19.8,-1.3519611111111109469,34.017666440200728,2,  34.0158,2,323.22956090497462,3, 334.1955,2,    334.2,2,     55.9,2,    26.16,2,     0.12,2,     1.81,2,     -999,9,     -999,9,     -999,9,   2190.9,2,  2304.95,2,   7.6539,2,    24.93,     46.9,2,     -999,9,  -1.3522,2,     -999,9,     -999,9,     -999,     -999,9,    28.50,2,     -999,1,     -999,9,    0.196,1,    4.590,1,    0.227,1,     -999,9,     -999,9,20180322,1008, -69.9997,-170.0015,     -999,9,     -999,9,-999          ,9,     -999,9,     -999,9,     -999,     -999,9,     -999,     -999,9,     -999,9,     -999,9,     -999,9,     -999,9,     -999,9,     -999,9,     -999,9,     -999,9,     -999,9,     -999,9,     -999,9,     -999,9,     -999,9
320620180309  ,P15        ,12      ,  1,34         ,34         ,2,20180322,0805, -69.9997,-170.0014,     4171,     40.7,-1.3431638888888888239,34.019480783622903,2,  34.0183,2,323.15125173375247,3, 334.1961,2,    333.8,2,     56.1,2,    26.15,2,     0.12,2,     1.83,2,     -999,9,     -999,9,     -999,9,   2191.9,2,  2296.46,2,   7.6535,2,    24.92,     -999,9,     -999,9,  -1.3439,2,     -999,9,     -999,9,     -999,     -999,9,     -999,9,     -999,9,     -999,9,    0.205,1,    4.591,1,    0.233,1,     -999,9,     -999,9,20180322,1006, -69.9997,-170.0015,     -999,9,     -999,9,-999          ,9,     -999,9,     -999,9,     -999,     -999,9,     -999,     -999,9,     -999,1,     -999,1,     -999,1,     -999,1,     -999,1,     -999,1,     -999,1,     -999,1,     -999,1,     -999,1,     -999,1,     -999,1,     -999,1
320620180309  ,P15        ,12      ,  1,33         ,33         ,2,20180322,0805, -69.9997,-170.0014,     4171,     65.4,-1.4332972222222224445,34.117952365728478,2,  34.1107,2,320.00185728298987,3, 298.8994,3,    312.2,2,     59.0,2,    27.24,2,     0.11,2,     1.89,2,    4.950,2,    2.653,2,   3.7600,2,   2201.9,2,  2309.17,2,   7.6376,2,    24.92,     46.9,2,     -999,9,  -1.4370,2,     -999,9,     -999,9,     -999,     -999,9,    28.60,2,     -999,1,     -999,9,    0.199,1,    4.605,1,    0.211,1,  18.8600,2,     -999,9,20180322,1005, -69.9997,-170.0015,     -999,9,     -999,9,-999          ,9,     -999,9,     -999,9,     -999,     -999,9,     -999,     -999,9,     -999,9,     -999,9,     -999,9,     -999,9,     -999,9,     -999,9,     -999,9,     -999,9,     -999,9,     -999,9,     -999,9,     -999,9,     -999,9
320620180309  ,P15        ,12      ,  1,32         ,32         ,2,20180322,0805, -69.9997,-170.0014,     4171,     89.4,-1.5971305555555552758,34.305166735749225,2,  34.3010,2,309.46873059965270,3, 277.8948,2,    277.9,2,     65.4,2,    29.56,2,     0.10,2,     2.05,2,     -999,9,     -999,9,     -999,9,   2225.1,2,  2321.64,2,   7.6016,2,    24.93,     45.9,2,     -999,9,  -1.5971,2,     -999,9,     -999,9,     -999,     -999,9,    31.00,2,     -999,1,     -999,9,    0.132,1,    4.646,1,    0.181,1,     -999,9,     -999,9,20180322,1003, -69.9997,-170.0015,     -999,9,     -999,9,-999          ,9,     -999,9,     -999,9,     -999,     -999,9,     -999,     -999,9,     -999,1,     -999,1,     -999,1,     -999,1,     -999,1,     -999,1,     -999,1,     -999,1,     -999,1,     -999,1,     -999,1,     -999,1,     -999,1
320620180309  ,P15        ,12      ,  1,31         ,31         ,2,20180322,0805, -69.9997,-170.0014,     4171,    116.4,-1.2303583333333334426,34.358543494078731,2,  34.3541,2,285.29524732916582,3, 263.3038,2,    263.9,2,     68.7,2,    30.58,2,     0.07,2,     2.09,2,    3.611,2,    1.947,2,   2.8100,2,   2230.8,2,  2322.79,2,   7.5891,2,    24.93,     44.1,2,     -999,9,  -1.2563,2,     -999,9,     -999,9,     -999,     -999,9,    31.90,2,     -999,1,     -999,9,    0.095,1,    4.661,1,    0.153,1,  21.2300,2,     -999,9,20180322,1002, -69.9997,-170.0015,     -999,9,     -999,9,-999          ,9,     -999,9,     -999,9,     -999,     -999,9,     -999,     -999,9,     -999,9,     -999,9,     -999,9,     -999,9,     -999,9,     -999,9,     -999,9,     -999,9,     -999,9,     -999,9,     -999,9,     -999,9,     -999,9
320620180309  ,P15        ,12      ,  1,30         ,30         ,2,20180322,0805, -69.9997,-170.0014,     4171,    140.7,0.4798027777777778557,34.528238680887490,2,  34.5281,2,218.19192313118822,3, 220.5026,3,    211.0,2,     80.6,2,    32.14,2,     0.03,2,     2.19,2,     -999,9,     -999,9,     -999,9,   2249.8,2,  2335.69,2,   7.5642,2,    24.93,     43.8,2,     -999,9,   0.4161,2,     -999,9,     -999,9,     -999,     -999,9,    33.60,2,     -999,1,     -999,9,    0.081,1,    4.664,1,    0.147,1,     -999,9,     -999,9,20180322,1000, -69.9997,-170.0014,     -999,9,     -999,9,-999          ,9,     -999,9,     -999,9,     -999,     -999,9,     -999,     -999,9,     -999,1,     -999,1,     -999,1,     -999,1,     -999,1,     -999,1,     -999,1,     -999,1,     -999,1,     -999,1,     -999,1,     -999,1,     -999,1
320620180309  ,P15        ,12      ,  1,29         ,29         ,2,20180322,0805, -69.9997,-170.0014,     4171,    186.4,1.2202499999999998348,34.651755293532062,2,  34.6485,2,189.85199089445666,2, 192.1976,2,    190.5,2,     88.6,2,    32.59,2,     0.02,2,     2.23,2,    0.843,2,    0.447,2,   0.7400,2,   2259.8,2,  2343.18,2,   7.5606,2,    24.93,     41.3,2,     -999,9,   1.2233,2,     -999,9,     -999,9,     -999,     -999,9,    33.80,2,     -999,1,     -999,9,    0.077,1,    4.668,1,    0.148,1,  23.3700,2,     -999,9,20180322,0958, -69.9997,-170.0015,     -999,9,     -999,9,-999          ,9,     -999,9,     -999,9,     -999,     -999,9,     -999,     -999,9,     -999,9,     -999,9,     -999,9,     -999,9,     -999,9,     -999,9,     -999,9,     -999,9,     -999,9,     -999,9,     -999,9,     -999,9,     -999,9
320620180309  ,P15        ,12      ,  1,28         ,28         ,2,20180322,0805, -69.9997,-170.0014,     4171,    236.7,1.5662972222222222296,34.713251997642928,2,  34.7135,2,179.67172244242573,3, 183.4005,2,    182.1,2,     93.6,2,    32.37,2,     0.01,2,     2.21,2,     -999,9,     -999,9,     -999,9,   2264.1,2,  2351.41,2,   7.5689,2,    24.93,     41.3,2,     -999,9,   1.5646,2,     -999,9,     -999,9,     -999,     -999,9,    33.80,2,     -999,1,     -999,9,    0.070,1,    4.670,1,    0.141,1,     -999,9,     -999,9,20180322,0956, -69.9997,-170.0015,     -999,9,     -999,9,-999          ,9,     -999,9,     -999,9,     -999,     -999,9,     -999,     -999,9,     -999,1,     -999,1,     -999,1,     -999,1,     -999,1,     -999,1,     -999,1,     -999,1,     -999,1,     -999,1,     -999,1,     -999,1,     -999,1
320620180309  ,P15        ,12      ,  1,27         ,27         ,2,20180322,0805, -69.9997,-170.0014,     4171,    288.0,1.5531638888888892325,34.725273585564054,2,  34.7237,2,179.99079609679757,3, 183.2043,2,    183.6,2,     96.9,2,    32.22,2,     0.01,2,     2.19,2,    0.272,2,    0.139,2,   0.0200,2,   2262.8,6,  2352.70,2,   7.5720,2,    24.92,     39.5,2,     -999,9,   1.5532,2,     -999,9,     -999,9,     -999,     -999,9,    34.40,2,     -999,1,     -999,9,    0.070,1,    4.673,1,    0.143,1,  22.7800,2,     -999,9,20180322,0954, -69.9997,-170.0014,     -999,9,     -999,9,-999          ,9,     -999,9,     -999,9,     -999,     -999,9,     -999,     -999,9,     -999,9,     -999,9,     -999,9,     -999,9,     -999,9,     -999,9,     -999,9,     -999,9,     -999,9,     -999,9,     -999,9,     -999,9,     -999,9
320620180309  ,P15        ,12      ,  1,26         ,26         ,2,20180322,0805, -69.9997,-170.0014,     4171,    337.5,1.4879000000000002224,34.728008888287199,2,  34.7266,2,181.66605507010490,3, 184.1981,2,    185.0,2,     97.9,2,    32.10,2,     0.01,2,     2.19,2,     -999,9,     -999,9,     -999,9,   2262.7,2,  2354.42,2,   7.5752,6,    24.93,     40.4,2,     -999,9,   1.4875,2,     -999,9,     -999,9,     -999,     -999,9,     -999,9,     -999,1,     -999,9,    0.068,1,    4.674,1,    0.141,1,     -999,9,     -999,9,20180322,0951, -69.9997,-170.0015,     -999,9,     -999,9,-999          ,9,     -999,9,     -999,9,     -999,     -999,9,     -999,     -999,9,     -999,1,     -999,1,     -999,1,     -999,1,     -999,1,     -999,1,     -999,1,     -999,1,     -999,1,     -999,1,     -999,1,     -999,1,     -999,1
320620180309  ,P15        ,12      ,  1,25         ,25         ,2,20180322,0805, -69.9997,-170.0014,     4171,    389.6,1.4337861111111112056,34.727606694673305,2,  34.7257,2,183.49565383027641,3, 186.0953,2,    187.0,2,     99.3,2,    32.03,2,     0.00,2,     2.19,2,    0.250,2,    0.131,2,   0.0700,2,   2262.9,2,  2354.83,2,   7.5788,6,    24.93,     -999,9,     -999,9,   1.4329,2,     -999,9,     -999,9,     -999,     -999,9,     -999,9,     -999,9,     -999,9,    0.068,1,    4.676,1,    0.137,1,  23.2600,2,     -999,9,20180322,0949, -69.9997,-170.0014,     -999,9,     -999,9,-999          ,9,     -999,9,     -999,9,     -999,     -999,9,     -999,     -999,9,     -999,9,     -999,9,     -999,9,     -999,9,     -999,9,     -999,9,     -999,9,     -999,9,     -999,9,     -999,9,     -999,9,     -999,9,     -999,9
320620180309  ,P15        ,12      ,  1,24         ,24         ,2,20180322,0805, -69.9997,-170.0014,     4171,    439.3,1.3800472222222226470,34.727715072097091,2,  34.7261,2,185.20846862816310,3, 187.4014,2,    188.5,2,    100.4,2,    31.95,2,     0.00,2,     2.19,2,     -999,9,     -999,9,     -999,9,   2263.6,2,  2354.83,2,   7.5805,2,    24.93,     39.0,2,     -999,9,   1.3830,2,     -999,9,     -999,9,     -999,     -999,9,     -999,9,     -999,1,     -999,9,    0.067,1,    4.676,1,    0.137,1,     -999,9,     -999,9,20180322,0947, -69.9997,-170.0015,     -999,9,     -999,9,-999          ,9,     -999,9,     -999,9,     -999,     -999,9,     -999,     -999,9,     -999,1,     -999,1,     -999,1,     -999,1,     -999,1,     -999,1,     -999,1,     -999,1,     -999,1,     -999,1,     -999,1,     -999,1,     -999,1
320620180309  ,P15        ,12      ,  1,23         ,23         ,2,20180322,0805, -69.9997,-170.0014,     4171,    489.8,1.3351194444444440812,34.727923997624799,2,  34.7266,2,186.47275711525793,3, 189.3940,2,    190.1,2,    102.3,2,    31.92,2,     0.00,2,     2.17,2,    0.220,2,    0.112,2,   0.2500,2,   2262.3,2,  2357.26,2,   7.5843,2,    24.93,     39.3,2,     -999,9,   1.3349,2,     -999,9,     -999,9,     -999,     -999,9,     -999,9,     -999,1,     -999,9,    0.066,1,    4.675,1,    0.136,1,  23.1700,2,     -999,9,20180322,0945, -69.9997,-170.0015,     -999,9,     -999,9,-999          ,9,     -999,9,     -999,9,     -999,     -999,9,     -999,     -999,9,     -999,9,     -999,9,     -999,9,     -999,9,     -999,9,     -999,9,     -999,9,     -999,9,     -999,9,     -999,9,     -999,9,     -999,9,     -999,9
320620180309  ,P15        ,12      ,  1,22         ,22         ,2,20180322,0805, -69.9997,-170.0014,     4171,    569.1,1.2742722222222222506,34.727173415101255,2,  34.7241,2,188.06434156710432,3, 190.5033,2,    191.4,2,    104.5,2,    31.95,2,     0.00,2,     2.19,2,    0.205,2,    0.107,2,   0.2600,2,   2263.6,2,  2358.79,2,   7.5840,2,    24.92,     43.3,2,     -999,9,   1.2743,2,     -999,9,     -999,9,     -999,     -999,9,     -999,9,     -999,1,     -999,9,    0.064,1,    4.679,1,    0.136,1,  22.9800,2,     -999,9,20180322,0942, -69.9997,-170.0015,     -999,9,     -999,9,-999          ,9,     -999,9,     -999,9,     -999,     -999,9,     -999,     -999,9,     -999,1,     -999,1,     -999,1,     -999,1,     -999,1,     -999,1,     -999,1,     -999,1,     -999,1,     -999,1,     -999,1,     -999,1,     -999,1
320620180309  ,P15        ,12      ,  1,21         ,21         ,2,20180322,0805, -69.9997,-170.0014,     4171,    673.3,1.1862694444444443764,34.725501543128210,2,  34.7243,2,190.65697681630650,3, 193.2972,2,    193.4,2,    107.5,2,    31.95,2,     0.00,2,     2.17,2,    0.179,2,    0.094,2,   0.0000,2,   2262.3,2,  2359.23,2,   7.5880,2,    24.93,     43.0,2,     -999,9,   1.1868,2,     -999,9,     -999,9,     -999,     -999,9,     -999,9,     -999,1,     -999,9,    0.063,1,    4.679,1,    0.132,1,  22.0500,2,     -999,9,20180322,0939, -69.9997,-170.0014,     -999,9,     -999,9,-999          ,9,     -999,9,     -999,9,     -999,     -999,9,     -999,     -999,9,     -999,9,     -999,9,     -999,9,     -999,9,     -999,9,     -999,9,     -999,9,     -999,9,     -999,9,     -999,9,     -999,9,     -999,9,     -999,9
320620180309  ,P15        ,12      ,  1,20         ,20         ,2,20180322,0805, -69.9997,-170.0014,     4171,    773.5,1.1136583333333331947,34.723240949422838,2,  34.7219,2,192.72040018932472,3, 194.2009,2,    195.4,2,    109.5,2,    31.94,2,     0.00,2,     2.18,2,    0.154,2,    0.089,2,   0.0400,2,   2263.6,2,  2359.40,2,   7.5904,2,    24.94,     40.9,2,     -999,9,   1.1130,2,     -999,9,     -999,9,     -999,     -999,9,     -999,9,     -999,1,     -999,9,    0.061,1,    4.681,1,    0.133,1,  20.6200,2,     -999,9,20180322,0936, -69.9997,-170.0015,     -999,9,     -999,9,-999          ,9,     -999,9,     -999,9,     -999,     -999,9,     -999,     -999,9,     -999,1,     -999,1,     -999,1,     -999,1,     -999,1,     -999,1,     -999,1,     -999,1,     -999,1,     -999,1,     -999,1,     -999,1,     -999,1
320620180309  ,P15        ,12      ,  1,19         ,19         ,2,20180322,0805, -69.9997,-170.0014,     4171,    875.1,1.0590111111111109032,34.721130915632266,2,  34.7217,2,194.61566189152185,3, 196.5000,2,    196.9,2,    111.4,2,    31.95,2,     0.00,2,     2.17,2,    0.153,2,    0.089,2,   0.0600,2,   2263.6,2,  2361.13,2,   7.5904,2,    24.94,     39.8,2,     -999,9,   1.0576,2,     -999,9,     -999,9,     -999,     -999,9,     -999,9,     -999,1,     -999,9,    0.062,1,    4.682,1,    0.132,1,  20.7600,2,     -999,9,20180322,0933, -69.9997,-170.0015,     -999,9,     -999,9,-999          ,9,     -999,9,     -999,9,     -999,     -999,9,     -999,     -999,9,     -999,9,     -999,9,     -999,9,     -999,9,     -999,9,     -999,9,     -999,9,     -999,9,     -999,9,     -999,9,     -999,9,     -999,9,     -999,9
320620180309  ,P15        ,12      ,  1,18         ,18         ,2,20180322,0805, -69.9997,-170.0014,     4171,    976.7,0.9888472222222222108,34.718551365710582,2,  34.7176,2,196.66163694444455,3, 199.1978,2,    198.8,2,    113.8,2,    31.96,2,     0.00,2,     2.18,2,    0.148,2,    0.071,2,   0.0000,2,   2263.7,2,  2361.49,2,   7.5927,2,    24.94,     39.2,2,     -999,9,   0.9881,2,     -999,9,     -999,9,     -999,     -999,9,     -999,9,     -999,1,     -999,9,    0.061,1,    4.683,1,    0.130,1,  20.6900,2,     -999,9,20180322,0930, -69.9997,-170.0015,     -999,9,     -999,9,-999          ,9,     -999,9,     -999,9,     -999,     -999,9,     -999,     -999,9,     -999,1,     -999,1,     -999,1,     -999,1,     -999,1,     -999,1,     -999,1,     -999,1,     -999,1,     -999,1,     -999,1,     -999,1,     -999,1
320620180309  ,P15        ,12      ,  1,17         ,17         ,2,20180322,0805, -69.9997,-170.0014,     4171,   1078.5,0.9305444444444445073,34.716031962676873,2,  34.7153,2,198.36477253490725,2, 199.3963,2,    200.2,2,    115.2,2,    31.98,2,     0.00,2,     2.18,2,    0.000,4,    0.000,4,   0.0800,4,   2262.7,2,  2360.80,2,   7.5936,2,    24.93,     40.7,2,     -999,9,   0.9294,2,     -999,9,     -999,9,     -999,     -999,9,     -999,9,     -999,1,     -999,9,    0.060,1,    4.684,1,    0.128,1,  -0.6600,4,     -999,9,20180322,0927, -69.9997,-170.0015,     -999,9,     -999,9,-999          ,9,     -999,9,     -999,9,     -999,     -999,9,     -999,     -999,9,     -999,9,     -999,9,     -999,9,     -999,9,     -999,9,     -999,9,     -999,9,     -999,9,     -999,9,     -999,9,     -999,9,     -999,9,     -999,9
320620180309  ,P15        ,12      ,  1,16         ,16         ,2,20180322,0805, -69.9997,-170.0014,     4171,   1180.7,0.8756416666666666515,34.713869825795314,2,  34.7119,2,200.05441341093257,2, 201.7006,2,    201.1,2,    117.0,2,    32.01,2,     0.00,2,     2.19,2,     -999,9,     -999,9,     -999,9,   2264.4,2,  2362.31,2,   7.5945,2,    24.94,     39.7,2,     -999,9,   0.8748,2,     -999,9,     -999,9,     -999,     -999,9,     -999,9,     -999,1,     -999,9,    0.061,1,    4.683,1,    0.129,1,     -999,9,     -999,9,20180322,0923, -69.9997,-170.0014,     -999,9,     -999,9,-999          ,9,     -999,9,     -999,9,     -999,     -999,9,     -999,     -999,9,     -999,1,     -999,1,     -999,1,     -999,1,     -999,1,     -999,1,     -999,1,     -999,1,     -999,1,     -999,1,     -999,1,     -999,1,     -999,1