BOTTLE,20240515CCHHYDRO
EXPOCODE,SECT_ID,STNNBR,CASTNO,SAMPNO,BTLNBR,BTLNBR_FLAG_W,DATE,TIME,LATITUDE,LONGITUDE,DEPTH,CTDPRS,CTDTMP,CTDSAL,CTDSAL_FLAG_W,SALNTY,SALNTY_FLAG_W,CTDOXY,CTDOXY_FLAG_W,CTDOPTOXY,CTDOPTOXY_FLAG_W,OXYGEN,OXYGEN_FLAG_W,SILCAT,SILCAT_FLAG_W,NITRAT,NITRAT_FLAG_W,NITRIT,NITRIT_FLAG_W,PHSPHT,PHSPHT_FLAG_W,CFC-11,CFC-11_FLAG_W,CFC-12,CFC-12_FLAG_W,SF6,SF6_FLAG_W,TCARBN,TCARBN_FLAG_W,ALKALI,ALKALI_FLAG_W,PH_TOT,PH_TOT_FLAG_W,PH_TMP,DOC,DOC_FLAG_W,HELIUM,HELIUM_FLAG_W,REFTMP,REFTMP_FLAG_W,DELC13,DELC13_FLAG_W,DELC14,DELC14_FLAG_W,C14ERR,POC,POC_FLAG_W,TDN,TDN_FLAG_W,TON,TON_FLAG_W,NEON,NEON_FLAG_W,CTDFLUOR,CTDFLUOR_FLAG_W,CTDXMISS,CTDXMISS_FLAG_W,CTDBETA700,CTDBETA700_FLAG_W,N2O,N2O_FLAG_W,ARGON,ARGON_FLAG_W,BTL_DATE,BTL_TIME,BTL_LAT,BTL_LON,KRYPTON,KRYPTON_FLAG_W,XENON,XENON_FLAG_W,HPLC,HPLC_FLAG_W,HE3_HE4_RATIO,HE3_HE4_RATIO_FLAG_W,Nd_143_144_D_EPSILON_BOTTLE,Nd_143_144_D_EPSILON_BOTTLE_FLAG_W,Nd_143_144_D_EPSILON_BOTTLE_ERROR,Nd_143_144_D_RATIO_BOTTLE,Nd_143_144_D_RATIO_BOTTLE_FLAG_W,Nd_143_144_D_RATIO_BOTTLE_ERROR,Nd_D_CONC,Nd_D_CONC_FLAG_W,La_D_CONC_BOTTLE,La_D_CONC_BOTTLE_FLAG_W,Ce_D_CONC_BOTTLE,Ce_D_CONC_BOTTLE_FLAG_W,Pr_D_CONC_BOTTLE,Pr_D_CONC_BOTTLE_FLAG_W,Sm_D_CONC_BOTTLE,Sm_D_CONC_BOTTLE_FLAG_W,Eu_D_CONC_BOTTLE,Eu_D_CONC_BOTTLE_FLAG_W,Gd_D_CONC_BOTTLE,Gd_D_CONC_BOTTLE_FLAG_W,Tb_D_CONC_BOTTLE,Tb_D_CONC_BOTTLE_FLAG_W,Dy_D_CONC_BOTTLE,Dy_D_CONC_BOTTLE_FLAG_W,Ho_D_CONC_BOTTLE,Ho_D_CONC_BOTTLE_FLAG_W,Er_D_CONC_BOTTLE,Er_D_CONC_BOTTLE_FLAG_W,Tm_D_CONC_BOTTLE,Tm_D_CONC_BOTTLE_FLAG_W,Yb_D_CONC_BOTTLE,Yb_D_CONC_BOTTLE_FLAG_W,Lu_D_CONC_BOTTLE,Lu_D_CONC_BOTTLE_FLAG_W
,,,,,,,,,,,METERS,DBAR,ITS-90,PSS-78,,PSS-78,,UMOL/KG,,UMOL/KG,,UMOL/KG,,UMOL/KG,,UMOL/KG,,UMOL/KG,,UMOL/KG,,PMOL/KG,,PMOL/KG,,FMOL/KG,,UMOL/KG,,UMOL/KG,,,,DEG C,UMOL/KG,,NMOL/L,,DEG C,,/MILLE,,/MILLE,,/MILLE,UG/KG,,UMOL/KG,,UMOL/KG,,NMOL/L,,VOLTS,,VOLTS,,VOLTS,,NMOL/KG,,UMOL/L,,,,,,NMOL/L,,NMOL/L,,,,,,10000,,10000,,,,PMOL/KG,,PMOL/L,,PMOL/L,,PMOL/L,,PMOL/L,,PMOL/L,,PMOL/L,,PMOL/L,,PMOL/L,,PMOL/L,,PMOL/L,,PMOL/L,,PMOL/L,,PMOL/L,
320620180309  ,S04P       ,94      ,  1,15         ,15         ,2,20180426,2244, -67.5010,-110.3944,     4195,   1315.0,1.2545756877292197906,34.727102001317775,2,  34.7257,2,195.38372223342486,2, 195.6993,2,    195.8,2,    107.9,2,    32.01,2,     0.00,2,     2.19,2,    0.122,2,    0.070,2,   0.0600,2,   2260.5,2,  2362.01,2,   7.6007,2,    24.88,     40.7,2,     -999,9,   1.2546,2,     -999,9,     -999,9,     -999,     -999,9,     -999,9,     -999,1,     -999,9,    0.061,1,    4.655,1,    0.129,1,  19.2600,2,     -999,9,20180426,2355, -67.5016,-110.3967,     -999,9,     -999,9,-999          ,9,     -999,9,     -999,9,     -999,     -999,9,     -999,     -999,9,     -999,9,     -999,9,     -999,9,     -999,9,     -999,9,     -999,9,     -999,9,     -999,9,     -999,9,     -999,9,     -999,9,     -999,9,     -999,9
320620180309  ,S04P       ,94      ,  1,14         ,14         ,2,20180426,2244, -67.5010,-110.3944,     4195,   1418.0,1.1829640440782513977,34.724826313558367,2,  34.7239,2,196.32994434769202,2, 197.3007,2,    197.5,2,    110.2,2,    32.07,2,     0.00,2,     2.18,2,    0.116,2,    0.066,2,   0.0300,2,   2262.0,2,  2361.64,2,   7.6008,2,    24.88,     44.4,3,     -999,9,   1.1835,2,     -999,9,     -999,9,     -999,     -999,9,     -999,9,     -999,1,     -999,9,    0.061,1,    4.655,1,    0.127,1,  19.2700,2,     -999,9,20180426,2352, -67.5016,-110.3963,     -999,9,     -999,9,-999          ,9,     -999,9,     -999,9,     -999,     -999,9,     -999,     -999,9,     -999,9,     -999,9,     -999,9,     -999,9,     -999,9,     -999,9,     -999,9,     -999,9,     -999,9,     -999,9,     -999,9,     -999,9,     -999,9
320620180309  ,S04P       ,94      ,  1,13         ,13         ,2,20180426,2244, -67.5010,-110.3944,     4195,   1518.9,1.1236543378219598921,34.722632035245624,2,  34.7217,2,197.43112851654212,2, 198.1030,2,    198.3,2,    112.0,2,    32.07,2,     0.00,2,     2.19,2,     -999,9,     -999,9,     -999,9,   2260.8,2,  2362.32,2,   7.5991,2,    24.89,     -999,9,     -999,9,   1.1233,2,     -999,9,     -999,9,     -999,     -999,9,     -999,9,     -999,9,     -999,9,    0.061,1,    4.655,1,    0.128,1,     -999,9,     -999,9,20180426,2349, -67.5015,-110.3962,     -999,9,     -999,9,-999          ,9,     -999,9,     -999,9,     -999,     -999,9,     -999,     -999,9,     -999,9,     -999,9,     -999,9,     -999,9,     -999,9,     -999,9,     -999,9,     -999,9,     -999,9,     -999,9,     -999,9,     -999,9,     -999,9
320620180309  ,S04P       ,94      ,  1,12         ,12         ,2,20180426,2244, -67.5010,-110.3944,     4195,   1622.4,1.0684388196826999362,34.720739180249751,2,  34.7196,2,199.12569547910471,2, 199.2960,2,    199.9,2,    114.3,2,    32.13,2,     0.00,2,     2.19,2,    0.118,2,    0.071,2,   0.0200,2,   2262.9,2,  2364.84,2,   7.6016,2,    24.88,     39.7,2,     -999,9,   1.0685,2,     -999,9,     -999,9,     -999,     -999,9,     -999,9,     -999,1,     -999,9,    0.061,1,    4.656,1,    0.130,1,  19.4900,2,     -999,9,20180426,2346, -67.5015,-110.3961,     -999,9,     -999,9,-999          ,9,     -999,9,     -999,9,     -999,     -999,9,     -999,     -999,9,     -999,9,     -999,9,     -999,9,     -999,9,     -999,9,     -999,9,     -999,9,     -999,9,     -999,9,     -999,9,     -999,9,     -999,9,     -999,9
320620180309  ,S04P       ,94      ,  1,11         ,11         ,2,20180426,2244, -67.5010,-110.3944,     4195,   1723.0,1.0122335071944537077,34.718468236666567,2,  34.7180,2,200.09916185281648,2, 200.4953,2,    200.5,2,    116.0,2,    32.17,2,     0.00,2,     2.20,2,    0.124,2,    0.077,2,   0.0000,2,   2260.0,2,  2362.86,2,   7.6006,2,    24.87,     -999,9,     -999,9,   1.0119,2,     -999,9,     -999,9,     -999,     -999,9,     -999,9,     -999,9,     -999,9,    0.060,1,    4.656,1,    0.128,1,  19.3800,2,     -999,9,20180426,2343, -67.5015,-110.3959,     -999,9,     -999,9,-999          ,9,     -999,9,     -999,9,     -999,     -999,9,     -999,     -999,9,     -999,9,     -999,9,     -999,9,     -999,9,     -999,9,     -999,9,     -999,9,     -999,9,     -999,9,     -999,9,     -999,9,     -999,9,     -999,9
320620180309  ,S04P       ,94      ,  1,10         ,10         ,2,20180426,2244, -67.5010,-110.3944,     4195,   1825.1,0.9670028020656972201,34.716665737335425,2,  34.7162,2,200.79229029586992,2, 201.5990,2,    202.3,2,    117.5,2,    32.24,2,     0.00,2,     2.19,2,    0.134,2,    0.073,2,   0.0300,2,   2261.7,6,  2363.69,2,   7.6003,2,    24.90,     39.7,2,     -999,9,   0.9668,2,     -999,9,     -999,9,     -999,     -999,9,     -999,9,     -999,1,     -999,9,    0.061,1,    4.656,1,    0.128,1,  19.0500,2,     -999,9,20180426,2340, -67.5014,-110.3958,     -999,9,     -999,9,-999          ,9,     -999,9,     -999,9,     -999,     -999,9,     -999,     -999,9,     -999,9,     -999,9,     -999,9,     -999,9,     -999,9,     -999,9,     -999,9,     -999,9,     -999,9,     -999,9,     -999,9,     -999,9,     -999,9
320620180309  ,S04P       ,94      ,  1,9          ,9          ,2,20180426,2244, -67.5010,-110.3944,     4195,   2029.0,0.8784729922131886415,34.713042771269990,2,  34.7129,2,202.89757518093563,2, 203.0948,2,    202.7,2,    121.1,2,    32.35,2,     0.00,2,     2.19,2,     -999,9,     -999,9,     -999,9,   2264.5,2,  2366.19,2,   7.6003,6,    24.89,     42.1,2,     -999,9,   0.8788,2,     -999,9,     -999,9,     -999,     -999,9,     -999,9,     -999,1,     -999,9,    0.061,1,    4.656,1,    0.129,1,     -999,9,     -999,9,20180426,2335, -67.5015,-110.3962,     -999,9,     -999,9,-999          ,9,     -999,9,     -999,9,     -999,     -999,9,     -999,     -999,9,     -999,9,     -999,9,     -999,9,     -999,9,     -999,9,     -999,9,     -999,9,     -999,9,     -999,9,     -999,9,     -999,9,     -999,9,     -999,9
320620180309  ,S04P       ,94      ,  1,8          ,8          ,2,20180426,2244, -67.5010,-110.3944,     4195,   2286.5,0.7773091275235709530,34.709571217889085,2,  34.7084,2,204.78034360374002,2, 204.8997,2,    204.8,2,    124.5,2,    32.49,2,     0.00,2,     2.22,2,    0.127,2,    0.069,2,   0.0600,2,   2262.8,2,  2364.12,2,   7.6001,2,    24.90,     40.5,2,     -999,9,   0.7777,2,     -999,9,     -999,9,     -999,     -999,9,     -999,9,     -999,1,     -999,9,    0.061,1,    4.656,1,    0.126,1,  17.3500,3,     -999,9,20180426,2329, -67.5016,-110.3963,     -999,9,     -999,9,-999          ,9,     -999,9,     -999,9,     -999,     -999,9,     -999,     -999,9,     -999,9,     -999,9,     -999,9,     -999,9,     -999,9,     -999,9,     -999,9,     -999,9,     -999,9,     -999,9,     -999,9,     -999,9,     -999,9
320620180309  ,S04P       ,94      ,  1,7          ,7          ,2,20180426,2244, -67.5010,-110.3944,     4195,   2539.4,0.6676996830060197841,34.706364319373328,2,  34.7064,2,206.09626971078021,2, 207.0025,2,    207.1,2,    127.7,2,    32.57,2,     0.00,2,     2.22,2,    0.171,2,    0.095,2,   0.0500,2,   2264.6,2,  2365.49,2,   7.6001,2,    24.88,     41.3,2,     -999,9,   0.6679,2,     -999,9,     -999,9,     -999,     -999,9,     -999,9,     -999,1,     -999,9,    0.061,1,    4.655,1,    0.126,1,  18.7600,2,     -999,9,20180426,2323, -67.5016,-110.3964,     -999,9,     -999,9,-999          ,9,     -999,9,     -999,9,     -999,     -999,9,     -999,     -999,9,     -999,9,     -999,9,     -999,9,     -999,9,     -999,9,     -999,9,     -999,9,     -999,9,     -999,9,     -999,9,     -999,9,     -999,9,     -999,9
320620180309  ,S04P       ,94      ,  1,6          ,6          ,2,20180426,2244, -67.5010,-110.3944,     4195,   2796.2,0.5774175042489408938,34.704109494363593,2,  34.7031,2,208.39113986748714,2, 208.7984,2,    208.8,2,    130.2,2,    32.67,2,     0.00,2,     2.22,2,    0.193,2,    0.112,2,   0.0300,2,   2263.3,2,  2367.06,2,   7.5969,2,    24.89,     40.4,2,     -999,9,   0.5771,2,     -999,9,     -999,9,     -999,     -999,9,     -999,9,     -999,1,     -999,9,    0.061,1,    4.655,1,    0.125,1,  18.8100,2,     -999,9,20180426,2317, -67.5017,-110.3968,     -999,9,     -999,9,-999          ,9,     -999,9,     -999,9,     -999,     -999,9,     -999,     -999,9,     -999,9,     -999,9,     -999,9,     -999,9,     -999,9,     -999,9,     -999,9,     -999,9,     -999,9,     -999,9,     -999,9,     -999,9,     -999,9
320620180309  ,S04P       ,94      ,  1,5          ,5          ,2,20180426,2244, -67.5010,-110.3944,     4195,   3053.0,0.4919067251162407284,34.702901085466024,3,  34.7007,2,209.56185562516063,2, 210.4970,2,    210.5,2,    133.4,2,    32.78,2,     0.00,2,     2.23,2,    0.203,2,    0.112,2,   0.0000,2,   2267.5,2,  2366.05,2,   7.5979,2,    24.88,     42.1,2,     -999,9,   0.4925,2,     -999,9,     -999,9,     -999,     -999,9,     -999,9,     -999,1,     -999,9,    0.061,1,    4.655,1,    0.126,1,  18.9000,2,     -999,9,20180426,2311, -67.5017,-110.3967,     -999,9,     -999,9,-999          ,9,     -999,9,     -999,9,     -999,     -999,9,     -999,     -999,9,     -999,9,     -999,9,     -999,9,     -999,9,     -999,9,     -999,9,     -999,9,     -999,9,     -999,9,     -999,9,     -999,9,     -999,9,     -999,9
320620180309  ,S04P       ,94      ,  1,4          ,4          ,2,20180426,2244, -67.5010,-110.3944,     4195,   3359.9,0.4344990143633773449,34.701937132158712,2,  34.7017,2,211.76146100365298,2, 211.9992,2,    211.9,2,    136.6,2,    32.82,2,     0.00,2,     2.24,2,    0.224,2,    0.124,2,   0.0100,2,   2267.3,2,  2366.87,2,   7.5971,2,    24.89,     -999,9,     -999,9,   0.4346,2,     -999,9,     -999,9,     -999,     -999,9,     -999,9,     -999,9,     -999,9,    0.061,1,    4.654,1,    0.127,1,  18.4900,2,     -999,9,20180426,2304, -67.5016,-110.3964,     -999,9,     -999,9,-999          ,9,     -999,9,     -999,9,     -999,     -999,9,     -999,     -999,9,     -999,9,     -999,9,     -999,9,     -999,9,     -999,9,     -999,9,     -999,9,     -999,9,     -999,9,     -999,9,     -999,9,     -999,9,     -999,9
320620180309  ,S04P       ,94      ,  1,3          ,3          ,2,20180426,2244, -67.5010,-110.3944,     4195,   3665.9,0.3845583817724721465,34.700898663228266,3,  34.6984,2,213.56859396262232,2, 213.5002,2,    213.6,2,    138.9,2,    32.85,2,     0.00,2,     2.24,2,    0.283,2,    0.149,2,   0.0400,2,   2265.1,2,  2365.36,2,   7.5954,2,    24.88,     39.6,2,     -999,9,   0.3847,2,     -999,9,     -999,9,     -999,     -999,9,     -999,9,     -999,1,     -999,9,    0.061,1,    4.653,1,    0.128,1,  18.4200,2,     -999,9,20180426,2258, -67.5013,-110.3954,     -999,9,     -999,9,-999          ,9,     -999,9,     -999,9,     -999,     -999,9,     -999,     -999,9,     -999,9,     -999,9,     -999,9,     -999,9,     -999,9,     -999,9,     -999,9,     -999,9,     -999,9,     -999,9,     -999,9,     -999,9,     -999,9
320620180309  ,S04P       ,94      ,  1,2          ,2          ,2,20180426,2244, -67.5010,-110.3944,     4195,   3977.0,0.3621903498483404760,34.699947366608491,2,  34.6998,2,214.65957268707615,2, 214.5000,2,    214.7,2,    141.6,2,    32.90,2,     0.00,2,     2.24,2,    0.349,2,    0.181,2,   0.1600,2,   2266.5,2,  2364.85,2,   7.5942,2,    24.90,     -999,9,     -999,9,   0.3620,2,     -999,9,     -999,9,     -999,     -999,9,     -999,9,     -999,9,     -999,9,    0.061,1,    4.652,1,    0.128,1,  18.4200,2,     -999,9,20180426,2251, -67.5011,-110.3948,     -999,9,     -999,9,-999          ,9,     -999,9,     -999,9,     -999,     -999,9,     -999,     -999,9,     -999,9,     -999,9,     -999,9,     -999,9,     -999,9,     -999,9,     -999,9,     -999,9,     -999,9,     -999,9,     -999,9,     -999,9,     -999,9
320620180309  ,S04P       ,94      ,  1,1          ,1          ,2,20180426,2244, -67.5010,-110.3944,     4195,   4269.9,0.3643620162729114820,34.699159263956084,2,  34.7000,2,215.13164917130800,2, 213.9975,2,    213.9,2,    148.7,2,    32.99,2,     0.00,2,     2.26,2,    0.408,2,    0.203,2,   0.2600,2,   2266.9,6,  2365.46,2,   7.5929,2,    24.89,     40.5,2,     -999,9,   0.3644,2,     -999,9,     -999,9,     -999,     -999,9,     -999,9,     -999,1,     -999,9,    0.061,1,    4.643,1,    0.139,1,  18.4500,2,     -999,9,20180426,2244, -67.5010,-110.3944,     -999,9,     -999,9,-999          ,9,     -999,9,     -999,9,     -999,     -999,9,     -999,     -999,9,     -999,9,     -999,9,     -999,9,     -999,9,     -999,9,     -999,9,     -999,9,     -999,9,     -999,9,     -999,9,     -999,9,     -999,9,     -999,9