BOTTLE,20240515CCHHYDRO
EXPOCODE,SECT_ID,STNNBR,CASTNO,SAMPNO,BTLNBR,BTLNBR_FLAG_W,DATE,TIME,LATITUDE,LONGITUDE,DEPTH,CTDPRS,CTDTMP,CTDSAL,CTDSAL_FLAG_W,SALNTY,SALNTY_FLAG_W,CTDOXY,CTDOXY_FLAG_W,CTDOPTOXY,CTDOPTOXY_FLAG_W,OXYGEN,OXYGEN_FLAG_W,SILCAT,SILCAT_FLAG_W,NITRAT,NITRAT_FLAG_W,NITRIT,NITRIT_FLAG_W,PHSPHT,PHSPHT_FLAG_W,CFC-11,CFC-11_FLAG_W,CFC-12,CFC-12_FLAG_W,SF6,SF6_FLAG_W,TCARBN,TCARBN_FLAG_W,ALKALI,ALKALI_FLAG_W,PH_TOT,PH_TOT_FLAG_W,PH_TMP,DOC,DOC_FLAG_W,HELIUM,HELIUM_FLAG_W,REFTMP,REFTMP_FLAG_W,DELC13,DELC13_FLAG_W,DELC14,DELC14_FLAG_W,C14ERR,POC,POC_FLAG_W,TDN,TDN_FLAG_W,TON,TON_FLAG_W,NEON,NEON_FLAG_W,CTDFLUOR,CTDFLUOR_FLAG_W,CTDXMISS,CTDXMISS_FLAG_W,CTDBETA700,CTDBETA700_FLAG_W,N2O,N2O_FLAG_W,ARGON,ARGON_FLAG_W,BTL_DATE,BTL_TIME,BTL_LAT,BTL_LON,KRYPTON,KRYPTON_FLAG_W,XENON,XENON_FLAG_W,HPLC,HPLC_FLAG_W,HE3_HE4_RATIO,HE3_HE4_RATIO_FLAG_W,Nd_143_144_D_EPSILON_BOTTLE,Nd_143_144_D_EPSILON_BOTTLE_FLAG_W,Nd_143_144_D_EPSILON_BOTTLE_ERROR,Nd_143_144_D_RATIO_BOTTLE,Nd_143_144_D_RATIO_BOTTLE_FLAG_W,Nd_143_144_D_RATIO_BOTTLE_ERROR,Nd_D_CONC,Nd_D_CONC_FLAG_W,La_D_CONC_BOTTLE,La_D_CONC_BOTTLE_FLAG_W,Ce_D_CONC_BOTTLE,Ce_D_CONC_BOTTLE_FLAG_W,Pr_D_CONC_BOTTLE,Pr_D_CONC_BOTTLE_FLAG_W,Sm_D_CONC_BOTTLE,Sm_D_CONC_BOTTLE_FLAG_W,Eu_D_CONC_BOTTLE,Eu_D_CONC_BOTTLE_FLAG_W,Gd_D_CONC_BOTTLE,Gd_D_CONC_BOTTLE_FLAG_W,Tb_D_CONC_BOTTLE,Tb_D_CONC_BOTTLE_FLAG_W,Dy_D_CONC_BOTTLE,Dy_D_CONC_BOTTLE_FLAG_W,Ho_D_CONC_BOTTLE,Ho_D_CONC_BOTTLE_FLAG_W,Er_D_CONC_BOTTLE,Er_D_CONC_BOTTLE_FLAG_W,Tm_D_CONC_BOTTLE,Tm_D_CONC_BOTTLE_FLAG_W,Yb_D_CONC_BOTTLE,Yb_D_CONC_BOTTLE_FLAG_W,Lu_D_CONC_BOTTLE,Lu_D_CONC_BOTTLE_FLAG_W
,,,,,,,,,,,METERS,DBAR,ITS-90,PSS-78,,PSS-78,,UMOL/KG,,UMOL/KG,,UMOL/KG,,UMOL/KG,,UMOL/KG,,UMOL/KG,,UMOL/KG,,PMOL/KG,,PMOL/KG,,FMOL/KG,,UMOL/KG,,UMOL/KG,,,,DEG C,UMOL/KG,,NMOL/L,,DEG C,,/MILLE,,/MILLE,,/MILLE,UG/KG,,UMOL/KG,,UMOL/KG,,NMOL/L,,VOLTS,,VOLTS,,VOLTS,,NMOL/KG,,UMOL/L,,,,,,NMOL/L,,NMOL/L,,,,,,10000,,10000,,,,PMOL/KG,,PMOL/L,,PMOL/L,,PMOL/L,,PMOL/L,,PMOL/L,,PMOL/L,,PMOL/L,,PMOL/L,,PMOL/L,,PMOL/L,,PMOL/L,,PMOL/L,,PMOL/L,
320620180309  ,S04P       ,110     ,  1,36         ,36         ,2,20180503,2007, -67.4001, -94.6651,     4536,      8.2,-1.6862884010717487104,33.725753826157124,2,  33.7210,2,351.69258435454594,3, 346.1988,2,    347.5,2,     27.8,2,    25.47,2,     0.20,2,     1.74,2,    6.542,2,    3.278,2,   3.8000,2,   2166.5,6,  2280.71,2,   7.6597,2,    25.01,     41.2,2,     -999,9,  -1.6830,2,     -999,9,     -999,9,     -999,     -999,9,    29.50,2,     -999,1,     -999,9,    0.208,1,    4.565,1,    0.186,1,  16.4200,2,     -999,9,20180503,2212, -67.4002, -94.6650,     -999,9,     -999,9,-999          ,9,     -999,9,     -999,9,     -999,     -999,9,     -999,     -999,9,     -999,9,     -999,9,     -999,9,     -999,9,     -999,9,     -999,9,     -999,9,     -999,9,     -999,9,     -999,9,     -999,9,     -999,9,     -999,9
320620180309  ,S04P       ,110     ,  1,35         ,35         ,2,20180503,2007, -67.4001, -94.6651,     4536,     33.2,-1.6853138781361645115,33.725933960832108,2,  33.7205,2,352.47620198629772,3, 346.2049,2,    347.4,2,     27.8,2,    25.44,2,     0.20,2,     1.75,2,     -999,9,     -999,9,     -999,9,   2165.9,2,  2282.73,2,   7.6622,2,    25.03,     46.0,2,     -999,9,  -1.6857,2,     -999,9,     -999,9,     -999,     -999,9,    29.50,2,     -999,1,     -999,9,    0.204,1,    4.567,1,    0.202,1,     -999,9,     -999,9,20180503,2211, -67.4000, -94.6648,     -999,9,     -999,9,-999          ,9,     -999,9,     -999,9,     -999,     -999,9,     -999,     -999,9,     -999,9,     -999,9,     -999,9,     -999,9,     -999,9,     -999,9,     -999,9,     -999,9,     -999,9,     -999,9,     -999,9,     -999,9,     -999,9
320620180309  ,S04P       ,110     ,  1,34         ,34         ,2,20180503,2007, -67.4001, -94.6651,     4536,     59.2,-1.6834808478458320735,33.726681717309972,2,  33.7230,2,352.75519435869825,3, 347.1967,2,    347.2,2,     27.8,2,    25.42,2,     0.20,2,     1.77,2,    6.521,6,    3.257,6,   3.5200,6,   2166.4,2,  2280.20,2,   7.6609,2,    25.04,     47.6,2,     -999,9,  -1.6833,2,     -999,9,     -999,9,     -999,     -999,9,    28.30,2,     -999,1,     -999,9,    0.211,1,    4.566,1,    0.196,1,  16.4300,6,     -999,9,20180503,2209, -67.3997, -94.6649,     -999,9,     -999,9,-999          ,9,     -999,9,     -999,9,     -999,     -999,9,     -999,     -999,9,     -999,9,     -999,9,     -999,9,     -999,9,     -999,9,     -999,9,     -999,9,     -999,9,     -999,9,     -999,9,     -999,9,     -999,9,     -999,9
320620180309  ,S04P       ,110     ,  1,33         ,33         ,2,20180503,2007, -67.4001, -94.6651,     4536,     85.6,-0.9191255624756512477,33.935008042842910,2,  33.9254,2,332.08707875379991,2, 331.7989,2,    330.6,2,     36.1,2,    28.83,2,     0.23,2,     1.98,2,     -999,9,     -999,9,     -999,9,   2183.9,2,  2288.63,2,   7.6350,2,    25.03,     40.0,2,     -999,9,  -0.9274,2,     -999,9,     -999,9,     -999,     -999,9,    30.70,2,     -999,1,     -999,9,    0.143,1,    4.590,1,    0.179,1,     -999,9,     -999,9,20180503,2207, -67.3994, -94.6648,     -999,9,     -999,9,-999          ,9,     -999,9,     -999,9,     -999,     -999,9,     -999,     -999,9,     -999,9,     -999,9,     -999,9,     -999,9,     -999,9,     -999,9,     -999,9,     -999,9,     -999,9,     -999,9,     -999,9,     -999,9,     -999,9
320620180309  ,S04P       ,110     ,  1,32         ,32         ,2,20180503,2007, -67.4001, -94.6651,     4536,    110.3,-0.3257456473987751511,34.063665598590447,2,  34.0593,2,311.72916296315225,3, 316.4998,3,    323.4,2,     42.2,2,    30.71,2,     0.02,2,     2.07,2,    5.726,2,    2.962,2,   3.3500,2,   2194.5,2,  2297.22,2,   7.6216,2,    25.03,     39.5,2,     -999,9,  -0.3250,2,     -999,9,     -999,9,     -999,     -999,9,    32.10,2,     -999,1,     -999,9,    0.072,1,    4.628,1,    0.157,1,  17.2300,2,     -999,9,20180503,2205, -67.3993, -94.6648,     -999,9,     -999,9,-999          ,9,     -999,9,     -999,9,     -999,     -999,9,     -999,     -999,9,     -999,9,     -999,9,     -999,9,     -999,9,     -999,9,     -999,9,     -999,9,     -999,9,     -999,9,     -999,9,     -999,9,     -999,9,     -999,9
320620180309  ,S04P       ,110     ,  1,31         ,31         ,2,20180503,2007, -67.4001, -94.6651,     4536,    137.8,0.1716903354753106514,34.137198261276453,2,  34.1309,2,294.09288371767263,3, 298.3968,2,    298.3,2,     46.7,2,    31.74,2,     0.00,2,     2.13,2,     -999,9,     -999,9,     -999,9,   2203.7,2,     -999,5,   7.6027,2,    25.00,     39.8,2,     -999,9,   0.1641,2,     -999,9,     -999,9,     -999,     -999,9,    34.40,2,     -999,1,     -999,9,    0.067,1,    4.630,1,    0.151,1,     -999,9,     -999,9,20180503,2203, -67.3993, -94.6648,     -999,9,     -999,9,-999          ,9,     -999,9,     -999,9,     -999,     -999,9,     -999,     -999,9,     -999,9,     -999,9,     -999,9,     -999,9,     -999,9,     -999,9,     -999,9,     -999,9,     -999,9,     -999,9,     -999,9,     -999,9,     -999,9
320620180309  ,S04P       ,110     ,  1,30         ,30         ,2,20180503,2007, -67.4001, -94.6651,     4536,    168.5,1.2488157821353969013,34.277293979479040,2,  34.2698,2,246.36119388465255,3, 247.3981,3,    239.6,2,     55.8,2,    33.87,2,     0.00,2,     2.28,2,    3.319,2,    1.722,2,   1.4700,2,   2226.9,2,  2310.84,2,   7.5649,6,    25.05,     42.1,2,     -999,9,   1.2424,2,     -999,9,     -999,9,     -999,     -999,9,    36.30,2,     -999,1,     -999,9,    0.064,1,    4.637,1,    0.146,1,  21.6900,2,     -999,9,20180503,2201, -67.3993, -94.6648,     -999,9,     -999,9,-999          ,9,     -999,9,     -999,9,     -999,     -999,9,     -999,     -999,9,     -999,9,     -999,9,     -999,9,     -999,9,     -999,9,     -999,9,     -999,9,     -999,9,     -999,9,     -999,9,     -999,9,     -999,9,     -999,9
320620180309  ,S04P       ,110     ,  1,29         ,29         ,2,20180503,2007, -67.4001, -94.6651,     4536,    216.2,1.7580528057409603448,34.390662329843998,2,  34.3862,2,203.44733332844797,3, 199.3989,3,    207.3,2,     64.2,2,    34.87,2,     0.00,2,     2.35,2,    2.252,2,    1.172,2,   0.8400,2,   2243.2,2,  2320.91,2,   7.5464,2,    25.02,     41.6,2,     -999,9,   1.7572,2,     -999,9,     -999,9,     -999,     -999,9,    36.90,2,     -999,1,     -999,9,    0.062,1,    4.640,1,    0.144,1,  23.4600,2,     -999,9,20180503,2159, -67.3994, -94.6647,     -999,9,     -999,9,-999          ,9,     -999,9,     -999,9,     -999,     -999,9,     -999,     -999,9,     -999,9,     -999,9,     -999,9,     -999,9,     -999,9,     -999,9,     -999,9,     -999,9,     -999,9,     -999,9,     -999,9,     -999,9,     -999,9
320620180309  ,S04P       ,110     ,  1,28         ,28         ,2,20180503,2007, -67.4001, -94.6651,     4536,    266.5,1.9201762980276093629,34.461862487040150,2,  34.4575,2,194.24481365427346,2, 193.5978,2,    192.6,2,     69.4,2,    35.00,2,     0.00,2,     2.36,2,    1.698,2,    0.885,2,   0.7400,2,   2250.1,2,  2327.19,2,   7.5416,2,    25.05,     38.4,2,     -999,9,   1.9207,2,     -999,9,     -999,9,     -999,     -999,9,    36.90,2,     -999,1,     -999,9,    0.062,1,    4.640,1,    0.142,1,  24.0100,2,     -999,9,20180503,2156, -67.3994, -94.6648,     -999,9,     -999,9,-999          ,9,     -999,9,     -999,9,     -999,     -999,9,     -999,     -999,9,     -999,9,     -999,9,     -999,9,     -999,9,     -999,9,     -999,9,     -999,9,     -999,9,     -999,9,     -999,9,     -999,9,     -999,9,     -999,9
320620180309  ,S04P       ,110     ,  1,27         ,27         ,2,20180503,2007, -67.4001, -94.6651,     4536,    318.0,1.9111276573303177528,34.497938449556614,2,  34.4943,2,190.14515225111987,2, 189.2978,2,    189.4,2,     72.2,2,    34.86,2,     0.00,2,     2.36,2,    1.494,2,    0.784,2,   0.4500,2,   2252.3,2,  2333.11,2,   7.5431,2,    25.05,     39.3,2,     -999,9,   1.9113,2,     -999,9,     -999,9,     -999,     -999,9,     -999,9,     -999,1,     -999,9,    0.062,1,    4.642,1,    0.141,1,  23.8900,2,     -999,9,20180503,2154, -67.3995, -94.6649,     -999,9,     -999,9,-999          ,9,     -999,9,     -999,9,     -999,     -999,9,     -999,     -999,9,     -999,9,     -999,9,     -999,9,     -999,9,     -999,9,     -999,9,     -999,9,     -999,9,     -999,9,     -999,9,     -999,9,     -999,9,     -999,9
320620180309  ,S04P       ,110     ,  1,26         ,38         ,2,20180503,2007, -67.4001, -94.6651,     4536,    369.7,2.0800816831183106537,34.548993903124057,2,  34.5438,2,182.27525439430750,3, 180.8021,2,    180.0,2,     75.5,2,    34.74,2,     0.00,2,     2.34,2,    1.061,2,    0.557,2,   0.1100,2,   2256.2,2,  2333.95,2,   7.5434,2,    25.05,     41.8,2,     -999,9,   2.0797,2,     -999,9,     -999,9,     -999,     -999,9,     -999,9,     -999,1,     -999,9,    0.062,1,    4.642,1,    0.140,1,  23.1700,2,     -999,9,20180503,2151, -67.3996, -94.6649,     -999,9,     -999,9,-999          ,9,     -999,9,     -999,9,     -999,     -999,9,     -999,     -999,9,     -999,9,     -999,9,     -999,9,     -999,9,     -999,9,     -999,9,     -999,9,     -999,9,     -999,9,     -999,9,     -999,9,     -999,9,     -999,9
320620180309  ,S04P       ,110     ,  1,25         ,25         ,2,20180503,2007, -67.4001, -94.6651,     4536,    419.5,2.1494491225908891607,34.588461204318854,2,  34.5848,2,178.69106324675661,3, 176.9948,3,    174.9,2,     77.8,2,    34.48,2,     0.00,2,     2.31,2,    0.778,2,    0.414,2,   0.0500,2,   2259.0,2,  2338.92,2,   7.5464,2,    25.04,     41.3,2,     -999,9,   2.1479,2,     -999,9,     -999,9,     -999,     -999,9,     -999,9,     -999,1,     -999,9,    0.062,1,    4.644,1,    0.137,1,  23.3700,2,     -999,9,20180503,2149, -67.3997, -94.6649,     -999,9,     -999,9,-999          ,9,     -999,9,     -999,9,     -999,     -999,9,     -999,     -999,9,     -999,9,     -999,9,     -999,9,     -999,9,     -999,9,     -999,9,     -999,9,     -999,9,     -999,9,     -999,9,     -999,9,     -999,9,     -999,9
320620180309  ,S04P       ,110     ,  1,24         ,24         ,2,20180503,2007, -67.4001, -94.6651,     4536,    468.8,2.1366718725090554365,34.611648255000759,2,  34.6086,2,177.24909337775171,3, 175.3973,2,    175.1,2,     79.6,2,    34.18,2,     0.00,2,     2.29,2,    0.666,2,    0.355,2,   0.2400,2,   2259.6,6,  2340.01,2,   7.5515,2,    25.04,     42.1,2,     -999,9,   2.1365,2,     -999,9,     -999,9,     -999,     -999,9,     -999,9,     -999,1,     -999,9,    0.062,1,    4.644,1,    0.137,1,  22.9600,2,     -999,9,20180503,2147, -67.3998, -94.6649,     -999,9,     -999,9,-999          ,9,     -999,9,     -999,9,     -999,     -999,9,     -999,     -999,9,     -999,9,     -999,9,     -999,9,     -999,9,     -999,9,     -999,9,     -999,9,     -999,9,     -999,9,     -999,9,     -999,9,     -999,9,     -999,9
320620180309  ,S04P       ,110     ,  1,23         ,23         ,2,20180503,2007, -67.4001, -94.6651,     4536,    541.7,2.1363403060216858975,34.642882099265073,2,  34.6398,2,177.28883834818700,3, 175.7023,2,    174.5,2,     81.6,2,    33.78,2,     0.00,2,     2.27,2,    0.506,2,    0.275,2,   0.1700,2,   2258.1,2,  2342.33,2,   7.5578,2,    25.20,     42.7,2,     -999,9,   2.1362,2,     -999,9,     -999,9,     -999,     -999,9,     -999,9,     -999,1,     -999,9,    0.061,1,    4.645,1,    0.136,1,  22.6900,2,     -999,9,20180503,2145, -67.3999, -94.6649,     -999,9,     -999,9,-999          ,9,     -999,9,     -999,9,     -999,     -999,9,     -999,     -999,9,     -999,9,     -999,9,     -999,9,     -999,9,     -999,9,     -999,9,     -999,9,     -999,9,     -999,9,     -999,9,     -999,9,     -999,9,     -999,9
320620180309  ,S04P       ,110     ,  1,22         ,37         ,2,20180503,2007, -67.4001, -94.6651,     4536,    642.5,2.0599881826654642403,34.670698250875660,2,  34.6680,2,179.49115406057243,2, 178.2021,2,    178.1,2,     83.2,2,    33.18,2,     0.00,2,     2.25,2,    0.437,2,    0.238,2,   0.2400,2,   2255.9,2,  2344.22,2,   7.5656,2,    25.10,     41.0,2,     -999,9,   2.0598,2,     -999,9,     -999,9,     -999,     -999,9,     -999,9,     -999,1,     -999,9,    0.061,1,    4.646,1,    0.134,1,  21.9900,2,     -999,9,20180503,2142, -67.4000, -94.6650,     -999,9,     -999,9,-999          ,9,     -999,9,     -999,9,     -999,     -999,9,     -999,     -999,9,     -999,9,     -999,9,     -999,9,     -999,9,     -999,9,     -999,9,     -999,9,     -999,9,     -999,9,     -999,9,     -999,9,     -999,9,     -999,9
320620180309  ,S04P       ,110     ,  1,21         ,21         ,2,20180503,2007, -67.4001, -94.6651,     4536,    744.4,2.0180190245149258743,34.693602737731553,2,  34.6902,2,181.06072468792195,2, 179.4960,2,    179.5,2,     85.4,2,    32.82,2,     0.00,2,     2.22,2,    0.336,2,    0.177,2,   0.1600,2,   2256.2,2,  2349.67,2,   7.5698,2,    25.10,     42.6,2,     -999,9,   2.0183,2,     -999,9,     -999,9,     -999,     -999,9,     -999,9,     -999,1,     -999,9,    0.061,1,    4.646,1,    0.134,1,  21.5600,2,     -999,9,20180503,2139, -67.4000, -94.6649,     -999,9,     -999,9,-999          ,9,     -999,9,     -999,9,     -999,     -999,9,     -999,     -999,9,     -999,9,     -999,9,     -999,9,     -999,9,     -999,9,     -999,9,     -999,9,     -999,9,     -999,9,     -999,9,     -999,9,     -999,9,     -999,9
320620180309  ,S04P       ,110     ,  1,20         ,20         ,2,20180503,2007, -67.4001, -94.6651,     4536,    843.0,1.9652709985608163290,34.709977614678117,2,  34.7083,2,182.86957722680123,2, 181.9025,2,    182.5,2,     87.3,2,    32.34,2,     0.00,2,     2.20,2,     -999,9,     -999,9,     -999,9,   2256.1,2,  2350.22,2,   7.5803,2,    25.10,     43.5,2,     -999,9,   1.9652,2,     -999,9,     -999,9,     -999,     -999,9,     -999,9,     -999,1,     -999,9,    0.061,1,    4.647,1,    0.135,1,     -999,9,     -999,9,20180503,2136, -67.4001, -94.6650,     -999,9,     -999,9,-999          ,9,     -999,9,     -999,9,     -999,     -999,9,     -999,     -999,9,     -999,9,     -999,9,     -999,9,     -999,9,     -999,9,     -999,9,     -999,9,     -999,9,     -999,9,     -999,9,     -999,9,     -999,9,     -999,9
320620180309  ,S04P       ,110     ,  1,19         ,19         ,2,20180503,2007, -67.4001, -94.6651,     4536,    945.1,1.8734507572711225354,34.719927647110609,2,  34.7187,2,184.73815033861754,2, 183.7024,2,    184.2,2,     90.4,2,    32.17,2,     0.00,2,     2.19,2,    0.236,2,    0.131,2,   0.0000,2,   2256.6,2,  2352.94,2,   7.5831,2,    25.09,     43.1,2,     -999,9,   1.8729,2,     -999,9,     -999,9,     -999,     -999,9,     -999,9,     -999,1,     -999,9,    0.062,1,    4.647,1,    0.134,1,  20.8500,2,     -999,9,20180503,2133, -67.4003, -94.6650,     -999,9,     -999,9,-999          ,9,     -999,9,     -999,9,     -999,     -999,9,     -999,     -999,9,     -999,9,     -999,9,     -999,9,     -999,9,     -999,9,     -999,9,     -999,9,     -999,9,     -999,9,     -999,9,     -999,9,     -999,9,     -999,9
320620180309  ,S04P       ,110     ,  1,18         ,18         ,2,20180503,2007, -67.4001, -94.6651,     4536,   1046.1,1.7890131082746627555,34.726773053549287,2,  34.7249,2,186.67207019721275,2, 186.0001,2,    186.9,2,     92.4,2,    31.92,2,     0.00,2,     2.16,2,     -999,9,     -999,9,     -999,9,   2258.7,2,  2350.77,3,   7.5886,2,    25.09,     44.1,2,     -999,9,   1.7888,2,     -999,9,     -999,9,     -999,     -999,9,     -999,9,     -999,1,     -999,9,    0.061,1,    4.647,1,    0.135,1,     -999,9,     -999,9,20180503,2130, -67.4005, -94.6651,     -999,9,     -999,9,-999          ,9,     -999,9,     -999,9,     -999,     -999,9,     -999,     -999,9,     -999,9,     -999,9,     -999,9,     -999,9,     -999,9,     -999,9,     -999,9,     -999,9,     -999,9,     -999,9,     -999,9,     -999,9,     -999,9
320620180309  ,S04P       ,110     ,  1,17         ,17         ,2,20180503,2007, -67.4001, -94.6651,     4536,   1149.1,1.7121585304941466799,34.730089087745391,2,  34.7286,2,188.71656501494726,2, 188.5033,2,    188.5,2,     95.0,2,    31.88,2,     0.00,2,     2.15,2,    0.189,2,    0.096,2,   0.0000,2,   2258.0,2,  2357.46,2,   7.5891,2,    25.09,     42.0,2,     -999,9,   1.7127,2,     -999,9,     -999,9,     -999,     -999,9,     -999,9,     -999,1,     -999,9,    0.061,1,    4.648,1,    0.131,1,  20.4400,2,     -999,9,20180503,2127, -67.4006, -94.6651,     -999,9,     -999,9,-999          ,9,     -999,9,     -999,9,     -999,     -999,9,     -999,     -999,9,     -999,9,     -999,9,     -999,9,     -999,9,     -999,9,     -999,9,     -999,9,     -999,9,     -999,9,     -999,9,     -999,9,     -999,9,     -999,9
320620180309  ,S04P       ,110     ,  1,16         ,16         ,2,20180503,2007, -67.4001, -94.6651,     4536,   1250.8,1.6184587461186870083,34.731682656065104,2,  34.7299,2,190.69151513598555,2, 190.4047,2,    190.8,2,     97.2,2,    31.78,2,     0.00,2,     2.15,2,    0.175,2,    0.092,2,   0.0000,2,   2258.1,2,  2358.52,2,   7.5931,2,    25.10,     42.6,2,     -999,9,   1.6183,2,     -999,9,     -999,9,     -999,     -999,9,     -999,9,     -999,1,     -999,9,    0.061,1,    4.648,1,    0.129,1,  20.1800,2,     -999,9,20180503,2125, -67.4008, -94.6652,     -999,9,     -999,9,-999          ,9,     -999,9,     -999,9,     -999,     -999,9,     -999,     -999,9,     -999,9,     -999,9,     -999,9,     -999,9,     -999,9,     -999,9,     -999,9,     -999,9,     -999,9,     -999,9,     -999,9,     -999,9,     -999,9