BOTTLE,20240515CCHHYDRO
EXPOCODE,SECT_ID,STNNBR,CASTNO,SAMPNO,BTLNBR,BTLNBR_FLAG_W,DATE,TIME,LATITUDE,LONGITUDE,DEPTH,CTDPRS,CTDTMP,CTDSAL,CTDSAL_FLAG_W,SALNTY,SALNTY_FLAG_W,CTDOXY,CTDOXY_FLAG_W,CTDOPTOXY,CTDOPTOXY_FLAG_W,OXYGEN,OXYGEN_FLAG_W,SILCAT,SILCAT_FLAG_W,NITRAT,NITRAT_FLAG_W,NITRIT,NITRIT_FLAG_W,PHSPHT,PHSPHT_FLAG_W,CFC-11,CFC-11_FLAG_W,CFC-12,CFC-12_FLAG_W,SF6,SF6_FLAG_W,TCARBN,TCARBN_FLAG_W,ALKALI,ALKALI_FLAG_W,PH_TOT,PH_TOT_FLAG_W,PH_TMP,DOC,DOC_FLAG_W,HELIUM,HELIUM_FLAG_W,REFTMP,REFTMP_FLAG_W,DELC13,DELC13_FLAG_W,DELC14,DELC14_FLAG_W,C14ERR,POC,POC_FLAG_W,TDN,TDN_FLAG_W,TON,TON_FLAG_W,NEON,NEON_FLAG_W,CTDFLUOR,CTDFLUOR_FLAG_W,CTDXMISS,CTDXMISS_FLAG_W,CTDBETA700,CTDBETA700_FLAG_W,N2O,N2O_FLAG_W,ARGON,ARGON_FLAG_W,BTL_DATE,BTL_TIME,BTL_LAT,BTL_LON,KRYPTON,KRYPTON_FLAG_W,XENON,XENON_FLAG_W,HPLC,HPLC_FLAG_W,HE3_HE4_RATIO,HE3_HE4_RATIO_FLAG_W,Nd_143_144_D_EPSILON_BOTTLE,Nd_143_144_D_EPSILON_BOTTLE_FLAG_W,Nd_143_144_D_EPSILON_BOTTLE_ERROR,Nd_143_144_D_RATIO_BOTTLE,Nd_143_144_D_RATIO_BOTTLE_FLAG_W,Nd_143_144_D_RATIO_BOTTLE_ERROR,Nd_D_CONC,Nd_D_CONC_FLAG_W,La_D_CONC_BOTTLE,La_D_CONC_BOTTLE_FLAG_W,Ce_D_CONC_BOTTLE,Ce_D_CONC_BOTTLE_FLAG_W,Pr_D_CONC_BOTTLE,Pr_D_CONC_BOTTLE_FLAG_W,Sm_D_CONC_BOTTLE,Sm_D_CONC_BOTTLE_FLAG_W,Eu_D_CONC_BOTTLE,Eu_D_CONC_BOTTLE_FLAG_W,Gd_D_CONC_BOTTLE,Gd_D_CONC_BOTTLE_FLAG_W,Tb_D_CONC_BOTTLE,Tb_D_CONC_BOTTLE_FLAG_W,Dy_D_CONC_BOTTLE,Dy_D_CONC_BOTTLE_FLAG_W,Ho_D_CONC_BOTTLE,Ho_D_CONC_BOTTLE_FLAG_W,Er_D_CONC_BOTTLE,Er_D_CONC_BOTTLE_FLAG_W,Tm_D_CONC_BOTTLE,Tm_D_CONC_BOTTLE_FLAG_W,Yb_D_CONC_BOTTLE,Yb_D_CONC_BOTTLE_FLAG_W,Lu_D_CONC_BOTTLE,Lu_D_CONC_BOTTLE_FLAG_W
,,,,,,,,,,,METERS,DBAR,ITS-90,PSS-78,,PSS-78,,UMOL/KG,,UMOL/KG,,UMOL/KG,,UMOL/KG,,UMOL/KG,,UMOL/KG,,UMOL/KG,,PMOL/KG,,PMOL/KG,,FMOL/KG,,UMOL/KG,,UMOL/KG,,,,DEG C,UMOL/KG,,NMOL/L,,DEG C,,/MILLE,,/MILLE,,/MILLE,UG/KG,,UMOL/KG,,UMOL/KG,,NMOL/L,,VOLTS,,VOLTS,,VOLTS,,NMOL/KG,,UMOL/L,,,,,,NMOL/L,,NMOL/L,,,,,,10000,,10000,,,,PMOL/KG,,PMOL/L,,PMOL/L,,PMOL/L,,PMOL/L,,PMOL/L,,PMOL/L,,PMOL/L,,PMOL/L,,PMOL/L,,PMOL/L,,PMOL/L,,PMOL/L,,PMOL/L,
320620180309  ,S04P       ,63      ,  1,36         ,36         ,2,20180413,0947, -67.0001,-156.5202,     3957,      9.3,-1.3404250000000001997,33.892997565640975,2,  33.8898,2,349.17650018423774,2, 348.2999,2,    349.3,2,     56.2,2,    25.93,2,     0.20,2,     1.82,2,    6.488,2,    3.253,2,   4.2500,2,   2181.0,6,  2296.27,2,   7.6487,2,    24.91,     -999,9,     -999,9,  -1.3418,2,     -999,9,     -999,9,     -999,     -999,9,     -999,9,     -999,9,     -999,9,    0.159,1,    4.613,1,    0.182,1,  17.3300,2,     -999,9,20180413,1154, -67.0002,-156.5193,     -999,9,     -999,9,-999          ,9,     -999,9,     -999,9,     -999,     -999,9,     -999,     -999,9,     -999,9,     -999,9,     -999,9,     -999,9,     -999,9,     -999,9,     -999,9,     -999,9,     -999,9,     -999,9,     -999,9,     -999,9,     -999,9
320620180309  ,S04P       ,63      ,  1,35         ,35         ,2,20180413,0947, -67.0001,-156.5202,     3957,     19.2,-1.3408777777777780571,33.895779079564655,2,  33.8943,2,348.23171579976480,2, 348.3004,2,    348.5,2,     56.2,2,    26.00,2,     0.20,2,     1.84,2,     -999,9,     -999,9,     -999,9,   2182.5,2,  2295.87,2,   7.6515,2,    24.92,     -999,9,     -999,9,  -1.3426,2,     -999,9,     -999,9,     -999,     -999,9,     -999,9,     -999,9,     -999,9,    0.152,1,    4.618,1,    0.172,1,     -999,9,     -999,9,20180413,1153, -67.0002,-156.5192,     -999,9,     -999,9,-999          ,9,     -999,9,     -999,9,     -999,     -999,9,     -999,     -999,9,     -999,9,     -999,9,     -999,9,     -999,9,     -999,9,     -999,9,     -999,9,     -999,9,     -999,9,     -999,9,     -999,9,     -999,9,     -999,9
320620180309  ,S04P       ,63      ,  1,34         ,34         ,2,20180413,0947, -67.0001,-156.5202,     3957,     39.1,-1.3355444444444446450,33.906825664502428,2,  33.9055,2,346.77979873523356,2, 347.5974,2,    348.8,2,     56.4,2,    26.07,2,     0.20,2,     1.84,2,     -999,9,     -999,9,     -999,9,     -999,9,     -999,9,     -999,9,     -999,     -999,9,     -999,9,  -1.3364,2,     -999,9,     -999,9,     -999,     -999,9,     -999,9,     -999,9,     -999,9,    0.157,1,    4.619,1,    0.175,1,     -999,9,     -999,9,20180413,1151, -67.0002,-156.5193,     -999,9,     -999,9,-999          ,9,     -999,9,     -999,9,     -999,     -999,9,     -999,     -999,9,     -999,9,     -999,9,     -999,9,     -999,9,     -999,9,     -999,9,     -999,9,     -999,9,     -999,9,     -999,9,     -999,9,     -999,9,     -999,9
320620180309  ,S04P       ,63      ,  1,33         ,33         ,2,20180413,0947, -67.0001,-156.5202,     3957,     64.4,-1.3234333333333332394,33.917460524052743,2,  33.9201,2,346.74044570654314,2, 347.5994,2,    346.0,2,     56.8,2,    26.21,2,     0.20,2,     1.84,2,    6.235,2,    3.152,2,   3.3500,2,   2185.1,2,  2299.73,2,   7.6469,2,    24.92,     -999,9,     -999,9,  -1.3231,2,     -999,9,     -999,9,     -999,     -999,9,     -999,9,     -999,9,     -999,9,    0.149,1,    4.623,1,    0.181,1,  16.9700,2,     -999,9,20180413,1149, -67.0002,-156.5193,     -999,9,     -999,9,-999          ,9,     -999,9,     -999,9,     -999,     -999,9,     -999,     -999,9,     -999,9,     -999,9,     -999,9,     -999,9,     -999,9,     -999,9,     -999,9,     -999,9,     -999,9,     -999,9,     -999,9,     -999,9,     -999,9
320620180309  ,S04P       ,63      ,  1,32         ,32         ,2,20180413,0947, -67.0001,-156.5202,     3957,     90.1,-1.1431250000000001688,34.284092027292111,2,  34.2749,2,280.86711296202731,3, 276.9070,2,    277.6,2,     66.8,2,    29.49,2,     0.19,2,     2.05,2,     -999,9,     -999,9,     -999,9,   2219.2,2,  2320.68,2,   7.6031,2,    24.92,     -999,9,     -999,9,  -1.1421,2,     -999,9,     -999,9,     -999,     -999,9,     -999,9,     -999,9,     -999,9,    0.125,1,    4.633,1,    0.167,1,     -999,9,     -999,9,20180413,1147, -67.0002,-156.5194,     -999,9,     -999,9,-999          ,9,     -999,9,     -999,9,     -999,     -999,9,     -999,     -999,9,     -999,9,     -999,9,     -999,9,     -999,9,     -999,9,     -999,9,     -999,9,     -999,9,     -999,9,     -999,9,     -999,9,     -999,9,     -999,9
320620180309  ,S04P       ,63      ,  1,31         ,31         ,2,20180413,0947, -67.0001,-156.5202,     3957,    114.9,-0.0685694444444444468,34.429467928004350,2,  34.4095,2,238.27745815322726,2, 236.7002,2,    236.6,2,     74.0,2,    31.58,2,     0.03,2,     2.18,2,     -999,9,     -999,9,     -999,9,   2236.9,2,  2326.57,2,   7.5729,2,    24.92,     -999,9,     -999,9,  -0.1001,3,     -999,9,     -999,9,     -999,     -999,9,     -999,9,     -999,9,     -999,9,    0.089,1,    4.649,1,    0.150,1,     -999,9,     -999,9,20180413,1145, -67.0001,-156.5195,     -999,9,     -999,9,-999          ,9,     -999,9,     -999,9,     -999,     -999,9,     -999,     -999,9,     -999,9,     -999,9,     -999,9,     -999,9,     -999,9,     -999,9,     -999,9,     -999,9,     -999,9,     -999,9,     -999,9,     -999,9,     -999,9
320620180309  ,S04P       ,63      ,  1,30         ,30         ,2,20180413,0947, -67.0001,-156.5202,     3957,    140.2,0.7259500000000000952,34.569530765320984,2,  34.5768,3,206.84335898944272,3, 208.0979,3,    201.0,2,     85.1,2,    32.81,2,     0.02,2,     2.26,2,     -999,9,     -999,9,     -999,9,   2251.9,2,  2337.99,2,   7.5580,2,    24.93,     -999,9,     -999,9,   0.7363,2,     -999,9,     -999,9,     -999,     -999,9,     -999,9,     -999,9,     -999,9,    0.077,1,    4.654,1,    0.147,1,     -999,9,     -999,9,20180413,1143, -67.0002,-156.5195,     -999,9,     -999,9,-999          ,9,     -999,9,     -999,9,     -999,     -999,9,     -999,     -999,9,     -999,9,     -999,9,     -999,9,     -999,9,     -999,9,     -999,9,     -999,9,     -999,9,     -999,9,     -999,9,     -999,9,     -999,9,     -999,9
320620180309  ,S04P       ,63      ,  1,29         ,29         ,2,20180413,0947, -67.0001,-156.5202,     3957,    185.7,1.3535972222222221184,34.670152597275155,2,  34.6682,2,186.58745408647673,2, 190.0013,3,    184.9,2,     91.2,2,    33.02,2,     0.00,2,     2.27,2,    0.694,2,    0.366,2,   0.2100,2,   2257.6,6,  2345.21,2,   7.5588,2,    24.93,     -999,9,     -999,9,   1.3514,2,     -999,9,     -999,9,     -999,     -999,9,     -999,9,     -999,9,     -999,9,    0.067,1,    4.654,1,    0.143,1,  23.9400,2,     -999,9,20180413,1140, -67.0002,-156.5193,     -999,9,     -999,9,-999          ,9,     -999,9,     -999,9,     -999,     -999,9,     -999,     -999,9,     -999,9,     -999,9,     -999,9,     -999,9,     -999,9,     -999,9,     -999,9,     -999,9,     -999,9,     -999,9,     -999,9,     -999,9,     -999,9
320620180309  ,S04P       ,63      ,  1,28         ,28         ,2,20180413,0947, -67.0001,-156.5202,     3957,    236.9,1.5235500000000004039,34.710537156880243,2,  34.7086,2,183.07859062154822,2, 183.2027,2,    181.9,2,     94.7,2,    32.85,2,     0.00,2,     2.24,2,     -999,9,     -999,9,     -999,9,   2260.1,2,  2350.67,2,   7.5635,6,    24.94,     -999,9,     -999,9,   1.5215,2,     -999,9,     -999,9,     -999,     -999,9,     -999,9,     -999,9,     -999,9,    0.064,1,    4.661,1,    0.140,1,     -999,9,     -999,9,20180413,1138, -67.0002,-156.5191,     -999,9,     -999,9,-999          ,9,     -999,9,     -999,9,     -999,     -999,9,     -999,     -999,9,     -999,9,     -999,9,     -999,9,     -999,9,     -999,9,     -999,9,     -999,9,     -999,9,     -999,9,     -999,9,     -999,9,     -999,9,     -999,9
320620180309  ,S04P       ,63      ,  1,27         ,27         ,2,20180413,0947, -67.0001,-156.5202,     3957,    286.6,1.5294305555555556264,34.724645835774957,2,  34.7217,2,183.65011394990984,3, 183.1000,2,    181.8,2,     97.3,2,    32.70,2,     0.00,2,     2.24,2,     -999,9,     -999,9,     -999,9,   2260.9,2,  2350.80,2,   7.5706,2,    24.93,     -999,9,     -999,9,   1.5284,2,     -999,9,     -999,9,     -999,     -999,9,     -999,9,     -999,9,     -999,9,    0.064,1,    4.662,1,    0.137,1,     -999,9,     -999,9,20180413,1136, -67.0003,-156.5189,     -999,9,     -999,9,-999          ,9,     -999,9,     -999,9,     -999,     -999,9,     -999,     -999,9,     -999,9,     -999,9,     -999,9,     -999,9,     -999,9,     -999,9,     -999,9,     -999,9,     -999,9,     -999,9,     -999,9,     -999,9,     -999,9
320620180309  ,S04P       ,63      ,  1,26         ,26         ,2,20180413,0947, -67.0001,-156.5202,     3957,    337.2,1.4956027777777778365,34.728991560871243,2,  34.7264,2,184.59396180330464,2, 183.8044,2,    183.0,2,     99.1,2,    32.62,2,     0.00,2,     2.24,2,     -999,9,     -999,9,     -999,9,     -999,9,     -999,9,     -999,9,     -999,     -999,9,     -999,9,   1.4944,2,     -999,9,     -999,9,     -999,     -999,9,     -999,9,     -999,9,     -999,9,    0.062,1,    4.665,1,    0.135,1,     -999,9,     -999,9,20180413,1133, -67.0003,-156.5187,     -999,9,     -999,9,-999          ,9,     -999,9,     -999,9,     -999,     -999,9,     -999,     -999,9,     -999,9,     -999,9,     -999,9,     -999,9,     -999,9,     -999,9,     -999,9,     -999,9,     -999,9,     -999,9,     -999,9,     -999,9,     -999,9
320620180309  ,S04P       ,63      ,  1,25         ,25         ,2,20180413,0947, -67.0001,-156.5202,     3957,    387.8,1.4527944444444447214,34.731193999557973,2,  34.7286,2,186.06301027645154,2, 184.9055,2,    185.3,2,    100.8,2,    32.48,2,     0.00,2,     2.24,2,    0.211,2,    0.110,2,  -0.0200,2,   2259.0,2,  2355.79,2,   7.5741,2,    24.93,     -999,9,     -999,9,   1.4517,2,     -999,9,     -999,9,     -999,     -999,9,     -999,9,     -999,9,     -999,9,    0.062,1,    4.664,1,    0.133,1,  22.2100,2,     -999,9,20180413,1130, -67.0003,-156.5189,     -999,9,     -999,9,-999          ,9,     -999,9,     -999,9,     -999,     -999,9,     -999,     -999,9,     -999,9,     -999,9,     -999,9,     -999,9,     -999,9,     -999,9,     -999,9,     -999,9,     -999,9,     -999,9,     -999,9,     -999,9,     -999,9
320620180309  ,S04P       ,63      ,  1,24         ,24         ,2,20180413,0947, -67.0001,-156.5202,     3957,    439.8,1.4038861111111111679,34.731708369753406,2,  34.7288,2,186.66525255549135,3, 186.1018,2,    184.7,2,    102.4,2,    32.49,2,     0.00,2,     2.20,2,     -999,9,     -999,9,     -999,9,     -999,9,     -999,9,     -999,9,     -999,     -999,9,     -999,9,   1.4032,2,     -999,9,     -999,9,     -999,     -999,9,     -999,9,     -999,9,     -999,9,    0.061,1,    4.665,1,    0.132,1,     -999,9,     -999,9,20180413,1128, -67.0002,-156.5193,     -999,9,     -999,9,-999          ,9,     -999,9,     -999,9,     -999,     -999,9,     -999,     -999,9,     -999,9,     -999,9,     -999,9,     -999,9,     -999,9,     -999,9,     -999,9,     -999,9,     -999,9,     -999,9,     -999,9,     -999,9,     -999,9
320620180309  ,S04P       ,63      ,  1,23         ,23         ,2,20180413,0947, -67.0001,-156.5202,     3957,    488.2,1.3627861111111112535,34.731975356174168,2,  34.7290,2,187.01404175813153,2, 186.7979,2,    185.8,2,    103.9,2,    32.52,2,     0.00,2,     2.23,2,     -999,9,     -999,9,     -999,9,   2260.1,2,  2357.09,2,   7.5762,2,    24.94,     -999,9,     -999,9,   1.3619,2,     -999,9,     -999,9,     -999,     -999,9,     -999,9,     -999,9,     -999,9,    0.063,1,    4.664,1,    0.130,1,     -999,9,     -999,9,20180413,1126, -67.0001,-156.5196,     -999,9,     -999,9,-999          ,9,     -999,9,     -999,9,     -999,     -999,9,     -999,     -999,9,     -999,9,     -999,9,     -999,9,     -999,9,     -999,9,     -999,9,     -999,9,     -999,9,     -999,9,     -999,9,     -999,9,     -999,9,     -999,9
320620180309  ,S04P       ,63      ,  1,22         ,37         ,2,20180413,0947, -67.0001,-156.5202,     3957,    570.4,1.2938305555555555948,34.730881187791979,2,  34.7284,2,188.24449768182674,2, 187.7994,2,    187.9,2,    106.3,2,    32.59,2,     0.00,2,     2.24,2,     -999,9,     -999,9,     -999,9,     -999,9,     -999,9,     -999,9,     -999,     -999,9,     -999,9,   1.2928,2,     -999,9,     -999,9,     -999,     -999,9,     -999,9,     -999,9,     -999,9,    0.062,1,    4.665,1,    0.133,1,     -999,9,     -999,9,20180413,1122, -67.0000,-156.5201,     -999,9,     -999,9,-999          ,9,     -999,9,     -999,9,     -999,     -999,9,     -999,     -999,9,     -999,9,     -999,9,     -999,9,     -999,9,     -999,9,     -999,9,     -999,9,     -999,9,     -999,9,     -999,9,     -999,9,     -999,9,     -999,9
320620180309  ,S04P       ,63      ,  1,21         ,21         ,2,20180413,0947, -67.0001,-156.5202,     3957,    672.2,1.2142833333333331591,34.728976048022183,2,  34.7261,2,190.00144519462205,2, 189.4966,2,    190.1,2,    109.1,2,    32.53,2,     0.00,2,     2.22,2,    0.133,2,    0.068,2,  -0.0600,3,   2262.6,2,  2358.91,2,   7.5813,2,    24.93,     -999,9,     -999,9,   1.2130,2,     -999,9,     -999,9,     -999,     -999,9,     -999,9,     -999,9,     -999,9,    0.061,1,    4.664,1,    0.131,1,  21.5900,2,     -999,9,20180413,1119, -66.9999,-156.5205,     -999,9,     -999,9,-999          ,9,     -999,9,     -999,9,     -999,     -999,9,     -999,     -999,9,     -999,9,     -999,9,     -999,9,     -999,9,     -999,9,     -999,9,     -999,9,     -999,9,     -999,9,     -999,9,     -999,9,     -999,9,     -999,9
320620180309  ,S04P       ,63      ,  1,20         ,20         ,2,20180413,0947, -67.0001,-156.5202,     3957,    772.2,1.1366222222222224225,34.725373973805489,2,  34.7245,2,192.57492038589012,2, 191.1978,2,    192.1,2,    111.5,2,    32.47,2,     0.00,2,     2.22,2,     -999,9,     -999,9,     -999,9,     -999,9,     -999,9,     -999,9,     -999,     -999,9,     -999,9,   1.1364,2,     -999,9,     -999,9,     -999,     -999,9,     -999,9,     -999,9,     -999,9,    0.061,1,    4.665,1,    0.130,1,     -999,9,     -999,9,20180413,1116, -66.9998,-156.5209,     -999,9,     -999,9,-999          ,9,     -999,9,     -999,9,     -999,     -999,9,     -999,     -999,9,     -999,9,     -999,9,     -999,9,     -999,9,     -999,9,     -999,9,     -999,9,     -999,9,     -999,9,     -999,9,     -999,9,     -999,9,     -999,9
320620180309  ,S04P       ,63      ,  1,19         ,19         ,2,20180413,0947, -67.0001,-156.5202,     3957,    873.1,1.0750444444444446912,34.724146782664164,2,  34.7225,2,194.43910882923137,2, 193.5980,2,    194.4,2,    113.5,2,    32.43,2,     0.00,2,     2.23,2,     -999,9,     -999,9,     -999,9,   2263.3,2,  2361.77,2,   7.5869,2,    24.94,     -999,9,     -999,9,   1.0736,2,     -999,9,     -999,9,     -999,     -999,9,     -999,9,     -999,9,     -999,9,    0.062,1,    4.665,1,    0.131,1,     -999,9,     -999,9,20180413,1112, -66.9997,-156.5212,     -999,9,     -999,9,-999          ,9,     -999,9,     -999,9,     -999,     -999,9,     -999,     -999,9,     -999,9,     -999,9,     -999,9,     -999,9,     -999,9,     -999,9,     -999,9,     -999,9,     -999,9,     -999,9,     -999,9,     -999,9,     -999,9
320620180309  ,S04P       ,63      ,  1,18         ,18         ,2,20180413,0947, -67.0001,-156.5202,     3957,    975.6,1.0107027777777777278,34.721687913234412,2,  34.7200,2,196.74480751449397,2, 195.9978,2,    196.8,2,    115.6,2,    32.41,2,     0.00,2,     2.19,2,     -999,9,     -999,9,     -999,9,     -999,9,     -999,9,     -999,9,     -999,     -999,9,     -999,9,   1.0107,2,     -999,9,     -999,9,     -999,     -999,9,     -999,9,     -999,9,     -999,9,    0.061,1,    4.665,1,    0.130,1,     -999,9,     -999,9,20180413,1109, -66.9998,-156.5209,     -999,9,     -999,9,-999          ,9,     -999,9,     -999,9,     -999,     -999,9,     -999,     -999,9,     -999,9,     -999,9,     -999,9,     -999,9,     -999,9,     -999,9,     -999,9,     -999,9,     -999,9,     -999,9,     -999,9,     -999,9,     -999,9
320620180309  ,S04P       ,63      ,  1,17         ,17         ,2,20180413,0947, -67.0001,-156.5202,     3957,   1077.6,0.9588555555555555721,34.719482822212363,2,  34.7178,2,198.53591120646757,2, 197.8019,2,    198.1,2,    117.1,2,    32.41,2,     0.00,2,     2.19,2,    0.106,2,    0.054,2,  -0.0900,3,   2262.0,2,  2361.95,2,   7.5897,2,    24.93,     -999,9,     -999,9,   0.9578,2,     -999,9,     -999,9,     -999,     -999,9,     -999,9,     -999,9,     -999,9,    0.061,1,    4.666,1,    0.128,1,  20.4400,2,     -999,9,20180413,1105, -66.9998,-156.5208,     -999,9,     -999,9,-999          ,9,     -999,9,     -999,9,     -999,     -999,9,     -999,     -999,9,     -999,9,     -999,9,     -999,9,     -999,9,     -999,9,     -999,9,     -999,9,     -999,9,     -999,9,     -999,9,     -999,9,     -999,9,     -999,9
320620180309  ,S04P       ,63      ,  1,16         ,16         ,2,20180413,0947, -67.0001,-156.5202,     3957,   1179.3,0.8973444444444445001,34.716852535038726,2,  34.7162,2,199.78855259796171,2, 199.6003,2,    199.6,2,    119.1,2,    32.39,2,     0.00,2,     2.19,2,     -999,9,     -999,9,     -999,9,     -999,9,     -999,9,     -999,9,     -999,     -999,9,     -999,9,   0.8964,2,     -999,9,     -999,9,     -999,     -999,9,     -999,9,     -999,9,     -999,9,    0.061,1,    4.666,1,    0.134,1,     -999,9,     -999,9,20180413,1101, -66.9997,-156.5210,     -999,9,     -999,9,-999          ,9,     -999,9,     -999,9,     -999,     -999,9,     -999,     -999,9,     -999,9,     -999,9,     -999,9,     -999,9,     -999,9,     -999,9,     -999,9,     -999,9,     -999,9,     -999,9,     -999,9,     -999,9,     -999,9