BOTTLE,20240515CCHHYDRO
EXPOCODE,SECT_ID,STNNBR,CASTNO,SAMPNO,BTLNBR,BTLNBR_FLAG_W,DATE,TIME,LATITUDE,LONGITUDE,DEPTH,CTDPRS,CTDTMP,CTDSAL,CTDSAL_FLAG_W,SALNTY,SALNTY_FLAG_W,CTDOXY,CTDOXY_FLAG_W,CTDOPTOXY,CTDOPTOXY_FLAG_W,OXYGEN,OXYGEN_FLAG_W,SILCAT,SILCAT_FLAG_W,NITRAT,NITRAT_FLAG_W,NITRIT,NITRIT_FLAG_W,PHSPHT,PHSPHT_FLAG_W,CFC-11,CFC-11_FLAG_W,CFC-12,CFC-12_FLAG_W,SF6,SF6_FLAG_W,TCARBN,TCARBN_FLAG_W,ALKALI,ALKALI_FLAG_W,PH_TOT,PH_TOT_FLAG_W,PH_TMP,DOC,DOC_FLAG_W,HELIUM,HELIUM_FLAG_W,REFTMP,REFTMP_FLAG_W,DELC13,DELC13_FLAG_W,DELC14,DELC14_FLAG_W,C14ERR,POC,POC_FLAG_W,TDN,TDN_FLAG_W,TON,TON_FLAG_W,NEON,NEON_FLAG_W,CTDFLUOR,CTDFLUOR_FLAG_W,CTDXMISS,CTDXMISS_FLAG_W,CTDBETA700,CTDBETA700_FLAG_W,N2O,N2O_FLAG_W,ARGON,ARGON_FLAG_W,BTL_DATE,BTL_TIME,BTL_LAT,BTL_LON,KRYPTON,KRYPTON_FLAG_W,XENON,XENON_FLAG_W,HPLC,HPLC_FLAG_W,HE3_HE4_RATIO,HE3_HE4_RATIO_FLAG_W,Nd_143_144_D_EPSILON_BOTTLE,Nd_143_144_D_EPSILON_BOTTLE_FLAG_W,Nd_143_144_D_EPSILON_BOTTLE_ERROR,Nd_143_144_D_RATIO_BOTTLE,Nd_143_144_D_RATIO_BOTTLE_FLAG_W,Nd_143_144_D_RATIO_BOTTLE_ERROR,Nd_D_CONC,Nd_D_CONC_FLAG_W,La_D_CONC_BOTTLE,La_D_CONC_BOTTLE_FLAG_W,Ce_D_CONC_BOTTLE,Ce_D_CONC_BOTTLE_FLAG_W,Pr_D_CONC_BOTTLE,Pr_D_CONC_BOTTLE_FLAG_W,Sm_D_CONC_BOTTLE,Sm_D_CONC_BOTTLE_FLAG_W,Eu_D_CONC_BOTTLE,Eu_D_CONC_BOTTLE_FLAG_W,Gd_D_CONC_BOTTLE,Gd_D_CONC_BOTTLE_FLAG_W,Tb_D_CONC_BOTTLE,Tb_D_CONC_BOTTLE_FLAG_W,Dy_D_CONC_BOTTLE,Dy_D_CONC_BOTTLE_FLAG_W,Ho_D_CONC_BOTTLE,Ho_D_CONC_BOTTLE_FLAG_W,Er_D_CONC_BOTTLE,Er_D_CONC_BOTTLE_FLAG_W,Tm_D_CONC_BOTTLE,Tm_D_CONC_BOTTLE_FLAG_W,Yb_D_CONC_BOTTLE,Yb_D_CONC_BOTTLE_FLAG_W,Lu_D_CONC_BOTTLE,Lu_D_CONC_BOTTLE_FLAG_W
,,,,,,,,,,,METERS,DBAR,ITS-90,PSS-78,,PSS-78,,UMOL/KG,,UMOL/KG,,UMOL/KG,,UMOL/KG,,UMOL/KG,,UMOL/KG,,UMOL/KG,,PMOL/KG,,PMOL/KG,,FMOL/KG,,UMOL/KG,,UMOL/KG,,,,DEG C,UMOL/KG,,NMOL/L,,DEG C,,/MILLE,,/MILLE,,/MILLE,UG/KG,,UMOL/KG,,UMOL/KG,,NMOL/L,,VOLTS,,VOLTS,,VOLTS,,NMOL/KG,,UMOL/L,,,,,,NMOL/L,,NMOL/L,,,,,,10000,,10000,,,,PMOL/KG,,PMOL/L,,PMOL/L,,PMOL/L,,PMOL/L,,PMOL/L,,PMOL/L,,PMOL/L,,PMOL/L,,PMOL/L,,PMOL/L,,PMOL/L,,PMOL/L,,PMOL/L,
320620180309  ,S04P       ,78      ,  1,36         ,36         ,2,20180420,1924, -66.9999,-135.5960,     4520,      6.6,-1.3804138888888886072,33.674598527108024,2,  33.6719,2,354.19158084101463,2, 352.9967,2,    353.7,2,     27.0,2,    24.31,2,     0.32,2,     1.69,2,    6.125,2,    3.293,2,   3.9500,2,   2161.4,6,  2279.94,2,   7.6677,2,    24.90,     42.4,2,     -999,9,  -1.3815,2,     -999,9,     -999,9,     -999,     -999,9,    27.00,2,     -999,1,     -999,9,    0.266,1,    4.563,1,    0.231,1,  16.8900,2,     -999,9,20180420,2133, -66.9997,-135.5956,     -999,9,     -999,9,-999          ,9,     -999,9,     -999,9,     -999,     -999,9,     -999,     -999,9,     -999,9,     -999,9,     -999,9,     -999,9,     -999,9,     -999,9,     -999,9,     -999,9,     -999,9,     -999,9,     -999,9,     -999,9,     -999,9
320620180309  ,S04P       ,78      ,  1,35         ,35         ,2,20180420,1924, -66.9999,-135.5960,     4520,     19.8,-1.4053583333333332650,33.674861871873105,2,  33.6718,2,354.85433894196382,2, 352.9960,2,    353.6,2,     26.9,2,    24.24,2,     0.32,2,     1.65,2,     -999,9,     -999,9,     -999,9,   2162.2,2,  2279.88,2,   7.6668,2,    24.90,     42.8,2,     -999,9,  -1.4059,2,     -999,9,     -999,9,     -999,     -999,9,    27.00,2,     -999,1,     -999,9,    0.258,1,    4.559,1,    0.239,1,     -999,9,     -999,9,20180420,2131, -66.9998,-135.5957,     -999,9,     -999,9,-999          ,9,     -999,9,     -999,9,     -999,     -999,9,     -999,     -999,9,     -999,9,     -999,9,     -999,9,     -999,9,     -999,9,     -999,9,     -999,9,     -999,9,     -999,9,     -999,9,     -999,9,     -999,9,     -999,9
320620180309  ,S04P       ,78      ,  1,34         ,34         ,2,20180420,1924, -66.9999,-135.5960,     4520,     39.6,-1.3940333333333334576,33.676475889432943,2,  33.6743,2,355.82028241899570,2, 352.9956,2,    353.6,2,     26.8,2,    24.23,2,     0.32,2,     1.67,2,    6.131,2,    3.297,2,   4.1800,2,   2160.9,2,  2280.24,2,   7.6660,2,    24.89,     45.0,2,     -999,9,  -1.3973,2,     -999,9,     -999,9,     -999,     -999,9,    27.60,2,     -999,1,     -999,9,    0.265,1,    4.563,1,    0.244,1,  16.9500,2,     -999,9,20180420,2130, -66.9998,-135.5957,     -999,9,     -999,9,-999          ,9,     -999,9,     -999,9,     -999,     -999,9,     -999,     -999,9,     -999,9,     -999,9,     -999,9,     -999,9,     -999,9,     -999,9,     -999,9,     -999,9,     -999,9,     -999,9,     -999,9,     -999,9,     -999,9
320620180309  ,S04P       ,78      ,  1,33         ,33         ,2,20180420,1924, -66.9999,-135.5960,     4520,     64.6,-1.3822083333333332611,33.679544776904280,2,  33.6768,2,357.03973027986711,3, 352.9973,2,    353.0,2,     26.7,2,    24.24,2,     0.32,2,     1.69,2,     -999,9,     -999,9,     -999,9,   2161.9,2,  2280.21,2,   7.6645,2,    24.90,     44.4,2,     -999,9,  -1.3823,2,     -999,9,     -999,9,     -999,     -999,9,    27.30,2,     -999,1,     -999,9,    0.259,1,    4.563,1,    0.238,1,     -999,9,     -999,9,20180420,2128, -66.9998,-135.5957,     -999,9,     -999,9,-999          ,9,     -999,9,     -999,9,     -999,     -999,9,     -999,     -999,9,     -999,9,     -999,9,     -999,9,     -999,9,     -999,9,     -999,9,     -999,9,     -999,9,     -999,9,     -999,9,     -999,9,     -999,9,     -999,9
320620180309  ,S04P       ,78      ,  1,32         ,32         ,2,20180420,1924, -66.9999,-135.5960,     4520,     90.8,-1.3736083333333333201,33.681254010880266,2,  33.6798,2,352.08192063366482,2, 353.1002,2,    352.6,2,     26.7,2,    24.24,2,     0.32,2,     1.67,2,    6.118,2,    3.302,2,   3.9500,2,   2161.9,2,  2280.79,2,   7.6663,2,    24.90,     41.2,2,     -999,9,  -1.3743,2,     -999,9,     -999,9,     -999,     -999,9,    27.00,2,     -999,1,     -999,9,    0.247,1,    4.563,1,    0.240,1,  17.2000,2,     -999,9,20180420,2126, -66.9998,-135.5957,     -999,9,     -999,9,-999          ,9,     -999,9,     -999,9,     -999,     -999,9,     -999,     -999,9,     -999,9,     -999,9,     -999,9,     -999,9,     -999,9,     -999,9,     -999,9,     -999,9,     -999,9,     -999,9,     -999,9,     -999,9,     -999,9
320620180309  ,S04P       ,78      ,  1,31         ,31         ,2,20180420,1924, -66.9999,-135.5960,     4520,    136.9,-0.7288027777777777994,34.077351709520201,2,  34.0913,2,321.15743063106760,3, 314.4029,2,    314.3,2,     50.5,2,    29.57,2,     0.17,2,     2.03,2,    5.159,2,    2.807,2,   3.2800,2,   2202.8,2,  2306.65,2,   7.6135,2,    24.90,     42.3,2,     -999,9,  -0.7753,2,     -999,9,     -999,9,     -999,     -999,9,    31.50,2,     -999,1,     -999,9,    0.069,1,    4.640,1,    0.162,1,  18.6600,2,     -999,9,20180420,2124, -66.9998,-135.5957,     -999,9,     -999,9,-999          ,9,     -999,9,     -999,9,     -999,     -999,9,     -999,     -999,9,     -999,9,     -999,9,     -999,9,     -999,9,     -999,9,     -999,9,     -999,9,     -999,9,     -999,9,     -999,9,     -999,9,     -999,9,     -999,9
320620180309  ,S04P       ,78      ,  1,30         ,30         ,2,20180420,1924, -66.9999,-135.5960,     4520,    187.2,0.9920583333333333753,34.423359557215562,2,  34.4319,2,227.44025532806552,3, 221.4008,2,    221.6,2,     70.3,2,    33.75,2,     0.03,2,     2.30,2,     -999,9,     -999,9,     -999,9,   2241.6,2,  2324.79,2,   7.5533,2,    24.89,     40.5,2,     -999,9,   1.0172,2,     -999,9,     -999,9,     -999,     -999,9,    35.40,2,     -999,1,     -999,9,    0.068,1,    4.644,1,    0.153,1,     -999,9,     -999,9,20180420,2122, -66.9998,-135.5958,     -999,9,     -999,9,-999          ,9,     -999,9,     -999,9,     -999,     -999,9,     -999,     -999,9,     -999,9,     -999,9,     -999,9,     -999,9,     -999,9,     -999,9,     -999,9,     -999,9,     -999,9,     -999,9,     -999,9,     -999,9,     -999,9
320620180309  ,S04P       ,78      ,  1,29         ,29         ,2,20180420,1924, -66.9999,-135.5960,     4520,    236.7,1.6422000000000003261,34.580712168061346,2,  34.5819,2,190.38235584187890,3, 188.4987,2,    188.4,2,     78.3,2,    33.94,2,     0.02,2,     2.32,2,    1.201,2,    0.638,2,   0.5400,2,   2254.3,2,  2336.47,2,   7.5498,2,    24.90,     -999,5,     -999,9,   1.6412,2,     -999,9,     -999,9,     -999,     -999,9,     -999,5,     -999,1,     -999,9,    0.066,1,    4.643,1,    0.151,1,  23.3100,2,     -999,9,20180420,2120, -66.9999,-135.5958,     -999,9,     -999,9,-999          ,9,     -999,9,     -999,9,     -999,     -999,9,     -999,     -999,9,     -999,9,     -999,9,     -999,9,     -999,9,     -999,9,     -999,9,     -999,9,     -999,9,     -999,9,     -999,9,     -999,9,     -999,9,     -999,9
320620180309  ,S04P       ,78      ,  1,28         ,28         ,2,20180420,1924, -66.9999,-135.5960,     4520,    287.9,1.7809194444444444994,34.628179732742176,2,  34.6293,2,184.96837387186673,2, 184.5969,2,    183.4,2,     81.1,2,    33.41,2,     0.02,2,     2.27,2,     -999,9,     -999,9,     -999,9,   2255.1,2,  2339.07,2,   7.5575,2,    24.89,     40.4,2,     -999,9,   1.7802,2,     -999,9,     -999,9,     -999,     -999,9,     -999,9,     -999,1,     -999,9,    0.069,1,    4.647,1,    0.156,1,     -999,9,     -999,9,20180420,2118, -66.9999,-135.5959,     -999,9,     -999,9,-999          ,9,     -999,9,     -999,9,     -999,     -999,9,     -999,     -999,9,     -999,9,     -999,9,     -999,9,     -999,9,     -999,9,     -999,9,     -999,9,     -999,9,     -999,9,     -999,9,     -999,9,     -999,9,     -999,9
320620180309  ,S04P       ,78      ,  1,27         ,27         ,2,20180420,1924, -66.9999,-135.5960,     4520,    337.5,1.8498361111111110144,34.658660735812049,2,  34.6582,2,183.02473263945097,2, 183.3039,2,    181.8,2,     82.5,2,    33.01,2,     0.01,2,     2.22,2,    0.655,6,    0.347,6,   0.3800,6,   2254.4,2,  2345.23,2,   7.5635,6,    24.89,     43.1,3,     -999,9,   1.8489,2,     -999,9,     -999,9,     -999,     -999,9,     -999,9,     -999,1,     -999,9,    0.070,1,    4.646,1,    0.153,1,  22.3000,6,     -999,9,20180420,2115, -66.9999,-135.5960,     -999,9,     -999,9,-999          ,9,     -999,9,     -999,9,     -999,     -999,9,     -999,     -999,9,     -999,9,     -999,9,     -999,9,     -999,9,     -999,9,     -999,9,     -999,9,     -999,9,     -999,9,     -999,9,     -999,9,     -999,9,     -999,9
320620180309  ,S04P       ,78      ,  1,26         ,26         ,2,20180420,1924, -66.9999,-135.5960,     4520,    389.3,1.8680805555555552999,34.675189080041079,2,  34.6715,2,182.37889869137794,2, 182.7968,2,    181.7,2,     83.8,2,    32.76,2,     0.00,2,     2.23,2,     -999,9,     -999,9,     -999,9,   2254.5,2,  2345.42,2,   7.5659,2,    24.89,     41.0,2,     -999,9,   1.8681,2,     -999,9,     -999,9,     -999,     -999,9,     -999,9,     -999,1,     -999,9,    0.068,1,    4.647,1,    0.153,1,     -999,9,     -999,9,20180420,2113, -67.0000,-135.5961,     -999,9,     -999,9,-999          ,9,     -999,9,     -999,9,     -999,     -999,9,     -999,     -999,9,     -999,9,     -999,9,     -999,9,     -999,9,     -999,9,     -999,9,     -999,9,     -999,9,     -999,9,     -999,9,     -999,9,     -999,9,     -999,9
320620180309  ,S04P       ,78      ,  1,25         ,25         ,2,20180420,1924, -66.9999,-135.5960,     4520,    440.1,1.8884611111111111459,34.691006876926970,2,  34.6898,2,182.90234017769498,2, 182.4986,2,    182.0,2,     85.2,2,    32.49,2,     0.00,2,     2.20,2,    0.452,2,    0.240,2,   0.2200,2,   2255.9,6,  2344.30,2,   7.5718,2,    24.89,     -999,9,     -999,9,   1.8876,2,     -999,9,     -999,9,     -999,     -999,9,     -999,9,     -999,9,     -999,9,    0.069,1,    4.647,1,    0.156,1,  21.9800,2,     -999,9,20180420,2111, -67.0001,-135.5962,     -999,9,     -999,9,-999          ,9,     -999,9,     -999,9,     -999,     -999,9,     -999,     -999,9,     -999,9,     -999,9,     -999,9,     -999,9,     -999,9,     -999,9,     -999,9,     -999,9,     -999,9,     -999,9,     -999,9,     -999,9,     -999,9
320620180309  ,S04P       ,78      ,  1,24         ,24         ,2,20180420,1924, -66.9999,-135.5960,     4520,    490.6,1.8223305555555553426,34.698681250372196,2,  34.6978,2,184.44290563069103,2, 183.7982,2,    184.1,2,     86.5,2,    32.30,2,     0.00,2,     2.18,2,    0.440,2,    0.235,2,   0.1600,2,   2256.7,2,  2346.87,2,   7.5750,2,    24.89,     38.8,2,     -999,9,   1.8209,2,     -999,9,     -999,9,     -999,     -999,9,     -999,9,     -999,1,     -999,9,    0.070,1,    4.647,1,    0.156,1,  21.5700,2,     -999,9,20180420,2109, -67.0002,-135.5964,     -999,9,     -999,9,-999          ,9,     -999,9,     -999,9,     -999,     -999,9,     -999,     -999,9,     -999,9,     -999,9,     -999,9,     -999,9,     -999,9,     -999,9,     -999,9,     -999,9,     -999,9,     -999,9,     -999,9,     -999,9,     -999,9
320620180309  ,S04P       ,78      ,  1,23         ,23         ,2,20180420,1924, -66.9999,-135.5960,     4520,    571.1,1.8207333333333330927,34.717739733694465,2,  34.7170,2,185.79555278145423,2, 184.7984,2,    185.7,2,     88.6,2,    31.89,2,     0.00,2,     2.14,2,    0.307,2,    0.163,2,   0.2200,2,   2255.5,2,  2350.70,2,   7.5815,2,    24.89,     39.3,2,     -999,9,   1.8208,2,     -999,9,     -999,9,     -999,     -999,9,     -999,9,     -999,1,     -999,9,    0.065,1,    4.651,1,    0.143,1,  21.3700,2,     -999,9,20180420,2106, -67.0003,-135.5966,     -999,9,     -999,9,-999          ,9,     -999,9,     -999,9,     -999,     -999,9,     -999,     -999,9,     -999,9,     -999,9,     -999,9,     -999,9,     -999,9,     -999,9,     -999,9,     -999,9,     -999,9,     -999,9,     -999,9,     -999,9,     -999,9
320620180309  ,S04P       ,78      ,  1,22         ,37         ,2,20180420,1924, -66.9999,-135.5960,     4520,    671.9,1.7388277777777778610,34.725206922101620,2,  34.7249,2,188.04964962951090,2, 186.4956,2,    187.6,2,     91.2,2,    31.71,2,     0.00,2,     2.15,2,    0.263,2,    0.137,2,   0.0800,2,   2256.5,2,  2353.37,2,   7.5891,2,    24.89,     39.3,2,     -999,9,   1.7379,2,     -999,9,     -999,9,     -999,     -999,9,     -999,9,     -999,1,     -999,9,    0.064,1,    4.654,1,    0.148,1,  20.6000,2,     -999,9,20180420,2103, -67.0003,-135.5966,     -999,9,     -999,9,-999          ,9,     -999,9,     -999,9,     -999,     -999,9,     -999,     -999,9,     -999,9,     -999,9,     -999,9,     -999,9,     -999,9,     -999,9,     -999,9,     -999,9,     -999,9,     -999,9,     -999,9,     -999,9,     -999,9
320620180309  ,S04P       ,78      ,  1,21         ,21         ,2,20180420,1924, -66.9999,-135.5960,     4520,    773.9,1.6552916666666670498,34.729762325253354,2,  34.7294,2,189.96569400904241,2, 188.2947,2,    189.5,2,     94.0,2,    31.65,2,     0.00,2,     2.14,2,    0.241,2,    0.127,2,   0.1500,2,   2255.2,2,  2354.00,2,   7.5922,2,    24.89,     39.5,2,     -999,9,   1.6544,2,     -999,9,     -999,9,     -999,     -999,9,     -999,9,     -999,1,     -999,9,    0.062,1,    4.654,1,    0.134,1,  20.7500,2,     -999,9,20180420,2059, -67.0003,-135.5967,     -999,9,     -999,9,-999          ,9,     -999,9,     -999,9,     -999,     -999,9,     -999,     -999,9,     -999,9,     -999,9,     -999,9,     -999,9,     -999,9,     -999,9,     -999,9,     -999,9,     -999,9,     -999,9,     -999,9,     -999,9,     -999,9
320620180309  ,S04P       ,78      ,  1,20         ,20         ,2,20180420,1924, -66.9999,-135.5960,     4520,    875.9,1.5636944444444447200,34.731833190413553,2,  34.7319,2,191.28998391464322,2, 189.9019,2,    191.1,2,     96.9,2,    31.66,2,     0.00,2,     2.17,2,     -999,9,     -999,9,     -999,9,   2257.3,2,  2354.65,2,   7.5895,2,    24.89,     39.3,2,     -999,9,   1.5611,2,     -999,9,     -999,9,     -999,     -999,9,     -999,9,     -999,1,     -999,9,    0.062,1,    4.657,1,    0.133,1,     -999,9,     -999,9,20180420,2056, -67.0004,-135.5969,     -999,9,     -999,9,-999          ,9,     -999,9,     -999,9,     -999,     -999,9,     -999,     -999,9,     -999,9,     -999,9,     -999,9,     -999,9,     -999,9,     -999,9,     -999,9,     -999,9,     -999,9,     -999,9,     -999,9,     -999,9,     -999,9
320620180309  ,S04P       ,78      ,  1,19         ,19         ,2,20180420,1924, -66.9999,-135.5960,     4520,    977.2,1.4767916666666667247,34.732037423787801,2,  34.7317,2,191.92433217019970,2, 191.1975,2,    191.5,2,    100.0,2,    31.73,2,     0.00,2,     2.17,2,    0.199,2,    0.105,2,   0.0700,2,   2257.9,2,  2358.12,2,   7.5935,2,    24.91,     40.3,2,     -999,9,   1.4760,2,     -999,9,     -999,9,     -999,     -999,9,     -999,9,     -999,1,     -999,9,    0.080,1,    4.659,1,    0.160,1,  20.3400,2,     -999,9,20180420,2053, -67.0005,-135.5970,     -999,9,     -999,9,-999          ,9,     -999,9,     -999,9,     -999,     -999,9,     -999,     -999,9,     -999,9,     -999,9,     -999,9,     -999,9,     -999,9,     -999,9,     -999,9,     -999,9,     -999,9,     -999,9,     -999,9,     -999,9,     -999,9
320620180309  ,S04P       ,78      ,  1,18         ,18         ,2,20180420,1924, -66.9999,-135.5960,     4520,   1078.2,1.3974944444444443725,34.730851746753494,2,  34.7304,2,192.32732718789148,2, 192.0988,2,    192.2,2,    102.6,2,    31.88,2,     0.00,2,     2.17,2,     -999,9,     -999,9,     -999,9,   2259.5,2,  2356.09,2,   7.5896,2,    24.89,     39.4,2,     -999,9,   1.3968,2,     -999,9,     -999,9,     -999,     -999,9,     -999,9,     -999,1,     -999,9,    0.062,1,    4.658,1,    0.133,1,     -999,9,     -999,9,20180420,2050, -67.0005,-135.5971,     -999,9,     -999,9,-999          ,9,     -999,9,     -999,9,     -999,     -999,9,     -999,     -999,9,     -999,9,     -999,9,     -999,9,     -999,9,     -999,9,     -999,9,     -999,9,     -999,9,     -999,9,     -999,9,     -999,9,     -999,9,     -999,9
320620180309  ,S04P       ,78      ,  1,17         ,17         ,2,20180420,1924, -66.9999,-135.5960,     4520,   1179.7,1.3235777777777777420,34.729177674027149,2,  34.7292,2,193.25414289608960,2, 193.1012,2,    193.2,2,    105.1,2,    31.93,2,     0.00,2,     2.16,2,    0.171,2,    0.085,2,   0.1200,2,   2261.2,2,  2359.50,2,   7.5926,2,    24.89,     39.3,2,     -999,9,   1.3242,2,     -999,9,     -999,9,     -999,     -999,9,     -999,9,     -999,1,     -999,9,    0.061,1,    4.659,1,    0.132,1,  20.2000,2,     -999,9,20180420,2047, -67.0005,-135.5967,     -999,9,     -999,9,-999          ,9,     -999,9,     -999,9,     -999,     -999,9,     -999,     -999,9,     -999,9,     -999,9,     -999,9,     -999,9,     -999,9,     -999,9,     -999,9,     -999,9,     -999,9,     -999,9,     -999,9,     -999,9,     -999,9
320620180309  ,S04P       ,78      ,  1,16         ,16         ,2,20180420,1924, -66.9999,-135.5960,     4520,   1281.2,1.2470249999999998280,34.727050453295234,2,  34.7264,2,194.53109781995596,2, 194.2002,2,    194.5,2,    107.3,2,    32.00,2,     0.00,2,     2.17,2,    0.160,2,    0.075,2,   0.0500,2,   2260.9,2,  2359.79,2,   7.5924,2,    24.89,     -999,9,     -999,9,   1.2467,2,     -999,9,     -999,9,     -999,     -999,9,     -999,9,     -999,9,     -999,9,    0.063,1,    4.659,1,    0.132,1,  19.8900,2,     -999,9,20180420,2044, -67.0003,-135.5964,     -999,9,     -999,9,-999          ,9,     -999,9,     -999,9,     -999,     -999,9,     -999,     -999,9,     -999,9,     -999,9,     -999,9,     -999,9,     -999,9,     -999,9,     -999,9,     -999,9,     -999,9,     -999,9,     -999,9,     -999,9,     -999,9