BOTTLE,20240515CCHHYDRO
EXPOCODE,SECT_ID,STNNBR,CASTNO,SAMPNO,BTLNBR,BTLNBR_FLAG_W,DATE,TIME,LATITUDE,LONGITUDE,DEPTH,CTDPRS,CTDTMP,CTDSAL,CTDSAL_FLAG_W,SALNTY,SALNTY_FLAG_W,CTDOXY,CTDOXY_FLAG_W,CTDOPTOXY,CTDOPTOXY_FLAG_W,OXYGEN,OXYGEN_FLAG_W,SILCAT,SILCAT_FLAG_W,NITRAT,NITRAT_FLAG_W,NITRIT,NITRIT_FLAG_W,PHSPHT,PHSPHT_FLAG_W,CFC-11,CFC-11_FLAG_W,CFC-12,CFC-12_FLAG_W,SF6,SF6_FLAG_W,TCARBN,TCARBN_FLAG_W,ALKALI,ALKALI_FLAG_W,PH_TOT,PH_TOT_FLAG_W,PH_TMP,DOC,DOC_FLAG_W,HELIUM,HELIUM_FLAG_W,REFTMP,REFTMP_FLAG_W,DELC13,DELC13_FLAG_W,DELC14,DELC14_FLAG_W,C14ERR,POC,POC_FLAG_W,TDN,TDN_FLAG_W,TON,TON_FLAG_W,NEON,NEON_FLAG_W,CTDFLUOR,CTDFLUOR_FLAG_W,CTDXMISS,CTDXMISS_FLAG_W,CTDBETA700,CTDBETA700_FLAG_W,N2O,N2O_FLAG_W,ARGON,ARGON_FLAG_W,BTL_DATE,BTL_TIME,BTL_LAT,BTL_LON,KRYPTON,KRYPTON_FLAG_W,XENON,XENON_FLAG_W,HPLC,HPLC_FLAG_W,HE3_HE4_RATIO,HE3_HE4_RATIO_FLAG_W,Nd_143_144_D_EPSILON_BOTTLE,Nd_143_144_D_EPSILON_BOTTLE_FLAG_W,Nd_143_144_D_EPSILON_BOTTLE_ERROR,Nd_143_144_D_RATIO_BOTTLE,Nd_143_144_D_RATIO_BOTTLE_FLAG_W,Nd_143_144_D_RATIO_BOTTLE_ERROR,Nd_D_CONC,Nd_D_CONC_FLAG_W,La_D_CONC_BOTTLE,La_D_CONC_BOTTLE_FLAG_W,Ce_D_CONC_BOTTLE,Ce_D_CONC_BOTTLE_FLAG_W,Pr_D_CONC_BOTTLE,Pr_D_CONC_BOTTLE_FLAG_W,Sm_D_CONC_BOTTLE,Sm_D_CONC_BOTTLE_FLAG_W,Eu_D_CONC_BOTTLE,Eu_D_CONC_BOTTLE_FLAG_W,Gd_D_CONC_BOTTLE,Gd_D_CONC_BOTTLE_FLAG_W,Tb_D_CONC_BOTTLE,Tb_D_CONC_BOTTLE_FLAG_W,Dy_D_CONC_BOTTLE,Dy_D_CONC_BOTTLE_FLAG_W,Ho_D_CONC_BOTTLE,Ho_D_CONC_BOTTLE_FLAG_W,Er_D_CONC_BOTTLE,Er_D_CONC_BOTTLE_FLAG_W,Tm_D_CONC_BOTTLE,Tm_D_CONC_BOTTLE_FLAG_W,Yb_D_CONC_BOTTLE,Yb_D_CONC_BOTTLE_FLAG_W,Lu_D_CONC_BOTTLE,Lu_D_CONC_BOTTLE_FLAG_W
,,,,,,,,,,,METERS,DBAR,ITS-90,PSS-78,,PSS-78,,UMOL/KG,,UMOL/KG,,UMOL/KG,,UMOL/KG,,UMOL/KG,,UMOL/KG,,UMOL/KG,,PMOL/KG,,PMOL/KG,,FMOL/KG,,UMOL/KG,,UMOL/KG,,,,DEG C,UMOL/KG,,NMOL/L,,DEG C,,/MILLE,,/MILLE,,/MILLE,UG/KG,,UMOL/KG,,UMOL/KG,,NMOL/L,,VOLTS,,VOLTS,,VOLTS,,NMOL/KG,,UMOL/L,,,,,,NMOL/L,,NMOL/L,,,,,,10000,,10000,,,,PMOL/KG,,PMOL/L,,PMOL/L,,PMOL/L,,PMOL/L,,PMOL/L,,PMOL/L,,PMOL/L,,PMOL/L,,PMOL/L,,PMOL/L,,PMOL/L,,PMOL/L,,PMOL/L,
320620180309  ,S04P       ,20      ,  1,15         ,15         ,2,20180326,0857, -67.0020, 175.5832,     3079,   1113.0,0.9413861111111110347,34.717308392823732,2,  34.7170,2,198.00179601109423,2, 197.9011,2,    198.7,2,    116.6,2,    32.47,2,     0.00,2,     2.23,2,    0.122,2,    0.067,2,   0.2800,2,   2263.1,2,  2361.36,2,   7.5914,2,    24.96,     40.0,2,     -999,9,   0.9409,2,     -999,9,     -999,9,     -999,     -999,9,     -999,9,     -999,1,     -999,9,    0.061,1,    4.680,1,    0.131,1,  18.9900,2,     -999,9,20180326,1008, -67.0011, 175.5837,     -999,9,     -999,9,-999          ,9,     -999,9,     -999,9,     -999,     -999,9,     -999,     -999,9,     -999,9,     -999,9,     -999,9,     -999,9,     -999,9,     -999,9,     -999,9,     -999,9,     -999,9,     -999,9,     -999,9,     -999,9,     -999,9
320620180309  ,S04P       ,20      ,  1,14         ,14         ,2,20180326,0857, -67.0020, 175.5832,     3079,   1214.3,0.8760083333333332778,34.715477132191459,2,  34.7184,2,199.71291616620044,2, 199.5985,2,    200.3,2,    118.9,2,    32.48,2,     0.00,2,     2.23,2,    0.111,2,    0.056,2,   0.0000,2,   2264.2,2,  2362.36,2,   7.5935,2,    24.94,     -999,5,     -999,9,   0.8755,2,     -999,9,     -999,9,     -999,     -999,9,     -999,9,     -999,1,     -999,9,    0.061,1,    4.681,1,    0.131,1,  19.2700,2,     -999,9,20180326,1004, -67.0012, 175.5837,     -999,9,     -999,9,-999          ,9,     -999,9,     -999,9,     -999,     -999,9,     -999,     -999,9,     -999,9,     -999,9,     -999,9,     -999,9,     -999,9,     -999,9,     -999,9,     -999,9,     -999,9,     -999,9,     -999,9,     -999,9,     -999,9
320620180309  ,S04P       ,20      ,  1,13         ,13         ,2,20180326,0857, -67.0020, 175.5832,     3079,   1316.7,0.8274500000000000188,34.713465493480633,2,  34.7135,2,200.97527595263659,2, 200.8984,2,    201.6,2,    120.2,2,    32.48,2,     0.00,2,     2.23,2,    0.114,2,    0.053,2,   0.0500,2,   2264.7,2,  2361.75,2,   7.5939,2,    24.95,     40.2,2,     -999,9,   0.8265,2,     -999,9,     -999,9,     -999,     -999,9,     -999,9,     -999,1,     -999,9,    0.061,1,    4.680,1,    0.131,1,  19.3100,2,     -999,9,20180326,1000, -67.0016, 175.5836,     -999,9,     -999,9,-999          ,9,     -999,9,     -999,9,     -999,     -999,9,     -999,     -999,9,     -999,9,     -999,9,     -999,9,     -999,9,     -999,9,     -999,9,     -999,9,     -999,9,     -999,9,     -999,9,     -999,9,     -999,9,     -999,9
320620180309  ,S04P       ,20      ,  1,12         ,12         ,2,20180326,0857, -67.0020, 175.5832,     3079,   1418.8,0.7972250000000000725,34.712179355795904,2,  34.7117,2,201.82096422561511,2, 202.0000,2,    202.7,2,    121.6,2,    32.50,2,     0.00,2,     2.23,2,     -999,9,     -999,9,     -999,9,   2265.9,2,  2363.23,2,   7.5931,2,    24.95,     41.8,2,     -999,9,   0.7962,2,     -999,9,     -999,9,     -999,     -999,9,     -999,9,     -999,1,     -999,9,    0.061,1,    4.680,1,    0.133,1,     -999,9,     -999,9,20180326,0957, -67.0017, 175.5835,     -999,9,     -999,9,-999          ,9,     -999,9,     -999,9,     -999,     -999,9,     -999,     -999,9,     -999,9,     -999,9,     -999,9,     -999,9,     -999,9,     -999,9,     -999,9,     -999,9,     -999,9,     -999,9,     -999,9,     -999,9,     -999,9
320620180309  ,S04P       ,20      ,  1,11         ,11         ,2,20180326,0857, -67.0020, 175.5832,     3079,   1519.9,0.7534555555555554340,34.710527706596359,2,  34.7094,2,203.00264785402365,2, 202.8987,2,    203.5,2,    122.8,2,    32.49,2,     0.00,2,     2.23,2,    0.131,2,    0.078,2,   0.1700,2,   2262.8,2,  2362.93,2,   7.5933,2,    24.95,     40.2,2,     -999,9,   0.7528,2,     -999,9,     -999,9,     -999,     -999,9,     -999,9,     -999,1,     -999,9,    0.061,1,    4.680,1,    0.129,1,  18.8500,2,     -999,9,20180326,0953, -67.0018, 175.5834,     -999,9,     -999,9,-999          ,9,     -999,9,     -999,9,     -999,     -999,9,     -999,     -999,9,     -999,9,     -999,9,     -999,9,     -999,9,     -999,9,     -999,9,     -999,9,     -999,9,     -999,9,     -999,9,     -999,9,     -999,9,     -999,9
320620180309  ,S04P       ,20      ,  1,10         ,10         ,2,20180326,0857, -67.0020, 175.5832,     3079,   1621.4,0.7080805555555556019,34.709004586387877,2,  34.7068,2,204.23749178257830,2, 203.9024,2,    204.3,2,    123.9,2,    32.58,2,     0.00,2,     2.23,2,     -999,9,     -999,9,     -999,9,   2264.2,2,  2362.74,2,   7.5950,2,    24.94,     38.5,2,     -999,9,   0.7075,2,     -999,9,     -999,9,     -999,     -999,9,     -999,9,     -999,1,     -999,9,    0.061,1,    4.680,1,    0.130,1,     -999,9,     -999,9,20180326,0949, -67.0020, 175.5833,     -999,9,     -999,9,-999          ,9,     -999,9,     -999,9,     -999,     -999,9,     -999,     -999,9,     -999,9,     -999,9,     -999,9,     -999,9,     -999,9,     -999,9,     -999,9,     -999,9,     -999,9,     -999,9,     -999,9,     -999,9,     -999,9
320620180309  ,S04P       ,20      ,  1,9          ,9          ,2,20180326,0857, -67.0020, 175.5832,     3079,   1724.3,0.6733083333333333975,34.707810416551951,2,  34.7076,2,205.20656510048590,2, 204.8048,2,    205.2,2,    125.1,2,    32.56,2,     0.00,2,     2.23,2,    0.143,6,    0.077,6,   0.0300,6,   2264.5,6,  2362.20,2,   7.5940,2,    24.95,     -999,9,     -999,9,   0.6724,2,     -999,9,     -999,9,     -999,     -999,9,     -999,9,     -999,9,     -999,9,    0.061,1,    4.681,1,    0.129,1,  19.1100,6,     -999,9,20180326,0945, -67.0022, 175.5831,     -999,9,     -999,9,-999          ,9,     -999,9,     -999,9,     -999,     -999,9,     -999,     -999,9,     -999,9,     -999,9,     -999,9,     -999,9,     -999,9,     -999,9,     -999,9,     -999,9,     -999,9,     -999,9,     -999,9,     -999,9,     -999,9
320620180309  ,S04P       ,20      ,  1,8          ,8          ,2,20180326,0857, -67.0020, 175.5832,     3079,   1823.5,0.6291500000000000981,34.706737546748990,2,  34.7076,2,206.46546076882092,2, 206.0033,2,    206.1,2,    126.5,2,    32.60,2,     0.00,2,     2.23,2,     -999,9,     -999,9,     -999,9,   2264.8,2,  2363.27,2,   7.5938,2,    24.95,     41.9,2,     -999,9,   0.6289,2,     -999,9,     -999,9,     -999,     -999,9,     -999,9,     -999,1,     -999,9,    0.061,1,    4.681,1,    0.130,1,     -999,9,     -999,9,20180326,0941, -67.0024, 175.5830,     -999,9,     -999,9,-999          ,9,     -999,9,     -999,9,     -999,     -999,9,     -999,     -999,9,     -999,9,     -999,9,     -999,9,     -999,9,     -999,9,     -999,9,     -999,9,     -999,9,     -999,9,     -999,9,     -999,9,     -999,9,     -999,9
320620180309  ,S04P       ,20      ,  1,7          ,7          ,2,20180326,0857, -67.0020, 175.5832,     3079,   1928.1,0.5845277777777776462,34.705739598225172,2,  34.7084,2,207.71281206494763,2, 207.4970,2,    207.2,2,    127.7,2,    32.58,2,     0.00,2,     2.23,2,    0.161,2,    0.093,2,   0.0400,2,   2264.1,2,  2362.70,2,   7.5938,2,    24.95,     -999,9,     -999,9,   0.5839,2,     -999,9,     -999,9,     -999,     -999,9,     -999,9,     -999,9,     -999,9,    0.061,1,    4.680,1,    0.131,1,  19.0000,2,     -999,9,20180326,0937, -67.0026, 175.5828,     -999,9,     -999,9,-999          ,9,     -999,9,     -999,9,     -999,     -999,9,     -999,     -999,9,     -999,9,     -999,9,     -999,9,     -999,9,     -999,9,     -999,9,     -999,9,     -999,9,     -999,9,     -999,9,     -999,9,     -999,9,     -999,9
320620180309  ,S04P       ,20      ,  1,6          ,6          ,2,20180326,0857, -67.0020, 175.5832,     3079,   2028.8,0.5516138888888888481,34.704780090691870,2,  34.7047,2,208.64070686618379,2, 208.5010,2,    208.1,2,    128.0,2,    32.62,2,     0.00,2,     2.23,2,    0.173,2,    0.102,2,   0.1800,2,   2263.8,2,  2362.98,2,   7.5961,6,    24.95,     39.7,2,     -999,9,   0.5515,2,     -999,9,     -999,9,     -999,     -999,9,     -999,9,     -999,1,     -999,9,    0.060,1,    4.681,1,    0.132,1,  19.0000,2,     -999,9,20180326,0933, -67.0024, 175.5829,     -999,9,     -999,9,-999          ,9,     -999,9,     -999,9,     -999,     -999,9,     -999,     -999,9,     -999,9,     -999,9,     -999,9,     -999,9,     -999,9,     -999,9,     -999,9,     -999,9,     -999,9,     -999,9,     -999,9,     -999,9,     -999,9
320620180309  ,S04P       ,20      ,  1,5          ,5          ,2,20180326,0857, -67.0020, 175.5832,     3079,   2234.1,0.4630166666666666875,34.702656760729560,2,  34.7021,2,211.23246289897648,2, 210.6035,2,    210.9,2,    129.6,2,    32.67,2,     0.00,2,     2.22,2,    0.223,2,    0.137,2,   0.1400,2,   2264.0,2,  2364.76,2,   7.5953,2,    24.95,     41.9,2,     -999,9,   0.4627,2,     -999,9,     -999,9,     -999,     -999,9,     -999,9,     -999,1,     -999,9,    0.061,1,    4.681,1,    0.128,1,  18.7500,2,     -999,9,20180326,0926, -67.0021, 175.5832,     -999,9,     -999,9,-999          ,9,     -999,9,     -999,9,     -999,     -999,9,     -999,     -999,9,     -999,9,     -999,9,     -999,9,     -999,9,     -999,9,     -999,9,     -999,9,     -999,9,     -999,9,     -999,9,     -999,9,     -999,9,     -999,9
320620180309  ,S04P       ,20      ,  1,4          ,4          ,2,20180326,0857, -67.0020, 175.5832,     3079,   2437.9,0.3782416666666666982,34.699512395681722,2,  34.6988,2,213.78163943574424,2, 213.2024,2,    212.9,2,    128.2,2,    32.67,2,     0.00,2,     2.23,2,    0.354,2,    0.207,2,   0.2700,2,   2265.2,2,  2362.58,2,   7.5931,6,    24.95,     -999,5,     -999,9,   0.3777,2,     -999,9,     -999,9,     -999,     -999,9,     -999,9,     -999,1,     -999,9,    0.061,1,    4.680,1,    0.129,1,  18.8600,2,     -999,9,20180326,0920, -67.0018, 175.5833,     -999,9,     -999,9,-999          ,9,     -999,9,     -999,9,     -999,     -999,9,     -999,     -999,9,     -999,9,     -999,9,     -999,9,     -999,9,     -999,9,     -999,9,     -999,9,     -999,9,     -999,9,     -999,9,     -999,9,     -999,9,     -999,9
320620180309  ,S04P       ,20      ,  1,3          ,3          ,2,20180326,0857, -67.0020, 175.5832,     3079,   2642.6,0.3029916666666666591,34.695643623435757,3,  34.6933,2,216.04322786638764,2, 217.2974,2,    215.6,2,    127.3,2,    32.61,2,     0.00,2,     2.22,2,    0.546,2,    0.308,2,   0.3400,2,   2264.5,2,  2362.48,2,   7.5930,2,    24.94,     41.0,2,     -999,9,   0.3025,2,     -999,9,     -999,9,     -999,     -999,9,     -999,9,     -999,1,     -999,9,    0.061,1,    4.680,1,    0.128,1,  18.8900,2,     -999,9,20180326,0913, -67.0020, 175.5832,     -999,9,     -999,9,-999          ,9,     -999,9,     -999,9,     -999,     -999,9,     -999,     -999,9,     -999,9,     -999,9,     -999,9,     -999,9,     -999,9,     -999,9,     -999,9,     -999,9,     -999,9,     -999,9,     -999,9,     -999,9,     -999,9
320620180309  ,S04P       ,20      ,  1,2          ,2          ,2,20180326,0857, -67.0020, 175.5832,     3079,   2883.5,0.2458138888888889151,34.692177156478266,2,  34.6917,2,217.90993934419026,2, 217.3021,2,    218.4,2,    124.3,2,    32.50,2,     0.00,2,     2.22,2,    0.749,2,    0.412,2,   0.3800,2,   2265.5,2,  2361.73,2,   7.5912,2,    24.94,     40.1,2,     -999,9,   0.2460,2,     -999,9,     -999,9,     -999,     -999,9,     -999,9,     -999,1,     -999,9,    0.060,1,    4.679,1,    0.128,1,  18.9700,2,     -999,9,20180326,0905, -67.0021, 175.5831,     -999,9,     -999,9,-999          ,9,     -999,9,     -999,9,     -999,     -999,9,     -999,     -999,9,     -999,9,     -999,9,     -999,9,     -999,9,     -999,9,     -999,9,     -999,9,     -999,9,     -999,9,     -999,9,     -999,9,     -999,9,     -999,9
320620180309  ,S04P       ,20      ,  1,1          ,1          ,2,20180326,0857, -67.0020, 175.5832,     3079,   3124.8,0.2505416666666667180,34.691476907368553,2,  34.6913,2,217.97089949735803,3, 217.2998,2,    218.9,2,    123.9,2,    32.54,2,     0.00,2,     2.23,2,    0.794,2,    0.437,2,   0.4700,2,   2262.6,6,  2361.34,2,   7.5895,2,    24.95,     41.9,2,     -999,9,   0.2500,2,     -999,9,     -999,9,     -999,     -999,9,     -999,9,     -999,1,     -999,9,    0.061,1,    4.679,1,    0.130,1,  18.9000,2,     -999,9,20180326,0857, -67.0020, 175.5832,     -999,9,     -999,9,-999          ,9,     -999,9,     -999,9,     -999,     -999,9,     -999,     -999,9,     -999,9,     -999,9,     -999,9,     -999,9,     -999,9,     -999,9,     -999,9,     -999,9,     -999,9,     -999,9,     -999,9,     -999,9,     -999,9