BOTTLE,20240515CCHHYDRO
EXPOCODE,SECT_ID,STNNBR,CASTNO,SAMPNO,BTLNBR,BTLNBR_FLAG_W,DATE,TIME,LATITUDE,LONGITUDE,DEPTH,CTDPRS,CTDTMP,CTDSAL,CTDSAL_FLAG_W,SALNTY,SALNTY_FLAG_W,CTDOXY,CTDOXY_FLAG_W,CTDOPTOXY,CTDOPTOXY_FLAG_W,OXYGEN,OXYGEN_FLAG_W,SILCAT,SILCAT_FLAG_W,NITRAT,NITRAT_FLAG_W,NITRIT,NITRIT_FLAG_W,PHSPHT,PHSPHT_FLAG_W,CFC-11,CFC-11_FLAG_W,CFC-12,CFC-12_FLAG_W,SF6,SF6_FLAG_W,TCARBN,TCARBN_FLAG_W,ALKALI,ALKALI_FLAG_W,PH_TOT,PH_TOT_FLAG_W,PH_TMP,DOC,DOC_FLAG_W,HELIUM,HELIUM_FLAG_W,REFTMP,REFTMP_FLAG_W,DELC13,DELC13_FLAG_W,DELC14,DELC14_FLAG_W,C14ERR,POC,POC_FLAG_W,TDN,TDN_FLAG_W,TON,TON_FLAG_W,NEON,NEON_FLAG_W,CTDFLUOR,CTDFLUOR_FLAG_W,CTDXMISS,CTDXMISS_FLAG_W,CTDBETA700,CTDBETA700_FLAG_W,N2O,N2O_FLAG_W,ARGON,ARGON_FLAG_W,BTL_DATE,BTL_TIME,BTL_LAT,BTL_LON,KRYPTON,KRYPTON_FLAG_W,XENON,XENON_FLAG_W,HPLC,HPLC_FLAG_W,HE3_HE4_RATIO,HE3_HE4_RATIO_FLAG_W,Nd_143_144_D_EPSILON_BOTTLE,Nd_143_144_D_EPSILON_BOTTLE_FLAG_W,Nd_143_144_D_EPSILON_BOTTLE_ERROR,Nd_143_144_D_RATIO_BOTTLE,Nd_143_144_D_RATIO_BOTTLE_FLAG_W,Nd_143_144_D_RATIO_BOTTLE_ERROR,Nd_D_CONC,Nd_D_CONC_FLAG_W,La_D_CONC_BOTTLE,La_D_CONC_BOTTLE_FLAG_W,Ce_D_CONC_BOTTLE,Ce_D_CONC_BOTTLE_FLAG_W,Pr_D_CONC_BOTTLE,Pr_D_CONC_BOTTLE_FLAG_W,Sm_D_CONC_BOTTLE,Sm_D_CONC_BOTTLE_FLAG_W,Eu_D_CONC_BOTTLE,Eu_D_CONC_BOTTLE_FLAG_W,Gd_D_CONC_BOTTLE,Gd_D_CONC_BOTTLE_FLAG_W,Tb_D_CONC_BOTTLE,Tb_D_CONC_BOTTLE_FLAG_W,Dy_D_CONC_BOTTLE,Dy_D_CONC_BOTTLE_FLAG_W,Ho_D_CONC_BOTTLE,Ho_D_CONC_BOTTLE_FLAG_W,Er_D_CONC_BOTTLE,Er_D_CONC_BOTTLE_FLAG_W,Tm_D_CONC_BOTTLE,Tm_D_CONC_BOTTLE_FLAG_W,Yb_D_CONC_BOTTLE,Yb_D_CONC_BOTTLE_FLAG_W,Lu_D_CONC_BOTTLE,Lu_D_CONC_BOTTLE_FLAG_W
,,,,,,,,,,,METERS,DBAR,ITS-90,PSS-78,,PSS-78,,UMOL/KG,,UMOL/KG,,UMOL/KG,,UMOL/KG,,UMOL/KG,,UMOL/KG,,UMOL/KG,,PMOL/KG,,PMOL/KG,,FMOL/KG,,UMOL/KG,,UMOL/KG,,,,DEG C,UMOL/KG,,NMOL/L,,DEG C,,/MILLE,,/MILLE,,/MILLE,UG/KG,,UMOL/KG,,UMOL/KG,,NMOL/L,,VOLTS,,VOLTS,,VOLTS,,NMOL/KG,,UMOL/L,,,,,,NMOL/L,,NMOL/L,,,,,,10000,,10000,,,,PMOL/KG,,PMOL/L,,PMOL/L,,PMOL/L,,PMOL/L,,PMOL/L,,PMOL/L,,PMOL/L,,PMOL/L,,PMOL/L,,PMOL/L,,PMOL/L,,PMOL/L,,PMOL/L,
320620180309  ,S04P       ,119     ,  1,36         ,36         ,2,20180508,1635, -66.6993, -75.9907,     3162,      9.5,-0.8090242496141538675,33.802667928011296,2,  33.8009,2,334.90791644024193,2, 333.8027,2,    334.3,2,     47.7,2,    26.93,2,     0.20,2,     1.86,2,    5.521,2,    2.979,2,   3.9600,2,   2176.3,6,  2287.96,2,   7.6467,2,    24.95,     41.3,2,     -999,9,  -0.8146,2,     -999,9,     -999,9,     -999,     -999,9,    29.10,2,     -999,1,     -999,9,    0.132,1,    4.598,1,    0.178,1,  16.3600,2,     -999,9,20180508,1824, -66.6990, -75.9930,     -999,9,     -999,9,-999          ,9,     -999,9,     -999,9,     -999,     -999,9,     -999,     -999,9,     -999,1,     -999,1,     -999,1,     -999,1,     -999,1,     -999,1,     -999,1,     -999,1,     -999,1,     -999,1,     -999,1,     -999,1,     -999,1
320620180309  ,S04P       ,119     ,  1,35         ,35         ,2,20180508,1635, -66.6993, -75.9907,     3162,     35.7,-0.8189161400515735378,33.802844016380575,2,  33.8007,2,336.25760285035858,2, 333.8039,2,    333.9,2,     47.8,2,    26.97,2,     0.20,2,     1.86,2,     -999,9,     -999,9,     -999,9,   2177.1,2,  2288.54,2,   7.6462,2,    24.96,     42.9,2,     -999,1,  -0.8187,2,     -999,9,     -999,9,     -999,     -999,9,    29.40,2,     -999,1,     -999,1,    0.135,1,    4.598,1,    0.174,1,     -999,9,     -999,1,20180508,1822, -66.6990, -75.9929,     -999,1,     -999,1,-999          ,9,     -999,1,     -999,9,     -999,     -999,9,     -999,     -999,9,     -999,1,     -999,1,     -999,1,     -999,1,     -999,1,     -999,1,     -999,1,     -999,1,     -999,1,     -999,1,     -999,1,     -999,1,     -999,1
320620180309  ,S04P       ,119     ,  1,34         ,34         ,2,20180508,1635, -66.6993, -75.9907,     3162,     60.1,-0.8161112186593953988,33.803517985450455,2,  33.8042,2,335.74867268268184,2, 333.8031,2,    333.6,2,     48.0,2,    27.00,2,     0.20,2,     1.87,2,    5.520,2,    2.959,2,   3.6600,2,     -999,9,     -999,9,     -999,9,     -999,     43.3,2,     -999,9,  -0.8153,2,     -999,9,     -999,9,     -999,     -999,9,    29.90,2,     -999,1,     -999,9,    0.133,1,    4.598,1,    0.175,1,  16.4000,2,     -999,9,20180508,1821, -66.6991, -75.9927,     -999,9,     -999,9,-999          ,9,     -999,9,     -999,9,     -999,     -999,9,     -999,     -999,9,     -999,1,     -999,1,     -999,1,     -999,1,     -999,1,     -999,1,     -999,1,     -999,1,     -999,1,     -999,1,     -999,1,     -999,1,     -999,1
320620180309  ,S04P       ,119     ,  1,33         ,33         ,2,20180508,1635, -66.6993, -75.9907,     3162,     86.3,-0.3029726451623789285,34.187598182734405,2,  34.1952,2,255.98990281090295,3, 250.6999,2,    250.3,2,     70.2,2,    32.24,2,     0.07,2,     2.22,2,     -999,9,     -999,9,     -999,9,   2228.7,2,  2311.83,2,   7.5651,2,    25.02,     40.1,2,     -999,1,  -0.3012,2,     -999,9,     -999,9,     -999,     -999,9,    33.60,2,     -999,1,     -999,1,    0.130,1,    4.599,1,    0.182,1,     -999,9,     -999,1,20180508,1819, -66.6991, -75.9927,     -999,1,     -999,1,-999          ,9,     -999,1,     -999,9,     -999,     -999,9,     -999,     -999,9,     -999,9,     -999,9,     -999,9,     -999,9,     -999,9,     -999,9,     -999,9,     -999,9,     -999,9,     -999,9,     -999,9,     -999,9,     -999,9
320620180309  ,S04P       ,119     ,  1,32         ,32         ,2,20180508,1635, -66.6993, -75.9907,     3162,    110.6,0.4772071907044784789,34.372643602428923,2,  34.3813,2,220.13071029611754,3, 216.3029,3,    214.1,2,     77.6,2,    33.59,2,     0.02,2,     2.26,2,    2.220,2,    1.191,2,   1.1700,2,   2245.6,2,  2324.89,2,   7.5449,2,    24.96,     40.5,2,     -999,9,   0.4810,2,     -999,9,     -999,9,     -999,     -999,9,    35.60,2,     -999,1,     -999,9,    0.082,1,    4.625,1,    0.160,1,  21.8800,2,     -999,9,20180508,1817, -66.6991, -75.9927,     -999,9,     -999,9,-999          ,9,     -999,9,     -999,9,     -999,     -999,9,     -999,     -999,9,     -999,1,     -999,1,     -999,1,     -999,1,     -999,1,     -999,1,     -999,1,     -999,1,     -999,1,     -999,1,     -999,1,     -999,1,     -999,1
320620180309  ,S04P       ,119     ,  1,31         ,31         ,2,20180508,1635, -66.6993, -75.9907,     3162,    136.2,1.2626344583652140408,34.516502618195766,2,  34.5164,2,186.69030055996967,3, 191.5020,3,    189.4,2,     81.9,2,    34.07,2,     0.01,2,     2.30,2,    1.351,6,    0.719,6,   0.6200,6,   2256.8,2,  2330.68,2,   7.5393,2,    24.97,     39.9,2,     -999,1,   1.2617,2,     -999,9,     -999,9,     -999,     -999,9,    35.60,2,     -999,1,     -999,1,    0.069,1,    4.632,1,    0.149,1,  22.3500,6,     -999,1,20180508,1815, -66.6991, -75.9927,     -999,1,     -999,1,-999          ,9,     -999,1,     -999,9,     -999,     -999,9,     -999,     -999,9,     -999,9,     -999,9,     -999,9,     -999,9,     -999,9,     -999,9,     -999,9,     -999,9,     -999,9,     -999,9,     -999,9,     -999,9,     -999,9
320620180309  ,S04P       ,119     ,  1,30         ,30         ,2,20180508,1635, -66.6993, -75.9907,     3162,    161.5,1.6217171911635879233,34.577070528022425,2,  34.5777,2,179.29174277157841,2, 181.8998,3,    179.1,2,     82.8,2,    34.15,2,     0.00,2,     2.31,2,    0.947,2,    0.507,2,   0.2800,2,   2258.5,2,  2335.66,2,   7.5408,2,    24.98,     40.0,2,     -999,9,   1.6058,2,     -999,9,     -999,9,     -999,     -999,9,    36.20,2,     -999,1,     -999,9,    0.062,1,    4.637,1,    0.145,1,  23.0900,2,     -999,9,20180508,1814, -66.6991, -75.9925,     -999,9,     -999,9,-999          ,9,     -999,9,     -999,9,     -999,     -999,9,     -999,     -999,9,     -999,1,     -999,1,     -999,1,     -999,1,     -999,1,     -999,1,     -999,1,     -999,1,     -999,1,     -999,1,     -999,1,     -999,1,     -999,1
320620180309  ,S04P       ,119     ,  1,29         ,29         ,2,20180508,1635, -66.6993, -75.9907,     3162,    185.7,1.7919941347537224896,34.615077561163240,2,  34.6158,2,176.30868692512846,2, 177.9953,3,    175.2,2,     83.8,2,    34.01,2,     0.00,2,     2.30,2,     -999,9,     -999,9,     -999,9,   2261.3,2,  2339.17,2,   7.5457,6,    24.98,     40.8,2,     -999,1,   1.7941,2,     -999,9,     -999,9,     -999,     -999,9,    35.30,2,     -999,1,     -999,1,    0.062,1,    4.641,1,    0.140,1,     -999,9,     -999,1,20180508,1812, -66.6991, -75.9923,     -999,1,     -999,1,-999          ,9,     -999,1,     -999,9,     -999,     -999,9,     -999,     -999,9,     -999,9,     -999,9,     -999,9,     -999,9,     -999,9,     -999,9,     -999,9,     -999,9,     -999,9,     -999,9,     -999,9,     -999,9,     -999,9
320620180309  ,S04P       ,119     ,  1,28         ,28         ,2,20180508,1635, -66.6993, -75.9907,     3162,    216.3,1.8572722563737384949,34.642075560337474,2,  34.6448,2,175.21815211973828,2, 176.4988,3,    174.0,2,     85.2,2,    33.70,2,     0.00,2,     2.27,2,    0.564,2,    0.300,2,   0.1800,2,     -999,9,     -999,9,     -999,9,     -999,     39.2,2,     -999,9,   1.8539,2,     -999,9,     -999,9,     -999,     -999,9,    35.90,2,     -999,1,     -999,9,    0.062,1,    4.641,1,    0.139,1,  22.9300,2,     -999,9,20180508,1810, -66.6991, -75.9921,     -999,9,     -999,9,-999          ,9,     -999,9,     -999,9,     -999,     -999,9,     -999,     -999,9,     -999,1,     -999,1,     -999,1,     -999,1,     -999,1,     -999,1,     -999,1,     -999,1,     -999,1,     -999,1,     -999,1,     -999,1,     -999,1
320620180309  ,S04P       ,119     ,  1,27         ,27         ,2,20180508,1635, -66.6993, -75.9907,     3162,    267.6,1.9081431648354862940,34.672600702308323,2,  34.6725,2,174.98830698160307,2, 176.4972,3,    174.2,2,     86.8,2,    33.35,2,     0.00,2,     2.24,2,    0.420,2,    0.222,2,   0.1700,2,   2259.9,6,  2344.39,2,   7.5586,2,    24.96,     44.1,3,     -999,1,   1.9097,2,     -999,9,     -999,9,     -999,     -999,9,    34.90,2,     -999,1,     -999,1,    0.063,1,    4.643,1,    0.142,1,  21.9700,2,     -999,1,20180508,1808, -66.6991, -75.9917,     -999,1,     -999,1,-999          ,9,     -999,1,     -999,9,     -999,     -999,9,     -999,     -999,9,     -999,9,     -999,9,     -999,9,     -999,9,     -999,9,     -999,9,     -999,9,     -999,9,     -999,9,     -999,9,     -999,9,     -999,9,     -999,9
320620180309  ,S04P       ,119     ,  1,26         ,38         ,2,20180508,1635, -66.6993, -75.9907,     3162,    319.1,1.9072612046014880693,34.693607189264831,2,  34.6933,2,176.80030847170110,2, 178.4951,3,    176.2,2,     88.0,2,    32.86,2,     0.00,2,     2.22,2,     -999,9,     -999,9,     -999,9,   2260.6,2,  2346.66,2,   7.5629,2,    24.97,     39.8,2,     -999,9,   1.9075,2,     -999,9,     -999,9,     -999,     -999,9,     -999,9,     -999,1,     -999,9,    0.061,1,    4.645,1,    0.135,1,     -999,9,     -999,9,20180508,1806, -66.6991, -75.9912,     -999,9,     -999,9,-999          ,9,     -999,9,     -999,9,     -999,     -999,9,     -999,     -999,9,     -999,1,     -999,1,     -999,1,     -999,1,     -999,1,     -999,1,     -999,1,     -999,1,     -999,1,     -999,1,     -999,1,     -999,1,     -999,1
320620180309  ,S04P       ,119     ,  1,25         ,25         ,2,20180508,1635, -66.6993, -75.9907,     3162,    368.6,1.9042814945468520271,34.707115696818668,2,  34.7068,2,179.83328882476710,2, 180.4980,3,    179.0,2,     88.8,2,    32.46,2,     0.00,2,     2.20,2,    0.275,2,    0.141,2,   0.0700,2,   2257.1,2,  2348.98,2,   7.5719,2,    24.98,     41.1,2,     -999,9,   1.9048,2,     -999,9,     -999,9,     -999,     -999,9,     -999,9,     -999,1,     -999,9,    0.061,1,    4.647,1,    0.134,1,  21.5200,2,     -999,9,20180508,1804, -66.6992, -75.9907,     -999,9,     -999,9,-999          ,9,     -999,9,     -999,9,     -999,     -999,9,     -999,     -999,9,     -999,9,     -999,9,     -999,9,     -999,9,     -999,9,     -999,9,     -999,9,     -999,9,     -999,9,     -999,9,     -999,9,     -999,9,     -999,9
320620180309  ,S04P       ,119     ,  1,24         ,24         ,2,20180508,1635, -66.6993, -75.9907,     3162,    420.2,1.8757131281290888580,34.715954389940862,2,  34.7157,2,180.47279553092835,2, 182.3995,2,    181.8,2,     89.6,2,    32.12,2,     0.00,2,     2.19,2,    0.243,2,    0.125,2,   0.0900,2,     -999,9,     -999,9,     -999,9,     -999,     39.8,2,     -999,1,   1.8758,2,     -999,9,     -999,9,     -999,     -999,9,     -999,9,     -999,1,     -999,1,    0.061,1,    4.647,1,    0.133,1,  20.4200,2,     -999,1,20180508,1802, -66.6992, -75.9904,     -999,1,     -999,1,-999          ,9,     -999,1,     -999,9,     -999,     -999,9,     -999,     -999,9,     -999,1,     -999,1,     -999,1,     -999,1,     -999,1,     -999,1,     -999,1,     -999,1,     -999,1,     -999,1,     -999,1,     -999,1,     -999,1
320620180309  ,S04P       ,119     ,  1,23         ,23         ,2,20180508,1635, -66.6993, -75.9907,     3162,    469.0,1.8254663627300606876,34.719035731882350,2,  34.7190,2,182.79292315825037,2, 183.2056,2,    182.1,2,     91.1,2,    32.14,2,     0.00,2,     2.15,2,    0.234,2,    0.116,2,   0.0000,2,   2260.1,2,  2350.31,2,   7.5775,2,    24.99,     38.8,2,     -999,9,   1.8254,2,     -999,9,     -999,9,     -999,     -999,9,     -999,9,     -999,1,     -999,9,    0.061,1,    4.647,1,    0.133,1,  20.9600,2,     -999,9,20180508,1800, -66.6992, -75.9902,     -999,9,     -999,9,-999          ,9,     -999,9,     -999,9,     -999,     -999,9,     -999,     -999,9,     -999,9,     -999,9,     -999,9,     -999,9,     -999,9,     -999,9,     -999,9,     -999,9,     -999,9,     -999,9,     -999,9,     -999,9,     -999,9
320620180309  ,S04P       ,119     ,  1,22         ,37         ,2,20180508,1635, -66.6993, -75.9907,     3162,    541.1,1.7590679897921002173,34.725201567751256,2,  34.7251,2,186.17486743843264,2, 184.9042,2,    184.6,2,     92.9,2,    31.96,2,     0.00,2,     2.13,2,    0.207,2,    0.110,2,   0.0000,2,     -999,9,     -999,9,     -999,9,     -999,     39.0,2,     -999,9,   1.7593,2,     -999,9,     -999,9,     -999,     -999,9,     -999,9,     -999,1,     -999,9,    0.061,1,    4.647,1,    0.132,1,  19.9800,2,     -999,9,20180508,1758, -66.6992, -75.9901,     -999,9,     -999,9,-999          ,9,     -999,9,     -999,9,     -999,     -999,9,     -999,     -999,9,     -999,1,     -999,1,     -999,1,     -999,1,     -999,1,     -999,1,     -999,1,     -999,1,     -999,1,     -999,1,     -999,1,     -999,1,     -999,1
320620180309  ,S04P       ,119     ,  1,21         ,21         ,2,20180508,1635, -66.6993, -75.9907,     3162,    643.3,1.6763161012157472562,34.730485192630830,2,  34.7298,2,188.60842567970573,2, 187.1993,2,    188.4,2,     95.1,2,    31.65,2,     0.00,2,     2.13,2,     -999,9,     -999,9,     -999,9,   2256.5,2,  2353.97,2,   7.5911,2,    24.98,     40.2,2,     -999,1,   1.6773,2,     -999,9,     -999,9,     -999,     -999,9,     -999,9,     -999,1,     -999,1,    0.061,1,    4.648,1,    0.131,1,     -999,9,     -999,1,20180508,1755, -66.6992, -75.9903,     -999,1,     -999,1,-999          ,9,     -999,1,     -999,9,     -999,     -999,9,     -999,     -999,9,     -999,9,     -999,9,     -999,9,     -999,9,     -999,9,     -999,9,     -999,9,     -999,9,     -999,9,     -999,9,     -999,9,     -999,9,     -999,9
320620180309  ,S04P       ,119     ,  1,20         ,20         ,2,20180508,1635, -66.6993, -75.9907,     3162,    743.2,1.5775466153417336823,34.731524254410445,2,  34.7317,2,190.42563507117458,2, 189.1971,2,    190.1,2,     98.1,2,    31.60,2,     0.00,2,     2.12,2,    0.162,2,    0.084,2,   0.0700,2,     -999,9,     -999,9,     -999,9,     -999,     39.5,2,     -999,9,   1.5778,2,     -999,9,     -999,9,     -999,     -999,9,     -999,9,     -999,1,     -999,9,    0.062,1,    4.647,1,    0.132,1,  19.4600,2,     -999,9,20180508,1751, -66.6991, -75.9910,     -999,9,     -999,9,-999          ,9,     -999,9,     -999,9,     -999,     -999,9,     -999,     -999,9,     -999,1,     -999,1,     -999,1,     -999,1,     -999,1,     -999,1,     -999,1,     -999,1,     -999,1,     -999,1,     -999,1,     -999,1,     -999,1
320620180309  ,S04P       ,119     ,  1,19         ,19         ,2,20180508,1635, -66.6993, -75.9907,     3162,    844.8,1.4953018370522290770,34.730594303054495,2,  34.7314,2,191.04433786061219,2, 190.6978,2,    191.1,2,    101.1,2,    31.74,2,     0.00,2,     2.16,2,    0.151,2,    0.083,2,   0.0000,2,   2255.3,2,  2357.41,2,   7.5929,2,    24.97,     42.6,2,     -999,9,   1.4955,2,     -999,9,     -999,9,     -999,     -999,9,     -999,9,     -999,1,     -999,9,    0.061,1,    4.647,1,    0.131,1,  19.5600,2,     -999,9,20180508,1748, -66.6991, -75.9911,     -999,9,     -999,9,-999          ,9,     -999,9,     -999,9,     -999,     -999,9,     -999,     -999,9,     -999,9,     -999,9,     -999,9,     -999,9,     -999,9,     -999,9,     -999,9,     -999,9,     -999,9,     -999,9,     -999,9,     -999,9,     -999,9
320620180309  ,S04P       ,119     ,  1,18         ,18         ,2,20180508,1635, -66.6993, -75.9907,     3162,    945.0,1.3977674009188958415,34.729422551049979,2,  34.7300,2,192.82393958560075,2, 192.6982,2,    192.2,2,    104.0,2,    31.76,2,     0.00,2,     2.16,2,     -999,9,     -999,9,     -999,9,     -999,9,     -999,9,     -999,9,     -999,     38.1,2,     -999,1,   1.3977,2,     -999,9,     -999,9,     -999,     -999,9,     -999,9,     -999,1,     -999,1,    0.061,1,    4.648,1,    0.131,1,     -999,9,     -999,1,20180508,1744, -66.6992, -75.9909,     -999,1,     -999,1,-999          ,9,     -999,1,     -999,9,     -999,     -999,9,     -999,     -999,9,     -999,1,     -999,1,     -999,1,     -999,1,     -999,1,     -999,1,     -999,1,     -999,1,     -999,1,     -999,1,     -999,1,     -999,1,     -999,1
320620180309  ,S04P       ,119     ,  1,17         ,17         ,2,20180508,1635, -66.6993, -75.9907,     3162,   1048.7,1.3190579345825375057,34.728154438602736,2,  34.7288,2,195.32964436914315,2, 194.3003,2,    194.9,2,    106.1,2,    31.72,2,     0.00,2,     2.16,2,    0.129,2,    0.062,2,   0.0000,2,   2257.6,2,  2359.91,2,   7.5977,2,    24.98,     41.7,2,     -999,9,   1.3206,2,     -999,9,     -999,9,     -999,     -999,9,     -999,9,     -999,1,     -999,9,    0.062,1,    4.648,1,    0.130,1,  19.1600,2,     -999,9,20180508,1741, -66.6991, -75.9910,     -999,9,     -999,9,-999          ,9,     -999,9,     -999,9,     -999,     -999,9,     -999,     -999,9,     -999,9,     -999,9,     -999,9,     -999,9,     -999,9,     -999,9,     -999,9,     -999,9,     -999,9,     -999,9,     -999,9,     -999,9,     -999,9
320620180309  ,S04P       ,119     ,  1,16         ,16         ,2,20180508,1635, -66.6993, -75.9907,     3162,   1149.2,1.2454474236344990068,34.726226244933713,2,  34.7270,2,196.46300134287688,2, 195.8959,2,    195.6,2,    108.5,2,    31.77,2,     0.00,2,     2.17,2,    0.118,2,    0.058,2,   0.0000,2,     -999,9,     -999,9,     -999,9,     -999,     41.1,2,     -999,9,   1.2459,2,     -999,9,     -999,9,     -999,     -999,9,     -999,9,     -999,1,     -999,9,    0.062,1,    4.648,1,    0.129,1,  19.1200,2,     -999,9,20180508,1737, -66.6991, -75.9915,     -999,9,     -999,9,-999          ,9,     -999,9,     -999,9,     -999,     -999,9,     -999,     -999,9,     -999,1,     -999,1,     -999,1,     -999,1,     -999,1,     -999,1,     -999,1,     -999,1,     -999,1,     -999,1,     -999,1,     -999,1,     -999,1