BOTTLE,20240515CCHHYDRO
EXPOCODE,SECT_ID,STNNBR,CASTNO,SAMPNO,BTLNBR,BTLNBR_FLAG_W,DATE,TIME,LATITUDE,LONGITUDE,DEPTH,CTDPRS,CTDTMP,CTDSAL,CTDSAL_FLAG_W,SALNTY,SALNTY_FLAG_W,CTDOXY,CTDOXY_FLAG_W,CTDOPTOXY,CTDOPTOXY_FLAG_W,OXYGEN,OXYGEN_FLAG_W,SILCAT,SILCAT_FLAG_W,NITRAT,NITRAT_FLAG_W,NITRIT,NITRIT_FLAG_W,PHSPHT,PHSPHT_FLAG_W,CFC-11,CFC-11_FLAG_W,CFC-12,CFC-12_FLAG_W,SF6,SF6_FLAG_W,TCARBN,TCARBN_FLAG_W,ALKALI,ALKALI_FLAG_W,PH_TOT,PH_TOT_FLAG_W,PH_TMP,DOC,DOC_FLAG_W,HELIUM,HELIUM_FLAG_W,REFTMP,REFTMP_FLAG_W,DELC13,DELC13_FLAG_W,DELC14,DELC14_FLAG_W,C14ERR,POC,POC_FLAG_W,TDN,TDN_FLAG_W,TON,TON_FLAG_W,NEON,NEON_FLAG_W,CTDFLUOR,CTDFLUOR_FLAG_W,CTDXMISS,CTDXMISS_FLAG_W,CTDBETA700,CTDBETA700_FLAG_W,N2O,N2O_FLAG_W,ARGON,ARGON_FLAG_W,BTL_DATE,BTL_TIME,BTL_LAT,BTL_LON,KRYPTON,KRYPTON_FLAG_W,XENON,XENON_FLAG_W,HPLC,HPLC_FLAG_W,HE3_HE4_RATIO,HE3_HE4_RATIO_FLAG_W,Nd_143_144_D_EPSILON_BOTTLE,Nd_143_144_D_EPSILON_BOTTLE_FLAG_W,Nd_143_144_D_EPSILON_BOTTLE_ERROR,Nd_143_144_D_RATIO_BOTTLE,Nd_143_144_D_RATIO_BOTTLE_FLAG_W,Nd_143_144_D_RATIO_BOTTLE_ERROR,Nd_D_CONC,Nd_D_CONC_FLAG_W,La_D_CONC_BOTTLE,La_D_CONC_BOTTLE_FLAG_W,Ce_D_CONC_BOTTLE,Ce_D_CONC_BOTTLE_FLAG_W,Pr_D_CONC_BOTTLE,Pr_D_CONC_BOTTLE_FLAG_W,Sm_D_CONC_BOTTLE,Sm_D_CONC_BOTTLE_FLAG_W,Eu_D_CONC_BOTTLE,Eu_D_CONC_BOTTLE_FLAG_W,Gd_D_CONC_BOTTLE,Gd_D_CONC_BOTTLE_FLAG_W,Tb_D_CONC_BOTTLE,Tb_D_CONC_BOTTLE_FLAG_W,Dy_D_CONC_BOTTLE,Dy_D_CONC_BOTTLE_FLAG_W,Ho_D_CONC_BOTTLE,Ho_D_CONC_BOTTLE_FLAG_W,Er_D_CONC_BOTTLE,Er_D_CONC_BOTTLE_FLAG_W,Tm_D_CONC_BOTTLE,Tm_D_CONC_BOTTLE_FLAG_W,Yb_D_CONC_BOTTLE,Yb_D_CONC_BOTTLE_FLAG_W,Lu_D_CONC_BOTTLE,Lu_D_CONC_BOTTLE_FLAG_W
,,,,,,,,,,,METERS,DBAR,ITS-90,PSS-78,,PSS-78,,UMOL/KG,,UMOL/KG,,UMOL/KG,,UMOL/KG,,UMOL/KG,,UMOL/KG,,UMOL/KG,,PMOL/KG,,PMOL/KG,,FMOL/KG,,UMOL/KG,,UMOL/KG,,,,DEG C,UMOL/KG,,NMOL/L,,DEG C,,/MILLE,,/MILLE,,/MILLE,UG/KG,,UMOL/KG,,UMOL/KG,,NMOL/L,,VOLTS,,VOLTS,,VOLTS,,NMOL/KG,,UMOL/L,,,,,,NMOL/L,,NMOL/L,,,,,,10000,,10000,,,,PMOL/KG,,PMOL/L,,PMOL/L,,PMOL/L,,PMOL/L,,PMOL/L,,PMOL/L,,PMOL/L,,PMOL/L,,PMOL/L,,PMOL/L,,PMOL/L,,PMOL/L,,PMOL/L,
320620180309  ,S04P       ,18      ,  2,15         ,15         ,2,20180325,1933, -67.6155, 173.5408,     3469,   1148.0,0.8374777777777776544,34.712499575427067,2,  34.7107,2,199.30959202421076,2, 199.4010,2,    200.3,2,    119.1,2,    32.53,2,     0.00,2,     2.22,2,    0.141,2,    0.073,2,   0.0800,2,   2264.1,2,  2362.85,2,   7.5903,2,    24.91,     41.2,2,     -999,9,   0.8369,2,     -999,9,     -999,9,     -999,     -999,9,     -999,9,     -999,1,     -999,9,    0.061,1,    4.679,1,    0.133,1,  19.3100,2,     -999,9,20180325,2100, -67.6157, 173.5408,     -999,9,     -999,9,-999          ,9,     -999,9,     -999,9,     -999,     -999,9,     -999,     -999,9,     -999,9,     -999,9,     -999,9,     -999,9,     -999,9,     -999,9,     -999,9,     -999,9,     -999,9,     -999,9,     -999,9,     -999,9,     -999,9
320620180309  ,S04P       ,18      ,  2,14         ,14         ,2,20180325,1933, -67.6155, 173.5408,     3469,   1251.8,0.7986222222222223444,34.711188984209663,2,  34.7094,2,200.31597829155396,2, 200.4025,2,    201.2,2,    120.4,2,    32.51,2,     0.00,2,     2.23,2,    0.144,2,    0.079,2,   0.0800,2,   2262.6,2,  2362.52,2,   7.5884,2,    24.92,     39.7,2,     -999,9,   0.7983,2,     -999,9,     -999,9,     -999,     -999,9,     -999,9,     -999,1,     -999,9,    0.061,1,    4.679,1,    0.130,1,  19.2600,2,     -999,9,20180325,2056, -67.6154, 173.5408,     -999,9,     -999,9,-999          ,9,     -999,9,     -999,9,     -999,     -999,9,     -999,     -999,9,     -999,9,     -999,9,     -999,9,     -999,9,     -999,9,     -999,9,     -999,9,     -999,9,     -999,9,     -999,9,     -999,9,     -999,9,     -999,9
320620180309  ,S04P       ,18      ,  2,13         ,13         ,2,20180325,1933, -67.6155, 173.5408,     3469,   1353.3,0.7575805555555554793,34.709864483279866,2,  34.7082,2,201.68615938473340,2, 201.6060,2,    202.1,2,    122.1,2,    32.57,2,     0.00,2,     2.25,2,    0.137,2,    0.073,2,   0.0500,2,   2263.6,2,  2363.94,2,   7.5934,2,    24.92,     40.6,2,     -999,9,   0.7572,2,     -999,9,     -999,9,     -999,     -999,9,     -999,9,     -999,1,     -999,9,    0.061,1,    4.680,1,    0.132,1,  19.3600,2,     -999,9,20180325,2052, -67.6153, 173.5409,     -999,9,     -999,9,-999          ,9,     -999,9,     -999,9,     -999,     -999,9,     -999,     -999,9,     -999,9,     -999,9,     -999,9,     -999,9,     -999,9,     -999,9,     -999,9,     -999,9,     -999,9,     -999,9,     -999,9,     -999,9,     -999,9
320620180309  ,S04P       ,18      ,  2,12         ,12         ,2,20180325,1933, -67.6155, 173.5408,     3469,   1455.7,0.7133249999999999869,34.708300720485106,2,  34.7068,2,203.09031130243883,2, 202.7983,2,    203.2,2,    123.3,2,    32.64,2,     0.00,2,     2.23,2,     -999,9,     -999,9,     -999,9,   2264.5,2,  2365.68,2,   7.5906,2,    24.92,     43.3,2,     -999,9,   0.7129,2,     -999,9,     -999,9,     -999,     -999,9,     -999,9,     -999,1,     -999,9,    0.061,1,    4.680,1,    0.130,1,     -999,9,     -999,9,20180325,2048, -67.6157, 173.5408,     -999,9,     -999,9,-999          ,9,     -999,9,     -999,9,     -999,     -999,9,     -999,     -999,9,     -999,9,     -999,9,     -999,9,     -999,9,     -999,9,     -999,9,     -999,9,     -999,9,     -999,9,     -999,9,     -999,9,     -999,9,     -999,9
320620180309  ,S04P       ,18      ,  2,11         ,11         ,2,20180325,1933, -67.6155, 173.5408,     3469,   1555.4,0.6717166666666666286,34.706778079993846,2,  34.7054,2,203.80272232303471,2, 203.6992,2,    204.5,2,    122.9,2,    32.50,2,     0.00,2,     2.24,2,    0.160,2,    0.092,2,   0.0900,2,   2264.5,2,  2365.34,2,   7.5922,2,    24.91,     41.0,2,     -999,9,   0.6715,2,     -999,9,     -999,9,     -999,     -999,9,     -999,9,     -999,1,     -999,9,    0.061,1,    4.680,1,    0.130,1,  19.1000,2,     -999,9,20180325,2045, -67.6159, 173.5407,     -999,9,     -999,9,-999          ,9,     -999,9,     -999,9,     -999,     -999,9,     -999,     -999,9,     -999,9,     -999,9,     -999,9,     -999,9,     -999,9,     -999,9,     -999,9,     -999,9,     -999,9,     -999,9,     -999,9,     -999,9,     -999,9
320620180309  ,S04P       ,18      ,  2,10         ,10         ,2,20180325,1933, -67.6155, 173.5408,     3469,   1656.9,0.6350083333333335078,34.705870333300261,2,  34.7045,2,204.83617183671922,2, 204.5997,2,    205.2,2,    124.4,2,    32.60,2,     0.00,2,     2.23,2,    0.158,2,    0.089,2,   0.0300,2,   2262.6,2,  2363.94,2,   7.5920,6,    24.91,     41.7,2,     -999,9,   0.6342,2,     -999,9,     -999,9,     -999,     -999,9,     -999,9,     -999,1,     -999,9,    0.061,1,    4.681,1,    0.129,1,  19.2000,2,     -999,9,20180325,2040, -67.6163, 173.5405,     -999,9,     -999,9,-999          ,9,     -999,9,     -999,9,     -999,     -999,9,     -999,     -999,9,     -999,9,     -999,9,     -999,9,     -999,9,     -999,9,     -999,9,     -999,9,     -999,9,     -999,9,     -999,9,     -999,9,     -999,9,     -999,9
320620180309  ,S04P       ,18      ,  2,9          ,9          ,2,20180325,1933, -67.6155, 173.5408,     3469,   1757.0,0.6014083333333331005,34.704779217779155,2,  34.7035,2,205.40750979885345,2, 205.6991,2,    206.3,2,    126.0,2,    32.57,2,     0.00,2,     2.23,2,     -999,9,     -999,9,     -999,9,   2266.2,2,  2362.50,2,   7.5931,2,    24.91,     43.6,3,     -999,9,   0.6011,2,     -999,9,     -999,9,     -999,     -999,9,     -999,9,     -999,1,     -999,9,    0.061,1,    4.681,1,    0.129,1,     -999,9,     -999,9,20180325,2036, -67.6165, 173.5405,     -999,9,     -999,9,-999          ,9,     -999,9,     -999,9,     -999,     -999,9,     -999,     -999,9,     -999,9,     -999,9,     -999,9,     -999,9,     -999,9,     -999,9,     -999,9,     -999,9,     -999,9,     -999,9,     -999,9,     -999,9,     -999,9
320620180309  ,S04P       ,18      ,  2,8          ,8          ,2,20180325,1933, -67.6155, 173.5408,     3469,   1892.8,0.5589472222222223730,34.703299446421127,2,  34.7023,2,206.53484174714200,2, 206.9963,2,    207.5,2,    126.3,2,    32.56,2,     0.00,2,     2.24,2,    0.201,2,    0.115,2,   0.1700,3,   2264.4,6,  2362.65,2,   7.5930,2,    24.90,     40.4,2,     -999,9,   0.5584,2,     -999,9,     -999,9,     -999,     -999,9,     -999,9,     -999,1,     -999,9,    0.061,1,    4.681,1,    0.129,1,  18.9500,2,     -999,9,20180325,2031, -67.6164, 173.5406,     -999,9,     -999,9,-999          ,9,     -999,9,     -999,9,     -999,     -999,9,     -999,     -999,9,     -999,9,     -999,9,     -999,9,     -999,9,     -999,9,     -999,9,     -999,9,     -999,9,     -999,9,     -999,9,     -999,9,     -999,9,     -999,9
320620180309  ,S04P       ,18      ,  2,7          ,7          ,2,20180325,1933, -67.6155, 173.5408,     3469,   2115.0,0.4825194444444445008,34.700777462456138,2,  34.6996,2,208.95159154670407,2, 209.7952,2,    209.5,2,    126.9,2,    32.57,2,     0.00,2,     2.24,2,    0.270,2,    0.149,2,   0.0400,2,   2264.5,2,  2363.63,2,   7.5934,2,    24.92,     39.8,2,     -999,9,   0.4818,2,     -999,9,     -999,9,     -999,     -999,9,     -999,9,     -999,1,     -999,9,    0.061,1,    4.681,1,    0.127,1,  19.0200,2,     -999,9,20180325,2023, -67.6154, 173.5408,     -999,9,     -999,9,-999          ,9,     -999,9,     -999,9,     -999,     -999,9,     -999,     -999,9,     -999,9,     -999,9,     -999,9,     -999,9,     -999,9,     -999,9,     -999,9,     -999,9,     -999,9,     -999,9,     -999,9,     -999,9,     -999,9
320620180309  ,S04P       ,18      ,  2,6          ,6          ,2,20180325,1933, -67.6155, 173.5408,     3469,   2372.4,0.4122333333333332850,34.697958513724188,2,  34.6972,2,211.79243809366264,2, 212.9938,2,    211.7,2,    127.9,2,    32.60,2,     0.00,2,     2.24,2,     -999,9,     -999,9,     -999,9,   2261.6,2,  2363.52,2,   7.5913,2,    24.91,     40.7,2,     -999,9,   0.4119,2,     -999,9,     -999,9,     -999,     -999,9,     -999,9,     -999,1,     -999,9,    0.061,1,    4.680,1,    0.128,1,     -999,9,     -999,9,20180325,2015, -67.6157, 173.5408,     -999,9,     -999,9,-999          ,9,     -999,9,     -999,9,     -999,     -999,9,     -999,     -999,9,     -999,9,     -999,9,     -999,9,     -999,9,     -999,9,     -999,9,     -999,9,     -999,9,     -999,9,     -999,9,     -999,9,     -999,9,     -999,9
320620180309  ,S04P       ,18      ,  2,5          ,5          ,2,20180325,1933, -67.6155, 173.5408,     3469,   2626.3,0.3313277777777777766,34.694285267766205,2,  34.6931,2,215.03710567286524,2, 216.4026,2,    214.6,2,    126.1,2,    32.57,2,     0.00,2,     2.23,2,    0.559,2,    0.310,2,   0.2100,2,   2264.3,2,  2360.66,2,   7.5912,2,    24.92,     42.5,2,     -999,9,   0.3306,2,     -999,9,     -999,9,     -999,     -999,9,     -999,9,     -999,1,     -999,9,    0.061,1,    4.680,1,    0.130,1,  19.0200,2,     -999,9,20180325,2006, -67.6159, 173.5408,     -999,9,     -999,9,-999          ,9,     -999,9,     -999,9,     -999,     -999,9,     -999,     -999,9,     -999,9,     -999,9,     -999,9,     -999,9,     -999,9,     -999,9,     -999,9,     -999,9,     -999,9,     -999,9,     -999,9,     -999,9,     -999,9
320620180309  ,S04P       ,18      ,  2,4          ,4          ,2,20180325,1933, -67.6155, 173.5408,     3469,   2882.1,0.2589194444444444798,34.692037161686720,2,  34.6907,2,217.97985639271420,2, 220.9007,3,    217.2,2,    125.1,2,    32.52,2,     0.00,2,     2.24,2,    0.693,2,    0.377,2,   0.3900,2,   2263.9,2,  2361.82,2,   7.5895,2,    24.90,     -999,9,     -999,9,   0.2604,2,     -999,9,     -999,9,     -999,     -999,9,     -999,9,     -999,9,     -999,9,    0.061,1,    4.680,1,    0.127,1,  18.9300,2,     -999,9,20180325,1958, -67.6164, 173.5405,     -999,9,     -999,9,-999          ,9,     -999,9,     -999,9,     -999,     -999,9,     -999,     -999,9,     -999,9,     -999,9,     -999,9,     -999,9,     -999,9,     -999,9,     -999,9,     -999,9,     -999,9,     -999,9,     -999,9,     -999,9,     -999,9
320620180309  ,S04P       ,18      ,  2,3          ,3          ,2,20180325,1933, -67.6155, 173.5408,     3469,   3139.5,0.1503166666666666818,34.686688981044725,2,  34.6850,2,222.67102292638890,2, 223.5034,2,    223.0,2,    118.4,2,    32.29,2,     0.00,2,     2.22,2,    1.154,2,    0.615,2,   0.5100,2,   2261.5,2,  2358.68,2,   7.5917,2,    24.91,     41.2,2,     -999,9,   0.1497,2,     -999,9,     -999,9,     -999,     -999,9,     -999,9,     -999,1,     -999,9,    0.062,1,    4.678,1,    0.128,1,  19.0600,2,     -999,9,20180325,1948, -67.6165, 173.5405,     -999,9,     -999,9,-999          ,9,     -999,9,     -999,9,     -999,     -999,9,     -999,     -999,9,     -999,9,     -999,9,     -999,9,     -999,9,     -999,9,     -999,9,     -999,9,     -999,9,     -999,9,     -999,9,     -999,9,     -999,9,     -999,9
320620180309  ,S04P       ,18      ,  2,2          ,2          ,2,20180325,1933, -67.6155, 173.5408,     3469,   3333.4,0.0880444444444444391,34.686442176667825,2,  34.6856,2,226.36074970858814,2, 226.1951,2,    226.3,2,    113.1,2,    32.19,2,     0.00,2,     2.24,2,    1.456,2,    0.783,2,   0.7800,2,   2261.9,2,  2358.72,2,   7.5876,2,    24.90,     -999,9,     -999,9,   0.0875,2,     -999,9,     -999,9,     -999,     -999,9,     -999,9,     -999,9,     -999,9,    0.061,1,    4.676,1,    0.132,1,  19.0600,2,     -999,9,20180325,1940, -67.6159, 173.5408,     -999,9,     -999,9,-999          ,9,     -999,9,     -999,9,     -999,     -999,9,     -999,     -999,9,     -999,9,     -999,9,     -999,9,     -999,9,     -999,9,     -999,9,     -999,9,     -999,9,     -999,9,     -999,9,     -999,9,     -999,9,     -999,9
320620180309  ,S04P       ,18      ,  2,1          ,1          ,2,20180325,1933, -67.6155, 173.5408,     3469,   3525.1,0.0462833333333333291,34.687660309927097,2,  34.6858,2,228.45215044868036,2, 226.5985,2,    228.3,2,    110.8,2,    32.12,2,     0.00,2,     2.25,2,    1.656,6,    0.899,6,   0.8800,6,   2260.7,6,  2360.67,2,   7.5868,2,    24.91,     40.3,2,     -999,9,   0.0459,2,     -999,9,     -999,9,     -999,     -999,9,     -999,9,     -999,1,     -999,9,    0.061,1,    4.671,1,    0.140,1,  19.0600,6,     -999,9,20180325,1933, -67.6155, 173.5408,     -999,9,     -999,9,-999          ,9,     -999,9,     -999,9,     -999,     -999,9,     -999,     -999,9,     -999,9,     -999,9,     -999,9,     -999,9,     -999,9,     -999,9,     -999,9,     -999,9,     -999,9,     -999,9,     -999,9,     -999,9,     -999,9