BOTTLE,20240515CCHHYDRO
EXPOCODE,SECT_ID,STNNBR,CASTNO,SAMPNO,BTLNBR,BTLNBR_FLAG_W,DATE,TIME,LATITUDE,LONGITUDE,DEPTH,CTDPRS,CTDTMP,CTDSAL,CTDSAL_FLAG_W,SALNTY,SALNTY_FLAG_W,CTDOXY,CTDOXY_FLAG_W,CTDOPTOXY,CTDOPTOXY_FLAG_W,OXYGEN,OXYGEN_FLAG_W,SILCAT,SILCAT_FLAG_W,NITRAT,NITRAT_FLAG_W,NITRIT,NITRIT_FLAG_W,PHSPHT,PHSPHT_FLAG_W,CFC-11,CFC-11_FLAG_W,CFC-12,CFC-12_FLAG_W,SF6,SF6_FLAG_W,TCARBN,TCARBN_FLAG_W,ALKALI,ALKALI_FLAG_W,PH_TOT,PH_TOT_FLAG_W,PH_TMP,DOC,DOC_FLAG_W,HELIUM,HELIUM_FLAG_W,REFTMP,REFTMP_FLAG_W,DELC13,DELC13_FLAG_W,DELC14,DELC14_FLAG_W,C14ERR,POC,POC_FLAG_W,TDN,TDN_FLAG_W,TON,TON_FLAG_W,NEON,NEON_FLAG_W,CTDFLUOR,CTDFLUOR_FLAG_W,CTDXMISS,CTDXMISS_FLAG_W,CTDBETA700,CTDBETA700_FLAG_W,N2O,N2O_FLAG_W,ARGON,ARGON_FLAG_W,BTL_DATE,BTL_TIME,BTL_LAT,BTL_LON,KRYPTON,KRYPTON_FLAG_W,XENON,XENON_FLAG_W,HPLC,HPLC_FLAG_W,HE3_HE4_RATIO,HE3_HE4_RATIO_FLAG_W,Nd_143_144_D_EPSILON_BOTTLE,Nd_143_144_D_EPSILON_BOTTLE_FLAG_W,Nd_143_144_D_EPSILON_BOTTLE_ERROR,Nd_143_144_D_RATIO_BOTTLE,Nd_143_144_D_RATIO_BOTTLE_FLAG_W,Nd_143_144_D_RATIO_BOTTLE_ERROR,Nd_D_CONC,Nd_D_CONC_FLAG_W,La_D_CONC_BOTTLE,La_D_CONC_BOTTLE_FLAG_W,Ce_D_CONC_BOTTLE,Ce_D_CONC_BOTTLE_FLAG_W,Pr_D_CONC_BOTTLE,Pr_D_CONC_BOTTLE_FLAG_W,Sm_D_CONC_BOTTLE,Sm_D_CONC_BOTTLE_FLAG_W,Eu_D_CONC_BOTTLE,Eu_D_CONC_BOTTLE_FLAG_W,Gd_D_CONC_BOTTLE,Gd_D_CONC_BOTTLE_FLAG_W,Tb_D_CONC_BOTTLE,Tb_D_CONC_BOTTLE_FLAG_W,Dy_D_CONC_BOTTLE,Dy_D_CONC_BOTTLE_FLAG_W,Ho_D_CONC_BOTTLE,Ho_D_CONC_BOTTLE_FLAG_W,Er_D_CONC_BOTTLE,Er_D_CONC_BOTTLE_FLAG_W,Tm_D_CONC_BOTTLE,Tm_D_CONC_BOTTLE_FLAG_W,Yb_D_CONC_BOTTLE,Yb_D_CONC_BOTTLE_FLAG_W,Lu_D_CONC_BOTTLE,Lu_D_CONC_BOTTLE_FLAG_W
,,,,,,,,,,,METERS,DBAR,ITS-90,PSS-78,,PSS-78,,UMOL/KG,,UMOL/KG,,UMOL/KG,,UMOL/KG,,UMOL/KG,,UMOL/KG,,UMOL/KG,,PMOL/KG,,PMOL/KG,,FMOL/KG,,UMOL/KG,,UMOL/KG,,,,DEG C,UMOL/KG,,NMOL/L,,DEG C,,/MILLE,,/MILLE,,/MILLE,UG/KG,,UMOL/KG,,UMOL/KG,,NMOL/L,,VOLTS,,VOLTS,,VOLTS,,NMOL/KG,,UMOL/L,,,,,,NMOL/L,,NMOL/L,,,,,,10000,,10000,,,,PMOL/KG,,PMOL/L,,PMOL/L,,PMOL/L,,PMOL/L,,PMOL/L,,PMOL/L,,PMOL/L,,PMOL/L,,PMOL/L,,PMOL/L,,PMOL/L,,PMOL/L,,PMOL/L,
320620180309  ,S04P       ,116     ,  1,15         ,15         ,2,20180506,1150, -67.0005, -83.4674,     4233,   1351.3,1.5563721275616260176,34.731171084579771,2,  34.7321,2,191.78490995157372,2, 191.8033,2,    192.4,2,     99.3,2,    31.53,2,     0.00,2,     2.15,2,     -999,9,     -999,9,     -999,9,   2256.9,2,  2358.32,2,   7.5989,2,    24.99,     41.2,2,     -999,9,   1.5564,2,     -999,9,     -999,9,     -999,     -999,9,     -999,9,     -999,1,     -999,9,    0.061,1,    4.646,1,    0.132,1,     -999,9,     -999,9,20180506,1307, -67.0004, -83.4648,     -999,9,     -999,9,-999          ,9,     -999,9,     -999,9,     -999,     -999,9,     -999,     -999,9,     -999,9,     -999,9,     -999,9,     -999,9,     -999,9,     -999,9,     -999,9,     -999,9,     -999,9,     -999,9,     -999,9,     -999,9,     -999,9
320620180309  ,S04P       ,116     ,  1,14         ,14         ,2,20180506,1150, -67.0005, -83.4674,     4233,   1452.1,1.4752933317869159069,34.730518397093022,2,  34.7308,2,193.30602279430605,2, 193.2012,2,    194.4,2,    101.4,2,    31.52,2,     0.00,2,     2.16,2,    0.146,2,    0.085,2,   0.0000,2,   2259.0,2,  2360.99,2,   7.5973,2,    24.99,     44.0,2,     -999,9,   1.4751,2,     -999,9,     -999,9,     -999,     -999,9,     -999,9,     -999,1,     -999,9,    0.061,1,    4.646,1,    0.129,1,  19.0700,2,     -999,9,20180506,1304, -67.0004, -83.4646,     -999,9,     -999,9,-999          ,9,     -999,9,     -999,9,     -999,     -999,9,     -999,     -999,9,     -999,9,     -999,9,     -999,9,     -999,9,     -999,9,     -999,9,     -999,9,     -999,9,     -999,9,     -999,9,     -999,9,     -999,9,     -999,9
320620180309  ,S04P       ,116     ,  1,13         ,13         ,2,20180506,1150, -67.0005, -83.4674,     4233,   1555.9,1.3836310101075703916,34.728397190561736,2,  34.7294,2,194.33542420928006,2, 194.7981,2,    195.0,2,    104.9,2,    31.64,2,     0.00,2,     2.17,2,    0.131,2,    0.069,2,   0.0000,3,   2259.4,2,  2360.66,2,   7.5984,2,    24.98,     37.8,2,     -999,9,   1.3836,2,     -999,9,     -999,9,     -999,     -999,9,     -999,9,     -999,1,     -999,9,    0.061,1,    4.647,1,    0.129,1,  19.7400,2,     -999,9,20180506,1300, -67.0004, -83.4645,     -999,9,     -999,9,-999          ,9,     -999,9,     -999,9,     -999,     -999,9,     -999,     -999,9,     -999,9,     -999,9,     -999,9,     -999,9,     -999,9,     -999,9,     -999,9,     -999,9,     -999,9,     -999,9,     -999,9,     -999,9,     -999,9
320620180309  ,S04P       ,116     ,  1,12         ,12         ,2,20180506,1150, -67.0005, -83.4674,     4233,   1658.1,1.3060067941709438966,34.726209823350310,2,  34.7272,2,195.68084297849140,2, 195.8956,2,    196.4,2,    107.6,2,    31.72,2,     0.00,2,     2.18,2,    0.118,2,    0.073,2,   0.0500,2,   2259.1,2,  2364.09,2,   7.6004,2,    24.99,     39.8,2,     -999,9,   1.3059,2,     -999,9,     -999,9,     -999,     -999,9,     -999,9,     -999,1,     -999,9,    0.061,1,    4.647,1,    0.128,1,  18.9100,2,     -999,9,20180506,1257, -67.0004, -83.4648,     -999,9,     -999,9,-999          ,9,     -999,9,     -999,9,     -999,     -999,9,     -999,     -999,9,     -999,9,     -999,9,     -999,9,     -999,9,     -999,9,     -999,9,     -999,9,     -999,9,     -999,9,     -999,9,     -999,9,     -999,9,     -999,9
320620180309  ,S04P       ,116     ,  1,11         ,11         ,2,20180506,1150, -67.0005, -83.4674,     4233,   1722.9,1.2666834992528699377,34.725093174853789,2,  34.7263,2,196.47678676296178,2, 196.5991,2,    196.9,2,    108.8,2,    31.75,2,     0.00,2,     2.18,2,     -999,9,     -999,9,     -999,9,   2260.9,2,  2362.29,2,   7.5986,2,    25.00,     42.9,2,     -999,9,   1.2668,2,     -999,9,     -999,9,     -999,     -999,9,     -999,9,     -999,1,     -999,9,    0.060,1,    4.647,1,    0.128,1,     -999,9,     -999,9,20180506,1255, -67.0004, -83.4649,     -999,9,     -999,9,-999          ,9,     -999,9,     -999,9,     -999,     -999,9,     -999,     -999,9,     -999,9,     -999,9,     -999,9,     -999,9,     -999,9,     -999,9,     -999,9,     -999,9,     -999,9,     -999,9,     -999,9,     -999,9,     -999,9
320620180309  ,S04P       ,116     ,  1,10         ,10         ,2,20180506,1150, -67.0005, -83.4674,     4233,   1892.4,1.1713097136426273703,34.722272849209880,2,  34.7231,2,197.87257806083380,2, 198.4021,2,    198.8,2,    111.9,2,    31.85,2,     0.00,2,     2.19,2,    0.119,2,    0.074,2,   0.0800,2,   2263.0,2,  2364.57,2,   7.5979,2,    25.01,     39.8,2,     -999,9,   1.1713,2,     -999,9,     -999,9,     -999,     -999,9,     -999,9,     -999,1,     -999,9,    0.061,1,    4.647,1,    0.127,1,  18.6800,2,     -999,9,20180506,1250, -67.0003, -83.4644,     -999,9,     -999,9,-999          ,9,     -999,9,     -999,9,     -999,     -999,9,     -999,     -999,9,     -999,9,     -999,9,     -999,9,     -999,9,     -999,9,     -999,9,     -999,9,     -999,9,     -999,9,     -999,9,     -999,9,     -999,9,     -999,9
320620180309  ,S04P       ,116     ,  1,9          ,9          ,2,20180506,1150, -67.0005, -83.4674,     4233,   2116.5,1.0525115155025130953,34.717912365941785,2,  34.7188,2,200.98181763522064,2, 200.8034,2,    200.7,2,    115.6,2,    31.96,2,     0.00,2,     2.19,2,    0.125,2,    0.080,2,   0.0400,3,   2261.4,6,  2363.45,2,   7.6002,2,    24.99,     42.4,2,     -999,9,   1.0526,2,     -999,9,     -999,9,     -999,     -999,9,     -999,9,     -999,1,     -999,9,    0.061,1,    4.648,1,    0.127,1,  18.8200,2,     -999,9,20180506,1245, -67.0004, -83.4651,     -999,9,     -999,9,-999          ,9,     -999,9,     -999,9,     -999,     -999,9,     -999,     -999,9,     -999,9,     -999,9,     -999,9,     -999,9,     -999,9,     -999,9,     -999,9,     -999,9,     -999,9,     -999,9,     -999,9,     -999,9,     -999,9
320620180309  ,S04P       ,116     ,  1,8          ,8          ,2,20180506,1150, -67.0005, -83.4674,     4233,   2370.9,0.9349711890938224856,34.713345407501613,2,  34.7147,2,203.22421492867741,2, 203.1062,2,    203.4,2,    119.8,2,    32.07,2,     0.00,2,     2.20,2,     -999,9,     -999,9,     -999,9,   2261.6,2,  2364.90,2,   7.5993,2,    24.99,     40.5,2,     -999,9,   0.9349,2,     -999,9,     -999,9,     -999,     -999,9,     -999,9,     -999,1,     -999,9,    0.061,1,    4.648,1,    0.126,1,     -999,9,     -999,9,20180506,1239, -67.0004, -83.4649,     -999,9,     -999,9,-999          ,9,     -999,9,     -999,9,     -999,     -999,9,     -999,     -999,9,     -999,9,     -999,9,     -999,9,     -999,9,     -999,9,     -999,9,     -999,9,     -999,9,     -999,9,     -999,9,     -999,9,     -999,9,     -999,9
320620180309  ,S04P       ,116     ,  1,7          ,7          ,2,20180506,1150, -67.0005, -83.4674,     4233,   2626.5,0.8343718559224559961,34.709701776704733,2,  34.7106,2,204.95068000762484,2, 205.2047,2,    205.1,2,    123.8,2,    32.16,2,     0.00,2,     2.20,2,    0.152,2,    0.087,2,   0.0300,2,   2263.6,2,  2365.27,2,   7.5986,2,    25.01,     42.6,2,     -999,9,   0.8345,2,     -999,9,     -999,9,     -999,     -999,9,     -999,9,     -999,1,     -999,9,    0.062,1,    4.648,1,    0.127,1,  18.5800,2,     -999,9,20180506,1233, -67.0004, -83.4654,     -999,9,     -999,9,-999          ,9,     -999,9,     -999,9,     -999,     -999,9,     -999,     -999,9,     -999,9,     -999,9,     -999,9,     -999,9,     -999,9,     -999,9,     -999,9,     -999,9,     -999,9,     -999,9,     -999,9,     -999,9,     -999,9
320620180309  ,S04P       ,116     ,  1,6          ,6          ,2,20180506,1150, -67.0005, -83.4674,     4233,   2881.8,0.7358828302097618623,34.706348136534366,2,  34.7068,2,206.63172275382433,2, 206.8985,2,    207.2,2,    126.8,2,    32.27,2,     0.00,2,     2.23,2,    0.179,2,    0.095,2,   0.0000,2,   2263.7,2,  2365.14,2,   7.5980,2,    25.00,     38.8,2,     -999,9,   0.7356,2,     -999,9,     -999,9,     -999,     -999,9,     -999,9,     -999,1,     -999,9,    0.061,1,    4.647,1,    0.126,1,  18.6100,2,     -999,9,20180506,1226, -67.0004, -83.4647,     -999,9,     -999,9,-999          ,9,     -999,9,     -999,9,     -999,     -999,9,     -999,     -999,9,     -999,9,     -999,9,     -999,9,     -999,9,     -999,9,     -999,9,     -999,9,     -999,9,     -999,9,     -999,9,     -999,9,     -999,9,     -999,9
320620180309  ,S04P       ,116     ,  1,5          ,5          ,2,20180506,1150, -67.0005, -83.4674,     4233,   3155.6,0.6099297357184197965,34.703564415282074,2,  34.7043,2,208.66983386986774,2, 209.4031,2,    209.2,2,    130.1,2,    32.42,2,     0.00,2,     2.22,2,    0.204,2,    0.123,2,   0.0000,2,   2264.5,2,  2366.76,2,   7.5956,2,    25.00,     43.0,2,     -999,9,   0.6103,2,     -999,9,     -999,9,     -999,     -999,9,     -999,9,     -999,1,     -999,9,    0.061,1,    4.647,1,    0.125,1,  18.6200,2,     -999,9,20180506,1220, -67.0004, -83.4655,     -999,9,     -999,9,-999          ,9,     -999,9,     -999,9,     -999,     -999,9,     -999,     -999,9,     -999,9,     -999,9,     -999,9,     -999,9,     -999,9,     -999,9,     -999,9,     -999,9,     -999,9,     -999,9,     -999,9,     -999,9,     -999,9
320620180309  ,S04P       ,116     ,  1,4          ,4          ,2,20180506,1150, -67.0005, -83.4674,     4233,   3461.3,0.5060591783204883010,34.702025493186710,2,  34.7025,2,211.18238700559721,2, 211.3980,2,    211.6,2,    133.9,2,    32.56,2,     0.00,2,     2.23,2,    0.213,2,    0.117,2,   0.0700,2,   2263.4,2,  2366.26,2,   7.5966,2,    24.99,     41.5,2,     -999,9,   0.5061,2,     -999,9,     -999,9,     -999,     -999,9,     -999,9,     -999,1,     -999,9,    0.061,1,    4.647,1,    0.125,1,  18.4500,2,     -999,9,20180506,1213, -67.0005, -83.4674,     -999,9,     -999,9,-999          ,9,     -999,9,     -999,9,     -999,     -999,9,     -999,     -999,9,     -999,9,     -999,9,     -999,9,     -999,9,     -999,9,     -999,9,     -999,9,     -999,9,     -999,9,     -999,9,     -999,9,     -999,9,     -999,9
320620180309  ,S04P       ,116     ,  1,3          ,3          ,2,20180506,1150, -67.0005, -83.4674,     4233,   3769.6,0.4433724027150583447,34.701044968361764,2,  34.7003,2,212.67794127723963,2, 212.7975,2,    212.5,2,    137.6,2,    32.67,2,     0.00,2,     2.24,2,    0.243,2,    0.134,2,   0.0500,3,   2265.2,2,  2366.17,2,   7.5968,2,    25.00,     40.9,2,     -999,9,   0.4433,2,     -999,9,     -999,9,     -999,     -999,9,     -999,9,     -999,1,     -999,9,    0.060,1,    4.646,1,    0.129,1,  18.6400,2,     -999,9,20180506,1206, -67.0005, -83.4675,     -999,9,     -999,9,-999          ,9,     -999,9,     -999,9,     -999,     -999,9,     -999,     -999,9,     -999,9,     -999,9,     -999,9,     -999,9,     -999,9,     -999,9,     -999,9,     -999,9,     -999,9,     -999,9,     -999,9,     -999,9,     -999,9
320620180309  ,S04P       ,116     ,  1,2          ,2          ,2,20180506,1150, -67.0005, -83.4674,     4233,   4078.4,0.4121720966948819176,34.700247377653682,2,  34.7009,2,213.81364544931367,2, 213.3982,2,    213.9,2,    141.7,2,    32.74,2,     0.00,2,     2.26,2,    0.288,2,    0.156,2,   0.0000,2,   2265.2,2,  2366.37,2,   7.5949,2,    25.06,     40.8,2,     -999,9,   0.4123,2,     -999,9,     -999,9,     -999,     -999,9,     -999,9,     -999,1,     -999,9,    0.061,1,    4.643,1,    0.132,1,  18.5500,2,     -999,9,20180506,1158, -67.0006, -83.4681,     -999,9,     -999,9,-999          ,9,     -999,9,     -999,9,     -999,     -999,9,     -999,     -999,9,     -999,9,     -999,9,     -999,9,     -999,9,     -999,9,     -999,9,     -999,9,     -999,9,     -999,9,     -999,9,     -999,9,     -999,9,     -999,9
320620180309  ,S04P       ,116     ,  1,1          ,1          ,2,20180506,1150, -67.0005, -83.4674,     4233,   4307.8,0.3922914381307184839,34.699229992643801,2,  34.7007,2,214.52222159186394,2, 213.8013,2,    213.6,2,    146.3,2,    32.81,2,     0.00,2,     2.25,2,    0.352,2,    0.188,2,   0.0000,3,   2266.4,6,  2367.82,2,   7.5910,2,    24.99,     42.6,2,     -999,9,   0.3924,2,     -999,9,     -999,9,     -999,     -999,9,     -999,9,     -999,1,     -999,9,    0.060,1,    4.638,1,    0.138,1,  18.7200,2,     -999,9,20180506,1150, -67.0005, -83.4674,     -999,9,     -999,9,-999          ,9,     -999,9,     -999,9,     -999,     -999,9,     -999,     -999,9,     -999,9,     -999,9,     -999,9,     -999,9,     -999,9,     -999,9,     -999,9,     -999,9,     -999,9,     -999,9,     -999,9,     -999,9,     -999,9