BOTTLE,20240515CCHHYDRO
EXPOCODE,SECT_ID,STNNBR,CASTNO,SAMPNO,BTLNBR,BTLNBR_FLAG_W,DATE,TIME,LATITUDE,LONGITUDE,DEPTH,CTDPRS,CTDTMP,CTDSAL,CTDSAL_FLAG_W,SALNTY,SALNTY_FLAG_W,CTDOXY,CTDOXY_FLAG_W,CTDOPTOXY,CTDOPTOXY_FLAG_W,OXYGEN,OXYGEN_FLAG_W,SILCAT,SILCAT_FLAG_W,NITRAT,NITRAT_FLAG_W,NITRIT,NITRIT_FLAG_W,PHSPHT,PHSPHT_FLAG_W,CFC-11,CFC-11_FLAG_W,CFC-12,CFC-12_FLAG_W,SF6,SF6_FLAG_W,TCARBN,TCARBN_FLAG_W,ALKALI,ALKALI_FLAG_W,PH_TOT,PH_TOT_FLAG_W,PH_TMP,DOC,DOC_FLAG_W,HELIUM,HELIUM_FLAG_W,REFTMP,REFTMP_FLAG_W,DELC13,DELC13_FLAG_W,DELC14,DELC14_FLAG_W,C14ERR,POC,POC_FLAG_W,TDN,TDN_FLAG_W,TON,TON_FLAG_W,NEON,NEON_FLAG_W,CTDFLUOR,CTDFLUOR_FLAG_W,CTDXMISS,CTDXMISS_FLAG_W,CTDBETA700,CTDBETA700_FLAG_W,N2O,N2O_FLAG_W,ARGON,ARGON_FLAG_W,BTL_DATE,BTL_TIME,BTL_LAT,BTL_LON,KRYPTON,KRYPTON_FLAG_W,XENON,XENON_FLAG_W,HPLC,HPLC_FLAG_W,HE3_HE4_RATIO,HE3_HE4_RATIO_FLAG_W,Nd_143_144_D_EPSILON_BOTTLE,Nd_143_144_D_EPSILON_BOTTLE_FLAG_W,Nd_143_144_D_EPSILON_BOTTLE_ERROR,Nd_143_144_D_RATIO_BOTTLE,Nd_143_144_D_RATIO_BOTTLE_FLAG_W,Nd_143_144_D_RATIO_BOTTLE_ERROR,Nd_D_CONC,Nd_D_CONC_FLAG_W,La_D_CONC_BOTTLE,La_D_CONC_BOTTLE_FLAG_W,Ce_D_CONC_BOTTLE,Ce_D_CONC_BOTTLE_FLAG_W,Pr_D_CONC_BOTTLE,Pr_D_CONC_BOTTLE_FLAG_W,Sm_D_CONC_BOTTLE,Sm_D_CONC_BOTTLE_FLAG_W,Eu_D_CONC_BOTTLE,Eu_D_CONC_BOTTLE_FLAG_W,Gd_D_CONC_BOTTLE,Gd_D_CONC_BOTTLE_FLAG_W,Tb_D_CONC_BOTTLE,Tb_D_CONC_BOTTLE_FLAG_W,Dy_D_CONC_BOTTLE,Dy_D_CONC_BOTTLE_FLAG_W,Ho_D_CONC_BOTTLE,Ho_D_CONC_BOTTLE_FLAG_W,Er_D_CONC_BOTTLE,Er_D_CONC_BOTTLE_FLAG_W,Tm_D_CONC_BOTTLE,Tm_D_CONC_BOTTLE_FLAG_W,Yb_D_CONC_BOTTLE,Yb_D_CONC_BOTTLE_FLAG_W,Lu_D_CONC_BOTTLE,Lu_D_CONC_BOTTLE_FLAG_W
,,,,,,,,,,,METERS,DBAR,ITS-90,PSS-78,,PSS-78,,UMOL/KG,,UMOL/KG,,UMOL/KG,,UMOL/KG,,UMOL/KG,,UMOL/KG,,UMOL/KG,,PMOL/KG,,PMOL/KG,,FMOL/KG,,UMOL/KG,,UMOL/KG,,,,DEG C,UMOL/KG,,NMOL/L,,DEG C,,/MILLE,,/MILLE,,/MILLE,UG/KG,,UMOL/KG,,UMOL/KG,,NMOL/L,,VOLTS,,VOLTS,,VOLTS,,NMOL/KG,,UMOL/L,,,,,,NMOL/L,,NMOL/L,,,,,,10000,,10000,,,,PMOL/KG,,PMOL/L,,PMOL/L,,PMOL/L,,PMOL/L,,PMOL/L,,PMOL/L,,PMOL/L,,PMOL/L,,PMOL/L,,PMOL/L,,PMOL/L,,PMOL/L,,PMOL/L,
320620180309  ,S04P       ,19      ,  1,36         ,36         ,2,20180326,0244, -67.2488, 174.4687,     3274,      4.3,-0.9351972222222221243,34.041298420822223,2,  34.0400,2,338.89548630052428,2, 309.0000,3,    342.1,2,     58.6,2,    26.74,2,     0.15,2,     1.77,2,    5.483,2,    3.040,2,   3.7900,2,   2193.9,6,  2307.20,2,   7.6508,2,    24.94,     -999,9,     -999,9,  -1.0925,3,1.11000000,2, -125.290,2,    0.002,     -999,9,     -999,9,     -999,9,     -999,9,    0.130,1,    4.588,1,    0.215,1,  16.1300,2,     -999,9,20180326,0431, -67.2488, 174.4689,     -999,9,     -999,9,-999          ,9,     -999,9,     -999,9,     -999,     -999,9,     -999,     -999,9,     -999,1,     -999,1,     -999,1,     -999,1,     -999,1,     -999,1,     -999,1,     -999,1,     -999,1,     -999,1,     -999,1,     -999,1,     -999,1
320620180309  ,S04P       ,19      ,  1,35         ,35         ,2,20180326,0244, -67.2488, 174.4687,     3274,     18.9,-0.9504472222222223321,34.041727617398294,2,  34.0404,2,339.82696209624794,2, 316.0993,3,    340.4,2,     58.6,2,    26.81,2,     0.15,2,     1.79,2,     -999,9,     -999,9,     -999,9,   2192.7,2,  2308.26,2,   7.6506,6,    24.95,     -999,9,     -999,9,  -0.9465,2,     -999,9,     -999,9,     -999,     -999,9,     -999,9,     -999,9,     -999,9,    0.142,1,    4.588,1,    0.225,1,     -999,9,     -999,9,20180326,0430, -67.2489, 174.4689,     -999,9,     -999,9,-999          ,9,     -999,9,     -999,9,     -999,     -999,9,     -999,     -999,9,     -999,9,     -999,9,     -999,9,     -999,9,     -999,9,     -999,9,     -999,9,     -999,9,     -999,9,     -999,9,     -999,9,     -999,9,     -999,9
320620180309  ,S04P       ,19      ,  1,34         ,34         ,2,20180326,0244, -67.2488, 174.4687,     3274,     39.1,-1.0084388888888886626,34.042878976634150,2,  34.0422,2,339.81319500289243,2, 328.2960,3,    341.0,2,     57.8,2,    26.81,2,     0.15,2,     1.81,2,     -999,9,     -999,9,     -999,9,   2193.6,2,  2307.87,2,   7.6492,2,    24.94,     -999,9,     -999,9,  -1.0103,2,     -999,9,     -999,9,     -999,     -999,9,     -999,9,     -999,9,     -999,9,    0.158,1,    4.586,1,    0.230,1,     -999,9,     -999,9,20180326,0428, -67.2490, 174.4688,     -999,9,     -999,9,-999          ,9,     -999,9,     -999,9,     -999,     -999,9,     -999,     -999,9,     -999,1,     -999,1,     -999,1,     -999,1,     -999,1,     -999,1,     -999,1,     -999,1,     -999,1,     -999,1,     -999,1,     -999,1,     -999,1
320620180309  ,S04P       ,19      ,  1,33         ,33         ,2,20180326,0244, -67.2488, 174.4687,     3274,     64.2,-1.0824388888888887283,34.046840804527086,2,  34.0488,2,339.98463074859046,2, 370.5044,3,    339.2,2,     57.5,2,    26.98,2,     0.15,2,     1.83,2,     -999,9,     -999,9,     -999,9,   2197.8,2,  2306.49,2,   7.6487,2,    24.94,     -999,9,     -999,9,  -1.0830,2,1.12000000,2, -124.910,2,    0.002,     -999,9,     -999,9,     -999,9,     -999,9,    0.168,1,    4.585,1,    0.242,1,     -999,9,     -999,9,20180326,0426, -67.2491, 174.4687,     -999,9,     -999,9,-999          ,9,     -999,9,     -999,9,     -999,     -999,9,     -999,     -999,9,     -999,9,     -999,9,     -999,9,     -999,9,     -999,9,     -999,9,     -999,9,     -999,9,     -999,9,     -999,9,     -999,9,     -999,9,     -999,9
320620180309  ,S04P       ,19      ,  1,32         ,32         ,2,20180326,0244, -67.2488, 174.4687,     3274,     90.4,-0.9011194444444444729,34.383778172198731,2,  34.3876,2,250.65697046499130,2, 249.6019,2,    250.7,2,     75.6,2,    31.33,2,     0.06,2,     2.16,2,     -999,9,     -999,9,     -999,9,   2235.2,2,  2325.76,2,   7.5827,2,    24.96,     -999,9,     -999,9,  -0.9043,2,0.58000000,2, -135.510,2,    0.002,     -999,9,     -999,9,     -999,9,     -999,9,    0.150,1,    4.619,1,    0.219,1,     -999,9,     -999,9,20180326,0424, -67.2492, 174.4687,     -999,9,     -999,9,-999          ,9,     -999,9,     -999,9,     -999,     -999,9,     -999,     -999,9,     -999,1,     -999,1,     -999,1,     -999,1,     -999,1,     -999,1,     -999,1,     -999,1,     -999,1,     -999,1,     -999,1,     -999,1,     -999,1
320620180309  ,S04P       ,19      ,  1,31         ,31         ,2,20180326,0244, -67.2488, 174.4687,     3274,    114.4,0.3903611111111111587,34.534966921055236,2,  34.5483,2,215.87550135702429,3, 239.4005,3,    209.2,2,     85.5,2,    32.45,2,     0.02,2,     2.24,2,    1.555,2,    0.841,2,   0.9200,2,   2249.1,2,  2336.53,2,   7.5673,2,    24.94,     -999,9,     -999,9,   0.3858,2,0.61000000,2, -144.870,2,    0.002,     -999,9,     -999,9,     -999,9,     -999,9,    0.085,1,    4.656,1,    0.176,1,  21.0200,2,     -999,9,20180326,0422, -67.2491, 174.4687,     -999,9,     -999,9,-999          ,9,     -999,9,     -999,9,     -999,     -999,9,     -999,     -999,9,     -999,9,     -999,9,     -999,9,     -999,9,     -999,9,     -999,9,     -999,9,     -999,9,     -999,9,     -999,9,     -999,9,     -999,9,     -999,9
320620180309  ,S04P       ,19      ,  1,30         ,30         ,2,20180326,0244, -67.2488, 174.4687,     3274,    141.5,0.9970833333333329884,34.617462880751731,2,  34.6221,2,197.01170583729871,2, 209.7997,3,    195.2,2,     89.9,2,    32.62,2,     0.01,2,     2.24,2,     -999,9,     -999,9,     -999,9,   2258.1,2,  2344.03,2,   7.5653,2,    24.94,     -999,9,     -999,9,   0.9945,2,0.52000000,2, -145.470,2,    0.002,     -999,9,     -999,9,     -999,9,     -999,9,    0.072,1,    4.657,1,    0.164,1,     -999,9,     -999,9,20180326,0420, -67.2490, 174.4688,     -999,9,     -999,9,-999          ,9,     -999,9,     -999,9,     -999,     -999,9,     -999,     -999,9,     -999,1,     -999,1,     -999,1,     -999,1,     -999,1,     -999,1,     -999,1,     -999,1,     -999,1,     -999,1,     -999,1,     -999,1,     -999,1
320620180309  ,S04P       ,19      ,  1,29         ,29         ,2,20180326,0244, -67.2488, 174.4687,     3274,    165.1,1.2238083333333333869,34.653253386515090,2,  34.6576,2,191.66415560439029,3, 198.7989,3,    189.4,2,     91.9,2,    32.58,2,     0.01,2,     2.24,2,     -999,9,     -999,9,     -999,9,   2257.0,2,  2345.42,2,   7.5652,2,    24.94,     -999,9,     -999,9,   1.2202,2,0.52000000,2, -149.900,2,    0.002,     -999,9,     -999,9,     -999,9,     -999,9,    0.066,1,    4.664,1,    0.152,1,     -999,9,     -999,9,20180326,0418, -67.2490, 174.4688,     -999,9,     -999,9,-999          ,9,     -999,9,     -999,9,     -999,     -999,9,     -999,     -999,9,     -999,9,     -999,9,     -999,9,     -999,9,     -999,9,     -999,9,     -999,9,     -999,9,     -999,9,     -999,9,     -999,9,     -999,9,     -999,9
320620180309  ,S04P       ,19      ,  1,28         ,28         ,2,20180326,0244, -67.2488, 174.4687,     3274,    191.1,1.3346194444444445804,34.679093740199107,2,  34.6825,2,188.38910797132843,2, 191.4054,3,    187.6,2,     94.2,2,    32.51,2,     0.00,2,     2.24,2,     -999,9,     -999,9,     -999,9,   2259.7,2,  2348.42,2,   7.5678,2,    24.94,     -999,9,     -999,9,   1.3321,2,0.36000000,3, -149.180,2,    0.002,     -999,9,     -999,9,     -999,9,     -999,9,    0.064,1,    4.668,1,    0.148,1,     -999,9,     -999,9,20180326,0417, -67.2490, 174.4688,     -999,9,     -999,9,-999          ,9,     -999,9,     -999,9,     -999,     -999,9,     -999,     -999,9,     -999,1,     -999,1,     -999,1,     -999,1,     -999,1,     -999,1,     -999,1,     -999,1,     -999,1,     -999,1,     -999,1,     -999,1,     -999,1
320620180309  ,S04P       ,19      ,  1,27         ,27         ,2,20180326,0244, -67.2488, 174.4687,     3274,    236.5,1.4435638888888884246,34.703561344473336,2,  34.7033,2,187.12000525060537,2, 187.5036,2,    185.8,2,     95.6,2,    32.35,2,     0.00,2,     2.23,2,    0.386,2,    0.203,2,   0.2300,2,   2261.9,6,  2350.96,2,   7.5718,2,    24.95,     -999,9,     -999,9,   1.4398,2,0.57000000,2, -155.690,2,    0.002,     -999,9,     -999,9,     -999,9,     -999,9,    0.063,1,    4.671,1,    0.148,1,  20.7600,2,     -999,9,20180326,0415, -67.2490, 174.4688,     -999,9,     -999,9,-999          ,9,     -999,9,     -999,9,     -999,     -999,9,     -999,     -999,9,     -999,9,     -999,9,     -999,9,     -999,9,     -999,9,     -999,9,     -999,9,     -999,9,     -999,9,     -999,9,     -999,9,     -999,9,     -999,9
320620180309  ,S04P       ,19      ,  1,26         ,26         ,2,20180326,0244, -67.2488, 174.4687,     3274,    286.1,1.4544916666666667382,34.715584921266007,2,  34.7145,2,187.61629009980413,3, 186.2017,2,    185.6,2,     97.1,2,    32.29,2,     0.00,2,     2.21,2,     -999,9,     -999,9,     -999,9,   2261.5,2,  2352.23,2,   7.5740,6,    24.95,     -999,9,     -999,9,   1.4532,2,0.56000000,2, -154.150,2,    0.002,     -999,9,     -999,9,     -999,9,     -999,9,    0.063,1,    4.675,1,    0.141,1,     -999,9,     -999,9,20180326,0412, -67.2491, 174.4688,     -999,9,     -999,9,-999          ,9,     -999,9,     -999,9,     -999,     -999,9,     -999,     -999,9,     -999,1,     -999,1,     -999,1,     -999,1,     -999,1,     -999,1,     -999,1,     -999,1,     -999,1,     -999,1,     -999,1,     -999,1,     -999,1
320620180309  ,S04P       ,19      ,  1,25         ,25         ,2,20180326,0244, -67.2488, 174.4687,     3274,    338.2,1.3990194444444443711,34.717874245248574,2,  34.7170,2,186.62082984701021,2, 185.6960,2,    187.4,2,     99.2,2,    32.21,2,     0.00,2,     2.20,2,     -999,9,     -999,9,     -999,9,     -999,9,     -999,9,     -999,9,     -999,     -999,9,     -999,9,   1.3990,2,0.52000000,2, -156.870,2,    0.002,     -999,9,     -999,9,     -999,9,     -999,9,    0.062,1,    4.675,1,    0.139,1,     -999,9,     -999,9,20180326,0410, -67.2492, 174.4687,     -999,9,     -999,9,-999          ,9,     -999,9,     -999,9,     -999,     -999,9,     -999,     -999,9,     -999,9,     -999,9,     -999,9,     -999,9,     -999,9,     -999,9,     -999,9,     -999,9,     -999,9,     -999,9,     -999,9,     -999,9,     -999,9
320620180309  ,S04P       ,19      ,  1,24         ,24         ,2,20180326,0244, -67.2488, 174.4687,     3274,    388.1,1.3784138888888890495,34.721348721021641,2,  34.7196,2,187.22944521492937,2, 185.6982,2,    187.6,2,    100.9,2,    32.22,2,     0.00,2,     2.20,2,     -999,9,     -999,9,     -999,9,     -999,9,     -999,9,     -999,9,     -999,     -999,9,     -999,9,   1.3761,2,0.53000000,2, -153.650,2,    0.002,     -999,9,     -999,9,     -999,9,     -999,9,    0.061,1,    4.677,1,    0.137,1,     -999,9,     -999,9,20180326,0408, -67.2494, 174.4686,     -999,9,     -999,9,-999          ,9,     -999,9,     -999,9,     -999,     -999,9,     -999,     -999,9,     -999,1,     -999,1,     -999,1,     -999,1,     -999,1,     -999,1,     -999,1,     -999,1,     -999,1,     -999,1,     -999,1,     -999,1,     -999,1
320620180309  ,S04P       ,19      ,  1,23         ,23         ,2,20180326,0244, -67.2488, 174.4687,     3274,    438.5,1.3679111111111115218,34.725252172159401,2,  34.7245,2,188.14686011081804,2, 186.3000,2,    188.5,2,    102.2,2,    32.14,2,     0.00,2,     2.20,2,    0.216,2,    0.109,2,   0.0400,2,   2263.2,2,  2354.90,2,   7.5796,2,    24.95,     -999,9,     -999,9,   1.3671,2,0.56000000,2, -155.890,2,    0.002,     -999,9,     -999,9,     -999,9,     -999,9,    0.061,1,    4.678,1,    0.139,1,  20.2000,2,     -999,9,20180326,0406, -67.2495, 174.4685,     -999,9,     -999,9,-999          ,9,     -999,9,     -999,9,     -999,     -999,9,     -999,     -999,9,     -999,9,     -999,9,     -999,9,     -999,9,     -999,9,     -999,9,     -999,9,     -999,9,     -999,9,     -999,9,     -999,9,     -999,9,     -999,9
320620180309  ,S04P       ,19      ,  1,22         ,37         ,2,20180326,0244, -67.2488, 174.4687,     3274,    490.4,1.3372444444444444578,34.725761861850827,2,  34.7247,2,188.90244993031095,2, 186.8979,2,    187.8,2,    103.7,2,    32.30,2,     0.00,2,     2.20,2,     -999,9,     -999,9,     -999,9,     -999,9,     -999,9,     -999,9,     -999,     -999,9,     -999,9,   1.3366,2,0.56000000,2, -156.430,2,    0.002,     -999,9,     -999,9,     -999,9,     -999,9,    0.060,1,    4.677,1,    0.140,1,     -999,9,     -999,9,20180326,0404, -67.2496, 174.4684,     -999,9,     -999,9,-999          ,9,     -999,9,     -999,9,     -999,     -999,9,     -999,     -999,9,     -999,1,     -999,1,     -999,1,     -999,1,     -999,1,     -999,1,     -999,1,     -999,1,     -999,1,     -999,1,     -999,1,     -999,1,     -999,1
320620180309  ,S04P       ,19      ,  1,21         ,21         ,2,20180326,0244, -67.2488, 174.4687,     3274,    570.4,1.2782249999999999446,34.725743541393598,2,  34.7270,2,189.82134472158120,2, 188.5979,2,    189.0,2,    105.9,2,    32.32,2,     0.00,2,     2.21,2,     -999,9,     -999,9,     -999,9,   2264.0,2,  2355.99,2,   7.5815,2,    24.95,     -999,9,     -999,9,   1.2769,2,0.57000000,2, -156.870,2,    0.002,     -999,9,     -999,9,     -999,9,     -999,9,    0.061,1,    4.677,1,    0.137,1,     -999,9,     -999,9,20180326,0401, -67.2497, 174.4684,     -999,9,     -999,9,-999          ,9,     -999,9,     -999,9,     -999,     -999,9,     -999,     -999,9,     -999,9,     -999,9,     -999,9,     -999,9,     -999,9,     -999,9,     -999,9,     -999,9,     -999,9,     -999,9,     -999,9,     -999,9,     -999,9
320620180309  ,S04P       ,19      ,  1,20         ,20         ,2,20180326,0244, -67.2488, 174.4687,     3274,    673.1,1.1978222222222221216,34.724106392564480,2,  34.7241,2,191.46553000645019,2, 190.4990,2,    190.6,2,    108.5,2,    32.35,2,     0.00,2,     2.22,2,    0.159,2,    0.083,2,   0.1300,2,     -999,9,     -999,9,     -999,9,     -999,     -999,9,     -999,9,   1.1967,2,0.55000000,2, -159.210,2,    0.002,     -999,9,     -999,9,     -999,9,     -999,9,    0.061,1,    4.678,1,    0.137,1,  20.0200,2,     -999,9,20180326,0358, -67.2497, 174.4684,     -999,9,     -999,9,-999          ,9,     -999,9,     -999,9,     -999,     -999,9,     -999,     -999,9,     -999,1,     -999,1,     -999,1,     -999,1,     -999,1,     -999,1,     -999,1,     -999,1,     -999,1,     -999,1,     -999,1,     -999,1,     -999,1
320620180309  ,S04P       ,19      ,  1,19         ,19         ,2,20180326,0244, -67.2488, 174.4687,     3274,    775.3,1.1289888888888885976,34.722872339795096,2,  34.7221,2,193.16499325061395,2, 192.8971,2,    193.0,2,    110.7,2,    32.38,2,     0.00,2,     2.21,2,     -999,9,     -999,9,     -999,9,   2264.6,2,  2359.67,2,   7.5813,2,    24.95,     -999,9,     -999,9,   1.1278,2,0.56000000,2, -160.360,2,    0.002,     -999,9,     -999,9,     -999,9,     -999,9,    0.061,1,    4.678,1,    0.135,1,     -999,9,     -999,9,20180326,0355, -67.2499, 174.4683,     -999,9,     -999,9,-999          ,9,     -999,9,     -999,9,     -999,     -999,9,     -999,     -999,9,     -999,9,     -999,9,     -999,9,     -999,9,     -999,9,     -999,9,     -999,9,     -999,9,     -999,9,     -999,9,     -999,9,     -999,9,     -999,9
320620180309  ,S04P       ,19      ,  1,18         ,18         ,2,20180326,0244, -67.2488, 174.4687,     3274,    874.5,1.0710472222222220395,34.721746684258392,2,  34.7213,2,194.81890726971309,2, 194.0042,2,    194.2,2,    112.4,2,    32.42,2,     0.00,2,     2.21,2,     -999,9,     -999,9,     -999,9,     -999,9,     -999,9,     -999,9,     -999,     -999,9,     -999,9,   1.0704,2,0.56000000,2, -164.110,2,    0.003,     -999,9,     -999,9,     -999,9,     -999,9,    0.061,1,    4.679,1,    0.133,1,     -999,9,     -999,9,20180326,0352, -67.2501, 174.4681,     -999,9,     -999,9,-999          ,9,     -999,9,     -999,9,     -999,     -999,9,     -999,     -999,9,     -999,1,     -999,1,     -999,1,     -999,1,     -999,1,     -999,1,     -999,1,     -999,1,     -999,1,     -999,1,     -999,1,     -999,1,     -999,1
320620180309  ,S04P       ,19      ,  1,17         ,17         ,2,20180326,0244, -67.2488, 174.4687,     3274,    976.1,1.0109027777777779278,34.719749617265990,2,  34.7190,2,196.59473067119615,2, 195.9982,2,    195.9,2,    114.6,2,    32.49,2,     0.00,2,     2.22,2,    0.121,2,    0.061,2,   0.0800,2,   2263.9,2,  2360.20,2,   7.5888,2,    24.94,     -999,9,     -999,9,   1.0103,2,0.57000000,2, -158.910,2,    0.002,     -999,9,     -999,9,     -999,9,     -999,9,    0.062,1,    4.680,1,    0.132,1,  19.5000,2,     -999,9,20180326,0349, -67.2502, 174.4681,     -999,9,     -999,9,-999          ,9,     -999,9,     -999,9,     -999,     -999,9,     -999,     -999,9,     -999,9,     -999,9,     -999,9,     -999,9,     -999,9,     -999,9,     -999,9,     -999,9,     -999,9,     -999,9,     -999,9,     -999,9,     -999,9
320620180309  ,S04P       ,19      ,  1,16         ,16         ,2,20180326,0244, -67.2488, 174.4687,     3274,   1077.8,0.9491388888888887543,34.717594444319005,2,  34.7170,2,198.59179705483345,2, 197.7991,2,    197.5,2,    116.4,2,    32.45,2,     0.00,2,     2.23,2,     -999,9,     -999,9,     -999,9,     -999,9,     -999,9,     -999,9,     -999,     -999,9,     -999,9,   0.9485,2,0.58000000,2, -163.200,2,    0.003,     -999,9,     -999,9,     -999,9,     -999,9,    0.061,1,    4.679,1,    0.134,1,     -999,9,     -999,9,20180326,0345, -67.2502, 174.4681,     -999,9,     -999,9,-999          ,9,     -999,9,     -999,9,     -999,     -999,9,     -999,     -999,9,     -999,1,     -999,1,     -999,1,     -999,1,     -999,1,     -999,1,     -999,1,     -999,1,     -999,1,     -999,1,     -999,1,     -999,1,     -999,1