BOTTLE,20240515CCHHYDRO
EXPOCODE,SECT_ID,STNNBR,CASTNO,SAMPNO,BTLNBR,BTLNBR_FLAG_W,DATE,TIME,LATITUDE,LONGITUDE,DEPTH,CTDPRS,CTDTMP,CTDSAL,CTDSAL_FLAG_W,SALNTY,SALNTY_FLAG_W,CTDOXY,CTDOXY_FLAG_W,CTDOPTOXY,CTDOPTOXY_FLAG_W,OXYGEN,OXYGEN_FLAG_W,SILCAT,SILCAT_FLAG_W,NITRAT,NITRAT_FLAG_W,NITRIT,NITRIT_FLAG_W,PHSPHT,PHSPHT_FLAG_W,CFC-11,CFC-11_FLAG_W,CFC-12,CFC-12_FLAG_W,SF6,SF6_FLAG_W,TCARBN,TCARBN_FLAG_W,ALKALI,ALKALI_FLAG_W,PH_TOT,PH_TOT_FLAG_W,PH_TMP,DOC,DOC_FLAG_W,HELIUM,HELIUM_FLAG_W,REFTMP,REFTMP_FLAG_W,DELC13,DELC13_FLAG_W,DELC14,DELC14_FLAG_W,C14ERR,POC,POC_FLAG_W,TDN,TDN_FLAG_W,TON,TON_FLAG_W,NEON,NEON_FLAG_W,CTDFLUOR,CTDFLUOR_FLAG_W,CTDXMISS,CTDXMISS_FLAG_W,CTDBETA700,CTDBETA700_FLAG_W,N2O,N2O_FLAG_W,ARGON,ARGON_FLAG_W,BTL_DATE,BTL_TIME,BTL_LAT,BTL_LON,KRYPTON,KRYPTON_FLAG_W,XENON,XENON_FLAG_W,HPLC,HPLC_FLAG_W,HE3_HE4_RATIO,HE3_HE4_RATIO_FLAG_W,Nd_143_144_D_EPSILON_BOTTLE,Nd_143_144_D_EPSILON_BOTTLE_FLAG_W,Nd_143_144_D_EPSILON_BOTTLE_ERROR,Nd_143_144_D_RATIO_BOTTLE,Nd_143_144_D_RATIO_BOTTLE_FLAG_W,Nd_143_144_D_RATIO_BOTTLE_ERROR,Nd_D_CONC,Nd_D_CONC_FLAG_W,La_D_CONC_BOTTLE,La_D_CONC_BOTTLE_FLAG_W,Ce_D_CONC_BOTTLE,Ce_D_CONC_BOTTLE_FLAG_W,Pr_D_CONC_BOTTLE,Pr_D_CONC_BOTTLE_FLAG_W,Sm_D_CONC_BOTTLE,Sm_D_CONC_BOTTLE_FLAG_W,Eu_D_CONC_BOTTLE,Eu_D_CONC_BOTTLE_FLAG_W,Gd_D_CONC_BOTTLE,Gd_D_CONC_BOTTLE_FLAG_W,Tb_D_CONC_BOTTLE,Tb_D_CONC_BOTTLE_FLAG_W,Dy_D_CONC_BOTTLE,Dy_D_CONC_BOTTLE_FLAG_W,Ho_D_CONC_BOTTLE,Ho_D_CONC_BOTTLE_FLAG_W,Er_D_CONC_BOTTLE,Er_D_CONC_BOTTLE_FLAG_W,Tm_D_CONC_BOTTLE,Tm_D_CONC_BOTTLE_FLAG_W,Yb_D_CONC_BOTTLE,Yb_D_CONC_BOTTLE_FLAG_W,Lu_D_CONC_BOTTLE,Lu_D_CONC_BOTTLE_FLAG_W
,,,,,,,,,,,METERS,DBAR,ITS-90,PSS-78,,PSS-78,,UMOL/KG,,UMOL/KG,,UMOL/KG,,UMOL/KG,,UMOL/KG,,UMOL/KG,,UMOL/KG,,PMOL/KG,,PMOL/KG,,FMOL/KG,,UMOL/KG,,UMOL/KG,,,,DEG C,UMOL/KG,,NMOL/L,,DEG C,,/MILLE,,/MILLE,,/MILLE,UG/KG,,UMOL/KG,,UMOL/KG,,NMOL/L,,VOLTS,,VOLTS,,VOLTS,,NMOL/KG,,UMOL/L,,,,,,NMOL/L,,NMOL/L,,,,,,10000,,10000,,,,PMOL/KG,,PMOL/L,,PMOL/L,,PMOL/L,,PMOL/L,,PMOL/L,,PMOL/L,,PMOL/L,,PMOL/L,,PMOL/L,,PMOL/L,,PMOL/L,,PMOL/L,,PMOL/L,
320620180309  ,S04P       ,8       ,  1,15         ,15         ,2,20180318,2145, -68.0116, 172.8223,     3128,   1113.7,0.8448249999999999371,34.713183249449926,2,  34.7121,2,200.31241363642062,2, 199.6036,2,    200.4,2,    119.3,2,    32.50,2,     0.00,2,     2.22,2,     -999,9,     -999,9,     -999,9,   2263.8,2,  2363.49,2,   7.5858,2,    24.97,     -999,9,     -999,9,   0.8443,2,     -999,9,     -999,9,     -999,     -999,9,     -999,9,     -999,9,     -999,9,    0.061,1,    4.684,1,    0.130,1,     -999,9,     -999,9,20180318,2239, -68.0116, 172.8224,     -999,9,     -999,9,-999          ,9,     -999,9,     -999,9,     -999,     -999,9,     -999,     -999,9,     -999,9,     -999,9,     -999,9,     -999,9,     -999,9,     -999,9,     -999,9,     -999,9,     -999,9,     -999,9,     -999,9,     -999,9,     -999,9
320620180309  ,S04P       ,8       ,  1,14         ,14         ,2,20180318,2145, -68.0116, 172.8223,     3128,   1214.9,0.8029222222222222038,34.711446913037953,2,  34.7104,2,201.64953964766238,2, 200.8043,2,    201.3,2,    121.1,2,    32.53,2,     0.00,2,     2.23,2,    0.132,2,    0.077,2,   0.0600,2,   2266.5,6,  2364.29,2,   7.5910,2,    24.97,     -999,9,     -999,9,   0.8021,2,     -999,9,     -999,9,     -999,     -999,9,     -999,9,     -999,9,     -999,9,    0.061,1,    4.685,1,    0.131,1,  20.5400,2,     -999,9,20180318,2236, -68.0116, 172.8224,     -999,9,     -999,9,-999          ,9,     -999,9,     -999,9,     -999,     -999,9,     -999,     -999,9,     -999,1,     -999,1,     -999,1,     -999,1,     -999,1,     -999,1,     -999,1,     -999,1,     -999,1,     -999,1,     -999,1,     -999,1,     -999,1
320620180309  ,S04P       ,8       ,  1,13         ,13         ,2,20180318,2145, -68.0116, 172.8223,     3128,   1316.4,0.7624861111111109757,34.709750390756653,2,  34.7094,2,203.15431317953664,2, 201.7922,2,    202.3,2,    122.5,2,    32.51,2,     0.00,2,     2.22,2,    0.138,2,    0.072,2,   0.0400,2,   2265.6,2,  2362.46,2,   7.5952,2,    24.95,     -999,9,     -999,1,   0.7616,2,     -999,9,     -999,9,     -999,     -999,9,     -999,9,     -999,9,     -999,1,    0.061,1,    4.686,1,    0.131,1,  20.9700,2,     -999,1,20180318,2233, -68.0116, 172.8223,     -999,1,     -999,1,-999          ,9,     -999,1,     -999,9,     -999,     -999,9,     -999,     -999,9,     -999,9,     -999,9,     -999,9,     -999,9,     -999,9,     -999,9,     -999,9,     -999,9,     -999,9,     -999,9,     -999,9,     -999,9,     -999,9
320620180309  ,S04P       ,8       ,  1,12         ,12         ,2,20180318,2145, -68.0116, 172.8223,     3128,   1419.0,0.7195000000000000284,34.708309021372443,2,  34.7088,2,203.73657785055383,2, 202.8022,2,    203.9,2,    124.1,2,    32.58,2,     0.00,2,     2.22,2,     -999,9,     -999,9,     -999,9,   2266.0,2,  2361.90,2,   7.5904,2,    24.96,     -999,9,     -999,9,   0.7189,2,     -999,9,     -999,9,     -999,     -999,9,     -999,9,     -999,9,     -999,9,    0.061,1,    4.685,1,    0.129,1,     -999,9,     -999,9,20180318,2230, -68.0116, 172.8222,     -999,9,     -999,9,-999          ,9,     -999,9,     -999,9,     -999,     -999,9,     -999,     -999,9,     -999,1,     -999,1,     -999,1,     -999,1,     -999,1,     -999,1,     -999,1,     -999,1,     -999,1,     -999,1,     -999,1,     -999,1,     -999,1
320620180309  ,S04P       ,8       ,  1,11         ,11         ,2,20180318,2145, -68.0116, 172.8223,     3128,   1519.9,0.6790416666666668766,34.707231109504235,2,  34.7043,2,204.75756121579298,2, 203.8011,2,    204.7,2,    124.9,2,    32.56,2,     0.00,2,     2.23,2,    0.147,2,    0.092,2,   0.0500,2,   2265.2,2,  2367.02,4,   7.5912,2,    24.98,     -999,9,     -999,9,   0.6786,2,     -999,9,     -999,9,     -999,     -999,9,     -999,9,     -999,9,     -999,9,    0.061,1,    4.685,1,    0.129,1,  20.7300,2,     -999,9,20180318,2227, -68.0116, 172.8223,     -999,9,     -999,9,-999          ,9,     -999,9,     -999,9,     -999,     -999,9,     -999,     -999,9,     -999,9,     -999,9,     -999,9,     -999,9,     -999,9,     -999,9,     -999,9,     -999,9,     -999,9,     -999,9,     -999,9,     -999,9,     -999,9
320620180309  ,S04P       ,8       ,  1,10         ,10         ,2,20180318,2145, -68.0116, 172.8223,     3128,   1620.9,0.6462472222222221951,34.706175219230914,2,  34.7053,2,205.30621993174367,2, 204.9958,2,    205.3,2,    124.9,2,    32.58,2,     0.00,2,     2.24,2,    0.153,2,    0.091,2,   0.0000,2,   2265.6,2,  2363.44,2,   7.5940,6,    25.00,     -999,9,     -999,1,   0.6458,2,     -999,9,     -999,9,     -999,     -999,9,     -999,9,     -999,9,     -999,1,    0.062,1,    4.686,1,    0.129,1,  20.7700,2,     -999,1,20180318,2224, -68.0116, 172.8224,     -999,1,     -999,1,-999          ,9,     -999,1,     -999,9,     -999,     -999,9,     -999,     -999,9,     -999,1,     -999,1,     -999,1,     -999,1,     -999,1,     -999,1,     -999,1,     -999,1,     -999,1,     -999,1,     -999,1,     -999,1,     -999,1
320620180309  ,S04P       ,8       ,  1,9          ,9          ,2,20180318,2145, -68.0116, 172.8223,     3128,   1722.5,0.5896750000000000602,34.704131477434615,2,  34.7043,2,206.55448311983696,2, 206.4027,2,    206.7,2,    125.7,2,    32.62,2,     0.00,2,     2.24,2,     -999,9,     -999,9,     -999,9,   2265.2,2,  2360.95,2,   7.5934,2,    24.98,     -999,9,     -999,9,   0.5898,2,     -999,9,     -999,9,     -999,     -999,9,     -999,9,     -999,9,     -999,9,    0.061,1,    4.685,1,    0.128,1,     -999,9,     -999,9,20180318,2221, -68.0115, 172.8222,     -999,9,     -999,9,-999          ,9,     -999,9,     -999,9,     -999,     -999,9,     -999,     -999,9,     -999,9,     -999,9,     -999,9,     -999,9,     -999,9,     -999,9,     -999,9,     -999,9,     -999,9,     -999,9,     -999,9,     -999,9,     -999,9
320620180309  ,S04P       ,8       ,  1,8          ,8          ,2,20180318,2145, -68.0116, 172.8223,     3128,   1826.6,0.5530055555555557500,34.702570578992280,2,  34.7031,2,207.71847408530647,2, 207.0975,2,    207.9,2,    125.6,2,    32.59,2,     0.00,2,     2.24,2,    0.233,2,    0.137,2,   0.0800,2,   2266.1,2,  2361.68,2,   7.5914,2,    24.98,     -999,9,     -999,9,   0.5521,2,     -999,9,     -999,9,     -999,     -999,9,     -999,9,     -999,9,     -999,9,    0.061,1,    4.685,1,    0.129,1,  21.0900,2,     -999,9,20180318,2219, -68.0116, 172.8223,     -999,9,     -999,9,-999          ,9,     -999,9,     -999,9,     -999,     -999,9,     -999,     -999,9,     -999,1,     -999,1,     -999,1,     -999,1,     -999,1,     -999,1,     -999,1,     -999,1,     -999,1,     -999,1,     -999,1,     -999,1,     -999,1
320620180309  ,S04P       ,8       ,  1,7          ,7          ,2,20180318,2145, -68.0116, 172.8223,     3128,   2030.5,0.4867416666666667946,34.700608321935455,2,  34.7007,2,209.98339981481087,2, 209.4037,2,    209.7,2,    127.2,2,    32.59,2,     0.00,2,     2.25,2,    0.288,2,    0.165,2,   0.1200,2,   2265.0,2,  2361.32,2,   7.5883,2,    24.98,     -999,9,     -999,1,   0.4880,2,     -999,9,     -999,9,     -999,     -999,9,     -999,9,     -999,9,     -999,1,    0.060,1,    4.686,1,    0.127,1,  20.6500,2,     -999,1,20180318,2214, -68.0116, 172.8222,     -999,1,     -999,1,-999          ,9,     -999,1,     -999,9,     -999,     -999,9,     -999,     -999,9,     -999,9,     -999,9,     -999,9,     -999,9,     -999,9,     -999,9,     -999,9,     -999,9,     -999,9,     -999,9,     -999,9,     -999,9,     -999,9
320620180309  ,S04P       ,8       ,  1,6          ,6          ,2,20180318,2145, -68.0116, 172.8223,     3128,   2232.7,0.4328861111111110826,34.698300356659132,2,  34.6988,2,212.09262365280398,2, 211.9015,2,    211.6,2,    127.3,2,    32.62,2,     0.00,2,     2.25,2,    0.382,2,    0.209,2,   0.0900,2,   2263.1,2,  2361.88,2,   7.5908,2,    24.97,     -999,9,     -999,9,   0.4311,2,     -999,9,     -999,9,     -999,     -999,9,     -999,9,     -999,9,     -999,9,    0.061,1,    4.685,1,    0.127,1,  20.3300,2,     -999,9,20180318,2209, -68.0116, 172.8222,     -999,9,     -999,9,-999          ,9,     -999,9,     -999,9,     -999,     -999,9,     -999,     -999,9,     -999,1,     -999,1,     -999,1,     -999,1,     -999,1,     -999,1,     -999,1,     -999,1,     -999,1,     -999,1,     -999,1,     -999,1,     -999,1
320620180309  ,S04P       ,8       ,  1,5          ,5          ,2,20180318,2145, -68.0116, 172.8223,     3128,   2437.5,0.3409944444444444334,34.694396246497753,2,  34.6952,2,216.06998857666085,2, 215.4999,2,    214.9,2,    124.9,2,    32.59,2,     0.00,2,     2.24,2,    0.566,2,    0.318,2,   0.1500,2,   2264.4,2,  2360.58,2,   7.5885,2,    24.97,     -999,9,     -999,1,   0.3405,2,     -999,9,     -999,9,     -999,     -999,9,     -999,9,     -999,9,     -999,1,    0.061,1,    4.685,1,    0.128,1,  20.5500,2,     -999,1,20180318,2204, -68.0116, 172.8222,     -999,1,     -999,1,-999          ,9,     -999,1,     -999,9,     -999,     -999,9,     -999,     -999,9,     -999,1,     -999,1,     -999,1,     -999,1,     -999,1,     -999,1,     -999,1,     -999,1,     -999,1,     -999,1,     -999,1,     -999,1,     -999,1
320620180309  ,S04P       ,8       ,  1,4          ,4          ,2,20180318,2145, -68.0116, 172.8223,     3128,   2642.1,0.2597972222222222349,34.690766491919284,2,  34.6901,2,217.88450835497864,2, 218.4982,2,    218.1,2,    122.2,2,    32.51,2,     0.00,2,     2.23,2,    0.771,2,    0.420,2,   0.3200,2,   2262.0,2,  2360.31,2,   7.5842,2,    24.97,     -999,9,     -999,9,   0.2597,2,     -999,9,     -999,9,     -999,     -999,9,     -999,9,     -999,9,     -999,9,    0.061,1,    4.685,1,    0.129,1,  20.7800,2,     -999,9,20180318,2159, -68.0116, 172.8222,     -999,9,     -999,9,-999          ,9,     -999,9,     -999,9,     -999,     -999,9,     -999,     -999,9,     -999,1,     -999,1,     -999,1,     -999,1,     -999,1,     -999,1,     -999,1,     -999,1,     -999,1,     -999,1,     -999,1,     -999,1,     -999,1
320620180309  ,S04P       ,8       ,  1,3          ,3          ,2,20180318,2145, -68.0116, 172.8223,     3128,   2846.0,0.2132749999999999646,34.688922479810763,2,  34.6890,2,219.97977476093126,2, 220.6008,2,    220.0,2,    120.5,2,    32.43,2,     0.00,2,     2.23,2,     -999,5,     -999,5,     -999,5,   2264.7,2,  2358.29,2,   7.5861,2,    24.98,     -999,9,     -999,1,   0.2131,2,     -999,9,     -999,9,     -999,     -999,9,     -999,9,     -999,9,     -999,1,    0.061,1,    4.684,1,    0.128,1,     -999,5,     -999,1,20180318,2155, -68.0116, 172.8222,     -999,1,     -999,1,-999          ,9,     -999,1,     -999,9,     -999,     -999,9,     -999,     -999,9,     -999,1,     -999,1,     -999,1,     -999,1,     -999,1,     -999,1,     -999,1,     -999,1,     -999,1,     -999,1,     -999,1,     -999,1,     -999,1
320620180309  ,S04P       ,8       ,  1,2          ,2          ,2,20180318,2145, -68.0116, 172.8223,     3128,   3008.8,0.1323055555555555651,34.686151333713703,3,  34.6837,4,223.44011259883496,2, 223.2968,2,    223.2,2,    115.9,2,    32.32,2,     0.00,2,     2.22,2,    1.217,2,    0.656,2,   0.4600,2,   2263.2,2,  2356.56,2,   7.5863,2,    24.98,     -999,9,     -999,1,   0.1314,2,     -999,9,     -999,9,     -999,     -999,9,     -999,9,     -999,9,     -999,1,    0.061,1,    4.683,1,    0.129,1,  21.0700,2,     -999,1,20180318,2150, -68.0116, 172.8223,     -999,1,     -999,1,-999          ,9,     -999,1,     -999,9,     -999,     -999,9,     -999,     -999,9,     -999,1,     -999,1,     -999,1,     -999,1,     -999,1,     -999,1,     -999,1,     -999,1,     -999,1,     -999,1,     -999,1,     -999,1,     -999,1
320620180309  ,S04P       ,8       ,  1,1          ,1          ,2,20180318,2145, -68.0116, 172.8223,     3128,   3173.5,0.0281833333333333311,34.685248016290473,2,  34.6843,2,229.13727704544570,2, 226.4978,2,    228.0,2,    111.4,2,    32.14,2,     0.00,2,     2.21,2,    1.600,2,    0.861,2,   0.8200,2,   2262.7,6,  2355.56,2,   7.5872,2,    24.97,     -999,9,     -999,1,   0.0278,2,     -999,9,     -999,9,     -999,     -999,9,     -999,9,     -999,9,     -999,1,    0.061,1,    4.680,1,    0.135,1,  21.3300,2,     -999,1,20180318,2145, -68.0116, 172.8223,     -999,1,     -999,1,-999          ,9,     -999,1,    -7.48,2,     0.23, 0.512255,2, 0.000006,    18.82,2,     -999,1,     -999,1,     -999,1,     -999,1,     -999,1,     -999,1,     -999,1,     -999,1,     -999,1,     -999,1,     -999,1,     -999,1,     -999,1