BOTTLE,20240515CCHHYDRO
EXPOCODE,SECT_ID,STNNBR,CASTNO,SAMPNO,BTLNBR,BTLNBR_FLAG_W,DATE,TIME,LATITUDE,LONGITUDE,DEPTH,CTDPRS,CTDTMP,CTDSAL,CTDSAL_FLAG_W,SALNTY,SALNTY_FLAG_W,CTDOXY,CTDOXY_FLAG_W,CTDOPTOXY,CTDOPTOXY_FLAG_W,OXYGEN,OXYGEN_FLAG_W,SILCAT,SILCAT_FLAG_W,NITRAT,NITRAT_FLAG_W,NITRIT,NITRIT_FLAG_W,PHSPHT,PHSPHT_FLAG_W,CFC-11,CFC-11_FLAG_W,CFC-12,CFC-12_FLAG_W,SF6,SF6_FLAG_W,TCARBN,TCARBN_FLAG_W,ALKALI,ALKALI_FLAG_W,PH_TOT,PH_TOT_FLAG_W,PH_TMP,DOC,DOC_FLAG_W,HELIUM,HELIUM_FLAG_W,REFTMP,REFTMP_FLAG_W,DELC13,DELC13_FLAG_W,DELC14,DELC14_FLAG_W,C14ERR,POC,POC_FLAG_W,TDN,TDN_FLAG_W,TON,TON_FLAG_W,NEON,NEON_FLAG_W,CTDFLUOR,CTDFLUOR_FLAG_W,CTDXMISS,CTDXMISS_FLAG_W,CTDBETA700,CTDBETA700_FLAG_W,N2O,N2O_FLAG_W,ARGON,ARGON_FLAG_W,BTL_DATE,BTL_TIME,BTL_LAT,BTL_LON,KRYPTON,KRYPTON_FLAG_W,XENON,XENON_FLAG_W,HPLC,HPLC_FLAG_W,HE3_HE4_RATIO,HE3_HE4_RATIO_FLAG_W,Nd_143_144_D_EPSILON_BOTTLE,Nd_143_144_D_EPSILON_BOTTLE_FLAG_W,Nd_143_144_D_EPSILON_BOTTLE_ERROR,Nd_143_144_D_RATIO_BOTTLE,Nd_143_144_D_RATIO_BOTTLE_FLAG_W,Nd_143_144_D_RATIO_BOTTLE_ERROR,Nd_D_CONC,Nd_D_CONC_FLAG_W,La_D_CONC_BOTTLE,La_D_CONC_BOTTLE_FLAG_W,Ce_D_CONC_BOTTLE,Ce_D_CONC_BOTTLE_FLAG_W,Pr_D_CONC_BOTTLE,Pr_D_CONC_BOTTLE_FLAG_W,Sm_D_CONC_BOTTLE,Sm_D_CONC_BOTTLE_FLAG_W,Eu_D_CONC_BOTTLE,Eu_D_CONC_BOTTLE_FLAG_W,Gd_D_CONC_BOTTLE,Gd_D_CONC_BOTTLE_FLAG_W,Tb_D_CONC_BOTTLE,Tb_D_CONC_BOTTLE_FLAG_W,Dy_D_CONC_BOTTLE,Dy_D_CONC_BOTTLE_FLAG_W,Ho_D_CONC_BOTTLE,Ho_D_CONC_BOTTLE_FLAG_W,Er_D_CONC_BOTTLE,Er_D_CONC_BOTTLE_FLAG_W,Tm_D_CONC_BOTTLE,Tm_D_CONC_BOTTLE_FLAG_W,Yb_D_CONC_BOTTLE,Yb_D_CONC_BOTTLE_FLAG_W,Lu_D_CONC_BOTTLE,Lu_D_CONC_BOTTLE_FLAG_W
,,,,,,,,,,,METERS,DBAR,ITS-90,PSS-78,,PSS-78,,UMOL/KG,,UMOL/KG,,UMOL/KG,,UMOL/KG,,UMOL/KG,,UMOL/KG,,UMOL/KG,,PMOL/KG,,PMOL/KG,,FMOL/KG,,UMOL/KG,,UMOL/KG,,,,DEG C,UMOL/KG,,NMOL/L,,DEG C,,/MILLE,,/MILLE,,/MILLE,UG/KG,,UMOL/KG,,UMOL/KG,,NMOL/L,,VOLTS,,VOLTS,,VOLTS,,NMOL/KG,,UMOL/L,,,,,,NMOL/L,,NMOL/L,,,,,,10000,,10000,,,,PMOL/KG,,PMOL/L,,PMOL/L,,PMOL/L,,PMOL/L,,PMOL/L,,PMOL/L,,PMOL/L,,PMOL/L,,PMOL/L,,PMOL/L,,PMOL/L,,PMOL/L,,PMOL/L,
320620180309  ,S04P       ,68      ,  1,36         ,36         ,2,20180417,1915, -67.0014,-149.3610,     4443,      8.0,-1.4611638888888889287,33.960001209428462,3,     -999,9,342.21498329960912,2, 319.8896,2,     -999,9,     52.1,2,    26.42,2,     0.20,2,     1.87,2,     -999,9,     -999,9,     -999,9,     -999,9,     -999,9,     -999,9,     -999,     -999,9,     -999,9,     -999,9,     -999,9,     -999,9,     -999,     -999,1,     -999,9,     -999,9,     -999,9,    0.136,1,    4.634,1,    0.158,1,     -999,9,     -999,9,20180417,2114, -67.0010,-149.3621,     -999,9,     -999,9,-999          ,1,     -999,9,     -999,9,     -999,     -999,9,     -999,     -999,9,     -999,9,     -999,9,     -999,9,     -999,9,     -999,9,     -999,9,     -999,9,     -999,9,     -999,9,     -999,9,     -999,9,     -999,9,     -999,9
320620180309  ,S04P       ,68      ,  1,35         ,35         ,2,20180417,1915, -67.0014,-149.3610,     4443,      8.1,-1.4612805555555556936,33.959784214500694,2,  33.9585,2,342.21876969568694,2, 341.6030,2,    342.0,2,     52.0,2,    26.43,2,     0.19,2,     1.86,2,    5.486,2,    3.036,2,   3.5500,2,   2189.8,6,  2298.80,2,   7.6381,2,    24.91,     -999,5,     -999,9,  -1.4607,2,1.25000000,2, -110.170,2,    0.002,     -999,9,     -999,5,     -999,1,     -999,9,    0.136,1,    4.634,1,    0.158,1,  17.4000,2,     -999,9,20180417,2114, -67.0010,-149.3621,     -999,9,     -999,9,-999          ,9,     -999,9,     -999,9,     -999,     -999,9,     -999,     -999,9,     -999,9,     -999,9,     -999,9,     -999,9,     -999,9,     -999,9,     -999,9,     -999,9,     -999,9,     -999,9,     -999,9,     -999,9,     -999,9
320620180309  ,S04P       ,68      ,  1,34         ,34         ,2,20180417,1915, -67.0014,-149.3610,     4443,     34.5,-1.4567611111111111732,33.961637521620730,3,     -999,9,342.81122290757810,2, 318.6908,2,     -999,9,     52.1,2,    26.41,2,     0.19,2,     1.88,2,     -999,9,     -999,9,     -999,9,     -999,9,     -999,9,     -999,9,     -999,     -999,9,     -999,9,     -999,9,     -999,9,     -999,9,     -999,     -999,1,     -999,9,     -999,9,     -999,9,    0.161,1,    4.633,1,    0.157,1,     -999,9,     -999,9,20180417,2112, -67.0011,-149.3620,     -999,9,     -999,9,-999          ,1,     -999,9,     -999,9,     -999,     -999,9,     -999,     -999,9,     -999,9,     -999,9,     -999,9,     -999,9,     -999,9,     -999,9,     -999,9,     -999,9,     -999,9,     -999,9,     -999,9,     -999,9,     -999,9
320620180309  ,S04P       ,68      ,  1,33         ,33         ,2,20180417,1915, -67.0014,-149.3610,     4443,     34.6,-1.4570777777777776940,33.961064019345635,2,  33.9596,2,342.81435626480044,2, 341.6029,2,    342.0,2,     52.2,2,    26.43,2,     0.19,2,     1.89,2,    5.480,2,    3.060,2,   3.6100,2,   2191.3,2,  2300.97,2,   7.6379,6,    24.91,     -999,5,     -999,9,  -1.4570,2,     -999,9,     -999,9,     -999,     -999,9,     -999,5,     -999,1,     -999,9,    0.161,1,    4.633,1,    0.157,1,  17.0600,2,     -999,9,20180417,2112, -67.0011,-149.3620,     -999,9,     -999,9,-999          ,9,     -999,9,     -999,9,     -999,     -999,9,     -999,     -999,9,     -999,9,     -999,9,     -999,9,     -999,9,     -999,9,     -999,9,     -999,9,     -999,9,     -999,9,     -999,9,     -999,9,     -999,9,     -999,9
320620180309  ,S04P       ,68      ,  1,32         ,32         ,2,20180417,1915, -67.0014,-149.3610,     4443,     59.6,-1.4458555555555556715,33.962953435604177,2,  33.9610,2,343.23414542995761,2, 341.6025,2,    341.4,2,     52.1,2,    26.44,2,     0.19,2,     1.88,2,     -999,9,     -999,9,     -999,9,   2190.9,2,  2300.02,2,   7.6381,2,    24.92,     -999,5,     -999,9,  -1.4460,2,1.27000000,2, -109.960,2,    0.003,     -999,9,     -999,5,     -999,1,     -999,9,    0.131,1,    4.635,1,    0.162,1,     -999,9,     -999,9,20180417,2111, -67.0012,-149.3620,     -999,9,     -999,9,-999          ,9,     -999,9,     -999,9,     -999,     -999,9,     -999,     -999,9,     -999,9,     -999,9,     -999,9,     -999,9,     -999,9,     -999,9,     -999,9,     -999,9,     -999,9,     -999,9,     -999,9,     -999,9,     -999,9
320620180309  ,S04P       ,68      ,  1,31         ,31         ,2,20180417,1915, -67.0014,-149.3610,     4443,     85.2,-1.4066083333333334604,33.967414311174331,2,  33.9684,2,339.12465054302891,2, 339.9991,2,    339.1,2,     52.4,2,    26.52,2,     0.19,2,     1.89,2,    5.483,6,    3.048,6,   3.5900,6,   2191.1,2,  2300.87,2,   7.6377,2,    24.92,     -999,5,     -999,9,  -1.4066,2,     -999,9,     -999,9,     -999,     -999,9,     -999,5,     -999,1,     -999,9,    0.120,1,    4.634,1,    0.159,1,  17.4300,6,     -999,9,20180417,2109, -67.0012,-149.3620,     -999,9,     -999,9,-999          ,9,     -999,9,     -999,9,     -999,     -999,9,     -999,     -999,9,     -999,9,     -999,9,     -999,9,     -999,9,     -999,9,     -999,9,     -999,9,     -999,9,     -999,9,     -999,9,     -999,9,     -999,9,     -999,9
320620180309  ,S04P       ,68      ,  1,30         ,30         ,2,20180417,1915, -67.0014,-149.3610,     4443,    115.1,0.0920555555555555433,34.337935287243781,2,  34.3531,2,254.12000346563283,3, 246.9997,2,    246.1,2,     73.9,2,    30.47,2,     0.10,2,     2.12,2,    2.801,2,    1.529,2,   1.6200,2,   2231.5,2,  2324.48,2,   7.5872,2,    24.93,     -999,5,     -999,9,   0.0860,2,0.73000000,2, -132.030,2,    0.002,     -999,9,     -999,5,     -999,1,     -999,9,    0.087,1,    4.644,1,    0.148,1,  20.8700,2,     -999,9,20180417,2108, -67.0013,-149.3620,     -999,9,     -999,9,-999          ,9,     -999,9,     -999,9,     -999,     -999,9,     -999,     -999,9,     -999,9,     -999,9,     -999,9,     -999,9,     -999,9,     -999,9,     -999,9,     -999,9,     -999,9,     -999,9,     -999,9,     -999,9,     -999,9
320620180309  ,S04P       ,68      ,  1,29         ,29         ,2,20180417,1915, -67.0014,-149.3610,     4443,    165.2,1.0057166666666668142,34.585785711479204,2,  34.5948,2,202.13665860317005,3, 197.9918,2,    196.5,2,     89.4,2,    32.71,2,     0.04,2,     2.24,2,    1.127,2,    0.612,2,   0.5400,2,   2253.3,2,  2341.57,2,   7.5635,2,    24.92,     -999,5,     -999,9,   1.0071,2,0.46000000,2, -143.550,2,    0.003,     -999,9,     -999,5,     -999,1,     -999,9,    0.071,1,    4.656,1,    0.146,1,  23.3200,2,     -999,9,20180417,2105, -67.0012,-149.3620,     -999,9,     -999,9,-999          ,9,     -999,9,     -999,9,     -999,     -999,9,     -999,     -999,9,     -999,9,     -999,9,     -999,9,     -999,9,     -999,9,     -999,9,     -999,9,     -999,9,     -999,9,     -999,9,     -999,9,     -999,9,     -999,9
320620180309  ,S04P       ,68      ,  1,28         ,28         ,2,20180417,1915, -67.0014,-149.3610,     4443,    216.6,1.3630111111111111732,34.676658073367285,2,  34.6813,2,185.36802504737506,3, 186.2013,3,    182.3,2,     94.9,2,    33.12,2,     0.02,2,     2.25,2,    0.534,2,    0.287,2,   0.1200,2,   2260.3,6,  2348.63,2,   7.5616,2,    24.92,     -999,5,     -999,9,   1.3609,2,0.42000000,2, -153.000,2,    0.002,     -999,9,     -999,5,     -999,1,     -999,9,    0.064,1,    4.660,1,    0.140,1,  22.7500,2,     -999,9,20180417,2103, -67.0012,-149.3620,     -999,9,     -999,9,-999          ,9,     -999,9,     -999,9,     -999,     -999,9,     -999,     -999,9,     -999,9,     -999,9,     -999,9,     -999,9,     -999,9,     -999,9,     -999,9,     -999,9,     -999,9,     -999,9,     -999,9,     -999,9,     -999,9
320620180309  ,S04P       ,68      ,  1,27         ,27         ,2,20180417,1915, -67.0014,-149.3610,     4443,    266.8,1.4926888888888889539,34.721033583211018,2,  34.7229,2,180.71056019088073,3, 182.3990,3,    178.7,2,     99.5,2,    33.14,2,     0.01,2,     2.24,2,    0.286,2,    0.148,2,   0.1300,2,   2264.6,2,  2353.91,2,   7.5634,2,    24.92,     -999,5,     -999,9,   1.4957,2,0.48000000,2, -151.490,2,    0.002,     -999,9,     -999,5,     -999,1,     -999,9,    0.062,1,    4.663,1,    0.136,1,  22.6300,2,     -999,9,20180417,2101, -67.0011,-149.3621,     -999,9,     -999,9,-999          ,9,     -999,9,     -999,9,     -999,     -999,9,     -999,     -999,9,     -999,9,     -999,9,     -999,9,     -999,9,     -999,9,     -999,9,     -999,9,     -999,9,     -999,9,     -999,9,     -999,9,     -999,9,     -999,9
320620180309  ,S04P       ,68      ,  1,26         ,26         ,2,20180417,1915, -67.0014,-149.3610,     4443,    317.8,1.4630305555555553898,34.729244204963599,2,  34.7292,2,181.34725448678770,2, 182.5963,2,    180.3,2,    102.2,2,    32.99,2,     0.00,2,     2.24,2,    0.225,2,    0.111,2,   0.0400,2,   2264.8,2,  2354.10,2,   7.5681,2,    24.91,     -999,5,     -999,9,   1.4620,2,     -999,9,     -999,9,     -999,     -999,9,     -999,9,     -999,1,     -999,9,    0.062,1,    4.665,1,    0.136,1,  21.9200,2,     -999,9,20180417,2059, -67.0010,-149.3621,     -999,9,     -999,9,-999          ,9,     -999,9,     -999,9,     -999,     -999,9,     -999,     -999,9,     -999,9,     -999,9,     -999,9,     -999,9,     -999,9,     -999,9,     -999,9,     -999,9,     -999,9,     -999,9,     -999,9,     -999,9,     -999,9
320620180309  ,S04P       ,68      ,  1,25         ,25         ,2,20180417,1915, -67.0014,-149.3610,     4443,    368.3,1.3963972222222222896,34.730712895981704,2,  34.7302,2,182.60167625628245,2, 183.9013,2,    181.9,2,    104.2,2,    32.94,2,     0.00,2,     2.22,2,     -999,9,     -999,9,     -999,9,   2265.0,2,  2355.84,2,   7.5696,2,    24.93,     -999,5,     -999,9,   1.4002,2,0.58000000,2, -158.300,2,    0.002,     -999,9,     -999,9,     -999,1,     -999,9,    0.061,1,    4.665,1,    0.137,1,     -999,9,     -999,9,20180417,2057, -67.0009,-149.3621,     -999,9,     -999,9,-999          ,9,     -999,9,     -999,9,     -999,     -999,9,     -999,     -999,9,     -999,9,     -999,9,     -999,9,     -999,9,     -999,9,     -999,9,     -999,9,     -999,9,     -999,9,     -999,9,     -999,9,     -999,9,     -999,9
320620180309  ,S04P       ,68      ,  1,24         ,24         ,2,20180417,1915, -67.0014,-149.3610,     4443,    438.6,1.3387611111111110684,34.730820360528192,2,  34.7300,2,183.94720636587252,2, 185.1067,2,    182.8,2,    106.4,2,    32.94,2,     0.00,2,     2.21,2,    0.175,2,    0.091,2,   0.0400,2,   2265.0,2,  2356.34,2,   7.5717,2,    24.92,     -999,5,     -999,9,   1.3378,2,0.53000000,2, -155.900,2,    0.003,     -999,9,     -999,9,     -999,1,     -999,9,    0.061,1,    4.665,1,    0.134,1,  21.3400,2,     -999,9,20180417,2055, -67.0008,-149.3621,     -999,9,     -999,9,-999          ,9,     -999,9,     -999,9,     -999,     -999,9,     -999,     -999,9,     -999,9,     -999,9,     -999,9,     -999,9,     -999,9,     -999,9,     -999,9,     -999,9,     -999,9,     -999,9,     -999,9,     -999,9,     -999,9
320620180309  ,S04P       ,68      ,  1,23         ,23         ,2,20180417,1915, -67.0014,-149.3610,     4443,    540.0,1.2461861111111109945,34.729203699094533,2,  34.7286,2,186.07449944287450,2, 187.0983,2,    185.3,2,    109.7,2,    32.92,2,     0.00,2,     2.26,2,     -999,9,     -999,9,     -999,9,   2265.4,2,  2357.28,2,   7.5747,2,    24.92,     -999,5,     -999,9,   1.2456,2,0.36000000,2, -159.770,2,    0.002,     -999,9,     -999,9,     -999,1,     -999,9,    0.061,1,    4.666,1,    0.133,1,     -999,9,     -999,9,20180417,2052, -67.0008,-149.3621,     -999,9,     -999,9,-999          ,9,     -999,9,     -999,9,     -999,     -999,9,     -999,     -999,9,     -999,9,     -999,9,     -999,9,     -999,9,     -999,9,     -999,9,     -999,9,     -999,9,     -999,9,     -999,9,     -999,9,     -999,9,     -999,9
320620180309  ,S04P       ,68      ,  1,22         ,37         ,2,20180417,1915, -67.0014,-149.3610,     4443,    641.7,1.1742083333333335204,34.727238485664493,2,  34.7266,2,188.27101675726828,2, 188.8949,2,    188.2,2,    112.1,2,    32.87,2,     0.00,2,     2.23,2,    0.133,2,    0.065,2,  -0.0100,2,   2264.2,2,  2358.00,2,   7.5792,2,    24.92,     -999,5,     -999,9,   1.1732,2,0.48000000,2, -159.900,2,    0.002,     -999,9,     -999,9,     -999,1,     -999,9,    0.063,1,    4.665,1,    0.137,1,  20.7900,2,     -999,9,20180417,2049, -67.0008,-149.3622,     -999,9,     -999,9,-999          ,9,     -999,9,     -999,9,     -999,     -999,9,     -999,     -999,9,     -999,9,     -999,9,     -999,9,     -999,9,     -999,9,     -999,9,     -999,9,     -999,9,     -999,9,     -999,9,     -999,9,     -999,9,     -999,9
320620180309  ,S04P       ,68      ,  1,21         ,21         ,2,20180417,1915, -67.0014,-149.3610,     4443,    742.8,1.1096249999999994174,34.724926321159543,2,  34.7241,2,190.33726763722174,2, 190.3952,2,    190.5,2,    113.7,2,    32.74,2,     0.00,2,     2.23,2,    0.120,2,    0.064,2,   0.0700,2,   2264.9,2,  2365.57,3,   7.5821,2,    24.91,     -999,5,     -999,9,   1.1088,2,0.51000000,2, -157.620,2,    0.002,     -999,9,     -999,9,     -999,1,     -999,9,    0.062,1,    4.666,1,    0.133,1,  20.2300,2,     -999,9,20180417,2047, -67.0008,-149.3622,     -999,9,     -999,9,-999          ,9,     -999,9,     -999,9,     -999,     -999,9,     -999,     -999,9,     -999,9,     -999,9,     -999,9,     -999,9,     -999,9,     -999,9,     -999,9,     -999,9,     -999,9,     -999,9,     -999,9,     -999,9,     -999,9
320620180309  ,S04P       ,68      ,  1,20         ,20         ,2,20180417,1915, -67.0014,-149.3610,     4443,    844.3,1.0530194444444442858,34.722877379772477,2,  34.7229,2,192.69271071320492,2, 192.0998,2,    192.8,2,    115.4,2,    32.72,2,     0.00,2,     2.23,2,     -999,9,     -999,9,     -999,9,   2263.7,2,  2359.89,2,   7.5852,2,    24.92,     -999,5,     -999,9,   1.0526,2,0.48000000,2, -160.830,2,    0.002,     -999,9,     -999,9,     -999,1,     -999,9,    0.061,1,    4.666,1,    0.132,1,     -999,9,     -999,9,20180417,2044, -67.0009,-149.3621,     -999,9,     -999,9,-999          ,9,     -999,9,     -999,9,     -999,     -999,9,     -999,     -999,9,     -999,9,     -999,9,     -999,9,     -999,9,     -999,9,     -999,9,     -999,9,     -999,9,     -999,9,     -999,9,     -999,9,     -999,9,     -999,9
320620180309  ,S04P       ,68      ,  1,19         ,19         ,2,20180417,1915, -67.0014,-149.3610,     4443,    946.1,1.0074416666666665687,34.720789384989203,2,  34.7210,2,194.50024851733048,2, 193.5039,2,    194.7,2,    116.3,2,    32.66,2,     0.00,2,     2.23,2,    0.110,2,    0.060,2,   0.0700,2,   2263.0,2,  2360.88,2,   7.5874,2,    24.92,     -999,5,     -999,9,   1.0067,2,0.56000000,2, -158.250,2,    0.002,     -999,9,     -999,9,     -999,1,     -999,9,    0.061,1,    4.667,1,    0.130,1,  20.3200,2,     -999,9,20180417,2041, -67.0010,-149.3620,     -999,9,     -999,9,-999          ,9,     -999,9,     -999,9,     -999,     -999,9,     -999,     -999,9,     -999,9,     -999,9,     -999,9,     -999,9,     -999,9,     -999,9,     -999,9,     -999,9,     -999,9,     -999,9,     -999,9,     -999,9,     -999,9
320620180309  ,S04P       ,68      ,  1,18         ,18         ,2,20180417,1915, -67.0014,-149.3610,     4443,   1047.3,0.9459194444444444239,34.718283724585980,2,  34.7186,2,196.44622643433223,2, 195.4970,2,    196.4,2,    118.1,2,    32.62,2,     0.00,2,     2.24,2,    0.107,2,    0.054,2,   0.0900,2,   2262.0,2,  2362.45,2,   7.5889,2,    24.93,     -999,5,     -999,9,   0.9448,2,0.53000000,2, -162.080,2,    0.002,     -999,9,     -999,9,     -999,1,     -999,9,    0.061,1,    4.667,1,    0.129,1,  20.3800,2,     -999,9,20180417,2038, -67.0011,-149.3616,     -999,9,     -999,9,-999          ,9,     -999,9,     -999,9,     -999,     -999,9,     -999,     -999,9,     -999,9,     -999,9,     -999,9,     -999,9,     -999,9,     -999,9,     -999,9,     -999,9,     -999,9,     -999,9,     -999,9,     -999,9,     -999,9
320620180309  ,S04P       ,68      ,  1,17         ,17         ,2,20180417,1915, -67.0014,-149.3610,     4443,   1148.9,0.8841694444444443413,34.715869537883790,2,  34.7164,2,198.05098160083989,2, 197.5034,2,    198.5,2,    119.8,2,    32.63,2,     0.00,2,     2.24,2,     -999,9,     -999,9,     -999,9,   2262.6,2,  2362.16,2,   7.5912,2,    24.92,     -999,5,     -999,9,   0.8837,2,0.51000000,2, -164.880,2,    0.002,     -999,9,     -999,9,     -999,1,     -999,9,    0.061,1,    4.667,1,    0.129,1,     -999,9,     -999,9,20180417,2035, -67.0013,-149.3614,     -999,9,     -999,9,-999          ,9,     -999,9,     -999,9,     -999,     -999,9,     -999,     -999,9,     -999,9,     -999,9,     -999,9,     -999,9,     -999,9,     -999,9,     -999,9,     -999,9,     -999,9,     -999,9,     -999,9,     -999,9,     -999,9
320620180309  ,S04P       ,68      ,  1,16         ,16         ,2,20180417,1915, -67.0014,-149.3610,     4443,   1250.3,0.8281388888888890909,34.713491754092907,2,  34.7139,2,199.44951158539325,2, 199.0000,2,    200.0,2,    121.6,2,    32.68,2,     0.00,2,     2.24,2,    0.109,2,    0.051,2,   0.0300,2,   2261.9,2,  2363.28,2,   7.5916,2,    24.93,     -999,5,     -999,9,   0.8278,2,0.53000000,2, -166.900,2,    0.003,     -999,9,     -999,9,     -999,1,     -999,9,    0.061,1,    4.667,1,    0.128,1,  20.2000,2,     -999,9,20180417,2032, -67.0015,-149.3613,     -999,9,     -999,9,-999          ,9,     -999,9,     -999,9,     -999,     -999,9,     -999,     -999,9,     -999,9,     -999,9,     -999,9,     -999,9,     -999,9,     -999,9,     -999,9,     -999,9,     -999,9,     -999,9,     -999,9,     -999,9,     -999,9