BOTTLE,20240515CCHHYDRO
EXPOCODE,SECT_ID,STNNBR,CASTNO,SAMPNO,BTLNBR,BTLNBR_FLAG_W,DATE,TIME,LATITUDE,LONGITUDE,DEPTH,CTDPRS,CTDTMP,CTDSAL,CTDSAL_FLAG_W,SALNTY,SALNTY_FLAG_W,CTDOXY,CTDOXY_FLAG_W,CTDOPTOXY,CTDOPTOXY_FLAG_W,OXYGEN,OXYGEN_FLAG_W,SILCAT,SILCAT_FLAG_W,NITRAT,NITRAT_FLAG_W,NITRIT,NITRIT_FLAG_W,PHSPHT,PHSPHT_FLAG_W,CFC-11,CFC-11_FLAG_W,CFC-12,CFC-12_FLAG_W,SF6,SF6_FLAG_W,TCARBN,TCARBN_FLAG_W,ALKALI,ALKALI_FLAG_W,PH_TOT,PH_TOT_FLAG_W,PH_TMP,DOC,DOC_FLAG_W,HELIUM,HELIUM_FLAG_W,REFTMP,REFTMP_FLAG_W,DELC13,DELC13_FLAG_W,DELC14,DELC14_FLAG_W,C14ERR,POC,POC_FLAG_W,TDN,TDN_FLAG_W,TON,TON_FLAG_W,NEON,NEON_FLAG_W,CTDFLUOR,CTDFLUOR_FLAG_W,CTDXMISS,CTDXMISS_FLAG_W,CTDBETA700,CTDBETA700_FLAG_W,N2O,N2O_FLAG_W,ARGON,ARGON_FLAG_W,BTL_DATE,BTL_TIME,BTL_LAT,BTL_LON,KRYPTON,KRYPTON_FLAG_W,XENON,XENON_FLAG_W,HPLC,HPLC_FLAG_W,HE3_HE4_RATIO,HE3_HE4_RATIO_FLAG_W,Nd_143_144_D_EPSILON_BOTTLE,Nd_143_144_D_EPSILON_BOTTLE_FLAG_W,Nd_143_144_D_EPSILON_BOTTLE_ERROR,Nd_143_144_D_RATIO_BOTTLE,Nd_143_144_D_RATIO_BOTTLE_FLAG_W,Nd_143_144_D_RATIO_BOTTLE_ERROR,Nd_D_CONC,Nd_D_CONC_FLAG_W,La_D_CONC_BOTTLE,La_D_CONC_BOTTLE_FLAG_W,Ce_D_CONC_BOTTLE,Ce_D_CONC_BOTTLE_FLAG_W,Pr_D_CONC_BOTTLE,Pr_D_CONC_BOTTLE_FLAG_W,Sm_D_CONC_BOTTLE,Sm_D_CONC_BOTTLE_FLAG_W,Eu_D_CONC_BOTTLE,Eu_D_CONC_BOTTLE_FLAG_W,Gd_D_CONC_BOTTLE,Gd_D_CONC_BOTTLE_FLAG_W,Tb_D_CONC_BOTTLE,Tb_D_CONC_BOTTLE_FLAG_W,Dy_D_CONC_BOTTLE,Dy_D_CONC_BOTTLE_FLAG_W,Ho_D_CONC_BOTTLE,Ho_D_CONC_BOTTLE_FLAG_W,Er_D_CONC_BOTTLE,Er_D_CONC_BOTTLE_FLAG_W,Tm_D_CONC_BOTTLE,Tm_D_CONC_BOTTLE_FLAG_W,Yb_D_CONC_BOTTLE,Yb_D_CONC_BOTTLE_FLAG_W,Lu_D_CONC_BOTTLE,Lu_D_CONC_BOTTLE_FLAG_W
,,,,,,,,,,,METERS,DBAR,ITS-90,PSS-78,,PSS-78,,UMOL/KG,,UMOL/KG,,UMOL/KG,,UMOL/KG,,UMOL/KG,,UMOL/KG,,UMOL/KG,,PMOL/KG,,PMOL/KG,,FMOL/KG,,UMOL/KG,,UMOL/KG,,,,DEG C,UMOL/KG,,NMOL/L,,DEG C,,/MILLE,,/MILLE,,/MILLE,UG/KG,,UMOL/KG,,UMOL/KG,,NMOL/L,,VOLTS,,VOLTS,,VOLTS,,NMOL/KG,,UMOL/L,,,,,,NMOL/L,,NMOL/L,,,,,,10000,,10000,,,,PMOL/KG,,PMOL/L,,PMOL/L,,PMOL/L,,PMOL/L,,PMOL/L,,PMOL/L,,PMOL/L,,PMOL/L,,PMOL/L,,PMOL/L,,PMOL/L,,PMOL/L,,PMOL/L,
320620180309  ,P18        ,98      ,  1,15         ,15         ,2,20180429,1510, -69.7473,-102.9972,     4088,   1316.7,1.1843814752181192063,34.724924408414886,2,  34.7235,2,197.07583084292332,2, 196.9988,2,    196.8,2,    110.5,2,    32.01,2,     0.00,2,     2.17,2,    0.110,2,    0.053,2,   0.0000,3,   2261.9,2,  2361.15,2,   7.5983,2,    24.91,     42.2,2,     -999,9,   1.1843,2,0.63000000,2, -162.300,2,    0.002,     -999,9,     -999,9,     -999,1,     -999,9,    0.061,1,    4.654,1,    0.131,1,  19.2200,2,     -999,9,20180429,1621, -69.7488,-102.9863,     -999,9,     -999,9,-999          ,9,     -999,9,     -999,9,     -999,     -999,9,     -999,     -999,9,     -999,9,     -999,9,     -999,9,     -999,9,     -999,9,     -999,9,     -999,9,     -999,9,     -999,9,     -999,9,     -999,9,     -999,9,     -999,9
320620180309  ,P18        ,98      ,  1,14         ,14         ,2,20180429,1510, -69.7473,-102.9972,     4088,   1418.3,1.1258057500282496743,34.722779800236694,2,  34.7204,2,198.21256804149525,2, 198.0985,2,    198.2,2,    112.7,2,    32.04,2,     0.00,2,     2.17,2,     -999,9,     -999,9,     -999,9,   2262.2,2,  2365.19,2,   7.5984,2,    24.93,     40.6,2,     -999,9,   1.1256,2,0.62000000,2, -162.210,2,    0.002,     -999,9,    33.20,2,     -999,1,     -999,9,    0.061,1,    4.654,1,    0.129,1,     -999,9,     -999,9,20180429,1618, -69.7488,-102.9868,     -999,9,     -999,9,-999          ,9,     -999,9,     -999,9,     -999,     -999,9,     -999,     -999,9,     -999,1,     -999,1,     -999,1,     -999,1,     -999,1,     -999,1,     -999,1,     -999,1,     -999,1,     -999,1,     -999,1,     -999,1,     -999,1
320620180309  ,P18        ,98      ,  1,13         ,13         ,2,20180429,1510, -69.7473,-102.9972,     4088,   1520.0,1.0689433602102125231,34.720749000821655,2,  34.7194,2,199.22013803455195,2, 198.9944,2,    199.2,2,    114.4,2,    32.07,2,     0.00,2,     2.18,2,    0.107,2,    0.056,2,   0.0000,3,   2260.9,2,  2362.16,2,   7.5977,2,    24.90,     -999,9,     -999,1,   1.0690,2,     -999,9,     -999,9,     -999,     -999,9,     -999,9,     -999,9,     -999,1,    0.061,1,    4.654,1,    0.131,1,  18.9900,2,     -999,1,20180429,1615, -69.7488,-102.9873,     -999,1,     -999,1,-999          ,9,     -999,1,     -999,9,     -999,     -999,9,     -999,     -999,9,     -999,9,     -999,9,     -999,9,     -999,9,     -999,9,     -999,9,     -999,9,     -999,9,     -999,9,     -999,9,     -999,9,     -999,9,     -999,9
320620180309  ,P18        ,98      ,  1,12         ,12         ,2,20180429,1510, -69.7473,-102.9972,     4088,   1621.9,1.0158915408152897619,34.718720344251246,2,  34.7172,2,200.35854764665129,2, 200.3011,2,    200.1,2,    116.4,2,    32.14,2,     0.00,2,     2.18,2,    0.115,2,    0.067,2,   0.0400,3,   2262.3,2,  2362.43,2,   7.5987,2,    24.89,     40.4,2,     -999,9,   1.0157,2,0.59000000,2, -160.060,2,    0.003,     -999,9,     -999,9,     -999,1,     -999,9,    0.061,1,    4.654,1,    0.132,1,  18.5900,2,     -999,9,20180429,1612, -69.7488,-102.9878,     -999,9,     -999,9,-999          ,9,     -999,9,     -999,9,     -999,     -999,9,     -999,     -999,9,     -999,1,     -999,1,     -999,1,     -999,1,     -999,1,     -999,1,     -999,1,     -999,1,     -999,1,     -999,1,     -999,1,     -999,1,     -999,1
320620180309  ,P18        ,98      ,  1,11         ,11         ,2,20180429,1510, -69.7473,-102.9972,     4088,   1723.9,0.9689974884603531624,34.716880679570153,2,  34.7159,2,201.44676116425327,2, 201.3987,2,    200.9,2,    118.3,2,    32.18,2,     0.00,2,     2.19,2,     -999,9,     -999,9,     -999,9,   2260.2,2,  2362.09,2,   7.5989,2,    24.92,     -999,9,     -999,9,   0.9687,2,     -999,9,     -999,9,     -999,     -999,9,     -999,9,     -999,9,     -999,9,    0.061,1,    4.654,1,    0.129,1,     -999,9,     -999,9,20180429,1609, -69.7488,-102.9884,     -999,9,     -999,9,-999          ,9,     -999,9,     -999,9,     -999,     -999,9,     -999,     -999,9,     -999,9,     -999,9,     -999,9,     -999,9,     -999,9,     -999,9,     -999,9,     -999,9,     -999,9,     -999,9,     -999,9,     -999,9,     -999,9
320620180309  ,P18        ,98      ,  1,10         ,10         ,2,20180429,1510, -69.7473,-102.9972,     4088,   1825.9,0.9212389927171896753,34.714991996995707,2,  34.7127,2,202.58028791060255,2, 202.3019,2,    203.6,3,    119.5,2,    32.17,2,     0.00,2,     2.19,2,    0.131,2,    0.080,2,   0.0100,3,   2261.9,2,  2364.10,2,   7.5974,2,    24.91,     39.6,2,     -999,1,   0.9210,2,     -999,9,     -999,9,     -999,     -999,9,     -999,9,     -999,1,     -999,1,    0.062,1,    4.654,1,    0.128,1,  18.6000,2,     -999,1,20180429,1605, -69.7488,-102.9889,     -999,1,     -999,1,-999          ,9,     -999,1,     -999,9,     -999,     -999,9,     -999,     -999,9,     -999,1,     -999,1,     -999,1,     -999,1,     -999,1,     -999,1,     -999,1,     -999,1,     -999,1,     -999,1,     -999,1,     -999,1,     -999,1
320620180309  ,P18        ,98      ,  1,9          ,9          ,2,20180429,1510, -69.7473,-102.9972,     4088,   2029.8,0.8315647285153230373,34.711628688223783,2,  34.7100,2,203.88216919463216,2, 203.6984,2,    203.3,2,    122.7,2,    32.32,2,     0.00,2,     2.18,2,    0.126,2,    0.065,2,   0.0000,3,   2263.0,6,  2367.42,2,   7.5984,2,    24.90,     41.5,2,     -999,9,   0.8309,2,     -999,9,     -999,9,     -999,     -999,9,     -999,9,     -999,1,     -999,9,    0.061,1,    4.654,1,    0.127,1,  19.5700,2,     -999,9,20180429,1600, -69.7487,-102.9897,     -999,9,     -999,9,-999          ,9,     -999,9,     -999,9,     -999,     -999,9,     -999,     -999,9,     -999,9,     -999,9,     -999,9,     -999,9,     -999,9,     -999,9,     -999,9,     -999,9,     -999,9,     -999,9,     -999,9,     -999,9,     -999,9
320620180309  ,P18        ,98      ,  1,8          ,8          ,2,20180429,1510, -69.7473,-102.9972,     4088,   2284.9,0.7376784431191472091,34.708351452583997,2,  34.7066,2,205.71625506914776,2, 205.7020,2,    205.9,2,    125.7,2,    32.42,2,     0.00,2,     2.20,2,     -999,9,     -999,9,     -999,9,   2263.8,2,  2365.51,2,   7.5969,2,    24.95,     40.6,2,     -999,9,   0.7375,2,     -999,9,     -999,9,     -999,     -999,9,     -999,9,     -999,1,     -999,9,    0.062,1,    4.654,1,    0.127,1,     -999,9,     -999,9,20180429,1554, -69.7487,-102.9907,     -999,9,     -999,9,-999          ,9,     -999,9,     -999,9,     -999,     -999,9,     -999,     -999,9,     -999,1,     -999,1,     -999,1,     -999,1,     -999,1,     -999,1,     -999,1,     -999,1,     -999,1,     -999,1,     -999,1,     -999,1,     -999,1
320620180309  ,P18        ,98      ,  1,7          ,7          ,2,20180429,1510, -69.7473,-102.9972,     4088,   2540.0,0.6381552787214341826,34.705745803998560,2,  34.7043,2,207.60007396349909,2, 207.6997,2,    207.6,2,    128.9,2,    32.49,2,     0.00,2,     2.21,2,    0.172,2,    0.103,2,   0.0000,3,   2263.7,2,  2364.84,2,   7.5978,2,    24.88,     40.5,2,     -999,1,   0.6380,2,     -999,9,     -999,9,     -999,     -999,9,     -999,9,     -999,1,     -999,1,    0.061,1,    4.655,1,    0.126,1,  18.7200,2,     -999,1,20180429,1548, -69.7486,-102.9917,     -999,1,     -999,1,-999          ,9,     -999,1,     -999,9,     -999,     -999,9,     -999,     -999,9,     -999,9,     -999,9,     -999,9,     -999,9,     -999,9,     -999,9,     -999,9,     -999,9,     -999,9,     -999,9,     -999,9,     -999,9,     -999,9
320620180309  ,P18        ,98      ,  1,6          ,6          ,2,20180429,1510, -69.7473,-102.9972,     4088,   2795.7,0.5502952562105842826,34.703739762273678,2,  34.7023,2,209.35096889665741,2, 209.3061,2,    209.6,2,    131.5,2,    32.58,2,     0.00,2,     2.21,2,    0.184,2,    0.102,2,   0.0100,3,   2266.1,2,  2366.41,2,   7.5971,2,    24.90,     41.7,2,     -999,9,   0.5500,2,     -999,9,     -999,9,     -999,     -999,9,     -999,9,     -999,1,     -999,9,    0.061,1,    4.654,1,    0.131,1,  18.8900,2,     -999,9,20180429,1542, -69.7484,-102.9926,     -999,9,     -999,9,-999          ,9,     -999,9,     -999,9,     -999,     -999,9,     -999,     -999,9,     -999,1,     -999,1,     -999,1,     -999,1,     -999,1,     -999,1,     -999,1,     -999,1,     -999,1,     -999,1,     -999,1,     -999,1,     -999,1
320620180309  ,P18        ,98      ,  1,5          ,5          ,2,20180429,1510, -69.7473,-102.9972,     4088,   3051.8,0.4921150163207905215,34.702729413009664,2,  34.6986,2,210.48468859253219,2, 210.4013,2,    210.9,2,    134.5,2,    32.66,2,     0.00,2,     2.23,2,    0.190,2,    0.114,2,   0.0000,3,   2265.2,2,  2366.37,2,   7.5969,6,    24.90,     39.7,2,     -999,1,   0.4920,2,     -999,9,     -999,9,     -999,     -999,9,     -999,9,     -999,1,     -999,1,    0.061,1,    4.653,1,    0.147,1,  19.8300,2,     -999,1,20180429,1536, -69.7483,-102.9936,     -999,1,     -999,1,-999          ,9,     -999,1,     -999,9,     -999,     -999,9,     -999,     -999,9,     -999,9,     -999,9,     -999,9,     -999,9,     -999,9,     -999,9,     -999,9,     -999,9,     -999,9,     -999,9,     -999,9,     -999,9,     -999,9
320620180309  ,P18        ,98      ,  1,4          ,4          ,2,20180429,1510, -69.7473,-102.9972,     4088,   3359.8,0.4496129021864113118,34.702201432720464,2,  34.7003,2,211.64436352470011,2, 211.7044,2,    212.2,2,    137.9,2,    32.80,2,     0.00,2,     2.24,2,    0.199,2,    0.117,2,   0.0300,3,   2265.6,2,  2369.33,2,   7.5968,2,    24.90,     42.4,2,     -999,9,   0.4496,2,     -999,9,     -999,9,     -999,     -999,9,     -999,9,     -999,1,     -999,9,    0.061,1,    4.651,1,    0.129,1,  19.3200,2,     -999,9,20180429,1529, -69.7481,-102.9946,     -999,9,     -999,9,-999          ,9,     -999,9,     -999,9,     -999,     -999,9,     -999,     -999,9,     -999,1,     -999,1,     -999,1,     -999,1,     -999,1,     -999,1,     -999,1,     -999,1,     -999,1,     -999,1,     -999,1,     -999,1,     -999,1
320620180309  ,P18        ,98      ,  1,3          ,3          ,2,20180429,1510, -69.7473,-102.9972,     4088,   3667.4,0.4268917209899498744,34.701719048631276,2,  34.6990,2,212.44208741870204,2, 212.8067,2,    212.6,2,    140.1,2,    32.81,2,     0.00,2,     2.23,2,    0.221,2,    0.119,2,   0.0500,3,   2266.3,2,  2366.86,2,   7.5960,2,    24.89,     40.8,2,     -999,1,   0.4267,2,     -999,9,     -999,9,     -999,     -999,9,     -999,9,     -999,1,     -999,1,    0.062,1,    4.651,1,    0.130,1,  18.4000,2,     -999,1,20180429,1522, -69.7478,-102.9956,     -999,1,     -999,1,-999          ,9,     -999,1,     -999,9,     -999,     -999,9,     -999,     -999,9,     -999,1,     -999,1,     -999,1,     -999,1,     -999,1,     -999,1,     -999,1,     -999,1,     -999,1,     -999,1,     -999,1,     -999,1,     -999,1
320620180309  ,P18        ,98      ,  1,2          ,2          ,2,20180429,1510, -69.7473,-102.9972,     4088,   3914.2,0.4049160519419416349,34.700880583990589,2,  34.6994,2,213.39781290192812,2, 213.5983,2,    213.3,2,    143.0,2,    32.91,2,     0.00,2,     2.23,2,    0.262,2,    0.142,2,   0.0100,3,   2265.3,2,  2368.02,2,   7.5943,2,    24.90,     -999,9,     -999,1,   0.4049,2,     -999,9,     -999,9,     -999,     -999,9,     -999,9,     -999,9,     -999,1,    0.060,1,    4.649,1,    0.130,1,  19.3000,2,     -999,1,20180429,1516, -69.7476,-102.9964,     -999,1,     -999,1,-999          ,9,     -999,1,     -999,9,     -999,     -999,9,     -999,     -999,9,     -999,1,     -999,1,     -999,1,     -999,1,     -999,1,     -999,1,     -999,1,     -999,1,     -999,1,     -999,1,     -999,1,     -999,1,     -999,1
320620180309  ,P18        ,98      ,  1,1          ,1          ,2,20180429,1510, -69.7473,-102.9972,     4088,   4159.8,0.3766759746773975515,34.699629239202721,2,  34.6984,2,213.90279086922968,2, 213.0990,2,    213.2,2,    148.4,2,    33.06,2,     0.00,2,     2.24,2,    0.356,2,    0.191,2,   0.0000,3,   2266.4,6,  2367.44,2,   7.5911,2,    24.88,     39.8,2,     -999,1,   0.3765,2,     -999,9,     -999,9,     -999,     -999,9,     -999,9,     -999,1,     -999,1,    0.060,1,    4.644,1,    0.138,1,  17.8500,2,     -999,1,20180429,1510, -69.7473,-102.9972,     -999,1,     -999,1,-999          ,9,     -999,1,     -999,9,     -999,     -999,9,     -999,     -999,9,     -999,1,     -999,1,     -999,1,     -999,1,     -999,1,     -999,1,     -999,1,     -999,1,     -999,1,     -999,1,     -999,1,     -999,1,     -999,1