BOTTLE,20240515CCHHYDRO
EXPOCODE,SECT_ID,STNNBR,CASTNO,SAMPNO,BTLNBR,BTLNBR_FLAG_W,DATE,TIME,LATITUDE,LONGITUDE,DEPTH,CTDPRS,CTDTMP,CTDSAL,CTDSAL_FLAG_W,SALNTY,SALNTY_FLAG_W,CTDOXY,CTDOXY_FLAG_W,CTDOPTOXY,CTDOPTOXY_FLAG_W,OXYGEN,OXYGEN_FLAG_W,SILCAT,SILCAT_FLAG_W,NITRAT,NITRAT_FLAG_W,NITRIT,NITRIT_FLAG_W,PHSPHT,PHSPHT_FLAG_W,CFC-11,CFC-11_FLAG_W,CFC-12,CFC-12_FLAG_W,SF6,SF6_FLAG_W,TCARBN,TCARBN_FLAG_W,ALKALI,ALKALI_FLAG_W,PH_TOT,PH_TOT_FLAG_W,PH_TMP,DOC,DOC_FLAG_W,HELIUM,HELIUM_FLAG_W,REFTMP,REFTMP_FLAG_W,DELC13,DELC13_FLAG_W,DELC14,DELC14_FLAG_W,C14ERR,POC,POC_FLAG_W,TDN,TDN_FLAG_W,TON,TON_FLAG_W,NEON,NEON_FLAG_W,CTDFLUOR,CTDFLUOR_FLAG_W,CTDXMISS,CTDXMISS_FLAG_W,CTDBETA700,CTDBETA700_FLAG_W,N2O,N2O_FLAG_W,ARGON,ARGON_FLAG_W,BTL_DATE,BTL_TIME,BTL_LAT,BTL_LON,KRYPTON,KRYPTON_FLAG_W,XENON,XENON_FLAG_W,HPLC,HPLC_FLAG_W,HE3_HE4_RATIO,HE3_HE4_RATIO_FLAG_W,Nd_143_144_D_EPSILON_BOTTLE,Nd_143_144_D_EPSILON_BOTTLE_FLAG_W,Nd_143_144_D_EPSILON_BOTTLE_ERROR,Nd_143_144_D_RATIO_BOTTLE,Nd_143_144_D_RATIO_BOTTLE_FLAG_W,Nd_143_144_D_RATIO_BOTTLE_ERROR,Nd_D_CONC,Nd_D_CONC_FLAG_W,La_D_CONC_BOTTLE,La_D_CONC_BOTTLE_FLAG_W,Ce_D_CONC_BOTTLE,Ce_D_CONC_BOTTLE_FLAG_W,Pr_D_CONC_BOTTLE,Pr_D_CONC_BOTTLE_FLAG_W,Sm_D_CONC_BOTTLE,Sm_D_CONC_BOTTLE_FLAG_W,Eu_D_CONC_BOTTLE,Eu_D_CONC_BOTTLE_FLAG_W,Gd_D_CONC_BOTTLE,Gd_D_CONC_BOTTLE_FLAG_W,Tb_D_CONC_BOTTLE,Tb_D_CONC_BOTTLE_FLAG_W,Dy_D_CONC_BOTTLE,Dy_D_CONC_BOTTLE_FLAG_W,Ho_D_CONC_BOTTLE,Ho_D_CONC_BOTTLE_FLAG_W,Er_D_CONC_BOTTLE,Er_D_CONC_BOTTLE_FLAG_W,Tm_D_CONC_BOTTLE,Tm_D_CONC_BOTTLE_FLAG_W,Yb_D_CONC_BOTTLE,Yb_D_CONC_BOTTLE_FLAG_W,Lu_D_CONC_BOTTLE,Lu_D_CONC_BOTTLE_FLAG_W
,,,,,,,,,,,METERS,DBAR,ITS-90,PSS-78,,PSS-78,,UMOL/KG,,UMOL/KG,,UMOL/KG,,UMOL/KG,,UMOL/KG,,UMOL/KG,,UMOL/KG,,PMOL/KG,,PMOL/KG,,FMOL/KG,,UMOL/KG,,UMOL/KG,,,,DEG C,UMOL/KG,,NMOL/L,,DEG C,,/MILLE,,/MILLE,,/MILLE,UG/KG,,UMOL/KG,,UMOL/KG,,NMOL/L,,VOLTS,,VOLTS,,VOLTS,,NMOL/KG,,UMOL/L,,,,,,NMOL/L,,NMOL/L,,,,,,10000,,10000,,,,PMOL/KG,,PMOL/L,,PMOL/L,,PMOL/L,,PMOL/L,,PMOL/L,,PMOL/L,,PMOL/L,,PMOL/L,,PMOL/L,,PMOL/L,,PMOL/L,,PMOL/L,,PMOL/L,
320620180309  ,S04P       ,22      ,  1,15         ,15         ,2,20180326,2239, -66.9992, 178.1452,     3862,   1280.0,0.8420833333333331838,34.713855222301625,2,  34.7145,2,201.38249618173754,2, 199.7994,2,    200.8,2,    119.7,2,    32.31,2,     0.00,2,     2.23,2,     -999,9,     -999,9,     -999,9,   2264.6,2,  2363.85,2,   7.5907,2,    24.92,     44.7,2,     -999,9,   0.8427,2,     -999,9,     -999,9,     -999,     -999,9,     -999,9,     -999,1,     -999,9,    0.061,1,    4.676,1,    0.140,1,     -999,9,     -999,9,20180326,2359, -66.9998, 178.1493,     -999,9,     -999,9,-999          ,9,     -999,9,     -999,9,     -999,     -999,9,     -999,     -999,9,     -999,9,     -999,9,     -999,9,     -999,9,     -999,9,     -999,9,     -999,9,     -999,9,     -999,9,     -999,9,     -999,9,     -999,9,     -999,9
320620180309  ,S04P       ,22      ,  1,14         ,14         ,2,20180326,2239, -66.9992, 178.1452,     3862,   1381.4,0.7928111111111110221,34.712100861409283,2,  34.7117,2,201.96716229050367,2, 201.0016,2,    201.9,2,    121.3,2,    32.32,2,     0.00,2,     2.23,2,    0.126,2,    0.069,2,   0.0000,2,   2264.4,2,  2362.81,2,   7.5924,2,    24.92,     39.4,2,     -999,9,   0.7919,2,     -999,9,     -999,9,     -999,     -999,9,     -999,9,     -999,1,     -999,9,    0.061,1,    4.676,1,    0.129,1,  18.9600,2,     -999,9,20180326,2356, -66.9996, 178.1489,     -999,9,     -999,9,-999          ,9,     -999,9,     -999,9,     -999,     -999,9,     -999,     -999,9,     -999,9,     -999,9,     -999,9,     -999,9,     -999,9,     -999,9,     -999,9,     -999,9,     -999,9,     -999,9,     -999,9,     -999,9,     -999,9
320620180309  ,S04P       ,22      ,  1,13         ,13         ,2,20180326,2239, -66.9992, 178.1452,     3862,   1482.7,0.7497388888888889547,34.710391405069210,2,  34.7090,2,203.58197068999510,2, 201.9956,2,    202.9,2,    122.4,2,    32.21,2,     0.00,2,     2.23,2,     -999,9,     -999,9,     -999,9,   2264.8,2,  2365.47,2,   7.5928,6,    24.93,     -999,9,     -999,9,   0.7489,2,     -999,9,     -999,9,     -999,     -999,9,     -999,9,     -999,9,     -999,9,    0.061,1,    4.676,1,    0.129,1,     -999,9,     -999,9,20180326,2353, -66.9997, 178.1489,     -999,9,     -999,9,-999          ,9,     -999,9,     -999,9,     -999,     -999,9,     -999,     -999,9,     -999,9,     -999,9,     -999,9,     -999,9,     -999,9,     -999,9,     -999,9,     -999,9,     -999,9,     -999,9,     -999,9,     -999,9,     -999,9
320620180309  ,S04P       ,22      ,  1,12         ,12         ,2,20180326,2239, -66.9992, 178.1452,     3862,   1586.9,0.7096305555555556532,34.709030935533470,2,  34.7070,2,204.39483381370007,2, 203.2014,2,    203.9,2,    123.9,2,    32.31,2,     0.00,2,     2.24,2,    0.137,2,    0.080,2,   0.1100,2,   2265.9,2,  2364.79,2,   7.5934,2,    24.92,     42.7,2,     -999,9,   0.7089,2,     -999,9,     -999,9,     -999,     -999,9,     -999,9,     -999,1,     -999,9,    0.061,1,    4.676,1,    0.130,1,  19.0100,2,     -999,9,20180326,2334, -66.9996, 178.1487,     -999,9,     -999,9,-999          ,9,     -999,9,     -999,9,     -999,     -999,9,     -999,     -999,9,     -999,9,     -999,9,     -999,9,     -999,9,     -999,9,     -999,9,     -999,9,     -999,9,     -999,9,     -999,9,     -999,9,     -999,9,     -999,9
320620180309  ,S04P       ,22      ,  1,11         ,11         ,2,20180326,2239, -66.9992, 178.1452,     3862,   1687.3,0.6685222222222222399,34.707822921858543,2,  34.7074,2,205.25525455571665,2, 204.0980,2,    204.8,2,    124.7,2,    32.30,2,     0.00,2,     2.21,2,    0.143,2,    0.083,2,   0.2100,2,   2264.4,2,  2364.54,2,   7.5940,2,    24.93,     -999,9,     -999,9,   0.6679,2,     -999,9,     -999,9,     -999,     -999,9,     -999,9,     -999,9,     -999,9,    0.062,1,    4.676,1,    0.128,1,  19.0500,2,     -999,9,20180326,2331, -66.9996, 178.1486,     -999,9,     -999,9,-999          ,9,     -999,9,     -999,9,     -999,     -999,9,     -999,     -999,9,     -999,9,     -999,9,     -999,9,     -999,9,     -999,9,     -999,9,     -999,9,     -999,9,     -999,9,     -999,9,     -999,9,     -999,9,     -999,9
320620180309  ,S04P       ,22      ,  1,10         ,10         ,2,20180326,2239, -66.9992, 178.1452,     3862,   1788.7,0.6323972222222223882,34.706693870178313,2,  34.7072,2,205.78690880103079,2, 205.0989,2,    205.7,2,    126.1,2,    32.37,2,     0.00,2,     2.23,2,    0.151,2,    0.083,2,   0.0300,2,   2264.0,6,  2363.48,2,   7.5936,2,    24.93,     40.7,2,     -999,9,   0.6321,2,     -999,9,     -999,9,     -999,     -999,9,     -999,9,     -999,1,     -999,9,    0.061,1,    4.678,1,    0.128,1,  19.2900,2,     -999,9,20180326,2328, -66.9996, 178.1488,     -999,9,     -999,9,-999          ,9,     -999,9,     -999,9,     -999,     -999,9,     -999,     -999,9,     -999,9,     -999,9,     -999,9,     -999,9,     -999,9,     -999,9,     -999,9,     -999,9,     -999,9,     -999,9,     -999,9,     -999,9,     -999,9
320620180309  ,S04P       ,22      ,  1,9          ,9          ,2,20180326,2239, -66.9992, 178.1452,     3862,   1963.1,0.5731083333333333307,34.705090399016015,2,  34.7045,2,207.37322766046719,2, 206.9064,2,    206.8,2,    127.2,2,    32.39,2,     0.00,2,     2.23,2,    0.167,2,    0.085,2,   0.0400,2,   2264.2,2,  2363.57,2,   7.5940,2,    24.94,     40.8,2,     -999,9,   0.5735,2,     -999,9,     -999,9,     -999,     -999,9,     -999,9,     -999,1,     -999,9,    0.061,1,    4.677,1,    0.131,1,  19.7200,2,     -999,9,20180326,2324, -66.9995, 178.1479,     -999,9,     -999,9,-999          ,9,     -999,9,     -999,9,     -999,     -999,9,     -999,     -999,9,     -999,9,     -999,9,     -999,9,     -999,9,     -999,9,     -999,9,     -999,9,     -999,9,     -999,9,     -999,9,     -999,9,     -999,9,     -999,9
320620180309  ,S04P       ,22      ,  1,8          ,8          ,2,20180326,2239, -66.9992, 178.1452,     3862,   2195.7,0.4978833333333334554,34.702985111671673,2,  34.7029,2,209.00426655020647,2, 209.0987,2,    209.2,2,    128.5,2,    32.20,2,     0.00,2,     2.23,2,    0.214,6,    0.121,6,   0.0400,6,   2263.8,2,  2364.30,2,   7.5919,2,    24.93,     39.9,2,     -999,9,   0.4977,2,     -999,9,     -999,9,     -999,     -999,9,     -999,9,     -999,1,     -999,9,    0.061,1,    4.678,1,    0.132,1,  19.0900,6,     -999,9,20180326,2318, -66.9994, 178.1469,     -999,9,     -999,9,-999          ,9,     -999,9,     -999,9,     -999,     -999,9,     -999,     -999,9,     -999,9,     -999,9,     -999,9,     -999,9,     -999,9,     -999,9,     -999,9,     -999,9,     -999,9,     -999,9,     -999,9,     -999,9,     -999,9
320620180309  ,S04P       ,22      ,  1,7          ,7          ,2,20180326,2239, -66.9992, 178.1452,     3862,   2452.1,0.4210388888888889070,34.700310527176306,3,  34.6980,2,211.18195427192992,2, 211.8055,2,    211.5,2,    129.1,2,    32.49,2,     0.00,2,     2.25,2,     -999,9,     -999,9,     -999,9,   2264.7,2,  2363.80,2,   7.5916,2,    24.93,     40.3,2,     -999,9,   0.4209,2,     -999,9,     -999,9,     -999,     -999,9,     -999,9,     -999,1,     -999,9,    0.061,1,    4.677,1,    0.127,1,     -999,9,     -999,9,20180326,2313, -66.9994, 178.1465,     -999,9,     -999,9,-999          ,9,     -999,9,     -999,9,     -999,     -999,9,     -999,     -999,9,     -999,9,     -999,9,     -999,9,     -999,9,     -999,9,     -999,9,     -999,9,     -999,9,     -999,9,     -999,9,     -999,9,     -999,9,     -999,9
320620180309  ,S04P       ,22      ,  1,6          ,6          ,2,20180326,2239, -66.9992, 178.1452,     3862,   2706.3,0.3517416666666666192,34.697394700241610,2,  34.6958,2,213.73648788438419,2, 215.6941,2,    213.9,2,    129.0,2,    32.49,2,     0.00,2,     2.25,2,    0.420,2,    0.228,2,   0.1800,2,   2264.0,2,  2363.22,2,   7.5933,2,    24.94,     39.6,2,     -999,9,   0.3512,2,     -999,9,     -999,9,     -999,     -999,9,     -999,9,     -999,1,     -999,9,    0.061,1,    4.677,1,    0.125,1,  19.4500,2,     -999,9,20180326,2307, -66.9994, 178.1465,     -999,9,     -999,9,-999          ,9,     -999,9,     -999,9,     -999,     -999,9,     -999,     -999,9,     -999,9,     -999,9,     -999,9,     -999,9,     -999,9,     -999,9,     -999,9,     -999,9,     -999,9,     -999,9,     -999,9,     -999,9,     -999,9
320620180309  ,S04P       ,22      ,  1,5          ,5          ,2,20180326,2239, -66.9992, 178.1452,     3862,   2964.4,0.2827388888888888729,34.693824929224810,3,  34.6911,2,216.55069507573029,2, 221.5985,3,    216.6,2,    127.5,2,    32.49,2,     0.00,2,     2.24,2,    0.600,2,    0.327,2,   0.1800,2,   2264.0,2,  2362.66,2,   7.5906,2,    24.93,     40.8,2,     -999,9,   0.2825,2,     -999,9,     -999,9,     -999,     -999,9,     -999,9,     -999,1,     -999,9,    0.061,1,    4.677,1,    0.126,1,  18.5400,2,     -999,9,20180326,2302, -66.9993, 178.1462,     -999,9,     -999,9,-999          ,9,     -999,9,     -999,9,     -999,     -999,9,     -999,     -999,9,     -999,9,     -999,9,     -999,9,     -999,9,     -999,9,     -999,9,     -999,9,     -999,9,     -999,9,     -999,9,     -999,9,     -999,9,     -999,9
320620180309  ,S04P       ,22      ,  1,4          ,4          ,2,20180326,2239, -66.9992, 178.1452,     3862,   3256.1,0.1948861111111110656,34.687163818364482,3,  34.6823,2,221.37554285073378,2, 223.6946,2,    221.1,2,    122.7,2,    32.37,2,     0.00,2,     2.24,2,    0.975,2,    0.518,2,   0.5200,2,   2261.1,2,  2359.70,2,   7.5899,2,    24.93,     39.8,2,     -999,9,   0.1951,2,     -999,9,     -999,9,     -999,     -999,9,     -999,9,     -999,1,     -999,9,    0.062,1,    4.676,1,    0.126,1,  18.6600,2,     -999,9,20180326,2256, -66.9993, 178.1460,     -999,9,     -999,9,-999          ,9,     -999,9,     -999,9,     -999,     -999,9,     -999,     -999,9,     -999,9,     -999,9,     -999,9,     -999,9,     -999,9,     -999,9,     -999,9,     -999,9,     -999,9,     -999,9,     -999,9,     -999,9,     -999,9
320620180309  ,S04P       ,22      ,  1,3          ,3          ,2,20180326,2239, -66.9992, 178.1452,     3862,   3563.5,0.1419166666666666354,34.683406741015517,3,  34.6801,2,224.29612765216123,2, 223.7032,2,    224.5,2,    117.9,2,    32.24,2,     0.00,2,     2.23,2,    1.286,2,    0.678,2,   0.6200,2,   2262.3,2,  2358.89,2,   7.5893,2,    24.93,     -999,9,     -999,9,   0.1415,2,     -999,9,     -999,9,     -999,     -999,9,     -999,9,     -999,9,     -999,9,    0.061,1,    4.675,1,    0.129,1,  18.9700,2,     -999,9,20180326,2249, -66.9992, 178.1454,     -999,9,     -999,9,-999          ,9,     -999,9,     -999,9,     -999,     -999,9,     -999,     -999,9,     -999,9,     -999,9,     -999,9,     -999,9,     -999,9,     -999,9,     -999,9,     -999,9,     -999,9,     -999,9,     -999,9,     -999,9,     -999,9
320620180309  ,S04P       ,22      ,  1,2          ,2          ,2,20180326,2239, -66.9992, 178.1452,     3862,   3743.4,0.1465027777777777596,34.682957004604219,2,  34.6813,2,225.63279897312952,2, 223.6939,2,    225.3,2,    117.1,2,    32.26,2,     0.00,2,     2.23,2,    1.347,2,    0.716,2,   0.6500,2,   2261.7,2,  2358.67,2,   7.5855,2,    24.93,     41.3,2,     -999,9,   0.1459,2,     -999,9,     -999,9,     -999,     -999,9,     -999,9,     -999,1,     -999,9,    0.061,1,    4.674,1,    0.129,1,  19.5900,2,     -999,9,20180326,2244, -66.9992, 178.1452,     -999,9,     -999,9,-999          ,9,     -999,9,     -999,9,     -999,     -999,9,     -999,     -999,9,     -999,9,     -999,9,     -999,9,     -999,9,     -999,9,     -999,9,     -999,9,     -999,9,     -999,9,     -999,9,     -999,9,     -999,9,     -999,9
320620180309  ,S04P       ,22      ,  1,1          ,1          ,2,20180326,2239, -66.9992, 178.1452,     3862,   3925.6,0.1542416666666666381,34.683269593185862,3,  34.6809,2,225.85765881057952,2, 223.7005,2,    225.5,2,    117.1,2,    32.30,2,     0.00,2,     2.24,2,    1.392,2,    0.746,2,   0.6700,2,   2262.4,6,  2359.04,2,   7.5889,6,    24.95,     40.1,2,     -999,9,   0.1538,2,     -999,9,     -999,9,     -999,     -999,9,     -999,9,     -999,1,     -999,9,    0.061,1,    4.669,1,    0.137,1,  19.0700,2,     -999,9,20180326,2239, -66.9992, 178.1452,     -999,9,     -999,9,-999          ,9,     -999,9,     -999,9,     -999,     -999,9,     -999,     -999,9,     -999,9,     -999,9,     -999,9,     -999,9,     -999,9,     -999,9,     -999,9,     -999,9,     -999,9,     -999,9,     -999,9,     -999,9,     -999,9