BOTTLE,20240515CCHHYDRO
EXPOCODE,SECT_ID,STNNBR,CASTNO,SAMPNO,BTLNBR,BTLNBR_FLAG_W,DATE,TIME,LATITUDE,LONGITUDE,DEPTH,CTDPRS,CTDTMP,CTDSAL,CTDSAL_FLAG_W,SALNTY,SALNTY_FLAG_W,CTDOXY,CTDOXY_FLAG_W,CTDOPTOXY,CTDOPTOXY_FLAG_W,OXYGEN,OXYGEN_FLAG_W,SILCAT,SILCAT_FLAG_W,NITRAT,NITRAT_FLAG_W,NITRIT,NITRIT_FLAG_W,PHSPHT,PHSPHT_FLAG_W,CFC-11,CFC-11_FLAG_W,CFC-12,CFC-12_FLAG_W,SF6,SF6_FLAG_W,TCARBN,TCARBN_FLAG_W,ALKALI,ALKALI_FLAG_W,PH_TOT,PH_TOT_FLAG_W,PH_TMP,DOC,DOC_FLAG_W,HELIUM,HELIUM_FLAG_W,REFTMP,REFTMP_FLAG_W,DELC13,DELC13_FLAG_W,DELC14,DELC14_FLAG_W,C14ERR,POC,POC_FLAG_W,TDN,TDN_FLAG_W,TON,TON_FLAG_W,NEON,NEON_FLAG_W,CTDFLUOR,CTDFLUOR_FLAG_W,CTDXMISS,CTDXMISS_FLAG_W,CTDBETA700,CTDBETA700_FLAG_W,N2O,N2O_FLAG_W,ARGON,ARGON_FLAG_W,BTL_DATE,BTL_TIME,BTL_LAT,BTL_LON,KRYPTON,KRYPTON_FLAG_W,XENON,XENON_FLAG_W,HPLC,HPLC_FLAG_W,HE3_HE4_RATIO,HE3_HE4_RATIO_FLAG_W,Nd_143_144_D_EPSILON_BOTTLE,Nd_143_144_D_EPSILON_BOTTLE_FLAG_W,Nd_143_144_D_EPSILON_BOTTLE_ERROR,Nd_143_144_D_RATIO_BOTTLE,Nd_143_144_D_RATIO_BOTTLE_FLAG_W,Nd_143_144_D_RATIO_BOTTLE_ERROR,Nd_D_CONC,Nd_D_CONC_FLAG_W,La_D_CONC_BOTTLE,La_D_CONC_BOTTLE_FLAG_W,Ce_D_CONC_BOTTLE,Ce_D_CONC_BOTTLE_FLAG_W,Pr_D_CONC_BOTTLE,Pr_D_CONC_BOTTLE_FLAG_W,Sm_D_CONC_BOTTLE,Sm_D_CONC_BOTTLE_FLAG_W,Eu_D_CONC_BOTTLE,Eu_D_CONC_BOTTLE_FLAG_W,Gd_D_CONC_BOTTLE,Gd_D_CONC_BOTTLE_FLAG_W,Tb_D_CONC_BOTTLE,Tb_D_CONC_BOTTLE_FLAG_W,Dy_D_CONC_BOTTLE,Dy_D_CONC_BOTTLE_FLAG_W,Ho_D_CONC_BOTTLE,Ho_D_CONC_BOTTLE_FLAG_W,Er_D_CONC_BOTTLE,Er_D_CONC_BOTTLE_FLAG_W,Tm_D_CONC_BOTTLE,Tm_D_CONC_BOTTLE_FLAG_W,Yb_D_CONC_BOTTLE,Yb_D_CONC_BOTTLE_FLAG_W,Lu_D_CONC_BOTTLE,Lu_D_CONC_BOTTLE_FLAG_W
,,,,,,,,,,,METERS,DBAR,ITS-90,PSS-78,,PSS-78,,UMOL/KG,,UMOL/KG,,UMOL/KG,,UMOL/KG,,UMOL/KG,,UMOL/KG,,UMOL/KG,,PMOL/KG,,PMOL/KG,,FMOL/KG,,UMOL/KG,,UMOL/KG,,,,DEG C,UMOL/KG,,NMOL/L,,DEG C,,/MILLE,,/MILLE,,/MILLE,UG/KG,,UMOL/KG,,UMOL/KG,,NMOL/L,,VOLTS,,VOLTS,,VOLTS,,NMOL/KG,,UMOL/L,,,,,,NMOL/L,,NMOL/L,,,,,,10000,,10000,,,,PMOL/KG,,PMOL/L,,PMOL/L,,PMOL/L,,PMOL/L,,PMOL/L,,PMOL/L,,PMOL/L,,PMOL/L,,PMOL/L,,PMOL/L,,PMOL/L,,PMOL/L,,PMOL/L,
320620180309  ,P16        ,35      ,  1,36         ,36         ,2,20180402,2210, -75.2630,-147.4148,     2826,      2.4,-1.7990194444444442823,33.753410629518697,2,  33.7526,2,332.07572874207125,3, 334.6982,2,    336.2,2,     71.8,2,    20.82,2,     0.12,2,     1.58,2,    5.346,2,    3.004,2,   3.4900,2,   2165.8,6,  2302.14,2,   7.7032,2,    24.94,     44.1,2,     -999,9,  -1.7960,2,1.18000000,2, -138.230,2,    0.002,     -999,9,    24.90,2,     -999,1,     -999,9,    0.099,1,    4.601,1,    0.193,1,  17.6900,2,     -999,9,20180402,2354, -75.2647,-147.4598,     -999,9,     -999,9,-999          ,9,     -999,9,     -999,9,     -999,     -999,9,     -999,     -999,9,     -999,1,     -999,1,     -999,1,     -999,1,     -999,1,     -999,1,     -999,1,     -999,1,     -999,1,     -999,1,     -999,1,     -999,1,     -999,1
320620180309  ,P16        ,35      ,  1,35         ,35         ,2,20180402,2210, -75.2630,-147.4148,     2826,     19.3,-1.8091666666666665897,33.752265599571238,2,  33.7511,2,333.08087018949891,2, 333.7982,2,    336.4,2,     71.6,2,    20.78,2,     0.12,2,     1.61,2,     -999,9,     -999,9,     -999,9,   2167.1,2,  2300.86,2,   7.7008,2,    24.95,     42.1,2,     -999,9,  -1.8096,2,     -999,9,     -999,9,     -999,     -999,9,     -999,9,     -999,1,     -999,9,    0.103,1,    4.603,1,    0.201,1,     -999,9,     -999,9,20180402,2352, -75.2647,-147.4590,     -999,9,     -999,9,-999          ,9,     -999,9,     -999,9,     -999,     -999,9,     -999,     -999,9,     -999,9,     -999,9,     -999,9,     -999,9,     -999,9,     -999,9,     -999,9,     -999,9,     -999,9,     -999,9,     -999,9,     -999,9,     -999,9
320620180309  ,P16        ,35      ,  1,34         ,34         ,2,20180402,2210, -75.2630,-147.4148,     2826,     39.5,-1.8092638888888883386,33.752128048563776,2,  33.7515,2,333.93336346095282,2, 338.7043,2,    336.4,2,     71.6,2,    20.82,2,     0.12,2,     1.61,2,     -999,9,     -999,9,     -999,9,   2166.6,2,  2299.90,2,   7.7019,2,    24.95,     43.8,2,     -999,9,  -1.8098,2,     -999,9,     -999,9,     -999,     -999,9,    24.90,2,     -999,1,     -999,9,    0.104,1,    4.601,1,    0.211,1,     -999,9,     -999,9,20180402,2350, -75.2647,-147.4581,     -999,9,     -999,9,-999          ,9,     -999,9,     -999,9,     -999,     -999,9,     -999,     -999,9,     -999,1,     -999,1,     -999,1,     -999,1,     -999,1,     -999,1,     -999,1,     -999,1,     -999,1,     -999,1,     -999,1,     -999,1,     -999,1
320620180309  ,P16        ,35      ,  1,33         ,33         ,2,20180402,2210, -75.2630,-147.4148,     2826,     65.4,-1.8001777777777776546,33.753049717504467,2,  33.7520,2,335.20054939049606,2, 340.1958,3,    335.3,2,     72.0,2,    21.00,2,     0.12,2,     1.63,2,    5.337,2,    2.973,2,   3.5000,2,   2167.7,2,  2301.43,2,   7.7001,2,    24.94,     44.4,2,     -999,9,  -1.8014,2,1.25000000,2, -136.860,2,    0.002,     -999,9,    24.40,2,     -999,1,     -999,9,    0.107,1,    4.599,1,    0.212,1,  17.8800,2,     -999,9,20180402,2348, -75.2647,-147.4572,     -999,9,     -999,9,-999          ,9,     -999,9,     -999,9,     -999,     -999,9,     -999,     -999,9,     -999,9,     -999,9,     -999,9,     -999,9,     -999,9,     -999,9,     -999,9,     -999,9,     -999,9,     -999,9,     -999,9,     -999,9,     -999,9
320620180309  ,P16        ,35      ,  1,32         ,32         ,2,20180402,2210, -75.2630,-147.4148,     2826,     90.1,-1.7939416666666667677,33.755892652443890,2,  33.7569,2,334.78109251151881,2, 335.2047,2,    334.3,2,     72.2,2,    21.19,2,     0.12,2,     1.63,2,     -999,9,     -999,9,     -999,9,   2168.5,2,  2301.05,2,   7.6973,2,    24.96,     -999,9,     -999,9,  -1.7929,2,     -999,9,     -999,9,     -999,     -999,9,     -999,9,     -999,9,     -999,9,    0.103,1,    4.601,1,    0.212,1,     -999,9,     -999,9,20180402,2347, -75.2647,-147.4563,     -999,9,     -999,9,-999          ,9,     -999,9,     -999,9,     -999,     -999,9,     -999,     -999,9,     -999,1,     -999,1,     -999,1,     -999,1,     -999,1,     -999,1,     -999,1,     -999,1,     -999,1,     -999,1,     -999,1,     -999,1,     -999,1
320620180309  ,P16        ,35      ,  1,31         ,31         ,2,20180402,2210, -75.2630,-147.4148,     2826,    116.1,-1.6261861111111108880,33.934284980877791,2,  33.9446,2,302.12058397250968,3, 294.6036,2,    294.1,2,     82.5,2,    27.21,2,     0.13,2,     1.97,2,     -999,9,     -999,9,     -999,9,     -999,9,     -999,9,     -999,9,     -999,     42.2,2,     -999,9,  -1.6267,2,0.82000000,2, -140.280,2,    0.002,     -999,9,    30.10,2,     -999,1,     -999,9,    0.083,1,    4.609,1,    0.216,1,     -999,9,     -999,9,20180402,2345, -75.2647,-147.4554,     -999,9,     -999,9,-999          ,9,     -999,9,     -999,9,     -999,     -999,9,     -999,     -999,9,     -999,9,     -999,9,     -999,9,     -999,9,     -999,9,     -999,9,     -999,9,     -999,9,     -999,9,     -999,9,     -999,9,     -999,9,     -999,9
320620180309  ,P16        ,35      ,  1,30         ,30         ,2,20180402,2210, -75.2630,-147.4148,     2826,    140.7,-1.6070083333333333719,34.006528653232728,2,  34.0123,2,291.49095508461841,3, 292.6995,3,    288.1,2,     84.2,2,    28.27,2,     0.14,2,     2.10,2,     -999,9,     -999,9,     -999,9,   2211.8,2,  2311.38,2,   7.6033,2,    24.94,     -999,9,     -999,9,  -1.6065,2,0.44000000,2, -148.140,2,    0.002,     -999,9,     -999,9,     -999,9,     -999,9,    0.077,1,    4.620,1,    0.200,1,     -999,9,     -999,9,20180402,2343, -75.2647,-147.4545,     -999,9,     -999,9,-999          ,9,     -999,9,     -999,9,     -999,     -999,9,     -999,     -999,9,     -999,1,     -999,1,     -999,1,     -999,1,     -999,1,     -999,1,     -999,1,     -999,1,     -999,1,     -999,1,     -999,1,     -999,1,     -999,1
320620180309  ,P16        ,35      ,  1,29         ,29         ,2,20180402,2210, -75.2630,-147.4148,     2826,    166.4,-1.6040111111111112763,34.062418586095518,2,  34.0635,2,285.99293187526007,2, 286.5991,2,    285.6,2,     84.7,2,    29.06,2,     0.13,2,     2.12,2,    4.036,2,    2.263,2,   2.6600,2,   2217.8,2,  2314.43,2,   7.5912,2,    24.94,     42.0,2,     -999,9,  -1.6047,2,     -999,9,     -999,9,     -999,     -999,9,    32.00,2,     -999,1,     -999,9,    0.071,1,    4.630,1,    0.196,1,  19.5500,2,     -999,9,20180402,2341, -75.2647,-147.4535,     -999,9,     -999,9,-999          ,9,     -999,9,     -999,9,     -999,     -999,9,     -999,     -999,9,     -999,9,     -999,9,     -999,9,     -999,9,     -999,9,     -999,9,     -999,9,     -999,9,     -999,9,     -999,9,     -999,9,     -999,9,     -999,9
320620180309  ,P16        ,35      ,  1,28         ,28         ,2,20180402,2210, -75.2630,-147.4148,     2826,    192.4,-1.6623638888888889742,34.105510405005290,2,  34.1083,2,283.22961199538628,2, 282.1966,2,    283.4,2,     82.7,2,    30.10,2,     0.15,2,     2.16,2,     -999,9,     -999,9,     -999,9,     -999,9,     -999,9,     -999,9,     -999,     -999,9,     -999,9,  -1.6630,2,0.63000000,2, -139.440,2,    0.002,     -999,9,     -999,9,     -999,9,     -999,9,    0.073,1,    4.641,1,    0.176,1,     -999,9,     -999,9,20180402,2340, -75.2647,-147.4527,     -999,9,     -999,9,-999          ,9,     -999,9,     -999,9,     -999,     -999,9,     -999,     -999,9,     -999,1,     -999,1,     -999,1,     -999,1,     -999,1,     -999,1,     -999,1,     -999,1,     -999,1,     -999,1,     -999,1,     -999,1,     -999,1
320620180309  ,P16        ,35      ,  1,27         ,27         ,2,20180402,2210, -75.2630,-147.4148,     2826,    216.8,-1.6744805555555555276,34.136371836528689,2,  34.1369,2,280.79139313684391,2, 281.0962,2,    282.3,2,     83.0,2,    30.57,2,     0.14,2,     2.16,2,     -999,9,     -999,9,     -999,9,   2223.5,2,  2313.05,2,   7.5806,6,    24.93,     40.9,2,     -999,9,  -1.6739,2,     -999,9,     -999,9,     -999,     -999,9,    32.10,2,     -999,1,     -999,9,    0.070,1,    4.650,1,    0.167,1,     -999,9,     -999,9,20180402,2338, -75.2648,-147.4518,     -999,9,     -999,9,-999          ,9,     -999,9,     -999,9,     -999,     -999,9,     -999,     -999,9,     -999,9,     -999,9,     -999,9,     -999,9,     -999,9,     -999,9,     -999,9,     -999,9,     -999,9,     -999,9,     -999,9,     -999,9,     -999,9
320620180309  ,P16        ,35      ,  1,26         ,26         ,2,20180402,2210, -75.2630,-147.4148,     2826,    242.5,-1.5969527777777776656,34.158523985025056,2,  34.1575,2,278.44418018869834,2, 278.9028,2,    279.4,2,     85.3,2,    30.83,2,     0.11,2,     2.17,2,    3.836,2,    2.140,2,   2.5100,2,   2226.2,2,  2314.33,2,   7.5785,2,    24.95,     -999,9,     -999,9,  -1.5977,2,0.62000000,2, -142.290,2,    0.002,     -999,9,     -999,9,     -999,9,     -999,9,    0.065,1,    4.657,1,    0.161,1,  18.0300,2,     -999,9,20180402,2336, -75.2648,-147.4508,     -999,9,     -999,9,-999          ,9,     -999,9,     -999,9,     -999,     -999,9,     -999,     -999,9,     -999,1,     -999,1,     -999,1,     -999,1,     -999,1,     -999,1,     -999,1,     -999,1,     -999,1,     -999,1,     -999,1,     -999,1,     -999,1
320620180309  ,P16        ,35      ,  1,25         ,25         ,2,20180402,2210, -75.2630,-147.4148,     2826,    288.2,-1.4549250000000002458,34.180773092804770,2,  34.1809,2,273.31438123774933,2, 272.4994,2,    271.8,2,     85.0,2,    31.15,2,     0.09,2,     2.18,2,     -999,9,     -999,9,     -999,9,     -999,9,     -999,9,     -999,9,     -999,     42.4,2,     -999,9,  -1.4551,2,0.59000000,2, -137.530,2,    0.002,     -999,9,     -999,9,     -999,1,     -999,9,    0.066,1,    4.657,1,    0.159,1,     -999,9,     -999,9,20180402,2334, -75.2648,-147.4498,     -999,9,     -999,9,-999          ,9,     -999,9,     -999,9,     -999,     -999,9,     -999,     -999,9,     -999,9,     -999,9,     -999,9,     -999,9,     -999,9,     -999,9,     -999,9,     -999,9,     -999,9,     -999,9,     -999,9,     -999,9,     -999,9
320620180309  ,P16        ,35      ,  1,24         ,24         ,2,20180402,2210, -75.2630,-147.4148,     2826,    338.1,-1.0708000000000001961,34.242480222351077,2,  34.2461,2,257.53245425792539,2, 257.0011,2,    255.7,2,     87.7,2,    31.70,2,     0.05,2,     2.22,2,     -999,9,     -999,9,     -999,9,   2232.3,2,  2323.27,2,   7.5696,2,    24.94,     41.5,2,     -999,9,  -1.0682,2,0.54000000,2, -143.750,2,    0.002,     -999,9,     -999,9,     -999,1,     -999,9,    0.066,1,    4.654,1,    0.191,1,     -999,9,     -999,9,20180402,2332, -75.2646,-147.4490,     -999,9,     -999,9,-999          ,9,     -999,9,     -999,9,     -999,     -999,9,     -999,     -999,9,     -999,1,     -999,1,     -999,1,     -999,1,     -999,1,     -999,1,     -999,1,     -999,1,     -999,1,     -999,1,     -999,1,     -999,1,     -999,1
320620180309  ,P16        ,35      ,  1,23         ,23         ,2,20180402,2210, -75.2630,-147.4148,     2826,    389.1,0.5783916666666665263,34.510171133909658,2,  34.5238,2,212.82053438102832,3, 209.5025,3,    206.4,2,     89.2,2,    32.90,2,     0.02,2,     2.28,2,     -999,9,     -999,9,     -999,9,   2249.2,2,  2335.85,2,   7.5650,6,    24.93,     39.3,2,     -999,9,   0.5778,2,0.37000000,2, -147.720,2,    0.002,     -999,9,     -999,9,     -999,1,     -999,9,    0.064,1,    4.659,1,    0.170,1,     -999,9,     -999,9,20180402,2330, -75.2646,-147.4479,     -999,9,     -999,9,-999          ,9,     -999,9,     -999,9,     -999,     -999,9,     -999,     -999,9,     -999,9,     -999,9,     -999,9,     -999,9,     -999,9,     -999,9,     -999,9,     -999,9,     -999,9,     -999,9,     -999,9,     -999,9,     -999,9
320620180309  ,P16        ,35      ,  1,22         ,37         ,2,20180402,2210, -75.2630,-147.4148,     2826,    440.5,1.5064972222222221543,34.696599844681316,3,     -999,9,182.71725824998899,3, 184.8003,2,    185.3,2,     93.9,2,    32.73,2,     0.00,2,     2.26,2,    0.364,2,    0.192,2,   0.2100,2,   2257.3,6,  2348.34,2,   7.5742,2,    24.93,     43.3,3,     -999,9,   1.5047,2,0.31000000,2, -152.850,2,    0.002,     -999,9,     -999,9,     -999,1,     -999,9,    0.064,1,    4.670,1,    0.146,1,  22.5700,2,     -999,9,20180402,2327, -75.2646,-147.4467,     -999,9,     -999,9,-999          ,9,     -999,9,     -999,9,     -999,     -999,9,     -999,     -999,9,     -999,1,     -999,1,     -999,1,     -999,1,     -999,1,     -999,1,     -999,1,     -999,1,     -999,1,     -999,1,     -999,1,     -999,1,     -999,1
320620180309  ,P16        ,35      ,  1,21         ,21         ,2,20180402,2210, -75.2630,-147.4148,     2826,    489.1,1.6153972222222219290,34.725349618851880,2,  34.7251,2,185.32568703012868,2, 185.7995,2,    184.9,2,     95.3,2,    32.50,2,     0.00,2,     2.25,2,     -999,9,     -999,9,     -999,9,   2257.6,2,  2350.78,2,   7.5737,2,    24.93,     38.6,2,     -999,9,   1.6143,2,0.35000000,2, -156.250,2,    0.002,     -999,9,     -999,9,     -999,1,     -999,9,    0.062,1,    4.671,1,    0.139,1,     -999,9,     -999,9,20180402,2325, -75.2645,-147.4443,     -999,9,     -999,9,-999          ,9,     -999,9,     -999,9,     -999,     -999,9,     -999,     -999,9,     -999,9,     -999,9,     -999,9,     -999,9,     -999,9,     -999,9,     -999,9,     -999,9,     -999,9,     -999,9,     -999,9,     -999,9,     -999,9
320620180309  ,P16        ,35      ,  1,20         ,20         ,2,20180402,2210, -75.2630,-147.4148,     2826,    571.4,1.4453777777777778724,34.727521571869261,2,  34.7270,2,189.05888833307645,2, 188.8013,2,    187.8,2,    100.6,2,    32.49,2,     0.00,2,     2.25,2,     -999,9,     -999,9,     -999,9,   2259.5,2,  2354.28,2,   7.5821,2,    24.93,     41.1,2,     -999,9,   1.4448,2,0.30000000,2, -153.920,2,    0.002,     -999,9,     -999,9,     -999,1,     -999,9,    0.062,1,    4.668,1,    0.151,1,     -999,9,     -999,9,20180402,2322, -75.2645,-147.4416,     -999,9,     -999,9,-999          ,9,     -999,9,     -999,9,     -999,     -999,9,     -999,     -999,9,     -999,1,     -999,1,     -999,1,     -999,1,     -999,1,     -999,1,     -999,1,     -999,1,     -999,1,     -999,1,     -999,1,     -999,1,     -999,1
320620180309  ,P16        ,35      ,  1,19         ,19         ,2,20180402,2210, -75.2630,-147.4148,     2826,    672.6,1.3056472222222224033,34.728868505436061,2,  34.7284,2,191.79715227616728,2, 191.6999,2,    190.4,2,    105.9,2,    32.54,2,     0.00,2,     2.24,2,    0.160,2,    0.087,2,   0.0200,2,     -999,9,     -999,9,     -999,9,     -999,     39.9,2,     -999,9,   1.3044,2,0.33000000,2, -158.050,2,    0.002,     -999,9,     -999,9,     -999,1,     -999,9,    0.061,1,    4.671,1,    0.141,1,  19.8600,2,     -999,9,20180402,2318, -75.2644,-147.4402,     -999,9,     -999,9,-999          ,9,     -999,9,     -999,9,     -999,     -999,9,     -999,     -999,9,     -999,9,     -999,9,     -999,9,     -999,9,     -999,9,     -999,9,     -999,9,     -999,9,     -999,9,     -999,9,     -999,9,     -999,9,     -999,9
320620180309  ,P16        ,35      ,  1,18         ,18         ,2,20180402,2210, -75.2630,-147.4148,     2826,    773.1,1.2031222222222222040,34.725594559280125,2,  34.7253,2,192.71583965325650,2, 193.0953,2,    192.6,2,    108.5,2,    32.58,2,     0.00,2,     2.25,2,     -999,9,     -999,9,     -999,9,   2262.4,2,  2357.62,2,   7.5873,2,    24.92,     44.1,3,     -999,9,   1.2024,2,0.33000000,2, -160.690,2,    0.002,     -999,9,     -999,9,     -999,1,     -999,9,    0.062,1,    4.670,1,    0.140,1,     -999,9,     -999,9,20180402,2315, -75.2643,-147.4388,     -999,9,     -999,9,-999          ,9,     -999,9,     -999,9,     -999,     -999,9,     -999,     -999,9,     -999,1,     -999,1,     -999,1,     -999,1,     -999,1,     -999,1,     -999,1,     -999,1,     -999,1,     -999,1,     -999,1,     -999,1,     -999,1
320620180309  ,P16        ,35      ,  1,17         ,17         ,2,20180402,2210, -75.2630,-147.4148,     2826,    876.2,1.1173833333333331730,34.723988127344867,2,  34.7237,2,194.83942996513707,2, 194.6016,2,    194.3,2,    112.1,2,    32.58,2,     0.00,2,     2.25,2,     -999,9,     -999,9,     -999,9,     -999,9,     -999,9,     -999,9,     -999,     40.5,2,     -999,9,   1.1169,2,0.34000000,2, -162.480,2,    0.002,     -999,9,     -999,9,     -999,1,     -999,9,    0.061,1,    4.671,1,    0.139,1,     -999,9,     -999,9,20180402,2312, -75.2643,-147.4374,     -999,9,     -999,9,-999          ,9,     -999,9,     -999,9,     -999,     -999,9,     -999,     -999,9,     -999,9,     -999,9,     -999,9,     -999,9,     -999,9,     -999,9,     -999,9,     -999,9,     -999,9,     -999,9,     -999,9,     -999,9,     -999,9
320620180309  ,P16        ,35      ,  1,16         ,16         ,2,20180402,2210, -75.2630,-147.4148,     2826,    976.7,1.0416472222222221689,34.721543788245071,2,  34.7213,2,197.12721367293568,2, 195.9963,2,    196.6,2,    114.4,2,    32.57,2,     0.00,2,     2.25,2,    0.114,2,    0.056,2,   0.0600,2,   2264.0,2,  2360.09,2,   7.5925,2,    24.93,     -999,9,     -999,9,   1.0413,2,0.33000000,2, -160.840,2,    0.002,     -999,9,     -999,9,     -999,1,     -999,9,    0.062,1,    4.671,1,    0.138,1,  19.4200,2,     -999,9,20180402,2309, -75.2642,-147.4358,     -999,9,     -999,9,-999          ,9,     -999,9,     -999,9,     -999,     -999,9,     -999,     -999,9,     -999,1,     -999,1,     -999,1,     -999,1,     -999,1,     -999,1,     -999,1,     -999,1,     -999,1,     -999,1,     -999,1,     -999,1,     -999,1