BOTTLE,20240515CCHHYDRO
EXPOCODE,SECT_ID,STNNBR,CASTNO,SAMPNO,BTLNBR,BTLNBR_FLAG_W,DATE,TIME,LATITUDE,LONGITUDE,DEPTH,CTDPRS,CTDTMP,CTDSAL,CTDSAL_FLAG_W,SALNTY,SALNTY_FLAG_W,CTDOXY,CTDOXY_FLAG_W,CTDOPTOXY,CTDOPTOXY_FLAG_W,OXYGEN,OXYGEN_FLAG_W,SILCAT,SILCAT_FLAG_W,NITRAT,NITRAT_FLAG_W,NITRIT,NITRIT_FLAG_W,PHSPHT,PHSPHT_FLAG_W,CFC-11,CFC-11_FLAG_W,CFC-12,CFC-12_FLAG_W,SF6,SF6_FLAG_W,TCARBN,TCARBN_FLAG_W,ALKALI,ALKALI_FLAG_W,PH_TOT,PH_TOT_FLAG_W,PH_TMP,DOC,DOC_FLAG_W,HELIUM,HELIUM_FLAG_W,REFTMP,REFTMP_FLAG_W,DELC13,DELC13_FLAG_W,DELC14,DELC14_FLAG_W,C14ERR,POC,POC_FLAG_W,TDN,TDN_FLAG_W,TON,TON_FLAG_W,NEON,NEON_FLAG_W,CTDFLUOR,CTDFLUOR_FLAG_W,CTDXMISS,CTDXMISS_FLAG_W,CTDBETA700,CTDBETA700_FLAG_W,N2O,N2O_FLAG_W,ARGON,ARGON_FLAG_W,BTL_DATE,BTL_TIME,BTL_LAT,BTL_LON,KRYPTON,KRYPTON_FLAG_W,XENON,XENON_FLAG_W,HPLC,HPLC_FLAG_W,HE3_HE4_RATIO,HE3_HE4_RATIO_FLAG_W,Nd_143_144_D_EPSILON_BOTTLE,Nd_143_144_D_EPSILON_BOTTLE_FLAG_W,Nd_143_144_D_EPSILON_BOTTLE_ERROR,Nd_143_144_D_RATIO_BOTTLE,Nd_143_144_D_RATIO_BOTTLE_FLAG_W,Nd_143_144_D_RATIO_BOTTLE_ERROR,Nd_D_CONC,Nd_D_CONC_FLAG_W,La_D_CONC_BOTTLE,La_D_CONC_BOTTLE_FLAG_W,Ce_D_CONC_BOTTLE,Ce_D_CONC_BOTTLE_FLAG_W,Pr_D_CONC_BOTTLE,Pr_D_CONC_BOTTLE_FLAG_W,Sm_D_CONC_BOTTLE,Sm_D_CONC_BOTTLE_FLAG_W,Eu_D_CONC_BOTTLE,Eu_D_CONC_BOTTLE_FLAG_W,Gd_D_CONC_BOTTLE,Gd_D_CONC_BOTTLE_FLAG_W,Tb_D_CONC_BOTTLE,Tb_D_CONC_BOTTLE_FLAG_W,Dy_D_CONC_BOTTLE,Dy_D_CONC_BOTTLE_FLAG_W,Ho_D_CONC_BOTTLE,Ho_D_CONC_BOTTLE_FLAG_W,Er_D_CONC_BOTTLE,Er_D_CONC_BOTTLE_FLAG_W,Tm_D_CONC_BOTTLE,Tm_D_CONC_BOTTLE_FLAG_W,Yb_D_CONC_BOTTLE,Yb_D_CONC_BOTTLE_FLAG_W,Lu_D_CONC_BOTTLE,Lu_D_CONC_BOTTLE_FLAG_W
,,,,,,,,,,,METERS,DBAR,ITS-90,PSS-78,,PSS-78,,UMOL/KG,,UMOL/KG,,UMOL/KG,,UMOL/KG,,UMOL/KG,,UMOL/KG,,UMOL/KG,,PMOL/KG,,PMOL/KG,,FMOL/KG,,UMOL/KG,,UMOL/KG,,,,DEG C,UMOL/KG,,NMOL/L,,DEG C,,/MILLE,,/MILLE,,/MILLE,UG/KG,,UMOL/KG,,UMOL/KG,,NMOL/L,,VOLTS,,VOLTS,,VOLTS,,NMOL/KG,,UMOL/L,,,,,,NMOL/L,,NMOL/L,,,,,,10000,,10000,,,,PMOL/KG,,PMOL/L,,PMOL/L,,PMOL/L,,PMOL/L,,PMOL/L,,PMOL/L,,PMOL/L,,PMOL/L,,PMOL/L,,PMOL/L,,PMOL/L,,PMOL/L,,PMOL/L,
320620180309  ,S04P       ,28      ,  1,36         ,36         ,2,20180329,0438, -66.9999,-173.8192,     3650,      7.9,-0.7342805555555556030,34.079901806537102,3,     -999,9,340.58079150391586,2, 319.2943,2,     -999,9,     57.3,2,    26.54,2,     0.19,2,     1.79,2,     -999,9,     -999,9,     -999,9,     -999,9,     -999,9,     -999,9,     -999,     -999,9,     -999,9,     -999,9,     -999,9,     -999,9,     -999,     -999,1,     -999,9,     -999,9,     -999,9,    0.220,1,    4.523,1,    0.239,1,     -999,9,     -999,9,20180329,0703, -67.0003,-173.8183,     -999,9,     -999,9,-999          ,1,     -999,9,     -999,9,     -999,     -999,9,     -999,     -999,9,     -999,9,     -999,9,     -999,9,     -999,9,     -999,9,     -999,9,     -999,9,     -999,9,     -999,9,     -999,9,     -999,9,     -999,9,     -999,9
320620180309  ,S04P       ,28      ,  1,35         ,35         ,2,20180329,0438, -66.9999,-173.8192,     3650,      8.3,-0.7348250000000000615,34.079979841081602,2,  34.0800,2,340.51373557640363,2, 342.1994,2,    342.3,2,     57.5,2,    26.46,2,     0.19,2,     1.79,2,    5.497,2,    3.076,2,   3.3600,2,   2192.5,2,  2309.55,2,   7.6601,6,    24.93,     45.7,2,     -999,9,  -0.7288,2,     -999,9,     -999,9,     -999,     -999,9,    29.70,2,     -999,1,     -999,9,    0.219,1,    4.522,1,    0.269,1,  15.7500,2,     -999,9,20180329,0703, -67.0003,-173.8183,     -999,9,     -999,9,-999          ,9,     -999,9,     -999,9,     -999,     -999,9,     -999,     -999,9,     -999,9,     -999,9,     -999,9,     -999,9,     -999,9,     -999,9,     -999,9,     -999,9,     -999,9,     -999,9,     -999,9,     -999,9,     -999,9
320620180309  ,S04P       ,28      ,  1,34         ,34         ,2,20180329,0438, -66.9999,-173.8192,     3650,     18.9,-0.7301611111111110386,34.079935628398530,2,  34.0792,2,340.88605295454005,2, 342.1996,2,    342.2,2,     57.5,2,    26.32,2,     0.19,2,     1.82,2,    5.485,2,    3.072,2,   3.6600,2,   2192.2,2,  2312.01,2,   7.6590,2,    24.92,     45.3,2,     -999,9,  -0.7313,2,     -999,9,     -999,9,     -999,     -999,9,    29.80,2,     -999,1,     -999,9,    0.243,1,    4.527,1,    0.266,1,  15.8800,2,     -999,9,20180329,0702, -67.0003,-173.8183,     -999,9,     -999,9,-999          ,9,     -999,9,     -999,9,     -999,     -999,9,     -999,     -999,9,     -999,9,     -999,9,     -999,9,     -999,9,     -999,9,     -999,9,     -999,9,     -999,9,     -999,9,     -999,9,     -999,9,     -999,9,     -999,9
320620180309  ,S04P       ,28      ,  1,33         ,33         ,2,20180329,0438, -66.9999,-173.8192,     3650,     39.4,-0.7318388888888889277,34.080123754591675,2,  34.0794,2,341.51082391498693,2, 342.2036,2,    341.8,2,     57.4,2,    26.46,2,     0.19,2,     1.79,2,    5.477,2,    3.075,2,   3.6900,2,   2192.2,2,  2310.57,2,   7.6556,2,    24.92,     46.3,2,     -999,9,  -0.7318,2,     -999,9,     -999,9,     -999,     -999,9,    28.90,2,     -999,1,     -999,9,    0.304,1,    4.527,1,    0.281,1,  15.8100,2,     -999,9,20180329,0700, -67.0001,-173.8186,     -999,9,     -999,9,-999          ,9,     -999,9,     -999,9,     -999,     -999,9,     -999,     -999,9,     -999,9,     -999,9,     -999,9,     -999,9,     -999,9,     -999,9,     -999,9,     -999,9,     -999,9,     -999,9,     -999,9,     -999,9,     -999,9
320620180309  ,S04P       ,28      ,  1,32         ,32         ,2,20180329,0438, -66.9999,-173.8192,     3650,     64.6,-0.7332166666666668497,34.079883637188289,2,  34.0801,2,342.21332351565746,2, 342.1985,2,    342.0,2,     57.4,2,    26.35,2,     0.19,2,     1.81,2,    5.472,2,    3.070,2,   3.7200,2,   2192.7,2,  2310.73,2,   7.6585,2,    24.92,     43.8,2,     -999,9,  -0.7322,2,     -999,9,     -999,9,     -999,     -999,9,    29.30,2,     -999,1,     -999,9,    0.316,1,    4.527,1,    0.269,1,  15.8700,2,     -999,9,20180329,0659, -67.0000,-173.8189,     -999,9,     -999,9,-999          ,9,     -999,9,     -999,9,     -999,     -999,9,     -999,     -999,9,     -999,9,     -999,9,     -999,9,     -999,9,     -999,9,     -999,9,     -999,9,     -999,9,     -999,9,     -999,9,     -999,9,     -999,9,     -999,9
320620180309  ,S04P       ,28      ,  1,31         ,31         ,2,20180329,0438, -66.9999,-173.8192,     3650,     90.1,-1.0866888888888890374,34.244539119338597,2,  34.2405,2,315.83621484855627,3, 352.7043,3,    306.4,2,     70.2,2,    29.18,2,     0.23,2,     2.03,2,    4.456,2,    2.496,2,   2.9300,2,   2215.2,2,  2318.00,2,   7.6192,2,    24.92,     45.0,2,     -999,9,     -999,9,     -999,9,     -999,9,     -999,     -999,9,    32.20,2,     -999,1,     -999,9,    0.336,1,    4.525,1,    0.268,1,  17.3700,2,     -999,9,20180329,0657, -66.9999,-173.8193,     -999,9,     -999,9,-999          ,9,     -999,9,     -999,9,     -999,     -999,9,     -999,     -999,9,     -999,9,     -999,9,     -999,9,     -999,9,     -999,9,     -999,9,     -999,9,     -999,9,     -999,9,     -999,9,     -999,9,     -999,9,     -999,9
320620180309  ,S04P       ,28      ,  1,30         ,30         ,2,20180329,0438, -66.9999,-173.8192,     3650,     90.4,-1.0903305555555558026,34.247529199595576,3,     -999,9,314.25562317802508,2, 246.5927,2,     -999,9,     70.6,2,    29.23,2,     0.23,2,     2.08,2,     -999,9,     -999,9,     -999,9,     -999,9,     -999,9,     -999,9,     -999,     -999,9,     -999,9,  -1.0842,2,     -999,9,     -999,9,     -999,     -999,1,     -999,9,     -999,9,     -999,9,    0.336,1,    4.525,1,    0.268,1,     -999,9,     -999,9,20180329,0657, -66.9998,-173.8193,     -999,9,     -999,9,-999          ,1,     -999,9,     -999,9,     -999,     -999,9,     -999,     -999,9,     -999,9,     -999,9,     -999,9,     -999,9,     -999,9,     -999,9,     -999,9,     -999,9,     -999,9,     -999,9,     -999,9,     -999,9,     -999,9
320620180309  ,S04P       ,28      ,  1,29         ,29         ,2,20180329,0438, -66.9999,-173.8192,     3650,    114.9,-0.8116166666666667640,34.394901585966565,2,  34.3993,2,277.38670274756163,3, 325.4987,3,    272.3,2,     78.7,2,    31.40,2,     0.04,2,     2.16,2,    3.419,2,    1.887,2,   2.1500,2,   2235.7,2,  2325.98,2,   7.5863,6,    24.92,     -999,9,     -999,9,  -0.8453,2,     -999,9,     -999,9,     -999,     -999,9,     -999,9,     -999,9,     -999,9,    0.112,1,    4.619,1,    0.199,1,  18.6900,2,     -999,9,20180329,0655, -66.9997,-173.8197,     -999,9,     -999,9,-999          ,9,     -999,9,     -999,9,     -999,     -999,9,     -999,     -999,9,     -999,9,     -999,9,     -999,9,     -999,9,     -999,9,     -999,9,     -999,9,     -999,9,     -999,9,     -999,9,     -999,9,     -999,9,     -999,9
320620180309  ,S04P       ,28      ,  1,28         ,28         ,2,20180329,0438, -66.9999,-173.8192,     3650,    141.3,-0.3459027777777777257,34.453957329879728,2,  34.4591,2,260.74479260021786,3, 252.3935,2,    254.0,2,     80.7,2,    31.61,2,     0.02,2,     2.19,2,     -999,9,     -999,9,     -999,9,   2239.8,2,  2331.32,2,   7.5814,2,    24.92,     43.1,2,     -999,9,  -0.3322,2,     -999,9,     -999,9,     -999,     -999,9,    32.80,2,     -999,1,     -999,9,    0.089,1,    4.644,1,    0.174,1,     -999,9,     -999,9,20180329,0654, -66.9997,-173.8199,     -999,9,     -999,9,-999          ,9,     -999,9,     -999,9,     -999,     -999,9,     -999,     -999,9,     -999,9,     -999,9,     -999,9,     -999,9,     -999,9,     -999,9,     -999,9,     -999,9,     -999,9,     -999,9,     -999,9,     -999,9,     -999,9
320620180309  ,S04P       ,28      ,  1,27         ,27         ,2,20180329,0438, -66.9999,-173.8192,     3650,    186.8,0.8062444444444443192,34.616592139584590,2,  34.6162,2,214.65886812516263,3, 212.8975,2,    211.5,2,     86.8,2,    31.97,2,     0.00,2,     2.23,2,    1.444,2,    0.780,2,   0.8100,2,   2252.5,2,  2342.93,2,   7.5724,2,    24.94,     41.1,2,     -999,9,   0.8030,2,     -999,9,     -999,9,     -999,     -999,9,    33.60,2,     -999,1,     -999,9,    0.069,1,    4.656,1,    0.166,1,  20.1900,2,     -999,9,20180329,0651, -66.9996,-173.8198,     -999,9,     -999,9,-999          ,9,     -999,9,     -999,9,     -999,     -999,9,     -999,     -999,9,     -999,9,     -999,9,     -999,9,     -999,9,     -999,9,     -999,9,     -999,9,     -999,9,     -999,9,     -999,9,     -999,9,     -999,9,     -999,9
320620180309  ,S04P       ,28      ,  1,26         ,26         ,2,20180329,0438, -66.9999,-173.8192,     3650,    235.5,1.2724083333333333634,34.690543069427612,2,  34.6901,2,194.87458138970004,2, 197.9975,2,    195.1,2,     90.6,2,    31.84,2,     0.00,2,     2.21,2,    0.749,2,    0.403,2,   0.5000,2,   2257.5,2,  2348.02,2,   7.5772,2,    24.93,     44.9,2,     -999,9,   1.2707,2,     -999,9,     -999,9,     -999,     -999,9,    33.30,2,     -999,1,     -999,9,    0.066,1,    4.665,1,    0.155,1,  20.4400,2,     -999,9,20180329,0649, -66.9999,-173.8192,     -999,9,     -999,9,-999          ,9,     -999,9,     -999,9,     -999,     -999,9,     -999,     -999,9,     -999,9,     -999,9,     -999,9,     -999,9,     -999,9,     -999,9,     -999,9,     -999,9,     -999,9,     -999,9,     -999,9,     -999,9,     -999,9
320620180309  ,S04P       ,28      ,  1,25         ,25         ,2,20180329,0438, -66.9999,-173.8192,     3650,    286.6,1.3447305555555557621,34.709906648535963,2,  34.7104,2,192.93623785654287,2, 193.5999,2,    193.8,2,     92.9,2,    31.67,2,     0.00,2,     2.20,2,    0.552,2,    0.298,2,   0.3000,2,   2257.8,6,  2350.67,2,   7.5826,2,    24.94,     43.3,2,     -999,9,   1.3438,2,     -999,9,     -999,9,     -999,     -999,9,     -999,9,     -999,1,     -999,9,    0.065,1,    4.666,1,    0.155,1,  20.2100,2,     -999,9,20180329,0646, -67.0002,-173.8187,     -999,9,     -999,9,-999          ,9,     -999,9,     -999,9,     -999,     -999,9,     -999,     -999,9,     -999,9,     -999,9,     -999,9,     -999,9,     -999,9,     -999,9,     -999,9,     -999,9,     -999,9,     -999,9,     -999,9,     -999,9,     -999,9
320620180309  ,S04P       ,28      ,  1,24         ,24         ,2,20180329,0438, -66.9999,-173.8192,     3650,    337.1,1.3608027777777775835,34.716619592954132,2,  34.7160,2,193.22687722683398,2, 193.4984,2,    193.6,2,     94.8,2,    31.51,2,     0.00,2,     2.17,2,     -999,9,     -999,9,     -999,9,   2256.1,2,  2353.21,2,   7.5836,2,    24.93,     41.9,2,     -999,9,   1.3599,2,     -999,9,     -999,9,     -999,     -999,9,     -999,9,     -999,1,     -999,9,    0.062,1,    4.670,1,    0.143,1,     -999,9,     -999,9,20180329,0644, -67.0003,-173.8184,     -999,9,     -999,9,-999          ,9,     -999,9,     -999,9,     -999,     -999,9,     -999,     -999,9,     -999,9,     -999,9,     -999,9,     -999,9,     -999,9,     -999,9,     -999,9,     -999,9,     -999,9,     -999,9,     -999,9,     -999,9,     -999,9
320620180309  ,S04P       ,28      ,  1,23         ,23         ,2,20180329,0438, -66.9999,-173.8192,     3650,    387.3,1.3419611111111116042,34.719736342111915,2,  34.7194,2,194.01105489986688,2, 193.4999,2,    194.3,2,     95.6,2,    31.59,2,     0.00,2,     2.18,2,    0.428,2,    0.233,2,   0.3800,2,   2258.4,2,  2354.20,2,   7.5889,2,    24.93,     -999,9,     -999,9,   1.3412,2,     -999,9,     -999,9,     -999,     -999,9,     -999,9,     -999,9,     -999,9,    0.062,1,    4.669,1,    0.146,1,  19.9400,2,     -999,9,20180329,0642, -67.0002,-173.8185,     -999,9,     -999,9,-999          ,9,     -999,9,     -999,9,     -999,     -999,9,     -999,     -999,9,     -999,9,     -999,9,     -999,9,     -999,9,     -999,9,     -999,9,     -999,9,     -999,9,     -999,9,     -999,9,     -999,9,     -999,9,     -999,9
320620180309  ,S04P       ,28      ,  1,22         ,37         ,2,20180329,0438, -66.9999,-173.8192,     3650,    438.7,1.3169166666666667354,34.721605935452750,2,  34.7210,2,195.10391122194267,2, 194.1041,2,    195.2,2,     97.3,2,    31.64,2,     0.00,2,     2.19,2,    0.398,2,    0.214,2,   0.1500,2,   2259.0,2,  2354.61,2,   7.5897,2,    24.94,     43.3,2,     -999,9,   1.3162,2,     -999,9,     -999,9,     -999,     -999,9,     -999,9,     -999,1,     -999,9,    0.063,1,    4.671,1,    0.147,1,  19.9300,2,     -999,9,20180329,0640, -67.0000,-173.8189,     -999,9,     -999,9,-999          ,9,     -999,9,     -999,9,     -999,     -999,9,     -999,     -999,9,     -999,9,     -999,9,     -999,9,     -999,9,     -999,9,     -999,9,     -999,9,     -999,9,     -999,9,     -999,9,     -999,9,     -999,9,     -999,9
320620180309  ,S04P       ,28      ,  1,21         ,21         ,2,20180329,0438, -66.9999,-173.8192,     3650,    488.7,1.3005750000000002586,34.723307981144643,2,  34.7231,2,195.93698689441484,2, 194.1995,2,    195.7,2,     98.5,2,    31.45,2,     0.00,2,     2.19,2,    0.366,2,    0.190,2,   0.2700,2,   2256.0,2,  2356.38,2,   7.5921,2,    24.93,     -999,9,     -999,9,   1.2997,2,     -999,9,     -999,9,     -999,     -999,9,     -999,9,     -999,9,     -999,9,    0.061,1,    4.669,1,    0.144,1,  19.6600,2,     -999,9,20180329,0637, -66.9997,-173.8197,     -999,9,     -999,9,-999          ,9,     -999,9,     -999,9,     -999,     -999,9,     -999,     -999,9,     -999,9,     -999,9,     -999,9,     -999,9,     -999,9,     -999,9,     -999,9,     -999,9,     -999,9,     -999,9,     -999,9,     -999,9,     -999,9
320620180309  ,S04P       ,28      ,  1,20         ,20         ,2,20180329,0438, -66.9999,-173.8192,     3650,    569.3,1.2341722222222224481,34.723462880659994,2,  34.7241,2,196.70829168213217,2, 195.6041,2,    196.4,2,    101.1,2,    31.42,2,     0.00,2,     2.19,2,     -999,9,     -999,9,     -999,9,   2260.6,2,  2358.02,2,   7.5923,2,    24.94,     40.7,2,     -999,9,   1.2342,2,     -999,9,     -999,9,     -999,     -999,9,     -999,9,     -999,1,     -999,9,    0.063,1,    4.670,1,    0.145,1,     -999,9,     -999,9,20180329,0634, -66.9996,-173.8202,     -999,9,     -999,9,-999          ,9,     -999,9,     -999,9,     -999,     -999,9,     -999,     -999,9,     -999,9,     -999,9,     -999,9,     -999,9,     -999,9,     -999,9,     -999,9,     -999,9,     -999,9,     -999,9,     -999,9,     -999,9,     -999,9
320620180309  ,S04P       ,28      ,  1,19         ,19         ,2,20180329,0438, -66.9999,-173.8192,     3650,    671.3,1.1682999999999998941,34.722256353817876,2,  34.7229,2,198.11738741185854,2, 196.8010,2,    198.5,2,    103.8,2,    31.49,2,     0.00,2,     2.17,2,    0.302,6,    0.165,6,   0.1300,6,   2260.6,2,  2358.39,2,   7.5943,2,    24.93,     41.5,2,     -999,9,   1.1673,2,     -999,9,     -999,9,     -999,     -999,9,     -999,9,     -999,1,     -999,9,    0.061,1,    4.671,1,    0.142,1,  19.5200,6,     -999,9,20180329,0630, -66.9997,-173.8197,     -999,9,     -999,9,-999          ,9,     -999,9,     -999,9,     -999,     -999,9,     -999,     -999,9,     -999,9,     -999,9,     -999,9,     -999,9,     -999,9,     -999,9,     -999,9,     -999,9,     -999,9,     -999,9,     -999,9,     -999,9,     -999,9
320620180309  ,S04P       ,28      ,  1,18         ,18         ,2,20180329,0438, -66.9999,-173.8192,     3650,    772.4,1.0997750000000001691,34.721134213542115,2,  34.7215,2,199.12304065188175,2, 198.4042,2,    199.7,2,    106.3,2,    31.48,2,     0.00,2,     2.17,2,     -999,9,     -999,9,     -999,9,   2262.0,2,  2360.10,2,   7.5975,6,    24.94,     41.0,2,     -999,9,   1.0990,2,     -999,9,     -999,9,     -999,     -999,9,     -999,9,     -999,1,     -999,9,    0.061,1,    4.673,1,    0.137,1,     -999,9,     -999,9,20180329,0627, -66.9998,-173.8194,     -999,9,     -999,9,-999          ,9,     -999,9,     -999,9,     -999,     -999,9,     -999,     -999,9,     -999,9,     -999,9,     -999,9,     -999,9,     -999,9,     -999,9,     -999,9,     -999,9,     -999,9,     -999,9,     -999,9,     -999,9,     -999,9
320620180309  ,S04P       ,28      ,  1,17         ,17         ,2,20180329,0438, -66.9999,-173.8192,     3650,    873.6,1.0318527777777779519,34.719500504309337,2,  34.7200,2,200.51192008145810,2, 200.0000,2,    201.0,2,    108.3,2,    31.62,2,     0.00,2,     2.18,2,    0.251,2,    0.128,2,   0.0800,2,   2263.1,2,  2361.93,2,   7.5964,2,    24.93,     44.8,2,     -999,9,   1.0306,2,     -999,9,     -999,9,     -999,     -999,9,     -999,9,     -999,1,     -999,9,    0.061,1,    4.674,1,    0.137,1,  19.3000,2,     -999,9,20180329,0618, -67.0002,-173.8185,     -999,9,     -999,9,-999          ,9,     -999,9,     -999,9,     -999,     -999,9,     -999,     -999,9,     -999,9,     -999,9,     -999,9,     -999,9,     -999,9,     -999,9,     -999,9,     -999,9,     -999,9,     -999,9,     -999,9,     -999,9,     -999,9
320620180309  ,S04P       ,28      ,  1,16         ,16         ,2,20180329,0438, -66.9999,-173.8192,     3650,    976.1,0.9685166666666668034,34.717035316264457,2,  34.7188,2,202.27481265862804,2, 201.5019,2,    201.8,2,    111.4,2,    31.67,2,     0.00,2,     2.19,2,     -999,9,     -999,9,     -999,9,   2261.5,2,  2362.90,2,   7.5984,2,    24.92,     41.3,2,     -999,9,   0.9691,2,     -999,9,     -999,9,     -999,     -999,9,     -999,9,     -999,1,     -999,9,    0.061,1,    4.674,1,    0.134,1,     -999,9,     -999,9,20180329,0615, -67.0000,-173.8189,     -999,9,     -999,9,-999          ,9,     -999,9,     -999,9,     -999,     -999,9,     -999,     -999,9,     -999,9,     -999,9,     -999,9,     -999,9,     -999,9,     -999,9,     -999,9,     -999,9,     -999,9,     -999,9,     -999,9,     -999,9,     -999,9