BOTTLE,20240515CCHHYDRO
EXPOCODE,SECT_ID,STNNBR,CASTNO,SAMPNO,BTLNBR,BTLNBR_FLAG_W,DATE,TIME,LATITUDE,LONGITUDE,DEPTH,CTDPRS,CTDTMP,CTDSAL,CTDSAL_FLAG_W,SALNTY,SALNTY_FLAG_W,CTDOXY,CTDOXY_FLAG_W,CTDOPTOXY,CTDOPTOXY_FLAG_W,OXYGEN,OXYGEN_FLAG_W,SILCAT,SILCAT_FLAG_W,NITRAT,NITRAT_FLAG_W,NITRIT,NITRIT_FLAG_W,PHSPHT,PHSPHT_FLAG_W,CFC-11,CFC-11_FLAG_W,CFC-12,CFC-12_FLAG_W,SF6,SF6_FLAG_W,TCARBN,TCARBN_FLAG_W,ALKALI,ALKALI_FLAG_W,PH_TOT,PH_TOT_FLAG_W,PH_TMP,DOC,DOC_FLAG_W,HELIUM,HELIUM_FLAG_W,REFTMP,REFTMP_FLAG_W,DELC13,DELC13_FLAG_W,DELC14,DELC14_FLAG_W,C14ERR,POC,POC_FLAG_W,TDN,TDN_FLAG_W,TON,TON_FLAG_W,NEON,NEON_FLAG_W,CTDFLUOR,CTDFLUOR_FLAG_W,CTDXMISS,CTDXMISS_FLAG_W,CTDBETA700,CTDBETA700_FLAG_W,N2O,N2O_FLAG_W,ARGON,ARGON_FLAG_W,BTL_DATE,BTL_TIME,BTL_LAT,BTL_LON,KRYPTON,KRYPTON_FLAG_W,XENON,XENON_FLAG_W,HPLC,HPLC_FLAG_W,HE3_HE4_RATIO,HE3_HE4_RATIO_FLAG_W,Nd_143_144_D_EPSILON_BOTTLE,Nd_143_144_D_EPSILON_BOTTLE_FLAG_W,Nd_143_144_D_EPSILON_BOTTLE_ERROR,Nd_143_144_D_RATIO_BOTTLE,Nd_143_144_D_RATIO_BOTTLE_FLAG_W,Nd_143_144_D_RATIO_BOTTLE_ERROR,Nd_D_CONC,Nd_D_CONC_FLAG_W,La_D_CONC_BOTTLE,La_D_CONC_BOTTLE_FLAG_W,Ce_D_CONC_BOTTLE,Ce_D_CONC_BOTTLE_FLAG_W,Pr_D_CONC_BOTTLE,Pr_D_CONC_BOTTLE_FLAG_W,Sm_D_CONC_BOTTLE,Sm_D_CONC_BOTTLE_FLAG_W,Eu_D_CONC_BOTTLE,Eu_D_CONC_BOTTLE_FLAG_W,Gd_D_CONC_BOTTLE,Gd_D_CONC_BOTTLE_FLAG_W,Tb_D_CONC_BOTTLE,Tb_D_CONC_BOTTLE_FLAG_W,Dy_D_CONC_BOTTLE,Dy_D_CONC_BOTTLE_FLAG_W,Ho_D_CONC_BOTTLE,Ho_D_CONC_BOTTLE_FLAG_W,Er_D_CONC_BOTTLE,Er_D_CONC_BOTTLE_FLAG_W,Tm_D_CONC_BOTTLE,Tm_D_CONC_BOTTLE_FLAG_W,Yb_D_CONC_BOTTLE,Yb_D_CONC_BOTTLE_FLAG_W,Lu_D_CONC_BOTTLE,Lu_D_CONC_BOTTLE_FLAG_W
,,,,,,,,,,,METERS,DBAR,ITS-90,PSS-78,,PSS-78,,UMOL/KG,,UMOL/KG,,UMOL/KG,,UMOL/KG,,UMOL/KG,,UMOL/KG,,UMOL/KG,,PMOL/KG,,PMOL/KG,,FMOL/KG,,UMOL/KG,,UMOL/KG,,,,DEG C,UMOL/KG,,NMOL/L,,DEG C,,/MILLE,,/MILLE,,/MILLE,UG/KG,,UMOL/KG,,UMOL/KG,,NMOL/L,,VOLTS,,VOLTS,,VOLTS,,NMOL/KG,,UMOL/L,,,,,,NMOL/L,,NMOL/L,,,,,,10000,,10000,,,,PMOL/KG,,PMOL/L,,PMOL/L,,PMOL/L,,PMOL/L,,PMOL/L,,PMOL/L,,PMOL/L,,PMOL/L,,PMOL/L,,PMOL/L,,PMOL/L,,PMOL/L,,PMOL/L,
320620180309  ,P16        ,47      ,  1,15         ,15         ,2,20180406,1504, -70.4998,-149.9975,     4317,   1282.5,0.9332083333333331954,34.716790184846232,2,  34.7166,2,199.94034307610454,2, 198.7002,2,    199.2,2,    117.4,2,    32.50,2,     0.00,2,     2.25,2,     -999,9,     -999,9,     -999,9,     -999,9,     -999,9,     -999,9,     -999,     -999,9,     -999,1,   0.9329,2,     -999,9,     -999,9,     -999,     -999,9,     -999,9,     -999,9,     -999,1,    0.061,1,    4.669,1,    0.128,1,     -999,9,     -999,1,20180406,1632, -70.5000,-150.0002,     -999,1,     -999,1,-999          ,9,     -999,1,     -999,9,     -999,     -999,9,     -999,     -999,9,     -999,1,     -999,1,     -999,1,     -999,1,     -999,1,     -999,1,     -999,1,     -999,1,     -999,1,     -999,1,     -999,1,     -999,1,     -999,1
320620180309  ,P16        ,47      ,  1,14         ,14         ,2,20180406,1504, -70.4998,-149.9975,     4317,   1382.6,0.8847027777777778379,34.714550129123708,2,  34.7145,2,200.92752632914983,2, 199.9052,2,    201.0,2,    119.3,2,    32.54,2,     0.00,2,     2.25,2,    0.122,2,    0.071,2,   0.1000,2,   2264.8,2,  2362.16,2,   7.5948,6,    24.97,     -999,9,     -999,9,   0.8837,2,     -999,9,     -999,9,     -999,     -999,9,     -999,9,     -999,9,     -999,9,    0.061,1,    4.669,1,    0.128,1,  20.8400,2,     -999,9,20180406,1628, -70.5000,-149.9998,     -999,9,     -999,9,-999          ,9,     -999,9,     -999,9,     -999,     -999,9,     -999,     -999,9,     -999,9,     -999,9,     -999,9,     -999,9,     -999,9,     -999,9,     -999,9,     -999,9,     -999,9,     -999,9,     -999,9,     -999,9,     -999,9
320620180309  ,P16        ,47      ,  1,13         ,13         ,2,20180406,1504, -70.4998,-149.9975,     4317,   1484.7,0.8384194444444444949,34.712563094423324,2,  34.7119,2,201.74364130801885,2, 200.8021,2,    202.0,2,    121.1,2,    32.58,2,     0.00,2,     2.25,2,     -999,9,     -999,9,     -999,9,     -999,9,     -999,9,     -999,9,     -999,     -999,9,     -999,9,   0.8372,2,     -999,9,     -999,9,     -999,     -999,9,     -999,9,     -999,9,     -999,9,    0.061,1,    4.669,1,    0.128,1,     -999,9,     -999,9,20180406,1625, -70.5000,-150.0002,     -999,9,     -999,9,-999          ,9,     -999,9,     -999,9,     -999,     -999,9,     -999,     -999,9,     -999,1,     -999,1,     -999,1,     -999,1,     -999,1,     -999,1,     -999,1,     -999,1,     -999,1,     -999,1,     -999,1,     -999,1,     -999,1
320620180309  ,P16        ,47      ,  1,12         ,12         ,2,20180406,1504, -70.4998,-149.9975,     4317,   1586.2,0.7942694444444443613,34.710641792459484,2,  34.7113,2,202.56236216597773,2, 202.1010,2,    203.0,2,    122.8,2,    32.67,2,     0.00,2,     2.24,2,    0.124,2,    0.071,2,   0.0500,2,   2262.8,2,  2362.98,2,   7.5939,6,    24.96,     -999,9,     -999,9,   0.7940,2,     -999,9,     -999,9,     -999,     -999,9,     -999,9,     -999,9,     -999,9,    0.061,1,    4.668,1,    0.128,1,  19.7100,2,     -999,9,20180406,1622, -70.5001,-150.0008,     -999,9,     -999,9,-999          ,9,     -999,9,     -999,9,     -999,     -999,9,     -999,     -999,9,     -999,9,     -999,9,     -999,9,     -999,9,     -999,9,     -999,9,     -999,9,     -999,9,     -999,9,     -999,9,     -999,9,     -999,9,     -999,9
320620180309  ,P16        ,47      ,  1,11         ,11         ,2,20180406,1504, -70.4998,-149.9975,     4317,   1760.9,0.7347194444444444805,34.708262616333620,2,  34.7086,2,204.10303599464669,2, 203.6064,2,    204.2,2,    124.9,2,    32.72,2,     0.00,2,     2.25,2,     -999,9,     -999,9,     -999,9,     -999,9,     -999,9,     -999,9,     -999,     -999,9,     -999,1,   0.7339,2,     -999,9,     -999,9,     -999,     -999,9,     -999,9,     -999,9,     -999,1,    0.061,1,    4.669,1,    0.136,1,     -999,9,     -999,1,20180406,1616, -70.5001,-150.0011,     -999,1,     -999,1,-999          ,9,     -999,1,     -999,9,     -999,     -999,9,     -999,     -999,9,     -999,1,     -999,1,     -999,1,     -999,1,     -999,1,     -999,1,     -999,1,     -999,1,     -999,1,     -999,1,     -999,1,     -999,1,     -999,1
320620180309  ,P16        ,47      ,  1,10         ,10         ,2,20180406,1504, -70.4998,-149.9975,     4317,   1962.5,0.6691111111111111009,34.705821039705377,2,  34.7062,2,205.50546927770898,2, 205.5029,2,    206.2,2,    126.7,2,    32.81,2,     0.00,2,     2.25,2,     -999,9,     -999,9,     -999,9,   2266.0,2,  2361.88,2,   7.5943,2,    24.96,     -999,9,     -999,9,   0.6682,2,     -999,9,     -999,9,     -999,     -999,9,     -999,9,     -999,9,     -999,9,    0.060,1,    4.669,1,    0.124,1,     -999,9,     -999,9,20180406,1610, -70.5000,-150.0010,     -999,9,     -999,9,-999          ,9,     -999,9,     -999,9,     -999,     -999,9,     -999,     -999,9,     -999,9,     -999,9,     -999,9,     -999,9,     -999,9,     -999,9,     -999,9,     -999,9,     -999,9,     -999,9,     -999,9,     -999,9,     -999,9
320620180309  ,P16        ,47      ,  1,9          ,9          ,2,20180406,1504, -70.4998,-149.9975,     4317,   2198.1,0.5921166666666665135,34.703735976312117,2,  34.7039,2,207.73539409472593,2, 207.9048,2,    207.4,2,    128.0,2,    32.87,2,     0.00,2,     2.24,2,    0.160,2,    0.091,2,   0.1900,2,   2264.6,2,  2362.60,2,   7.5945,2,    24.96,     -999,9,     -999,9,   0.5917,2,     -999,9,     -999,9,     -999,     -999,9,     -999,9,     -999,9,     -999,9,    0.061,1,    4.669,1,    0.126,1,  20.4600,2,     -999,9,20180406,1604, -70.5001,-150.0009,     -999,9,     -999,9,-999          ,9,     -999,9,     -999,9,     -999,     -999,9,     -999,     -999,9,     -999,1,     -999,1,     -999,1,     -999,1,     -999,1,     -999,1,     -999,1,     -999,1,     -999,1,     -999,1,     -999,1,     -999,1,     -999,1
320620180309  ,P16        ,47      ,  1,8          ,8          ,2,20180406,1504, -70.4998,-149.9975,     4317,   2452.6,0.5089666666666666783,34.702515055607400,2,  34.7027,2,209.20840061328551,2, 210.0944,2,    209.7,2,    129.2,2,    32.93,2,     0.00,2,     2.25,2,     -999,9,     -999,9,     -999,9,     -999,9,     -999,9,     -999,9,     -999,     -999,9,     -999,9,   0.5082,2,     -999,9,     -999,9,     -999,     -999,9,     -999,9,     -999,9,     -999,9,    0.061,1,    4.669,1,    0.125,1,     -999,9,     -999,9,20180406,1558, -70.5000,-150.0004,     -999,9,     -999,9,-999          ,9,     -999,9,     -999,9,     -999,     -999,9,     -999,     -999,9,     -999,9,     -999,9,     -999,9,     -999,9,     -999,9,     -999,9,     -999,9,     -999,9,     -999,9,     -999,9,     -999,9,     -999,9,     -999,9
320620180309  ,P16        ,47      ,  1,7          ,7          ,2,20180406,1504, -70.4998,-149.9975,     4317,   2708.9,0.4275333333333333763,34.701667663899634,2,  34.7023,2,210.70436179026410,2, 211.5983,2,    212.0,2,    131.5,2,    32.93,2,     0.00,2,     2.25,2,    0.242,3,    0.252,3,   2.7600,3,   2263.9,2,  2362.96,2,   7.5940,2,    24.97,     -999,9,     -999,1,   0.4269,2,     -999,9,     -999,9,     -999,     -999,9,     -999,9,     -999,9,     -999,1,    0.061,1,    4.669,1,    0.123,1,  20.6200,3,     -999,1,20180406,1551, -70.5000,-150.0001,     -999,1,     -999,1,-999          ,9,     -999,1,     -999,9,     -999,     -999,9,     -999,     -999,9,     -999,1,     -999,1,     -999,1,     -999,1,     -999,1,     -999,1,     -999,1,     -999,1,     -999,1,     -999,1,     -999,1,     -999,1,     -999,1
320620180309  ,P16        ,47      ,  1,6          ,6          ,2,20180406,1504, -70.4998,-149.9975,     4317,   2964.6,0.3708194444444444793,34.700994397040930,2,  34.7017,2,212.57098162676436,2, 213.1980,2,    212.9,2,    133.2,2,    32.99,2,     0.00,2,     2.24,2,     -999,9,     -999,9,     -999,9,     -999,9,     -999,9,     -999,9,     -999,     -999,9,     -999,9,   0.3699,2,     -999,9,     -999,9,     -999,     -999,9,     -999,9,     -999,9,     -999,9,    0.061,1,    4.669,1,    0.125,1,     -999,9,     -999,9,20180406,1545, -70.5000,-149.9997,     -999,9,     -999,9,-999          ,9,     -999,9,     -999,9,     -999,     -999,9,     -999,     -999,9,     -999,9,     -999,9,     -999,9,     -999,9,     -999,9,     -999,9,     -999,9,     -999,9,     -999,9,     -999,9,     -999,9,     -999,9,     -999,9
320620180309  ,P16        ,47      ,  1,5          ,5          ,2,20180406,1504, -70.4998,-149.9975,     4317,   3257.0,0.3104083333333332861,34.699241298553574,2,  34.6996,2,214.82021625534503,2, 215.3984,2,    215.7,2,    134.4,2,    32.98,2,     0.00,2,     2.24,2,    0.291,2,    0.162,2,   0.0200,2,   2265.7,2,  2362.26,2,   7.5933,2,    24.96,     -999,9,     -999,9,   0.3096,2,     -999,9,     -999,9,     -999,     -999,9,     -999,9,     -999,9,     -999,9,    0.061,1,    4.669,1,    0.124,1,  20.0100,2,     -999,9,20180406,1537, -70.4999,-149.9990,     -999,9,     -999,9,-999          ,9,     -999,9,     -999,9,     -999,     -999,9,     -999,     -999,9,     -999,1,     -999,1,     -999,1,     -999,1,     -999,1,     -999,1,     -999,1,     -999,1,     -999,1,     -999,1,     -999,1,     -999,1,     -999,1
320620180309  ,P16        ,47      ,  1,4          ,4          ,2,20180406,1504, -70.4998,-149.9975,     4317,   3564.8,0.2592861111111110506,34.695820552783147,2,  34.6954,2,218.06985327100131,2, 218.1002,2,    217.7,2,    131.5,2,    32.90,2,     0.00,2,     2.24,2,    0.524,2,    0.277,2,   0.0200,2,   2264.3,2,  2361.98,2,   7.5925,2,    24.97,     -999,9,     -999,1,   0.2587,2,     -999,9,     -999,9,     -999,     -999,9,     -999,9,     -999,9,     -999,1,    0.061,1,    4.669,1,    0.125,1,  20.8000,4,     -999,1,20180406,1529, -70.4999,-149.9990,     -999,1,     -999,1,-999          ,9,     -999,1,     -999,9,     -999,     -999,9,     -999,     -999,9,     -999,9,     -999,9,     -999,9,     -999,9,     -999,9,     -999,9,     -999,9,     -999,9,     -999,9,     -999,9,     -999,9,     -999,9,     -999,9
320620180309  ,P16        ,47      ,  1,3          ,3          ,2,20180406,1504, -70.4998,-149.9975,     4317,   3874.1,0.2394166666666666665,34.694626959378162,2,  34.6937,2,219.80340014119815,2, 219.1996,2,    219.5,2,    129.0,2,    32.87,2,     0.00,2,     2.24,2,    0.667,2,    0.344,2,   0.5000,2,   2262.6,2,  2360.78,2,   7.5925,2,    24.96,     -999,9,     -999,9,   0.2388,2,     -999,9,     -999,9,     -999,     -999,9,     -999,9,     -999,9,     -999,9,    0.061,1,    4.668,1,    0.123,1,  19.5400,2,     -999,9,20180406,1521, -70.4999,-149.9989,     -999,9,     -999,9,-999          ,9,     -999,9,     -999,9,     -999,     -999,9,     -999,     -999,9,     -999,1,     -999,1,     -999,1,     -999,1,     -999,1,     -999,1,     -999,1,     -999,1,     -999,1,     -999,1,     -999,1,     -999,1,     -999,1
320620180309  ,P16        ,47      ,  1,2          ,2          ,2,20180406,1504, -70.4998,-149.9975,     4317,   4156.4,0.2480944444444444508,34.694765032243431,2,  34.6945,2,220.64038398880089,2, 219.8050,2,    220.3,2,    129.0,2,    32.89,2,     0.00,2,     2.24,2,    0.693,2,    0.356,2,   0.2800,2,   2263.8,2,  2361.45,2,   7.5934,2,    24.96,     -999,9,     -999,1,   0.2475,2,     -999,9,     -999,9,     -999,     -999,9,     -999,9,     -999,9,     -999,1,    0.060,1,    4.666,1,    0.127,1,  19.9500,2,     -999,1,20180406,1514, -70.4999,-149.9981,     -999,1,     -999,1,-999          ,9,     -999,1,     -999,9,     -999,     -999,9,     -999,     -999,9,     -999,1,     -999,1,     -999,1,     -999,1,     -999,1,     -999,1,     -999,1,     -999,1,     -999,1,     -999,1,     -999,1,     -999,1,     -999,1
320620180309  ,P16        ,47      ,  1,1          ,1          ,2,20180406,1504, -70.4998,-149.9975,     4317,   4396.3,0.2648749999999999716,34.695230237749918,2,  34.6949,2,219.89498923796526,2, 219.7969,2,    219.3,2,    130.9,2,    32.93,2,     0.00,2,     2.25,2,    0.710,2,    0.345,2,   0.1400,2,   2263.6,6,  2361.39,2,   7.5903,2,    24.98,     -999,9,     -999,1,   0.2644,2,     -999,9,     -999,9,     -999,     -999,9,     -999,9,     -999,9,     -999,1,    0.061,1,    4.656,1,    0.140,1,  20.7400,4,     -999,1,20180406,1504, -70.4998,-149.9975,     -999,1,     -999,1,-999          ,9,     -999,1,     -999,9,     -999,     -999,9,     -999,     -999,9,     -999,1,     -999,1,     -999,1,     -999,1,     -999,1,     -999,1,     -999,1,     -999,1,     -999,1,     -999,1,     -999,1,     -999,1,     -999,1