BOTTLE,20240515CCHHYDRO
EXPOCODE,SECT_ID,STNNBR,CASTNO,SAMPNO,BTLNBR,BTLNBR_FLAG_W,DATE,TIME,LATITUDE,LONGITUDE,DEPTH,CTDPRS,CTDTMP,CTDSAL,CTDSAL_FLAG_W,SALNTY,SALNTY_FLAG_W,CTDOXY,CTDOXY_FLAG_W,CTDOPTOXY,CTDOPTOXY_FLAG_W,OXYGEN,OXYGEN_FLAG_W,SILCAT,SILCAT_FLAG_W,NITRAT,NITRAT_FLAG_W,NITRIT,NITRIT_FLAG_W,PHSPHT,PHSPHT_FLAG_W,CFC-11,CFC-11_FLAG_W,CFC-12,CFC-12_FLAG_W,SF6,SF6_FLAG_W,TCARBN,TCARBN_FLAG_W,ALKALI,ALKALI_FLAG_W,PH_TOT,PH_TOT_FLAG_W,PH_TMP,DOC,DOC_FLAG_W,HELIUM,HELIUM_FLAG_W,REFTMP,REFTMP_FLAG_W,DELC13,DELC13_FLAG_W,DELC14,DELC14_FLAG_W,C14ERR,POC,POC_FLAG_W,TDN,TDN_FLAG_W,TON,TON_FLAG_W,NEON,NEON_FLAG_W,CTDFLUOR,CTDFLUOR_FLAG_W,CTDXMISS,CTDXMISS_FLAG_W,CTDBETA700,CTDBETA700_FLAG_W,N2O,N2O_FLAG_W,ARGON,ARGON_FLAG_W,BTL_DATE,BTL_TIME,BTL_LAT,BTL_LON,KRYPTON,KRYPTON_FLAG_W,XENON,XENON_FLAG_W,HPLC,HPLC_FLAG_W,HE3_HE4_RATIO,HE3_HE4_RATIO_FLAG_W,Nd_143_144_D_EPSILON_BOTTLE,Nd_143_144_D_EPSILON_BOTTLE_FLAG_W,Nd_143_144_D_EPSILON_BOTTLE_ERROR,Nd_143_144_D_RATIO_BOTTLE,Nd_143_144_D_RATIO_BOTTLE_FLAG_W,Nd_143_144_D_RATIO_BOTTLE_ERROR,Nd_D_CONC,Nd_D_CONC_FLAG_W,La_D_CONC_BOTTLE,La_D_CONC_BOTTLE_FLAG_W,Ce_D_CONC_BOTTLE,Ce_D_CONC_BOTTLE_FLAG_W,Pr_D_CONC_BOTTLE,Pr_D_CONC_BOTTLE_FLAG_W,Sm_D_CONC_BOTTLE,Sm_D_CONC_BOTTLE_FLAG_W,Eu_D_CONC_BOTTLE,Eu_D_CONC_BOTTLE_FLAG_W,Gd_D_CONC_BOTTLE,Gd_D_CONC_BOTTLE_FLAG_W,Tb_D_CONC_BOTTLE,Tb_D_CONC_BOTTLE_FLAG_W,Dy_D_CONC_BOTTLE,Dy_D_CONC_BOTTLE_FLAG_W,Ho_D_CONC_BOTTLE,Ho_D_CONC_BOTTLE_FLAG_W,Er_D_CONC_BOTTLE,Er_D_CONC_BOTTLE_FLAG_W,Tm_D_CONC_BOTTLE,Tm_D_CONC_BOTTLE_FLAG_W,Yb_D_CONC_BOTTLE,Yb_D_CONC_BOTTLE_FLAG_W,Lu_D_CONC_BOTTLE,Lu_D_CONC_BOTTLE_FLAG_W
,,,,,,,,,,,METERS,DBAR,ITS-90,PSS-78,,PSS-78,,UMOL/KG,,UMOL/KG,,UMOL/KG,,UMOL/KG,,UMOL/KG,,UMOL/KG,,UMOL/KG,,PMOL/KG,,PMOL/KG,,FMOL/KG,,UMOL/KG,,UMOL/KG,,,,DEG C,UMOL/KG,,NMOL/L,,DEG C,,/MILLE,,/MILLE,,/MILLE,UG/KG,,UMOL/KG,,UMOL/KG,,NMOL/L,,VOLTS,,VOLTS,,VOLTS,,NMOL/KG,,UMOL/L,,,,,,NMOL/L,,NMOL/L,,,,,,10000,,10000,,,,PMOL/KG,,PMOL/L,,PMOL/L,,PMOL/L,,PMOL/L,,PMOL/L,,PMOL/L,,PMOL/L,,PMOL/L,,PMOL/L,,PMOL/L,,PMOL/L,,PMOL/L,,PMOL/L,
320620180309  ,P18        ,100     ,  1,15         ,15         ,2,20180430,1001, -68.9756,-103.0162,     4068,   1282.2,1.2526796470337491218,34.726716369955724,2,  34.7259,2,196.24956993835582,2, 196.7002,2,    196.1,2,    107.9,2,    32.26,2,     0.00,2,     2.19,2,    0.115,2,    0.065,2,   0.0300,3,   2262.0,2,  2361.52,2,   7.5979,2,    24.99,     43.0,2,     -999,1,   1.2525,2,     -999,9,     -999,9,     -999,     -999,9,     -999,9,     -999,1,     -999,1,    0.062,1,    4.651,1,    0.131,1,  19.0900,2,     -999,1,20180430,1120, -68.9633,-103.0072,     -999,1,     -999,1,-999          ,9,     -999,1,     -999,9,     -999,     -999,9,     -999,     -999,9,     -999,1,     -999,1,     -999,1,     -999,1,     -999,1,     -999,1,     -999,1,     -999,1,     -999,1,     -999,1,     -999,1,     -999,1,     -999,1
320620180309  ,P18        ,100     ,  1,14         ,14         ,2,20180430,1001, -68.9756,-103.0162,     4068,   1384.2,1.1777125052282062523,34.724322827599991,2,  34.7235,2,196.95847999333662,2, 197.4025,2,    197.3,2,    110.3,2,    32.31,2,     0.00,2,     2.20,2,    0.105,2,    0.066,2,   0.0200,3,   2262.4,2,  2362.88,2,   7.5981,2,    25.00,     39.9,2,     -999,9,   1.1774,2,     -999,9,     -999,9,     -999,     -999,9,     -999,9,     -999,1,     -999,9,    0.061,1,    4.652,1,    0.130,1,  19.4300,2,     -999,9,20180430,1117, -68.9638,-103.0074,     -999,9,     -999,9,-999          ,9,     -999,9,     -999,9,     -999,     -999,9,     -999,     -999,9,     -999,9,     -999,9,     -999,9,     -999,9,     -999,9,     -999,9,     -999,9,     -999,9,     -999,9,     -999,9,     -999,9,     -999,9,     -999,9
320620180309  ,P18        ,100     ,  1,13         ,13         ,2,20180430,1001, -68.9756,-103.0162,     4068,   1485.3,1.1158252314628502866,34.722314081605575,2,  34.7215,2,198.65514508390328,2, 198.6028,2,    199.1,2,    111.8,2,    32.31,2,     0.00,2,     2.21,2,    0.122,2,    0.068,2,   0.0300,3,   2261.5,2,  2363.18,2,   7.5999,6,    25.01,     -999,9,     -999,9,   1.1155,2,     -999,9,     -999,9,     -999,     -999,9,     -999,9,     -999,9,     -999,9,    0.061,1,    4.652,1,    0.130,1,  19.6800,2,     -999,9,20180430,1113, -68.9643,-103.0077,     -999,9,     -999,9,-999          ,9,     -999,9,     -999,9,     -999,     -999,9,     -999,     -999,9,     -999,1,     -999,1,     -999,1,     -999,1,     -999,1,     -999,1,     -999,1,     -999,1,     -999,1,     -999,1,     -999,1,     -999,1,     -999,1
320620180309  ,P18        ,100     ,  1,12         ,12         ,2,20180430,1001, -68.9756,-103.0162,     4068,   1587.8,1.0573847793932600325,34.720148963620524,2,  34.7192,2,200.31184266849371,2, 200.2030,2,    200.4,2,    114.1,2,    32.37,2,     0.00,2,     2.21,2,     -999,9,     -999,9,     -999,9,   2261.6,2,  2363.69,2,   7.6025,2,    25.00,     44.2,3,     -999,9,   1.0570,2,     -999,9,     -999,9,     -999,     -999,9,     -999,9,     -999,1,     -999,9,    0.061,1,    4.652,1,    0.129,1,     -999,9,     -999,9,20180430,1110, -68.9647,-103.0079,     -999,9,     -999,9,-999          ,9,     -999,9,     -999,9,     -999,     -999,9,     -999,     -999,9,     -999,9,     -999,9,     -999,9,     -999,9,     -999,9,     -999,9,     -999,9,     -999,9,     -999,9,     -999,9,     -999,9,     -999,9,     -999,9
320620180309  ,P18        ,100     ,  1,11         ,11         ,2,20180430,1001, -68.9756,-103.0162,     4068,   1776.0,0.9648725996486957612,34.716523120483075,2,  34.7164,2,202.22249295923100,2, 201.9990,2,    202.0,2,    117.4,2,    32.45,2,     0.00,2,     2.20,2,    0.111,2,    0.069,2,   0.0000,3,   2263.4,2,  2364.40,2,   7.5992,2,    25.03,     44.1,3,     -999,1,   0.9645,2,     -999,9,     -999,9,     -999,     -999,9,     -999,9,     -999,1,     -999,1,    0.061,1,    4.650,1,    0.132,1,  19.4500,2,     -999,1,20180430,1105, -68.9654,-103.0082,     -999,1,     -999,1,-999          ,9,     -999,1,     -999,9,     -999,     -999,9,     -999,     -999,9,     -999,1,     -999,1,     -999,1,     -999,1,     -999,1,     -999,1,     -999,1,     -999,1,     -999,1,     -999,1,     -999,1,     -999,1,     -999,1
320620180309  ,P18        ,100     ,  1,10         ,10         ,2,20180430,1001, -68.9756,-103.0162,     4068,   1980.2,0.8693711385728347674,34.712661116249450,2,  34.7107,2,203.72394615926788,2, 203.9971,2,    204.6,2,    120.6,2,    32.52,2,     0.00,2,     2.21,2,    0.142,2,    0.091,2,   0.0000,3,   2262.9,2,  2365.40,2,   7.5997,2,    25.06,     39.7,2,     -999,9,   0.8690,2,     -999,9,     -999,9,     -999,     -999,9,     -999,9,     -999,1,     -999,9,    0.061,1,    4.653,1,    0.127,1,  19.2000,2,     -999,9,20180430,1100, -68.9662,-103.0086,     -999,9,     -999,9,-999          ,9,     -999,9,     -999,9,     -999,     -999,9,     -999,     -999,9,     -999,9,     -999,9,     -999,9,     -999,9,     -999,9,     -999,9,     -999,9,     -999,9,     -999,9,     -999,9,     -999,9,     -999,9,     -999,9
320620180309  ,P18        ,100     ,  1,9          ,9          ,2,20180430,1001, -68.9756,-103.0162,     4068,   2199.1,0.7895936466234587670,34.709875979378957,2,  34.7092,2,205.55550233139843,2, 205.4995,2,    205.0,2,    123.7,2,    32.60,2,     0.00,2,     2.22,2,     -999,9,     -999,9,     -999,9,   2265.4,6,  2365.92,2,   7.5990,2,    25.07,     40.7,2,     -999,9,   0.7890,2,     -999,9,     -999,9,     -999,     -999,9,     -999,9,     -999,1,     -999,9,    0.061,1,    4.652,1,    0.127,1,     -999,9,     -999,9,20180430,1054, -68.9671,-103.0090,     -999,9,     -999,9,-999          ,9,     -999,9,     -999,9,     -999,     -999,9,     -999,     -999,9,     -999,1,     -999,1,     -999,1,     -999,1,     -999,1,     -999,1,     -999,1,     -999,1,     -999,1,     -999,1,     -999,1,     -999,1,     -999,1
320620180309  ,P18        ,100     ,  1,8          ,8          ,2,20180430,1001, -68.9756,-103.0162,     4068,   2454.2,0.6952550097261208650,34.706843509887598,2,  34.7060,2,207.23626845090823,2, 206.9031,2,    207.1,2,    126.8,2,    32.74,2,     0.00,2,     2.21,2,    0.157,6,    0.095,6,   0.0800,3,   2264.2,2,  2364.43,2,   7.5969,2,    25.04,     41.5,2,     -999,9,   0.6949,2,     -999,9,     -999,9,     -999,     -999,9,     -999,9,     -999,1,     -999,9,    0.061,1,    4.653,1,    0.128,1,  19.2600,6,     -999,9,20180430,1047, -68.9680,-103.0095,     -999,9,     -999,9,-999          ,9,     -999,9,     -999,9,     -999,     -999,9,     -999,     -999,9,     -999,9,     -999,9,     -999,9,     -999,9,     -999,9,     -999,9,     -999,9,     -999,9,     -999,9,     -999,9,     -999,9,     -999,9,     -999,9
320620180309  ,P18        ,100     ,  1,7          ,7          ,2,20180430,1001, -68.9756,-103.0162,     4068,   2709.8,0.5872656255395046765,34.704485868858278,2,  34.7039,2,208.87921257994435,2, 209.0066,2,    209.6,2,    129.8,2,    32.81,2,     0.00,2,     2.23,2,    0.172,2,    0.107,2,   0.0000,3,   2265.3,2,  2365.33,2,   7.5981,2,    25.03,     41.9,2,     -999,1,   0.5869,2,     -999,9,     -999,9,     -999,     -999,9,     -999,9,     -999,1,     -999,1,    0.062,1,    4.652,1,    0.128,1,  18.9400,2,     -999,1,20180430,1041, -68.9690,-103.0104,     -999,1,     -999,1,-999          ,9,     -999,1,     -999,9,     -999,     -999,9,     -999,     -999,9,     -999,1,     -999,1,     -999,1,     -999,1,     -999,1,     -999,1,     -999,1,     -999,1,     -999,1,     -999,1,     -999,1,     -999,1,     -999,1
320620180309  ,P18        ,100     ,  1,6          ,6          ,2,20180430,1001, -68.9756,-103.0162,     4068,   2965.6,0.5082699032968018837,34.702644136634838,2,  34.7015,2,210.96244388591154,2, 210.4004,2,    210.3,2,    132.1,2,    32.86,2,     0.00,2,     2.23,2,     -999,9,     -999,9,     -999,9,   2264.5,2,  2366.50,2,   7.5974,2,    25.03,     43.2,3,     -999,9,   0.5080,2,     -999,9,     -999,9,     -999,     -999,9,     -999,9,     -999,1,     -999,9,    0.061,1,    4.652,1,    0.128,1,     -999,9,     -999,9,20180430,1035, -68.9699,-103.0112,     -999,9,     -999,9,-999          ,9,     -999,9,     -999,9,     -999,     -999,9,     -999,     -999,9,     -999,9,     -999,9,     -999,9,     -999,9,     -999,9,     -999,9,     -999,9,     -999,9,     -999,9,     -999,9,     -999,9,     -999,9,     -999,9
320620180309  ,P18        ,100     ,  1,5          ,5          ,2,20180430,1001, -68.9756,-103.0162,     4068,   3257.8,0.4513160510945583015,34.702139769534377,2,  34.7017,2,212.19711894528481,2, 211.8997,2,    212.1,2,    135.8,2,    32.97,2,     0.00,2,     2.24,2,    0.199,2,    0.115,2,   0.0600,3,   2265.8,2,  2367.37,2,   7.5981,2,    25.06,     38.2,2,     -999,9,   0.4508,2,     -999,9,     -999,9,     -999,     -999,9,     -999,9,     -999,1,     -999,9,    0.061,1,    4.652,1,    0.127,1,  19.1100,2,     -999,9,20180430,1028, -68.9710,-103.0123,     -999,9,     -999,9,-999          ,9,     -999,9,     -999,9,     -999,     -999,9,     -999,     -999,9,     -999,1,     -999,1,     -999,1,     -999,1,     -999,1,     -999,1,     -999,1,     -999,1,     -999,1,     -999,1,     -999,1,     -999,1,     -999,1
320620180309  ,P18        ,100     ,  1,4          ,4          ,2,20180430,1001, -68.9756,-103.0162,     4068,   3564.9,0.4213271329489781669,34.701554129426420,3,  34.6992,2,214.07002221301693,2, 212.7022,2,    212.9,2,    138.6,2,    33.06,2,     0.00,2,     2.24,2,    0.222,2,    0.132,2,   0.0100,3,   2264.9,2,  2367.17,2,   7.5972,2,    25.09,     -999,9,     -999,9,   0.4210,2,     -999,9,     -999,9,     -999,     -999,9,     -999,9,     -999,9,     -999,9,    0.061,1,    4.649,1,    0.130,1,  19.0000,2,     -999,9,20180430,1021, -68.9722,-103.0135,     -999,9,     -999,9,-999          ,9,     -999,9,     -999,9,     -999,     -999,9,     -999,     -999,9,     -999,9,     -999,9,     -999,9,     -999,9,     -999,9,     -999,9,     -999,9,     -999,9,     -999,9,     -999,9,     -999,9,     -999,9,     -999,9
320620180309  ,P18        ,100     ,  1,3          ,3          ,2,20180430,1001, -68.9756,-103.0162,     4068,   3770.5,0.3924946234868836314,34.700702871534922,2,  34.7002,2,214.15375097261747,2, 213.8982,2,    213.4,2,    140.2,2,    33.06,2,     0.00,2,     2.24,2,    0.268,2,    0.155,2,   0.0100,3,   2266.3,2,  2367.10,2,   7.5964,2,    25.06,     39.1,2,     -999,1,   0.3924,2,     -999,9,     -999,9,     -999,     -999,9,     -999,9,     -999,1,     -999,1,    0.061,1,    4.638,1,    0.135,1,  19.1500,2,     -999,1,20180430,1014, -68.9732,-103.0144,     -999,1,     -999,1,-999          ,9,     -999,1,     -999,9,     -999,     -999,9,     -999,     -999,9,     -999,1,     -999,1,     -999,1,     -999,1,     -999,1,     -999,1,     -999,1,     -999,1,     -999,1,     -999,1,     -999,1,     -999,1,     -999,1
320620180309  ,P18        ,100     ,  1,2          ,2          ,2,20180430,1001, -68.9756,-103.0162,     4068,   4027.0,0.3671590821074250943,34.699717394900865,2,  34.6988,2,214.90813493330992,2, 214.2993,2,    214.7,2,    142.4,2,    33.07,2,     0.00,2,     2.24,2,    0.337,2,    0.181,2,   0.1100,3,   2265.1,2,  2366.43,2,   7.5946,2,    25.08,     -999,9,     -999,9,   0.3669,2,     -999,9,     -999,9,     -999,     -999,9,     -999,9,     -999,9,     -999,9,    0.060,1,    4.648,1,    0.130,1,  18.3500,2,     -999,9,20180430,1006, -68.9746,-103.0155,     -999,9,     -999,9,-999          ,9,     -999,9,     -999,9,     -999,     -999,9,     -999,     -999,9,     -999,1,     -999,1,     -999,1,     -999,1,     -999,1,     -999,1,     -999,1,     -999,1,     -999,1,     -999,1,     -999,1,     -999,1,     -999,1
320620180309  ,P18        ,100     ,  1,1          ,1          ,2,20180430,1001, -68.9756,-103.0162,     4068,   4139.3,0.3566375409503517169,34.699106098797301,2,  34.6990,2,214.07824742918666,2, 214.2028,2,    214.0,2,    149.1,2,    33.19,2,     0.00,2,     2.24,2,    0.389,2,    0.200,2,   0.0600,3,   2267.8,2,  2367.73,2,   7.5931,2,    25.07,     41.3,2,     -999,1,   0.3567,2,     -999,9,     -999,9,     -999,     -999,9,     -999,9,     -999,1,     -999,1,    0.061,1,    4.643,1,    0.136,1,  19.0800,2,     -999,1,20180430,1001, -68.9756,-103.0162,     -999,1,     -999,1,-999          ,9,     -999,1,     -999,9,     -999,     -999,9,     -999,     -999,9,     -999,1,     -999,1,     -999,1,     -999,1,     -999,1,     -999,1,     -999,1,     -999,1,     -999,1,     -999,1,     -999,1,     -999,1,     -999,1