BOTTLE,20240515CCHHYDRO
EXPOCODE,SECT_ID,STNNBR,CASTNO,SAMPNO,BTLNBR,BTLNBR_FLAG_W,DATE,TIME,LATITUDE,LONGITUDE,DEPTH,CTDPRS,CTDTMP,CTDSAL,CTDSAL_FLAG_W,SALNTY,SALNTY_FLAG_W,CTDOXY,CTDOXY_FLAG_W,CTDOPTOXY,CTDOPTOXY_FLAG_W,OXYGEN,OXYGEN_FLAG_W,SILCAT,SILCAT_FLAG_W,NITRAT,NITRAT_FLAG_W,NITRIT,NITRIT_FLAG_W,PHSPHT,PHSPHT_FLAG_W,CFC-11,CFC-11_FLAG_W,CFC-12,CFC-12_FLAG_W,SF6,SF6_FLAG_W,TCARBN,TCARBN_FLAG_W,ALKALI,ALKALI_FLAG_W,PH_TOT,PH_TOT_FLAG_W,PH_TMP,DOC,DOC_FLAG_W,HELIUM,HELIUM_FLAG_W,REFTMP,REFTMP_FLAG_W,DELC13,DELC13_FLAG_W,DELC14,DELC14_FLAG_W,C14ERR,POC,POC_FLAG_W,TDN,TDN_FLAG_W,TON,TON_FLAG_W,NEON,NEON_FLAG_W,CTDFLUOR,CTDFLUOR_FLAG_W,CTDXMISS,CTDXMISS_FLAG_W,CTDBETA700,CTDBETA700_FLAG_W,N2O,N2O_FLAG_W,ARGON,ARGON_FLAG_W,BTL_DATE,BTL_TIME,BTL_LAT,BTL_LON,KRYPTON,KRYPTON_FLAG_W,XENON,XENON_FLAG_W,HPLC,HPLC_FLAG_W,HE3_HE4_RATIO,HE3_HE4_RATIO_FLAG_W,Nd_143_144_D_EPSILON_BOTTLE,Nd_143_144_D_EPSILON_BOTTLE_FLAG_W,Nd_143_144_D_EPSILON_BOTTLE_ERROR,Nd_143_144_D_RATIO_BOTTLE,Nd_143_144_D_RATIO_BOTTLE_FLAG_W,Nd_143_144_D_RATIO_BOTTLE_ERROR,Nd_D_CONC,Nd_D_CONC_FLAG_W,La_D_CONC_BOTTLE,La_D_CONC_BOTTLE_FLAG_W,Ce_D_CONC_BOTTLE,Ce_D_CONC_BOTTLE_FLAG_W,Pr_D_CONC_BOTTLE,Pr_D_CONC_BOTTLE_FLAG_W,Sm_D_CONC_BOTTLE,Sm_D_CONC_BOTTLE_FLAG_W,Eu_D_CONC_BOTTLE,Eu_D_CONC_BOTTLE_FLAG_W,Gd_D_CONC_BOTTLE,Gd_D_CONC_BOTTLE_FLAG_W,Tb_D_CONC_BOTTLE,Tb_D_CONC_BOTTLE_FLAG_W,Dy_D_CONC_BOTTLE,Dy_D_CONC_BOTTLE_FLAG_W,Ho_D_CONC_BOTTLE,Ho_D_CONC_BOTTLE_FLAG_W,Er_D_CONC_BOTTLE,Er_D_CONC_BOTTLE_FLAG_W,Tm_D_CONC_BOTTLE,Tm_D_CONC_BOTTLE_FLAG_W,Yb_D_CONC_BOTTLE,Yb_D_CONC_BOTTLE_FLAG_W,Lu_D_CONC_BOTTLE,Lu_D_CONC_BOTTLE_FLAG_W
,,,,,,,,,,,METERS,DBAR,ITS-90,PSS-78,,PSS-78,,UMOL/KG,,UMOL/KG,,UMOL/KG,,UMOL/KG,,UMOL/KG,,UMOL/KG,,UMOL/KG,,PMOL/KG,,PMOL/KG,,FMOL/KG,,UMOL/KG,,UMOL/KG,,,,DEG C,UMOL/KG,,NMOL/L,,DEG C,,/MILLE,,/MILLE,,/MILLE,UG/KG,,UMOL/KG,,UMOL/KG,,NMOL/L,,VOLTS,,VOLTS,,VOLTS,,NMOL/KG,,UMOL/L,,,,,,NMOL/L,,NMOL/L,,,,,,10000,,10000,,,,PMOL/KG,,PMOL/L,,PMOL/L,,PMOL/L,,PMOL/L,,PMOL/L,,PMOL/L,,PMOL/L,,PMOL/L,,PMOL/L,,PMOL/L,,PMOL/L,,PMOL/L,,PMOL/L,
320620180309  ,P16        ,44      ,  1,15         ,15         ,2,20180405,1612, -71.9911,-149.9636,     4188,   1281.3,1.0286777777777775800,34.720078334078842,2,  34.7200,2,197.32843422925822,2, 197.5981,2,    197.4,2,    114.9,2,    32.56,2,     0.00,2,     2.24,2,    0.127,2,    0.064,2,   0.0000,3,   2263.0,2,  2361.43,2,   7.5953,2,    24.96,     40.3,2,     -999,9,   1.0278,2,     -999,9,     -999,9,     -999,     -999,9,     -999,9,     -999,1,     -999,9,    0.061,1,    4.670,1,    0.127,1,  21.0200,2,     -999,9,20180405,1739, -71.9901,-149.9666,     -999,9,     -999,9,-999          ,9,     -999,9,     -999,9,     -999,     -999,9,     -999,     -999,9,     -999,9,     -999,9,     -999,9,     -999,9,     -999,9,     -999,9,     -999,9,     -999,9,     -999,9,     -999,9,     -999,9,     -999,9,     -999,9
320620180309  ,P16        ,44      ,  1,14         ,14         ,2,20180405,1612, -71.9911,-149.9636,     4188,   1383.4,0.9746138888888888907,34.717820275174681,2,  34.7172,2,199.04311959384376,2, 198.7964,2,    198.7,2,    116.7,2,    32.57,2,     0.00,2,     2.24,2,     -999,9,     -999,9,     -999,9,   2260.8,2,  2362.22,2,   7.5951,2,    24.96,     40.4,2,     -999,9,   0.9738,2,     -999,9,     -999,9,     -999,     -999,9,     -999,9,     -999,1,     -999,9,    0.061,1,    4.670,1,    0.128,1,     -999,9,     -999,9,20180405,1735, -71.9900,-149.9668,     -999,9,     -999,9,-999          ,9,     -999,9,     -999,9,     -999,     -999,9,     -999,     -999,9,     -999,9,     -999,9,     -999,9,     -999,9,     -999,9,     -999,9,     -999,9,     -999,9,     -999,9,     -999,9,     -999,9,     -999,9,     -999,9
320620180309  ,P16        ,44      ,  1,13         ,13         ,2,20180405,1612, -71.9911,-149.9636,     4188,   1484.8,0.9333416666666666250,34.716036727016167,2,  34.7164,2,200.51229586614531,2, 199.8960,2,    200.3,2,    118.0,2,    32.57,2,     0.00,2,     2.23,2,    0.121,2,    0.062,2,   3.3800,3,   2262.8,2,  2361.12,2,   7.5953,2,    24.97,     -999,9,     -999,9,   0.9327,2,     -999,9,     -999,9,     -999,     -999,9,     -999,9,     -999,9,     -999,9,    0.061,1,    4.670,1,    0.127,1,  20.1500,2,     -999,9,20180405,1732, -71.9901,-149.9667,     -999,9,     -999,9,-999          ,9,     -999,9,     -999,9,     -999,     -999,9,     -999,     -999,9,     -999,9,     -999,9,     -999,9,     -999,9,     -999,9,     -999,9,     -999,9,     -999,9,     -999,9,     -999,9,     -999,9,     -999,9,     -999,9
320620180309  ,P16        ,44      ,  1,12         ,12         ,2,20180405,1612, -71.9911,-149.9636,     4188,   1587.5,0.8737527777777778226,34.713616753754330,2,  34.7149,2,201.10311633285676,2, 201.0966,2,    201.9,2,    120.2,2,    32.58,2,     0.00,2,     2.24,2,    0.130,2,    0.085,2,   3.6900,3,   2263.3,2,  2362.92,2,   7.5941,2,    24.96,     38.4,2,     -999,9,   0.8730,2,     -999,9,     -999,9,     -999,     -999,9,     -999,9,     -999,1,     -999,9,    0.061,1,    4.670,1,    0.128,1,  20.8900,2,     -999,9,20180405,1728, -71.9902,-149.9665,     -999,9,     -999,9,-999          ,9,     -999,9,     -999,9,     -999,     -999,9,     -999,     -999,9,     -999,9,     -999,9,     -999,9,     -999,9,     -999,9,     -999,9,     -999,9,     -999,9,     -999,9,     -999,9,     -999,9,     -999,9,     -999,9
320620180309  ,P16        ,44      ,  1,11         ,11         ,2,20180405,1612, -71.9911,-149.9636,     4188,   1759.9,0.8084499999999997799,34.710764513378258,2,  34.7113,2,203.01101641475907,2, 202.5956,2,    203.2,2,    123.3,2,    32.65,2,     0.00,2,     2.24,2,     -999,9,     -999,9,     -999,9,   2263.6,2,  2362.74,2,   7.5951,2,    24.96,     39.4,2,     -999,9,   0.8077,2,     -999,9,     -999,9,     -999,     -999,9,     -999,9,     -999,1,     -999,9,    0.062,1,    4.670,1,    0.126,1,     -999,9,     -999,9,20180405,1723, -71.9903,-149.9662,     -999,9,     -999,9,-999          ,9,     -999,9,     -999,9,     -999,     -999,9,     -999,     -999,9,     -999,9,     -999,9,     -999,9,     -999,9,     -999,9,     -999,9,     -999,9,     -999,9,     -999,9,     -999,9,     -999,9,     -999,9,     -999,9
320620180309  ,P16        ,44      ,  1,10         ,10         ,2,20180405,1612, -71.9911,-149.9636,     4188,   1963.7,0.7359222222222222554,34.707909262054471,2,  34.7082,2,204.42716611723549,2, 204.3992,2,    205.2,2,    125.3,2,    32.69,2,     0.00,2,     2.23,2,    0.132,2,    0.081,2,   3.3500,3,   2262.8,6,  2364.82,2,   7.5947,2,    24.96,     38.3,2,     -999,9,   0.7352,2,     -999,9,     -999,9,     -999,     -999,9,     -999,9,     -999,1,     -999,9,    0.060,1,    4.670,1,    0.126,1,  19.9500,2,     -999,9,20180405,1718, -71.9903,-149.9661,     -999,9,     -999,9,-999          ,9,     -999,9,     -999,9,     -999,     -999,9,     -999,     -999,9,     -999,9,     -999,9,     -999,9,     -999,9,     -999,9,     -999,9,     -999,9,     -999,9,     -999,9,     -999,9,     -999,9,     -999,9,     -999,9
320620180309  ,P16        ,44      ,  1,9          ,9          ,2,20180405,1612, -71.9911,-149.9636,     4188,   2198.2,0.6617583333333334483,34.705336022899964,2,  34.7066,2,206.86924747317232,2, 206.3962,2,    206.1,2,    126.9,2,    32.71,2,     0.00,2,     2.24,2,    0.150,2,    0.077,2,   1.9100,3,   2264.1,2,  2362.64,2,   7.5957,2,    24.95,     39.8,2,     -999,9,   0.6607,2,     -999,9,     -999,9,     -999,     -999,9,     -999,9,     -999,1,     -999,9,    0.061,1,    4.671,1,    0.125,1,  20.0800,2,     -999,9,20180405,1712, -71.9905,-149.9657,     -999,9,     -999,9,-999          ,9,     -999,9,     -999,9,     -999,     -999,9,     -999,     -999,9,     -999,9,     -999,9,     -999,9,     -999,9,     -999,9,     -999,9,     -999,9,     -999,9,     -999,9,     -999,9,     -999,9,     -999,9,     -999,9
320620180309  ,P16        ,44      ,  1,8          ,8          ,2,20180405,1612, -71.9911,-149.9636,     4188,   2453.8,0.5736944444444442848,34.703632810927630,2,  34.7037,2,208.46094862161456,2, 208.3013,2,    207.9,2,    128.4,2,    32.78,2,     0.00,2,     2.24,2,     -999,9,     -999,9,     -999,9,   2264.0,2,  2361.68,2,   7.5934,2,    24.96,     -999,5,     -999,9,   0.5738,2,     -999,9,     -999,9,     -999,     -999,9,     -999,9,     -999,1,     -999,9,    0.062,1,    4.670,1,    0.133,1,     -999,9,     -999,9,20180405,1705, -71.9904,-149.9660,     -999,9,     -999,9,-999          ,9,     -999,9,     -999,9,     -999,     -999,9,     -999,     -999,9,     -999,9,     -999,9,     -999,9,     -999,9,     -999,9,     -999,9,     -999,9,     -999,9,     -999,9,     -999,9,     -999,9,     -999,9,     -999,9
320620180309  ,P16        ,44      ,  1,7          ,7          ,2,20180405,1612, -71.9911,-149.9636,     4188,   2709.7,0.4869777777777776206,34.702396955139100,2,  34.7027,2,209.67294536616603,2, 210.1007,2,    210.2,2,    130.6,2,    32.83,2,     0.00,2,     2.24,2,    0.160,2,    0.089,2,   1.5700,3,   2262.8,2,  2363.29,2,   7.5951,2,    24.95,     39.8,2,     -999,9,   0.4862,2,     -999,9,     -999,9,     -999,     -999,9,     -999,9,     -999,1,     -999,9,    0.061,1,    4.670,1,    0.124,1,  19.9600,2,     -999,9,20180405,1659, -71.9905,-149.9657,     -999,9,     -999,9,-999          ,9,     -999,9,     -999,9,     -999,     -999,9,     -999,     -999,9,     -999,9,     -999,9,     -999,9,     -999,9,     -999,9,     -999,9,     -999,9,     -999,9,     -999,9,     -999,9,     -999,9,     -999,9,     -999,9
320620180309  ,P16        ,44      ,  1,6          ,6          ,2,20180405,1612, -71.9911,-149.9636,     4188,   2965.8,0.4299805555555555880,34.701654103447680,2,  34.7021,2,211.01293000452796,2, 211.6020,2,    212.0,2,    132.8,2,    32.88,2,     0.00,2,     2.24,2,    0.178,2,    0.097,2,   0.7600,3,   2264.9,2,  2366.64,2,   7.5963,6,    24.95,     38.5,2,     -999,9,   0.4290,2,     -999,9,     -999,9,     -999,     -999,9,     -999,9,     -999,1,     -999,9,    0.061,1,    4.639,1,    0.124,1,  20.8900,4,     -999,9,20180405,1652, -71.9905,-149.9656,     -999,9,     -999,9,-999          ,9,     -999,9,     -999,9,     -999,     -999,9,     -999,     -999,9,     -999,9,     -999,9,     -999,9,     -999,9,     -999,9,     -999,9,     -999,9,     -999,9,     -999,9,     -999,9,     -999,9,     -999,9,     -999,9
320620180309  ,P16        ,44      ,  1,5          ,5          ,2,20180405,1612, -71.9911,-149.9636,     4188,   3255.9,0.3866416666666666058,34.701273267311812,2,  34.7009,2,212.63610585485992,2, 213.2987,2,    212.6,2,    135.6,2,    32.95,2,     0.00,2,     2.24,2,    0.203,2,    0.121,2,   0.1100,3,   2263.1,2,  2365.06,2,   7.5969,2,    24.95,     39.0,2,     -999,9,   0.3860,2,     -999,9,     -999,9,     -999,     -999,9,     -999,9,     -999,1,     -999,9,    0.061,1,    4.670,1,    0.125,1,  19.9400,2,     -999,9,20180405,1645, -71.9905,-149.9654,     -999,9,     -999,9,-999          ,9,     -999,9,     -999,9,     -999,     -999,9,     -999,     -999,9,     -999,9,     -999,9,     -999,9,     -999,9,     -999,9,     -999,9,     -999,9,     -999,9,     -999,9,     -999,9,     -999,9,     -999,9,     -999,9
320620180309  ,P16        ,44      ,  1,4          ,4          ,2,20180405,1612, -71.9911,-149.9636,     4188,   3565.3,0.3436138888888888854,34.700286855024565,2,  34.7005,2,214.62890302100428,2, 215.4048,2,    214.5,2,    136.8,2,    33.00,2,     0.00,2,     2.24,2,    0.251,2,    0.138,2,   0.1400,3,   2262.7,2,  2363.71,2,   7.5938,2,    24.95,     39.8,2,     -999,9,   0.3430,2,     -999,9,     -999,9,     -999,     -999,9,     -999,9,     -999,1,     -999,9,    0.061,1,    4.668,1,    0.125,1,  19.8500,2,     -999,9,20180405,1637, -71.9905,-149.9654,     -999,9,     -999,9,-999          ,9,     -999,9,     -999,9,     -999,     -999,9,     -999,     -999,9,     -999,9,     -999,9,     -999,9,     -999,9,     -999,9,     -999,9,     -999,9,     -999,9,     -999,9,     -999,9,     -999,9,     -999,9,     -999,9
320620180309  ,P16        ,44      ,  1,3          ,3          ,2,20180405,1612, -71.9911,-149.9636,     4188,   3872.9,0.2904305555555555252,34.697301351862592,2,  34.6972,2,217.75417552351129,2, 216.6952,2,    217.0,2,    134.3,2,    32.91,2,     0.00,2,     2.25,2,    0.474,2,    0.250,2,   0.1500,3,   2264.7,2,  2362.51,2,   7.5940,2,    24.95,     -999,9,     -999,9,   0.2896,2,     -999,9,     -999,9,     -999,     -999,9,     -999,9,     -999,9,     -999,9,    0.061,1,    4.636,1,    0.125,1,  19.7400,2,     -999,9,20180405,1629, -71.9907,-149.9651,     -999,9,     -999,9,-999          ,9,     -999,9,     -999,9,     -999,     -999,9,     -999,     -999,9,     -999,9,     -999,9,     -999,9,     -999,9,     -999,9,     -999,9,     -999,9,     -999,9,     -999,9,     -999,9,     -999,9,     -999,9,     -999,9
320620180309  ,P16        ,44      ,  1,2          ,2          ,2,20180405,1612, -71.9911,-149.9636,     4188,   4100.3,0.2455694444444443958,34.695277301342642,2,  34.6947,2,219.34551514648251,2, 218.7933,2,    219.3,2,    129.8,2,    32.85,2,     0.00,2,     2.24,2,    0.680,6,    0.346,6,   0.0900,3,   2262.6,2,  2363.59,2,   7.5924,2,    24.93,     39.5,2,     -999,9,   0.2449,2,     -999,9,     -999,9,     -999,     -999,9,     -999,9,     -999,1,     -999,9,    0.061,1,    4.667,1,    0.126,1,  20.6300,6,     -999,9,20180405,1621, -71.9909,-149.9643,     -999,9,     -999,9,-999          ,9,     -999,9,     -999,9,     -999,     -999,9,     -999,     -999,9,     -999,9,     -999,9,     -999,9,     -999,9,     -999,9,     -999,9,     -999,9,     -999,9,     -999,9,     -999,9,     -999,9,     -999,9,     -999,9
320620180309  ,P16        ,44      ,  1,1          ,1          ,2,20180405,1612, -71.9911,-149.9636,     4188,   4262.7,0.2508222222222221687,34.695259780461924,2,  34.6950,2,220.12062213156065,2, 218.4011,2,    218.3,2,    132.5,2,    32.93,2,     0.00,2,     2.26,2,    0.710,2,    0.362,2,   0.0100,3,   2264.7,6,  2364.41,2,   7.5902,2,    24.95,     40.5,2,     -999,9,   0.2503,2,     -999,9,     -999,9,     -999,     -999,9,     -999,9,     -999,1,     -999,9,    0.061,1,    4.658,1,    0.143,1,  20.9600,2,     -999,9,20180405,1612, -71.9911,-149.9636,     -999,9,     -999,9,-999          ,9,     -999,9,     -999,9,     -999,     -999,9,     -999,     -999,9,     -999,9,     -999,9,     -999,9,     -999,9,     -999,9,     -999,9,     -999,9,     -999,9,     -999,9,     -999,9,     -999,9,     -999,9,     -999,9