BOTTLE,20240515CCHHYDRO
EXPOCODE,SECT_ID,STNNBR,CASTNO,SAMPNO,BTLNBR,BTLNBR_FLAG_W,DATE,TIME,LATITUDE,LONGITUDE,DEPTH,CTDPRS,CTDTMP,CTDSAL,CTDSAL_FLAG_W,SALNTY,SALNTY_FLAG_W,CTDOXY,CTDOXY_FLAG_W,CTDOPTOXY,CTDOPTOXY_FLAG_W,OXYGEN,OXYGEN_FLAG_W,SILCAT,SILCAT_FLAG_W,NITRAT,NITRAT_FLAG_W,NITRIT,NITRIT_FLAG_W,PHSPHT,PHSPHT_FLAG_W,CFC-11,CFC-11_FLAG_W,CFC-12,CFC-12_FLAG_W,SF6,SF6_FLAG_W,TCARBN,TCARBN_FLAG_W,ALKALI,ALKALI_FLAG_W,PH_TOT,PH_TOT_FLAG_W,PH_TMP,DOC,DOC_FLAG_W,HELIUM,HELIUM_FLAG_W,REFTMP,REFTMP_FLAG_W,DELC13,DELC13_FLAG_W,DELC14,DELC14_FLAG_W,C14ERR,POC,POC_FLAG_W,TDN,TDN_FLAG_W,TON,TON_FLAG_W,NEON,NEON_FLAG_W,CTDFLUOR,CTDFLUOR_FLAG_W,CTDXMISS,CTDXMISS_FLAG_W,CTDBETA700,CTDBETA700_FLAG_W,N2O,N2O_FLAG_W,ARGON,ARGON_FLAG_W,BTL_DATE,BTL_TIME,BTL_LAT,BTL_LON,KRYPTON,KRYPTON_FLAG_W,XENON,XENON_FLAG_W,HPLC,HPLC_FLAG_W,HE3_HE4_RATIO,HE3_HE4_RATIO_FLAG_W,Nd_143_144_D_EPSILON_BOTTLE,Nd_143_144_D_EPSILON_BOTTLE_FLAG_W,Nd_143_144_D_EPSILON_BOTTLE_ERROR,Nd_143_144_D_RATIO_BOTTLE,Nd_143_144_D_RATIO_BOTTLE_FLAG_W,Nd_143_144_D_RATIO_BOTTLE_ERROR,Nd_D_CONC,Nd_D_CONC_FLAG_W,La_D_CONC_BOTTLE,La_D_CONC_BOTTLE_FLAG_W,Ce_D_CONC_BOTTLE,Ce_D_CONC_BOTTLE_FLAG_W,Pr_D_CONC_BOTTLE,Pr_D_CONC_BOTTLE_FLAG_W,Sm_D_CONC_BOTTLE,Sm_D_CONC_BOTTLE_FLAG_W,Eu_D_CONC_BOTTLE,Eu_D_CONC_BOTTLE_FLAG_W,Gd_D_CONC_BOTTLE,Gd_D_CONC_BOTTLE_FLAG_W,Tb_D_CONC_BOTTLE,Tb_D_CONC_BOTTLE_FLAG_W,Dy_D_CONC_BOTTLE,Dy_D_CONC_BOTTLE_FLAG_W,Ho_D_CONC_BOTTLE,Ho_D_CONC_BOTTLE_FLAG_W,Er_D_CONC_BOTTLE,Er_D_CONC_BOTTLE_FLAG_W,Tm_D_CONC_BOTTLE,Tm_D_CONC_BOTTLE_FLAG_W,Yb_D_CONC_BOTTLE,Yb_D_CONC_BOTTLE_FLAG_W,Lu_D_CONC_BOTTLE,Lu_D_CONC_BOTTLE_FLAG_W
,,,,,,,,,,,METERS,DBAR,ITS-90,PSS-78,,PSS-78,,UMOL/KG,,UMOL/KG,,UMOL/KG,,UMOL/KG,,UMOL/KG,,UMOL/KG,,UMOL/KG,,PMOL/KG,,PMOL/KG,,FMOL/KG,,UMOL/KG,,UMOL/KG,,,,DEG C,UMOL/KG,,NMOL/L,,DEG C,,/MILLE,,/MILLE,,/MILLE,UG/KG,,UMOL/KG,,UMOL/KG,,NMOL/L,,VOLTS,,VOLTS,,VOLTS,,NMOL/KG,,UMOL/L,,,,,,NMOL/L,,NMOL/L,,,,,,10000,,10000,,,,PMOL/KG,,PMOL/L,,PMOL/L,,PMOL/L,,PMOL/L,,PMOL/L,,PMOL/L,,PMOL/L,,PMOL/L,,PMOL/L,,PMOL/L,,PMOL/L,,PMOL/L,,PMOL/L,
320620180309  ,S04P       ,117     ,  1,36         ,36         ,2,20180507,2048, -66.9010, -80.9747,     4188,      8.9,-0.7836799280255397626,33.734324630854040,2,  33.7329,2,337.37946847050461,2, 343.4045,2,    340.5,2,     22.8,2,    25.17,2,     0.21,2,     1.74,2,    5.754,2,    3.075,2,   3.6000,2,   2162.8,6,  2279.32,2,   7.6656,2,    24.95,     42.3,2,     -999,9,  -0.7856,2,     -999,9,     -999,9,     -999,     -999,9,    28.10,2,     -999,1,     -999,9,    0.146,1,    4.594,1,    0.167,1,  15.9300,2,     -999,9,20180507,2251, -66.9024, -80.9723,     -999,9,     -999,9,-999          ,9,     -999,9,     -999,9,     -999,     -999,9,     -999,     -999,9,     -999,1,     -999,1,     -999,1,     -999,1,     -999,1,     -999,1,     -999,1,     -999,1,     -999,1,     -999,1,     -999,1,     -999,1,     -999,1
320620180309  ,S04P       ,117     ,  1,35         ,35         ,2,20180507,2048, -66.9010, -80.9747,     4188,     18.8,-0.7773334627199480762,33.734123474896393,2,  33.7325,2,338.25500726187067,2, 343.3973,2,    340.4,2,     22.8,2,    25.26,2,     0.21,2,     1.76,2,    5.816,6,    3.111,6,   3.8900,6,   2162.7,2,  2279.16,2,   7.6645,2,    24.96,     41.9,2,     -999,1,  -0.7789,2,     -999,9,     -999,9,     -999,     -999,9,    27.20,3,     -999,1,     -999,1,    0.155,1,    4.595,1,    0.175,1,  16.0200,6,     -999,1,20180507,2251, -66.9023, -80.9723,     -999,1,     -999,1,-999          ,9,     -999,1,     -999,9,     -999,     -999,9,     -999,     -999,9,     -999,1,     -999,1,     -999,1,     -999,1,     -999,1,     -999,1,     -999,1,     -999,1,     -999,1,     -999,1,     -999,1,     -999,1,     -999,1
320620180309  ,S04P       ,117     ,  1,34         ,34         ,2,20180507,2048, -66.9010, -80.9747,     4188,     38.8,-0.7742432903959095558,33.734261060363600,2,  33.7317,2,339.30850176384132,2, 343.4022,2,    341.2,2,     22.8,2,    25.30,2,     0.21,2,     1.77,2,     -999,9,     -999,9,     -999,9,   2162.0,2,  2279.37,2,   7.6635,2,    24.96,     42.8,2,     -999,9,  -0.7736,2,     -999,9,     -999,9,     -999,     -999,9,    28.60,2,     -999,1,     -999,9,    0.154,1,    4.594,1,    0.174,1,     -999,9,     -999,9,20180507,2250, -66.9023, -80.9723,     -999,9,     -999,9,-999          ,9,     -999,9,     -999,9,     -999,     -999,9,     -999,     -999,9,     -999,9,     -999,9,     -999,9,     -999,9,     -999,9,     -999,9,     -999,9,     -999,9,     -999,9,     -999,9,     -999,9,     -999,9,     -999,9
320620180309  ,S04P       ,117     ,  1,33         ,33         ,2,20180507,2048, -66.9010, -80.9747,     4188,     66.9,-0.7667765309744030144,33.734548550228723,2,  33.7323,2,340.62690526634123,2, 342.7972,3,    339.7,2,     22.8,2,    25.31,2,     0.21,2,     1.77,2,    5.820,2,    3.105,2,   3.5700,2,   2160.2,2,  2279.96,2,   7.6653,2,    24.95,     41.0,2,     -999,1,  -0.7648,2,     -999,9,     -999,9,     -999,     -999,9,    28.00,2,     -999,1,     -999,1,    0.152,1,    4.596,1,    0.173,1,  15.9700,2,     -999,1,20180507,2249, -66.9024, -80.9722,     -999,1,     -999,1,-999          ,9,     -999,1,     -999,9,     -999,     -999,9,     -999,     -999,9,     -999,1,     -999,1,     -999,1,     -999,1,     -999,1,     -999,1,     -999,1,     -999,1,     -999,1,     -999,1,     -999,1,     -999,1,     -999,1
320620180309  ,S04P       ,117     ,  1,32         ,32         ,2,20180507,2048, -66.9010, -80.9747,     4188,     90.8,-0.7218495256563193241,33.759162340768270,2,  33.7481,2,338.09009038105489,2, 338.1980,2,    337.2,2,     23.7,2,    25.63,2,     0.21,2,     1.82,2,    5.747,2,    3.069,2,   3.5500,2,   2165.6,2,  2281.09,2,   7.6608,2,    24.95,     42.0,2,     -999,9,  -0.7283,2,     -999,9,     -999,9,     -999,     -999,9,    27.80,2,     -999,1,     -999,9,    0.102,1,    4.620,1,    0.157,1,  16.1600,2,     -999,9,20180507,2247, -66.9024, -80.9722,     -999,9,     -999,9,-999          ,9,     -999,9,     -999,9,     -999,     -999,9,     -999,     -999,9,     -999,9,     -999,9,     -999,9,     -999,9,     -999,9,     -999,9,     -999,9,     -999,9,     -999,9,     -999,9,     -999,9,     -999,9,     -999,9
320620180309  ,S04P       ,117     ,  1,31         ,31         ,2,20180507,2048, -66.9010, -80.9747,     4188,    114.5,0.4280829445404810141,34.126950675796721,2,  34.1285,2,282.99764345648663,3, 281.4014,3,    269.0,2,     46.4,2,    32.02,2,     0.02,2,     2.17,2,     -999,9,     -999,9,     -999,9,   2210.7,2,  2301.25,2,   7.5857,2,    24.97,     40.2,2,     -999,1,   0.4480,2,     -999,9,     -999,9,     -999,     -999,9,    33.60,2,     -999,1,     -999,1,    0.071,1,    4.630,1,    0.148,1,     -999,9,     -999,1,20180507,2245, -66.9024, -80.9721,     -999,1,     -999,1,-999          ,9,     -999,1,     -999,9,     -999,     -999,9,     -999,     -999,9,     -999,1,     -999,1,     -999,1,     -999,1,     -999,1,     -999,1,     -999,1,     -999,1,     -999,1,     -999,1,     -999,1,     -999,1,     -999,1
320620180309  ,S04P       ,117     ,  1,30         ,30         ,2,20180507,2048, -66.9010, -80.9747,     4188,    138.0,0.9751153674349936074,34.207976954465245,2,  34.2131,2,249.99281227568460,3, 255.4974,3,    247.2,2,     51.7,2,    33.04,2,     0.02,2,     2.26,2,    3.506,2,    1.865,2,   1.8000,2,   2219.7,2,  2304.25,2,   7.5714,2,    24.95,     38.5,2,     -999,9,   1.0116,3,     -999,9,     -999,9,     -999,     -999,9,    35.10,2,     -999,1,     -999,9,    0.064,1,    4.634,1,    0.144,1,  21.0200,2,     -999,9,20180507,2243, -66.9025, -80.9719,     -999,9,     -999,9,-999          ,9,     -999,9,     -999,9,     -999,     -999,9,     -999,     -999,9,     -999,9,     -999,9,     -999,9,     -999,9,     -999,9,     -999,9,     -999,9,     -999,9,     -999,9,     -999,9,     -999,9,     -999,9,     -999,9
320620180309  ,S04P       ,117     ,  1,29         ,29         ,2,20180507,2048, -66.9010, -80.9747,     4188,    186.7,1.7406804266263637970,34.335406689665824,2,  34.3317,2,226.21776407900100,3, 221.4964,3,    214.8,2,     60.1,2,    34.21,2,     0.00,2,     2.35,2,     -999,9,     -999,9,     -999,9,   2236.1,2,  2313.97,2,   7.5506,2,    24.96,     39.8,2,     -999,1,   1.7081,2,     -999,9,     -999,9,     -999,     -999,9,    35.60,2,     -999,1,     -999,1,    0.062,1,    4.637,1,    0.143,1,     -999,9,     -999,1,20180507,2241, -66.9025, -80.9718,     -999,1,     -999,1,-999          ,9,     -999,1,     -999,9,     -999,     -999,9,     -999,     -999,9,     -999,1,     -999,1,     -999,1,     -999,1,     -999,1,     -999,1,     -999,1,     -999,1,     -999,1,     -999,1,     -999,1,     -999,1,     -999,1
320620180309  ,S04P       ,117     ,  1,28         ,28         ,2,20180507,2048, -66.9010, -80.9747,     4188,    237.0,1.9823845756889069136,34.406148634245788,2,  34.4070,2,205.75921766889104,3, 203.1000,3,    196.6,2,     65.3,2,    34.75,2,     0.00,2,     2.37,2,    1.935,2,    1.014,2,   0.8900,2,   2243.7,2,  2323.67,2,   7.5383,6,    24.98,     39.8,2,     -999,9,   1.9835,2,     -999,9,     -999,9,     -999,     -999,9,    36.20,2,     -999,1,     -999,9,    0.061,1,    4.638,1,    0.141,1,  23.7000,2,     -999,9,20180507,2239, -66.9024, -80.9721,     -999,9,     -999,9,-999          ,9,     -999,9,     -999,9,     -999,     -999,9,     -999,     -999,9,     -999,9,     -999,9,     -999,9,     -999,9,     -999,9,     -999,9,     -999,9,     -999,9,     -999,9,     -999,9,     -999,9,     -999,9,     -999,9
320620180309  ,S04P       ,117     ,  1,27         ,27         ,2,20180507,2048, -66.9010, -80.9747,     4188,    287.0,1.9581107315806991487,34.457037091082796,2,  34.4558,2,190.92728242883280,2, 190.5991,2,    189.5,2,     69.6,2,    34.74,2,     0.00,2,     2.39,2,    1.644,2,    0.857,2,   0.9000,2,   2249.1,2,  2328.00,2,   7.5389,2,    24.97,     39.6,2,     -999,1,   1.9575,2,     -999,9,     -999,9,     -999,     -999,9,     -999,9,     -999,1,     -999,1,    0.062,1,    4.639,1,    0.141,1,  24.1400,2,     -999,1,20180507,2236, -66.9024, -80.9721,     -999,1,     -999,1,-999          ,9,     -999,1,     -999,9,     -999,     -999,9,     -999,     -999,9,     -999,1,     -999,1,     -999,1,     -999,1,     -999,1,     -999,1,     -999,1,     -999,1,     -999,1,     -999,1,     -999,1,     -999,1,     -999,1
320620180309  ,S04P       ,117     ,  1,26         ,38         ,2,20180507,2048, -66.9010, -80.9747,     4188,    338.4,2.1565842276777860143,34.520834901697000,2,  34.5220,2,180.42867279268177,2, 183.0008,3,    179.2,2,     73.5,2,    34.75,2,     0.00,2,     2.40,2,    1.148,2,    0.601,2,   0.3100,2,   2254.0,2,  2333.44,2,   7.5357,2,    24.96,     38.6,2,     -999,9,   2.1662,2,     -999,9,     -999,9,     -999,     -999,9,     -999,9,     -999,1,     -999,9,    0.062,1,    4.641,1,    0.138,1,  23.9800,2,     -999,9,20180507,2234, -66.9023, -80.9723,     -999,9,     -999,9,-999          ,9,     -999,9,     -999,9,     -999,     -999,9,     -999,     -999,9,     -999,9,     -999,9,     -999,9,     -999,9,     -999,9,     -999,9,     -999,9,     -999,9,     -999,9,     -999,9,     -999,9,     -999,9,     -999,9
320620180309  ,S04P       ,117     ,  1,25         ,25         ,2,20180507,2048, -66.9010, -80.9747,     4188,    388.9,2.2057213301292293295,34.561563343997051,2,  34.5624,2,176.64398172906928,3, 176.5963,2,    174.6,2,     75.7,2,    34.56,2,     0.00,2,     2.41,2,    0.854,2,    0.449,2,   0.2300,2,   2256.8,2,  2334.79,2,   7.5422,2,    24.96,     41.1,2,     -999,9,   2.2059,2,     -999,9,     -999,9,     -999,     -999,9,     -999,9,     -999,1,     -999,9,    0.061,1,    4.643,1,    0.137,1,  22.7800,2,     -999,9,20180507,2232, -66.9023, -80.9725,     -999,9,     -999,9,-999          ,9,     -999,9,     -999,9,     -999,     -999,9,     -999,     -999,9,     -999,1,     -999,1,     -999,1,     -999,1,     -999,1,     -999,1,     -999,1,     -999,1,     -999,1,     -999,1,     -999,1,     -999,1,     -999,1
320620180309  ,S04P       ,117     ,  1,24         ,24         ,2,20180507,2048, -66.9010, -80.9747,     4188,    438.4,2.1974803187062144083,34.587016952213489,2,  34.5862,2,174.27935629245104,2, 174.8987,2,    172.9,2,     77.9,2,    34.38,2,     0.00,2,     2.38,2,    0.739,2,    0.395,2,   0.2500,2,   2254.6,2,  2339.00,2,   7.5442,2,    24.97,     39.1,2,     -999,1,   2.1980,2,     -999,9,     -999,9,     -999,     -999,9,     -999,9,     -999,1,     -999,1,    0.062,1,    4.641,1,    0.136,1,  23.2400,2,     -999,1,20180507,2229, -66.9023, -80.9724,     -999,1,     -999,1,-999          ,9,     -999,1,     -999,9,     -999,     -999,9,     -999,     -999,9,     -999,9,     -999,9,     -999,9,     -999,9,     -999,9,     -999,9,     -999,9,     -999,9,     -999,9,     -999,9,     -999,9,     -999,9,     -999,9
320620180309  ,S04P       ,117     ,  1,23         ,23         ,2,20180507,2048, -66.9010, -80.9747,     4188,    491.1,2.1597480734677105829,34.614473348373956,2,  34.6142,2,173.24020699733614,2, 174.6972,2,    173.8,2,     79.7,2,    34.06,2,     0.00,2,     2.38,2,    0.630,2,    0.324,2,   0.0000,2,   2255.1,2,  2341.78,2,   7.5502,2,    24.97,     39.9,2,     -999,9,   2.1604,2,     -999,9,     -999,9,     -999,     -999,9,     -999,9,     -999,1,     -999,9,    0.062,1,    4.644,1,    0.139,1,  23.0600,2,     -999,9,20180507,2227, -66.9023, -80.9725,     -999,9,     -999,9,-999          ,9,     -999,9,     -999,9,     -999,     -999,9,     -999,     -999,9,     -999,1,     -999,1,     -999,1,     -999,1,     -999,1,     -999,1,     -999,1,     -999,1,     -999,1,     -999,1,     -999,1,     -999,1,     -999,1
320620180309  ,S04P       ,117     ,  1,22         ,37         ,2,20180507,2048, -66.9010, -80.9747,     4188,    569.8,2.1392701908813385181,34.642510765093739,2,  34.6429,2,173.07004825570880,2, 174.4009,2,    173.7,2,     81.6,2,    33.68,2,     0.00,2,     2.36,2,    0.490,2,    0.254,2,   0.0400,2,   2258.3,6,  2343.63,2,   7.5546,2,    24.96,     38.3,2,     -999,9,   2.1396,2,     -999,9,     -999,9,     -999,     -999,9,     -999,9,     -999,1,     -999,9,    0.061,1,    4.645,1,    0.133,1,  22.5300,2,     -999,9,20180507,2224, -66.9023, -80.9724,     -999,9,     -999,9,-999          ,9,     -999,9,     -999,9,     -999,     -999,9,     -999,     -999,9,     -999,1,     -999,1,     -999,1,     -999,1,     -999,1,     -999,1,     -999,1,     -999,1,     -999,1,     -999,1,     -999,1,     -999,1,     -999,1
320620180309  ,S04P       ,117     ,  1,21         ,21         ,2,20180507,2048, -66.9010, -80.9747,     4188,    671.7,2.1130153288721849059,34.675482465319874,2,  34.6752,2,176.08516681793395,2, 176.0996,2,    176.4,2,     83.6,2,    33.08,2,     0.00,2,     2.31,2,     -999,9,     -999,9,     -999,9,   2260.9,2,  2347.88,2,   7.5659,2,    24.98,     37.8,2,     -999,1,   2.1136,2,     -999,9,     -999,9,     -999,     -999,9,     -999,9,     -999,1,     -999,1,    0.062,1,    4.646,1,    0.135,1,     -999,9,     -999,1,20180507,2221, -66.9024, -80.9723,     -999,1,     -999,1,-999          ,9,     -999,1,     -999,9,     -999,     -999,9,     -999,     -999,9,     -999,1,     -999,1,     -999,1,     -999,1,     -999,1,     -999,1,     -999,1,     -999,1,     -999,1,     -999,1,     -999,1,     -999,1,     -999,1
320620180309  ,S04P       ,117     ,  1,20         ,20         ,2,20180507,2048, -66.9010, -80.9747,     4188,    773.5,2.0436987681850911081,34.695437451664631,2,  34.6962,2,178.27246759294368,2, 178.1964,2,    178.6,2,     85.6,2,    32.62,2,     0.00,2,     2.29,2,    0.287,2,    0.149,2,   0.0000,2,   2257.4,2,  2348.35,2,   7.5728,2,    24.97,     39.3,2,     -999,9,   2.0442,2,     -999,9,     -999,9,     -999,     -999,9,     -999,9,     -999,1,     -999,9,    0.060,1,    4.644,1,    0.134,1,  21.8200,2,     -999,9,20180507,2218, -66.9022, -80.9727,     -999,9,     -999,9,-999          ,9,     -999,9,     -999,9,     -999,     -999,9,     -999,     -999,9,     -999,9,     -999,9,     -999,9,     -999,9,     -999,9,     -999,9,     -999,9,     -999,9,     -999,9,     -999,9,     -999,9,     -999,9,     -999,9
320620180309  ,S04P       ,117     ,  1,19         ,19         ,2,20180507,2048, -66.9010, -80.9747,     4188,    874.2,1.9524536789730611019,34.708843318645577,2,  34.7098,2,182.56923192733711,3, 181.0025,2,    180.6,2,     88.2,2,    32.44,2,     0.00,2,     2.27,2,     -999,9,     -999,9,     -999,9,   2256.4,2,  2349.91,2,   7.5741,2,    24.98,     38.9,2,     -999,9,   1.9526,2,     -999,9,     -999,9,     -999,     -999,9,     -999,9,     -999,1,     -999,9,    0.062,1,    4.646,1,    0.132,1,     -999,9,     -999,9,20180507,2214, -66.9022, -80.9727,     -999,9,     -999,9,-999          ,9,     -999,9,     -999,9,     -999,     -999,9,     -999,     -999,9,     -999,1,     -999,1,     -999,1,     -999,1,     -999,1,     -999,1,     -999,1,     -999,1,     -999,1,     -999,1,     -999,1,     -999,1,     -999,1
320620180309  ,S04P       ,117     ,  1,18         ,18         ,2,20180507,2048, -66.9010, -80.9747,     4188,    975.8,1.8831526425331597263,34.720675377895255,2,  34.7215,2,185.92590047339377,2, 183.5984,2,    185.3,2,     89.9,2,    31.93,2,     0.00,2,     2.23,2,    0.214,2,    0.112,2,   0.0100,2,   2254.3,2,  2350.74,2,   7.5859,2,    24.96,     39.6,2,     -999,1,   1.8834,2,     -999,9,     -999,9,     -999,     -999,9,     -999,9,     -999,1,     -999,1,    0.061,1,    4.647,1,    0.130,1,  20.6000,2,     -999,1,20180507,2211, -66.9022, -80.9727,     -999,1,     -999,1,-999          ,9,     -999,1,     -999,9,     -999,     -999,9,     -999,     -999,9,     -999,9,     -999,9,     -999,9,     -999,9,     -999,9,     -999,9,     -999,9,     -999,9,     -999,9,     -999,9,     -999,9,     -999,9,     -999,9
320620180309  ,S04P       ,117     ,  1,17         ,17         ,2,20180507,2048, -66.9010, -80.9747,     4188,   1077.4,1.7912593549599482579,34.726616296185568,2,  34.7276,2,188.39648325259961,2, 186.5014,2,    187.8,2,     92.5,2,    31.77,2,     0.00,2,     2.23,2,     -999,9,     -999,9,     -999,9,   2256.5,2,  2354.72,2,   7.5916,2,    24.98,     37.7,2,     -999,9,   1.7914,2,     -999,9,     -999,9,     -999,     -999,9,     -999,9,     -999,1,     -999,9,    0.061,1,    4.647,1,    0.132,1,     -999,9,     -999,9,20180507,2208, -66.9021, -80.9729,     -999,9,     -999,9,-999          ,9,     -999,9,     -999,9,     -999,     -999,9,     -999,     -999,9,     -999,1,     -999,1,     -999,1,     -999,1,     -999,1,     -999,1,     -999,1,     -999,1,     -999,1,     -999,1,     -999,1,     -999,1,     -999,1
320620180309  ,S04P       ,117     ,  1,16         ,16         ,2,20180507,2048, -66.9010, -80.9747,     4188,   1178.4,1.7045126531669838599,34.729025352242459,2,  34.7302,2,190.86214670443800,2, 188.4976,2,    189.5,2,     94.8,2,    31.71,2,     0.00,2,     2.22,2,    0.166,2,    0.079,2,   0.0300,2,   2256.0,2,  2357.46,2,   7.5923,2,    24.97,     38.2,2,     -999,9,   1.7047,2,     -999,9,     -999,9,     -999,     -999,9,     -999,9,     -999,1,     -999,9,    0.061,1,    4.647,1,    0.129,1,  20.1300,2,     -999,9,20180507,2205, -66.9021, -80.9730,     -999,9,     -999,9,-999          ,9,     -999,9,     -999,9,     -999,     -999,9,     -999,     -999,9,     -999,9,     -999,9,     -999,9,     -999,9,     -999,9,     -999,9,     -999,9,     -999,9,     -999,9,     -999,9,     -999,9,     -999,9,     -999,9