BOTTLE,20240515CCHHYDRO
EXPOCODE,SECT_ID,STNNBR,CASTNO,SAMPNO,BTLNBR,BTLNBR_FLAG_W,DATE,TIME,LATITUDE,LONGITUDE,DEPTH,CTDPRS,CTDTMP,CTDSAL,CTDSAL_FLAG_W,SALNTY,SALNTY_FLAG_W,CTDOXY,CTDOXY_FLAG_W,CTDOPTOXY,CTDOPTOXY_FLAG_W,OXYGEN,OXYGEN_FLAG_W,SILCAT,SILCAT_FLAG_W,NITRAT,NITRAT_FLAG_W,NITRIT,NITRIT_FLAG_W,PHSPHT,PHSPHT_FLAG_W,CFC-11,CFC-11_FLAG_W,CFC-12,CFC-12_FLAG_W,SF6,SF6_FLAG_W,TCARBN,TCARBN_FLAG_W,ALKALI,ALKALI_FLAG_W,PH_TOT,PH_TOT_FLAG_W,PH_TMP,DOC,DOC_FLAG_W,HELIUM,HELIUM_FLAG_W,REFTMP,REFTMP_FLAG_W,DELC13,DELC13_FLAG_W,DELC14,DELC14_FLAG_W,C14ERR,POC,POC_FLAG_W,TDN,TDN_FLAG_W,TON,TON_FLAG_W,NEON,NEON_FLAG_W,CTDFLUOR,CTDFLUOR_FLAG_W,CTDXMISS,CTDXMISS_FLAG_W,CTDBETA700,CTDBETA700_FLAG_W,N2O,N2O_FLAG_W,ARGON,ARGON_FLAG_W,BTL_DATE,BTL_TIME,BTL_LAT,BTL_LON,KRYPTON,KRYPTON_FLAG_W,XENON,XENON_FLAG_W,HPLC,HPLC_FLAG_W,HE3_HE4_RATIO,HE3_HE4_RATIO_FLAG_W,Nd_143_144_D_EPSILON_BOTTLE,Nd_143_144_D_EPSILON_BOTTLE_FLAG_W,Nd_143_144_D_EPSILON_BOTTLE_ERROR,Nd_143_144_D_RATIO_BOTTLE,Nd_143_144_D_RATIO_BOTTLE_FLAG_W,Nd_143_144_D_RATIO_BOTTLE_ERROR,Nd_D_CONC,Nd_D_CONC_FLAG_W,La_D_CONC_BOTTLE,La_D_CONC_BOTTLE_FLAG_W,Ce_D_CONC_BOTTLE,Ce_D_CONC_BOTTLE_FLAG_W,Pr_D_CONC_BOTTLE,Pr_D_CONC_BOTTLE_FLAG_W,Sm_D_CONC_BOTTLE,Sm_D_CONC_BOTTLE_FLAG_W,Eu_D_CONC_BOTTLE,Eu_D_CONC_BOTTLE_FLAG_W,Gd_D_CONC_BOTTLE,Gd_D_CONC_BOTTLE_FLAG_W,Tb_D_CONC_BOTTLE,Tb_D_CONC_BOTTLE_FLAG_W,Dy_D_CONC_BOTTLE,Dy_D_CONC_BOTTLE_FLAG_W,Ho_D_CONC_BOTTLE,Ho_D_CONC_BOTTLE_FLAG_W,Er_D_CONC_BOTTLE,Er_D_CONC_BOTTLE_FLAG_W,Tm_D_CONC_BOTTLE,Tm_D_CONC_BOTTLE_FLAG_W,Yb_D_CONC_BOTTLE,Yb_D_CONC_BOTTLE_FLAG_W,Lu_D_CONC_BOTTLE,Lu_D_CONC_BOTTLE_FLAG_W
,,,,,,,,,,,METERS,DBAR,ITS-90,PSS-78,,PSS-78,,UMOL/KG,,UMOL/KG,,UMOL/KG,,UMOL/KG,,UMOL/KG,,UMOL/KG,,UMOL/KG,,PMOL/KG,,PMOL/KG,,FMOL/KG,,UMOL/KG,,UMOL/KG,,,,DEG C,UMOL/KG,,NMOL/L,,DEG C,,/MILLE,,/MILLE,,/MILLE,UG/KG,,UMOL/KG,,UMOL/KG,,NMOL/L,,VOLTS,,VOLTS,,VOLTS,,NMOL/KG,,UMOL/L,,,,,,NMOL/L,,NMOL/L,,,,,,10000,,10000,,,,PMOL/KG,,PMOL/L,,PMOL/L,,PMOL/L,,PMOL/L,,PMOL/L,,PMOL/L,,PMOL/L,,PMOL/L,,PMOL/L,,PMOL/L,,PMOL/L,,PMOL/L,,PMOL/L,
320620180309  ,S04P       ,113     ,  1,36         ,36         ,2,20180504,2013, -67.1003, -89.6692,     4365,      8.1,-1.5144356395446365582,33.657630060584083,2,  33.6544,2,346.46445242332231,2, 346.0998,2,    347.1,2,     28.8,2,    24.86,2,     0.19,2,     1.74,2,    6.210,2,    3.307,2,   4.1500,2,   2160.8,6,  2279.81,2,   7.6661,2,    25.01,     -999,9,     -999,9,  -1.5681,3,     -999,9,     -999,9,     -999,     -999,9,     -999,9,     -999,9,     -999,9,    0.162,1,    4.557,1,    0.184,1,  17.2000,2,     -999,9,20180504,2210, -67.0996, -89.6713,     -999,9,     -999,9,-999          ,9,     -999,9,     -999,9,     -999,     -999,9,     -999,     -999,9,     -999,9,     -999,9,     -999,9,     -999,9,     -999,9,     -999,9,     -999,9,     -999,9,     -999,9,     -999,9,     -999,9,     -999,9,     -999,9
320620180309  ,S04P       ,113     ,  1,35         ,35         ,2,20180504,2013, -67.1003, -89.6692,     4365,     33.1,-1.5258000009181915679,33.658529642228842,2,  33.6548,2,347.94817330516884,2, 346.1015,2,    346.7,2,     28.9,2,    24.89,2,     0.19,2,     1.74,2,    6.156,2,    3.304,2,   3.5600,2,   2160.2,2,  2279.48,2,   7.6659,2,    25.00,     -999,9,     -999,9,  -1.5263,2,     -999,9,     -999,9,     -999,     -999,9,     -999,9,     -999,9,     -999,9,    0.168,1,    4.556,1,    0.195,1,  16.9200,2,     -999,9,20180504,2209, -67.0996, -89.6713,     -999,9,     -999,9,-999          ,9,     -999,9,     -999,9,     -999,     -999,9,     -999,     -999,9,     -999,9,     -999,9,     -999,9,     -999,9,     -999,9,     -999,9,     -999,9,     -999,9,     -999,9,     -999,9,     -999,9,     -999,9,     -999,9
320620180309  ,S04P       ,113     ,  1,34         ,34         ,2,20180504,2013, -67.1003, -89.6692,     4365,     57.7,-1.4567450384494595728,33.686403336642890,2,  33.6932,2,344.16132812055292,2, 344.7020,2,    343.6,2,     29.3,2,    25.36,2,     0.20,2,     1.78,2,     -999,9,     -999,9,     -999,9,   2160.8,2,  2282.13,2,   7.6620,2,    25.02,     -999,9,     -999,9,  -1.4860,2,     -999,9,     -999,9,     -999,     -999,9,     -999,9,     -999,9,     -999,9,    0.175,1,    4.556,1,    0.197,1,     -999,9,     -999,9,20180504,2209, -67.0995, -89.6715,     -999,9,     -999,9,-999          ,9,     -999,9,     -999,9,     -999,     -999,9,     -999,     -999,9,     -999,9,     -999,9,     -999,9,     -999,9,     -999,9,     -999,9,     -999,9,     -999,9,     -999,9,     -999,9,     -999,9,     -999,9,     -999,9
320620180309  ,S04P       ,113     ,  1,33         ,33         ,2,20180504,2013, -67.1003, -89.6692,     4365,     83.5,-1.4486843271678022660,33.988770732016320,2,  33.9911,2,308.40792754797889,2, 310.8987,2,    311.2,2,     49.6,2,    30.23,2,     0.21,2,     2.12,2,     -999,9,     -999,9,     -999,9,     -999,9,     -999,9,     -999,9,     -999,     -999,9,     -999,9,  -1.3978,2,     -999,9,     -999,9,     -999,     -999,9,     -999,9,     -999,9,     -999,9,    0.191,1,    4.564,1,    0.196,1,     -999,9,     -999,9,20180504,2208, -67.0995, -89.6717,     -999,9,     -999,9,-999          ,9,     -999,9,     -999,9,     -999,     -999,9,     -999,     -999,9,     -999,9,     -999,9,     -999,9,     -999,9,     -999,9,     -999,9,     -999,9,     -999,9,     -999,9,     -999,9,     -999,9,     -999,9,     -999,9
320620180309  ,S04P       ,113     ,  1,32         ,32         ,4,20180504,2013, -67.1003, -89.6692,     4365,    112.1,-1.1142730856937437256,34.066645220979566,3,  34.7037,3,292.14174514553036,3, 269.2006,3,    209.7,3,    130.6,3,    32.90,3,     0.01,3,     2.24,3,    0.208,3,    0.116,3,   0.1600,3,   2263.7,4,  2367.51,4,   7.5977,3,    25.00,     -999,9,     -999,9,  -1.1513,3,     -999,9,     -999,9,     -999,     -999,9,     -999,9,     -999,9,     -999,9,    0.077,1,    4.616,1,    0.162,1,  19.5000,3,     -999,9,20180504,2208, -67.0994, -89.6718,     -999,9,     -999,9,-999          ,9,     -999,9,     -999,9,     -999,     -999,9,     -999,     -999,9,     -999,9,     -999,9,     -999,9,     -999,9,     -999,9,     -999,9,     -999,9,     -999,9,     -999,9,     -999,9,     -999,9,     -999,9,     -999,9
320620180309  ,S04P       ,113     ,  1,31         ,31         ,2,20180504,2013, -67.1003, -89.6692,     4365,    133.8,-0.2008937947541615809,34.168935963087407,2,  34.1808,2,271.52198504462831,3, 271.9952,3,    268.6,2,     55.6,2,    32.75,2,     0.03,2,     2.27,2,     -999,9,     -999,9,     -999,9,     -999,9,     -999,9,     -999,9,     -999,     -999,9,     -999,9,  -0.5631,3,     -999,9,     -999,9,     -999,     -999,9,     -999,9,     -999,9,     -999,9,    0.071,1,    4.626,1,    0.152,1,     -999,9,     -999,9,20180504,2207, -67.0994, -89.6720,     -999,9,     -999,9,-999          ,9,     -999,9,     -999,9,     -999,     -999,9,     -999,     -999,9,     -999,9,     -999,9,     -999,9,     -999,9,     -999,9,     -999,9,     -999,9,     -999,9,     -999,9,     -999,9,     -999,9,     -999,9,     -999,9
320620180309  ,S04P       ,113     ,  1,30         ,30         ,2,20180504,2013, -67.1003, -89.6692,     4365,    162.9,0.6620619079665849283,34.288718714373815,2,  34.2898,2,241.01955018172248,3, 239.4996,2,    237.5,2,     62.0,2,    33.93,2,     0.02,2,     2.36,2,    3.120,2,    1.678,2,   1.4500,2,   2233.3,2,  2313.06,2,   7.5605,2,    25.02,     -999,9,     -999,9,   0.5412,3,     -999,9,     -999,9,     -999,     -999,9,     -999,9,     -999,9,     -999,9,    0.066,1,    4.630,1,    0.150,1,  21.8600,2,     -999,9,20180504,2207, -67.0993, -89.6723,     -999,9,     -999,9,-999          ,9,     -999,9,     -999,9,     -999,     -999,9,     -999,     -999,9,     -999,9,     -999,9,     -999,9,     -999,9,     -999,9,     -999,9,     -999,9,     -999,9,     -999,9,     -999,9,     -999,9,     -999,9,     -999,9
320620180309  ,S04P       ,113     ,  1,29         ,29         ,2,20180504,2013, -67.1003, -89.6692,     4365,    213.8,1.6146662287839614880,34.443659264149595,2,  34.4393,2,195.85197494780178,3, 200.8977,2,    200.3,2,     69.7,2,    35.00,2,     0.02,2,     2.44,2,     -999,9,     -999,9,     -999,9,     -999,9,     -999,9,     -999,9,     -999,     -999,9,     -999,9,   1.6290,3,     -999,9,     -999,9,     -999,     -999,9,     -999,9,     -999,9,     -999,9,    0.063,1,    4.636,1,    0.144,1,     -999,9,     -999,9,20180504,2206, -67.0992, -89.6725,     -999,9,     -999,9,-999          ,9,     -999,9,     -999,9,     -999,     -999,9,     -999,     -999,9,     -999,9,     -999,9,     -999,9,     -999,9,     -999,9,     -999,9,     -999,9,     -999,9,     -999,9,     -999,9,     -999,9,     -999,9,     -999,9
320620180309  ,S04P       ,113     ,  1,28         ,28         ,2,20180504,2013, -67.1003, -89.6692,     4365,    268.8,1.9316239475503278467,34.522295511941536,2,  34.5193,2,188.09142508645076,3, 188.2986,2,    185.8,2,     73.9,2,    35.09,2,     0.00,2,     2.41,2,    1.320,2,    0.705,2,   0.5000,2,   2255.0,2,  2332.34,2,   7.5417,2,    25.01,     -999,9,     -999,9,   1.9328,2,     -999,9,     -999,9,     -999,     -999,9,     -999,9,     -999,9,     -999,9,    0.062,1,    4.639,1,    0.143,1,  23.1100,2,     -999,9,20180504,2204, -67.0991, -89.6729,     -999,9,     -999,9,-999          ,9,     -999,9,     -999,9,     -999,     -999,9,     -999,     -999,9,     -999,9,     -999,9,     -999,9,     -999,9,     -999,9,     -999,9,     -999,9,     -999,9,     -999,9,     -999,9,     -999,9,     -999,9,     -999,9
320620180309  ,S04P       ,113     ,  1,27         ,27         ,2,20180504,2013, -67.1003, -89.6692,     4365,    318.7,2.0486166805445820138,34.569704423498983,2,  34.5695,2,179.14453548550671,2, 180.5004,2,    178.5,2,     76.8,2,    34.83,2,     0.00,2,     2.40,2,    0.950,2,    0.506,2,   0.2700,2,   2253.0,2,  2338.09,2,   7.5451,2,    25.01,     -999,9,     -999,9,   2.0543,2,     -999,9,     -999,9,     -999,     -999,9,     -999,9,     -999,9,     -999,9,    0.061,1,    4.640,1,    0.140,1,  23.2200,2,     -999,9,20180504,2201, -67.0989, -89.6736,     -999,9,     -999,9,-999          ,9,     -999,9,     -999,9,     -999,     -999,9,     -999,     -999,9,     -999,9,     -999,9,     -999,9,     -999,9,     -999,9,     -999,9,     -999,9,     -999,9,     -999,9,     -999,9,     -999,9,     -999,9,     -999,9
320620180309  ,S04P       ,113     ,  1,26         ,38         ,2,20180504,2013, -67.1003, -89.6692,     4365,    367.9,2.1157646850985125653,34.609170460341097,2,  34.6074,2,175.47818011150696,2, 177.4068,2,    175.6,2,     78.7,2,    34.45,2,     0.00,2,     2.38,2,     -999,9,     -999,9,     -999,9,   2258.7,2,  2341.20,2,   7.5501,2,    25.01,     -999,9,     -999,9,   2.1155,2,     -999,9,     -999,9,     -999,     -999,9,     -999,9,     -999,9,     -999,9,    0.061,1,    4.642,1,    0.138,1,     -999,9,     -999,9,20180504,2159, -67.0988, -89.6741,     -999,9,     -999,9,-999          ,9,     -999,9,     -999,9,     -999,     -999,9,     -999,     -999,9,     -999,9,     -999,9,     -999,9,     -999,9,     -999,9,     -999,9,     -999,9,     -999,9,     -999,9,     -999,9,     -999,9,     -999,9,     -999,9
320620180309  ,S04P       ,113     ,  1,25         ,25         ,2,20180504,2013, -67.1003, -89.6692,     4365,    420.2,2.1186492434412338426,34.635202278961664,2,  34.6338,2,174.76186753403931,2, 176.7007,2,    175.0,2,     80.3,2,    34.13,2,     0.00,2,     2.35,2,    0.554,2,    0.289,2,   0.1000,2,   2258.8,6,  2340.05,2,   7.5554,2,    25.03,     -999,9,     -999,9,   2.1177,2,     -999,9,     -999,9,     -999,     -999,9,     -999,9,     -999,9,     -999,9,    0.062,1,    4.643,1,    0.136,1,  22.9400,2,     -999,9,20180504,2157, -67.0990, -89.6735,     -999,9,     -999,9,-999          ,9,     -999,9,     -999,9,     -999,     -999,9,     -999,     -999,9,     -999,9,     -999,9,     -999,9,     -999,9,     -999,9,     -999,9,     -999,9,     -999,9,     -999,9,     -999,9,     -999,9,     -999,9,     -999,9
320620180309  ,S04P       ,113     ,  1,24         ,24         ,2,20180504,2013, -67.1003, -89.6692,     4365,    469.5,2.1211497902771903057,34.659823798165569,2,  34.6589,2,174.89760525278078,2, 176.3991,2,    175.2,2,     82.0,2,    33.70,2,     0.00,2,     2.32,2,    0.423,2,    0.226,2,   0.0000,2,   2258.1,2,  2345.43,2,   7.5621,2,    25.01,     -999,9,     -999,9,   2.1213,2,     -999,9,     -999,9,     -999,     -999,9,     -999,9,     -999,9,     -999,9,    0.063,1,    4.643,1,    0.140,1,  22.7200,2,     -999,9,20180504,2155, -67.0992, -89.6730,     -999,9,     -999,9,-999          ,9,     -999,9,     -999,9,     -999,     -999,9,     -999,     -999,9,     -999,9,     -999,9,     -999,9,     -999,9,     -999,9,     -999,9,     -999,9,     -999,9,     -999,9,     -999,9,     -999,9,     -999,9,     -999,9
320620180309  ,S04P       ,113     ,  1,23         ,23         ,2,20180504,2013, -67.1003, -89.6692,     4365,    540.2,2.0784150556857086123,34.679921931899678,2,  34.6797,2,176.46261962805190,2, 177.4972,2,    177.5,2,     83.6,2,    33.31,2,     0.00,2,     2.27,2,     -999,9,     -999,9,     -999,9,   2256.3,2,  2346.28,2,   7.5691,2,    25.02,     -999,9,     -999,9,   2.0787,2,     -999,9,     -999,9,     -999,     -999,9,     -999,9,     -999,9,     -999,9,    0.062,1,    4.644,1,    0.135,1,     -999,9,     -999,9,20180504,2152, -67.0993, -89.6729,     -999,9,     -999,9,-999          ,9,     -999,9,     -999,9,     -999,     -999,9,     -999,     -999,9,     -999,9,     -999,9,     -999,9,     -999,9,     -999,9,     -999,9,     -999,9,     -999,9,     -999,9,     -999,9,     -999,9,     -999,9,     -999,9
320620180309  ,S04P       ,113     ,  1,22         ,37         ,2,20180504,2013, -67.1003, -89.6692,     4365,    643.2,2.0104577484515702146,34.698156749485555,2,  34.6974,2,178.99753207506899,2, 179.7975,2,    180.0,2,     85.5,2,    33.04,2,     0.00,2,     2.26,2,    0.301,2,    0.156,2,   0.0000,2,   2256.6,2,  2349.82,2,   7.5739,6,    24.99,     -999,9,     -999,9,   2.0118,2,     -999,9,     -999,9,     -999,     -999,9,     -999,9,     -999,9,     -999,9,    0.062,1,    4.643,1,    0.133,1,  20.9400,2,     -999,9,20180504,2148, -67.0993, -89.6728,     -999,9,     -999,9,-999          ,9,     -999,9,     -999,9,     -999,     -999,9,     -999,     -999,9,     -999,9,     -999,9,     -999,9,     -999,9,     -999,9,     -999,9,     -999,9,     -999,9,     -999,9,     -999,9,     -999,9,     -999,9,     -999,9
320620180309  ,S04P       ,113     ,  1,21         ,21         ,2,20180504,2013, -67.1003, -89.6692,     4365,    744.2,1.9429217751127161318,34.711227865504675,2,  34.7104,2,181.88743283156640,2, 181.6951,2,    181.6,2,     87.4,2,    32.70,2,     0.00,2,     2.24,2,     -999,9,     -999,9,     -999,9,     -999,9,     -999,9,     -999,9,     -999,     -999,9,     -999,9,   1.9429,2,     -999,9,     -999,9,     -999,     -999,9,     -999,9,     -999,9,     -999,9,    0.061,1,    4.645,1,    0.135,1,     -999,9,     -999,9,20180504,2145, -67.0995, -89.6724,     -999,9,     -999,9,-999          ,9,     -999,9,     -999,9,     -999,     -999,9,     -999,     -999,9,     -999,9,     -999,9,     -999,9,     -999,9,     -999,9,     -999,9,     -999,9,     -999,9,     -999,9,     -999,9,     -999,9,     -999,9,     -999,9
320620180309  ,S04P       ,113     ,  1,20         ,20         ,2,20180504,2013, -67.1003, -89.6692,     4365,    841.7,1.8604124656966087858,34.722033884518574,2,  34.7219,2,185.41252991224076,2, 183.9986,2,    185.4,2,     89.9,2,    32.37,2,     0.00,2,     2.21,2,    0.211,2,    0.109,2,   0.0000,2,   2254.6,2,  2354.23,2,   7.5847,2,    25.03,     -999,9,     -999,9,   1.8605,2,     -999,9,     -999,9,     -999,     -999,9,     -999,9,     -999,9,     -999,9,    0.061,1,    4.645,1,    0.134,1,  20.2000,2,     -999,9,20180504,2142, -67.0992, -89.6732,     -999,9,     -999,9,-999          ,9,     -999,9,     -999,9,     -999,     -999,9,     -999,     -999,9,     -999,9,     -999,9,     -999,9,     -999,9,     -999,9,     -999,9,     -999,9,     -999,9,     -999,9,     -999,9,     -999,9,     -999,9,     -999,9
320620180309  ,S04P       ,113     ,  1,19         ,19         ,2,20180504,2013, -67.1003, -89.6692,     4365,    945.6,1.7895091578371660201,34.726752788152552,2,  34.7270,2,188.15488158441977,2, 186.4989,2,    187.5,2,     91.7,2,    32.19,2,     0.00,2,     2.20,2,     -999,9,     -999,9,     -999,9,     -999,9,     -999,9,     -999,9,     -999,     -999,9,     -999,9,   1.7895,2,     -999,9,     -999,9,     -999,     -999,9,     -999,9,     -999,9,     -999,9,    0.061,1,    4.646,1,    0.131,1,     -999,9,     -999,9,20180504,2139, -67.0989, -89.6741,     -999,9,     -999,9,-999          ,9,     -999,9,     -999,9,     -999,     -999,9,     -999,     -999,9,     -999,9,     -999,9,     -999,9,     -999,9,     -999,9,     -999,9,     -999,9,     -999,9,     -999,9,     -999,9,     -999,9,     -999,9,     -999,9
320620180309  ,S04P       ,113     ,  1,18         ,18         ,2,20180504,2013, -67.1003, -89.6692,     4365,   1046.9,1.7089049009540044910,34.729911373633456,2,  34.7296,2,189.94150380777359,2, 188.5005,2,    189.2,2,     93.8,2,    32.02,2,     0.00,2,     2.17,2,    0.188,2,    0.085,2,   0.0000,2,   2257.5,2,  2354.55,2,   7.5930,2,    25.04,     -999,9,     -999,9,   1.7093,2,     -999,9,     -999,9,     -999,     -999,9,     -999,9,     -999,9,     -999,9,    0.061,1,    4.646,1,    0.130,1,  20.1000,2,     -999,9,20180504,2136, -67.0990, -89.6738,     -999,9,     -999,9,-999          ,9,     -999,9,     -999,9,     -999,     -999,9,     -999,     -999,9,     -999,9,     -999,9,     -999,9,     -999,9,     -999,9,     -999,9,     -999,9,     -999,9,     -999,9,     -999,9,     -999,9,     -999,9,     -999,9
320620180309  ,S04P       ,113     ,  1,17         ,17         ,2,20180504,2013, -67.1003, -89.6692,     4365,   1147.9,1.6279444751008407266,34.731525873222417,2,  34.7317,2,191.87451872439294,2, 190.4006,2,    190.9,2,     96.0,2,    31.98,2,     0.00,2,     2.16,2,     -999,9,     -999,9,     -999,9,     -999,9,     -999,9,     -999,9,     -999,     -999,9,     -999,9,   1.6281,2,     -999,9,     -999,9,     -999,     -999,9,     -999,9,     -999,9,     -999,9,    0.062,1,    4.646,1,    0.132,1,     -999,9,     -999,9,20180504,2133, -67.0993, -89.6732,     -999,9,     -999,9,-999          ,9,     -999,9,     -999,9,     -999,     -999,9,     -999,     -999,9,     -999,9,     -999,9,     -999,9,     -999,9,     -999,9,     -999,9,     -999,9,     -999,9,     -999,9,     -999,9,     -999,9,     -999,9,     -999,9
320620180309  ,S04P       ,113     ,  1,16         ,16         ,2,20180504,2013, -67.1003, -89.6692,     4365,   1251.5,1.5274560581047254004,34.730823993360929,2,  34.7312,2,193.16461567777321,2, 192.1051,2,    192.6,2,     99.6,2,    32.02,2,     0.00,2,     2.19,2,    0.150,2,    0.068,2,   0.0100,2,   2256.2,2,  2359.86,2,   7.5980,2,    25.03,     -999,9,     -999,9,   1.5268,2,     -999,9,     -999,9,     -999,     -999,9,     -999,9,     -999,9,     -999,9,    0.061,1,    4.647,1,    0.130,1,  19.7400,2,     -999,9,20180504,2130, -67.0994, -89.6729,     -999,9,     -999,9,-999          ,9,     -999,9,     -999,9,     -999,     -999,9,     -999,     -999,9,     -999,9,     -999,9,     -999,9,     -999,9,     -999,9,     -999,9,     -999,9,     -999,9,     -999,9,     -999,9,     -999,9,     -999,9,     -999,9