BOTTLE,20240515CCHHYDRO
EXPOCODE,SECT_ID,STNNBR,CASTNO,SAMPNO,BTLNBR,BTLNBR_FLAG_W,DATE,TIME,LATITUDE,LONGITUDE,DEPTH,CTDPRS,CTDTMP,CTDSAL,CTDSAL_FLAG_W,SALNTY,SALNTY_FLAG_W,CTDOXY,CTDOXY_FLAG_W,CTDOPTOXY,CTDOPTOXY_FLAG_W,OXYGEN,OXYGEN_FLAG_W,SILCAT,SILCAT_FLAG_W,NITRAT,NITRAT_FLAG_W,NITRIT,NITRIT_FLAG_W,PHSPHT,PHSPHT_FLAG_W,CFC-11,CFC-11_FLAG_W,CFC-12,CFC-12_FLAG_W,SF6,SF6_FLAG_W,TCARBN,TCARBN_FLAG_W,ALKALI,ALKALI_FLAG_W,PH_TOT,PH_TOT_FLAG_W,PH_TMP,DOC,DOC_FLAG_W,HELIUM,HELIUM_FLAG_W,REFTMP,REFTMP_FLAG_W,DELC13,DELC13_FLAG_W,DELC14,DELC14_FLAG_W,C14ERR,POC,POC_FLAG_W,TDN,TDN_FLAG_W,TON,TON_FLAG_W,NEON,NEON_FLAG_W,CTDFLUOR,CTDFLUOR_FLAG_W,CTDXMISS,CTDXMISS_FLAG_W,CTDBETA700,CTDBETA700_FLAG_W,N2O,N2O_FLAG_W,ARGON,ARGON_FLAG_W,BTL_DATE,BTL_TIME,BTL_LAT,BTL_LON,KRYPTON,KRYPTON_FLAG_W,XENON,XENON_FLAG_W,HPLC,HPLC_FLAG_W,HE3_HE4_RATIO,HE3_HE4_RATIO_FLAG_W,Nd_143_144_D_EPSILON_BOTTLE,Nd_143_144_D_EPSILON_BOTTLE_FLAG_W,Nd_143_144_D_EPSILON_BOTTLE_ERROR,Nd_143_144_D_RATIO_BOTTLE,Nd_143_144_D_RATIO_BOTTLE_FLAG_W,Nd_143_144_D_RATIO_BOTTLE_ERROR,Nd_D_CONC,Nd_D_CONC_FLAG_W,La_D_CONC_BOTTLE,La_D_CONC_BOTTLE_FLAG_W,Ce_D_CONC_BOTTLE,Ce_D_CONC_BOTTLE_FLAG_W,Pr_D_CONC_BOTTLE,Pr_D_CONC_BOTTLE_FLAG_W,Sm_D_CONC_BOTTLE,Sm_D_CONC_BOTTLE_FLAG_W,Eu_D_CONC_BOTTLE,Eu_D_CONC_BOTTLE_FLAG_W,Gd_D_CONC_BOTTLE,Gd_D_CONC_BOTTLE_FLAG_W,Tb_D_CONC_BOTTLE,Tb_D_CONC_BOTTLE_FLAG_W,Dy_D_CONC_BOTTLE,Dy_D_CONC_BOTTLE_FLAG_W,Ho_D_CONC_BOTTLE,Ho_D_CONC_BOTTLE_FLAG_W,Er_D_CONC_BOTTLE,Er_D_CONC_BOTTLE_FLAG_W,Tm_D_CONC_BOTTLE,Tm_D_CONC_BOTTLE_FLAG_W,Yb_D_CONC_BOTTLE,Yb_D_CONC_BOTTLE_FLAG_W,Lu_D_CONC_BOTTLE,Lu_D_CONC_BOTTLE_FLAG_W
,,,,,,,,,,,METERS,DBAR,ITS-90,PSS-78,,PSS-78,,UMOL/KG,,UMOL/KG,,UMOL/KG,,UMOL/KG,,UMOL/KG,,UMOL/KG,,UMOL/KG,,PMOL/KG,,PMOL/KG,,FMOL/KG,,UMOL/KG,,UMOL/KG,,,,DEG C,UMOL/KG,,NMOL/L,,DEG C,,/MILLE,,/MILLE,,/MILLE,UG/KG,,UMOL/KG,,UMOL/KG,,NMOL/L,,VOLTS,,VOLTS,,VOLTS,,NMOL/KG,,UMOL/L,,,,,,NMOL/L,,NMOL/L,,,,,,10000,,10000,,,,PMOL/KG,,PMOL/L,,PMOL/L,,PMOL/L,,PMOL/L,,PMOL/L,,PMOL/L,,PMOL/L,,PMOL/L,,PMOL/L,,PMOL/L,,PMOL/L,,PMOL/L,,PMOL/L,
320620180309  ,P16        ,34      ,  1,36         ,36         ,2,20180402,1710, -75.2611,-147.2357,     2047,      3.1,-1.8024194444444445740,33.753683471569971,2,  33.7505,2,334.36124450766033,2, 317.1034,3,    337.2,2,     73.7,2,    20.96,2,     0.12,2,     1.63,2,    5.310,2,    2.982,2,   3.5800,2,   2167.2,6,  2300.28,2,   7.7008,2,    24.95,     -999,9,     -999,9,  -1.8023,2,     -999,9,     -999,9,     -999,     -999,9,     -999,9,     -999,9,     -999,9,    0.108,1,    4.601,1,    0.199,1,  16.8000,2,     -999,9,20180402,1905, -75.2629,-147.2840,     -999,9,     -999,9,-999          ,9,     -999,9,     -999,9,     -999,     -999,9,     -999,     -999,9,     -999,1,     -999,1,     -999,1,     -999,1,     -999,1,     -999,1,     -999,1,     -999,1,     -999,1,     -999,1,     -999,1,     -999,1,     -999,1
320620180309  ,P16        ,34      ,  1,35         ,35         ,2,20180402,1710, -75.2611,-147.2357,     2047,     34.7,-1.7944611111111110624,33.755969797666374,2,  33.7536,2,335.41688061195873,2, 324.4026,3,    335.1,2,     72.4,2,    21.27,2,     0.12,2,     1.63,2,     -999,9,     -999,9,     -999,9,   2169.1,2,  2300.71,2,   7.7010,2,    24.93,     -999,9,     -999,1,  -1.7945,2,     -999,9,     -999,9,     -999,     -999,9,     -999,9,     -999,9,     -999,1,    0.108,1,    4.600,1,    0.206,1,     -999,9,     -999,1,20180402,1903, -75.2629,-147.2831,     -999,1,     -999,1,-999          ,9,     -999,1,     -999,9,     -999,     -999,9,     -999,     -999,9,     -999,1,     -999,1,     -999,1,     -999,1,     -999,1,     -999,1,     -999,1,     -999,1,     -999,1,     -999,1,     -999,1,     -999,1,     -999,1
320620180309  ,P16        ,34      ,  1,34         ,34         ,2,20180402,1710, -75.2611,-147.2357,     2047,     60.3,-1.8010250000000000981,33.757165048329156,2,  33.7554,2,334.59097268322569,2, 327.7030,3,    335.3,2,     72.6,2,    21.13,2,     0.12,2,     1.63,2,     -999,9,     -999,9,     -999,9,   2169.3,2,  2299.90,2,   7.6989,2,    24.94,     -999,9,     -999,9,  -1.8004,2,     -999,9,     -999,9,     -999,     -999,9,     -999,9,     -999,9,     -999,9,    0.109,1,    4.600,1,    0.207,1,     -999,9,     -999,9,20180402,1901, -75.2628,-147.2822,     -999,9,     -999,9,-999          ,9,     -999,9,     -999,9,     -999,     -999,9,     -999,     -999,9,     -999,1,     -999,1,     -999,1,     -999,1,     -999,1,     -999,1,     -999,1,     -999,1,     -999,1,     -999,1,     -999,1,     -999,1,     -999,1
320620180309  ,P16        ,34      ,  1,33         ,33         ,2,20180402,1710, -75.2611,-147.2357,     2047,     85.2,-1.7795694444444447591,33.759266396716875,3,  34.0751,4,335.23222315709666,2, 332.8999,2,    332.9,2,     73.3,2,    21.36,2,     0.12,2,     1.66,2,     -999,9,     -999,9,     -999,9,   2170.0,2,  2300.91,2,   7.6991,2,    24.93,     -999,9,     -999,1,  -1.7840,2,     -999,9,     -999,9,     -999,     -999,9,     -999,9,     -999,9,     -999,1,    0.107,1,    4.601,1,    0.211,1,     -999,9,     -999,1,20180402,1859, -75.2628,-147.2812,     -999,1,     -999,1,-999          ,9,     -999,1,     -999,9,     -999,     -999,9,     -999,     -999,9,     -999,1,     -999,1,     -999,1,     -999,1,     -999,1,     -999,1,     -999,1,     -999,1,     -999,1,     -999,1,     -999,1,     -999,1,     -999,1
320620180309  ,P16        ,34      ,  1,32         ,32         ,2,20180402,1710, -75.2611,-147.2357,     2047,    110.7,-1.5673472222222222250,33.830657667999667,2,  33.8378,2,324.10409894509127,3, 295.5983,3,    317.0,2,     77.9,2,    23.47,2,     0.12,2,     1.80,2,    4.803,2,    2.698,2,   3.1400,2,   2184.7,2,  2304.80,2,   7.6661,2,    24.91,     -999,9,     -999,9,  -1.5689,2,     -999,9,     -999,9,     -999,     -999,9,     -999,9,     -999,9,     -999,9,    0.088,1,    4.598,1,    0.229,1,  17.7400,2,     -999,9,20180402,1857, -75.2628,-147.2802,     -999,9,     -999,9,-999          ,9,     -999,9,     -999,9,     -999,     -999,9,     -999,     -999,9,     -999,1,     -999,1,     -999,1,     -999,1,     -999,1,     -999,1,     -999,1,     -999,1,     -999,1,     -999,1,     -999,1,     -999,1,     -999,1
320620180309  ,P16        ,34      ,  1,31         ,31         ,2,20180402,1710, -75.2611,-147.2357,     2047,    136.0,-1.6131722222222222296,34.013159067205869,2,  34.0113,2,289.64170927128322,2, 287.6999,2,    289.0,2,     85.0,2,    28.35,2,     0.13,2,     2.06,2,     -999,9,     -999,9,     -999,9,   2212.9,2,  2310.92,2,   7.6044,2,    24.93,     -999,9,     -999,1,  -1.6130,2,     -999,9,     -999,9,     -999,     -999,9,     -999,9,     -999,9,     -999,1,    0.074,1,    4.622,1,    0.190,1,     -999,9,     -999,1,20180402,1854, -75.2628,-147.2792,     -999,1,     -999,1,-999          ,9,     -999,1,     -999,9,     -999,     -999,9,     -999,     -999,9,     -999,1,     -999,1,     -999,1,     -999,1,     -999,1,     -999,1,     -999,1,     -999,1,     -999,1,     -999,1,     -999,1,     -999,1,     -999,1
320620180309  ,P16        ,34      ,  1,30         ,30         ,2,20180402,1710, -75.2611,-147.2357,     2047,    161.1,-1.6446583333333333332,34.081382307749372,2,  34.0805,2,285.57164301277152,2, 285.6061,2,    285.9,2,     85.9,2,    29.55,2,     0.14,2,     2.12,2,     -999,9,     -999,9,     -999,9,   2220.5,2,  2319.26,3,   7.5837,6,    24.93,     -999,9,     -999,9,  -1.6455,2,     -999,9,     -999,9,     -999,     -999,9,     -999,9,     -999,9,     -999,9,    0.071,1,    4.632,1,    0.188,1,     -999,9,     -999,9,20180402,1852, -75.2627,-147.2783,     -999,9,     -999,9,-999          ,9,     -999,9,     -999,9,     -999,     -999,9,     -999,     -999,9,     -999,1,     -999,1,     -999,1,     -999,1,     -999,1,     -999,1,     -999,1,     -999,1,     -999,1,     -999,1,     -999,1,     -999,1,     -999,1
320620180309  ,P16        ,34      ,  1,29         ,29         ,2,20180402,1710, -75.2611,-147.2357,     2047,    186.5,-1.6853361111111111459,34.103587821649292,2,  34.1019,2,285.40266049076257,2, 286.4975,2,    285.8,2,     85.7,2,    30.09,2,     0.14,2,     2.15,2,     -999,9,     -999,9,     -999,9,   2224.2,2,  2321.02,3,   7.5843,2,    24.93,     -999,9,     -999,1,  -1.6858,2,     -999,9,     -999,9,     -999,     -999,9,     -999,9,     -999,9,     -999,1,    0.068,1,    4.645,1,    0.174,1,     -999,9,     -999,1,20180402,1850, -75.2627,-147.2774,     -999,1,     -999,1,-999          ,9,     -999,1,     -999,9,     -999,     -999,9,     -999,     -999,9,     -999,1,     -999,1,     -999,1,     -999,1,     -999,1,     -999,1,     -999,1,     -999,1,     -999,1,     -999,1,     -999,1,     -999,1,     -999,1
320620180309  ,P16        ,34      ,  1,28         ,28         ,2,20180402,1710, -75.2611,-147.2357,     2047,    211.8,-1.7102166666666667183,34.119373181202228,2,  34.1197,2,285.60060240423161,2, 286.3032,2,    286.3,2,     86.0,2,    30.38,2,     0.13,2,     2.15,2,    3.993,2,    2.243,2,   2.5100,2,   2223.8,2,  2316.73,2,   7.5802,2,    24.93,     -999,9,     -999,9,  -1.7112,2,     -999,9,     -999,9,     -999,     -999,9,     -999,9,     -999,9,     -999,9,    0.066,1,    4.651,1,    0.169,1,  18.6300,2,     -999,9,20180402,1848, -75.2627,-147.2765,     -999,9,     -999,9,-999          ,9,     -999,9,     -999,9,     -999,     -999,9,     -999,     -999,9,     -999,1,     -999,1,     -999,1,     -999,1,     -999,1,     -999,1,     -999,1,     -999,1,     -999,1,     -999,1,     -999,1,     -999,1,     -999,1
320620180309  ,P16        ,34      ,  1,27         ,27         ,2,20180402,1710, -75.2611,-147.2357,     2047,    236.9,-1.6891666666666667052,34.136745826421858,2,  34.1328,2,285.24825765981115,2, 284.5983,2,    284.2,2,     84.6,2,    30.66,2,     0.14,2,     2.16,2,     -999,9,     -999,9,     -999,9,   2224.9,2,  2313.51,2,   7.5798,2,    24.93,     -999,9,     -999,9,  -1.6910,2,     -999,9,     -999,9,     -999,     -999,9,     -999,9,     -999,9,     -999,9,    0.068,1,    4.655,1,    0.159,1,     -999,9,     -999,9,20180402,1846, -75.2627,-147.2756,     -999,9,     -999,9,-999          ,9,     -999,9,     -999,9,     -999,     -999,9,     -999,     -999,9,     -999,9,     -999,9,     -999,9,     -999,9,     -999,9,     -999,9,     -999,9,     -999,9,     -999,9,     -999,9,     -999,9,     -999,9,     -999,9
320620180309  ,P16        ,34      ,  1,26         ,26         ,2,20180402,1710, -75.2611,-147.2357,     2047,    267.7,-1.6107222222222223884,34.153833635854703,2,  34.1520,2,279.47804487162705,2, 281.1952,2,    279.6,2,     84.1,2,    30.99,2,     0.13,2,     2.17,2,    3.820,2,    2.146,2,   2.4900,2,   2225.5,2,  2314.72,2,   7.5775,2,    24.93,     -999,9,     -999,1,  -1.6107,2,     -999,9,     -999,9,     -999,     -999,9,     -999,9,     -999,9,     -999,1,    0.066,1,    4.656,1,    0.164,1,  18.7900,2,     -999,1,20180402,1844, -75.2627,-147.2747,     -999,1,     -999,1,-999          ,9,     -999,1,     -999,9,     -999,     -999,9,     -999,     -999,9,     -999,1,     -999,1,     -999,1,     -999,1,     -999,1,     -999,1,     -999,1,     -999,1,     -999,1,     -999,1,     -999,1,     -999,1,     -999,1
320620180309  ,P16        ,34      ,  1,25         ,25         ,2,20180402,1710, -75.2611,-147.2357,     2047,    318.1,-1.2204861111111109384,34.217828846472678,2,  34.2207,2,262.97509597839678,2, 261.7994,2,    262.1,2,     87.2,2,    31.63,2,     0.05,2,     2.20,2,     -999,9,     -999,9,     -999,9,   2230.3,2,  2318.92,2,   7.5727,2,    24.92,     -999,9,     -999,9,  -1.2013,2,     -999,9,     -999,9,     -999,     -999,9,     -999,9,     -999,9,     -999,9,    0.065,1,    4.655,1,    0.164,1,     -999,9,     -999,9,20180402,1842, -75.2627,-147.2737,     -999,9,     -999,9,-999          ,9,     -999,9,     -999,9,     -999,     -999,9,     -999,     -999,9,     -999,9,     -999,9,     -999,9,     -999,9,     -999,9,     -999,9,     -999,9,     -999,9,     -999,9,     -999,9,     -999,9,     -999,9,     -999,9
320620180309  ,P16        ,34      ,  1,24         ,24         ,2,20180402,1710, -75.2611,-147.2357,     2047,    368.5,-0.9011472222222222106,34.269596431082618,2,  34.2671,2,249.86757730490180,2, 249.6011,2,    251.2,2,     88.7,2,    31.98,2,     0.04,2,     2.23,2,     -999,9,     -999,9,     -999,9,   2236.9,2,  2323.57,2,   7.5697,2,    24.95,     -999,9,     -999,9,  -0.9022,2,     -999,9,     -999,9,     -999,     -999,9,     -999,9,     -999,9,     -999,9,    0.065,1,    4.652,1,    0.168,1,     -999,9,     -999,9,20180402,1839, -75.2627,-147.2726,     -999,9,     -999,9,-999          ,9,     -999,9,     -999,9,     -999,     -999,9,     -999,     -999,9,     -999,1,     -999,1,     -999,1,     -999,1,     -999,1,     -999,1,     -999,1,     -999,1,     -999,1,     -999,1,     -999,1,     -999,1,     -999,1
320620180309  ,P16        ,34      ,  1,23         ,23         ,2,20180402,1710, -75.2611,-147.2357,     2047,    419.2,-0.3458972222222221893,34.370923886574360,2,  34.3888,2,238.74252145995510,3, 231.9998,2,    232.3,2,     91.6,2,    32.32,2,     0.04,2,     2.24,2,     -999,9,     -999,9,     -999,9,   2242.7,2,  2330.29,2,   7.5706,2,    24.92,     -999,9,     -999,1,  -0.3441,2,     -999,9,     -999,9,     -999,     -999,9,     -999,9,     -999,9,     -999,1,    0.064,1,    4.652,1,    0.173,1,     -999,9,     -999,1,20180402,1836, -75.2626,-147.2715,     -999,1,     -999,1,-999          ,9,     -999,1,     -999,9,     -999,     -999,9,     -999,     -999,9,     -999,9,     -999,9,     -999,9,     -999,9,     -999,9,     -999,9,     -999,9,     -999,9,     -999,9,     -999,9,     -999,9,     -999,9,     -999,9
320620180309  ,P16        ,34      ,  1,22         ,37         ,2,20180402,1710, -75.2611,-147.2357,     2047,    470.1,1.5349638888888887944,34.717984562373289,2,  34.7172,2,192.30294569762944,3, 192.4032,3,    187.8,2,     98.2,2,    32.64,2,     0.00,2,     2.24,2,     -999,9,     -999,9,     -999,9,   2259.5,6,  2353.89,2,   7.5784,2,    24.93,     -999,9,     -999,9,   1.5339,2,     -999,9,     -999,9,     -999,     -999,9,     -999,9,     -999,9,     -999,9,    0.063,1,    4.666,1,    0.161,1,     -999,9,     -999,9,20180402,1834, -75.2626,-147.2705,     -999,9,     -999,9,-999          ,9,     -999,9,     -999,9,     -999,     -999,9,     -999,     -999,9,     -999,1,     -999,1,     -999,1,     -999,1,     -999,1,     -999,1,     -999,1,     -999,1,     -999,1,     -999,1,     -999,1,     -999,1,     -999,1
320620180309  ,P16        ,34      ,  1,21         ,21         ,2,20180402,1710, -75.2611,-147.2357,     2047,    520.6,1.3881250000000000533,34.726025896859092,2,  34.7235,2,190.72166763992252,2, 191.6997,2,    189.9,2,    103.4,2,    32.64,2,     0.00,2,     2.24,2,     -999,9,     -999,9,     -999,9,   2260.2,2,  2355.95,2,   7.5851,2,    24.92,     -999,9,     -999,9,   1.3873,2,     -999,9,     -999,9,     -999,     -999,9,     -999,9,     -999,9,     -999,9,    0.061,1,    4.671,1,    0.144,1,     -999,9,     -999,9,20180402,1824, -75.2625,-147.2667,     -999,9,     -999,9,-999          ,9,     -999,9,     -999,9,     -999,     -999,9,     -999,     -999,9,     -999,9,     -999,9,     -999,9,     -999,9,     -999,9,     -999,9,     -999,9,     -999,9,     -999,9,     -999,9,     -999,9,     -999,9,     -999,9
320620180309  ,P16        ,34      ,  1,20         ,20         ,2,20180402,1710, -75.2611,-147.2357,     2047,    571.3,1.3380527777777775356,34.729853013946752,2,  34.7290,2,191.07896203564505,2, 192.7988,2,    191.0,2,    105.7,2,    32.47,2,     0.00,2,     2.24,2,     -999,9,     -999,9,     -999,9,   2259.3,2,  2357.71,2,   7.5861,2,    24.94,     -999,9,     -999,1,   1.3370,2,     -999,9,     -999,9,     -999,     -999,9,     -999,9,     -999,9,     -999,1,    0.062,1,    4.668,1,    0.147,1,     -999,9,     -999,1,20180402,1821, -75.2625,-147.2657,     -999,1,     -999,1,-999          ,9,     -999,1,     -999,9,     -999,     -999,9,     -999,     -999,9,     -999,1,     -999,1,     -999,1,     -999,1,     -999,1,     -999,1,     -999,1,     -999,1,     -999,1,     -999,1,     -999,1,     -999,1,     -999,1
320620180309  ,P16        ,34      ,  1,19         ,19         ,2,20180402,1710, -75.2611,-147.2357,     2047,    621.8,1.3149222222222221035,34.729805535451732,2,  34.7282,2,192.41132714286806,2, 193.0029,2,    191.6,2,    107.1,2,    32.54,2,     0.00,2,     2.24,2,     -999,9,     -999,9,     -999,9,   2259.9,2,  2357.50,2,   7.5859,2,    24.93,     -999,9,     -999,9,   1.3142,2,     -999,9,     -999,9,     -999,     -999,9,     -999,9,     -999,9,     -999,9,    0.061,1,    4.670,1,    0.153,1,     -999,9,     -999,9,20180402,1818, -75.2625,-147.2647,     -999,9,     -999,9,-999          ,9,     -999,9,     -999,9,     -999,     -999,9,     -999,     -999,9,     -999,9,     -999,9,     -999,9,     -999,9,     -999,9,     -999,9,     -999,9,     -999,9,     -999,9,     -999,9,     -999,9,     -999,9,     -999,9
320620180309  ,P16        ,34      ,  1,18         ,18         ,2,20180402,1710, -75.2611,-147.2357,     2047,    673.0,1.2205916666666662973,34.728207405647616,2,  34.7272,2,194.18985668080154,2, 194.2027,2,    192.8,2,    109.1,2,    32.57,2,     0.00,2,     2.25,2,     -999,9,     -999,9,     -999,9,   2261.3,2,  2358.97,2,   7.5844,2,    24.93,     -999,9,     -999,9,   1.2198,2,     -999,9,     -999,9,     -999,     -999,9,     -999,9,     -999,9,     -999,9,    0.062,1,    4.673,1,    0.139,1,     -999,9,     -999,9,20180402,1816, -75.2625,-147.2636,     -999,9,     -999,9,-999          ,9,     -999,9,     -999,9,     -999,     -999,9,     -999,     -999,9,     -999,1,     -999,1,     -999,1,     -999,1,     -999,1,     -999,1,     -999,1,     -999,1,     -999,1,     -999,1,     -999,1,     -999,1,     -999,1
320620180309  ,P16        ,34      ,  1,17         ,17         ,2,20180402,1710, -75.2611,-147.2357,     2047,    723.3,1.1470916666666668426,34.726113071664521,2,  34.7239,2,195.89753365560071,2, 194.8980,2,    195.0,2,    112.6,2,    32.62,2,     0.00,2,     2.24,2,     -999,9,     -999,9,     -999,9,   2258.3,3,  2360.17,2,   7.5886,2,    24.93,     -999,9,     -999,1,   1.1459,2,     -999,9,     -999,9,     -999,     -999,9,     -999,9,     -999,9,     -999,1,    0.062,1,    4.673,1,    0.142,1,     -999,9,     -999,1,20180402,1813, -75.2624,-147.2626,     -999,1,     -999,1,-999          ,9,     -999,1,     -999,9,     -999,     -999,9,     -999,     -999,9,     -999,9,     -999,9,     -999,9,     -999,9,     -999,9,     -999,9,     -999,9,     -999,9,     -999,9,     -999,9,     -999,9,     -999,9,     -999,9
320620180309  ,P16        ,34      ,  1,16         ,16         ,2,20180402,1710, -75.2611,-147.2357,     2047,    774.3,1.0844138888888890104,34.723930126424484,2,  34.7211,2,197.28479449352199,2, 196.0008,2,    195.9,2,    114.0,2,    32.61,2,     0.00,2,     2.25,2,     -999,9,     -999,9,     -999,9,   2260.1,2,  2361.08,2,   7.5907,2,    24.95,     -999,9,     -999,9,   1.0837,2,     -999,9,     -999,9,     -999,     -999,9,     -999,9,     -999,9,     -999,9,    0.062,1,    4.673,1,    0.148,1,     -999,9,     -999,9,20180402,1810, -75.2624,-147.2615,     -999,9,     -999,9,-999          ,9,     -999,9,     -999,9,     -999,     -999,9,     -999,     -999,9,     -999,1,     -999,1,     -999,1,     -999,1,     -999,1,     -999,1,     -999,1,     -999,1,     -999,1,     -999,1,     -999,1,     -999,1,     -999,1