BOTTLE,20240515CCHHYDRO
EXPOCODE,SECT_ID,STNNBR,CASTNO,SAMPNO,BTLNBR,BTLNBR_FLAG_W,DATE,TIME,LATITUDE,LONGITUDE,DEPTH,CTDPRS,CTDTMP,CTDSAL,CTDSAL_FLAG_W,SALNTY,SALNTY_FLAG_W,CTDOXY,CTDOXY_FLAG_W,CTDOPTOXY,CTDOPTOXY_FLAG_W,OXYGEN,OXYGEN_FLAG_W,SILCAT,SILCAT_FLAG_W,NITRAT,NITRAT_FLAG_W,NITRIT,NITRIT_FLAG_W,PHSPHT,PHSPHT_FLAG_W,CFC-11,CFC-11_FLAG_W,CFC-12,CFC-12_FLAG_W,SF6,SF6_FLAG_W,TCARBN,TCARBN_FLAG_W,ALKALI,ALKALI_FLAG_W,PH_TOT,PH_TOT_FLAG_W,PH_TMP,DOC,DOC_FLAG_W,HELIUM,HELIUM_FLAG_W,REFTMP,REFTMP_FLAG_W,DELC13,DELC13_FLAG_W,DELC14,DELC14_FLAG_W,C14ERR,POC,POC_FLAG_W,TDN,TDN_FLAG_W,TON,TON_FLAG_W,NEON,NEON_FLAG_W,CTDFLUOR,CTDFLUOR_FLAG_W,CTDXMISS,CTDXMISS_FLAG_W,CTDBETA700,CTDBETA700_FLAG_W,N2O,N2O_FLAG_W,ARGON,ARGON_FLAG_W,BTL_DATE,BTL_TIME,BTL_LAT,BTL_LON,KRYPTON,KRYPTON_FLAG_W,XENON,XENON_FLAG_W,HPLC,HPLC_FLAG_W,HE3_HE4_RATIO,HE3_HE4_RATIO_FLAG_W,Nd_143_144_D_EPSILON_BOTTLE,Nd_143_144_D_EPSILON_BOTTLE_FLAG_W,Nd_143_144_D_EPSILON_BOTTLE_ERROR,Nd_143_144_D_RATIO_BOTTLE,Nd_143_144_D_RATIO_BOTTLE_FLAG_W,Nd_143_144_D_RATIO_BOTTLE_ERROR,Nd_D_CONC,Nd_D_CONC_FLAG_W,La_D_CONC_BOTTLE,La_D_CONC_BOTTLE_FLAG_W,Ce_D_CONC_BOTTLE,Ce_D_CONC_BOTTLE_FLAG_W,Pr_D_CONC_BOTTLE,Pr_D_CONC_BOTTLE_FLAG_W,Sm_D_CONC_BOTTLE,Sm_D_CONC_BOTTLE_FLAG_W,Eu_D_CONC_BOTTLE,Eu_D_CONC_BOTTLE_FLAG_W,Gd_D_CONC_BOTTLE,Gd_D_CONC_BOTTLE_FLAG_W,Tb_D_CONC_BOTTLE,Tb_D_CONC_BOTTLE_FLAG_W,Dy_D_CONC_BOTTLE,Dy_D_CONC_BOTTLE_FLAG_W,Ho_D_CONC_BOTTLE,Ho_D_CONC_BOTTLE_FLAG_W,Er_D_CONC_BOTTLE,Er_D_CONC_BOTTLE_FLAG_W,Tm_D_CONC_BOTTLE,Tm_D_CONC_BOTTLE_FLAG_W,Yb_D_CONC_BOTTLE,Yb_D_CONC_BOTTLE_FLAG_W,Lu_D_CONC_BOTTLE,Lu_D_CONC_BOTTLE_FLAG_W
,,,,,,,,,,,METERS,DBAR,ITS-90,PSS-78,,PSS-78,,UMOL/KG,,UMOL/KG,,UMOL/KG,,UMOL/KG,,UMOL/KG,,UMOL/KG,,UMOL/KG,,PMOL/KG,,PMOL/KG,,FMOL/KG,,UMOL/KG,,UMOL/KG,,,,DEG C,UMOL/KG,,NMOL/L,,DEG C,,/MILLE,,/MILLE,,/MILLE,UG/KG,,UMOL/KG,,UMOL/KG,,NMOL/L,,VOLTS,,VOLTS,,VOLTS,,NMOL/KG,,UMOL/L,,,,,,NMOL/L,,NMOL/L,,,,,,10000,,10000,,,,PMOL/KG,,PMOL/L,,PMOL/L,,PMOL/L,,PMOL/L,,PMOL/L,,PMOL/L,,PMOL/L,,PMOL/L,,PMOL/L,,PMOL/L,,PMOL/L,,PMOL/L,,PMOL/L,
320620180309  ,S04P       ,73      ,  1,36         ,36         ,2,20180419,0801, -67.0001,-142.0979,     3613,     13.8,-1.2651027777777779093,33.765616585511481,2,  33.7624,2,352.02773319765299,2, 352.2041,2,    353.5,2,     33.4,2,    24.24,2,     0.29,2,     1.68,2,    5.827,2,    3.253,2,   3.9700,2,   2168.5,6,  2288.66,2,   7.6654,2,    24.90,     -999,9,     -999,9,  -1.2656,2,     -999,9,     -999,9,     -999,     -999,9,     -999,9,     -999,9,     -999,9,    0.285,1,    4.570,1,    0.226,1,  16.5700,2,     -999,9,20180419,0949, -66.9998,-142.0980,     -999,9,     -999,9,-999          ,9,     -999,9,     -999,9,     -999,     -999,9,     -999,     -999,9,     -999,1,     -999,1,     -999,1,     -999,1,     -999,1,     -999,1,     -999,1,     -999,1,     -999,1,     -999,1,     -999,1,     -999,1,     -999,1
320620180309  ,S04P       ,73      ,  1,35         ,35         ,2,20180419,0801, -67.0001,-142.0979,     3613,     49.6,-1.2602861111111112180,33.766005742565895,2,  33.7624,2,353.80484984866308,2, 352.1966,2,    353.1,2,     33.5,2,    24.21,2,     0.29,2,     1.67,2,     -999,9,     -999,9,     -999,9,   2167.8,2,  2288.04,2,   7.6653,2,    24.92,     -999,9,     -999,1,  -1.2610,2,     -999,9,     -999,9,     -999,     -999,9,     -999,9,     -999,9,     -999,1,    0.285,1,    4.571,1,    0.230,1,     -999,9,     -999,1,20180419,0947, -66.9998,-142.0980,     -999,1,     -999,1,-999          ,9,     -999,1,     -999,9,     -999,     -999,9,     -999,     -999,9,     -999,1,     -999,1,     -999,1,     -999,1,     -999,1,     -999,1,     -999,1,     -999,1,     -999,1,     -999,1,     -999,1,     -999,1,     -999,1
320620180309  ,S04P       ,73      ,  1,34         ,34         ,2,20180419,0801, -67.0001,-142.0979,     3613,     74.7,-1.2484861111111107412,33.769401328867801,2,  33.7665,2,352.14779116518304,2, 352.1960,2,    352.6,2,     33.7,2,    24.23,2,     0.29,2,     1.67,2,     -999,9,     -999,9,     -999,9,     -999,9,     -999,9,     -999,9,     -999,     -999,9,     -999,9,  -1.2485,2,     -999,9,     -999,9,     -999,     -999,9,     -999,9,     -999,9,     -999,9,    0.271,1,    4.576,1,    0.227,1,     -999,9,     -999,9,20180419,0946, -66.9998,-142.0980,     -999,9,     -999,9,-999          ,9,     -999,9,     -999,9,     -999,     -999,9,     -999,     -999,9,     -999,1,     -999,1,     -999,1,     -999,1,     -999,1,     -999,1,     -999,1,     -999,1,     -999,1,     -999,1,     -999,1,     -999,1,     -999,1
320620180309  ,S04P       ,73      ,  1,33         ,33         ,2,20180419,0801, -67.0001,-142.0979,     3613,    100.7,-1.2237972222222224250,33.973446330606379,2,  33.9845,2,336.81721073209883,2, 336.7970,2,    335.2,2,     46.6,2,    26.12,2,     0.25,2,     1.87,2,    5.390,2,    3.003,2,   3.6400,2,   2190.8,2,  2301.59,2,   7.6418,2,    24.91,     -999,9,     -999,1,  -1.2231,2,     -999,9,     -999,9,     -999,     -999,9,     -999,9,     -999,9,     -999,1,    0.181,1,    4.601,1,    0.198,1,  17.8100,2,     -999,1,20180419,0943, -66.9998,-142.0980,     -999,1,     -999,1,-999          ,9,     -999,1,     -999,9,     -999,     -999,9,     -999,     -999,9,     -999,1,     -999,1,     -999,1,     -999,1,     -999,1,     -999,1,     -999,1,     -999,1,     -999,1,     -999,1,     -999,1,     -999,1,     -999,1
320620180309  ,S04P       ,73      ,  1,32         ,32         ,2,20180419,0801, -67.0001,-142.0979,     3613,    125.3,-1.2903472222222223120,34.173968233398988,2,  34.1762,2,315.68316789170649,2, 314.2015,2,    314.7,2,     58.6,2,    28.21,2,     0.21,2,     2.01,2,     -999,9,     -999,9,     -999,9,   2210.1,2,  2311.32,2,   7.6119,2,    24.91,     -999,9,     -999,9,  -1.2974,2,     -999,9,     -999,9,     -999,     -999,9,     -999,9,     -999,9,     -999,9,    0.093,1,    4.630,1,    0.165,1,     -999,9,     -999,9,20180419,0942, -66.9998,-142.0980,     -999,9,     -999,9,-999          ,9,     -999,9,     -999,9,     -999,     -999,9,     -999,     -999,9,     -999,9,     -999,9,     -999,9,     -999,9,     -999,9,     -999,9,     -999,9,     -999,9,     -999,9,     -999,9,     -999,9,     -999,9,     -999,9
320620180309  ,S04P       ,73      ,  1,31         ,31         ,2,20180419,0801, -67.0001,-142.0979,     3613,    150.7,-0.5741916666666668778,34.305971524939999,2,  34.3043,2,280.32656660905769,2, 277.2991,2,    279.0,2,     66.9,2,    30.43,2,     0.14,2,     2.13,2,    3.889,2,    2.151,2,   2.4900,2,   2226.0,2,  2319.61,2,   7.5865,2,    24.90,     -999,9,     -999,1,  -0.5748,2,     -999,9,     -999,9,     -999,     -999,9,     -999,9,     -999,9,     -999,1,    0.066,1,    4.646,1,    0.153,1,  20.2100,2,     -999,1,20180419,0940, -66.9998,-142.0980,     -999,1,     -999,1,-999          ,9,     -999,1,     -999,9,     -999,     -999,9,     -999,     -999,9,     -999,1,     -999,1,     -999,1,     -999,1,     -999,1,     -999,1,     -999,1,     -999,1,     -999,1,     -999,1,     -999,1,     -999,1,     -999,1
320620180309  ,S04P       ,73      ,  1,30         ,30         ,2,20180419,0801, -67.0001,-142.0979,     3613,    201.2,1.3407861111111112340,34.636960792807336,2,  34.6342,2,195.86571666916973,2, 196.2007,2,    194.3,2,     84.8,2,    33.06,2,     0.02,2,     2.25,2,     -999,9,     -999,9,     -999,9,   2253.6,2,  2341.04,2,   7.5610,2,    24.91,     -999,9,     -999,9,   1.3393,2,     -999,9,     -999,9,     -999,     -999,9,     -999,9,     -999,9,     -999,9,    0.064,1,    4.647,1,    0.149,1,     -999,9,     -999,9,20180419,0938, -66.9997,-142.0980,     -999,9,     -999,9,-999          ,9,     -999,9,     -999,9,     -999,     -999,9,     -999,     -999,9,     -999,9,     -999,9,     -999,9,     -999,9,     -999,9,     -999,9,     -999,9,     -999,9,     -999,9,     -999,9,     -999,9,     -999,9,     -999,9
320620180309  ,S04P       ,73      ,  1,29         ,29         ,2,20180419,0801, -67.0001,-142.0979,     3613,    252.2,1.5393083333333332785,34.687352076278053,2,  34.6854,2,187.97496317472209,2, 187.3982,2,    187.4,2,     88.8,2,    32.69,2,     0.01,2,     2.25,2,    0.634,2,    0.343,2,   0.2800,2,   2255.4,2,  2346.19,2,   7.5685,2,    24.90,     -999,9,     -999,1,   1.5380,2,     -999,9,     -999,9,     -999,     -999,9,     -999,9,     -999,9,     -999,1,    0.064,1,    4.648,1,    0.146,1,  21.5500,2,     -999,1,20180419,0936, -66.9997,-142.0980,     -999,1,     -999,1,-999          ,9,     -999,1,     -999,9,     -999,     -999,9,     -999,     -999,9,     -999,1,     -999,1,     -999,1,     -999,1,     -999,1,     -999,1,     -999,1,     -999,1,     -999,1,     -999,1,     -999,1,     -999,1,     -999,1
320620180309  ,S04P       ,73      ,  1,28         ,28         ,2,20180419,0801, -67.0001,-142.0979,     3613,    302.5,1.5849555555555556730,34.711575595789483,2,  34.7088,2,186.68367820118783,2, 186.5960,2,    186.4,2,     92.0,2,    32.43,2,     0.00,2,     2.23,2,     -999,9,     -999,9,     -999,9,   2257.3,6,  2349.40,2,   7.5768,2,    24.91,     -999,9,     -999,9,   1.5844,2,     -999,9,     -999,9,     -999,     -999,9,     -999,9,     -999,9,     -999,9,    0.062,1,    4.650,1,    0.144,1,     -999,9,     -999,9,20180419,0934, -66.9996,-142.0981,     -999,9,     -999,9,-999          ,9,     -999,9,     -999,9,     -999,     -999,9,     -999,     -999,9,     -999,9,     -999,9,     -999,9,     -999,9,     -999,9,     -999,9,     -999,9,     -999,9,     -999,9,     -999,9,     -999,9,     -999,9,     -999,9
320620180309  ,S04P       ,73      ,  1,27         ,27         ,2,20180419,0801, -67.0001,-142.0979,     3613,    352.2,1.5834472222222220061,34.720429793447337,2,  34.7180,2,188.06592738706519,2, 186.5969,2,    187.5,2,     93.8,2,    32.23,2,     0.00,2,     2.21,2,    0.359,2,    0.189,2,   0.1000,2,   2257.1,2,  2351.92,2,   7.5794,2,    24.89,     -999,9,     -999,1,   1.5826,2,     -999,9,     -999,9,     -999,     -999,9,     -999,9,     -999,9,     -999,1,    0.061,1,    4.654,1,    0.142,1,  20.9000,2,     -999,1,20180419,0931, -66.9996,-142.0981,     -999,1,     -999,1,-999          ,9,     -999,1,     -999,9,     -999,     -999,9,     -999,     -999,9,     -999,1,     -999,1,     -999,1,     -999,1,     -999,1,     -999,1,     -999,1,     -999,1,     -999,1,     -999,1,     -999,1,     -999,1,     -999,1
320620180309  ,S04P       ,73      ,  1,26         ,26         ,2,20180419,0801, -67.0001,-142.0979,     3613,    396.7,1.5523166666666667890,34.725132574467594,2,  34.7233,2,188.25456682055534,2, 187.4957,2,    188.2,2,     95.5,2,    32.17,2,     0.00,2,     2.20,2,     -999,9,     -999,9,     -999,9,   2259.1,2,  2352.17,2,   7.5809,6,    24.89,     -999,9,     -999,9,   1.5550,2,     -999,9,     -999,9,     -999,     -999,9,     -999,9,     -999,9,     -999,9,    0.061,1,    4.654,1,    0.141,1,     -999,9,     -999,9,20180419,0930, -66.9995,-142.0981,     -999,9,     -999,9,-999          ,9,     -999,9,     -999,9,     -999,     -999,9,     -999,     -999,9,     -999,1,     -999,1,     -999,1,     -999,1,     -999,1,     -999,1,     -999,1,     -999,1,     -999,1,     -999,1,     -999,1,     -999,1,     -999,1
320620180309  ,S04P       ,73      ,  1,25         ,25         ,2,20180419,0801, -67.0001,-142.0979,     3613,    402.6,1.5445444444444447196,34.725784672513377,2,  34.7235,2,187.70532943728551,2, 187.5023,2,    187.6,2,     95.9,2,    32.14,2,     0.00,2,     2.21,2,    0.307,2,    0.161,2,   0.1400,2,     -999,9,     -999,9,     -999,9,     -999,     -999,9,     -999,1,   1.5437,2,     -999,9,     -999,9,     -999,     -999,9,     -999,9,     -999,9,     -999,1,    0.063,1,    4.655,1,    0.142,1,  20.9000,2,     -999,1,20180419,0929, -66.9995,-142.0981,     -999,1,     -999,1,-999          ,9,     -999,1,     -999,9,     -999,     -999,9,     -999,     -999,9,     -999,9,     -999,9,     -999,9,     -999,9,     -999,9,     -999,9,     -999,9,     -999,9,     -999,9,     -999,9,     -999,9,     -999,9,     -999,9
320620180309  ,S04P       ,73      ,  1,24         ,24         ,2,20180419,0801, -67.0001,-142.0979,     3613,    453.7,1.5053916666666666835,34.727762573298499,2,  34.7257,2,187.65280479487728,2, 187.5977,2,    187.4,2,     97.7,2,    32.28,2,     0.00,2,     2.21,2,     -999,9,     -999,9,     -999,9,     -999,9,     -999,9,     -999,9,     -999,     -999,9,     -999,9,   1.5048,2,     -999,9,     -999,9,     -999,     -999,9,     -999,9,     -999,9,     -999,9,    0.062,1,    4.655,1,    0.154,1,     -999,9,     -999,9,20180419,0927, -66.9995,-142.0981,     -999,9,     -999,9,-999          ,9,     -999,9,     -999,9,     -999,     -999,9,     -999,     -999,9,     -999,9,     -999,9,     -999,9,     -999,9,     -999,9,     -999,9,     -999,9,     -999,9,     -999,9,     -999,9,     -999,9,     -999,9,     -999,9
320620180309  ,S04P       ,73      ,  1,23         ,23         ,2,20180419,0801, -67.0001,-142.0979,     3613,    503.6,1.4606250000000000622,34.730177039995866,2,  34.7278,2,187.77392087196071,2, 188.0003,2,    187.2,2,    100.0,2,    32.32,2,     0.00,2,     2.20,2,    0.246,2,    0.126,2,   0.0300,2,   2262.0,2,  2353.20,2,   7.5806,2,    24.90,     -999,9,     -999,1,   1.4597,2,     -999,9,     -999,9,     -999,     -999,9,     -999,9,     -999,9,     -999,1,    0.062,1,    4.656,1,    0.141,1,  21.3900,2,     -999,1,20180419,0925, -66.9995,-142.0981,     -999,1,     -999,1,-999          ,9,     -999,1,     -999,9,     -999,     -999,9,     -999,     -999,9,     -999,1,     -999,1,     -999,1,     -999,1,     -999,1,     -999,1,     -999,1,     -999,1,     -999,1,     -999,1,     -999,1,     -999,1,     -999,1
320620180309  ,S04P       ,73      ,  1,22         ,37         ,2,20180419,0801, -67.0001,-142.0979,     3613,    606.4,1.3810138888888889852,34.731293208946987,2,  34.7290,2,188.97882937510664,2, 189.9997,2,    189.1,2,    103.3,2,    32.33,2,     0.00,2,     2.20,2,     -999,9,     -999,9,     -999,9,     -999,9,     -999,9,     -999,9,     -999,     -999,9,     -999,9,   1.3824,2,     -999,9,     -999,9,     -999,     -999,9,     -999,9,     -999,9,     -999,9,    0.061,1,    4.657,1,    0.138,1,     -999,9,     -999,9,20180419,0922, -66.9995,-142.0981,     -999,9,     -999,9,-999          ,9,     -999,9,     -999,9,     -999,     -999,9,     -999,     -999,9,     -999,9,     -999,9,     -999,9,     -999,9,     -999,9,     -999,9,     -999,9,     -999,9,     -999,9,     -999,9,     -999,9,     -999,9,     -999,9
320620180309  ,S04P       ,73      ,  1,21         ,21         ,2,20180419,0801, -67.0001,-142.0979,     3613,    707.3,1.2950055555555557429,34.730024527123213,2,  34.7274,2,191.23149329666916,2, 191.2960,2,    192.1,2,    106.0,2,    32.24,2,     0.00,2,     2.20,2,    0.182,2,    0.089,2,   0.1500,2,   2262.2,2,  2357.35,2,   7.5878,2,    24.89,     -999,9,     -999,9,   1.2941,2,     -999,9,     -999,9,     -999,     -999,9,     -999,9,     -999,9,     -999,9,    0.061,1,    4.658,1,    0.137,1,  20.6700,2,     -999,9,20180419,0919, -66.9996,-142.0981,     -999,9,     -999,9,-999          ,9,     -999,9,     -999,9,     -999,     -999,9,     -999,     -999,9,     -999,1,     -999,1,     -999,1,     -999,1,     -999,1,     -999,1,     -999,1,     -999,1,     -999,1,     -999,1,     -999,1,     -999,1,     -999,1
320620180309  ,S04P       ,73      ,  1,20         ,20         ,2,20180419,0801, -67.0001,-142.0979,     3613,    808.4,1.2220083333333331410,34.728056451821558,2,  34.7259,2,191.96697174497868,2, 192.1898,2,    192.7,2,    108.8,2,    32.38,2,     0.00,2,     2.21,2,     -999,9,     -999,9,     -999,9,     -999,9,     -999,9,     -999,9,     -999,     -999,9,     -999,9,   1.2218,2,     -999,9,     -999,9,     -999,     -999,9,     -999,9,     -999,9,     -999,9,    0.061,1,    4.658,1,    0.137,1,     -999,9,     -999,9,20180419,0916, -66.9997,-142.0980,     -999,9,     -999,9,-999          ,9,     -999,9,     -999,9,     -999,     -999,9,     -999,     -999,9,     -999,9,     -999,9,     -999,9,     -999,9,     -999,9,     -999,9,     -999,9,     -999,9,     -999,9,     -999,9,     -999,9,     -999,9,     -999,9
320620180309  ,S04P       ,73      ,  1,19         ,19         ,2,20180419,0801, -67.0001,-142.0979,     3613,    910.5,1.1597861111111111843,34.725901584724603,2,  34.7247,2,194.53689479276568,2, 193.4047,2,    194.2,2,    111.0,2,    32.41,2,     0.00,2,     2.20,2,    0.156,2,    0.084,2,   0.0800,2,   2264.2,2,  2359.97,2,   7.5875,2,    24.89,     -999,9,     -999,1,   1.1592,2,     -999,9,     -999,9,     -999,     -999,9,     -999,9,     -999,9,     -999,1,    0.062,1,    4.660,1,    0.135,1,  20.1000,2,     -999,1,20180419,0913, -66.9997,-142.0980,     -999,1,     -999,1,-999          ,9,     -999,1,     -999,9,     -999,     -999,9,     -999,     -999,9,     -999,1,     -999,1,     -999,1,     -999,1,     -999,1,     -999,1,     -999,1,     -999,1,     -999,1,     -999,1,     -999,1,     -999,1,     -999,1
320620180309  ,S04P       ,73      ,  1,18         ,18         ,2,20180419,0801, -67.0001,-142.0979,     3613,   1011.6,1.0914111111111111097,34.723440359883142,2,  34.7223,2,196.29778691073031,2, 195.3040,2,    196.3,2,    112.4,2,    32.27,2,     0.00,2,     2.21,2,     -999,9,     -999,9,     -999,9,     -999,9,     -999,9,     -999,9,     -999,     -999,9,     -999,9,   1.0908,2,     -999,9,     -999,9,     -999,     -999,9,     -999,9,     -999,9,     -999,9,    0.061,1,    4.660,1,    0.131,1,     -999,9,     -999,9,20180419,0911, -66.9996,-142.0981,     -999,9,     -999,9,-999          ,9,     -999,9,     -999,9,     -999,     -999,9,     -999,     -999,9,     -999,9,     -999,9,     -999,9,     -999,9,     -999,9,     -999,9,     -999,9,     -999,9,     -999,9,     -999,9,     -999,9,     -999,9,     -999,9
320620180309  ,S04P       ,73      ,  1,17         ,17         ,2,20180419,0801, -67.0001,-142.0979,     3613,   1113.5,1.0434361111111112308,34.721531816913235,2,  34.7202,2,195.50706770943523,2, 196.7049,2,    194.3,3,    114.8,2,    32.54,2,     0.00,2,     2.22,2,     -999,9,     -999,9,     -999,9,   2263.5,2,  2361.12,2,   7.5870,2,    24.89,     -999,9,     -999,9,   1.0431,2,     -999,9,     -999,9,     -999,     -999,9,     -999,9,     -999,9,     -999,9,    0.061,1,    4.659,1,    0.135,1,     -999,9,     -999,9,20180419,0908, -66.9996,-142.0980,     -999,9,     -999,9,-999          ,9,     -999,9,     -999,9,     -999,     -999,9,     -999,     -999,9,     -999,1,     -999,1,     -999,1,     -999,1,     -999,1,     -999,1,     -999,1,     -999,1,     -999,1,     -999,1,     -999,1,     -999,1,     -999,1
320620180309  ,S04P       ,73      ,  1,16         ,16         ,2,20180419,0801, -67.0001,-142.0979,     3613,   1215.0,0.9758722222222225851,34.718737103100004,2,  34.7172,2,199.17875352939853,2, 196.3995,2,    198.8,2,    116.3,2,    32.37,2,     0.00,2,     2.23,2,     -999,9,     -999,9,     -999,9,     -999,9,     -999,9,     -999,9,     -999,     -999,9,     -999,9,   0.9750,2,     -999,9,     -999,9,     -999,     -999,9,     -999,9,     -999,9,     -999,9,    0.061,1,    4.661,1,    0.133,1,     -999,9,     -999,9,20180419,0905, -66.9995,-142.0981,     -999,9,     -999,9,-999          ,9,     -999,9,     -999,9,     -999,     -999,9,     -999,     -999,9,     -999,9,     -999,9,     -999,9,     -999,9,     -999,9,     -999,9,     -999,9,     -999,9,     -999,9,     -999,9,     -999,9,     -999,9,     -999,9