BOTTLE,20240515CCHHYDRO
EXPOCODE,SECT_ID,STNNBR,CASTNO,SAMPNO,BTLNBR,BTLNBR_FLAG_W,DATE,TIME,LATITUDE,LONGITUDE,DEPTH,CTDPRS,CTDTMP,CTDSAL,CTDSAL_FLAG_W,SALNTY,SALNTY_FLAG_W,CTDOXY,CTDOXY_FLAG_W,CTDOPTOXY,CTDOPTOXY_FLAG_W,OXYGEN,OXYGEN_FLAG_W,SILCAT,SILCAT_FLAG_W,NITRAT,NITRAT_FLAG_W,NITRIT,NITRIT_FLAG_W,PHSPHT,PHSPHT_FLAG_W,CFC-11,CFC-11_FLAG_W,CFC-12,CFC-12_FLAG_W,SF6,SF6_FLAG_W,TCARBN,TCARBN_FLAG_W,ALKALI,ALKALI_FLAG_W,PH_TOT,PH_TOT_FLAG_W,PH_TMP,DOC,DOC_FLAG_W,HELIUM,HELIUM_FLAG_W,REFTMP,REFTMP_FLAG_W,DELC13,DELC13_FLAG_W,DELC14,DELC14_FLAG_W,C14ERR,POC,POC_FLAG_W,TDN,TDN_FLAG_W,TON,TON_FLAG_W,NEON,NEON_FLAG_W,CTDFLUOR,CTDFLUOR_FLAG_W,CTDXMISS,CTDXMISS_FLAG_W,CTDBETA700,CTDBETA700_FLAG_W,N2O,N2O_FLAG_W,ARGON,ARGON_FLAG_W,BTL_DATE,BTL_TIME,BTL_LAT,BTL_LON,KRYPTON,KRYPTON_FLAG_W,XENON,XENON_FLAG_W,HPLC,HPLC_FLAG_W,HE3_HE4_RATIO,HE3_HE4_RATIO_FLAG_W,Nd_143_144_D_EPSILON_BOTTLE,Nd_143_144_D_EPSILON_BOTTLE_FLAG_W,Nd_143_144_D_EPSILON_BOTTLE_ERROR,Nd_143_144_D_RATIO_BOTTLE,Nd_143_144_D_RATIO_BOTTLE_FLAG_W,Nd_143_144_D_RATIO_BOTTLE_ERROR,Nd_D_CONC,Nd_D_CONC_FLAG_W,La_D_CONC_BOTTLE,La_D_CONC_BOTTLE_FLAG_W,Ce_D_CONC_BOTTLE,Ce_D_CONC_BOTTLE_FLAG_W,Pr_D_CONC_BOTTLE,Pr_D_CONC_BOTTLE_FLAG_W,Sm_D_CONC_BOTTLE,Sm_D_CONC_BOTTLE_FLAG_W,Eu_D_CONC_BOTTLE,Eu_D_CONC_BOTTLE_FLAG_W,Gd_D_CONC_BOTTLE,Gd_D_CONC_BOTTLE_FLAG_W,Tb_D_CONC_BOTTLE,Tb_D_CONC_BOTTLE_FLAG_W,Dy_D_CONC_BOTTLE,Dy_D_CONC_BOTTLE_FLAG_W,Ho_D_CONC_BOTTLE,Ho_D_CONC_BOTTLE_FLAG_W,Er_D_CONC_BOTTLE,Er_D_CONC_BOTTLE_FLAG_W,Tm_D_CONC_BOTTLE,Tm_D_CONC_BOTTLE_FLAG_W,Yb_D_CONC_BOTTLE,Yb_D_CONC_BOTTLE_FLAG_W,Lu_D_CONC_BOTTLE,Lu_D_CONC_BOTTLE_FLAG_W
,,,,,,,,,,,METERS,DBAR,ITS-90,PSS-78,,PSS-78,,UMOL/KG,,UMOL/KG,,UMOL/KG,,UMOL/KG,,UMOL/KG,,UMOL/KG,,UMOL/KG,,PMOL/KG,,PMOL/KG,,FMOL/KG,,UMOL/KG,,UMOL/KG,,,,DEG C,UMOL/KG,,NMOL/L,,DEG C,,/MILLE,,/MILLE,,/MILLE,UG/KG,,UMOL/KG,,UMOL/KG,,NMOL/L,,VOLTS,,VOLTS,,VOLTS,,NMOL/KG,,UMOL/L,,,,,,NMOL/L,,NMOL/L,,,,,,10000,,10000,,,,PMOL/KG,,PMOL/L,,PMOL/L,,PMOL/L,,PMOL/L,,PMOL/L,,PMOL/L,,PMOL/L,,PMOL/L,,PMOL/L,,PMOL/L,,PMOL/L,,PMOL/L,,PMOL/L,
320620180309  ,S04P       ,111     ,  1,15         ,15         ,2,20180504,0400, -67.3000, -92.9997,     4017,   1280.6,1.7827933294675366582,34.727626013298483,2,  34.7274,2,188.75123196101464,2, 188.4005,2,    189.6,2,     93.0,2,    31.68,2,     0.00,2,     2.16,2,    0.173,2,    0.092,2,   0.0700,2,   2256.7,2,  2356.76,2,   7.5968,2,    25.02,     -999,9,     -999,9,   1.7832,2,     -999,9,     -999,9,     -999,     -999,9,     -999,9,     -999,9,     -999,9,    0.061,1,    4.649,1,    0.130,1,  19.7200,2,     -999,9,20180504,0508, -67.2992, -92.9996,     -999,9,     -999,9,-999          ,9,     -999,9,     -999,9,     -999,     -999,9,     -999,     -999,9,     -999,9,     -999,9,     -999,9,     -999,9,     -999,9,     -999,9,     -999,9,     -999,9,     -999,9,     -999,9,     -999,9,     -999,9,     -999,9
320620180309  ,S04P       ,111     ,  1,14         ,14         ,2,20180504,0400, -67.3000, -92.9997,     4017,   1383.3,1.6834429444450527136,34.729853448209425,2,  34.7294,2,190.63181927157831,2, 190.6003,2,    190.7,2,     95.8,2,    31.65,2,     0.00,2,     2.16,2,     -999,9,     -999,9,     -999,9,     -999,9,     -999,9,     -999,9,     -999,     -999,9,     -999,9,   1.6844,2,     -999,9,     -999,9,     -999,     -999,9,     -999,9,     -999,9,     -999,9,    0.061,1,    4.649,1,    0.129,1,     -999,9,     -999,9,20180504,0505, -67.2993, -92.9996,     -999,9,     -999,9,-999          ,9,     -999,9,     -999,9,     -999,     -999,9,     -999,     -999,9,     -999,9,     -999,9,     -999,9,     -999,9,     -999,9,     -999,9,     -999,9,     -999,9,     -999,9,     -999,9,     -999,9,     -999,9,     -999,9
320620180309  ,S04P       ,111     ,  1,13         ,13         ,2,20180504,0400, -67.3000, -92.9997,     4017,   1484.1,1.6082389652436939187,34.729981541939793,2,  34.7304,2,191.77431049079030,2, 191.6960,2,    191.8,2,     98.5,2,    31.66,2,     0.00,2,     2.17,2,    0.153,2,    0.081,2,   0.0200,2,   2256.9,2,  2358.82,2,   7.5976,2,    25.02,     -999,9,     -999,9,   1.6083,2,     -999,9,     -999,9,     -999,     -999,9,     -999,9,     -999,9,     -999,9,    0.061,1,    4.649,1,    0.129,1,  19.7400,2,     -999,9,20180504,0502, -67.2995, -92.9995,     -999,9,     -999,9,-999          ,9,     -999,9,     -999,9,     -999,     -999,9,     -999,     -999,9,     -999,9,     -999,9,     -999,9,     -999,9,     -999,9,     -999,9,     -999,9,     -999,9,     -999,9,     -999,9,     -999,9,     -999,9,     -999,9
320620180309  ,S04P       ,111     ,  1,12         ,12         ,2,20180504,0400, -67.3000, -92.9997,     4017,   1585.8,1.5408151046567168940,34.730052366448035,2,  34.7302,2,192.76102998071840,2, 192.9041,2,    193.0,2,    100.3,2,    31.68,2,     0.00,2,     2.15,2,     -999,9,     -999,9,     -999,9,     -999,9,     -999,9,     -999,9,     -999,     -999,9,     -999,9,   1.5407,2,     -999,9,     -999,9,     -999,     -999,9,     -999,9,     -999,9,     -999,9,    0.061,1,    4.649,1,    0.129,1,     -999,9,     -999,9,20180504,0459, -67.2997, -92.9995,     -999,9,     -999,9,-999          ,9,     -999,9,     -999,9,     -999,     -999,9,     -999,     -999,9,     -999,9,     -999,9,     -999,9,     -999,9,     -999,9,     -999,9,     -999,9,     -999,9,     -999,9,     -999,9,     -999,9,     -999,9,     -999,9
320620180309  ,S04P       ,111     ,  1,11         ,11         ,2,20180504,0400, -67.3000, -92.9997,     4017,   1705.1,1.4540204168036052756,34.728943976198103,2,  34.7290,2,194.58398723084400,2, 194.5997,2,    194.3,2,    103.1,2,    31.69,2,     0.00,2,     2.17,2,    0.137,2,    0.088,2,   0.0000,2,   2258.5,2,  2362.10,2,   7.6000,6,    25.03,     -999,9,     -999,9,   1.4549,2,     -999,9,     -999,9,     -999,     -999,9,     -999,9,     -999,9,     -999,9,    0.061,1,    4.649,1,    0.129,1,  19.5700,2,     -999,9,20180504,0455, -67.3001, -92.9997,     -999,9,     -999,9,-999          ,9,     -999,9,     -999,9,     -999,     -999,9,     -999,     -999,9,     -999,9,     -999,9,     -999,9,     -999,9,     -999,9,     -999,9,     -999,9,     -999,9,     -999,9,     -999,9,     -999,9,     -999,9,     -999,9
320620180309  ,S04P       ,111     ,  1,10         ,10         ,2,20180504,0400, -67.3000, -92.9997,     4017,   1790.0,1.3832157592625160536,34.727293817625778,2,  34.7264,2,195.78522316949307,2, 195.4982,2,    195.8,2,    105.3,2,    31.79,2,     0.00,2,     2.20,2,     -999,9,     -999,9,     -999,9,     -999,9,     -999,9,     -999,9,     -999,     -999,9,     -999,9,   1.3831,2,     -999,9,     -999,9,     -999,     -999,9,     -999,9,     -999,9,     -999,9,    0.061,1,    4.650,1,    0.129,1,     -999,9,     -999,9,20180504,0453, -67.3003, -92.9998,     -999,9,     -999,9,-999          ,9,     -999,9,     -999,9,     -999,     -999,9,     -999,     -999,9,     -999,9,     -999,9,     -999,9,     -999,9,     -999,9,     -999,9,     -999,9,     -999,9,     -999,9,     -999,9,     -999,9,     -999,9,     -999,9
320620180309  ,S04P       ,111     ,  1,9          ,9          ,2,20180504,0400, -67.3000, -92.9997,     4017,   1961.5,1.2764082190601018230,34.723765067487051,2,  34.7237,2,197.55916370244779,2, 197.5012,2,    197.3,2,    109.1,2,    31.93,2,     0.00,2,     2.20,2,    0.117,2,    0.066,2,   0.0600,2,     -999,9,     -999,9,     -999,9,     -999,     -999,9,     -999,9,   1.2756,2,     -999,9,     -999,9,     -999,     -999,9,     -999,9,     -999,9,     -999,9,    0.061,1,    4.649,1,    0.129,1,  19.2200,2,     -999,9,20180504,0448, -67.3003, -92.9997,     -999,9,     -999,9,-999          ,9,     -999,9,     -999,9,     -999,     -999,9,     -999,     -999,9,     -999,9,     -999,9,     -999,9,     -999,9,     -999,9,     -999,9,     -999,9,     -999,9,     -999,9,     -999,9,     -999,9,     -999,9,     -999,9
320620180309  ,S04P       ,111     ,  1,8          ,8          ,2,20180504,0400, -67.3000, -92.9997,     4017,   2197.3,1.1367184977533670853,34.720054323688665,2,  34.7200,2,199.93725264623160,2, 200.1016,2,    200.0,2,    113.5,2,    32.06,2,     0.00,2,     2.23,2,     -999,9,     -999,9,     -999,9,   2263.2,2,  2364.57,2,   7.5995,2,    25.02,     -999,9,     -999,9,   1.1368,2,     -999,9,     -999,9,     -999,     -999,9,     -999,9,     -999,9,     -999,9,    0.061,1,    4.650,1,    0.128,1,     -999,9,     -999,9,20180504,0443, -67.3001, -92.9997,     -999,9,     -999,9,-999          ,9,     -999,9,     -999,9,     -999,     -999,9,     -999,     -999,9,     -999,9,     -999,9,     -999,9,     -999,9,     -999,9,     -999,9,     -999,9,     -999,9,     -999,9,     -999,9,     -999,9,     -999,9,     -999,9
320620180309  ,S04P       ,111     ,  1,7          ,7          ,2,20180504,0400, -67.3000, -92.9997,     4017,   2453.3,1.0067743886723470315,34.715379434842063,2,  34.7157,2,202.79136320441748,2, 202.5002,2,    202.7,2,    117.9,2,    32.20,2,     0.00,2,     2.23,2,    0.134,2,    0.075,2,   0.0200,2,     -999,9,     -999,9,     -999,9,     -999,     -999,9,     -999,9,   1.0068,2,     -999,9,     -999,9,     -999,     -999,9,     -999,9,     -999,9,     -999,9,    0.061,1,    4.650,1,    0.128,1,  19.2000,2,     -999,9,20180504,0437, -67.2997, -92.9998,     -999,9,     -999,9,-999          ,9,     -999,9,     -999,9,     -999,     -999,9,     -999,     -999,9,     -999,9,     -999,9,     -999,9,     -999,9,     -999,9,     -999,9,     -999,9,     -999,9,     -999,9,     -999,9,     -999,9,     -999,9,     -999,9
320620180309  ,S04P       ,111     ,  1,6          ,6          ,2,20180504,0400, -67.3000, -92.9997,     4017,   2709.1,0.8754155842117473663,34.710450856807668,2,  34.7106,2,204.94660289309510,2, 204.8036,2,    205.4,2,    122.6,2,    32.41,2,     0.00,2,     2.23,2,     -999,9,     -999,9,     -999,9,   2262.7,2,  2364.52,2,   7.5982,2,    25.02,     -999,9,     -999,9,   0.8753,2,     -999,9,     -999,9,     -999,     -999,9,     -999,9,     -999,9,     -999,9,    0.061,1,    4.651,1,    0.127,1,     -999,9,     -999,9,20180504,0431, -67.3001, -93.0000,     -999,9,     -999,9,-999          ,9,     -999,9,     -999,9,     -999,     -999,9,     -999,     -999,9,     -999,9,     -999,9,     -999,9,     -999,9,     -999,9,     -999,9,     -999,9,     -999,9,     -999,9,     -999,9,     -999,9,     -999,9,     -999,9
320620180309  ,S04P       ,111     ,  1,5          ,5          ,2,20180504,0400, -67.3000, -92.9997,     4017,   2964.0,0.8015031695238485909,34.707601957708839,2,  34.7076,2,207.18403858667665,2, 206.2985,2,    206.2,2,    125.0,2,    32.45,2,     0.00,2,     2.23,2,    0.174,2,    0.101,2,   0.0000,2,     -999,9,     -999,9,     -999,9,     -999,     -999,9,     -999,9,   0.8024,2,     -999,9,     -999,9,     -999,     -999,9,     -999,9,     -999,9,     -999,9,    0.061,1,    4.650,1,    0.126,1,  18.7900,2,     -999,9,20180504,0425, -67.3004, -93.0001,     -999,9,     -999,9,-999          ,9,     -999,9,     -999,9,     -999,     -999,9,     -999,     -999,9,     -999,9,     -999,9,     -999,9,     -999,9,     -999,9,     -999,9,     -999,9,     -999,9,     -999,9,     -999,9,     -999,9,     -999,9,     -999,9
320620180309  ,S04P       ,111     ,  1,4          ,4          ,2,20180504,0400, -67.3000, -92.9997,     4017,   3256.4,0.6578465691009033334,34.703949131897616,2,  34.7041,2,209.06352267700615,2, 208.8030,2,    209.2,2,    128.6,2,    32.64,2,     0.00,2,     2.25,2,     -999,9,     -999,9,     -999,9,   2263.0,2,  2365.98,2,   7.5964,2,    25.04,     -999,9,     -999,9,   0.6579,2,     -999,9,     -999,9,     -999,     -999,9,     -999,9,     -999,9,     -999,9,    0.061,1,    4.650,1,    0.126,1,     -999,9,     -999,9,20180504,0419, -67.3000, -92.9999,     -999,9,     -999,9,-999          ,9,     -999,9,     -999,9,     -999,     -999,9,     -999,     -999,9,     -999,9,     -999,9,     -999,9,     -999,9,     -999,9,     -999,9,     -999,9,     -999,9,     -999,9,     -999,9,     -999,9,     -999,9,     -999,9
320620180309  ,S04P       ,111     ,  1,3          ,3          ,2,20180504,0400, -67.3000, -92.9997,     4017,   3565.8,0.5409549199212985160,34.702021641972244,2,  34.7017,2,210.75309070557739,2, 211.0991,2,    210.9,2,    132.3,2,    32.83,2,     0.00,2,     2.25,2,    0.232,2,    0.126,2,   0.0700,2,   2263.9,2,  2365.54,2,   7.5965,2,    25.02,     -999,9,     -999,9,   0.5427,2,     -999,9,     -999,9,     -999,     -999,9,     -999,9,     -999,9,     -999,9,    0.061,1,    4.649,1,    0.128,1,  19.1200,2,     -999,9,20180504,0413, -67.3001, -92.9997,     -999,9,     -999,9,-999          ,9,     -999,9,     -999,9,     -999,     -999,9,     -999,     -999,9,     -999,9,     -999,9,     -999,9,     -999,9,     -999,9,     -999,9,     -999,9,     -999,9,     -999,9,     -999,9,     -999,9,     -999,9,     -999,9
320620180309  ,S04P       ,111     ,  1,2          ,2          ,2,20180504,0400, -67.3000, -92.9997,     4017,   3845.5,0.5008304604696667273,34.701500268359652,2,  34.7019,2,212.39237259454987,2, 212.2942,2,    212.8,2,    134.9,2,    32.91,2,     0.00,2,     2.25,2,     -999,9,     -999,9,     -999,9,   2265.8,2,  2366.28,2,   7.5967,2,    25.01,     -999,9,     -999,9,   0.5011,2,     -999,9,     -999,9,     -999,     -999,9,     -999,9,     -999,9,     -999,9,    0.061,1,    4.649,1,    0.126,1,     -999,9,     -999,9,20180504,0406, -67.3003, -92.9997,     -999,9,     -999,9,-999          ,9,     -999,9,     -999,9,     -999,     -999,9,     -999,     -999,9,     -999,9,     -999,9,     -999,9,     -999,9,     -999,9,     -999,9,     -999,9,     -999,9,     -999,9,     -999,9,     -999,9,     -999,9,     -999,9
320620180309  ,S04P       ,111     ,  1,1          ,1          ,2,20180504,0400, -67.3000, -92.9997,     4017,   4084.5,0.4399803180254979185,34.700563005108030,2,  34.7013,2,214.40394555956635,2, 213.2967,2,    213.2,2,    138.3,2,    32.98,2,     0.00,2,     2.25,2,    0.277,2,    0.151,2,   0.1200,2,   2264.2,6,  2366.56,2,   7.5966,2,    25.02,     -999,9,     -999,9,   0.4400,2,     -999,9,     -999,9,     -999,     -999,9,     -999,9,     -999,9,     -999,9,    0.061,1,    4.647,1,    0.127,1,  18.8500,2,     -999,9,20180504,0400, -67.3000, -92.9997,     -999,9,     -999,9,-999          ,9,     -999,9,     -999,9,     -999,     -999,9,     -999,     -999,9,     -999,9,     -999,9,     -999,9,     -999,9,     -999,9,     -999,9,     -999,9,     -999,9,     -999,9,     -999,9,     -999,9,     -999,9,     -999,9