BOTTLE,20240515CCHHYDRO
EXPOCODE,SECT_ID,STNNBR,CASTNO,SAMPNO,BTLNBR,BTLNBR_FLAG_W,DATE,TIME,LATITUDE,LONGITUDE,DEPTH,CTDPRS,CTDTMP,CTDSAL,CTDSAL_FLAG_W,SALNTY,SALNTY_FLAG_W,CTDOXY,CTDOXY_FLAG_W,CTDOPTOXY,CTDOPTOXY_FLAG_W,OXYGEN,OXYGEN_FLAG_W,SILCAT,SILCAT_FLAG_W,NITRAT,NITRAT_FLAG_W,NITRIT,NITRIT_FLAG_W,PHSPHT,PHSPHT_FLAG_W,CFC-11,CFC-11_FLAG_W,CFC-12,CFC-12_FLAG_W,SF6,SF6_FLAG_W,TCARBN,TCARBN_FLAG_W,ALKALI,ALKALI_FLAG_W,PH_TOT,PH_TOT_FLAG_W,PH_TMP,DOC,DOC_FLAG_W,HELIUM,HELIUM_FLAG_W,REFTMP,REFTMP_FLAG_W,DELC13,DELC13_FLAG_W,DELC14,DELC14_FLAG_W,C14ERR,POC,POC_FLAG_W,TDN,TDN_FLAG_W,TON,TON_FLAG_W,NEON,NEON_FLAG_W,CTDFLUOR,CTDFLUOR_FLAG_W,CTDXMISS,CTDXMISS_FLAG_W,CTDBETA700,CTDBETA700_FLAG_W,N2O,N2O_FLAG_W,ARGON,ARGON_FLAG_W,BTL_DATE,BTL_TIME,BTL_LAT,BTL_LON,KRYPTON,KRYPTON_FLAG_W,XENON,XENON_FLAG_W,HPLC,HPLC_FLAG_W,HE3_HE4_RATIO,HE3_HE4_RATIO_FLAG_W,Nd_143_144_D_EPSILON_BOTTLE,Nd_143_144_D_EPSILON_BOTTLE_FLAG_W,Nd_143_144_D_EPSILON_BOTTLE_ERROR,Nd_143_144_D_RATIO_BOTTLE,Nd_143_144_D_RATIO_BOTTLE_FLAG_W,Nd_143_144_D_RATIO_BOTTLE_ERROR,Nd_D_CONC,Nd_D_CONC_FLAG_W,La_D_CONC_BOTTLE,La_D_CONC_BOTTLE_FLAG_W,Ce_D_CONC_BOTTLE,Ce_D_CONC_BOTTLE_FLAG_W,Pr_D_CONC_BOTTLE,Pr_D_CONC_BOTTLE_FLAG_W,Sm_D_CONC_BOTTLE,Sm_D_CONC_BOTTLE_FLAG_W,Eu_D_CONC_BOTTLE,Eu_D_CONC_BOTTLE_FLAG_W,Gd_D_CONC_BOTTLE,Gd_D_CONC_BOTTLE_FLAG_W,Tb_D_CONC_BOTTLE,Tb_D_CONC_BOTTLE_FLAG_W,Dy_D_CONC_BOTTLE,Dy_D_CONC_BOTTLE_FLAG_W,Ho_D_CONC_BOTTLE,Ho_D_CONC_BOTTLE_FLAG_W,Er_D_CONC_BOTTLE,Er_D_CONC_BOTTLE_FLAG_W,Tm_D_CONC_BOTTLE,Tm_D_CONC_BOTTLE_FLAG_W,Yb_D_CONC_BOTTLE,Yb_D_CONC_BOTTLE_FLAG_W,Lu_D_CONC_BOTTLE,Lu_D_CONC_BOTTLE_FLAG_W
,,,,,,,,,,,METERS,DBAR,ITS-90,PSS-78,,PSS-78,,UMOL/KG,,UMOL/KG,,UMOL/KG,,UMOL/KG,,UMOL/KG,,UMOL/KG,,UMOL/KG,,PMOL/KG,,PMOL/KG,,FMOL/KG,,UMOL/KG,,UMOL/KG,,,,DEG C,UMOL/KG,,NMOL/L,,DEG C,,/MILLE,,/MILLE,,/MILLE,UG/KG,,UMOL/KG,,UMOL/KG,,NMOL/L,,VOLTS,,VOLTS,,VOLTS,,NMOL/KG,,UMOL/L,,,,,,NMOL/L,,NMOL/L,,,,,,10000,,10000,,,,PMOL/KG,,PMOL/L,,PMOL/L,,PMOL/L,,PMOL/L,,PMOL/L,,PMOL/L,,PMOL/L,,PMOL/L,,PMOL/L,,PMOL/L,,PMOL/L,,PMOL/L,,PMOL/L,
320620180309  ,S04P       ,7       ,  1,15         ,15         ,2,20180318,1503, -68.4141, 172.1033,     3284,   1179.8,0.8532833333333333936,34.713526903741673,2,  34.7123,2,200.68547427060128,2, 200.4056,2,    200.6,2,    119.4,2,    32.48,2,     0.00,2,     2.19,2,     -999,9,     -999,9,     -999,9,     -999,9,     -999,9,     -999,9,     -999,     40.5,2,     -999,9,   0.8525,2,0.52500000,6, -159.715,6,    0.002,     -999,9,     -999,9,     -999,1,     -999,9,    0.061,1,    4.685,1,    0.130,1,     -999,9,     -999,9,20180318,1612, -68.4141, 172.1030,     -999,9,     -999,9,-999          ,9,     -999,9,     -999,9,     -999,     -999,9,     -999,     -999,9,     -999,9,     -999,9,     -999,9,     -999,9,     -999,9,     -999,9,     -999,9,     -999,9,     -999,9,     -999,9,     -999,9,     -999,9,     -999,9
320620180309  ,S04P       ,7       ,  1,14         ,14         ,2,20180318,1503, -68.4141, 172.1033,     3284,   1280.8,0.8127027777777777739,34.711934632251143,2,  34.7113,2,201.54761733180490,2, 201.8089,2,    201.6,2,    120.5,2,    32.45,2,     0.00,2,     2.19,2,     -999,9,     -999,9,     -999,9,     -999,9,     -999,9,     -999,9,     -999,     40.3,2,     -999,9,   0.8121,2,0.55000000,2, -162.200,2,    0.002,     -999,9,     -999,9,     -999,1,     -999,9,    0.061,1,    4.686,1,    0.129,1,     -999,9,     -999,9,20180318,1609, -68.4140, 172.1036,     -999,9,     -999,9,-999          ,9,     -999,9,     -999,9,     -999,     -999,9,     -999,     -999,9,     -999,9,     -999,9,     -999,9,     -999,9,     -999,9,     -999,9,     -999,9,     -999,9,     -999,9,     -999,9,     -999,9,     -999,9,     -999,9
320620180309  ,S04P       ,7       ,  1,13         ,13         ,2,20180318,1503, -68.4141, 172.1033,     3284,   1382.0,0.7825722222222222246,34.710590613471304,2,  34.7107,2,203.60132082055088,2, 202.6008,2,    202.7,2,    121.1,2,    32.49,2,     0.00,2,     2.20,2,    0.128,2,    0.067,2,   0.0000,2,   2262.5,2,  2361.41,2,   7.5946,2,    24.96,     -999,9,     -999,9,   0.7818,2,0.56000000,2, -161.030,2,    0.002,     -999,9,     -999,9,     -999,9,     -999,9,    0.061,1,    4.686,1,    0.131,1,  20.7000,2,     -999,9,20180318,1605, -68.4140, 172.1037,     -999,9,     -999,9,-999          ,9,     -999,9,     -999,9,     -999,     -999,9,     -999,     -999,9,     -999,9,     -999,9,     -999,9,     -999,9,     -999,9,     -999,9,     -999,9,     -999,9,     -999,9,     -999,9,     -999,9,     -999,9,     -999,9
320620180309  ,S04P       ,7       ,  1,12         ,12         ,2,20180318,1503, -68.4141, 172.1033,     3284,   1484.0,0.7460805555555554136,34.709271422891064,2,  34.7096,2,204.33869727629821,2, 203.6024,2,    203.5,2,    122.3,2,    32.47,2,     0.00,2,     2.20,2,     -999,9,     -999,9,     -999,9,     -999,9,     -999,9,     -999,9,     -999,     39.9,2,     -999,9,   0.7446,2,0.56000000,2, -164.330,2,    0.002,     -999,9,     -999,9,     -999,1,     -999,9,    0.061,1,    4.686,1,    0.130,1,     -999,9,     -999,9,20180318,1601, -68.4140, 172.1033,     -999,9,     -999,9,-999          ,9,     -999,9,     -999,9,     -999,     -999,9,     -999,     -999,9,     -999,9,     -999,9,     -999,9,     -999,9,     -999,9,     -999,9,     -999,9,     -999,9,     -999,9,     -999,9,     -999,9,     -999,9,     -999,9
320620180309  ,S04P       ,7       ,  1,11         ,11         ,2,20180318,1503, -68.4141, 172.1033,     3284,   1586.8,0.7121055555555554362,34.708112475814069,2,  34.7082,2,204.90328934498808,2, 204.6971,2,    204.5,2,    123.0,2,    32.51,2,     0.00,2,     2.21,2,     -999,9,     -999,9,     -999,9,     -999,9,     -999,9,     -999,9,     -999,     -999,9,     -999,9,   0.7116,2,0.57000000,2, -161.280,2,    0.002,     -999,9,     -999,9,     -999,9,     -999,9,    0.061,1,    4.686,1,    0.129,1,     -999,9,     -999,9,20180318,1558, -68.4141, 172.1025,     -999,9,     -999,9,-999          ,9,     -999,9,     -999,9,     -999,     -999,9,     -999,     -999,9,     -999,9,     -999,9,     -999,9,     -999,9,     -999,9,     -999,9,     -999,9,     -999,9,     -999,9,     -999,9,     -999,9,     -999,9,     -999,9
320620180309  ,S04P       ,7       ,  1,10         ,10         ,2,20180318,1503, -68.4141, 172.1033,     3284,   1686.7,0.6716638888888889491,34.706530911969089,2,  34.7074,2,206.16483486078980,2, 205.4985,2,    206.3,2,    123.8,2,    32.56,2,     0.00,2,     2.21,2,     -999,9,     -999,9,     -999,9,     -999,9,     -999,9,     -999,9,     -999,     39.2,2,     -999,9,   0.6711,2,0.58000000,2, -163.910,2,    0.002,     -999,9,     -999,9,     -999,1,     -999,9,    0.061,1,    4.686,1,    0.130,1,     -999,9,     -999,9,20180318,1554, -68.4142, 172.1021,     -999,9,     -999,9,-999          ,9,     -999,9,     -999,9,     -999,     -999,9,     -999,     -999,9,     -999,9,     -999,9,     -999,9,     -999,9,     -999,9,     -999,9,     -999,9,     -999,9,     -999,9,     -999,9,     -999,9,     -999,9,     -999,9
320620180309  ,S04P       ,7       ,  1,9          ,9          ,2,20180318,1503, -68.4141, 172.1033,     3284,   1788.0,0.6224833333333331664,34.705093453469239,2,  34.7045,2,207.40262452679963,2, 206.9966,2,    206.9,2,    125.6,2,    32.60,2,     0.00,2,     2.22,2,    0.176,2,    0.098,2,   0.1200,2,   2260.6,2,  2361.41,2,   7.6158,3,    24.98,     -999,9,     -999,9,   0.6221,2,0.57000000,2, -159.110,2,    0.002,     -999,9,     -999,9,     -999,9,     -999,9,    0.061,1,    4.686,1,    0.127,1,  20.0700,2,     -999,9,20180318,1550, -68.4141, 172.1024,     -999,9,     -999,9,-999          ,9,     -999,9,     -999,9,     -999,     -999,9,     -999,     -999,9,     -999,9,     -999,9,     -999,9,     -999,9,     -999,9,     -999,9,     -999,9,     -999,9,     -999,9,     -999,9,     -999,9,     -999,9,     -999,9
320620180309  ,S04P       ,7       ,  1,8          ,8          ,2,20180318,1503, -68.4141, 172.1033,     3284,   1963.3,0.5435055555555554641,34.702409315691661,2,  34.7009,2,209.03361375465025,2, 209.2008,2,    209.0,2,    126.3,2,    32.57,2,     0.00,2,     2.23,2,     -999,9,     -999,9,     -999,9,     -999,9,     -999,9,     -999,9,     -999,     -999,5,     -999,9,   0.5435,2,0.52000000,3, -159.330,2,    0.002,     -999,9,     -999,9,     -999,1,     -999,9,    0.061,1,    4.686,1,    0.129,1,     -999,9,     -999,9,20180318,1545, -68.4141, 172.1030,     -999,9,     -999,9,-999          ,9,     -999,9,     -999,9,     -999,     -999,9,     -999,     -999,9,     -999,9,     -999,9,     -999,9,     -999,9,     -999,9,     -999,9,     -999,9,     -999,9,     -999,9,     -999,9,     -999,9,     -999,9,     -999,9
320620180309  ,S04P       ,7       ,  1,7          ,7          ,2,20180318,1503, -68.4141, 172.1033,     3284,   2166.2,0.4631166666666666765,34.699569640130100,2,  34.6992,2,210.63244529906098,2, 212.1961,2,    211.0,2,    126.7,2,    32.59,2,     0.00,2,     2.22,2,    0.320,2,    0.179,2,   0.1700,2,   2262.7,2,  2361.55,2,   7.5931,2,    24.97,     -999,9,     -999,9,   0.4626,2,0.62000000,2, -161.390,2,    0.002,     -999,9,     -999,9,     -999,9,     -999,9,    0.060,1,    4.684,1,    0.128,1,  19.9600,2,     -999,9,20180318,1540, -68.4141, 172.1033,     -999,9,     -999,9,-999          ,9,     -999,9,     -999,9,     -999,     -999,9,     -999,     -999,9,     -999,9,     -999,9,     -999,9,     -999,9,     -999,9,     -999,9,     -999,9,     -999,9,     -999,9,     -999,9,     -999,9,     -999,9,     -999,9
320620180309  ,S04P       ,7       ,  1,6          ,6          ,2,20180318,1503, -68.4141, 172.1033,     3284,   2370.2,0.3919527777777778166,34.696649261687213,2,  34.6970,2,213.24401956680865,2, 214.3964,2,    213.2,2,    126.4,2,    32.57,2,     0.00,2,     2.26,2,    0.446,2,    0.245,2,   0.1900,2,   2264.6,2,  2360.87,2,   7.5941,2,    24.96,     41.8,2,     -999,9,   0.3916,2,0.60000000,2, -160.780,2,    0.002,     -999,9,     -999,9,     -999,1,     -999,9,    0.061,1,    4.686,1,    0.129,1,  19.7100,2,     -999,9,20180318,1534, -68.4141, 172.1023,     -999,9,     -999,9,-999          ,9,     -999,9,     -999,9,     -999,     -999,9,     -999,     -999,9,     -999,9,     -999,9,     -999,9,     -999,9,     -999,9,     -999,9,     -999,9,     -999,9,     -999,9,     -999,9,     -999,9,     -999,9,     -999,9
320620180309  ,S04P       ,7       ,  1,5          ,5          ,2,20180318,1503, -68.4141, 172.1033,     3284,   2575.6,0.3331277777777776894,34.693831985296420,2,  34.6933,2,215.92398846743109,2, 216.3967,2,    215.7,2,    125.0,2,    32.53,2,     0.00,2,     2.25,2,    0.588,2,    0.331,2,   0.2300,2,   2262.5,2,  2362.12,2,   7.5923,2,    24.96,     -999,9,     -999,9,   0.3328,2,0.57000000,2, -161.420,2,    0.002,     -999,9,     -999,9,     -999,9,     -999,9,    0.060,1,    4.685,1,    0.128,1,  20.0700,2,     -999,9,20180318,1528, -68.4141, 172.1025,     -999,9,     -999,9,-999          ,9,     -999,9,     -999,9,     -999,     -999,9,     -999,     -999,9,     -999,9,     -999,9,     -999,9,     -999,9,     -999,9,     -999,9,     -999,9,     -999,9,     -999,9,     -999,9,     -999,9,     -999,9,     -999,9
320620180309  ,S04P       ,7       ,  1,4          ,4          ,2,20180318,1503, -68.4141, 172.1033,     3284,   2779.9,0.2686416666666666675,34.691265170776340,2,  34.6913,2,217.97918475470885,2, 218.5021,2,    218.0,2,    122.9,2,    32.44,2,     0.00,2,     2.22,2,    0.743,2,    0.409,2,   0.2500,2,   2263.7,2,  2361.69,2,   7.5917,6,    24.97,     42.2,2,     -999,9,   0.2681,2,0.60000000,2, -157.310,2,    0.002,     -999,9,     -999,9,     -999,1,     -999,9,    0.061,1,    4.685,1,    0.127,1,  19.7800,2,     -999,9,20180318,1523, -68.4141, 172.1024,     -999,9,     -999,9,-999          ,9,     -999,9,     -999,9,     -999,     -999,9,     -999,     -999,9,     -999,9,     -999,9,     -999,9,     -999,9,     -999,9,     -999,9,     -999,9,     -999,9,     -999,9,     -999,9,     -999,9,     -999,9,     -999,9
320620180309  ,S04P       ,7       ,  1,3          ,3          ,2,20180318,1503, -68.4141, 172.1033,     3284,   2984.7,0.2043500000000000316,34.688079793364111,2,  34.6872,2,220.82055590286387,2, 219.7975,2,    220.7,2,    120.3,2,    32.39,2,     0.00,2,     2.22,2,    0.928,2,    0.511,2,   0.4600,2,   2262.6,2,  2359.45,2,   7.5909,2,    24.97,     41.7,2,     -999,9,   0.2038,2,0.62000000,2, -157.190,2,    0.002,     -999,9,     -999,9,     -999,1,     -999,9,    0.061,1,    4.684,1,    0.129,1,  19.7700,2,     -999,9,20180318,1517, -68.4141, 172.1028,     -999,9,     -999,9,-999          ,9,     -999,9,     -999,9,     -999,     -999,9,     -999,     -999,9,     -999,9,     -999,9,     -999,9,     -999,9,     -999,9,     -999,9,     -999,9,     -999,9,     -999,9,     -999,9,     -999,9,     -999,9,     -999,9
320620180309  ,S04P       ,7       ,  1,2          ,2          ,2,20180318,1503, -68.4141, 172.1033,     3284,   3159.8,0.1555916666666666837,34.687143530456844,2,  34.6864,2,223.18866934727924,2, 221.2985,2,    223.1,2,    116.3,2,    32.33,2,     0.00,2,     2.22,2,    1.176,2,    0.648,2,   0.5000,2,   2262.7,2,  2359.52,2,   7.5885,2,    24.96,     -999,9,     -999,9,   0.1555,2,0.62000000,2, -152.260,2,    0.002,     -999,9,     -999,9,     -999,9,     -999,9,    0.061,1,    4.683,1,    0.129,1,  19.7600,2,     -999,9,20180318,1511, -68.4141, 172.1031,     -999,9,     -999,9,-999          ,9,     -999,9,     -999,9,     -999,     -999,9,     -999,     -999,9,     -999,9,     -999,9,     -999,9,     -999,9,     -999,9,     -999,9,     -999,9,     -999,9,     -999,9,     -999,9,     -999,9,     -999,9,     -999,9
320620180309  ,S04P       ,7       ,  1,1          ,1          ,2,20180318,1503, -68.4141, 172.1033,     3284,   3335.6,0.0892638888888888649,34.685838785191329,2,  34.6845,2,225.33691817413688,2, 222.2019,3,    225.5,2,    112.7,2,    32.28,2,     0.00,2,     2.22,2,    1.449,2,    0.796,2,   0.9000,2,   2260.2,6,  2356.25,2,   7.5863,2,    24.95,     -999,5,     -999,9,   0.0883,2,0.58000000,2, -151.390,2,    0.002,     -999,9,     -999,9,     -999,1,     -999,9,    0.062,1,    4.677,1,    0.141,1,  19.7500,2,     -999,9,20180318,1503, -68.4141, 172.1033,     -999,9,     -999,9,-999          ,9,     -999,9,     -999,9,     -999,     -999,9,     -999,     -999,9,     -999,9,     -999,9,     -999,9,     -999,9,     -999,9,     -999,9,     -999,9,     -999,9,     -999,9,     -999,9,     -999,9,     -999,9,     -999,9