BOTTLE,20240515CCHHYDRO
EXPOCODE,SECT_ID,STNNBR,CASTNO,SAMPNO,BTLNBR,BTLNBR_FLAG_W,DATE,TIME,LATITUDE,LONGITUDE,DEPTH,CTDPRS,CTDTMP,CTDSAL,CTDSAL_FLAG_W,SALNTY,SALNTY_FLAG_W,CTDOXY,CTDOXY_FLAG_W,CTDOPTOXY,CTDOPTOXY_FLAG_W,OXYGEN,OXYGEN_FLAG_W,SILCAT,SILCAT_FLAG_W,NITRAT,NITRAT_FLAG_W,NITRIT,NITRIT_FLAG_W,PHSPHT,PHSPHT_FLAG_W,CFC-11,CFC-11_FLAG_W,CFC-12,CFC-12_FLAG_W,SF6,SF6_FLAG_W,TCARBN,TCARBN_FLAG_W,ALKALI,ALKALI_FLAG_W,PH_TOT,PH_TOT_FLAG_W,PH_TMP,DOC,DOC_FLAG_W,HELIUM,HELIUM_FLAG_W,REFTMP,REFTMP_FLAG_W,DELC13,DELC13_FLAG_W,DELC14,DELC14_FLAG_W,C14ERR,POC,POC_FLAG_W,TDN,TDN_FLAG_W,TON,TON_FLAG_W,NEON,NEON_FLAG_W,CTDFLUOR,CTDFLUOR_FLAG_W,CTDXMISS,CTDXMISS_FLAG_W,CTDBETA700,CTDBETA700_FLAG_W,N2O,N2O_FLAG_W,ARGON,ARGON_FLAG_W,BTL_DATE,BTL_TIME,BTL_LAT,BTL_LON,KRYPTON,KRYPTON_FLAG_W,XENON,XENON_FLAG_W,HPLC,HPLC_FLAG_W,HE3_HE4_RATIO,HE3_HE4_RATIO_FLAG_W,Nd_143_144_D_EPSILON_BOTTLE,Nd_143_144_D_EPSILON_BOTTLE_FLAG_W,Nd_143_144_D_EPSILON_BOTTLE_ERROR,Nd_143_144_D_RATIO_BOTTLE,Nd_143_144_D_RATIO_BOTTLE_FLAG_W,Nd_143_144_D_RATIO_BOTTLE_ERROR,Nd_D_CONC,Nd_D_CONC_FLAG_W,La_D_CONC_BOTTLE,La_D_CONC_BOTTLE_FLAG_W,Ce_D_CONC_BOTTLE,Ce_D_CONC_BOTTLE_FLAG_W,Pr_D_CONC_BOTTLE,Pr_D_CONC_BOTTLE_FLAG_W,Sm_D_CONC_BOTTLE,Sm_D_CONC_BOTTLE_FLAG_W,Eu_D_CONC_BOTTLE,Eu_D_CONC_BOTTLE_FLAG_W,Gd_D_CONC_BOTTLE,Gd_D_CONC_BOTTLE_FLAG_W,Tb_D_CONC_BOTTLE,Tb_D_CONC_BOTTLE_FLAG_W,Dy_D_CONC_BOTTLE,Dy_D_CONC_BOTTLE_FLAG_W,Ho_D_CONC_BOTTLE,Ho_D_CONC_BOTTLE_FLAG_W,Er_D_CONC_BOTTLE,Er_D_CONC_BOTTLE_FLAG_W,Tm_D_CONC_BOTTLE,Tm_D_CONC_BOTTLE_FLAG_W,Yb_D_CONC_BOTTLE,Yb_D_CONC_BOTTLE_FLAG_W,Lu_D_CONC_BOTTLE,Lu_D_CONC_BOTTLE_FLAG_W
,,,,,,,,,,,METERS,DBAR,ITS-90,PSS-78,,PSS-78,,UMOL/KG,,UMOL/KG,,UMOL/KG,,UMOL/KG,,UMOL/KG,,UMOL/KG,,UMOL/KG,,PMOL/KG,,PMOL/KG,,FMOL/KG,,UMOL/KG,,UMOL/KG,,,,DEG C,UMOL/KG,,NMOL/L,,DEG C,,/MILLE,,/MILLE,,/MILLE,UG/KG,,UMOL/KG,,UMOL/KG,,NMOL/L,,VOLTS,,VOLTS,,VOLTS,,NMOL/KG,,UMOL/L,,,,,,NMOL/L,,NMOL/L,,,,,,10000,,10000,,,,PMOL/KG,,PMOL/L,,PMOL/L,,PMOL/L,,PMOL/L,,PMOL/L,,PMOL/L,,PMOL/L,,PMOL/L,,PMOL/L,,PMOL/L,,PMOL/L,,PMOL/L,,PMOL/L,
320620180309  ,P16        ,41      ,  1,15         ,15         ,2,20180404,1600, -73.5077,-149.9990,     4132,   1284.4,1.0187416666666664344,34.719779829281592,2,  34.7208,2,197.59804030526152,2, 196.9018,2,    197.3,2,    115.6,2,    32.34,2,     0.00,2,     2.19,2,     -999,9,     -999,9,     -999,9,     -999,9,     -999,9,     -999,9,     -999,     -999,9,     -999,9,   1.0176,2,0.29000000,3, -157.750,2,    0.002,     -999,9,     -999,9,     -999,9,     -999,9,    0.061,1,    4.671,1,    0.130,1,     -999,9,     -999,9,20180404,1728, -73.5160,-150.0784,     -999,9,     -999,9,-999          ,9,     -999,9,     -999,9,     -999,     -999,9,     -999,     -999,9,     -999,1,     -999,1,     -999,1,     -999,1,     -999,1,     -999,1,     -999,1,     -999,1,     -999,1,     -999,1,     -999,1,     -999,1,     -999,1
320620180309  ,P16        ,41      ,  1,14         ,14         ,2,20180404,1600, -73.5077,-149.9990,     4132,   1385.9,0.9644249999999998657,34.717576681952785,2,  34.7176,2,199.01676309595697,2, 198.3034,2,    198.9,2,    117.2,2,    32.37,2,     0.00,2,     2.21,2,     -999,9,     -999,9,     -999,9,   2259.8,2,  2362.13,2,   7.5943,6,    24.95,     -999,9,     -999,9,   0.9631,2,     -999,9,     -999,9,     -999,     -999,9,     -999,9,     -999,9,     -999,9,    0.062,1,    4.670,1,    0.127,1,     -999,9,     -999,9,20180404,1724, -73.5156,-150.0746,     -999,9,     -999,9,-999          ,9,     -999,9,     -999,9,     -999,     -999,9,     -999,     -999,9,     -999,9,     -999,9,     -999,9,     -999,9,     -999,9,     -999,9,     -999,9,     -999,9,     -999,9,     -999,9,     -999,9,     -999,9,     -999,9
320620180309  ,P16        ,41      ,  1,13         ,13         ,2,20180404,1600, -73.5077,-149.9990,     4132,   1486.7,0.9128194444444444056,34.715434092349682,2,  34.7162,2,200.95607161818157,2, 199.4970,2,    200.1,2,    119.1,2,    32.39,2,     0.00,2,     2.21,2,     -999,9,     -999,9,     -999,9,     -999,9,     -999,9,     -999,9,     -999,     -999,9,     -999,9,   0.9116,2,0.56000000,2, -159.830,2,    0.002,     -999,9,     -999,9,     -999,9,     -999,9,    0.061,1,    4.671,1,    0.128,1,     -999,9,     -999,9,20180404,1720, -73.5151,-150.0708,     -999,9,     -999,9,-999          ,9,     -999,9,     -999,9,     -999,     -999,9,     -999,     -999,9,     -999,1,     -999,1,     -999,1,     -999,1,     -999,1,     -999,1,     -999,1,     -999,1,     -999,1,     -999,1,     -999,1,     -999,1,     -999,1
320620180309  ,P16        ,41      ,  1,12         ,12         ,2,20180404,1600, -73.5077,-149.9990,     4132,   1589.0,0.8653916666666668922,34.713429216653374,2,  34.7151,2,201.69159241515072,2, 200.8001,2,    201.2,2,    120.7,2,    32.39,2,     0.00,2,     2.23,2,    0.122,2,    0.080,2,   0.0500,2,   2259.9,2,  2363.02,2,   7.5942,2,    24.95,     -999,9,     -999,9,   0.8646,2,0.53000000,2, -162.320,2,    0.002,     -999,9,     -999,9,     -999,9,     -999,9,    0.061,1,    4.671,1,    0.128,1,  21.6800,3,     -999,9,20180404,1716, -73.5147,-150.0672,     -999,9,     -999,9,-999          ,9,     -999,9,     -999,9,     -999,     -999,9,     -999,     -999,9,     -999,9,     -999,9,     -999,9,     -999,9,     -999,9,     -999,9,     -999,9,     -999,9,     -999,9,     -999,9,     -999,9,     -999,9,     -999,9
320620180309  ,P16        ,41      ,  1,11         ,11         ,2,20180404,1600, -73.5077,-149.9990,     4132,   1761.9,0.7962388888888889404,34.710427428442465,2,  34.7111,2,203.09228387178786,2, 202.3998,2,    203.4,2,    123.1,2,    32.45,2,     0.00,2,     2.23,2,     -999,9,     -999,9,     -999,9,     -999,9,     -999,9,     -999,9,     -999,     -999,9,     -999,9,   0.7953,2,0.56000000,2, -163.690,2,    0.002,     -999,9,     -999,9,     -999,9,     -999,9,    0.061,1,    4.671,1,    0.127,1,     -999,9,     -999,9,20180404,1711, -73.5141,-150.0621,     -999,9,     -999,9,-999          ,9,     -999,9,     -999,9,     -999,     -999,9,     -999,     -999,9,     -999,1,     -999,1,     -999,1,     -999,1,     -999,1,     -999,1,     -999,1,     -999,1,     -999,1,     -999,1,     -999,1,     -999,1,     -999,1
320620180309  ,P16        ,41      ,  1,10         ,10         ,2,20180404,1600, -73.5077,-149.9990,     4132,   1965.2,0.7269111111111112855,34.707717749238022,2,  34.7068,2,204.67695199524167,2, 204.3024,2,    204.8,2,    125.9,2,    32.52,2,     0.00,2,     2.24,2,    0.142,2,    0.090,2,   0.0600,2,   2261.2,2,  2363.64,2,   7.5943,2,    24.95,     -999,9,     -999,9,   0.7260,2,     -999,9,     -999,9,     -999,     -999,9,     -999,9,     -999,9,     -999,9,    0.061,1,    4.671,1,    0.126,1,  20.0200,2,     -999,9,20180404,1705, -73.5134,-150.0566,     -999,9,     -999,9,-999          ,9,     -999,9,     -999,9,     -999,     -999,9,     -999,     -999,9,     -999,9,     -999,9,     -999,9,     -999,9,     -999,9,     -999,9,     -999,9,     -999,9,     -999,9,     -999,9,     -999,9,     -999,9,     -999,9
320620180309  ,P16        ,41      ,  1,9          ,9          ,2,20180404,1600, -73.5077,-149.9990,     4132,   2199.4,0.6559722222222220678,34.705429201774791,2,  34.7064,2,206.57948753754945,2, 206.3980,2,    206.4,2,    127.7,2,    32.58,2,     0.00,2,     2.23,2,     -999,9,     -999,9,     -999,9,     -999,9,     -999,9,     -999,9,     -999,     -999,9,     -999,9,   0.6551,2,     -999,9,     -999,9,     -999,     -999,9,     -999,9,     -999,9,     -999,9,    0.061,1,    4.671,1,    0.127,1,     -999,9,     -999,9,20180404,1659, -73.5127,-150.0507,     -999,9,     -999,9,-999          ,9,     -999,9,     -999,9,     -999,     -999,9,     -999,     -999,9,     -999,1,     -999,1,     -999,1,     -999,1,     -999,1,     -999,1,     -999,1,     -999,1,     -999,1,     -999,1,     -999,1,     -999,1,     -999,1
320620180309  ,P16        ,41      ,  1,8          ,8          ,2,20180404,1600, -73.5077,-149.9990,     4132,   2454.3,0.5647249999999998105,34.703352859124237,2,  34.7035,2,208.23876009225953,2, 208.6999,2,    208.3,2,    129.3,2,    32.67,2,     0.00,2,     2.21,2,    0.168,2,    0.101,2,   0.0000,2,   2262.8,2,  2362.40,2,   7.5930,2,    24.96,     -999,9,     -999,9,   0.5640,2,     -999,9,     -999,9,     -999,     -999,9,     -999,9,     -999,9,     -999,9,    0.061,1,    4.670,1,    0.126,1,  19.4600,2,     -999,9,20180404,1652, -73.5120,-150.0446,     -999,9,     -999,9,-999          ,9,     -999,9,     -999,9,     -999,     -999,9,     -999,     -999,9,     -999,9,     -999,9,     -999,9,     -999,9,     -999,9,     -999,9,     -999,9,     -999,9,     -999,9,     -999,9,     -999,9,     -999,9,     -999,9
320620180309  ,P16        ,41      ,  1,7          ,7          ,2,20180404,1600, -73.5077,-149.9990,     4132,   2709.2,0.4838361111111111890,34.702355017671749,2,  34.7031,2,210.44285514380201,2, 210.9971,2,    210.4,2,    131.8,2,    32.77,2,     0.00,2,     2.22,2,     -999,9,     -999,9,     -999,9,     -999,9,     -999,9,     -999,9,     -999,     -999,9,     -999,9,   0.4831,2,     -999,9,     -999,9,     -999,     -999,9,     -999,9,     -999,9,     -999,9,    0.060,1,    4.671,1,    0.125,1,     -999,9,     -999,9,20180404,1645, -73.5114,-150.0385,     -999,9,     -999,9,-999          ,9,     -999,9,     -999,9,     -999,     -999,9,     -999,     -999,9,     -999,1,     -999,1,     -999,1,     -999,1,     -999,1,     -999,1,     -999,1,     -999,1,     -999,1,     -999,1,     -999,1,     -999,1,     -999,1
320620180309  ,P16        ,41      ,  1,6          ,6          ,2,20180404,1600, -73.5077,-149.9990,     4132,   2965.0,0.4255666666666666487,34.701882914199466,2,  34.7025,2,211.57091274324176,2, 212.2968,2,    212.5,2,    134.4,2,    32.86,2,     0.00,2,     2.24,2,     -999,9,     -999,9,     -999,9,     -999,9,     -999,9,     -999,9,     -999,     -999,9,     -999,9,   0.4248,2,     -999,9,     -999,9,     -999,     -999,9,     -999,9,     -999,9,     -999,9,    0.061,1,    4.670,1,    0.124,1,     -999,9,     -999,9,20180404,1638, -73.5107,-150.0323,     -999,9,     -999,9,-999          ,9,     -999,9,     -999,9,     -999,     -999,9,     -999,     -999,9,     -999,9,     -999,9,     -999,9,     -999,9,     -999,9,     -999,9,     -999,9,     -999,9,     -999,9,     -999,9,     -999,9,     -999,9,     -999,9
320620180309  ,P16        ,41      ,  1,5          ,5          ,2,20180404,1600, -73.5077,-149.9990,     4132,   3256.8,0.3801444444444445625,34.701343911466488,2,  34.7023,2,213.22235557029813,2, 213.7023,2,    212.8,2,    136.9,2,    32.87,2,     0.00,2,     2.24,2,    0.194,2,    0.124,2,   0.0000,2,   2262.5,2,  2363.30,2,   7.5946,6,    24.96,     -999,9,     -999,9,   0.3793,2,     -999,9,     -999,9,     -999,     -999,9,     -999,9,     -999,9,     -999,9,    0.061,1,    4.670,1,    0.127,1,  20.0700,2,     -999,9,20180404,1630, -73.5100,-150.0254,     -999,9,     -999,9,-999          ,9,     -999,9,     -999,9,     -999,     -999,9,     -999,     -999,9,     -999,1,     -999,1,     -999,1,     -999,1,     -999,1,     -999,1,     -999,1,     -999,1,     -999,1,     -999,1,     -999,1,     -999,1,     -999,1
320620180309  ,P16        ,41      ,  1,4          ,4          ,2,20180404,1600, -73.5077,-149.9990,     4132,   3589.7,0.3379055555555555701,34.700389502244079,2,  34.7007,2,213.72654112623599,2, 214.9001,2,    214.3,2,    139.1,2,    32.92,2,     0.00,2,     2.24,2,    0.261,2,    0.143,2,   0.0000,2,   2261.2,2,  2364.34,2,   7.5937,2,    24.96,     -999,9,     -999,9,   0.3371,2,     -999,9,     -999,9,     -999,     -999,9,     -999,9,     -999,9,     -999,9,    0.061,1,    4.670,1,    0.127,1,  20.4700,2,     -999,9,20180404,1622, -73.5093,-150.0179,     -999,9,     -999,9,-999          ,9,     -999,9,     -999,9,     -999,     -999,9,     -999,     -999,9,     -999,9,     -999,9,     -999,9,     -999,9,     -999,9,     -999,9,     -999,9,     -999,9,     -999,9,     -999,9,     -999,9,     -999,9,     -999,9
320620180309  ,P16        ,41      ,  1,3          ,3          ,2,20180404,1600, -73.5077,-149.9990,     4132,   3794.6,0.3123305555555556112,34.699300801545164,2,  34.6996,2,215.28114604387886,2, 215.9027,2,    215.5,2,    138.6,2,    32.91,2,     0.00,2,     2.23,2,    0.367,2,    0.197,2,   0.0200,2,   2264.3,2,  2363.44,2,   7.5954,2,    24.96,     -999,9,     -999,9,   0.3116,2,     -999,9,     -999,9,     -999,     -999,9,     -999,9,     -999,9,     -999,9,    0.061,1,    4.669,1,    0.124,1,  21.6500,4,     -999,9,20180404,1615, -73.5089,-150.0125,     -999,9,     -999,9,-999          ,9,     -999,9,     -999,9,     -999,     -999,9,     -999,     -999,9,     -999,1,     -999,1,     -999,1,     -999,1,     -999,1,     -999,1,     -999,1,     -999,1,     -999,1,     -999,1,     -999,1,     -999,1,     -999,1
320620180309  ,P16        ,41      ,  1,2          ,2          ,2,20180404,1600, -73.5077,-149.9990,     4132,   4025.8,0.2498777777777778097,34.695867328323743,2,  34.6966,2,218.75698091882143,2, 217.2005,2,    218.5,2,    130.5,2,    32.81,2,     0.00,2,     2.24,2,    0.633,2,    0.331,2,   0.1300,2,   2259.4,2,  2361.01,2,   7.5940,2,    24.95,     -999,9,     -999,9,   0.2496,2,     -999,9,     -999,9,     -999,     -999,9,     -999,9,     -999,9,     -999,9,    0.061,1,    4.669,1,    0.125,1,  20.0500,2,     -999,9,20180404,1608, -73.5083,-150.0060,     -999,9,     -999,9,-999          ,9,     -999,9,     -999,9,     -999,     -999,9,     -999,     -999,9,     -999,1,     -999,1,     -999,1,     -999,1,     -999,1,     -999,1,     -999,1,     -999,1,     -999,1,     -999,1,     -999,1,     -999,1,     -999,1
320620180309  ,P16        ,41      ,  1,1          ,1          ,2,20180404,1600, -73.5077,-149.9990,     4132,   4205.3,0.2450555555555555265,34.695401376655347,2,  34.6962,2,220.90555356109638,3, 217.2977,2,    217.7,2,    133.5,2,    32.94,2,     0.00,2,     2.25,2,    0.709,2,    0.355,2,   0.1100,2,   2263.6,6,  2361.08,2,   7.5888,2,    24.96,     -999,9,     -999,9,   0.2444,2,     -999,9,     -999,9,     -999,     -999,9,     -999,9,     -999,9,     -999,9,    0.061,1,    4.655,1,    0.149,1,  19.7500,2,     -999,9,20180404,1600, -73.5077,-149.9990,     -999,9,     -999,9,-999          ,9,     -999,9,     -999,9,     -999,     -999,9,     -999,     -999,9,     -999,1,     -999,1,     -999,1,     -999,1,     -999,1,     -999,1,     -999,1,     -999,1,     -999,1,     -999,1,     -999,1,     -999,1,     -999,1