BOTTLE,20240515CCHHYDRO
EXPOCODE,SECT_ID,STNNBR,CASTNO,SAMPNO,BTLNBR,BTLNBR_FLAG_W,DATE,TIME,LATITUDE,LONGITUDE,DEPTH,CTDPRS,CTDTMP,CTDSAL,CTDSAL_FLAG_W,SALNTY,SALNTY_FLAG_W,CTDOXY,CTDOXY_FLAG_W,CTDOPTOXY,CTDOPTOXY_FLAG_W,OXYGEN,OXYGEN_FLAG_W,SILCAT,SILCAT_FLAG_W,NITRAT,NITRAT_FLAG_W,NITRIT,NITRIT_FLAG_W,PHSPHT,PHSPHT_FLAG_W,CFC-11,CFC-11_FLAG_W,CFC-12,CFC-12_FLAG_W,SF6,SF6_FLAG_W,TCARBN,TCARBN_FLAG_W,ALKALI,ALKALI_FLAG_W,PH_TOT,PH_TOT_FLAG_W,PH_TMP,DOC,DOC_FLAG_W,HELIUM,HELIUM_FLAG_W,REFTMP,REFTMP_FLAG_W,DELC13,DELC13_FLAG_W,DELC14,DELC14_FLAG_W,C14ERR,POC,POC_FLAG_W,TDN,TDN_FLAG_W,TON,TON_FLAG_W,NEON,NEON_FLAG_W,CTDFLUOR,CTDFLUOR_FLAG_W,CTDXMISS,CTDXMISS_FLAG_W,CTDBETA700,CTDBETA700_FLAG_W,N2O,N2O_FLAG_W,ARGON,ARGON_FLAG_W,BTL_DATE,BTL_TIME,BTL_LAT,BTL_LON,KRYPTON,KRYPTON_FLAG_W,XENON,XENON_FLAG_W,HPLC,HPLC_FLAG_W,HE3_HE4_RATIO,HE3_HE4_RATIO_FLAG_W,Nd_143_144_D_EPSILON_BOTTLE,Nd_143_144_D_EPSILON_BOTTLE_FLAG_W,Nd_143_144_D_EPSILON_BOTTLE_ERROR,Nd_143_144_D_RATIO_BOTTLE,Nd_143_144_D_RATIO_BOTTLE_FLAG_W,Nd_143_144_D_RATIO_BOTTLE_ERROR,Nd_D_CONC,Nd_D_CONC_FLAG_W,La_D_CONC_BOTTLE,La_D_CONC_BOTTLE_FLAG_W,Ce_D_CONC_BOTTLE,Ce_D_CONC_BOTTLE_FLAG_W,Pr_D_CONC_BOTTLE,Pr_D_CONC_BOTTLE_FLAG_W,Sm_D_CONC_BOTTLE,Sm_D_CONC_BOTTLE_FLAG_W,Eu_D_CONC_BOTTLE,Eu_D_CONC_BOTTLE_FLAG_W,Gd_D_CONC_BOTTLE,Gd_D_CONC_BOTTLE_FLAG_W,Tb_D_CONC_BOTTLE,Tb_D_CONC_BOTTLE_FLAG_W,Dy_D_CONC_BOTTLE,Dy_D_CONC_BOTTLE_FLAG_W,Ho_D_CONC_BOTTLE,Ho_D_CONC_BOTTLE_FLAG_W,Er_D_CONC_BOTTLE,Er_D_CONC_BOTTLE_FLAG_W,Tm_D_CONC_BOTTLE,Tm_D_CONC_BOTTLE_FLAG_W,Yb_D_CONC_BOTTLE,Yb_D_CONC_BOTTLE_FLAG_W,Lu_D_CONC_BOTTLE,Lu_D_CONC_BOTTLE_FLAG_W
,,,,,,,,,,,METERS,DBAR,ITS-90,PSS-78,,PSS-78,,UMOL/KG,,UMOL/KG,,UMOL/KG,,UMOL/KG,,UMOL/KG,,UMOL/KG,,UMOL/KG,,PMOL/KG,,PMOL/KG,,FMOL/KG,,UMOL/KG,,UMOL/KG,,,,DEG C,UMOL/KG,,NMOL/L,,DEG C,,/MILLE,,/MILLE,,/MILLE,UG/KG,,UMOL/KG,,UMOL/KG,,NMOL/L,,VOLTS,,VOLTS,,VOLTS,,NMOL/KG,,UMOL/L,,,,,,NMOL/L,,NMOL/L,,,,,,10000,,10000,,,,PMOL/KG,,PMOL/L,,PMOL/L,,PMOL/L,,PMOL/L,,PMOL/L,,PMOL/L,,PMOL/L,,PMOL/L,,PMOL/L,,PMOL/L,,PMOL/L,,PMOL/L,,PMOL/L,
320620180309  ,S04P       ,21      ,  1,15         ,15         ,2,20180326,1551, -66.9985, 176.8609,     3555,   1351.6,0.8267444444444443929,34.712965806965627,2,  34.7111,2,202.08516372432271,2, 202.0958,2,    201.3,2,    119.9,2,    32.45,2,     0.00,2,     2.23,2,     -999,9,     -999,9,     -999,9,   2265.1,2,  2362.12,2,   7.5931,2,    24.93,     -999,9,     -999,9,   0.8261,2,     -999,9,     -999,9,     -999,     -999,9,     -999,9,     -999,9,     -999,9,    0.061,1,    4.679,1,    0.133,1,     -999,9,     -999,9,20180326,1710, -66.9983, 176.8610,     -999,9,     -999,9,-999          ,9,     -999,9,     -999,9,     -999,     -999,9,     -999,     -999,9,     -999,1,     -999,1,     -999,1,     -999,1,     -999,1,     -999,1,     -999,1,     -999,1,     -999,1,     -999,1,     -999,1,     -999,1,     -999,1
320620180309  ,S04P       ,21      ,  1,14         ,14         ,2,20180326,1551, -66.9985, 176.8609,     3555,   1453.6,0.7804250000000000353,34.711260209462175,2,  34.7100,2,202.76986804474774,2, 203.1037,2,    202.3,2,    121.8,2,    32.47,2,     0.00,2,     2.22,2,     -999,9,     -999,9,     -999,9,     -999,9,     -999,9,     -999,9,     -999,     -999,9,     -999,9,   0.7794,2,     -999,9,     -999,9,     -999,     -999,9,     -999,9,     -999,9,     -999,9,    0.061,1,    4.679,1,    0.131,1,     -999,9,     -999,9,20180326,1707, -66.9988, 176.8617,     -999,9,     -999,9,-999          ,9,     -999,9,     -999,9,     -999,     -999,9,     -999,     -999,9,     -999,9,     -999,9,     -999,9,     -999,9,     -999,9,     -999,9,     -999,9,     -999,9,     -999,9,     -999,9,     -999,9,     -999,9,     -999,9
320620180309  ,S04P       ,21      ,  1,13         ,13         ,2,20180326,1551, -66.9985, 176.8609,     3555,   1555.0,0.7433916666666667838,34.709974179326132,2,  34.7080,2,203.86599151461192,2, 204.0969,2,    203.6,2,    122.8,2,    32.47,2,     0.00,2,     2.23,2,    0.132,2,    0.065,2,   0.0000,2,   2262.5,2,  2363.23,2,   7.5954,6,    24.93,     -999,9,     -999,1,   0.7425,2,     -999,9,     -999,9,     -999,     -999,9,     -999,9,     -999,9,     -999,1,    0.061,1,    4.680,1,    0.130,1,  18.2100,2,     -999,1,20180326,1703, -66.9989, 176.8619,     -999,1,     -999,1,-999          ,9,     -999,1,     -999,9,     -999,     -999,9,     -999,     -999,9,     -999,1,     -999,1,     -999,1,     -999,1,     -999,1,     -999,1,     -999,1,     -999,1,     -999,1,     -999,1,     -999,1,     -999,1,     -999,1
320620180309  ,S04P       ,21      ,  1,12         ,12         ,2,20180326,1551, -66.9985, 176.8609,     3555,   1656.2,0.7030499999999998417,34.708650902019201,2,  34.7072,2,204.66983360301325,2, 205.3986,2,    204.6,2,    124.3,2,    32.49,2,     0.00,2,     2.22,2,     -999,9,     -999,9,     -999,9,     -999,9,     -999,9,     -999,9,     -999,     -999,9,     -999,9,   0.7025,2,     -999,9,     -999,9,     -999,     -999,9,     -999,9,     -999,9,     -999,9,    0.060,1,    4.680,1,    0.131,1,     -999,9,     -999,9,20180326,1700, -66.9989, 176.8619,     -999,9,     -999,9,-999          ,9,     -999,9,     -999,9,     -999,     -999,9,     -999,     -999,9,     -999,9,     -999,9,     -999,9,     -999,9,     -999,9,     -999,9,     -999,9,     -999,9,     -999,9,     -999,9,     -999,9,     -999,9,     -999,9
320620180309  ,S04P       ,21      ,  1,11         ,11         ,2,20180326,1551, -66.9985, 176.8609,     3555,   1759.0,0.6614083333333333758,34.707258911076792,2,  34.7060,2,205.97370994011888,2, 206.3044,2,    205.7,2,    125.0,2,    32.52,2,     0.00,2,     2.24,2,     -999,9,     -999,9,     -999,9,   2265.5,2,  2363.43,2,   7.5941,2,    24.93,     -999,9,     -999,9,   0.6613,2,     -999,9,     -999,9,     -999,     -999,9,     -999,9,     -999,9,     -999,9,    0.061,1,    4.680,1,    0.129,1,     -999,9,     -999,9,20180326,1656, -66.9988, 176.8618,     -999,9,     -999,9,-999          ,9,     -999,9,     -999,9,     -999,     -999,9,     -999,     -999,9,     -999,1,     -999,1,     -999,1,     -999,1,     -999,1,     -999,1,     -999,1,     -999,1,     -999,1,     -999,1,     -999,1,     -999,1,     -999,1
320620180309  ,S04P       ,21      ,  1,10         ,10         ,2,20180326,1551, -66.9985, 176.8609,     3555,   1890.0,0.6154277777777779068,34.705996678421322,2,  34.7033,2,207.00811658336772,2, 207.5974,2,    207.6,2,    126.0,2,    32.57,2,     0.00,2,     2.23,2,    0.164,2,    0.100,2,   0.0400,2,     -999,9,     -999,9,     -999,9,     -999,     -999,9,     -999,1,   0.6148,2,     -999,9,     -999,9,     -999,     -999,9,     -999,9,     -999,9,     -999,1,    0.061,1,    4.680,1,    0.131,1,  17.7300,2,     -999,1,20180326,1652, -66.9987, 176.8616,     -999,1,     -999,1,-999          ,9,     -999,1,     -999,9,     -999,     -999,9,     -999,     -999,9,     -999,9,     -999,9,     -999,9,     -999,9,     -999,9,     -999,9,     -999,9,     -999,9,     -999,9,     -999,9,     -999,9,     -999,9,     -999,9
320620180309  ,S04P       ,21      ,  1,9          ,9          ,2,20180326,1551, -66.9985, 176.8609,     3555,   2094.5,0.5394111111111112855,34.704290939908084,3,  34.7019,2,208.80804400817092,2, 209.2034,2,    208.5,2,    127.8,2,    32.62,2,     0.00,2,     2.24,2,     -999,9,     -999,9,     -999,9,     -999,9,     -999,9,     -999,9,     -999,     -999,9,     -999,9,   0.5388,2,     -999,9,     -999,9,     -999,     -999,9,     -999,9,     -999,9,     -999,9,    0.061,1,    4.680,1,    0.127,1,     -999,9,     -999,9,20180326,1646, -66.9986, 176.8613,     -999,9,     -999,9,-999          ,9,     -999,9,     -999,9,     -999,     -999,9,     -999,     -999,9,     -999,1,     -999,1,     -999,1,     -999,1,     -999,1,     -999,1,     -999,1,     -999,1,     -999,1,     -999,1,     -999,1,     -999,1,     -999,1
320620180309  ,S04P       ,21      ,  1,8          ,8          ,2,20180326,1551, -66.9985, 176.8609,     3555,   2298.2,0.4802972222222222642,34.702704035745903,2,  34.7011,2,210.65093743858461,2, 210.6963,2,    210.1,2,    129.0,2,    32.60,2,     0.00,2,     2.24,2,     -999,9,     -999,9,     -999,9,   2266.9,2,  2362.63,2,   7.5938,6,    24.93,     -999,9,     -999,9,   0.4798,2,     -999,9,     -999,9,     -999,     -999,9,     -999,9,     -999,9,     -999,9,    0.060,1,    4.680,1,    0.127,1,     -999,9,     -999,9,20180326,1641, -66.9982, 176.8605,     -999,9,     -999,9,-999          ,9,     -999,9,     -999,9,     -999,     -999,9,     -999,     -999,9,     -999,9,     -999,9,     -999,9,     -999,9,     -999,9,     -999,9,     -999,9,     -999,9,     -999,9,     -999,9,     -999,9,     -999,9,     -999,9
320620180309  ,S04P       ,21      ,  1,7          ,7          ,2,20180326,1551, -66.9985, 176.8609,     3555,   2502.2,0.4205777777777777171,34.700478269501097,2,  34.6996,2,212.69736376817718,2, 211.4024,2,    212.5,2,    129.2,2,    32.66,2,     0.00,2,     2.25,2,    0.289,2,    0.162,2,   0.1300,2,     -999,9,     -999,9,     -999,9,     -999,     -999,9,     -999,1,   0.4200,2,     -999,9,     -999,9,     -999,     -999,9,     -999,9,     -999,9,     -999,1,    0.060,1,    4.680,1,    0.126,1,  17.9300,2,     -999,1,20180326,1635, -66.9981, 176.8602,     -999,1,     -999,1,-999          ,9,     -999,1,     -999,9,     -999,     -999,9,     -999,     -999,9,     -999,1,     -999,1,     -999,1,     -999,1,     -999,1,     -999,1,     -999,1,     -999,1,     -999,1,     -999,1,     -999,1,     -999,1,     -999,1
320620180309  ,S04P       ,21      ,  1,6          ,6          ,2,20180326,1551, -66.9985, 176.8609,     3555,   2706.4,0.3666805555555555651,34.698911520222126,2,  34.6976,2,214.32920383574191,2, 212.4003,2,    213.4,2,    129.2,2,    32.68,2,     0.00,2,     2.24,2,     -999,9,     -999,9,     -999,9,     -999,9,     -999,9,     -999,9,     -999,     -999,9,     -999,9,   0.3664,2,     -999,9,     -999,9,     -999,     -999,9,     -999,9,     -999,9,     -999,9,    0.061,1,    4.679,1,    0.127,1,     -999,9,     -999,9,20180326,1630, -66.9983, 176.8606,     -999,9,     -999,9,-999          ,9,     -999,9,     -999,9,     -999,     -999,9,     -999,     -999,9,     -999,9,     -999,9,     -999,9,     -999,9,     -999,9,     -999,9,     -999,9,     -999,9,     -999,9,     -999,9,     -999,9,     -999,9,     -999,9
320620180309  ,S04P       ,21      ,  1,5          ,5          ,2,20180326,1551, -66.9985, 176.8609,     3555,   2912.5,0.3086499999999999799,34.695131920717088,2,  34.6937,2,216.56542914600971,2, 217.3965,2,    216.4,2,    128.2,2,    32.67,2,     0.00,2,     2.25,2,     -999,9,     -999,9,     -999,9,   2265.5,2,  2361.40,2,   7.5939,2,    24.93,     -999,9,     -999,9,   0.3080,2,     -999,9,     -999,9,     -999,     -999,9,     -999,9,     -999,9,     -999,9,    0.061,1,    4.679,1,    0.127,1,     -999,9,     -999,9,20180326,1624, -66.9986, 176.8611,     -999,9,     -999,9,-999          ,9,     -999,9,     -999,9,     -999,     -999,9,     -999,     -999,9,     -999,1,     -999,1,     -999,1,     -999,1,     -999,1,     -999,1,     -999,1,     -999,1,     -999,1,     -999,1,     -999,1,     -999,1,     -999,1
320620180309  ,S04P       ,21      ,  1,4          ,4          ,2,20180326,1551, -66.9985, 176.8609,     3555,   3118.5,0.2552527777777777174,34.692576441651994,2,  34.6915,2,218.55867178727252,2, 219.5049,2,    218.2,2,    126.0,2,    32.59,2,     0.00,2,     2.25,2,    0.689,2,    0.383,2,   0.4900,2,   2266.7,2,  2362.22,2,   7.5916,2,    24.93,     -999,9,     -999,1,   0.2543,2,     -999,9,     -999,9,     -999,     -999,9,     -999,9,     -999,9,     -999,1,    0.060,1,    4.678,1,    0.128,1,  17.7200,2,     -999,1,20180326,1614, -66.9983, 176.8606,     -999,1,     -999,1,-999          ,9,     -999,1,     -999,9,     -999,     -999,9,     -999,     -999,9,     -999,9,     -999,9,     -999,9,     -999,9,     -999,9,     -999,9,     -999,9,     -999,9,     -999,9,     -999,9,     -999,9,     -999,9,     -999,9
320620180309  ,S04P       ,21      ,  1,3          ,3          ,2,20180326,1551, -66.9985, 176.8609,     3555,   3321.3,0.1820750000000000146,34.687219918005255,3,  34.6848,2,222.18339608558031,2, 220.6060,2,    222.1,2,    122.1,2,    32.48,2,     0.00,2,     2.25,2,     -999,9,     -999,9,     -999,9,   2263.0,2,  2362.62,2,   7.5919,2,    24.94,     -999,9,     -999,9,   0.1814,2,     -999,9,     -999,9,     -999,     -999,9,     -999,9,     -999,9,     -999,9,    0.060,1,    4.678,1,    0.129,1,     -999,9,     -999,9,20180326,1608, -66.9983, 176.8606,     -999,9,     -999,9,-999          ,9,     -999,9,     -999,9,     -999,     -999,9,     -999,     -999,9,     -999,1,     -999,1,     -999,1,     -999,1,     -999,1,     -999,1,     -999,1,     -999,1,     -999,1,     -999,1,     -999,1,     -999,1,     -999,1
320620180309  ,S04P       ,21      ,  1,2          ,2          ,2,20180326,1551, -66.9985, 176.8609,     3555,   3462.5,0.1413833333333333331,34.685309680109242,2,  34.6841,2,224.34297641611636,2, 224.7960,2,    224.0,2,    118.0,2,    32.39,2,     0.00,2,     2.25,2,    1.186,2,    0.658,2,   0.6400,2,   2265.0,2,  2360.93,2,   7.5881,2,    24.93,     -999,9,     -999,9,   0.1409,2,     -999,9,     -999,9,     -999,     -999,9,     -999,9,     -999,9,     -999,9,    0.061,1,    4.676,1,    0.143,1,  17.8000,2,     -999,9,20180326,1602, -66.9984, 176.8606,     -999,9,     -999,9,-999          ,9,     -999,9,     -999,9,     -999,     -999,9,     -999,     -999,9,     -999,9,     -999,9,     -999,9,     -999,9,     -999,9,     -999,9,     -999,9,     -999,9,     -999,9,     -999,9,     -999,9,     -999,9,     -999,9
320620180309  ,S04P       ,21      ,  1,1          ,1          ,2,20180326,1551, -66.9985, 176.8609,     3555,   3610.5,0.1006416666666666709,34.684791516054844,2,  34.6841,2,225.29779983199626,2, 224.7050,2,    225.4,2,    117.1,2,    32.33,2,     0.00,2,     2.25,2,    1.392,2,    0.772,2,   0.6900,2,   2265.5,6,  2357.65,3,   7.5856,2,    24.94,     -999,9,     -999,9,   0.1000,2,     -999,9,     -999,9,     -999,     -999,9,     -999,9,     -999,9,     -999,9,    0.061,1,    4.669,1,    0.143,1,  17.8800,2,     -999,9,20180326,1551, -66.9985, 176.8609,     -999,9,     -999,9,-999          ,9,     -999,9,     -999,9,     -999,     -999,9,     -999,     -999,9,     -999,1,     -999,1,     -999,1,     -999,1,     -999,1,     -999,1,     -999,1,     -999,1,     -999,1,     -999,1,     -999,1,     -999,1,     -999,1