BOTTLE,20240515CCHHYDRO
EXPOCODE,SECT_ID,STNNBR,CASTNO,SAMPNO,BTLNBR,BTLNBR_FLAG_W,DATE,TIME,LATITUDE,LONGITUDE,DEPTH,CTDPRS,CTDTMP,CTDSAL,CTDSAL_FLAG_W,SALNTY,SALNTY_FLAG_W,CTDOXY,CTDOXY_FLAG_W,CTDOPTOXY,CTDOPTOXY_FLAG_W,OXYGEN,OXYGEN_FLAG_W,SILCAT,SILCAT_FLAG_W,NITRAT,NITRAT_FLAG_W,NITRIT,NITRIT_FLAG_W,PHSPHT,PHSPHT_FLAG_W,CFC-11,CFC-11_FLAG_W,CFC-12,CFC-12_FLAG_W,SF6,SF6_FLAG_W,TCARBN,TCARBN_FLAG_W,ALKALI,ALKALI_FLAG_W,PH_TOT,PH_TOT_FLAG_W,PH_TMP,DOC,DOC_FLAG_W,HELIUM,HELIUM_FLAG_W,REFTMP,REFTMP_FLAG_W,DELC13,DELC13_FLAG_W,DELC14,DELC14_FLAG_W,C14ERR,POC,POC_FLAG_W,TDN,TDN_FLAG_W,TON,TON_FLAG_W,NEON,NEON_FLAG_W,CTDFLUOR,CTDFLUOR_FLAG_W,CTDXMISS,CTDXMISS_FLAG_W,CTDBETA700,CTDBETA700_FLAG_W,N2O,N2O_FLAG_W,ARGON,ARGON_FLAG_W,BTL_DATE,BTL_TIME,BTL_LAT,BTL_LON,KRYPTON,KRYPTON_FLAG_W,XENON,XENON_FLAG_W,HPLC,HPLC_FLAG_W,HE3_HE4_RATIO,HE3_HE4_RATIO_FLAG_W,Nd_143_144_D_EPSILON_BOTTLE,Nd_143_144_D_EPSILON_BOTTLE_FLAG_W,Nd_143_144_D_EPSILON_BOTTLE_ERROR,Nd_143_144_D_RATIO_BOTTLE,Nd_143_144_D_RATIO_BOTTLE_FLAG_W,Nd_143_144_D_RATIO_BOTTLE_ERROR,Nd_D_CONC,Nd_D_CONC_FLAG_W,La_D_CONC_BOTTLE,La_D_CONC_BOTTLE_FLAG_W,Ce_D_CONC_BOTTLE,Ce_D_CONC_BOTTLE_FLAG_W,Pr_D_CONC_BOTTLE,Pr_D_CONC_BOTTLE_FLAG_W,Sm_D_CONC_BOTTLE,Sm_D_CONC_BOTTLE_FLAG_W,Eu_D_CONC_BOTTLE,Eu_D_CONC_BOTTLE_FLAG_W,Gd_D_CONC_BOTTLE,Gd_D_CONC_BOTTLE_FLAG_W,Tb_D_CONC_BOTTLE,Tb_D_CONC_BOTTLE_FLAG_W,Dy_D_CONC_BOTTLE,Dy_D_CONC_BOTTLE_FLAG_W,Ho_D_CONC_BOTTLE,Ho_D_CONC_BOTTLE_FLAG_W,Er_D_CONC_BOTTLE,Er_D_CONC_BOTTLE_FLAG_W,Tm_D_CONC_BOTTLE,Tm_D_CONC_BOTTLE_FLAG_W,Yb_D_CONC_BOTTLE,Yb_D_CONC_BOTTLE_FLAG_W,Lu_D_CONC_BOTTLE,Lu_D_CONC_BOTTLE_FLAG_W
,,,,,,,,,,,METERS,DBAR,ITS-90,PSS-78,,PSS-78,,UMOL/KG,,UMOL/KG,,UMOL/KG,,UMOL/KG,,UMOL/KG,,UMOL/KG,,UMOL/KG,,PMOL/KG,,PMOL/KG,,FMOL/KG,,UMOL/KG,,UMOL/KG,,,,DEG C,UMOL/KG,,NMOL/L,,DEG C,,/MILLE,,/MILLE,,/MILLE,UG/KG,,UMOL/KG,,UMOL/KG,,NMOL/L,,VOLTS,,VOLTS,,VOLTS,,NMOL/KG,,UMOL/L,,,,,,NMOL/L,,NMOL/L,,,,,,10000,,10000,,,,PMOL/KG,,PMOL/L,,PMOL/L,,PMOL/L,,PMOL/L,,PMOL/L,,PMOL/L,,PMOL/L,,PMOL/L,,PMOL/L,,PMOL/L,,PMOL/L,,PMOL/L,,PMOL/L,
320620180309  ,S04P       ,28      ,  1,15         ,15         ,2,20180329,0438, -66.9999,-173.8192,     3650,   1077.2,0.8689444444444445192,34.712347522603373,2,  34.7133,2,203.09862646667005,2, 203.3020,2,    204.1,2,    114.2,2,    31.69,2,     0.00,2,     2.19,2,    0.266,2,    0.137,2,   0.1100,2,   2262.6,2,  2361.86,2,   7.5964,2,    24.92,     40.4,2,     -999,9,   0.8690,2,     -999,9,     -999,9,     -999,     -999,9,     -999,9,     -999,1,     -999,9,    0.061,1,    4.675,1,    0.138,1,  19.0000,2,     -999,9,20180329,0611, -66.9997,-173.8199,     -999,9,     -999,9,-999          ,9,     -999,9,     -999,9,     -999,     -999,9,     -999,     -999,9,     -999,9,     -999,9,     -999,9,     -999,9,     -999,9,     -999,9,     -999,9,     -999,9,     -999,9,     -999,9,     -999,9,     -999,9,     -999,9
320620180309  ,S04P       ,28      ,  1,14         ,14         ,2,20180329,0438, -66.9999,-173.8192,     3650,   1178.9,0.8140222222222220916,34.709980379699402,2,  34.7109,2,203.81975456365433,2, 204.6063,2,    205.0,2,    115.9,2,    31.80,2,     0.00,2,     2.20,2,     -999,9,     -999,9,     -999,9,   2261.3,2,  2361.86,2,   7.5980,2,    24.93,     40.5,2,     -999,9,   0.8126,2,     -999,9,     -999,9,     -999,     -999,9,     -999,9,     -999,1,     -999,9,    0.061,1,    4.674,1,    0.135,1,     -999,9,     -999,9,20180329,0608, -66.9997,-173.8197,     -999,9,     -999,9,-999          ,9,     -999,9,     -999,9,     -999,     -999,9,     -999,     -999,9,     -999,9,     -999,9,     -999,9,     -999,9,     -999,9,     -999,9,     -999,9,     -999,9,     -999,9,     -999,9,     -999,9,     -999,9,     -999,9
320620180309  ,S04P       ,28      ,  1,13         ,13         ,2,20180329,0438, -66.9999,-173.8192,     3650,   1279.7,0.7541916666666667046,34.707462546655314,2,  34.7086,2,205.05504944639330,2, 206.3946,2,    205.7,2,    117.5,2,    31.93,2,     0.00,2,     2.22,2,    0.311,2,    0.163,2,   0.1000,2,   2263.2,2,  2363.09,2,   7.5984,2,    24.95,     42.5,2,     -999,9,   0.7541,2,     -999,9,     -999,9,     -999,     -999,9,     -999,9,     -999,1,     -999,9,    0.061,1,    4.675,1,    0.133,1,  19.0400,2,     -999,9,20180329,0604, -67.0000,-173.8189,     -999,9,     -999,9,-999          ,9,     -999,9,     -999,9,     -999,     -999,9,     -999,     -999,9,     -999,9,     -999,9,     -999,9,     -999,9,     -999,9,     -999,9,     -999,9,     -999,9,     -999,9,     -999,9,     -999,9,     -999,9,     -999,9
320620180309  ,S04P       ,28      ,  1,12         ,12         ,2,20180329,0438, -66.9999,-173.8192,     3650,   1381.4,0.7128027777777778962,34.705446114847945,2,  34.7082,2,206.13070938928917,2, 207.4984,2,    206.6,2,    119.1,2,    31.85,2,     0.00,2,     2.22,2,     -999,9,     -999,9,     -999,9,   2262.2,2,  2362.95,2,   7.5954,2,    24.92,     39.4,2,     -999,9,   0.7121,2,     -999,9,     -999,9,     -999,     -999,9,     -999,9,     -999,1,     -999,9,    0.062,1,    4.675,1,    0.133,1,     -999,9,     -999,9,20180329,0601, -67.0001,-173.8187,     -999,9,     -999,9,-999          ,9,     -999,9,     -999,9,     -999,     -999,9,     -999,     -999,9,     -999,9,     -999,9,     -999,9,     -999,9,     -999,9,     -999,9,     -999,9,     -999,9,     -999,9,     -999,9,     -999,9,     -999,9,     -999,9
320620180309  ,S04P       ,28      ,  1,11         ,11         ,2,20180329,0438, -66.9999,-173.8192,     3650,   1484.0,0.6719916666666666538,34.703611630562570,2,  34.7047,2,207.31302027240076,2, 208.5958,2,    207.9,2,    120.2,2,    31.90,2,     0.00,2,     2.22,2,    0.340,2,    0.190,2,   0.1000,2,   2263.2,2,  2365.36,3,   7.5948,2,    24.92,     -999,9,     -999,9,   0.6720,2,     -999,9,     -999,9,     -999,     -999,9,     -999,9,     -999,9,     -999,9,    0.062,1,    4.676,1,    0.132,1,  18.8500,2,     -999,9,20180329,0553, -66.9999,-173.8192,     -999,9,     -999,9,-999          ,9,     -999,9,     -999,9,     -999,     -999,9,     -999,     -999,9,     -999,9,     -999,9,     -999,9,     -999,9,     -999,9,     -999,9,     -999,9,     -999,9,     -999,9,     -999,9,     -999,9,     -999,9,     -999,9
320620180309  ,S04P       ,28      ,  1,10         ,10         ,2,20180329,0438, -66.9999,-173.8192,     3650,   1584.5,0.6276055555555557497,34.701373706744405,2,  34.7023,2,208.61145390825556,2, 209.7015,2,    208.7,2,    120.7,2,    31.98,2,     0.00,2,     2.22,2,     -999,9,     -999,9,     -999,9,   2263.3,2,  2363.16,2,   7.5963,2,    24.92,     40.4,2,     -999,9,   0.6275,2,     -999,9,     -999,9,     -999,     -999,9,     -999,9,     -999,1,     -999,9,    0.061,1,    4.676,1,    0.131,1,     -999,9,     -999,9,20180329,0544, -67.0000,-173.8189,     -999,9,     -999,9,-999          ,9,     -999,9,     -999,9,     -999,     -999,9,     -999,     -999,9,     -999,9,     -999,9,     -999,9,     -999,9,     -999,9,     -999,9,     -999,9,     -999,9,     -999,9,     -999,9,     -999,9,     -999,9,     -999,9
320620180309  ,S04P       ,28      ,  1,9          ,9          ,2,20180329,0438, -66.9999,-173.8192,     3650,   1758.8,0.5668138888888889504,34.698679232205201,2,  34.6998,2,209.96690158585645,2, 211.4006,2,    210.0,2,    121.9,2,    32.08,2,     0.00,2,     2.22,2,    0.422,2,    0.224,2,   0.1300,2,   2264.1,6,  2362.33,2,   7.5936,2,    24.93,     39.3,2,     -999,9,   0.5663,2,     -999,9,     -999,9,     -999,     -999,9,     -999,9,     -999,1,     -999,9,    0.062,1,    4.676,1,    0.135,1,  18.7400,2,     -999,9,20180329,0538, -66.9999,-173.8192,     -999,9,     -999,9,-999          ,9,     -999,9,     -999,9,     -999,     -999,9,     -999,     -999,9,     -999,9,     -999,9,     -999,9,     -999,9,     -999,9,     -999,9,     -999,9,     -999,9,     -999,9,     -999,9,     -999,9,     -999,9,     -999,9
320620180309  ,S04P       ,28      ,  1,8          ,8          ,2,20180329,0438, -66.9999,-173.8192,     3650,   1964.1,0.4984222222222221554,34.695653383230450,2,  34.6966,2,211.81970375767153,2, 213.2989,2,    211.4,2,    123.0,2,    32.12,2,     0.00,2,     2.22,2,    0.492,2,    0.272,2,   0.2400,2,   2264.6,2,  2362.93,2,   7.5941,6,    24.93,     40.3,2,     -999,9,   0.4983,2,     -999,9,     -999,9,     -999,     -999,9,     -999,9,     -999,1,     -999,9,    0.061,1,    4.675,1,    0.131,1,  18.9100,2,     -999,9,20180329,0532, -66.9998,-173.8193,     -999,9,     -999,9,-999          ,9,     -999,9,     -999,9,     -999,     -999,9,     -999,     -999,9,     -999,9,     -999,9,     -999,9,     -999,9,     -999,9,     -999,9,     -999,9,     -999,9,     -999,9,     -999,9,     -999,9,     -999,9,     -999,9
320620180309  ,S04P       ,28      ,  1,7          ,7          ,2,20180329,0438, -66.9999,-173.8192,     3650,   2196.9,0.4241555555555556190,34.692199876702603,2,  34.6935,2,213.95180843072603,2, 215.1025,2,    213.7,2,    122.8,2,    32.14,2,     0.00,2,     2.23,2,    0.595,2,    0.315,2,   0.2600,2,   2263.3,2,  2362.25,2,   7.5927,2,    24.93,     39.9,2,     -999,9,   0.4239,2,     -999,9,     -999,9,     -999,     -999,9,     -999,9,     -999,1,     -999,9,    0.060,1,    4.676,1,    0.129,1,  18.8400,2,     -999,9,20180329,0525, -66.9999,-173.8191,     -999,9,     -999,9,-999          ,9,     -999,9,     -999,9,     -999,     -999,9,     -999,     -999,9,     -999,9,     -999,9,     -999,9,     -999,9,     -999,9,     -999,9,     -999,9,     -999,9,     -999,9,     -999,9,     -999,9,     -999,9,     -999,9
320620180309  ,S04P       ,28      ,  1,6          ,6          ,2,20180329,0438, -66.9999,-173.8192,     3650,   2451.3,0.3648861111111111888,34.690093459979309,2,  34.6907,2,215.54185865447349,2, 216.7997,2,    215.2,2,    123.2,2,    32.28,2,     0.00,2,     2.23,2,    0.673,2,    0.359,2,   0.2900,2,   2262.6,2,  2361.70,2,   7.5932,2,    24.92,     43.0,2,     -999,9,   0.3643,2,     -999,9,     -999,9,     -999,     -999,9,     -999,9,     -999,1,     -999,9,    0.060,1,    4.676,1,    0.128,1,  18.8200,2,     -999,9,20180329,0516, -67.0008,-173.8172,     -999,9,     -999,9,-999          ,9,     -999,9,     -999,9,     -999,     -999,9,     -999,     -999,9,     -999,9,     -999,9,     -999,9,     -999,9,     -999,9,     -999,9,     -999,9,     -999,9,     -999,9,     -999,9,     -999,9,     -999,9,     -999,9
320620180309  ,S04P       ,28      ,  1,5          ,5          ,2,20180329,0438, -66.9999,-173.8192,     3650,   2708.7,0.3164749999999999508,34.687843426497110,2,  34.6888,2,216.97253560127811,2, 217.7015,2,    217.1,2,    123.1,2,    32.25,2,     0.00,2,     2.23,2,    0.778,2,    0.421,2,   0.3100,2,   2264.0,2,  2361.18,2,   7.5925,2,    24.92,     44.2,2,     -999,9,   0.3162,2,     -999,9,     -999,9,     -999,     -999,9,     -999,9,     -999,1,     -999,9,    0.061,1,    4.675,1,    0.129,1,  18.9300,2,     -999,9,20180329,0509, -67.0003,-173.8181,     -999,9,     -999,9,-999          ,9,     -999,9,     -999,9,     -999,     -999,9,     -999,     -999,9,     -999,9,     -999,9,     -999,9,     -999,9,     -999,9,     -999,9,     -999,9,     -999,9,     -999,9,     -999,9,     -999,9,     -999,9,     -999,9
320620180309  ,S04P       ,28      ,  1,4          ,4          ,2,20180329,0438, -66.9999,-173.8192,     3650,   2964.0,0.2929861111111111138,34.686953907324636,2,  34.6886,2,218.17020777668242,2, 218.4016,2,    217.8,2,    123.6,2,    32.27,2,     0.00,2,     2.22,2,    0.843,2,    0.452,2,   0.3700,2,   2263.0,2,  2361.80,2,   7.5909,2,    24.91,     39.3,2,     -999,9,   0.2925,2,     -999,9,     -999,9,     -999,     -999,9,     -999,9,     -999,1,     -999,9,    0.060,1,    4.675,1,    0.129,1,  18.9900,2,     -999,9,20180329,0502, -67.0002,-173.8181,     -999,9,     -999,9,-999          ,9,     -999,9,     -999,9,     -999,     -999,9,     -999,     -999,9,     -999,9,     -999,9,     -999,9,     -999,9,     -999,9,     -999,9,     -999,9,     -999,9,     -999,9,     -999,9,     -999,9,     -999,9,     -999,9
320620180309  ,S04P       ,28      ,  1,3          ,3          ,2,20180329,0438, -66.9999,-173.8192,     3650,   3255.1,0.2848527777777778436,34.685758319569601,2,  34.6864,2,219.31740159522639,2, 218.4007,2,    218.6,2,    123.5,2,    32.32,2,     0.00,2,     2.22,2,    0.893,2,    0.479,2,   0.3100,2,   2264.1,2,  2361.64,2,   7.5912,2,    24.93,     40.7,2,     -999,9,   0.2845,2,     -999,9,     -999,9,     -999,     -999,9,     -999,9,     -999,1,     -999,9,    0.061,1,    4.675,1,    0.129,1,  18.9300,2,     -999,9,20180329,0454, -67.0003,-173.8181,     -999,9,     -999,9,-999          ,9,     -999,9,     -999,9,     -999,     -999,9,     -999,     -999,9,     -999,9,     -999,9,     -999,9,     -999,9,     -999,9,     -999,9,     -999,9,     -999,9,     -999,9,     -999,9,     -999,9,     -999,9,     -999,9
320620180309  ,S04P       ,28      ,  1,2          ,2          ,2,20180329,0438, -66.9999,-173.8192,     3650,   3482.9,0.2839138888888887990,34.684774663116976,3,  34.6872,2,219.96311616762910,2, 218.2023,2,    219.4,2,    123.2,2,    32.27,2,     0.00,2,     2.23,2,    0.944,2,    0.507,2,   0.3500,2,   2263.9,2,  2362.97,2,   7.5903,2,    24.92,     40.0,2,     -999,9,   0.2832,2,     -999,9,     -999,9,     -999,     -999,9,     -999,9,     -999,1,     -999,9,    0.061,1,    4.673,1,    0.131,1,  18.9700,2,     -999,9,20180329,0447, -66.9997,-173.8197,     -999,9,     -999,9,-999          ,9,     -999,9,     -999,9,     -999,     -999,9,     -999,     -999,9,     -999,9,     -999,9,     -999,9,     -999,9,     -999,9,     -999,9,     -999,9,     -999,9,     -999,9,     -999,9,     -999,9,     -999,9,     -999,9
320620180309  ,S04P       ,28      ,  1,1          ,1          ,2,20180329,0438, -66.9999,-173.8192,     3650,   3708.5,0.2760388888888888337,34.683277534718414,3,  34.6864,2,220.48127370845913,2, 217.6011,2,    220.7,2,    122.8,2,    32.29,2,     0.00,2,     2.22,2,    1.028,2,    0.551,2,   0.3400,2,   2262.8,6,  2360.50,2,   7.5906,2,    24.92,     39.4,2,     -999,9,   0.2755,2,     -999,9,     -999,9,     -999,     -999,9,     -999,9,     -999,1,     -999,9,    0.060,1,    4.671,1,    0.131,1,  18.9100,2,     -999,9,20180329,0438, -66.9999,-173.8192,     -999,9,     -999,9,-999          ,9,     -999,9,     -999,9,     -999,     -999,9,     -999,     -999,9,     -999,9,     -999,9,     -999,9,     -999,9,     -999,9,     -999,9,     -999,9,     -999,9,     -999,9,     -999,9,     -999,9,     -999,9,     -999,9