BOTTLE,20240515CCHHYDRO
EXPOCODE,SECT_ID,STNNBR,CASTNO,SAMPNO,BTLNBR,BTLNBR_FLAG_W,DATE,TIME,LATITUDE,LONGITUDE,DEPTH,CTDPRS,CTDTMP,CTDSAL,CTDSAL_FLAG_W,SALNTY,SALNTY_FLAG_W,CTDOXY,CTDOXY_FLAG_W,CTDOPTOXY,CTDOPTOXY_FLAG_W,OXYGEN,OXYGEN_FLAG_W,SILCAT,SILCAT_FLAG_W,NITRAT,NITRAT_FLAG_W,NITRIT,NITRIT_FLAG_W,PHSPHT,PHSPHT_FLAG_W,CFC-11,CFC-11_FLAG_W,CFC-12,CFC-12_FLAG_W,SF6,SF6_FLAG_W,TCARBN,TCARBN_FLAG_W,ALKALI,ALKALI_FLAG_W,PH_TOT,PH_TOT_FLAG_W,PH_TMP,DOC,DOC_FLAG_W,HELIUM,HELIUM_FLAG_W,REFTMP,REFTMP_FLAG_W,DELC13,DELC13_FLAG_W,DELC14,DELC14_FLAG_W,C14ERR,POC,POC_FLAG_W,TDN,TDN_FLAG_W,TON,TON_FLAG_W,NEON,NEON_FLAG_W,CTDFLUOR,CTDFLUOR_FLAG_W,CTDXMISS,CTDXMISS_FLAG_W,CTDBETA700,CTDBETA700_FLAG_W,N2O,N2O_FLAG_W,ARGON,ARGON_FLAG_W,BTL_DATE,BTL_TIME,BTL_LAT,BTL_LON,KRYPTON,KRYPTON_FLAG_W,XENON,XENON_FLAG_W,HPLC,HPLC_FLAG_W,HE3_HE4_RATIO,HE3_HE4_RATIO_FLAG_W,Nd_143_144_D_EPSILON_BOTTLE,Nd_143_144_D_EPSILON_BOTTLE_FLAG_W,Nd_143_144_D_EPSILON_BOTTLE_ERROR,Nd_143_144_D_RATIO_BOTTLE,Nd_143_144_D_RATIO_BOTTLE_FLAG_W,Nd_143_144_D_RATIO_BOTTLE_ERROR,Nd_D_CONC,Nd_D_CONC_FLAG_W,La_D_CONC_BOTTLE,La_D_CONC_BOTTLE_FLAG_W,Ce_D_CONC_BOTTLE,Ce_D_CONC_BOTTLE_FLAG_W,Pr_D_CONC_BOTTLE,Pr_D_CONC_BOTTLE_FLAG_W,Sm_D_CONC_BOTTLE,Sm_D_CONC_BOTTLE_FLAG_W,Eu_D_CONC_BOTTLE,Eu_D_CONC_BOTTLE_FLAG_W,Gd_D_CONC_BOTTLE,Gd_D_CONC_BOTTLE_FLAG_W,Tb_D_CONC_BOTTLE,Tb_D_CONC_BOTTLE_FLAG_W,Dy_D_CONC_BOTTLE,Dy_D_CONC_BOTTLE_FLAG_W,Ho_D_CONC_BOTTLE,Ho_D_CONC_BOTTLE_FLAG_W,Er_D_CONC_BOTTLE,Er_D_CONC_BOTTLE_FLAG_W,Tm_D_CONC_BOTTLE,Tm_D_CONC_BOTTLE_FLAG_W,Yb_D_CONC_BOTTLE,Yb_D_CONC_BOTTLE_FLAG_W,Lu_D_CONC_BOTTLE,Lu_D_CONC_BOTTLE_FLAG_W
,,,,,,,,,,,METERS,DBAR,ITS-90,PSS-78,,PSS-78,,UMOL/KG,,UMOL/KG,,UMOL/KG,,UMOL/KG,,UMOL/KG,,UMOL/KG,,UMOL/KG,,PMOL/KG,,PMOL/KG,,FMOL/KG,,UMOL/KG,,UMOL/KG,,,,DEG C,UMOL/KG,,NMOL/L,,DEG C,,/MILLE,,/MILLE,,/MILLE,UG/KG,,UMOL/KG,,UMOL/KG,,NMOL/L,,VOLTS,,VOLTS,,VOLTS,,NMOL/KG,,UMOL/L,,,,,,NMOL/L,,NMOL/L,,,,,,10000,,10000,,,,PMOL/KG,,PMOL/L,,PMOL/L,,PMOL/L,,PMOL/L,,PMOL/L,,PMOL/L,,PMOL/L,,PMOL/L,,PMOL/L,,PMOL/L,,PMOL/L,,PMOL/L,,PMOL/L,
320620180309  ,S04P       ,76      ,  1,15         ,15         ,2,20180420,0451, -66.9991,-138.2018,     4444,   1315.3,1.1143388888888889898,34.723092445844181,2,  34.7227,2,198.29154937513820,2, 197.2988,2,    197.5,2,    111.9,2,    32.37,2,     0.00,2,     2.22,2,    0.152,2,    0.077,2,   0.0000,2,   2260.7,2,  2362.06,2,   7.5950,2,    24.90,     -999,9,     -999,9,   1.1141,2,     -999,9,     -999,9,     -999,     -999,9,     -999,9,     -999,9,     -999,9,    0.066,1,    4.660,1,    0.131,1,  19.8100,2,     -999,9,20180420,0605, -66.9988,-138.2011,     -999,9,     -999,9,-999          ,9,     -999,9,     -999,9,     -999,     -999,9,     -999,     -999,9,     -999,9,     -999,9,     -999,9,     -999,9,     -999,9,     -999,9,     -999,9,     -999,9,     -999,9,     -999,9,     -999,9,     -999,9,     -999,9
320620180309  ,S04P       ,76      ,  1,14         ,14         ,2,20180420,0451, -66.9991,-138.2018,     4444,   1418.9,1.0545111111111111768,34.720637879895683,2,  34.7208,2,199.52835356042939,2, 198.4995,2,    198.8,2,    114.0,2,    32.38,2,     0.00,2,     2.22,2,     -999,9,     -999,9,     -999,9,   2261.2,2,  2363.21,2,   7.5941,2,    24.90,     -999,5,     -999,9,   1.0538,2,     -999,9,     -999,9,     -999,     -999,9,     -999,9,     -999,1,     -999,9,    0.062,1,    4.659,1,    0.129,1,     -999,9,     -999,9,20180420,0602, -66.9989,-138.2013,     -999,9,     -999,9,-999          ,9,     -999,9,     -999,9,     -999,     -999,9,     -999,     -999,9,     -999,9,     -999,9,     -999,9,     -999,9,     -999,9,     -999,9,     -999,9,     -999,9,     -999,9,     -999,9,     -999,9,     -999,9,     -999,9
320620180309  ,S04P       ,76      ,  1,13         ,13         ,2,20180420,0451, -66.9991,-138.2018,     4444,   1519.3,1.0010138888888888697,34.718430885731998,2,  34.7188,2,200.30518611808310,2, 199.7043,2,    199.6,2,    115.9,2,    32.37,2,     0.00,2,     2.22,2,    0.139,6,    0.070,6,   0.0000,6,   2261.2,2,  2363.29,2,   7.5967,2,    24.91,     -999,9,     -999,9,   1.0002,2,     -999,9,     -999,9,     -999,     -999,9,     -999,9,     -999,9,     -999,9,    0.063,1,    4.660,1,    0.131,1,  19.7400,6,     -999,9,20180420,0559, -66.9987,-138.2009,     -999,9,     -999,9,-999          ,9,     -999,9,     -999,9,     -999,     -999,9,     -999,     -999,9,     -999,9,     -999,9,     -999,9,     -999,9,     -999,9,     -999,9,     -999,9,     -999,9,     -999,9,     -999,9,     -999,9,     -999,9,     -999,9
320620180309  ,S04P       ,76      ,  1,12         ,12         ,2,20180420,0451, -66.9991,-138.2018,     4444,   1621.7,0.9550222222222222168,34.716491452883155,2,  34.7176,2,201.53602721128763,2, 200.8050,2,    201.0,2,    117.7,2,    32.39,2,     0.00,2,     2.22,2,     -999,9,     -999,9,     -999,9,   2261.9,2,  2364.72,2,   7.5964,2,    24.90,     -999,5,     -999,9,   0.9542,2,     -999,9,     -999,9,     -999,     -999,9,     -999,9,     -999,1,     -999,9,    0.062,1,    4.655,1,    0.133,1,     -999,9,     -999,9,20180420,0556, -66.9986,-138.2006,     -999,9,     -999,9,-999          ,9,     -999,9,     -999,9,     -999,     -999,9,     -999,     -999,9,     -999,9,     -999,9,     -999,9,     -999,9,     -999,9,     -999,9,     -999,9,     -999,9,     -999,9,     -999,9,     -999,9,     -999,9,     -999,9
320620180309  ,S04P       ,76      ,  1,11         ,11         ,2,20180420,0451, -66.9991,-138.2018,     4444,   1825.3,0.8525777777777777677,34.712224192928936,2,  34.7127,2,203.53042201758407,2, 202.7990,2,    203.1,2,    121.5,2,    32.48,2,     0.00,2,     2.22,2,    0.146,2,    0.086,2,   0.0700,2,   2261.9,2,  2364.51,2,   7.5972,2,    24.89,     -999,5,     -999,9,   0.8524,2,     -999,9,     -999,9,     -999,     -999,9,     -999,9,     -999,1,     -999,9,    0.062,1,    4.662,1,    0.129,1,  19.5400,2,     -999,9,20180420,0551, -66.9986,-138.2006,     -999,9,     -999,9,-999          ,9,     -999,9,     -999,9,     -999,     -999,9,     -999,     -999,9,     -999,9,     -999,9,     -999,9,     -999,9,     -999,9,     -999,9,     -999,9,     -999,9,     -999,9,     -999,9,     -999,9,     -999,9,     -999,9
320620180309  ,S04P       ,76      ,  1,10         ,10         ,2,20180420,0451, -66.9991,-138.2018,     4444,   2029.5,0.7748277777777777819,34.708969805628804,2,  34.7094,2,204.43618987897494,2, 204.5067,2,    205.9,3,    124.7,2,    32.55,2,     0.00,2,     2.23,2,     -999,9,     -999,9,     -999,9,   2261.2,2,  2364.41,2,   7.5954,2,    24.89,     -999,5,     -999,9,   0.7741,2,     -999,9,     -999,9,     -999,     -999,9,     -999,9,     -999,1,     -999,9,    0.061,1,    4.662,1,    0.127,1,     -999,9,     -999,9,20180420,0546, -66.9988,-138.2010,     -999,9,     -999,9,-999          ,9,     -999,9,     -999,9,     -999,     -999,9,     -999,     -999,9,     -999,9,     -999,9,     -999,9,     -999,9,     -999,9,     -999,9,     -999,9,     -999,9,     -999,9,     -999,9,     -999,9,     -999,9,     -999,9
320620180309  ,S04P       ,76      ,  1,9          ,9          ,2,20180420,0451, -66.9991,-138.2018,     4444,   2284.9,0.6999416666666666842,34.706184040295902,2,  34.7066,2,206.87334741340356,2, 206.3017,2,    205.9,2,    127.3,2,    32.64,2,     0.00,2,     2.23,2,    0.173,2,    0.090,2,   0.0400,2,   2263.2,6,  2364.60,2,   7.5955,2,    24.89,     -999,5,     -999,9,   0.6992,2,     -999,9,     -999,9,     -999,     -999,9,     -999,9,     -999,1,     -999,9,    0.061,1,    4.663,1,    0.127,1,  19.4200,2,     -999,9,20180420,0540, -66.9986,-138.2006,     -999,9,     -999,9,-999          ,9,     -999,9,     -999,9,     -999,     -999,9,     -999,     -999,9,     -999,9,     -999,9,     -999,9,     -999,9,     -999,9,     -999,9,     -999,9,     -999,9,     -999,9,     -999,9,     -999,9,     -999,9,     -999,9
320620180309  ,S04P       ,76      ,  1,8          ,8          ,2,20180420,0451, -66.9991,-138.2018,     4444,   2539.5,0.6055749999999998634,34.703597818759896,2,  34.7039,2,208.95868494327985,2, 208.4018,2,    208.2,2,    128.7,2,    32.73,2,     0.00,2,     2.25,2,     -999,9,     -999,9,     -999,9,   2262.9,2,  2364.08,2,   7.5939,2,    24.89,     -999,5,     -999,9,   0.6045,2,     -999,9,     -999,9,     -999,     -999,9,     -999,9,     -999,1,     -999,9,    0.061,1,    4.663,1,    0.126,1,     -999,9,     -999,9,20180420,0535, -66.9987,-138.2008,     -999,9,     -999,9,-999          ,9,     -999,9,     -999,9,     -999,     -999,9,     -999,     -999,9,     -999,9,     -999,9,     -999,9,     -999,9,     -999,9,     -999,9,     -999,9,     -999,9,     -999,9,     -999,9,     -999,9,     -999,9,     -999,9
320620180309  ,S04P       ,76      ,  1,7          ,7          ,2,20180420,0451, -66.9991,-138.2018,     4444,   2795.2,0.5008472222222224435,34.701951463458023,2,  34.7025,2,209.80077801597443,2, 210.6018,2,    210.6,2,    130.5,2,    32.80,2,     0.00,2,     2.24,2,    0.218,2,    0.117,2,   0.0400,2,   2260.9,2,  2363.85,2,   7.5946,2,    24.89,     -999,5,     -999,9,   0.5004,2,     -999,9,     -999,9,     -999,     -999,9,     -999,9,     -999,1,     -999,9,    0.061,1,    4.662,1,    0.126,1,  19.5500,2,     -999,9,20180420,0529, -66.9989,-138.2013,     -999,9,     -999,9,-999          ,9,     -999,9,     -999,9,     -999,     -999,9,     -999,     -999,9,     -999,9,     -999,9,     -999,9,     -999,9,     -999,9,     -999,9,     -999,9,     -999,9,     -999,9,     -999,9,     -999,9,     -999,9,     -999,9
320620180309  ,S04P       ,76      ,  1,6          ,6          ,2,20180420,0451, -66.9991,-138.2018,     4444,   3102.3,0.4236055555555555685,34.701153340614901,2,  34.7013,2,211.76606143457326,2, 212.5993,2,    212.5,2,    132.8,2,    32.86,2,     0.00,2,     2.25,2,    0.215,2,    0.114,2,   0.0500,2,   2265.3,2,  2364.38,2,   7.5940,2,    24.90,     -999,5,     -999,9,   0.4231,2,     -999,9,     -999,9,     -999,     -999,9,     -999,9,     -999,1,     -999,9,    0.061,1,    4.662,1,    0.129,1,  19.8400,2,     -999,9,20180420,0523, -66.9988,-138.2010,     -999,9,     -999,9,-999          ,9,     -999,9,     -999,9,     -999,     -999,9,     -999,     -999,9,     -999,9,     -999,9,     -999,9,     -999,9,     -999,9,     -999,9,     -999,9,     -999,9,     -999,9,     -999,9,     -999,9,     -999,9,     -999,9
320620180309  ,S04P       ,76      ,  1,5          ,5          ,2,20180420,0451, -66.9991,-138.2018,     4444,   3409.5,0.3593833333333333324,34.700159424108470,2,  34.7019,2,214.17111384183235,2, 214.5967,2,    214.5,2,    136.5,2,    32.97,2,     0.00,2,     2.25,2,    0.293,2,    0.152,2,   0.0800,2,   2262.7,2,  2364.74,2,   7.5940,2,    24.89,     -999,5,     -999,9,   0.3569,2,     -999,9,     -999,9,     -999,     -999,9,     -999,9,     -999,1,     -999,9,    0.061,1,    4.662,1,    0.126,1,  19.0400,2,     -999,9,20180420,0516, -66.9990,-138.2014,     -999,9,     -999,9,-999          ,9,     -999,9,     -999,9,     -999,     -999,9,     -999,     -999,9,     -999,9,     -999,9,     -999,9,     -999,9,     -999,9,     -999,9,     -999,9,     -999,9,     -999,9,     -999,9,     -999,9,     -999,9,     -999,9
320620180309  ,S04P       ,76      ,  1,4          ,4          ,2,20180420,0451, -66.9991,-138.2018,     4444,   3692.4,0.3315999999999999504,34.698804023034633,2,  34.6984,2,216.13807220849131,2, 215.4995,2,    215.8,2,    136.4,2,    32.93,2,     0.00,2,     2.25,2,    0.372,2,    0.195,2,   0.0900,2,   2263.4,2,  2364.74,2,   7.5960,2,    24.89,     -999,5,     -999,9,   0.3312,2,     -999,9,     -999,9,     -999,     -999,9,     -999,9,     -999,1,     -999,9,    0.061,1,    4.661,1,    0.126,1,  19.2700,2,     -999,9,20180420,0510, -66.9994,-138.2026,     -999,9,     -999,9,-999          ,9,     -999,9,     -999,9,     -999,     -999,9,     -999,     -999,9,     -999,9,     -999,9,     -999,9,     -999,9,     -999,9,     -999,9,     -999,9,     -999,9,     -999,9,     -999,9,     -999,9,     -999,9,     -999,9
320620180309  ,S04P       ,76      ,  1,3          ,3          ,2,20180420,0451, -66.9991,-138.2018,     4444,   3976.0,0.2817583333333333329,34.695579723860007,2,  34.6941,2,218.02853127739280,2, 217.7042,2,    217.8,2,    132.7,2,    32.92,2,     0.00,2,     2.24,2,    0.596,2,    0.304,2,   0.1500,2,   2262.5,2,  2363.73,2,   7.5956,2,    24.89,     -999,9,     -999,9,   0.2812,2,     -999,9,     -999,9,     -999,     -999,9,     -999,9,     -999,9,     -999,9,    0.061,1,    4.660,1,    0.127,1,  19.1200,2,     -999,9,20180420,0504, -66.9989,-138.2017,     -999,9,     -999,9,-999          ,9,     -999,9,     -999,9,     -999,     -999,9,     -999,     -999,9,     -999,9,     -999,9,     -999,9,     -999,9,     -999,9,     -999,9,     -999,9,     -999,9,     -999,9,     -999,9,     -999,9,     -999,9,     -999,9
320620180309  ,S04P       ,76      ,  1,2          ,2          ,2,20180420,0451, -66.9991,-138.2018,     4444,   4232.4,0.2789194444444444421,34.694840880404641,2,  34.6943,2,219.47348035701742,2, 218.8007,2,    218.9,2,    131.1,2,    32.94,2,     0.00,2,     2.25,2,    0.669,2,    0.346,2,   0.1100,2,   2261.3,2,  2363.47,2,   7.5936,2,    24.89,     -999,5,     -999,9,   0.2782,2,     -999,9,     -999,9,     -999,     -999,9,     -999,9,     -999,1,     -999,9,    0.062,1,    4.659,1,    0.128,1,  19.3800,2,     -999,9,20180420,0458, -66.9987,-138.2011,     -999,9,     -999,9,-999          ,9,     -999,9,     -999,9,     -999,     -999,9,     -999,     -999,9,     -999,9,     -999,9,     -999,9,     -999,9,     -999,9,     -999,9,     -999,9,     -999,9,     -999,9,     -999,9,     -999,9,     -999,9,     -999,9
320620180309  ,S04P       ,76      ,  1,1          ,1          ,2,20180420,0451, -66.9991,-138.2018,     4444,   4524.8,0.2951944444444444260,34.694825647327384,2,  34.6947,2,224.31290480488872,3, 219.6009,2,    219.4,2,    130.4,2,    32.84,2,     0.00,2,     2.25,2,    0.697,2,    0.352,2,   0.0800,2,   2263.0,6,  2362.22,2,   7.5933,2,    24.89,     -999,5,     -999,9,   0.2947,2,     -999,9,     -999,9,     -999,     -999,9,     -999,9,     -999,1,     -999,9,    0.061,1,    4.656,1,    0.133,1,  19.1300,2,     -999,9,20180420,0451, -66.9991,-138.2018,     -999,9,     -999,9,-999          ,9,     -999,9,     -999,9,     -999,     -999,9,     -999,     -999,9,     -999,9,     -999,9,     -999,9,     -999,9,     -999,9,     -999,9,     -999,9,     -999,9,     -999,9,     -999,9,     -999,9,     -999,9,     -999,9