BOTTLE,20240515CCHHYDRO
EXPOCODE,SECT_ID,STNNBR,CASTNO,SAMPNO,BTLNBR,BTLNBR_FLAG_W,DATE,TIME,LATITUDE,LONGITUDE,DEPTH,CTDPRS,CTDTMP,CTDSAL,CTDSAL_FLAG_W,SALNTY,SALNTY_FLAG_W,CTDOXY,CTDOXY_FLAG_W,CTDOPTOXY,CTDOPTOXY_FLAG_W,OXYGEN,OXYGEN_FLAG_W,SILCAT,SILCAT_FLAG_W,NITRAT,NITRAT_FLAG_W,NITRIT,NITRIT_FLAG_W,PHSPHT,PHSPHT_FLAG_W,CFC-11,CFC-11_FLAG_W,CFC-12,CFC-12_FLAG_W,SF6,SF6_FLAG_W,TCARBN,TCARBN_FLAG_W,ALKALI,ALKALI_FLAG_W,PH_TOT,PH_TOT_FLAG_W,PH_TMP,DOC,DOC_FLAG_W,HELIUM,HELIUM_FLAG_W,REFTMP,REFTMP_FLAG_W,DELC13,DELC13_FLAG_W,DELC14,DELC14_FLAG_W,C14ERR,POC,POC_FLAG_W,TDN,TDN_FLAG_W,TON,TON_FLAG_W,NEON,NEON_FLAG_W,CTDFLUOR,CTDFLUOR_FLAG_W,CTDXMISS,CTDXMISS_FLAG_W,CTDBETA700,CTDBETA700_FLAG_W,N2O,N2O_FLAG_W,ARGON,ARGON_FLAG_W,BTL_DATE,BTL_TIME,BTL_LAT,BTL_LON,KRYPTON,KRYPTON_FLAG_W,XENON,XENON_FLAG_W,HPLC,HPLC_FLAG_W,HE3_HE4_RATIO,HE3_HE4_RATIO_FLAG_W,Nd_143_144_D_EPSILON_BOTTLE,Nd_143_144_D_EPSILON_BOTTLE_FLAG_W,Nd_143_144_D_EPSILON_BOTTLE_ERROR,Nd_143_144_D_RATIO_BOTTLE,Nd_143_144_D_RATIO_BOTTLE_FLAG_W,Nd_143_144_D_RATIO_BOTTLE_ERROR,Nd_D_CONC,Nd_D_CONC_FLAG_W,La_D_CONC_BOTTLE,La_D_CONC_BOTTLE_FLAG_W,Ce_D_CONC_BOTTLE,Ce_D_CONC_BOTTLE_FLAG_W,Pr_D_CONC_BOTTLE,Pr_D_CONC_BOTTLE_FLAG_W,Sm_D_CONC_BOTTLE,Sm_D_CONC_BOTTLE_FLAG_W,Eu_D_CONC_BOTTLE,Eu_D_CONC_BOTTLE_FLAG_W,Gd_D_CONC_BOTTLE,Gd_D_CONC_BOTTLE_FLAG_W,Tb_D_CONC_BOTTLE,Tb_D_CONC_BOTTLE_FLAG_W,Dy_D_CONC_BOTTLE,Dy_D_CONC_BOTTLE_FLAG_W,Ho_D_CONC_BOTTLE,Ho_D_CONC_BOTTLE_FLAG_W,Er_D_CONC_BOTTLE,Er_D_CONC_BOTTLE_FLAG_W,Tm_D_CONC_BOTTLE,Tm_D_CONC_BOTTLE_FLAG_W,Yb_D_CONC_BOTTLE,Yb_D_CONC_BOTTLE_FLAG_W,Lu_D_CONC_BOTTLE,Lu_D_CONC_BOTTLE_FLAG_W
,,,,,,,,,,,METERS,DBAR,ITS-90,PSS-78,,PSS-78,,UMOL/KG,,UMOL/KG,,UMOL/KG,,UMOL/KG,,UMOL/KG,,UMOL/KG,,UMOL/KG,,PMOL/KG,,PMOL/KG,,FMOL/KG,,UMOL/KG,,UMOL/KG,,,,DEG C,UMOL/KG,,NMOL/L,,DEG C,,/MILLE,,/MILLE,,/MILLE,UG/KG,,UMOL/KG,,UMOL/KG,,NMOL/L,,VOLTS,,VOLTS,,VOLTS,,NMOL/KG,,UMOL/L,,,,,,NMOL/L,,NMOL/L,,,,,,10000,,10000,,,,PMOL/KG,,PMOL/L,,PMOL/L,,PMOL/L,,PMOL/L,,PMOL/L,,PMOL/L,,PMOL/L,,PMOL/L,,PMOL/L,,PMOL/L,,PMOL/L,,PMOL/L,,PMOL/L,
320620180309  ,S04P       ,82      ,  1,15         ,15         ,2,20180422,0153, -66.9996,-129.5004,     4364,   1316.5,1.2769416666666666416,34.727366475959073,2,  34.7272,2,195.46022612606413,2, 194.9990,2,    195.3,2,    107.3,2,    31.85,2,     0.00,2,     2.14,2,    0.147,6,    0.076,6,   0.0300,6,   2262.4,2,  2361.07,2,   7.6066,2,    24.86,     -999,9,     -999,9,   1.2762,2,     -999,9,     -999,9,     -999,     -999,9,     -999,9,     -999,9,     -999,9,    0.066,1,    4.659,1,    0.150,1,  19.9000,6,     -999,9,20180422,0310, -66.9997,-129.5006,     -999,9,     -999,9,-999          ,9,     -999,9,     -999,9,     -999,     -999,9,     -999,     -999,9,     -999,9,     -999,9,     -999,9,     -999,9,     -999,9,     -999,9,     -999,9,     -999,9,     -999,9,     -999,9,     -999,9,     -999,9,     -999,9
320620180309  ,S04P       ,82      ,  1,14         ,14         ,2,20180422,0153, -66.9996,-129.5004,     4364,   1418.3,1.2092527777777777320,34.725142711532371,2,  34.7255,2,196.50893729863191,2, 196.2033,2,    196.4,2,    109.8,2,    31.95,2,     0.00,2,     2.18,2,     -999,9,     -999,9,     -999,9,   2261.5,2,  2363.04,2,   7.6062,2,    24.86,     37.9,2,     -999,9,   1.2085,2,     -999,9,     -999,9,     -999,     -999,9,     -999,9,     -999,1,     -999,9,    0.061,1,    4.661,1,    0.129,1,     -999,9,     -999,9,20180422,0307, -66.9997,-129.5007,     -999,9,     -999,9,-999          ,9,     -999,9,     -999,9,     -999,     -999,9,     -999,     -999,9,     -999,9,     -999,9,     -999,9,     -999,9,     -999,9,     -999,9,     -999,9,     -999,9,     -999,9,     -999,9,     -999,9,     -999,9,     -999,9
320620180309  ,S04P       ,82      ,  1,13         ,13         ,2,20180422,0153, -66.9996,-129.5004,     4364,   1519.7,1.1447277777777777885,34.722971439771413,2,  34.7227,2,197.30146204425967,2, 197.2015,2,    197.4,2,    112.2,2,    32.02,2,     0.00,2,     2.19,2,    0.128,2,    0.067,2,   0.0700,2,   2262.9,2,  2361.44,2,   7.5983,2,    24.87,     -999,9,     -999,9,   1.1441,2,     -999,9,     -999,9,     -999,     -999,9,     -999,9,     -999,9,     -999,9,    0.061,1,    4.661,1,    0.130,1,  20.6200,2,     -999,9,20180422,0304, -66.9998,-129.5007,     -999,9,     -999,9,-999          ,9,     -999,9,     -999,9,     -999,     -999,9,     -999,     -999,9,     -999,9,     -999,9,     -999,9,     -999,9,     -999,9,     -999,9,     -999,9,     -999,9,     -999,9,     -999,9,     -999,9,     -999,9,     -999,9
320620180309  ,S04P       ,82      ,  1,12         ,12         ,2,20180422,0153, -66.9996,-129.5004,     4364,   1621.5,1.0897083333333332789,34.720832429993095,2,  34.7219,2,198.09597896362510,2, 198.4023,2,    198.4,2,    113.9,2,    32.06,2,     0.00,2,     2.21,2,     -999,9,     -999,9,     -999,9,   2263.8,2,  2363.33,2,   7.6017,2,    24.89,     41.4,2,     -999,9,   1.0896,2,     -999,9,     -999,9,     -999,     -999,9,     -999,9,     -999,1,     -999,9,    0.061,1,    4.661,1,    0.130,1,     -999,9,     -999,9,20180422,0301, -66.9999,-129.5007,     -999,9,     -999,9,-999          ,9,     -999,9,     -999,9,     -999,     -999,9,     -999,     -999,9,     -999,9,     -999,9,     -999,9,     -999,9,     -999,9,     -999,9,     -999,9,     -999,9,     -999,9,     -999,9,     -999,9,     -999,9,     -999,9
320620180309  ,S04P       ,82      ,  1,11         ,11         ,2,20180422,0153, -66.9996,-129.5004,     4364,   1825.2,0.9821472222222225046,34.716795261244521,2,  34.7172,2,199.80324160964264,2, 200.4006,2,    200.3,2,    117.7,2,    32.16,2,     0.00,2,     2.21,2,    0.119,2,    0.071,2,   0.0300,2,   2260.5,2,  2363.37,2,   7.6046,2,    24.89,     43.0,2,     -999,9,   0.9814,2,     -999,9,     -999,9,     -999,     -999,9,     -999,9,     -999,1,     -999,9,    0.060,1,    4.661,1,    0.128,1,  19.5900,2,     -999,9,20180422,0256, -67.0005,-129.5005,     -999,9,     -999,9,-999          ,9,     -999,9,     -999,9,     -999,     -999,9,     -999,     -999,9,     -999,9,     -999,9,     -999,9,     -999,9,     -999,9,     -999,9,     -999,9,     -999,9,     -999,9,     -999,9,     -999,9,     -999,9,     -999,9
320620180309  ,S04P       ,82      ,  1,10         ,10         ,2,20180422,0153, -66.9996,-129.5004,     4364,   2029.2,0.8941944444444442919,34.713089217594600,2,  34.7143,2,202.26097706654650,2, 202.3000,2,    203.0,2,    120.5,2,    32.25,2,     0.00,2,     2.19,2,     -999,9,     -999,9,     -999,9,   2262.3,6,  2362.90,2,   7.6049,2,    24.88,     41.5,2,     -999,9,   0.8934,2,     -999,9,     -999,9,     -999,     -999,9,     -999,9,     -999,1,     -999,9,    0.061,1,    4.661,1,    0.128,1,     -999,9,     -999,9,20180422,0252, -67.0005,-129.5005,     -999,9,     -999,9,-999          ,9,     -999,9,     -999,9,     -999,     -999,9,     -999,     -999,9,     -999,9,     -999,9,     -999,9,     -999,9,     -999,9,     -999,9,     -999,9,     -999,9,     -999,9,     -999,9,     -999,9,     -999,9,     -999,9
320620180309  ,S04P       ,82      ,  1,9          ,9          ,2,20180422,0153, -66.9996,-129.5004,     4364,   2283.6,0.8011583333333333057,34.709527504223296,2,  34.7096,2,204.29390780969169,2, 204.2979,2,    204.4,2,    124.1,2,    32.41,2,     0.00,2,     2.21,2,    0.149,2,    0.077,2,   0.0600,2,   2263.0,2,  2364.90,2,   7.6053,2,    24.90,     41.0,2,     -999,9,   0.8002,2,     -999,9,     -999,9,     -999,     -999,9,     -999,9,     -999,1,     -999,9,    0.061,1,    4.661,1,    0.128,1,  19.3400,2,     -999,9,20180422,0246, -67.0004,-129.5005,     -999,9,     -999,9,-999          ,9,     -999,9,     -999,9,     -999,     -999,9,     -999,     -999,9,     -999,9,     -999,9,     -999,9,     -999,9,     -999,9,     -999,9,     -999,9,     -999,9,     -999,9,     -999,9,     -999,9,     -999,9,     -999,9
320620180309  ,S04P       ,82      ,  1,8          ,8          ,2,20180422,0153, -66.9996,-129.5004,     4364,   2538.7,0.7113222222222221891,34.706576799017242,2,  34.7074,2,205.44595791952031,2, 206.3048,2,    206.0,2,    127.0,2,    32.47,2,     0.00,2,     2.23,2,     -999,9,     -999,9,     -999,9,   2262.6,2,  2365.07,2,   7.6016,6,    24.88,     42.7,2,     -999,9,   0.7106,2,     -999,9,     -999,9,     -999,     -999,9,     -999,9,     -999,1,     -999,9,    0.061,1,    4.662,1,    0.126,1,     -999,9,     -999,9,20180422,0240, -67.0001,-129.5005,     -999,9,     -999,9,-999          ,9,     -999,9,     -999,9,     -999,     -999,9,     -999,     -999,9,     -999,9,     -999,9,     -999,9,     -999,9,     -999,9,     -999,9,     -999,9,     -999,9,     -999,9,     -999,9,     -999,9,     -999,9,     -999,9
320620180309  ,S04P       ,82      ,  1,7          ,7          ,2,20180422,0153, -66.9996,-129.5004,     4364,   2794.5,0.6202666666666667439,34.704296491312192,2,  34.7060,2,208.09130336092707,2, 208.0067,2,    208.0,2,    129.4,2,    32.58,2,     0.00,2,     2.23,2,    0.195,2,    0.108,2,   0.0600,2,   2265.2,2,  2365.39,2,   7.5999,2,    24.88,     38.9,2,     -999,9,   0.6194,2,     -999,9,     -999,9,     -999,     -999,9,     -999,9,     -999,1,     -999,9,    0.061,1,    4.661,1,    0.128,1,  19.5600,2,     -999,9,20180422,0234, -66.9999,-129.5005,     -999,9,     -999,9,-999          ,9,     -999,9,     -999,9,     -999,     -999,9,     -999,     -999,9,     -999,9,     -999,9,     -999,9,     -999,9,     -999,9,     -999,9,     -999,9,     -999,9,     -999,9,     -999,9,     -999,9,     -999,9,     -999,9
320620180309  ,S04P       ,82      ,  1,6          ,6          ,2,20180422,0153, -66.9996,-129.5004,     4364,   3051.1,0.5271222222222222697,34.701760608586667,2,  34.7019,2,210.55881444325783,2, 210.2025,2,    210.0,2,    131.1,2,    32.69,2,     0.00,2,     2.24,2,    0.252,2,    0.130,2,   0.1500,2,   2264.4,2,  2363.71,2,   7.5984,2,    24.89,     39.2,2,     -999,9,   0.5271,2,     -999,9,     -999,9,     -999,     -999,9,     -999,9,     -999,1,     -999,9,    0.061,1,    4.661,1,    0.127,1,  19.9200,2,     -999,9,20180422,0228, -67.0005,-129.5003,     -999,9,     -999,9,-999          ,9,     -999,9,     -999,9,     -999,     -999,9,     -999,     -999,9,     -999,9,     -999,9,     -999,9,     -999,9,     -999,9,     -999,9,     -999,9,     -999,9,     -999,9,     -999,9,     -999,9,     -999,9,     -999,9
320620180309  ,S04P       ,82      ,  1,5          ,5          ,2,20180422,0153, -66.9996,-129.5004,     4364,   3358.7,0.4577388888888889174,34.701367519967263,2,  34.7017,2,211.65033595566049,2, 212.0043,2,    211.9,2,    135.0,2,    32.80,2,     0.00,2,     2.24,2,    0.243,2,    0.131,2,   0.1100,2,   2264.9,2,  2365.77,2,   7.5941,2,    24.88,     40.8,2,     -999,9,   0.4572,2,     -999,9,     -999,9,     -999,     -999,9,     -999,9,     -999,1,     -999,9,    0.061,1,    4.660,1,    0.128,1,  19.7100,2,     -999,9,20180422,0221, -67.0005,-129.5003,     -999,9,     -999,9,-999          ,9,     -999,9,     -999,9,     -999,     -999,9,     -999,     -999,9,     -999,9,     -999,9,     -999,9,     -999,9,     -999,9,     -999,9,     -999,9,     -999,9,     -999,9,     -999,9,     -999,9,     -999,9,     -999,9
320620180309  ,S04P       ,82      ,  1,4          ,4          ,2,20180422,0153, -66.9996,-129.5004,     4364,   3667.2,0.4121333333333334070,34.700687949928607,2,  34.7021,2,212.81285257584864,2, 213.0920,2,    212.8,2,    138.8,2,    32.86,2,     0.00,2,     2.24,2,    0.262,2,    0.138,2,   0.0600,2,   2265.2,2,  2368.36,2,   7.5937,2,    24.88,     42.5,2,     -999,9,   0.4115,2,     -999,9,     -999,9,     -999,     -999,9,     -999,9,     -999,1,     -999,9,    0.061,1,    4.659,1,    0.127,1,  20.3100,2,     -999,9,20180422,0214, -66.9999,-129.5004,     -999,9,     -999,9,-999          ,9,     -999,9,     -999,9,     -999,     -999,9,     -999,     -999,9,     -999,9,     -999,9,     -999,9,     -999,9,     -999,9,     -999,9,     -999,9,     -999,9,     -999,9,     -999,9,     -999,9,     -999,9,     -999,9
320620180309  ,S04P       ,82      ,  1,3          ,3          ,2,20180422,0153, -66.9996,-129.5004,     4364,   3975.0,0.3756138888888889138,34.699463162940695,2,  34.6988,2,214.05300818326103,2, 214.0999,2,    214.2,2,    140.1,2,    32.93,2,     0.00,2,     2.25,2,    0.348,2,    0.178,2,   0.0700,2,   2261.5,3,  2365.30,2,   7.5924,2,    24.88,     39.4,2,     -999,9,   0.3750,2,     -999,9,     -999,9,     -999,     -999,9,     -999,9,     -999,1,     -999,9,    0.060,1,    4.658,1,    0.129,1,  20.0200,2,     -999,9,20180422,0207, -66.9997,-129.5004,     -999,9,     -999,9,-999          ,9,     -999,9,     -999,9,     -999,     -999,9,     -999,     -999,9,     -999,9,     -999,9,     -999,9,     -999,9,     -999,9,     -999,9,     -999,9,     -999,9,     -999,9,     -999,9,     -999,9,     -999,9,     -999,9
320620180309  ,S04P       ,82      ,  1,2          ,2          ,2,20180422,0153, -66.9996,-129.5004,     4364,   4258.0,0.3686111111111111671,34.698524295486351,2,  34.6994,2,215.63887896189442,2, 214.9058,2,    214.9,2,    142.6,2,    33.00,2,     0.00,2,     2.26,2,    0.417,2,    0.215,2,   0.0600,2,   2264.5,2,  2364.79,2,   7.5935,2,    24.88,     -999,9,     -999,9,   0.3680,2,     -999,9,     -999,9,     -999,     -999,9,     -999,9,     -999,9,     -999,9,    0.061,1,    4.654,1,    0.132,1,  20.1200,2,     -999,9,20180422,0200, -66.9997,-129.5004,     -999,9,     -999,9,-999          ,9,     -999,9,     -999,9,     -999,     -999,9,     -999,     -999,9,     -999,9,     -999,9,     -999,9,     -999,9,     -999,9,     -999,9,     -999,9,     -999,9,     -999,9,     -999,9,     -999,9,     -999,9,     -999,9
320620180309  ,S04P       ,82      ,  1,1          ,1          ,2,20180422,0153, -66.9996,-129.5004,     4364,   4441.8,0.3717777777777778181,34.697916352643141,2,  34.6986,2,216.72127288375316,2, 215.1085,2,    215.3,2,    143.9,2,    33.04,2,     0.00,2,     2.25,2,    0.464,2,    0.234,2,   0.0500,2,   2266.2,6,  2365.08,2,   7.5935,2,    24.89,     39.0,2,     -999,9,   0.3712,2,     -999,9,     -999,9,     -999,     -999,9,     -999,9,     -999,1,     -999,9,    0.061,1,    4.646,1,    0.145,1,  20.2800,2,     -999,9,20180422,0153, -66.9996,-129.5004,     -999,9,     -999,9,-999          ,9,     -999,9,     -999,9,     -999,     -999,9,     -999,     -999,9,     -999,9,     -999,9,     -999,9,     -999,9,     -999,9,     -999,9,     -999,9,     -999,9,     -999,9,     -999,9,     -999,9,     -999,9,     -999,9