BOTTLE,20240515CCHHYDRO
EXPOCODE,SECT_ID,STNNBR,CASTNO,SAMPNO,BTLNBR,BTLNBR_FLAG_W,DATE,TIME,LATITUDE,LONGITUDE,DEPTH,CTDPRS,CTDTMP,CTDSAL,CTDSAL_FLAG_W,SALNTY,SALNTY_FLAG_W,CTDOXY,CTDOXY_FLAG_W,CTDOPTOXY,CTDOPTOXY_FLAG_W,OXYGEN,OXYGEN_FLAG_W,SILCAT,SILCAT_FLAG_W,NITRAT,NITRAT_FLAG_W,NITRIT,NITRIT_FLAG_W,PHSPHT,PHSPHT_FLAG_W,CFC-11,CFC-11_FLAG_W,CFC-12,CFC-12_FLAG_W,SF6,SF6_FLAG_W,TCARBN,TCARBN_FLAG_W,ALKALI,ALKALI_FLAG_W,PH_TOT,PH_TOT_FLAG_W,PH_TMP,DOC,DOC_FLAG_W,HELIUM,HELIUM_FLAG_W,REFTMP,REFTMP_FLAG_W,DELC13,DELC13_FLAG_W,DELC14,DELC14_FLAG_W,C14ERR,POC,POC_FLAG_W,TDN,TDN_FLAG_W,TON,TON_FLAG_W,NEON,NEON_FLAG_W,CTDFLUOR,CTDFLUOR_FLAG_W,CTDXMISS,CTDXMISS_FLAG_W,CTDBETA700,CTDBETA700_FLAG_W,N2O,N2O_FLAG_W,ARGON,ARGON_FLAG_W,BTL_DATE,BTL_TIME,BTL_LAT,BTL_LON,KRYPTON,KRYPTON_FLAG_W,XENON,XENON_FLAG_W,HPLC,HPLC_FLAG_W,HE3_HE4_RATIO,HE3_HE4_RATIO_FLAG_W,Nd_143_144_D_EPSILON_BOTTLE,Nd_143_144_D_EPSILON_BOTTLE_FLAG_W,Nd_143_144_D_EPSILON_BOTTLE_ERROR,Nd_143_144_D_RATIO_BOTTLE,Nd_143_144_D_RATIO_BOTTLE_FLAG_W,Nd_143_144_D_RATIO_BOTTLE_ERROR,Nd_D_CONC,Nd_D_CONC_FLAG_W,La_D_CONC_BOTTLE,La_D_CONC_BOTTLE_FLAG_W,Ce_D_CONC_BOTTLE,Ce_D_CONC_BOTTLE_FLAG_W,Pr_D_CONC_BOTTLE,Pr_D_CONC_BOTTLE_FLAG_W,Sm_D_CONC_BOTTLE,Sm_D_CONC_BOTTLE_FLAG_W,Eu_D_CONC_BOTTLE,Eu_D_CONC_BOTTLE_FLAG_W,Gd_D_CONC_BOTTLE,Gd_D_CONC_BOTTLE_FLAG_W,Tb_D_CONC_BOTTLE,Tb_D_CONC_BOTTLE_FLAG_W,Dy_D_CONC_BOTTLE,Dy_D_CONC_BOTTLE_FLAG_W,Ho_D_CONC_BOTTLE,Ho_D_CONC_BOTTLE_FLAG_W,Er_D_CONC_BOTTLE,Er_D_CONC_BOTTLE_FLAG_W,Tm_D_CONC_BOTTLE,Tm_D_CONC_BOTTLE_FLAG_W,Yb_D_CONC_BOTTLE,Yb_D_CONC_BOTTLE_FLAG_W,Lu_D_CONC_BOTTLE,Lu_D_CONC_BOTTLE_FLAG_W
,,,,,,,,,,,METERS,DBAR,ITS-90,PSS-78,,PSS-78,,UMOL/KG,,UMOL/KG,,UMOL/KG,,UMOL/KG,,UMOL/KG,,UMOL/KG,,UMOL/KG,,PMOL/KG,,PMOL/KG,,FMOL/KG,,UMOL/KG,,UMOL/KG,,,,DEG C,UMOL/KG,,NMOL/L,,DEG C,,/MILLE,,/MILLE,,/MILLE,UG/KG,,UMOL/KG,,UMOL/KG,,NMOL/L,,VOLTS,,VOLTS,,VOLTS,,NMOL/KG,,UMOL/L,,,,,,NMOL/L,,NMOL/L,,,,,,10000,,10000,,,,PMOL/KG,,PMOL/L,,PMOL/L,,PMOL/L,,PMOL/L,,PMOL/L,,PMOL/L,,PMOL/L,,PMOL/L,,PMOL/L,,PMOL/L,,PMOL/L,,PMOL/L,,PMOL/L,
320620180309  ,S04P       ,86      ,  1,36         ,36         ,2,20180423,0939, -67.0012,-122.7120,     4420,      7.8,-1.6585527777777777647,33.653021781099369,2,  33.6526,2,349.36072272159242,3, 352.9996,2,    354.4,2,     34.9,2,    25.62,2,     0.23,2,     1.76,2,    5.875,2,    3.298,2,   3.7400,2,   2163.2,6,  2276.82,2,   7.6590,2,    24.87,     43.0,2,     -999,9,  -1.6580,2,     -999,9,     -999,9,     -999,     -999,9,     -999,9,     -999,1,     -999,9,    0.277,1,    4.554,1,    0.243,1,  16.5700,2,     -999,9,20180423,1151, -67.0014,-122.7131,     -999,9,     -999,9,-999          ,9,     -999,9,     -999,9,     -999,     -999,9,     -999,     -999,9,     -999,9,     -999,9,     -999,9,     -999,9,     -999,9,     -999,9,     -999,9,     -999,9,     -999,9,     -999,9,     -999,9,     -999,9,     -999,9
320620180309  ,S04P       ,86      ,  1,35         ,35         ,2,20180423,0939, -67.0012,-122.7120,     4420,     33.8,-1.6554555555555554580,33.672601800451829,2,  33.6690,2,350.26604484743319,2, 352.8023,2,    351.2,2,     36.9,2,    25.87,2,     0.23,2,     1.78,2,     -999,9,     -999,9,     -999,9,   2167.7,2,  2278.63,2,   7.6563,2,    24.87,     43.1,2,     -999,9,  -1.6518,2,     -999,9,     -999,9,     -999,     -999,9,    28.50,2,     -999,1,     -999,9,    0.286,1,    4.553,1,    0.250,1,     -999,9,     -999,9,20180423,1149, -67.0014,-122.7132,     -999,9,     -999,9,-999          ,9,     -999,9,     -999,9,     -999,     -999,9,     -999,     -999,9,     -999,9,     -999,9,     -999,9,     -999,9,     -999,9,     -999,9,     -999,9,     -999,9,     -999,9,     -999,9,     -999,9,     -999,9,     -999,9
320620180309  ,S04P       ,86      ,  1,34         ,34         ,2,20180423,0939, -67.0012,-122.7120,     4420,     60.1,-1.5839611111111111530,33.731688981910139,2,  33.7368,2,347.02765518102171,2, 347.3035,3,    344.5,2,     42.5,2,    26.84,2,     0.22,2,     1.87,2,    5.726,2,    3.225,2,   3.9100,2,   2173.6,2,  2283.28,2,   7.6458,2,    24.87,     41.7,2,     -999,9,  -1.5790,2,     -999,9,     -999,9,     -999,     -999,9,    31.10,2,     -999,1,     -999,9,    0.263,1,    4.568,1,    0.259,1,  16.4500,2,     -999,9,20180423,1147, -67.0014,-122.7130,     -999,9,     -999,9,-999          ,9,     -999,9,     -999,9,     -999,     -999,9,     -999,     -999,9,     -999,9,     -999,9,     -999,9,     -999,9,     -999,9,     -999,9,     -999,9,     -999,9,     -999,9,     -999,9,     -999,9,     -999,9,     -999,9
320620180309  ,S04P       ,86      ,  1,33         ,33         ,2,20180423,0939, -67.0012,-122.7120,     4420,     85.3,-1.3847666666666667012,33.981708067634827,2,  33.9769,2,316.72702676663840,2, 315.6000,2,    317.2,2,     46.9,2,    29.07,2,     0.19,2,     2.01,2,    5.018,2,    2.809,2,   3.3600,2,   2195.3,2,  2296.85,2,   7.6181,2,    24.86,     42.1,2,     -999,9,  -1.3843,2,     -999,9,     -999,9,     -999,     -999,9,    32.50,2,     -999,1,     -999,9,    0.142,1,    4.596,1,    0.210,1,  18.0700,2,     -999,9,20180423,1145, -67.0014,-122.7126,     -999,9,     -999,9,-999          ,9,     -999,9,     -999,9,     -999,     -999,9,     -999,     -999,9,     -999,9,     -999,9,     -999,9,     -999,9,     -999,9,     -999,9,     -999,9,     -999,9,     -999,9,     -999,9,     -999,9,     -999,9,     -999,9
320620180309  ,S04P       ,86      ,  1,32         ,32         ,2,20180423,0939, -67.0012,-122.7120,     4420,    107.2,-1.1935194444444443551,34.045787276069881,2,  34.2411,4,307.96895687348882,3, 303.4987,2,    303.3,2,     52.1,2,    30.00,2,     0.12,2,     2.08,2,     -999,9,     -999,9,     -999,9,   2204.5,2,  2299.90,2,   7.6074,2,    24.89,     44.0,2,     -999,9,  -1.1636,2,     -999,9,     -999,9,     -999,     -999,9,    31.50,2,     -999,1,     -999,9,    0.123,1,    4.631,1,    0.221,1,     -999,9,     -999,9,20180423,1143, -67.0014,-122.7123,     -999,9,     -999,9,-999          ,9,     -999,9,     -999,9,     -999,     -999,9,     -999,     -999,9,     -999,9,     -999,9,     -999,9,     -999,9,     -999,9,     -999,9,     -999,9,     -999,9,     -999,9,     -999,9,     -999,9,     -999,9,     -999,9
320620180309  ,S04P       ,86      ,  1,31         ,31         ,2,20180423,0939, -67.0012,-122.7120,     4420,    135.8,0.1914027777777777828,34.244280269103037,2,  34.2414,2,270.34755543844216,3, 261.7971,2,    261.1,2,     60.1,2,    32.47,2,     0.03,2,     2.21,2,    3.619,2,    2.002,2,   2.1100,2,   2222.7,2,  2317.59,2,   7.5760,2,    24.88,     -999,9,     -999,9,   0.1929,2,     -999,9,     -999,9,     -999,     -999,9,     -999,9,     -999,9,     -999,9,    0.088,1,    4.633,1,    0.159,1,  20.2200,2,     -999,9,20180423,1141, -67.0014,-122.7119,     -999,9,     -999,9,-999          ,9,     -999,9,     -999,9,     -999,     -999,9,     -999,     -999,9,     -999,9,     -999,9,     -999,9,     -999,9,     -999,9,     -999,9,     -999,9,     -999,9,     -999,9,     -999,9,     -999,9,     -999,9,     -999,9
320620180309  ,S04P       ,86      ,  1,30         ,30         ,2,20180423,0939, -67.0012,-122.7120,     4420,    165.5,1.2219611111111110535,34.426255393706974,2,  34.4260,2,220.65337137986020,3, 214.6958,2,    213.9,2,     70.6,2,    34.25,2,     0.02,2,     2.33,2,    2.297,2,    1.242,2,   1.2700,2,   2244.1,2,  2325.56,2,   7.5490,2,    24.88,     43.8,2,     -999,9,   1.2289,2,     -999,9,     -999,9,     -999,     -999,9,    36.40,2,     -999,1,     -999,9,    0.081,1,    4.636,1,    0.170,1,  22.7700,2,     -999,9,20180423,1139, -67.0015,-122.7115,     -999,9,     -999,9,-999          ,9,     -999,9,     -999,9,     -999,     -999,9,     -999,     -999,9,     -999,9,     -999,9,     -999,9,     -999,9,     -999,9,     -999,9,     -999,9,     -999,9,     -999,9,     -999,9,     -999,9,     -999,9,     -999,9
320620180309  ,S04P       ,86      ,  1,29         ,29         ,2,20180423,0939, -67.0012,-122.7120,     4420,    217.0,1.6353861111111109850,34.527457154099700,2,  34.5246,2,196.29995735145823,2, 194.6990,2,    194.4,2,     76.0,2,    34.38,2,     0.01,2,     2.33,2,     -999,9,     -999,9,     -999,9,   2250.4,2,  2333.00,2,   7.5447,2,    24.87,     40.9,2,     -999,9,   1.6265,2,     -999,9,     -999,9,     -999,     -999,9,    36.70,2,     -999,1,     -999,9,    0.072,1,    4.638,1,    0.153,1,     -999,9,     -999,9,20180423,1136, -67.0015,-122.7112,     -999,9,     -999,9,-999          ,9,     -999,9,     -999,9,     -999,     -999,9,     -999,     -999,9,     -999,9,     -999,9,     -999,9,     -999,9,     -999,9,     -999,9,     -999,9,     -999,9,     -999,9,     -999,9,     -999,9,     -999,9,     -999,9
320620180309  ,S04P       ,86      ,  1,28         ,28         ,2,20180423,0939, -67.0012,-122.7120,     4420,    267.6,1.8189749999999997865,34.589520932007524,2,  34.5872,2,185.59550592905123,2, 186.9076,2,    185.0,2,     79.2,2,    34.00,2,     0.00,2,     2.31,2,    1.038,2,    0.559,2,   0.3500,2,   2256.8,6,  2337.37,2,   7.5503,2,    24.87,     41.0,2,     -999,9,   1.8196,2,     -999,9,     -999,9,     -999,     -999,9,     -999,9,     -999,1,     -999,9,    0.070,1,    4.646,1,    0.149,1,  23.3600,2,     -999,9,20180423,1134, -67.0015,-122.7107,     -999,9,     -999,9,-999          ,9,     -999,9,     -999,9,     -999,     -999,9,     -999,     -999,9,     -999,9,     -999,9,     -999,9,     -999,9,     -999,9,     -999,9,     -999,9,     -999,9,     -999,9,     -999,9,     -999,9,     -999,9,     -999,9
320620180309  ,S04P       ,86      ,  1,27         ,27         ,2,20180423,0939, -67.0012,-122.7120,     4420,    318.3,1.9685250000000000803,34.634498764751221,2,  34.6325,2,179.69232489854042,2, 181.7969,2,    179.8,2,     81.5,2,    33.60,2,     0.00,2,     2.27,2,    0.685,2,    0.370,2,   0.2400,2,   2257.8,2,  2341.95,2,   7.5573,2,    24.86,     43.4,2,     -999,9,   1.9669,2,     -999,9,     -999,9,     -999,     -999,9,     -999,9,     -999,1,     -999,9,    0.068,1,    4.652,1,    0.143,1,  22.2700,2,     -999,9,20180423,1131, -67.0015,-122.7104,     -999,9,     -999,9,-999          ,9,     -999,9,     -999,9,     -999,     -999,9,     -999,     -999,9,     -999,9,     -999,9,     -999,9,     -999,9,     -999,9,     -999,9,     -999,9,     -999,9,     -999,9,     -999,9,     -999,9,     -999,9,     -999,9
320620180309  ,S04P       ,86      ,  1,26         ,38         ,2,20180423,0939, -67.0012,-122.7120,     4420,    368.6,1.9935194444444439554,34.662937262549029,2,  34.6603,2,178.14760473804728,2, 180.7026,2,    179.8,2,     83.0,2,    33.18,2,     0.00,2,     2.25,2,     -999,9,     -999,9,     -999,9,   2256.4,2,  2344.65,2,   7.5633,2,    24.86,     44.3,2,     -999,9,   1.9921,2,     -999,9,     -999,9,     -999,     -999,9,     -999,9,     -999,1,     -999,9,    0.064,1,    4.654,1,    0.138,1,     -999,9,     -999,9,20180423,1128, -67.0015,-122.7103,     -999,9,     -999,9,-999          ,9,     -999,9,     -999,9,     -999,     -999,9,     -999,     -999,9,     -999,9,     -999,9,     -999,9,     -999,9,     -999,9,     -999,9,     -999,9,     -999,9,     -999,9,     -999,9,     -999,9,     -999,9,     -999,9
320620180309  ,S04P       ,86      ,  1,25         ,25         ,2,20180423,0939, -67.0012,-122.7120,     4420,    419.5,1.9899388888888884797,34.679822423341584,2,  34.6778,2,179.54930370201808,2, 181.0043,2,    179.9,2,     84.4,2,    32.87,2,     0.00,2,     2.23,2,    0.444,2,    0.245,2,   0.2600,2,   2257.7,2,  2347.30,2,   7.5692,6,    24.86,     -999,9,     -999,9,   1.9885,2,     -999,9,     -999,9,     -999,     -999,9,     -999,9,     -999,9,     -999,9,    0.063,1,    4.652,1,    0.138,1,  21.7700,2,     -999,9,20180423,1126, -67.0015,-122.7103,     -999,9,     -999,9,-999          ,9,     -999,9,     -999,9,     -999,     -999,9,     -999,     -999,9,     -999,9,     -999,9,     -999,9,     -999,9,     -999,9,     -999,9,     -999,9,     -999,9,     -999,9,     -999,9,     -999,9,     -999,9,     -999,9
320620180309  ,S04P       ,86      ,  1,24         ,24         ,2,20180423,0939, -67.0012,-122.7120,     4420,    469.6,1.9686277777777776432,34.693629598326680,2,  34.6923,2,180.97010363552133,2, 181.7010,2,    181.7,2,     85.5,2,    32.58,2,     0.00,2,     2.21,2,    0.378,2,    0.207,2,   0.1000,2,   2256.5,2,  2348.51,2,   7.5740,2,    24.87,     42.2,2,     -999,9,   1.9677,2,     -999,9,     -999,9,     -999,     -999,9,     -999,9,     -999,1,     -999,9,    0.068,1,    4.654,1,    0.140,1,  21.2400,2,     -999,9,20180423,1123, -67.0015,-122.7098,     -999,9,     -999,9,-999          ,9,     -999,9,     -999,9,     -999,     -999,9,     -999,     -999,9,     -999,9,     -999,9,     -999,9,     -999,9,     -999,9,     -999,9,     -999,9,     -999,9,     -999,9,     -999,9,     -999,9,     -999,9,     -999,9
320620180309  ,S04P       ,86      ,  1,23         ,23         ,2,20180423,0939, -67.0012,-122.7120,     4420,    540.0,1.9191166666666665819,34.707142283069146,2,  34.7054,2,182.55912894719671,2, 183.1048,2,    182.9,2,     87.1,2,    32.24,2,     0.00,2,     2.20,2,     -999,9,     -999,9,     -999,9,   2256.5,2,  2350.05,2,   7.5804,2,    24.86,     41.1,2,     -999,9,   1.9183,2,     -999,9,     -999,9,     -999,     -999,9,     -999,9,     -999,1,     -999,9,    0.064,1,    4.654,1,    0.136,1,     -999,9,     -999,9,20180423,1120, -67.0014,-122.7092,     -999,9,     -999,9,-999          ,9,     -999,9,     -999,9,     -999,     -999,9,     -999,     -999,9,     -999,9,     -999,9,     -999,9,     -999,9,     -999,9,     -999,9,     -999,9,     -999,9,     -999,9,     -999,9,     -999,9,     -999,9,     -999,9
320620180309  ,S04P       ,86      ,  1,22         ,37         ,2,20180423,0939, -67.0012,-122.7120,     4420,    642.6,1.8485611111111108773,34.718674653704099,2,  34.7172,2,185.71074238970854,2, 185.4064,2,    185.7,2,     89.4,2,    32.00,2,     0.00,2,     2.16,2,    0.279,2,    0.145,2,   0.0700,2,   2256.2,2,  2351.49,2,   7.5851,2,    24.88,     41.9,2,     -999,9,   1.8471,2,     -999,9,     -999,9,     -999,     -999,9,     -999,9,     -999,1,     -999,9,    0.062,1,    4.656,1,    0.137,1,  20.5100,2,     -999,9,20180423,1116, -67.0014,-122.7089,     -999,9,     -999,9,-999          ,9,     -999,9,     -999,9,     -999,     -999,9,     -999,     -999,9,     -999,9,     -999,9,     -999,9,     -999,9,     -999,9,     -999,9,     -999,9,     -999,9,     -999,9,     -999,9,     -999,9,     -999,9,     -999,9
320620180309  ,S04P       ,86      ,  1,21         ,21         ,2,20180423,0939, -67.0012,-122.7120,     4420,    742.5,1.7493944444444444741,34.726768502761104,2,  34.7253,2,186.44512078750606,2, 186.4018,2,    187.0,2,     92.8,2,    31.91,2,     0.00,2,     2.17,2,    0.236,2,    0.121,2,   0.1300,2,   2256.7,2,  2353.38,2,   7.5870,2,    24.89,     41.6,2,     -999,9,   1.7489,2,     -999,9,     -999,9,     -999,     -999,9,     -999,9,     -999,1,     -999,9,    0.062,1,    4.656,1,    0.134,1,  21.1800,2,     -999,9,20180423,1113, -67.0014,-122.7087,     -999,9,     -999,9,-999          ,9,     -999,9,     -999,9,     -999,     -999,9,     -999,     -999,9,     -999,9,     -999,9,     -999,9,     -999,9,     -999,9,     -999,9,     -999,9,     -999,9,     -999,9,     -999,9,     -999,9,     -999,9,     -999,9
320620180309  ,S04P       ,86      ,  1,20         ,20         ,2,20180423,0939, -67.0012,-122.7120,     4420,    844.3,1.6757416666666669069,34.729898267092757,2,  34.7290,2,188.79561318432513,2, 188.3968,2,    189.2,2,     95.3,2,    31.80,2,     0.00,2,     2.16,2,     -999,9,     -999,9,     -999,9,   2258.4,2,  2355.14,2,   7.5915,2,    24.88,     42.6,2,     -999,9,   1.6742,2,     -999,9,     -999,9,     -999,     -999,9,     -999,9,     -999,1,     -999,9,    0.062,1,    4.657,1,    0.133,1,     -999,9,     -999,9,20180423,1109, -67.0014,-122.7090,     -999,9,     -999,9,-999          ,9,     -999,9,     -999,9,     -999,     -999,9,     -999,     -999,9,     -999,9,     -999,9,     -999,9,     -999,9,     -999,9,     -999,9,     -999,9,     -999,9,     -999,9,     -999,9,     -999,9,     -999,9,     -999,9
320620180309  ,S04P       ,86      ,  1,19         ,19         ,2,20180423,0939, -67.0012,-122.7120,     4420,    945.7,1.5946722222222227128,34.731389723324838,2,  34.7312,2,190.89759820954629,2, 190.0997,2,    190.9,2,     97.6,2,    31.73,2,     0.00,2,     2.15,2,    0.195,2,    0.115,2,   0.0800,2,   2256.8,2,  2357.50,2,   7.5941,2,    24.88,     41.7,2,     -999,9,   1.5944,2,     -999,9,     -999,9,     -999,     -999,9,     -999,9,     -999,1,     -999,9,    0.062,1,    4.657,1,    0.131,1,  19.9700,2,     -999,9,20180423,1106, -67.0014,-122.7095,     -999,9,     -999,9,-999          ,9,     -999,9,     -999,9,     -999,     -999,9,     -999,     -999,9,     -999,9,     -999,9,     -999,9,     -999,9,     -999,9,     -999,9,     -999,9,     -999,9,     -999,9,     -999,9,     -999,9,     -999,9,     -999,9
320620180309  ,S04P       ,86      ,  1,18         ,18         ,2,20180423,0939, -67.0012,-122.7120,     4420,   1046.9,1.5139861111111112546,34.731545487161178,2,  34.7308,2,193.41284581779371,2, 191.6995,2,    192.7,2,     99.7,2,    31.66,2,     0.00,2,     2.14,2,    0.192,2,    0.097,2,   0.0800,2,   2257.5,2,  2358.18,2,   7.5965,2,    24.88,     -999,5,     -999,9,   1.5126,2,     -999,9,     -999,9,     -999,     -999,9,     -999,9,     -999,1,     -999,9,    0.061,1,    4.658,1,    0.130,1,  19.9700,2,     -999,9,20180423,1102, -67.0014,-122.7102,     -999,9,     -999,9,-999          ,9,     -999,9,     -999,9,     -999,     -999,9,     -999,     -999,9,     -999,9,     -999,9,     -999,9,     -999,9,     -999,9,     -999,9,     -999,9,     -999,9,     -999,9,     -999,9,     -999,9,     -999,9,     -999,9
320620180309  ,S04P       ,86      ,  1,17         ,17         ,2,20180423,0939, -67.0012,-122.7120,     4420,   1147.5,1.4350111111111114592,34.730886171875994,2,  34.7298,2,195.18014944152603,2, 193.8983,2,    194.4,2,    101.9,2,    31.68,2,     0.00,2,     2.15,2,     -999,9,     -999,9,     -999,9,   2257.1,2,  2359.64,2,   7.5969,2,    24.89,     42.1,2,     -999,9,   1.4347,2,     -999,9,     -999,9,     -999,     -999,9,     -999,9,     -999,1,     -999,9,    0.061,1,    4.657,1,    0.130,1,     -999,9,     -999,9,20180423,1059, -67.0013,-122.7114,     -999,9,     -999,9,-999          ,9,     -999,9,     -999,9,     -999,     -999,9,     -999,     -999,9,     -999,9,     -999,9,     -999,9,     -999,9,     -999,9,     -999,9,     -999,9,     -999,9,     -999,9,     -999,9,     -999,9,     -999,9,     -999,9
320620180309  ,S04P       ,86      ,  1,16         ,16         ,2,20180423,0939, -67.0012,-122.7120,     4420,   1251.3,1.3539611111111111708,34.729389130658575,2,  34.7284,2,195.86593399028868,2, 195.0978,2,    194.7,2,    104.5,2,    31.80,2,     0.00,2,     2.15,2,    0.172,2,    0.083,2,   0.0200,2,   2257.4,2,  2360.48,2,   7.5974,2,    24.87,     41.6,2,     -999,9,   1.3536,2,     -999,9,     -999,9,     -999,     -999,9,     -999,9,     -999,1,     -999,9,    0.061,1,    4.658,1,    0.130,1,  19.7600,2,     -999,9,20180423,1056, -67.0012,-122.7126,     -999,9,     -999,9,-999          ,9,     -999,9,     -999,9,     -999,     -999,9,     -999,     -999,9,     -999,9,     -999,9,     -999,9,     -999,9,     -999,9,     -999,9,     -999,9,     -999,9,     -999,9,     -999,9,     -999,9,     -999,9,     -999,9