BOTTLE,20240515CCHHYDRO
EXPOCODE,SECT_ID,STNNBR,CASTNO,SAMPNO,BTLNBR,BTLNBR_FLAG_W,DATE,TIME,LATITUDE,LONGITUDE,DEPTH,CTDPRS,CTDTMP,CTDSAL,CTDSAL_FLAG_W,SALNTY,SALNTY_FLAG_W,CTDOXY,CTDOXY_FLAG_W,CTDOPTOXY,CTDOPTOXY_FLAG_W,OXYGEN,OXYGEN_FLAG_W,SILCAT,SILCAT_FLAG_W,NITRAT,NITRAT_FLAG_W,NITRIT,NITRIT_FLAG_W,PHSPHT,PHSPHT_FLAG_W,CFC-11,CFC-11_FLAG_W,CFC-12,CFC-12_FLAG_W,SF6,SF6_FLAG_W,TCARBN,TCARBN_FLAG_W,ALKALI,ALKALI_FLAG_W,PH_TOT,PH_TOT_FLAG_W,PH_TMP,DOC,DOC_FLAG_W,HELIUM,HELIUM_FLAG_W,REFTMP,REFTMP_FLAG_W,DELC13,DELC13_FLAG_W,DELC14,DELC14_FLAG_W,C14ERR,POC,POC_FLAG_W,TDN,TDN_FLAG_W,TON,TON_FLAG_W,NEON,NEON_FLAG_W,CTDFLUOR,CTDFLUOR_FLAG_W,CTDXMISS,CTDXMISS_FLAG_W,CTDBETA700,CTDBETA700_FLAG_W,N2O,N2O_FLAG_W,ARGON,ARGON_FLAG_W,BTL_DATE,BTL_TIME,BTL_LAT,BTL_LON,KRYPTON,KRYPTON_FLAG_W,XENON,XENON_FLAG_W,HPLC,HPLC_FLAG_W,HE3_HE4_RATIO,HE3_HE4_RATIO_FLAG_W,Nd_143_144_D_EPSILON_BOTTLE,Nd_143_144_D_EPSILON_BOTTLE_FLAG_W,Nd_143_144_D_EPSILON_BOTTLE_ERROR,Nd_143_144_D_RATIO_BOTTLE,Nd_143_144_D_RATIO_BOTTLE_FLAG_W,Nd_143_144_D_RATIO_BOTTLE_ERROR,Nd_D_CONC,Nd_D_CONC_FLAG_W,La_D_CONC_BOTTLE,La_D_CONC_BOTTLE_FLAG_W,Ce_D_CONC_BOTTLE,Ce_D_CONC_BOTTLE_FLAG_W,Pr_D_CONC_BOTTLE,Pr_D_CONC_BOTTLE_FLAG_W,Sm_D_CONC_BOTTLE,Sm_D_CONC_BOTTLE_FLAG_W,Eu_D_CONC_BOTTLE,Eu_D_CONC_BOTTLE_FLAG_W,Gd_D_CONC_BOTTLE,Gd_D_CONC_BOTTLE_FLAG_W,Tb_D_CONC_BOTTLE,Tb_D_CONC_BOTTLE_FLAG_W,Dy_D_CONC_BOTTLE,Dy_D_CONC_BOTTLE_FLAG_W,Ho_D_CONC_BOTTLE,Ho_D_CONC_BOTTLE_FLAG_W,Er_D_CONC_BOTTLE,Er_D_CONC_BOTTLE_FLAG_W,Tm_D_CONC_BOTTLE,Tm_D_CONC_BOTTLE_FLAG_W,Yb_D_CONC_BOTTLE,Yb_D_CONC_BOTTLE_FLAG_W,Lu_D_CONC_BOTTLE,Lu_D_CONC_BOTTLE_FLAG_W
,,,,,,,,,,,METERS,DBAR,ITS-90,PSS-78,,PSS-78,,UMOL/KG,,UMOL/KG,,UMOL/KG,,UMOL/KG,,UMOL/KG,,UMOL/KG,,UMOL/KG,,PMOL/KG,,PMOL/KG,,FMOL/KG,,UMOL/KG,,UMOL/KG,,,,DEG C,UMOL/KG,,NMOL/L,,DEG C,,/MILLE,,/MILLE,,/MILLE,UG/KG,,UMOL/KG,,UMOL/KG,,NMOL/L,,VOLTS,,VOLTS,,VOLTS,,NMOL/KG,,UMOL/L,,,,,,NMOL/L,,NMOL/L,,,,,,10000,,10000,,,,PMOL/KG,,PMOL/L,,PMOL/L,,PMOL/L,,PMOL/L,,PMOL/L,,PMOL/L,,PMOL/L,,PMOL/L,,PMOL/L,,PMOL/L,,PMOL/L,,PMOL/L,,PMOL/L,
320620180309  ,S04P       ,60      ,  1,36         ,36         ,2,20180412,1240, -67.0006,-160.6383,     4071,     12.0,-1.3749416666666667286,34.000506400867607,2,  33.9952,2,347.82777633035005,2, 347.5943,2,    347.7,2,     59.3,2,    26.59,2,     0.20,2,     1.85,2,    5.656,2,    3.134,2,   3.8100,2,   2190.3,6,  2303.57,2,   7.6486,2,    24.92,     43.7,2,     -999,9,  -1.3755,2,     -999,9,     -999,9,     -999,     -999,9,    29.70,2,     -999,1,     -999,9,    0.190,1,    4.603,1,    0.202,1,  17.7500,2,     -999,9,20180412,1445, -66.9996,-160.6379,     -999,9,     -999,9,-999          ,9,     -999,9,     -999,9,     -999,     -999,9,     -999,     -999,9,     -999,9,     -999,9,     -999,9,     -999,9,     -999,9,     -999,9,     -999,9,     -999,9,     -999,9,     -999,9,     -999,9,     -999,9,     -999,9
320620180309  ,S04P       ,60      ,  1,35         ,35         ,2,20180412,1240, -67.0006,-160.6383,     4071,     18.7,-1.3745416666666665506,34.000659158442623,2,  33.9962,2,348.24173337915482,2, 347.5961,2,    347.8,2,     59.1,2,    26.55,2,     0.20,2,     1.81,2,     -999,9,     -999,9,     -999,9,   2190.7,2,  2302.05,2,   7.6489,2,    24.95,     45.5,2,     -999,9,  -1.3749,2,     -999,9,     -999,9,     -999,     -999,9,    30.30,2,     -999,1,     -999,9,    0.181,1,    4.602,1,    0.210,1,     -999,9,     -999,9,20180412,1444, -66.9996,-160.6379,     -999,9,     -999,9,-999          ,9,     -999,9,     -999,9,     -999,     -999,9,     -999,     -999,9,     -999,9,     -999,9,     -999,9,     -999,9,     -999,9,     -999,9,     -999,9,     -999,9,     -999,9,     -999,9,     -999,9,     -999,9,     -999,9
320620180309  ,S04P       ,60      ,  1,34         ,34         ,2,20180412,1240, -67.0006,-160.6383,     4071,     40.2,-1.3731916666666665883,34.000756201775985,2,  33.9960,2,349.57458987303187,2, 347.5988,2,    347.8,2,     59.2,2,    26.58,2,     0.20,2,     1.83,2,    5.645,2,    3.139,2,   3.5300,2,   2190.9,2,  2304.20,2,   7.6453,2,    24.93,     43.8,2,     -999,9,  -1.3737,2,     -999,9,     -999,9,     -999,     -999,9,    29.10,2,     -999,1,     -999,9,    0.185,1,    4.602,1,    0.203,1,  16.7900,2,     -999,9,20180412,1442, -66.9996,-160.6379,     -999,9,     -999,9,-999          ,9,     -999,9,     -999,9,     -999,     -999,9,     -999,     -999,9,     -999,9,     -999,9,     -999,9,     -999,9,     -999,9,     -999,9,     -999,9,     -999,9,     -999,9,     -999,9,     -999,9,     -999,9,     -999,9
320620180309  ,S04P       ,60      ,  1,33         ,33         ,2,20180412,1240, -67.0006,-160.6383,     4071,     64.4,-1.3741472222222226307,34.000647824821478,2,  33.9972,2,351.09830589777778,3, 347.5994,2,    347.5,2,     59.0,2,    26.54,2,     0.20,2,     1.82,2,    5.695,2,    3.162,2,   3.8000,2,   2189.6,2,  2301.63,2,   7.6498,2,    24.94,     47.2,2,     -999,9,  -1.3747,2,     -999,9,     -999,9,     -999,     -999,9,    29.60,2,     -999,1,     -999,9,    0.184,1,    4.603,1,    0.206,1,  17.4100,2,     -999,9,20180412,1440, -66.9997,-160.6379,     -999,9,     -999,9,-999          ,9,     -999,9,     -999,9,     -999,     -999,9,     -999,     -999,9,     -999,9,     -999,9,     -999,9,     -999,9,     -999,9,     -999,9,     -999,9,     -999,9,     -999,9,     -999,9,     -999,9,     -999,9,     -999,9
320620180309  ,S04P       ,60      ,  1,32         ,32         ,2,20180412,1240, -67.0006,-160.6383,     4071,     90.5,-1.3974111111111113814,34.250571078223288,2,  34.2458,2,315.80015076193195,3, 288.8971,2,    288.8,2,     66.0,2,    28.98,2,     0.25,2,     2.02,2,     -999,9,     -999,9,     -999,9,   2218.6,2,  2318.23,2,   7.6082,2,    24.94,     43.3,2,     -999,9,  -1.3776,2,     -999,9,     -999,9,     -999,     -999,9,    31.70,2,     -999,1,     -999,9,    0.176,1,    4.603,1,    0.201,1,     -999,9,     -999,9,20180412,1438, -66.9997,-160.6379,     -999,9,     -999,9,-999          ,9,     -999,9,     -999,9,     -999,     -999,9,     -999,     -999,9,     -999,9,     -999,9,     -999,9,     -999,9,     -999,9,     -999,9,     -999,9,     -999,9,     -999,9,     -999,9,     -999,9,     -999,9,     -999,9
320620180309  ,S04P       ,60      ,  1,31         ,31         ,2,20180412,1240, -67.0006,-160.6383,     4071,    113.4,-0.9445027777777776912,34.355795695365259,2,  34.3623,2,259.51066280414500,3, 255.0988,2,    256.6,2,     72.2,2,    30.68,2,     0.05,2,     2.10,2,    3.262,2,    1.795,2,   1.9900,2,   2233.0,2,  2324.98,2,   7.5847,2,    24.94,     -999,9,     -999,9,  -0.9442,2,     -999,9,     -999,9,     -999,     -999,9,     -999,9,     -999,9,     -999,9,    0.107,1,    4.641,1,    0.158,1,  20.9800,2,     -999,9,20180412,1437, -66.9998,-160.6379,     -999,9,     -999,9,-999          ,9,     -999,9,     -999,9,     -999,     -999,9,     -999,     -999,9,     -999,9,     -999,9,     -999,9,     -999,9,     -999,9,     -999,9,     -999,9,     -999,9,     -999,9,     -999,9,     -999,9,     -999,9,     -999,9
320620180309  ,S04P       ,60      ,  1,30         ,30         ,2,20180412,1240, -67.0006,-160.6383,     4071,    140.6,0.5629083333333333439,34.553354500832683,2,  34.5519,2,207.33637356898723,2, 205.8941,2,    207.3,2,     83.8,2,    32.51,2,     0.02,2,     2.24,2,    1.664,2,    0.895,2,   0.9600,2,   2252.8,2,  2338.08,2,   7.5564,2,    24.95,     43.0,2,     -999,9,   0.5622,2,     -999,9,     -999,9,     -999,     -999,9,    33.90,2,     -999,1,     -999,9,    0.077,1,    4.652,1,    0.149,1,  22.1500,2,     -999,9,20180412,1435, -66.9999,-160.6379,     -999,9,     -999,9,-999          ,9,     -999,9,     -999,9,     -999,     -999,9,     -999,     -999,9,     -999,9,     -999,9,     -999,9,     -999,9,     -999,9,     -999,9,     -999,9,     -999,9,     -999,9,     -999,9,     -999,9,     -999,9,     -999,9
320620180309  ,S04P       ,60      ,  1,29         ,29         ,2,20180412,1240, -67.0006,-160.6383,     4071,    185.5,1.3218333333333331936,34.668922866052462,2,  34.6690,2,185.68671923562999,2, 189.8966,3,    183.9,2,     91.4,2,    32.95,2,     0.00,2,     2.24,2,     -999,9,     -999,9,     -999,9,   2261.5,6,  2345.06,2,   7.5485,2,    24.93,     45.2,2,     -999,9,   1.3227,2,     -999,9,     -999,9,     -999,     -999,9,    35.40,2,     -999,1,     -999,9,    0.068,1,    4.654,1,    0.149,1,     -999,9,     -999,9,20180412,1433, -67.0001,-160.6380,     -999,9,     -999,9,-999          ,9,     -999,9,     -999,9,     -999,     -999,9,     -999,     -999,9,     -999,9,     -999,9,     -999,9,     -999,9,     -999,9,     -999,9,     -999,9,     -999,9,     -999,9,     -999,9,     -999,9,     -999,9,     -999,9
320620180309  ,S04P       ,60      ,  1,28         ,28         ,2,20180412,1240, -67.0006,-160.6383,     4071,    236.5,1.5286972222222221518,34.715713100834058,2,  34.7123,2,181.93176896246899,2, 184.8990,3,    181.6,2,     95.6,2,    32.69,2,     0.00,2,     2.23,2,    0.366,2,    0.193,2,   0.0800,2,   2262.8,2,  2351.55,2,   7.5648,6,    24.95,     41.7,2,     -999,9,   1.5277,2,     -999,9,     -999,9,     -999,     -999,9,    35.90,2,     -999,1,     -999,9,    0.064,1,    4.660,1,    0.143,1,  22.0500,2,     -999,9,20180412,1431, -67.0002,-160.6381,     -999,9,     -999,9,-999          ,9,     -999,9,     -999,9,     -999,     -999,9,     -999,     -999,9,     -999,9,     -999,9,     -999,9,     -999,9,     -999,9,     -999,9,     -999,9,     -999,9,     -999,9,     -999,9,     -999,9,     -999,9,     -999,9
320620180309  ,S04P       ,60      ,  1,27         ,27         ,2,20180412,1240, -67.0006,-160.6383,     4071,    286.7,1.5294222222222222385,34.725653318333734,2,  34.7215,2,182.94318808981836,2, 184.5988,2,    182.4,2,     97.4,2,    32.51,2,     0.00,2,     2.21,2,    0.291,2,    0.151,2,   0.1700,2,   2262.2,2,  2349.64,2,   7.5698,2,    24.93,     44.6,2,     -999,9,   1.5278,2,     -999,9,     -999,9,     -999,     -999,9,     -999,9,     -999,1,     -999,9,    0.063,1,    4.662,1,    0.138,1,  22.0400,2,     -999,9,20180412,1429, -67.0003,-160.6381,     -999,9,     -999,9,-999          ,9,     -999,9,     -999,9,     -999,     -999,9,     -999,     -999,9,     -999,9,     -999,9,     -999,9,     -999,9,     -999,9,     -999,9,     -999,9,     -999,9,     -999,9,     -999,9,     -999,9,     -999,9,     -999,9
320620180309  ,S04P       ,60      ,  1,26         ,26         ,2,20180412,1240, -67.0006,-160.6383,     4071,    337.4,1.4811499999999999666,34.729869047748622,2,  34.7263,2,184.55953434806273,2, 185.2003,2,    184.4,2,     99.4,2,    32.43,2,     0.00,2,     2.19,2,     -999,9,     -999,9,     -999,9,   2263.6,2,  2353.37,2,   7.5712,2,    24.94,     42.0,2,     -999,9,   1.4794,2,     -999,9,     -999,9,     -999,     -999,9,     -999,9,     -999,1,     -999,9,    0.062,1,    4.664,1,    0.135,1,     -999,9,     -999,9,20180412,1427, -67.0004,-160.6381,     -999,9,     -999,9,-999          ,9,     -999,9,     -999,9,     -999,     -999,9,     -999,     -999,9,     -999,9,     -999,9,     -999,9,     -999,9,     -999,9,     -999,9,     -999,9,     -999,9,     -999,9,     -999,9,     -999,9,     -999,9,     -999,9
320620180309  ,S04P       ,60      ,  1,25         ,25         ,2,20180412,1240, -67.0006,-160.6383,     4071,    388.4,1.4348305555555556090,34.731464583017328,2,  34.7280,2,185.35370199147275,2, 186.1055,2,    184.9,2,    101.5,2,    32.40,2,     0.00,2,     2.20,2,    0.221,2,    0.112,2,   0.1000,2,   2263.5,2,  2353.97,2,   7.5744,2,    24.95,     41.0,2,     -999,9,   1.4304,2,     -999,9,     -999,9,     -999,     -999,9,     -999,9,     -999,1,     -999,9,    0.062,1,    4.665,1,    0.135,1,  20.7900,2,     -999,9,20180412,1424, -67.0005,-160.6382,     -999,9,     -999,9,-999          ,9,     -999,9,     -999,9,     -999,     -999,9,     -999,     -999,9,     -999,9,     -999,9,     -999,9,     -999,9,     -999,9,     -999,9,     -999,9,     -999,9,     -999,9,     -999,9,     -999,9,     -999,9,     -999,9
320620180309  ,S04P       ,60      ,  1,24         ,24         ,2,20180412,1240, -67.0006,-160.6383,     4071,    438.8,1.3917750000000002064,34.731917243851498,2,  34.7282,2,186.04907470767188,2, 186.9961,2,    186.2,2,    103.4,2,    32.39,2,     0.00,2,     2.20,2,    0.202,2,    0.108,2,   0.2000,2,   2262.9,2,  2353.46,2,   7.5768,2,    24.93,     40.8,2,     -999,9,   1.3907,2,     -999,9,     -999,9,     -999,     -999,9,     -999,9,     -999,1,     -999,9,    0.062,1,    4.665,1,    0.133,1,  21.0900,2,     -999,9,20180412,1422, -67.0005,-160.6381,     -999,9,     -999,9,-999          ,9,     -999,9,     -999,9,     -999,     -999,9,     -999,     -999,9,     -999,9,     -999,9,     -999,9,     -999,9,     -999,9,     -999,9,     -999,9,     -999,9,     -999,9,     -999,9,     -999,9,     -999,9,     -999,9
320620180309  ,S04P       ,60      ,  1,23         ,23         ,2,20180412,1240, -67.0006,-160.6383,     4071,    488.7,1.3485305555555553436,34.731735239643548,2,  34.7286,2,186.40968091134621,2, 187.7995,2,    186.3,2,    105.0,2,    32.39,2,     0.00,2,     2.20,2,     -999,9,     -999,9,     -999,9,   2264.5,2,  2356.94,2,   7.5768,2,    24.93,     -999,9,     -999,9,   1.3475,2,     -999,9,     -999,9,     -999,     -999,9,     -999,9,     -999,9,     -999,9,    0.063,1,    4.665,1,    0.140,1,     -999,9,     -999,9,20180412,1420, -67.0004,-160.6381,     -999,9,     -999,9,-999          ,9,     -999,9,     -999,9,     -999,     -999,9,     -999,     -999,9,     -999,9,     -999,9,     -999,9,     -999,9,     -999,9,     -999,9,     -999,9,     -999,9,     -999,9,     -999,9,     -999,9,     -999,9,     -999,9
320620180309  ,S04P       ,60      ,  1,22         ,37         ,2,20180412,1240, -67.0006,-160.6383,     4071,    570.0,1.2827250000000001151,34.730704894065731,2,  34.7261,2,187.42355863065518,2, 189.1965,2,    188.8,2,    107.7,2,    32.40,2,     0.00,2,     2.20,2,    0.166,2,    0.078,2,   0.1100,2,   2265.5,2,  2357.12,2,   7.5754,2,    24.94,     41.4,2,     -999,9,   1.2815,2,     -999,9,     -999,9,     -999,     -999,9,     -999,9,     -999,1,     -999,9,    0.062,1,    4.664,1,    0.133,1,  20.5100,2,     -999,9,20180412,1417, -67.0002,-160.6381,     -999,9,     -999,9,-999          ,9,     -999,9,     -999,9,     -999,     -999,9,     -999,     -999,9,     -999,9,     -999,9,     -999,9,     -999,9,     -999,9,     -999,9,     -999,9,     -999,9,     -999,9,     -999,9,     -999,9,     -999,9,     -999,9
320620180309  ,S04P       ,60      ,  1,21         ,21         ,2,20180412,1240, -67.0006,-160.6383,     4071,    671.8,1.2123611111111110006,34.728954021925937,2,  34.7249,2,190.02808468696739,2, 190.7026,2,    189.4,2,    109.7,2,    32.30,2,     0.00,2,     2.20,2,    0.147,2,    0.073,2,   0.0800,2,   2265.9,2,  2358.96,2,   7.5708,2,    24.93,     41.3,2,     -999,9,   1.2113,2,     -999,9,     -999,9,     -999,     -999,9,     -999,9,     -999,1,     -999,9,    0.061,1,    4.664,1,    0.133,1,  20.6200,2,     -999,9,20180412,1414, -67.0000,-160.6381,     -999,9,     -999,9,-999          ,9,     -999,9,     -999,9,     -999,     -999,9,     -999,     -999,9,     -999,9,     -999,9,     -999,9,     -999,9,     -999,9,     -999,9,     -999,9,     -999,9,     -999,9,     -999,9,     -999,9,     -999,9,     -999,9
320620180309  ,S04P       ,60      ,  1,20         ,20         ,2,20180412,1240, -67.0006,-160.6383,     4071,    773.3,1.1360999999999998877,34.726524401414103,2,  34.7237,2,192.41657684628842,2, 192.3989,2,    192.4,2,    112.3,2,    32.28,2,     0.00,2,     2.21,2,     -999,9,     -999,9,     -999,9,   2264.7,2,  2359.56,2,   7.5866,2,    24.94,     41.6,2,     -999,9,   1.1352,2,     -999,9,     -999,9,     -999,     -999,9,     -999,9,     -999,1,     -999,9,    0.061,1,    4.665,1,    0.131,1,     -999,9,     -999,9,20180412,1411, -67.0000,-160.6381,     -999,9,     -999,9,-999          ,9,     -999,9,     -999,9,     -999,     -999,9,     -999,     -999,9,     -999,9,     -999,9,     -999,9,     -999,9,     -999,9,     -999,9,     -999,9,     -999,9,     -999,9,     -999,9,     -999,9,     -999,9,     -999,9
320620180309  ,S04P       ,60      ,  1,19         ,19         ,2,20180412,1240, -67.0006,-160.6383,     4071,    874.9,1.0786555555555557007,34.724409139184118,2,  34.7221,2,194.94867696564128,2, 193.8993,2,    194.3,2,    113.5,2,    32.24,2,     0.00,2,     2.19,2,    0.125,2,    0.065,2,   0.0500,2,   2265.3,2,  2359.88,2,   7.5844,2,    24.94,     42.5,2,     -999,9,   1.0776,2,     -999,9,     -999,9,     -999,     -999,9,     -999,9,     -999,1,     -999,9,    0.062,1,    4.664,1,    0.129,1,  20.6400,2,     -999,9,20180412,1407, -67.0001,-160.6381,     -999,9,     -999,9,-999          ,9,     -999,9,     -999,9,     -999,     -999,9,     -999,     -999,9,     -999,9,     -999,9,     -999,9,     -999,9,     -999,9,     -999,9,     -999,9,     -999,9,     -999,9,     -999,9,     -999,9,     -999,9,     -999,9
320620180309  ,S04P       ,60      ,  1,18         ,18         ,2,20180412,1240, -67.0006,-160.6383,     4071,    976.6,1.0120888888888888157,34.721718397782226,2,  34.7192,2,197.37754037305777,2, 195.5005,2,    197.2,2,    115.1,2,    32.17,2,     0.00,2,     2.20,2,     -999,9,     -999,9,     -999,9,   2263.5,2,  2361.13,2,   7.5901,2,    24.93,     40.1,2,     -999,9,   1.0112,2,     -999,9,     -999,9,     -999,     -999,9,     -999,9,     -999,1,     -999,9,    0.061,1,    4.665,1,    0.130,1,     -999,9,     -999,9,20180412,1404, -67.0002,-160.6380,     -999,9,     -999,9,-999          ,9,     -999,9,     -999,9,     -999,     -999,9,     -999,     -999,9,     -999,9,     -999,9,     -999,9,     -999,9,     -999,9,     -999,9,     -999,9,     -999,9,     -999,9,     -999,9,     -999,9,     -999,9,     -999,9
320620180309  ,S04P       ,60      ,  1,17         ,17         ,2,20180412,1240, -67.0006,-160.6383,     4071,   1077.2,0.9535555555555554896,34.719505078196477,2,  34.7168,2,198.64724279572144,2, 197.2953,2,    197.6,2,    117.0,2,    32.18,2,     0.00,2,     2.21,2,    0.119,2,    0.059,2,   0.0200,2,   2264.6,2,  2362.12,2,   7.5899,2,    24.93,     42.8,2,     -999,9,   0.9526,2,     -999,9,     -999,9,     -999,     -999,9,     -999,9,     -999,1,     -999,9,    0.061,1,    4.665,1,    0.130,1,  20.1400,2,     -999,9,20180412,1401, -67.0003,-160.6380,     -999,9,     -999,9,-999          ,9,     -999,9,     -999,9,     -999,     -999,9,     -999,     -999,9,     -999,9,     -999,9,     -999,9,     -999,9,     -999,9,     -999,9,     -999,9,     -999,9,     -999,9,     -999,9,     -999,9,     -999,9,     -999,9
320620180309  ,S04P       ,60      ,  1,16         ,16         ,2,20180412,1240, -67.0006,-160.6383,     4071,   1180.0,0.8939305555555555616,34.717015358801305,2,  34.7141,2,199.92035262201608,2, 198.6018,2,    200.2,2,    119.0,2,    32.25,2,     0.00,2,     2.19,2,     -999,9,     -999,9,     -999,9,   2263.6,2,  2361.99,2,   7.5921,2,    24.94,     42.6,2,     -999,9,   0.8938,2,     -999,9,     -999,9,     -999,     -999,9,     -999,9,     -999,1,     -999,9,    0.061,1,    4.665,1,    0.129,1,     -999,9,     -999,9,20180412,1358, -67.0004,-160.6381,     -999,9,     -999,9,-999          ,9,     -999,9,     -999,9,     -999,     -999,9,     -999,     -999,9,     -999,9,     -999,9,     -999,9,     -999,9,     -999,9,     -999,9,     -999,9,     -999,9,     -999,9,     -999,9,     -999,9,     -999,9,     -999,9