BOTTLE,20240515CCHHYDRO
EXPOCODE,SECT_ID,STNNBR,CASTNO,SAMPNO,BTLNBR,BTLNBR_FLAG_W,DATE,TIME,LATITUDE,LONGITUDE,DEPTH,CTDPRS,CTDTMP,CTDSAL,CTDSAL_FLAG_W,SALNTY,SALNTY_FLAG_W,CTDOXY,CTDOXY_FLAG_W,CTDOPTOXY,CTDOPTOXY_FLAG_W,OXYGEN,OXYGEN_FLAG_W,SILCAT,SILCAT_FLAG_W,NITRAT,NITRAT_FLAG_W,NITRIT,NITRIT_FLAG_W,PHSPHT,PHSPHT_FLAG_W,CFC-11,CFC-11_FLAG_W,CFC-12,CFC-12_FLAG_W,SF6,SF6_FLAG_W,TCARBN,TCARBN_FLAG_W,ALKALI,ALKALI_FLAG_W,PH_TOT,PH_TOT_FLAG_W,PH_TMP,DOC,DOC_FLAG_W,HELIUM,HELIUM_FLAG_W,REFTMP,REFTMP_FLAG_W,DELC13,DELC13_FLAG_W,DELC14,DELC14_FLAG_W,C14ERR,POC,POC_FLAG_W,TDN,TDN_FLAG_W,TON,TON_FLAG_W,NEON,NEON_FLAG_W,CTDFLUOR,CTDFLUOR_FLAG_W,CTDXMISS,CTDXMISS_FLAG_W,CTDBETA700,CTDBETA700_FLAG_W,N2O,N2O_FLAG_W,ARGON,ARGON_FLAG_W,BTL_DATE,BTL_TIME,BTL_LAT,BTL_LON,KRYPTON,KRYPTON_FLAG_W,XENON,XENON_FLAG_W,HPLC,HPLC_FLAG_W,HE3_HE4_RATIO,HE3_HE4_RATIO_FLAG_W,Nd_143_144_D_EPSILON_BOTTLE,Nd_143_144_D_EPSILON_BOTTLE_FLAG_W,Nd_143_144_D_EPSILON_BOTTLE_ERROR,Nd_143_144_D_RATIO_BOTTLE,Nd_143_144_D_RATIO_BOTTLE_FLAG_W,Nd_143_144_D_RATIO_BOTTLE_ERROR,Nd_D_CONC,Nd_D_CONC_FLAG_W,La_D_CONC_BOTTLE,La_D_CONC_BOTTLE_FLAG_W,Ce_D_CONC_BOTTLE,Ce_D_CONC_BOTTLE_FLAG_W,Pr_D_CONC_BOTTLE,Pr_D_CONC_BOTTLE_FLAG_W,Sm_D_CONC_BOTTLE,Sm_D_CONC_BOTTLE_FLAG_W,Eu_D_CONC_BOTTLE,Eu_D_CONC_BOTTLE_FLAG_W,Gd_D_CONC_BOTTLE,Gd_D_CONC_BOTTLE_FLAG_W,Tb_D_CONC_BOTTLE,Tb_D_CONC_BOTTLE_FLAG_W,Dy_D_CONC_BOTTLE,Dy_D_CONC_BOTTLE_FLAG_W,Ho_D_CONC_BOTTLE,Ho_D_CONC_BOTTLE_FLAG_W,Er_D_CONC_BOTTLE,Er_D_CONC_BOTTLE_FLAG_W,Tm_D_CONC_BOTTLE,Tm_D_CONC_BOTTLE_FLAG_W,Yb_D_CONC_BOTTLE,Yb_D_CONC_BOTTLE_FLAG_W,Lu_D_CONC_BOTTLE,Lu_D_CONC_BOTTLE_FLAG_W
,,,,,,,,,,,METERS,DBAR,ITS-90,PSS-78,,PSS-78,,UMOL/KG,,UMOL/KG,,UMOL/KG,,UMOL/KG,,UMOL/KG,,UMOL/KG,,UMOL/KG,,PMOL/KG,,PMOL/KG,,FMOL/KG,,UMOL/KG,,UMOL/KG,,,,DEG C,UMOL/KG,,NMOL/L,,DEG C,,/MILLE,,/MILLE,,/MILLE,UG/KG,,UMOL/KG,,UMOL/KG,,NMOL/L,,VOLTS,,VOLTS,,VOLTS,,NMOL/KG,,UMOL/L,,,,,,NMOL/L,,NMOL/L,,,,,,10000,,10000,,,,PMOL/KG,,PMOL/L,,PMOL/L,,PMOL/L,,PMOL/L,,PMOL/L,,PMOL/L,,PMOL/L,,PMOL/L,,PMOL/L,,PMOL/L,,PMOL/L,,PMOL/L,,PMOL/L,
320620180309  ,S04P       ,27      ,  1,36         ,36         ,2,20180328,0844, -67.0008,-175.4651,     3026,      6.6,-0.6025527777777778260,34.051364828555485,2,  34.0498,2,339.65140725435566,2, 342.7006,3,    340.3,2,     53.8,2,    25.68,2,     0.17,2,     1.76,2,    5.331,2,    2.989,2,   3.5700,2,   2189.1,6,  2310.31,2,   7.6607,2,    24.92,     -999,9,     -999,9,  -0.6256,3,     -999,9,     -999,9,     -999,     -999,9,     -999,9,     -999,9,     -999,9,    0.245,1,    4.542,1,    0.234,1,  16.8800,2,     -999,9,20180328,1207, -66.9969,-175.4711,     -999,9,     -999,9,-999          ,9,     -999,9,     -999,9,     -999,     -999,9,     -999,     -999,9,     -999,9,     -999,9,     -999,9,     -999,9,     -999,9,     -999,9,     -999,9,     -999,9,     -999,9,     -999,9,     -999,9,     -999,9,     -999,9
320620180309  ,S04P       ,27      ,  1,35         ,35         ,2,20180328,0844, -67.0008,-175.4651,     3026,     35.1,-0.6041027777777778773,34.052525412270263,2,  34.0520,2,338.43920659592015,2, 338.8016,2,    338.2,2,     54.4,2,    25.77,2,     0.17,2,     1.80,2,     -999,9,     -999,9,     -999,9,     -999,9,     -999,9,     -999,9,     -999,     -999,9,     -999,9,  -0.6075,2,     -999,9,     -999,9,     -999,     -999,9,     -999,9,     -999,9,     -999,9,    0.244,1,    4.541,1,    0.249,1,     -999,9,     -999,9,20180328,1205, -66.9969,-175.4711,     -999,9,     -999,9,-999          ,9,     -999,9,     -999,9,     -999,     -999,9,     -999,     -999,9,     -999,9,     -999,9,     -999,9,     -999,9,     -999,9,     -999,9,     -999,9,     -999,9,     -999,9,     -999,9,     -999,9,     -999,9,     -999,9
320620180309  ,S04P       ,27      ,  1,34         ,34         ,2,20180328,0844, -67.0008,-175.4651,     3026,     59.8,-0.5923861111111110578,34.057377965272799,2,  34.0575,2,338.62865411213085,2, 337.7995,2,    338.5,2,     55.1,2,    25.92,2,     0.18,2,     1.79,2,    5.337,2,    3.008,2,   3.5800,2,   2191.0,2,  2310.00,2,   7.6593,2,    24.92,     -999,9,     -999,9,  -0.5926,2,     -999,9,     -999,9,     -999,     -999,9,     -999,9,     -999,9,     -999,9,    0.256,1,    4.542,1,    0.248,1,  16.7600,2,     -999,9,20180328,1204, -66.9969,-175.4711,     -999,9,     -999,9,-999          ,9,     -999,9,     -999,9,     -999,     -999,9,     -999,     -999,9,     -999,9,     -999,9,     -999,9,     -999,9,     -999,9,     -999,9,     -999,9,     -999,9,     -999,9,     -999,9,     -999,9,     -999,9,     -999,9
320620180309  ,S04P       ,27      ,  1,33         ,33         ,2,20180328,0844, -67.0008,-175.4651,     3026,     84.6,-0.5579388888888888731,34.068144736917787,2,  34.0721,2,337.67518170978951,2, 347.5027,3,    336.6,2,     57.5,2,    26.33,2,     0.19,2,     1.82,2,     -999,9,     -999,9,     -999,9,   2193.4,2,  2309.25,2,   7.6559,2,    24.92,     -999,9,     -999,9,  -0.5616,2,     -999,9,     -999,9,     -999,     -999,9,     -999,9,     -999,9,     -999,9,    0.219,1,    4.556,1,    0.228,1,     -999,9,     -999,9,20180328,1202, -66.9969,-175.4710,     -999,9,     -999,9,-999          ,9,     -999,9,     -999,9,     -999,     -999,9,     -999,     -999,9,     -999,9,     -999,9,     -999,9,     -999,9,     -999,9,     -999,9,     -999,9,     -999,9,     -999,9,     -999,9,     -999,9,     -999,9,     -999,9
320620180309  ,S04P       ,27      ,  1,32         ,32         ,2,20180328,0844, -67.0008,-175.4651,     3026,    111.2,-0.6189916666666668288,34.333519269611365,2,  34.3321,2,292.81317767711357,3, 324.3015,3,    274.8,2,     74.9,2,    30.52,2,     0.24,2,     2.16,2,    3.578,2,    1.990,2,   2.3000,2,   2227.0,2,  2322.66,2,   7.5897,2,    24.93,     -999,9,     -999,9,  -0.6216,2,     -999,9,     -999,9,     -999,     -999,9,     -999,9,     -999,9,     -999,9,    0.082,1,    4.638,1,    0.175,1,  19.2400,2,     -999,9,20180328,1200, -66.9970,-175.4708,     -999,9,     -999,9,-999          ,9,     -999,9,     -999,9,     -999,     -999,9,     -999,     -999,9,     -999,9,     -999,9,     -999,9,     -999,9,     -999,9,     -999,9,     -999,9,     -999,9,     -999,9,     -999,9,     -999,9,     -999,9,     -999,9
320620180309  ,S04P       ,27      ,  1,31         ,31         ,2,20180328,0844, -67.0008,-175.4651,     3026,    137.5,-0.1261416666666666797,34.465045212987505,2,  34.4634,2,253.98173273365356,3, 255.3996,3,    245.2,2,     81.7,2,    32.08,2,     0.03,2,     2.20,2,     -999,9,     -999,9,     -999,9,     -999,9,     -999,9,     -999,9,     -999,     -999,9,     -999,9,  -0.1271,2,     -999,9,     -999,9,     -999,     -999,9,     -999,9,     -999,9,     -999,9,    0.067,1,    4.652,1,    0.170,1,     -999,9,     -999,9,20180328,1157, -66.9972,-175.4702,     -999,9,     -999,9,-999          ,9,     -999,9,     -999,9,     -999,     -999,9,     -999,     -999,9,     -999,9,     -999,9,     -999,9,     -999,9,     -999,9,     -999,9,     -999,9,     -999,9,     -999,9,     -999,9,     -999,9,     -999,9,     -999,9
320620180309  ,S04P       ,27      ,  1,30         ,30         ,2,20180328,0844, -67.0008,-175.4651,     3026,    161.8,0.2938555555555555365,34.532974974149511,2,  34.5373,2,229.07566481956545,3, 226.7026,2,    226.7,2,     84.0,2,    32.30,2,     0.01,2,     2.21,2,     -999,9,     -999,9,     -999,9,   2247.2,2,  2333.93,2,   7.5794,2,    24.93,     -999,9,     -999,9,   0.2910,2,     -999,9,     -999,9,     -999,     -999,9,     -999,9,     -999,9,     -999,9,    0.064,1,    4.658,1,    0.161,1,     -999,9,     -999,9,20180328,1142, -66.9972,-175.4697,     -999,9,     -999,9,-999          ,9,     -999,9,     -999,9,     -999,     -999,9,     -999,     -999,9,     -999,9,     -999,9,     -999,9,     -999,9,     -999,9,     -999,9,     -999,9,     -999,9,     -999,9,     -999,9,     -999,9,     -999,9,     -999,9
320620180309  ,S04P       ,27      ,  1,29         ,29         ,2,20180328,0844, -67.0008,-175.4651,     3026,    186.3,0.9027166666666666117,34.620850963115466,2,  34.6197,2,205.73211518272285,2, 205.7013,2,    205.8,2,     85.5,2,    32.33,2,     0.01,2,     2.22,2,    1.313,2,    0.715,2,   0.7000,2,   2252.7,2,  2341.32,2,   7.5682,2,    24.93,     -999,9,     -999,9,   0.8981,2,     -999,9,     -999,9,     -999,     -999,9,     -999,9,     -999,9,     -999,9,    0.062,1,    4.660,1,    0.155,1,  21.7800,2,     -999,9,20180328,1131, -66.9969,-175.4707,     -999,9,     -999,9,-999          ,9,     -999,9,     -999,9,     -999,     -999,9,     -999,     -999,9,     -999,9,     -999,9,     -999,9,     -999,9,     -999,9,     -999,9,     -999,9,     -999,9,     -999,9,     -999,9,     -999,9,     -999,9,     -999,9
320620180309  ,S04P       ,27      ,  1,28         ,28         ,2,20180328,0844, -67.0008,-175.4651,     3026,    210.5,1.2525805555555555859,34.664264653231584,2,  34.6631,2,197.00840261136005,2, 199.8993,3,    196.6,2,     86.6,2,    32.15,2,     0.01,2,     2.21,2,     -999,9,     -999,9,     -999,9,   2255.0,2,  2342.65,2,   7.5707,2,    24.92,     -999,9,     -999,9,   1.2490,2,     -999,9,     -999,9,     -999,     -999,9,     -999,9,     -999,9,     -999,9,    0.064,1,    4.659,1,    0.162,1,     -999,9,     -999,9,20180328,1129, -66.9970,-175.4706,     -999,9,     -999,9,-999          ,9,     -999,9,     -999,9,     -999,     -999,9,     -999,     -999,9,     -999,9,     -999,9,     -999,9,     -999,9,     -999,9,     -999,9,     -999,9,     -999,9,     -999,9,     -999,9,     -999,9,     -999,9,     -999,9
320620180309  ,S04P       ,27      ,  1,27         ,27         ,2,20180328,0844, -67.0008,-175.4651,     3026,    235.8,1.3355888888888889365,34.683357399916495,2,  34.6813,2,195.36631208219012,2, 195.8982,2,    195.2,2,     88.0,2,    31.96,2,     0.01,2,     2.18,2,    0.784,2,    0.432,2,   0.3400,2,   2254.2,2,  2345.27,2,   7.5787,6,    24.93,     -999,9,     -999,9,   1.3323,2,     -999,9,     -999,9,     -999,     -999,9,     -999,9,     -999,9,     -999,9,    0.063,1,    4.663,1,    0.152,1,  21.9900,2,     -999,9,20180328,1127, -66.9970,-175.4705,     -999,9,     -999,9,-999          ,9,     -999,9,     -999,9,     -999,     -999,9,     -999,     -999,9,     -999,9,     -999,9,     -999,9,     -999,9,     -999,9,     -999,9,     -999,9,     -999,9,     -999,9,     -999,9,     -999,9,     -999,9,     -999,9
320620180309  ,S04P       ,27      ,  1,26         ,26         ,2,20180328,0844, -67.0008,-175.4651,     3026,    266.9,1.4554638888888891124,34.702007950844987,2,  34.7023,2,193.86097842902535,2, 194.0943,2,    193.4,2,     89.6,2,    31.66,2,     0.01,2,     2.19,2,     -999,9,     -999,9,     -999,9,   2255.5,6,  2346.72,2,   7.5804,2,    24.92,     -999,9,     -999,9,   1.4547,2,     -999,9,     -999,9,     -999,     -999,9,     -999,9,     -999,9,     -999,9,    0.062,1,    4.663,1,    0.152,1,     -999,9,     -999,9,20180328,1125, -66.9970,-175.4704,     -999,9,     -999,9,-999          ,9,     -999,9,     -999,9,     -999,     -999,9,     -999,     -999,9,     -999,9,     -999,9,     -999,9,     -999,9,     -999,9,     -999,9,     -999,9,     -999,9,     -999,9,     -999,9,     -999,9,     -999,9,     -999,9
320620180309  ,S04P       ,27      ,  1,25         ,25         ,2,20180328,0844, -67.0008,-175.4651,     3026,    317.7,1.4140305555555554573,34.707266943677219,2,  34.7058,2,194.83416252802184,2, 194.0037,2,    194.8,3,     90.3,2,    31.47,2,     0.01,2,     2.17,2,     -999,9,     -999,9,     -999,9,     -999,9,     -999,9,     -999,9,     -999,     -999,9,     -999,9,   1.4122,2,     -999,9,     -999,9,     -999,     -999,9,     -999,9,     -999,9,     -999,9,    0.062,1,    4.663,1,    0.157,1,     -999,9,     -999,9,20180328,1122, -66.9971,-175.4702,     -999,9,     -999,9,-999          ,9,     -999,9,     -999,9,     -999,     -999,9,     -999,     -999,9,     -999,9,     -999,9,     -999,9,     -999,9,     -999,9,     -999,9,     -999,9,     -999,9,     -999,9,     -999,9,     -999,9,     -999,9,     -999,9
320620180309  ,S04P       ,27      ,  1,24         ,24         ,2,20180328,0844, -67.0008,-175.4651,     3026,    367.8,1.4032249999999999446,34.713992435535800,2,  34.7125,2,195.76574249617747,3, 194.9971,2,    193.8,2,     92.6,2,    31.54,2,     0.00,2,     2.18,2,    0.490,2,    0.279,2,   0.2400,2,   2255.2,2,  2351.08,2,   7.5846,6,    24.91,     -999,9,     -999,9,   1.4023,2,     -999,9,     -999,9,     -999,     -999,9,     -999,9,     -999,9,     -999,9,    0.062,1,    4.667,1,    0.157,1,  21.7400,2,     -999,9,20180328,1120, -66.9971,-175.4702,     -999,9,     -999,9,-999          ,9,     -999,9,     -999,9,     -999,     -999,9,     -999,     -999,9,     -999,9,     -999,9,     -999,9,     -999,9,     -999,9,     -999,9,     -999,9,     -999,9,     -999,9,     -999,9,     -999,9,     -999,9,     -999,9
320620180309  ,S04P       ,27      ,  1,23         ,23         ,2,20180328,0844, -67.0008,-175.4651,     3026,    419.1,1.3886472222222223660,34.719127241313949,2,  34.7174,2,194.85312949262809,2, 195.0960,2,    194.5,2,     94.3,2,    31.44,2,     0.00,2,     2.18,2,     -999,9,     -999,9,     -999,9,     -999,9,     -999,9,     -999,9,     -999,     -999,9,     -999,9,   1.3879,2,     -999,9,     -999,9,     -999,     -999,9,     -999,9,     -999,9,     -999,9,    0.062,1,    4.671,1,    0.139,1,     -999,9,     -999,9,20180328,1118, -66.9971,-175.4702,     -999,9,     -999,9,-999          ,9,     -999,9,     -999,9,     -999,     -999,9,     -999,     -999,9,     -999,9,     -999,9,     -999,9,     -999,9,     -999,9,     -999,9,     -999,9,     -999,9,     -999,9,     -999,9,     -999,9,     -999,9,     -999,9
320620180309  ,S04P       ,27      ,  1,22         ,37         ,2,20180328,0844, -67.0008,-175.4651,     3026,    470.5,1.3491916666666670110,34.720847252450504,2,  34.7206,2,196.25954044055104,2, 195.3003,2,    195.4,2,     96.1,2,    31.42,2,     0.00,2,     2.17,2,     -999,9,     -999,9,     -999,9,   2256.9,2,  2353.22,2,   7.5903,2,    24.92,     -999,9,     -999,9,   1.3485,2,     -999,9,     -999,9,     -999,     -999,9,     -999,9,     -999,9,     -999,9,    0.061,1,    4.671,1,    0.141,1,     -999,9,     -999,9,20180328,1115, -66.9971,-175.4702,     -999,9,     -999,9,-999          ,9,     -999,9,     -999,9,     -999,     -999,9,     -999,     -999,9,     -999,9,     -999,9,     -999,9,     -999,9,     -999,9,     -999,9,     -999,9,     -999,9,     -999,9,     -999,9,     -999,9,     -999,9,     -999,9
320620180309  ,S04P       ,27      ,  1,21         ,21         ,2,20180328,0844, -67.0008,-175.4651,     3026,    539.5,1.3105500000000001037,34.723080146043927,2,  34.7235,2,196.35054656069659,2, 196.1988,2,    196.5,2,     98.3,2,    31.30,2,     0.00,2,     2.15,2,     -999,9,     -999,9,     -999,9,     -999,9,     -999,9,     -999,9,     -999,     -999,9,     -999,9,   1.3113,2,     -999,9,     -999,9,     -999,     -999,9,     -999,9,     -999,9,     -999,9,    0.062,1,    4.671,1,    0.138,1,     -999,9,     -999,9,20180328,1101, -66.9971,-175.4702,     -999,9,     -999,9,-999          ,9,     -999,9,     -999,9,     -999,     -999,9,     -999,     -999,9,     -999,9,     -999,9,     -999,9,     -999,9,     -999,9,     -999,9,     -999,9,     -999,9,     -999,9,     -999,9,     -999,9,     -999,9,     -999,9
320620180309  ,S04P       ,27      ,  1,20         ,20         ,2,20180328,0844, -67.0008,-175.4651,     3026,    641.4,1.2458638888888891039,34.723699569525010,2,  34.7221,2,197.40871328896202,2, 197.6972,2,    197.7,2,    101.0,2,    31.41,2,     0.00,2,     2.16,2,    0.315,2,    0.173,2,   0.1800,2,   2257.7,2,  2355.84,2,   7.5944,2,    24.93,     -999,9,     -999,9,   1.2451,2,     -999,9,     -999,9,     -999,     -999,9,     -999,9,     -999,9,     -999,9,    0.062,1,    4.672,1,    0.137,1,  19.9300,2,     -999,9,20180328,1057, -66.9972,-175.4699,     -999,9,     -999,9,-999          ,9,     -999,9,     -999,9,     -999,     -999,9,     -999,     -999,9,     -999,9,     -999,9,     -999,9,     -999,9,     -999,9,     -999,9,     -999,9,     -999,9,     -999,9,     -999,9,     -999,9,     -999,9,     -999,9
320620180309  ,S04P       ,27      ,  1,19         ,19         ,2,20180328,0844, -67.0008,-175.4651,     3026,    742.9,1.1704138888888888648,34.722673490272413,2,  34.7255,2,199.64082736859689,2, 198.8968,2,    199.4,2,    103.6,2,    31.32,2,     0.01,2,     2.14,2,     -999,9,     -999,9,     -999,9,     -999,9,     -999,9,     -999,9,     -999,     -999,9,     -999,9,   1.1706,2,     -999,9,     -999,9,     -999,     -999,9,     -999,9,     -999,9,     -999,9,    0.061,1,    4.673,1,    0.139,1,     -999,9,     -999,9,20180328,1053, -66.9972,-175.4699,     -999,9,     -999,9,-999          ,9,     -999,9,     -999,9,     -999,     -999,9,     -999,     -999,9,     -999,9,     -999,9,     -999,9,     -999,9,     -999,9,     -999,9,     -999,9,     -999,9,     -999,9,     -999,9,     -999,9,     -999,9,     -999,9
320620180309  ,S04P       ,27      ,  1,18         ,18         ,2,20180328,0844, -67.0008,-175.4651,     3026,    844.4,1.0980472222222226186,34.720978084343074,2,  34.7204,2,200.86923206249261,2, 200.3980,2,    201.3,2,    106.2,2,    31.32,2,     0.00,2,     2.14,2,     -999,9,     -999,9,     -999,9,   2257.5,2,  2357.46,2,   7.5979,2,    24.92,     -999,9,     -999,9,   1.0982,2,     -999,9,     -999,9,     -999,     -999,9,     -999,9,     -999,9,     -999,9,    0.062,1,    4.674,1,    0.136,1,     -999,9,     -999,9,20180328,1027, -66.9969,-175.4705,     -999,9,     -999,9,-999          ,9,     -999,9,     -999,9,     -999,     -999,9,     -999,     -999,9,     -999,9,     -999,9,     -999,9,     -999,9,     -999,9,     -999,9,     -999,9,     -999,9,     -999,9,     -999,9,     -999,9,     -999,9,     -999,9
320620180309  ,S04P       ,27      ,  1,17         ,17         ,2,20180328,0844, -67.0008,-175.4651,     3026,    946.0,1.0201833333333332199,34.718256045548848,2,  34.7180,2,201.60706692727479,2, 201.6987,2,    201.8,2,    110.2,2,    31.48,2,     0.00,2,     2.19,2,     -999,9,     -999,9,     -999,9,     -999,9,     -999,9,     -999,9,     -999,     -999,9,     -999,9,   1.0195,2,     -999,9,     -999,9,     -999,     -999,9,     -999,9,     -999,9,     -999,9,    0.061,1,    4.674,1,    0.134,1,     -999,9,     -999,9,20180328,1023, -66.9970,-175.4705,     -999,9,     -999,9,-999          ,9,     -999,9,     -999,9,     -999,     -999,9,     -999,     -999,9,     -999,9,     -999,9,     -999,9,     -999,9,     -999,9,     -999,9,     -999,9,     -999,9,     -999,9,     -999,9,     -999,9,     -999,9,     -999,9
320620180309  ,S04P       ,27      ,  1,16         ,16         ,2,20180328,0844, -67.0008,-175.4651,     3026,   1048.1,0.9460611111111112415,34.715432826399081,2,  34.7147,2,202.67273638307228,2, 203.0054,2,    203.2,2,    112.7,2,    31.57,2,     0.00,2,     2.18,2,    0.264,2,    0.136,2,   0.0600,2,   2259.8,2,  2362.03,2,   7.5995,2,    24.93,     -999,9,     -999,9,   0.9451,2,     -999,9,     -999,9,     -999,     -999,9,     -999,9,     -999,9,     -999,9,    0.062,1,    4.675,1,    0.133,1,  20.2600,2,     -999,9,20180328,1020, -66.9971,-175.4702,     -999,9,     -999,9,-999          ,9,     -999,9,     -999,9,     -999,     -999,9,     -999,     -999,9,     -999,9,     -999,9,     -999,9,     -999,9,     -999,9,     -999,9,     -999,9,     -999,9,     -999,9,     -999,9,     -999,9,     -999,9,     -999,9