BOTTLE,20240515CCHHYDRO
EXPOCODE,SECT_ID,STNNBR,CASTNO,SAMPNO,BTLNBR,BTLNBR_FLAG_W,DATE,TIME,LATITUDE,LONGITUDE,DEPTH,CTDPRS,CTDTMP,CTDSAL,CTDSAL_FLAG_W,SALNTY,SALNTY_FLAG_W,CTDOXY,CTDOXY_FLAG_W,CTDOPTOXY,CTDOPTOXY_FLAG_W,OXYGEN,OXYGEN_FLAG_W,SILCAT,SILCAT_FLAG_W,NITRAT,NITRAT_FLAG_W,NITRIT,NITRIT_FLAG_W,PHSPHT,PHSPHT_FLAG_W,CFC-11,CFC-11_FLAG_W,CFC-12,CFC-12_FLAG_W,SF6,SF6_FLAG_W,TCARBN,TCARBN_FLAG_W,ALKALI,ALKALI_FLAG_W,PH_TOT,PH_TOT_FLAG_W,PH_TMP,DOC,DOC_FLAG_W,HELIUM,HELIUM_FLAG_W,REFTMP,REFTMP_FLAG_W,DELC13,DELC13_FLAG_W,DELC14,DELC14_FLAG_W,C14ERR,POC,POC_FLAG_W,TDN,TDN_FLAG_W,TON,TON_FLAG_W,NEON,NEON_FLAG_W,CTDFLUOR,CTDFLUOR_FLAG_W,CTDXMISS,CTDXMISS_FLAG_W,CTDBETA700,CTDBETA700_FLAG_W,N2O,N2O_FLAG_W,ARGON,ARGON_FLAG_W,BTL_DATE,BTL_TIME,BTL_LAT,BTL_LON,KRYPTON,KRYPTON_FLAG_W,XENON,XENON_FLAG_W,HPLC,HPLC_FLAG_W,HE3_HE4_RATIO,HE3_HE4_RATIO_FLAG_W,Nd_143_144_D_EPSILON_BOTTLE,Nd_143_144_D_EPSILON_BOTTLE_FLAG_W,Nd_143_144_D_EPSILON_BOTTLE_ERROR,Nd_143_144_D_RATIO_BOTTLE,Nd_143_144_D_RATIO_BOTTLE_FLAG_W,Nd_143_144_D_RATIO_BOTTLE_ERROR,Nd_D_CONC,Nd_D_CONC_FLAG_W,La_D_CONC_BOTTLE,La_D_CONC_BOTTLE_FLAG_W,Ce_D_CONC_BOTTLE,Ce_D_CONC_BOTTLE_FLAG_W,Pr_D_CONC_BOTTLE,Pr_D_CONC_BOTTLE_FLAG_W,Sm_D_CONC_BOTTLE,Sm_D_CONC_BOTTLE_FLAG_W,Eu_D_CONC_BOTTLE,Eu_D_CONC_BOTTLE_FLAG_W,Gd_D_CONC_BOTTLE,Gd_D_CONC_BOTTLE_FLAG_W,Tb_D_CONC_BOTTLE,Tb_D_CONC_BOTTLE_FLAG_W,Dy_D_CONC_BOTTLE,Dy_D_CONC_BOTTLE_FLAG_W,Ho_D_CONC_BOTTLE,Ho_D_CONC_BOTTLE_FLAG_W,Er_D_CONC_BOTTLE,Er_D_CONC_BOTTLE_FLAG_W,Tm_D_CONC_BOTTLE,Tm_D_CONC_BOTTLE_FLAG_W,Yb_D_CONC_BOTTLE,Yb_D_CONC_BOTTLE_FLAG_W,Lu_D_CONC_BOTTLE,Lu_D_CONC_BOTTLE_FLAG_W
,,,,,,,,,,,METERS,DBAR,ITS-90,PSS-78,,PSS-78,,UMOL/KG,,UMOL/KG,,UMOL/KG,,UMOL/KG,,UMOL/KG,,UMOL/KG,,UMOL/KG,,PMOL/KG,,PMOL/KG,,FMOL/KG,,UMOL/KG,,UMOL/KG,,,,DEG C,UMOL/KG,,NMOL/L,,DEG C,,/MILLE,,/MILLE,,/MILLE,UG/KG,,UMOL/KG,,UMOL/KG,,NMOL/L,,VOLTS,,VOLTS,,VOLTS,,NMOL/KG,,UMOL/L,,,,,,NMOL/L,,NMOL/L,,,,,,10000,,10000,,,,PMOL/KG,,PMOL/L,,PMOL/L,,PMOL/L,,PMOL/L,,PMOL/L,,PMOL/L,,PMOL/L,,PMOL/L,,PMOL/L,,PMOL/L,,PMOL/L,,PMOL/L,,PMOL/L,
320620180309  ,S04P       ,97      ,  1,15         ,15         ,2,20180428,1543, -68.0014,-105.1584,     4524,   1419.0,1.4016002833738459010,34.730132365659429,2,  34.7304,2,194.78696660622631,2, 194.0986,2,    194.1,2,    105.5,2,    31.78,2,     0.00,2,     2.18,2,    0.142,2,    0.070,2,  -0.0200,3,   2258.4,2,  2358.38,2,   7.5981,2,    25.05,     -999,9,     -999,9,   1.4015,2,     -999,9,     -999,9,     -999,     -999,9,     -999,9,     -999,9,     -999,9,    0.061,1,    4.650,1,    0.130,1,  19.6000,2,     -999,9,20180428,1707, -68.0023,-105.1592,     -999,9,     -999,9,-999          ,9,     -999,9,     -999,9,     -999,     -999,9,     -999,     -999,9,     -999,9,     -999,9,     -999,9,     -999,9,     -999,9,     -999,9,     -999,9,     -999,9,     -999,9,     -999,9,     -999,9,     -999,9,     -999,9
320620180309  ,S04P       ,97      ,  1,14         ,14         ,2,20180428,1543, -68.0014,-105.1584,     4524,   1518.8,1.3193320971287336718,34.727975016324137,2,  34.7286,2,195.67688718158232,2, 195.5008,2,    196.1,2,    107.4,2,    31.84,2,     0.00,2,     2.16,2,     -999,9,     -999,9,     -999,9,   2258.7,2,  2359.82,2,   7.6036,2,    25.08,     -999,9,     -999,9,   1.3196,2,     -999,9,     -999,9,     -999,     -999,9,     -999,9,     -999,9,     -999,9,    0.062,1,    4.652,1,    0.129,1,     -999,9,     -999,9,20180428,1703, -68.0023,-105.1592,     -999,9,     -999,9,-999          ,9,     -999,9,     -999,9,     -999,     -999,9,     -999,     -999,9,     -999,9,     -999,9,     -999,9,     -999,9,     -999,9,     -999,9,     -999,9,     -999,9,     -999,9,     -999,9,     -999,9,     -999,9,     -999,9
320620180309  ,S04P       ,97      ,  1,13         ,13         ,2,20180428,1543, -68.0014,-105.1584,     4524,   1621.9,1.2443832000525505421,34.725714670511088,2,  34.7263,2,196.13554685077514,2, 197.0988,2,    197.3,2,    110.0,2,    31.89,2,     0.00,2,     2.17,2,    0.129,2,    0.071,2,   0.1000,3,   2261.9,2,  2359.80,2,   7.6123,2,    25.06,     -999,9,     -999,9,   1.2440,2,     -999,9,     -999,9,     -999,     -999,9,     -999,9,     -999,9,     -999,9,    0.061,1,    4.651,1,    0.129,1,  19.9700,2,     -999,9,20180428,1659, -68.0024,-105.1594,     -999,9,     -999,9,-999          ,9,     -999,9,     -999,9,     -999,     -999,9,     -999,     -999,9,     -999,9,     -999,9,     -999,9,     -999,9,     -999,9,     -999,9,     -999,9,     -999,9,     -999,9,     -999,9,     -999,9,     -999,9,     -999,9
320620180309  ,S04P       ,97      ,  1,12         ,12         ,2,20180428,1543, -68.0014,-105.1584,     4524,   1827.6,1.1302586129020595340,34.721753307395055,2,  34.7227,2,198.86101336208401,2, 199.1992,2,    199.3,2,    113.8,2,    31.95,2,     0.00,2,     2.18,2,     -999,9,     -999,9,     -999,9,   2261.7,2,  2363.16,2,   7.6122,6,    25.16,     -999,9,     -999,9,   1.1301,2,     -999,9,     -999,9,     -999,     -999,9,     -999,9,     -999,9,     -999,9,    0.061,1,    4.652,1,    0.130,1,     -999,9,     -999,9,20180428,1653, -68.0022,-105.1590,     -999,9,     -999,9,-999          ,9,     -999,9,     -999,9,     -999,     -999,9,     -999,     -999,9,     -999,9,     -999,9,     -999,9,     -999,9,     -999,9,     -999,9,     -999,9,     -999,9,     -999,9,     -999,9,     -999,9,     -999,9,     -999,9
320620180309  ,S04P       ,97      ,  1,11         ,11         ,2,20180428,1543, -68.0014,-105.1584,     4524,   2030.6,1.0305953643996865754,34.717991623724679,3,     -999,5,200.99539545423451,2, 201.6033,2,    201.6,2,    117.5,2,    32.08,2,     0.00,2,     2.18,2,    0.128,2,    0.080,2,   0.0000,3,   2262.0,6,  2362.27,2,   7.6001,2,    25.14,     -999,9,     -999,9,   1.0311,2,     -999,9,     -999,9,     -999,     -999,9,     -999,9,     -999,9,     -999,9,    0.061,1,    4.652,1,    0.133,1,  19.4100,2,     -999,9,20180428,1648, -68.0020,-105.1588,     -999,9,     -999,9,-999          ,9,     -999,9,     -999,9,     -999,     -999,9,     -999,     -999,9,     -999,9,     -999,9,     -999,9,     -999,9,     -999,9,     -999,9,     -999,9,     -999,9,     -999,9,     -999,9,     -999,9,     -999,9,     -999,9
320620180309  ,S04P       ,97      ,  1,10         ,10         ,2,20180428,1543, -68.0014,-105.1584,     4524,   2283.5,0.9222950010696338019,34.713546576619692,2,  34.7141,2,202.66885322765140,2, 203.5995,2,    203.8,2,    121.3,2,    32.18,2,     0.00,2,     2.19,2,     -999,9,     -999,9,     -999,9,   2260.7,2,  2363.09,2,   7.5991,2,    25.15,     -999,9,     -999,9,   0.9233,2,     -999,9,     -999,9,     -999,     -999,9,     -999,9,     -999,9,     -999,9,    0.061,1,    4.652,1,    0.126,1,     -999,9,     -999,9,20180428,1641, -68.0016,-105.1584,     -999,9,     -999,9,-999          ,9,     -999,9,     -999,9,     -999,     -999,9,     -999,     -999,9,     -999,9,     -999,9,     -999,9,     -999,9,     -999,9,     -999,9,     -999,9,     -999,9,     -999,9,     -999,9,     -999,9,     -999,9,     -999,9
320620180309  ,S04P       ,97      ,  1,9          ,9          ,2,20180428,1543, -68.0014,-105.1584,     4524,   2539.2,0.8260413368577548265,34.709717721397091,2,  34.7094,2,204.98136624899763,2, 205.1957,2,    205.0,2,    124.7,2,    32.35,2,     0.00,2,     2.19,2,    0.163,2,    0.090,2,   0.1100,2,   2261.3,2,  2364.80,2,   7.6005,2,    25.15,     -999,9,     -999,9,   0.8260,2,     -999,9,     -999,9,     -999,     -999,9,     -999,9,     -999,9,     -999,9,    0.061,1,    4.652,1,    0.127,1,  18.8000,2,     -999,9,20180428,1635, -68.0014,-105.1581,     -999,9,     -999,9,-999          ,9,     -999,9,     -999,9,     -999,     -999,9,     -999,     -999,9,     -999,9,     -999,9,     -999,9,     -999,9,     -999,9,     -999,9,     -999,9,     -999,9,     -999,9,     -999,9,     -999,9,     -999,9,     -999,9
320620180309  ,S04P       ,97      ,  1,8          ,8          ,2,20180428,1543, -68.0014,-105.1584,     4524,   2797.2,0.7414620011602884864,34.706702403482687,2,  34.7066,2,207.55691340657165,2, 207.0978,2,    207.3,2,    128.1,2,    32.44,2,     0.00,2,     2.21,2,    0.186,2,    0.109,2,   0.0200,3,   2261.3,2,  2365.75,2,   7.5966,2,    25.16,     -999,9,     -999,9,   0.7413,2,     -999,9,     -999,9,     -999,     -999,9,     -999,9,     -999,9,     -999,9,    0.062,1,    4.652,1,    0.126,1,  18.9800,2,     -999,9,20180428,1628, -68.0014,-105.1581,     -999,9,     -999,9,-999          ,9,     -999,9,     -999,9,     -999,     -999,9,     -999,     -999,9,     -999,9,     -999,9,     -999,9,     -999,9,     -999,9,     -999,9,     -999,9,     -999,9,     -999,9,     -999,9,     -999,9,     -999,9,     -999,9
320620180309  ,S04P       ,97      ,  1,7          ,7          ,2,20180428,1543, -68.0014,-105.1584,     4524,   3050.7,0.6310344193801852297,34.703905644410483,2,  34.7045,2,209.38203874221696,2, 209.3013,2,    208.9,2,    130.6,2,    32.56,2,     0.00,2,     2.22,2,     -999,9,     -999,9,     -999,9,   2261.6,2,  2362.37,2,   7.5960,2,    25.09,     -999,9,     -999,9,   0.6311,2,     -999,9,     -999,9,     -999,     -999,9,     -999,9,     -999,9,     -999,9,    0.061,1,    4.652,1,    0.127,1,     -999,9,     -999,9,20180428,1622, -68.0016,-105.1584,     -999,9,     -999,9,-999          ,9,     -999,9,     -999,9,     -999,     -999,9,     -999,     -999,9,     -999,9,     -999,9,     -999,9,     -999,9,     -999,9,     -999,9,     -999,9,     -999,9,     -999,9,     -999,9,     -999,9,     -999,9,     -999,9
320620180309  ,S04P       ,97      ,  1,6          ,6          ,2,20180428,1543, -68.0014,-105.1584,     4524,   3360.0,0.5199629059547565824,34.702259833006529,2,  34.7015,2,211.30888910903715,2, 211.6969,2,    211.6,2,    134.3,2,    32.64,2,     0.00,2,     2.21,2,    0.231,2,    0.133,2,  -0.0400,3,   2263.1,2,  2366.75,2,   7.5963,2,    25.12,     -999,9,     -999,9,   0.5197,2,     -999,9,     -999,9,     -999,     -999,9,     -999,9,     -999,9,     -999,9,    0.060,1,    4.653,1,    0.125,1,  19.1700,2,     -999,9,20180428,1615, -68.0021,-105.1590,     -999,9,     -999,9,-999          ,9,     -999,9,     -999,9,     -999,     -999,9,     -999,     -999,9,     -999,9,     -999,9,     -999,9,     -999,9,     -999,9,     -999,9,     -999,9,     -999,9,     -999,9,     -999,9,     -999,9,     -999,9,     -999,9
320620180309  ,S04P       ,97      ,  1,5          ,5          ,2,20180428,1543, -68.0014,-105.1584,     4524,   3666.4,0.4462222727569505332,34.701033199691075,3,  34.6980,2,213.24057227892450,2, 213.4017,2,    213.0,2,    137.8,2,    32.70,2,     0.00,2,     2.21,2,    0.274,2,    0.154,2,   0.0200,2,   2261.7,2,  2364.21,2,   7.5959,2,    25.07,     -999,9,     -999,9,   0.4458,2,     -999,9,     -999,9,     -999,     -999,9,     -999,9,     -999,9,     -999,9,    0.061,1,    4.652,1,    0.127,1,  18.6600,2,     -999,9,20180428,1607, -68.0019,-105.1587,     -999,9,     -999,9,-999          ,9,     -999,9,     -999,9,     -999,     -999,9,     -999,     -999,9,     -999,9,     -999,9,     -999,9,     -999,9,     -999,9,     -999,9,     -999,9,     -999,9,     -999,9,     -999,9,     -999,9,     -999,9,     -999,9
320620180309  ,S04P       ,97      ,  1,4          ,4          ,2,20180428,1543, -68.0014,-105.1584,     4524,   3975.7,0.4069598113069656242,34.700364851919396,2,  34.6984,2,214.57811898726180,2, 214.6972,2,    215.3,2,    141.0,2,    32.77,2,     0.00,2,     2.22,2,     -999,9,     -999,9,     -999,9,   2264.6,2,  2365.85,2,   7.5958,2,    25.09,     -999,9,     -999,9,   0.4070,2,     -999,9,     -999,9,     -999,     -999,9,     -999,9,     -999,9,     -999,9,    0.061,1,    4.652,1,    0.124,1,     -999,9,     -999,9,20180428,1600, -68.0018,-105.1587,     -999,9,     -999,9,-999          ,9,     -999,9,     -999,9,     -999,     -999,9,     -999,     -999,9,     -999,9,     -999,9,     -999,9,     -999,9,     -999,9,     -999,9,     -999,9,     -999,9,     -999,9,     -999,9,     -999,9,     -999,9,     -999,9
320620180309  ,S04P       ,97      ,  1,3          ,3          ,2,20180428,1543, -68.0014,-105.1584,     4524,   4233.1,0.3909324839300046817,34.699766362631614,2,  34.6984,2,215.68723213253472,2, 215.0975,2,    215.1,2,    144.1,2,    32.79,2,     0.00,2,     2.23,2,    0.355,2,    0.193,2,   0.0600,2,   2263.9,2,  2363.92,2,   7.5963,2,    25.04,     -999,9,     -999,9,   0.3911,2,     -999,9,     -999,9,     -999,     -999,9,     -999,9,     -999,9,     -999,9,    0.061,1,    4.651,1,    0.127,1,  18.8300,2,     -999,9,20180428,1554, -68.0013,-105.1584,     -999,9,     -999,9,-999          ,9,     -999,9,     -999,9,     -999,     -999,9,     -999,     -999,9,     -999,9,     -999,9,     -999,9,     -999,9,     -999,9,     -999,9,     -999,9,     -999,9,     -999,9,     -999,9,     -999,9,     -999,9,     -999,9
320620180309  ,S04P       ,97      ,  1,2          ,2          ,2,20180428,1543, -68.0014,-105.1584,     4524,   4465.1,0.3925720093333845417,34.699295772942811,3,  34.6972,2,215.72985368865670,2, 215.0064,2,    215.8,2,    146.4,2,    32.87,2,     0.00,2,     2.24,2,    0.394,2,    0.209,2,  -0.0100,3,   2264.7,2,  2364.43,2,   7.5946,2,    25.12,     -999,9,     -999,9,   0.3926,2,     -999,9,     -999,9,     -999,     -999,9,     -999,9,     -999,9,     -999,9,    0.060,1,    4.647,1,    0.131,1,  18.6900,2,     -999,9,20180428,1548, -68.0012,-105.1584,     -999,9,     -999,9,-999          ,9,     -999,9,     -999,9,     -999,     -999,9,     -999,     -999,9,     -999,9,     -999,9,     -999,9,     -999,9,     -999,9,     -999,9,     -999,9,     -999,9,     -999,9,     -999,9,     -999,9,     -999,9,     -999,9
320620180309  ,S04P       ,97      ,  1,1          ,1          ,2,20180428,1543, -68.0014,-105.1584,     4524,   4608.9,0.4018490972701191932,34.699009470031775,2,  34.6990,2,215.55896585481739,2, 215.0015,2,    214.2,2,    150.7,2,    32.94,2,     0.00,2,     2.24,2,    0.412,2,    0.215,2,   0.1600,3,   2264.8,6,  2367.38,2,   7.5953,2,    25.03,     -999,9,     -999,9,   0.4019,2,     -999,9,     -999,9,     -999,     -999,9,     -999,9,     -999,9,     -999,9,    0.061,1,    4.640,1,    0.141,1,  19.0100,2,     -999,9,20180428,1543, -68.0014,-105.1584,     -999,9,     -999,9,-999          ,9,     -999,9,     -999,9,     -999,     -999,9,     -999,     -999,9,     -999,9,     -999,9,     -999,9,     -999,9,     -999,9,     -999,9,     -999,9,     -999,9,     -999,9,     -999,9,     -999,9,     -999,9,     -999,9