BOTTLE,20240515CCHHYDRO
EXPOCODE,SECT_ID,STNNBR,CASTNO,SAMPNO,BTLNBR,BTLNBR_FLAG_W,DATE,TIME,LATITUDE,LONGITUDE,DEPTH,CTDPRS,CTDTMP,CTDSAL,CTDSAL_FLAG_W,SALNTY,SALNTY_FLAG_W,CTDOXY,CTDOXY_FLAG_W,CTDOPTOXY,CTDOPTOXY_FLAG_W,OXYGEN,OXYGEN_FLAG_W,SILCAT,SILCAT_FLAG_W,NITRAT,NITRAT_FLAG_W,NITRIT,NITRIT_FLAG_W,PHSPHT,PHSPHT_FLAG_W,CFC-11,CFC-11_FLAG_W,CFC-12,CFC-12_FLAG_W,SF6,SF6_FLAG_W,TCARBN,TCARBN_FLAG_W,ALKALI,ALKALI_FLAG_W,PH_TOT,PH_TOT_FLAG_W,PH_TMP,DOC,DOC_FLAG_W,HELIUM,HELIUM_FLAG_W,REFTMP,REFTMP_FLAG_W,DELC13,DELC13_FLAG_W,DELC14,DELC14_FLAG_W,C14ERR,POC,POC_FLAG_W,TDN,TDN_FLAG_W,TON,TON_FLAG_W,NEON,NEON_FLAG_W,CTDFLUOR,CTDFLUOR_FLAG_W,CTDXMISS,CTDXMISS_FLAG_W,CTDBETA700,CTDBETA700_FLAG_W,N2O,N2O_FLAG_W,ARGON,ARGON_FLAG_W,BTL_DATE,BTL_TIME,BTL_LAT,BTL_LON,KRYPTON,KRYPTON_FLAG_W,XENON,XENON_FLAG_W,HPLC,HPLC_FLAG_W,HE3_HE4_RATIO,HE3_HE4_RATIO_FLAG_W,Nd_143_144_D_EPSILON_BOTTLE,Nd_143_144_D_EPSILON_BOTTLE_FLAG_W,Nd_143_144_D_EPSILON_BOTTLE_ERROR,Nd_143_144_D_RATIO_BOTTLE,Nd_143_144_D_RATIO_BOTTLE_FLAG_W,Nd_143_144_D_RATIO_BOTTLE_ERROR,Nd_D_CONC,Nd_D_CONC_FLAG_W,La_D_CONC_BOTTLE,La_D_CONC_BOTTLE_FLAG_W,Ce_D_CONC_BOTTLE,Ce_D_CONC_BOTTLE_FLAG_W,Pr_D_CONC_BOTTLE,Pr_D_CONC_BOTTLE_FLAG_W,Sm_D_CONC_BOTTLE,Sm_D_CONC_BOTTLE_FLAG_W,Eu_D_CONC_BOTTLE,Eu_D_CONC_BOTTLE_FLAG_W,Gd_D_CONC_BOTTLE,Gd_D_CONC_BOTTLE_FLAG_W,Tb_D_CONC_BOTTLE,Tb_D_CONC_BOTTLE_FLAG_W,Dy_D_CONC_BOTTLE,Dy_D_CONC_BOTTLE_FLAG_W,Ho_D_CONC_BOTTLE,Ho_D_CONC_BOTTLE_FLAG_W,Er_D_CONC_BOTTLE,Er_D_CONC_BOTTLE_FLAG_W,Tm_D_CONC_BOTTLE,Tm_D_CONC_BOTTLE_FLAG_W,Yb_D_CONC_BOTTLE,Yb_D_CONC_BOTTLE_FLAG_W,Lu_D_CONC_BOTTLE,Lu_D_CONC_BOTTLE_FLAG_W
,,,,,,,,,,,METERS,DBAR,ITS-90,PSS-78,,PSS-78,,UMOL/KG,,UMOL/KG,,UMOL/KG,,UMOL/KG,,UMOL/KG,,UMOL/KG,,UMOL/KG,,PMOL/KG,,PMOL/KG,,FMOL/KG,,UMOL/KG,,UMOL/KG,,,,DEG C,UMOL/KG,,NMOL/L,,DEG C,,/MILLE,,/MILLE,,/MILLE,UG/KG,,UMOL/KG,,UMOL/KG,,NMOL/L,,VOLTS,,VOLTS,,VOLTS,,NMOL/KG,,UMOL/L,,,,,,NMOL/L,,NMOL/L,,,,,,10000,,10000,,,,PMOL/KG,,PMOL/L,,PMOL/L,,PMOL/L,,PMOL/L,,PMOL/L,,PMOL/L,,PMOL/L,,PMOL/L,,PMOL/L,,PMOL/L,,PMOL/L,,PMOL/L,,PMOL/L,
320620180309  ,S04P       ,106     ,  1,36         ,36         ,2,20180502,0818, -67.5006, -99.6682,     4615,      9.3,-1.2759298465716921722,33.731561297402806,2,  33.7280,2,342.18665933307017,3, 345.9986,2,    346.1,2,     22.0,2,    25.40,2,     0.21,2,     1.79,2,    6.318,2,    3.279,2,   4.1000,2,   2168.0,2,  2279.87,2,   7.6674,2,    24.99,     -999,9,     -999,9,  -1.2755,2,     -999,9,     -999,9,     -999,     -999,9,     -999,9,     -999,9,     -999,9,    0.184,1,    4.575,1,    0.194,1,  15.8200,2,     -999,9,20180502,1032, -67.5023, -99.6661,     -999,9,     -999,9,-999          ,9,     -999,9,     -999,9,     -999,     -999,9,     -999,     -999,9,     -999,9,     -999,9,     -999,9,     -999,9,     -999,9,     -999,9,     -999,9,     -999,9,     -999,9,     -999,9,     -999,9,     -999,9,     -999,9
320620180309  ,S04P       ,106     ,  1,35         ,35         ,2,20180502,0818, -67.5006, -99.6682,     4615,     34.2,-1.2748942298619507785,33.732311624091231,2,  33.7290,2,342.61564201767965,2, 346.0033,2,    345.9,2,     21.9,2,    25.43,2,     0.21,2,     1.81,2,     -999,9,     -999,9,     -999,9,   2165.3,2,  2294.31,2,   7.6678,6,    24.98,     -999,9,     -999,9,  -1.2741,2,     -999,9,     -999,9,     -999,     -999,9,     -999,9,     -999,9,     -999,9,    0.184,1,    4.575,1,    0.192,1,     -999,9,     -999,9,20180502,1030, -67.5025, -99.6659,     -999,9,     -999,9,-999          ,9,     -999,9,     -999,9,     -999,     -999,9,     -999,     -999,9,     -999,9,     -999,9,     -999,9,     -999,9,     -999,9,     -999,9,     -999,9,     -999,9,     -999,9,     -999,9,     -999,9,     -999,9,     -999,9
320620180309  ,S04P       ,106     ,  1,34         ,34         ,2,20180502,0818, -67.5006, -99.6682,     4615,     60.0,-1.2751418109325152184,33.732714654160063,2,  33.7294,2,343.09179441537111,2, 345.9996,2,    346.1,2,     22.1,2,    25.46,2,     0.21,2,     1.78,2,     -999,9,     -999,9,     -999,9,     -999,9,     -999,9,     -999,9,     -999,     -999,9,     -999,9,  -1.2759,2,     -999,9,     -999,9,     -999,     -999,9,     -999,9,     -999,9,     -999,9,    0.183,1,    4.574,1,    0.192,1,     -999,9,     -999,9,20180502,1028, -67.5025, -99.6658,     -999,9,     -999,9,-999          ,9,     -999,9,     -999,9,     -999,     -999,9,     -999,     -999,9,     -999,9,     -999,9,     -999,9,     -999,9,     -999,9,     -999,9,     -999,9,     -999,9,     -999,9,     -999,9,     -999,9,     -999,9,     -999,9
320620180309  ,S04P       ,106     ,  1,33         ,33         ,2,20180502,0818, -67.5006, -99.6682,     4615,     85.5,-1.2668422610566640873,33.737044964754148,2,  33.7395,2,344.53168974432180,2, 344.2970,2,    344.6,2,     22.8,2,    25.64,2,     0.21,2,     1.82,2,    6.336,2,    3.291,2,   3.7900,2,   2166.8,2,  2281.26,2,   7.6657,2,    24.94,     -999,9,     -999,9,  -1.2653,2,     -999,9,     -999,9,     -999,     -999,9,     -999,9,     -999,9,     -999,9,    0.184,1,    4.575,1,    0.194,1,  16.3400,2,     -999,9,20180502,1026, -67.5024, -99.6658,     -999,9,     -999,9,-999          ,9,     -999,9,     -999,9,     -999,     -999,9,     -999,     -999,9,     -999,9,     -999,9,     -999,9,     -999,9,     -999,9,     -999,9,     -999,9,     -999,9,     -999,9,     -999,9,     -999,9,     -999,9,     -999,9
320620180309  ,S04P       ,106     ,  1,32         ,32         ,2,20180502,0818, -67.5006, -99.6682,     4615,    110.4,-0.4381706388475375413,34.033849004774261,2,  34.0269,2,314.68283036192332,3, 310.2924,3,    305.4,2,     40.5,2,    30.93,2,     0.03,2,     2.14,2,     -999,9,     -999,9,     -999,9,   2188.8,2,  2292.85,2,   7.6129,2,    24.98,     -999,9,     -999,9,  -0.4938,2,     -999,9,     -999,9,     -999,     -999,9,     -999,9,     -999,9,     -999,9,    0.077,1,    4.619,1,    0.160,1,     -999,9,     -999,9,20180502,1024, -67.5022, -99.6659,     -999,9,     -999,9,-999          ,9,     -999,9,     -999,9,     -999,     -999,9,     -999,     -999,9,     -999,9,     -999,9,     -999,9,     -999,9,     -999,9,     -999,9,     -999,9,     -999,9,     -999,9,     -999,9,     -999,9,     -999,9,     -999,9
320620180309  ,S04P       ,106     ,  1,31         ,31         ,2,20180502,0818, -67.5006, -99.6682,     4615,    134.8,0.6436341832911096628,34.165959744677551,2,  34.1717,2,272.81502381043811,3, 264.8943,2,    263.9,2,     48.9,2,    32.86,2,     0.02,2,     2.26,2,     -999,9,     -999,9,     -999,9,   2214.0,2,  2302.98,2,   7.5832,2,    24.95,     -999,9,     -999,9,   0.6449,2,     -999,9,     -999,9,     -999,     -999,9,     -999,9,     -999,9,     -999,9,    0.070,1,    4.630,1,    0.150,1,     -999,9,     -999,9,20180502,1022, -67.5021, -99.6663,     -999,9,     -999,9,-999          ,9,     -999,9,     -999,9,     -999,     -999,9,     -999,     -999,9,     -999,9,     -999,9,     -999,9,     -999,9,     -999,9,     -999,9,     -999,9,     -999,9,     -999,9,     -999,9,     -999,9,     -999,9,     -999,9
320620180309  ,S04P       ,106     ,  1,30         ,30         ,2,20180502,0818, -67.5006, -99.6682,     4615,    166.2,1.4069903265664156500,34.281574074077959,2,  34.2808,2,237.99331407982385,3, 234.8042,2,    233.3,2,     56.1,2,    34.17,2,     0.02,2,     2.34,2,    3.128,2,    1.669,2,   1.6800,2,   2228.6,2,  2311.59,2,   7.5637,2,    24.96,     -999,9,     -999,9,   1.4051,2,     -999,9,     -999,9,     -999,     -999,9,     -999,9,     -999,9,     -999,9,    0.064,1,    4.632,1,    0.148,1,  21.6500,2,     -999,9,20180502,1020, -67.5020, -99.6664,     -999,9,     -999,9,-999          ,9,     -999,9,     -999,9,     -999,     -999,9,     -999,     -999,9,     -999,9,     -999,9,     -999,9,     -999,9,     -999,9,     -999,9,     -999,9,     -999,9,     -999,9,     -999,9,     -999,9,     -999,9,     -999,9
320620180309  ,S04P       ,106     ,  1,29         ,29         ,2,20180502,0818, -67.5006, -99.6682,     4615,    216.8,1.8243390205013481076,34.385518606119625,2,  34.3862,2,209.06114347613496,3, 205.6053,2,    206.2,2,     63.8,2,    35.00,2,     0.01,2,     2.38,2,     -999,9,     -999,9,     -999,9,   2241.8,2,  2321.27,2,   7.5486,2,    24.98,     -999,9,     -999,9,   1.8233,2,     -999,9,     -999,9,     -999,     -999,9,     -999,9,     -999,9,     -999,9,    0.061,1,    4.637,1,    0.150,1,     -999,9,     -999,9,20180502,1018, -67.5017, -99.6667,     -999,9,     -999,9,-999          ,9,     -999,9,     -999,9,     -999,     -999,9,     -999,     -999,9,     -999,9,     -999,9,     -999,9,     -999,9,     -999,9,     -999,9,     -999,9,     -999,9,     -999,9,     -999,9,     -999,9,     -999,9,     -999,9
320620180309  ,S04P       ,106     ,  1,28         ,28         ,2,20180502,0818, -67.5006, -99.6682,     4615,    267.6,2.0148515043549775072,34.452795426317046,2,  34.4511,2,192.99732987165086,3, 193.3996,3,    191.0,2,     68.5,2,    35.26,2,     0.00,2,     2.39,2,    1.654,2,    0.873,2,   0.6300,2,     -999,9,     -999,9,     -999,9,     -999,     -999,9,     -999,9,   2.0147,2,     -999,9,     -999,9,     -999,     -999,9,     -999,9,     -999,9,     -999,9,    0.062,1,    4.639,1,    0.147,1,  23.6600,2,     -999,9,20180502,1015, -67.5016, -99.6669,     -999,9,     -999,9,-999          ,9,     -999,9,     -999,9,     -999,     -999,9,     -999,     -999,9,     -999,9,     -999,9,     -999,9,     -999,9,     -999,9,     -999,9,     -999,9,     -999,9,     -999,9,     -999,9,     -999,9,     -999,9,     -999,9
320620180309  ,S04P       ,106     ,  1,27         ,27         ,2,20180502,0818, -67.5006, -99.6682,     4615,    316.2,2.1314689926052765578,34.506159068461599,2,  34.5038,2,182.70416972720997,2, 183.6996,2,    182.7,2,     72.2,2,    35.27,2,     0.00,2,     2.40,2,     -999,9,     -999,9,     -999,9,   2255.1,2,  2332.40,2,   7.5401,2,    24.94,     -999,9,     -999,9,   2.1313,2,     -999,9,     -999,9,     -999,     -999,9,     -999,9,     -999,9,     -999,9,    0.061,1,    4.641,1,    0.143,1,     -999,9,     -999,9,20180502,1013, -67.5012, -99.6676,     -999,9,     -999,9,-999          ,9,     -999,9,     -999,9,     -999,     -999,9,     -999,     -999,9,     -999,9,     -999,9,     -999,9,     -999,9,     -999,9,     -999,9,     -999,9,     -999,9,     -999,9,     -999,9,     -999,9,     -999,9,     -999,9
320620180309  ,S04P       ,106     ,  1,26         ,38         ,2,20180502,0818, -67.5006, -99.6682,     4615,    367.8,2.1810285556111272953,34.557825648248382,2,  34.5581,2,175.47420753164639,2, 177.6979,2,    176.7,2,     75.7,2,    35.02,2,     0.00,2,     2.37,2,    0.920,2,    0.482,2,   0.2600,2,   2255.2,2,  2335.11,2,   7.5415,2,    24.96,     -999,9,     -999,9,   2.1810,2,     -999,9,     -999,9,     -999,     -999,9,     -999,9,     -999,9,     -999,9,    0.061,1,    4.643,1,    0.141,1,  23.2300,2,     -999,9,20180502,1010, -67.5007, -99.6684,     -999,9,     -999,9,-999          ,9,     -999,9,     -999,9,     -999,     -999,9,     -999,     -999,9,     -999,9,     -999,9,     -999,9,     -999,9,     -999,9,     -999,9,     -999,9,     -999,9,     -999,9,     -999,9,     -999,9,     -999,9,     -999,9
320620180309  ,S04P       ,106     ,  1,25         ,25         ,2,20180502,0818, -67.5006, -99.6682,     4615,    418.9,2.1701712351901090159,34.581372199374385,2,  34.5787,2,174.66565869084795,2, 176.5001,2,    175.7,2,     77.3,2,    34.68,2,     0.00,2,     2.35,2,     -999,9,     -999,9,     -999,9,     -999,9,     -999,9,     -999,9,     -999,     -999,9,     -999,9,   2.1695,2,     -999,9,     -999,9,     -999,     -999,9,     -999,9,     -999,9,     -999,9,    0.062,1,    4.644,1,    0.142,1,     -999,9,     -999,9,20180502,1008, -67.5004, -99.6690,     -999,9,     -999,9,-999          ,9,     -999,9,     -999,9,     -999,     -999,9,     -999,     -999,9,     -999,9,     -999,9,     -999,9,     -999,9,     -999,9,     -999,9,     -999,9,     -999,9,     -999,9,     -999,9,     -999,9,     -999,9,     -999,9
320620180309  ,S04P       ,106     ,  1,24         ,24         ,2,20180502,0818, -67.5006, -99.6682,     4615,    469.7,2.1661803659122385035,34.603184448007539,2,  34.6013,2,176.26647332927325,2, 177.1015,3,    175.1,2,     78.5,2,    34.38,2,     0.00,2,     2.30,2,    0.696,2,    0.368,2,   0.2500,2,   2257.1,6,  2341.81,2,   7.5523,2,    24.95,     -999,9,     -999,9,   2.1659,2,     -999,9,     -999,9,     -999,     -999,9,     -999,9,     -999,9,     -999,9,    0.061,1,    4.644,1,    0.137,1,  23.0800,2,     -999,9,20180502,1005, -67.5005, -99.6686,     -999,9,     -999,9,-999          ,9,     -999,9,     -999,9,     -999,     -999,9,     -999,     -999,9,     -999,9,     -999,9,     -999,9,     -999,9,     -999,9,     -999,9,     -999,9,     -999,9,     -999,9,     -999,9,     -999,9,     -999,9,     -999,9
320620180309  ,S04P       ,106     ,  1,23         ,23         ,2,20180502,0818, -67.5006, -99.6682,     4615,    540.0,2.1279177905697821416,34.634906031560099,2,  34.6331,2,175.68908603832617,2, 177.3046,2,    176.8,2,     80.7,2,    33.90,2,     0.00,2,     2.26,2,     -999,9,     -999,9,     -999,9,   2254.7,2,  2341.79,2,   7.5590,2,    24.95,     -999,9,     -999,9,   2.1278,2,     -999,9,     -999,9,     -999,     -999,9,     -999,9,     -999,9,     -999,9,    0.061,1,    4.644,1,    0.137,1,     -999,9,     -999,9,20180502,1003, -67.5009, -99.6682,     -999,9,     -999,9,-999          ,9,     -999,9,     -999,9,     -999,     -999,9,     -999,     -999,9,     -999,9,     -999,9,     -999,9,     -999,9,     -999,9,     -999,9,     -999,9,     -999,9,     -999,9,     -999,9,     -999,9,     -999,9,     -999,9
320620180309  ,S04P       ,106     ,  1,22         ,37         ,2,20180502,0818, -67.5006, -99.6682,     4615,    641.5,2.1048269095682470287,34.668227728885746,2,  34.6670,2,176.34505638421246,2, 177.8026,2,    177.1,2,     82.9,2,    33.37,2,     0.00,2,     2.26,2,     -999,9,     -999,9,     -999,9,     -999,9,     -999,9,     -999,9,     -999,     -999,9,     -999,9,   2.1050,2,     -999,9,     -999,9,     -999,     -999,9,     -999,9,     -999,9,     -999,9,    0.062,1,    4.644,1,    0.136,1,     -999,9,     -999,9,20180502,0959, -67.5013, -99.6678,     -999,9,     -999,9,-999          ,9,     -999,9,     -999,9,     -999,     -999,9,     -999,     -999,9,     -999,9,     -999,9,     -999,9,     -999,9,     -999,9,     -999,9,     -999,9,     -999,9,     -999,9,     -999,9,     -999,9,     -999,9,     -999,9
320620180309  ,S04P       ,106     ,  1,21         ,21         ,2,20180502,0818, -67.5006, -99.6682,     4615,    741.6,2.0501741263227701850,34.690007578008832,2,  34.6892,2,179.01284436952633,2, 179.5005,2,    179.6,2,     84.9,2,    32.95,2,     0.00,2,     2.22,2,    0.320,2,    0.170,2,   0.0900,2,   2257.2,2,  2348.71,2,   7.5734,2,    24.96,     -999,9,     -999,9,   2.0501,2,     -999,9,     -999,9,     -999,     -999,9,     -999,9,     -999,9,     -999,9,    0.061,1,    4.644,1,    0.133,1,  20.9200,2,     -999,9,20180502,0956, -67.5016, -99.6673,     -999,9,     -999,9,-999          ,9,     -999,9,     -999,9,     -999,     -999,9,     -999,     -999,9,     -999,9,     -999,9,     -999,9,     -999,9,     -999,9,     -999,9,     -999,9,     -999,9,     -999,9,     -999,9,     -999,9,     -999,9,     -999,9
320620180309  ,S04P       ,106     ,  1,20         ,20         ,2,20180502,0818, -67.5006, -99.6682,     4615,    843.8,1.9881794646596169240,34.706882081528548,2,  34.7070,2,182.52389725104945,2, 182.0978,2,    182.1,2,     86.8,2,    32.50,2,     0.00,2,     2.21,2,     -999,9,     -999,9,     -999,9,     -999,9,     -999,9,     -999,9,     -999,     -999,9,     -999,9,   1.9884,2,     -999,9,     -999,9,     -999,     -999,9,     -999,9,     -999,9,     -999,9,    0.062,1,    4.646,1,    0.133,1,     -999,9,     -999,9,20180502,0952, -67.5018, -99.6671,     -999,9,     -999,9,-999          ,9,     -999,9,     -999,9,     -999,     -999,9,     -999,     -999,9,     -999,9,     -999,9,     -999,9,     -999,9,     -999,9,     -999,9,     -999,9,     -999,9,     -999,9,     -999,9,     -999,9,     -999,9,     -999,9
320620180309  ,S04P       ,106     ,  1,19         ,19         ,2,20180502,0818, -67.5006, -99.6682,     4615,    946.3,1.9107898319142584409,34.717444344911762,2,  34.7164,2,185.55920265477357,2, 184.4984,2,    184.7,2,     88.7,2,    32.21,2,     0.00,2,     2.18,2,     -999,9,     -999,9,     -999,9,   2254.8,2,  2352.88,2,   7.5862,2,    24.93,     -999,9,     -999,9,   1.9106,2,     -999,9,     -999,9,     -999,     -999,9,     -999,9,     -999,9,     -999,9,    0.062,1,    4.646,1,    0.132,1,     -999,9,     -999,9,20180502,0949, -67.5017, -99.6673,     -999,9,     -999,9,-999          ,9,     -999,9,     -999,9,     -999,     -999,9,     -999,     -999,9,     -999,9,     -999,9,     -999,9,     -999,9,     -999,9,     -999,9,     -999,9,     -999,9,     -999,9,     -999,9,     -999,9,     -999,9,     -999,9
320620180309  ,S04P       ,106     ,  1,18         ,18         ,2,20180502,0818, -67.5006, -99.6682,     4615,   1046.6,1.8409187438214145160,34.724468376471961,2,  34.7235,2,188.37573014057904,2, 186.7009,2,    187.3,2,     90.7,2,    32.01,2,     0.00,2,     2.18,2,    0.212,2,    0.109,2,   0.0300,2,     -999,9,     -999,9,     -999,9,     -999,     -999,9,     -999,9,   1.8408,2,     -999,9,     -999,9,     -999,     -999,9,     -999,9,     -999,9,     -999,9,    0.061,1,    4.647,1,    0.132,1,  20.5900,2,     -999,9,20180502,0946, -67.5018, -99.6671,     -999,9,     -999,9,-999          ,9,     -999,9,     -999,9,     -999,     -999,9,     -999,     -999,9,     -999,9,     -999,9,     -999,9,     -999,9,     -999,9,     -999,9,     -999,9,     -999,9,     -999,9,     -999,9,     -999,9,     -999,9,     -999,9
320620180309  ,S04P       ,106     ,  1,17         ,17         ,2,20180502,0818, -67.5006, -99.6682,     4615,   1149.6,1.7557891489257753115,34.728968165542256,2,  34.7282,2,190.56450875660977,2, 189.0974,2,    189.5,2,     93.0,2,    31.82,2,     0.00,2,     2.16,2,     -999,9,     -999,9,     -999,9,   2256.2,2,  2357.21,2,   7.5946,2,    24.94,     -999,9,     -999,9,   1.7558,2,     -999,9,     -999,9,     -999,     -999,9,     -999,9,     -999,9,     -999,9,    0.062,1,    4.648,1,    0.131,1,     -999,9,     -999,9,20180502,0943, -67.5021, -99.6668,     -999,9,     -999,9,-999          ,9,     -999,9,     -999,9,     -999,     -999,9,     -999,     -999,9,     -999,9,     -999,9,     -999,9,     -999,9,     -999,9,     -999,9,     -999,9,     -999,9,     -999,9,     -999,9,     -999,9,     -999,9,     -999,9
320620180309  ,S04P       ,106     ,  1,16         ,16         ,2,20180502,0818, -67.5006, -99.6682,     4615,   1250.6,1.6658114917419193368,34.731071465503234,2,  34.7300,2,192.26448505986539,2, 190.9969,2,    191.2,2,     95.5,2,    31.75,2,     0.00,2,     2.18,2,    0.267,3,    0.152,3,   0.0900,3,   2257.4,2,  2357.26,2,   7.5968,2,    24.95,     -999,9,     -999,9,   1.6656,2,     -999,9,     -999,9,     -999,     -999,9,     -999,9,     -999,9,     -999,9,    0.062,1,    4.648,1,    0.131,1,  20.0400,3,     -999,9,20180502,0940, -67.5021, -99.6668,     -999,9,     -999,9,-999          ,9,     -999,9,     -999,9,     -999,     -999,9,     -999,     -999,9,     -999,9,     -999,9,     -999,9,     -999,9,     -999,9,     -999,9,     -999,9,     -999,9,     -999,9,     -999,9,     -999,9,     -999,9,     -999,9