BOTTLE,20240515CCHHYDRO
EXPOCODE,SECT_ID,STNNBR,CASTNO,SAMPNO,BTLNBR,BTLNBR_FLAG_W,DATE,TIME,LATITUDE,LONGITUDE,DEPTH,CTDPRS,CTDTMP,CTDSAL,CTDSAL_FLAG_W,SALNTY,SALNTY_FLAG_W,CTDOXY,CTDOXY_FLAG_W,CTDOPTOXY,CTDOPTOXY_FLAG_W,OXYGEN,OXYGEN_FLAG_W,SILCAT,SILCAT_FLAG_W,NITRAT,NITRAT_FLAG_W,NITRIT,NITRIT_FLAG_W,PHSPHT,PHSPHT_FLAG_W,CFC-11,CFC-11_FLAG_W,CFC-12,CFC-12_FLAG_W,SF6,SF6_FLAG_W,TCARBN,TCARBN_FLAG_W,ALKALI,ALKALI_FLAG_W,PH_TOT,PH_TOT_FLAG_W,PH_TMP,DOC,DOC_FLAG_W,HELIUM,HELIUM_FLAG_W,REFTMP,REFTMP_FLAG_W,DELC13,DELC13_FLAG_W,DELC14,DELC14_FLAG_W,C14ERR,POC,POC_FLAG_W,TDN,TDN_FLAG_W,TON,TON_FLAG_W,NEON,NEON_FLAG_W,CTDFLUOR,CTDFLUOR_FLAG_W,CTDXMISS,CTDXMISS_FLAG_W,CTDBETA700,CTDBETA700_FLAG_W,N2O,N2O_FLAG_W,ARGON,ARGON_FLAG_W,BTL_DATE,BTL_TIME,BTL_LAT,BTL_LON,KRYPTON,KRYPTON_FLAG_W,XENON,XENON_FLAG_W,HPLC,HPLC_FLAG_W,HE3_HE4_RATIO,HE3_HE4_RATIO_FLAG_W,Nd_143_144_D_EPSILON_BOTTLE,Nd_143_144_D_EPSILON_BOTTLE_FLAG_W,Nd_143_144_D_EPSILON_BOTTLE_ERROR,Nd_143_144_D_RATIO_BOTTLE,Nd_143_144_D_RATIO_BOTTLE_FLAG_W,Nd_143_144_D_RATIO_BOTTLE_ERROR,Nd_D_CONC,Nd_D_CONC_FLAG_W,La_D_CONC_BOTTLE,La_D_CONC_BOTTLE_FLAG_W,Ce_D_CONC_BOTTLE,Ce_D_CONC_BOTTLE_FLAG_W,Pr_D_CONC_BOTTLE,Pr_D_CONC_BOTTLE_FLAG_W,Sm_D_CONC_BOTTLE,Sm_D_CONC_BOTTLE_FLAG_W,Eu_D_CONC_BOTTLE,Eu_D_CONC_BOTTLE_FLAG_W,Gd_D_CONC_BOTTLE,Gd_D_CONC_BOTTLE_FLAG_W,Tb_D_CONC_BOTTLE,Tb_D_CONC_BOTTLE_FLAG_W,Dy_D_CONC_BOTTLE,Dy_D_CONC_BOTTLE_FLAG_W,Ho_D_CONC_BOTTLE,Ho_D_CONC_BOTTLE_FLAG_W,Er_D_CONC_BOTTLE,Er_D_CONC_BOTTLE_FLAG_W,Tm_D_CONC_BOTTLE,Tm_D_CONC_BOTTLE_FLAG_W,Yb_D_CONC_BOTTLE,Yb_D_CONC_BOTTLE_FLAG_W,Lu_D_CONC_BOTTLE,Lu_D_CONC_BOTTLE_FLAG_W
,,,,,,,,,,,METERS,DBAR,ITS-90,PSS-78,,PSS-78,,UMOL/KG,,UMOL/KG,,UMOL/KG,,UMOL/KG,,UMOL/KG,,UMOL/KG,,UMOL/KG,,PMOL/KG,,PMOL/KG,,FMOL/KG,,UMOL/KG,,UMOL/KG,,,,DEG C,UMOL/KG,,NMOL/L,,DEG C,,/MILLE,,/MILLE,,/MILLE,UG/KG,,UMOL/KG,,UMOL/KG,,NMOL/L,,VOLTS,,VOLTS,,VOLTS,,NMOL/KG,,UMOL/L,,,,,,NMOL/L,,NMOL/L,,,,,,10000,,10000,,,,PMOL/KG,,PMOL/L,,PMOL/L,,PMOL/L,,PMOL/L,,PMOL/L,,PMOL/L,,PMOL/L,,PMOL/L,,PMOL/L,,PMOL/L,,PMOL/L,,PMOL/L,,PMOL/L,
320620180309  ,S04P       ,5       ,  1,36         ,36         ,2,20180318,0240, -69.2396, 170.6598,     2847,      3.3,-1.6316055555555557532,34.054149992811233,2,  34.0539,2,341.10830259145104,3, 346.9991,2,    347.0,2,     71.8,2,    28.07,2,     0.14,2,     1.89,2,    5.653,2,    3.071,2,   4.2400,2,   2194.5,6,  2309.85,2,   7.6389,2,    24.97,     41.2,2,     -999,9,  -2.3975,4,     -999,9,     -999,9,     -999,     -999,9,    30.30,2,     -999,1,     -999,9,    0.101,1,    4.594,1,    0.185,1,  18.0300,2,     -999,9,20180318,0426, -69.2385, 170.6612,     -999,9,     -999,9,-999          ,9,     -999,9,     -999,9,     -999,     -999,9,     -999,     -999,9,     -999,9,     -999,9,     -999,9,     -999,9,     -999,9,     -999,9,     -999,9,     -999,9,     -999,9,     -999,9,     -999,9,     -999,9,     -999,9
320620180309  ,S04P       ,5       ,  1,35         ,35         ,2,20180318,0240, -69.2396, 170.6598,     2847,     23.8,-1.6704805555555555241,34.055017435593648,2,  34.0535,2,341.90311468695916,2, 315.1038,3,    345.3,2,     71.9,2,    28.07,2,     0.14,2,     1.89,2,     -999,9,     -999,9,     -999,9,   2195.0,2,  2313.21,2,   7.6375,2,    24.96,     47.6,2,     -999,9,  -1.6704,2,     -999,9,     -999,9,     -999,     -999,9,    30.50,2,     -999,1,     -999,9,    0.110,1,    4.594,1,    0.200,1,     -999,9,     -999,9,20180318,0424, -69.2385, 170.6613,     -999,9,     -999,9,-999          ,9,     -999,9,     -999,9,     -999,     -999,9,     -999,     -999,9,     -999,9,     -999,9,     -999,9,     -999,9,     -999,9,     -999,9,     -999,9,     -999,9,     -999,9,     -999,9,     -999,9,     -999,9,     -999,9
320620180309  ,S04P       ,5       ,  1,34         ,34         ,2,20180318,0240, -69.2396, 170.6598,     2847,     49.9,-1.6689000000000002721,34.054798400875768,2,  34.0537,2,343.11293928931752,2, 315.0979,3,    345.8,2,     71.9,2,    28.06,2,     0.14,2,     1.89,2,    5.629,2,    3.053,2,   4.2800,2,   2197.7,2,  2309.38,2,   7.6386,2,    24.95,     41.3,2,     -999,9,  -1.6683,2,     -999,9,     -999,9,     -999,     -999,9,    30.30,2,     -999,1,     -999,9,    0.174,1,    4.594,1,    0.205,1,  18.0600,2,     -999,9,20180318,0422, -69.2385, 170.6613,     -999,9,     -999,9,-999          ,9,     -999,9,     -999,9,     -999,     -999,9,     -999,     -999,9,     -999,9,     -999,9,     -999,9,     -999,9,     -999,9,     -999,9,     -999,9,     -999,9,     -999,9,     -999,9,     -999,9,     -999,9,     -999,9
320620180309  ,S04P       ,5       ,  1,33         ,33         ,2,20180318,0240, -69.2396, 170.6598,     2847,     75.3,-1.6377722222222221848,34.061841701838908,2,  34.0710,2,343.97167323409832,2, 314.6947,3,    341.6,2,     72.4,2,    28.19,2,     0.14,2,     1.91,2,     -999,9,     -999,9,     -999,9,     -999,9,     -999,9,     -999,9,     -999,     44.5,2,     -999,9,  -1.6363,2,     -999,9,     -999,9,     -999,     -999,9,    30.70,2,     -999,1,     -999,9,    0.172,1,    4.595,1,    0.196,1,     -999,9,     -999,9,20180318,0420, -69.2384, 170.6613,     -999,9,     -999,9,-999          ,9,     -999,9,     -999,9,     -999,     -999,9,     -999,     -999,9,     -999,9,     -999,9,     -999,9,     -999,9,     -999,9,     -999,9,     -999,9,     -999,9,     -999,9,     -999,9,     -999,9,     -999,9,     -999,9
320620180309  ,S04P       ,5       ,  1,32         ,32         ,2,20180318,0240, -69.2396, 170.6598,     2847,    100.5,-1.6324222222222222189,34.335952497768631,2,  34.3382,2,302.88062009328416,3, 319.5000,3,    299.7,2,     78.0,2,    30.34,2,     0.11,2,     2.07,2,    4.332,2,    2.390,2,   2.8900,2,   2224.8,2,  2326.53,2,   7.6070,2,    24.95,     42.4,2,     -999,9,  -1.6486,2,     -999,9,     -999,9,     -999,     -999,9,     -999,9,     -999,1,     -999,9,    0.105,1,    4.661,1,    0.157,1,  19.3300,2,     -999,9,20180318,0417, -69.2384, 170.6614,     -999,9,     -999,9,-999          ,9,     -999,9,     -999,9,     -999,     -999,9,     -999,     -999,9,     -999,9,     -999,9,     -999,9,     -999,9,     -999,9,     -999,9,     -999,9,     -999,9,     -999,9,     -999,9,     -999,9,     -999,9,     -999,9
320620180309  ,S04P       ,5       ,  1,31         ,31         ,2,20180318,0240, -69.2396, 170.6598,     2847,    124.1,-1.8265194444444448063,34.381260916711355,2,  34.3807,2,303.83644883520731,2, 301.7998,2,    303.5,2,     78.2,2,    30.62,2,     0.04,2,     2.07,2,     -999,9,     -999,9,     -999,9,     -999,9,     -999,9,     -999,9,     -999,     -999,9,     -999,9,  -1.8279,2,     -999,9,     -999,9,     -999,     -999,9,     -999,9,     -999,9,     -999,9,    0.082,1,    4.672,1,    0.146,1,     -999,9,     -999,9,20180318,0415, -69.2385, 170.6612,     -999,9,     -999,9,-999          ,9,     -999,9,     -999,9,     -999,     -999,9,     -999,     -999,9,     -999,9,     -999,9,     -999,9,     -999,9,     -999,9,     -999,9,     -999,9,     -999,9,     -999,9,     -999,9,     -999,9,     -999,9,     -999,9
320620180309  ,S04P       ,5       ,  1,30         ,30         ,2,20180318,0240, -69.2396, 170.6598,     2847,    151.1,-1.8292305555555559149,34.386054228958670,2,  34.3841,2,304.53290190321678,2, 302.8991,2,    303.1,2,     78.3,2,    30.63,2,     0.03,2,     2.08,2,     -999,9,     -999,9,     -999,9,   2225.8,2,  2329.55,2,   7.6042,2,    24.95,     38.3,3,     -999,9,  -1.8298,2,     -999,9,     -999,9,     -999,     -999,9,    32.60,2,     -999,1,     -999,9,    0.079,1,    4.676,1,    0.154,1,     -999,9,     -999,9,20180318,0413, -69.2386, 170.6611,     -999,9,     -999,9,-999          ,9,     -999,9,     -999,9,     -999,     -999,9,     -999,     -999,9,     -999,9,     -999,9,     -999,9,     -999,9,     -999,9,     -999,9,     -999,9,     -999,9,     -999,9,     -999,9,     -999,9,     -999,9,     -999,9
320620180309  ,S04P       ,5       ,  1,29         ,29         ,2,20180318,0240, -69.2396, 170.6598,     2847,    174.7,-1.8149138888888889376,34.399388851417591,2,  34.3978,2,300.82915514786350,2, 302.4011,2,    298.4,2,     78.8,2,    30.79,2,     0.00,2,     2.12,2,     -999,9,     -999,9,     -999,9,     -999,9,     -999,9,     -999,9,     -999,     -999,9,     -999,9,  -1.8151,2,     -999,9,     -999,9,     -999,     -999,9,     -999,9,     -999,9,     -999,9,    0.072,1,    4.678,1,    0.138,1,     -999,9,     -999,9,20180318,0411, -69.2387, 170.6610,     -999,9,     -999,9,-999          ,9,     -999,9,     -999,9,     -999,     -999,9,     -999,     -999,9,     -999,9,     -999,9,     -999,9,     -999,9,     -999,9,     -999,9,     -999,9,     -999,9,     -999,9,     -999,9,     -999,9,     -999,9,     -999,9
320620180309  ,S04P       ,5       ,  1,28         ,28         ,2,20180318,0240, -69.2396, 170.6598,     2847,    200.7,-1.6565305555555553951,34.420279857347232,2,  34.4182,2,282.70721871951849,2, 286.5995,2,    284.0,2,     80.8,2,    31.01,2,     0.00,2,     2.15,2,    3.853,2,    2.137,2,   2.6900,2,   2234.3,2,  2330.95,2,   7.5937,2,    24.95,     41.0,2,     -999,9,  -1.6581,2,     -999,9,     -999,9,     -999,     -999,9,    33.10,2,     -999,1,     -999,9,    0.072,1,    4.678,1,    0.143,1,  19.5500,2,     -999,9,20180318,0409, -69.2388, 170.6609,     -999,9,     -999,9,-999          ,9,     -999,9,     -999,9,     -999,     -999,9,     -999,     -999,9,     -999,9,     -999,9,     -999,9,     -999,9,     -999,9,     -999,9,     -999,9,     -999,9,     -999,9,     -999,9,     -999,9,     -999,9,     -999,9
320620180309  ,S04P       ,5       ,  1,27         ,27         ,2,20180318,0240, -69.2396, 170.6598,     2847,    225.6,-1.2188055555555559195,34.465825834160164,2,  34.4624,2,267.45203315997924,2, 265.1028,2,    266.8,2,     83.9,2,    31.29,2,     0.00,2,     2.16,2,     -999,9,     -999,9,     -999,9,     -999,9,     -999,9,     -999,9,     -999,     -999,9,     -999,9,  -1.2199,2,     -999,9,     -999,9,     -999,     -999,9,     -999,9,     -999,9,     -999,9,    0.070,1,    4.678,1,    0.143,1,     -999,9,     -999,9,20180318,0407, -69.2388, 170.6610,     -999,9,     -999,9,-999          ,9,     -999,9,     -999,9,     -999,     -999,9,     -999,     -999,9,     -999,9,     -999,9,     -999,9,     -999,9,     -999,9,     -999,9,     -999,9,     -999,9,     -999,9,     -999,9,     -999,9,     -999,9,     -999,9
320620180309  ,S04P       ,5       ,  1,26         ,26         ,2,20180318,0240, -69.2396, 170.6598,     2847,    250.8,-0.8465138888888890101,34.498789961797172,2,  34.4979,2,253.78434200540428,2, 248.9012,2,    255.7,2,     86.1,2,    31.50,2,     0.00,2,     2.18,2,     -999,9,     -999,9,     -999,9,   2242.0,2,  2335.29,2,   7.5859,2,    24.96,     43.6,2,     -999,9,  -0.8477,2,     -999,9,     -999,9,     -999,     -999,9,    33.80,2,     -999,1,     -999,9,    0.066,1,    4.679,1,    0.142,1,     -999,9,     -999,9,20180318,0405, -69.2387, 170.6611,     -999,9,     -999,9,-999          ,9,     -999,9,     -999,9,     -999,     -999,9,     -999,     -999,9,     -999,9,     -999,9,     -999,9,     -999,9,     -999,9,     -999,9,     -999,9,     -999,9,     -999,9,     -999,9,     -999,9,     -999,9,     -999,9
320620180309  ,S04P       ,5       ,  1,25         ,25         ,2,20180318,0240, -69.2396, 170.6598,     2847,    302.8,0.1168333333333333446,34.593678384156782,2,  34.5928,2,224.56662652416151,2, 214.9002,2,    223.5,2,     93.6,2,    32.14,2,     0.00,2,     2.23,2,    1.749,2,    0.942,2,   1.1300,2,     -999,9,     -999,9,     -999,9,     -999,     43.0,2,     -999,9,   0.1178,2,     -999,9,     -999,9,     -999,     -999,9,     -999,9,     -999,1,     -999,9,    0.063,1,    4.679,1,    0.144,1,  20.8500,2,     -999,9,20180318,0403, -69.2388, 170.6610,     -999,9,     -999,9,-999          ,9,     -999,9,     -999,9,     -999,     -999,9,     -999,     -999,9,     -999,9,     -999,9,     -999,9,     -999,9,     -999,9,     -999,9,     -999,9,     -999,9,     -999,9,     -999,9,     -999,9,     -999,9,     -999,9
320620180309  ,S04P       ,5       ,  1,24         ,24         ,2,20180318,0240, -69.2396, 170.6598,     2847,    351.9,0.5332555555555553717,34.643721759898305,2,  34.6425,2,209.24190299259351,2, 203.4990,2,    210.4,2,     97.4,2,    32.34,2,     0.00,2,     2.25,2,     -999,9,     -999,9,     -999,9,   2254.9,2,  2348.28,2,   7.5762,2,    24.96,     -999,9,     -999,9,   0.5336,2,     -999,9,     -999,9,     -999,     -999,9,     -999,9,     -999,9,     -999,9,    0.062,1,    4.680,1,    0.140,1,     -999,9,     -999,9,20180318,0401, -69.2388, 170.6609,     -999,9,     -999,9,-999          ,9,     -999,9,     -999,9,     -999,     -999,9,     -999,     -999,9,     -999,9,     -999,9,     -999,9,     -999,9,     -999,9,     -999,9,     -999,9,     -999,9,     -999,9,     -999,9,     -999,9,     -999,9,     -999,9
320620180309  ,S04P       ,5       ,  1,23         ,23         ,2,20180318,0240, -69.2396, 170.6598,     2847,    403.5,0.7497388888888889547,34.671664336110744,2,  34.6715,2,206.58683017830282,3, 202.0984,2,    203.3,2,    101.0,2,    32.44,2,     0.00,2,     2.26,2,     -999,9,     -999,9,     -999,9,     -999,9,     -999,9,     -999,9,     -999,     44.0,2,     -999,9,   0.7482,2,     -999,9,     -999,9,     -999,     -999,9,     -999,9,     -999,1,     -999,9,    0.063,1,    4.681,1,    0.139,1,     -999,9,     -999,9,20180318,0358, -69.2389, 170.6609,     -999,9,     -999,9,-999          ,9,     -999,9,     -999,9,     -999,     -999,9,     -999,     -999,9,     -999,9,     -999,9,     -999,9,     -999,9,     -999,9,     -999,9,     -999,9,     -999,9,     -999,9,     -999,9,     -999,9,     -999,9,     -999,9
320620180309  ,S04P       ,5       ,  1,22         ,22         ,2,20180318,0240, -69.2396, 170.6598,     2847,    453.2,0.7299083333333332702,34.676118139199303,2,  34.6731,2,204.38433129287992,2, 200.6004,2,    204.4,2,    102.6,2,    32.43,2,     0.00,2,     2.25,2,     -999,9,     -999,9,     -999,9,   2259.1,2,  2352.36,2,   7.5808,2,    24.95,     -999,9,     -999,9,   0.7258,2,     -999,9,     -999,9,     -999,     -999,9,     -999,9,     -999,9,     -999,9,    0.062,1,    4.683,1,    0.139,1,     -999,9,     -999,9,20180318,0356, -69.2388, 170.6610,     -999,9,     -999,9,-999          ,9,     -999,9,     -999,9,     -999,     -999,9,     -999,     -999,9,     -999,9,     -999,9,     -999,9,     -999,9,     -999,9,     -999,9,     -999,9,     -999,9,     -999,9,     -999,9,     -999,9,     -999,9,     -999,9
320620180309  ,S04P       ,5       ,  1,21         ,21         ,2,20180318,0240, -69.2396, 170.6598,     2847,    506.5,0.8285694444444443585,34.693936247543810,2,  34.6911,2,202.10622223959351,2, 199.4951,2,    200.6,2,    106.9,2,    32.45,2,     0.00,2,     2.26,2,     -999,9,     -999,9,     -999,9,     -999,9,     -999,9,     -999,9,     -999,     43.3,2,     -999,9,   0.8445,2,     -999,9,     -999,9,     -999,     -999,9,     -999,9,     -999,1,     -999,9,    0.062,1,    4.684,1,    0.139,1,     -999,9,     -999,9,20180318,0353, -69.2389, 170.6609,     -999,9,     -999,9,-999          ,9,     -999,9,     -999,9,     -999,     -999,9,     -999,     -999,9,     -999,9,     -999,9,     -999,9,     -999,9,     -999,9,     -999,9,     -999,9,     -999,9,     -999,9,     -999,9,     -999,9,     -999,9,     -999,9
320620180309  ,S04P       ,5       ,  1,20         ,20         ,2,20180318,0240, -69.2396, 170.6598,     2847,    605.8,0.8103083333333332972,34.698111499479836,2,  34.6966,2,201.07448078190808,2, 199.5036,2,    201.5,2,    110.5,2,    32.50,2,     0.00,2,     2.26,2,    0.503,2,    0.286,2,   0.2400,2,   2259.4,2,  2357.16,2,   7.5847,6,    24.94,     42.5,2,     -999,9,   0.8059,2,     -999,9,     -999,9,     -999,     -999,9,     -999,9,     -999,1,     -999,9,    0.061,1,    4.684,1,    0.135,1,  21.0400,2,     -999,9,20180318,0350, -69.2391, 170.6607,     -999,9,     -999,9,-999          ,9,     -999,9,     -999,9,     -999,     -999,9,     -999,     -999,9,     -999,9,     -999,9,     -999,9,     -999,9,     -999,9,     -999,9,     -999,9,     -999,9,     -999,9,     -999,9,     -999,9,     -999,9,     -999,9
320620180309  ,S04P       ,5       ,  1,19         ,19         ,2,20180318,0240, -69.2396, 170.6598,     2847,    706.5,0.6981249999999999956,34.692764332196212,2,  34.6950,2,201.20686720150917,3, 198.9023,2,    204.2,2,    111.6,2,    32.50,2,     0.00,2,     2.26,2,     -999,9,     -999,9,     -999,9,   2261.0,6,  2358.35,2,   7.5860,2,    24.95,     41.3,2,     -999,9,   0.6970,2,     -999,9,     -999,9,     -999,     -999,9,     -999,9,     -999,1,     -999,9,    0.061,1,    4.685,1,    0.133,1,     -999,9,     -999,9,20180318,0347, -69.2393, 170.6605,     -999,9,     -999,9,-999          ,9,     -999,9,     -999,9,     -999,     -999,9,     -999,     -999,9,     -999,9,     -999,9,     -999,9,     -999,9,     -999,9,     -999,9,     -999,9,     -999,9,     -999,9,     -999,9,     -999,9,     -999,9,     -999,9
320620180309  ,S04P       ,5       ,  1,18         ,18         ,2,20180318,0240, -69.2396, 170.6598,     2847,    809.3,0.6475083333333334634,34.691388263152881,2,  34.6915,2,205.62547296150956,2, 203.6016,2,    205.7,2,    112.8,2,    32.50,2,     0.00,2,     2.26,2,     -999,9,     -999,9,     -999,9,   2259.8,2,  2358.63,2,   7.5877,2,    24.99,     39.6,2,     -999,9,   0.6469,2,     -999,9,     -999,9,     -999,     -999,9,     -999,9,     -999,1,     -999,9,    0.061,1,    4.685,1,    0.132,1,     -999,9,     -999,9,20180318,0344, -69.2397, 170.6601,     -999,9,     -999,9,-999          ,9,     -999,9,     -999,9,     -999,     -999,9,     -999,     -999,9,     -999,9,     -999,9,     -999,9,     -999,9,     -999,9,     -999,9,     -999,9,     -999,9,     -999,9,     -999,9,     -999,9,     -999,9,     -999,9
320620180309  ,S04P       ,5       ,  1,17         ,17         ,2,20180318,0240, -69.2396, 170.6598,     2847,    911.2,0.5876222222222220459,34.691532779614015,2,  34.6909,2,206.96137697447506,2, 205.2030,2,    206.3,2,    114.6,2,    32.57,2,     0.00,2,     2.26,2,     -999,9,     -999,9,     -999,9,   2259.8,2,  2359.45,2,   7.5882,2,    24.97,     38.6,2,     -999,9,   0.5856,2,     -999,9,     -999,9,     -999,     -999,9,     -999,9,     -999,1,     -999,9,    0.061,1,    4.684,1,    0.133,1,     -999,9,     -999,9,20180318,0341, -69.2398, 170.6599,     -999,9,     -999,9,-999          ,9,     -999,9,     -999,9,     -999,     -999,9,     -999,     -999,9,     -999,9,     -999,9,     -999,9,     -999,9,     -999,9,     -999,9,     -999,9,     -999,9,     -999,9,     -999,9,     -999,9,     -999,9,     -999,9
320620180309  ,S04P       ,5       ,  1,16         ,16         ,2,20180318,0240, -69.2396, 170.6598,     2847,   1012.9,0.6242888888888887822,34.699762227050151,2,  34.6992,2,206.54211687070872,2, 205.0908,2,    205.4,2,    119.4,2,    32.65,2,     0.00,2,     2.25,2,    0.370,2,    0.199,2,   0.2200,2,     -999,9,     -999,9,     -999,9,     -999,     39.5,2,     -999,9,   0.6228,2,     -999,9,     -999,9,     -999,     -999,9,     -999,9,     -999,1,     -999,9,    0.061,1,    4.685,1,    0.132,1,  20.4900,2,     -999,9,20180318,0337, -69.2402, 170.6595,     -999,9,     -999,9,-999          ,9,     -999,9,     -999,9,     -999,     -999,9,     -999,     -999,9,     -999,9,     -999,9,     -999,9,     -999,9,     -999,9,     -999,9,     -999,9,     -999,9,     -999,9,     -999,9,     -999,9,     -999,9,     -999,9