BOTTLE,20240515CCHHYDRO
EXPOCODE,SECT_ID,STNNBR,CASTNO,SAMPNO,BTLNBR,BTLNBR_FLAG_W,DATE,TIME,LATITUDE,LONGITUDE,DEPTH,CTDPRS,CTDTMP,CTDSAL,CTDSAL_FLAG_W,SALNTY,SALNTY_FLAG_W,CTDOXY,CTDOXY_FLAG_W,CTDOPTOXY,CTDOPTOXY_FLAG_W,OXYGEN,OXYGEN_FLAG_W,SILCAT,SILCAT_FLAG_W,NITRAT,NITRAT_FLAG_W,NITRIT,NITRIT_FLAG_W,PHSPHT,PHSPHT_FLAG_W,CFC-11,CFC-11_FLAG_W,CFC-12,CFC-12_FLAG_W,SF6,SF6_FLAG_W,TCARBN,TCARBN_FLAG_W,ALKALI,ALKALI_FLAG_W,PH_TOT,PH_TOT_FLAG_W,PH_TMP,DOC,DOC_FLAG_W,HELIUM,HELIUM_FLAG_W,REFTMP,REFTMP_FLAG_W,DELC13,DELC13_FLAG_W,DELC14,DELC14_FLAG_W,C14ERR,POC,POC_FLAG_W,TDN,TDN_FLAG_W,TON,TON_FLAG_W,NEON,NEON_FLAG_W,CTDFLUOR,CTDFLUOR_FLAG_W,CTDXMISS,CTDXMISS_FLAG_W,CTDBETA700,CTDBETA700_FLAG_W,N2O,N2O_FLAG_W,ARGON,ARGON_FLAG_W,BTL_DATE,BTL_TIME,BTL_LAT,BTL_LON,KRYPTON,KRYPTON_FLAG_W,XENON,XENON_FLAG_W,HPLC,HPLC_FLAG_W,HE3_HE4_RATIO,HE3_HE4_RATIO_FLAG_W,Nd_143_144_D_EPSILON_BOTTLE,Nd_143_144_D_EPSILON_BOTTLE_FLAG_W,Nd_143_144_D_EPSILON_BOTTLE_ERROR,Nd_143_144_D_RATIO_BOTTLE,Nd_143_144_D_RATIO_BOTTLE_FLAG_W,Nd_143_144_D_RATIO_BOTTLE_ERROR,Nd_D_CONC,Nd_D_CONC_FLAG_W,La_D_CONC_BOTTLE,La_D_CONC_BOTTLE_FLAG_W,Ce_D_CONC_BOTTLE,Ce_D_CONC_BOTTLE_FLAG_W,Pr_D_CONC_BOTTLE,Pr_D_CONC_BOTTLE_FLAG_W,Sm_D_CONC_BOTTLE,Sm_D_CONC_BOTTLE_FLAG_W,Eu_D_CONC_BOTTLE,Eu_D_CONC_BOTTLE_FLAG_W,Gd_D_CONC_BOTTLE,Gd_D_CONC_BOTTLE_FLAG_W,Tb_D_CONC_BOTTLE,Tb_D_CONC_BOTTLE_FLAG_W,Dy_D_CONC_BOTTLE,Dy_D_CONC_BOTTLE_FLAG_W,Ho_D_CONC_BOTTLE,Ho_D_CONC_BOTTLE_FLAG_W,Er_D_CONC_BOTTLE,Er_D_CONC_BOTTLE_FLAG_W,Tm_D_CONC_BOTTLE,Tm_D_CONC_BOTTLE_FLAG_W,Yb_D_CONC_BOTTLE,Yb_D_CONC_BOTTLE_FLAG_W,Lu_D_CONC_BOTTLE,Lu_D_CONC_BOTTLE_FLAG_W
,,,,,,,,,,,METERS,DBAR,ITS-90,PSS-78,,PSS-78,,UMOL/KG,,UMOL/KG,,UMOL/KG,,UMOL/KG,,UMOL/KG,,UMOL/KG,,UMOL/KG,,PMOL/KG,,PMOL/KG,,FMOL/KG,,UMOL/KG,,UMOL/KG,,,,DEG C,UMOL/KG,,NMOL/L,,DEG C,,/MILLE,,/MILLE,,/MILLE,UG/KG,,UMOL/KG,,UMOL/KG,,NMOL/L,,VOLTS,,VOLTS,,VOLTS,,NMOL/KG,,UMOL/L,,,,,,NMOL/L,,NMOL/L,,,,,,10000,,10000,,,,PMOL/KG,,PMOL/L,,PMOL/L,,PMOL/L,,PMOL/L,,PMOL/L,,PMOL/L,,PMOL/L,,PMOL/L,,PMOL/L,,PMOL/L,,PMOL/L,,PMOL/L,,PMOL/L,
320620180309  ,S04P       ,92      ,  1,15         ,15         ,2,20180426,0441, -66.9998,-112.9043,     4576,   1351.3,1.3978776837063024985,34.730508237905823,2,  34.7306,2,194.58612010577900,2, 194.6064,2,    194.3,2,    102.8,2,    31.82,2,     0.00,2,     2.18,2,    0.179,2,    0.085,2,   0.0500,2,   2259.7,2,  2360.14,2,   7.5972,6,    24.89,     -999,9,     -999,9,   1.3994,2,     -999,9,     -999,9,     -999,     -999,9,     -999,9,     -999,9,     -999,9,    0.061,1,    4.654,1,    0.132,1,  19.7900,2,     -999,9,20180426,0559, -67.0000,-112.9047,     -999,9,     -999,9,-999          ,9,     -999,9,     -999,9,     -999,     -999,9,     -999,     -999,9,     -999,9,     -999,9,     -999,9,     -999,9,     -999,9,     -999,9,     -999,9,     -999,9,     -999,9,     -999,9,     -999,9,     -999,9,     -999,9
320620180309  ,S04P       ,92      ,  1,14         ,14         ,2,20180426,0441, -66.9998,-112.9043,     4576,   1453.6,1.3206351807278871036,34.728736441134586,2,  34.7292,2,195.60206854416424,2, 196.0982,2,    196.4,2,    105.6,2,    31.88,2,     0.00,2,     2.17,2,    0.164,2,    0.080,2,   0.0300,2,   2258.6,2,  2360.50,2,   7.5978,2,    24.89,     41.8,2,     -999,9,   1.3207,2,     -999,9,     -999,9,     -999,     -999,9,     -999,9,     -999,1,     -999,9,    0.061,1,    4.654,1,    0.129,1,  19.3300,2,     -999,9,20180426,0556, -67.0000,-112.9048,     -999,9,     -999,9,-999          ,9,     -999,9,     -999,9,     -999,     -999,9,     -999,     -999,9,     -999,9,     -999,9,     -999,9,     -999,9,     -999,9,     -999,9,     -999,9,     -999,9,     -999,9,     -999,9,     -999,9,     -999,9,     -999,9
320620180309  ,S04P       ,92      ,  1,13         ,13         ,2,20180426,0441, -66.9998,-112.9043,     4576,   1556.4,1.2497199546855495278,34.726676934667118,2,  34.7266,2,196.48446477465694,2, 197.3015,2,    196.9,2,    108.2,2,    31.95,2,     0.00,2,     2.18,2,    0.158,2,    0.078,2,   0.0000,2,   2260.3,2,  2362.38,3,   7.5987,2,    24.89,     -999,9,     -999,9,   1.2497,2,     -999,9,     -999,9,     -999,     -999,9,     -999,9,     -999,9,     -999,9,    0.062,1,    4.654,1,    0.131,1,  19.4300,2,     -999,9,20180426,0552, -67.0000,-112.9047,     -999,9,     -999,9,-999          ,9,     -999,9,     -999,9,     -999,     -999,9,     -999,     -999,9,     -999,9,     -999,9,     -999,9,     -999,9,     -999,9,     -999,9,     -999,9,     -999,9,     -999,9,     -999,9,     -999,9,     -999,9,     -999,9
320620180309  ,S04P       ,92      ,  1,12         ,12         ,2,20180426,0441, -66.9998,-112.9043,     4576,   1688.5,1.1760213343932950369,34.723846100001047,2,  34.7241,2,198.59287095480303,2, 198.7059,2,    198.7,2,    110.5,2,    31.99,2,     0.00,2,     2.19,2,     -999,9,     -999,9,     -999,9,   2259.3,2,  2361.91,2,   7.6005,2,    24.90,     42.7,2,     -999,9,   1.1760,2,     -999,9,     -999,9,     -999,     -999,9,     -999,9,     -999,1,     -999,9,    0.061,1,    4.653,1,    0.130,1,     -999,9,     -999,9,20180426,0549, -66.9998,-112.9044,     -999,9,     -999,9,-999          ,9,     -999,9,     -999,9,     -999,     -999,9,     -999,     -999,9,     -999,9,     -999,9,     -999,9,     -999,9,     -999,9,     -999,9,     -999,9,     -999,9,     -999,9,     -999,9,     -999,9,     -999,9,     -999,9
320620180309  ,S04P       ,92      ,  1,11         ,11         ,2,20180426,0441, -66.9998,-112.9043,     4576,   1891.0,1.0727567907501958100,34.719913413582866,2,  34.7204,2,200.80213329440298,2, 200.6975,2,    201.0,2,    114.2,2,    32.09,2,     0.00,2,     2.19,2,    0.148,6,    0.079,6,   0.0000,6,   2262.0,2,  2364.32,2,   7.5999,2,    24.91,     40.1,2,     -999,9,   1.0728,2,     -999,9,     -999,9,     -999,     -999,9,     -999,9,     -999,1,     -999,9,    0.060,1,    4.654,1,    0.129,1,  18.7700,6,     -999,9,20180426,0544, -66.9999,-112.9046,     -999,9,     -999,9,-999          ,9,     -999,9,     -999,9,     -999,     -999,9,     -999,     -999,9,     -999,9,     -999,9,     -999,9,     -999,9,     -999,9,     -999,9,     -999,9,     -999,9,     -999,9,     -999,9,     -999,9,     -999,9,     -999,9
320620180309  ,S04P       ,92      ,  1,10         ,10         ,2,20180426,0441, -66.9998,-112.9043,     4576,   2114.8,0.9577891339318436170,34.715279265908848,2,  34.7160,2,202.87549179389831,2, 202.9007,2,    203.5,2,    118.5,2,    32.22,2,     0.00,2,     2.20,2,     -999,9,     -999,9,     -999,9,   2262.4,2,  2364.47,2,   7.5988,2,    24.85,     39.3,2,     -999,9,   0.9585,2,     -999,9,     -999,9,     -999,     -999,9,     -999,9,     -999,1,     -999,9,    0.061,1,    4.654,1,    0.129,1,     -999,9,     -999,9,20180426,0539, -66.9999,-112.9045,     -999,9,     -999,9,-999          ,9,     -999,9,     -999,9,     -999,     -999,9,     -999,     -999,9,     -999,9,     -999,9,     -999,9,     -999,9,     -999,9,     -999,9,     -999,9,     -999,9,     -999,9,     -999,9,     -999,9,     -999,9,     -999,9
320620180309  ,S04P       ,92      ,  1,9          ,9          ,2,20180426,0441, -66.9998,-112.9043,     4576,   2370.0,0.8592294541481494408,34.711396676459849,2,  34.7117,2,204.70721815399099,2, 204.9954,2,    204.5,2,    122.2,2,    32.34,2,     0.00,2,     2.21,2,    0.176,2,    0.091,2,   0.0100,2,   2262.2,6,  2364.51,2,   7.5993,2,    24.86,     40.2,2,     -999,9,   0.8590,2,     -999,9,     -999,9,     -999,     -999,9,     -999,9,     -999,1,     -999,9,    0.060,1,    4.654,1,    0.128,1,  18.8800,2,     -999,9,20180426,0533, -66.9997,-112.9041,     -999,9,     -999,9,-999          ,9,     -999,9,     -999,9,     -999,     -999,9,     -999,     -999,9,     -999,9,     -999,9,     -999,9,     -999,9,     -999,9,     -999,9,     -999,9,     -999,9,     -999,9,     -999,9,     -999,9,     -999,9,     -999,9
320620180309  ,S04P       ,92      ,  1,8          ,8          ,2,20180426,0441, -66.9998,-112.9043,     4576,   2625.2,0.7743245554244116979,34.708027821764482,2,  34.7078,2,206.50213945058903,2, 206.6989,2,    206.3,2,    125.3,2,    32.46,2,     0.00,2,     2.22,2,     -999,9,     -999,9,     -999,9,   2262.4,2,  2365.24,2,   7.5978,2,    24.87,     42.3,2,     -999,9,   0.7741,2,     -999,9,     -999,9,     -999,     -999,9,     -999,9,     -999,1,     -999,9,    0.060,1,    4.654,1,    0.130,1,     -999,9,     -999,9,20180426,0527, -66.9999,-112.9045,     -999,9,     -999,9,-999          ,9,     -999,9,     -999,9,     -999,     -999,9,     -999,     -999,9,     -999,9,     -999,9,     -999,9,     -999,9,     -999,9,     -999,9,     -999,9,     -999,9,     -999,9,     -999,9,     -999,9,     -999,9,     -999,9
320620180309  ,S04P       ,92      ,  1,7          ,7          ,2,20180426,0441, -66.9998,-112.9043,     4576,   2881.8,0.6824383839601633195,34.705160386677306,2,  34.7060,2,208.17180460339262,2, 208.1974,2,    208.3,2,    127.5,2,    32.55,2,     0.00,2,     2.22,2,    0.228,2,    0.122,2,   0.0700,2,   2262.4,2,  2364.14,2,   7.5974,2,    24.86,     39.4,2,     -999,9,   0.6825,2,     -999,9,     -999,9,     -999,     -999,9,     -999,9,     -999,1,     -999,9,    0.061,1,    4.654,1,    0.127,1,  18.7100,2,     -999,9,20180426,0522, -66.9997,-112.9040,     -999,9,     -999,9,-999          ,9,     -999,9,     -999,9,     -999,     -999,9,     -999,     -999,9,     -999,9,     -999,9,     -999,9,     -999,9,     -999,9,     -999,9,     -999,9,     -999,9,     -999,9,     -999,9,     -999,9,     -999,9,     -999,9
320620180309  ,S04P       ,92      ,  1,6          ,6          ,2,20180426,0441, -66.9998,-112.9043,     4576,   3153.9,0.5865741265062967003,34.703233640075744,2,  34.7037,2,210.38672990275862,2, 209.8974,2,    210.1,2,    130.1,2,    32.70,2,     0.00,2,     2.22,2,    0.242,2,    0.124,2,   0.0000,2,   2263.6,2,  2364.40,2,   7.5967,2,    24.87,     40.7,2,     -999,9,   0.5859,2,     -999,9,     -999,9,     -999,     -999,9,     -999,9,     -999,1,     -999,9,    0.061,1,    4.655,1,    0.126,1,  19.1000,2,     -999,9,20180426,0516, -66.9999,-112.9045,     -999,9,     -999,9,-999          ,9,     -999,9,     -999,9,     -999,     -999,9,     -999,     -999,9,     -999,9,     -999,9,     -999,9,     -999,9,     -999,9,     -999,9,     -999,9,     -999,9,     -999,9,     -999,9,     -999,9,     -999,9,     -999,9
320620180309  ,S04P       ,92      ,  1,5          ,5          ,2,20180426,0441, -66.9998,-112.9043,     4576,   3462.9,0.4841842016180669117,34.701398487357032,2,  34.7013,2,212.60293875756051,2, 212.4017,2,    212.6,2,    132.5,2,    32.72,2,     0.00,2,     2.23,2,    0.295,2,    0.158,2,   0.0300,2,   2263.9,2,  2365.34,2,   7.5960,2,    24.85,     39.0,2,     -999,9,   0.4843,2,     -999,9,     -999,9,     -999,     -999,9,     -999,9,     -999,1,     -999,9,    0.060,1,    4.654,1,    0.128,1,  18.4100,2,     -999,9,20180426,0509, -66.9997,-112.9041,     -999,9,     -999,9,-999          ,9,     -999,9,     -999,9,     -999,     -999,9,     -999,     -999,9,     -999,9,     -999,9,     -999,9,     -999,9,     -999,9,     -999,9,     -999,9,     -999,9,     -999,9,     -999,9,     -999,9,     -999,9,     -999,9
320620180309  ,S04P       ,92      ,  1,4          ,4          ,2,20180426,0441, -66.9998,-112.9043,     4576,   3768.9,0.4195362926594887742,34.700225308343832,2,  34.7002,2,214.20017361971460,2, 214.0956,2,    213.7,2,    135.2,2,    32.79,2,     0.00,2,     2.23,2,    0.338,2,    0.179,2,   0.0100,2,   2264.9,2,  2365.31,2,   7.5959,2,    24.89,     39.8,2,     -999,9,   0.4195,2,     -999,9,     -999,9,     -999,     -999,9,     -999,9,     -999,1,     -999,9,    0.061,1,    4.653,1,    0.126,1,  18.8100,2,     -999,9,20180426,0502, -66.9998,-112.9043,     -999,9,     -999,9,-999          ,9,     -999,9,     -999,9,     -999,     -999,9,     -999,     -999,9,     -999,9,     -999,9,     -999,9,     -999,9,     -999,9,     -999,9,     -999,9,     -999,9,     -999,9,     -999,9,     -999,9,     -999,9,     -999,9
320620180309  ,S04P       ,92      ,  1,3          ,3          ,2,20180426,0441, -66.9998,-112.9043,     4576,   4077.7,0.3912109990780585078,34.699907378368927,2,  34.7000,2,215.32303890294057,2, 215.2950,2,    214.8,2,    138.6,2,    32.84,2,     0.00,2,     2.25,2,    0.363,2,    0.185,2,   0.0000,2,   2263.7,2,  2365.53,2,   7.5933,2,    24.87,     42.0,2,     -999,9,   0.3909,2,     -999,9,     -999,9,     -999,     -999,9,     -999,9,     -999,1,     -999,9,    0.061,1,    4.652,1,    0.127,1,  18.3600,2,     -999,9,20180426,0455, -66.9997,-112.9041,     -999,9,     -999,9,-999          ,9,     -999,9,     -999,9,     -999,     -999,9,     -999,     -999,9,     -999,9,     -999,9,     -999,9,     -999,9,     -999,9,     -999,9,     -999,9,     -999,9,     -999,9,     -999,9,     -999,9,     -999,9,     -999,9
320620180309  ,S04P       ,92      ,  1,2          ,2          ,2,20180426,0441, -66.9998,-112.9043,     4576,   4386.7,0.3833166038489335126,34.699105821388414,2,  34.6990,2,216.19194443622860,2, 215.6006,2,    215.8,2,    142.3,2,    32.94,2,     0.00,2,     2.25,2,    0.421,2,    0.222,2,   0.0600,2,   2265.3,2,  2366.50,2,   7.5937,2,    24.88,     -999,9,     -999,9,   0.3833,2,     -999,9,     -999,9,     -999,     -999,9,     -999,9,     -999,9,     -999,9,    0.061,1,    4.650,1,    0.129,1,  18.7900,2,     -999,9,20180426,0448, -66.9998,-112.9043,     -999,9,     -999,9,-999          ,9,     -999,9,     -999,9,     -999,     -999,9,     -999,     -999,9,     -999,9,     -999,9,     -999,9,     -999,9,     -999,9,     -999,9,     -999,9,     -999,9,     -999,9,     -999,9,     -999,9,     -999,9,     -999,9
320620180309  ,S04P       ,92      ,  1,1          ,1          ,2,20180426,0441, -66.9998,-112.9043,     4576,   4662.9,0.3769686775192389594,34.697800980012694,3,  34.7007,2,216.03656334543925,2, 216.0965,2,    216.2,2,    144.3,2,    32.99,2,     0.00,2,     2.25,2,    0.519,2,    0.268,2,   0.0200,2,   2265.6,6,  2366.13,2,   7.5946,2,    24.86,     41.2,2,     -999,9,   0.3769,2,     -999,9,     -999,9,     -999,     -999,9,     -999,9,     -999,1,     -999,9,    0.061,1,    4.636,1,    0.140,1,  18.5900,2,     -999,9,20180426,0441, -66.9998,-112.9043,     -999,9,     -999,9,-999          ,9,     -999,9,     -999,9,     -999,     -999,9,     -999,     -999,9,     -999,9,     -999,9,     -999,9,     -999,9,     -999,9,     -999,9,     -999,9,     -999,9,     -999,9,     -999,9,     -999,9,     -999,9,     -999,9