BOTTLE,20240515CCHHYDRO
EXPOCODE,SECT_ID,STNNBR,CASTNO,SAMPNO,BTLNBR,BTLNBR_FLAG_W,DATE,TIME,LATITUDE,LONGITUDE,DEPTH,CTDPRS,CTDTMP,CTDSAL,CTDSAL_FLAG_W,SALNTY,SALNTY_FLAG_W,CTDOXY,CTDOXY_FLAG_W,CTDOPTOXY,CTDOPTOXY_FLAG_W,OXYGEN,OXYGEN_FLAG_W,SILCAT,SILCAT_FLAG_W,NITRAT,NITRAT_FLAG_W,NITRIT,NITRIT_FLAG_W,PHSPHT,PHSPHT_FLAG_W,CFC-11,CFC-11_FLAG_W,CFC-12,CFC-12_FLAG_W,SF6,SF6_FLAG_W,TCARBN,TCARBN_FLAG_W,ALKALI,ALKALI_FLAG_W,PH_TOT,PH_TOT_FLAG_W,PH_TMP,DOC,DOC_FLAG_W,HELIUM,HELIUM_FLAG_W,REFTMP,REFTMP_FLAG_W,DELC13,DELC13_FLAG_W,DELC14,DELC14_FLAG_W,C14ERR,POC,POC_FLAG_W,TDN,TDN_FLAG_W,TON,TON_FLAG_W,NEON,NEON_FLAG_W,CTDFLUOR,CTDFLUOR_FLAG_W,CTDXMISS,CTDXMISS_FLAG_W,CTDBETA700,CTDBETA700_FLAG_W,N2O,N2O_FLAG_W,ARGON,ARGON_FLAG_W,BTL_DATE,BTL_TIME,BTL_LAT,BTL_LON,KRYPTON,KRYPTON_FLAG_W,XENON,XENON_FLAG_W,HPLC,HPLC_FLAG_W,HE3_HE4_RATIO,HE3_HE4_RATIO_FLAG_W,Nd_143_144_D_EPSILON_BOTTLE,Nd_143_144_D_EPSILON_BOTTLE_FLAG_W,Nd_143_144_D_EPSILON_BOTTLE_ERROR,Nd_143_144_D_RATIO_BOTTLE,Nd_143_144_D_RATIO_BOTTLE_FLAG_W,Nd_143_144_D_RATIO_BOTTLE_ERROR,Nd_D_CONC,Nd_D_CONC_FLAG_W,La_D_CONC_BOTTLE,La_D_CONC_BOTTLE_FLAG_W,Ce_D_CONC_BOTTLE,Ce_D_CONC_BOTTLE_FLAG_W,Pr_D_CONC_BOTTLE,Pr_D_CONC_BOTTLE_FLAG_W,Sm_D_CONC_BOTTLE,Sm_D_CONC_BOTTLE_FLAG_W,Eu_D_CONC_BOTTLE,Eu_D_CONC_BOTTLE_FLAG_W,Gd_D_CONC_BOTTLE,Gd_D_CONC_BOTTLE_FLAG_W,Tb_D_CONC_BOTTLE,Tb_D_CONC_BOTTLE_FLAG_W,Dy_D_CONC_BOTTLE,Dy_D_CONC_BOTTLE_FLAG_W,Ho_D_CONC_BOTTLE,Ho_D_CONC_BOTTLE_FLAG_W,Er_D_CONC_BOTTLE,Er_D_CONC_BOTTLE_FLAG_W,Tm_D_CONC_BOTTLE,Tm_D_CONC_BOTTLE_FLAG_W,Yb_D_CONC_BOTTLE,Yb_D_CONC_BOTTLE_FLAG_W,Lu_D_CONC_BOTTLE,Lu_D_CONC_BOTTLE_FLAG_W
,,,,,,,,,,,METERS,DBAR,ITS-90,PSS-78,,PSS-78,,UMOL/KG,,UMOL/KG,,UMOL/KG,,UMOL/KG,,UMOL/KG,,UMOL/KG,,UMOL/KG,,PMOL/KG,,PMOL/KG,,FMOL/KG,,UMOL/KG,,UMOL/KG,,,,DEG C,UMOL/KG,,NMOL/L,,DEG C,,/MILLE,,/MILLE,,/MILLE,UG/KG,,UMOL/KG,,UMOL/KG,,NMOL/L,,VOLTS,,VOLTS,,VOLTS,,NMOL/KG,,UMOL/L,,,,,,NMOL/L,,NMOL/L,,,,,,10000,,10000,,,,PMOL/KG,,PMOL/L,,PMOL/L,,PMOL/L,,PMOL/L,,PMOL/L,,PMOL/L,,PMOL/L,,PMOL/L,,PMOL/L,,PMOL/L,,PMOL/L,,PMOL/L,,PMOL/L,
320620180309  ,S04P       ,30      ,  1,15         ,15         ,2,20180329,2230, -66.9984,-170.5332,     3382,   1250.6,0.8338444444444443882,34.712262777672962,2,  34.7127,2,201.67387947308075,2, 201.2032,2,    201.5,2,    119.2,2,    32.36,2,     0.00,2,     2.25,2,    0.151,2,    0.068,2,   0.0600,2,   2263.5,2,  2363.13,2,   7.5944,2,    24.92,     39.7,2,     -999,9,   0.8330,2,0.60000000,2, -161.560,2,    0.002,     -999,9,     -999,9,     -999,1,     -999,9,    0.061,1,    4.675,1,    0.131,1,  19.6400,2,     -999,9,20180329,2331, -66.9992,-170.5294,     -999,9,     -999,9,-999          ,9,     -999,9,     -999,9,     -999,     -999,9,     -999,     -999,9,     -999,9,     -999,9,     -999,9,     -999,9,     -999,9,     -999,9,     -999,9,     -999,9,     -999,9,     -999,9,     -999,9,     -999,9,     -999,9
320620180309  ,S04P       ,30      ,  1,14         ,14         ,2,20180329,2230, -66.9984,-170.5332,     3382,   1352.9,0.7803111111111111775,34.709576073545207,2,  34.7094,2,203.46088330594040,2, 202.3031,2,    203.1,2,    119.7,2,    32.31,2,     0.00,2,     2.25,2,    0.198,2,    0.107,2,   0.2200,2,   2262.3,2,  2362.50,2,   7.5948,2,    24.93,     40.4,2,     -999,9,   0.7794,2,0.57000000,2, -165.950,3,    0.002,     -999,9,     -999,9,     -999,1,     -999,9,    0.061,1,    4.675,1,    0.130,1,  19.7800,2,     -999,9,20180329,2327, -66.9994,-170.5298,     -999,9,     -999,9,-999          ,9,     -999,9,     -999,9,     -999,     -999,9,     -999,     -999,9,     -999,1,     -999,1,     -999,1,     -999,1,     -999,1,     -999,1,     -999,1,     -999,1,     -999,1,     -999,1,     -999,1,     -999,1,     -999,1
320620180309  ,S04P       ,30      ,  1,13         ,13         ,2,20180329,2230, -66.9984,-170.5332,     3382,   1452.4,0.7413000000000000700,34.708731004562026,2,  34.7094,2,203.99723265719430,2, 203.9050,2,    203.4,2,    122.3,2,    32.38,2,     0.00,2,     2.25,2,     -999,9,     -999,9,     -999,9,   2263.6,2,  2362.45,2,   7.5969,6,    24.93,     40.4,2,     -999,1,   0.7416,2,0.59000000,2, -169.060,3,    0.002,     -999,9,     -999,9,     -999,1,     -999,1,    0.061,1,    4.675,1,    0.130,1,     -999,9,     -999,1,20180329,2324, -66.9992,-170.5302,     -999,1,     -999,1,-999          ,9,     -999,1,     -999,9,     -999,     -999,9,     -999,     -999,9,     -999,9,     -999,9,     -999,9,     -999,9,     -999,9,     -999,9,     -999,9,     -999,9,     -999,9,     -999,9,     -999,9,     -999,9,     -999,9
320620180309  ,S04P       ,30      ,  1,12         ,12         ,2,20180329,2230, -66.9984,-170.5332,     3382,   1554.4,0.6794777777777778471,34.705183684534852,2,  34.7068,2,205.43379196915569,2, 204.6951,2,    206.0,2,    122.5,2,    32.47,2,     0.00,2,     2.26,2,    0.237,2,    0.122,2,   0.2400,2,   2263.2,6,  2362.90,2,   7.5959,2,    24.92,     -999,9,     -999,9,   0.6795,2,0.62000000,2, -162.810,2,    0.002,     -999,9,     -999,9,     -999,9,     -999,9,    0.061,1,    4.675,1,    0.131,1,  19.8200,2,     -999,9,20180329,2321, -66.9987,-170.5315,     -999,9,     -999,9,-999          ,9,     -999,9,     -999,9,     -999,     -999,9,     -999,     -999,9,     -999,1,     -999,1,     -999,1,     -999,1,     -999,1,     -999,1,     -999,1,     -999,1,     -999,1,     -999,1,     -999,1,     -999,1,     -999,1
320620180309  ,S04P       ,30      ,  1,11         ,11         ,2,20180329,2230, -66.9984,-170.5332,     3382,   1657.4,0.6406833333333331604,34.703577061702902,2,  34.7045,2,206.80564833356220,2, 206.2983,2,    207.0,2,    123.2,2,    32.40,2,     0.00,2,     2.25,2,     -999,9,     -999,9,     -999,9,   2262.8,2,  2362.87,2,   7.5938,2,    24.93,     42.1,2,     -999,9,   0.6398,2,0.64000000,2, -159.460,2,    0.001,     -999,9,     -999,9,     -999,1,     -999,9,    0.061,1,    4.676,1,    0.128,1,     -999,9,     -999,9,20180329,2318, -66.9986,-170.5320,     -999,9,     -999,9,-999          ,9,     -999,9,     -999,9,     -999,     -999,9,     -999,     -999,9,     -999,9,     -999,9,     -999,9,     -999,9,     -999,9,     -999,9,     -999,9,     -999,9,     -999,9,     -999,9,     -999,9,     -999,9,     -999,9
320620180309  ,S04P       ,30      ,  1,10         ,10         ,2,20180329,2230, -66.9984,-170.5332,     3382,   1758.7,0.6040527777777776608,34.702528550555620,2,  34.7041,2,207.64027210192086,2, 207.6020,2,    207.9,2,    124.4,2,    32.48,2,     0.00,2,     2.27,2,    0.262,2,    0.141,2,   0.1700,2,   2262.9,2,  2365.16,3,   7.5967,2,    24.93,     -999,9,     -999,1,   0.6034,2,0.60000000,2, -161.200,2,    0.001,     -999,9,     -999,9,     -999,9,     -999,1,    0.061,1,    4.676,1,    0.128,1,  19.8100,2,     -999,1,20180329,2315, -66.9985,-170.5324,     -999,1,     -999,1,-999          ,9,     -999,1,     -999,9,     -999,     -999,9,     -999,     -999,9,     -999,1,     -999,1,     -999,1,     -999,1,     -999,1,     -999,1,     -999,1,     -999,1,     -999,1,     -999,1,     -999,1,     -999,1,     -999,1
320620180309  ,S04P       ,30      ,  1,9          ,9          ,2,20180329,2230, -66.9984,-170.5332,     3382,   1890.6,0.5497722222222223287,34.701032619782616,2,  34.7041,2,207.93556618167372,2, 209.0007,2,    208.3,2,    125.2,2,    32.50,2,     0.00,2,     2.28,2,    0.277,2,    0.137,2,   0.2200,2,   2262.5,2,  2364.19,2,   7.5932,2,    24.92,     41.5,2,     -999,9,   0.5496,2,0.63000000,2, -161.850,2,    0.002,     -999,9,     -999,9,     -999,1,     -999,9,    0.059,1,    4.676,1,    0.129,1,  19.7200,2,     -999,9,20180329,2311, -66.9986,-170.5316,     -999,9,     -999,9,-999          ,9,     -999,9,     -999,9,     -999,     -999,9,     -999,     -999,9,     -999,9,     -999,9,     -999,9,     -999,9,     -999,9,     -999,9,     -999,9,     -999,9,     -999,9,     -999,9,     -999,9,     -999,9,     -999,9
320620180309  ,S04P       ,30      ,  1,8          ,8          ,2,20180329,2230, -66.9984,-170.5332,     3382,   2095.1,0.4769361111111111717,34.699219332256199,3,  34.7013,2,209.82410967652112,2, 211.0945,2,    209.9,2,    126.9,2,    32.65,2,     0.00,2,     2.26,2,     -999,9,     -999,9,     -999,9,   2264.0,2,  2361.70,2,   7.5914,2,    24.92,     42.4,2,     -999,9,   0.4767,2,0.68000000,2, -161.160,2,    0.002,     -999,9,     -999,9,     -999,1,     -999,9,    0.060,1,    4.676,1,    0.128,1,     -999,9,     -999,9,20180329,2306, -66.9990,-170.5301,     -999,9,     -999,9,-999          ,9,     -999,9,     -999,9,     -999,     -999,9,     -999,     -999,9,     -999,1,     -999,1,     -999,1,     -999,1,     -999,1,     -999,1,     -999,1,     -999,1,     -999,1,     -999,1,     -999,1,     -999,1,     -999,1
320620180309  ,S04P       ,30      ,  1,7          ,7          ,2,20180329,2230, -66.9984,-170.5332,     3382,   2299.2,0.4101527777777778661,34.697313052162194,2,  34.6980,2,212.12044183175183,2, 213.0954,2,    212.3,2,    127.2,2,    32.59,2,     0.00,2,     2.27,2,    0.379,2,    0.205,2,   0.2500,2,   2262.7,2,  2365.72,3,   7.5997,2,    24.93,     41.5,2,     -999,1,   0.4095,2,0.62000000,2, -160.430,2,    0.001,     -999,9,     -999,9,     -999,1,     -999,1,    0.061,1,    4.676,1,    0.127,1,  19.4700,2,     -999,1,20180329,2300, -66.9992,-170.5296,     -999,1,     -999,1,-999          ,9,     -999,1,     -999,9,     -999,     -999,9,     -999,     -999,9,     -999,9,     -999,9,     -999,9,     -999,9,     -999,9,     -999,9,     -999,9,     -999,9,     -999,9,     -999,9,     -999,9,     -999,9,     -999,9
320620180309  ,S04P       ,30      ,  1,6          ,6          ,2,20180329,2230, -66.9984,-170.5332,     3382,   2504.6,0.3408583333333332632,34.693058377879368,2,  34.6933,2,214.79750213003180,2, 214.1988,2,    214.8,2,    125.8,2,    32.57,2,     0.00,2,     2.25,2,    0.553,2,    0.297,2,   0.2400,2,   2262.3,2,  2362.95,2,   7.5933,2,    24.93,     40.4,2,     -999,9,   0.3401,2,0.64000000,2, -161.180,2,    0.002,     -999,9,     -999,9,     -999,1,     -999,9,    0.061,1,    4.675,1,    0.127,1,  19.1000,2,     -999,9,20180329,2255, -66.9989,-170.5304,     -999,9,     -999,9,-999          ,9,     -999,9,     -999,9,     -999,     -999,9,     -999,     -999,9,     -999,1,     -999,1,     -999,1,     -999,1,     -999,1,     -999,1,     -999,1,     -999,1,     -999,1,     -999,1,     -999,1,     -999,1,     -999,1
320620180309  ,S04P       ,30      ,  1,5          ,5          ,2,20180329,2230, -66.9984,-170.5332,     3382,   2709.1,0.2780222222222222261,34.688743924243219,2,  34.6907,2,217.33262363505392,2, 217.0974,2,    217.4,2,    124.4,2,    32.63,2,     0.00,2,     2.26,2,    0.747,2,    0.407,2,   0.3000,2,   2261.2,2,  2360.93,2,   7.5947,2,    24.93,     42.7,2,     -999,9,   0.2779,2,0.63500000,6, -161.245,6,    0.002,     -999,9,     -999,9,     -999,1,     -999,9,    0.060,1,    4.675,1,    0.127,1,  19.1000,2,     -999,9,20180329,2250, -66.9988,-170.5311,     -999,9,     -999,9,-999          ,9,     -999,9,     -999,9,     -999,     -999,9,     -999,     -999,9,     -999,9,     -999,9,     -999,9,     -999,9,     -999,9,     -999,9,     -999,9,     -999,9,     -999,9,     -999,9,     -999,9,     -999,9,     -999,9
320620180309  ,S04P       ,30      ,  1,4          ,4          ,2,20180329,2230, -66.9984,-170.5332,     3382,   2913.0,0.2619638888888888295,34.687108184919190,2,  34.6882,2,218.70211139729969,2, 217.1948,2,    218.6,2,    123.6,2,    32.68,2,     0.00,2,     2.25,2,    0.824,2,    0.449,2,   0.3100,2,   2261.9,2,  2361.23,2,   7.5922,2,    24.93,     42.8,2,     -999,1,   0.2614,2,0.65000000,2, -159.070,2,    0.002,     -999,9,     -999,9,     -999,1,     -999,1,    0.061,1,    4.673,1,    0.128,1,  19.1200,2,     -999,1,20180329,2244, -66.9987,-170.5314,     -999,1,     -999,1,-999          ,9,     -999,1,     -999,9,     -999,     -999,9,     -999,     -999,9,     -999,1,     -999,1,     -999,1,     -999,1,     -999,1,     -999,1,     -999,1,     -999,1,     -999,1,     -999,1,     -999,1,     -999,1,     -999,1
320620180309  ,S04P       ,30      ,  1,3          ,3          ,2,20180329,2230, -66.9984,-170.5332,     3382,   3118.2,0.2544833333333333392,34.686246878485917,2,  34.6874,2,219.64617940374927,2, 219.2000,2,    219.2,2,    123.5,2,    32.65,2,     0.00,2,     2.24,2,    0.879,2,    0.470,2,   0.3600,2,   2261.5,2,  2360.82,2,   7.5925,2,    24.94,     38.3,2,     -999,9,   0.2538,2,0.75000000,3, -154.990,3,    0.002,     -999,9,     -999,9,     -999,1,     -999,9,    0.061,1,    4.674,1,    0.129,1,  19.1500,2,     -999,9,20180329,2239, -66.9986,-170.5319,     -999,9,     -999,9,-999          ,9,     -999,9,     -999,9,     -999,     -999,9,     -999,     -999,9,     -999,9,     -999,9,     -999,9,     -999,9,     -999,9,     -999,9,     -999,9,     -999,9,     -999,9,     -999,9,     -999,9,     -999,9,     -999,9
320620180309  ,S04P       ,30      ,  1,2          ,2          ,2,20180329,2230, -66.9984,-170.5332,     3382,   3275.5,0.2555916666666666059,34.685552702084756,2,  34.6866,2,220.19240535992179,2, 219.0004,2,    219.9,2,    123.2,2,    32.55,2,     0.00,2,     2.24,2,    0.917,2,    0.493,2,   0.3600,2,   2261.5,6,  2361.35,2,   7.5926,2,    24.91,     -999,9,     -999,1,   0.2550,2,0.69000000,2, -156.660,2,    0.002,     -999,9,     -999,9,     -999,9,     -999,1,    0.061,1,    4.673,1,    0.127,1,  19.2000,2,     -999,1,20180329,2235, -66.9985,-170.5326,     -999,1,     -999,1,-999          ,9,     -999,1,     -999,9,     -999,     -999,9,     -999,     -999,9,     -999,1,     -999,1,     -999,1,     -999,1,     -999,1,     -999,1,     -999,1,     -999,1,     -999,1,     -999,1,     -999,1,     -999,1,     -999,1
320620180309  ,S04P       ,30      ,  1,1          ,1          ,2,20180329,2230, -66.9984,-170.5332,     3382,   3435.6,0.2507194444444444392,34.685131866421806,3,  34.6876,2,220.46791910054910,2, 220.4993,2,    220.3,2,    123.1,2,    32.44,2,     0.00,2,     2.23,2,    0.957,2,    0.514,2,   0.5300,2,   2260.6,2,  2364.08,2,   7.5911,6,    24.92,     40.2,2,     -999,1,   0.2493,2,0.68000000,2, -157.350,2,    0.002,     -999,9,     -999,9,     -999,1,     -999,1,    0.061,1,    4.673,1,    0.128,1,  18.9200,2,     -999,1,20180329,2230, -66.9984,-170.5332,     -999,1,     -999,1,-999          ,9,     -999,1,     -999,9,     -999,     -999,9,     -999,     -999,9,     -999,1,     -999,1,     -999,1,     -999,1,     -999,1,     -999,1,     -999,1,     -999,1,     -999,1,     -999,1,     -999,1,     -999,1,     -999,1