BOTTLE,20240515CCHHYDRO
EXPOCODE,SECT_ID,STNNBR,CASTNO,SAMPNO,BTLNBR,BTLNBR_FLAG_W,DATE,TIME,LATITUDE,LONGITUDE,DEPTH,CTDPRS,CTDTMP,CTDSAL,CTDSAL_FLAG_W,SALNTY,SALNTY_FLAG_W,CTDOXY,CTDOXY_FLAG_W,CTDOPTOXY,CTDOPTOXY_FLAG_W,OXYGEN,OXYGEN_FLAG_W,SILCAT,SILCAT_FLAG_W,NITRAT,NITRAT_FLAG_W,NITRIT,NITRIT_FLAG_W,PHSPHT,PHSPHT_FLAG_W,CFC-11,CFC-11_FLAG_W,CFC-12,CFC-12_FLAG_W,SF6,SF6_FLAG_W,TCARBN,TCARBN_FLAG_W,ALKALI,ALKALI_FLAG_W,PH_TOT,PH_TOT_FLAG_W,PH_TMP,DOC,DOC_FLAG_W,HELIUM,HELIUM_FLAG_W,REFTMP,REFTMP_FLAG_W,DELC13,DELC13_FLAG_W,DELC14,DELC14_FLAG_W,C14ERR,POC,POC_FLAG_W,TDN,TDN_FLAG_W,TON,TON_FLAG_W,NEON,NEON_FLAG_W,CTDFLUOR,CTDFLUOR_FLAG_W,CTDXMISS,CTDXMISS_FLAG_W,CTDBETA700,CTDBETA700_FLAG_W,N2O,N2O_FLAG_W,ARGON,ARGON_FLAG_W,BTL_DATE,BTL_TIME,BTL_LAT,BTL_LON,KRYPTON,KRYPTON_FLAG_W,XENON,XENON_FLAG_W,HPLC,HPLC_FLAG_W,HE3_HE4_RATIO,HE3_HE4_RATIO_FLAG_W,Nd_143_144_D_EPSILON_BOTTLE,Nd_143_144_D_EPSILON_BOTTLE_FLAG_W,Nd_143_144_D_EPSILON_BOTTLE_ERROR,Nd_143_144_D_RATIO_BOTTLE,Nd_143_144_D_RATIO_BOTTLE_FLAG_W,Nd_143_144_D_RATIO_BOTTLE_ERROR,Nd_D_CONC,Nd_D_CONC_FLAG_W,La_D_CONC_BOTTLE,La_D_CONC_BOTTLE_FLAG_W,Ce_D_CONC_BOTTLE,Ce_D_CONC_BOTTLE_FLAG_W,Pr_D_CONC_BOTTLE,Pr_D_CONC_BOTTLE_FLAG_W,Sm_D_CONC_BOTTLE,Sm_D_CONC_BOTTLE_FLAG_W,Eu_D_CONC_BOTTLE,Eu_D_CONC_BOTTLE_FLAG_W,Gd_D_CONC_BOTTLE,Gd_D_CONC_BOTTLE_FLAG_W,Tb_D_CONC_BOTTLE,Tb_D_CONC_BOTTLE_FLAG_W,Dy_D_CONC_BOTTLE,Dy_D_CONC_BOTTLE_FLAG_W,Ho_D_CONC_BOTTLE,Ho_D_CONC_BOTTLE_FLAG_W,Er_D_CONC_BOTTLE,Er_D_CONC_BOTTLE_FLAG_W,Tm_D_CONC_BOTTLE,Tm_D_CONC_BOTTLE_FLAG_W,Yb_D_CONC_BOTTLE,Yb_D_CONC_BOTTLE_FLAG_W,Lu_D_CONC_BOTTLE,Lu_D_CONC_BOTTLE_FLAG_W
,,,,,,,,,,,METERS,DBAR,ITS-90,PSS-78,,PSS-78,,UMOL/KG,,UMOL/KG,,UMOL/KG,,UMOL/KG,,UMOL/KG,,UMOL/KG,,UMOL/KG,,PMOL/KG,,PMOL/KG,,FMOL/KG,,UMOL/KG,,UMOL/KG,,,,DEG C,UMOL/KG,,NMOL/L,,DEG C,,/MILLE,,/MILLE,,/MILLE,UG/KG,,UMOL/KG,,UMOL/KG,,NMOL/L,,VOLTS,,VOLTS,,VOLTS,,NMOL/KG,,UMOL/L,,,,,,NMOL/L,,NMOL/L,,,,,,10000,,10000,,,,PMOL/KG,,PMOL/L,,PMOL/L,,PMOL/L,,PMOL/L,,PMOL/L,,PMOL/L,,PMOL/L,,PMOL/L,,PMOL/L,,PMOL/L,,PMOL/L,,PMOL/L,,PMOL/L,
320620180309  ,S04P       ,4       ,  1,36         ,36         ,2,20180317,1923, -69.6655, 169.9070,     2744,      2.0,-1.5381194444444441505,34.035269529722434,2,  34.0340,2,341.00955505099159,3, 345.4967,2,    345.4,2,     71.4,2,    27.87,2,     0.14,2,     1.87,2,    5.721,2,    3.171,2,   3.8400,2,   2197.0,6,  2307.07,2,   7.6441,2,    24.99,     -999,9,     -999,9,  -2.4180,4,0.97000000,2, -125.730,2,    0.002,     -999,9,     -999,9,     -999,9,     -999,9,    0.179,1,    4.591,1,    0.188,1,  17.2000,2,     -999,9,20180317,2100, -69.6653, 169.9072,     -999,9,     -999,9,-999          ,9,     -999,9,     -999,9,     -999,     -999,9,     -999,     -999,9,     -999,1,     -999,1,     -999,1,     -999,1,     -999,1,     -999,1,     -999,1,     -999,1,     -999,1,     -999,1,     -999,1,     -999,1,     -999,1
320620180309  ,S04P       ,4       ,  1,35         ,35         ,2,20180317,1923, -69.6655, 169.9070,     2744,     19.6,-1.5485861111111114408,34.034967264166298,2,  34.0334,2,341.97363856508412,3, 345.2026,2,    345.4,2,     71.4,2,    27.87,2,     0.14,2,     1.86,2,     -999,9,     -999,9,     -999,9,     -999,9,     -999,9,     -999,9,     -999,     -999,9,     -999,1,  -1.5470,2,     -999,9,     -999,9,     -999,     -999,9,     -999,9,     -999,9,     -999,1,    0.180,1,    4.591,1,    0.186,1,     -999,9,     -999,1,20180317,2059, -69.6655, 169.9070,     -999,1,     -999,1,-999          ,9,     -999,1,     -999,9,     -999,     -999,9,     -999,     -999,9,     -999,1,     -999,1,     -999,1,     -999,1,     -999,1,     -999,1,     -999,1,     -999,1,     -999,1,     -999,1,     -999,1,     -999,1,     -999,1
320620180309  ,S04P       ,4       ,  1,34         ,34         ,2,20180317,1923, -69.6655, 169.9070,     2744,     39.0,-1.5613777777777779754,34.034714670329400,2,  34.0328,2,342.55536187350958,2, 346.5982,2,    345.4,2,     71.5,2,    27.90,2,     0.14,2,     1.88,2,    5.677,2,    3.136,2,   4.1300,2,   2195.9,2,  2305.86,2,   7.6435,2,    25.00,     -999,9,     -999,9,  -1.5468,2,     -999,9,     -999,9,     -999,     -999,9,     -999,9,     -999,9,     -999,9,    0.180,1,    4.591,1,    0.194,1,  17.3100,2,     -999,9,20180317,2057, -69.6657, 169.9068,     -999,9,     -999,9,-999          ,9,     -999,9,     -999,9,     -999,     -999,9,     -999,     -999,9,     -999,9,     -999,9,     -999,9,     -999,9,     -999,9,     -999,9,     -999,9,     -999,9,     -999,9,     -999,9,     -999,9,     -999,9,     -999,9
320620180309  ,S04P       ,4       ,  1,33         ,33         ,2,20180317,1923, -69.6655, 169.9070,     2744,     65.5,-1.5621916666666666451,34.034393949150783,2,  34.0332,2,343.95460986114938,2, 346.7027,2,    345.3,2,     71.5,2,    27.92,2,     0.14,2,     1.87,2,     -999,9,     -999,9,     -999,9,     -999,9,     -999,9,     -999,9,     -999,     -999,9,     -999,1,  -1.5627,2,     -999,9,     -999,9,     -999,     -999,9,     -999,9,     -999,9,     -999,1,    0.200,1,    4.586,1,    0.193,1,     -999,9,     -999,1,20180317,2056, -69.6660, 169.9063,     -999,1,     -999,1,-999          ,9,     -999,1,     -999,9,     -999,     -999,9,     -999,     -999,9,     -999,1,     -999,1,     -999,1,     -999,1,     -999,1,     -999,1,     -999,1,     -999,1,     -999,1,     -999,1,     -999,1,     -999,1,     -999,1
320620180309  ,S04P       ,4       ,  1,32         ,32         ,2,20180317,1923, -69.6655, 169.9070,     2744,     90.8,-1.5274555555555555664,34.051032096190234,2,  34.0555,2,341.84813994397359,2, 337.6000,2,    340.1,2,     72.8,2,    28.21,2,     0.14,2,     1.90,2,    5.547,2,    2.994,2,   3.9900,2,   2202.1,2,  2307.41,2,   7.6390,6,    25.01,     -999,9,     -999,9,  -1.5246,2,0.97000000,2, -129.360,2,    0.002,     -999,9,     -999,9,     -999,9,     -999,9,    0.178,1,    4.596,1,    0.188,1,  17.2200,2,     -999,9,20180317,2054, -69.6662, 169.9062,     -999,9,     -999,9,-999          ,9,     -999,9,     -999,9,     -999,     -999,9,     -999,     -999,9,     -999,9,     -999,9,     -999,9,     -999,9,     -999,9,     -999,9,     -999,9,     -999,9,     -999,9,     -999,9,     -999,9,     -999,9,     -999,9
320620180309  ,S04P       ,4       ,  1,31         ,31         ,2,20180317,1923, -69.6655, 169.9070,     2744,    117.2,-1.5866416666666665058,34.388376844818708,2,  34.3856,2,286.73413458399403,2, 306.6026,3,    287.0,2,     80.3,2,    30.95,2,     0.07,2,     2.11,2,    3.893,2,    2.139,2,   2.4700,2,   2231.8,2,  2328.10,2,   7.5987,2,    24.99,     -999,9,     -999,9,  -1.5721,2,     -999,9,     -999,9,     -999,     -999,9,     -999,9,     -999,9,     -999,9,    0.095,1,    4.655,1,    0.154,1,  18.9000,2,     -999,9,20180317,2052, -69.6661, 169.9063,     -999,9,     -999,9,-999          ,9,     -999,9,     -999,9,     -999,     -999,9,     -999,     -999,9,     -999,1,     -999,1,     -999,1,     -999,1,     -999,1,     -999,1,     -999,1,     -999,1,     -999,1,     -999,1,     -999,1,     -999,1,     -999,1
320620180309  ,S04P       ,4       ,  1,30         ,30         ,2,20180317,1923, -69.6655, 169.9070,     2744,    141.8,-1.4750638888888891742,34.417632866760165,2,  34.4158,2,278.33220348199308,2, 301.9999,3,    278.9,2,     81.9,2,    31.27,2,     0.02,2,     2.15,2,     -999,9,     -999,9,     -999,9,     -999,9,     -999,9,     -999,9,     -999,     -999,9,     -999,1,  -1.4712,2,     -999,9,     -999,9,     -999,     -999,9,     -999,9,     -999,9,     -999,1,    0.076,1,    4.665,1,    0.148,1,     -999,9,     -999,1,20180317,2050, -69.6660, 169.9064,     -999,1,     -999,1,-999          ,9,     -999,1,     -999,9,     -999,     -999,9,     -999,     -999,9,     -999,9,     -999,9,     -999,9,     -999,9,     -999,9,     -999,9,     -999,9,     -999,9,     -999,9,     -999,9,     -999,9,     -999,9,     -999,9
320620180309  ,S04P       ,4       ,  1,29         ,29         ,2,20180317,1923, -69.6655, 169.9070,     2744,    165.2,-0.4094388888888888522,34.516734505914563,2,  34.5152,2,247.82145920373671,3, 254.1007,3,    242.1,2,     87.6,2,    32.04,2,     0.02,2,     2.21,2,    2.483,6,    1.372,6,   1.7300,6,   2244.7,2,  2336.37,2,   7.5784,2,    25.01,     -999,9,     -999,9,  -0.4068,2,     -999,9,     -999,9,     -999,     -999,9,     -999,9,     -999,9,     -999,9,    0.068,1,    4.668,1,    0.142,1,  20.4900,6,     -999,9,20180317,2048, -69.6659, 169.9066,     -999,9,     -999,9,-999          ,9,     -999,9,     -999,9,     -999,     -999,9,     -999,     -999,9,     -999,9,     -999,9,     -999,9,     -999,9,     -999,9,     -999,9,     -999,9,     -999,9,     -999,9,     -999,9,     -999,9,     -999,9,     -999,9
320620180309  ,S04P       ,4       ,  1,28         ,28         ,2,20180317,1923, -69.6655, 169.9070,     2744,    191.7,0.0634500000000000064,34.578972187315138,2,  34.5793,2,222.00567056599337,3, 227.3983,2,    225.4,2,     92.1,2,    32.25,2,     0.00,2,     2.22,2,     -999,9,     -999,9,     -999,9,     -999,9,     -999,9,     -999,9,     -999,     -999,9,     -999,9,   0.0672,2,0.57000000,2, -144.440,2,    0.002,     -999,9,     -999,9,     -999,9,     -999,9,    0.069,1,    4.667,1,    0.144,1,     -999,9,     -999,9,20180317,2046, -69.6657, 169.9067,     -999,9,     -999,9,-999          ,9,     -999,9,     -999,9,     -999,     -999,9,     -999,     -999,9,     -999,1,     -999,1,     -999,1,     -999,1,     -999,1,     -999,1,     -999,1,     -999,1,     -999,1,     -999,1,     -999,1,     -999,1,     -999,1
320620180309  ,S04P       ,4       ,  1,27         ,27         ,2,20180317,1923, -69.6655, 169.9070,     2744,    216.9,0.5532333333333334657,34.633934482602982,2,  34.6311,2,210.09058984665302,2, 212.5985,2,    209.8,2,     96.0,2,    32.52,2,     0.00,2,     2.25,2,    1.285,2,    0.681,2,   0.6400,2,   2258.3,2,  2345.92,2,   7.5727,2,    24.99,     -999,9,     -999,1,   0.5556,2,     -999,9,     -999,9,     -999,     -999,9,     -999,9,     -999,9,     -999,1,    0.066,1,    4.667,1,    0.143,1,  21.0800,2,     -999,1,20180317,2044, -69.6657, 169.9067,     -999,1,     -999,1,-999          ,9,     -999,1,     -999,9,     -999,     -999,9,     -999,     -999,9,     -999,9,     -999,9,     -999,9,     -999,9,     -999,9,     -999,9,     -999,9,     -999,9,     -999,9,     -999,9,     -999,9,     -999,9,     -999,9
320620180309  ,S04P       ,4       ,  1,26         ,26         ,2,20180317,1923, -69.6655, 169.9070,     2744,    240.7,0.8237472222222221863,34.666224416577293,2,  34.6619,2,199.02358617909255,2, 200.1061,2,    200.3,2,     98.1,2,    32.66,2,     0.00,2,     2.27,2,     -999,9,     -999,9,     -999,9,     -999,9,     -999,9,     -999,9,     -999,     -999,9,     -999,9,   0.8081,2,     -999,9,     -999,9,     -999,     -999,9,     -999,9,     -999,9,     -999,9,    0.065,1,    4.668,1,    0.144,1,     -999,9,     -999,9,20180317,2043, -69.6658, 169.9066,     -999,9,     -999,9,-999          ,9,     -999,9,     -999,9,     -999,     -999,9,     -999,     -999,9,     -999,9,     -999,9,     -999,9,     -999,9,     -999,9,     -999,9,     -999,9,     -999,9,     -999,9,     -999,9,     -999,9,     -999,9,     -999,9
320620180309  ,S04P       ,4       ,  1,25         ,25         ,2,20180317,1923, -69.6655, 169.9070,     2744,    287.1,0.9838611111111114083,34.689369714734852,2,  34.6854,2,194.76878449101889,2, 195.2018,2,    195.6,2,    100.6,2,    32.71,2,     0.00,2,     2.27,2,    0.672,2,    0.355,2,   0.4700,2,   2262.4,2,  2349.55,2,   7.5730,2,    24.99,     -999,9,     -999,9,   0.9829,2,0.59000000,2, -148.730,2,    0.002,     -999,9,     -999,9,     -999,9,     -999,9,    0.062,1,    4.670,1,    0.141,1,  21.4200,2,     -999,9,20180317,2041, -69.6662, 169.9059,     -999,9,     -999,9,-999          ,9,     -999,9,     -999,9,     -999,     -999,9,     -999,     -999,9,     -999,1,     -999,1,     -999,1,     -999,1,     -999,1,     -999,1,     -999,1,     -999,1,     -999,1,     -999,1,     -999,1,     -999,1,     -999,1
320620180309  ,S04P       ,4       ,  1,24         ,24         ,2,20180317,1923, -69.6655, 169.9070,     2744,    337.7,1.0338666666666667115,34.700228783341935,2,  34.6996,2,195.24017370726290,2, 193.9994,2,    194.3,2,    102.7,2,    32.68,2,     0.00,2,     2.27,2,    0.530,2,    0.291,2,   0.1500,2,   2263.5,6,  2352.07,2,   7.5747,2,    25.00,     -999,9,     -999,1,   1.0331,2,     -999,9,     -999,9,     -999,     -999,9,     -999,9,     -999,9,     -999,1,    0.062,1,    4.671,1,    0.141,1,  21.5700,2,     -999,1,20180317,2039, -69.6666, 169.9053,     -999,1,     -999,1,-999          ,9,     -999,1,     -999,9,     -999,     -999,9,     -999,     -999,9,     -999,9,     -999,9,     -999,9,     -999,9,     -999,9,     -999,9,     -999,9,     -999,9,     -999,9,     -999,9,     -999,9,     -999,9,     -999,9
320620180309  ,S04P       ,4       ,  1,23         ,23         ,2,20180317,1923, -69.6655, 169.9070,     2744,    390.2,1.0293333333333334334,34.703707551195563,2,  34.7017,2,196.32559342176745,2, 195.0991,2,    194.6,2,    104.2,2,    32.68,2,     0.00,2,     2.26,2,    0.477,2,    0.247,2,   0.4500,2,   2262.7,2,     -999,9,     -999,9,     -999,     -999,9,     -999,9,   1.0287,2,     -999,9,     -999,1,     -999,     -999,9,     -999,9,     -999,9,     -999,9,    0.061,1,    4.674,1,    0.138,1,  21.1000,2,     -999,9,20180317,2036, -69.6668, 169.9051,     -999,9,     -999,9,-999          ,9,     -999,9,    -8.60,2,     0.23, 0.512197,2, 0.000007,    19.36,2,     -999,1,     -999,1,     -999,1,     -999,1,     -999,1,     -999,1,     -999,1,     -999,1,     -999,1,     -999,1,     -999,1,     -999,1,     -999,1
320620180309  ,S04P       ,4       ,  1,22         ,22         ,2,20180317,1923, -69.6655, 169.9070,     2744,    438.8,0.9724972222222221241,34.701462668698909,2,  34.6978,2,196.49605908187203,2, 194.6048,2,    196.8,2,    105.7,2,    32.70,2,     0.00,2,     2.27,2,    0.499,2,    0.263,2,   0.3700,2,   2263.0,2,  2353.93,2,   7.5779,6,    24.99,     -999,9,     -999,9,   0.9726,2,     -999,9,     -999,9,     -999,     -999,9,     -999,9,     -999,9,     -999,9,    0.061,1,    4.675,1,    0.137,1,  20.6400,2,     -999,9,20180317,2034, -69.6666, 169.9061,     -999,9,     -999,9,-999          ,9,     -999,9,     -999,9,     -999,     -999,9,     -999,     -999,9,     -999,9,     -999,9,     -999,9,     -999,9,     -999,9,     -999,9,     -999,9,     -999,9,     -999,9,     -999,9,     -999,9,     -999,9,     -999,9
320620180309  ,S04P       ,4       ,  1,21         ,21         ,2,20180317,1923, -69.6655, 169.9070,     2744,    489.8,0.9764972222222220166,34.706107902691997,2,  34.7051,2,196.97868727816805,2, 195.5030,2,    196.2,2,    107.2,2,    32.65,2,     0.00,2,     2.26,2,    0.414,2,    0.219,2,   0.3800,2,   2263.5,2,     -999,9,     -999,9,     -999,     -999,9,     -999,1,   0.9758,2,     -999,9,     -999,1,     -999,     -999,9,     -999,9,     -999,9,     -999,1,    0.061,1,    4.675,1,    0.133,1,  20.8500,2,     -999,1,20180317,2032, -69.6663, 169.9062,     -999,1,     -999,1,-999          ,9,     -999,1,     -999,9,     -999,     -999,9,     -999,     -999,9,     -999,1,     -999,1,     -999,1,     -999,1,     -999,1,     -999,1,     -999,1,     -999,1,     -999,1,     -999,1,     -999,1,     -999,1,     -999,1
320620180309  ,S04P       ,4       ,  1,20         ,20         ,2,20180317,1923, -69.6655, 169.9070,     2744,    570.3,0.9230249999999998733,34.706178544126843,2,  34.7058,2,198.39432436960666,2, 196.6970,2,    197.8,2,    110.0,2,    32.61,2,     0.00,2,     2.27,2,    0.387,2,    0.209,2,   0.1200,2,   2265.0,2,  2355.65,2,   7.5826,2,    25.00,     -999,9,     -999,9,   0.9218,2,     -999,9,     -999,1,     -999,     -999,9,     -999,9,     -999,9,     -999,9,    0.063,1,    4.675,1,    0.140,1,  20.5600,2,     -999,9,20180317,2029, -69.6661, 169.9064,     -999,9,     -999,9,-999          ,9,     -999,9,     -999,9,     -999,     -999,9,     -999,     -999,9,     -999,9,     -999,9,     -999,9,     -999,9,     -999,9,     -999,9,     -999,9,     -999,9,     -999,9,     -999,9,     -999,9,     -999,9,     -999,9
320620180309  ,S04P       ,4       ,  1,19         ,19         ,2,20180317,1923, -69.6655, 169.9070,     2744,    673.0,0.8606555555555557291,34.705013736277763,2,  34.7049,2,199.92970762130682,2, 197.8977,2,    199.2,2,    111.8,2,    32.61,2,     0.00,2,     2.25,2,     -999,9,     -999,9,     -999,9,     -999,9,     -999,9,     -999,9,     -999,     -999,9,     -999,9,   0.8602,2,     -999,9,     -999,1,     -999,     -999,9,     -999,9,     -999,9,     -999,9,    0.061,1,    4.675,1,    0.133,1,     -999,9,     -999,9,20180317,2026, -69.6659, 169.9066,     -999,9,     -999,9,-999          ,9,     -999,9,     -999,9,     -999,     -999,9,     -999,     -999,9,     -999,1,     -999,1,     -999,1,     -999,1,     -999,1,     -999,1,     -999,1,     -999,1,     -999,1,     -999,1,     -999,1,     -999,1,     -999,1
320620180309  ,S04P       ,4       ,  1,18         ,18         ,2,20180317,1923, -69.6655, 169.9070,     2744,    772.6,0.7968444444444445773,34.702931255347046,2,  34.7029,2,201.49163604697210,2, 199.2975,2,    201.3,2,    113.4,2,    32.55,2,     0.00,2,     2.25,2,    0.374,2,    0.203,2,   0.3300,2,   2263.7,2,  2356.57,2,   7.5852,2,    24.99,     -999,9,     -999,1,   0.7964,2,     -999,9,     -999,1,     -999,     -999,9,     -999,9,     -999,9,     -999,1,    0.061,1,    4.675,1,    0.135,1,  20.5600,2,     -999,1,20180317,2023, -69.6658, 169.9066,     -999,1,     -999,1,-999          ,9,     -999,1,     -999,9,     -999,     -999,9,     -999,     -999,9,     -999,9,     -999,9,     -999,9,     -999,9,     -999,9,     -999,9,     -999,9,     -999,9,     -999,9,     -999,9,     -999,9,     -999,9,     -999,9
320620180309  ,S04P       ,4       ,  1,17         ,17         ,2,20180317,1923, -69.6655, 169.9070,     2744,    875.0,0.7538055555555555065,34.703254046297367,2,  34.7029,2,201.32291584466171,2, 199.1024,2,    202.2,2,    115.3,2,    32.55,2,     0.00,2,     2.25,2,    0.339,2,    0.186,2,   0.0200,2,   2263.3,2,  2358.17,2,   7.5872,2,    25.00,     -999,9,     -999,9,   0.7531,2,     -999,9,     -999,1,     -999,     -999,9,     -999,9,     -999,9,     -999,9,    0.061,1,    4.676,1,    0.129,1,  20.2000,2,     -999,9,20180317,2020, -69.6656, 169.9068,     -999,9,     -999,9,-999          ,9,     -999,9,     -999,9,     -999,     -999,9,     -999,     -999,9,     -999,1,     -999,1,     -999,1,     -999,1,     -999,1,     -999,1,     -999,1,     -999,1,     -999,1,     -999,1,     -999,1,     -999,1,     -999,1
320620180309  ,S04P       ,4       ,  1,16         ,16         ,2,20180317,1923, -69.6655, 169.9070,     2744,    977.0,0.7194416666666666460,34.704785017402457,2,  34.7049,2,202.12775467579425,2, 199.8038,2,    203.0,2,    118.8,2,    32.56,2,     0.00,2,     2.25,2,    0.282,2,    0.149,2,   0.2700,2,   2263.9,2,  2360.46,2,   7.5871,2,    24.99,     -999,9,     -999,9,   0.7202,2,     -999,9,     -999,1,     -999,     -999,9,     -999,9,     -999,9,     -999,9,    0.061,1,    4.675,1,    0.130,1,  20.0100,2,     -999,9,20180317,2017, -69.6654, 169.9069,     -999,9,     -999,9,-999          ,9,     -999,9,     -999,9,     -999,     -999,9,     -999,     -999,9,     -999,9,     -999,9,     -999,9,     -999,9,     -999,9,     -999,9,     -999,9,     -999,9,     -999,9,     -999,9,     -999,9,     -999,9,     -999,9