BOTTLE,20240515CCHHYDRO
EXPOCODE,SECT_ID,STNNBR,CASTNO,SAMPNO,BTLNBR,BTLNBR_FLAG_W,DATE,TIME,LATITUDE,LONGITUDE,DEPTH,CTDPRS,CTDTMP,CTDSAL,CTDSAL_FLAG_W,SALNTY,SALNTY_FLAG_W,CTDOXY,CTDOXY_FLAG_W,CTDOPTOXY,CTDOPTOXY_FLAG_W,OXYGEN,OXYGEN_FLAG_W,SILCAT,SILCAT_FLAG_W,NITRAT,NITRAT_FLAG_W,NITRIT,NITRIT_FLAG_W,PHSPHT,PHSPHT_FLAG_W,CFC-11,CFC-11_FLAG_W,CFC-12,CFC-12_FLAG_W,SF6,SF6_FLAG_W,TCARBN,TCARBN_FLAG_W,ALKALI,ALKALI_FLAG_W,PH_TOT,PH_TOT_FLAG_W,PH_TMP,DOC,DOC_FLAG_W,HELIUM,HELIUM_FLAG_W,REFTMP,REFTMP_FLAG_W,DELC13,DELC13_FLAG_W,DELC14,DELC14_FLAG_W,C14ERR,POC,POC_FLAG_W,TDN,TDN_FLAG_W,TON,TON_FLAG_W,NEON,NEON_FLAG_W,CTDFLUOR,CTDFLUOR_FLAG_W,CTDXMISS,CTDXMISS_FLAG_W,CTDBETA700,CTDBETA700_FLAG_W,N2O,N2O_FLAG_W,ARGON,ARGON_FLAG_W,BTL_DATE,BTL_TIME,BTL_LAT,BTL_LON,KRYPTON,KRYPTON_FLAG_W,XENON,XENON_FLAG_W,HPLC,HPLC_FLAG_W,HE3_HE4_RATIO,HE3_HE4_RATIO_FLAG_W,Nd_143_144_D_EPSILON_BOTTLE,Nd_143_144_D_EPSILON_BOTTLE_FLAG_W,Nd_143_144_D_EPSILON_BOTTLE_ERROR,Nd_143_144_D_RATIO_BOTTLE,Nd_143_144_D_RATIO_BOTTLE_FLAG_W,Nd_143_144_D_RATIO_BOTTLE_ERROR,Nd_D_CONC,Nd_D_CONC_FLAG_W,La_D_CONC_BOTTLE,La_D_CONC_BOTTLE_FLAG_W,Ce_D_CONC_BOTTLE,Ce_D_CONC_BOTTLE_FLAG_W,Pr_D_CONC_BOTTLE,Pr_D_CONC_BOTTLE_FLAG_W,Sm_D_CONC_BOTTLE,Sm_D_CONC_BOTTLE_FLAG_W,Eu_D_CONC_BOTTLE,Eu_D_CONC_BOTTLE_FLAG_W,Gd_D_CONC_BOTTLE,Gd_D_CONC_BOTTLE_FLAG_W,Tb_D_CONC_BOTTLE,Tb_D_CONC_BOTTLE_FLAG_W,Dy_D_CONC_BOTTLE,Dy_D_CONC_BOTTLE_FLAG_W,Ho_D_CONC_BOTTLE,Ho_D_CONC_BOTTLE_FLAG_W,Er_D_CONC_BOTTLE,Er_D_CONC_BOTTLE_FLAG_W,Tm_D_CONC_BOTTLE,Tm_D_CONC_BOTTLE_FLAG_W,Yb_D_CONC_BOTTLE,Yb_D_CONC_BOTTLE_FLAG_W,Lu_D_CONC_BOTTLE,Lu_D_CONC_BOTTLE_FLAG_W
,,,,,,,,,,,METERS,DBAR,ITS-90,PSS-78,,PSS-78,,UMOL/KG,,UMOL/KG,,UMOL/KG,,UMOL/KG,,UMOL/KG,,UMOL/KG,,UMOL/KG,,PMOL/KG,,PMOL/KG,,FMOL/KG,,UMOL/KG,,UMOL/KG,,,,DEG C,UMOL/KG,,NMOL/L,,DEG C,,/MILLE,,/MILLE,,/MILLE,UG/KG,,UMOL/KG,,UMOL/KG,,NMOL/L,,VOLTS,,VOLTS,,VOLTS,,NMOL/KG,,UMOL/L,,,,,,NMOL/L,,NMOL/L,,,,,,10000,,10000,,,,PMOL/KG,,PMOL/L,,PMOL/L,,PMOL/L,,PMOL/L,,PMOL/L,,PMOL/L,,PMOL/L,,PMOL/L,,PMOL/L,,PMOL/L,,PMOL/L,,PMOL/L,,PMOL/L,
320620180309  ,S04P       ,22      ,  1,36         ,36         ,2,20180326,2239, -66.9992, 178.1452,     3862,      7.3,-0.5614194444444442489,34.034714093772934,2,  34.0320,2,340.66201645926657,2, 340.0964,2,    341.7,2,     50.3,2,    25.13,2,     0.19,2,     1.64,2,    5.427,2,    3.050,2,   3.3900,2,   2185.1,6,  2309.37,2,   7.6724,2,    24.91,     44.4,2,     -999,9,  -0.5613,2,     -999,9,     -999,9,     -999,     -999,9,    27.90,2,     -999,1,     -999,9,    0.177,1,    4.532,1,    0.250,1,  15.6500,2,     -999,9,20180327,0046, -66.9995, 178.1482,     -999,9,     -999,9,-999          ,9,     -999,9,     -999,9,     -999,     -999,9,     -999,     -999,9,     -999,9,     -999,9,     -999,9,     -999,9,     -999,9,     -999,9,     -999,9,     -999,9,     -999,9,     -999,9,     -999,9,     -999,9,     -999,9
320620180309  ,S04P       ,22      ,  1,35         ,35         ,2,20180326,2239, -66.9992, 178.1452,     3862,     18.8,-0.5622194444444444938,34.034709911595684,2,  34.0328,2,341.21109432608489,2, 306.7020,3,    341.6,2,     50.4,2,    25.13,2,     0.19,2,     1.65,2,    5.441,2,    3.052,2,   3.3900,2,   2187.2,2,  2309.18,2,   7.6737,2,    24.91,     43.0,2,     -999,9,  -0.5628,2,     -999,9,     -999,9,     -999,     -999,9,    30.10,3,     -999,1,     -999,9,    0.204,1,    4.531,1,    0.265,1,  15.6400,2,     -999,9,20180327,0044, -66.9994, 178.1481,     -999,9,     -999,9,-999          ,9,     -999,9,     -999,9,     -999,     -999,9,     -999,     -999,9,     -999,9,     -999,9,     -999,9,     -999,9,     -999,9,     -999,9,     -999,9,     -999,9,     -999,9,     -999,9,     -999,9,     -999,9,     -999,9
320620180309  ,S04P       ,22      ,  1,34         ,34         ,2,20180326,2239, -66.9992, 178.1452,     3862,     38.8,-0.5541611111111112153,34.041208712342048,2,  34.0385,2,341.88575478302931,2, 342.2993,2,    341.1,2,     50.1,2,    25.09,2,     0.19,2,     1.67,2,     -999,9,     -999,9,     -999,9,   2186.6,2,  2308.60,2,   7.6706,2,    24.92,     44.6,2,     -999,9,  -0.5553,2,     -999,9,     -999,9,     -999,     -999,9,    29.20,3,     -999,1,     -999,9,    0.244,1,    4.526,1,    0.249,1,     -999,9,     -999,9,20180327,0042, -66.9994, 178.1481,     -999,9,     -999,9,-999          ,9,     -999,9,     -999,9,     -999,     -999,9,     -999,     -999,9,     -999,9,     -999,9,     -999,9,     -999,9,     -999,9,     -999,9,     -999,9,     -999,9,     -999,9,     -999,9,     -999,9,     -999,9,     -999,9
320620180309  ,S04P       ,22      ,  1,33         ,33         ,2,20180326,2239, -66.9992, 178.1452,     3862,     65.0,-0.5669361111111110851,34.056778174311596,2,  34.0565,2,339.69545229656370,2, 346.4964,3,    337.7,2,     50.5,2,    25.20,2,     0.18,2,     1.71,2,    5.316,2,    3.005,2,   3.4800,2,   2188.2,2,  2310.16,2,   7.6708,2,    24.92,     39.9,2,     -999,9,  -0.5689,2,     -999,9,     -999,9,     -999,     -999,9,    28.30,2,     -999,1,     -999,9,    0.244,1,    4.526,1,    0.282,1,  15.7100,2,     -999,9,20180327,0041, -66.9995, 178.1483,     -999,9,     -999,9,-999          ,9,     -999,9,     -999,9,     -999,     -999,9,     -999,     -999,9,     -999,9,     -999,9,     -999,9,     -999,9,     -999,9,     -999,9,     -999,9,     -999,9,     -999,9,     -999,9,     -999,9,     -999,9,     -999,9
320620180309  ,S04P       ,22      ,  1,32         ,32         ,2,20180326,2239, -66.9992, 178.1452,     3862,     90.2,-0.9419694444444444148,34.369678235919309,2,  34.3556,2,273.28229783480037,2, 271.0982,2,    271.9,2,     76.6,2,    31.03,2,     0.19,2,     2.15,2,     -999,9,     -999,9,     -999,9,   2229.1,2,  2325.74,2,   7.5897,2,    24.91,     40.0,2,     -999,9,  -0.9618,2,     -999,9,     -999,9,     -999,     -999,9,    33.30,2,     -999,1,     -999,9,    0.099,1,    4.636,1,    0.177,1,     -999,9,     -999,9,20180327,0039, -66.9995, 178.1483,     -999,9,     -999,9,-999          ,9,     -999,9,     -999,9,     -999,     -999,9,     -999,     -999,9,     -999,9,     -999,9,     -999,9,     -999,9,     -999,9,     -999,9,     -999,9,     -999,9,     -999,9,     -999,9,     -999,9,     -999,9,     -999,9
320620180309  ,S04P       ,22      ,  1,31         ,31         ,2,20180326,2239, -66.9992, 178.1452,     3862,    115.9,-0.2104694444444444590,34.474462691485570,2,  34.4758,2,245.30336593343358,3, 241.9027,2,    240.2,2,     82.2,2,    31.90,2,     0.04,2,     2.18,2,    2.465,2,    1.353,2,   1.3700,2,   2241.6,2,  2332.97,2,   7.5765,2,    24.91,     38.9,2,     -999,9,  -0.2024,2,     -999,9,     -999,9,     -999,     -999,9,     -999,9,     -999,1,     -999,9,    0.080,1,    4.646,1,    0.168,1,  19.5700,2,     -999,9,20180327,0038, -66.9995, 178.1482,     -999,9,     -999,9,-999          ,9,     -999,9,     -999,9,     -999,     -999,9,     -999,     -999,9,     -999,9,     -999,9,     -999,9,     -999,9,     -999,9,     -999,9,     -999,9,     -999,9,     -999,9,     -999,9,     -999,9,     -999,9,     -999,9
320620180309  ,S04P       ,22      ,  1,30         ,30         ,2,20180326,2239, -66.9992, 178.1452,     3862,    140.3,0.7087749999999999329,34.599782497265572,2,  34.6005,2,209.72393959365692,3, 206.1020,2,    207.3,2,     88.1,2,    32.44,2,     0.02,2,     2.24,2,     -999,9,     -999,9,     -999,9,   2252.7,2,  2342.64,2,   7.5675,2,    24.91,     41.9,2,     -999,9,   0.7086,2,     -999,9,     -999,9,     -999,     -999,9,    35.40,2,     -999,1,     -999,9,    0.075,1,    4.655,1,    0.165,1,     -999,9,     -999,9,20180327,0036, -66.9995, 178.1483,     -999,9,     -999,9,-999          ,9,     -999,9,     -999,9,     -999,     -999,9,     -999,     -999,9,     -999,9,     -999,9,     -999,9,     -999,9,     -999,9,     -999,9,     -999,9,     -999,9,     -999,9,     -999,9,     -999,9,     -999,9,     -999,9
320620180309  ,S04P       ,22      ,  1,29         ,29         ,2,20180326,2239, -66.9992, 178.1452,     3862,    185.7,1.3595638888888887941,34.695140845176098,2,  34.6931,2,188.54624202661708,2, 190.1960,2,    187.5,2,     93.6,2,    32.55,2,     0.00,2,     2.25,2,    0.565,2,    0.303,2,   0.1600,2,   2259.8,2,  2350.07,2,   7.5666,2,    24.91,     41.7,2,     -999,9,   1.3592,2,     -999,9,     -999,9,     -999,     -999,9,     -999,9,     -999,1,     -999,9,    0.066,1,    4.660,1,    0.160,1,  20.9500,2,     -999,9,20180327,0034, -66.9996, 178.1486,     -999,9,     -999,9,-999          ,9,     -999,9,     -999,9,     -999,     -999,9,     -999,     -999,9,     -999,9,     -999,9,     -999,9,     -999,9,     -999,9,     -999,9,     -999,9,     -999,9,     -999,9,     -999,9,     -999,9,     -999,9,     -999,9
320620180309  ,S04P       ,22      ,  1,28         ,28         ,2,20180326,2239, -66.9992, 178.1452,     3862,    238.0,1.4052694444444446820,34.712108575182370,2,  34.7113,2,187.47414402156249,2, 188.3984,2,    186.8,2,     95.8,2,    32.40,2,     0.00,2,     2.22,2,    0.417,2,    0.231,2,   0.1300,2,   2261.0,6,  2351.80,2,   7.5699,2,    24.92,     39.7,2,     -999,9,   1.4074,2,     -999,9,     -999,9,     -999,     -999,9,     -999,9,     -999,1,     -999,9,    0.062,1,    4.662,1,    0.151,1,  20.6700,2,     -999,9,20180327,0032, -66.9996, 178.1488,     -999,9,     -999,9,-999          ,9,     -999,9,     -999,9,     -999,     -999,9,     -999,     -999,9,     -999,9,     -999,9,     -999,9,     -999,9,     -999,9,     -999,9,     -999,9,     -999,9,     -999,9,     -999,9,     -999,9,     -999,9,     -999,9
320620180309  ,S04P       ,22      ,  1,27         ,27         ,2,20180326,2239, -66.9992, 178.1452,     3862,    288.6,1.4085138888888890651,34.720935278022075,2,  34.7196,2,187.94084087275314,2, 188.6963,2,    188.0,2,     97.7,2,    32.26,2,     0.00,2,     2.23,2,    0.331,2,    0.179,2,   0.0500,2,   2260.6,2,  2353.28,2,   7.5748,2,    24.91,     41.6,2,     -999,9,   1.4088,2,     -999,9,     -999,9,     -999,     -999,9,     -999,9,     -999,1,     -999,9,    0.064,1,    4.665,1,    0.145,1,  20.4800,2,     -999,9,20180327,0030, -66.9997, 178.1489,     -999,9,     -999,9,-999          ,9,     -999,9,     -999,9,     -999,     -999,9,     -999,     -999,9,     -999,9,     -999,9,     -999,9,     -999,9,     -999,9,     -999,9,     -999,9,     -999,9,     -999,9,     -999,9,     -999,9,     -999,9,     -999,9
320620180309  ,S04P       ,22      ,  1,26         ,26         ,2,20180326,2239, -66.9992, 178.1452,     3862,    338.2,1.3798944444444445345,34.723951697718718,2,  34.7213,2,187.69148387399591,2, 189.0009,2,    187.8,2,    100.1,2,    32.23,2,     0.00,2,     2.23,2,    0.279,2,    0.145,2,   0.0000,2,   2261.2,2,  2354.58,2,   7.5782,2,    24.92,     -999,9,     -999,9,   1.3790,2,     -999,9,     -999,9,     -999,     -999,9,     -999,9,     -999,9,     -999,9,    0.063,1,    4.668,1,    0.144,1,  20.3000,2,     -999,9,20180327,0028, -66.9997, 178.1489,     -999,9,     -999,9,-999          ,9,     -999,9,     -999,9,     -999,     -999,9,     -999,     -999,9,     -999,9,     -999,9,     -999,9,     -999,9,     -999,9,     -999,9,     -999,9,     -999,9,     -999,9,     -999,9,     -999,9,     -999,9,     -999,9
320620180309  ,S04P       ,22      ,  1,25         ,25         ,2,20180326,2239, -66.9992, 178.1452,     3862,    389.7,1.3507388888888891554,34.725226836789872,2,  34.7225,2,188.51144277526868,2, 189.4018,2,    188.2,2,    101.4,2,    32.17,2,     0.00,2,     2.24,2,     -999,9,     -999,9,     -999,9,   2261.2,2,  2355.50,2,   7.5786,2,    24.92,     40.5,2,     -999,9,   1.3501,2,     -999,9,     -999,9,     -999,     -999,9,     -999,9,     -999,1,     -999,9,    0.063,1,    4.667,1,    0.140,1,     -999,9,     -999,9,20180327,0026, -66.9996, 178.1489,     -999,9,     -999,9,-999          ,9,     -999,9,     -999,9,     -999,     -999,9,     -999,     -999,9,     -999,9,     -999,9,     -999,9,     -999,9,     -999,9,     -999,9,     -999,9,     -999,9,     -999,9,     -999,9,     -999,9,     -999,9,     -999,9
320620180309  ,S04P       ,22      ,  1,24         ,24         ,2,20180326,2239, -66.9992, 178.1452,     3862,    438.3,1.3121666666666664813,34.725499871025292,2,  34.7233,2,190.40863143857237,2, 190.4019,2,    190.7,2,    102.6,2,    32.14,2,     0.00,2,     2.22,2,    0.236,2,    0.131,2,   0.0800,2,   2263.4,2,  2357.24,2,   7.5771,6,    24.91,     -999,9,     -999,9,   1.3117,2,     -999,9,     -999,9,     -999,     -999,9,     -999,9,     -999,9,     -999,9,    0.063,1,    4.669,1,    0.143,1,  19.7600,2,     -999,9,20180327,0024, -66.9996, 178.1488,     -999,9,     -999,9,-999          ,9,     -999,9,     -999,9,     -999,     -999,9,     -999,     -999,9,     -999,9,     -999,9,     -999,9,     -999,9,     -999,9,     -999,9,     -999,9,     -999,9,     -999,9,     -999,9,     -999,9,     -999,9,     -999,9
320620180309  ,S04P       ,22      ,  1,23         ,23         ,2,20180326,2239, -66.9992, 178.1452,     3862,    489.2,1.2772111111111110748,34.725602497571835,2,  34.7227,2,191.76992297073511,2, 190.9985,2,    191.5,2,    103.5,2,    32.17,2,     0.00,2,     2.23,2,     -999,9,     -999,9,     -999,9,   2262.2,2,  2357.16,2,   7.5769,2,    24.92,     40.8,2,     -999,9,   1.2767,2,     -999,9,     -999,9,     -999,     -999,9,     -999,9,     -999,1,     -999,9,    0.063,1,    4.666,1,    0.147,1,     -999,9,     -999,9,20180327,0022, -66.9996, 178.1488,     -999,9,     -999,9,-999          ,9,     -999,9,     -999,9,     -999,     -999,9,     -999,     -999,9,     -999,9,     -999,9,     -999,9,     -999,9,     -999,9,     -999,9,     -999,9,     -999,9,     -999,9,     -999,9,     -999,9,     -999,9,     -999,9
320620180309  ,S04P       ,22      ,  1,22         ,37         ,2,20180326,2239, -66.9992, 178.1452,     3862,    571.6,1.2337833333333332320,34.726536561492864,2,  34.7255,2,191.45958438807060,2, 192.2017,2,    191.4,2,    106.1,2,    32.24,2,     0.00,2,     2.21,2,    0.192,2,    0.100,2,   0.0200,2,   2263.2,2,  2357.52,2,   7.5827,2,    24.92,     41.6,2,     -999,9,   1.2336,2,     -999,9,     -999,9,     -999,     -999,9,     -999,9,     -999,1,     -999,9,    0.063,1,    4.667,1,    0.145,1,  19.8600,2,     -999,9,20180327,0020, -66.9997, 178.1490,     -999,9,     -999,9,-999          ,9,     -999,9,     -999,9,     -999,     -999,9,     -999,     -999,9,     -999,9,     -999,9,     -999,9,     -999,9,     -999,9,     -999,9,     -999,9,     -999,9,     -999,9,     -999,9,     -999,9,     -999,9,     -999,9
320620180309  ,S04P       ,22      ,  1,21         ,21         ,2,20180326,2239, -66.9992, 178.1452,     3862,    671.4,1.1631305555555555564,34.724424910512504,2,  34.7227,2,192.08217121834426,2, 192.5987,2,    192.0,2,    109.3,2,    32.30,2,     0.00,2,     2.22,2,    0.160,2,    0.080,2,   0.0000,2,   2264.8,2,  2358.49,2,   7.5849,2,    24.91,     43.6,2,     -999,9,   1.1627,2,     -999,9,     -999,9,     -999,     -999,9,     -999,9,     -999,1,     -999,9,    0.062,1,    4.669,1,    0.141,1,  19.9200,2,     -999,9,20180327,0017, -66.9997, 178.1491,     -999,9,     -999,9,-999          ,9,     -999,9,     -999,9,     -999,     -999,9,     -999,     -999,9,     -999,9,     -999,9,     -999,9,     -999,9,     -999,9,     -999,9,     -999,9,     -999,9,     -999,9,     -999,9,     -999,9,     -999,9,     -999,9
320620180309  ,S04P       ,22      ,  1,20         ,20         ,2,20180326,2239, -66.9992, 178.1452,     3862,    773.3,1.1073194444444445228,34.723041234231381,2,  34.7217,2,194.34709998825016,2, 193.7031,2,    193.7,2,    111.0,2,    32.23,2,     0.00,2,     2.22,2,     -999,9,     -999,9,     -999,9,   2263.3,2,  2360.93,2,   7.5856,2,    24.92,     41.9,2,     -999,9,   1.1065,2,     -999,9,     -999,9,     -999,     -999,9,     -999,9,     -999,1,     -999,9,    0.061,1,    4.671,1,    0.142,1,     -999,9,     -999,9,20180327,0014, -66.9997, 178.1490,     -999,9,     -999,9,-999          ,9,     -999,9,     -999,9,     -999,     -999,9,     -999,     -999,9,     -999,9,     -999,9,     -999,9,     -999,9,     -999,9,     -999,9,     -999,9,     -999,9,     -999,9,     -999,9,     -999,9,     -999,9,     -999,9
320620180309  ,S04P       ,22      ,  1,19         ,19         ,2,20180326,2239, -66.9992, 178.1452,     3862,    874.2,1.0406416666666662429,34.721097394085106,2,  34.7188,2,195.72040503480446,2, 195.1014,2,    195.6,2,    113.4,2,    32.29,2,     0.00,2,     2.21,2,    0.136,2,    0.076,2,   0.0600,2,   2263.9,2,  2361.40,2,   7.5817,6,    24.91,     40.3,2,     -999,9,   1.0399,2,     -999,9,     -999,9,     -999,     -999,9,     -999,9,     -999,1,     -999,9,    0.061,1,    4.672,1,    0.136,1,  19.5400,2,     -999,9,20180327,0011, -66.9998, 178.1494,     -999,9,     -999,9,-999          ,9,     -999,9,     -999,9,     -999,     -999,9,     -999,     -999,9,     -999,9,     -999,9,     -999,9,     -999,9,     -999,9,     -999,9,     -999,9,     -999,9,     -999,9,     -999,9,     -999,9,     -999,9,     -999,9
320620180309  ,S04P       ,22      ,  1,18         ,18         ,2,20180326,2239, -66.9992, 178.1452,     3862,    975.0,0.9824611111111108963,34.719202123400386,2,  34.7178,2,197.16702520063475,2, 196.6959,2,    197.0,2,    114.8,2,    32.26,2,     0.00,2,     2.23,2,     -999,9,     -999,9,     -999,9,   2263.9,2,  2360.09,2,   7.5855,2,    24.92,     40.4,2,     -999,9,   0.9829,2,     -999,9,     -999,9,     -999,     -999,9,     -999,9,     -999,1,     -999,9,    0.061,1,    4.674,1,    0.136,1,     -999,9,     -999,9,20180327,0008, -66.9999, 178.1498,     -999,9,     -999,9,-999          ,9,     -999,9,     -999,9,     -999,     -999,9,     -999,     -999,9,     -999,9,     -999,9,     -999,9,     -999,9,     -999,9,     -999,9,     -999,9,     -999,9,     -999,9,     -999,9,     -999,9,     -999,9,     -999,9
320620180309  ,S04P       ,22      ,  1,17         ,17         ,2,20180326,2239, -66.9992, 178.1452,     3862,   1078.4,0.9406388888888889133,34.717469744164823,2,  34.7159,2,198.71191976834353,2, 197.3956,2,    198.1,2,    116.2,2,    32.23,2,     0.00,2,     2.22,2,    0.122,2,    0.062,2,   0.0000,2,   2264.2,2,  2363.21,2,   7.5896,2,    24.93,     39.6,2,     -999,9,   0.9397,2,     -999,9,     -999,9,     -999,     -999,9,     -999,9,     -999,1,     -999,9,    0.062,1,    4.673,1,    0.136,1,  19.4700,2,     -999,9,20180327,0005, -66.9999, 178.1499,     -999,9,     -999,9,-999          ,9,     -999,9,     -999,9,     -999,     -999,9,     -999,     -999,9,     -999,9,     -999,9,     -999,9,     -999,9,     -999,9,     -999,9,     -999,9,     -999,9,     -999,9,     -999,9,     -999,9,     -999,9,     -999,9
320620180309  ,S04P       ,22      ,  1,16         ,16         ,2,20180326,2239, -66.9992, 178.1452,     3862,   1179.5,0.8920027777777777001,34.715718656425288,2,  34.7151,2,200.36711366420295,2, 198.7005,2,    199.6,2,    118.0,2,    32.30,2,     0.00,2,     2.23,2,    0.120,2,    0.060,2,   0.0000,2,   2264.6,2,  2362.62,2,   7.5867,2,    24.92,     40.0,2,     -999,9,   0.8921,2,     -999,9,     -999,9,     -999,     -999,9,     -999,9,     -999,1,     -999,9,    0.060,1,    4.674,1,    0.135,1,  19.2600,2,     -999,9,20180327,0002, -66.9998, 178.1496,     -999,9,     -999,9,-999          ,9,     -999,9,     -999,9,     -999,     -999,9,     -999,     -999,9,     -999,9,     -999,9,     -999,9,     -999,9,     -999,9,     -999,9,     -999,9,     -999,9,     -999,9,     -999,9,     -999,9,     -999,9,     -999,9