BOTTLE,20240515CCHHYDRO
EXPOCODE,SECT_ID,STNNBR,CASTNO,SAMPNO,BTLNBR,BTLNBR_FLAG_W,DATE,TIME,LATITUDE,LONGITUDE,DEPTH,CTDPRS,CTDTMP,CTDSAL,CTDSAL_FLAG_W,SALNTY,SALNTY_FLAG_W,CTDOXY,CTDOXY_FLAG_W,CTDOPTOXY,CTDOPTOXY_FLAG_W,OXYGEN,OXYGEN_FLAG_W,SILCAT,SILCAT_FLAG_W,NITRAT,NITRAT_FLAG_W,NITRIT,NITRIT_FLAG_W,PHSPHT,PHSPHT_FLAG_W,CFC-11,CFC-11_FLAG_W,CFC-12,CFC-12_FLAG_W,SF6,SF6_FLAG_W,TCARBN,TCARBN_FLAG_W,ALKALI,ALKALI_FLAG_W,PH_TOT,PH_TOT_FLAG_W,PH_TMP,DOC,DOC_FLAG_W,HELIUM,HELIUM_FLAG_W,REFTMP,REFTMP_FLAG_W,DELC13,DELC13_FLAG_W,DELC14,DELC14_FLAG_W,C14ERR,POC,POC_FLAG_W,TDN,TDN_FLAG_W,TON,TON_FLAG_W,NEON,NEON_FLAG_W,CTDFLUOR,CTDFLUOR_FLAG_W,CTDXMISS,CTDXMISS_FLAG_W,CTDBETA700,CTDBETA700_FLAG_W,N2O,N2O_FLAG_W,ARGON,ARGON_FLAG_W,BTL_DATE,BTL_TIME,BTL_LAT,BTL_LON,KRYPTON,KRYPTON_FLAG_W,XENON,XENON_FLAG_W,HPLC,HPLC_FLAG_W,HE3_HE4_RATIO,HE3_HE4_RATIO_FLAG_W,Nd_143_144_D_EPSILON_BOTTLE,Nd_143_144_D_EPSILON_BOTTLE_FLAG_W,Nd_143_144_D_EPSILON_BOTTLE_ERROR,Nd_143_144_D_RATIO_BOTTLE,Nd_143_144_D_RATIO_BOTTLE_FLAG_W,Nd_143_144_D_RATIO_BOTTLE_ERROR,Nd_D_CONC,Nd_D_CONC_FLAG_W,La_D_CONC_BOTTLE,La_D_CONC_BOTTLE_FLAG_W,Ce_D_CONC_BOTTLE,Ce_D_CONC_BOTTLE_FLAG_W,Pr_D_CONC_BOTTLE,Pr_D_CONC_BOTTLE_FLAG_W,Sm_D_CONC_BOTTLE,Sm_D_CONC_BOTTLE_FLAG_W,Eu_D_CONC_BOTTLE,Eu_D_CONC_BOTTLE_FLAG_W,Gd_D_CONC_BOTTLE,Gd_D_CONC_BOTTLE_FLAG_W,Tb_D_CONC_BOTTLE,Tb_D_CONC_BOTTLE_FLAG_W,Dy_D_CONC_BOTTLE,Dy_D_CONC_BOTTLE_FLAG_W,Ho_D_CONC_BOTTLE,Ho_D_CONC_BOTTLE_FLAG_W,Er_D_CONC_BOTTLE,Er_D_CONC_BOTTLE_FLAG_W,Tm_D_CONC_BOTTLE,Tm_D_CONC_BOTTLE_FLAG_W,Yb_D_CONC_BOTTLE,Yb_D_CONC_BOTTLE_FLAG_W,Lu_D_CONC_BOTTLE,Lu_D_CONC_BOTTLE_FLAG_W
,,,,,,,,,,,METERS,DBAR,ITS-90,PSS-78,,PSS-78,,UMOL/KG,,UMOL/KG,,UMOL/KG,,UMOL/KG,,UMOL/KG,,UMOL/KG,,UMOL/KG,,PMOL/KG,,PMOL/KG,,FMOL/KG,,UMOL/KG,,UMOL/KG,,,,DEG C,UMOL/KG,,NMOL/L,,DEG C,,/MILLE,,/MILLE,,/MILLE,UG/KG,,UMOL/KG,,UMOL/KG,,NMOL/L,,VOLTS,,VOLTS,,VOLTS,,NMOL/KG,,UMOL/L,,,,,,NMOL/L,,NMOL/L,,,,,,10000,,10000,,,,PMOL/KG,,PMOL/L,,PMOL/L,,PMOL/L,,PMOL/L,,PMOL/L,,PMOL/L,,PMOL/L,,PMOL/L,,PMOL/L,,PMOL/L,,PMOL/L,,PMOL/L,,PMOL/L,
320620180309  ,S04P       ,96      ,  1,36         ,36         ,2,20180428,0617, -67.9999,-107.3127,     4248,      9.3,-1.8474770596685266000,33.748602115213764,2,  33.7427,2,343.02953484683587,3, 344.3032,2,    348.4,2,     42.2,2,    26.44,2,     0.19,2,     1.84,2,    6.417,2,    3.287,2,   4.2300,2,   2169.0,6,  2284.65,2,   7.6549,2,    25.15,     46.3,2,     -999,9,  -1.8435,2,     -999,9,     -999,9,     -999,     -999,9,    28.50,2,     -999,1,     -999,9,    0.274,1,    4.544,1,    0.242,1,  16.3900,2,     -999,9,20180428,0820, -68.0004,-107.3128,     -999,9,     -999,9,-999          ,9,     -999,9,     -999,9,     -999,     -999,9,     -999,     -999,9,     -999,1,     -999,1,     -999,1,     -999,1,     -999,1,     -999,1,     -999,1,     -999,1,     -999,1,     -999,1,     -999,1,     -999,1,     -999,1
320620180309  ,S04P       ,96      ,  1,35         ,35         ,2,20180428,0617, -67.9999,-107.3127,     4248,     19.7,-1.8327666115067045016,33.752223128505115,2,  33.7448,2,343.49612664944260,3, 343.9991,2,    348.2,2,     42.6,2,    26.46,2,     0.19,2,     1.86,2,     -999,9,     -999,9,     -999,9,   2169.1,2,  2283.82,2,   7.6549,2,    25.12,     47.7,2,     -999,9,  -1.8368,2,     -999,9,     -999,9,     -999,     -999,9,    28.00,2,     -999,1,     -999,9,    0.265,1,    4.547,1,    0.243,1,     -999,9,     -999,9,20180428,0820, -68.0004,-107.3128,     -999,9,     -999,9,-999          ,9,     -999,9,     -999,9,     -999,     -999,9,     -999,     -999,9,     -999,9,     -999,9,     -999,9,     -999,9,     -999,9,     -999,9,     -999,9,     -999,9,     -999,9,     -999,9,     -999,9,     -999,9,     -999,9
320620180309  ,S04P       ,96      ,  1,34         ,34         ,2,20180428,0617, -67.9999,-107.3127,     4248,     39.9,-1.8309125251213955732,33.752776030083780,2,  33.7479,2,344.58480588506814,3, 343.9016,2,    348.2,2,     42.6,2,    26.49,2,     0.19,2,     1.86,2,     -999,9,     -999,9,     -999,9,   2169.4,2,  2282.91,2,   7.6552,2,    25.14,     45.9,2,     -999,9,  -1.8294,2,     -999,9,     -999,9,     -999,     -999,9,    28.00,2,     -999,1,     -999,9,    0.268,1,    4.546,1,    0.249,1,     -999,9,     -999,9,20180428,0819, -68.0004,-107.3128,     -999,9,     -999,9,-999          ,9,     -999,9,     -999,9,     -999,     -999,9,     -999,     -999,9,     -999,1,     -999,1,     -999,1,     -999,1,     -999,1,     -999,1,     -999,1,     -999,1,     -999,1,     -999,1,     -999,1,     -999,1,     -999,1
320620180309  ,S04P       ,96      ,  1,33         ,33         ,2,20180428,0617, -67.9999,-107.3127,     4248,     64.0,-1.8276298875168341951,33.755175200668617,2,  33.7483,2,345.85963698750970,2, 343.7989,2,    347.9,2,     42.9,2,    26.54,2,     0.19,2,     1.87,2,    6.428,2,    3.344,2,   3.5500,2,   2171.1,2,  2283.92,2,   7.6563,2,    25.16,     43.6,2,     -999,9,  -1.8264,2,     -999,9,     -999,9,     -999,     -999,9,    28.60,2,     -999,1,     -999,9,    0.267,1,    4.545,1,    0.242,1,  16.7800,2,     -999,9,20180428,0818, -68.0004,-107.3128,     -999,9,     -999,9,-999          ,9,     -999,9,     -999,9,     -999,     -999,9,     -999,     -999,9,     -999,9,     -999,9,     -999,9,     -999,9,     -999,9,     -999,9,     -999,9,     -999,9,     -999,9,     -999,9,     -999,9,     -999,9,     -999,9
320620180309  ,S04P       ,96      ,  1,32         ,32         ,2,20180428,0617, -67.9999,-107.3127,     4248,     91.4,-1.3978244172647709131,33.949837732696380,2,  33.9573,2,327.54515259686360,3, 323.4965,2,    321.4,2,     49.2,2,    29.50,2,     0.17,2,     2.04,2,     -999,9,     -999,9,     -999,9,   2189.3,2,  2295.21,2,   7.6198,2,    25.11,     42.9,2,     -999,9,  -1.3942,2,     -999,9,     -999,9,     -999,     -999,9,     -999,9,     -999,1,     -999,9,    0.101,1,    4.613,1,    0.182,1,     -999,9,     -999,9,20180428,0818, -68.0004,-107.3128,     -999,9,     -999,9,-999          ,9,     -999,9,     -999,9,     -999,     -999,9,     -999,     -999,9,     -999,1,     -999,1,     -999,1,     -999,1,     -999,1,     -999,1,     -999,1,     -999,1,     -999,1,     -999,1,     -999,1,     -999,1,     -999,1
320620180309  ,S04P       ,96      ,  1,31         ,31         ,2,20180428,0617, -67.9999,-107.3127,     4248,    115.0,-0.9078725065187259746,34.089400008455989,2,  34.0993,2,299.33323292788145,3, 294.9987,2,    288.9,2,     57.3,2,    31.59,2,     0.11,2,     2.15,2,    4.559,2,    2.401,2,   2.7900,2,   2209.8,2,  2303.02,2,   7.5909,2,    25.15,     -999,9,     -999,9,  -1.0437,3,     -999,9,     -999,9,     -999,     -999,9,     -999,9,     -999,9,     -999,9,    0.078,1,    4.628,1,    0.162,1,  18.8600,2,     -999,9,20180428,0817, -68.0005,-107.3128,     -999,9,     -999,9,-999          ,9,     -999,9,     -999,9,     -999,     -999,9,     -999,     -999,9,     -999,9,     -999,9,     -999,9,     -999,9,     -999,9,     -999,9,     -999,9,     -999,9,     -999,9,     -999,9,     -999,9,     -999,9,     -999,9
320620180309  ,S04P       ,96      ,  1,30         ,30         ,2,20180428,0617, -67.9999,-107.3127,     4248,    140.7,0.7258686705640329251,34.309901800379912,2,  34.3031,2,245.56469873966992,3, 243.6011,2,    239.5,2,     63.8,2,    33.87,2,     0.02,2,     2.30,2,    3.244,2,    1.695,2,   1.8500,2,   2234.1,2,  2316.39,2,   7.5596,2,    25.10,     44.0,2,     -999,9,   0.5605,3,     -999,9,     -999,9,     -999,     -999,9,     -999,9,     -999,1,     -999,9,    0.073,1,    4.636,1,    0.167,1,  21.3200,2,     -999,9,20180428,0816, -68.0005,-107.3127,     -999,9,     -999,9,-999          ,9,     -999,9,     -999,9,     -999,     -999,9,     -999,     -999,9,     -999,1,     -999,1,     -999,1,     -999,1,     -999,1,     -999,1,     -999,1,     -999,1,     -999,1,     -999,1,     -999,1,     -999,1,     -999,1
320620180309  ,S04P       ,96      ,  1,29         ,29         ,2,20180428,0617, -67.9999,-107.3127,     4248,    186.9,1.5962999174245706691,34.468503963176985,2,  34.4646,2,201.35440687197811,2, 201.8973,2,    199.7,2,     71.8,2,    34.90,2,     0.01,2,     2.35,2,    1.897,2,    1.012,2,   0.9000,2,   2247.5,2,  2328.16,2,   7.5408,2,    25.12,     39.8,2,     -999,9,   1.5587,2,     -999,9,     -999,9,     -999,     -999,9,    36.60,2,     -999,1,     -999,9,    0.069,1,    4.637,1,    0.160,1,  22.4600,2,     -999,9,20180428,0814, -68.0005,-107.3127,     -999,9,     -999,9,-999          ,9,     -999,9,     -999,9,     -999,     -999,9,     -999,     -999,9,     -999,9,     -999,9,     -999,9,     -999,9,     -999,9,     -999,9,     -999,9,     -999,9,     -999,9,     -999,9,     -999,9,     -999,9,     -999,9
320620180309  ,S04P       ,96      ,  1,28         ,28         ,2,20180428,0617, -67.9999,-107.3127,     4248,    235.7,1.7832065492771940196,34.524405084997611,2,  34.5220,2,191.79847762759991,3, 192.7003,2,    187.3,2,     75.7,2,    34.85,2,     0.00,2,     2.35,2,     -999,9,     -999,9,     -999,9,   2251.8,2,  2333.58,2,   7.5400,2,    25.14,     40.2,2,     -999,9,   1.8075,2,     -999,9,     -999,9,     -999,     -999,9,    36.80,2,     -999,1,     -999,9,    0.066,1,    4.638,1,    0.147,1,     -999,9,     -999,9,20180428,0813, -68.0005,-107.3126,     -999,9,     -999,9,-999          ,9,     -999,9,     -999,9,     -999,     -999,9,     -999,     -999,9,     -999,1,     -999,1,     -999,1,     -999,1,     -999,1,     -999,1,     -999,1,     -999,1,     -999,1,     -999,1,     -999,1,     -999,1,     -999,1
320620180309  ,S04P       ,96      ,  1,27         ,27         ,2,20180428,0617, -67.9999,-107.3127,     4248,    285.8,1.8429632770557016208,34.577327987515723,2,  34.5740,2,183.43124009631165,3, 184.5971,2,    180.8,2,     79.3,2,    34.54,2,     0.00,2,     2.35,2,    1.008,2,    0.532,2,   0.3300,2,   2256.4,2,  2336.19,2,   7.5418,2,    25.16,     45.6,2,     -999,9,   1.8291,2,     -999,9,     -999,9,     -999,     -999,9,     -999,9,     -999,1,     -999,9,    0.063,1,    4.643,1,    0.143,1,  23.1200,2,     -999,9,20180428,0812, -68.0006,-107.3124,     -999,9,     -999,9,-999          ,9,     -999,9,     -999,9,     -999,     -999,9,     -999,     -999,9,     -999,9,     -999,9,     -999,9,     -999,9,     -999,9,     -999,9,     -999,9,     -999,9,     -999,9,     -999,9,     -999,9,     -999,9,     -999,9
320620180309  ,S04P       ,96      ,  1,26         ,38         ,2,20180428,0617, -67.9999,-107.3127,     4248,    336.7,1.8645478126951533504,34.613633148227500,2,  34.6115,2,176.91647217003828,2, 180.3995,2,    176.9,2,     82.4,2,    34.30,2,     0.00,2,     2.32,2,    0.788,2,    0.423,2,   0.2300,2,   2256.1,2,  2338.25,2,   7.5436,2,    25.18,     44.5,2,     -999,9,   1.8554,2,     -999,9,     -999,9,     -999,     -999,9,     -999,9,     -999,1,     -999,9,    0.062,1,    4.645,1,    0.141,1,  22.8100,2,     -999,9,20180428,0811, -68.0008,-107.3122,     -999,9,     -999,9,-999          ,9,     -999,9,     -999,9,     -999,     -999,9,     -999,     -999,9,     -999,1,     -999,1,     -999,1,     -999,1,     -999,1,     -999,1,     -999,1,     -999,1,     -999,1,     -999,1,     -999,1,     -999,1,     -999,1
320620180309  ,S04P       ,96      ,  1,25         ,25         ,2,20180428,0617, -67.9999,-107.3127,     4248,    387.6,1.9958710930037246722,34.659240337512294,2,  34.6554,2,174.87703258895212,2, 177.4057,2,    174.9,2,     84.1,2,    33.75,2,     0.00,2,     2.28,2,    0.515,2,    0.268,2,   0.3600,2,   2259.4,6,  2342.18,2,   7.5545,2,    25.18,     43.3,2,     -999,9,   1.9885,2,     -999,9,     -999,9,     -999,     -999,9,     -999,9,     -999,1,     -999,9,    0.062,1,    4.646,1,    0.140,1,  22.3600,2,     -999,9,20180428,0810, -68.0010,-107.3120,     -999,9,     -999,9,-999          ,9,     -999,9,     -999,9,     -999,     -999,9,     -999,     -999,9,     -999,9,     -999,9,     -999,9,     -999,9,     -999,9,     -999,9,     -999,9,     -999,9,     -999,9,     -999,9,     -999,9,     -999,9,     -999,9
320620180309  ,S04P       ,96      ,  1,24         ,24         ,2,20180428,0617, -67.9999,-107.3127,     4248,    438.2,1.9926913924710438764,34.676641868520797,2,  34.6737,2,176.16185107783267,2, 177.8969,2,    176.6,2,     85.5,2,    33.39,2,     0.00,2,     2.25,2,    0.423,2,    0.223,2,   0.1900,2,   2259.8,2,  2345.77,2,   7.5603,6,    25.18,     -999,9,     -999,9,   1.9934,2,     -999,9,     -999,9,     -999,     -999,9,     -999,9,     -999,9,     -999,9,    0.062,1,    4.648,1,    0.137,1,  21.5200,2,     -999,9,20180428,0809, -68.0011,-107.3118,     -999,9,     -999,9,-999          ,9,     -999,9,     -999,9,     -999,     -999,9,     -999,     -999,9,     -999,1,     -999,1,     -999,1,     -999,1,     -999,1,     -999,1,     -999,1,     -999,1,     -999,1,     -999,1,     -999,1,     -999,1,     -999,1
320620180309  ,S04P       ,96      ,  1,23         ,23         ,2,20180428,0617, -67.9999,-107.3127,     4248,    489.1,1.9786866103849862775,34.691229679874226,2,  34.6874,2,176.61993269134044,2, 178.5014,2,    177.2,2,     87.1,2,    33.09,2,     0.00,2,     2.23,2,    0.359,2,    0.188,2,   0.0200,2,   2258.0,2,  2345.64,2,   7.5640,2,    25.20,     42.4,2,     -999,9,   1.9809,2,     -999,9,     -999,9,     -999,     -999,9,     -999,9,     -999,1,     -999,9,    0.062,1,    4.647,1,    0.141,1,  21.4100,2,     -999,9,20180428,0808, -68.0013,-107.3116,     -999,9,     -999,9,-999          ,9,     -999,9,     -999,9,     -999,     -999,9,     -999,     -999,9,     -999,9,     -999,9,     -999,9,     -999,9,     -999,9,     -999,9,     -999,9,     -999,9,     -999,9,     -999,9,     -999,9,     -999,9,     -999,9
320620180309  ,S04P       ,96      ,  1,22         ,37         ,2,20180428,0617, -67.9999,-107.3127,     4248,    572.3,1.9323345202701711631,34.707962900382860,2,  34.7045,2,179.23138918682480,2, 180.5922,2,    179.9,2,     88.4,2,    32.68,2,     0.00,2,     2.22,2,    0.294,2,    0.155,2,   0.0700,2,   2255.7,2,  2349.98,2,   7.5725,2,    25.21,     42.4,2,     -999,9,   1.9324,2,     -999,9,     -999,9,     -999,     -999,9,     -999,9,     -999,1,     -999,9,    0.062,1,    4.645,1,    0.141,1,  20.7900,2,     -999,9,20180428,0806, -68.0014,-107.3114,     -999,9,     -999,9,-999          ,9,     -999,9,     -999,9,     -999,     -999,9,     -999,     -999,9,     -999,9,     -999,9,     -999,9,     -999,9,     -999,9,     -999,9,     -999,9,     -999,9,     -999,9,     -999,9,     -999,9,     -999,9,     -999,9
320620180309  ,S04P       ,96      ,  1,21         ,21         ,2,20180428,0617, -67.9999,-107.3127,     4248,    673.7,1.8703323244421306004,34.718311812742797,2,  34.7149,2,183.44210873144559,2, 183.4001,2,    182.8,2,     91.3,2,    32.38,2,     0.00,2,     2.20,2,    0.245,2,    0.128,2,   0.1600,2,   2254.6,2,  2350.72,2,   7.5791,2,    25.19,     45.4,2,     -999,9,   1.8703,2,     -999,9,     -999,9,     -999,     -999,9,     -999,9,     -999,1,     -999,9,    0.063,1,    4.647,1,    0.135,1,  20.7400,2,     -999,9,20180428,0803, -68.0013,-107.3113,     -999,9,     -999,9,-999          ,9,     -999,9,     -999,9,     -999,     -999,9,     -999,     -999,9,     -999,1,     -999,1,     -999,1,     -999,1,     -999,1,     -999,1,     -999,1,     -999,1,     -999,1,     -999,1,     -999,1,     -999,1,     -999,1
320620180309  ,S04P       ,96      ,  1,20         ,20         ,2,20180428,0617, -67.9999,-107.3127,     4248,    773.8,1.7985627066225904347,34.725965129743287,2,  34.7227,2,186.36414830532991,2, 186.1034,2,    186.7,2,     92.4,2,    32.06,2,     0.00,2,     2.18,2,     -999,9,     -999,9,     -999,9,   2257.1,2,  2351.65,2,   7.5871,2,    25.19,     40.1,2,     -999,9,   1.7985,2,     -999,9,     -999,9,     -999,     -999,9,     -999,9,     -999,1,     -999,9,    0.062,1,    4.647,1,    0.137,1,     -999,9,     -999,9,20180428,0759, -68.0009,-107.3113,     -999,9,     -999,9,-999          ,9,     -999,9,     -999,9,     -999,     -999,9,     -999,     -999,9,     -999,9,     -999,9,     -999,9,     -999,9,     -999,9,     -999,9,     -999,9,     -999,9,     -999,9,     -999,9,     -999,9,     -999,9,     -999,9
320620180309  ,S04P       ,96      ,  1,19         ,19         ,2,20180428,0617, -67.9999,-107.3127,     4248,    872.8,1.7019979065997981049,34.730317383018622,2,  34.7276,2,187.81683040475104,2, 188.0989,2,    188.1,2,     95.6,2,    32.01,2,     0.00,2,     2.18,2,    0.191,2,    0.103,2,   0.0500,2,   2254.8,2,  2353.66,2,   7.5905,2,    25.18,     42.8,2,     -999,9,   1.7014,2,     -999,9,     -999,9,     -999,     -999,9,     -999,9,     -999,1,     -999,9,    0.061,1,    4.647,1,    0.137,1,  20.5700,2,     -999,9,20180428,0756, -68.0006,-107.3117,     -999,9,     -999,9,-999          ,9,     -999,9,     -999,9,     -999,     -999,9,     -999,     -999,9,     -999,9,     -999,9,     -999,9,     -999,9,     -999,9,     -999,9,     -999,9,     -999,9,     -999,9,     -999,9,     -999,9,     -999,9,     -999,9
320620180309  ,S04P       ,96      ,  1,18         ,18         ,2,20180428,0617, -67.9999,-107.3127,     4248,    978.8,1.6030392033690725739,34.732521077376511,2,  34.7298,2,190.32158565871995,2, 190.4006,2,    191.0,2,     98.0,2,    31.86,2,     0.00,2,     2.16,2,     -999,9,     -999,9,     -999,9,   2256.7,2,  2355.44,2,   7.5932,2,    25.19,     42.8,2,     -999,9,   1.6028,2,     -999,9,     -999,9,     -999,     -999,9,     -999,9,     -999,1,     -999,9,    0.061,1,    4.649,1,    0.134,1,     -999,9,     -999,9,20180428,0753, -68.0001,-107.3123,     -999,9,     -999,9,-999          ,9,     -999,9,     -999,9,     -999,     -999,9,     -999,     -999,9,     -999,1,     -999,1,     -999,1,     -999,1,     -999,1,     -999,1,     -999,1,     -999,1,     -999,1,     -999,1,     -999,1,     -999,1,     -999,1
320620180309  ,S04P       ,96      ,  1,17         ,17         ,2,20180428,0617, -67.9999,-107.3127,     4248,   1077.8,1.5133899655188569611,34.732047545264493,2,  34.7298,2,191.61603917664323,2, 192.0987,2,    191.8,2,    101.0,2,    31.91,2,     0.00,2,     2.19,2,    0.158,2,    0.089,2,   0.0700,2,   2257.4,2,  2358.60,2,   7.5920,2,    25.19,     39.3,2,     -999,9,   1.5140,2,     -999,9,     -999,9,     -999,     -999,9,     -999,9,     -999,1,     -999,9,    0.061,1,    4.650,1,    0.136,1,  19.9300,2,     -999,9,20180428,0750, -67.9998,-107.3128,     -999,9,     -999,9,-999          ,9,     -999,9,     -999,9,     -999,     -999,9,     -999,     -999,9,     -999,9,     -999,9,     -999,9,     -999,9,     -999,9,     -999,9,     -999,9,     -999,9,     -999,9,     -999,9,     -999,9,     -999,9,     -999,9
320620180309  ,S04P       ,96      ,  1,16         ,16         ,2,20180428,0617, -67.9999,-107.3127,     4248,   1180.5,1.4320879450973547087,34.731157905941267,2,  34.7282,2,192.93786387320213,2, 193.5009,2,    193.4,2,    104.0,2,    31.94,2,     0.00,2,     2.19,2,     -999,9,     -999,9,     -999,9,   2257.8,2,  2358.43,2,   7.5969,2,    25.16,     42.7,2,     -999,9,   1.4317,2,     -999,9,     -999,9,     -999,     -999,9,     -999,9,     -999,1,     -999,9,    0.061,1,    4.650,1,    0.132,1,     -999,9,     -999,9,20180428,0747, -67.9996,-107.3132,     -999,9,     -999,9,-999          ,9,     -999,9,     -999,9,     -999,     -999,9,     -999,     -999,9,     -999,9,     -999,9,     -999,9,     -999,9,     -999,9,     -999,9,     -999,9,     -999,9,     -999,9,     -999,9,     -999,9,     -999,9,     -999,9