BOTTLE,20240504CCHHYDRO
EXPOCODE,SECT_ID,STNNBR,CASTNO,SAMPNO,BTLNBR,DATE,TIME,LATITUDE,LONGITUDE,CTDPRS,CTDTMP,CTDSAL,CTDOXY,CTDOXY_FLAG_W,OXYGEN,OXYGEN_FLAG_W,SILCAT,SILCAT_FLAG_W,NITRAT,NITRAT_FLAG_W,NITRIT,NITRIT_FLAG_W,PHSPHT,PHSPHT_FLAG_W,CFC-12,CFC-12_FLAG_W,SF6,SF6_FLAG_W,TCARBN,TCARBN_FLAG_W,CARBONATE,CARBONATE_FLAG_W,ALKALI,ALKALI_FLAG_W,PH,PH_FLAG_W
,,,,,,,,,,DBAR,DEG C,PSS-78,UMOL/KG,,UMOL/KG,,UMOL/KG,,UMOL/KG,,UMOL/KG,,UMOL/KG,,PMOL/KG,,FMOL/KG,,UMOL/KG,,UMOL/KG,,UMOL/KG,,,
29AJ20160818  ,TAlPro-2016,28      ,  1,16         ,16         ,20160825,1130,    41.98,     4.95,      6.4,   22.858,   38.256,   218.74,2,   219.81,2,     0.00,2,     0.12,2,     0.00,2,     0.04,2,     1.14,2,     1.51,2,     -999,9,     -999,9,     -999,9,     8.02,2
29AJ20160818  ,TAlPro-2016,28      ,  1,15         ,15         ,20160825,1130,    41.98,     4.95,     25.4,   22.404,   38.254,   219.67,2,     -999,9,     -999,9,     -999,9,     -999,9,     -999,9,     -999,9,     -999,9,     -999,9,     -999,9,  2578.35,2,     8.02,2
29AJ20160818  ,TAlPro-2016,28      ,  1,14         ,14         ,20160825,1130,    41.98,     4.95,     49.4,   15.435,   38.349,   257.15,2,     -999,9,     0.00,2,     0.32,2,     0.01,2,     0.06,2,     1.48,2,     1.85,2,     -999,9,     -999,9,     -999,9,     7.95,2
29AJ20160818  ,TAlPro-2016,28      ,  1,13         ,13         ,20160825,1130,    41.98,     4.95,     74.8,   13.719,   38.414,   203.77,2,     -999,9,     -999,9,     -999,9,     -999,9,     -999,9,     1.44,2,     1.60,2,     -999,9,     -999,9,  2583.76,2,     7.88,2
29AJ20160818  ,TAlPro-2016,28      ,  1,12         ,12         ,20160825,1130,    41.98,     4.95,    101.2,   13.509,   38.470,   194.26,2,     -999,9,     -999,9,     -999,9,     -999,9,     -999,9,     1.37,2,     1.50,2,     -999,9,     -999,9,     -999,9,     7.88,2
29AJ20160818  ,TAlPro-2016,28      ,  1,11         ,11         ,20160825,1130,    41.98,     4.95,    202.1,   13.531,   38.581,   179.41,2,     -999,9,     -999,9,     -999,9,     -999,9,     -999,9,     1.13,2,     1.07,2,     -999,9,     -999,9,  2598.94,2,     7.89,2
29AJ20160818  ,TAlPro-2016,28      ,  1,10         ,10         ,20160825,1130,    41.98,     4.95,    302.0,   13.560,   38.613,   173.33,2,     -999,9,     5.90,2,     7.63,2,     0.00,2,     0.41,2,     1.00,2,     0.90,2,     -999,9,     -999,9,     -999,9,     7.89,2
29AJ20160818  ,TAlPro-2016,28      ,  1,9          ,9          ,20160825,1130,    41.98,     4.95,    402.4,   13.387,   38.571,   182.81,2,     -999,9,     -999,9,     -999,9,     -999,9,     -999,9,     1.03,2,     0.91,2,     -999,9,     -999,9,  2598.73,2,     7.89,2
29AJ20160818  ,TAlPro-2016,28      ,  1,8          ,8          ,20160825,1130,    41.98,     4.95,    505.9,   13.386,   38.574,   175.45,2,   174.33,2,     -999,9,     -999,9,     -999,9,     -999,9,     0.91,2,     0.66,2,     -999,9,     -999,9,     -999,9,     7.90,2
29AJ20160818  ,TAlPro-2016,28      ,  1,7          ,7          ,20160825,1130,    41.98,     4.95,    757.7,   13.251,   38.538,   181.19,2,     -999,9,     7.57,2,     7.73,2,     0.00,2,     0.44,2,     0.75,2,     0.48,2,     -999,9,     -999,9,  2596.73,2,     7.90,2
29AJ20160818  ,TAlPro-2016,28      ,  1,6          ,6          ,20160825,1130,    41.98,     4.95,   1009.9,   13.135,   38.500,   187.70,2,     -999,9,     -999,9,     -999,9,     -999,9,     -999,9,     0.77,2,     0.39,2,     -999,9,     -999,9,     -999,9,     7.90,2
29AJ20160818  ,TAlPro-2016,28      ,  1,5          ,5          ,20160825,1130,    41.98,     4.95,   1263.9,   13.118,   38.487,   191.83,2,     -999,9,     -999,9,     -999,9,     -999,9,     -999,9,     -999,9,     -999,9,     -999,9,     -999,9,     -999,9,     -999,9
29AJ20160818  ,TAlPro-2016,28      ,  1,4          ,4          ,20160825,1130,    41.98,     4.95,   1517.3,   13.145,   38.486,   195.23,2,     -999,9,     7.64,2,     7.56,2,     0.00,2,     0.42,2,     -999,9,     0.59,2,     -999,9,     -999,9,     -999,9,     7.90,2
29AJ20160818  ,TAlPro-2016,28      ,  1,3          ,3          ,20160825,1130,    41.98,     4.95,   1772.3,   13.177,   38.487,   196.06,2,     -999,9,     -999,9,     -999,9,     -999,9,     -999,9,     0.89,2,     0.57,2,     -999,9,     -999,9,  2591.91,2,     7.90,2
29AJ20160818  ,TAlPro-2016,28      ,  1,2          ,2          ,20160825,1130,    41.98,     4.95,   2024.8,   13.214,   38.488,   196.59,2,     -999,9,     -999,9,     -999,9,     -999,9,     -999,9,     0.91,2,     0.66,2,     -999,9,     -999,9,     -999,9,     7.90,2
29AJ20160818  ,TAlPro-2016,28      ,  1,1          ,1          ,20160825,1130,    41.98,     4.95,   2330.6,   13.271,   38.493,   196.93,2,   196.98,2,     8.50,2,     7.50,2,     0.00,2,     0.40,2,     0.99,2,     0.65,2,     -999,9,     -999,9,  2590.80,2,     7.90,2
29AJ20160818  ,TAlPro-2016,30      ,  1,14         ,14         ,20160825,2033,    42.18,     4.17,      5.6,   23.178,   38.452,   222.79,2,   222.36,2,     0.50,2,     0.00,2,     0.00,2,     0.15,2,     1.12,2,     1.47,2,     -999,9,     -999,9,     -999,9,     8.02,2
29AJ20160818  ,TAlPro-2016,30      ,  1,13         ,13         ,20160825,2033,    42.18,     4.17,     26.1,   22.020,   38.423,   228.71,2,     -999,9,     -999,9,     -999,9,     -999,9,     -999,9,     -999,9,     -999,9,     -999,9,     -999,9,  2570.05,2,     8.02,2
29AJ20160818  ,TAlPro-2016,30      ,  1,12         ,12         ,20160825,2033,    42.18,     4.17,     50.9,   14.463,   38.358,   250.75,2,     -999,9,     1.15,2,     0.66,2,     0.02,2,     0.04,2,     1.40,2,     1.81,2,     -999,9,     -999,9,     -999,9,     7.92,2
29AJ20160818  ,TAlPro-2016,30      ,  1,11         ,11         ,20160825,2033,    42.18,     4.17,     65.9,   13.784,   38.438,   207.76,2,     -999,9,     -999,9,     -999,9,     -999,9,     -999,9,     -999,9,     -999,9,     -999,9,     -999,9,  2578.72,2,     7.89,2
29AJ20160818  ,TAlPro-2016,30      ,  1,10         ,10         ,20160825,2033,    42.18,     4.17,    101.6,   13.536,   38.479,   210.61,2,     -999,9,     3.58,2,     5.37,2,     0.01,2,     0.22,2,     1.33,2,     1.62,2,     -999,9,     -999,9,     -999,9,     7.89,2
29AJ20160818  ,TAlPro-2016,30      ,  1,9          ,9          ,20160825,2033,    42.18,     4.17,    201.6,   13.482,   38.574,   183.42,2,     -999,9,     -999,9,     -999,9,     -999,9,     -999,9,     1.14,2,     1.17,2,     -999,9,     -999,9,  2590.67,2,     7.89,2
29AJ20160818  ,TAlPro-2016,30      ,  1,8          ,8          ,20160825,2033,    42.18,     4.17,    303.4,   13.431,   38.578,   183.96,2,     -999,9,     -999,9,     -999,9,     -999,9,     -999,9,     1.08,2,     1.05,2,     -999,9,     -999,9,     -999,9,     7.89,2
29AJ20160818  ,TAlPro-2016,30      ,  1,7          ,7          ,20160825,2033,    42.18,     4.17,    403.8,   13.388,   38.573,   180.71,2,   179.23,2,     6.82,2,     7.53,2,     0.00,2,     0.38,2,     0.94,2,     0.86,2,     -999,9,     -999,9,  2589.76,2,     7.88,2
29AJ20160818  ,TAlPro-2016,30      ,  1,6          ,6          ,20160825,2033,    42.18,     4.17,    505.1,   13.391,   38.577,   174.16,2,     -999,9,     -999,9,     -999,9,     -999,9,     -999,9,     0.84,2,     0.62,2,     -999,9,     -999,9,     -999,9,     7.89,2
29AJ20160818  ,TAlPro-2016,30      ,  1,5          ,5          ,20160825,2033,    42.18,     4.17,    757.7,   13.239,   38.534,   181.31,2,   181.49,2,     -999,9,     -999,9,     -999,9,     -999,9,     -999,9,     -999,9,     -999,9,     -999,9,  2588.33,2,     7.90,2
29AJ20160818  ,TAlPro-2016,30      ,  1,4          ,4          ,20160825,2033,    42.18,     4.17,   1012.7,   13.139,   38.501,   187.61,2,     -999,9,     8.50,2,     7.50,2,     0.00,2,     0.41,2,     0.76,2,     0.43,2,     -999,9,     -999,9,     -999,9,     7.90,2
29AJ20160818  ,TAlPro-2016,30      ,  1,3          ,3          ,20160825,2033,    42.18,     4.17,   1265.7,   13.120,   38.489,   193.08,2,   194.37,4,     -999,9,     -999,9,     -999,9,     -999,9,     -999,9,     -999,9,     -999,9,     -999,9,  2586.31,2,     7.90,2
29AJ20160818  ,TAlPro-2016,30      ,  1,2          ,2          ,20160825,2033,    42.18,     4.17,   1518.5,   13.145,   38.488,   195.52,2,     -999,9,     -999,9,     -999,9,     -999,9,     -999,9,     0.90,2,     0.61,2,     -999,9,     -999,9,     -999,9,     -999,9
29AJ20160818  ,TAlPro-2016,30      ,  1,1          ,1          ,20160825,2033,    42.18,     4.17,   1832.4,   13.189,   38.491,   195.88,2,   195.80,2,     9.45,2,     7.40,2,     0.00,2,     0.41,2,     1.04,2,     0.70,2,     -999,9,     -999,9,  2586.95,2,     -999,9
29AJ20160818  ,TAlPro-2016,32      ,  1,10         ,10         ,20160826,0215,    42.38,     3.58,      5.3,   22.814,   38.146,   217.54,2,     -999,9,     -999,9,     -999,9,     -999,9,     -999,9,     1.17,2,     1.76,2,     -999,9,     -999,9,     -999,9,     8.01,2
29AJ20160818  ,TAlPro-2016,32      ,  1,9          ,9          ,20160826,0215,    42.38,     3.58,     25.2,   20.988,   38.036,   226.18,2,     -999,9,     0.11,2,     0.21,2,     0.01,2,     0.05,2,     -999,9,     -999,9,     -999,9,     -999,9,  2571.70,2,     7.98,2
29AJ20160818  ,TAlPro-2016,32      ,  1,8          ,8          ,20160826,0215,    42.38,     3.58,     52.2,   15.650,   38.167,   257.07,2,     -999,9,     -999,9,     -999,9,     -999,9,     -999,9,     1.50,2,     2.08,2,     -999,9,     -999,9,     -999,9,     7.97,2
29AJ20160818  ,TAlPro-2016,32      ,  1,7          ,7          ,20160826,0215,    42.38,     3.58,     76.5,   14.323,   38.266,   204.12,2,     -999,9,     -999,9,     -999,9,     -999,9,     -999,9,     -999,9,     -999,9,     -999,9,     -999,9,  2567.24,2,     7.89,2
29AJ20160818  ,TAlPro-2016,32      ,  1,6          ,6          ,20160826,0215,    42.38,     3.58,    101.3,   14.045,   38.313,   192.65,2,     -999,9,     4.40,2,     4.05,2,     0.03,2,     0.17,2,     1.45,2,     1.96,2,     -999,9,     -999,9,     -999,9,     7.88,2
29AJ20160818  ,TAlPro-2016,32      ,  1,5          ,5          ,20160826,0215,    42.38,     3.58,    203.9,   13.680,   38.476,   194.70,2,     -999,9,     -999,9,     -999,9,     -999,9,     -999,9,     1.34,2,     1.49,2,     -999,9,     -999,9,  2582.76,2,     7.89,2
29AJ20160818  ,TAlPro-2016,32      ,  1,4          ,4          ,20160826,0215,    42.38,     3.58,    302.9,   13.577,   38.545,   186.61,2,     -999,9,     4.93,2,     6.50,2,     0.01,2,     0.34,2,     1.24,2,     1.27,2,     -999,9,     -999,9,     -999,9,     7.89,2
29AJ20160818  ,TAlPro-2016,32      ,  1,3          ,3          ,20160826,0215,    42.38,     3.58,    404.1,   13.633,   38.606,   173.98,2,     -999,9,     -999,9,     -999,9,     -999,9,     -999,9,     1.07,2,     1.07,2,     -999,9,     -999,9,  2594.93,2,     7.89,2
29AJ20160818  ,TAlPro-2016,32      ,  1,2          ,2          ,20160826,0215,    42.38,     3.58,    500.7,   13.509,   38.588,   178.19,2,     -999,9,     6.54,2,     7.22,2,     0.01,2,     0.39,2,     1.02,2,     0.99,2,     -999,9,     -999,9,     -999,9,     7.89,2
29AJ20160818  ,TAlPro-2016,32      ,  1,1          ,1          ,20160826,0215,    42.38,     3.58,    602.4,   13.489,   38.585,   176.43,2,     -999,9,     7.07,2,     7.27,2,     0.00,2,     0.39,2,     0.97,2,     0.93,2,     -999,9,     -999,9,  2595.31,2,     7.89,2
29AJ20160818  ,TAlPro-2016,33      ,  1,10         ,10         ,20160826,0332,    42.40,     3.53,      5.1,   21.651,   38.111,   221.91,2,     -999,9,     -999,9,     -999,9,     -999,9,     -999,9,     -999,9,     -999,9,     -999,9,     -999,9,     -999,9,     8.00,2
29AJ20160818  ,TAlPro-2016,33      ,  1,9          ,9          ,20160826,0332,    42.40,     3.53,     25.6,   20.842,   38.069,   226.46,2,     -999,9,     0.23,2,     0.24,2,     0.00,2,     0.03,2,     -999,9,     -999,9,  2250.20,2,   297.03,2,  2572.79,2,     8.00,2
29AJ20160818  ,TAlPro-2016,33      ,  1,8          ,8          ,20160826,0332,    42.40,     3.53,     51.9,   15.990,   38.160,   247.50,2,     -999,9,     -999,9,     -999,9,     -999,9,     -999,9,     -999,9,     -999,9,     -999,9,     -999,9,     -999,9,     7.96,2
29AJ20160818  ,TAlPro-2016,33      ,  1,7          ,7          ,20160826,0332,    42.40,     3.53,     77.0,   14.292,   38.266,   220.72,2,     -999,9,     -999,9,     -999,9,     -999,9,     -999,9,     -999,9,     -999,9,  2295.93,2,   223.71,2,  2571.59,2,     7.90,2
29AJ20160818  ,TAlPro-2016,33      ,  1,6          ,6          ,20160826,0332,    42.40,     3.53,    102.7,   13.948,   38.340,   192.69,2,     -999,9,     4.30,2,     4.35,2,     0.03,2,     0.19,2,     -999,9,     -999,9,     -999,9,     -999,9,     -999,9,     7.88,2
29AJ20160818  ,TAlPro-2016,33      ,  1,5          ,5          ,20160826,0332,    42.40,     3.53,    201.5,   13.730,   38.470,   195.12,2,     -999,9,     -999,9,     -999,9,     -999,9,     -999,9,     -999,9,     -999,9,  2321.98,2,   232.48,2,  2581.82,2,     7.90,2
29AJ20160818  ,TAlPro-2016,33      ,  1,4          ,4          ,20160826,0332,    42.40,     3.53,    303.0,   13.586,   38.535,   188.35,2,     -999,9,     -999,9,     -999,9,     -999,9,     -999,9,     -999,9,     -999,9,     -999,9,     -999,9,     -999,9,     7.89,2
29AJ20160818  ,TAlPro-2016,33      ,  1,3          ,3          ,20160826,0332,    42.40,     3.53,    406.1,   13.567,   38.584,   177.94,2,     -999,9,     6.41,2,     7.00,2,     0.01,2,     0.35,2,     -999,9,     -999,9,  2329.44,2,   237.91,2,  2593.92,2,     7.89,2
29AJ20160818  ,TAlPro-2016,33      ,  1,2          ,2          ,20160826,0332,    42.40,     3.53,    506.9,   13.506,   38.586,   176.88,2,     -999,9,     7.02,2,     7.25,2,     0.01,2,     0.38,2,     -999,9,     -999,9,     -999,9,     -999,9,     -999,9,     7.89,2
29AJ20160818  ,TAlPro-2016,33      ,  1,1          ,1          ,20160826,0332,    42.40,     3.53,    760.3,   13.387,   38.564,   175.80,2,     -999,9,     8.43,2,     7.50,2,     0.01,2,     0.43,2,     -999,9,     -999,9,  2327.98,2,   240.56,3,  2592.81,2,     7.89,2
29AJ20160818  ,TAlPro-2016,34      ,  1,12         ,12         ,20160826,1858,    40.00,     2.77,      5.5,   25.917,   37.336,   207.69,2,     -999,9,     -999,9,     -999,9,     -999,9,     -999,9,     1.00,2,     1.37,2,     -999,9,     -999,9,     -999,9,     -999,9
29AJ20160818  ,TAlPro-2016,34      ,  1,11         ,11         ,20160826,1858,    40.00,     2.77,     24.2,   25.519,   37.321,   210.45,2,     -999,9,     -999,9,     -999,9,     -999,9,     -999,9,     1.07,2,     1.41,2,     -999,9,     -999,9,     -999,9,     -999,9
29AJ20160818  ,TAlPro-2016,34      ,  1,10         ,10         ,20160826,1858,    40.00,     2.77,     51.0,   16.866,   37.242,   277.76,2,     -999,9,     -999,9,     -999,9,     -999,9,     -999,9,     -999,9,     -999,9,     -999,9,     -999,9,     -999,9,     -999,9
29AJ20160818  ,TAlPro-2016,34      ,  1,9          ,9          ,20160826,1858,    40.00,     2.77,     81.2,   15.232,   37.858,   243.48,2,     -999,9,     -999,9,     -999,9,     -999,9,     -999,9,     1.49,2,     1.79,2,     -999,9,     -999,9,     -999,9,     -999,9
29AJ20160818  ,TAlPro-2016,34      ,  1,8          ,8          ,20160826,1858,    40.00,     2.77,    100.9,   14.678,   37.959,   226.79,2,     -999,9,     -999,9,     -999,9,     -999,9,     -999,9,     1.49,2,     1.78,2,     -999,9,     -999,9,     -999,9,     -999,9
29AJ20160818  ,TAlPro-2016,34      ,  1,7          ,7          ,20160826,1858,    40.00,     2.77,    202.3,   13.641,   38.278,   216.20,2,     -999,9,     -999,9,     -999,9,     -999,9,     -999,9,     1.48,6,     1.72,6,     -999,9,     -999,9,     -999,9,     -999,9
29AJ20160818  ,TAlPro-2016,34      ,  1,6          ,6          ,20160826,1858,    40.00,     2.77,    302.9,   13.463,   38.460,   204.01,2,     -999,9,     -999,9,     -999,9,     -999,9,     -999,9,     1.34,2,     1.41,2,     -999,9,     -999,9,     -999,9,     -999,9
29AJ20160818  ,TAlPro-2016,34      ,  1,5          ,5          ,20160826,1858,    40.00,     2.77,    404.6,   13.523,   38.565,   178.46,2,     -999,9,     -999,9,     -999,9,     -999,9,     -999,9,     1.19,2,     1.05,2,     -999,9,     -999,9,     -999,9,     -999,9
29AJ20160818  ,TAlPro-2016,34      ,  1,4          ,4          ,20160826,1858,    40.00,     2.77,    504.6,   13.470,   38.577,   173.80,2,     -999,9,     -999,9,     -999,9,     -999,9,     -999,9,     0.98,2,     0.79,2,     -999,9,     -999,9,     -999,9,     -999,9
29AJ20160818  ,TAlPro-2016,34      ,  1,3          ,3          ,20160826,1858,    40.00,     2.77,    758.3,   13.306,   38.545,   180.79,2,     -999,9,     -999,9,     -999,9,     -999,9,     -999,9,     0.85,2,     0.60,2,     -999,9,     -999,9,     -999,9,     -999,9
29AJ20160818  ,TAlPro-2016,34      ,  1,2          ,2          ,20160826,1858,    40.00,     2.77,   1012.1,   13.176,   38.510,   189.64,2,     -999,9,     -999,9,     -999,9,     -999,9,     -999,9,     0.86,2,     0.53,2,     -999,9,     -999,9,     -999,9,     -999,9
29AJ20160818  ,TAlPro-2016,34      ,  1,1          ,1          ,20160826,1858,    40.00,     2.77,   1321.9,   13.132,   38.492,   194.06,2,     -999,9,     -999,9,     -999,9,     -999,9,     -999,9,     0.92,2,     0.63,2,     -999,9,     -999,9,     -999,9,     -999,9