BOTTLE,20240504CCHHYDRO
EXPOCODE,SECT_ID,STNNBR,CASTNO,SAMPNO,BTLNBR,DATE,TIME,LATITUDE,LONGITUDE,CTDPRS,CTDTMP,CTDSAL,CTDOXY,CTDOXY_FLAG_W,OXYGEN,OXYGEN_FLAG_W,SILCAT,SILCAT_FLAG_W,NITRAT,NITRAT_FLAG_W,NITRIT,NITRIT_FLAG_W,PHSPHT,PHSPHT_FLAG_W,CFC-12,CFC-12_FLAG_W,SF6,SF6_FLAG_W,TCARBN,TCARBN_FLAG_W,CARBONATE,CARBONATE_FLAG_W,ALKALI,ALKALI_FLAG_W,PH,PH_FLAG_W
,,,,,,,,,,DBAR,DEG C,PSS-78,UMOL/KG,,UMOL/KG,,UMOL/KG,,UMOL/KG,,UMOL/KG,,UMOL/KG,,PMOL/KG,,FMOL/KG,,UMOL/KG,,UMOL/KG,,UMOL/KG,,,
29AJ20160818  ,TAlPro-2016,8       ,  1,19         ,19         ,20160820,1858,    40.10,    11.55,      5.1,   25.758,   38.116,   202.45,2,     -999,9,     0.70,2,     0.04,2,     0.00,2,     0.06,2,     1.04,2,     1.34,2,     -999,9,     -999,9,     -999,9,     -999,9
29AJ20160818  ,TAlPro-2016,8       ,  1,18         ,18         ,20160820,1858,    40.10,    11.55,     26.0,   24.337,   38.357,   212.41,2,     -999,9,     -999,9,     -999,9,     -999,9,     -999,9,     -999,9,     -999,9,     -999,9,     -999,9,     -999,9,     -999,9
29AJ20160818  ,TAlPro-2016,8       ,  1,17         ,17         ,20160820,1858,    40.10,    11.55,     50.0,   17.346,   37.804,   255.18,2,     -999,9,     0.62,2,     0.06,2,     0.00,2,     0.05,2,     1.47,2,     1.68,2,     -999,9,     -999,9,     -999,9,     -999,9
29AJ20160818  ,TAlPro-2016,8       ,  1,16         ,16         ,20160820,1858,    40.10,    11.55,     76.6,   15.374,   37.935,   239.52,2,     -999,9,     -999,9,     -999,9,     -999,9,     -999,9,     -999,9,     -999,9,     -999,9,     -999,9,     -999,9,     -999,9
29AJ20160818  ,TAlPro-2016,8       ,  1,15         ,15         ,20160820,1858,    40.10,    11.55,    101.1,   14.776,   38.153,   234.80,2,   234.62,2,     1.04,2,     0.18,2,     0.14,2,     0.05,2,     1.53,2,     1.78,2,     -999,9,     -999,9,     -999,9,     -999,9
29AJ20160818  ,TAlPro-2016,8       ,  1,14         ,14         ,20160820,1858,    40.10,    11.55,    202.6,   14.517,   38.537,   194.70,2,     -999,9,     -999,9,     -999,9,     -999,9,     -999,9,     1.43,2,     1.72,2,     -999,9,     -999,9,     -999,9,     -999,9
29AJ20160818  ,TAlPro-2016,8       ,  1,13         ,13         ,20160820,1858,    40.10,    11.55,    302.8,   14.259,   38.661,   184.25,2,     -999,9,     3.81,2,     5.49,2,     0.00,2,     0.25,2,     1.27,2,     1.33,2,     -999,9,     -999,9,     -999,9,     -999,9
29AJ20160818  ,TAlPro-2016,8       ,  1,12         ,12         ,20160820,1858,    40.10,    11.55,    404.3,   14.427,   38.790,   179.38,2,     -999,9,     -999,9,     -999,9,     -999,9,     -999,9,     1.18,2,     1.28,2,     -999,9,     -999,9,     -999,9,     -999,9
29AJ20160818  ,TAlPro-2016,8       ,  1,11         ,11         ,20160820,1858,    40.10,    11.55,    504.4,   14.292,   38.786,   177.34,2,     -999,9,     5.22,2,     5.74,2,     0.00,2,     0.30,2,     1.12,2,     1.11,2,     -999,9,     -999,9,     -999,9,     -999,9
29AJ20160818  ,TAlPro-2016,8       ,  1,10         ,10         ,20160820,1858,    40.10,    11.55,    758.5,   13.950,   38.719,   177.54,2,     -999,9,     -999,9,     -999,9,     -999,9,     -999,9,     0.87,2,     0.71,2,     -999,9,     -999,9,     -999,9,     -999,9
29AJ20160818  ,TAlPro-2016,8       ,  1,9          ,9          ,20160820,1858,    40.10,    11.55,   1010.9,   13.704,   38.652,   180.44,2,   182.57,2,     7.88,2,     6.82,2,     0.00,2,     0.38,2,     0.76,2,     0.51,2,     -999,9,     -999,9,     -999,9,     -999,9
29AJ20160818  ,TAlPro-2016,8       ,  1,8          ,8          ,20160820,1858,    40.10,    11.55,   1263.8,   13.541,   38.602,   182.30,2,     -999,9,     -999,9,     -999,9,     -999,9,     -999,9,     0.67,2,     0.34,2,     -999,9,     -999,9,     -999,9,     -999,9
29AJ20160818  ,TAlPro-2016,8       ,  1,7          ,7          ,20160820,1858,    40.10,    11.55,   1517.7,   13.424,   38.561,   184.62,2,     -999,9,     8.83,2,     7.38,2,     0.00,2,     0.41,2,     0.62,2,     0.26,2,     -999,9,     -999,9,     -999,9,     -999,9
29AJ20160818  ,TAlPro-2016,8       ,  1,6          ,6          ,20160820,1858,    40.10,    11.55,   1771.1,   13.401,   38.544,   185.67,2,     -999,9,     -999,9,     -999,9,     -999,9,     -999,9,     0.61,2,     0.23,2,     -999,9,     -999,9,     -999,9,     -999,9
29AJ20160818  ,TAlPro-2016,8       ,  1,5          ,5          ,20160820,1858,    40.10,    11.55,   2026.1,   13.408,   38.534,   186.35,2,   188.91,2,     9.22,2,     7.68,2,     0.00,2,     0.42,2,     0.61,2,     0.24,2,     -999,9,     -999,9,     -999,9,     -999,9
29AJ20160818  ,TAlPro-2016,8       ,  1,4          ,4          ,20160820,1858,    40.10,    11.55,   2284.6,   13.409,   38.522,   187.77,2,     -999,9,     -999,9,     -999,9,     -999,9,     -999,9,     1.04,3,     1.02,3,     -999,9,     -999,9,     -999,9,     -999,9
29AJ20160818  ,TAlPro-2016,8       ,  1,3          ,3          ,20160820,1858,    40.10,    11.55,   2534.4,   13.415,   38.512,   188.24,2,     -999,9,     9.32,2,     7.93,2,     0.00,2,     0.43,2,     0.67,2,     0.30,2,     -999,9,     -999,9,     -999,9,     -999,9
29AJ20160818  ,TAlPro-2016,8       ,  1,2          ,2          ,20160820,1858,    40.10,    11.55,   2790.1,   13.437,   38.506,   189.57,2,     -999,9,     -999,9,     -999,9,     -999,9,     -999,9,     0.71,2,     0.29,2,     -999,9,     -999,9,     -999,9,     -999,9
29AJ20160818  ,TAlPro-2016,8       ,  1,1          ,1          ,20160820,1858,    40.10,    11.55,   3019.6,   13.468,   38.503,   189.85,2,   193.16,2,     9.26,2,     8.14,2,     0.00,2,     0.44,2,     0.74,2,     0.35,2,     -999,9,     -999,9,     -999,9,     -999,9
29AJ20160818  ,TAlPro-2016,12      ,  1,10         ,10         ,20160821,0000,    41.60,    10.08,      9.8,   23.737,   38.428,   223.64,2,     -999,5,     0.75,2,     0.11,2,     0.01,2,     0.03,2,     1.28,2,     1.53,2,     -999,9,     -999,9,     -999,9,     8.00,2
29AJ20160818  ,TAlPro-2016,12      ,  1,9          ,9          ,20160821,0000,    41.60,    10.08,     25.3,   15.311,   38.535,   261.37,2,     -999,9,     0.96,2,     0.16,2,     0.00,2,     0.06,2,     1.42,2,     1.60,2,  2266.63,2,   207.97,3,  2590.43,2,     8.00,2
29AJ20160818  ,TAlPro-2016,12      ,  1,8          ,8          ,20160821,0000,    41.60,    10.08,     51.3,   14.393,   38.629,   186.13,2,   186.51,2,     2.84,2,     3.90,2,     0.04,2,     0.11,2,     -999,9,     -999,9,     -999,9,     -999,9,     -999,9,     7.91,2
29AJ20160818  ,TAlPro-2016,12      ,  1,7          ,7          ,20160821,0000,    41.60,    10.08,     77.7,   14.290,   38.648,   185.78,2,     -999,9,     3.25,2,     5.41,2,     0.02,2,     0.26,2,     1.32,2,     1.53,2,  2327.76,2,   194.98,3,  2599.14,2,     7.90,2
29AJ20160818  ,TAlPro-2016,12      ,  1,6          ,6          ,20160821,0000,    41.60,    10.08,    101.8,   14.307,   38.695,   181.36,2,     -999,9,     3.62,2,     5.57,2,     0.01,2,     0.25,2,     1.28,2,     1.39,2,     -999,9,     -999,9,     -999,9,     7.91,2
29AJ20160818  ,TAlPro-2016,12      ,  1,5          ,5          ,20160821,0000,    41.60,    10.08,    200.2,   14.075,   38.693,   181.21,2,   181.28,2,     4.44,2,     6.15,2,     0.01,2,     0.28,2,     1.22,2,     1.16,2,  2334.39,2,   210.35,3,  2604.01,2,     7.90,2
29AJ20160818  ,TAlPro-2016,12      ,  1,4          ,4          ,20160821,0000,    41.60,    10.08,    307.2,   14.088,   38.733,   170.91,2,     -999,9,     5.28,2,     6.56,2,     0.01,2,     0.32,2,     1.09,2,     0.97,2,     -999,9,     -999,9,     -999,9,     7.91,2
29AJ20160818  ,TAlPro-2016,12      ,  1,3          ,3          ,20160821,0000,    41.60,    10.08,    404.7,   13.995,   38.723,   169.21,2,   170.64,2,     5.90,2,     6.75,2,     0.01,2,     0.34,2,     1.01,2,     0.92,2,  2335.82,2,   223.13,3,  2606.57,2,     7.91,2
29AJ20160818  ,TAlPro-2016,12      ,  1,2          ,2          ,20160821,0000,    41.60,    10.08,    506.3,   13.902,   38.707,   171.31,2,     -999,9,     6.41,2,     6.70,2,     0.00,2,     0.34,2,     0.91,2,     0.85,2,     -999,9,     -999,9,     -999,9,     7.91,2
29AJ20160818  ,TAlPro-2016,12      ,  1,1          ,1          ,20160821,0000,    41.60,    10.08,    665.2,   13.675,   38.653,   175.20,2,   175.24,2,     8.09,2,     6.85,2,     0.01,2,     0.36,2,     0.75,2,     0.62,2,  2326.60,2,   225.16,3,  2602.02,2,     7.92,2
29AJ20160818  ,TAlPro-2016,10      ,  1,16         ,16         ,20160821,0607,    40.88,    10.58,      5.4,   25.878,   38.443,   202.60,2,   207.83,2,     0.60,2,     0.19,2,     0.01,2,     0.02,2,     1.05,2,     1.34,2,     -999,9,     -999,9,     -999,9,     8.02,2
29AJ20160818  ,TAlPro-2016,10      ,  1,15         ,15         ,20160821,0607,    40.88,    10.58,     25.7,   23.638,   38.285,   219.84,2,   224.73,2,     0.72,2,     0.22,2,     0.01,2,     0.04,2,     1.19,2,     1.54,2,  2243.13,2,   288.05,2,  2562.27,2,     8.00,2
29AJ20160818  ,TAlPro-2016,10      ,  1,14         ,14         ,20160821,0607,    40.88,    10.58,     50.9,   16.530,   37.601,   246.66,2,   245.11,2,     0.67,2,     0.18,2,     0.01,2,     0.02,2,     1.50,2,     1.90,2,     -999,9,     -999,9,     -999,9,     7.97,2
29AJ20160818  ,TAlPro-2016,10      ,  1,13         ,13         ,20160821,0607,    40.88,    10.58,     81.3,   15.466,   38.136,   249.44,2,   243.35,2,     0.89,2,     0.18,2,     0.01,2,     0.02,2,     1.55,2,     2.00,2,  2255.05,2,   278.21,3,  2552.10,2,     7.97,2
29AJ20160818  ,TAlPro-2016,10      ,  1,12         ,12         ,20160821,0607,    40.88,    10.58,    100.8,   14.944,   38.182,   240.80,2,     -999,9,     1.14,2,     0.43,2,     0.09,2,     0.04,2,     1.54,2,     1.93,2,     -999,9,     -999,9,     -999,9,     7.95,2
29AJ20160818  ,TAlPro-2016,10      ,  1,11         ,11         ,20160821,0607,    40.88,    10.58,    202.7,   14.557,   38.573,   195.37,2,   193.91,2,     2.66,2,     4.50,2,     0.01,2,     0.27,2,     1.43,2,     1.74,2,  2330.25,2,   249.54,2,  2595.20,2,     7.92,2
29AJ20160818  ,TAlPro-2016,10      ,  1,10         ,10         ,20160821,0607,    40.88,    10.58,    303.5,   14.320,   38.684,   186.29,2,   184.50,2,     3.45,2,     5.80,2,     0.01,2,     0.23,2,     1.30,2,     1.42,2,     -999,9,     -999,9,     -999,9,     7.91,2
29AJ20160818  ,TAlPro-2016,10      ,  1,9          ,9          ,20160821,0607,    40.88,    10.58,    404.4,   14.191,   38.729,   178.63,2,   177.59,2,     4.51,2,     6.49,2,     0.01,2,     0.28,2,     1.20,2,     1.20,2,  2330.26,2,   294.13,3,  2604.14,2,     7.91,2
29AJ20160818  ,TAlPro-2016,10      ,  1,8          ,8          ,20160821,0607,    40.88,    10.58,    505.7,   14.141,   38.741,   172.54,2,   173.46,2,     5.36,2,     6.85,2,     0.00,2,     0.31,2,     1.12,2,     1.12,2,     -999,9,     -999,9,     -999,9,     7.91,2
29AJ20160818  ,TAlPro-2016,10      ,  1,7          ,7          ,20160821,0607,    40.88,    10.58,    757.8,   13.886,   38.699,   174.33,2,   173.55,2,     7.06,2,     7.14,2,     0.00,2,     0.34,2,     0.88,2,     0.76,2,  2334.16,2,   233.45,3,  2606.02,2,     7.92,2
29AJ20160818  ,TAlPro-2016,10      ,  1,6          ,6          ,20160821,0607,    40.88,    10.58,   1010.8,   13.683,   38.645,   178.38,2,   177.71,2,     8.13,2,     7.27,2,     0.00,2,     0.36,2,     0.74,2,     0.59,2,     -999,9,     -999,9,     -999,9,     7.92,2
29AJ20160818  ,TAlPro-2016,10      ,  1,5          ,5          ,20160821,0607,    40.88,    10.58,   1264.2,   13.528,   38.596,   179.82,2,   179.97,2,     9.07,2,     7.54,2,     0.00,2,     0.37,2,     0.66,2,     0.42,2,  2321.69,2,   257.07,2,  2596.91,2,     7.92,2
29AJ20160818  ,TAlPro-2016,10      ,  1,4          ,4          ,20160821,0607,    40.88,    10.58,   1517.9,   13.462,   38.569,   182.32,2,   183.00,2,     9.40,2,     7.58,2,     0.00,2,     0.37,2,     0.62,2,     0.26,2,     -999,9,     -999,9,  2596.39,2,     7.92,2
29AJ20160818  ,TAlPro-2016,10      ,  1,3          ,3          ,20160821,0607,    40.88,    10.58,   1771.6,   13.418,   38.546,   184.21,2,   183.87,2,     9.38,2,     7.73,2,     0.00,2,     0.38,2,     0.61,2,     0.24,2,  2317.09,2,   235.25,2,  2593.54,2,     7.91,2
29AJ20160818  ,TAlPro-2016,10      ,  1,2          ,2          ,20160821,0607,    40.88,    10.58,   2025.5,   13.398,   38.530,   185.59,2,     -999,5,     9.30,2,     7.72,2,     0.00,2,     0.39,2,     0.61,2,     0.21,2,     -999,9,     -999,9,     -999,9,     7.91,2
29AJ20160818  ,TAlPro-2016,10      ,  1,1          ,1          ,20160821,0607,    40.88,    10.58,   2331.4,   13.398,   38.515,   186.80,2,   186.35,2,     9.47,2,     7.83,2,     0.01,2,     0.39,2,     0.66,2,     0.31,2,  2330.34,2,   253.68,2,  2592.22,2,     7.91,2
29AJ20160818  ,TAlPro-2016,11      ,  1,12         ,12         ,20160821,1325,    41.38,    10.25,      5.8,   24.087,   38.474,   211.43,2,     -999,9,     0.65,2,     0.21,2,     0.00,2,     0.02,2,     1.18,2,     1.55,2,     -999,9,     -999,9,     -999,9,     8.02,2
29AJ20160818  ,TAlPro-2016,11      ,  1,11         ,11         ,20160821,1325,    41.38,    10.25,     25.1,   16.466,   38.308,   270.16,2,     -999,9,     -999,9,     -999,9,     -999,9,     -999,9,     1.50,2,     1.88,2,  2242.40,2,   249.14,2,  2569.53,2,     8.00,2
29AJ20160818  ,TAlPro-2016,11      ,  1,10         ,10         ,20160821,1325,    41.38,    10.25,     50.4,   14.686,   38.414,   217.10,2,   221.68,2,     1.12,2,     0.58,2,     0.03,2,     0.06,2,     1.47,2,     1.76,2,     -999,9,   191.13,2,     -999,9,     7.93,2
29AJ20160818  ,TAlPro-2016,11      ,  1,9          ,9          ,20160821,1325,    41.38,    10.25,     72.6,   14.577,   38.564,   212.32,2,     -999,9,     -999,9,     -999,9,     -999,9,     -999,9,     1.42,2,     1.67,2,  2324.00,2,   255.05,3,  2597.52,2,     7.91,2
29AJ20160818  ,TAlPro-2016,11      ,  1,8          ,8          ,20160821,1325,    41.38,    10.25,    100.0,   14.437,   38.649,   187.25,2,     -999,9,     -999,9,     -999,9,     -999,9,     -999,9,     1.37,2,     1.69,2,     -999,9,   254.26,2,     -999,9,     7.90,2
29AJ20160818  ,TAlPro-2016,11      ,  1,7          ,7          ,20160821,1325,    41.38,    10.25,    211.4,   14.237,   38.722,   178.53,2,   185.23,3,     4.06,2,     6.47,2,     0.01,2,     0.27,2,     1.23,2,     1.23,2,  2324.47,2,   274.81,3,  2605.63,2,     7.91,2
29AJ20160818  ,TAlPro-2016,11      ,  1,6          ,6          ,20160821,1325,    41.38,    10.25,    303.2,   14.086,   38.722,   172.29,2,     -999,9,     -999,9,     -999,9,     -999,9,     -999,9,     1.14,2,     1.10,2,     -999,9,   272.12,3,     -999,9,     7.90,2
29AJ20160818  ,TAlPro-2016,11      ,  1,5          ,5          ,20160821,1325,    41.38,    10.25,    402.1,   14.004,   38.722,   169.23,2,     -999,9,     -999,9,     -999,9,     -999,9,     -999,9,     1.02,2,     0.92,2,  2334.83,2,     -999,9,  2607.69,2,     7.91,2
29AJ20160818  ,TAlPro-2016,11      ,  1,4          ,4          ,20160821,1325,    41.38,    10.25,    503.7,   13.915,   38.709,   170.13,2,   171.59,2,     6.75,2,     7.45,2,     0.01,2,     0.33,2,     0.94,2,     0.90,2,     -999,9,     -999,9,     -999,9,     7.90,2
29AJ20160818  ,TAlPro-2016,11      ,  1,3          ,3          ,20160821,1325,    41.38,    10.25,    757.5,   13.652,   38.645,   175.87,2,     -999,9,     -999,9,     -999,9,     -999,9,     -999,9,     0.74,2,     0.56,2,  2332.30,2,     -999,9,  2603.27,2,     7.91,2
29AJ20160818  ,TAlPro-2016,11      ,  1,2          ,2          ,20160821,1325,    41.38,    10.25,   1011.1,   13.515,   38.602,   179.17,2,     -999,9,     -999,9,     -999,9,     -999,9,     -999,9,     0.66,2,     0.43,2,     -999,9,     -999,9,     -999,9,     7.91,2
29AJ20160818  ,TAlPro-2016,11      ,  1,1          ,1          ,20160821,1325,    41.38,    10.25,   1314.4,   13.406,   38.562,   181.68,2,   183.31,2,     9.28,2,     7.65,2,     0.01,2,     0.37,2,     0.64,2,     0.33,2,  2336.76,2,     -999,9,     -999,9,     7.91,2
29AJ20160818  ,TAlPro-2016,13      ,  1,11         ,11         ,20160821,1922,    41.88,     9.97,      5.2,   24.553,   38.439,   209.08,2,   214.88,2,     0.77,2,     0.19,2,     0.00,2,     0.02,2,     1.12,2,     1.38,2,     -999,9,     -999,9,  2579.68,2,     8.02,2
29AJ20160818  ,TAlPro-2016,13      ,  1,10         ,10         ,20160821,1922,    41.88,     9.97,     25.9,   18.248,   38.134,   260.22,2,     -999,9,     -999,9,     -999,9,     -999,9,     -999,9,     -999,9,     -999,9,     -999,9,     -999,9,     -999,9,     7.99,2
29AJ20160818  ,TAlPro-2016,13      ,  1,9          ,9          ,20160821,1922,    41.88,     9.97,     50.5,   15.088,   38.265,   247.50,2,     -999,9,     1.11,2,     0.20,2,     0.00,2,     0.05,2,     1.50,2,     1.86,2,     -999,9,     -999,9,  2570.85,2,     7.96,2
29AJ20160818  ,TAlPro-2016,13      ,  1,8          ,8          ,20160821,1922,    41.88,     9.97,     70.6,   14.659,   38.464,   217.17,2,   212.25,2,     -999,9,     -999,9,     -999,9,     -999,9,     -999,9,     -999,9,     -999,9,     -999,9,     -999,9,     7.93,2
29AJ20160818  ,TAlPro-2016,13      ,  1,7          ,7          ,20160821,1922,    41.88,     9.97,    101.6,   14.450,   38.597,   188.74,2,     -999,9,     2.36,2,     3.25,2,     0.14,2,     0.05,2,     1.37,2,     1.58,2,     -999,9,     -999,9,  2597.76,2,     7.90,2
29AJ20160818  ,TAlPro-2016,13      ,  1,6          ,6          ,20160821,1922,    41.88,     9.97,    202.4,   14.330,   38.721,   180.67,2,   180.29,2,     -999,9,     -999,9,     -999,9,     -999,9,     1.25,2,     1.35,2,     -999,9,     -999,9,     -999,9,     7.91,2
29AJ20160818  ,TAlPro-2016,13      ,  1,5          ,5          ,20160821,1922,    41.88,     9.97,    302.7,   14.156,   38.740,   172.93,2,     -999,9,     5.14,2,     6.44,2,     0.00,2,     0.29,2,     1.12,2,     1.03,2,     -999,9,     -999,9,  2609.66,2,     7.91,2
29AJ20160818  ,TAlPro-2016,13      ,  1,4          ,4          ,20160821,1922,    41.88,     9.97,    404.2,   14.016,   38.724,   168.91,2,     -999,9,     -999,9,     -999,9,     -999,9,     -999,9,     1.02,2,     0.95,2,     -999,9,     -999,9,     -999,9,     7.91,2
29AJ20160818  ,TAlPro-2016,13      ,  1,3          ,3          ,20160821,1922,    41.88,     9.97,    505.0,   13.950,   38.717,   171.11,2,     -999,9,     6.54,2,     6.81,2,     0.01,2,     0.31,2,     0.94,2,     0.90,2,     -999,9,     -999,9,  2608.98,2,     7.92,2
29AJ20160818  ,TAlPro-2016,13      ,  1,2          ,2          ,20160821,1922,    41.88,     9.97,    757.7,   13.758,   38.670,   174.77,2,     -999,9,     -999,9,     -999,9,     -999,9,     -999,9,     0.78,2,     0.73,2,     -999,9,     -999,9,     -999,9,     7.92,2
29AJ20160818  ,TAlPro-2016,13      ,  1,1          ,1          ,20160821,1922,    41.88,     9.97,    894.5,   13.569,   38.620,   175.92,2,   175.71,2,     9.38,2,     7.15,2,     0.00,2,     0.35,2,     0.68,2,     0.49,2,     -999,9,     -999,9,  2602.49,2,     7.91,2