BOTTLE,20240504CCHHYDRO
EXPOCODE,SECT_ID,STNNBR,CASTNO,SAMPNO,BTLNBR,DATE,TIME,LATITUDE,LONGITUDE,CTDPRS,CTDTMP,CTDSAL,CTDOXY,CTDOXY_FLAG_W,OXYGEN,OXYGEN_FLAG_W,SILCAT,SILCAT_FLAG_W,NITRAT,NITRAT_FLAG_W,NITRIT,NITRIT_FLAG_W,PHSPHT,PHSPHT_FLAG_W,CFC-12,CFC-12_FLAG_W,SF6,SF6_FLAG_W,TCARBN,TCARBN_FLAG_W,CARBONATE,CARBONATE_FLAG_W,ALKALI,ALKALI_FLAG_W,PH,PH_FLAG_W
,,,,,,,,,,DBAR,DEG C,PSS-78,UMOL/KG,,UMOL/KG,,UMOL/KG,,UMOL/KG,,UMOL/KG,,UMOL/KG,,PMOL/KG,,FMOL/KG,,UMOL/KG,,UMOL/KG,,UMOL/KG,,,
29AJ20160818  ,TAlPro-2016,14      ,  1,11         ,11         ,20160821,2152,    42.12,     9.90,      6.2,   26.385,   38.404,   201.15,2,   208.43,2,     0.71,2,     0.11,2,     0.01,2,     0.02,2,     -999,9,     -999,9,     -999,9,     -999,9,     -999,9,     8.02,2
29AJ20160818  ,TAlPro-2016,14      ,  1,10         ,10         ,20160821,2152,    42.12,     9.90,     24.8,   23.436,   38.228,   221.04,2,     -999,9,     -999,9,     -999,9,     -999,9,     -999,9,     1.06,2,     1.40,2,  2240.38,2,   258.17,2,  2560.24,2,     8.00,2
29AJ20160818  ,TAlPro-2016,14      ,  1,9          ,9          ,20160821,2152,    42.12,     9.90,     52.2,   16.349,   38.107,   254.97,2,     -999,9,     -999,9,     -999,9,     -999,9,     -999,9,     1.54,2,     1.88,2,     -999,9,     -999,9,     -999,9,     7.98,2
29AJ20160818  ,TAlPro-2016,14      ,  1,8          ,8          ,20160821,2152,    42.12,     9.90,     75.6,   15.038,   38.168,   235.43,2,     -999,9,     1.28,2,     0.20,2,     0.01,2,     0.03,2,     -999,9,     -999,9,  2267.85,2,   225.72,2,  2559.86,2,     7.95,2
29AJ20160818  ,TAlPro-2016,14      ,  1,7          ,7          ,20160821,2152,    42.12,     9.90,    100.2,   14.714,   38.270,   211.80,2,     -999,9,     -999,9,     -999,9,     -999,9,     -999,9,     1.50,2,     1.83,2,     -999,9,     -999,9,     -999,9,     7.92,2
29AJ20160818  ,TAlPro-2016,14      ,  1,6          ,6          ,20160821,2152,    42.12,     9.90,    201.1,   14.526,   38.649,   188.98,2,     -999,9,     2.90,2,     4.80,2,     0.01,2,     0.18,2,     1.38,2,     1.71,2,  2321.30,2,   222.66,2,  2599.31,2,     7.91,2
29AJ20160818  ,TAlPro-2016,14      ,  1,5          ,5          ,20160821,2152,    42.12,     9.90,    303.2,   14.234,   38.706,   180.20,2,     -999,9,     -999,9,     -999,9,     -999,9,     -999,9,     1.24,2,     1.26,2,     -999,9,     -999,9,     -999,9,     7.91,2
29AJ20160818  ,TAlPro-2016,14      ,  1,4          ,4          ,20160821,2152,    42.12,     9.90,    404.1,   14.112,   38.724,   172.12,2,   171.90,2,     5.15,2,     6.57,2,     0.00,2,     0.29,2,     1.13,2,     1.06,2,  2332.85,2,     -999,9,  2606.80,2,     7.91,2
29AJ20160818  ,TAlPro-2016,14      ,  1,3          ,3          ,20160821,2152,    42.12,     9.90,    505.3,   14.028,   38.723,   169.13,2,     -999,9,     -999,9,     -999,9,     -999,9,     -999,9,     1.02,2,     1.00,2,     -999,9,     -999,9,     -999,9,     7.90,2
29AJ20160818  ,TAlPro-2016,14      ,  1,1          ,1          ,20160821,2152,    42.12,     9.90,    772.7,   13.584,   38.628,   176.00,2,     -999,9,     -999,9,     -999,9,     -999,9,     -999,9,     -999,9,     -999,9,     -999,9,     -999,9,     -999,9,     -999,9
29AJ20160818  ,TAlPro-2016,14      ,  1,2          ,2          ,20160821,2152,    42.12,     9.90,    772.7,   13.584,   38.628,   175.71,2,   176.54,2,     9.12,2,     7.16,2,     0.01,2,     0.34,2,     0.71,2,     0.55,2,  2322.85,2,     -999,9,  2599.78,2,     7.92,2
29AJ20160818  ,TAlPro-2016,9       ,  1,19         ,19         ,20160821,2340,    40.38,    11.18,      5.7,   25.677,   38.235,   202.71,2,   208.72,2,     0.39,2,     0.25,2,     0.00,2,     0.02,2,     1.04,2,     1.41,2,  2230.19,2,   249.47,2,  2571.49,2,     8.02,2
29AJ20160818  ,TAlPro-2016,9       ,  1,18         ,18         ,20160821,2340,    40.38,    11.18,     24.6,   24.968,   38.391,   207.41,2,     -999,9,     0.91,2,     0.18,2,     0.01,2,     0.02,2,     -999,9,     -999,9,     -999,9,   254.09,2,  2575.83,2,     8.02,2
29AJ20160818  ,TAlPro-2016,9       ,  1,17         ,17         ,20160821,2340,    40.38,    11.18,     50.4,   18.956,   37.973,   253.50,2,   255.01,2,     1.90,2,     0.14,2,     0.00,2,     0.03,2,     1.41,2,     1.72,2,  2228.50,2,   262.59,2,  2537.42,2,     7.99,2
29AJ20160818  ,TAlPro-2016,9       ,  1,16         ,16         ,20160821,2340,    40.38,    11.18,     75.2,   15.976,   38.111,   254.45,2,     -999,9,     2.03,2,     0.17,2,     0.00,2,     0.03,2,     -999,9,     -999,9,     -999,9,   266.26,2,  2552.40,2,     7.97,2
29AJ20160818  ,TAlPro-2016,9       ,  1,15         ,15         ,20160821,2340,    40.38,    11.18,    101.2,   14.983,   38.151,   238.24,2,   235.63,2,     2.00,2,     0.26,2,     0.05,2,     0.04,2,     1.49,2,     1.80,2,  2264.75,2,   254.25,2,  2555.12,2,     7.95,2
29AJ20160818  ,TAlPro-2016,9       ,  1,14         ,14         ,20160821,2340,    40.38,    11.18,    202.0,   14.608,   38.567,   193.12,2,     -999,9,     3.30,2,     4.18,2,     0.01,2,     0.17,2,     1.40,2,     1.66,2,     -999,9,   245.03,2,  2591.07,2,     7.92,2
29AJ20160818  ,TAlPro-2016,9       ,  1,13         ,13         ,20160821,2340,    40.38,    11.18,    302.7,   14.407,   38.696,   186.35,2,   184.55,2,     4.33,2,     5.43,2,     0.01,2,     0.24,2,     1.28,2,     1.43,2,  2331.97,2,   247.01,2,  2607.21,2,     7.91,2
29AJ20160818  ,TAlPro-2016,9       ,  1,12         ,12         ,20160821,2340,    40.38,    11.18,    403.3,   14.447,   38.791,   180.63,2,     -999,9,     5.11,2,     5.56,2,     0.00,2,     0.25,2,     1.17,2,     1.29,2,     -999,9,   245.96,2,  2613.04,2,     7.92,2
29AJ20160818  ,TAlPro-2016,9       ,  1,11         ,11         ,20160821,2340,    40.38,    11.18,    505.3,   14.233,   38.767,   175.47,2,   175.63,2,     5.98,2,     6.28,2,     0.00,2,     0.29,2,     1.09,2,     0.96,2,  2335.02,2,   250.62,2,  2611.18,2,     7.92,2
29AJ20160818  ,TAlPro-2016,9       ,  1,10         ,10         ,20160821,2340,    40.38,    11.18,    757.9,   13.978,   38.724,   176.71,2,     -999,9,     7.78,2,     6.34,2,     0.00,2,     0.32,2,     0.90,2,     0.77,2,     -999,9,   252.35,2,  2608.36,2,     7.92,2
29AJ20160818  ,TAlPro-2016,9       ,  1,9          ,9          ,20160821,2340,    40.38,    11.18,   1011.8,   13.747,   38.662,   178.61,2,   177.62,2,     8.30,2,     6.84,2,     0.00,2,     0.36,2,     0.76,2,     0.57,2,  2325.28,2,   254.82,2,  2605.45,2,     7.92,2
29AJ20160818  ,TAlPro-2016,9       ,  1,8          ,8          ,20160821,2340,    40.38,    11.18,   1264.6,   13.534,   38.600,   182.24,2,     -999,9,     8.77,2,     7.18,2,     0.00,2,     0.37,2,     0.68,2,     0.40,2,     -999,9,   255.87,2,  2598.54,2,     7.92,2
29AJ20160818  ,TAlPro-2016,9       ,  1,7          ,7          ,20160821,2340,    40.38,    11.18,   1518.0,   13.468,   38.573,   183.63,2,     -999,5,     9.19,2,     7.36,2,     0.00,2,     0.40,2,     0.60,2,     0.30,2,  2323.96,2,   247.51,2,  2594.83,2,     7.91,2
29AJ20160818  ,TAlPro-2016,9       ,  1,6          ,6          ,20160821,2340,    40.38,    11.18,   1769.2,   13.455,   38.559,   184.87,2,     -999,9,     9.14,2,     7.46,2,     0.00,2,     0.44,2,     0.60,2,     0.28,2,     -999,9,   255.08,2,  2593.29,2,     7.92,2
29AJ20160818  ,TAlPro-2016,9       ,  1,5          ,5          ,20160821,2340,    40.38,    11.18,   2026.0,   13.429,   38.540,   185.71,2,     -999,5,     9.30,2,     7.51,2,     0.00,2,     0.41,2,     0.62,2,     0.27,2,  2323.25,2,   247.76,2,  2595.51,2,     7.91,2
29AJ20160818  ,TAlPro-2016,9       ,  1,4          ,4          ,20160821,2340,    40.38,    11.18,   2281.0,   13.418,   38.524,   186.80,2,     -999,9,     9.34,2,     7.66,2,     0.00,2,     0.41,2,     0.62,2,     0.27,2,     -999,9,   267.09,2,  2592.76,2,     7.91,2
29AJ20160818  ,TAlPro-2016,9       ,  1,3          ,3          ,20160821,2340,    40.38,    11.18,   2535.4,   13.445,   38.520,   187.65,2,     -999,5,     9.25,2,     7.72,2,     0.00,2,     0.42,2,     -999,9,     -999,9,  2321.37,2,   326.93,3,  2588.56,2,     7.91,2
29AJ20160818  ,TAlPro-2016,9       ,  1,2          ,2          ,20160821,2340,    40.38,    11.18,   2785.3,   13.451,   38.510,   188.95,2,     -999,9,     9.29,2,     7.69,2,     0.00,2,     0.43,2,     0.72,2,     0.35,2,     -999,9,   229.65,2,  2588.79,2,     7.90,2
29AJ20160818  ,TAlPro-2016,9       ,  1,1          ,1          ,20160821,2340,    40.38,    11.18,   2946.5,   13.457,   38.504,   189.96,2,     -999,9,     -999,9,     -999,9,     -999,9,     -999,9,     -999,9,     -999,9,  2304.00,2,   233.36,2,  2583.66,2,     7.93,3
29AJ20160818  ,TAlPro-2016,16      ,  1,10         ,10         ,20160822,0246,    42.60,     9.83,      5.3,   25.608,   38.380,   203.50,2,     -999,9,     0.57,2,     0.11,2,     0.01,2,     0.01,2,     1.06,2,     1.31,2,     -999,9,     -999,9,     -999,9,     8.02,2
29AJ20160818  ,TAlPro-2016,16      ,  1,9          ,9          ,20160822,0246,    42.60,     9.83,     25.1,   20.096,   38.079,   244.55,2,     -999,9,     0.55,2,     0.17,2,     0.00,2,     0.03,2,     1.40,2,     1.72,2,  2233.60,2,   246.61,3,  2548.76,2,     7.99,2
29AJ20160818  ,TAlPro-2016,16      ,  1,8          ,8          ,20160822,0246,    42.60,     9.83,     52.2,   15.901,   38.102,   248.89,2,   248.85,2,     0.75,2,     0.18,2,     0.00,2,     0.02,2,     1.51,2,     1.83,2,     -999,9,     -999,9,     -999,9,     7.97,2
29AJ20160818  ,TAlPro-2016,16      ,  1,7          ,7          ,20160822,0246,    42.60,     9.83,     76.6,   14.900,   38.188,   240.32,2,     -999,9,     0.91,2,     0.26,2,     0.02,2,     0.03,2,     1.51,2,     1.79,2,  2267.46,2,   251.05,2,  2560.20,2,     7.95,2
29AJ20160818  ,TAlPro-2016,16      ,  1,6          ,6          ,20160822,0246,    42.60,     9.83,     93.7,   14.715,   38.277,   216.31,2,     -999,5,     1.28,2,     1.71,2,     0.06,2,     0.05,2,     1.48,2,     1.82,2,     -999,9,     -999,9,     -999,9,     7.92,2
29AJ20160818  ,TAlPro-2016,16      ,  1,5          ,5          ,20160822,0246,    42.60,     9.83,    204.4,   14.443,   38.679,   185.30,2,     -999,9,     3.09,2,     5.36,2,     0.01,2,     0.22,2,     1.30,2,     1.54,2,  2322.12,2,   235.52,2,  2602.68,2,     7.91,2
29AJ20160818  ,TAlPro-2016,16      ,  1,4          ,4          ,20160822,0246,    42.60,     9.83,    300.0,   14.161,   38.704,   178.65,2,     -999,9,     4.23,2,     6.44,2,     0.01,2,     0.27,2,     1.19,2,     1.16,2,     -999,9,     -999,9,     -999,9,     7.91,2
29AJ20160818  ,TAlPro-2016,16      ,  1,3          ,3          ,20160822,0246,    42.60,     9.83,    405.6,   14.058,   38.718,   169.77,2,     -999,5,     5.45,2,     7.09,2,     0.01,2,     0.32,2,     1.06,2,     0.92,2,  2331.25,2,   250.71,3,  2606.99,2,     7.91,2
29AJ20160818  ,TAlPro-2016,16      ,  1,2          ,2          ,20160822,0246,    42.60,     9.83,    506.9,   13.968,   38.714,   169.22,2,     -999,9,     6.30,2,     7.03,2,     0.01,2,     0.33,2,     0.95,2,     0.88,2,     -999,9,     -999,9,     -999,9,     7.91,2
29AJ20160818  ,TAlPro-2016,16      ,  1,1          ,1          ,20160822,0246,    42.60,     9.83,    623.4,   13.754,   38.672,   169.89,2,   168.77,2,     8.47,2,     7.38,2,     0.01,2,     0.37,2,     0.81,2,     0.74,2,  2327.23,2,     -999,9,  2604.40,2,     7.91,2
29AJ20160818  ,TAlPro-2016,17      ,  1,10         ,10         ,20160822,0439,    42.78,     9.78,      5.6,   25.274,   38.327,   204.30,2,   209.24,2,     0.49,2,     0.16,2,     0.01,2,     0.02,2,     1.07,2,     1.36,2,     -999,9,     -999,9,     -999,9,     8.02,2
29AJ20160818  ,TAlPro-2016,17      ,  1,9          ,9          ,20160822,0439,    42.78,     9.78,     25.9,   23.889,   38.263,   216.17,2,     -999,9,     0.55,2,     0.10,2,     0.00,2,     0.03,2,     -999,9,     -999,9,     -999,9,     -999,9,  2554.22,2,     8.00,2
29AJ20160818  ,TAlPro-2016,17      ,  1,8          ,8          ,20160822,0439,    42.78,     9.78,     54.6,   17.117,   38.067,   252.42,2,     -999,9,     0.54,2,     0.16,2,     0.01,2,     0.02,2,     1.47,2,     1.72,2,     -999,9,     -999,9,     -999,9,     7.98,2
29AJ20160818  ,TAlPro-2016,17      ,  1,7          ,7          ,20160822,0439,    42.78,     9.78,     75.2,   15.391,   38.141,   246.71,2,   249.12,2,     0.71,2,     0.18,2,     0.01,2,     0.02,2,     -999,9,     -999,9,     -999,9,     -999,9,  2557.52,2,     7.96,2
29AJ20160818  ,TAlPro-2016,17      ,  1,6          ,6          ,20160822,0439,    42.78,     9.78,    102.3,   14.726,   38.263,   219.16,2,     -999,9,     1.20,2,     1.15,2,     0.09,2,     0.04,2,     1.47,2,     1.80,2,     -999,9,     -999,9,     -999,9,     7.93,2
29AJ20160818  ,TAlPro-2016,17      ,  1,5          ,5          ,20160822,0439,    42.78,     9.78,    203.0,   14.477,   38.662,   186.96,2,     -999,9,     2.99,2,     5.18,2,     0.01,2,     0.19,2,     1.31,2,     1.51,2,     -999,9,     -999,9,  2599.89,2,     7.91,2
29AJ20160818  ,TAlPro-2016,17      ,  1,4          ,4          ,20160822,0439,    42.78,     9.78,    305.2,   14.151,   38.683,   182.59,2,     -999,9,     3.95,2,     6.15,2,     0.01,2,     0.25,2,     1.23,2,     1.21,2,     -999,9,     -999,9,     -999,9,     7.90,2
29AJ20160818  ,TAlPro-2016,17      ,  1,3          ,3          ,20160822,0439,    42.78,     9.78,    405.8,   14.056,   38.715,   170.65,2,   170.34,2,     5.40,2,     6.99,2,     0.01,2,     0.30,2,     1.07,2,     1.00,2,     -999,9,     -999,9,  2605.65,2,     7.91,2
29AJ20160818  ,TAlPro-2016,17      ,  1,2          ,2          ,20160822,0439,    42.78,     9.78,    506.0,   13.962,   38.713,   169.86,2,     -999,9,     6.42,2,     7.07,2,     0.01,2,     0.33,2,     0.95,2,     0.85,2,     -999,9,     -999,9,     -999,9,     7.91,2
29AJ20160818  ,TAlPro-2016,17      ,  1,1          ,1          ,20160822,0439,    42.78,     9.78,    585.7,   13.843,   38.691,   170.42,2,   170.73,2,     7.43,2,     6.93,2,     0.01,2,     0.32,2,     0.86,2,     0.50,2,     -999,9,     -999,9,  2603.49,2,     7.91,2
29AJ20160818  ,TAlPro-2016,18      ,  1,10         ,10         ,20160822,0719,    43.05,     9.70,      4.8,   25.312,   38.343,   204.24,2,   206.85,2,     0.57,2,     0.12,2,     0.01,2,     0.24,2,     1.09,6,     1.48,6,     -999,9,     -999,9,     -999,9,     8.02,2
29AJ20160818  ,TAlPro-2016,18      ,  1,9          ,9          ,20160822,0719,    43.05,     9.70,     23.8,   25.219,   38.324,   205.26,2,     -999,9,     -999,9,     -999,9,     -999,9,     -999,9,     1.12,6,     1.50,6,  2243.79,2,   305.47,3,  2561.67,2,     8.01,2
29AJ20160818  ,TAlPro-2016,18      ,  1,8          ,8          ,20160822,0719,    43.05,     9.70,     50.6,   18.645,   38.080,   243.67,2,   247.32,2,     0.65,2,     0.15,2,     0.01,2,     0.04,2,     1.45,6,     1.86,6,     -999,9,     -999,9,     -999,9,     7.98,2
29AJ20160818  ,TAlPro-2016,18      ,  1,7          ,7          ,20160822,0719,    43.05,     9.70,     76.3,   15.456,   38.125,   243.52,2,     -999,9,     -999,9,     -999,9,     -999,9,     -999,9,     1.50,6,     1.93,6,  2255.33,2,   259.05,2,  2553.80,2,     7.96,2
29AJ20160818  ,TAlPro-2016,18      ,  1,6          ,6          ,20160822,0719,    43.05,     9.70,    100.7,   14.788,   38.174,   229.78,2,     -999,9,     1.05,2,     0.40,2,     0.10,2,     0.04,2,     1.52,6,     2.00,6,     -999,9,     -999,9,     -999,9,     7.94,2
29AJ20160818  ,TAlPro-2016,18      ,  1,5          ,5          ,20160822,0719,    43.05,     9.70,    201.7,   14.442,   38.635,   188.34,2,     -999,9,     -999,9,     -999,9,     -999,9,     -999,9,     1.35,6,     1.66,6,  2324.06,2,   224.32,2,  2598.74,2,     7.91,2
29AJ20160818  ,TAlPro-2016,18      ,  1,4          ,4          ,20160822,0719,    43.05,     9.70,    302.6,   14.126,   38.674,   182.59,2,     -999,9,     4.00,2,     6.18,2,     0.01,2,     0.26,2,     1.26,6,     1.30,6,     -999,9,     -999,9,     -999,9,     7.91,2
29AJ20160818  ,TAlPro-2016,18      ,  1,3          ,3          ,20160822,0719,    43.05,     9.70,    404.0,   13.940,   38.681,   169.52,2,     -999,9,     5.85,2,     6.97,2,     0.01,2,     0.32,2,     1.08,6,     1.06,6,  2333.85,2,   238.50,3,  2601.60,2,     7.89,2
29AJ20160818  ,TAlPro-2016,18      ,  1,1          ,1          ,20160822,0719,    43.05,     9.70,    450.0,   13.898,   38.675,   167.72,2,     -999,9,     -999,9,     -999,9,     -999,9,     -999,9,     -999,9,     -999,9,     -999,9,     -999,9,     -999,9,     -999,9
29AJ20160818  ,TAlPro-2016,18      ,  1,2          ,2          ,20160822,0719,    43.05,     9.70,    450.0,   13.899,   38.675,   168.22,2,   168.04,2,     -999,9,     -999,9,     -999,9,     -999,9,     1.07,6,     1.04,6,  2333.25,2,   221.77,2,  2601.22,2,     7.90,2