BOTTLE,20240504CCHHYDRO
EXPOCODE,SECT_ID,STNNBR,CASTNO,SAMPNO,BTLNBR,DATE,TIME,LATITUDE,LONGITUDE,CTDPRS,CTDTMP,CTDSAL,CTDOXY,CTDOXY_FLAG_W,OXYGEN,OXYGEN_FLAG_W,SILCAT,SILCAT_FLAG_W,NITRAT,NITRAT_FLAG_W,NITRIT,NITRIT_FLAG_W,PHSPHT,PHSPHT_FLAG_W,CFC-12,CFC-12_FLAG_W,SF6,SF6_FLAG_W,TCARBN,TCARBN_FLAG_W,CARBONATE,CARBONATE_FLAG_W,ALKALI,ALKALI_FLAG_W,PH,PH_FLAG_W
,,,,,,,,,,DBAR,DEG C,PSS-78,UMOL/KG,,UMOL/KG,,UMOL/KG,,UMOL/KG,,UMOL/KG,,UMOL/KG,,PMOL/KG,,FMOL/KG,,UMOL/KG,,UMOL/KG,,UMOL/KG,,,
29AJ20160818  ,TAlPro-2016,15      ,  1,12         ,12         ,20160822,2349,    42.28,     9.90,      6.2,   25.459,   38.349,   206.54,2,   212.73,2,     0.54,2,     0.16,2,     0.02,2,     0.01,2,     -999,9,     -999,9,     -999,9,     -999,9,  2570.34,2,     8.01,2
29AJ20160818  ,TAlPro-2016,15      ,  1,11         ,11         ,20160822,2349,    42.28,     9.90,     24.7,   23.879,   38.305,   212.33,2,     -999,9,     -999,9,     -999,9,     -999,9,     -999,9,     -999,9,     -999,9,     -999,9,     -999,9,     -999,9,     7.99,2
29AJ20160818  ,TAlPro-2016,15      ,  1,10         ,10         ,20160822,2349,    42.28,     9.90,     50.9,   16.822,   38.111,   253.78,2,     -999,9,     0.67,2,     0.18,2,     0.00,2,     0.04,2,     1.10,2,     1.44,2,     -999,9,     -999,9,  2555.46,2,     7.99,2
29AJ20160818  ,TAlPro-2016,15      ,  1,9          ,9          ,20160822,2349,    42.28,     9.90,     76.2,   15.025,   38.169,   236.46,2,     -999,9,     -999,9,     -999,9,     -999,9,     -999,9,     1.49,2,     1.78,2,     -999,9,     -999,9,     -999,9,     7.95,2
29AJ20160818  ,TAlPro-2016,15      ,  1,8          ,8          ,20160822,2349,    42.28,     9.90,    102.2,   14.702,   38.301,   212.08,2,     -999,9,     1.86,2,     1.65,2,     0.08,2,     0.05,2,     1.47,2,     1.80,2,     -999,9,     -999,9,  2571.28,2,     7.93,2
29AJ20160818  ,TAlPro-2016,15      ,  1,7          ,7          ,20160822,2349,    42.28,     9.90,    202.2,   14.548,   38.621,   190.45,2,     -999,9,     -999,9,     -999,9,     -999,9,     -999,9,     1.36,2,     1.69,2,     -999,9,     -999,9,     -999,9,     7.91,2
29AJ20160818  ,TAlPro-2016,15      ,  1,6          ,6          ,20160822,2349,    42.28,     9.90,    302.0,   14.222,   38.696,   181.38,2,     -999,9,     4.41,2,     6.04,2,     0.01,2,     0.24,2,     1.24,2,     1.30,2,     -999,9,     -999,9,  2604.13,2,     7.91,2
29AJ20160818  ,TAlPro-2016,15      ,  1,5          ,5          ,20160822,2349,    42.28,     9.90,    404.1,   14.060,   38.711,   171.18,2,     -999,9,     -999,9,     -999,9,     -999,9,     -999,9,     1.09,2,     1.02,2,     -999,9,     -999,9,     -999,9,     7.91,2
29AJ20160818  ,TAlPro-2016,15      ,  1,4          ,4          ,20160822,2349,    42.28,     9.90,    505.9,   13.980,   38.715,   169.93,2,   168.64,2,     6.69,2,     6.98,2,     0.01,2,     0.31,2,     0.98,2,     0.97,2,     -999,9,     -999,9,  2606.47,2,     7.91,2
29AJ20160818  ,TAlPro-2016,15      ,  1,3          ,3          ,20160822,2349,    42.28,     9.90,    756.7,   13.693,   38.654,   173.24,2,     -999,9,     -999,9,     -999,9,     -999,9,     -999,9,     0.76,2,     0.64,2,     -999,9,     -999,9,     -999,9,     7.91,2
29AJ20160818  ,TAlPro-2016,15      ,  1,2          ,2          ,20160822,2349,    42.28,     9.90,    866.3,   13.640,   38.638,   173.91,2,   173.80,2,     9.28,2,     7.20,2,     0.01,2,     0.34,2,     0.72,2,     0.56,2,     -999,9,     -999,9,  2603.76,2,     7.92,2
29AJ20160818  ,TAlPro-2016,15      ,  1,1          ,1          ,20160822,2349,    42.28,     9.90,    866.5,   13.640,   38.638,   173.67,2,     -999,9,     -999,9,     -999,9,     -999,9,     -999,9,     -999,9,     -999,9,     -999,9,     -999,9,     -999,9,     -999,9
29AJ20160818  ,TAlPro-2016,19      ,  1,18         ,18         ,20160823,1620,    38.50,     6.90,      5.1,   25.640,   37.478,   208.23,2,   207.35,2,     0.41,2,     0.15,2,     0.01,2,     0.04,2,     1.04,2,     1.35,2,     -999,9,     -999,9,     -999,9,     8.02,2
29AJ20160818  ,TAlPro-2016,19      ,  1,17         ,17         ,20160823,1620,    38.50,     6.90,     25.2,   23.381,   37.366,   234.11,2,   228.91,2,     -999,9,     -999,9,     -999,9,     -999,9,     -999,9,     -999,9,  2161.41,2,   242.43,3,  2478.18,2,     8.02,2
29AJ20160818  ,TAlPro-2016,19      ,  1,16         ,16         ,20160823,1620,    38.50,     6.90,     51.8,   17.057,   37.051,   288.12,2,   278.42,2,     -999,9,     -999,9,     -999,9,     -999,9,     1.46,6,     1.71,6,     -999,9,     -999,9,     -999,9,     8.01,2
29AJ20160818  ,TAlPro-2016,19      ,  1,15         ,15         ,20160823,1620,    38.50,     6.90,     76.3,   15.682,   37.305,   238.84,2,   241.64,2,     0.49,2,     0.24,2,     0.05,2,     0.05,2,     -999,9,     -999,9,  2204.33,2,   230.93,2,  2481.04,2,     7.94,2
29AJ20160818  ,TAlPro-2016,19      ,  1,14         ,14         ,20160823,1620,    38.50,     6.90,    101.1,   15.220,   37.611,   229.14,2,   223.79,2,     -999,9,     -999,9,     -999,9,     -999,9,     -999,9,     -999,9,     -999,9,     -999,9,     -999,9,     7.93,2
29AJ20160818  ,TAlPro-2016,19      ,  1,13         ,13         ,20160823,1620,    38.50,     6.90,    202.4,   14.108,   38.388,   196.90,2,   194.26,2,     -999,9,     -999,9,     -999,9,     -999,9,     1.46,2,     1.72,2,  2313.91,2,   227.31,2,  2581.58,2,     7.90,2
29AJ20160818  ,TAlPro-2016,19      ,  1,12         ,12         ,20160823,1620,    38.50,     6.90,    303.3,   13.518,   38.500,   170.25,2,   169.61,2,     -999,9,     -999,9,     -999,9,     -999,9,     1.27,2,     1.25,2,     -999,9,     -999,9,     -999,9,     7.87,2
29AJ20160818  ,TAlPro-2016,19      ,  1,11         ,11         ,20160823,1620,    38.50,     6.90,    403.7,   13.699,   38.631,   169.03,2,     -999,5,     -999,9,     -999,9,     -999,9,     -999,9,     1.06,2,     0.99,2,  2335.25,2,   230.15,2,  2601.85,2,     7.89,2
29AJ20160818  ,TAlPro-2016,19      ,  1,10         ,10         ,20160823,1620,    38.50,     6.90,    505.4,   13.541,   38.605,   169.87,2,     -999,9,     -999,9,     -999,9,     -999,9,     -999,9,     -999,9,     -999,9,     -999,9,     -999,9,     -999,9,     7.93,3
29AJ20160818  ,TAlPro-2016,19      ,  1,9          ,9          ,20160823,1620,    38.50,     6.90,    758.9,   13.324,   38.553,   177.83,2,   178.41,2,     8.10,2,     8.30,2,     0.01,2,     0.40,2,     0.79,2,     0.50,2,  2328.23,2,   215.45,2,  2594.06,2,     7.90,2
29AJ20160818  ,TAlPro-2016,19      ,  1,8          ,8          ,20160823,1620,    38.50,     6.90,   1011.8,   13.186,   38.512,   183.96,2,   183.09,2,     -999,9,     -999,9,     -999,9,     -999,9,     0.78,2,     0.45,2,     -999,9,     -999,9,     -999,9,     7.90,2
29AJ20160818  ,TAlPro-2016,19      ,  1,7          ,7          ,20160823,1620,    38.50,     6.90,   1265.3,   13.124,   38.487,   189.21,2,   189.04,2,     -999,9,     -999,9,     -999,9,     -999,9,     0.76,2,     0.42,2,  2328.96,2,   239.24,2,  2589.34,2,     7.90,2
29AJ20160818  ,TAlPro-2016,19      ,  1,6          ,6          ,20160823,1620,    38.50,     6.90,   1518.2,   13.138,   38.482,   193.36,2,     -999,9,     8.50,2,     8.20,2,     0.01,2,     0.40,2,     0.84,2,     0.49,2,     -999,9,     -999,9,     -999,9,     7.90,2
29AJ20160818  ,TAlPro-2016,19      ,  1,5          ,5          ,20160823,1620,    38.50,     6.90,   1770.1,   13.174,   38.484,   195.25,2,     -999,9,     -999,9,     -999,9,     -999,9,     -999,9,     0.87,2,     0.47,2,  2316.54,2,   223.55,2,  2588.80,2,     7.90,2
29AJ20160818  ,TAlPro-2016,19      ,  1,4          ,4          ,20160823,1620,    38.50,     6.90,   2026.9,   13.211,   38.486,   196.04,2,     -999,9,     -999,9,     -999,9,     -999,9,     -999,9,     0.91,2,     0.69,2,     -999,9,     -999,9,     -999,9,     7.90,2
29AJ20160818  ,TAlPro-2016,19      ,  1,3          ,3          ,20160823,1620,    38.50,     6.90,   2279.9,   13.252,   38.487,   196.39,2,     -999,9,     4.27,3,     4.30,3,     0.01,2,     0.22,3,     -999,9,     -999,9,  2250.34,3,   268.54,3,  2538.79,3,     7.94,3
29AJ20160818  ,TAlPro-2016,19      ,  1,2          ,2          ,20160823,1620,    38.50,     6.90,   2535.5,   13.302,   38.491,   196.39,2,     -999,9,     -999,9,     -999,9,     -999,9,     -999,9,     0.97,2,     0.74,2,     -999,9,     -999,9,     -999,9,     7.89,2
29AJ20160818  ,TAlPro-2016,19      ,  1,1          ,1          ,20160823,1620,    38.50,     6.90,   2881.4,   13.364,   38.492,   196.39,2,     -999,9,     8.58,2,     8.02,2,     0.01,2,     0.38,2,     0.97,2,     0.76,2,  2317.57,2,   238.74,2,  2591.17,2,     7.90,2
29AJ20160818  ,TAlPro-2016,20      ,  1,19         ,19         ,20160823,2112,    38.90,     6.79,      5.5,   25.179,   37.416,   209.20,2,   210.16,2,     0.40,2,     0.18,2,     0.01,2,     0.02,2,     1.06,2,     1.48,2,     -999,9,     -999,9,  2474.89,2,     8.02,2
29AJ20160818  ,TAlPro-2016,20      ,  1,18         ,18         ,20160823,2112,    38.90,     6.79,     24.8,   20.709,   37.034,   260.11,2,   255.96,2,     0.63,2,     0.16,2,     0.00,2,     0.03,2,     -999,9,     -999,9,     -999,9,     -999,9,     -999,9,     8.00,2
29AJ20160818  ,TAlPro-2016,20      ,  1,17         ,17         ,20160823,2112,    38.90,     6.79,     51.3,   16.870,   37.020,   262.35,2,   257.63,2,     0.37,2,     0.18,2,     0.01,2,     0.04,2,     1.48,2,     1.87,2,     -999,9,     -999,9,  2449.86,2,     7.99,2
29AJ20160818  ,TAlPro-2016,20      ,  1,16         ,16         ,20160823,2112,    38.90,     6.79,     75.3,   15.817,   37.090,   245.13,2,   240.95,2,     0.37,2,     0.37,2,     0.00,2,     0.04,2,     -999,9,     -999,9,     -999,9,     -999,9,     -999,9,     7.97,2
29AJ20160818  ,TAlPro-2016,20      ,  1,15         ,15         ,20160823,2112,    38.90,     6.79,    101.7,   15.550,   37.170,   226.75,2,   223.40,2,     -999,9,     -999,9,     -999,9,     -999,9,     1.48,2,     1.89,2,     -999,9,     -999,9,  2464.82,2,     7.94,2
29AJ20160818  ,TAlPro-2016,20      ,  1,14         ,14         ,20160823,2112,    38.90,     6.79,    202.5,   14.637,   37.878,   226.72,2,     -999,9,     -999,9,     -999,9,     -999,9,     -999,9,     1.53,2,     1.92,2,     -999,9,     -999,9,     -999,9,     7.93,2
29AJ20160818  ,TAlPro-2016,20      ,  1,13         ,13         ,20160823,2112,    38.90,     6.79,    302.6,   13.756,   38.425,   183.56,2,     -999,9,     -999,9,     -999,9,     -999,9,     -999,9,     1.39,2,     1.50,2,     -999,9,     -999,9,  2580.83,2,     7.88,2
29AJ20160818  ,TAlPro-2016,20      ,  1,12         ,12         ,20160823,2112,    38.90,     6.79,    403.9,   13.750,   38.598,   169.48,2,     -999,9,     -999,9,     -999,9,     -999,9,     -999,9,     1.19,2,     1.16,2,     -999,9,     -999,9,     -999,9,     7.88,2
29AJ20160818  ,TAlPro-2016,20      ,  1,11         ,11         ,20160823,2112,    38.90,     6.79,    504.6,   13.564,   38.597,   168.71,2,   169.64,2,     -999,9,     -999,9,     -999,9,     -999,9,     1.04,2,     0.98,2,     -999,9,     -999,9,  2598.17,2,     7.88,2
29AJ20160818  ,TAlPro-2016,20      ,  1,10         ,10         ,20160823,2112,    38.90,     6.79,    757.1,   13.304,   38.547,   177.59,2,     -999,9,     -999,9,     -999,9,     -999,9,     -999,9,     -999,9,     -999,9,     -999,9,     -999,9,     -999,9,     7.90,2
29AJ20160818  ,TAlPro-2016,20      ,  1,9          ,9          ,20160823,2112,    38.90,     6.79,   1010.7,   13.166,   38.506,   184.42,2,   183.87,2,     8.21,2,     8.34,2,     0.00,2,     0.43,2,     0.77,2,     0.41,2,     -999,9,     -999,9,  2592.25,2,     7.90,2
29AJ20160818  ,TAlPro-2016,20      ,  1,8          ,8          ,20160823,2112,    38.90,     6.79,   1263.3,   13.138,   38.491,   187.90,2,     -999,9,     -999,9,     -999,9,     -999,9,     -999,9,     0.77,2,     0.45,2,     -999,9,     -999,9,     -999,9,     7.90,2
29AJ20160818  ,TAlPro-2016,20      ,  1,7          ,7          ,20160823,2112,    38.90,     6.79,   1517.7,   13.137,   38.482,   192.76,2,     -999,9,     -999,9,     -999,9,     -999,9,     -999,9,     0.82,2,     0.49,2,     -999,9,     -999,9,  2588.70,2,     7.90,2
29AJ20160818  ,TAlPro-2016,20      ,  1,6          ,6          ,20160823,2112,    38.90,     6.79,   1771.9,   13.171,   38.483,   194.77,2,     -999,9,     -999,9,     -999,9,     -999,9,     -999,9,     0.86,2,     0.58,2,     -999,9,     -999,9,     -999,9,     7.90,2
29AJ20160818  ,TAlPro-2016,20      ,  1,5          ,5          ,20160823,2112,    38.90,     6.79,   2025.6,   13.209,   38.485,   196.21,2,   195.50,2,     8.38,2,     8.11,2,     0.01,2,     0.41,2,     0.90,2,     0.59,2,     -999,9,     -999,9,  2589.59,2,     7.90,2
29AJ20160818  ,TAlPro-2016,20      ,  1,4          ,4          ,20160823,2112,    38.90,     6.79,   2279.4,   13.251,   38.487,   196.71,2,     -999,9,     -999,9,     -999,9,     -999,9,     -999,9,     0.93,2,     0.58,2,     -999,9,     -999,9,     -999,9,     7.90,2
29AJ20160818  ,TAlPro-2016,20      ,  1,3          ,3          ,20160823,2112,    38.90,     6.79,   2534.4,   13.303,   38.491,   196.89,2,     -999,9,     -999,9,     -999,9,     -999,9,     -999,9,     0.92,2,     0.63,2,     -999,9,     -999,9,  2590.77,2,     7.89,2
29AJ20160818  ,TAlPro-2016,20      ,  1,2          ,2          ,20160823,2112,    38.90,     6.79,   2790.2,   13.348,   38.492,   196.67,2,     -999,9,     -999,9,     -999,9,     -999,9,     -999,9,     0.96,2,     0.67,2,     -999,9,     -999,9,     -999,9,     7.90,2
29AJ20160818  ,TAlPro-2016,20      ,  1,1          ,1          ,20160823,2112,    38.90,     6.79,   2888.2,   13.365,   38.492,   196.65,2,   195.24,2,     8.99,2,     8.06,2,     0.01,2,     0.40,2,     0.97,2,     0.69,2,     -999,9,     -999,9,  2589.28,2,     7.89,2
29AJ20160818  ,TAlPro-2016,21      ,  1,18         ,18         ,20160824,0209,    39.28,     6.68,      5.6,   25.424,   37.397,   207.48,2,   209.35,2,     0.59,2,     0.14,2,     0.01,2,     0.04,2,     -999,9,     -999,9,     -999,9,     -999,9,     -999,9,     8.02,2
29AJ20160818  ,TAlPro-2016,21      ,  1,17         ,17         ,20160824,0209,    39.28,     6.68,     26.3,   25.422,   37.391,   207.40,2,     -999,9,     0.59,2,     0.14,2,     0.01,2,     0.03,2,     -999,9,     -999,9,  2154.78,2,   281.82,2,  2475.82,2,     8.02,2
29AJ20160818  ,TAlPro-2016,21      ,  1,16         ,16         ,20160824,0209,    39.28,     6.68,     52.2,   17.316,   37.194,   273.81,2,   262.19,2,     0.65,2,     0.12,2,     0.01,2,     0.04,2,     1.05,2,     1.45,2,     -999,9,     -999,9,     -999,9,     7.99,2
29AJ20160818  ,TAlPro-2016,21      ,  1,15         ,15         ,20160824,0209,    39.28,     6.68,     84.8,   15.280,   37.549,   234.07,2,     -999,9,     0.48,2,     0.41,2,     0.15,2,     0.07,2,     1.46,2,     1.82,2,  2231.60,2,   233.82,2,  2508.80,2,     7.94,2
29AJ20160818  ,TAlPro-2016,21      ,  1,14         ,14         ,20160824,0209,    39.28,     6.68,     99.4,   14.907,   37.762,   224.29,2,   222.97,2,     -999,9,     -999,9,     -999,9,     -999,9,     1.50,2,     1.95,2,     -999,9,     -999,9,     -999,9,     7.92,2
29AJ20160818  ,TAlPro-2016,21      ,  1,13         ,13         ,20160824,0209,    39.28,     6.68,    202.3,   14.197,   38.503,   192.06,2,     -999,9,     -999,9,     -999,9,     -999,9,     -999,9,     1.40,2,     1.69,2,  2320.10,2,   224.46,2,  2588.12,2,     7.90,2
29AJ20160818  ,TAlPro-2016,21      ,  1,12         ,12         ,20160824,0209,    39.28,     6.68,    304.1,   13.726,   38.574,   174.57,2,     -999,9,     -999,9,     -999,9,     -999,9,     -999,9,     1.23,2,     1.27,2,     -999,9,     -999,9,     -999,9,     7.88,2
29AJ20160818  ,TAlPro-2016,21      ,  1,11         ,11         ,20160824,0209,    39.28,     6.68,    402.7,   13.693,   38.625,   168.96,2,     -999,9,     -999,9,     -999,9,     -999,9,     -999,9,     1.06,2,     1.03,2,  2344.58,2,   234.38,2,  2599.23,2,     7.89,2
29AJ20160818  ,TAlPro-2016,21      ,  1,10         ,10         ,20160824,0209,    39.28,     6.68,    508.3,   13.489,   38.591,   169.76,2,     -999,9,     -999,9,     -999,9,     -999,9,     -999,9,     0.93,2,     0.76,2,     -999,9,     -999,9,     -999,9,     7.89,2
29AJ20160818  ,TAlPro-2016,21      ,  1,9          ,9          ,20160824,0209,    39.28,     6.68,    757.4,   13.297,   38.546,   178.35,2,     -999,9,     -999,9,     -999,9,     -999,9,     -999,9,     0.80,2,     0.57,2,  2330.52,2,   225.05,2,  2593.45,2,     7.90,2
29AJ20160818  ,TAlPro-2016,21      ,  1,8          ,8          ,20160824,0209,    39.28,     6.68,   1012.5,   13.194,   38.514,   183.98,2,   184.31,2,     8.49,2,     8.49,2,     0.01,2,     0.43,2,     -999,9,     -999,9,     -999,9,     -999,9,     -999,9,     7.90,2
29AJ20160818  ,TAlPro-2016,21      ,  1,7          ,7          ,20160824,0209,    39.28,     6.68,   1263.0,   13.136,   38.490,   188.87,2,     -999,9,     -999,9,     -999,9,     -999,9,     -999,9,     0.77,2,     0.43,2,  2321.88,2,   232.15,2,  2589.74,2,     7.90,2
29AJ20160818  ,TAlPro-2016,21      ,  1,6          ,6          ,20160824,0209,    39.28,     6.68,   1519.3,   13.139,   38.483,   192.87,2,     -999,9,     -999,9,     -999,9,     -999,9,     -999,9,     0.82,2,     0.53,2,     -999,9,     -999,9,     -999,9,     7.90,2
29AJ20160818  ,TAlPro-2016,21      ,  1,5          ,5          ,20160824,0209,    39.28,     6.68,   1768.6,   13.176,   38.485,   195.36,2,     -999,9,     -999,9,     -999,9,     -999,9,     -999,9,     0.87,2,     0.54,2,  2322.57,2,   219.61,2,  2590.80,2,     7.90,2
29AJ20160818  ,TAlPro-2016,21      ,  1,4          ,4          ,20160824,0209,    39.28,     6.68,   2027.7,   13.212,   38.485,   196.37,2,   202.14,3,     8.53,2,     8.25,2,     0.01,2,     0.41,2,     0.89,2,     0.59,2,     -999,9,     -999,9,     -999,9,     7.90,2
29AJ20160818  ,TAlPro-2016,21      ,  1,3          ,3          ,20160824,0209,    39.28,     6.68,   2281.1,   13.252,   38.487,   196.69,2,     -999,9,     -999,9,     -999,9,     -999,9,     -999,9,     0.91,2,     0.66,2,  2319.03,3,   226.31,2,  2590.93,2,     7.92,3
29AJ20160818  ,TAlPro-2016,21      ,  1,2          ,2          ,20160824,0209,    39.28,     6.68,   2533.5,   13.304,   38.492,   196.72,2,     -999,9,     -999,9,     -999,9,     -999,9,     -999,9,     0.96,2,     0.71,2,     -999,9,     -999,9,     -999,9,     7.90,2
29AJ20160818  ,TAlPro-2016,21      ,  1,1          ,1          ,20160824,0209,    39.28,     6.68,   2882.2,   13.363,   38.492,   196.43,2,   197.41,2,     8.70,2,     8.19,2,     0.01,2,     0.40,2,     0.96,2,     0.72,2,  2317.60,2,   221.69,2,  2590.69,2,     7.90,2