BOTTLE,20240504CCHHYDRO
EXPOCODE,SECT_ID,STNNBR,CASTNO,SAMPNO,BTLNBR,DATE,TIME,LATITUDE,LONGITUDE,CTDPRS,CTDTMP,CTDSAL,CTDOXY,CTDOXY_FLAG_W,OXYGEN,OXYGEN_FLAG_W,SILCAT,SILCAT_FLAG_W,NITRAT,NITRAT_FLAG_W,NITRIT,NITRIT_FLAG_W,PHSPHT,PHSPHT_FLAG_W,CFC-12,CFC-12_FLAG_W,SF6,SF6_FLAG_W,TCARBN,TCARBN_FLAG_W,CARBONATE,CARBONATE_FLAG_W,ALKALI,ALKALI_FLAG_W,PH,PH_FLAG_W
,,,,,,,,,,DBAR,DEG C,PSS-78,UMOL/KG,,UMOL/KG,,UMOL/KG,,UMOL/KG,,UMOL/KG,,UMOL/KG,,PMOL/KG,,FMOL/KG,,UMOL/KG,,UMOL/KG,,UMOL/KG,,,
29AJ20160818  ,TAlPro-2016,5       ,  1,17         ,17         ,20160820,0209,    39.05,    12.43,      4.5,   26.252,   38.454,   202.30,2,     -999,9,     -999,9,     -999,9,     -999,9,     -999,9,     1.01,2,     1.43,2,     -999,9,     -999,9,     -999,9,     8.02,2
29AJ20160818  ,TAlPro-2016,5       ,  1,16         ,16         ,20160820,0209,    39.05,    12.43,     24.9,   24.202,   38.288,   219.62,2,     -999,9,     -999,9,     -999,9,     -999,9,     -999,9,     1.31,2,     1.78,2,     -999,9,     -999,9,     -999,9,     8.00,2
29AJ20160818  ,TAlPro-2016,5       ,  1,15         ,15         ,20160820,0209,    39.05,    12.43,     51.7,   16.542,   38.109,   266.76,2,     -999,9,     -999,9,     -999,9,     -999,9,     -999,9,     1.50,2,     1.95,2,     -999,9,     -999,9,     -999,9,     7.99,2
29AJ20160818  ,TAlPro-2016,5       ,  1,14         ,14         ,20160820,0209,    39.05,    12.43,     75.0,   14.910,   38.225,   240.67,2,     -999,9,     -999,9,     -999,9,     -999,9,     -999,9,     1.50,2,     2.01,2,     -999,9,     -999,9,     -999,9,     7.89,2
29AJ20160818  ,TAlPro-2016,5       ,  1,13         ,13         ,20160820,0209,    39.05,    12.43,    102.2,   14.686,   38.355,   208.91,2,     -999,9,     1.97,2,     1.62,2,     0.17,2,     0.03,2,     1.44,2,     1.89,2,     -999,9,     -999,9,     -999,9,     7.92,2
29AJ20160818  ,TAlPro-2016,5       ,  1,12         ,12         ,20160820,0209,    39.05,    12.43,    202.8,   14.676,   38.786,   190.22,2,     -999,9,     -999,9,     -999,9,     -999,9,     -999,9,     1.29,2,     1.57,2,     -999,9,     -999,9,     -999,9,     7.93,2
29AJ20160818  ,TAlPro-2016,5       ,  1,11         ,11         ,20160820,0209,    39.05,    12.43,    304.9,   14.424,   38.792,   181.06,2,   180.15,2,     5.00,2,     5.83,2,     0.00,2,     0.25,2,     1.19,2,     1.50,2,     -999,9,     -999,9,     -999,9,     7.92,2
29AJ20160818  ,TAlPro-2016,5       ,  1,10         ,10         ,20160820,0209,    39.05,    12.43,    405.4,   14.412,   38.820,   183.54,2,     -999,9,     -999,9,     -999,9,     -999,9,     -999,9,     1.13,2,     1.40,2,     -999,9,     -999,9,     -999,9,     7.93,2
29AJ20160818  ,TAlPro-2016,5       ,  1,9          ,9          ,20160820,0209,    39.05,    12.43,    557.1,   14.178,   38.778,   180.62,2,     -999,9,     6.39,2,     6.35,2,     0.00,2,     0.28,2,     1.00,2,     1.16,2,     -999,9,     -999,9,     -999,9,     7.93,2
29AJ20160818  ,TAlPro-2016,5       ,  1,8          ,8          ,20160820,0209,    39.05,    12.43,    758.5,   13.914,   38.711,   179.84,2,     -999,9,     -999,9,     -999,9,     -999,9,     -999,9,     0.88,2,     0.92,2,     -999,9,     -999,9,     -999,9,     7.92,2
29AJ20160818  ,TAlPro-2016,5       ,  1,7          ,7          ,20160820,0209,    39.05,    12.43,   1011.7,   13.642,   38.637,   180.73,2,     -999,5,     8.42,2,     7.34,2,     0.00,2,     0.35,2,     0.72,2,     0.64,2,     -999,9,     -999,9,     -999,9,     7.92,2
29AJ20160818  ,TAlPro-2016,5       ,  1,6          ,6          ,20160820,0209,    39.05,    12.43,   1259.9,   13.475,   38.585,   183.06,2,     -999,9,     8.98,2,     7.63,2,     0.00,2,     0.38,2,     0.63,2,     0.42,2,     -999,9,     -999,9,     -999,9,     7.92,2
29AJ20160818  ,TAlPro-2016,5       ,  1,5          ,5          ,20160820,0209,    39.05,    12.43,   1518.9,   13.411,   38.558,   184.81,2,     -999,9,     9.28,2,     7.86,2,     0.00,2,     0.39,2,     0.60,2,     0.37,2,     -999,9,     -999,9,     -999,9,     7.92,2
29AJ20160818  ,TAlPro-2016,5       ,  1,4          ,4          ,20160820,0209,    39.05,    12.43,   1772.1,   13.382,   38.538,   185.71,2,     -999,9,     9.54,2,     8.04,2,     0.00,2,     0.41,2,     0.60,2,     0.30,2,     -999,9,     -999,9,     -999,9,     7.91,2
29AJ20160818  ,TAlPro-2016,5       ,  1,3          ,3          ,20160820,0209,    39.05,    12.43,   2026.2,   13.355,   38.519,   187.50,2,     -999,9,     9.63,2,     8.23,2,     0.00,2,     0.41,2,     0.65,2,     0.38,2,     -999,9,     -999,9,     -999,9,     7.90,2
29AJ20160818  ,TAlPro-2016,5       ,  1,2          ,2          ,20160820,0209,    39.05,    12.43,   2280.7,   13.347,   38.506,   189.83,2,     -999,9,     9.74,2,     8.36,2,     0.00,2,     0.43,2,     0.73,2,     0.49,2,     -999,9,     -999,9,     -999,9,     7.91,2
29AJ20160818  ,TAlPro-2016,5       ,  1,1          ,1          ,20160820,0209,    39.05,    12.43,   2503.8,   13.359,   38.501,   191.44,2,   190.64,2,     9.60,2,     8.50,2,     0.00,2,     0.43,2,     0.79,2,     0.53,2,     -999,9,     -999,9,     -999,9,     7.90,2
29AJ20160818  ,TAlPro-2016,6       ,  1,20         ,20         ,20160820,0717,    39.22,    11.75,      6.5,   26.209,   38.044,   201.15,2,     -999,9,     1.49,2,     0.16,2,     0.00,2,     0.00,2,     1.04,2,     1.43,2,  2210.53,2,   283.51,3,  2530.12,2,     8.02,2
29AJ20160818  ,TAlPro-2016,6       ,  1,19         ,19         ,20160820,0717,    39.22,    11.75,     25.6,   19.665,   37.359,   249.91,2,     -999,9,     1.34,2,     0.18,2,     0.00,2,     0.00,2,     1.41,2,     1.62,2,  2178.76,2,   245.94,2,  2476.54,2,     7.99,2
29AJ20160818  ,TAlPro-2016,6       ,  1,18         ,18         ,20160820,0717,    39.22,    11.75,     51.6,   16.555,   37.519,   248.92,2,     -999,9,     1.41,2,     0.26,2,     0.00,2,     0.00,2,     1.49,2,     1.84,2,  2205.58,2,   259.34,3,  2490.78,2,     7.97,2
29AJ20160818  ,TAlPro-2016,6       ,  1,17         ,17         ,20160820,0717,    39.22,    11.75,     76.1,   15.627,   37.880,   240.07,2,     -999,9,     1.55,2,     0.19,2,     0.01,2,     0.00,2,     1.51,2,     2.01,2,  2240.44,2,   230.12,3,  2528.98,2,     7.96,2
29AJ20160818  ,TAlPro-2016,6       ,  1,16         ,16         ,20160820,0717,    39.22,    11.75,     91.5,   15.102,   38.058,   232.38,2,     -999,9,     1.65,2,     0.36,2,     0.12,2,     0.02,2,     1.51,2,     2.08,2,  2255.94,2,   203.49,2,  2542.91,2,     7.95,2
29AJ20160818  ,TAlPro-2016,6       ,  1,15         ,15         ,20160820,0717,    39.22,    11.75,    202.5,   14.581,   38.563,   189.71,2,     -999,9,     3.41,2,     4.79,2,     0.01,2,     0.17,2,     1.42,2,     1.87,2,  2322.52,2,   231.11,2,  2588.62,2,     7.91,2
29AJ20160818  ,TAlPro-2016,6       ,  1,14         ,14         ,20160820,0717,    39.22,    11.75,    303.0,   14.534,   38.797,   184.73,2,     -999,9,     4.74,2,     5.52,2,     0.00,2,     0.22,2,     1.23,2,     1.54,2,  2328.86,2,   245.21,2,  2610.42,2,     7.92,2
29AJ20160818  ,TAlPro-2016,6       ,  1,13         ,13         ,20160820,0717,    39.22,    11.75,    405.1,   14.292,   38.787,   179.28,2,     -999,9,     5.77,2,     6.27,2,     0.00,2,     0.27,2,     1.11,2,     1.32,2,  2332.30,2,   235.73,2,  2612.81,2,     7.92,2
29AJ20160818  ,TAlPro-2016,6       ,  1,12         ,12         ,20160820,0717,    39.22,    11.75,    505.3,   14.163,   38.774,   178.94,2,     -999,9,     6.44,2,     6.48,2,     0.00,2,     0.29,2,     1.03,2,     1.24,2,  2329.67,2,     -999,9,  2611.21,2,     7.92,2
29AJ20160818  ,TAlPro-2016,6       ,  1,11         ,11         ,20160820,0717,    39.22,    11.75,    758.2,   13.786,   38.683,   179.36,2,   179.14,2,     7.89,2,     7.12,2,     0.00,2,     0.33,2,     0.81,2,     0.76,2,  2327.18,2,   249.85,2,  2604.49,2,     7.92,2
29AJ20160818  ,TAlPro-2016,6       ,  1,10         ,10         ,20160820,0717,    39.22,    11.75,   1010.7,   13.514,   38.606,   182.24,2,     -999,9,     8.82,2,     7.45,2,     0.00,2,     0.36,2,     0.67,2,     0.46,2,  2324.42,2,   223.47,2,  2599.02,2,     7.92,2
29AJ20160818  ,TAlPro-2016,6       ,  1,9          ,9          ,20160820,0717,    39.22,    11.75,   1264.1,   13.480,   38.587,   183.08,2,   182.40,2,     9.10,2,     7.67,2,     0.00,2,     0.37,2,     -999,9,     -999,9,  2319.00,2,   240.62,3,  2598.46,2,     7.92,2
29AJ20160818  ,TAlPro-2016,6       ,  1,8          ,8          ,20160820,0717,    39.22,    11.75,   1517.6,   13.429,   38.563,   184.28,2,     -999,9,     9.29,2,     7.59,2,     0.00,2,     0.38,2,     0.61,2,     0.38,2,  2313.82,2,   241.12,2,     -999,9,     7.92,2
29AJ20160818  ,TAlPro-2016,6       ,  1,7          ,7          ,20160820,0717,    39.22,    11.75,   1771.0,   13.407,   38.546,   185.66,2,     -999,5,     9.55,2,     7.89,2,     0.00,2,     0.38,2,     0.61,2,     0.37,2,  2317.96,2,     -999,5,  2596.64,2,     7.91,2
29AJ20160818  ,TAlPro-2016,6       ,  1,6          ,6          ,20160820,0717,    39.22,    11.75,   2025.9,   13.389,   38.529,   186.80,2,     -999,9,     9.67,2,     8.06,2,     0.00,2,     0.39,2,     0.62,2,     0.29,2,  2319.57,2,   244.06,2,  2593.55,2,     7.92,2
29AJ20160818  ,TAlPro-2016,6       ,  1,5          ,5          ,20160820,0717,    39.22,    11.75,   2280.5,   13.391,   38.518,   188.25,2,   187.69,2,     9.77,2,     8.18,2,     0.00,2,     0.41,2,     0.65,2,     0.36,2,  2322.45,2,   247.29,2,  2591.59,2,     7.91,2
29AJ20160818  ,TAlPro-2016,6       ,  1,4          ,4          ,20160820,0717,    39.22,    11.75,   2534.9,   13.406,   38.510,   190.24,2,     -999,9,     9.67,2,     8.32,2,     0.00,2,     0.40,2,     0.71,2,     0.45,2,  2321.10,2,   252.00,2,  2592.61,2,     7.91,2
29AJ20160818  ,TAlPro-2016,6       ,  1,3          ,3          ,20160820,0717,    39.22,    11.75,   2789.2,   13.422,   38.504,   191.28,2,   190.95,2,     9.59,2,     8.47,2,     0.01,2,     0.40,2,     0.77,2,     0.47,2,  2320.89,2,   235.23,3,  2590.67,2,     7.90,2
29AJ20160818  ,TAlPro-2016,6       ,  1,2          ,2          ,20160820,0717,    39.22,    11.75,   3045.0,   13.434,   38.497,   193.63,2,     -999,9,     9.52,2,     8.14,2,     0.03,2,     0.40,2,     0.84,2,     0.57,2,  2323.57,2,   244.67,2,  2590.89,2,     7.90,2
29AJ20160818  ,TAlPro-2016,6       ,  1,1          ,1          ,20160820,0717,    39.22,    11.75,   3208.4,   13.450,   38.494,   194.19,2,   193.81,2,     9.38,2,     8.36,2,     0.00,2,     0.39,2,     0.87,2,     0.61,2,  2321.31,2,   222.14,3,  2590.41,2,     7.90,2
29AJ20160818  ,TAlPro-2016,7       ,  1,21         ,21         ,20160820,1312,    39.72,    11.87,      3.6,   26.690,   38.508,   199.19,2,   207.09,2,     1.63,2,     0.16,2,     0.01,2,     0.00,2,     1.03,2,     1.36,2,     -999,9,     -999,9,  2563.68,3,     8.03,2
29AJ20160818  ,TAlPro-2016,7       ,  1,20         ,20         ,20160820,1312,    39.72,    11.87,     25.3,   22.226,   38.189,   231.97,2,     -999,9,     1.56,2,     0.16,2,     0.00,2,     0.00,2,     -999,9,     -999,9,  2241.33,2,     -999,9,  2564.31,2,     8.00,2
29AJ20160818  ,TAlPro-2016,7       ,  1,19         ,19         ,20160820,1312,    39.72,    11.87,     51.0,   16.409,   38.182,   262.75,2,   261.63,2,     1.67,2,     0.16,2,     0.00,2,     0.00,2,     1.49,2,     1.82,2,     -999,9,     -999,9,  2557.13,2,     7.98,2
29AJ20160818  ,TAlPro-2016,7       ,  1,18         ,18         ,20160820,1312,    39.72,    11.87,     76.5,   14.882,   38.233,   240.04,2,   236.22,2,     1.34,2,     0.18,2,     0.01,2,     0.00,2,     -999,9,     -999,9,     -999,9,     -999,9,  2567.08,2,     7.95,2
29AJ20160818  ,TAlPro-2016,7       ,  1,17         ,17         ,20160820,1312,    39.72,    11.87,    102.5,   14.657,   38.448,   194.25,2,   194.49,2,     2.75,2,     3.31,2,     0.04,2,     0.03,2,     1.43,2,     1.78,2,     -999,9,     -999,9,  2587.00,2,     7.91,2
29AJ20160818  ,TAlPro-2016,7       ,  1,16         ,16         ,20160820,1312,    39.72,    11.87,    203.6,   14.436,   38.686,   186.40,2,   188.46,2,     3.92,2,     5.36,2,     0.00,2,     0.18,2,     1.34,2,     1.62,2,  2332.31,2,     -999,9,  2605.35,2,     7.91,2
29AJ20160818  ,TAlPro-2016,7       ,  1,15         ,15         ,20160820,1312,    39.72,    11.87,    304.4,   14.398,   38.780,   179.88,2,     -999,9,     5.12,2,     6.04,2,     0.00,2,     0.24,2,     1.20,2,     1.33,2,     -999,9,     -999,9,  2612.49,2,     7.93,2
29AJ20160818  ,TAlPro-2016,7       ,  1,14         ,14         ,20160820,1312,    39.72,    11.87,    404.9,   14.274,   38.784,   177.61,2,   180.02,2,     5.66,2,     6.23,2,     0.00,2,     0.25,2,     1.12,2,     1.11,2,     -999,9,     -999,9,  2613.69,2,     7.93,2
29AJ20160818  ,TAlPro-2016,7       ,  1,13         ,13         ,20160820,1312,    39.72,    11.87,    508.3,   14.122,   38.761,   176.56,2,     -999,5,     6.41,2,     6.51,2,     0.00,2,     0.27,2,     1.03,2,     1.02,2,     -999,9,     -999,9,  2614.07,2,     7.93,2
29AJ20160818  ,TAlPro-2016,7       ,  1,12         ,12         ,20160820,1312,    39.72,    11.87,    753.3,   13.870,   38.698,   178.69,2,   180.14,2,     7.30,2,     6.51,2,     0.00,2,     0.27,2,     0.83,2,     0.73,2,  2328.88,2,     -999,9,  2607.85,2,     7.93,2
29AJ20160818  ,TAlPro-2016,7       ,  1,11         ,11         ,20160820,1312,    39.72,    11.87,   1011.6,   13.691,   38.649,   180.38,2,   180.01,2,     8.39,2,     7.23,2,     0.00,2,     0.32,2,     0.75,2,     0.58,2,     -999,9,     -999,9,  2604.13,2,     7.92,2
29AJ20160818  ,TAlPro-2016,7       ,  1,10         ,10         ,20160820,1312,    39.72,    11.87,   1265.2,   13.548,   38.604,   182.68,2,   185.13,3,     8.88,2,     7.47,2,     0.00,2,     0.34,2,     0.67,2,     0.46,2,     -999,9,     -999,9,  2600.24,2,     7.92,2
29AJ20160818  ,TAlPro-2016,7       ,  1,9          ,9          ,20160820,1312,    39.72,    11.87,   1518.3,   13.445,   38.568,   184.14,2,   186.65,3,     9.00,2,     7.44,2,     0.00,2,     0.34,2,     0.61,2,     0.34,2,     -999,9,     -999,9,  2594.78,2,     7.92,2
29AJ20160818  ,TAlPro-2016,7       ,  1,8          ,8          ,20160820,1312,    39.72,    11.87,   1772.2,   13.473,   38.564,   184.80,2,   187.26,3,     9.37,2,     7.71,2,     0.00,2,     0.36,2,     0.62,2,     0.28,2,  2325.93,2,     -999,9,  2596.10,2,     7.92,2
29AJ20160818  ,TAlPro-2016,7       ,  1,7          ,7          ,20160820,1312,    39.72,    11.87,   2024.2,   13.460,   38.550,   185.66,2,     -999,9,     9.41,2,     7.77,2,     0.00,2,     0.37,2,     0.60,2,     0.30,2,     -999,9,     -999,9,  2596.33,2,     7.91,2
29AJ20160818  ,TAlPro-2016,7       ,  1,6          ,6          ,20160820,1312,    39.72,    11.87,   2277.6,   13.424,   38.528,   187.60,2,     -999,9,     9.69,2,     7.95,2,     0.00,2,     0.39,2,     0.61,2,     0.26,2,     -999,9,     -999,9,  2593.07,2,     7.91,2
29AJ20160818  ,TAlPro-2016,7       ,  1,5          ,5          ,20160820,1312,    39.72,    11.87,   2535.6,   13.421,   38.514,   188.82,2,   186.43,2,     9.69,2,     8.06,2,     0.00,2,     0.38,2,     0.65,2,     0.27,2,     -999,9,     -999,9,  2590.95,2,     7.91,2
29AJ20160818  ,TAlPro-2016,7       ,  1,4          ,4          ,20160820,1312,    39.72,    11.87,   2790.2,   13.440,   38.507,   189.32,2,   191.03,2,     9.67,2,     8.07,2,     0.00,2,     0.38,2,     0.69,2,     0.37,2,  2322.73,2,     -999,9,  2589.82,2,     7.91,2
29AJ20160818  ,TAlPro-2016,7       ,  1,3          ,3          ,20160820,1312,    39.72,    11.87,   3044.9,   13.471,   38.503,   190.87,2,   188.95,2,     9.72,2,     8.28,2,     0.00,2,     0.39,2,     0.74,2,     0.42,2,     -999,9,     -999,9,  2590.17,2,     7.90,2
29AJ20160818  ,TAlPro-2016,7       ,  1,2          ,2          ,20160820,1312,    39.72,    11.87,   3300.8,   13.509,   38.502,   191.01,2,   191.94,2,     9.62,2,     8.26,2,     0.00,2,     0.39,2,     0.76,2,     0.49,2,     -999,9,     -999,9,  2589.80,2,     7.91,2
29AJ20160818  ,TAlPro-2016,7       ,  1,1          ,1          ,20160820,1312,    39.72,    11.87,   3540.3,   13.537,   38.500,   192.29,2,     -999,5,     9.57,2,     8.38,2,     0.00,2,     0.38,2,     0.81,2,     0.58,2,  2326.82,2,     -999,9,  2589.19,2,     7.90,2