BOTTLE,20240504CCHHYDRO
#BOTTLE,20240503CCHSIOADS
# Changed parameter names and units and updated flags to meet CCHDO spec, please see History Note for full details.
#
# License: Creative Commons Attribution 4.0 International (CC-BY-4.0) https://creativecommons.org/licenses/by/4.0/
# Citation: Tanhua, Toste (2019): Hydrochemistry of water samples during MedSHIP cruise Talpro [dataset]. PANGAEA, https://doi.org/10.1594/PANGAEA.902293
# Abstract:	The TAlPro cruise (Palermo - Barcelona, RV Angeles Alvariño, 18/-8/2016 - 29/08/2-16) occupied three hydrographic transects across the Tyrrhenian Sea, the western Mediterranean Sea and the Catalan Basin (Fig. 1) as part of the MedSHIP programme (Mediterranean Ship-based Hydrographic Investigations Program). A total of 43 stations were occupied during which physical (temperature, salinity, pressure, velocity), biogeochemical (oxygen, nutrients, carbonate system, dissolved Barium, oxygen and nitrogen isotopes) and anthropic (CFCs, SF6) parameters were measured in order to monitor the physical and biogeochemical state of the Mediterranean Sea.
# Related to:	Jullion, Loic (2016): TAlPro-2016: A Tyrrhenian Sea & Alger- provencal component of the MedSHIP Programme. hdl:10013/epic.5a866780-1f8a-45cf-8111-47b2b5dc29db
# Coverage:	MEDIAN LATITUDE: 40.523317 * MEDIAN LONGITUDE: 7.400997 * SOUTH-BOUND LATITUDE: 38.300000 * WEST-BOUND LONGITUDE: 2.070000 * NORTH-BOUND LATITUDE: 43.050000 * EAST-BOUND LONGITUDE: 13.390000
EXPOCODE,SECT_ID,STNNBR,CASTNO,SAMPNO,BTLNBR,DATE,TIME,LATITUDE,LONGITUDE,CTDPRS,CTDTMP,CTDSAL,CTDOXY,CTDOXY_FLAG_W,OXYGEN,OXYGEN_FLAG_W,SILCAT,SILCAT_FLAG_W,NITRAT,NITRAT_FLAG_W,NITRIT,NITRIT_FLAG_W,PHSPHT,PHSPHT_FLAG_W,CFC-12,CFC-12_FLAG_W,SF6,SF6_FLAG_W,TCARBN,TCARBN_FLAG_W,CARBONATE,CARBONATE_FLAG_W,ALKALI,ALKALI_FLAG_W,PH,PH_FLAG_W
,,,,,,,,,,DBAR,DEG C,PSS-78,UMOL/KG,,UMOL/KG,,UMOL/KG,,UMOL/KG,,UMOL/KG,,UMOL/KG,,PMOL/KG,,FMOL/KG,,UMOL/KG,,UMOL/KG,,UMOL/KG,,,
29AJ20160818  ,TAlPro-2016,1       ,  1,9          ,9          ,20160819,1144,    38.30,    13.39,      5.6,   27.098,   37.991,   198.76,2,     -999,9,     0.61,2,     0.17,2,     0.00,2,     0.02,2,     -999,9,     -999,9,     -999,9,     -999,9,     -999,9,     -999,9
29AJ20160818  ,TAlPro-2016,1       ,  1,8          ,8          ,20160819,1144,    38.30,    13.39,     26.2,   19.140,   37.590,   254.32,2,     -999,9,     0.66,2,     0.18,2,     0.01,2,     0.02,2,     -999,9,     -999,9,     -999,9,     -999,9,     -999,9,     -999,9
29AJ20160818  ,TAlPro-2016,1       ,  1,7          ,7          ,20160819,1144,    38.30,    13.39,     46.4,   16.141,   37.844,   254.17,2,     -999,9,     0.59,2,     0.10,2,     0.00,2,     0.03,2,     -999,9,     -999,9,     -999,9,     -999,9,     -999,9,     -999,9
29AJ20160818  ,TAlPro-2016,1       ,  1,6          ,6          ,20160819,1144,    38.30,    13.39,     75.2,   15.375,   38.103,   245.18,2,     -999,9,     0.47,2,     0.04,2,     0.01,2,     0.05,2,     -999,9,     -999,9,     -999,9,     -999,9,     -999,9,     -999,9
29AJ20160818  ,TAlPro-2016,1       ,  1,5          ,5          ,20160819,1144,    38.30,    13.39,    101.1,   14.877,   38.267,   227.96,2,     -999,9,     0.84,2,     1.18,2,     0.06,2,     0.10,2,     -999,9,     -999,9,     -999,9,     -999,9,     -999,9,     -999,9
29AJ20160818  ,TAlPro-2016,1       ,  1,4          ,4          ,20160819,1144,    38.30,    13.39,    200.6,   14.738,   38.813,   191.58,2,     -999,9,     2.58,2,     4.15,2,     0.00,2,     0.19,2,     -999,9,     -999,9,     -999,9,     -999,9,     -999,9,     -999,9
29AJ20160818  ,TAlPro-2016,1       ,  1,3          ,3          ,20160819,1144,    38.30,    13.39,    302.1,   14.629,   38.852,   188.85,2,     -999,9,     3.18,2,     4.53,2,     0.01,2,     0.21,2,     -999,9,     -999,9,     -999,9,     -999,9,     -999,9,     -999,9
29AJ20160818  ,TAlPro-2016,1       ,  1,2          ,2          ,20160819,1144,    38.30,    13.39,    402.2,   14.393,   38.824,   184.48,2,     -999,9,     4.14,2,     4.96,2,     0.00,2,     0.25,2,     -999,9,     -999,9,     -999,9,     -999,9,     -999,9,     -999,9
29AJ20160818  ,TAlPro-2016,1       ,  1,1          ,1          ,20160819,1144,    38.30,    13.39,    466.5,   14.350,   38.820,   184.06,2,     -999,9,     4.49,2,     4.65,2,     0.00,2,     0.26,2,     -999,9,     -999,9,     -999,9,     -999,9,     -999,9,     -999,9
29AJ20160818  ,TAlPro-2016,2       ,  1,12         ,12         ,20160819,1307,    38.42,    13.37,      5.0,   27.004,   38.012,   199.41,2,     -999,9,     1.01,2,     0.06,2,     0.00,2,     0.01,2,     1.11,2,     1.64,2,  2200.31,2,   297.48,2,  2528.06,2,     8.02,2
29AJ20160818  ,TAlPro-2016,2       ,  1,11         ,11         ,20160819,1307,    38.42,    13.37,     25.5,   19.482,   37.574,   253.99,2,   253.43,2,     0.68,2,     0.19,2,     0.00,2,     0.01,2,     1.43,2,     1.97,2,  2197.36,2,   291.23,2,  2508.57,2,     7.99,2
29AJ20160818  ,TAlPro-2016,2       ,  1,10         ,10         ,20160819,1307,    38.42,    13.37,     51.0,   16.389,   37.753,   252.20,2,     -999,9,     0.61,2,     0.04,2,     0.00,2,     0.02,2,     1.47,2,     2.00,2,  2218.14,2,   299.56,2,  2521.57,2,     7.98,2
29AJ20160818  ,TAlPro-2016,2       ,  1,9          ,9          ,20160819,1307,    38.42,    13.37,     85.8,   15.107,   38.060,   238.98,2,   235.83,2,     0.75,2,     0.22,2,     0.03,2,     0.01,2,     1.51,2,     2.06,2,  2261.38,2,   248.26,2,  2553.17,2,     7.95,2
29AJ20160818  ,TAlPro-2016,2       ,  1,8          ,8          ,20160819,1307,    38.42,    13.37,    101.1,   14.641,   38.203,   217.49,2,   216.59,2,     1.30,2,     1.81,2,     0.03,2,     0.05,2,     1.51,2,     2.06,2,  2284.42,2,   256.88,2,  2567.71,2,     7.92,2
29AJ20160818  ,TAlPro-2016,2       ,  1,7          ,7          ,20160819,1307,    38.42,    13.37,    202.1,   14.790,   38.706,   194.99,2,   193.68,2,     2.28,2,     4.36,2,     0.01,2,     0.17,2,     1.36,2,     1.77,2,  2325.31,2,     -999,9,  2612.89,2,     7.93,2
29AJ20160818  ,TAlPro-2016,2       ,  1,6          ,6          ,20160819,1307,    38.42,    13.37,    304.0,   14.724,   38.838,   191.22,2,   190.53,2,     2.93,2,     4.78,2,     0.00,2,     0.19,2,     1.28,2,     1.53,2,  2330.24,2,   290.48,3,  2621.54,2,     7.93,2
29AJ20160818  ,TAlPro-2016,2       ,  1,5          ,5          ,20160819,1307,    38.42,    13.37,    404.9,   14.521,   38.832,   186.26,2,   185.49,2,     3.76,2,     5.28,2,     0.00,2,     0.21,2,     1.20,2,     1.58,2,  2330.60,2,   282.43,3,  2620.91,2,     7.93,2
29AJ20160818  ,TAlPro-2016,2       ,  1,4          ,4          ,20160819,1307,    38.42,    13.37,    505.0,   14.384,   38.822,   184.53,2,   183.62,2,     4.35,2,     5.70,2,     0.00,2,     0.24,2,     1.15,2,     1.49,2,  2331.67,2,   276.94,2,  2619.77,2,     7.93,2
29AJ20160818  ,TAlPro-2016,2       ,  1,3          ,3          ,20160819,1307,    38.42,    13.37,    757.7,   13.816,   38.690,   181.38,2,   181.44,2,     6.92,2,     7.12,2,     0.00,2,     0.33,2,     0.86,2,     0.89,2,  2328.15,2,   282.13,2,  2615.33,2,     7.92,2
29AJ20160818  ,TAlPro-2016,2       ,  1,2          ,2          ,20160819,1307,    38.42,    13.37,   1009.5,   13.486,   38.597,   182.99,2,   183.52,2,     8.31,2,     7.60,2,     0.00,2,     0.37,2,     0.72,2,     0.58,2,  2325.52,2,   257.35,2,  2600.39,2,     7.92,2
29AJ20160818  ,TAlPro-2016,2       ,  1,1          ,1          ,20160819,1307,    38.42,    13.37,   1185.4,   13.417,   38.571,   183.68,2,   189.08,3,     8.54,2,     7.68,2,     0.00,2,     0.37,2,     0.69,2,     0.54,2,  2320.81,2,   239.02,2,  2595.81,2,     7.92,2
29AJ20160818  ,TAlPro-2016,3       ,  1,14         ,14         ,20160819,1535,    38.52,    13.35,      4.6,   27.028,   37.995,   199.46,2,     -999,9,     0.65,2,     0.15,2,     0.00,2,     0.02,2,     -999,9,     -999,9,     -999,9,     -999,9,     -999,9,     -999,9
29AJ20160818  ,TAlPro-2016,3       ,  1,13         ,13         ,20160819,1535,    38.52,    13.35,     26.1,   19.226,   37.559,   255.67,2,     -999,9,     0.47,2,     0.15,2,     0.01,2,     0.04,2,     -999,9,     -999,9,     -999,9,     -999,9,     -999,9,     -999,9
29AJ20160818  ,TAlPro-2016,3       ,  1,12         ,12         ,20160819,1535,    38.52,    13.35,     50.4,   16.277,   37.688,   251.61,2,     -999,9,     0.46,2,     0.15,2,     0.01,2,     0.03,2,     -999,9,     -999,9,     -999,9,     -999,9,     -999,9,     -999,9
29AJ20160818  ,TAlPro-2016,3       ,  1,11         ,11         ,20160819,1535,    38.52,    13.35,     81.2,   15.103,   38.002,   235.50,2,   234.06,2,     0.95,2,     0.19,2,     0.05,2,     0.02,2,     -999,9,     -999,9,     -999,9,     -999,9,     -999,9,     -999,9
29AJ20160818  ,TAlPro-2016,3       ,  1,10         ,10         ,20160819,1535,    38.52,    13.35,    103.2,   14.769,   38.161,   219.56,2,   217.55,2,     1.00,2,     1.71,2,     0.02,2,     0.04,2,     -999,9,     -999,9,     -999,9,     -999,9,     -999,9,     -999,9
29AJ20160818  ,TAlPro-2016,3       ,  1,9          ,9          ,20160819,1535,    38.52,    13.35,    203.5,   14.792,   38.700,   195.34,2,     -999,9,     2.03,2,     4.29,2,     0.01,2,     0.16,2,     -999,9,     -999,9,     -999,9,     -999,9,     -999,9,     -999,9
29AJ20160818  ,TAlPro-2016,3       ,  1,8          ,8          ,20160819,1535,    38.52,    13.35,    305.0,   14.663,   38.811,   189.47,2,     -999,9,     -999,9,     -999,9,     -999,9,     -999,9,     -999,9,     -999,9,     -999,9,     -999,9,     -999,9,     -999,9
29AJ20160818  ,TAlPro-2016,3       ,  1,7          ,7          ,20160819,1535,    38.52,    13.35,    404.6,   14.559,   38.833,   187.18,2,   187.14,2,     3.61,2,     5.24,2,     0.00,2,     0.19,2,     -999,9,     -999,9,     -999,9,     -999,9,     -999,9,     -999,9
29AJ20160818  ,TAlPro-2016,3       ,  1,6          ,6          ,20160819,1535,    38.52,    13.35,    495.4,   14.432,   38.825,   184.67,2,     -999,9,     -999,9,     -999,9,     -999,9,     -999,9,     -999,9,     -999,9,     -999,9,     -999,9,     -999,9,     -999,9
29AJ20160818  ,TAlPro-2016,3       ,  1,5          ,5          ,20160819,1535,    38.52,    13.35,    758.0,   13.949,   38.723,   181.96,2,     -999,9,     6.19,2,     6.74,2,     0.00,2,     0.29,2,     -999,9,     -999,9,     -999,9,     -999,9,     -999,9,     -999,9
29AJ20160818  ,TAlPro-2016,3       ,  1,4          ,4          ,20160819,1535,    38.52,    13.35,   1010.7,   13.506,   38.602,   183.04,2,     -999,9,     -999,9,     -999,9,     -999,9,     -999,9,     -999,9,     -999,9,     -999,9,     -999,9,     -999,9,     -999,9
29AJ20160818  ,TAlPro-2016,3       ,  1,3          ,3          ,20160819,1535,    38.52,    13.35,   1257.5,   13.372,   38.556,   184.70,2,     -999,9,     8.81,2,     7.92,2,     0.00,2,     0.36,2,     -999,9,     -999,9,     -999,9,     -999,9,     -999,9,     -999,9
29AJ20160818  ,TAlPro-2016,3       ,  1,2          ,2          ,20160819,1535,    38.52,    13.35,   1516.3,   13.324,   38.532,   185.70,2,     -999,9,     -999,9,     -999,9,     -999,9,     -999,9,     -999,9,     -999,9,     -999,9,     -999,9,     -999,9,     -999,9
29AJ20160818  ,TAlPro-2016,3       ,  1,1          ,1          ,20160819,1535,    38.52,    13.35,   1632.9,   13.307,   38.523,   186.45,2,   187.52,2,     9.05,2,     8.35,2,     0.01,2,     0.37,2,     -999,9,     -999,9,     -999,9,     -999,9,     -999,9,     -999,9
29AJ20160818  ,TAlPro-2016,4       ,  1,21         ,21         ,20160819,1905,    38.92,    13.30,      5.9,   27.275,   38.186,   199.11,2,   204.12,2,     0.54,2,     0.16,2,     0.01,2,     0.02,2,     1.01,2,     1.50,2,     -999,9,   303.23,2,  2546.86,2,     8.02,2
29AJ20160818  ,TAlPro-2016,4       ,  1,20         ,20         ,20160819,1905,    38.92,    13.30,     25.5,   22.888,   37.973,   235.13,2,     -999,9,     0.73,2,     0.15,2,     0.01,2,     0.00,2,     1.32,2,     -999,9,     -999,9,   294.94,2,  2539.21,2,     8.01,2
29AJ20160818  ,TAlPro-2016,4       ,  1,19         ,19         ,20160819,1905,    38.92,    13.30,     51.6,   16.431,   37.891,   253.76,2,     -999,9,     0.53,2,     0.14,2,     0.00,2,     0.03,2,     1.50,2,     -999,9,     -999,9,   280.95,2,  2540.21,2,     7.98,2
29AJ20160818  ,TAlPro-2016,4       ,  1,18         ,18         ,20160819,1905,    38.92,    13.30,     82.3,   14.894,   38.152,   234.62,2,     -999,9,     0.91,2,     0.33,2,     0.02,2,     0.04,2,     1.52,2,     2.02,2,     -999,9,   284.73,2,  2558.62,2,     7.95,2
29AJ20160818  ,TAlPro-2016,4       ,  1,17         ,17         ,20160819,1905,    38.92,    13.30,    101.9,   14.594,   38.322,   209.69,2,     -999,9,     1.53,2,     2.74,2,     0.03,2,     0.06,2,     1.48,2,     2.01,2,     -999,9,   247.00,3,  2575.93,2,     7.92,2
29AJ20160818  ,TAlPro-2016,4       ,  1,16         ,16         ,20160819,1905,    38.92,    13.30,    198.2,   14.737,   38.801,   191.27,2,     -999,9,     2.75,2,     4.66,2,     0.03,2,     0.18,2,     1.34,2,     1.77,2,     -999,9,   258.70,2,  2615.44,2,     7.93,2
29AJ20160818  ,TAlPro-2016,4       ,  1,15         ,15         ,20160819,1905,    38.92,    13.30,    303.2,   14.550,   38.829,   188.08,2,     -999,9,     3.58,2,     5.24,2,     0.00,2,     0.22,2,     1.24,2,     1.62,2,     -999,9,   260.16,2,  2617.00,2,     7.93,2
29AJ20160818  ,TAlPro-2016,4       ,  1,14         ,14         ,20160819,1905,    38.92,    13.30,    403.9,   14.496,   38.844,   186.70,2,   184.88,2,     3.87,2,     5.31,2,     0.00,2,     0.21,2,     1.21,2,     1.48,2,     -999,9,   246.36,3,  2619.74,2,     7.93,2
29AJ20160818  ,TAlPro-2016,4       ,  1,13         ,13         ,20160819,1905,    38.92,    13.30,    505.1,   14.317,   38.812,   182.91,2,     -999,9,     4.94,2,     5.85,2,     0.00,2,     0.25,2,     1.12,2,     1.38,2,     -999,9,   239.13,2,  2616.94,2,     7.93,2
29AJ20160818  ,TAlPro-2016,4       ,  1,12         ,12         ,20160819,1905,    38.92,    13.30,    758.0,   13.786,   38.682,   180.57,2,     -999,9,     7.21,2,     7.10,2,     0.00,2,     0.33,2,     0.83,2,     0.81,2,     -999,9,   255.78,2,  2608.42,2,     7.93,2
29AJ20160818  ,TAlPro-2016,4       ,  1,11         ,11         ,20160819,1905,    38.92,    13.30,   1010.3,   13.506,   38.604,   182.70,2,     -999,9,     8.33,2,     7.66,2,     0.01,2,     0.37,2,     0.67,2,     0.54,2,     -999,9,   255.53,2,  2602.17,2,     7.92,2
29AJ20160818  ,TAlPro-2016,4       ,  1,10         ,10         ,20160819,1905,    38.92,    13.30,   1264.7,   13.405,   38.568,   184.12,2,     -999,9,     8.55,2,     7.86,2,     0.00,2,     0.37,2,     0.61,2,     0.40,2,     -999,9,   229.20,3,  2600.58,2,     7.93,2
29AJ20160818  ,TAlPro-2016,4       ,  1,9          ,9          ,20160819,1905,    38.92,    13.30,   1517.8,   13.444,   38.568,   184.30,2,   183.65,2,     8.74,2,     7.85,2,     0.00,2,     0.38,2,     0.62,2,     0.41,2,     -999,9,   211.19,3,  2598.46,2,     7.92,2
29AJ20160818  ,TAlPro-2016,4       ,  1,8          ,8          ,20160819,1905,    38.92,    13.30,   1772.1,   13.421,   38.550,   185.06,2,     -999,9,     9.01,2,     8.06,2,     0.01,2,     0.40,2,     0.60,2,     0.33,2,     -999,9,   297.89,3,  2599.90,2,     7.92,2
29AJ20160818  ,TAlPro-2016,4       ,  1,7          ,7          ,20160819,1905,    38.92,    13.30,   2025.8,   13.407,   38.535,   186.17,2,     -999,9,     9.11,2,     8.09,2,     0.00,2,     0.39,2,     0.61,2,     0.32,2,     -999,9,   236.97,3,  2596.14,2,     7.91,2
29AJ20160818  ,TAlPro-2016,4       ,  1,6          ,6          ,20160819,1905,    38.92,    13.30,   2278.8,   13.398,   38.520,   187.80,2,     -999,9,     9.36,2,     8.21,2,     0.00,2,     0.40,2,     0.63,2,     0.29,2,     -999,9,   291.40,3,  2594.30,2,     7.92,2
29AJ20160818  ,TAlPro-2016,4       ,  1,5          ,5          ,20160819,1905,    38.92,    13.30,   2535.2,   13.398,   38.507,   189.34,2,     -999,9,     9.35,2,     8.46,2,     0.00,2,     0.41,2,     0.68,2,     0.42,2,     -999,9,   214.89,3,  2593.91,2,     7.91,2
29AJ20160818  ,TAlPro-2016,4       ,  1,4          ,4          ,20160819,1905,    38.92,    13.30,   2789.3,   13.429,   38.504,   190.43,2,     -999,9,     9.28,2,     8.56,2,     0.00,2,     0.41,2,     0.73,2,     0.51,2,     -999,9,   318.69,3,  2591.35,2,     7.91,2
29AJ20160818  ,TAlPro-2016,4       ,  1,3          ,3          ,20160819,1905,    38.92,    13.30,   3044.5,   13.460,   38.502,   191.27,2,     -999,9,     9.26,2,     8.66,2,     0.00,2,     0.41,2,     0.75,2,     0.49,2,     -999,9,   269.80,3,  2590.45,2,     7.91,2
29AJ20160818  ,TAlPro-2016,4       ,  1,2          ,2          ,20160819,1905,    38.92,    13.30,   3299.4,   13.495,   38.500,   192.24,2,     -999,9,     9.21,2,     8.74,2,     0.00,2,     0.42,2,     0.79,2,     0.58,2,     -999,9,     -999,9,  2590.25,2,     7.90,2
29AJ20160818  ,TAlPro-2016,4       ,  1,1          ,1          ,20160819,1905,    38.92,    13.30,   3507.4,   13.531,   38.499,   192.13,2,   190.90,2,     9.20,2,     8.72,2,     0.00,2,     0.39,2,     0.80,2,     0.56,2,     -999,9,     -999,9,  2588.74,2,     7.91,2