BOTTLE,20240504CCHHYDRO
EXPOCODE,SECT_ID,STNNBR,CASTNO,SAMPNO,BTLNBR,DATE,TIME,LATITUDE,LONGITUDE,CTDPRS,CTDTMP,CTDSAL,CTDOXY,CTDOXY_FLAG_W,OXYGEN,OXYGEN_FLAG_W,SILCAT,SILCAT_FLAG_W,NITRAT,NITRAT_FLAG_W,NITRIT,NITRIT_FLAG_W,PHSPHT,PHSPHT_FLAG_W,CFC-12,CFC-12_FLAG_W,SF6,SF6_FLAG_W,TCARBN,TCARBN_FLAG_W,CARBONATE,CARBONATE_FLAG_W,ALKALI,ALKALI_FLAG_W,PH,PH_FLAG_W
,,,,,,,,,,DBAR,DEG C,PSS-78,UMOL/KG,,UMOL/KG,,UMOL/KG,,UMOL/KG,,UMOL/KG,,UMOL/KG,,PMOL/KG,,FMOL/KG,,UMOL/KG,,UMOL/KG,,UMOL/KG,,,
29AJ20160818  ,TAlPro-2016,25      ,  1,18         ,18         ,20160824,2029,    40.73,     5.92,      5.7,   23.355,   38.157,   216.93,2,   218.03,2,     0.43,2,     0.16,2,     0.00,2,     0.03,2,     -999,9,     -999,9,     -999,9,     -999,9,     -999,9,     8.02,2
29AJ20160818  ,TAlPro-2016,25      ,  1,17         ,17         ,20160824,2029,    40.73,     5.92,     25.8,   22.775,   38.200,   219.63,2,   219.47,2,     0.37,2,     0.14,2,     0.00,2,     0.04,2,     -999,9,     -999,9,  2229.87,2,   262.02,2,  2562.58,2,     8.02,2
29AJ20160818  ,TAlPro-2016,25      ,  1,16         ,16         ,20160824,2029,    40.73,     5.92,     50.9,   19.983,   38.268,   243.52,2,   243.15,2,     -999,9,     -999,9,     -999,9,     -999,9,     1.33,2,     1.75,2,     -999,9,     -999,9,     -999,9,     8.01,2
29AJ20160818  ,TAlPro-2016,25      ,  1,15         ,15         ,20160824,2029,    40.73,     5.92,     75.7,   14.966,   38.250,   261.04,2,   255.76,2,     -999,9,     -999,9,     -999,9,     -999,9,     -999,9,     -999,9,  2279.69,2,   267.30,2,  2568.94,2,     -999,9
29AJ20160818  ,TAlPro-2016,25      ,  1,14         ,14         ,20160824,2029,    40.73,     5.92,     90.7,   14.010,   38.281,   226.33,2,   224.58,2,     1.14,2,     1.48,2,     0.12,2,     0.06,2,     1.52,2,     1.85,2,     -999,9,     -999,9,     -999,9,     7.92,2
29AJ20160818  ,TAlPro-2016,25      ,  1,13         ,13         ,20160824,2029,    40.73,     5.92,    202.7,   13.465,   38.489,   209.83,2,     -999,9,     -999,9,     -999,9,     -999,9,     -999,9,     1.39,2,     1.67,2,  2327.97,2,   239.88,2,  2586.18,2,     7.89,2
29AJ20160818  ,TAlPro-2016,25      ,  1,12         ,12         ,20160824,2029,    40.73,     5.92,    302.0,   13.544,   38.586,   177.10,2,     -999,9,     -999,9,     -999,9,     -999,9,     -999,9,     1.12,2,     1.07,2,     -999,9,     -999,9,     -999,9,     7.89,2
29AJ20160818  ,TAlPro-2016,25      ,  1,11         ,11         ,20160824,2029,    40.73,     5.92,    404.1,   13.441,   38.580,   176.66,2,     -999,9,     6.67,2,     8.42,2,     0.00,2,     0.43,2,     -999,9,     -999,9,  2334.88,2,   248.75,3,  2595.38,2,     7.89,2
29AJ20160818  ,TAlPro-2016,25      ,  1,10         ,10         ,20160824,2029,    40.73,     5.92,    503.7,   13.453,   38.592,   174.26,2,   174.63,2,     -999,9,     -999,9,     -999,9,     -999,9,     0.85,2,     0.68,2,     -999,9,     -999,9,     -999,9,     7.90,2
29AJ20160818  ,TAlPro-2016,25      ,  1,9          ,9          ,20160824,2029,    40.73,     5.92,    758.3,   13.270,   38.542,   181.30,2,     -999,9,     -999,9,     -999,9,     -999,9,     -999,9,     0.78,2,     0.48,2,  2330.65,2,   252.62,2,  2592.63,2,     7.90,2
29AJ20160818  ,TAlPro-2016,25      ,  1,8          ,8          ,20160824,2029,    40.73,     5.92,   1010.0,   13.159,   38.506,   186.72,2,   186.69,2,     -999,9,     -999,9,     -999,9,     -999,9,     0.77,2,     0.43,2,     -999,9,     -999,9,     -999,9,     7.90,2
29AJ20160818  ,TAlPro-2016,25      ,  1,7          ,7          ,20160824,2029,    40.73,     5.92,   1262.4,   13.125,   38.488,   190.49,2,     -999,9,     -999,9,     -999,9,     -999,9,     -999,9,     0.78,2,     0.41,2,  2331.48,2,   230.27,2,  2588.59,2,     7.90,2
29AJ20160818  ,TAlPro-2016,25      ,  1,6          ,6          ,20160824,2029,    40.73,     5.92,   1517.8,   13.148,   38.486,   195.06,2,   194.37,2,     8.50,2,     8.20,2,     0.00,2,     0.42,2,     0.86,2,     0.59,2,     -999,9,     -999,9,     -999,9,     7.90,2
29AJ20160818  ,TAlPro-2016,25      ,  1,5          ,5          ,20160824,2029,    40.73,     5.92,   1771.3,   13.175,   38.485,   195.73,2,     -999,9,     -999,9,     -999,9,     -999,9,     -999,9,     0.88,2,     0.56,2,  2329.69,2,   245.58,2,  2587.07,2,     7.90,2
29AJ20160818  ,TAlPro-2016,25      ,  1,4          ,4          ,20160824,2029,    40.73,     5.92,   2025.8,   13.212,   38.486,   196.28,2,     -999,9,     -999,9,     -999,9,     -999,9,     -999,9,     0.90,2,     0.57,2,     -999,9,     -999,9,     -999,9,     7.90,2
29AJ20160818  ,TAlPro-2016,25      ,  1,3          ,3          ,20160824,2029,    40.73,     5.92,   2280.3,   13.254,   38.488,   196.64,2,   197.19,2,     -999,9,     -999,9,     -999,9,     -999,9,     0.93,2,     0.69,2,  2334.51,2,   231.12,2,  2586.26,2,     7.89,2
29AJ20160818  ,TAlPro-2016,25      ,  1,2          ,2          ,20160824,2029,    40.73,     5.92,   2534.6,   13.304,   38.492,   196.82,2,     -999,9,     -999,9,     -999,9,     -999,9,     -999,9,     0.97,2,     0.68,2,     -999,9,     -999,9,     -999,9,     7.89,2
29AJ20160818  ,TAlPro-2016,25      ,  1,1          ,1          ,20160824,2029,    40.73,     5.92,   2750.2,   13.341,   38.492,   196.97,2,   198.63,2,     8.94,2,     8.10,2,     0.00,2,     0.40,2,     0.97,2,     0.68,2,  2328.70,2,   241.22,2,  2589.87,2,     7.90,2
29AJ20160818  ,TAlPro-2016,26      ,  1,18         ,18         ,20160825,0118,    41.12,     5.63,      5.7,   22.610,   38.434,   219.02,2,   218.72,2,     -999,9,     -999,9,     -999,9,     -999,9,     1.14,2,     1.59,2,     -999,9,     -999,9,     -999,9,     8.02,2
29AJ20160818  ,TAlPro-2016,26      ,  1,17         ,17         ,20160825,0118,    41.12,     5.63,     25.3,   21.896,   38.422,   223.32,2,     -999,9,     0.35,2,     0.16,2,     0.00,2,     0.05,2,     -999,9,     -999,9,     -999,9,     -999,9,  2576.12,2,     8.02,2
29AJ20160818  ,TAlPro-2016,26      ,  1,16         ,16         ,20160825,0118,    41.12,     5.63,     51.4,   16.766,   38.236,   259.68,2,   259.30,2,     -999,9,     -999,9,     -999,9,     -999,9,     1.47,2,     1.82,2,     -999,9,     -999,9,     -999,9,     7.98,2
29AJ20160818  ,TAlPro-2016,26      ,  1,15         ,15         ,20160825,0118,    41.12,     5.63,     76.5,   13.913,   38.336,   220.39,2,   216.62,2,     1.28,2,     2.01,2,     0.07,2,     0.08,2,     -999,9,     -999,9,     -999,9,     -999,9,  2576.34,2,     7.90,2
29AJ20160818  ,TAlPro-2016,26      ,  1,14         ,14         ,20160825,0118,    41.12,     5.63,    102.4,   13.551,   38.362,   215.07,2,   210.61,2,     -999,9,     -999,9,     -999,9,     -999,9,     1.50,2,     1.78,2,     -999,9,     -999,9,     -999,9,     7.90,2
29AJ20160818  ,TAlPro-2016,26      ,  1,13         ,13         ,20160825,0118,    41.12,     5.63,    203.6,   13.446,   38.523,   194.93,2,     -999,9,     -999,9,     -999,9,     -999,9,     -999,9,     1.30,2,     1.40,2,     -999,9,     -999,9,  2588.51,2,     7.89,2
29AJ20160818  ,TAlPro-2016,26      ,  1,12         ,12         ,20160825,0118,    41.12,     5.63,    303.2,   13.392,   38.558,   187.93,2,     -999,9,     -999,9,     -999,9,     -999,9,     -999,9,     1.16,2,     1.19,2,     -999,9,     -999,9,     -999,9,     7.89,2
29AJ20160818  ,TAlPro-2016,26      ,  1,11         ,11         ,20160825,0118,    41.12,     5.63,    402.5,   13.417,   38.578,   178.23,2,     -999,9,     6.78,2,     8.19,2,     0.00,2,     0.40,2,     1.01,6,     0.92,6,     -999,9,     -999,9,  2596.60,2,     7.89,2
29AJ20160818  ,TAlPro-2016,26      ,  1,10         ,10         ,20160825,0118,    41.12,     5.63,    506.3,   13.369,   38.569,   175.24,2,   175.76,2,     -999,9,     -999,9,     -999,9,     -999,9,     -999,9,     -999,9,     -999,9,     -999,9,     -999,9,     7.89,2
29AJ20160818  ,TAlPro-2016,26      ,  1,9          ,9          ,20160825,0118,    41.12,     5.63,    760.1,   13.237,   38.533,   181.43,2,     -999,9,     8.28,2,     8.15,2,     0.01,2,     0.42,2,     -999,9,     -999,9,     -999,9,     -999,9,  2598.60,3,     7.90,2
29AJ20160818  ,TAlPro-2016,26      ,  1,8          ,8          ,20160825,0118,    41.12,     5.63,   1013.7,   13.163,   38.506,   186.42,2,   185.91,2,     -999,9,     -999,9,     -999,9,     -999,9,     0.78,2,     0.48,2,     -999,9,     -999,9,     -999,9,     7.90,2
29AJ20160818  ,TAlPro-2016,26      ,  1,7          ,7          ,20160825,0118,    41.12,     5.63,   1264.1,   13.133,   38.490,   190.54,2,     -999,9,     -999,9,     -999,9,     -999,9,     -999,9,     0.80,2,     0.48,2,     -999,9,     -999,9,  2591.84,2,     7.90,2
29AJ20160818  ,TAlPro-2016,26      ,  1,6          ,6          ,20160825,0118,    41.12,     5.63,   1518.4,   13.151,   38.487,   193.92,2,   193.29,2,     -999,9,     -999,9,     -999,9,     -999,9,     0.85,2,     0.61,2,     -999,9,     -999,9,     -999,9,     7.90,2
29AJ20160818  ,TAlPro-2016,26      ,  1,5          ,5          ,20160825,0118,    41.12,     5.63,   1772.4,   13.182,   38.487,   195.17,2,     -999,9,     -999,9,     -999,9,     -999,9,     -999,9,     0.87,2,     0.59,2,     -999,9,     -999,9,  2588.68,2,     7.90,2
29AJ20160818  ,TAlPro-2016,26      ,  1,4          ,4          ,20160825,0118,    41.12,     5.63,   2028.6,   13.217,   38.487,   196.16,2,   197.63,2,     8.62,2,     7.84,2,     0.00,2,     0.42,2,     0.90,2,     0.66,2,     -999,9,     -999,9,     -999,9,     7.90,2
29AJ20160818  ,TAlPro-2016,26      ,  1,3          ,3          ,20160825,0118,    41.12,     5.63,   2281.4,   13.257,   38.489,   196.80,2,     -999,9,     -999,9,     -999,9,     -999,9,     -999,9,     0.92,2,     0.69,2,     -999,9,     -999,9,  2590.11,2,     7.90,2
29AJ20160818  ,TAlPro-2016,26      ,  1,2          ,2          ,20160825,0118,    41.12,     5.63,   2532.5,   13.304,   38.493,   197.02,2,   196.54,2,     -999,9,     -999,9,     -999,9,     -999,9,     0.97,2,     0.73,2,     -999,9,     -999,9,     -999,9,     7.89,2
29AJ20160818  ,TAlPro-2016,26      ,  1,1          ,1          ,20160825,0118,    41.12,     5.63,   2649.4,   13.324,   38.493,   196.94,2,   197.32,2,     9.23,2,     7.85,2,     0.00,2,     0.40,2,     0.97,2,     0.69,2,     -999,9,     -999,9,  2589.44,2,     7.90,2
29AJ20160818  ,TAlPro-2016,29      ,  1,16         ,16         ,20160825,0404,    42.10,     4.48,      5.6,   22.887,   38.247,   219.29,2,   221.77,2,     0.08,2,     0.23,2,     0.00,2,     0.05,2,     -999,9,     -999,9,     -999,9,     -999,9,     -999,9,     8.02,2
29AJ20160818  ,TAlPro-2016,29      ,  1,15         ,15         ,20160825,0404,    42.10,     4.48,     25.0,   21.184,   38.179,   229.37,2,     -999,9,     -999,9,     -999,9,     -999,9,     -999,9,     -999,9,     -999,9,  2240.31,2,   338.03,3,  2564.15,2,     8.01,2
29AJ20160818  ,TAlPro-2016,29      ,  1,14         ,14         ,20160825,0404,    42.10,     4.48,     60.9,   13.721,   38.446,   207.03,2,   206.96,2,     2.51,2,     4.04,2,     0.04,2,     0.10,2,     -999,9,     -999,9,     -999,9,     -999,9,     -999,9,     7.89,2
29AJ20160818  ,TAlPro-2016,29      ,  1,13         ,13         ,20160825,0404,    42.10,     4.48,     75.6,   13.524,   38.484,   211.96,2,   210.98,2,     -999,9,     -999,9,     -999,9,     -999,9,     -999,9,     -999,9,  2317.55,2,   245.40,3,  2582.01,2,     7.89,2
29AJ20160818  ,TAlPro-2016,29      ,  1,12         ,12         ,20160825,0404,    42.10,     4.48,    101.5,   13.424,   38.501,   207.60,2,   201.99,2,     -999,9,     -999,9,     -999,9,     -999,9,     -999,9,     -999,9,     -999,9,     -999,9,     -999,9,     7.89,2
29AJ20160818  ,TAlPro-2016,29      ,  1,11         ,11         ,20160825,0404,    42.10,     4.48,    201.9,   13.376,   38.555,   191.35,2,   190.34,2,     -999,9,     -999,9,     -999,9,     -999,9,     -999,9,     -999,9,  2325.43,2,   237.36,2,  2590.69,2,     7.88,2
29AJ20160818  ,TAlPro-2016,29      ,  1,10         ,10         ,20160825,0404,    42.10,     4.48,    302.9,   13.382,   38.570,   184.23,2,   182.66,2,     6.15,2,     7.52,2,     0.00,2,     0.39,2,     -999,9,     -999,9,     -999,9,     -999,9,     -999,9,     7.89,2
29AJ20160818  ,TAlPro-2016,29      ,  1,9          ,9          ,20160825,0404,    42.10,     4.48,    404.8,   13.379,   38.575,   175.25,2,   176.84,2,     -999,9,     -999,9,     -999,9,     -999,9,     0.91,2,     0.76,2,  2324.10,2,   235.33,2,  2590.98,2,     7.89,2
29AJ20160818  ,TAlPro-2016,29      ,  1,8          ,8          ,20160825,0404,    42.10,     4.48,    505.9,   13.335,   38.563,   175.85,2,     -999,5,     -999,9,     -999,9,     -999,9,     -999,9,     -999,9,     -999,9,     -999,9,     -999,9,     -999,9,     7.90,2
29AJ20160818  ,TAlPro-2016,29      ,  1,7          ,7          ,20160825,0404,    42.10,     4.48,    758.7,   13.196,   38.523,   183.48,2,   184.18,2,     8.09,2,     7.70,2,     0.00,2,     0.42,2,     -999,9,     -999,9,  2320.31,2,   267.78,2,  2589.37,2,     7.90,2
29AJ20160818  ,TAlPro-2016,29      ,  1,6          ,6          ,20160825,0404,    42.10,     4.48,   1011.1,   13.133,   38.499,   187.86,2,   188.04,2,     -999,9,     -999,9,     -999,9,     -999,9,     -999,9,     -999,9,     -999,9,     -999,9,     -999,9,     7.90,2
29AJ20160818  ,TAlPro-2016,29      ,  1,5          ,5          ,20160825,0404,    42.10,     4.48,   1264.6,   13.120,   38.488,   192.77,2,   192.51,2,     -999,9,     -999,9,     -999,9,     -999,9,     0.84,2,     0.56,2,  2323.14,2,   242.08,2,  2584.20,2,     7.91,2
29AJ20160818  ,TAlPro-2016,29      ,  1,4          ,4          ,20160825,0404,    42.10,     4.48,   1518.9,   13.147,   38.487,   195.08,2,   194.72,2,     8.09,2,     7.44,2,     0.00,2,     0.41,2,     0.88,2,     0.60,2,     -999,9,     -999,9,     -999,9,     7.90,2
29AJ20160818  ,TAlPro-2016,29      ,  1,3          ,3          ,20160825,0404,    42.10,     4.48,   1771.8,   13.177,   38.487,   196.35,2,   196.37,2,     -999,9,     -999,9,     -999,9,     -999,9,     0.93,2,     0.63,2,  2324.96,2,   212.31,2,  2586.13,2,     7.90,2
29AJ20160818  ,TAlPro-2016,29      ,  1,2          ,2          ,20160825,0404,    42.10,     4.48,   2026.4,   13.219,   38.490,   196.45,2,   200.27,2,     -999,9,     -999,9,     -999,9,     -999,9,     1.01,2,     0.70,2,     -999,9,     -999,9,     -999,9,     7.89,2
29AJ20160818  ,TAlPro-2016,29      ,  1,1          ,1          ,20160825,0404,    42.10,     4.48,   2211.9,   13.251,   38.492,   196.76,2,   197.15,2,     8.77,2,     7.39,2,     0.00,2,     0.43,2,     0.95,2,     0.67,2,  2318.98,2,   231.66,2,  2587.66,2,     7.89,2
29AJ20160818  ,TAlPro-2016,27      ,  1,17         ,17         ,20160825,0605,    41.50,     5.33,      5.4,   22.865,   38.397,   217.66,2,   220.09,2,     0.22,2,     0.11,2,     0.00,2,     0.05,2,     1.14,2,     1.49,2,  2238.09,2,   291.57,3,  2577.75,2,     8.02,2
29AJ20160818  ,TAlPro-2016,27      ,  1,16         ,16         ,20160825,0605,    41.50,     5.33,     25.4,   21.821,   38.426,   224.02,2,   224.63,2,     0.32,2,     0.14,2,     0.00,2,     0.05,2,     -999,9,     -999,9,  2237.83,2,   256.56,2,  2578.01,2,     8.02,2
29AJ20160818  ,TAlPro-2016,27      ,  1,15         ,15         ,20160825,0605,    41.50,     5.33,     56.1,   14.002,   38.394,   220.91,2,     -999,9,     -999,9,     -999,9,     -999,9,     -999,9,     -999,9,     -999,9,     -999,9,     -999,9,     -999,9,     -999,9
29AJ20160818  ,TAlPro-2016,27      ,  1,14         ,14         ,20160825,0605,    41.50,     5.33,     75.3,   13.573,   38.404,   213.70,2,   209.95,2,     2.65,2,     4.92,2,     0.01,2,     0.22,2,     1.44,2,     1.69,2,     -999,9,     -999,9,     -999,9,     7.90,2
29AJ20160818  ,TAlPro-2016,27      ,  1,13         ,13         ,20160825,0605,    41.50,     5.33,    101.2,   13.535,   38.473,   214.63,2,     -999,9,     -999,9,     -999,9,     -999,9,     -999,9,     -999,9,     -999,9,  2322.12,2,   229.01,2,  2586.61,2,     7.89,2
29AJ20160818  ,TAlPro-2016,27      ,  1,12         ,12         ,20160825,0605,    41.50,     5.33,    202.2,   13.413,   38.544,   188.79,2,     -999,9,     -999,9,     -999,9,     -999,9,     -999,9,     1.21,2,     1.22,2,     -999,9,     -999,9,     -999,9,     7.89,2
29AJ20160818  ,TAlPro-2016,27      ,  1,11         ,11         ,20160825,0605,    41.50,     5.33,    302.1,   13.395,   38.568,   181.37,2,   181.27,2,     -999,9,     -999,9,     -999,9,     -999,9,     1.07,2,     1.00,2,  2339.32,2,   231.91,2,  2596.52,2,     7.89,2
29AJ20160818  ,TAlPro-2016,27      ,  1,10         ,10         ,20160825,0605,    41.50,     5.33,    404.2,   13.355,   38.568,   176.58,2,     -999,9,     7.37,2,     8.07,2,     0.00,2,     0.44,2,     0.87,6,     0.64,6,     -999,9,     -999,9,     -999,9,     7.89,2
29AJ20160818  ,TAlPro-2016,27      ,  1,9          ,9          ,20160825,0605,    41.50,     5.33,    505.7,   13.298,   38.554,   178.91,2,   179.10,2,     -999,9,     -999,9,     -999,9,     -999,9,     0.99,2,     0.71,2,  2335.13,2,   237.13,2,  2596.96,2,     7.89,2
29AJ20160818  ,TAlPro-2016,27      ,  1,8          ,8          ,20160825,0605,    41.50,     5.33,    757.6,   13.168,   38.517,   184.96,2,     -999,9,     -999,9,     -999,9,     -999,9,     -999,9,     -999,9,     -999,9,     -999,9,     -999,9,     -999,9,     7.90,2
29AJ20160818  ,TAlPro-2016,27      ,  1,7          ,7          ,20160825,0605,    41.50,     5.33,   1011.4,   13.111,   38.494,   189.27,2,   189.43,2,     -999,9,     -999,9,     -999,9,     -999,9,     -999,9,     -999,9,  2328.03,2,   237.47,2,  2592.96,2,     7.90,2
29AJ20160818  ,TAlPro-2016,27      ,  1,6          ,6          ,20160825,0605,    41.50,     5.33,   1264.1,   13.121,   38.489,   194.41,2,     -999,9,     -999,9,     -999,9,     -999,9,     -999,9,     -999,9,     -999,9,     -999,9,     -999,9,     -999,9,     7.90,2
29AJ20160818  ,TAlPro-2016,27      ,  1,5          ,5          ,20160825,0605,    41.50,     5.33,   1518.1,   13.158,   38.492,   196.42,2,   196.24,2,     8.22,2,     7.67,2,     0.00,2,     0.42,2,     -999,9,     -999,9,  2326.26,2,   233.19,2,  2592.00,2,     7.90,2
29AJ20160818  ,TAlPro-2016,27      ,  1,4          ,4          ,20160825,0605,    41.50,     5.33,   1771.8,   13.179,   38.488,   196.69,2,     -999,9,     -999,9,     -999,9,     -999,9,     -999,9,     -999,9,     -999,9,     -999,9,     -999,9,     -999,9,     7.90,2
29AJ20160818  ,TAlPro-2016,27      ,  1,3          ,3          ,20160825,0605,    41.50,     5.33,   2026.4,   13.212,   38.488,   197.01,2,   197.11,2,     -999,9,     -999,9,     -999,9,     -999,9,     -999,9,     -999,9,  2336.50,2,   223.47,2,  2593.12,2,     7.90,2
29AJ20160818  ,TAlPro-2016,27      ,  1,2          ,2          ,20160825,0605,    41.50,     5.33,   2280.6,   13.261,   38.492,   197.53,2,     -999,9,     -999,9,     -999,9,     -999,9,     -999,9,     -999,9,     -999,9,     -999,9,     -999,9,     -999,9,     7.90,2
29AJ20160818  ,TAlPro-2016,27      ,  1,1          ,1          ,20160825,0605,    41.50,     5.33,   2496.6,   13.298,   38.492,   197.05,2,   196.28,2,     8.91,2,     7.67,2,     0.00,2,     0.41,2,     -999,9,     -999,9,  2330.43,2,   243.49,3,  2592.82,2,     7.90,2