BOTTLE,20240504CCHHYDRO
EXPOCODE,SECT_ID,STNNBR,CASTNO,SAMPNO,BTLNBR,DATE,TIME,LATITUDE,LONGITUDE,CTDPRS,CTDTMP,CTDSAL,CTDOXY,CTDOXY_FLAG_W,OXYGEN,OXYGEN_FLAG_W,SILCAT,SILCAT_FLAG_W,NITRAT,NITRAT_FLAG_W,NITRIT,NITRIT_FLAG_W,PHSPHT,PHSPHT_FLAG_W,CFC-12,CFC-12_FLAG_W,SF6,SF6_FLAG_W,TCARBN,TCARBN_FLAG_W,CARBONATE,CARBONATE_FLAG_W,ALKALI,ALKALI_FLAG_W,PH,PH_FLAG_W
,,,,,,,,,,DBAR,DEG C,PSS-78,UMOL/KG,,UMOL/KG,,UMOL/KG,,UMOL/KG,,UMOL/KG,,UMOL/KG,,PMOL/KG,,FMOL/KG,,UMOL/KG,,UMOL/KG,,UMOL/KG,,,
29AJ20160818  ,TAlPro-2016,35      ,  1,14         ,14         ,20160826,2154,    40.20,     2.64,      5.2,   26.862,   37.660,   204.13,2,     -999,9,     -999,9,     -999,9,     -999,9,     -999,9,     0.99,2,     1.36,2,     -999,9,     -999,9,     -999,9,     -999,9
29AJ20160818  ,TAlPro-2016,35      ,  1,13         ,13         ,20160826,2154,    40.20,     2.64,     25.3,   26.109,   38.209,   211.90,2,     -999,9,     -999,9,     -999,9,     -999,9,     -999,9,     1.07,2,     1.18,2,     -999,9,     -999,9,     -999,9,     -999,9
29AJ20160818  ,TAlPro-2016,35      ,  1,12         ,12         ,20160826,2154,    40.20,     2.64,     50.2,   18.809,   38.093,   265.37,2,     -999,9,     -999,9,     -999,9,     -999,9,     -999,9,     1.45,2,     1.88,2,     -999,9,     -999,9,     -999,9,     -999,9
29AJ20160818  ,TAlPro-2016,35      ,  1,11         ,11         ,20160826,2154,    40.20,     2.64,     75.3,   15.114,   38.226,   261.74,2,     -999,9,     -999,9,     -999,9,     -999,9,     -999,9,     1.61,2,     1.97,2,     -999,9,     -999,9,     -999,9,     -999,9
29AJ20160818  ,TAlPro-2016,35      ,  1,10         ,10         ,20160826,2154,    40.20,     2.64,    102.2,   14.023,   38.289,   221.65,2,     -999,9,     -999,9,     -999,9,     -999,9,     -999,9,     -999,9,     -999,9,     -999,9,     -999,9,     -999,9,     -999,9
29AJ20160818  ,TAlPro-2016,35      ,  1,9          ,9          ,20160826,2154,    40.20,     2.64,    200.3,   13.500,   38.434,   203.92,2,     -999,9,     -999,9,     -999,9,     -999,9,     -999,9,     1.39,2,     1.53,2,     -999,9,     -999,9,     -999,9,     -999,9
29AJ20160818  ,TAlPro-2016,35      ,  1,8          ,8          ,20160826,2154,    40.20,     2.64,    304.2,   13.525,   38.556,   180.72,2,     -999,9,     -999,9,     -999,9,     -999,9,     -999,9,     1.18,2,     1.15,2,     -999,9,     -999,9,     -999,9,     -999,9
29AJ20160818  ,TAlPro-2016,35      ,  1,7          ,7          ,20160826,2154,    40.20,     2.64,    404.9,   13.517,   38.590,   172.37,2,     -999,9,     -999,9,     -999,9,     -999,9,     -999,9,     -999,9,     -999,9,     -999,9,     -999,9,     -999,9,     -999,9
29AJ20160818  ,TAlPro-2016,35      ,  1,6          ,6          ,20160826,2154,    40.20,     2.64,    503.7,   13.364,   38.561,   177.09,2,     -999,9,     -999,9,     -999,9,     -999,9,     -999,9,     0.93,2,     0.84,2,     -999,9,     -999,9,     -999,9,     -999,9
29AJ20160818  ,TAlPro-2016,35      ,  1,5          ,5          ,20160826,2154,    40.20,     2.64,    755.4,   13.212,   38.525,   184.75,2,     -999,9,     -999,9,     -999,9,     -999,9,     -999,9,     0.86,6,     0.58,6,     -999,9,     -999,9,     -999,9,     -999,9
29AJ20160818  ,TAlPro-2016,35      ,  1,4          ,4          ,20160826,2154,    40.20,     2.64,   1010.2,   13.128,   38.498,   191.40,2,     -999,9,     -999,9,     -999,9,     -999,9,     -999,9,     0.94,2,     0.63,2,     -999,9,     -999,9,     -999,9,     -999,9
29AJ20160818  ,TAlPro-2016,35      ,  1,3          ,3          ,20160826,2154,    40.20,     2.64,   1264.0,   13.134,   38.493,   195.80,2,     -999,9,     -999,9,     -999,9,     -999,9,     -999,9,     -999,9,     -999,9,     -999,9,     -999,9,     -999,9,     -999,9
29AJ20160818  ,TAlPro-2016,35      ,  1,2          ,2          ,20160826,2154,    40.20,     2.64,   1518.8,   13.156,   38.492,   196.76,2,     -999,9,     -999,9,     -999,9,     -999,9,     -999,9,     0.92,2,     0.56,2,     -999,9,     -999,9,     -999,9,     -999,9
29AJ20160818  ,TAlPro-2016,35      ,  1,1          ,1          ,20160826,2154,    40.20,     2.64,   1743.6,   13.183,   38.491,   195.94,2,     -999,9,     -999,9,     -999,9,     -999,9,     -999,9,     0.96,2,     0.63,2,     -999,9,     -999,9,     -999,9,     -999,9
29AJ20160818  ,TAlPro-2016,31      ,  1,11         ,11         ,20160826,2349,    42.28,     3.82,      5.0,   22.398,   38.030,   222.00,2,     -999,9,     0.09,2,     0.16,2,     0.00,2,     0.08,2,     -999,9,     -999,9,  2254.95,2,   322.54,3,  2571.18,2,     8.01,2
29AJ20160818  ,TAlPro-2016,31      ,  1,10         ,10         ,20160826,2349,    42.28,     3.82,     23.7,   21.057,   38.123,   223.70,2,   230.42,2,     -999,9,     -999,9,     -999,9,     -999,9,     -999,9,     -999,9,  2325.12,3,     -999,9,     -999,9,     8.00,2
29AJ20160818  ,TAlPro-2016,31      ,  1,9          ,9          ,20160826,2349,    42.28,     3.82,     51.2,   15.402,   38.134,   250.45,2,   244.99,2,     -999,9,     -999,9,     -999,9,     -999,9,     -999,9,     -999,9,  2260.86,2,   253.89,2,  2558.13,2,     7.96,2
29AJ20160818  ,TAlPro-2016,31      ,  1,8          ,8          ,20160826,2349,    42.28,     3.82,     75.7,   14.579,   38.182,   229.83,2,   224.19,2,     0.83,2,     0.90,2,     0.17,2,     0.06,2,     -999,9,     -999,9,     -999,9,     -999,9,     -999,9,     7.93,2
29AJ20160818  ,TAlPro-2016,31      ,  1,7          ,7          ,20160826,2349,    42.28,     3.82,    101.0,   14.221,   38.248,   214.92,2,   213.61,2,     -999,9,     -999,9,     -999,9,     -999,9,     1.49,2,     1.85,2,  2302.50,2,   231.93,2,  2563.48,2,     7.91,2
29AJ20160818  ,TAlPro-2016,31      ,  1,6          ,6          ,20160826,2349,    42.28,     3.82,    202.6,   13.758,   38.453,   195.77,2,   195.63,2,     -999,9,     -999,9,     -999,9,     -999,9,     1.40,2,     1.62,2,     -999,9,     -999,9,     -999,9,     7.89,2
29AJ20160818  ,TAlPro-2016,31      ,  1,5          ,5          ,20160826,2349,    42.28,     3.82,    303.1,   13.643,   38.562,   184.21,2,   183.71,2,     4.91,2,     6.54,2,     0.01,2,     0.33,2,     1.20,2,     1.22,2,  2329.04,2,   219.62,2,  2589.94,2,     7.89,2
29AJ20160818  ,TAlPro-2016,31      ,  1,4          ,4          ,20160826,2349,    42.28,     3.82,    404.4,   13.636,   38.605,   174.82,2,   175.46,2,     -999,9,     -999,9,     -999,9,     -999,9,     1.06,2,     1.00,2,     -999,9,     -999,9,     -999,9,     7.89,2
29AJ20160818  ,TAlPro-2016,31      ,  1,3          ,3          ,20160826,2349,    42.28,     3.82,    500.5,   13.575,   38.606,   173.51,2,   170.47,2,     6.82,2,     7.35,2,     0.00,2,     0.40,2,     0.98,2,     0.89,2,  2339.71,2,   230.63,3,  2592.33,2,     7.89,2
29AJ20160818  ,TAlPro-2016,31      ,  1,2          ,2          ,20160826,2349,    42.28,     3.82,    757.8,   13.397,   38.569,   175.75,2,   177.02,2,     -999,9,     -999,9,     -999,9,     -999,9,     0.81,2,     0.60,2,     -999,9,     -999,9,     -999,9,     7.90,2
29AJ20160818  ,TAlPro-2016,31      ,  1,1          ,1          ,20160826,2349,    42.28,     3.82,   1010.5,   13.171,   38.509,   186.84,2,   187.69,2,     8.94,2,     7.37,2,     0.00,2,     0.43,2,     0.94,3,     0.51,2,     -999,9,   212.35,2,  2591.64,2,     7.90,2
29AJ20160818  ,TAlPro-2016,41      ,  1,13         ,13         ,20160827,0000,    40.81,     2.20,      6.3,   26.482,   38.016,   204.19,2,     -999,9,     -999,9,     -999,9,     -999,9,     -999,9,     1.02,2,     1.41,2,     -999,9,     -999,9,     -999,9,     -999,9
29AJ20160818  ,TAlPro-2016,41      ,  1,12         ,12         ,20160827,0000,    40.81,     2.20,     23.1,   22.675,   38.124,   218.92,2,     -999,9,     -999,9,     -999,9,     -999,9,     -999,9,     -999,9,     -999,9,     -999,9,     -999,9,     -999,9,     -999,9
29AJ20160818  ,TAlPro-2016,41      ,  1,11         ,11         ,20160827,0000,    40.81,     2.20,     50.2,   18.603,   38.132,   266.09,2,     -999,9,     -999,9,     -999,9,     -999,9,     -999,9,     1.47,2,     1.92,2,     -999,9,     -999,9,     -999,9,     -999,9
29AJ20160818  ,TAlPro-2016,41      ,  1,10         ,10         ,20160827,0000,    40.81,     2.20,     74.8,   14.405,   38.237,   237.90,2,     -999,9,     -999,9,     -999,9,     -999,9,     -999,9,     -999,9,     -999,9,     -999,9,     -999,9,     -999,9,     -999,9
29AJ20160818  ,TAlPro-2016,41      ,  1,9          ,9          ,20160827,0000,    40.81,     2.20,    100.7,   13.855,   38.319,   207.02,2,     -999,9,     -999,9,     -999,9,     -999,9,     -999,9,     1.42,2,     1.80,2,     -999,9,     -999,9,     -999,9,     -999,9
29AJ20160818  ,TAlPro-2016,41      ,  1,8          ,8          ,20160827,0000,    40.81,     2.20,    201.6,   13.333,   38.437,   213.78,2,     -999,9,     -999,9,     -999,9,     -999,9,     -999,9,     1.36,2,     1.75,2,     -999,9,     -999,9,     -999,9,     -999,9
29AJ20160818  ,TAlPro-2016,41      ,  1,7          ,7          ,20160827,0000,    40.81,     2.20,    302.8,   13.382,   38.495,   203.55,2,     -999,9,     -999,9,     -999,9,     -999,9,     -999,9,     1.29,2,     1.53,2,     -999,9,     -999,9,     -999,9,     -999,9
29AJ20160818  ,TAlPro-2016,41      ,  1,6          ,6          ,20160827,0000,    40.81,     2.20,    403.3,   13.439,   38.557,   188.61,2,     -999,9,     -999,9,     -999,9,     -999,9,     -999,9,     1.16,6,     1.20,6,     -999,9,     -999,9,     -999,9,     -999,9
29AJ20160818  ,TAlPro-2016,41      ,  1,5          ,5          ,20160827,0000,    40.81,     2.20,    504.8,   13.416,   38.565,   182.78,2,     -999,9,     -999,9,     -999,9,     -999,9,     -999,9,     1.08,2,     1.08,2,     -999,9,     -999,9,     -999,9,     -999,9
29AJ20160818  ,TAlPro-2016,41      ,  1,4          ,4          ,20160827,0000,    40.81,     2.20,    755.7,   13.248,   38.534,   180.59,2,     -999,9,     -999,9,     -999,9,     -999,9,     -999,9,     0.86,2,     0.60,2,     -999,9,     -999,9,     -999,9,     -999,9
29AJ20160818  ,TAlPro-2016,41      ,  1,3          ,3          ,20160827,0000,    40.81,     2.20,   1011.4,   13.187,   38.512,   185.29,2,     -999,9,     -999,9,     -999,9,     -999,9,     -999,9,     0.86,2,     0.54,2,     -999,9,     -999,9,     -999,9,     -999,9
29AJ20160818  ,TAlPro-2016,41      ,  1,2          ,2          ,20160827,0000,    40.81,     2.20,   1263.7,   13.147,   38.496,   191.58,2,     -999,9,     -999,9,     -999,9,     -999,9,     -999,9,     0.91,2,     0.61,2,     -999,9,     -999,9,     -999,9,     -999,9
29AJ20160818  ,TAlPro-2016,41      ,  1,1          ,1          ,20160827,0000,    40.81,     2.20,   1538.1,   13.153,   38.491,   192.87,2,     -999,9,     -999,9,     -999,9,     -999,9,     -999,9,     0.96,2,     0.64,2,     -999,9,     -999,9,     -999,9,     -999,9
29AJ20160818  ,TAlPro-2016,43      ,  1,11         ,11         ,20160827,0000,    41.01,     2.07,      5.5,   26.239,   38.199,   206.32,2,     -999,9,     -999,9,     -999,9,     -999,9,     -999,9,     1.00,2,     1.38,2,     -999,9,     -999,9,     -999,9,     -999,9
29AJ20160818  ,TAlPro-2016,43      ,  1,10         ,10         ,20160827,0000,    41.01,     2.07,     25.7,   21.979,   38.080,   222.46,2,     -999,9,     -999,9,     -999,9,     -999,9,     -999,9,     -999,9,     -999,9,     -999,9,     -999,9,     -999,9,     -999,9
29AJ20160818  ,TAlPro-2016,43      ,  1,9          ,9          ,20160827,0000,    41.01,     2.07,     51.6,   19.371,   38.035,   237.99,2,     -999,9,     -999,9,     -999,9,     -999,9,     -999,9,     1.35,2,     1.69,2,     -999,9,     -999,9,     -999,9,     -999,9
29AJ20160818  ,TAlPro-2016,43      ,  1,8          ,8          ,20160827,0000,    41.01,     2.07,     75.8,   14.969,   38.177,   243.13,2,     -999,9,     -999,9,     -999,9,     -999,9,     -999,9,     -999,9,     -999,9,     -999,9,     -999,9,     -999,9,     -999,9
29AJ20160818  ,TAlPro-2016,43      ,  1,7          ,7          ,20160827,0000,    41.01,     2.07,     98.9,   13.995,   38.308,   219.98,2,     -999,9,     -999,9,     -999,9,     -999,9,     -999,9,     1.48,2,     1.86,2,     -999,9,     -999,9,     -999,9,     -999,9
29AJ20160818  ,TAlPro-2016,43      ,  1,6          ,6          ,20160827,0000,    41.01,     2.07,    202.4,   13.520,   38.474,   204.30,2,     -999,9,     -999,9,     -999,9,     -999,9,     -999,9,     1.36,2,     1.51,2,     -999,9,     -999,9,     -999,9,     -999,9
29AJ20160818  ,TAlPro-2016,43      ,  1,5          ,5          ,20160827,0000,    41.01,     2.07,    303.7,   13.500,   38.559,   182.80,2,     -999,9,     -999,9,     -999,9,     -999,9,     -999,9,     1.16,2,     0.91,2,     -999,9,     -999,9,     -999,9,     -999,9
29AJ20160818  ,TAlPro-2016,43      ,  1,4          ,4          ,20160827,0000,    41.01,     2.07,    349.4,   13.462,   38.567,   180.34,2,     -999,9,     -999,9,     -999,9,     -999,9,     -999,9,     1.11,6,     1.11,6,     -999,9,     -999,9,     -999,9,     -999,9
29AJ20160818  ,TAlPro-2016,43      ,  1,3          ,3          ,20160827,0000,    41.01,     2.07,    504.8,   13.390,   38.567,   177.08,2,     -999,9,     -999,9,     -999,9,     -999,9,     -999,9,     0.95,2,     0.83,2,     -999,9,     -999,9,     -999,9,     -999,9
29AJ20160818  ,TAlPro-2016,43      ,  1,2          ,2          ,20160827,0000,    41.01,     2.07,    759.7,   13.280,   38.542,   178.40,2,     -999,9,     -999,9,     -999,9,     -999,9,     -999,9,     0.83,2,     0.54,2,     -999,9,     -999,9,     -999,9,     -999,9
29AJ20160818  ,TAlPro-2016,43      ,  1,1          ,1          ,20160827,0000,    41.01,     2.07,    903.6,   13.207,   38.521,   181.82,2,     -999,9,     -999,9,     -999,9,     -999,9,     -999,9,     0.84,2,     0.59,2,     -999,9,     -999,9,     -999,9,     -999,9
29AJ20160818  ,TAlPro-2016,36      ,  1,14         ,14         ,20160827,0026,    40.30,     2.57,      5.0,   26.688,   38.077,   202.87,2,     -999,9,     -999,9,     -999,9,     -999,9,     -999,9,     -999,9,     -999,9,     -999,9,     -999,9,     -999,9,     -999,9
29AJ20160818  ,TAlPro-2016,36      ,  1,13         ,13         ,20160827,0026,    40.30,     2.57,     24.8,   26.515,   38.138,   204.71,2,     -999,9,     -999,9,     -999,9,     -999,9,     -999,9,     -999,9,     -999,9,     -999,9,     -999,9,     -999,9,     -999,9
29AJ20160818  ,TAlPro-2016,36      ,  1,12         ,12         ,20160827,0026,    40.30,     2.57,     51.0,   17.022,   38.180,   268.06,2,     -999,9,     -999,9,     -999,9,     -999,9,     -999,9,     -999,9,     -999,9,     -999,9,     -999,9,     -999,9,     -999,9
29AJ20160818  ,TAlPro-2016,36      ,  1,11         ,11         ,20160827,0026,    40.30,     2.57,     75.1,   14.300,   38.277,   239.46,2,     -999,9,     -999,9,     -999,9,     -999,9,     -999,9,     -999,9,     -999,9,     -999,9,     -999,9,     -999,9,     -999,9
29AJ20160818  ,TAlPro-2016,36      ,  1,10         ,10         ,20160827,0026,    40.30,     2.57,    100.0,   13.810,   38.308,   209.99,2,     -999,9,     -999,9,     -999,9,     -999,9,     -999,9,     -999,9,     -999,9,     -999,9,     -999,9,     -999,9,     -999,9
29AJ20160818  ,TAlPro-2016,36      ,  1,9          ,9          ,20160827,0026,    40.30,     2.57,    201.1,   13.451,   38.469,   190.62,2,     -999,9,     -999,9,     -999,9,     -999,9,     -999,9,     -999,9,     -999,9,     -999,9,     -999,9,     -999,9,     -999,9
29AJ20160818  ,TAlPro-2016,36      ,  1,8          ,8          ,20160827,0026,    40.30,     2.57,    302.7,   13.465,   38.553,   188.34,2,     -999,9,     -999,9,     -999,9,     -999,9,     -999,9,     -999,9,     -999,9,     -999,9,     -999,9,     -999,9,     -999,9
29AJ20160818  ,TAlPro-2016,36      ,  1,7          ,7          ,20160827,0026,    40.30,     2.57,    404.0,   13.422,   38.571,   176.66,2,     -999,9,     -999,9,     -999,9,     -999,9,     -999,9,     -999,9,     -999,9,     -999,9,     -999,9,     -999,9,     -999,9
29AJ20160818  ,TAlPro-2016,36      ,  1,6          ,6          ,20160827,0026,    40.30,     2.57,    504.9,   13.346,   38.559,   176.02,2,     -999,9,     -999,9,     -999,9,     -999,9,     -999,9,     -999,9,     -999,9,     -999,9,     -999,9,     -999,9,     -999,9
29AJ20160818  ,TAlPro-2016,36      ,  1,5          ,5          ,20160827,0026,    40.30,     2.57,    757.5,   13.186,   38.519,   184.38,2,     -999,9,     -999,9,     -999,9,     -999,9,     -999,9,     -999,9,     -999,9,     -999,9,     -999,9,     -999,9,     -999,9
29AJ20160818  ,TAlPro-2016,36      ,  1,4          ,4          ,20160827,0026,    40.30,     2.57,   1014.5,   13.121,   38.496,   190.06,2,     -999,9,     -999,9,     -999,9,     -999,9,     -999,9,     -999,9,     -999,9,     -999,9,     -999,9,     -999,9,     -999,9
29AJ20160818  ,TAlPro-2016,36      ,  1,3          ,3          ,20160827,0026,    40.30,     2.57,   1263.7,   13.132,   38.493,   193.37,2,     -999,9,     -999,9,     -999,9,     -999,9,     -999,9,     -999,9,     -999,9,     -999,9,     -999,9,     -999,9,     -999,9
29AJ20160818  ,TAlPro-2016,36      ,  1,2          ,2          ,20160827,0026,    40.30,     2.57,   1517.6,   13.158,   38.492,   194.88,2,     -999,9,     -999,9,     -999,9,     -999,9,     -999,9,     -999,9,     -999,9,     -999,9,     -999,9,     -999,9,     -999,9
29AJ20160818  ,TAlPro-2016,36      ,  1,1          ,1          ,20160827,0026,    40.30,     2.57,   1850.3,   13.201,   38.491,   194.30,2,     -999,9,     -999,9,     -999,9,     -999,9,     -999,9,     -999,9,     -999,9,     -999,9,     -999,9,     -999,9,     -999,9