BOTTLE,20240504CCHHYDRO
EXPOCODE,SECT_ID,STNNBR,CASTNO,SAMPNO,BTLNBR,DATE,TIME,LATITUDE,LONGITUDE,CTDPRS,CTDTMP,CTDSAL,CTDOXY,CTDOXY_FLAG_W,OXYGEN,OXYGEN_FLAG_W,SILCAT,SILCAT_FLAG_W,NITRAT,NITRAT_FLAG_W,NITRIT,NITRIT_FLAG_W,PHSPHT,PHSPHT_FLAG_W,CFC-12,CFC-12_FLAG_W,SF6,SF6_FLAG_W,TCARBN,TCARBN_FLAG_W,CARBONATE,CARBONATE_FLAG_W,ALKALI,ALKALI_FLAG_W,PH,PH_FLAG_W
,,,,,,,,,,DBAR,DEG C,PSS-78,UMOL/KG,,UMOL/KG,,UMOL/KG,,UMOL/KG,,UMOL/KG,,UMOL/KG,,PMOL/KG,,FMOL/KG,,UMOL/KG,,UMOL/KG,,UMOL/KG,,,
29AJ20160818  ,TAlPro-2016,22      ,  1,18         ,18         ,20160824,0615,    39.60,     6.61,      5.3,   24.505,   37.828,   211.69,2,   211.80,2,     0.61,2,     0.17,2,     0.00,2,     0.03,2,     1.07,2,     1.49,2,     -999,9,     -999,9,     -999,9,     -999,9
29AJ20160818  ,TAlPro-2016,22      ,  1,17         ,17         ,20160824,0615,    39.60,     6.61,     24.6,   24.260,   37.873,   214.73,2,     -999,9,     0.44,2,     0.15,2,     0.00,2,     0.02,2,     -999,9,     -999,9,     -999,9,     -999,9,  2529.61,2,     -999,9
29AJ20160818  ,TAlPro-2016,22      ,  1,16         ,16         ,20160824,0615,    39.60,     6.61,     50.9,   16.963,   37.688,   269.17,2,     -999,5,     0.58,2,     0.18,2,     0.00,2,     0.05,2,     1.49,2,     1.84,2,     -999,9,     -999,9,     -999,9,     7.99,2
29AJ20160818  ,TAlPro-2016,22      ,  1,15         ,15         ,20160824,0615,    39.60,     6.61,     76.0,   15.256,   37.970,   246.94,2,     -999,9,     -999,9,     -999,9,     -999,9,     -999,9,     -999,9,     -999,9,     -999,9,     -999,9,  2546.78,2,     7.95,2
29AJ20160818  ,TAlPro-2016,22      ,  1,14         ,14         ,20160824,0615,    39.60,     6.61,     91.3,   14.684,   37.986,   227.12,2,     -999,5,     0.73,2,     0.92,2,     0.07,2,     0.05,2,     1.54,2,     1.91,2,     -999,9,     -999,9,     -999,9,     7.92,2
29AJ20160818  ,TAlPro-2016,22      ,  1,13         ,13         ,20160824,0615,    39.60,     6.61,    202.2,   13.666,   38.402,   194.19,2,     -999,9,     -999,9,     -999,9,     -999,9,     -999,9,     -999,9,     -999,9,     -999,9,     -999,9,  2583.22,2,     7.88,2
29AJ20160818  ,TAlPro-2016,22      ,  1,12         ,12         ,20160824,0615,    39.60,     6.61,    303.2,   13.613,   38.554,   182.53,2,     -999,9,     -999,9,     -999,9,     -999,9,     -999,9,     1.25,2,     1.15,2,     -999,9,     -999,9,     -999,9,     7.89,2
29AJ20160818  ,TAlPro-2016,22      ,  1,11         ,11         ,20160824,0615,    39.60,     6.61,    403.9,   13.617,   38.622,   171.57,2,     -999,9,     -999,9,     -999,9,     -999,9,     -999,9,     0.97,2,     0.84,2,     -999,9,     -999,9,  2602.75,2,     7.90,2
29AJ20160818  ,TAlPro-2016,22      ,  1,10         ,10         ,20160824,0615,    39.60,     6.61,    505.6,   13.718,   38.666,   175.10,2,     -999,9,     -999,9,     -999,9,     -999,9,     -999,9,     0.83,2,     0.74,2,     -999,9,     -999,9,     -999,9,     7.91,2
29AJ20160818  ,TAlPro-2016,22      ,  1,9          ,9          ,20160824,0615,    39.60,     6.61,    758.4,   13.550,   38.622,   179.51,2,     -999,9,     -999,9,     -999,9,     -999,9,     -999,9,     -999,9,     -999,9,     -999,9,     -999,9,  2605.64,2,     7.92,2
29AJ20160818  ,TAlPro-2016,22      ,  1,8          ,8          ,20160824,0615,    39.60,     6.61,   1011.1,   13.442,   38.585,   182.02,2,   178.36,3,     8.56,2,     7.45,2,     0.01,2,     0.37,2,     0.63,2,     0.41,2,     -999,9,     -999,9,     -999,9,     7.92,2
29AJ20160818  ,TAlPro-2016,22      ,  1,7          ,7          ,20160824,0615,    39.60,     6.61,   1264.7,   13.365,   38.554,   183.87,2,     -999,9,     -999,9,     -999,9,     -999,9,     -999,9,     -999,9,     -999,9,     -999,9,     -999,9,  2598.13,2,     7.91,2
29AJ20160818  ,TAlPro-2016,22      ,  1,6          ,6          ,20160824,0615,    39.60,     6.61,   1518.4,   13.245,   38.510,   186.68,2,     -999,9,     -999,9,     -999,9,     -999,9,     -999,9,     0.72,2,     0.38,2,     -999,9,     -999,9,     -999,9,     7.90,2
29AJ20160818  ,TAlPro-2016,22      ,  1,5          ,5          ,20160824,0615,    39.60,     6.61,   1771.7,   13.184,   38.484,   192.34,2,     -999,9,     -999,9,     -999,9,     -999,9,     -999,9,     -999,9,     -999,9,     -999,9,     -999,9,  2590.26,2,     7.90,2
29AJ20160818  ,TAlPro-2016,22      ,  1,4          ,4          ,20160824,0615,    39.60,     6.61,   2025.2,   13.214,   38.484,   194.37,2,     -999,5,     8.24,2,     8.19,2,     0.01,2,     0.42,2,     0.85,2,     0.58,2,     -999,9,     -999,9,     -999,9,     7.90,2
29AJ20160818  ,TAlPro-2016,22      ,  1,3          ,3          ,20160824,0615,    39.60,     6.61,   2280.4,   13.252,   38.486,   196.34,2,     -999,9,     -999,9,     -999,9,     -999,9,     -999,9,     -999,9,     -999,9,     -999,9,     -999,9,  2590.66,2,     7.90,2
29AJ20160818  ,TAlPro-2016,22      ,  1,2          ,2          ,20160824,0615,    39.60,     6.61,   2535.2,   13.300,   38.490,   196.32,2,     -999,9,     -999,9,     -999,9,     -999,9,     -999,9,     0.94,2,     0.65,2,     -999,9,     -999,9,     -999,9,     7.89,2
29AJ20160818  ,TAlPro-2016,22      ,  1,1          ,1          ,20160824,0615,    39.60,     6.61,   2886.4,   13.363,   38.491,   196.98,2,   196.15,2,     8.69,2,     8.05,2,     0.01,2,     0.40,2,     0.97,2,     0.70,2,     -999,9,     -999,9,  2590.37,2,     7.89,2
29AJ20160818  ,TAlPro-2016,23      ,  1,18         ,18         ,20160824,1046,    39.98,     6.50,      5.7,   24.668,   37.711,   213.17,2,   213.92,2,     0.91,2,     0.12,2,     0.01,2,     0.04,2,     1.08,2,     1.45,2,     -999,9,     -999,9,     -999,9,     8.02,2
29AJ20160818  ,TAlPro-2016,23      ,  1,17         ,17         ,20160824,1046,    39.98,     6.50,     24.8,   24.154,   37.777,   214.62,2,     -999,9,     -999,9,     -999,9,     -999,9,     -999,9,     1.14,2,     1.55,2,  2198.96,2,   256.04,2,  2517.37,2,     8.02,2
29AJ20160818  ,TAlPro-2016,23      ,  1,16         ,16         ,20160824,1046,    39.98,     6.50,     50.4,   17.093,   37.404,   263.42,2,   259.70,2,     0.80,2,     0.19,2,     0.00,2,     0.03,2,     1.49,2,     1.83,2,     -999,9,     -999,9,     -999,9,     7.98,2
29AJ20160818  ,TAlPro-2016,23      ,  1,15         ,15         ,20160824,1046,    39.98,     6.50,     78.7,   14.828,   37.778,   226.41,2,   222.61,2,     1.20,2,     1.33,2,     0.07,2,     0.08,2,     1.46,2,     1.82,2,  2258.28,2,   236.12,2,  2518.50,2,     7.92,2
29AJ20160818  ,TAlPro-2016,23      ,  1,14         ,14         ,20160824,1046,    39.98,     6.50,    101.5,   14.393,   37.976,   220.32,2,   217.91,2,     -999,9,     -999,9,     -999,9,     -999,9,     -999,9,     -999,9,     -999,9,     -999,9,     -999,9,     7.92,2
29AJ20160818  ,TAlPro-2016,23      ,  1,13         ,13         ,20160824,1046,    39.98,     6.50,    202.2,   13.652,   38.392,   190.62,2,   188.60,2,     3.31,2,     6.54,2,     0.01,2,     0.28,2,     1.40,2,     1.58,2,     -999,9,   219.87,2,  2571.69,2,     7.88,2
29AJ20160818  ,TAlPro-2016,23      ,  1,12         ,12         ,20160824,1046,    39.98,     6.50,    301.7,   13.563,   38.539,   169.12,2,   169.96,2,     -999,9,     -999,9,     -999,9,     -999,9,     1.20,2,     1.20,2,     -999,9,     -999,9,     -999,9,     7.87,2
29AJ20160818  ,TAlPro-2016,23      ,  1,11         ,11         ,20160824,1046,    39.98,     6.50,    403.8,   13.619,   38.612,   167.30,2,   168.21,2,     -999,9,     -999,9,     -999,9,     -999,9,     1.02,2,     0.96,2,  2358.66,3,   236.58,2,  2596.28,2,     7.89,2
29AJ20160818  ,TAlPro-2016,23      ,  1,10         ,10         ,20160824,1046,    39.98,     6.50,    505.3,   13.465,   38.586,   169.62,2,   170.08,2,     7.40,2,     8.62,2,     0.01,2,     0.43,2,     0.89,2,     0.69,2,     -999,9,     -999,9,     -999,9,     7.89,2
29AJ20160818  ,TAlPro-2016,23      ,  1,9          ,9          ,20160824,1046,    39.98,     6.50,    753.7,   13.257,   38.538,   179.12,2,   180.62,2,     -999,9,     -999,9,     -999,9,     -999,9,     0.76,2,     0.49,2,  2329.94,2,   239.28,2,  2590.55,2,     7.90,2
29AJ20160818  ,TAlPro-2016,23      ,  1,8          ,8          ,20160824,1046,    39.98,     6.50,   1010.5,   13.181,   38.511,   184.14,2,   184.13,2,     8.67,2,     8.36,2,     0.00,2,     0.42,2,     0.75,2,     0.42,2,     -999,9,     -999,9,     -999,9,     7.90,2
29AJ20160818  ,TAlPro-2016,23      ,  1,7          ,7          ,20160824,1046,    39.98,     6.50,   1263.2,   13.127,   38.488,   188.84,2,   190.51,2,     -999,9,     -999,9,     -999,9,     -999,9,     0.76,2,     0.45,2,  2334.25,2,   245.89,2,  2585.06,2,     7.90,2
29AJ20160818  ,TAlPro-2016,23      ,  1,6          ,6          ,20160824,1046,    39.98,     6.50,   1517.9,   13.137,   38.482,   192.82,2,   194.24,2,     -999,9,     -999,9,     -999,9,     -999,9,     0.80,2,     0.53,2,     -999,9,     -999,9,     -999,9,     7.90,2
29AJ20160818  ,TAlPro-2016,23      ,  1,5          ,5          ,20160824,1046,    39.98,     6.50,   1771.3,   13.172,   38.483,   194.68,2,   194.63,2,     -999,9,     -999,9,     -999,9,     -999,9,     0.85,2,     0.55,2,  2326.22,2,   220.96,2,  2590.21,2,     7.90,2
29AJ20160818  ,TAlPro-2016,23      ,  1,4          ,4          ,20160824,1046,    39.98,     6.50,   2025.9,   13.210,   38.485,   196.17,2,   196.93,2,     -999,9,     -999,9,     -999,9,     -999,9,     0.89,2,     0.63,2,     -999,9,     -999,9,     -999,9,     7.90,2
29AJ20160818  ,TAlPro-2016,23      ,  1,3          ,3          ,20160824,1046,    39.98,     6.50,   2280.4,   13.252,   38.487,   196.54,2,   195.37,2,     -999,9,     -999,9,     -999,9,     -999,9,     0.91,2,     0.65,2,  2331.51,2,   228.76,2,  2595.20,2,     7.90,2
29AJ20160818  ,TAlPro-2016,23      ,  1,2          ,2          ,20160824,1046,    39.98,     6.50,   2534.2,   13.303,   38.491,   196.89,2,   198.23,2,     -999,9,     -999,9,     -999,9,     -999,9,     0.95,2,     0.71,2,     -999,9,     -999,9,     -999,9,     7.90,2
29AJ20160818  ,TAlPro-2016,23      ,  1,1          ,1          ,20160824,1046,    39.98,     6.50,   2878.6,   13.364,   38.492,   196.48,2,   196.85,2,     8.94,2,     8.07,2,     0.00,2,     0.42,2,     0.96,2,     0.74,2,  2335.29,2,   227.68,2,  2596.31,2,     7.90,2
29AJ20160818  ,TAlPro-2016,24      ,  1,18         ,18         ,20160824,1558,    40.38,     6.20,      5.8,   24.024,   38.014,   214.10,2,   214.83,2,     0.60,2,     0.22,2,     0.00,2,     0.04,2,     1.10,2,     1.50,2,     -999,9,     -999,9,     -999,9,     8.02,2
29AJ20160818  ,TAlPro-2016,24      ,  1,17         ,17         ,20160824,1558,    40.38,     6.20,     25.6,   21.655,   38.078,   236.03,2,     -999,9,     -999,9,     -999,9,     -999,9,     -999,9,     -999,9,     -999,9,     -999,9,     -999,9,  2556.23,2,     8.01,2
29AJ20160818  ,TAlPro-2016,24      ,  1,16         ,16         ,20160824,1558,    40.38,     6.20,     51.8,   17.091,   38.081,   271.96,2,   260.44,2,     -999,9,     -999,9,     -999,9,     -999,9,     1.49,2,     1.85,2,     -999,9,     -999,9,     -999,9,     7.98,2
29AJ20160818  ,TAlPro-2016,24      ,  1,15         ,15         ,20160824,1558,    40.38,     6.20,     77.3,   14.798,   38.075,   242.90,2,     -999,9,     0.91,2,     0.55,2,     0.10,2,     0.06,2,     -999,9,     -999,9,     -999,9,     -999,9,  2556.80,2,     7.92,2
29AJ20160818  ,TAlPro-2016,24      ,  1,14         ,14         ,20160824,1558,    40.38,     6.20,    101.7,   14.071,   38.194,   216.33,2,     -999,9,     -999,9,     -999,9,     -999,9,     -999,9,     1.52,2,     1.85,2,     -999,9,     -999,9,     -999,9,     7.90,2
29AJ20160818  ,TAlPro-2016,24      ,  1,13         ,13         ,20160824,1558,    40.38,     6.20,    202.9,   13.447,   38.429,   204.95,2,   201.39,2,     3.60,2,     6.30,2,     0.01,2,     0.28,2,     -999,9,     -999,9,     -999,9,     -999,9,  2583.11,2,     7.89,2
29AJ20160818  ,TAlPro-2016,24      ,  1,12         ,12         ,20160824,1558,    40.38,     6.20,    305.3,   13.634,   38.591,   176.37,2,     -999,9,     -999,9,     -999,9,     -999,9,     -999,9,     1.16,2,     1.16,2,     -999,9,     -999,9,     -999,9,     7.88,2
29AJ20160818  ,TAlPro-2016,24      ,  1,11         ,11         ,20160824,1558,    40.38,     6.20,    403.6,   13.468,   38.575,   180.50,2,     -999,5,     -999,9,     -999,9,     -999,9,     -999,9,     1.07,6,     1.02,6,     -999,9,     -999,9,  2597.02,2,     7.88,2
29AJ20160818  ,TAlPro-2016,24      ,  1,10         ,10         ,20160824,1558,    40.38,     6.20,    506.2,   13.404,   38.573,   177.13,2,     -999,9,     7.25,2,     8.55,2,     0.00,2,     0.44,2,     -999,9,     -999,9,     -999,9,     -999,9,     -999,9,     7.89,2
29AJ20160818  ,TAlPro-2016,24      ,  1,9          ,9          ,20160824,1558,    40.38,     6.20,    756.1,   13.255,   38.536,   181.46,2,   181.05,2,     -999,9,     -999,9,     -999,9,     -999,9,     -999,9,     -999,9,     -999,9,     -999,9,  2593.09,2,     7.89,2
29AJ20160818  ,TAlPro-2016,24      ,  1,8          ,8          ,20160824,1558,    40.38,     6.20,   1012.2,   13.164,   38.506,   186.91,2,     -999,9,     8.44,2,     8.54,2,     0.00,2,     0.45,2,     0.79,2,     0.51,2,     -999,9,     -999,9,     -999,9,     7.90,2
29AJ20160818  ,TAlPro-2016,24      ,  1,7          ,7          ,20160824,1558,    40.38,     6.20,   1266.3,   13.130,   38.489,   191.10,2,   191.34,2,     -999,9,     -999,9,     -999,9,     -999,9,     -999,9,     -999,9,     -999,9,     -999,9,  2589.55,2,     7.90,2
29AJ20160818  ,TAlPro-2016,24      ,  1,6          ,6          ,20160824,1558,    40.38,     6.20,   1518.8,   13.154,   38.487,   194.88,2,     -999,9,     -999,9,     -999,9,     -999,9,     -999,9,     0.86,2,     0.61,2,     -999,9,     -999,9,     -999,9,     7.90,2
29AJ20160818  ,TAlPro-2016,24      ,  1,5          ,5          ,20160824,1558,    40.38,     6.20,   1772.3,   13.187,   38.487,   195.75,2,   195.63,2,     -999,9,     -999,9,     -999,9,     -999,9,     -999,9,     -999,9,     -999,9,     -999,9,  2589.88,2,     7.90,2
29AJ20160818  ,TAlPro-2016,24      ,  1,4          ,4          ,20160824,1558,    40.38,     6.20,   2028.7,   13.218,   38.487,   196.64,2,     -999,9,     -999,9,     -999,9,     -999,9,     -999,9,     0.92,2,     0.65,2,     -999,9,     -999,9,     -999,9,     7.90,2
29AJ20160818  ,TAlPro-2016,24      ,  1,3          ,3          ,20160824,1558,    40.38,     6.20,   2277.6,   13.255,   38.488,   196.79,2,   197.32,2,     -999,9,     -999,9,     -999,9,     -999,9,     -999,9,     -999,9,     -999,9,     -999,9,  2586.83,2,     7.90,2
29AJ20160818  ,TAlPro-2016,24      ,  1,2          ,2          ,20160824,1558,    40.38,     6.20,   2536.5,   13.305,   38.491,   197.42,2,     -999,9,     -999,9,     -999,9,     -999,9,     -999,9,     0.97,2,     0.73,2,     -999,9,     -999,9,     -999,9,     7.90,2
29AJ20160818  ,TAlPro-2016,24      ,  1,1          ,1          ,20160824,1558,    40.38,     6.20,   2831.8,   13.356,   38.492,   197.29,2,   197.54,2,     8.82,2,     8.38,2,     0.00,2,     0.44,2,     0.97,2,     0.72,2,     -999,9,     -999,9,  2589.08,2,     7.90,2