BOTTLE,20240504CCHHYDRO
EXPOCODE,SECT_ID,STNNBR,CASTNO,SAMPNO,BTLNBR,DATE,TIME,LATITUDE,LONGITUDE,CTDPRS,CTDTMP,CTDSAL,CTDOXY,CTDOXY_FLAG_W,OXYGEN,OXYGEN_FLAG_W,SILCAT,SILCAT_FLAG_W,NITRAT,NITRAT_FLAG_W,NITRIT,NITRIT_FLAG_W,PHSPHT,PHSPHT_FLAG_W,CFC-12,CFC-12_FLAG_W,SF6,SF6_FLAG_W,TCARBN,TCARBN_FLAG_W,CARBONATE,CARBONATE_FLAG_W,ALKALI,ALKALI_FLAG_W,PH,PH_FLAG_W
,,,,,,,,,,DBAR,DEG C,PSS-78,UMOL/KG,,UMOL/KG,,UMOL/KG,,UMOL/KG,,UMOL/KG,,UMOL/KG,,PMOL/KG,,FMOL/KG,,UMOL/KG,,UMOL/KG,,UMOL/KG,,,
29AJ20160818  ,TAlPro-2016,37      ,  1,14         ,14         ,20160827,0257,    40.40,     2.49,      6.3,   26.576,   38.012,   203.15,2,     -999,9,     -999,9,     -999,9,     -999,9,     -999,9,     -999,9,     -999,9,     -999,9,     -999,9,     -999,9,     -999,9
29AJ20160818  ,TAlPro-2016,37      ,  1,13         ,13         ,20160827,0257,    40.40,     2.49,     25.1,   26.212,   38.138,   210.51,2,     -999,9,     -999,9,     -999,9,     -999,9,     -999,9,     -999,9,     -999,9,     -999,9,     -999,9,     -999,9,     -999,9
29AJ20160818  ,TAlPro-2016,37      ,  1,12         ,12         ,20160827,0257,    40.40,     2.49,     51.1,   16.038,   38.169,   269.51,2,     -999,9,     -999,9,     -999,9,     -999,9,     -999,9,     1.54,2,     1.84,2,     -999,9,     -999,9,     -999,9,     -999,9
29AJ20160818  ,TAlPro-2016,37      ,  1,11         ,11         ,20160827,0257,    40.40,     2.49,     77.9,   13.917,   38.248,   215.84,2,     -999,9,     -999,9,     -999,9,     -999,9,     -999,9,     -999,9,     -999,9,     -999,9,     -999,9,     -999,9,     -999,9
29AJ20160818  ,TAlPro-2016,37      ,  1,10         ,10         ,20160827,0257,    40.40,     2.49,    101.8,   13.758,   38.322,   210.08,2,     -999,9,     -999,9,     -999,9,     -999,9,     -999,9,     1.49,2,     1.82,2,     -999,9,     -999,9,     -999,9,     -999,9
29AJ20160818  ,TAlPro-2016,37      ,  1,9          ,9          ,20160827,0257,    40.40,     2.49,    203.2,   13.484,   38.452,   197.32,2,     -999,9,     -999,9,     -999,9,     -999,9,     -999,9,     1.35,2,     1.47,2,     -999,9,     -999,9,     -999,9,     -999,9
29AJ20160818  ,TAlPro-2016,37      ,  1,8          ,8          ,20160827,0257,    40.40,     2.49,    304.5,   13.482,   38.552,   178.28,2,     -999,9,     -999,9,     -999,9,     -999,9,     -999,9,     0.98,2,     -999,9,     -999,9,     -999,9,     -999,9,     -999,9
29AJ20160818  ,TAlPro-2016,37      ,  1,7          ,7          ,20160827,0257,    40.40,     2.49,    408.6,   13.468,   38.580,   174.68,2,     -999,9,     -999,9,     -999,9,     -999,9,     -999,9,     1.01,2,     0.94,2,     -999,9,     -999,9,     -999,9,     -999,9
29AJ20160818  ,TAlPro-2016,37      ,  1,6          ,6          ,20160827,0257,    40.40,     2.49,    507.0,   13.357,   38.562,   175.69,2,     -999,9,     -999,9,     -999,9,     -999,9,     -999,9,     0.91,6,     0.75,6,     -999,9,     -999,9,     -999,9,     -999,9
29AJ20160818  ,TAlPro-2016,37      ,  1,5          ,5          ,20160827,0257,    40.40,     2.49,    758.4,   13.194,   38.521,   183.78,2,     -999,9,     -999,9,     -999,9,     -999,9,     -999,9,     0.83,2,     0.54,2,     -999,9,     -999,9,     -999,9,     -999,9
29AJ20160818  ,TAlPro-2016,37      ,  1,4          ,4          ,20160827,0257,    40.40,     2.49,   1011.8,   13.129,   38.498,   189.01,2,     -999,9,     -999,9,     -999,9,     -999,9,     -999,9,     0.82,2,     0.49,2,     -999,9,     -999,9,     -999,9,     -999,9
29AJ20160818  ,TAlPro-2016,37      ,  1,3          ,3          ,20160827,0257,    40.40,     2.49,   1263.6,   13.135,   38.493,   193.35,2,     -999,9,     -999,9,     -999,9,     -999,9,     -999,9,     0.89,2,     0.64,2,     -999,9,     -999,9,     -999,9,     -999,9
29AJ20160818  ,TAlPro-2016,37      ,  1,2          ,2          ,20160827,0257,    40.40,     2.49,   1517.2,   13.159,   38.492,   194.82,2,     -999,9,     -999,9,     -999,9,     -999,9,     -999,9,     0.95,2,     0.66,2,     -999,9,     -999,9,     -999,9,     -999,9
29AJ20160818  ,TAlPro-2016,37      ,  1,1          ,1          ,20160827,0257,    40.40,     2.49,   1881.1,   13.205,   38.491,   193.73,2,     -999,9,     -999,9,     -999,9,     -999,9,     -999,9,     0.96,2,     0.69,2,     -999,9,     -999,9,     -999,9,     -999,9
29AJ20160818  ,TAlPro-2016,38      ,  1,16         ,16         ,20160827,0515,    40.50,     2.43,      5.5,   26.546,   38.111,   203.11,2,   203.70,2,     -999,9,     -999,9,     -999,9,     -999,9,     -999,9,     -999,9,     -999,9,     -999,9,     -999,9,     -999,9
29AJ20160818  ,TAlPro-2016,38      ,  1,15         ,15         ,20160827,0515,    40.50,     2.43,     24.6,   23.575,   38.049,   220.80,2,   219.93,2,     -999,9,     -999,9,     -999,9,     -999,9,     -999,9,     -999,9,     -999,9,     -999,9,     -999,9,     -999,9
29AJ20160818  ,TAlPro-2016,38      ,  1,14         ,14         ,20160827,0515,    40.50,     2.43,     50.5,   17.394,   38.165,   274.30,2,   269.39,2,     -999,9,     -999,9,     -999,9,     -999,9,     -999,9,     -999,9,     -999,9,     -999,9,     -999,9,     -999,9
29AJ20160818  ,TAlPro-2016,38      ,  1,13         ,13         ,20160827,0515,    40.50,     2.43,     80.6,   14.161,   38.282,   226.84,2,     -999,9,     -999,9,     -999,9,     -999,9,     -999,9,     -999,9,     -999,9,     -999,9,     -999,9,     -999,9,     -999,9
29AJ20160818  ,TAlPro-2016,38      ,  1,12         ,12         ,20160827,0515,    40.50,     2.43,    101.5,   13.762,   38.300,   210.86,2,   207.28,2,     -999,9,     -999,9,     -999,9,     -999,9,     -999,9,     -999,9,     -999,9,     -999,9,     -999,9,     -999,9
29AJ20160818  ,TAlPro-2016,38      ,  1,11         ,11         ,20160827,0515,    40.50,     2.43,    201.6,   13.436,   38.466,   200.10,2,     -999,9,     -999,9,     -999,9,     -999,9,     -999,9,     -999,9,     -999,9,     -999,9,     -999,9,     -999,9,     -999,9
29AJ20160818  ,TAlPro-2016,38      ,  1,10         ,10         ,20160827,0515,    40.50,     2.43,    302.5,   13.512,   38.567,   177.92,2,   177.63,2,     -999,9,     -999,9,     -999,9,     -999,9,     -999,9,     -999,9,     -999,9,     -999,9,     -999,9,     -999,9
29AJ20160818  ,TAlPro-2016,38      ,  1,9          ,9          ,20160827,0515,    40.50,     2.43,    403.8,   13.467,   38.582,   172.13,2,   172.25,2,     -999,9,     -999,9,     -999,9,     -999,9,     -999,9,     -999,9,     -999,9,     -999,9,     -999,9,     -999,9
29AJ20160818  ,TAlPro-2016,38      ,  1,8          ,8          ,20160827,0515,    40.50,     2.43,    505.4,   13.341,   38.559,   176.22,2,     -999,9,     -999,9,     -999,9,     -999,9,     -999,9,     -999,9,     -999,9,     -999,9,     -999,9,     -999,9,     -999,9
29AJ20160818  ,TAlPro-2016,38      ,  1,7          ,7          ,20160827,0515,    40.50,     2.43,    758.4,   13.198,   38.522,   183.68,2,   183.87,2,     -999,9,     -999,9,     -999,9,     -999,9,     -999,9,     -999,9,     -999,9,     -999,9,     -999,9,     -999,9
29AJ20160818  ,TAlPro-2016,38      ,  1,6          ,6          ,20160827,0515,    40.50,     2.43,   1011.3,   13.139,   38.501,   189.22,2,   189.17,2,     -999,9,     -999,9,     -999,9,     -999,9,     -999,9,     -999,9,     -999,9,     -999,9,     -999,9,     -999,9
29AJ20160818  ,TAlPro-2016,38      ,  1,5          ,5          ,20160827,0515,    40.50,     2.43,   1264.0,   13.139,   38.494,   193.03,2,   192.46,2,     -999,9,     -999,9,     -999,9,     -999,9,     -999,9,     -999,9,     -999,9,     -999,9,     -999,9,     -999,9
29AJ20160818  ,TAlPro-2016,38      ,  1,4          ,4          ,20160827,0515,    40.50,     2.43,   1518.0,   13.166,   38.493,   194.51,2,   194.46,2,     -999,9,     -999,9,     -999,9,     -999,9,     -999,9,     -999,9,     -999,9,     -999,9,     -999,9,     -999,9
29AJ20160818  ,TAlPro-2016,38      ,  1,3          ,3          ,20160827,0515,    40.50,     2.43,   1771.4,   13.190,   38.491,   194.82,2,   194.98,2,     -999,9,     -999,9,     -999,9,     -999,9,     -999,9,     -999,9,     -999,9,     -999,9,     -999,9,     -999,9
29AJ20160818  ,TAlPro-2016,38      ,  1,2          ,2          ,20160827,0515,    40.50,     2.43,   2025.0,   13.224,   38.491,   194.65,2,   194.72,2,     -999,9,     -999,9,     -999,9,     -999,9,     -999,9,     -999,9,     -999,9,     -999,9,     -999,9,     -999,9
29AJ20160818  ,TAlPro-2016,38      ,  1,1          ,1          ,20160827,0515,    40.50,     2.43,   2220.9,   13.255,   38.491,   194.40,2,   194.89,2,     -999,9,     -999,9,     -999,9,     -999,9,     -999,9,     -999,9,     -999,9,     -999,9,     -999,9,     -999,9
29AJ20160818  ,TAlPro-2016,39      ,  1,15         ,15         ,20160827,0806,    40.60,     2.35,      5.2,   26.103,   38.196,   205.65,2,   204.66,2,     -999,9,     -999,9,     -999,9,     -999,9,     1.02,2,     1.29,2,     -999,9,     -999,9,     -999,9,     -999,9
29AJ20160818  ,TAlPro-2016,39      ,  1,14         ,14         ,20160827,0806,    40.60,     2.35,     24.3,   23.036,   38.073,   220.53,2,   219.28,2,     -999,9,     -999,9,     -999,9,     -999,9,     1.16,2,     1.49,2,     -999,9,     -999,9,     -999,9,     -999,9
29AJ20160818  ,TAlPro-2016,39      ,  1,13         ,13         ,20160827,0806,    40.60,     2.35,     46.9,   19.202,   38.116,   245.42,2,   245.52,2,     -999,9,     -999,9,     -999,9,     -999,9,     1.37,2,     1.78,2,     -999,9,     -999,9,     -999,9,     -999,9
29AJ20160818  ,TAlPro-2016,39      ,  1,12         ,12         ,20160827,0806,    40.60,     2.35,     80.9,   14.365,   38.324,   249.28,2,   244.43,2,     -999,9,     -999,9,     -999,9,     -999,9,     1.53,2,     1.81,2,     -999,9,     -999,9,     -999,9,     -999,9
29AJ20160818  ,TAlPro-2016,39      ,  1,11         ,11         ,20160827,0806,    40.60,     2.35,    101.3,   13.667,   38.369,   220.29,2,     -999,9,     -999,9,     -999,9,     -999,9,     -999,9,     1.47,6,     1.71,6,     -999,9,     -999,9,     -999,9,     -999,9
29AJ20160818  ,TAlPro-2016,39      ,  1,10         ,10         ,20160827,0806,    40.60,     2.35,    202.4,   13.483,   38.518,   188.38,2,   187.14,2,     -999,9,     -999,9,     -999,9,     -999,9,     1.32,2,     1.29,2,     -999,9,     -999,9,     -999,9,     -999,9
29AJ20160818  ,TAlPro-2016,39      ,  1,9          ,9          ,20160827,0806,    40.60,     2.35,    302.7,   13.482,   38.572,   176.21,2,   176.54,2,     -999,9,     -999,9,     -999,9,     -999,9,     1.08,2,     1.02,2,     -999,9,     -999,9,     -999,9,     -999,9
29AJ20160818  ,TAlPro-2016,39      ,  1,8          ,8          ,20160827,0806,    40.60,     2.35,    403.7,   13.395,   38.569,   174.72,2,   174.94,2,     -999,9,     -999,9,     -999,9,     -999,9,     0.96,2,     0.77,2,     -999,9,     -999,9,     -999,9,     -999,9
29AJ20160818  ,TAlPro-2016,39      ,  1,7          ,7          ,20160827,0806,    40.60,     2.35,    504.6,   13.326,   38.557,   177.08,2,     -999,9,     -999,9,     -999,9,     -999,9,     -999,9,     0.90,2,     0.69,2,     -999,9,     -999,9,     -999,9,     -999,9
29AJ20160818  ,TAlPro-2016,39      ,  1,6          ,6          ,20160827,0806,    40.60,     2.35,    758.1,   13.188,   38.520,   184.03,2,   184.00,2,     -999,9,     -999,9,     -999,9,     -999,9,     0.85,2,     0.57,2,     -999,9,     -999,9,     -999,9,     -999,9
29AJ20160818  ,TAlPro-2016,39      ,  1,5          ,5          ,20160827,0806,    40.60,     2.35,   1011.1,   13.131,   38.499,   189.55,2,     -999,9,     -999,9,     -999,9,     -999,9,     -999,9,     -999,9,     -999,9,     -999,9,     -999,9,     -999,9,     -999,9
29AJ20160818  ,TAlPro-2016,39      ,  1,4          ,4          ,20160827,0806,    40.60,     2.35,   1264.1,   13.143,   38.495,   193.26,2,   192.59,2,     -999,9,     -999,9,     -999,9,     -999,9,     0.88,2,     0.54,2,     -999,9,     -999,9,     -999,9,     -999,9
29AJ20160818  ,TAlPro-2016,39      ,  1,3          ,3          ,20160827,0806,    40.60,     2.35,   1517.9,   13.165,   38.493,   194.78,2,   194.68,2,     -999,9,     -999,9,     -999,9,     -999,9,     0.93,2,     0.61,2,     -999,9,     -999,9,     -999,9,     -999,9
29AJ20160818  ,TAlPro-2016,39      ,  1,2          ,2          ,20160827,0806,    40.60,     2.35,   1772.8,   13.186,   38.491,   194.61,2,   194.20,2,     -999,9,     -999,9,     -999,9,     -999,9,     0.94,2,     0.65,2,     -999,9,     -999,9,     -999,9,     -999,9
29AJ20160818  ,TAlPro-2016,39      ,  1,1          ,1          ,20160827,0806,    40.60,     2.35,   1887.6,   13.203,   38.491,   193.97,2,   193.90,2,     -999,9,     -999,9,     -999,9,     -999,9,     0.97,2,     0.62,2,     -999,9,     -999,9,     -999,9,     -999,9
29AJ20160818  ,TAlPro-2016,40      ,  1,10         ,10         ,20160827,1031,    40.70,     2.28,      6.4,   25.675,   38.195,   206.34,2,     -999,9,     -999,9,     -999,9,     -999,9,     -999,9,     -999,9,     -999,9,     -999,9,     -999,9,     -999,9,     -999,9
29AJ20160818  ,TAlPro-2016,40      ,  1,9          ,9          ,20160827,1031,    40.70,     2.28,     49.8,   17.269,   38.120,   260.08,2,     -999,9,     -999,9,     -999,9,     -999,9,     -999,9,     -999,9,     -999,9,     -999,9,     -999,9,     -999,9,     -999,9
29AJ20160818  ,TAlPro-2016,40      ,  1,8          ,8          ,20160827,1031,    40.70,     2.28,     99.3,   13.772,   38.335,   209.59,2,     -999,9,     -999,9,     -999,9,     -999,9,     -999,9,     -999,9,     -999,9,     -999,9,     -999,9,     -999,9,     -999,9
29AJ20160818  ,TAlPro-2016,40      ,  1,7          ,7          ,20160827,1031,    40.70,     2.28,    202.6,   13.478,   38.512,   189.10,2,     -999,9,     -999,9,     -999,9,     -999,9,     -999,9,     -999,9,     -999,9,     -999,9,     -999,9,     -999,9,     -999,9
29AJ20160818  ,TAlPro-2016,40      ,  1,6          ,6          ,20160827,1031,    40.70,     2.28,    302.9,   13.479,   38.568,   178.88,2,     -999,9,     -999,9,     -999,9,     -999,9,     -999,9,     -999,9,     -999,9,     -999,9,     -999,9,     -999,9,     -999,9
29AJ20160818  ,TAlPro-2016,40      ,  1,5          ,5          ,20160827,1031,    40.70,     2.28,    404.3,   13.400,   38.566,   181.44,2,     -999,9,     -999,9,     -999,9,     -999,9,     -999,9,     -999,9,     -999,9,     -999,9,     -999,9,     -999,9,     -999,9
29AJ20160818  ,TAlPro-2016,40      ,  1,4          ,4          ,20160827,1031,    40.70,     2.28,    505.3,   13.341,   38.560,   175.55,2,     -999,9,     -999,9,     -999,9,     -999,9,     -999,9,     -999,9,     -999,9,     -999,9,     -999,9,     -999,9,     -999,9
29AJ20160818  ,TAlPro-2016,40      ,  1,3          ,3          ,20160827,1031,    40.70,     2.28,    758.1,   13.202,   38.524,   183.13,2,     -999,9,     -999,9,     -999,9,     -999,9,     -999,9,     -999,9,     -999,9,     -999,9,     -999,9,     -999,9,     -999,9
29AJ20160818  ,TAlPro-2016,40      ,  1,2          ,2          ,20160827,1031,    40.70,     2.28,   1263.7,   13.148,   38.496,   192.32,2,     -999,9,     -999,9,     -999,9,     -999,9,     -999,9,     -999,9,     -999,9,     -999,9,     -999,9,     -999,9,     -999,9
29AJ20160818  ,TAlPro-2016,40      ,  1,1          ,1          ,20160827,1031,    40.70,     2.28,   1787.1,   13.189,   38.491,   193.13,2,     -999,9,     -999,9,     -999,9,     -999,9,     -999,9,     -999,9,     -999,9,     -999,9,     -999,9,     -999,9,     -999,9