BOTTLE,20240503CCHHYDRO
EXPOCODE,SECT_ID,STNNBR,CASTNO,SAMPNO,BTLNBR,BTLNBR_FLAG_W,DATE,TIME,LATITUDE,LONGITUDE,DEPTH,CTDPRS,CTDPRS_FLAG_W,CTDTMP,CTDTMP_FLAG_W,CTDSAL,CTDSAL_FLAG_W,SALNTY,SALNTY_FLAG_W,CTDOXY,CTDOXY_FLAG_W,OXYGEN,OXYGEN_FLAG_W,REFTMP,REFTMP_FLAG_W,CTDFLUOR,CTDFLUOR_FLAG_W,PAR,PAR_FLAG_W,CTDXMISS,CTDXMISS_FLAG_W,CTDBEAMCP,CTDBEAMCP_FLAG_W,CTDDEPTH,CTDDEPTH_FLAG_W
,,,,,,,,,,,METERS,DBAR,,ITS-90,,PSS-78,,PSS-78,,UMOL/KG,,UMOL/KG,,ITS-90,,MG/M^3,,UMOL/M^2/SEC,,%TRANS,,/METER,,METERS,
490S20190121  ,L013       ,47      ,  1,24         ,X10KY35    ,2,20190210,1449, -65.0844, 128.3715,     1815,     10.0,2,  -0.8465,2,  33.6468,2,  33.6459,2,   355.51,2,   354.83,2, -0.84578,2,    3.315,1,     -999,9,   92.418,1,   0.3154,1,      9.9,2
490S20190121  ,L013       ,47      ,  1,23         ,X10KY34    ,2,20190210,1449, -65.0844, 128.3715,     1815,     35.3,2,  -0.8482,2,  33.6460,2,  33.6475,2,   355.52,2,   354.93,2, -0.84638,2,    3.389,1,     -999,9,   92.476,1,   0.3129,1,     34.9,2
490S20190121  ,L013       ,47      ,  1,22         ,X10KY33    ,2,20190210,1449, -65.0844, 128.3715,     1815,    100.1,2,  -1.6439,2,  34.1188,2,  34.1160,2,   323.76,2,   323.90,2, -1.64129,2,    0.240,1,     -999,9,   98.555,1,   0.0582,1,     99.1,2
490S20190121  ,L013       ,47      ,  1,21         ,X10KY32    ,2,20190210,1449, -65.0844, 128.3715,     1815,    149.0,2,  -1.7800,2,  34.2060,2,  34.2028,2,   319.18,2,   319.06,2, -1.77969,2,    0.139,1,     -999,9,   99.188,1,   0.0326,1,    147.5,2
490S20190121  ,L013       ,47      ,  1,20         ,X10KY31    ,2,20190210,1449, -65.0844, 128.3715,     1815,    199.8,2,  -1.8165,2,  34.2642,2,  34.2654,2,   321.46,2,   321.38,2, -1.81589,2,    0.124,1,     -999,9,   99.393,1,   0.0244,1,    197.8,2
490S20190121  ,L013       ,47      ,  1,19         ,X10KY36    ,3,20190210,1449, -65.0844, 128.3715,     1815,    300.9,2,  -1.7878,2,  34.3323,2,  34.3305,2,   321.03,2,   321.33,2, -1.78708,2,    0.081,1,     -999,9,   99.557,1,   0.0177,1,    297.7,2
490S20190121  ,L013       ,47      ,  1,18         ,X10KY28    ,2,20190210,1449, -65.0844, 128.3715,     1815,    401.3,2,  -1.5315,2,  34.4169,2,  34.4155,2,   307.52,2,   307.03,2, -1.53226,2,    0.080,1,     -999,9,   99.507,1,   0.0197,1,    397.0,2
490S20190121  ,L013       ,47      ,  1,17         ,X10KY26    ,2,20190210,1449, -65.0844, 128.3715,     1815,    500.0,2,   0.2804,2,  34.6058,2,  34.6040,2,   230.70,2,   231.36,2,  0.28128,2,    0.066,1,     -999,9,   99.728,1,   0.0109,1,    494.5,2
490S20190121  ,L013       ,47      ,  1,16         ,X10KY24    ,2,20190210,1449, -65.0844, 128.3715,     1815,    601.4,2,   0.1497,2,  34.6363,2,  34.6327,2,   229.66,2,   229.74,2,  0.14986,2,    0.066,1,     -999,9,   99.691,1,   0.0124,1,    594.6,2
490S20190121  ,L013       ,47      ,  1,15         ,X10KY23    ,2,20190210,1449, -65.0844, 128.3715,     1815,    698.8,2,   0.3424,2,  34.6669,2,  34.6659,2,   219.54,2,   219.33,2,  0.34228,2,    0.064,1,     -999,9,   99.777,1,   0.0089,1,    690.8,2
490S20190121  ,L013       ,47      ,  1,14         ,X10KY21    ,2,20190210,1449, -65.0844, 128.3715,     1815,    800.0,2,   0.1386,2,  34.6599,2,  34.6594,2,   223.57,2,   223.17,2,  0.13886,2,    0.063,1,     -999,9,   99.793,1,   0.0083,1,    790.6,2
490S20190121  ,L013       ,47      ,  1,13         ,X10KY18    ,2,20190210,1449, -65.0844, 128.3715,     1815,   1001.8,2,   0.0156,2,  34.6597,2,  34.6602,2,   225.80,2,   225.36,2,  0.01576,2,    0.060,1,     -999,9,   99.806,1,   0.0077,1,    989.6,2
490S20190121  ,L013       ,47      ,  1,12         ,X10KY17    ,2,20190210,1449, -65.0844, 128.3715,     1815,   1201.8,2,  -0.0165,2,  34.6647,2,  34.6645,2,   226.06,2,   225.69,2, -0.01603,2,    0.059,1,     -999,9,   99.845,1,   0.0062,1,   1186.6,2
490S20190121  ,L013       ,47      ,  1,11         ,X10KY16    ,2,20190210,1449, -65.0844, 128.3715,     1815,   1400.9,2,  -0.1124,2,  34.6608,2,  34.6590,2,   229.70,2,   229.54,2, -0.11224,2,    0.058,1,     -999,9,   99.834,1,   0.0066,1,   1382.5,2
490S20190121  ,L013       ,47      ,  1,10         ,X10KY13    ,2,20190210,1449, -65.0844, 128.3715,     1815,   1602.4,2,  -0.2565,2,  34.6519,2,  34.6517,2,   236.23,2,   236.52,2, -0.25641,2,    0.057,1,     -999,9,   99.741,1,   0.0104,1,   1580.6,2
490S20190121  ,L013       ,47      ,  1,1          ,X10KY03    ,2,20190210,1449, -65.0844, 128.3715,     1815,   1828.3,2,  -0.2744,2,  34.6506,2,  34.6519,2,   237.31,2,   237.64,2, -0.27443,2,    0.058,1,     -999,9,   99.621,1,   0.0152,1,   1802.4,2
490S20190121  ,L013       ,48      ,  1,24         ,X10KY35    ,2,20190211,0459, -65.1149, 128.3785,     1712,      9.7,2,  -0.5117,2,  33.7925,2,  33.7893,2,   355.32,2,   355.22,2, -0.51165,2,    3.189,1,     -999,9,   90.602,1,   0.3948,1,      9.6,2
490S20190121  ,L013       ,48      ,  1,23         ,X10KY34    ,2,20190211,0459, -65.1149, 128.3785,     1712,     28.8,2,  -0.1413,2,  33.9073,2,  33.9111,2,   346.10,2,   346.73,2, -0.14855,2,    3.575,1,     -999,9,   92.034,1,   0.3321,1,     28.5,2
490S20190121  ,L013       ,48      ,  1,22         ,X10KY33    ,2,20190211,0459, -65.1149, 128.3785,     1712,     99.0,2,  -1.7962,2,  34.1601,2,  34.1536,2,   319.35,2,   319.11,2, -1.79614,2,    0.155,1,     -999,9,   99.194,1,   0.0324,1,     98.0,2
490S20190121  ,L013       ,48      ,  1,21         ,X10KY32    ,2,20190211,0459, -65.1149, 128.3785,     1712,    146.1,2,  -1.7950,2,  34.2290,2,  34.2228,2,   317.00,2,   317.77,2, -1.79557,2,    0.132,1,     -999,9,   99.306,1,   0.0278,1,    144.6,2
490S20190121  ,L013       ,48      ,  1,20         ,X10KY31    ,2,20190211,0459, -65.1149, 128.3785,     1712,    199.3,2,  -1.8001,2,  34.2614,2,  34.2564,2,   318.16,2,   318.76,2, -1.80002,2,    0.107,1,     -999,9,   99.358,1,   0.0258,1,    197.3,2
490S20190121  ,L013       ,48      ,  1,19         ,X10KY36    ,2,20190211,0459, -65.1149, 128.3785,     1712,    294.9,2,  -1.7581,2,  34.3187,2,  34.3099,2,   318.85,2,   319.39,2, -1.75766,2,    0.113,1,     -999,9,   99.544,1,   0.0183,1,    291.8,2
490S20190121  ,L013       ,48      ,  1,18         ,X10KY28    ,2,20190211,0459, -65.1149, 128.3785,     1712,    398.7,2,  -1.6259,2,  34.3899,2,  34.3861,2,   312.37,2,   311.97,2, -1.62823,2,    0.082,1,     -999,9,   99.490,1,   0.0204,1,    394.4,2
490S20190121  ,L013       ,48      ,  1,17         ,X10KY26    ,2,20190211,0459, -65.1149, 128.3785,     1712,    500.2,2,  -0.0227,2,  34.6067,2,  34.5969,2,   237.64,2,   238.06,2, -0.02364,2,    0.064,1,     -999,9,   99.707,1,   0.0117,1,    494.7,2
490S20190121  ,L013       ,48      ,  1,16         ,X10KY24    ,2,20190211,0459, -65.1149, 128.3785,     1712,    597.9,2,   0.0502,2,  34.6318,2,  34.6288,2,   231.08,2,   231.45,2,  0.05080,2,    0.065,1,     -999,9,   99.717,1,   0.0113,1,    591.2,2
490S20190121  ,L013       ,48      ,  1,15         ,X10KY23    ,2,20190211,0459, -65.1149, 128.3785,     1712,    698.6,2,   0.2193,2,  34.6598,2,  34.6584,2,   221.88,2,   222.04,2,  0.21900,2,    0.063,1,     -999,9,   99.791,1,   0.0084,1,    690.5,2
490S20190121  ,L013       ,48      ,  1,14         ,X10KY21    ,2,20190211,0459, -65.1149, 128.3785,     1712,    800.9,2,   0.0248,2,  34.6496,2,  34.6462,2,   227.26,2,   227.18,2,  0.02494,2,    0.063,1,     -999,9,   99.757,1,   0.0098,1,    791.5,2
490S20190121  ,L013       ,48      ,  1,13         ,X10KY18    ,2,20190211,0459, -65.1149, 128.3785,     1712,    994.9,2,   0.0981,2,  34.6670,2,  34.6651,2,   222.14,2,   222.17,2,  0.09782,2,    0.060,1,     -999,9,   99.826,1,   0.0069,1,    982.8,2
490S20190121  ,L013       ,48      ,  1,12         ,X10KY17    ,2,20190211,0459, -65.1149, 128.3785,     1712,   1198.6,2,  -0.0630,2,  34.6600,2,  34.6588,2,   227.36,2,   227.67,2, -0.06309,2,    0.059,1,     -999,9,   99.830,1,   0.0068,1,   1183.4,2
490S20190121  ,L013       ,48      ,  1,11         ,X10KY16    ,3,20190211,0459, -65.1149, 128.3785,     1712,   1393.6,2,  -0.1826,2,  34.6563,2,  34.6563,2,   231.87,2,   232.19,2, -0.18279,2,    0.058,1,     -999,9,   99.822,1,   0.0071,1,   1375.3,2
490S20190121  ,L013       ,48      ,  1,10         ,X10KY13    ,2,20190211,0459, -65.1149, 128.3785,     1712,   1600.2,2,  -0.2888,2,  34.6506,2,  34.6419,2,   236.60,2,   237.28,2, -0.28900,2,    0.058,1,     -999,9,   99.688,1,   0.0125,1,   1578.5,2
490S20190121  ,L013       ,48      ,  1,1          ,X10KY03    ,2,20190211,0459, -65.1149, 128.3785,     1712,   1727.7,2,  -0.2858,2,  34.6504,2,  34.6510,2,   236.81,2,   237.54,2, -0.28605,2,    0.058,1,     -999,9,   99.654,1,   0.0139,1,   1703.7,2
490S20190121  ,L013       ,49      ,  1,24         ,X10KY35    ,2,20190211,1047, -64.8339, 128.3750,     1892,     11.2,2,  -0.1981,2,  34.0046,2,  33.9986,2,   343.79,2,   343.53,2, -0.19840,2,    2.247,1,     -999,9,   92.982,1,   0.2911,1,     11.1,2
490S20190121  ,L013       ,49      ,  1,23         ,X10KY34    ,2,20190211,1047, -64.8339, 128.3750,     1892,     23.7,2,  -0.2000,2,  34.0041,2,  34.0019,2,   343.53,2,   343.59,2, -0.20018,2,    2.157,1,     -999,9,   92.885,1,   0.2952,1,     23.5,2
490S20190121  ,L013       ,49      ,  1,22         ,X10KY33    ,2,20190211,1047, -64.8339, 128.3750,     1892,     99.9,2,  -1.8013,2,  34.2302,2,  34.2279,2,   321.32,2,   320.91,2, -1.80107,2,    0.138,1,     -999,9,   99.385,1,   0.0247,1,     98.9,2
490S20190121  ,L013       ,49      ,  1,21         ,X10KY32    ,2,20190211,1047, -64.8339, 128.3750,     1892,    148.8,2,  -1.8518,2,  34.2618,2,  34.2575,2,   324.48,2,   324.21,2, -1.85161,2,    0.088,1,     -999,9,   99.694,1,   0.0123,1,    147.3,2
490S20190121  ,L013       ,49      ,  1,20         ,X10KY31    ,2,20190211,1047, -64.8339, 128.3750,     1892,    200.2,2,  -1.8386,2,  34.2829,2,  34.2795,2,   323.66,2,   323.61,2, -1.83823,2,    0.080,1,     -999,9,   99.683,1,   0.0127,1,    198.2,2
490S20190121  ,L013       ,49      ,  1,19         ,X10KY36    ,2,20190211,1047, -64.8339, 128.3750,     1892,    298.0,2,  -1.7555,2,  34.3391,2,  34.3370,2,   319.79,2,   319.24,2, -1.75527,2,    0.076,1,     -999,9,   99.698,1,   0.0121,1,    294.9,2
490S20190121  ,L013       ,49      ,  1,18         ,X10KY28    ,2,20190211,1047, -64.8339, 128.3750,     1892,    398.4,2,  -1.2959,2,  34.4449,2,  34.4424,2,   296.55,2,   296.10,2, -1.29822,2,    0.074,1,     -999,9,   99.550,1,   0.0180,1,    394.1,2
490S20190121  ,L013       ,49      ,  1,17         ,X10KY26    ,2,20190211,1047, -64.8339, 128.3750,     1892,    500.0,2,   0.4615,2,  34.6319,2,  34.6339,2,   223.89,2,   224.08,2,  0.46067,2,    0.063,1,     -999,9,   99.776,1,   0.0090,1,    494.5,2
490S20190121  ,L013       ,49      ,  1,16         ,X10KY24    ,2,20190211,1047, -64.8339, 128.3750,     1892,    598.9,2,   0.4376,2,  34.6552,2,  34.6531,2,   221.48,2,   221.71,2,  0.43712,2,    0.063,1,     -999,9,   99.785,1,   0.0086,1,    592.2,2
490S20190121  ,L013       ,49      ,  1,15         ,X10KY23    ,2,20190211,1047, -64.8339, 128.3750,     1892,    696.9,2,   0.4210,2,  34.6688,2,  34.6714,2,   218.42,2,   217.44,2,  0.42211,2,    0.062,1,     -999,9,   99.822,1,   0.0071,1,    688.9,2
490S20190121  ,L013       ,49      ,  1,14         ,X10KY21    ,2,20190211,1047, -64.8339, 128.3750,     1892,    799.4,2,   0.2816,2,  34.6657,2,  34.6694,2,   220.29,2,   219.97,2,  0.28158,2,    0.062,1,     -999,9,   99.823,1,   0.0071,1,    790.1,2
490S20190121  ,L013       ,49      ,  1,13         ,X10KY18    ,2,20190211,1047, -64.8339, 128.3750,     1892,    997.7,2,   0.1535,2,  34.6679,2,  34.6686,2,   221.39,2,   220.83,2,  0.15351,2,    0.059,1,     -999,9,   99.821,1,   0.0072,1,    985.6,2
490S20190121  ,L013       ,49      ,  1,12         ,X10KY17    ,2,20190211,1047, -64.8339, 128.3750,     1892,   1198.7,2,   0.0508,2,  34.6672,2,  34.6684,2,   223.94,2,   223.65,2,  0.05060,2,    0.059,1,     -999,9,   99.851,1,   0.0060,1,   1183.6,2
490S20190121  ,L013       ,49      ,  1,11         ,X10KY16    ,2,20190211,1047, -64.8339, 128.3750,     1892,   1400.7,2,  -0.1026,2,  34.6574,2,  34.6612,2,   230.07,2,   229.60,2, -0.10265,2,    0.058,1,     -999,9,   99.821,1,   0.0072,1,   1382.3,2
490S20190121  ,L013       ,49      ,  1,10         ,X10KY13    ,2,20190211,1047, -64.8339, 128.3750,     1892,   1599.4,2,  -0.1956,2,  34.6555,2,  34.6580,2,   233.78,2,   233.51,2, -0.19544,2,    0.056,1,     -999,9,   99.800,1,   0.0080,1,   1577.7,2
490S20190121  ,L013       ,49      ,  1,9          ,X10KY12    ,2,20190211,1047, -64.8339, 128.3750,     1892,   1794.2,2,  -0.2747,2,  34.6513,2,  34.6494,2,   237.33,2,   237.32,2, -0.27489,2,    0.057,1,     -999,9,   99.667,1,   0.0133,1,   1769.0,2
490S20190121  ,L013       ,49      ,  1,1          ,X10KY03    ,2,20190211,1047, -64.8339, 128.3750,     1892,   1909.5,2,  -0.2755,2,  34.6511,2,  34.6478,2,   237.57,2,   237.56,2, -0.27567,2,    0.057,1,     -999,9,   99.625,1,   0.0150,1,   1882.2,2
490S20190121  ,L013       ,50      ,  1,24         ,X10KY35    ,2,20190211,1407, -64.6670, 128.3745,     2471,     10.1,2,   0.0955,2,  33.9893,2,  33.9869,2,   343.60,2,   343.93,2,  0.09483,2,    2.389,1,     -999,9,   93.007,1,   0.2900,1,     10.0,2
490S20190121  ,L013       ,50      ,  1,23         ,X10KY34    ,2,20190211,1407, -64.6670, 128.3745,     2471,     49.7,2,   0.0399,2,  33.9913,2,  33.9921,2,   342.74,2,   342.95,2,  0.04375,2,    2.098,1,     -999,9,   93.028,1,   0.2891,1,     49.2,2
490S20190121  ,L013       ,50      ,  1,22         ,X10KY33    ,2,20190211,1407, -64.6670, 128.3745,     2471,    100.8,2,  -1.8077,2,  34.2522,2,  34.2521,2,   320.57,2,   320.58,2, -1.80757,2,    0.124,1,     -999,9,   99.408,1,   0.0237,1,     99.8,2
490S20190121  ,L013       ,50      ,  1,21         ,X10KY32    ,2,20190211,1407, -64.6670, 128.3745,     2471,    130.8,2,  -1.8232,2,  34.2650,2,  34.2676,2,   323.13,2,   322.33,2, -1.82107,2,    0.108,1,     -999,9,   99.494,1,   0.0203,1,    129.5,2
490S20190121  ,L013       ,50      ,  1,20         ,X10KY31    ,2,20190211,1407, -64.6670, 128.3745,     2471,    200.0,2,  -1.8242,2,  34.3038,2,  34.3025,2,   323.60,2,   323.60,2, -1.82360,2,    0.075,1,     -999,9,   99.701,1,   0.0120,1,    198.0,2
490S20190121  ,L013       ,50      ,  1,19         ,X10KY36    ,2,20190211,1407, -64.6670, 128.3745,     2471,    300.6,2,  -1.6163,2,  34.3695,2,  34.3678,2,   313.60,2,   313.59,2, -1.61660,2,    0.077,1,     -999,9,   99.652,1,   0.0140,1,    297.5,2
490S20190121  ,L013       ,50      ,  1,18         ,X10KY28    ,2,20190211,1407, -64.6670, 128.3745,     2471,    399.9,2,  -0.3119,2,  34.5296,2,  34.5296,2,   253.25,2,   253.37,2, -0.31002,2,    0.064,1,     -999,9,   99.742,1,   0.0104,1,    395.6,2
490S20190121  ,L013       ,50      ,  1,17         ,X10KY26    ,2,20190211,1407, -64.6670, 128.3745,     2471,    501.7,2,   0.3854,2,  34.6303,2,  34.6293,2,   225.79,2,   226.39,2,  0.38526,2,    0.064,1,     -999,9,   99.763,1,   0.0095,1,    496.2,2
490S20190121  ,L013       ,50      ,  1,16         ,X10KY24    ,2,20190211,1407, -64.6670, 128.3745,     2471,    600.1,2,   0.5362,2,  34.6613,2,  34.6622,2,   219.15,2,   219.47,2,  0.53620,2,    0.062,1,     -999,9,   99.787,1,   0.0085,1,    593.4,2
490S20190121  ,L013       ,50      ,  1,15         ,X10KY23    ,2,20190211,1407, -64.6670, 128.3745,     2471,    701.5,2,   0.4124,2,  34.6627,2,  34.6580,2,   220.23,2,   220.65,2,  0.41235,2,    0.063,1,     -999,9,   99.800,1,   0.0080,1,    693.5,2
490S20190121  ,L013       ,50      ,  1,14         ,X10KY21    ,2,20190211,1407, -64.6670, 128.3745,     2471,    799.8,2,   0.3320,2,  34.6644,2,  34.6655,2,   220.19,2,   220.32,2,  0.33205,2,    0.063,1,     -999,9,   99.800,1,   0.0080,1,    790.5,2
490S20190121  ,L013       ,50      ,  1,13         ,X10KY18    ,2,20190211,1407, -64.6670, 128.3745,     2471,    998.8,2,   0.2658,2,  34.6695,2,  34.6682,2,   219.34,2,   218.94,2,  0.26576,2,    0.061,1,     -999,9,   99.828,1,   0.0069,1,    986.7,2
490S20190121  ,L013       ,50      ,  1,12         ,X10KY17    ,2,20190211,1407, -64.6670, 128.3745,     2471,   1199.5,2,   0.1579,2,  34.6694,2,  34.6681,2,   221.20,2,   221.11,2,  0.15817,2,    0.059,1,     -999,9,   99.828,1,   0.0069,1,   1184.4,2
490S20190121  ,L013       ,50      ,  1,11         ,X10KY16    ,2,20190211,1407, -64.6670, 128.3745,     2471,   1399.7,2,   0.0851,2,  34.6695,2,  34.6671,2,   222.95,2,   222.68,2,  0.08503,2,    0.057,1,     -999,9,   99.849,1,   0.0061,1,   1381.4,2
490S20190121  ,L013       ,50      ,  1,10         ,X10KY13    ,2,20190211,1407, -64.6670, 128.3745,     2471,   1602.0,2,  -0.0210,2,  34.6653,2,  34.6661,2,   226.56,2,   226.42,2, -0.02052,2,    0.058,1,     -999,9,   99.851,1,   0.0060,1,   1580.3,2
490S20190121  ,L013       ,50      ,  1,9          ,X10KY12    ,2,20190211,1407, -64.6670, 128.3745,     2471,   1801.2,2,  -0.1307,2,  34.6598,2,  34.6598,2,   231.04,2,   231.46,2, -0.13055,2,    0.056,1,     -999,9,   99.836,1,   0.0066,1,   1775.9,2
490S20190121  ,L013       ,50      ,  1,8          ,X10KY11    ,2,20190211,1407, -64.6670, 128.3745,     2471,   2098.7,2,  -0.2599,2,  34.6529,2,  34.6517,2,   236.55,2,   237.25,2, -0.26003,2,    0.056,1,     -999,9,   99.749,1,   0.0101,1,   2067.8,2
490S20190121  ,L013       ,50      ,  1,7          ,X10KY02    ,2,20190211,1407, -64.6670, 128.3745,     2471,   2300.6,2,  -0.2719,2,  34.6519,2,  34.6515,2,   237.86,2,   238.69,2, -0.27198,2,    0.054,1,     -999,9,   99.699,1,   0.0120,1,   2265.7,2
490S20190121  ,L013       ,50      ,  1,1          ,X10KY03    ,2,20190211,1407, -64.6670, 128.3745,     2471,   2516.5,2,  -0.2806,2,  34.6514,2,  34.6472,2,   239.32,2,   240.36,2, -0.28091,2,    0.055,1,     -999,9,   99.578,1,   0.0169,1,   2477.0,2