BOTTLE,20240503CCHHYDRO
EXPOCODE,SECT_ID,STNNBR,CASTNO,SAMPNO,BTLNBR,BTLNBR_FLAG_W,DATE,TIME,LATITUDE,LONGITUDE,DEPTH,CTDPRS,CTDPRS_FLAG_W,CTDTMP,CTDTMP_FLAG_W,CTDSAL,CTDSAL_FLAG_W,SALNTY,SALNTY_FLAG_W,CTDOXY,CTDOXY_FLAG_W,OXYGEN,OXYGEN_FLAG_W,REFTMP,REFTMP_FLAG_W,CTDFLUOR,CTDFLUOR_FLAG_W,PAR,PAR_FLAG_W,CTDXMISS,CTDXMISS_FLAG_W,CTDBEAMCP,CTDBEAMCP_FLAG_W,CTDDEPTH,CTDDEPTH_FLAG_W
,,,,,,,,,,,METERS,DBAR,,ITS-90,,PSS-78,,PSS-78,,UMOL/KG,,UMOL/KG,,ITS-90,,MG/M^3,,UMOL/M^2/SEC,,%TRANS,,/METER,,METERS,
490S20190121  ,L013       ,54      ,  1,24         ,X10KY35    ,2,20190212,1446, -63.2455, 128.3776,     4193,      9.2,2,   1.4902,2,  33.8981,2,  33.8993,2,   336.11,2,   334.86,2,  1.49001,2,    5.394,1,     -999,9,   87.428,1,   0.5374,1,      9.1,2
490S20190121  ,L013       ,54      ,  1,23         ,X10KY34    ,2,20190212,1446, -63.2455, 128.3776,     4193,     29.1,2,   1.4832,2,  33.9165,2,  33.9185,2,   334.58,2,   333.22,2,  1.48290,2,    4.995,1,     -999,9,   88.237,1,   0.5006,1,     28.8,2
490S20190121  ,L013       ,54      ,  1,22         ,X10KY33    ,2,20190212,1446, -63.2455, 128.3776,     4193,     69.4,2,   0.2540,2,  33.9980,2,  34.0066,2,   327.27,2,   327.47,2,  0.25178,2,    2.913,1,     -999,9,   92.013,1,   0.3330,1,     68.7,2
490S20190121  ,L013       ,54      ,  1,21         ,X10KY32    ,2,20190212,1446, -63.2455, 128.3776,     4193,    149.9,2,   1.8275,2,  34.5230,2,  34.5229,2,   179.47,2,   179.25,2,  1.82712,2,    0.094,1,     -999,9,   99.437,1,   0.0226,1,    148.4,2
490S20190121  ,L013       ,54      ,  1,20         ,X10KY31    ,2,20190212,1446, -63.2455, 128.3776,     4193,    200.0,2,   1.8804,2,  34.5709,2,  34.5761,2,   177.18,2,   176.69,2,  1.88135,2,    0.078,1,     -999,9,   99.466,1,   0.0214,1,    197.9,2
490S20190121  ,L013       ,54      ,  1,19         ,X10KY36    ,2,20190212,1446, -63.2455, 128.3776,     4193,    298.9,2,   1.8367,2,  34.6274,2,  34.6268,2,   178.35,2,   178.27,2,  1.83652,2,    0.073,1,     -999,9,   99.475,1,   0.0211,1,    295.8,2
490S20190121  ,L013       ,54      ,  1,18         ,X10KY28    ,2,20190212,1446, -63.2455, 128.3776,     4193,    398.7,2,   1.9399,2,  34.6839,2,  34.6840,2,   179.38,2,   180.06,2,  1.94083,2,    0.068,1,     -999,9,   99.685,1,   0.0126,1,    394.5,2
490S20190121  ,L013       ,54      ,  1,17         ,X10KY26    ,2,20190212,1446, -63.2455, 128.3776,     4193,    500.6,2,   1.8878,2,  34.7094,2,  34.7113,2,   183.98,2,   184.56,2,  1.88770,2,    0.067,1,     -999,9,   99.689,1,   0.0124,1,    495.2,2
490S20190121  ,L013       ,54      ,  1,16         ,X10KY24    ,2,20190212,1446, -63.2455, 128.3776,     4193,    600.6,2,   1.7377,2,  34.7101,2,  34.7095,2,   186.92,2,   186.94,2,  1.73764,2,    0.067,1,     -999,9,   99.663,1,   0.0135,1,    593.9,2
490S20190121  ,L013       ,54      ,  1,15         ,X10KY23    ,2,20190212,1446, -63.2455, 128.3776,     4193,    700.4,2,   1.6969,2,  34.7225,2,  34.7233,2,   190.27,2,   191.03,2,  1.69678,2,    0.064,1,     -999,9,   99.683,1,   0.0127,1,    692.5,2
490S20190121  ,L013       ,54      ,  1,14         ,X10KY21    ,2,20190212,1446, -63.2455, 128.3776,     4193,    799.3,2,   1.6127,2,  34.7264,2,  34.7225,2,   192.39,2,   193.03,2,  1.61272,2,    0.065,1,     -999,9,   99.671,1,   0.0132,1,    790.0,2
490S20190121  ,L013       ,54      ,  1,13         ,X10KY18    ,2,20190212,1446, -63.2455, 128.3776,     4193,    999.6,2,   1.5058,2,  34.7348,2,  34.7329,2,   197.18,2,   197.93,2,  1.50566,2,    0.061,1,     -999,9,   99.774,1,   0.0090,1,    987.5,2
490S20190121  ,L013       ,54      ,  1,12         ,X10KY17    ,2,20190212,1446, -63.2455, 128.3776,     4193,   1199.5,2,   1.3321,2,  34.7291,2,  34.7274,2,   200.11,2,   200.41,2,  1.33218,2,    0.059,1,     -999,9,   99.797,1,   0.0081,1,   1184.5,2
490S20190121  ,L013       ,54      ,  1,11         ,X10KY16    ,2,20190212,1446, -63.2455, 128.3776,     4193,   1398.6,2,   1.1750,2,  34.7229,2,  34.7209,2,   202.43,2,   202.40,2,  1.17499,2,    0.059,1,     -999,9,   99.811,1,   0.0075,1,   1380.5,2
490S20190121  ,L013       ,54      ,  1,10         ,X10KY13    ,2,20190212,1446, -63.2455, 128.3776,     4193,   1599.9,2,   1.0166,2,  34.7149,2,  34.7176,2,   204.60,2,   204.35,2,  1.01654,2,    0.057,1,     -999,9,   99.804,1,   0.0078,1,   1578.3,2
490S20190121  ,L013       ,54      ,  1,9          ,X10KY12    ,2,20190212,1446, -63.2455, 128.3776,     4193,   1799.3,2,   0.8756,2,  34.7069,2,  34.7097,2,   206.34,2,   205.99,2,  0.87569,2,    0.057,1,     -999,9,   99.815,1,   0.0074,1,   1774.2,2
490S20190121  ,L013       ,54      ,  1,8          ,X10KY11    ,2,20190212,1446, -63.2455, 128.3776,     4193,   2101.4,2,   0.6628,2,  34.6956,2,  34.6977,2,   210.13,2,   209.38,2,  0.66282,2,    0.055,1,     -999,9,   99.822,1,   0.0071,1,   2070.7,2
490S20190121  ,L013       ,54      ,  1,7          ,X10KY02    ,2,20190212,1446, -63.2455, 128.3776,     4193,   2398.8,2,   0.4729,2,  34.6850,2,  34.6851,2,   214.55,2,   213.59,2,  0.47303,2,    0.055,1,     -999,9,   99.825,1,   0.0070,1,   2362.1,2
490S20190121  ,L013       ,54      ,  1,5          ,X10KY08    ,2,20190212,1446, -63.2455, 128.3776,     4193,   2698.3,2,   0.3361,2,  34.6791,2,  34.6796,2,   218.36,2,   217.56,2,  0.33633,2,    0.054,1,     -999,9,   99.816,1,   0.0073,1,   2655.2,2
490S20190121  ,L013       ,54      ,  1,4          ,X10KY07    ,2,20190212,1446, -63.2455, 128.3776,     4193,   2999.6,2,   0.2159,2,  34.6729,2,  34.6755,2,   222.27,2,   221.88,2,  0.21598,2,    0.053,1,     -999,9,   99.812,1,   0.0075,1,   2949.6,2
490S20190121  ,L013       ,54      ,  1,3          ,X10KY06    ,2,20190212,1446, -63.2455, 128.3776,     4193,   3298.8,2,   0.1128,2,  34.6674,2,  34.6671,2,   225.99,2,   225.27,2,  0.11276,2,    0.052,1,     -999,9,   99.812,1,   0.0075,1,   3241.6,2
490S20190121  ,L013       ,54      ,  1,2          ,X10KY04    ,3,20190212,1446, -63.2455, 128.3776,     4193,   3599.0,2,   0.0046,2,  34.6598,2,  34.6614,2,   230.76,2,   230.59,2,  0.00470,2,    0.052,1,     -999,9,   99.795,1,   0.0082,1,   3534.1,2
490S20190121  ,L013       ,54      ,  1,1          ,X10KY03    ,3,20190212,1446, -63.2455, 128.3776,     4193,   4270.5,2,  -0.2368,2,  34.6440,2,  34.6451,2,   244.12,2,   245.29,2, -0.23685,2,    0.051,1,     -999,9,   99.109,1,   0.0358,1,   4187.1,2