BOTTLE,20240503CCHHYDRO
EXPOCODE,SECT_ID,STNNBR,CASTNO,SAMPNO,BTLNBR,BTLNBR_FLAG_W,DATE,TIME,LATITUDE,LONGITUDE,DEPTH,CTDPRS,CTDPRS_FLAG_W,CTDTMP,CTDTMP_FLAG_W,CTDSAL,CTDSAL_FLAG_W,SALNTY,SALNTY_FLAG_W,CTDOXY,CTDOXY_FLAG_W,OXYGEN,OXYGEN_FLAG_W,REFTMP,REFTMP_FLAG_W,CTDFLUOR,CTDFLUOR_FLAG_W,PAR,PAR_FLAG_W,CTDXMISS,CTDXMISS_FLAG_W,CTDBEAMCP,CTDBEAMCP_FLAG_W,CTDDEPTH,CTDDEPTH_FLAG_W
,,,,,,,,,,,METERS,DBAR,,ITS-90,,PSS-78,,PSS-78,,UMOL/KG,,UMOL/KG,,ITS-90,,MG/M^3,,UMOL/M^2/SEC,,%TRANS,,/METER,,METERS,
490S20190121  ,L016       ,41      ,  1,24         ,X10KY35    ,2,20190204,0601, -65.5441, 139.8626,     1144,      9.3,2,  -0.1578,2,  33.8660,2,     -999,9,   347.14,2,     -999,9, -0.15742,2,    0.338,1,     -999,9,   94.411,1,   0.2300,1,      9.2,2
490S20190121  ,L016       ,41      ,  1,23         ,X10KY34    ,2,20190204,0601, -65.5441, 139.8626,     1144,     51.0,2,  -0.5206,2,  33.9390,2,     -999,9,   340.05,2,     -999,9, -0.52286,2,    1.239,1,     -999,9,   95.642,1,   0.1782,1,     50.5,2
490S20190121  ,L016       ,41      ,  1,22         ,X10KY33    ,2,20190204,0601, -65.5441, 139.8626,     1144,    117.2,2,  -1.6741,2,  34.2942,2,     -999,9,   315.66,2,     -999,9, -1.67369,2,    0.189,1,     -999,9,   99.171,1,   0.0333,1,    116.0,2
490S20190121  ,L016       ,41      ,  1,21         ,X10KY32    ,2,20190204,0601, -65.5441, 139.8626,     1144,    150.0,2,  -1.6480,2,  34.3511,2,     -999,9,   308.09,2,     -999,9, -1.64787,2,    0.129,1,     -999,9,   99.460,1,   0.0217,1,    148.4,2
490S20190121  ,L016       ,41      ,  1,20         ,X10KY31    ,2,20190204,0601, -65.5441, 139.8626,     1144,    199.9,2,  -1.4961,2,  34.4252,2,     -999,9,   297.59,2,     -999,9, -1.49606,2,    0.089,1,     -999,9,   99.614,1,   0.0155,1,    197.8,2
490S20190121  ,L016       ,41      ,  1,19         ,X10KY36    ,2,20190204,0601, -65.5441, 139.8626,     1144,    298.9,2,  -1.0197,2,  34.5002,2,     -999,9,   277.91,2,     -999,9, -1.02014,2,    0.073,1,     -999,9,   99.662,1,   0.0135,1,    295.8,2
490S20190121  ,L016       ,41      ,  1,18         ,X10KY28    ,2,20190204,0601, -65.5441, 139.8626,     1144,    399.0,2,  -0.3585,2,  34.5770,2,     -999,9,   251.47,2,     -999,9, -0.35869,2,    0.068,1,     -999,9,   99.723,1,   0.0111,1,    394.7,2
490S20190121  ,L016       ,41      ,  1,17         ,X10KY26    ,2,20190204,0601, -65.5441, 139.8626,     1144,    500.8,2,   0.1227,2,  34.6344,2,     -999,9,   229.27,2,     -999,9,  0.12297,2,    0.064,1,     -999,9,   99.794,1,   0.0082,1,    495.2,2
490S20190121  ,L016       ,41      ,  1,16         ,X10KY24    ,2,20190204,0601, -65.5441, 139.8626,     1144,    599.4,2,   0.3118,2,  34.6593,2,     -999,9,   220.40,2,     -999,9,  0.31231,2,    0.064,1,     -999,9,   99.822,1,   0.0071,1,    592.6,2
490S20190121  ,L016       ,41      ,  1,15         ,X10KY23    ,2,20190204,0601, -65.5441, 139.8626,     1144,    700.3,2,   0.1844,2,  34.6552,2,     -999,9,   224.30,2,     -999,9,  0.17913,2,    0.067,1,     -999,9,   99.751,1,   0.0100,1,    692.2,2
490S20190121  ,L016       ,41      ,  1,14         ,X10KY21    ,2,20190204,0601, -65.5441, 139.8626,     1144,    800.6,2,  -0.1390,2,  34.6313,2,     -999,9,   235.96,2,     -999,9, -0.14142,2,    0.076,1,     -999,9,   99.577,1,   0.0169,1,    791.2,2
490S20190121  ,L016       ,41      ,  1,13         ,X10KY18    ,2,20190204,0601, -65.5441, 139.8626,     1144,    999.4,2,  -0.3285,2,  34.6235,2,     -999,9,   243.22,2,     -999,9, -0.32839,2,    0.075,1,     -999,9,   99.496,1,   0.0202,1,    987.2,2
490S20190121  ,L016       ,41      ,  1,1          ,X10KY03    ,2,20190204,0601, -65.5441, 139.8626,     1144,   1158.8,2,  -0.3842,2,  34.6293,2,     -999,9,   244.40,2,     -999,9, -0.38454,2,    0.069,1,     -999,9,   99.618,1,   0.0153,1,   1144.2,2
490S20190121  ,L016       ,42      ,  1,24         ,X10KY35    ,2,20190204,0750, -65.5653, 139.8460,      881,      9.4,2,  -0.0483,2,  33.9100,2,  33.9107,2,   345.87,2,   347.70,2, -0.04873,2,    0.774,1,     -999,9,   94.360,1,   0.2322,1,      9.3,2
490S20190121  ,L016       ,42      ,  1,23         ,X10KY34    ,2,20190204,0750, -65.5653, 139.8460,      881,     51.2,2,  -0.3420,2,  33.9251,2,  33.9297,2,   342.13,2,   344.63,2, -0.34040,2,    1.495,1,     -999,9,   94.837,1,   0.2121,1,     50.7,2
490S20190121  ,L016       ,42      ,  1,22         ,X10KY33    ,2,20190204,0750, -65.5653, 139.8460,      881,    123.0,2,  -1.7229,2,  34.3058,2,  34.3070,2,   314.96,2,   316.01,2, -1.72270,2,    0.157,1,     -999,9,   99.361,1,   0.0257,1,    121.8,2
490S20190121  ,L016       ,42      ,  1,21         ,X10KY32    ,2,20190204,0750, -65.5653, 139.8460,      881,    151.2,2,  -1.6674,2,  34.3509,2,  34.3498,2,   307.87,2,   308.14,2, -1.66797,2,    0.133,1,     -999,9,   99.499,1,   0.0201,1,    149.6,2
490S20190121  ,L016       ,42      ,  1,20         ,X10KY31    ,2,20190204,0750, -65.5653, 139.8460,      881,    197.5,2,  -1.5263,2,  34.4091,2,  34.4120,2,   298.19,2,   299.53,2, -1.52672,2,    0.099,1,     -999,9,   99.592,1,   0.0164,1,    195.4,2
490S20190121  ,L016       ,42      ,  1,19         ,X10KY36    ,2,20190204,0750, -65.5653, 139.8460,      881,    299.5,2,  -0.9343,2,  34.5114,2,  34.5125,2,   273.61,2,   274.22,2, -0.93438,2,    0.067,1,     -999,9,   99.710,1,   0.0116,1,    296.3,2
490S20190121  ,L016       ,42      ,  1,18         ,X10KY28    ,2,20190204,0750, -65.5653, 139.8460,      881,    400.4,2,  -0.4668,2,  34.5625,2,  34.5628,2,   254.41,2,   255.48,2, -0.46265,2,    0.067,1,     -999,9,   99.738,1,   0.0105,1,    396.0,2
490S20190121  ,L016       ,42      ,  1,17         ,X10KY26    ,2,20190204,0750, -65.5653, 139.8460,      881,    496.3,2,  -0.1310,2,  34.6107,2,  34.6123,2,   238.70,2,   240.93,2, -0.13261,2,    0.077,1,     -999,9,   99.549,1,   0.0181,1,    490.9,2
490S20190121  ,L016       ,42      ,  1,16         ,X10KY24    ,2,20190204,0750, -65.5653, 139.8460,      881,    599.2,2,  -0.3240,2,  34.6046,2,  34.6079,2,   244.74,2,   246.26,2, -0.32404,2,    0.083,1,     -999,9,   99.331,1,   0.0268,1,    592.5,2
490S20190121  ,L016       ,42      ,  1,15         ,X10KY23    ,2,20190204,0750, -65.5653, 139.8460,      881,    698.6,2,  -0.7402,2,  34.5857,2,  34.5873,2,   261.46,2,   263.57,2, -0.74050,2,    0.097,1,     -999,9,   99.035,1,   0.0388,1,    690.6,2
490S20190121  ,L016       ,42      ,  1,14         ,X10KY21    ,2,20190204,0750, -65.5653, 139.8460,      881,    797.0,2,  -0.7905,2,  34.5826,2,  34.5832,2,   263.71,2,   265.08,2, -0.79099,2,    0.099,1,     -999,9,   99.046,1,   0.0383,1,    787.7,2
490S20190121  ,L016       ,42      ,  1,1          ,X10KY03    ,2,20190204,0750, -65.5653, 139.8460,      881,    896.1,2,  -0.8081,2,  34.5809,2,  34.5826,2,   264.75,2,   265.69,2, -0.80818,2,    0.092,1,     -999,9,   99.047,1,   0.0383,1,    885.3,2
490S20190121  ,L016       ,43      ,  1,24         ,X10KY35    ,2,20190204,1008, -65.5822, 139.8484,      557,     10.2,2,  -0.2859,2,  33.8953,2,  33.8962,2,   346.90,2,   348.32,2, -0.28727,2,    1.008,1,     -999,9,   94.377,1,   0.2315,1,     10.1,2
490S20190121  ,L016       ,43      ,  1,23         ,X10KY34    ,2,20190204,1008, -65.5822, 139.8484,      557,     53.7,2,  -0.4668,2,  33.9516,2,  33.9581,2,   340.39,2,   341.94,2, -0.46704,2,    1.369,1,     -999,9,   95.727,1,   0.1747,1,     53.1,2
490S20190121  ,L016       ,43      ,  1,22         ,X10KY33    ,2,20190204,1008, -65.5822, 139.8484,      557,    109.1,2,  -1.7280,2,  34.2967,2,  34.3011,2,   315.82,2,   316.87,2, -1.72801,2,    0.182,1,     -999,9,   99.357,1,   0.0258,1,    108.0,2
490S20190121  ,L016       ,43      ,  1,21         ,X10KY32    ,2,20190204,1008, -65.5822, 139.8484,      557,    150.0,2,  -1.7072,2,  34.3517,2,  34.3535,2,   308.52,2,   309.08,2, -1.70742,2,    0.119,1,     -999,9,   99.533,1,   0.0187,1,    148.5,2
490S20190121  ,L016       ,43      ,  1,20         ,X10KY31    ,2,20190204,1008, -65.5822, 139.8484,      557,    200.3,2,  -1.5653,2,  34.4205,2,  34.4226,2,   300.04,2,   300.49,2, -1.56557,2,    0.084,1,     -999,9,   99.678,1,   0.0129,1,    198.3,2
490S20190121  ,L016       ,43      ,  1,19         ,X10KY36    ,2,20190204,1008, -65.5822, 139.8484,      557,    300.8,2,  -0.9183,2,  34.5126,2,  34.5129,2,   272.59,2,   273.91,2, -0.91794,2,    0.074,1,     -999,9,   99.607,1,   0.0157,1,    297.6,2
490S20190121  ,L016       ,43      ,  1,18         ,X10KY28    ,2,20190204,1008, -65.5822, 139.8484,      557,    400.0,2,  -0.6697,2,  34.5432,2,  34.5459,2,   261.64,2,   263.03,2, -0.67568,2,    0.092,1,     -999,9,   99.305,1,   0.0279,1,    395.6,2
490S20190121  ,L016       ,43      ,  1,17         ,X10KY26    ,2,20190204,1008, -65.5822, 139.8484,      557,    501.8,2,  -0.6072,2,  34.5812,2,  34.5851,2,   258.13,2,   259.32,2, -0.61059,2,    0.098,1,     -999,9,   99.240,1,   0.0305,1,    496.2,2
490S20190121  ,L016       ,43      ,  1,1          ,X10KY03    ,2,20190204,1008, -65.5822, 139.8484,      557,    558.7,2,  -0.6306,2,  34.5806,2,  34.5810,2,   258.82,2,   259.83,2, -0.63123,2,    0.091,1,     -999,9,   99.234,1,   0.0308,1,    552.5,2
490S20190121  ,L016       ,44      ,  1,24         ,X10KY35    ,2,20190204,1312, -65.7170, 139.8461,      293,      9.4,2,  -0.0679,2,  33.9216,2,  33.9248,2,   348.72,2,   349.23,2, -0.06822,2,    1.028,1,     -999,9,   94.383,1,   0.2312,1,      9.3,2
490S20190121  ,L016       ,44      ,  1,23         ,X10KY34    ,2,20190204,1312, -65.7170, 139.8461,      293,     53.8,2,  -0.3435,2,  33.9550,2,  33.9608,2,   346.46,2,   345.97,2, -0.34607,2,    1.480,1,     -999,9,   93.961,1,   0.2492,1,     53.2,2
490S20190121  ,L016       ,44      ,  1,22         ,X10KY33    ,2,20190204,1312, -65.7170, 139.8461,      293,     97.0,2,  -1.7097,2,  34.3492,2,  34.3472,2,   310.36,2,   310.24,2, -1.70934,2,    0.133,1,     -999,9,   99.421,1,   0.0232,1,     96.0,2
490S20190121  ,L016       ,44      ,  1,21         ,X10KY32    ,2,20190204,1312, -65.7170, 139.8461,      293,    149.6,2,  -1.4416,2,  34.4386,2,  34.4404,2,   296.15,2,   295.85,2, -1.44212,2,    0.093,1,     -999,9,   99.511,1,   0.0196,1,    148.1,2
490S20190121  ,L016       ,44      ,  1,20         ,X10KY31    ,2,20190204,1312, -65.7170, 139.8461,      293,    201.4,2,  -1.2422,2,  34.4839,2,  34.4852,2,   287.19,2,   287.00,2, -1.24223,2,    0.104,1,     -999,9,   99.364,1,   0.0256,1,    199.3,2
490S20190121  ,L016       ,44      ,  1,1          ,X10KY03    ,2,20190204,1312, -65.7170, 139.8461,      293,    288.1,2,  -1.2834,2,  34.5505,2,  34.5508,2,   286.92,2,   286.48,2, -1.28375,2,    0.098,1,     -999,9,   99.004,1,   0.0400,1,    285.0,2
490S20190121  ,L016       ,45      ,  1,24         ,X10KY35    ,2,20190204,1613, -65.8512, 139.8458,      199,      9.5,2,  -0.4969,2,  33.9308,2,  33.9328,2,   351.76,2,   351.33,2, -0.49680,2,    1.417,1,     -999,9,   93.956,1,   0.2494,1,      9.4,2
490S20190121  ,L016       ,45      ,  1,23         ,X10KY34    ,2,20190204,1613, -65.8512, 139.8458,      199,     38.2,2,  -0.5506,2,  33.9616,2,  33.9571,2,   349.09,2,   348.91,2, -0.54934,2,    1.702,1,     -999,9,   93.882,1,   0.2525,1,     37.8,2
490S20190121  ,L016       ,45      ,  1,22         ,X10KY33    ,2,20190204,1613, -65.8512, 139.8458,      199,    100.2,2,  -1.3709,2,  34.4059,2,  34.4035,2,   311.42,2,   310.88,2, -1.37075,2,    0.394,1,     -999,9,   98.266,1,   0.0700,1,     99.1,2
490S20190121  ,L016       ,45      ,  1,21         ,X10KY32    ,2,20190204,1613, -65.8512, 139.8458,      199,    150.5,2,  -1.4058,2,  34.5207,2,  34.5231,2,   295.12,2,   293.86,2, -1.40575,2,    0.123,1,     -999,9,   98.829,1,   0.0471,1,    149.0,2
490S20190121  ,L016       ,45      ,  1,1          ,X10KY03    ,2,20190204,1613, -65.8512, 139.8458,      199,    194.5,2,  -1.5415,2,  34.5516,2,  34.5504,2,   299.69,2,   298.14,2, -1.54123,2,    0.128,1,     -999,9,   98.373,1,   0.0656,1,    192.5,2
490S20190121  ,L013       ,46      ,  1,20         ,X10KY31    ,2,20190209,0704, -65.1935, 128.3690,      575,      4.2,2,  -1.2868,2,  33.2759,2,     -999,9,   365.21,2,     -999,9, -1.28645,2,    1.261,1,   73.382,1,   94.256,1,   0.2366,1,      4.2,2
490S20190121  ,L013       ,46      ,  1,19         ,X10KY36    ,2,20190209,0704, -65.1935, 128.3690,      575,      9.9,2,  -1.2840,2,  33.2854,2,     -999,9,   365.29,2,     -999,9, -1.28356,2,    1.369,1,   34.555,1,   94.363,1,   0.2321,1,      9.8,2
490S20190121  ,L013       ,46      ,  1,10         ,X10KY13    ,2,20190209,0704, -65.1935, 128.3690,      575,      9.9,2,  -1.2890,2,  33.2812,2,  33.2824,2,   365.13,2,   363.15,2, -1.28871,2,    1.534,1,   35.862,1,   94.440,1,   0.2288,1,      9.8,2
490S20190121  ,L013       ,46      ,  1,17         ,X10KY26    ,2,20190209,0704, -65.1935, 128.3690,      575,     30.6,2,  -1.2754,2,  33.2925,2,     -999,9,   365.42,2,     -999,9, -1.27494,2,    1.889,1,    5.081,1,   94.181,1,   0.2398,1,     30.3,2
490S20190121  ,L013       ,46      ,  1,16         ,X10KY24    ,2,20190209,0704, -65.1935, 128.3690,      575,     49.5,2,  -1.2229,2,  33.3967,2,     -999,9,   362.65,2,     -999,9, -1.22732,2,    3.735,1,    0.804,1,   92.376,1,   0.3172,1,     49.0,2
490S20190121  ,L013       ,46      ,  1,9          ,X10KY12    ,2,20190209,0704, -65.1935, 128.3690,      575,     62.0,2,  -0.8932,2,  33.4835,2,  33.4844,2,   369.06,2,   365.79,2, -0.89405,2,    5.677,1,    0.331,1,   89.451,1,   0.4460,1,     61.3,2
490S20190121  ,L013       ,46      ,  1,15         ,X10KY23    ,2,20190209,0704, -65.1935, 128.3690,      575,    100.0,2,  -1.1967,2,  33.9210,2,     -999,9,   338.50,2,     -999,9, -1.19685,2,    0.567,1,    0.200,1,   97.631,1,   0.0959,1,     99.0,2
490S20190121  ,L013       ,46      ,  1,8          ,X10KY11    ,2,20190209,0704, -65.1935, 128.3690,      575,    100.2,2,  -1.1979,2,  33.9259,2,  33.9275,2,   337.99,2,   337.23,2, -1.19742,2,    0.633,1,    0.200,1,   97.639,1,   0.0956,1,     99.2,2
490S20190121  ,L013       ,46      ,  1,14         ,X10KY21    ,2,20190209,0704, -65.1935, 128.3690,      575,    149.4,2,  -1.6341,2,  34.1995,2,     -999,9,   321.92,2,     -999,9, -1.63406,2,    0.333,1,    0.197,1,   98.528,1,   0.0593,1,    147.9,2
490S20190121  ,L013       ,46      ,  1,7          ,X10KY02    ,2,20190209,0704, -65.1935, 128.3690,      575,    149.6,2,  -1.6327,2,  34.1994,2,  34.1973,2,   321.99,2,   321.01,2, -1.63276,2,    0.394,1,    0.198,1,   98.574,1,   0.0574,1,    148.1,2
490S20190121  ,L013       ,46      ,  1,13         ,X10KY18    ,2,20190209,0704, -65.1935, 128.3690,      575,    199.0,2,  -1.8060,2,  34.2518,2,     -999,9,   321.07,2,     -999,9, -1.80570,2,    0.142,1,    0.198,1,   99.372,1,   0.0252,1,    197.0,2
490S20190121  ,L013       ,46      ,  1,5          ,X10KY08    ,2,20190209,0704, -65.1935, 128.3690,      575,    199.5,2,  -1.8071,2,  34.2529,2,  34.2503,2,   321.09,2,   319.28,2, -1.80692,2,    0.127,1,    0.198,1,   99.393,1,   0.0244,1,    197.4,2
490S20190121  ,L013       ,46      ,  1,4          ,X10KY07    ,2,20190209,0704, -65.1935, 128.3690,      575,    300.3,2,  -1.8145,2,  34.3119,2,  34.3115,2,   323.93,2,   322.57,2, -1.81404,2,    0.087,1,    0.198,1,   99.576,1,   0.0170,1,    297.1,2
490S20190121  ,L013       ,46      ,  1,3          ,X10KY06    ,2,20190209,0704, -65.1935, 128.3690,      575,    401.5,2,  -1.6335,2,  34.3781,2,  34.3774,2,   315.18,2,   314.21,2, -1.63308,2,    0.084,1,    0.198,1,   99.568,1,   0.0173,1,    397.2,2
490S20190121  ,L013       ,46      ,  1,2          ,X10KY04    ,2,20190209,0704, -65.1935, 128.3690,      575,    499.7,2,  -0.3012,2,  34.5742,2,  34.5830,2,   251.22,2,   248.13,2, -0.30112,2,    0.066,1,    0.199,1,   99.637,1,   0.0145,1,    494.2,2
490S20190121  ,L013       ,46      ,  1,1          ,X10KY03    ,2,20190209,0704, -65.1935, 128.3690,      575,    605.4,2,  -0.0749,2,  34.6504,2,  34.6515,2,   231.52,2,   229.64,2, -0.07458,2,    0.065,1,    0.201,1,   99.674,1,   0.0131,1,    598.6,2