BOTTLE,20240503CCHHYDRO
EXPOCODE,SECT_ID,STNNBR,CASTNO,SAMPNO,BTLNBR,BTLNBR_FLAG_W,DATE,TIME,LATITUDE,LONGITUDE,DEPTH,CTDPRS,CTDPRS_FLAG_W,CTDTMP,CTDTMP_FLAG_W,CTDSAL,CTDSAL_FLAG_W,SALNTY,SALNTY_FLAG_W,CTDOXY,CTDOXY_FLAG_W,OXYGEN,OXYGEN_FLAG_W,REFTMP,REFTMP_FLAG_W,CTDFLUOR,CTDFLUOR_FLAG_W,PAR,PAR_FLAG_W,CTDXMISS,CTDXMISS_FLAG_W,CTDBEAMCP,CTDBEAMCP_FLAG_W,CTDDEPTH,CTDDEPTH_FLAG_W
,,,,,,,,,,,METERS,DBAR,,ITS-90,,PSS-78,,PSS-78,,UMOL/KG,,UMOL/KG,,ITS-90,,MG/M^3,,UMOL/M^2/SEC,,%TRANS,,/METER,,METERS,
490S20190121  ,L016       ,34      ,  1,24         ,X10KY35    ,2,20190203,0055, -63.8984, 139.8522,     3683,      9.5,2,   2.2028,2,  33.8727,2,  33.8756,2,   337.56,2,   336.00,2,  2.20022,2,    0.512,1,     -999,9,   93.343,1,   0.2756,1,      9.4,2
490S20190121  ,L016       ,34      ,  1,21         ,X10KY32    ,2,20190203,0055, -63.8984, 139.8522,     3683,     38.9,2,   1.6165,2,  33.8859,2,  33.8934,2,   339.11,2,   337.36,2,  1.60452,2,    4.406,1,     -999,9,   89.897,1,   0.4260,1,     38.5,2
490S20190121  ,L016       ,34      ,  1,23         ,X10KY34    ,2,20190203,0055, -63.8984, 139.8522,     3683,     67.2,2,  -0.2287,2,  34.1427,2,  34.1552,2,   291.34,2,   286.13,2, -0.23045,2,    0.513,1,     -999,9,   98.075,1,   0.0777,1,     66.6,2
490S20190121  ,L016       ,34      ,  1,22         ,X10KY33    ,2,20190203,0055, -63.8984, 139.8522,     3683,     99.8,2,   1.0547,2,  34.4091,2,  34.4163,2,   214.11,2,   208.92,2,  1.03125,2,    0.152,1,     -999,9,   99.213,1,   0.0316,1,     98.8,2
490S20190121  ,L016       ,34      ,  1,20         ,X10KY31    ,2,20190203,0055, -63.8984, 139.8522,     3683,    198.8,2,   1.9550,2,  34.6003,2,  34.6014,2,   175.16,2,   174.11,2,  1.95566,2,    0.078,1,     -999,9,   99.586,1,   0.0166,1,    196.8,2
490S20190121  ,L016       ,34      ,  1,19         ,X10KY36    ,3,20190203,0055, -63.8984, 139.8522,     3683,    296.8,2,   1.9194,2,  34.6534,2,  34.6502,2,   178.22,2,   175.46,2,  1.91866,2,    0.071,1,     -999,9,   99.656,1,   0.0138,1,    293.7,2
490S20190121  ,L016       ,34      ,  1,18         ,X10KY28    ,2,20190203,0055, -63.8984, 139.8522,     3683,    398.7,2,   1.9597,2,  34.6951,2,  34.6912,2,   180.82,2,   179.70,2,  1.95986,2,    0.068,1,     -999,9,   99.767,1,   0.0093,1,    394.4,2
490S20190121  ,L016       ,34      ,  1,17         ,X10KY26    ,2,20190203,0055, -63.8984, 139.8522,     3683,    500.5,2,   1.8696,2,  34.7105,2,  34.7072,2,   184.95,2,   184.97,2,  1.86975,2,    0.068,1,     -999,9,   99.747,1,   0.0102,1,    495.0,2
490S20190121  ,L016       ,34      ,  1,16         ,X10KY24    ,2,20190203,0055, -63.8984, 139.8522,     3683,    598.1,2,   1.8398,2,  34.7263,2,  34.7264,2,   188.46,2,   188.50,2,  1.83952,2,    0.067,1,     -999,9,   99.733,1,   0.0107,1,    591.4,2
490S20190121  ,L016       ,34      ,  1,15         ,X10KY23    ,2,20190203,0055, -63.8984, 139.8522,     3683,    699.6,2,   1.7518,2,  34.7309,2,  34.7323,2,   191.07,2,   190.98,2,  1.75242,2,    0.066,1,     -999,9,   99.763,1,   0.0095,1,    691.6,2
490S20190121  ,L016       ,34      ,  1,14         ,X10KY21    ,2,20190203,0055, -63.8984, 139.8522,     3683,    794.6,2,   1.6820,2,  34.7365,2,  34.7331,2,   193.87,2,   193.97,2,  1.68224,2,    0.066,1,     -999,9,   99.818,1,   0.0073,1,    785.3,2
490S20190121  ,L016       ,34      ,  1,13         ,X10KY18    ,2,20190203,0055, -63.8984, 139.8522,     3683,    999.3,2,   1.5023,2,  34.7363,2,  34.7353,2,   198.00,2,   197.63,2,  1.50275,2,    0.063,1,     -999,9,   99.876,1,   0.0050,1,    987.2,2
490S20190121  ,L016       ,34      ,  1,12         ,X10KY17    ,2,20190203,0055, -63.8984, 139.8522,     3683,   1193.0,2,   1.3058,2,  34.7286,2,  34.7260,2,   200.94,2,   200.33,2,  1.30642,2,    0.061,1,     -999,9,   99.890,1,   0.0044,1,   1178.0,2
490S20190121  ,L016       ,34      ,  1,11         ,X10KY16    ,2,20190203,0055, -63.8984, 139.8522,     3683,   1398.3,2,   1.0850,2,  34.7162,2,  34.7138,2,   204.17,2,   203.79,2,  1.08558,2,    0.059,1,     -999,9,   99.897,1,   0.0041,1,   1380.0,2
490S20190121  ,L016       ,34      ,  1,10         ,X10KY13    ,2,20190203,0055, -63.8984, 139.8522,     3683,   1594.6,2,   0.9410,2,  34.7116,2,  34.7129,2,   205.83,2,   205.15,2,  0.94155,2,    0.058,1,     -999,9,   99.907,1,   0.0037,1,   1573.1,2
490S20190121  ,L016       ,34      ,  1,9          ,X10KY12    ,2,20190203,0055, -63.8984, 139.8522,     3683,   1790.6,2,   0.7894,2,  34.7033,2,  34.7040,2,   208.00,2,   206.97,2,  0.78970,2,    0.057,1,     -999,9,   99.907,1,   0.0037,1,   1765.6,2
490S20190121  ,L016       ,34      ,  1,8          ,X10KY11    ,2,20190203,0055, -63.8984, 139.8522,     3683,   2097.2,2,   0.5553,2,  34.6913,2,  34.6920,2,   212.68,2,   211.29,2,  0.55552,2,    0.057,1,     -999,9,   99.911,1,   0.0035,1,   2066.5,2
490S20190121  ,L016       ,34      ,  1,7          ,X10KY02    ,2,20190203,0055, -63.8984, 139.8522,     3683,   2396.1,2,   0.3520,2,  34.6796,2,  34.6806,2,   217.76,2,   215.96,2,  0.35218,2,    0.056,1,     -999,9,   99.913,1,   0.0035,1,   2359.3,2
490S20190121  ,L016       ,34      ,  1,5          ,X10KY08    ,2,20190203,0055, -63.8984, 139.8522,     3683,   2700.8,2,   0.2327,2,  34.6751,2,  34.6732,2,   221.29,2,   219.63,2,  0.23278,2,    0.055,1,     -999,9,   99.921,1,   0.0032,1,   2657.5,2
490S20190121  ,L016       ,34      ,  1,4          ,X10KY07    ,2,20190203,0055, -63.8984, 139.8522,     3683,   2998.0,2,   0.0996,2,  34.6687,2,  34.6643,2,   226.07,2,   224.59,2,  0.09973,2,    0.054,1,     -999,9,   99.905,1,   0.0038,1,   2947.8,2
490S20190121  ,L016       ,34      ,  1,3          ,X10KY06    ,2,20190203,0055, -63.8984, 139.8522,     3683,   3301.8,2,  -0.0316,2,  34.6632,2,  34.6649,2,   231.35,2,   230.10,2, -0.03150,2,    0.054,1,     -999,9,   99.889,1,   0.0045,1,   3244.3,2
490S20190121  ,L016       ,34      ,  1,2          ,X10KY04    ,2,20190203,0055, -63.8984, 139.8522,     3683,   3503.0,2,  -0.1188,2,  34.6614,2,  34.6580,2,   235.43,2,   234.83,2, -0.11879,2,    0.053,1,     -999,9,   99.831,1,   0.0067,1,   3440.4,2
490S20190121  ,L016       ,34      ,  1,1          ,X10KY03    ,2,20190203,0055, -63.8984, 139.8522,     3683,   3736.8,2,  -0.3797,2,  34.6389,2,  34.6429,2,   248.80,2,   249.01,2, -0.38010,2,    0.053,1,     -999,9,   99.069,1,   0.0374,1,   3668.1,2
490S20190121  ,L016       ,35      ,  1,24         ,X10KY35    ,2,20190203,0624, -64.2985, 139.8546,     3403,     10.9,2,   2.6090,2,  33.8570,2,  33.8596,2,   334.57,2,   333.69,2,  2.60884,2,    1.004,1,     -999,9,   91.215,1,   0.3678,1,     10.8,2
490S20190121  ,L016       ,35      ,  1,23         ,X10KY34    ,2,20190203,0624, -64.2985, 139.8546,     3403,     41.3,2,   0.7084,2,  33.9076,2,  33.9030,2,   340.19,2,   336.01,2,  0.68999,2,    3.971,1,     -999,9,   90.348,1,   0.4060,1,     40.9,2
490S20190121  ,L016       ,35      ,  1,2          ,X10KY04    ,2,20190203,0624, -64.2985, 139.8546,     3403,     60.2,2,  -0.7919,2,  34.0673,2,  34.0739,2,   311.88,2,   309.05,2, -0.79057,2,    0.403,1,     -999,9,   98.577,1,   0.0573,1,     59.6,2
490S20190121  ,L016       ,35      ,  1,22         ,X10KY33    ,2,20190203,0624, -64.2985, 139.8546,     3403,     99.3,2,   1.3561,2,  34.4368,2,  34.4400,2,   198.74,2,   195.30,2,  1.35593,2,    0.130,1,     -999,9,   99.402,1,   0.0240,1,     98.3,2
490S20190121  ,L016       ,35      ,  1,21         ,X10KY32    ,2,20190203,0624, -64.2985, 139.8546,     3403,    150.4,2,   1.9033,2,  34.5645,2,  34.5651,2,   176.05,2,   174.63,2,  1.90318,2,    0.083,1,     -999,9,   99.569,1,   0.0173,1,    148.9,2
490S20190121  ,L016       ,35      ,  1,20         ,X10KY31    ,2,20190203,0624, -64.2985, 139.8546,     3403,    196.7,2,   2.0080,2,  34.6085,2,  34.6087,2,   174.05,2,   172.32,2,  2.00877,2,    0.075,1,     -999,9,   99.599,1,   0.0161,1,    194.7,2
490S20190121  ,L016       ,35      ,  1,19         ,X10KY36    ,3,20190203,0624, -64.2985, 139.8546,     3403,    301.4,2,   1.9988,2,  34.6689,2,  34.6673,2,   177.63,2,   177.40,2,  1.99863,2,    0.070,1,     -999,9,   99.702,1,   0.0119,1,    298.3,2
490S20190121  ,L016       ,35      ,  1,18         ,X10KY28    ,2,20190203,0624, -64.2985, 139.8546,     3403,    400.0,2,   1.8057,2,  34.6852,2,  34.6877,2,   182.49,2,   182.29,2,  1.80593,2,    0.070,1,     -999,9,   99.709,1,   0.0117,1,    395.8,2
490S20190121  ,L016       ,35      ,  1,17         ,X10KY26    ,2,20190203,0624, -64.2985, 139.8546,     3403,    499.2,2,   1.8741,2,  34.7204,2,  34.7219,2,   186.40,2,   185.50,2,  1.87433,2,    0.067,1,     -999,9,   99.769,1,   0.0092,1,    493.7,2
490S20190121  ,L016       ,35      ,  1,16         ,X10KY24    ,2,20190203,0624, -64.2985, 139.8546,     3403,    598.2,2,   1.8278,2,  34.7343,2,  34.7351,2,   190.42,2,   191.30,2,  1.82726,2,    0.065,1,     -999,9,   99.799,1,   0.0081,1,    591.5,2
490S20190121  ,L016       ,35      ,  1,15         ,X10KY23    ,2,20190203,0624, -64.2985, 139.8546,     3403,    700.3,2,   1.6817,2,  34.7339,2,  34.7361,2,   192.79,2,   190.95,2,  1.68156,2,    0.065,1,     -999,9,   99.818,1,   0.0073,1,    692.3,2
490S20190121  ,L016       ,35      ,  1,14         ,X10KY21    ,2,20190203,0624, -64.2985, 139.8546,     3403,    800.5,2,   1.5746,2,  34.7345,2,  34.7357,2,   195.28,2,   195.38,2,  1.57477,2,    0.065,1,     -999,9,   99.836,1,   0.0066,1,    791.2,2
490S20190121  ,L016       ,35      ,  1,13         ,X10KY18    ,2,20190203,0624, -64.2985, 139.8546,     3403,    998.8,2,   1.3845,2,  34.7306,2,  34.7313,2,   199.09,2,   199.32,2,  1.38455,2,    0.062,1,     -999,9,   99.855,1,   0.0058,1,    986.7,2
490S20190121  ,L016       ,35      ,  1,12         ,X10KY17    ,2,20190203,0624, -64.2985, 139.8546,     3403,   1201.5,2,   1.1290,2,  34.7152,2,  34.7136,2,   203.85,2,   203.93,2,  1.12847,2,    0.060,1,     -999,9,   99.865,1,   0.0054,1,   1186.4,2
490S20190121  ,L016       ,35      ,  1,11         ,X10KY16    ,3,20190203,0624, -64.2985, 139.8546,     3403,   1398.1,2,   0.9552,2,  34.7077,2,  34.7081,2,   205.89,2,   204.89,2,  0.95510,2,    0.059,1,     -999,9,   99.902,1,   0.0039,1,   1379.8,2
490S20190121  ,L016       ,35      ,  1,10         ,X10KY13    ,2,20190203,0624, -64.2985, 139.8546,     3403,   1599.5,2,   0.7985,2,  34.7032,2,  34.7034,2,   207.73,2,   206.32,2,  0.79904,2,    0.058,1,     -999,9,   99.883,1,   0.0047,1,   1577.8,2
490S20190121  ,L016       ,35      ,  1,9          ,X10KY12    ,2,20190203,0624, -64.2985, 139.8546,     3403,   1801.0,2,   0.6007,2,  34.6920,2,  34.6932,2,   211.19,2,   210.59,2,  0.60114,2,    0.058,1,     -999,9,   99.903,1,   0.0039,1,   1775.8,2
490S20190121  ,L016       ,35      ,  1,8          ,X10KY11    ,2,20190203,0624, -64.2985, 139.8546,     3403,   2099.3,2,   0.4129,2,  34.6845,2,  34.6865,2,   215.31,2,   214.24,2,  0.41305,2,    0.057,1,     -999,9,   99.920,1,   0.0032,1,   2068.5,2
490S20190121  ,L016       ,35      ,  1,7          ,X10KY02    ,2,20190203,0624, -64.2985, 139.8546,     3403,   2400.5,2,   0.2462,2,  34.6766,2,  34.6755,2,   220.02,2,   219.29,2,  0.24648,2,    0.056,1,     -999,9,   99.916,1,   0.0034,1,   2363.6,2
490S20190121  ,L016       ,35      ,  1,5          ,X10KY08    ,2,20190203,0624, -64.2985, 139.8546,     3403,   2699.3,2,   0.1090,2,  34.6693,2,  34.6714,2,   224.64,2,   224.09,2,  0.10912,2,    0.055,1,     -999,9,   99.914,1,   0.0034,1,   2655.9,2
490S20190121  ,L016       ,35      ,  1,4          ,X10KY07    ,2,20190203,0624, -64.2985, 139.8546,     3403,   3001.4,2,  -0.0753,2,  34.6602,2,  34.6608,2,   232.49,2,   231.78,2, -0.07493,2,    0.054,1,     -999,9,   99.851,1,   0.0060,1,   2951.1,2
490S20190121  ,L016       ,35      ,  1,3          ,X10KY06    ,2,20190203,0624, -64.2985, 139.8546,     3403,   3298.0,2,  -0.2108,2,  34.6587,2,  34.6570,2,   238.34,2,   238.68,2, -0.21087,2,    0.054,1,     -999,9,   99.633,1,   0.0147,1,   3240.5,2
490S20190121  ,L016       ,35      ,  1,1          ,X10KY03    ,2,20190203,0624, -64.2985, 139.8546,     3403,   3452.7,2,  -0.2657,2,  34.6529,2,  34.6533,2,   241.75,2,   242.30,2, -0.26564,2,    0.054,1,     -999,9,   99.567,1,   0.0173,1,   3391.4,2
490S20190121  ,L016       ,36      ,  1,24         ,X10KY35    ,2,20190203,1146, -64.6988, 139.8487,     2902,      9.7,2,   1.2175,2,  33.9194,2,  33.9201,2,   341.07,2,   340.33,2,  1.21858,2,    1.586,1,     -999,9,   93.697,1,   0.2604,1,      9.6,2
490S20190121  ,L016       ,36      ,  1,23         ,X10KY34    ,2,20190203,1146, -64.6988, 139.8487,     2902,     46.7,2,  -0.3446,2,  34.0377,2,  34.0480,2,   334.16,2,   335.13,2, -0.36581,2,    2.172,1,     -999,9,   94.653,1,   0.2198,1,     46.2,2
490S20190121  ,L016       ,36      ,  1,22         ,X10KY33    ,2,20190203,1146, -64.6988, 139.8487,     2902,     96.0,2,  -1.7851,2,  34.2939,2,  34.2968,2,   321.06,2,   319.63,2, -1.78439,2,    0.174,1,     -999,9,   99.372,1,   0.0252,1,     95.0,2
490S20190121  ,L016       ,36      ,  1,21         ,X10KY32    ,2,20190203,1146, -64.6988, 139.8487,     2902,    150.0,2,  -1.4397,2,  34.3606,2,  34.3623,2,   300.93,2,   299.01,2, -1.44319,2,    0.107,1,     -999,9,   99.593,1,   0.0163,1,    148.5,2
490S20190121  ,L016       ,36      ,  1,20         ,X10KY31    ,2,20190203,1146, -64.6988, 139.8487,     2902,    200.4,2,  -0.2846,2,  34.4897,2,  34.4905,2,   253.58,2,   252.94,2, -0.28394,2,    0.094,1,     -999,9,   99.578,1,   0.0169,1,    198.3,2
490S20190121  ,L016       ,36      ,  1,19         ,X10KY36    ,2,20190203,1146, -64.6988, 139.8487,     2902,    299.2,2,   0.2997,2,  34.5868,2,  34.5891,2,   232.17,2,   231.94,2,  0.30139,2,    0.068,1,     -999,9,   99.620,1,   0.0152,1,    296.1,2
490S20190121  ,L016       ,36      ,  1,18         ,X10KY28    ,2,20190203,1146, -64.6988, 139.8487,     2902,    399.9,2,   0.8408,2,  34.6580,2,  34.6578,2,   214.66,2,   215.08,2,  0.84135,2,    0.065,1,     -999,9,   99.762,1,   0.0095,1,    395.6,2
490S20190121  ,L016       ,36      ,  1,17         ,X10KY26    ,2,20190203,1146, -64.6988, 139.8487,     2902,    501.0,2,   0.9326,2,  34.6835,2,  34.6857,2,   209.45,2,   208.62,2,  0.93163,2,    0.064,1,     -999,9,   99.807,1,   0.0077,1,    495.5,2
490S20190121  ,L016       ,36      ,  1,16         ,X10KY24    ,2,20190203,1146, -64.6988, 139.8487,     2902,    600.9,2,   0.9467,2,  34.6933,2,  34.6952,2,   208.63,2,   208.44,2,  0.94679,2,    0.065,1,     -999,9,   99.837,1,   0.0065,1,    594.2,2
490S20190121  ,L016       ,36      ,  1,15         ,X10KY23    ,2,20190203,1146, -64.6988, 139.8487,     2902,    698.4,2,   0.8935,2,  34.6968,2,  34.6983,2,   208.02,2,   207.67,2,  0.89341,2,    0.064,1,     -999,9,   99.844,1,   0.0063,1,    690.4,2
490S20190121  ,L016       ,36      ,  1,14         ,X10KY21    ,2,20190203,1146, -64.6988, 139.8487,     2902,    798.2,2,   0.7974,2,  34.6933,2,  34.6960,2,   209.17,2,   208.84,2,  0.79679,2,    0.063,1,     -999,9,   99.867,1,   0.0053,1,    788.9,2
490S20190121  ,L016       ,36      ,  1,13         ,X10KY18    ,2,20190203,1146, -64.6988, 139.8487,     2902,    997.9,2,   0.6760,2,  34.6924,2,  34.6930,2,   209.83,2,   209.39,2,  0.67598,2,    0.061,1,     -999,9,   99.884,1,   0.0046,1,    985.7,2
490S20190121  ,L016       ,36      ,  1,12         ,X10KY17    ,2,20190203,1146, -64.6988, 139.8487,     2902,   1198.7,2,   0.5425,2,  34.6869,2,  34.6899,2,   211.93,2,   211.48,2,  0.54232,2,    0.059,1,     -999,9,   99.891,1,   0.0044,1,   1183.5,2
490S20190121  ,L016       ,36      ,  1,11         ,X10KY16    ,2,20190203,1146, -64.6988, 139.8487,     2902,   1401.7,2,   0.3871,2,  34.6808,2,  34.6822,2,   214.59,2,   213.87,2,  0.38730,2,    0.059,1,     -999,9,   99.915,1,   0.0034,1,   1383.4,2
490S20190121  ,L016       ,36      ,  1,10         ,X10KY13    ,2,20190203,1146, -64.6988, 139.8487,     2902,   1599.4,2,   0.2937,2,  34.6789,2,  34.6806,2,   217.42,2,   216.14,2,  0.29372,2,    0.058,1,     -999,9,   99.935,1,   0.0026,1,   1577.7,2
490S20190121  ,L016       ,36      ,  1,9          ,X10KY12    ,2,20190203,1146, -64.6988, 139.8487,     2902,   1794.2,2,   0.1960,2,  34.6749,2,  34.6761,2,   220.17,2,   219.27,2,  0.19586,2,    0.057,1,     -999,9,   99.933,1,   0.0027,1,   1769.1,2
490S20190121  ,L016       ,36      ,  1,8          ,X10KY11    ,2,20190203,1146, -64.6988, 139.8487,     2902,   2100.4,2,   0.0455,2,  34.6685,2,  34.6700,2,   225.11,2,   224.31,2,  0.04559,2,    0.057,1,     -999,9,   99.925,1,   0.0030,1,   2069.5,2
490S20190121  ,L016       ,36      ,  1,7          ,X10KY02    ,2,20190203,1146, -64.6988, 139.8487,     2902,   2400.1,2,  -0.1023,2,  34.6602,2,  34.6608,2,   230.88,2,   230.87,2, -0.10286,2,    0.056,1,     -999,9,   99.901,1,   0.0040,1,   2363.1,2
490S20190121  ,L016       ,36      ,  1,5          ,X10KY08    ,2,20190203,1146, -64.6988, 139.8487,     2902,   2698.3,2,  -0.2213,2,  34.6558,2,  34.6584,2,   236.68,2,   236.79,2, -0.22145,2,    0.056,1,     -999,9,   99.795,1,   0.0082,1,   2654.8,2
490S20190121  ,L016       ,36      ,  1,1          ,X10KY03    ,2,20190203,1146, -64.6988, 139.8487,     2902,   2935.0,2,  -0.3095,2,  34.6523,2,  34.6557,2,   241.42,2,   241.36,2, -0.30951,2,    0.056,1,     -999,9,   99.374,1,   0.0251,1,   2886.2,2