BOTTLE,20240503CCHHYDRO
EXPOCODE,SECT_ID,STNNBR,CASTNO,SAMPNO,BTLNBR,BTLNBR_FLAG_W,DATE,TIME,LATITUDE,LONGITUDE,DEPTH,CTDPRS,CTDPRS_FLAG_W,CTDTMP,CTDTMP_FLAG_W,CTDSAL,CTDSAL_FLAG_W,SALNTY,SALNTY_FLAG_W,CTDOXY,CTDOXY_FLAG_W,OXYGEN,OXYGEN_FLAG_W,REFTMP,REFTMP_FLAG_W,CTDFLUOR,CTDFLUOR_FLAG_W,PAR,PAR_FLAG_W,CTDXMISS,CTDXMISS_FLAG_W,CTDBEAMCP,CTDBEAMCP_FLAG_W,CTDDEPTH,CTDDEPTH_FLAG_W
,,,,,,,,,,,METERS,DBAR,,ITS-90,,PSS-78,,PSS-78,,UMOL/KG,,UMOL/KG,,ITS-90,,MG/M^3,,UMOL/M^2/SEC,,%TRANS,,/METER,,METERS,
490S20190121  ,L013       ,51      ,  1,24         ,X10KY35    ,2,20190211,2044, -64.4532, 128.3691,     2660,      9.8,2,   1.2816,2,  34.0537,2,  34.0539,2,   331.91,2,   331.89,2,  1.28167,2,    4.914,1,     -999,9,   88.420,1,   0.4923,1,      9.7,2
490S20190121  ,L013       ,51      ,  1,23         ,X10KY34    ,2,20190211,2044, -64.4532, 128.3691,     2660,     39.8,2,   1.2738,2,  34.0532,2,  34.0525,2,   331.26,2,   332.21,2,  1.27464,2,    5.226,1,     -999,9,   88.519,1,   0.4878,1,     39.4,2
490S20190121  ,L013       ,51      ,  1,22         ,X10KY33    ,2,20190211,2044, -64.4532, 128.3691,     2660,     98.5,2,  -1.7049,2,  34.2550,2,  34.2538,2,   319.29,2,   318.69,2, -1.70424,2,    0.197,1,     -999,9,   99.157,1,   0.0339,1,     97.5,2
490S20190121  ,L013       ,51      ,  1,21         ,X10KY32    ,2,20190211,2044, -64.4532, 128.3691,     2660,    144.7,2,  -1.6963,2,  34.2904,2,  34.2881,2,   317.43,2,   317.08,2, -1.69588,2,    0.123,1,     -999,9,   99.418,1,   0.0234,1,    143.3,2
490S20190121  ,L013       ,51      ,  1,20         ,X10KY31    ,2,20190211,2044, -64.4532, 128.3691,     2660,    201.0,2,  -1.5728,2,  34.3364,2,  34.3354,2,   312.34,2,   311.77,2, -1.57237,2,    0.087,1,     -999,9,   99.566,1,   0.0174,1,    198.9,2
490S20190121  ,L013       ,51      ,  1,19         ,X10KY36    ,2,20190211,2044, -64.4532, 128.3691,     2660,    299.5,2,   0.0176,2,  34.5272,2,  34.5260,2,   242.63,2,   242.42,2,  0.01880,2,    0.072,1,     -999,9,   99.601,1,   0.0160,1,    296.4,2
490S20190121  ,L013       ,51      ,  1,18         ,X10KY28    ,2,20190211,2044, -64.4532, 128.3691,     2660,    400.4,2,   1.3757,2,  34.6868,2,  34.6840,2,   196.20,2,   196.74,2,  1.37477,2,    0.067,1,     -999,9,   99.659,1,   0.0137,1,    396.1,2
490S20190121  ,L013       ,51      ,  1,17         ,X10KY26    ,2,20190211,2044, -64.4532, 128.3691,     2660,    501.7,2,   0.4591,2,  34.6195,2,  34.6172,2,   224.45,2,   224.44,2,  0.45808,2,    0.066,1,     -999,9,   99.696,1,   0.0122,1,    496.2,2
490S20190121  ,L013       ,51      ,  1,16         ,X10KY24    ,2,20190211,2044, -64.4532, 128.3691,     2660,    598.8,2,   0.4919,2,  34.6426,2,  34.6409,2,   222.24,2,   222.56,2,  0.49192,2,    0.063,1,     -999,9,   99.744,1,   0.0103,1,    592.1,2
490S20190121  ,L013       ,51      ,  1,15         ,X10KY23    ,2,20190211,2044, -64.4532, 128.3691,     2660,    700.9,2,   0.4402,2,  34.6563,2,  34.6543,2,   221.02,2,   221.14,2,  0.44028,2,    0.063,1,     -999,9,   99.775,1,   0.0090,1,    692.9,2
490S20190121  ,L013       ,51      ,  1,14         ,X10KY21    ,2,20190211,2044, -64.4532, 128.3691,     2660,    802.9,2,   0.4730,2,  34.6720,2,  34.6732,2,   217.13,2,   216.53,2,  0.47305,2,    0.063,1,     -999,9,   99.800,1,   0.0080,1,    793.5,2
490S20190121  ,L013       ,51      ,  1,13         ,X10KY18    ,2,20190211,2044, -64.4532, 128.3691,     2660,   1001.1,2,   0.4037,2,  34.6777,2,  34.6802,2,   215.66,2,   215.39,2,  0.40375,2,    0.060,1,     -999,9,   99.802,1,   0.0079,1,    988.9,2
490S20190121  ,L013       ,51      ,  1,12         ,X10KY17    ,2,20190211,2044, -64.4532, 128.3691,     2660,   1199.8,2,   0.2595,2,  34.6715,2,  34.6724,2,   218.78,2,   218.64,2,  0.25936,2,    0.059,1,     -999,9,   99.810,1,   0.0076,1,   1184.7,2
490S20190121  ,L013       ,51      ,  1,11         ,X10KY16    ,2,20190211,2044, -64.4532, 128.3691,     2660,   1401.2,2,   0.1873,2,  34.6744,2,  34.6769,2,   219.79,2,   219.27,2,  0.18724,2,    0.057,1,     -999,9,   99.869,1,   0.0053,1,   1382.9,2
490S20190121  ,L013       ,51      ,  1,10         ,X10KY13    ,2,20190211,2044, -64.4532, 128.3691,     2660,   1600.1,2,   0.0825,2,  34.6682,2,  34.6710,2,   223.25,2,   223.00,2,  0.08244,2,    0.057,1,     -999,9,   99.848,1,   0.0061,1,   1578.5,2
490S20190121  ,L013       ,51      ,  1,9          ,X10KY12    ,2,20190211,2044, -64.4532, 128.3691,     2660,   1801.2,2,  -0.0359,2,  34.6633,2,  34.6643,2,   227.39,2,   227.00,2, -0.03592,2,    0.055,1,     -999,9,   99.847,1,   0.0061,1,   1775.9,2
490S20190121  ,L013       ,51      ,  1,8          ,X10KY11    ,2,20190211,2044, -64.4532, 128.3691,     2660,   2098.2,2,  -0.1423,2,  34.6590,2,  34.6602,2,   231.29,2,   231.34,2, -0.14233,2,    0.054,1,     -999,9,   99.794,1,   0.0082,1,   2067.4,2
490S20190121  ,L013       ,51      ,  1,7          ,X10KY02    ,2,20190211,2044, -64.4532, 128.3691,     2660,   2400.5,2,  -0.2570,2,  34.6519,2,  34.6555,2,   237.81,2,   238.27,2, -0.25712,2,    0.054,1,     -999,9,   99.747,1,   0.0102,1,   2363.6,2
490S20190121  ,L013       ,51      ,  1,1          ,X10KY03    ,2,20190211,2044, -64.4532, 128.3691,     2660,   2702.0,2,  -0.2619,2,  34.6515,2,  34.6517,2,   238.95,2,   239.60,2, -0.26198,2,    0.054,1,     -999,9,   99.602,1,   0.0160,1,   2658.5,2
490S20190121  ,L013       ,52      ,  1,24         ,X10KY35    ,2,20190212,0241, -64.0507, 128.3756,     3540,      9.7,2,   1.9788,2,  34.0009,2,  34.0017,2,   329.66,2,   329.86,2,  1.97873,2,    3.185,1,     -999,9,   87.577,1,   0.5306,1,      9.6,2
490S20190121  ,L013       ,52      ,  1,23         ,X10KY34    ,2,20190212,0241, -64.0507, 128.3756,     3540,     31.1,2,   1.9789,2,  34.0016,2,  34.0023,2,   329.24,2,   329.76,2,  1.97796,2,    4.993,1,     -999,9,   87.482,1,   0.5349,1,     30.8,2
490S20190121  ,L013       ,52      ,  1,2          ,X10KY04    ,2,20190212,0241, -64.0507, 128.3756,     3540,     62.5,2,  -0.4242,2,  34.2512,2,  34.2419,2,   296.78,2,   295.58,2, -0.43416,2,    0.349,1,     -999,9,   98.414,1,   0.0639,1,     61.9,2
490S20190121  ,L013       ,52      ,  1,22         ,X10KY33    ,2,20190212,0241, -64.0507, 128.3756,     3540,     99.0,2,   1.4050,2,  34.5551,2,  34.5537,2,   187.63,2,   187.13,2,  1.40464,2,    0.129,1,     -999,9,   99.174,1,   0.0332,1,     98.0,2
490S20190121  ,L013       ,52      ,  1,21         ,X10KY32    ,2,20190212,0241, -64.0507, 128.3756,     3540,    148.3,2,   1.6312,2,  34.6176,2,  34.6185,2,   181.84,2,   181.63,2,  1.63092,2,    0.086,1,     -999,9,   99.369,1,   0.0253,1,    146.8,2
490S20190121  ,L013       ,52      ,  1,20         ,X10KY31    ,2,20190212,0241, -64.0507, 128.3756,     3540,    198.5,2,   1.7024,2,  34.6521,2,  34.6523,2,   181.39,2,   181.38,2,  1.70199,2,    0.080,1,     -999,9,   99.497,1,   0.0201,1,    196.4,2
490S20190121  ,L013       ,52      ,  1,19         ,X10KY36    ,2,20190212,0241, -64.0507, 128.3756,     3540,    299.0,2,   1.7844,2,  34.7005,2,  34.6963,2,   184.23,2,   184.75,2,  1.78423,2,    0.069,1,     -999,9,   99.686,1,   0.0126,1,    295.9,2
490S20190121  ,L013       ,52      ,  1,18         ,X10KY28    ,2,20190212,0241, -64.0507, 128.3756,     3540,    403.3,2,   1.7480,2,  34.7199,2,  34.7207,2,   188.11,2,   188.69,2,  1.74791,2,    0.069,1,     -999,9,   99.675,1,   0.0130,1,    399.0,2
490S20190121  ,L013       ,52      ,  1,17         ,X10KY26    ,2,20190212,0241, -64.0507, 128.3756,     3540,    494.6,2,   1.6558,2,  34.7249,2,  34.7268,2,   190.59,2,   191.30,2,  1.65588,2,    0.066,1,     -999,9,   99.682,1,   0.0127,1,    489.2,2
490S20190121  ,L013       ,52      ,  1,16         ,X10KY24    ,2,20190212,0241, -64.0507, 128.3756,     3540,    600.5,2,   1.5452,2,  34.7264,2,  34.7270,2,   193.87,2,   194.02,2,  1.54456,2,    0.066,1,     -999,9,   99.709,1,   0.0117,1,    593.8,2
490S20190121  ,L013       ,52      ,  1,15         ,X10KY23    ,2,20190212,0241, -64.0507, 128.3756,     3540,    694.9,2,   1.3522,2,  34.7167,2,  34.7176,2,   198.55,2,   198.98,2,  1.35209,2,    0.065,1,     -999,9,   99.707,1,   0.0117,1,    687.0,2
490S20190121  ,L013       ,52      ,  1,14         ,X10KY21    ,2,20190212,0241, -64.0507, 128.3756,     3540,    795.7,2,   1.2749,2,  34.7165,2,  34.7180,2,   200.67,2,   200.95,2,  1.27495,2,    0.063,1,     -999,9,   99.738,1,   0.0105,1,    786.5,2
490S20190121  ,L013       ,52      ,  1,13         ,X10KY18    ,2,20190212,0241, -64.0507, 128.3756,     3540,    993.1,2,   1.1119,2,  34.7150,2,  34.7158,2,   203.04,2,   203.26,2,  1.11190,2,    0.061,1,     -999,9,   99.784,1,   0.0086,1,    981.0,2
490S20190121  ,L013       ,52      ,  1,12         ,X10KY17    ,2,20190212,0241, -64.0507, 128.3756,     3540,   1194.4,2,   0.9638,2,  34.7103,2,  34.7064,2,   205.08,2,   205.52,2,  0.96426,2,    0.059,1,     -999,9,   99.809,1,   0.0077,1,   1179.3,2
490S20190121  ,L013       ,52      ,  1,11         ,X10KY16    ,2,20190212,0241, -64.0507, 128.3756,     3540,   1398.0,2,   0.7977,2,  34.7027,2,  34.7009,2,   207.20,2,   207.10,2,  0.79767,2,    0.058,1,     -999,9,   99.840,1,   0.0064,1,   1379.7,2
490S20190121  ,L013       ,52      ,  1,10         ,X10KY13    ,2,20190212,0241, -64.0507, 128.3756,     3540,   1599.0,2,   0.6476,2,  34.6966,2,  34.6956,2,   209.41,2,   209.15,2,  0.64777,2,    0.057,1,     -999,9,   99.857,1,   0.0057,1,   1577.4,2
490S20190121  ,L013       ,52      ,  1,9          ,X10KY12    ,2,20190212,0241, -64.0507, 128.3756,     3540,   1792.2,2,   0.5196,2,  34.6899,2,  34.6879,2,   212.15,2,   211.73,2,  0.51956,2,    0.057,1,     -999,9,   99.857,1,   0.0057,1,   1767.2,2
490S20190121  ,L013       ,52      ,  1,8          ,X10KY11    ,2,20190212,0241, -64.0507, 128.3756,     3540,   2094.4,2,   0.3302,2,  34.6808,2,  34.6771,2,   217.01,2,   215.93,2,  0.33053,2,    0.054,1,     -999,9,   99.863,1,   0.0055,1,   2063.7,2
490S20190121  ,L013       ,52      ,  1,7          ,X10KY02    ,2,20190212,0241, -64.0507, 128.3756,     3540,   2397.4,2,   0.2025,2,  34.6748,2,  34.6712,2,   220.88,2,   220.61,2,  0.20263,2,    0.054,1,     -999,9,   99.852,1,   0.0059,1,   2360.6,2
490S20190121  ,L013       ,52      ,  1,5          ,X10KY08    ,2,20190212,0241, -64.0507, 128.3756,     3540,   2699.7,2,   0.0690,2,  34.6684,2,  34.6661,2,   225.26,2,   224.85,2,  0.06916,2,    0.054,1,     -999,9,   99.846,1,   0.0062,1,   2656.4,2
490S20190121  ,L013       ,52      ,  1,4          ,X10KY07    ,2,20190212,0241, -64.0507, 128.3756,     3540,   2999.3,2,  -0.0481,2,  34.6608,2,  34.6604,2,   229.82,2,   230.05,2, -0.04807,2,    0.053,1,     -999,9,   99.827,1,   0.0069,1,   2949.1,2
490S20190121  ,L013       ,52      ,  1,3          ,X10KY06    ,2,20190212,0241, -64.0507, 128.3756,     3540,   3299.7,2,  -0.1904,2,  34.6505,2,  34.6498,2,   237.71,2,   238.28,2, -0.19053,2,    0.052,1,     -999,9,   99.739,1,   0.0105,1,   3242.3,2
490S20190121  ,L013       ,52      ,  1,1          ,X10KY03    ,2,20190212,0241, -64.0507, 128.3756,     3540,   3603.9,2,  -0.3164,2,  34.6424,2,  34.6443,2,   244.36,2,   245.22,2, -0.31641,2,    0.052,1,     -999,9,   98.570,1,   0.0576,1,   3538.7,2
490S20190121  ,L013       ,53      ,  1,24         ,X10KY35    ,2,20190212,0851, -63.6530, 128.3686,     3970,      9.7,2,   1.6514,2,  33.9068,2,  33.9070,2,   332.62,2,   332.29,2,  1.65120,2,    5.909,1,     -999,9,   85.844,1,   0.6106,1,      9.6,2
490S20190121  ,L013       ,53      ,  1,23         ,X10KY34    ,2,20190212,0851, -63.6530, 128.3686,     3970,     51.0,2,   1.5858,2,  33.9069,2,  33.9128,2,   330.67,2,   330.76,2,  1.58167,2,    6.307,1,     -999,9,   85.132,1,   0.6439,1,     50.5,2
490S20190121  ,L013       ,53      ,  1,22         ,X10KY33    ,2,20190212,0851, -63.6530, 128.3686,     3970,    100.1,2,   1.4207,2,  34.5157,2,  34.5158,2,   189.19,2,   188.36,2,  1.42063,2,    0.133,1,     -999,9,   99.059,1,   0.0378,1,     99.1,2
490S20190121  ,L013       ,53      ,  1,21         ,X10KY32    ,2,20190212,0851, -63.6530, 128.3686,     3970,    150.2,2,   1.7637,2,  34.6076,2,  34.6105,2,   178.90,2,   178.55,2,  1.76342,2,    0.086,1,     -999,9,   99.309,1,   0.0277,1,    148.7,2
490S20190121  ,L013       ,53      ,  1,20         ,X10KY31    ,2,20190212,0851, -63.6530, 128.3686,     3970,    199.0,2,   1.6367,2,  34.6286,2,  34.6352,2,   182.12,2,   180.93,2,  1.64111,2,    0.078,1,     -999,9,   99.390,1,   0.0245,1,    196.9,2
490S20190121  ,L013       ,53      ,  1,19         ,X10KY36    ,3,20190212,0851, -63.6530, 128.3686,     3970,    298.1,2,   1.8410,2,  34.6890,2,  34.6895,2,   181.31,2,   181.89,2,  1.84086,2,    0.067,1,     -999,9,   99.550,1,   0.0180,1,    295.0,2
490S20190121  ,L013       ,53      ,  1,18         ,X10KY28    ,2,20190212,0851, -63.6530, 128.3686,     3970,    399.5,2,   1.7816,2,  34.7134,2,  34.7131,2,   186.27,2,   186.99,2,  1.78159,2,    0.067,1,     -999,9,   99.675,1,   0.0130,1,    395.3,2
490S20190121  ,L013       ,53      ,  1,17         ,X10KY26    ,2,20190212,0851, -63.6530, 128.3686,     3970,    500.8,2,   1.6592,2,  34.7190,2,  34.7217,2,   189.18,2,   189.74,2,  1.65928,2,    0.066,1,     -999,9,   99.638,1,   0.0145,1,    495.4,2
490S20190121  ,L013       ,53      ,  1,16         ,X10KY24    ,2,20190212,0851, -63.6530, 128.3686,     3970,    598.4,2,   1.6356,2,  34.7292,2,  34.7307,2,   192.29,2,   193.30,2,  1.63578,2,    0.066,1,     -999,9,   99.715,1,   0.0114,1,    591.7,2
490S20190121  ,L013       ,53      ,  1,15         ,X10KY23    ,2,20190212,0851, -63.6530, 128.3686,     3970,    699.0,2,   1.5994,2,  34.7348,2,  34.7313,2,   194.76,2,   195.83,2,  1.59916,2,    0.064,1,     -999,9,   99.737,1,   0.0106,1,    691.0,2
490S20190121  ,L013       ,53      ,  1,14         ,X10KY21    ,2,20190212,0851, -63.6530, 128.3686,     3970,    799.9,2,   1.5106,2,  34.7340,2,  34.7329,2,   196.53,2,   197.45,2,  1.51063,2,    0.065,1,     -999,9,   99.739,1,   0.0105,1,    790.6,2
490S20190121  ,L013       ,53      ,  1,13         ,X10KY18    ,2,20190212,0851, -63.6530, 128.3686,     3970,   1001.0,2,   1.3132,2,  34.7278,2,  34.7278,2,   199.33,2,   200.29,2,  1.31298,2,    0.062,1,     -999,9,   99.763,1,   0.0095,1,    988.9,2
490S20190121  ,L013       ,53      ,  1,12         ,X10KY17    ,3,20190212,0851, -63.6530, 128.3686,     3970,   1199.9,2,   1.1494,2,  34.7212,2,  34.7221,2,   202.05,2,   202.27,2,  1.14955,2,    0.060,1,     -999,9,   99.787,1,   0.0085,1,   1184.8,2
490S20190121  ,L013       ,53      ,  1,11         ,X10KY16    ,2,20190212,0851, -63.6530, 128.3686,     3970,   1399.8,2,   0.9940,2,  34.7136,2,  34.7105,2,   204.06,2,   204.00,2,  0.99384,2,    0.059,1,     -999,9,   99.811,1,   0.0076,1,   1381.6,2
490S20190121  ,L013       ,53      ,  1,10         ,X10KY13    ,2,20190212,0851, -63.6530, 128.3686,     3970,   1598.4,2,   0.8531,2,  34.7060,2,  34.7070,2,   206.30,2,   206.24,2,  0.85338,2,    0.058,1,     -999,9,   99.815,1,   0.0074,1,   1576.9,2
490S20190121  ,L013       ,53      ,  1,9          ,X10KY12    ,3,20190212,0851, -63.6530, 128.3686,     3970,   1799.3,2,   0.6992,2,  34.6976,2,  34.6977,2,   208.98,2,   208.76,2,  0.69916,2,    0.057,1,     -999,9,   99.815,1,   0.0074,1,   1774.2,2
490S20190121  ,L013       ,53      ,  1,8          ,X10KY11    ,2,20190212,0851, -63.6530, 128.3686,     3970,   2099.5,2,   0.5035,2,  34.6878,2,  34.6879,2,   213.20,2,   213.05,2,  0.50362,2,    0.055,1,     -999,9,   99.842,1,   0.0063,1,   2068.7,2
490S20190121  ,L013       ,53      ,  1,7          ,X10KY02    ,2,20190212,0851, -63.6530, 128.3686,     3970,   2397.4,2,   0.3556,2,  34.6815,2,  34.6810,2,   217.16,2,   216.63,2,  0.35574,2,    0.054,1,     -999,9,   99.830,1,   0.0068,1,   2360.6,2
490S20190121  ,L013       ,53      ,  1,5          ,X10KY08    ,2,20190212,0851, -63.6530, 128.3686,     3970,   2700.4,2,   0.2338,2,  34.6756,2,  34.6779,2,   220.83,2,   220.45,2,  0.23408,2,    0.054,1,     -999,9,   99.811,1,   0.0076,1,   2657.2,2
490S20190121  ,L013       ,53      ,  1,4          ,X10KY07    ,2,20190212,0851, -63.6530, 128.3686,     3970,   2998.0,2,   0.1377,2,  34.6703,2,  34.6728,2,   224.19,2,   224.02,2,  0.13771,2,    0.052,1,     -999,9,   99.825,1,   0.0070,1,   2948.0,2
490S20190121  ,L013       ,53      ,  1,3          ,X10KY06    ,2,20190212,0851, -63.6530, 128.3686,     3970,   3296.6,2,   0.0237,2,  34.6636,2,  34.6661,2,   228.44,2,   228.45,2,  0.02388,2,    0.052,1,     -999,9,   99.813,1,   0.0075,1,   3239.3,2
490S20190121  ,L013       ,53      ,  1,2          ,X10KY04    ,2,20190212,0851, -63.6530, 128.3686,     3970,   3597.7,2,  -0.1417,2,  34.6523,2,  34.6529,2,   237.32,2,   238.19,2, -0.14163,2,    0.052,1,     -999,9,   99.716,1,   0.0114,1,   3532.8,2
490S20190121  ,L013       ,53      ,  1,1          ,X10KY03    ,2,20190212,0851, -63.6530, 128.3686,     3970,   4038.8,2,  -0.2720,2,  34.6436,2,  34.6453,2,   244.34,2,   245.81,2, -0.27198,2,    0.051,1,     -999,9,   98.948,1,   0.0423,1,   3961.9,2