BOTTLE,20240503CCHHYDRO
EXPOCODE,SECT_ID,STNNBR,CASTNO,SAMPNO,BTLNBR,BTLNBR_FLAG_W,DATE,TIME,LATITUDE,LONGITUDE,DEPTH,CTDPRS,CTDPRS_FLAG_W,CTDTMP,CTDTMP_FLAG_W,CTDSAL,CTDSAL_FLAG_W,SALNTY,SALNTY_FLAG_W,CTDOXY,CTDOXY_FLAG_W,OXYGEN,OXYGEN_FLAG_W,REFTMP,REFTMP_FLAG_W,CTDFLUOR,CTDFLUOR_FLAG_W,PAR,PAR_FLAG_W,CTDXMISS,CTDXMISS_FLAG_W,CTDBEAMCP,CTDBEAMCP_FLAG_W,CTDDEPTH,CTDDEPTH_FLAG_W
,,,,,,,,,,,METERS,DBAR,,ITS-90,,PSS-78,,PSS-78,,UMOL/KG,,UMOL/KG,,ITS-90,,MG/M^3,,UMOL/M^2/SEC,,%TRANS,,/METER,,METERS,
490S20190121  ,L018       ,28      ,  1,24         ,X10KY35    ,2,20190127,0403, -64.6014, 149.9956,     3430,      9.8,2,   2.0095,2,  33.8502,2,  33.8529,2,   341.09,2,   340.36,2,  2.00956,2,    0.218,1,     -999,9,   93.579,1,   0.2655,1,      9.7,2
490S20190121  ,L018       ,28      ,  1,23         ,X10KY34    ,2,20190127,0403, -64.6014, 149.9956,     3430,     45.6,2,   0.3208,2,  33.9654,2,  33.9614,2,   342.48,2,   342.52,2,  0.32039,2,    1.062,1,     -999,9,   95.380,1,   0.1892,1,     45.2,2
490S20190121  ,L018       ,28      ,  1,2          ,X10KY04    ,2,20190127,0403, -64.6014, 149.9956,     3430,     69.8,2,  -0.3140,2,  34.2329,2,  34.2289,2,   276.14,2,   278.21,2, -0.29059,2,    0.647,1,     -999,9,   97.924,1,   0.0839,1,     69.1,2
490S20190121  ,L018       ,28      ,  1,22         ,X10KY33    ,2,20190127,0403, -64.6014, 149.9956,     3430,     99.2,2,   1.3667,2,  34.5065,2,  34.5074,2,   191.91,2,   191.24,2,  1.36738,2,    0.191,1,     -999,9,   99.047,1,   0.0383,1,     98.2,2
490S20190121  ,L018       ,28      ,  1,21         ,X10KY32    ,2,20190127,0403, -64.6014, 149.9956,     3430,    149.9,2,   1.7407,2,  34.5926,2,  34.5942,2,   180.75,2,   181.05,2,  1.74069,2,    0.099,1,     -999,9,   99.423,1,   0.0232,1,    148.4,2
490S20190121  ,L018       ,28      ,  1,20         ,X10KY31    ,2,20190127,0403, -64.6014, 149.9956,     3430,    200.5,2,   1.7908,2,  34.6335,2,  34.6329,2,   179.92,2,   180.56,2,  1.79392,2,    0.089,1,     -999,9,   99.469,1,   0.0213,1,    198.4,2
490S20190121  ,L018       ,28      ,  1,19         ,X10KY36    ,2,20190127,0403, -64.6014, 149.9956,     3430,    298.5,2,   1.6678,2,  34.6633,2,  34.6631,2,   185.84,2,   185.98,2,  1.66863,2,    0.073,1,     -999,9,   99.569,1,   0.0172,1,    295.4,2
490S20190121  ,L018       ,28      ,  1,18         ,X10KY28    ,2,20190127,0403, -64.6014, 149.9956,     3430,    401.4,2,   1.5725,2,  34.6855,2,  34.6865,2,   191.06,2,   191.61,2,  1.57050,2,    0.069,1,     -999,9,   99.683,1,   0.0127,1,    397.1,2
490S20190121  ,L018       ,28      ,  1,17         ,X10KY26    ,2,20190127,0403, -64.6014, 149.9956,     3430,    498.9,2,   1.6637,2,  34.7143,2,  34.7154,2,   190.80,2,   191.83,2,  1.66348,2,    0.068,1,     -999,9,   99.780,1,   0.0088,1,    493.4,2
490S20190121  ,L018       ,28      ,  1,16         ,X10KY24    ,2,20190127,0403, -64.6014, 149.9956,     3430,    599.0,2,   1.6738,2,  34.7332,2,  34.7313,2,   192.08,2,   193.44,2,  1.67406,2,    0.068,1,     -999,9,   99.786,1,   0.0086,1,    592.3,2
490S20190121  ,L018       ,28      ,  1,15         ,X10KY23    ,2,20190127,0403, -64.6014, 149.9956,     3430,    700.2,2,   1.5606,2,  34.7324,2,  34.7304,2,   195.07,2,   196.40,2,  1.56079,2,    0.066,1,     -999,9,   99.811,1,   0.0076,1,    692.2,2
490S20190121  ,L018       ,28      ,  1,14         ,X10KY21    ,2,20190127,0403, -64.6014, 149.9956,     3430,    800.3,2,   1.4789,2,  34.7325,2,  34.7327,2,   196.74,2,   197.46,2,  1.47905,2,    0.065,1,     -999,9,   99.848,1,   0.0061,1,    790.9,2
490S20190121  ,L018       ,28      ,  1,13         ,X10KY18    ,2,20190127,0403, -64.6014, 149.9956,     3430,   1000.2,2,   1.3269,2,  34.7298,2,  34.7304,2,   199.51,2,   200.46,2,  1.32705,2,    0.063,1,     -999,9,   99.877,1,   0.0049,1,    988.0,2
490S20190121  ,L018       ,28      ,  1,12         ,X10KY17    ,2,20190127,0403, -64.6014, 149.9956,     3430,   1201.2,2,   1.1459,2,  34.7217,2,  34.7223,2,   202.08,2,   202.69,2,  1.14603,2,    0.061,1,     -999,9,   99.911,1,   0.0036,1,   1186.1,2
490S20190121  ,L018       ,28      ,  1,11         ,X10KY16    ,2,20190127,0403, -64.6014, 149.9956,     3430,   1400.9,2,   0.9541,2,  34.7127,2,  34.7140,2,   204.75,2,   205.56,2,  0.95407,2,    0.060,1,     -999,9,   99.897,1,   0.0041,1,   1382.6,2
490S20190121  ,L018       ,28      ,  1,10         ,X10KY13    ,2,20190127,0403, -64.6014, 149.9956,     3430,   1599.6,2,   0.7751,2,  34.7024,2,  34.7019,2,   207.61,2,   207.84,2,  0.77513,2,    0.059,1,     -999,9,   99.913,1,   0.0035,1,   1577.9,2
490S20190121  ,L018       ,28      ,  1,9          ,X10KY12    ,2,20190127,0403, -64.6014, 149.9956,     3430,   1799.3,2,   0.6211,2,  34.6948,2,  34.6962,2,   210.39,2,   210.23,2,  0.62104,2,    0.057,1,     -999,9,   99.913,1,   0.0035,1,   1774.1,2
490S20190121  ,L018       ,28      ,  1,8          ,X10KY11    ,2,20190127,0403, -64.6014, 149.9956,     3430,   2099.0,2,   0.4148,2,  34.6834,2,  34.6851,2,   214.95,2,   214.68,2,  0.41484,2,    0.057,1,     -999,9,   99.922,1,   0.0031,1,   2068.1,2
490S20190121  ,L018       ,28      ,  1,7          ,X10KY02    ,2,20190127,0403, -64.6014, 149.9956,     3430,   2400.4,2,   0.2709,2,  34.6783,2,  34.6796,2,   218.88,2,   218.51,2,  0.27101,2,    0.057,1,     -999,9,   99.920,1,   0.0032,1,   2363.4,2
490S20190121  ,L018       ,28      ,  1,5          ,X10KY08    ,2,20190127,0403, -64.6014, 149.9956,     3430,   2699.2,2,   0.1419,2,  34.6731,2,  34.6714,2,   223.04,2,   222.84,2,  0.14221,2,    0.057,1,     -999,9,   99.912,1,   0.0035,1,   2655.8,2
490S20190121  ,L018       ,28      ,  1,4          ,X10KY07    ,2,20190127,0403, -64.6014, 149.9956,     3430,   2999.1,2,   0.0353,2,  34.6723,2,  34.6718,2,   227.52,2,   227.92,2,  0.03516,2,    0.056,1,     -999,9,   99.888,1,   0.0045,1,   2948.8,2
490S20190121  ,L018       ,28      ,  1,3          ,X10KY06    ,2,20190127,0403, -64.6014, 149.9956,     3430,   3299.5,2,  -0.0943,2,  34.6775,2,  34.6763,2,   232.67,2,   233.23,2, -0.09416,2,    0.054,1,     -999,9,   99.736,1,   0.0106,1,   3241.9,2
490S20190121  ,L018       ,28      ,  1,1          ,X10KY03    ,2,20190127,0403, -64.6014, 149.9956,     3430,   3483.1,2,  -0.1104,2,  34.6825,2,  34.6826,2,   233.46,2,   234.12,2, -0.11047,2,    0.055,1,     -999,9,   99.233,1,   0.0308,1,   3420.9,2
490S20190121  ,L018       ,29      ,  1,24         ,X10KY35    ,2,20190127,0928, -65.0020, 149.9976,     3264,     10.5,2,   1.6705,2,  33.8693,2,  33.8701,2,   337.51,2,   338.54,2,  1.66833,2,    0.854,1,     -999,9,   95.110,1,   0.2006,1,     10.4,2
490S20190121  ,L018       ,29      ,  1,23         ,X10KY34    ,2,20190127,0928, -65.0020, 149.9976,     3264,     41.5,2,   0.3185,2,  33.9413,2,  33.9444,2,   344.20,2,   344.14,2,  0.32202,2,    1.332,1,     -999,9,   94.439,1,   0.2288,1,     41.1,2
490S20190121  ,L018       ,29      ,  1,2          ,X10KY04    ,2,20190127,0928, -65.0020, 149.9976,     3264,     79.0,2,  -0.3648,2,  34.3552,2,  34.3572,2,   265.52,2,   263.08,2, -0.37218,2,    0.421,1,     -999,9,   98.361,1,   0.0661,1,     78.2,2
490S20190121  ,L018       ,29      ,  1,22         ,X10KY33    ,2,20190127,0928, -65.0020, 149.9976,     3264,    100.7,2,   1.6063,2,  34.5698,2,  34.5751,2,   183.20,2,   182.67,2,  1.60866,2,    0.164,1,     -999,9,   99.222,1,   0.0312,1,     99.7,2
490S20190121  ,L018       ,29      ,  1,21         ,X10KY32    ,2,20190127,0928, -65.0020, 149.9976,     3264,    150.9,2,   1.8142,2,  34.6405,2,  34.6386,2,   178.35,2,   178.47,2,  1.81432,2,    0.083,1,     -999,9,   99.441,1,   0.0224,1,    149.3,2
490S20190121  ,L018       ,29      ,  1,20         ,X10KY31    ,2,20190127,0928, -65.0020, 149.9976,     3264,    200.1,2,   1.8596,2,  34.6719,2,  34.6681,2,   180.27,2,   180.43,2,  1.85992,2,    0.069,1,     -999,9,   99.550,1,   0.0180,1,    198.0,2
490S20190121  ,L018       ,29      ,  1,19         ,X10KY36    ,2,20190127,0928, -65.0020, 149.9976,     3264,    300.5,2,   1.7492,2,  34.6954,2,  34.6940,2,   185.81,2,   186.49,2,  1.74939,2,    0.068,1,     -999,9,   99.687,1,   0.0125,1,    297.4,2
490S20190121  ,L018       ,29      ,  1,18         ,X10KY28    ,2,20190127,0928, -65.0020, 149.9976,     3264,    400.5,2,   1.7844,2,  34.7249,2,  34.7250,2,   187.96,2,   189.20,2,  1.78440,2,    0.067,1,     -999,9,   99.824,1,   0.0070,1,    396.2,2
490S20190121  ,L018       ,29      ,  1,17         ,X10KY26    ,2,20190127,0928, -65.0020, 149.9976,     3264,    500.6,2,   1.6873,2,  34.7308,2,  34.7302,2,   191.38,2,   192.63,2,  1.68716,2,    0.066,1,     -999,9,   99.832,1,   0.0067,1,    495.1,2
490S20190121  ,L018       ,29      ,  1,16         ,X10KY24    ,2,20190127,0928, -65.0020, 149.9976,     3264,    599.8,2,   1.5912,2,  34.7332,2,  34.7351,2,   194.24,2,   195.89,2,  1.59147,2,    0.065,1,     -999,9,   99.833,1,   0.0067,1,    593.0,2
490S20190121  ,L018       ,29      ,  1,15         ,X10KY23    ,2,20190127,0928, -65.0020, 149.9976,     3264,    700.7,2,   1.3249,2,  34.7126,2,  34.7129,2,   200.08,2,   201.10,2,  1.32562,2,    0.065,1,     -999,9,   99.820,1,   0.0072,1,    692.6,2
490S20190121  ,L018       ,29      ,  1,14         ,X10KY21    ,2,20190127,0928, -65.0020, 149.9976,     3264,    799.7,2,   1.3900,2,  34.7297,2,  34.7311,2,   198.32,2,   199.08,2,  1.39018,2,    0.064,1,     -999,9,   99.849,1,   0.0061,1,    790.3,2
490S20190121  ,L018       ,29      ,  1,13         ,X10KY18    ,2,20190127,0928, -65.0020, 149.9976,     3264,    998.7,2,   1.2265,2,  34.7266,2,  34.7243,2,   200.77,2,   201.96,2,  1.22729,2,    0.063,1,     -999,9,   99.898,1,   0.0041,1,    986.5,2
490S20190121  ,L018       ,29      ,  1,12         ,X10KY17    ,2,20190127,0928, -65.0020, 149.9976,     3264,   1198.7,2,   1.0182,2,  34.7166,2,  34.7174,2,   203.66,2,   204.35,2,  1.01818,2,    0.060,1,     -999,9,   99.891,1,   0.0044,1,   1183.5,2
490S20190121  ,L018       ,29      ,  1,11         ,X10KY16    ,2,20190127,0928, -65.0020, 149.9976,     3264,   1398.9,2,   0.8114,2,  34.7033,2,  34.7028,2,   206.75,2,   207.27,2,  0.81140,2,    0.059,1,     -999,9,   99.892,1,   0.0043,1,   1380.6,2
490S20190121  ,L018       ,29      ,  1,10         ,X10KY13    ,2,20190127,0928, -65.0020, 149.9976,     3264,   1600.2,2,   0.6600,2,  34.6974,2,  34.6965,2,   209.24,2,   209.48,2,  0.66006,2,    0.059,1,     -999,9,   99.890,1,   0.0044,1,   1578.5,2
490S20190121  ,L018       ,29      ,  1,9          ,X10KY12    ,2,20190127,0928, -65.0020, 149.9976,     3264,   1799.0,2,   0.5011,2,  34.6881,2,  34.6881,2,   212.26,2,   212.33,2,  0.50110,2,    0.057,1,     -999,9,   99.904,1,   0.0038,1,   1773.7,2
490S20190121  ,L018       ,29      ,  1,8          ,X10KY11    ,2,20190127,0928, -65.0020, 149.9976,     3264,   2098.9,2,   0.3276,2,  34.6812,2,  34.6818,2,   216.72,2,   216.25,2,  0.32769,2,    0.057,1,     -999,9,   99.926,1,   0.0029,1,   2068.0,2
490S20190121  ,L018       ,29      ,  1,7          ,X10KY02    ,2,20190127,0928, -65.0020, 149.9976,     3264,   2400.4,2,   0.2095,2,  34.6763,2,  34.6785,2,   220.38,2,   220.24,2,  0.20953,2,    0.056,1,     -999,9,   99.937,1,   0.0025,1,   2363.3,2
490S20190121  ,L018       ,29      ,  1,5          ,X10KY08    ,2,20190127,0928, -65.0020, 149.9976,     3264,   2699.5,2,   0.0616,2,  34.6707,2,  34.6728,2,   225.54,2,   226.05,2,  0.06174,2,    0.056,1,     -999,9,   99.930,1,   0.0028,1,   2655.9,2
490S20190121  ,L018       ,29      ,  1,4          ,X10KY07    ,2,20190127,0928, -65.0020, 149.9976,     3264,   3000.4,2,  -0.0315,2,  34.6695,2,  34.6706,2,   229.50,2,   230.21,2, -0.03156,2,    0.055,1,     -999,9,   99.888,1,   0.0045,1,   2949.9,2
490S20190121  ,L018       ,29      ,  1,3          ,X10KY06    ,2,20190127,0928, -65.0020, 149.9976,     3264,   3099.9,2,  -0.0574,2,  34.6716,2,  34.6728,2,   230.62,2,   231.02,2, -0.05742,2,    0.055,1,     -999,9,   99.810,1,   0.0076,1,   3047.2,2
490S20190121  ,L018       ,29      ,  1,1          ,X10KY03    ,2,20190127,0928, -65.0020, 149.9976,     3264,   3310.3,2,  -0.1325,2,  34.6826,2,  34.6846,2,   233.38,2,   234.12,2, -0.13256,2,    0.056,1,     -999,9,   99.397,1,   0.0242,1,   3252.3,2
490S20190121  ,L018       ,30      ,  1,24         ,X10KY35    ,2,20190127,1438, -65.3993, 150.0026,     2865,      8.9,2,   1.5008,2,  33.9007,2,  33.9023,2,   339.08,2,   339.84,2,  1.50174,2,    0.978,1,     -999,9,   94.337,1,   0.2332,1,      8.8,2
490S20190121  ,L018       ,30      ,  1,23         ,X10KY34    ,2,20190127,1438, -65.3993, 150.0026,     2865,     29.1,2,   0.1023,2,  33.9664,2,  33.9700,2,   348.50,2,   348.44,2,  0.09911,2,    1.492,1,     -999,9,   93.370,1,   0.2744,1,     28.9,2
490S20190121  ,L018       ,30      ,  1,2          ,X10KY04    ,2,20190127,1438, -65.3993, 150.0026,     2865,     74.4,2,  -1.3324,2,  34.3006,2,  34.2911,2,   300.20,2,   299.79,2, -1.33237,2,    0.457,1,     -999,9,   98.336,1,   0.0671,1,     73.6,2
490S20190121  ,L018       ,30      ,  1,22         ,X10KY33    ,2,20190127,1438, -65.3993, 150.0026,     2865,     98.2,2,  -1.2371,2,  34.4035,2,  34.3998,2,   284.32,2,   284.04,2, -1.22950,2,    0.207,1,     -999,9,   99.268,1,   0.0294,1,     97.2,2
490S20190121  ,L018       ,30      ,  1,21         ,X10KY32    ,2,20190127,1438, -65.3993, 150.0026,     2865,    148.7,2,  -0.1224,2,  34.5222,2,  34.5225,2,   244.22,2,   243.69,2, -0.12178,2,    0.089,1,     -999,9,   99.646,1,   0.0142,1,    147.2,2
490S20190121  ,L018       ,30      ,  1,20         ,X10KY31    ,2,20190127,1438, -65.3993, 150.0026,     2865,    199.4,2,   0.2203,2,  34.5645,2,  34.5635,2,   231.59,2,   231.59,2,  0.22039,2,    0.076,1,     -999,9,   99.669,1,   0.0132,1,    197.3,2
490S20190121  ,L018       ,30      ,  1,19         ,X10KY36    ,2,20190127,1438, -65.3993, 150.0026,     2865,    299.7,2,   1.2174,2,  34.6765,2,  34.6761,2,   201.34,2,   202.04,2,  1.21771,2,    0.070,1,     -999,9,   99.711,1,   0.0116,1,    296.5,2
490S20190121  ,L018       ,30      ,  1,18         ,X10KY28    ,2,20190127,1438, -65.3993, 150.0026,     2865,    398.2,2,   1.2921,2,  34.7017,2,  34.7015,2,   200.10,2,   201.94,2,  1.29298,2,    0.068,1,     -999,9,   99.811,1,   0.0076,1,    393.9,2
490S20190121  ,L018       ,30      ,  1,17         ,X10KY26    ,2,20190127,1438, -65.3993, 150.0026,     2865,    500.7,2,   1.1245,2,  34.6987,2,  34.6981,2,   202.83,2,   203.46,2,  1.12467,2,    0.067,1,     -999,9,   99.860,1,   0.0056,1,    495.2,2
490S20190121  ,L018       ,30      ,  1,16         ,X10KY24    ,2,20190127,1438, -65.3993, 150.0026,     2865,    600.6,2,   1.1045,2,  34.7052,2,  34.7028,2,   202.44,2,   203.00,2,  1.10455,2,    0.068,1,     -999,9,   99.854,1,   0.0059,1,    593.8,2
490S20190121  ,L018       ,30      ,  1,15         ,X10KY23    ,2,20190127,1438, -65.3993, 150.0026,     2865,    698.4,2,   1.0733,2,  34.7091,2,  34.7074,2,   202.48,2,   203.29,2,  1.07332,2,    0.066,1,     -999,9,   99.863,1,   0.0055,1,    690.4,2
490S20190121  ,L018       ,30      ,  1,14         ,X10KY21    ,2,20190127,1438, -65.3993, 150.0026,     2865,    798.3,2,   1.0057,2,  34.7095,2,  34.7091,2,   203.61,2,   204.65,2,  1.00584,2,    0.065,1,     -999,9,   99.861,1,   0.0056,1,    789.0,2
490S20190121  ,L018       ,30      ,  1,13         ,X10KY18    ,2,20190127,1438, -65.3993, 150.0026,     2865,    999.3,2,   0.7962,2,  34.6988,2,  34.7007,2,   205.59,2,   205.95,2,  0.79601,2,    0.063,1,     -999,9,   99.893,1,   0.0043,1,    987.1,2
490S20190121  ,L018       ,30      ,  1,12         ,X10KY17    ,2,20190127,1438, -65.3993, 150.0026,     2865,   1198.1,2,   0.6986,2,  34.7002,2,  34.6989,2,   208.08,2,   208.20,2,  0.69863,2,    0.061,1,     -999,9,   99.917,1,   0.0033,1,   1182.9,2
490S20190121  ,L018       ,30      ,  1,11         ,X10KY16    ,2,20190127,1438, -65.3993, 150.0026,     2865,   1396.3,2,   0.4963,2,  34.6875,2,  34.6889,2,   211.38,2,   211.09,2,  0.49666,2,    0.059,1,     -999,9,   99.907,1,   0.0037,1,   1378.0,2
490S20190121  ,L018       ,30      ,  1,10         ,X10KY13    ,2,20190127,1438, -65.3993, 150.0026,     2865,   1596.9,2,   0.3631,2,  34.6813,2,  34.6779,2,   214.49,2,   214.09,2,  0.36310,2,    0.060,1,     -999,9,   99.918,1,   0.0033,1,   1575.2,2
490S20190121  ,L018       ,30      ,  1,9          ,X10KY12    ,2,20190127,1438, -65.3993, 150.0026,     2865,   1796.8,2,   0.2581,2,  34.6779,2,  34.6730,2,   217.39,2,   216.97,2,  0.25817,2,    0.059,1,     -999,9,   99.921,1,   0.0031,1,   1771.5,2
490S20190121  ,L018       ,30      ,  1,8          ,X10KY11    ,2,20190127,1438, -65.3993, 150.0026,     2865,   2095.1,2,   0.1232,2,  34.6736,2,  34.6747,2,   222.17,2,   221.85,2,  0.12333,2,    0.058,1,     -999,9,   99.924,1,   0.0030,1,   2064.2,2
490S20190121  ,L018       ,30      ,  1,7          ,X10KY02    ,2,20190127,1438, -65.3993, 150.0026,     2865,   2397.8,2,  -0.0134,2,  34.6688,2,  34.6681,2,   227.29,2,   227.28,2, -0.01340,2,    0.058,1,     -999,9,   99.905,1,   0.0038,1,   2360.7,2
490S20190121  ,L018       ,30      ,  1,5          ,X10KY08    ,2,20190127,1438, -65.3993, 150.0026,     2865,   2599.0,2,  -0.0683,2,  34.6733,2,  34.6737,2,   230.02,2,   230.39,2, -0.06818,2,    0.058,1,     -999,9,   99.874,1,   0.0050,1,   2557.6,2
490S20190121  ,L018       ,30      ,  1,1          ,X10KY03    ,2,20190127,1438, -65.3993, 150.0026,     2865,   2900.7,2,  -0.1635,2,  34.6833,2,  34.6844,2,   233.38,2,   233.79,2, -0.16359,2,    0.058,1,     -999,9,   99.700,1,   0.0120,1,   2852.6,2