BOTTLE,20240503CCHHYDRO
EXPOCODE,SECT_ID,STNNBR,CASTNO,SAMPNO,BTLNBR,BTLNBR_FLAG_W,DATE,TIME,LATITUDE,LONGITUDE,DEPTH,CTDPRS,CTDPRS_FLAG_W,CTDTMP,CTDTMP_FLAG_W,CTDSAL,CTDSAL_FLAG_W,SALNTY,SALNTY_FLAG_W,CTDOXY,CTDOXY_FLAG_W,OXYGEN,OXYGEN_FLAG_W,REFTMP,REFTMP_FLAG_W,CTDFLUOR,CTDFLUOR_FLAG_W,PAR,PAR_FLAG_W,CTDXMISS,CTDXMISS_FLAG_W,CTDBEAMCP,CTDBEAMCP_FLAG_W,CTDDEPTH,CTDDEPTH_FLAG_W
,,,,,,,,,,,METERS,DBAR,,ITS-90,,PSS-78,,PSS-78,,UMOL/KG,,UMOL/KG,,ITS-90,,MG/M^3,,UMOL/M^2/SEC,,%TRANS,,/METER,,METERS,
490S20190121  ,L018       ,31      ,  1,24         ,X10KY35    ,2,20190127,1856, -65.6144, 149.9979,     2420,      9.5,2,  -0.1089,2,  34.0459,2,  34.0386,2,   359.80,2,     -999,9, -0.10221,2,    1.007,1,     -999,9,   92.146,1,   0.3272,1,      9.5,2
490S20190121  ,L018       ,31      ,  1,23         ,X10KY34    ,2,20190127,1856, -65.6144, 149.9979,     2420,     31.7,2,  -0.6218,2,  34.1160,2,  34.1185,2,   359.93,2,     -999,9, -0.61950,2,    1.539,1,     -999,9,   92.185,1,   0.3255,1,     31.4,2
490S20190121  ,L018       ,31      ,  1,22         ,X10KY33    ,2,20190127,1856, -65.6144, 149.9979,     2420,     99.5,2,  -1.8171,2,  34.4078,2,  34.4020,2,   299.94,2,     -999,9, -1.81662,2,    0.189,1,     -999,9,   99.359,1,   0.0258,1,     98.5,2
490S20190121  ,L018       ,31      ,  1,2          ,X10KY04    ,2,20190127,1856, -65.6144, 149.9979,     2420,    128.2,2,  -1.8247,2,  34.4171,2,  34.4157,2,   299.44,2,     -999,9, -1.82463,2,    0.145,1,     -999,9,   99.544,1,   0.0182,1,    126.9,2
490S20190121  ,L018       ,31      ,  1,21         ,X10KY32    ,2,20190127,1856, -65.6144, 149.9979,     2420,    149.2,2,  -1.7816,2,  34.4222,2,  34.4212,2,   298.52,2,     -999,9, -1.78072,2,    0.122,1,     -999,9,   99.640,1,   0.0144,1,    147.7,2
490S20190121  ,L018       ,31      ,  1,20         ,X10KY31    ,2,20190127,1856, -65.6144, 149.9979,     2420,    199.0,2,  -1.7489,2,  34.4282,2,  34.4245,2,   297.55,2,     -999,9, -1.74865,2,    0.105,1,     -999,9,   99.696,1,   0.0122,1,    196.9,2
490S20190121  ,L018       ,31      ,  1,19         ,X10KY36    ,2,20190127,1856, -65.6144, 149.9979,     2420,    301.2,2,  -0.8683,2,  34.5057,2,  34.5054,2,   260.90,2,     -999,9, -0.87000,2,    0.100,1,     -999,9,   99.723,1,   0.0111,1,    298.0,2
490S20190121  ,L018       ,31      ,  1,18         ,X10KY28    ,2,20190127,1856, -65.6144, 149.9979,     2420,    400.0,2,   0.0363,2,  34.5978,2,  34.5946,2,   227.60,2,     -999,9,  0.03568,2,    0.087,1,     -999,9,   99.753,1,   0.0099,1,    395.7,2
490S20190121  ,L018       ,31      ,  1,17         ,X10KY26    ,2,20190127,1856, -65.6144, 149.9979,     2420,    499.9,2,   0.5065,2,  34.6546,2,  34.6468,2,   211.58,2,     -999,9,  0.50611,2,    0.074,1,     -999,9,   99.830,1,   0.0068,1,    494.4,2
490S20190121  ,L018       ,31      ,  1,16         ,X10KY24    ,2,20190127,1856, -65.6144, 149.9979,     2420,    599.9,2,   0.5167,2,  34.6649,2,  34.6627,2,   210.61,2,     -999,9,  0.51653,2,    0.073,1,     -999,9,   99.837,1,   0.0065,1,    593.1,2
490S20190121  ,L018       ,31      ,  1,15         ,X10KY23    ,2,20190127,1856, -65.6144, 149.9979,     2420,    699.2,2,   0.5143,2,  34.6721,2,  34.6726,2,   210.29,2,     -999,9,  0.51451,2,    0.071,1,     -999,9,   99.867,1,   0.0054,1,    691.1,2
490S20190121  ,L018       ,31      ,  1,14         ,X10KY21    ,2,20190127,1856, -65.6144, 149.9979,     2420,    798.6,2,   0.4323,2,  34.6694,2,  34.6665,2,   212.49,2,     -999,9,  0.43245,2,    0.071,1,     -999,9,   99.863,1,   0.0055,1,    789.2,2
490S20190121  ,L018       ,31      ,  1,13         ,X10KY18    ,2,20190127,1856, -65.6144, 149.9979,     2420,   1000.5,2,   0.3965,2,  34.6788,2,  34.6765,2,   212.91,2,     -999,9,  0.39836,2,    0.064,1,     -999,9,   99.914,1,   0.0034,1,    988.3,2
490S20190121  ,L018       ,31      ,  1,12         ,X10KY17    ,2,20190127,1856, -65.6144, 149.9979,     2420,   1197.6,2,   0.2707,2,  34.6738,2,  34.6686,2,   216.12,2,     -999,9,  0.27047,2,    0.061,1,     -999,9,   99.925,1,   0.0030,1,   1182.4,2
490S20190121  ,L018       ,31      ,  1,11         ,X10KY16    ,2,20190127,1856, -65.6144, 149.9979,     2420,   1400.0,2,   0.1413,2,  34.6696,2,  34.6675,2,   220.35,2,     -999,9,  0.14177,2,    0.062,1,     -999,9,   99.900,1,   0.0040,1,   1381.6,2
490S20190121  ,L018       ,31      ,  1,10         ,X10KY13    ,2,20190127,1856, -65.6144, 149.9979,     2420,   1599.3,2,   0.1077,2,  34.6744,2,  34.6724,2,   221.41,2,     -999,9,  0.10773,2,    0.059,1,     -999,9,   99.918,1,   0.0033,1,   1577.5,2
490S20190121  ,L018       ,31      ,  1,9          ,X10KY12    ,2,20190127,1856, -65.6144, 149.9979,     2420,   1797.3,2,   0.0071,2,  34.6692,2,  34.6629,2,   225.32,2,     -999,9,  0.00723,2,    0.059,1,     -999,9,   99.918,1,   0.0033,1,   1772.0,2
490S20190121  ,L018       ,31      ,  1,8          ,X10KY11    ,2,20190127,1856, -65.6144, 149.9979,     2420,   2099.3,2,  -0.0695,2,  34.6747,2,  34.6716,2,   228.57,2,     -999,9, -0.06960,2,    0.058,1,     -999,9,   99.914,1,   0.0034,1,   2068.3,2
490S20190121  ,L018       ,31      ,  1,7          ,X10KY02    ,2,20190127,1856, -65.6144, 149.9979,     2420,   2299.2,2,  -0.2012,2,  34.6752,2,  34.6741,2,   233.34,2,     -999,9, -0.20124,2,    0.058,1,     -999,9,   99.833,1,   0.0067,1,   2264.2,2
490S20190121  ,L018       ,31      ,  1,1          ,X10KY03    ,2,20190127,1856, -65.6144, 149.9979,     2420,   2445.2,2,  -0.2099,2,  34.6787,2,  34.6789,2,   233.86,2,     -999,9, -0.21011,2,    0.058,1,     -999,9,   99.720,1,   0.0112,1,   2407.1,2
490S20190121  ,L018       ,32      ,  1,24         ,X10KY35    ,2,20190127,2321, -65.7236, 149.9077,     2053,      8.9,2,   0.9397,2,  33.9533,2,  33.9540,2,   348.07,2,   349.12,2,  0.93936,2,    0.436,1,     -999,9,   92.948,1,   0.2925,1,      8.8,2
490S20190121  ,L018       ,32      ,  1,23         ,X10KY34    ,2,20190127,2321, -65.7236, 149.9077,     2053,     41.9,2,  -1.1922,2,  34.2494,2,  34.2560,2,   329.03,2,   332.48,3, -1.19381,2,    1.241,1,     -999,9,   95.340,1,   0.1909,1,     41.5,2
490S20190121  ,L018       ,32      ,  1,22         ,X10KY33    ,2,20190127,2321, -65.7236, 149.9077,     2053,     98.6,2,  -1.7880,2,  34.4064,2,  34.4067,2,   299.86,2,   300.09,2, -1.78756,2,    0.250,1,     -999,9,   99.403,1,   0.0240,1,     97.6,2
490S20190121  ,L018       ,32      ,  1,2          ,X10KY04    ,2,20190127,2321, -65.7236, 149.9077,     2053,    107.9,2,  -1.8035,2,  34.4135,2,  34.4114,2,   299.07,2,   298.21,2, -1.80314,2,    0.186,1,     -999,9,   99.565,1,   0.0174,1,    106.8,2
490S20190121  ,L018       ,32      ,  1,21         ,X10KY32    ,2,20190127,2321, -65.7236, 149.9077,     2053,    148.8,2,  -1.7521,2,  34.4252,2,  34.4259,2,   297.26,2,   297.48,2, -1.75168,2,    0.123,1,     -999,9,   99.742,1,   0.0104,1,    147.3,2
490S20190121  ,L018       ,32      ,  1,20         ,X10KY31    ,2,20190127,2321, -65.7236, 149.9077,     2053,    199.1,2,  -1.3625,2,  34.4589,2,  34.4585,2,   280.33,2,   280.55,2, -1.36268,2,    0.102,1,     -999,9,   99.714,1,   0.0115,1,    197.0,2
490S20190121  ,L018       ,32      ,  1,19         ,X10KY36    ,2,20190127,2321, -65.7236, 149.9077,     2053,    300.1,2,  -0.4107,2,  34.5491,2,  34.5496,2,   243.39,2,   243.57,2, -0.40928,2,    0.089,1,     -999,9,   99.799,1,   0.0081,1,    296.9,2
490S20190121  ,L018       ,32      ,  1,18         ,X10KY28    ,2,20190127,2321, -65.7236, 149.9077,     2053,    399.7,2,   0.4490,2,  34.6417,2,  34.6415,2,   213.49,2,   213.49,2,  0.44950,2,    0.074,1,     -999,9,   99.827,1,   0.0069,1,    395.4,2
490S20190121  ,L018       ,32      ,  1,17         ,X10KY26    ,2,20190127,2321, -65.7236, 149.9077,     2053,    500.1,2,   0.3272,2,  34.6445,2,  34.6439,2,   216.70,2,   216.61,2,  0.32962,2,    0.073,1,     -999,9,   99.857,1,   0.0058,1,    494.5,2
490S20190121  ,L018       ,32      ,  1,16         ,X10KY24    ,2,20190127,2321, -65.7236, 149.9077,     2053,    599.4,2,   0.1982,2,  34.6438,2,  34.6429,2,   220.30,2,   219.29,2,  0.19789,2,    0.067,1,     -999,9,   99.905,1,   0.0038,1,    592.7,2
490S20190121  ,L018       ,32      ,  1,15         ,X10KY23    ,2,20190127,2321, -65.7236, 149.9077,     2053,    699.8,2,   0.2854,2,  34.6602,2,  34.6582,2,   216.61,2,   216.74,2,  0.28578,2,    0.066,1,     -999,9,   99.920,1,   0.0032,1,    691.7,2
490S20190121  ,L018       ,32      ,  1,14         ,X10KY21    ,2,20190127,2321, -65.7236, 149.9077,     2053,    800.5,2,   0.3312,2,  34.6706,2,  34.6671,2,   214.34,2,   214.61,2,  0.33080,2,    0.065,1,     -999,9,   99.925,1,   0.0030,1,    791.1,2
490S20190121  ,L018       ,32      ,  1,13         ,X10KY18    ,2,20190127,2321, -65.7236, 149.9077,     2053,    999.5,2,   0.2442,2,  34.6737,2,  34.6710,2,   216.32,2,   215.73,2,  0.24443,2,    0.062,1,     -999,9,   99.930,1,   0.0028,1,    987.3,2
490S20190121  ,L018       ,32      ,  1,12         ,X10KY17    ,2,20190127,2321, -65.7236, 149.9077,     2053,   1199.9,2,   0.1792,2,  34.6751,2,  34.6736,2,   218.21,2,   218.46,2,  0.17927,2,    0.061,1,     -999,9,   99.947,1,   0.0021,1,   1184.7,2
490S20190121  ,L018       ,32      ,  1,11         ,X10KY16    ,2,20190127,2321, -65.7236, 149.9077,     2053,   1400.0,2,   0.0942,2,  34.6737,2,  34.6728,2,   221.29,2,   222.15,2,  0.09416,2,    0.059,1,     -999,9,   99.929,1,   0.0028,1,   1381.6,2
490S20190121  ,L018       ,32      ,  1,10         ,X10KY13    ,2,20190127,2321, -65.7236, 149.9077,     2053,   1599.1,2,   0.0062,2,  34.6720,2,  34.6714,2,   224.51,2,   224.60,2,  0.00621,2,    0.059,1,     -999,9,   99.935,1,   0.0026,1,   1577.3,2
490S20190121  ,L018       ,32      ,  1,9          ,X10KY12    ,2,20190127,2321, -65.7236, 149.9077,     2053,   1801.0,2,  -0.0903,2,  34.6696,2,  34.6682,2,   228.41,2,   228.80,2, -0.09024,2,    0.059,1,     -999,9,   99.913,1,   0.0035,1,   1775.6,2
490S20190121  ,L018       ,32      ,  1,1          ,X10KY03    ,2,20190127,2321, -65.7236, 149.9077,     2053,   2077.8,2,  -0.1709,2,  34.6690,2,  34.6688,2,   231.87,2,   231.96,2, -0.17074,2,    0.060,1,     -999,9,   99.824,1,   0.0070,1,   2047.2,2
490S20190121  ,L016       ,33      ,  1,24         ,X10KY35    ,2,20190202,1928, -63.4961, 139.8399,     3764,     26.8,2,   1.5464,2,  33.9322,2,  33.9336,2,   350.46,2,   346.74,2,  1.55931,2,    7.503,1,     -999,9,   85.631,1,   0.6205,1,     26.6,2
490S20190121  ,L016       ,33      ,  1,23         ,X10KY34    ,2,20190202,1928, -63.4961, 139.8399,     3764,     70.7,2,   0.2812,2,  34.3049,2,  34.3005,2,   245.02,2,   245.95,2,  0.28300,2,    0.210,1,     -999,9,   98.784,1,   0.0489,1,     70.0,2
490S20190121  ,L016       ,33      ,  1,22         ,X10KY33    ,2,20190202,1928, -63.4961, 139.8399,     3764,     99.8,2,   1.6540,2,  34.5295,2,  34.5262,2,   184.01,2,   183.40,2,  1.65589,2,    0.102,1,     -999,9,   99.419,1,   0.0233,1,     98.8,2
490S20190121  ,L016       ,33      ,  1,21         ,X10KY32    ,2,20190202,1928, -63.4961, 139.8399,     3764,    150.7,2,   1.7054,2,  34.5890,2,  34.5867,2,   183.32,2,   182.21,2,  1.70490,2,    0.084,1,     -999,9,   99.482,1,   0.0208,1,    149.2,2
490S20190121  ,L016       ,33      ,  1,20         ,X10KY31    ,2,20190202,1928, -63.4961, 139.8399,     3764,    200.6,2,   1.8874,2,  34.6469,2,  34.6447,2,   178.05,2,   177.47,2,  1.88759,2,    0.075,1,     -999,9,   99.592,1,   0.0164,1,    198.6,2
490S20190121  ,L016       ,33      ,  1,19         ,X10KY36    ,2,20190202,1928, -63.4961, 139.8399,     3764,    298.5,2,   1.9139,2,  34.6885,2,  34.6887,2,   180.79,2,   180.28,2,  1.91408,2,    0.069,1,     -999,9,   99.722,1,   0.0111,1,    295.4,2
490S20190121  ,L016       ,33      ,  1,18         ,X10KY28    ,2,20190202,1928, -63.4961, 139.8399,     3764,    401.2,2,   1.8719,2,  34.7105,2,  34.7099,2,   184.74,2,   185.06,3,  1.87163,2,    0.069,1,     -999,9,   99.790,1,   0.0084,1,    396.9,2
490S20190121  ,L016       ,33      ,  1,17         ,X10KY26    ,2,20190202,1928, -63.4961, 139.8399,     3764,    500.4,2,   1.8049,2,  34.7226,2,  34.7217,2,   188.39,2,   188.68,2,  1.80506,2,    0.068,1,     -999,9,   99.740,1,   0.0104,1,    495.0,2
490S20190121  ,L016       ,33      ,  1,16         ,X10KY24    ,2,20190202,1928, -63.4961, 139.8399,     3764,    601.1,2,   1.7327,2,  34.7289,2,  34.7274,2,   191.11,2,   191.74,2,  1.73296,2,    0.066,1,     -999,9,   99.766,1,   0.0094,1,    594.4,2
490S20190121  ,L016       ,33      ,  1,15         ,X10KY23    ,2,20190202,1928, -63.4961, 139.8399,     3764,    699.2,2,   1.6578,2,  34.7336,2,  34.7343,2,   193.57,2,   193.91,2,  1.65826,2,    0.066,1,     -999,9,   99.813,1,   0.0075,1,    691.3,2
490S20190121  ,L016       ,33      ,  1,14         ,X10KY21    ,2,20190202,1928, -63.4961, 139.8399,     3764,    798.6,2,   1.5677,2,  34.7343,2,  34.7341,2,   195.73,2,   195.66,2,  1.56809,2,    0.064,1,     -999,9,   99.835,1,   0.0066,1,    789.3,2
490S20190121  ,L016       ,33      ,  1,13         ,X10KY18    ,2,20190202,1928, -63.4961, 139.8399,     3764,    997.8,2,   1.3909,2,  34.7318,2,  34.7284,2,   199.30,2,   199.25,2,  1.39106,2,    0.063,1,     -999,9,   99.860,1,   0.0056,1,    985.8,2
490S20190121  ,L016       ,33      ,  1,12         ,X10KY17    ,2,20190202,1928, -63.4961, 139.8399,     3764,   1201.2,2,   1.2287,2,  34.7249,2,  34.7245,2,   202.06,2,   201.84,2,  1.22904,2,    0.061,1,     -999,9,   99.873,1,   0.0051,1,   1186.2,2
490S20190121  ,L016       ,33      ,  1,11         ,X10KY16    ,2,20190202,1928, -63.4961, 139.8399,     3764,   1399.9,2,   1.0315,2,  34.7136,2,  34.7129,2,   204.75,2,   204.51,2,  1.03171,2,    0.060,1,     -999,9,   99.876,1,   0.0050,1,   1381.7,2
490S20190121  ,L016       ,33      ,  1,10         ,X10KY13    ,2,20190202,1928, -63.4961, 139.8399,     3764,   1600.7,2,   0.8504,2,  34.7022,2,  34.6999,2,   208.30,2,   207.71,2,  0.85066,2,    0.059,1,     -999,9,   99.884,1,   0.0047,1,   1579.1,2
490S20190121  ,L016       ,33      ,  1,9          ,X10KY12    ,2,20190202,1928, -63.4961, 139.8399,     3764,   1799.4,2,   0.6917,2,  34.6944,2,  34.6952,2,   210.60,2,   209.13,2,  0.69240,2,    0.057,1,     -999,9,   99.892,1,   0.0043,1,   1774.3,2
490S20190121  ,L016       ,33      ,  1,8          ,X10KY11    ,2,20190202,1928, -63.4961, 139.8399,     3764,   2101.1,2,   0.4967,2,  34.6874,2,  34.6824,2,   214.02,2,   212.82,2,  0.49725,2,    0.057,1,     -999,9,   99.914,1,   0.0034,1,   2070.3,2
490S20190121  ,L016       ,33      ,  1,7          ,X10KY02    ,2,20190202,1928, -63.4961, 139.8399,     3764,   2400.7,2,   0.3357,2,  34.6799,2,  34.6785,2,   218.15,2,   216.85,2,  0.33621,2,    0.055,1,     -999,9,   99.917,1,   0.0033,1,   2363.9,2
490S20190121  ,L016       ,33      ,  1,5          ,X10KY08    ,2,20190202,1928, -63.4961, 139.8399,     3764,   2699.6,2,   0.2101,2,  34.6747,2,  34.6747,2,   222.04,2,   220.84,2,  0.21078,2,    0.055,1,     -999,9,   99.912,1,   0.0035,1,   2656.4,2
490S20190121  ,L016       ,33      ,  1,4          ,X10KY07    ,2,20190202,1928, -63.4961, 139.8399,     3764,   2998.1,2,   0.0523,2,  34.6655,2,  34.6625,2,   228.30,2,   227.23,2,  0.05252,2,    0.054,1,     -999,9,   99.882,1,   0.0047,1,   2948.1,2
490S20190121  ,L016       ,33      ,  1,3          ,X10KY06    ,2,20190202,1928, -63.4961, 139.8399,     3764,   3298.9,2,  -0.0842,2,  34.6583,2,  34.6570,2,   233.57,2,   231.93,2, -0.08393,2,    0.054,1,     -999,9,   99.883,1,   0.0047,1,   3241.6,2
490S20190121  ,L016       ,33      ,  1,2          ,X10KY04    ,2,20190202,1928, -63.4961, 139.8399,     3764,   3500.2,2,  -0.1975,2,  34.6527,2,  34.6525,2,   239.07,2,   238.06,2, -0.19732,2,    0.053,1,     -999,9,   99.792,1,   0.0083,1,   3437.8,2
490S20190121  ,L016       ,33      ,  1,1          ,X10KY03    ,2,20190202,1928, -63.4961, 139.8399,     3764,   3825.9,2,  -0.4202,2,  34.6352,2,  34.6321,2,   251.12,2,   251.14,2, -0.42012,2,    0.052,1,     -999,9,   98.281,1,   0.0694,1,   3754.9,2