BOTTLE,20240503CCHHYDRO
EXPOCODE,SECT_ID,STNNBR,CASTNO,SAMPNO,BTLNBR,BTLNBR_FLAG_W,DATE,TIME,LATITUDE,LONGITUDE,DEPTH,CTDPRS,CTDPRS_FLAG_W,CTDTMP,CTDTMP_FLAG_W,CTDSAL,CTDSAL_FLAG_W,SALNTY,SALNTY_FLAG_W,CTDOXY,CTDOXY_FLAG_W,OXYGEN,OXYGEN_FLAG_W,REFTMP,REFTMP_FLAG_W,CTDFLUOR,CTDFLUOR_FLAG_W,PAR,PAR_FLAG_W,CTDXMISS,CTDXMISS_FLAG_W,CTDBEAMCP,CTDBEAMCP_FLAG_W,CTDDEPTH,CTDDEPTH_FLAG_W
,,,,,,,,,,,METERS,DBAR,,ITS-90,,PSS-78,,PSS-78,,UMOL/KG,,UMOL/KG,,ITS-90,,MG/M^3,,UMOL/M^2/SEC,,%TRANS,,/METER,,METERS,
490S20190121  ,L016       ,37      ,  1,24         ,X10KY35    ,2,20190203,1731, -65.0839, 139.8504,     2773,      9.3,2,   0.6426,2,  33.9476,2,  33.9487,2,   337.57,2,   337.77,2,  0.64270,2,    1.191,1,     -999,9,   94.668,1,   0.2192,1,      9.2,2
490S20190121  ,L016       ,37      ,  1,23         ,X10KY34    ,2,20190203,1731, -65.0839, 139.8504,     2773,     53.9,2,   0.4282,2,  33.9546,2,  33.9585,2,   335.19,2,   335.29,2,  0.43058,2,    1.591,1,     -999,9,   94.953,1,   0.2072,1,     53.4,2
490S20190121  ,L016       ,37      ,  1,22         ,X10KY33    ,2,20190203,1731, -65.0839, 139.8504,     2773,     98.4,2,  -1.6095,2,  34.3231,2,  34.3217,2,   306.25,2,   304.18,2, -1.61049,2,    0.309,1,     -999,9,   99.152,1,   0.0341,1,     97.5,2
490S20190121  ,L016       ,37      ,  1,21         ,X10KY32    ,2,20190203,1731, -65.0839, 139.8504,     2773,    133.4,2,  -1.6028,2,  34.3779,2,  34.3778,2,   302.18,2,   300.90,2, -1.60359,2,    0.124,1,     -999,9,   99.592,1,   0.0163,1,    132.0,2
490S20190121  ,L016       ,37      ,  1,20         ,X10KY31    ,2,20190203,1731, -65.0839, 139.8504,     2773,    199.8,2,  -0.9682,2,  34.4709,2,  34.4693,2,   277.90,2,   277.22,2, -0.96808,2,    0.074,1,     -999,9,   99.639,1,   0.0145,1,    197.8,2
490S20190121  ,L016       ,37      ,  1,19         ,X10KY36    ,2,20190203,1731, -65.0839, 139.8504,     2773,    299.8,2,   0.5263,2,  34.6296,2,  34.6301,2,   222.42,2,   221.78,2,  0.52551,2,    0.065,1,     -999,9,   99.686,1,   0.0126,1,    296.7,2
490S20190121  ,L016       ,37      ,  1,18         ,X10KY28    ,2,20190203,1731, -65.0839, 139.8504,     2773,    400.7,2,   0.8937,2,  34.6777,2,  34.6820,2,   210.18,2,   209.30,2,  0.89357,2,    0.066,1,     -999,9,   99.770,1,   0.0092,1,    396.4,2
490S20190121  ,L016       ,37      ,  1,17         ,X10KY26    ,2,20190203,1731, -65.0839, 139.8504,     2773,    499.3,2,   0.9057,2,  34.6869,2,  34.6855,2,   208.34,2,   208.44,2,  0.90562,2,    0.064,1,     -999,9,   99.812,1,   0.0075,1,    493.9,2
490S20190121  ,L016       ,37      ,  1,16         ,X10KY24    ,2,20190203,1731, -65.0839, 139.8504,     2773,    599.2,2,   0.8631,2,  34.6913,2,  34.6942,2,   208.33,2,   205.41,2,  0.86299,2,    0.064,1,     -999,9,   99.819,1,   0.0072,1,    592.4,2
490S20190121  ,L016       ,37      ,  1,15         ,X10KY23    ,2,20190203,1731, -65.0839, 139.8504,     2773,    699.7,2,   0.7711,2,  34.6896,2,  34.6897,2,   209.12,2,   206.27,2,  0.77111,2,    0.063,1,     -999,9,   99.843,1,   0.0063,1,    691.7,2
490S20190121  ,L016       ,37      ,  1,14         ,X10KY21    ,2,20190203,1731, -65.0839, 139.8504,     2773,    799.6,2,   0.7118,2,  34.6905,2,  34.6903,2,   209.01,2,   207.03,2,  0.71163,2,    0.063,1,     -999,9,   99.850,1,   0.0060,1,    790.2,2
490S20190121  ,L016       ,37      ,  1,13         ,X10KY18    ,2,20190203,1731, -65.0839, 139.8504,     2773,   1000.3,2,   0.5437,2,  34.6835,2,  34.6846,2,   211.33,2,   210.59,2,  0.54357,2,    0.061,1,     -999,9,   99.872,1,   0.0051,1,    988.1,2
490S20190121  ,L016       ,37      ,  1,12         ,X10KY17    ,2,20190203,1731, -65.0839, 139.8504,     2773,   1199.6,2,   0.3601,2,  34.6743,2,  34.6718,2,   214.94,2,   214.39,2,  0.36002,2,    0.060,1,     -999,9,   99.856,1,   0.0058,1,   1184.4,2
490S20190121  ,L016       ,37      ,  1,11         ,X10KY16    ,2,20190203,1731, -65.0839, 139.8504,     2773,   1399.6,2,   0.2250,2,  34.6710,2,  34.6714,2,   218.75,2,   218.27,2,  0.22497,2,    0.059,1,     -999,9,   99.881,1,   0.0048,1,   1381.2,2
490S20190121  ,L016       ,37      ,  1,10         ,X10KY13    ,2,20190203,1731, -65.0839, 139.8504,     2773,   1601.3,2,   0.1549,2,  34.6723,2,  34.6737,2,   220.87,2,   220.20,2,  0.15493,2,    0.057,1,     -999,9,   99.891,1,   0.0043,1,   1579.5,2
490S20190121  ,L016       ,37      ,  1,9          ,X10KY12    ,2,20190203,1731, -65.0839, 139.8504,     2773,   1798.5,2,   0.0523,2,  34.6683,2,  34.6682,2,   224.58,2,   220.74,3,  0.05230,2,    0.058,1,     -999,9,   99.873,1,   0.0051,1,   1773.2,2
490S20190121  ,L016       ,37      ,  1,8          ,X10KY11    ,2,20190203,1731, -65.0839, 139.8504,     2773,   2098.3,2,  -0.1419,2,  34.6606,2,  34.6608,2,   231.99,2,   231.73,2, -0.14047,2,    0.057,1,     -999,9,   99.850,1,   0.0060,1,   2067.3,2
490S20190121  ,L016       ,37      ,  1,7          ,X10KY02    ,2,20190203,1731, -65.0839, 139.8504,     2773,   2398.0,2,  -0.2247,2,  34.6597,2,  34.6614,2,   235.89,2,   235.89,2, -0.22482,2,    0.055,1,     -999,9,   99.782,1,   0.0087,1,   2361.0,2
490S20190121  ,L016       ,37      ,  1,5          ,X10KY08    ,2,20190203,1731, -65.0839, 139.8504,     2773,   2699.0,2,  -0.2267,2,  34.6635,2,  34.6635,2,   236.45,2,   236.56,2, -0.22689,2,    0.056,1,     -999,9,   99.707,1,   0.0117,1,   2655.5,2
490S20190121  ,L016       ,37      ,  1,1          ,X10KY03    ,2,20190203,1731, -65.0839, 139.8504,     2773,   2823.6,2,  -0.2104,2,  34.6650,2,  34.6659,2,   236.06,2,   231.97,2, -0.21058,2,    0.055,1,     -999,9,   99.703,1,   0.0119,1,   2777.3,2
490S20190121  ,L016       ,38      ,  1,24         ,X10KY35    ,2,20190203,2132, -65.3675, 139.8469,     2448,      9.3,2,  -0.0258,2,  33.8729,2,  33.8715,2,   346.08,2,   346.06,2, -0.02705,2,    0.636,1,     -999,9,   94.804,1,   0.2134,1,      9.2,2
490S20190121  ,L016       ,38      ,  1,23         ,X10KY34    ,2,20190203,2132, -65.3675, 139.8469,     2448,     32.8,2,  -0.0619,2,  33.8730,2,  33.8733,2,   345.96,2,   345.97,2, -0.06443,2,    0.871,1,     -999,9,   94.617,1,   0.2213,1,     32.5,2
490S20190121  ,L016       ,38      ,  1,22         ,X10KY33    ,2,20190203,2132, -65.3675, 139.8469,     2448,    108.0,2,  -1.8143,2,  34.3001,2,  34.2997,2,   319.91,2,   319.55,2, -1.81394,2,    0.160,1,     -999,9,   99.535,1,   0.0186,1,    106.9,2
490S20190121  ,L016       ,38      ,  1,21         ,X10KY32    ,2,20190203,2132, -65.3675, 139.8469,     2448,    149.6,2,  -1.6698,2,  34.3479,2,  34.3464,2,   308.69,2,   308.16,2, -1.66898,2,    0.099,1,     -999,9,   99.650,1,   0.0140,1,    148.1,2
490S20190121  ,L016       ,38      ,  1,20         ,X10KY31    ,2,20190203,2132, -65.3675, 139.8469,     2448,    199.4,2,  -1.4452,2,  34.3941,2,  34.3927,2,   296.33,2,   296.36,2, -1.44520,2,    0.096,1,     -999,9,   99.658,1,   0.0137,1,    197.4,2
490S20190121  ,L016       ,38      ,  1,19         ,X10KY36    ,2,20190203,2132, -65.3675, 139.8469,     2448,    299.9,2,  -0.7913,2,  34.5061,2,  34.5040,2,   268.85,2,   268.46,2, -0.79436,2,    0.067,1,     -999,9,   99.707,1,   0.0117,1,    296.8,2
490S20190121  ,L016       ,38      ,  1,18         ,X10KY28    ,2,20190203,2132, -65.3675, 139.8469,     2448,    401.3,2,  -0.0885,2,  34.5893,2,  34.5879,2,   241.04,2,   240.91,2, -0.09016,2,    0.064,1,     -999,9,   99.763,1,   0.0095,1,    396.9,2
490S20190121  ,L016       ,38      ,  1,17         ,X10KY26    ,2,20190203,2132, -65.3675, 139.8469,     2448,    500.3,2,   0.3455,2,  34.6393,2,  34.6382,2,   222.41,2,   222.25,2,  0.34551,2,    0.064,1,     -999,9,   99.817,1,   0.0073,1,    494.8,2
490S20190121  ,L016       ,38      ,  1,16         ,X10KY24    ,2,20190203,2132, -65.3675, 139.8469,     2448,    599.8,2,   0.4715,2,  34.6621,2,  34.6612,2,   215.95,2,   215.63,2,  0.47178,2,    0.063,1,     -999,9,   99.847,1,   0.0061,1,    593.0,2
490S20190121  ,L016       ,38      ,  1,15         ,X10KY23    ,2,20190203,2132, -65.3675, 139.8469,     2448,    700.4,2,   0.4861,2,  34.6712,2,  34.6692,2,   213.93,2,   213.52,2,  0.48591,2,    0.063,1,     -999,9,   99.872,1,   0.0051,1,    692.4,2
490S20190121  ,L016       ,38      ,  1,14         ,X10KY21    ,2,20190203,2132, -65.3675, 139.8469,     2448,    801.3,2,   0.4650,2,  34.6740,2,  34.6749,2,   213.36,2,   212.54,2,  0.46498,2,    0.062,1,     -999,9,   99.884,1,   0.0047,1,    791.9,2
490S20190121  ,L016       ,38      ,  1,13         ,X10KY18    ,2,20190203,2132, -65.3675, 139.8469,     2448,   1000.0,2,   0.3392,2,  34.6758,2,  34.6753,2,   214.87,2,   214.32,2,  0.33914,2,    0.061,1,     -999,9,   99.908,1,   0.0037,1,    987.8,2
490S20190121  ,L016       ,38      ,  1,12         ,X10KY17    ,2,20190203,2132, -65.3675, 139.8469,     2448,   1200.6,2,   0.2423,2,  34.6760,2,  34.6771,2,   217.34,2,   216.79,2,  0.24225,2,    0.060,1,     -999,9,   99.929,1,   0.0028,1,   1185.4,2
490S20190121  ,L016       ,38      ,  1,11         ,X10KY16    ,2,20190203,2132, -65.3675, 139.8469,     2448,   1400.6,2,   0.1610,2,  34.6731,2,  34.6739,2,   219.96,2,   218.93,2,  0.16075,2,    0.058,1,     -999,9,   99.921,1,   0.0032,1,   1382.1,2
490S20190121  ,L016       ,38      ,  1,10         ,X10KY13    ,2,20190203,2132, -65.3675, 139.8469,     2448,   1600.1,2,   0.0421,2,  34.6673,2,  34.6702,2,   224.41,2,   223.93,2,  0.04218,2,    0.058,1,     -999,9,   99.892,1,   0.0043,1,   1578.3,2
490S20190121  ,L016       ,38      ,  1,9          ,X10KY12    ,2,20190203,2132, -65.3675, 139.8469,     2448,   1799.2,2,  -0.0903,2,  34.6608,2,  34.6627,2,   229.81,2,   229.57,2, -0.09057,2,    0.058,1,     -999,9,   99.849,1,   0.0061,1,   1773.9,2
490S20190121  ,L016       ,38      ,  1,8          ,X10KY11    ,2,20190203,2132, -65.3675, 139.8469,     2448,   2099.0,2,  -0.3599,2,  34.6389,2,  34.6403,2,   243.14,2,   243.96,2, -0.36032,2,    0.061,1,     -999,9,   99.690,1,   0.0124,1,   2068.0,2
490S20190121  ,L016       ,38      ,  1,2          ,X10KY04    ,2,20190203,2132, -65.3675, 139.8469,     2448,   2199.2,2,  -0.3994,2,  34.6349,2,  34.6348,2,   245.45,2,   245.65,2, -0.39933,2,    0.060,1,     -999,9,   99.646,1,   0.0142,1,   2166.2,2
490S20190121  ,L016       ,38      ,  1,1          ,X10KY03    ,3,20190203,2132, -65.3675, 139.8469,     2448,   2480.7,2,  -0.4400,2,  34.6294,2,  34.6305,2,   248.40,2,   249.75,2, -0.44024,2,    0.063,1,     -999,9,   99.585,1,   0.0167,1,   2441.9,2
490S20190121  ,L016       ,39      ,  1,24         ,X10KY35    ,2,20190204,0024, -65.4274, 139.8465,     1855,      9.8,2,  -0.1722,2,  33.9164,2,  33.9136,2,   346.88,2,   347.56,2, -0.17107,2,    0.621,1,     -999,9,   95.016,1,   0.2045,1,      9.8,2
490S20190121  ,L016       ,39      ,  1,23         ,X10KY34    ,2,20190204,0024, -65.4274, 139.8465,     1855,     55.8,2,  -0.2271,2,  33.9315,2,  33.9287,2,   345.04,2,   346.12,2, -0.22905,2,    1.307,1,     -999,9,   94.633,1,   0.2206,1,     55.3,2
490S20190121  ,L016       ,39      ,  1,22         ,X10KY33    ,2,20190204,0024, -65.4274, 139.8465,     1855,    113.4,2,  -1.8153,2,  34.2975,2,  34.2980,2,   318.97,2,   320.15,2, -1.81528,2,    0.133,1,     -999,9,   99.571,1,   0.0172,1,    112.3,2
490S20190121  ,L016       ,39      ,  1,21         ,X10KY32    ,2,20190204,0024, -65.4274, 139.8465,     1855,    148.4,2,  -1.7299,2,  34.3400,2,  34.3372,2,   310.27,2,   310.28,2, -1.73044,2,    0.102,1,     -999,9,   99.632,1,   0.0147,1,    146.8,2
490S20190121  ,L016       ,39      ,  1,20         ,X10KY31    ,2,20190204,0024, -65.4274, 139.8465,     1855,    200.0,2,  -1.2043,2,  34.4282,2,  34.4275,2,   286.35,2,   287.53,2, -1.21357,2,    0.082,1,     -999,9,   99.670,1,   0.0132,1,    197.9,2
490S20190121  ,L016       ,39      ,  1,19         ,X10KY36    ,2,20190204,0024, -65.4274, 139.8465,     1855,    299.9,2,  -0.5095,2,  34.5348,2,  34.5358,2,   258.94,2,   259.52,2, -0.50919,2,    0.067,1,     -999,9,   99.713,1,   0.0115,1,    296.7,2
490S20190121  ,L016       ,39      ,  1,18         ,X10KY28    ,2,20190204,0024, -65.4274, 139.8465,     1855,    400.6,2,   0.1131,2,  34.6113,2,  34.6124,2,   232.15,2,   232.08,2,  0.11289,2,    0.064,1,     -999,9,   99.764,1,   0.0094,1,    396.2,2
490S20190121  ,L016       ,39      ,  1,17         ,X10KY26    ,2,20190204,0024, -65.4274, 139.8465,     1855,    501.1,2,   0.4550,2,  34.6530,2,  34.6492,2,   218.30,2,   218.64,2,  0.45562,2,    0.063,1,     -999,9,   99.816,1,   0.0073,1,    495.6,2
490S20190121  ,L016       ,39      ,  1,16         ,X10KY24    ,2,20190204,0024, -65.4274, 139.8465,     1855,    599.7,2,   0.5480,2,  34.6698,2,  34.6698,2,   213.26,2,   213.60,2,  0.54696,2,    0.063,1,     -999,9,   99.851,1,   0.0060,1,    592.9,2
490S20190121  ,L016       ,39      ,  1,15         ,X10KY23    ,2,20190204,0024, -65.4274, 139.8465,     1855,    701.4,2,   0.5513,2,  34.6769,2,  34.6783,2,   211.63,2,   211.97,2,  0.55070,2,    0.063,1,     -999,9,   99.860,1,   0.0056,1,    693.3,2
490S20190121  ,L016       ,39      ,  1,14         ,X10KY21    ,2,20190204,0024, -65.4274, 139.8465,     1855,    800.4,2,   0.4896,2,  34.6812,2,  34.6830,2,   211.45,2,   211.48,2,  0.48990,2,    0.062,1,     -999,9,   99.877,1,   0.0049,1,    791.0,2
490S20190121  ,L016       ,39      ,  1,13         ,X10KY18    ,2,20190204,0024, -65.4274, 139.8465,     1855,    999.3,2,   0.3144,2,  34.6745,2,  34.6718,2,   215.17,2,   214.67,2,  0.31427,2,    0.061,1,     -999,9,   99.880,1,   0.0048,1,    987.1,2
490S20190121  ,L016       ,39      ,  1,12         ,X10KY17    ,2,20190204,0024, -65.4274, 139.8465,     1855,   1199.2,2,   0.1632,2,  34.6717,2,  34.6682,2,   219.29,2,   219.36,2,  0.16329,2,    0.061,1,     -999,9,   99.899,1,   0.0040,1,   1183.9,2
490S20190121  ,L016       ,39      ,  1,11         ,X10KY16    ,2,20190204,0024, -65.4274, 139.8465,     1855,   1401.6,2,   0.0606,2,  34.6675,2,  34.6706,2,   223.10,2,   223.14,2,  0.05968,2,    0.059,1,     -999,9,   99.887,1,   0.0045,1,   1383.1,2
490S20190121  ,L016       ,39      ,  1,10         ,X10KY13    ,2,20190204,0024, -65.4274, 139.8465,     1855,   1600.9,2,  -0.1668,2,  34.6531,2,  34.6547,2,   233.39,2,   233.60,2, -0.16575,2,    0.061,1,     -999,9,   99.773,1,   0.0091,1,   1579.1,2
490S20190121  ,L016       ,39      ,  1,9          ,X10KY12    ,2,20190204,0024, -65.4274, 139.8465,     1855,   1800.5,2,  -0.2113,2,  34.6488,2,  34.6506,2,   235.96,2,   236.72,2, -0.21151,2,    0.061,1,     -999,9,   99.740,1,   0.0104,1,   1775.1,2
490S20190121  ,L016       ,39      ,  1,1          ,X10KY03    ,2,20190204,0024, -65.4274, 139.8465,     1855,   1916.9,2,  -0.3505,2,  34.6378,2,  34.6392,2,   242.68,2,   242.99,2, -0.35060,2,    0.062,1,     -999,9,   99.653,1,   0.0139,1,   1889.4,2
490S20190121  ,L016       ,39      ,  1,2          ,X10KY04    ,2,20190204,0024, -65.4274, 139.8465,     1855,   1917.1,2,  -0.3495,2,  34.6380,2,  34.6388,2,   242.59,2,   243.49,2, -0.34974,2,    0.063,1,     -999,9,   99.657,1,   0.0137,1,   1889.6,2
490S20190121  ,L016       ,40      ,  1,24         ,X10KY35    ,2,20190204,0318, -65.4975, 139.8493,     1490,      9.5,2,  -0.1916,2,  33.9157,2,  33.9191,2,   347.29,2,   348.43,2, -0.19116,2,    0.685,1,     -999,9,   94.104,1,   0.2431,1,      9.5,2
490S20190121  ,L016       ,40      ,  1,23         ,X10KY34    ,2,20190204,0318, -65.4975, 139.8493,     1490,     40.1,2,  -0.2365,2,  33.9370,2,  33.9397,2,   344.75,2,   346.11,2, -0.23525,2,    1.655,1,     -999,9,   94.679,1,   0.2187,1,     39.7,2
490S20190121  ,L016       ,40      ,  1,22         ,X10KY33    ,2,20190204,0318, -65.4975, 139.8493,     1490,    100.3,2,  -1.7121,2,  34.3061,2,  34.3011,2,   314.41,2,   315.51,2, -1.71206,2,    0.162,1,     -999,9,   99.307,1,   0.0278,1,     99.3,2
490S20190121  ,L016       ,40      ,  1,21         ,X10KY32    ,2,20190204,0318, -65.4975, 139.8493,     1490,    133.4,2,  -1.7215,2,  34.3438,2,  34.3435,2,   310.22,2,   310.55,2, -1.72114,2,    0.123,1,     -999,9,   99.486,1,   0.0206,1,    132.0,2
490S20190121  ,L016       ,40      ,  1,20         ,X10KY31    ,2,20190204,0318, -65.4975, 139.8493,     1490,    199.6,2,  -1.4964,2,  34.4229,2,  34.4290,2,   297.18,2,   297.45,2, -1.49241,2,    0.089,1,     -999,9,   99.584,1,   0.0167,1,    197.6,2
490S20190121  ,L016       ,40      ,  1,19         ,X10KY36    ,2,20190204,0318, -65.4975, 139.8493,     1490,    300.3,2,  -0.8914,2,  34.5147,2,  34.5139,2,   273.56,2,   274.00,2, -0.89252,2,    0.066,1,     -999,9,   99.710,1,   0.0116,1,    297.1,2
490S20190121  ,L016       ,40      ,  1,18         ,X10KY28    ,2,20190204,0318, -65.4975, 139.8493,     1490,    400.4,2,  -0.0702,2,  34.5986,2,  34.5987,2,   241.57,2,   241.63,2, -0.06976,2,    0.064,1,     -999,9,   99.768,1,   0.0093,1,    396.1,2
490S20190121  ,L016       ,40      ,  1,17         ,X10KY26    ,2,20190204,0318, -65.4975, 139.8493,     1490,    501.0,2,   0.4943,2,  34.6601,2,  34.6616,2,   218.62,2,   219.45,2,  0.49382,2,    0.063,1,     -999,9,   99.825,1,   0.0070,1,    495.5,2
490S20190121  ,L016       ,40      ,  1,16         ,X10KY24    ,2,20190204,0318, -65.4975, 139.8493,     1490,    601.3,2,   0.4155,2,  34.6644,2,  34.6671,2,   218.18,2,   218.68,2,  0.41766,2,    0.064,1,     -999,9,   99.827,1,   0.0069,1,    594.5,2
490S20190121  ,L016       ,40      ,  1,15         ,X10KY23    ,2,20190204,0318, -65.4975, 139.8493,     1490,    700.0,2,   0.5396,2,  34.6834,2,  34.6848,2,   211.34,2,   211.81,2,  0.53924,2,    0.062,1,     -999,9,   99.893,1,   0.0043,1,    692.0,2
490S20190121  ,L016       ,40      ,  1,14         ,X10KY21    ,2,20190204,0318, -65.4975, 139.8493,     1490,    800.1,2,   0.4161,2,  34.6774,2,  34.6771,2,   212.56,2,   212.71,2,  0.41596,2,    0.062,1,     -999,9,   99.894,1,   0.0042,1,    790.7,2
490S20190121  ,L016       ,40      ,  1,13         ,X10KY18    ,2,20190204,0318, -65.4975, 139.8493,     1490,   1000.7,2,   0.2751,2,  34.6747,2,  34.6765,2,   215.63,2,   215.73,2,  0.27484,2,    0.061,1,     -999,9,   99.923,1,   0.0031,1,    988.5,2
490S20190121  ,L016       ,40      ,  1,12         ,X10KY17    ,2,20190204,0318, -65.4975, 139.8493,     1490,   1200.5,2,  -0.1334,2,  34.6516,2,  34.6515,2,   232.03,2,   232.29,2, -0.13320,2,    0.063,1,     -999,9,   99.782,1,   0.0087,1,   1185.3,2
490S20190121  ,L016       ,40      ,  1,11         ,X10KY16    ,2,20190204,0318, -65.4975, 139.8493,     1490,   1401.3,2,  -0.2880,2,  34.6409,2,  34.6423,2,   239.33,2,   240.14,2, -0.28851,2,    0.065,1,     -999,9,   99.688,1,   0.0125,1,   1382.9,2
490S20190121  ,L016       ,40      ,  1,1          ,X10KY03    ,2,20190204,0318, -65.4975, 139.8493,     1490,   1502.4,2,  -0.3091,2,  34.6390,2,  34.6433,2,   240.40,2,   241.31,2, -0.30954,2,    0.065,1,     -999,9,   99.676,1,   0.0130,1,   1482.2,2