BOTTLE,20240503CCHHYDRO
#BOTTLE,20240502CCHSIOENA
# changed FLUOR and FLUOR_FLAG_W to CTDFLUOR and CTDFLUOR_FLAG_W
# changed XMISS and XMISS_FLAG_W to CTDXMISS and CTDXMISS_FLAG_W
# changed XMISSCP and XMISSCP_FLAG_W to CTDBEAMCP and CTDBEAMCP_FLAG_W
# changed CTDDPT and CTDDPT_FLAG_W to CTDDEPTH and CTDDEPTH_FLAG_W
# changed DATE format from MM/DD/YYYY to YYYYMMDD
# removed SIG0, SIG0_FLAG_W, THETA, THETA_FLAG_W, XMISSV, XMISSV_FLAG_W, CTDCND, CTDCND_FLAG_W
# removed rows with no data
# For information on how to cite, please visit cchdo.ucsd.edu.
EXPOCODE,SECT_ID,STNNBR,CASTNO,SAMPNO,BTLNBR,BTLNBR_FLAG_W,DATE,TIME,LATITUDE,LONGITUDE,DEPTH,CTDPRS,CTDPRS_FLAG_W,CTDTMP,CTDTMP_FLAG_W,CTDSAL,CTDSAL_FLAG_W,SALNTY,SALNTY_FLAG_W,CTDOXY,CTDOXY_FLAG_W,OXYGEN,OXYGEN_FLAG_W,REFTMP,REFTMP_FLAG_W,CTDFLUOR,CTDFLUOR_FLAG_W,PAR,PAR_FLAG_W,CTDXMISS,CTDXMISS_FLAG_W,CTDBEAMCP,CTDBEAMCP_FLAG_W,CTDDEPTH,CTDDEPTH_FLAG_W
,,,,,,,,,,,METERS,DBAR,,ITS-90,,PSS-78,,PSS-78,,UMOL/KG,,UMOL/KG,,ITS-90,,MG/M^3,,UMOL/M^2/SEC,,%TRANS,,/METER,,METERS,
490S20190121  ,L018       ,25      ,  1,23         ,X10KY34    ,2,20190126,0728, -63.4997, 149.9951,     3701,     48.7,2,   0.9684,2,  33.8907,2,  33.8925,2,   343.50,2,   341.02,2,  0.97407,2,    2.610,1,     -999,9,   92.570,1,   0.3088,1,     48.2,2
490S20190121  ,L018       ,25      ,  1,22         ,X10KY33    ,2,20190126,0728, -63.4997, 149.9951,     3701,    100.1,2,   0.9525,2,  34.4296,2,  34.4349,2,   203.75,2,   202.77,2,  0.97985,2,    0.161,1,     -999,9,   99.073,1,   0.0373,1,     99.1,2
490S20190121  ,L018       ,25      ,  1,21         ,X10KY32    ,2,20190126,0728, -63.4997, 149.9951,     3701,    150.2,2,   1.8898,2,  34.5929,2,  34.5914,2,   174.40,2,   173.06,2,  1.89194,2,    0.103,1,     -999,9,   99.469,1,   0.0213,1,    148.7,2
490S20190121  ,L018       ,25      ,  1,20         ,X10KY31    ,2,20190126,0728, -63.4997, 149.9951,     3701,    200.3,2,   1.9308,2,  34.6251,2,  34.6234,2,   174.91,2,   173.70,2,  1.93110,2,    0.081,1,     -999,9,   99.555,1,   0.0178,1,    198.3,2
490S20190121  ,L018       ,25      ,  1,19         ,X10KY36    ,2,20190126,0728, -63.4997, 149.9951,     3701,    299.8,2,   2.0078,2,  34.6755,2,  34.6745,2,   177.16,2,   177.36,2,  2.00792,2,    0.073,1,     -999,9,   99.672,1,   0.0131,1,    296.6,2
490S20190121  ,L018       ,25      ,  1,18         ,X10KY28    ,2,20190126,0728, -63.4997, 149.9951,     3701,    399.7,2,   1.9690,2,  34.6981,2,  34.6960,2,   180.30,2,   180.87,2,  1.96973,2,    0.073,1,     -999,9,   99.752,1,   0.0100,1,    395.5,2
490S20190121  ,L018       ,25      ,  1,17         ,X10KY26    ,2,20190126,0728, -63.4997, 149.9951,     3701,    500.1,2,   1.9399,2,  34.7147,2,  34.7125,2,   183.60,2,   184.60,2,  1.94008,2,    0.070,1,     -999,9,   99.763,1,   0.0095,1,    494.7,2
490S20190121  ,L018       ,25      ,  1,16         ,X10KY24    ,2,20190126,0728, -63.4997, 149.9951,     3701,    601.7,2,   1.8667,2,  34.7263,2,  34.7231,2,   186.85,2,   187.95,2,  1.86677,2,    0.070,1,     -999,9,   99.727,1,   0.0109,1,    595.0,2
490S20190121  ,L018       ,25      ,  1,15         ,X10KY23    ,2,20190126,0728, -63.4997, 149.9951,     3701,    699.1,2,   1.7999,2,  34.7329,2,  34.7311,2,   189.53,2,   190.52,2,  1.80022,2,    0.072,1,     -999,9,   99.761,1,   0.0096,1,    691.1,2
490S20190121  ,L018       ,25      ,  1,14         ,X10KY21    ,2,20190126,0728, -63.4997, 149.9951,     3701,    799.5,2,   1.7283,2,  34.7381,2,  34.7370,2,   192.37,2,   193.54,2,  1.72848,2,    0.068,1,     -999,9,   99.782,1,   0.0087,1,    790.2,2
490S20190121  ,L018       ,25      ,  1,13         ,X10KY18    ,2,20190126,0728, -63.4997, 149.9951,     3701,   1000.9,2,   1.5679,2,  34.7389,2,  34.7394,2,   196.34,2,   197.33,2,  1.56835,2,    0.065,1,     -999,9,   99.809,1,   0.0076,1,    988.8,2
490S20190121  ,L018       ,25      ,  1,12         ,X10KY17    ,2,20190126,0728, -63.4997, 149.9951,     3701,   1200.1,2,   1.3803,2,  34.7337,2,  34.7333,2,   199.38,2,   200.00,2,  1.38042,2,    0.063,1,     -999,9,   99.866,1,   0.0054,1,   1185.0,2
490S20190121  ,L018       ,25      ,  1,11         ,X10KY16    ,2,20190126,0728, -63.4997, 149.9951,     3701,   1398.8,2,   1.2227,2,  34.7277,2,  34.7264,2,   201.72,2,   202.13,2,  1.22301,2,    0.061,1,     -999,9,   99.889,1,   0.0044,1,   1380.6,2
490S20190121  ,L018       ,25      ,  1,10         ,X10KY13    ,2,20190126,0728, -63.4997, 149.9951,     3701,   1600.7,2,   1.0503,2,  34.7192,2,  34.7178,2,   203.90,2,   204.27,2,  1.05057,2,    0.061,1,     -999,9,   99.915,1,   0.0034,1,   1579.2,2
490S20190121  ,L018       ,25      ,  1,9          ,X10KY12    ,2,20190126,0728, -63.4997, 149.9951,     3701,   1799.5,2,   0.9024,2,  34.7112,2,  34.7115,2,   206.22,2,   206.28,2,  0.90279,2,    0.059,1,     -999,9,   99.926,1,   0.0030,1,   1774.4,2
490S20190121  ,L018       ,25      ,  1,8          ,X10KY11    ,2,20190126,0728, -63.4997, 149.9951,     3701,   2098.5,2,   0.6809,2,  34.6993,2,  34.6989,2,   209.95,2,   209.55,2,  0.68143,2,    0.059,1,     -999,9,   99.929,1,   0.0028,1,   2067.8,2
490S20190121  ,L018       ,25      ,  1,7          ,X10KY09    ,2,20190126,0728, -63.4997, 149.9951,     3701,   2398.9,2,   0.4694,2,  34.6881,2,  34.6873,2,   214.54,2,   213.95,2,  0.46965,2,    0.058,1,     -999,9,   99.929,1,   0.0028,1,   2362.2,2
490S20190121  ,L018       ,25      ,  1,5          ,X10KY08    ,2,20190126,0728, -63.4997, 149.9951,     3701,   2699.0,2,   0.3146,2,  34.6810,2,  34.6794,2,   218.73,2,   218.01,2,  0.31512,2,    0.057,1,     -999,9,   99.936,1,   0.0026,1,   2655.8,2
490S20190121  ,L018       ,25      ,  1,4          ,X10KY07    ,2,20190126,0728, -63.4997, 149.9951,     3701,   2997.9,2,   0.1792,2,  34.6743,2,  34.6743,2,   223.11,2,   222.52,2,  0.17948,2,    0.057,1,     -999,9,   99.925,1,   0.0030,1,   2947.9,2
490S20190121  ,L018       ,25      ,  1,3          ,X10KY06    ,2,20190126,0728, -63.4997, 149.9951,     3701,   3299.5,2,   0.0644,2,  34.6683,2,  34.6653,2,   227.44,2,   227.18,2,  0.06470,2,    0.056,1,     -999,9,   99.925,1,   0.0030,1,   3242.2,2
490S20190121  ,L018       ,25      ,  1,2          ,X10KY04    ,2,20190126,0728, -63.4997, 149.9951,     3701,   3499.7,2,  -0.0058,2,  34.6647,2,  34.6641,2,   230.46,2,   230.62,2, -0.00567,2,    0.055,1,     -999,9,   99.868,1,   0.0053,1,   3437.3,2
490S20190121  ,L018       ,25      ,  1,1          ,X10KY03    ,2,20190126,0728, -63.4997, 149.9951,     3701,   3762.4,2,  -0.0615,2,  34.6734,2,  34.6736,2,   232.67,2,   233.06,2, -0.06147,2,    0.058,1,     -999,9,   99.045,1,   0.0384,1,   3693.1,2
490S20190121  ,L018       ,26      ,  1,24         ,X10KY35    ,2,20190126,1408, -63.9013, 149.9989,     3638,      8.8,2,   2.1250,2,  33.8455,2,  33.8465,2,   340.32,2,   339.97,2,  2.12486,2,    1.023,1,     -999,9,   94.766,1,   0.2151,1,      8.7,2
490S20190121  ,L018       ,26      ,  1,23         ,X10KY34    ,2,20190126,1408, -63.9013, 149.9989,     3638,     50.3,2,   0.2296,2,  33.9103,2,  33.9165,2,   336.81,2,   333.23,2,  0.22976,2,    1.531,1,     -999,9,   95.349,1,   0.1905,1,     49.8,2
490S20190121  ,L018       ,26      ,  1,22         ,X10KY33    ,2,20190126,1408, -63.9013, 149.9989,     3638,    100.8,2,   1.7093,2,  34.5600,2,  34.5586,2,   177.51,2,   177.37,2,  1.70409,2,    0.169,1,     -999,9,   99.153,1,   0.0341,1,     99.8,2
490S20190121  ,L018       ,26      ,  1,21         ,X10KY32    ,2,20190126,1408, -63.9013, 149.9989,     3638,    148.9,2,   1.9369,2,  34.6204,2,  34.6193,2,   173.50,2,   173.57,2,  1.93736,2,    0.082,1,     -999,9,   99.375,1,   0.0251,1,    147.4,2
490S20190121  ,L018       ,26      ,  1,20         ,X10KY31    ,2,20190126,1408, -63.9013, 149.9989,     3638,    199.7,2,   1.9513,2,  34.6507,2,  34.6490,2,   175.43,2,   175.59,2,  1.95155,2,    0.076,1,     -999,9,   99.488,1,   0.0205,1,    197.7,2
490S20190121  ,L018       ,26      ,  1,19         ,X10KY36    ,2,20190126,1408, -63.9013, 149.9989,     3638,    299.5,2,   1.9375,2,  34.6873,2,  34.6869,2,   179.21,2,   179.84,2,  1.93733,2,    0.071,1,     -999,9,   99.638,1,   0.0145,1,    296.3,2
490S20190121  ,L018       ,26      ,  1,18         ,X10KY28    ,2,20190126,1408, -63.9013, 149.9989,     3638,    399.9,2,   1.9168,2,  34.7088,2,  34.7093,2,   182.55,2,   183.46,2,  1.91697,2,    0.070,1,     -999,9,   99.731,1,   0.0108,1,    395.6,2
490S20190121  ,L018       ,26      ,  1,17         ,X10KY26    ,2,20190126,1408, -63.9013, 149.9989,     3638,    497.3,2,   1.8490,2,  34.7222,2,  34.7201,2,   186.38,2,   187.37,2,  1.84910,2,    0.068,1,     -999,9,   99.799,1,   0.0080,1,    491.9,2
490S20190121  ,L018       ,26      ,  1,16         ,X10KY24    ,2,20190126,1408, -63.9013, 149.9989,     3638,    597.0,2,   1.7790,2,  34.7304,2,  34.7288,2,   189.66,2,   190.79,2,  1.77922,2,    0.067,1,     -999,9,   99.792,1,   0.0083,1,    590.4,2
490S20190121  ,L018       ,26      ,  1,15         ,X10KY23    ,2,20190126,1408, -63.9013, 149.9989,     3638,    698.9,2,   1.7110,2,  34.7357,2,  34.7359,2,   192.18,2,   193.23,2,  1.71092,2,    0.067,1,     -999,9,   99.826,1,   0.0070,1,    690.9,2
490S20190121  ,L018       ,26      ,  1,14         ,X10KY21    ,2,20190126,1408, -63.9013, 149.9989,     3638,    798.6,2,   1.6330,2,  34.7360,2,  34.7359,2,   194.22,2,   195.10,2,  1.63321,2,    0.067,1,     -999,9,   99.823,1,   0.0071,1,    789.3,2
490S20190121  ,L018       ,26      ,  1,13         ,X10KY18    ,2,20190126,1408, -63.9013, 149.9989,     3638,    996.3,2,   1.4518,2,  34.7354,2,  34.7331,2,   198.01,2,   198.54,2,  1.45235,2,    0.064,1,     -999,9,   99.827,1,   0.0069,1,    984.3,2
490S20190121  ,L018       ,26      ,  1,12         ,X10KY17    ,2,20190126,1408, -63.9013, 149.9989,     3638,   1198.2,2,   1.2805,2,  34.7293,2,  34.7266,2,   200.74,2,   201.58,2,  1.28034,2,    0.062,1,     -999,9,   99.868,1,   0.0053,1,   1183.2,2
490S20190121  ,L018       ,26      ,  1,11         ,X10KY16    ,2,20190126,1408, -63.9013, 149.9989,     3638,   1395.0,2,   1.1202,2,  34.7220,2,  34.7221,2,   202.85,2,   203.45,2,  1.11993,2,    0.062,1,     -999,9,   99.887,1,   0.0045,1,   1376.8,2
490S20190121  ,L018       ,26      ,  1,10         ,X10KY13    ,2,20190126,1408, -63.9013, 149.9989,     3638,   1599.0,2,   0.9624,2,  34.7140,2,  34.7133,2,   205.13,2,   205.89,2,  0.96272,2,    0.060,1,     -999,9,   99.888,1,   0.0045,1,   1577.4,2
490S20190121  ,L018       ,26      ,  1,9          ,X10KY12    ,2,20190126,1408, -63.9013, 149.9989,     3638,   1798.2,2,   0.8122,2,  34.7058,2,  34.7046,2,   207.44,2,   207.61,2,  0.81223,2,    0.059,1,     -999,9,   99.907,1,   0.0037,1,   1773.1,2
490S20190121  ,L018       ,26      ,  1,8          ,X10KY11    ,2,20190126,1408, -63.9013, 149.9989,     3638,   2097.9,2,   0.5959,2,  34.6942,2,  34.6942,2,   211.44,2,   211.58,2,  0.59545,2,    0.058,1,     -999,9,   99.906,1,   0.0037,1,   2067.1,2
490S20190121  ,L018       ,26      ,  1,7          ,X10KY09    ,2,20190126,1408, -63.9013, 149.9989,     3638,   2398.0,2,   0.3948,2,  34.6841,2,  34.6840,2,   216.24,2,   216.32,2,  0.39510,2,    0.057,1,     -999,9,   99.902,1,   0.0039,1,   2361.2,2
490S20190121  ,L018       ,26      ,  1,5          ,X10KY08    ,2,20190126,1408, -63.9013, 149.9989,     3638,   2695.2,2,   0.2566,2,  34.6778,2,  34.6773,2,   220.31,2,   219.66,2,  0.25673,2,    0.058,1,     -999,9,   99.904,1,   0.0038,1,   2652.0,2
490S20190121  ,L018       ,26      ,  1,4          ,X10KY07    ,2,20190126,1408, -63.9013, 149.9989,     3638,   2999.9,2,   0.1303,2,  34.6714,2,  34.6692,2,   224.64,2,   224.64,2,  0.13034,2,    0.057,1,     -999,9,   99.884,1,   0.0047,1,   2949.7,2
490S20190121  ,L018       ,26      ,  1,3          ,X10KY06    ,2,20190126,1408, -63.9013, 149.9989,     3638,   3299.3,2,   0.0017,2,  34.6646,2,  34.6610,2,   229.65,2,   229.96,2,  0.00173,2,    0.056,1,     -999,9,   99.869,1,   0.0052,1,   3241.9,2
490S20190121  ,L018       ,26      ,  1,2          ,X10KY04    ,2,20190126,1408, -63.9013, 149.9989,     3638,   3498.9,2,  -0.0512,2,  34.6659,2,  34.6669,2,   232.11,2,   232.54,2, -0.05058,2,    0.056,1,     -999,9,   99.818,1,   0.0073,1,   3436.4,2
490S20190121  ,L018       ,26      ,  1,1          ,X10KY03    ,2,20190126,1408, -63.9013, 149.9989,     3638,   3691.7,2,  -0.0870,2,  34.6741,2,  34.6741,2,   233.50,2,   233.56,2, -0.08704,2,    0.058,1,     -999,9,   99.073,1,   0.0372,1,   3624.2,2
490S20190121  ,L018       ,27      ,  1,24         ,X10KY35    ,2,20190126,2032, -64.3007, 149.9927,     3558,      8.6,2,   2.0731,2,  33.8473,2,  33.8494,2,   341.78,2,   341.77,2,  2.07138,2,    0.871,1,     -999,9,   93.298,1,   0.2775,1,      8.5,2
490S20190121  ,L018       ,27      ,  1,23         ,X10KY34    ,2,20190126,2032, -64.3007, 149.9927,     3558,     39.1,2,   0.4693,2,  33.8853,2,  33.8848,2,   346.25,2,   345.74,2,  0.46956,2,    2.248,1,     -999,9,   92.908,1,   0.2942,1,     38.7,2
490S20190121  ,L018       ,27      ,  1,2          ,X10KY04    ,2,20190126,2032, -64.3007, 149.9927,     3558,     68.1,2,   0.2615,2,  33.9287,2,  33.9412,2,   333.04,2,   330.40,2,  0.25836,2,    2.265,1,     -999,9,   95.010,1,   0.2048,1,     67.5,2
490S20190121  ,L018       ,27      ,  1,22         ,X10KY33    ,2,20190126,2032, -64.3007, 149.9927,     3558,     99.1,2,   1.2751,2,  34.5039,2,  34.5176,2,   192.09,2,   188.47,2,  1.27324,2,    0.195,1,     -999,9,   99.032,1,   0.0389,1,     98.1,2
490S20190121  ,L018       ,27      ,  1,21         ,X10KY32    ,2,20190126,2032, -64.3007, 149.9927,     3558,    148.9,2,   1.8249,2,  34.6157,2,  34.6148,2,   176.69,2,   176.51,2,  1.82523,2,    0.089,1,     -999,9,   99.387,1,   0.0246,1,    147.4,2
490S20190121  ,L018       ,27      ,  1,20         ,X10KY31    ,2,20190126,2032, -64.3007, 149.9927,     3558,    198.8,2,   1.8620,2,  34.6513,2,  34.6519,2,   178.15,2,   178.31,2,  1.86244,2,    0.076,1,     -999,9,   99.531,1,   0.0188,1,    196.7,2
490S20190121  ,L018       ,27      ,  1,19         ,X10KY36    ,2,20190126,2032, -64.3007, 149.9927,     3558,    299.3,2,   1.8882,2,  34.6926,2,  34.6946,2,   180.86,2,   181.48,2,  1.88596,2,    0.070,1,     -999,9,   99.666,1,   0.0134,1,    296.1,2
490S20190121  ,L018       ,27      ,  1,18         ,X10KY28    ,2,20190126,2032, -64.3007, 149.9927,     3558,    399.0,2,   1.8692,2,  34.7147,2,  34.7142,2,   184.40,2,   185.51,2,  1.86979,2,    0.068,1,     -999,9,   99.792,1,   0.0083,1,    394.8,2
490S20190121  ,L018       ,27      ,  1,17         ,X10KY26    ,2,20190126,2032, -64.3007, 149.9927,     3558,    499.8,2,   1.7842,2,  34.7245,2,  34.7262,2,   188.31,2,   189.41,2,  1.78414,2,    0.068,1,     -999,9,   99.806,1,   0.0078,1,    494.3,2
490S20190121  ,L018       ,27      ,  1,16         ,X10KY24    ,2,20190126,2032, -64.3007, 149.9927,     3558,    599.6,2,   1.7261,2,  34.7326,2,  34.7323,2,   190.95,2,   192.32,2,  1.72620,2,    0.067,1,     -999,9,   99.811,1,   0.0076,1,    592.9,2
490S20190121  ,L018       ,27      ,  1,15         ,X10KY23    ,2,20190126,2032, -64.3007, 149.9927,     3558,    699.8,2,   1.6326,2,  34.7344,2,  34.7361,2,   193.75,2,   195.04,2,  1.63283,2,    0.066,1,     -999,9,   99.828,1,   0.0069,1,    691.8,2
490S20190121  ,L018       ,27      ,  1,14         ,X10KY21    ,2,20190126,2032, -64.3007, 149.9927,     3558,    798.7,2,   1.5454,2,  34.7347,2,  34.7372,2,   195.69,2,   196.80,2,  1.54555,2,    0.065,1,     -999,9,   99.844,1,   0.0062,1,    789.4,2
490S20190121  ,L018       ,27      ,  1,13         ,X10KY18    ,2,20190126,2032, -64.3007, 149.9927,     3558,    998.0,2,   1.3302,2,  34.7255,2,  34.7229,2,   200.07,2,   200.72,2,  1.33024,2,    0.063,1,     -999,9,   99.836,1,   0.0065,1,    985.9,2
490S20190121  ,L018       ,27      ,  1,12         ,X10KY17    ,2,20190126,2032, -64.3007, 149.9927,     3558,   1198.1,2,   1.2000,2,  34.7235,2,  34.7168,2,   201.89,2,   202.50,2,  1.19978,2,    0.060,1,     -999,9,   99.866,1,   0.0054,1,   1183.0,2
490S20190121  ,L018       ,27      ,  1,11         ,X10KY16    ,2,20190126,2032, -64.3007, 149.9927,     3558,   1398.8,2,   1.0460,2,  34.7169,2,  34.7134,2,   203.89,2,   204.25,2,  1.04627,2,    0.060,1,     -999,9,   99.916,1,   0.0033,1,   1380.5,2
490S20190121  ,L018       ,27      ,  1,10         ,X10KY13    ,2,20190126,2032, -64.3007, 149.9927,     3558,   1598.1,2,   0.8961,2,  34.7096,2,  34.7042,2,   205.97,2,   206.15,2,  0.89602,2,    0.059,1,     -999,9,   99.913,1,   0.0035,1,   1576.5,2
490S20190121  ,L018       ,27      ,  1,9          ,X10KY12    ,2,20190126,2032, -64.3007, 149.9927,     3558,   1798.8,2,   0.7439,2,  34.7012,2,  34.7019,2,   208.29,2,   208.27,2,  0.74393,2,    0.058,1,     -999,9,   99.918,1,   0.0033,1,   1773.6,2
490S20190121  ,L018       ,27      ,  1,8          ,X10KY11    ,2,20190126,2032, -64.3007, 149.9927,     3558,   2098.7,2,   0.5213,2,  34.6886,2,  34.6865,2,   212.82,2,   212.63,2,  0.52149,2,    0.058,1,     -999,9,   99.922,1,   0.0031,1,   2067.8,2
490S20190121  ,L018       ,27      ,  1,7          ,X10KY02    ,2,20190126,2032, -64.3007, 149.9927,     3558,   2398.8,2,   0.3532,2,  34.6809,2,  34.6804,2,   217.11,2,   216.92,2,  0.35332,2,    0.057,1,     -999,9,   99.918,1,   0.0033,1,   2361.9,2
490S20190121  ,L018       ,27      ,  1,5          ,X10KY08    ,2,20190126,2032, -64.3007, 149.9927,     3558,   2699.5,2,   0.2236,2,  34.6759,2,  34.6712,2,   221.03,2,   220.57,2,  0.22372,2,    0.056,1,     -999,9,   99.915,1,   0.0034,1,   2656.2,2
490S20190121  ,L018       ,27      ,  1,4          ,X10KY07    ,2,20190126,2032, -64.3007, 149.9927,     3558,   2998.7,2,   0.1030,2,  34.6705,2,  34.6696,2,   225.23,2,   225.00,2,  0.10311,2,    0.055,1,     -999,9,   99.922,1,   0.0031,1,   2948.5,2
490S20190121  ,L018       ,27      ,  1,3          ,X10KY06    ,2,20190126,2032, -64.3007, 149.9927,     3558,   3298.8,2,  -0.0246,2,  34.6640,2,  34.6565,3,   230.34,2,   230.65,2, -0.02449,2,    0.055,1,     -999,9,   99.824,1,   0.0070,1,   3241.3,2
490S20190121  ,L018       ,27      ,  1,1          ,X10KY03    ,3,20190126,2032, -64.3007, 149.9927,     3558,   3615.5,2,  -0.0939,2,  34.6782,2,  34.6791,2,   232.83,2,   233.11,2, -0.09396,2,    0.059,1,     -999,9,   99.130,1,   0.0350,1,   3550.0,2